{"text_format":"1","workbook":"xlsx","n_sheets":38,"sheets":["Letter","CRM Mapping","Log","Start_Here","Cover_Letter","TennantTrue Summary_","_R3_E5","Dual_Tech_ReadySpace_R14","Dual_Tech_ReadySpace_1610","Carpet_Extractors","MPF SAP Download (2)","MPF SAP Download PreConfigured","Vacuums","F_Series_Floor_Machine","Burnishers","B10","B7","B5","S7_S6","3640","S16L_Standard_Config","6100","S680","S880","S10","S16L","Pricezones","PricezonesUsers","Contact","Help","Surcharge","TennantTrue Rate","Lists","County Tier","Settings","FlexClean","Financing","FlexCleanCalc"],"not_rendered":{"charts":0,"images":19,"macros":1,"external_links":4,"defined_names":506,"comments":1,"pivot_tables":0},"unopened":[],"bounds":{"document_bytes":16777216,"sheet_cells":100000,"rows_first":2000,"rows_last":500,"rows_between":2000,"halvings":0,"cell_chars":16384,"cell_head_chars":4096},"cells_cut":0,"cells_raw":0,"read":"whole","date_system":"1900"}

{"sheet":"Letter","index":0,"n_rows":40,"n_cols":2,"rows_kept":40,"cut":false,"hidden":true,"merged":[]}
["clean"]
["Important!!"]
["If you accidentally stumbled into this page do not change any information on this page."]
[]
["Contact Name","Contact Name"]
["Company Name","Co Name"]
["Address","Address"]
[{"$f":"B8&\", \"&C8&\" \"&D8","v":"City, State, Zip,  "},"City, State, Zip"]
["Dear ","Dear"]
["Rep Name","Rep Name"]
["Contact Phone","Contact Phone"]
[null,"SAP ID"]
[null,"Cust Grp 3"]
["Date","Date"]
[]
[]
[]
[]
[]
[]
[]
[]
[]
["Please do not change cell A25."]
["2020-09-22","Quote Date"]
[]
[]
[]
[]
[]
[]
[]
[]
[]
[]
["Equipment Type","Sweeper"]
["Country","USA"]
[]
[]
[null,39107.487558000001]

{"sheet":"CRM Mapping","index":1,"n_rows":0,"n_cols":0,"rows_kept":0,"cut":false,"hidden":true,"merged":[]}

{"sheet":"Log","index":2,"n_rows":27,"n_cols":3,"rows_kept":27,"cut":false,"hidden":true,"merged":[]}
["Date","UpdatedBy","Description"]
["2019-08-23","Pao Leepalao","show user ID instead of full name on approve box"]
["2019-08-23","Pao Leepalao","date stamp when it's approved (yellow and red)"]
["2019-08-23","Pao Leepalao","revision date on all machine tabs"]
["2019-08-23","Pao Leepalao","change log (date, name, what changed) - hide tab"]
["2019-08-23","Pao Leepalao","fix T6 quick ship hide/show blank qty issue"]
["2019-08-23","Jeannie Smallish","T300/SS300: removed drain hose/cap"]
["2019-08-23","Jeannie Smallish","T20/M20/M30/S30/800/T16 quick ship: update built-in values"]
["2019-08-23","Jeannie Smallish","T16: update preconfigured machines"]
["2019-08-23","Jeannie Smallish","T20/S30: prices correction"]
["2019-08-23","Pao Leepalao","Update freight rates"]
["2019-09-16","Jeannie Smallish","corrected column issue on Extractors"]
["2019-09-16","Jeannie Smallish","Add new machine S10_Quick_Ship"]
["2019-09-16","Pao Leepalao","Discount/Service rates for S10_Quick_Ship"]
["2019-09-16","Pao Leepalao","Update leasing contact for Tennant"]
["2019-10-02","Pao Leepalao","Update finance rates - US  Bank"]
["2019-10-02","Pao Leepalao","Add governance approval process"]
["2019-10-21","Jeannie/Pao","S20_LP_Quick_Ship"]
["2019-10-21","Jeannie/Pao","S30_Quick_Ship"]
["2019-11-04","Jeannie/Pao","VC Changes for T17, M17, T600, T600e, T12, and T16"]
["2019-11-04","Jeannie/Pao","Price update for T600"]
["2019-11-08","Pao Leepalao","Fix GT formatting issue"]
["2019-12-04","Pao/Jeannie","New 2020 price increase"]
["2019-12-04","Pao Leepalao","Only positive allow in custom solution"]
["2020-01-03","Pao Leepalao","US Bank 2020 rates"]
["2020-04-01","Pao Leepalao","Q2 US Bank rates"]
["2020-04-01","Pao Leepalao","new service contract and rate for AMR"]

{"sheet":"Start_Here","index":3,"n_rows":61,"n_cols":17,"rows_kept":61,"cut":false,"hidden":false,"merged":[[30,2,33,3],[0,2,0,7],[3,5,3,7],[10,1,10,2],[10,5,10,7],[17,5,17,7],[30,1,31,1]]}
["Distributor",null,"Please fill out as much buyer information as you can.  Overkey addresses and contacts for proper display on the machine sheets.",null,null,null,null,null,null,null,null,null,null,null,"Alabama","Discount","ALL OTHER COUNTIES"]
[null,null,null,null,null,null,null,null,null,null,null,null,null,null,"Arkansas",{"$f":"TTDiscountLow","v":0},"BAXTER"]
["Buyer Information",null,null,null,null,null,null,null,null,null,null,null,null,null,"Arizona",{"$f":"TTDiscountHigh","v":5},"BENTON"]
[null,"CRM Address Information",null,null,null,"Who is Buying the Machine? (Bill-To for Machine Aquisition Info) (Please Verify)",null,null,"Select One",null,null,null,null,null,"British Columbia",null,"DALE"]
[null,"Company",{"$f":"Letter!$A$6","v":"Company Name"},null,null,"Company",null,"Company Name",null,null,null,null,null,null,"Canada",null,"ESCAMBIA"]
[null,"Address",{"$f":"Address","v":"Address"},null,null,"Address",null,"Address",null,null,null,null,null,null,"California",null,"GENEVA"]
[null,"City, State Zip",{"$f":"CityStateZip","v":"City, State, Zip,  "},null,null,"City, State Zip",null,"City, State Zip",null,null,null,null,null,null,"Colorado",null,"HENRY"]
[null,"Name",{"$f":"ContactName","v":"Contact Name"},null,null,"Name",null,"Contact Name",null,null,null,null,null,null,"Connecticut",null,"HOUSTON"]
[null,"Phone",{"$f":"Letter!$A$11","v":"Contact Phone"},null,null,"Phone",null,"Contact Phone",null,null,null,null,null,null,"District of Columbia",null,"LEE"]
[null,null,null,null,null,null,null,null,null,null,null,null,null,null,"Delaware",null,"RUSSELL"]
[null,"Where is the Machine Being Shipped? (Ship-To Info) (Please Verify)",null,"Select One",null,"Where is the Machine Being Used? (Machine Use Location - Specific) (Please Verify)",null,null,"Select One",null,null,null,null,null,"Florida"]
[null,"Company","Company Name",null,null,"Company",null,"Company Name",null,null,null,null,null,null,"Georgia"]
[null,"Address","Address",null,null,"Address",null,"Address",null,null,null,null,null,null,"Hawaii"]
[null,"City, State Zip","City, State Zip",null,null,"City, State Zip",null,"City, State Zip",null,null,null,null,null,null,"Iowa"]
[null,"Name","Contact Name",null,null,"Name",null,"Contact Name",null,null,null,null,null,null,"Idaho"]
[null,"Phone","Contact Phone",null,null,"Phone",null,"Contact Phone",null,null,null,null,null,null,"Illinois"]
[null,null,null,null,null,null,null,null,null,null,null,null,null,null,"Indiana"]
[null,"Who Owns the Machine? (Sold-To Info) (Please Verify)",null,"Select One",null,"Who Pays for Service on the Machine? (Service Bill-To Info) (Please Verify)",null,null,"Select One",null,null,null,null,null,"Kansas"]
[null,"Company","Company Name",null,null,"Company",null,"Company Name",null,null,null,null,null,null,"Kentucky"]
[null,"Address","Address",null,null,"Address",null,"Address",null,null,null,null,null,null,"Louisiana"]
[null,"City, State Zip","City, State Zip",null,null,"City, State Zip",null,"City, State Zip",null,null,null,null,null,null,"Massachusetts"]
[null,"Name","Contact Name",null,null,"Name",null,"Contact Name",null,null,null,null,null,null,"Maryland"]
[null,"Phone","Contact Phone",null,null,"Phone",null,"Contact Phone",null,null,null,null,null,null,"Maine"]
[null,null,null,null,null,null,null,null,null,null,null,null,null,null,"Michigan"]
[null,"Customer Number",{"$f":"Letter!$A$12","v":0},null,null,"Finance Partner",null,"TennantTrue Details",null,null,null,null,null,null,"Minnesota"]
[null,"Authorized Buyer's Name",null,null,null,"First Western Equipment Finance",null,"State",null,null,null,null,null,null,"Missouri"]
[null,"Buyer's Phone #",null,null,null,null,null,null,null,null,null,null,null,null,"Mississippi"]
[null,"Requested Delivery Date",null,null,null,"Select Market",null,"County",null,null,null,null,null,null,"Montana"]
[null,"Cust Grp 3",{"$f":"Letter!$A$13","v":0},null,null,"Internal use only",null,null,null,null,null,null,null,null,"North Carolina"]
[null,null,null,null,null,null,null,"National Account",null,null,null,null,null,null,"North Dakota"]
[null,"Shipping / Carrier Instructions:",null,null,null,"Quote Service",null,null,null,null,null,null,null,null,"Nebraska"]
[null,null,null,null,null,"Yes",null,"TennantTrue Discount (%)",null,null,null,null,null,null,"New Hampshire"]
[null,null,null,null,null,null,null,null,null,null,null,null,null,null,"New Jersey"]
[null,null,null,null,null,null,null,null,null,null,null,null,null,null,"New Mexico"]
[null,"Seller Info",null,null,null,null,null,null,null,null,null,null,null,null,"Nevada"]
[null,"Letter/Quote",null,null,"Terms and Conditions",null,null,null,null,null,null,null,null,null,"New York"]
[null,"Company","Tennant Sales and Service Company",null,"Ask your local sales rep for estimated lead times. Verify when placing order",null,null,null,null,null,null,null,null,null,"Ohio"]
[null,"Address","10400 Clean Street",null,"All orders subject to acceptance by Tennant Sales and Service Company, Minneapolis, Minnesota",null,null,null,null,null,null,null,null,null,"Oklahoma"]
[null,null,"Eden Prairie, MN 55344",null,"Prices subject to change without notice.",null,null,null,null,null,null,null,null,null,"Ontario"]
[null,null,null,null,"Terms:  Net 30 days.  Subject to any applicable taxes.",null,null,null,null,null,null,null,null,null,"Oregon"]
[null,"Name",{"$f":"RepName","v":"Rep Name"},null,"Freight: Machines and accessory orders delivered FOB shipping point Frt PPD & Add",null,null,null,null,null,null,null,null,null,"Pennsylvania"]
[null,null,null,null,"Parts, supplies, detergents and floor treating material orders delivered FOB ",null,null,null,null,null,null,null,null,null,"Prince Edward Isle"]
[null,"Phone","800-553-8033",null,"shipping point Frt PPD",null,null,null,null,null,null,null,null,null,"Rhode Island"]
[null,"Fax","763-513-2116",null,"All orders are subject to Tennant’s General Terms and Conditions available at http://www.tennantco.com/terms.",null,null,null,null,null,null,null,null,null,"Quebec"]
[null,null,null,null,"Printed General Terms and Conditions are also available upon request.",null,null,null,null,null,null,null,null,null,"South Carolina"]
[null,null,null,null,null,null,null,null,null,null,null,null,null,null,"South Dakota"]
[null,"Footer",null,null,null,null,null,null,null,null,null,null,null,null,"Tennessee"]
[null,"Line 1","TENNANT · 10400 Clean Street · Eden Prairie, MN 55344 ·",null,null,null,null,null,null,null,null,null,null,null,"Texas"]
[null,"Line 2"," PHONE:800-553-8033 · FAX:763-513-2116",null,null,null,null,null,null,null,null,null,null,null,"Utah"]
[null,null,null,null,null,null,null,null,null,null,null,null,null,null,"Virginia"]
[null,null,null,null,null,null,null,null,null,null,null,null,null,null,"Vermont"]
[null,null,null,null,null,null,null,null,null,null,null,null,null,null,"Washington"]
[null,null,null,null,null,null,null,null,null,null,null,null,null,null,"West Virginia"]
[null,null,null,null,null,null,null,null,null,null,null,null,null,null,"Wisconsin"]
[null,null,null,null,null,null,null,null,null,null,null,null,null,null,"Wyoming"]
[]
[]
[null,null,"Battery Surcharge","Price"]
[null,null,"36 Volt Machines",0]
[null,null,"24 Volt Machines",0]
[null,null,"Small 24 Volt Machines",0]

{"sheet":"Cover_Letter","index":4,"n_rows":36,"n_cols":1,"rows_kept":36,"cut":false,"hidden":false,"merged":[[8,0,8,1]]}
[{"$f":"Letter!$A$25","v":"2020-09-22"}]
[]
[]
[{"$f":"Start_Here!C37","v":"Tennant Sales and Service Company"}]
[{"$f":"Start_Here!C38","v":"10400 Clean Street"}]
[{"$f":"Start_Here!C39","v":"Eden Prairie, MN 55344"}]
[{"$f":"Start_Here!C40","v":0}]
[]
[{"$f":"Start_Here!$C$22","v":"Contact Name"}]
[{"$f":"Start_Here!$C$19","v":"Company Name"}]
[{"$f":"Start_Here!$C$20","v":"Address"}]
[{"$f":"Start_Here!$C$21","v":"City, State Zip"}]
[]
[{"$f":"Salutation","v":"Dear "}]
[]
["Thank you for your interest in TENNANT maintenance equipment.  We are pleased to send you the attached quotation and literature on the products you are considering."]
[]
["A variety of lease and finance programs are available that will allow you to maximize the cost savings and productivity advantages that Tennant provides."]
[]
["I will be in contact with you, but in the meantime, feel free to call my sales office listed below, should you need to--your questions are invited and your orders will be given prompt attention."]
[]
["Yours Truly,"]
[]
["                                                                                                                "]
["                                                                                                                "]
[{"$f":"Start_Here!$C$41","v":"Rep Name"}]
[{"$f":"Start_Here!C37","v":"Tennant Sales and Service Company"}]
[{"$f":"Start_Here!C38","v":"10400 Clean Street"}]
[{"$f":"Start_Here!$C$39","v":"Eden Prairie, MN 55344"}]
[{"$f":"Start_Here!$C$43","v":"800-553-8033"}]
[]
["attachment"]
[]
[]
[{"$f":"Start_Here!C48","v":"TENNANT · 10400 Clean Street · Eden Prairie, MN 55344 ·"}]
[{"$f":"Start_Here!C49","v":" PHONE:800-553-8033 · FAX:763-513-2116"}]

{"sheet":"TennantTrue Summary_","index":5,"n_rows":66,"n_cols":15,"rows_kept":66,"cut":false,"hidden":true,"merged":[[39,9,39,10],[69,0,69,11],[46,3,47,3],[46,4,47,5],[51,1,52,11],[53,1,54,11],[59,3,59,5],[60,3,60,5],[61,3,61,5],[62,3,62,5],[63,2,64,6],[67,0,67,11],[68,0,68,11],[41,14,43,19],[25,14,35,16],[25,17,35,17],[25,18,35,18],[25,19,35,19],[36,14,39,16],[36,17,39,17],[36,18,39,18],[36,19,39,19],[27,9,27,10],[34,3,35,3],[34,4,35,5],[11,14,18,16],[11,17,18,17],[11,18,18,18],[11,19,18,19],[15,9,15,10],[19,14,24,16],[19,17,24,17],[19,18,24,18],[19,19,24,19],[9,17,10,17],[9,18,10,18],[9,19,10,19],[1,2,3,6],[1,15,3,19],[4,2,5,10],[4,16,5,19],[7,14,8,17]]}
[]
[]
[]
[]
[]
[]
[]
[null,null,null,null,null,null,null,null,null,null,null,null,null,null,"Choose the best plan for you"]
[null,"Prepared for:",null,null,null,null,null,null,null,null,"Prepared On:"]
[null,{"$f":"Start_Here!$C$22","v":"Contact Name"},null,null,null,null,null,null,null,null,{"$f":"Letter!$A$25","v":"2020-09-22"}]
[null,{"$f":"Start_Here!$C$19","v":"Company Name"}]
[null,{"$f":"Start_Here!$C$20","v":"Address"}]
[null,{"$f":"Start_Here!$C$21","v":"City, State Zip"}]
[]
[]
[null,null,"Machine 1",null,"Term",null,null,null,"Service Hours"]
[]
[null,null,"Used Machine?",null,"Gold","Silver","Pay As You Go","Block of Time - Weekly","Block of Time - Bi-Weekly",null,"On Demand"]
[null,null,"Monthly Rate"]
[null,null,"Annually"]
[null,null,"Pre Pay 12 mo"]
[null,null,"Per Visit"]
[null,null,"Hourly Labor Rate",null,"See Below"]
[null,null,"Site Visit Charge",null,null,null,null,null,null,null,null," "]
[]
[]
[]
[null,null,"Machine 2",null,"Term",null,null,null,"Service Hours"]
[]
[null,null,"Used Machine?",null,"Gold","Silver","Pay As You Go","Block of Time - Weekly","Block of Time - Bi-Weekly",null,"On Demand"]
[null,null,"Monthly Rate"]
[null,null,"Annually"]
[null,null,"Pre Pay 36 mo"]
[null,null,"Per Visit"]
[null,null,"Hourly Labor Rate",null,"See Below"]
[null,null,"Site Visit Charge"]
[]
[]
[]
[null,null,"Machine 3",null,"Term",null,null,null,"Service Hours"]
[]
[null,null,"Used Machine?",null,"Gold","Silver","Pay As You Go","Block of Time - Weekly","Block of Time - Bi-Weekly",null,"On Demand"]
[null,null,"Monthly Rate"]
[null,null,"Annually"]
[null,null,"Pre Pay 36 mo"]
[null,null,"Per Visit"]
[null,null,"Hourly Labor Rate",null,"See Below"]
[null,null,"Site Visit Charge",null,null,null,null,null,null,null,null," "]
[]
[null,"**All rates and fees above reflect service for one (1) unit with the exception of Block of Time service."]
[]
[null," **   Breakdown service calls for Silver customers include a Site Visit Charge and will be billed at the current \"Pay As You Go\" Hourly Labor Rate.  Parts will be billed at list price."]
[]
[]
[]
[null," ",null,null,null," "]
[null,"Tennant Company Sales Representative:",null,null,null,null,{"$f":"Start_Here!$C$41","v":"Rep Name"}]
[]
[null,"Customer"]
[null,"Accepted By*:"]
[null,"Print Name:"]
[null,"Title:"]
[null,"Date:"]
[null,null,"*Acceptance is contingent upon customer review and approval of the Master Usage \nAgreement and the Usage Schedule / Equipment Schedule.\n"]
[]
[null,null,"**This quote is good for 60 days from the above date."]

{"sheet":"_R3_E5","index":6,"n_rows":185,"n_cols":17,"rows_kept":185,"cut":false,"hidden":false,"merged":[[89,2,89,3],[87,2,87,3],[115,3,115,4],[115,5,115,6],[0,2,0,3],[1,2,1,3],[2,2,2,3],[3,2,3,3],[23,2,23,3],[63,4,63,5],[63,6,63,7],[79,2,79,3],[80,2,80,3],[69,2,69,3],[77,2,77,3],[77,4,77,5],[88,2,88,3],[77,6,77,7],[24,2,24,3],[25,2,25,3],[65,6,65,7],[67,2,67,3],[66,2,66,3],[68,2,68,3],[31,2,31,3],[65,2,65,3],[64,2,64,3],[65,4,65,5],[60,3,60,6],[63,2,63,3],[106,3,106,6],[108,3,108,4],[95,4,95,5],[95,6,95,7],[96,2,96,3],[104,4,104,8],[97,2,97,3],[98,2,98,3],[99,2,99,3],[94,2,94,3],[94,4,94,5],[94,6,94,7],[95,2,95,3],[78,2,78,3],[78,4,78,5],[86,2,86,3],[86,4,86,5],[91,2,91,3],[87,4,87,5],[87,6,87,7],[81,2,81,3],[82,2,82,3],[78,6,78,7],[90,2,90,3],[86,6,86,7],[145,4,145,7],[147,2,147,5],[148,2,148,5],[116,3,116,4],[172,4,172,5],[156,2,156,5],[157,2,157,5],[151,2,151,5],[153,2,153,5],[155,2,155,5],[159,4,159,7],[163,2,163,5],[154,2,154,5],[149,2,149,5],[150,2,150,5],[144,4,144,6],[126,2,126,7],[109,3,109,4],[116,5,116,6],[117,3,117,4],[117,5,117,6],[111,3,111,4],[111,5,111,6],[112,3,112,4],[112,5,112,6],[113,3,113,4],[113,5,113,6],[114,3,114,4],[114,5,114,6]]}
["_R3_E5",null,{"$f":"Start_Here!$C19","v":"Company Name"}]
[{"$f":"SUM(H55)","v":0},null,{"$f":"Start_Here!$C20","v":"Address"}]
[null,null,{"$f":"Start_Here!$C21","v":"City, State Zip"}]
[null,null,{"$f":"Start_Here!$C22","v":"Contact Name"}]
[null,null,{"$f":"Start_Here!$C$41","v":"Rep Name"}]
[null,null,{"$f":"Start_Here!$C$37","v":"Tennant Sales and Service Company"}]
[null,null,{"$f":"Start_Here!$C$38","v":"10400 Clean Street"}]
[null,null,{"$f":"Start_Here!$C$39","v":"Eden Prairie, MN 55344"}]
[null,null,{"$f":"Start_Here!$C$43","v":"800-553-8033"},null,null,"Quote Date :",null,{"$f":"Letter!$A$25","v":"2020-09-22"}]
[]
[null,null,{"$f":"Help!C2","v":"US Date Rev - 5/6/2025"}]
[null,null,null,null,null,"Quote Request Information"]
[null,null,"New Machine Warranty",null,null,null,null,"Fax (quote only)"]
[null,null,"36 MONTHS OR 2500 HOURS ON PARTS",null,null,null,null,"Mail (quote,lit, specs)"]
[null,null,"36 MONTHS – LABOR",null,null,null,null,"Fax + Mail"]
[null,null,"90 DAYS – TRAVEL ON BATTERY UNITS ONLY"]
[null,null,"10 YEARS ON ROTOMOLDED PARTS",null,null,"                Primary Use"]
[null,null,"BATTERIES ARE PRORATED OVER 12 MONTHS",null,null,null,null,"Inside"]
[null,null,null,null,null,null,null,"Outside"]
[]
[]
[null,null,"Description",null,"Referencel#","Price Each","Qty","Extended Pr"]
[null,null,null,null,null,null,{"$f":"SUM(G24)","v":0}]
[null,null,"R3 - Cord Electric 5-gal. ReadySpace® Interim Carpet Cleaner",null,9004192,6428,null,{"$f":"G24*F24","v":0},{"$f":"IFERROR(IFERROR(VLOOKUP(E24,Surcharge!A:B,2,FALSE)*G24, VLOOKUP(E24 & \"\",Surcharge!A:B,2,FALSE)*G24), \"\")","v":""},null,null,null,null,null,null,null,{"$f":"VLOOKUP(E24,'MPF SAP Download PreConfigured'!C:E,3,FALSE)","v":6428}]
[null,null,"15\" cleaning path.  Complete package includes removable, Hygenic® fully cleanable 5 gallon (19 liter) solution/recovery tanks, Insta-Adjust™ handle, two ReadySpace® rollers, 50-ft (15-m) \"safety yellow\" power cord and multi-language operator manual. CRI certified, Bronze Cleaning Performance. ",null,null,null,{"$f":"SUM(G24)","v":0},null,{"$f":"IFERROR(IFERROR(VLOOKUP(E25,Surcharge!A:B,2,FALSE)*G25, VLOOKUP(E25 & \"\",Surcharge!A:B,2,FALSE)*G25), \"\")","v":""}]
[null,null,"Boxed Dimensions:  34\" L x 22\" W x 37\" H (860 mm x 560 mm x 940 mm). *",null,null,null,{"$f":"SUM(G25)","v":0},null,{"$f":"IFERROR(IFERROR(VLOOKUP(E26,Surcharge!A:B,2,FALSE)*G26, VLOOKUP(E26 & \"\",Surcharge!A:B,2,FALSE)*G26), \"\")","v":""}]
[null,null,"Shipping Weight:   154 lbs. (70 kg) ",null,null,null,{"$f":"SUM(G26)","v":0},null,{"$f":"IFERROR(IFERROR(VLOOKUP(E27,Surcharge!A:B,2,FALSE)*G27, VLOOKUP(E27 & \"\",Surcharge!A:B,2,FALSE)*G27), \"\")","v":""}]
[null,null,null,null,null,null,null,null,{"$f":"IFERROR(IFERROR(VLOOKUP(E28,Surcharge!A:B,2,FALSE)*G28, VLOOKUP(E28 & \"\",Surcharge!A:B,2,FALSE)*G28), \"\")","v":""}]
[null,null,null,null,null,null,{"$f":"SUM(G30)","v":0},null,{"$f":"IFERROR(IFERROR(VLOOKUP(E29,Surcharge!A:B,2,FALSE)*G29, VLOOKUP(E29 & \"\",Surcharge!A:B,2,FALSE)*G29), \"\")","v":""}]
[null,null,"E5 - Cord Electric 5-gal.  Extractor",null,9004194,5095,null,{"$f":"G30*F30","v":0},{"$f":"IFERROR(IFERROR(VLOOKUP(E30,Surcharge!A:B,2,FALSE)*G30, VLOOKUP(E30 & \"\",Surcharge!A:B,2,FALSE)*G30), \"\")","v":""},null,null,null,null,null,null,null,{"$f":"VLOOKUP(E30,'MPF SAP Download PreConfigured'!C:E,3,FALSE)","v":5095}]
[null,null,"15\" cleaning path.  Complete package includes removable, Hygenic® fully cleanable 5 gallon (19 liter) solution/recovery tanks, Insta-Adjust™ handle, one double-tuft reverse pattern chevron brush, 50-ft (15-m) \"safety yellow\" power cord and multi-language operator manual.  CRI certified, Silver Cleaning Performance.",null,null,null,{"$f":"SUM(G30)","v":0},null,{"$f":"IFERROR(IFERROR(VLOOKUP(E31,Surcharge!A:B,2,FALSE)*G31, VLOOKUP(E31 & \"\",Surcharge!A:B,2,FALSE)*G31), \"\")","v":""}]
[null,null,"Boxed Dimensions:  34\" L x 22\" W x 37\" H (860 mm x 560 mm x 940 mm). *",null,null,null,{"$f":"SUM(G31)","v":0},null,{"$f":"IFERROR(IFERROR(VLOOKUP(E32,Surcharge!A:B,2,FALSE)*G32, VLOOKUP(E32 & \"\",Surcharge!A:B,2,FALSE)*G32), \"\")","v":""}]
[null,null,"Shipping Weight:   138 lbs. (63 kg) ",null,null,null,{"$f":"SUM(G32)","v":0},null,{"$f":"IFERROR(IFERROR(VLOOKUP(E33,Surcharge!A:B,2,FALSE)*G33, VLOOKUP(E33 & \"\",Surcharge!A:B,2,FALSE)*G33), \"\")","v":""}]
[null,null,null,null,null,null,null,null,{"$f":"IFERROR(IFERROR(VLOOKUP(E34,Surcharge!A:B,2,FALSE)*G34, VLOOKUP(E34 & \"\",Surcharge!A:B,2,FALSE)*G34), \"\")","v":""}]
[null,null,null,null,null,null,{"$f":"SUM(#REF!)","v":{"$error":"#REF!"}},null,{"$f":"IFERROR(IFERROR(VLOOKUP(E35,Surcharge!A:B,2,FALSE)*G35, VLOOKUP(E35 & \"\",Surcharge!A:B,2,FALSE)*G35), \"\")","v":""}]
[null,null,null,null,null,null,null,null,{"$f":"IFERROR(IFERROR(VLOOKUP(E36,Surcharge!A:B,2,FALSE)*G36, VLOOKUP(E36 & \"\",Surcharge!A:B,2,FALSE)*G36), \"\")","v":""}]
[null,"Custom Solution--write in description, qty, price, and PN if applicable",null,null,null,{"$f":"SUM(F38)","v":0},null,null,{"$f":"IFERROR(IFERROR(VLOOKUP(E37,Surcharge!A:B,2,FALSE)*G37, VLOOKUP(E37 & \"\",Surcharge!A:B,2,FALSE)*G37), \"\")","v":""}]
[null,null,null,null,"Insert Prices Here",{"$f":"SUM(G39:G42)","v":0},null,null,{"$f":"IFERROR(IFERROR(VLOOKUP(E38,Surcharge!A:B,2,FALSE)*G38, VLOOKUP(E38 & \"\",Surcharge!A:B,2,FALSE)*G38), \"\")","v":""}]
[null,null,null,null,"Custom",null,{"$f":"IF(F39 <> \"\", 1, 0)","v":0},{"$f":"G39*F39","v":0},{"$f":"IFERROR(IFERROR(VLOOKUP(E39,Surcharge!A:B,2,FALSE)*G39, VLOOKUP(E39 & \"\",Surcharge!A:B,2,FALSE)*G39), \"\")","v":""}]
[null,null,null,null,"Custom",null,{"$f":"IF(F40 <> \"\", 1, 0)","v":0},{"$f":"G40*F40","v":0},{"$f":"IFERROR(IFERROR(VLOOKUP(E40,Surcharge!A:B,2,FALSE)*G40, VLOOKUP(E40 & \"\",Surcharge!A:B,2,FALSE)*G40), \"\")","v":""}]
[null,null,null,null,"Custom",null,0,{"$f":"G41*F41","v":0},{"$f":"IFERROR(IFERROR(VLOOKUP(E41,Surcharge!A:B,2,FALSE)*G41, VLOOKUP(E41 & \"\",Surcharge!A:B,2,FALSE)*G41), \"\")","v":""}]
[null,null,null,null,"Custom",null,0,{"$f":"G42*F42","v":0},{"$f":"IFERROR(IFERROR(VLOOKUP(E42,Surcharge!A:B,2,FALSE)*G42, VLOOKUP(E42 & \"\",Surcharge!A:B,2,FALSE)*G42), \"\")","v":""}]
[null,null,null,null,null,{"$f":"ROUND(SUM(H24:H42), 0)","v":0},{"$f":"SUM(F44)","v":0}]
[null,null,null,null,"Machine Subtotal ",{"$f":"ROUND(SUM(H24:H42), 0)","v":0},{"$f":"G43","v":0}]
[null,"Discounts",null,null,null,null,{"$f":"SUM(G46)","v":0}]
[null,null,null,null,null,null,{"$f":"SUM(G47:G48)","v":0}]
[null,null,null,null,"Discount %",null,{"$f":"IF(F47 <> \"\", 1, 0)","v":0},{"$f":"IF(G47*(F47*0.01)*F43 < 0, G47*(F47*0.01)*F43, -(G47*(F47*0.01)*F43))","v":0}]
[null,null,null,null,"Discount $",null,{"$f":"IF(F48 <> \"\", 1, 0)","v":0},{"$f":"IF(G48*F48 < 0, G48*F48, -(G48*F48))","v":0}]
[null,null,null,null,"Discount Total ",{"$f":"SUM(H47:H48)","v":0},{"$f":"SUM(F49)","v":0}]
[null,null,null,null,null,{"$f":"#REF!","v":{"$error":"#REF!"}},{"$f":"#REF!","v":{"$error":"#REF!"}}]
[null,null,null,null,null,null,{"$f":"G50","v":{"$error":"#REF!"}}]
[null,null,"Prepaid and Add",null,"Freight",null,{"$f":"IF(F52 <> \"\", 1, 0)","v":0},{"$f":"G52*F52","v":0}]
[null,null,"Subject to all applicable taxes",null,"Tax",null,0,{"$f":"G53*F53","v":0}]
[null,null,null,null,null,null,{"$f":"SUM(G55)","v":0}]
[null,null,null,null,"MACHINE TOTAL*",null,{"$f":"SUM(H55)","v":0},{"$f":"SUM(H24:H53)","v":0},null,null,null,null,"This goes to \"My Documents\""]
[null,null,null,null,null,null,null,{"$f":"SUM(H55)","v":0}]
[null,"Financing"]
[]
[null,null,"Is customer interested in financing?","Yes"]
[]
[null,null,"If not, why?"]
[]
[]
[null,null,"First Western Equipment Finance - Leasing Calculation Option:",null,"Option 1",null,"Option 2",null,null,{"$f":"Financing!A38","v":"Rates 2025 - Rev. 5/6/2025"}]
[null,null,null,null,"Monthly Payment","Cost Per Day","Monthly Payment","Cost Per Day",null,{"$f":"Financing!A39","v":"“Blank Payment Amounts Indicate The Financing Option Or Purchase Options Selected Are Not "}]
[null,null,"Purchase Option:",null,"FWEF:  $1 Buyout Lease",null,"FWEF: Municipal Lease",null,null,{"$f":"Financing!A40","v":"Applicable Or The Machine Total Is Below The Minimum Amount For The Selected Vendor”"}]
[null,null,"24 Months",null,0,0,0,0,null,{"$f":"Financing!A41","v":"\"Quoted monthly payments are estimates only and are based on a certain level of credit rating."}]
[null,null,"30 Months",null,0,0,0,0,null,{"$f":"Financing!A42","v":"Actual monthly payments may be higher depending on your credit rating.\""}]
[null,null,"36 Months",null,0,0,0,0,null,{"$f":"Financing!A43","v":"“Financing rates do not include Pre-Paid Service”"}]
[null,null,"48 Months",null,0,0,0,0,null,{"$f":"Financing!A44","v":0}]
[]
[null,null,null,"Benefits of Equipment Financing:"]
[null,null,null,"• Spreads out investment over time.",null,"• Keep current with latest technology."]
[null,null,null,"• Preserve capital.",null,"• Service and parts bundling available."]
[null,null,null,"• Low monthly payment.",null,"• Pay for labor savings as you go."]
[]
[]
[null,null,"Bundled Offerings",null,"Flexclean – Fair Market Value",null,"Flexclean - $1 Buyout"]
[null,null,"FlexClean: ",null,"36 Month Term",null,"36 Month Term",null,null,"No","AB Brushes"]
[null,null,"Hours included per Month:",null,"Gold","Silver","Gold","Silver","Check"]
[null,null,"< 30/mo. (Avg. 1hr./day)",null,null,null,null,null,null,null,{"$f":"FlexCleanCalc!$A21","v":"“FlexClean monthly rates include payment for both machine and service.”"}]
[null,null,"< 60/mo. (Avg. 2hrs./day)"]
[null,null,"< 90/mo. (Avg. 3hrs./day)"]
[null,null,"*This value assumes one service contract regardless of the number of UNITS included in the quote"]
[]
[]
[null,null,"Bundled Offerings",null,"Flexclean – Fair Market Value",null,"Flexclean - $1 Buyout"]
[null,null,"FlexClean 2: ",null,"48 Month Term",null,"48 Month Term"]
[null,null,"Hours included per Month:",null,"Gold","Silver","Gold","Silver"]
[null,null,"< 30/mo. (Avg. 1hr./day)"]
[null,null,"< 60/mo. (Avg. 2hrs./day)"]
[null,null,"< 90/mo. (Avg. 3hrs./day)"]
[null,null,"*This value assumes one service contract regardless of the number of UNITS included in the quote"]
[]
[null,null,"Bundled Offerings",null,"Flexclean – Fair Market Value",null,"Flexclean - $1 Buyout"]
[null,null,"FlexClean 3: ",null,"60 Month Term",null,"60 Month Term"]
[null,null,"Hours included per Month:",null,"Gold","Silver","Gold","Silver"]
[null,null,"< 30/mo. (Avg. 1hr./day)"]
[null,null,"< 60/mo. (Avg. 2hrs./day)"]
[null,null,"< 90/mo. (Avg. 3hrs./day)"]
[null,null,"*This value assumes one service contract regardless of the number of UNITS included in the quote"]
[]
[null,"  TennantTrue",null,0]
[]
[null,null,"Is customer interested in service program?","Yes","*State/County selection required for TennantTrue service options"]
[]
[null,null,"If not, why?"]
[]
[null,null,"Term:",36,null,"AB Brushes","No"]
[null,null,"Monthly machine usage (hrs):","< 30/mo. (Avg. 1hr./day)"]
[]
[null,null,"TennantTrue: ","Gold Contract",null,"Silver Contract"]
[null,null,"Per Visit"]
[null,null,"Monthly"]
[null,null,"Annually"]
[null,null,"Pre-Pay Full Term"]
[null,null,"Hourly Labor Rate"]
[null,null,"Site Visit"]
[]
[null,null,"* Verify customer current pricing prior to quote. "]
[null,null,"**All rates and fees above reflect service for one (1) unit with the exception of Block of Time service."]
[null,null,"*Block of Time is available in 1 Year Term only and is priced as such no matter the term selection on this template."]
[]
[]
[]
[null,null,"Quote Special Instructions:"]
[]
[]
[null,null,{"$f":"Start_Here!E36","v":"Terms and Conditions"}]
[null,null,{"$f":"Start_Here!E37","v":"Ask your local sales rep for estimated lead times. Verify when placing order"}]
[null,null,{"$f":"Start_Here!E38","v":"All orders subject to acceptance by Tennant Sales and Service Company, Minneapolis, Minnesota"}]
[null,null,{"$f":"Start_Here!E39","v":"Prices subject to change without notice."}]
[null,null,{"$f":"Start_Here!E40","v":"Terms:  Net 30 days.  Subject to any applicable taxes."}]
[null,null,{"$f":"Start_Here!E41","v":"Freight: Machines and accessory orders delivered FOB shipping point Frt PPD & Add"}]
[null,null,{"$f":"Start_Here!E42","v":"Parts, supplies, detergents and floor treating material orders delivered FOB "}]
[null,null,{"$f":"Start_Here!E43","v":"shipping point Frt PPD"}]
[null,null,{"$f":"Start_Here!E44","v":"All orders are subject to Tennant’s General Terms and Conditions available at http://www.tennantco.com/terms."}]
[null,null,{"$f":"Start_Here!E45","v":"Printed General Terms and Conditions are also available upon request."}]
[null,null,{"$f":"Start_Here!E46","v":0}]
[]
[null,null,null,null,null,"Quote Date :",null,{"$f":"Letter!$A$25","v":"2020-09-22"}]
[null,"Order Placement Information:  To place your order, fill in PO# and customer signatures,"]
[null,"call or fax to the numbers listed below. Customer Purchase Order is required."]
[null,"If information is missing, orders will be entered and held until all information is received."]
[null,null,"Customer Number",null,"Cust Grp 3"]
[null,null,{"$f":"Start_Here!$C$25","v":0},null,{"$f":"Start_Here!$C$29","v":0}]
[null,null,{"$f":"Start_Here!$B$18","v":"Who Owns the Machine? (Sold-To Info) (Please Verify)"}]
["Company",null,{"$f":"Start_Here!$C$19","v":"Company Name"}]
["Address",null,{"$f":"Start_Here!$C$20","v":"Address"}]
[null,null,{"$f":"Start_Here!$C$21","v":"City, State Zip"}]
["Name",null,{"$f":"Start_Here!$C$22","v":"Contact Name"}]
["Phone",null,{"$f":"Start_Here!$C$23","v":"Contact Phone"}]
[null,null,{"$f":"Start_Here!$B$11","v":"Where is the Machine Being Shipped? (Ship-To Info) (Please Verify)"}]
["Company",null,{"$f":"Start_Here!$C$12","v":"Company Name"}]
["Address",null,{"$f":"Start_Here!$C$13","v":"Address"}]
[null,null,{"$f":"Start_Here!$C$14","v":"City, State Zip"}]
["Name",null,{"$f":"Start_Here!$C$15","v":"Contact Name"}]
["Phone",null,{"$f":"Start_Here!$C$16","v":"Contact Phone"}]
[null,null,{"$f":"Start_Here!$B$31","v":"Shipping / Carrier Instructions:"},null,"Order Special Instructions:"]
[null,null,{"$f":"Start_Here!$C$32","v":0}]
[]
[null,null,"Customer Purchase Order No."]
[null,null,"(please attach copy)"]
[]
[]
[null,null,"Tax Exempt",null,"Yes"]
[null,null,null,null,"No"]
[null,null,"If Yes, attach a copy of your exemption certificate."]
[]
[null,null,"Requested Delivery Date"]
[null,null,{"$f":"Start_Here!$C$28","v":0}]
[]
[null,null,{"$f":"Start_Here!$C$26","v":0},null,{"$f":"Start_Here!$C$27","v":0}]
[null,0,"Authorized Buyer (please print)",null,"Phone Number"]
[]
[]
[null,0,"Authorized Buyer Signature"]
[]
[null,null,{"$f":"Start_Here!$C$41","v":"Rep Name"}]
[null,null,"Tennant Representative"]
[]
[]
["Specialized Maintenance Equipment"]
[{"$f":"Start_Here!$C$47","v":0}]
[{"$f":"Start_Here!$C$48","v":"TENNANT · 10400 Clean Street · Eden Prairie, MN 55344 ·"}]

{"sheet":"Dual_Tech_ReadySpace_R14","index":7,"n_rows":241,"n_cols":13,"rows_kept":241,"cut":false,"hidden":false,"merged":[[155,3,155,4],[155,5,155,6],[156,3,156,4],[156,5,156,6],[152,3,152,4],[152,5,152,6],[153,3,153,4],[153,5,153,6],[154,3,154,4],[154,5,154,6],[147,3,147,4],[148,3,148,4],[150,3,150,4],[150,5,150,6],[151,3,151,4],[151,5,151,6],[190,2,190,5],[192,2,192,5],[193,2,193,5],[194,2,194,5],[165,2,165,7],[184,4,184,7],[186,2,186,5],[187,2,187,5],[188,2,188,5],[189,2,189,5],[183,4,183,6],[134,4,134,5],[143,4,143,8],[145,3,145,6],[136,2,136,3],[137,2,137,3],[138,2,138,3],[202,2,202,5],[211,4,211,5],[195,2,195,5],[196,2,196,5],[126,4,126,5],[135,2,135,3],[133,2,133,3],[133,4,133,5],[127,2,127,3],[128,2,128,3],[129,2,129,3],[130,2,130,3],[198,4,198,7],[134,6,134,7],[133,6,133,7],[134,2,134,3],[125,4,125,5],[125,6,125,7],[116,2,116,3],[116,4,116,5],[118,2,118,3],[119,2,119,3],[120,2,120,3],[121,2,121,3],[116,6,116,7],[117,2,117,3],[117,4,117,5],[126,6,126,7],[99,3,99,6],[102,2,102,3],[102,4,102,5],[102,6,102,7],[103,2,103,3],[117,6,117,7],[104,2,104,3],[104,4,104,5],[104,6,104,7],[105,2,105,3],[106,2,106,3],[107,2,107,3],[126,2,126,3],[108,2,108,3],[125,2,125,3],[25,2,25,6],[26,2,26,6],[27,2,27,6],[0,2,0,3],[1,2,1,3],[2,2,2,3],[3,2,3,3],[11,2,11,7]]}
["Dual_Tech_ReadySpace_R14",null,{"$f":"Start_Here!$C19","v":"Company Name"}]
[{"$f":"SUM(H94)","v":0},null,{"$f":"Start_Here!$C20","v":"Address"}]
[null,null,{"$f":"Start_Here!$C21","v":"City, State Zip"}]
[null,null,{"$f":"Start_Here!$C22","v":"Contact Name"}]
[null,null,{"$f":"Start_Here!$C$41","v":"Rep Name"}]
[null,null,{"$f":"Start_Here!$C$37","v":"Tennant Sales and Service Company"}]
[null,null,{"$f":"Start_Here!$C$38","v":"10400 Clean Street"}]
[null,null,{"$f":"Start_Here!$C$39","v":"Eden Prairie, MN 55344"}]
[null,null,{"$f":"Start_Here!$C$43","v":"800-553-8033"},null,null,"Quote Date :",null,{"$f":"Letter!$A$25","v":"2020-09-22"}]
[]
[null,null,{"$f":"Help!C2","v":"US Date Rev - 5/6/2025"}]
[null,null,"BUILT-IN “TENNANT VALUE” INCLUDES:"]
[]
[null,null,"ReadySpace® cleaning technology and deep extraction",null,"Standard (4) 6V 360AH battery pack "]
[null,null,"700mm/28\" cleaning path",null,"Battery Tray"]
[null,null,"121 l/32-gal. solution & 106 l/28-gal. recovery tanks",null,"25 Amp Off-board charger"]
[null,null,"Hygenic® fully cleanable solution/recovery tanks",null,"One set of ReadySpace® rollers & extraction brushes"]
[null,null,"Solution tank empty indicator",null,"Rugged DuramerTM Tank Construction"]
[null,null,"Recovery tank full indicator",null,"Vacuum fan in-line air filter"]
[null,null,"Touch Panel Controls ",null,"Virtual DVD manual"]
[null,null,"  Featuring on-board diagnostics ",null,"Operators manual"]
[null,null,"  One-button operation",null,"CRI certified, Bronze Cleaning Performance"]
[null,null,"E-stop, hour meter and horn"]
[]
[]
[null,null,"TENNANT COMPANY WARRANTY"]
[null,null,"3 YEARS OR 1500 HOURS ON ALL COMPONENTS, 3 YEARS LABOR"]
[null,null,"90 DAYS TRAVEL, 10 YEARS ON DURAMERTM TANKS"]
[]
[null,null,null,null,null,"Quote Request Information"]
[null,null,null,null,null,null,null,"Fax (quote only)"]
[null,null,null,null,null,null,null,"Mail (quote,lit, specs)"]
[null,null,null,null,null,null,null,"Fax + Mail"]
[]
[null,null,null,null,null,"                Primary Use"]
[null,null,null,null,null,null,null,"Inside"]
[null,null,null,null,null,null,null,"Outside"]
[]
[]
[null,null,"Description",null,"Referencel#","Price Each","Qty","Extended Pr"]
[null,null,null,null,null,"US List","*"]
[null,"Base Configuration",null,null,null,null,{"$f":"SUM(G43,G46,G52)","v":0}]
[null,null,"Cleaning Type",null,null,null,{"$f":"SUM(G44)","v":0}]
[null,null,"R14 Ride-On Dual Technolgy Carpet Maintainer 700mm/28\"",null,"R14-700",28871,null,{"$f":"G44*F44","v":0},{"$f":"IFERROR(IFERROR(VLOOKUP(E44,Surcharge!A:B,2,FALSE)*G44, VLOOKUP(E44 & \"\",Surcharge!A:B,2,FALSE)*G44), \"\")","v":0}]
[null,null,null,null,null,null,null,null,{"$f":"IFERROR(IFERROR(VLOOKUP(E45,Surcharge!A:B,2,FALSE)*G45, VLOOKUP(E45 & \"\",Surcharge!A:B,2,FALSE)*G45), \"\")","v":""}]
[null,null,"Battery Type",null,null,null,{"$f":"SUM(G47:G48,G50)","v":0},null,{"$f":"IFERROR(IFERROR(VLOOKUP(E46,Surcharge!A:B,2,FALSE)*G46, VLOOKUP(E46 & \"\",Surcharge!A:B,2,FALSE)*G46), \"\")","v":""}]
[null,null,"Wet 360AH C/20  (Kit of 4 batteries)",null,9000815,"N/C     ",null,{"$f":"IF(G47=0,\" \",\"N/C\")","v":" "},{"$f":"IFERROR(IFERROR(VLOOKUP(E47,Surcharge!A:B,2,FALSE)*G47, VLOOKUP(E47 & \"\",Surcharge!A:B,2,FALSE)*G47), \"\")","v":""}]
[null,null,"Without Battery   (Note 1)",null,null,-658,null,{"$f":"G48*F48","v":0},{"$f":"IFERROR(IFERROR(VLOOKUP(E48,Surcharge!A:B,2,FALSE)*G48, VLOOKUP(E48 & \"\",Surcharge!A:B,2,FALSE)*G48), \"\")","v":""}]
[null,null,null,null,null," ",null,null,{"$f":"IFERROR(IFERROR(VLOOKUP(E49,Surcharge!A:B,2,FALSE)*G49, VLOOKUP(E49 & \"\",Surcharge!A:B,2,FALSE)*G49), \"\")","v":""}]
[null,null,"Manual Battery Watering Kit (Note 2)",null,9009619,628,null,{"$f":"G50*F50","v":0},{"$f":"IFERROR(IFERROR(VLOOKUP(E50,Surcharge!A:B,2,FALSE)*G50, VLOOKUP(E50 & \"\",Surcharge!A:B,2,FALSE)*G50), \"\")","v":""}]
[null,null,null,null,null,null,null,null,{"$f":"IFERROR(IFERROR(VLOOKUP(E51,Surcharge!A:B,2,FALSE)*G51, VLOOKUP(E51 & \"\",Surcharge!A:B,2,FALSE)*G51), \"\")","v":""}]
[null,null,"Charger",null,"Reference Number",null,{"$f":"SUM(G53:G54)","v":0},null,{"$f":"IFERROR(IFERROR(VLOOKUP(E52,Surcharge!A:B,2,FALSE)*G52, VLOOKUP(E52 & \"\",Surcharge!A:B,2,FALSE)*G52), \"\")","v":""}]
[null,null,"25A 100-240V AC 50/60Hz 1Ph",null,1043663,"N/C     ",null,{"$f":"IF(G53=0,\" \",\"N/C\")","v":" "},{"$f":"IFERROR(IFERROR(VLOOKUP(E53,Surcharge!A:B,2,FALSE)*G53, VLOOKUP(E53 & \"\",Surcharge!A:B,2,FALSE)*G53), \"\")","v":""}]
[null,null,"Without  Charger",null,null,-375,null,{"$f":"G54*F54","v":0},{"$f":"IFERROR(IFERROR(VLOOKUP(E54,Surcharge!A:B,2,FALSE)*G54, VLOOKUP(E54 & \"\",Surcharge!A:B,2,FALSE)*G54), \"\")","v":""}]
[null,null,null,null,null,null,null,null,{"$f":"IFERROR(IFERROR(VLOOKUP(E55,Surcharge!A:B,2,FALSE)*G55, VLOOKUP(E55 & \"\",Surcharge!A:B,2,FALSE)*G55), \"\")","v":""}]
[null,"Machine Protection & Safety",null,null,"Reference Number",null,{"$f":"SUM(G57:G59)","v":0},null,{"$f":"IFERROR(IFERROR(VLOOKUP(E56,Surcharge!A:B,2,FALSE)*G56, VLOOKUP(E56 & \"\",Surcharge!A:B,2,FALSE)*G56), \"\")","v":""}]
[null,null,"Seat Belt",null,9018587,97,null,{"$f":"G57*F57","v":0}]
[null,null,"Strobe Light on Tank",null,9000580,787,null,{"$f":"G58*F58","v":0},{"$f":"IFERROR(IFERROR(VLOOKUP(E58,Surcharge!A:B,2,FALSE)*G58, VLOOKUP(E58 & \"\",Surcharge!A:B,2,FALSE)*G58), \"\")","v":""}]
[null,null,"Utility Basket (small storage)",null,1018315,248,null,{"$f":"G59*F59","v":0},{"$f":"IFERROR(IFERROR(VLOOKUP(E59,Surcharge!A:B,2,FALSE)*G59, VLOOKUP(E59 & \"\",Surcharge!A:B,2,FALSE)*G59), \"\")","v":""}]
[null,null,null,null,null,null,null,null,{"$f":"IFERROR(IFERROR(VLOOKUP(E60,Surcharge!A:B,2,FALSE)*G60, VLOOKUP(E60 & \"\",Surcharge!A:B,2,FALSE)*G60), \"\")","v":""}]
[null,"Support",null,null,"Reference Number",null,{"$f":"SUM(G62:G69)","v":0},null,{"$f":"IFERROR(IFERROR(VLOOKUP(E61,Surcharge!A:B,2,FALSE)*G61, VLOOKUP(E61 & \"\",Surcharge!A:B,2,FALSE)*G61), \"\")","v":""}]
[null,null,"R14 Operator Manual (English)",null,1032047,"N/C     ",null,{"$f":"IF(G62=0,\" \",\"N/C\")","v":" "},{"$f":"IFERROR(IFERROR(VLOOKUP(E62,Surcharge!A:B,2,FALSE)*G62, VLOOKUP(E62 & \"\",Surcharge!A:B,2,FALSE)*G62), \"\")","v":""}]
[null,null,"R14 Operator Manual (Spanish)",null,1032123,"N/C     ",null," ",{"$f":"IFERROR(IFERROR(VLOOKUP(E63,Surcharge!A:B,2,FALSE)*G63, VLOOKUP(E63 & \"\",Surcharge!A:B,2,FALSE)*G63), \"\")","v":""}]
[null,null,"R14 Operator Manual (French)",null,1032124,"N/C     ",null," ",{"$f":"IFERROR(IFERROR(VLOOKUP(E64,Surcharge!A:B,2,FALSE)*G64, VLOOKUP(E64 & \"\",Surcharge!A:B,2,FALSE)*G64), \"\")","v":""}]
[null,null,"Additional Operator Manual",null,"see above",173,null,{"$f":"G65*F65","v":0},{"$f":"IFERROR(IFERROR(VLOOKUP(E65,Surcharge!A:B,2,FALSE)*G65, VLOOKUP(E65 & \"\",Surcharge!A:B,2,FALSE)*G65), \"\")","v":""}]
[null,null,"R14 Parts Manual",null,1032125,23,null,{"$f":"G66*F66","v":0},{"$f":"IFERROR(IFERROR(VLOOKUP(E66,Surcharge!A:B,2,FALSE)*G66, VLOOKUP(E66 & \"\",Surcharge!A:B,2,FALSE)*G66), \"\")","v":""}]
[null,null,"Service Manual",null,1032129,"N/C     ",null,{"$f":"IF(G67=0,\" \",\"N/C\")","v":" "},{"$f":"IFERROR(IFERROR(VLOOKUP(E67,Surcharge!A:B,2,FALSE)*G67, VLOOKUP(E67 & \"\",Surcharge!A:B,2,FALSE)*G67), \"\")","v":""}]
[null,null,null,null,null,null,null,null,{"$f":"IFERROR(IFERROR(VLOOKUP(E68,Surcharge!A:B,2,FALSE)*G68, VLOOKUP(E68 & \"\",Surcharge!A:B,2,FALSE)*G68), \"\")","v":""}]
[null,null,"Packaging  (Note 3)",null,null,null,{"$f":"SUM(G70:G72)","v":0},null,{"$f":"IFERROR(IFERROR(VLOOKUP(E69,Surcharge!A:B,2,FALSE)*G69, VLOOKUP(E69 & \"\",Surcharge!A:B,2,FALSE)*G69), \"\")","v":""}]
[null,null,"Pad Wrap",null,null,"N/C     ",null,{"$f":"IF(G70=0,\" \",\"N/C\")","v":" "},{"$f":"IFERROR(IFERROR(VLOOKUP(E70,Surcharge!A:B,2,FALSE)*G70, VLOOKUP(E70 & \"\",Surcharge!A:B,2,FALSE)*G70), \"\")","v":""}]
[null,null,"Skid w/Carton, Non-Stackable",null,9002882,512,null,{"$f":"G71*F71","v":0},{"$f":"IFERROR(IFERROR(VLOOKUP(E71,Surcharge!A:B,2,FALSE)*G71, VLOOKUP(E71 & \"\",Surcharge!A:B,2,FALSE)*G71), \"\")","v":""}]
[null,null,"Skid with Stretch Wrap ",null,9007286,350,null,{"$f":"G72*F72","v":0},{"$f":"IFERROR(IFERROR(VLOOKUP(E72,Surcharge!A:B,2,FALSE)*G72, VLOOKUP(E72 & \"\",Surcharge!A:B,2,FALSE)*G72), \"\")","v":""}]
[null,null,null,null,null,null,null,null,{"$f":"IFERROR(IFERROR(VLOOKUP(E73,Surcharge!A:B,2,FALSE)*G73, VLOOKUP(E73 & \"\",Surcharge!A:B,2,FALSE)*G73), \"\")","v":""}]
[null,null,null,null,null,null,{"$f":"SUM(#REF!)","v":{"$error":"#REF!"}}]
[]
[null,"Custom Solution--write in description, qty, price, and PN if applicable",null,null,null,{"$f":"SUM(F77)","v":0},{"$f":"SUM(G77)","v":0}]
[null,null,null,null,"Insert Prices Here",{"$f":"SUM(G78:G81)","v":0},{"$f":"SUM(G78:G81)","v":0}]
[null,null,null,null,"Custom",null,{"$f":"IF(F78 <> \"\", 1, 0)","v":0},{"$f":"G78*F78","v":0}]
[null,null,null,null,"Custom",null,{"$f":"IF(F79 <> \"\", 1, 0)","v":0},{"$f":"G79*F79","v":0}]
[null,null,null,null,"Custom",null,0,{"$f":"G80*F80","v":0}]
[null,null,null,null,"Custom",null,0,{"$f":"G81*F81","v":0}]
[null,null,null,null,null,{"$f":"ROUND(SUM(H44:H81), 0)","v":0},{"$f":"SUM(F83)","v":0}]
[null,null,null,null,"Machine Subtotal ",{"$f":"ROUND(SUM(H44:H81), 0)","v":0},{"$f":"G82","v":0}]
[null,"Discounts",null,null,null,null,{"$f":"SUM(G85)","v":0}]
[null,null,null,null,null,null,{"$f":"SUM(G86:G87)","v":0}]
[null,null,null,null,"Discount %",null,{"$f":"IF(F86 <> \"\", 1, 0)","v":0},{"$f":"IF(G86*(F86*0.01)*F82 < 0, G86*(F86*0.01)*F82, -(G86*(F86*0.01)*F82))","v":0}]
[null,null,null,null,"Discount $",null,{"$f":"IF(F87 <> \"\", 1, 0)","v":0},{"$f":"IF(G87*F87 < 0, G87*F87, -(G87*F87))","v":0}]
[null,null,null,null,"Discount Total ",{"$f":"SUM(H86:H87)","v":0},{"$f":"SUM(F88)","v":0}]
[null,null,null,null,null,{"$f":"#REF!","v":{"$error":"#REF!"}},{"$f":"#REF!","v":{"$error":"#REF!"}}]
[null,null,null,null,null,null,{"$f":"G89","v":{"$error":"#REF!"}}]
[null,null,"Prepaid and Add",null,"Freight",null,{"$f":"IF(F91 <> \"\", 1, 0)","v":0},{"$f":"G91*F91","v":0}]
[null,null,"Subject to all applicable taxes",null,"Tax",null,0,{"$f":"G92*F92","v":0}]
[null,null,null,null,null,null,{"$f":"SUM(G94)","v":0}]
[null,null,null,null,"MACHINE TOTAL*",null,{"$f":"SUM(H94)","v":0},{"$f":"SUM(H44:H92)","v":0},null,null,null,null,"This goes to \"My Documents\""]
[null,null,null,null,null,null,null,{"$f":"SUM(H94)","v":0}]
[null,"Financing"]
[]
[null,null,"Is customer interested in financing?","Yes"]
[]
[null,null,"If not, why?"]
[]
[]
[null,null,"First Western Equipment Finance - Leasing Calculation Option:",null,"Option 1",null,"Option 2",null,null,{"$f":"Financing!A38","v":"Rates 2025 - Rev. 5/6/2025"}]
[null,null,null,null,"Monthly Payment","Cost Per Day","Monthly Payment","Cost Per Day",null,{"$f":"Financing!A39","v":"“Blank Payment Amounts Indicate The Financing Option Or Purchase Options Selected Are Not "}]
[null,null,"Purchase Option:",null,"FWEF:  $1 Buyout Lease",null,"FWEF: Municipal Lease",null,null,{"$f":"Financing!A40","v":"Applicable Or The Machine Total Is Below The Minimum Amount For The Selected Vendor”"}]
[null,null,"24 Months",null,0,0,0,0,null,{"$f":"Financing!A41","v":"\"Quoted monthly payments are estimates only and are based on a certain level of credit rating."}]
[null,null,"30 Months",null,0,0,0,0,null,{"$f":"Financing!A42","v":"Actual monthly payments may be higher depending on your credit rating.\""}]
[null,null,"36 Months",null,0,0,0,0,null,{"$f":"Financing!A43","v":"“Financing rates do not include Pre-Paid Service”"}]
[null,null,"48 Months",null,0,0,0,0,null,{"$f":"Financing!A44","v":0}]
[]
[null,null,null,"Benefits of Equipment Financing:"]
[null,null,null,"• Spreads out investment over time.",null,"• Keep current with latest technology."]
[null,null,null,"• Preserve capital.",null,"• Service and parts bundling available."]
[null,null,null,"• Low monthly payment.",null,"• Pay for labor savings as you go."]
[]
[]
[null,null,"Bundled Offerings",null,"Flexclean – Fair Market Value",null,"Flexclean - $1 Buyout"]
[null,null,"FlexClean: ",null,"36 Month Term",null,"36 Month Term",null,null,"No","AB Brushes"]
[null,null,"Hours included per Month:",null,"Gold","Silver","Gold","Silver","Check"]
[null,null,"< 30/mo. (Avg. 1hr./day)",null,null,null,null,null,null,null,{"$f":"FlexCleanCalc!$A21","v":"“FlexClean monthly rates include payment for both machine and service.”"}]
[null,null,"< 60/mo. (Avg. 2hrs./day)"]
[null,null,"< 90/mo. (Avg. 3hrs./day)"]
[null,null,"*This value assumes one service contract regardless of the number of UNITS included in the quote"]
[]
[]
[null,null,"Bundled Offerings",null,"Flexclean – Fair Market Value",null,"Flexclean - $1 Buyout"]
[null,null,"FlexClean 2: ",null,"48 Month Term",null,"48 Month Term"]
[null,null,"Hours included per Month:",null,"Gold","Silver","Gold","Silver"]
[null,null,"< 30/mo. (Avg. 1hr./day)"]
[null,null,"< 60/mo. (Avg. 2hrs./day)"]
[null,null,"< 90/mo. (Avg. 3hrs./day)"]
[null,null,"*This value assumes one service contract regardless of the number of UNITS included in the quote"]
[]
[null,null,"Bundled Offerings",null,"Flexclean – Fair Market Value",null,"Flexclean - $1 Buyout"]
[null,null,"FlexClean 3: ",null,"60 Month Term",null,"60 Month Term"]
[null,null,"Hours included per Month:",null,"Gold","Silver","Gold","Silver"]
[null,null,"< 30/mo. (Avg. 1hr./day)"]
[null,null,"< 60/mo. (Avg. 2hrs./day)"]
[null,null,"< 90/mo. (Avg. 3hrs./day)"]
[null,null,"*This value assumes one service contract regardless of the number of UNITS included in the quote"]
[]
[null,"  TennantTrue",null,0]
[]
[null,null,"Is customer interested in service program?","Yes","*State/County selection required for TennantTrue service options"]
[]
[null,null,"If not, why?"]
[]
[null,null,"Term:",36,null,"AB Brushes","No"]
[null,null,"Monthly machine usage (hrs):","< 30/mo. (Avg. 1hr./day)"]
[]
[null,null,"TennantTrue: ","Gold Contract",null,"Silver Contract"]
[null,null,"Per Visit",null,null,501]
[null,null,"Monthly",164,null,88]
[null,null,"Annually",null,null,1035]
[null,null,"Pre-Pay Full Term",5682,null,3042]
[null,null,"Hourly Labor Rate"]
[null,null,"Site Visit"]
[]
[null,null,"* Verify customer current pricing prior to quote. "]
[null,null,"**All rates and fees above reflect service for one (1) unit with the exception of Block of Time service."]
[null,null,"*Block of Time is available in 1 Year Term only and is priced as such no matter the term selection on this template."]
[]
[]
[]
[null,null,"Quote Special Instructions:"]
[]
[]
[null,null,{"$f":"Start_Here!E36","v":"Terms and Conditions"}]
[null,null,{"$f":"Start_Here!E37","v":"Ask your local sales rep for estimated lead times. Verify when placing order"}]
[null,null,{"$f":"Start_Here!E38","v":"All orders subject to acceptance by Tennant Sales and Service Company, Minneapolis, Minnesota"}]
[null,null,{"$f":"Start_Here!E39","v":"Prices subject to change without notice."}]
[null,null,{"$f":"Start_Here!E40","v":"Terms:  Net 30 days.  Subject to any applicable taxes."}]
[null,null,{"$f":"Start_Here!E41","v":"Freight: Machines and accessory orders delivered FOB shipping point Frt PPD & Add"}]
[null,null,{"$f":"Start_Here!E42","v":"Parts, supplies, detergents and floor treating material orders delivered FOB "}]
[null,null,{"$f":"Start_Here!E43","v":"shipping point Frt PPD"}]
[null,null,{"$f":"Start_Here!E44","v":"All orders are subject to Tennant’s General Terms and Conditions available at http://www.tennantco.com/terms."}]
[null,null,{"$f":"Start_Here!E45","v":"Printed General Terms and Conditions are also available upon request."}]
[null,null,{"$f":"Start_Here!E46","v":0}]
[]
[null,null,null,null,null,"Quote Date :",null,{"$f":"Letter!$A$25","v":"2020-09-22"}]
[null,"Order Placement Information:  To place your order, fill in PO# and customer signatures,"]
[null,"call or fax to the numbers listed below. Customer Purchase Order is required."]
[null,"If information is missing, orders will be entered and held until all information is received."]
[null,null,"Customer Number",null,"Cust Grp 3"]
[null,null,{"$f":"Start_Here!$C$25","v":0},null,{"$f":"Start_Here!$C$29","v":0}]
[null,null,{"$f":"Start_Here!$B$18","v":"Who Owns the Machine? (Sold-To Info) (Please Verify)"}]
["Company",null,{"$f":"Start_Here!$C$19","v":"Company Name"}]
["Address",null,{"$f":"Start_Here!$C$20","v":"Address"}]
[null,null,{"$f":"Start_Here!$C$21","v":"City, State Zip"}]
["Name",null,{"$f":"Start_Here!$C$22","v":"Contact Name"}]
["Phone",null,{"$f":"Start_Here!$C$23","v":"Contact Phone"}]
[null,null,{"$f":"Start_Here!$B$11","v":"Where is the Machine Being Shipped? (Ship-To Info) (Please Verify)"}]
["Company",null,{"$f":"Start_Here!$C$12","v":"Company Name"}]
["Address",null,{"$f":"Start_Here!$C$13","v":"Address"}]
[null,null,{"$f":"Start_Here!$C$14","v":"City, State Zip"}]
["Name",null,{"$f":"Start_Here!$C$15","v":"Contact Name"}]
["Phone",null,{"$f":"Start_Here!$C$16","v":"Contact Phone"}]
[null,null,{"$f":"Start_Here!$B$31","v":"Shipping / Carrier Instructions:"},null,"Order Special Instructions:"]
[null,null,{"$f":"Start_Here!$C$32","v":0}]
[]
[null,null,"Customer Purchase Order No."]
[null,null,"(please attach copy)"]
[]
[]
[null,null,"Tax Exempt",null,"Yes"]
[null,null,null,null,"No"]
[null,null,"If Yes, attach a copy of your exemption certificate."]
[]
[null,null,"Requested Delivery Date"]
[null,null,{"$f":"Start_Here!$C$28","v":0}]
[]
[null,null,{"$f":"Start_Here!$C$26","v":0},null,{"$f":"Start_Here!$C$27","v":0}]
[null,0,"Authorized Buyer (please print)",null,"Phone Number"]
[]
[]
[null,0,"Authorized Buyer Signature"]
[]
[null,null,{"$f":"Start_Here!$C$41","v":"Rep Name"}]
[null,null,"Tennant Representative"]
[]
[]
["Specialized Maintenance Equipment"]
[{"$f":"Start_Here!$C$47","v":0}]
[{"$f":"Start_Here!$C$48","v":"TENNANT · 10400 Clean Street · Eden Prairie, MN 55344 ·"}]
[]
[null,"Notes"]
[null,1,"Customer MUST order Skid w/Carton, Non-Stackable if WITHOUT BATTERY is selected.  Continental USA orders ONLY. "]
[]
[null,2,"Only available as factory-installed when batteries are ordered with machine."]
[]
[null,3,"Pad wrap available only in the Continental US and is the default packaging method."]
[null,null,"Customer MUST order Skid w/Carton, Non-Stackable or Skid w/Stretch Wrap if WITHOUT BATTERY is selected."]
[null,null,"Skid w/Carton, Non-Stackable is mandatory when shipping to AK and HI.  Packaging is added at No Charge when shipping"]
[null,null,"to these locations."]
[null,null,null," "]
[null,4,"Shipping Weights and Dimensions","Pad Wrap","Skid w/ Carton"]
[]
[null,null,"Weight (w/360AH batteries)","590 lbs / 268 Kg","650 lbs / 295 Kg"]
[null,null,"Length","60\" / 1,524mm","68\" / 1,727mm"]
[null,null,"Width","28\" / 711mm","33\" / 838mm"]
[null,null,"Height","42\" / 1,067mm","48\" / 1,219mm"]

{"sheet":"Dual_Tech_ReadySpace_1610","index":8,"n_rows":242,"n_cols":16,"rows_kept":242,"cut":false,"hidden":false,"merged":[[208,4,208,5],[184,2,184,5],[185,2,185,5],[186,2,186,5],[187,2,187,5],[189,2,189,5],[190,2,190,5],[191,2,191,5],[192,2,192,5],[193,2,193,5],[195,4,195,7],[199,2,199,5],[113,6,113,7],[144,3,144,4],[114,2,114,3],[114,4,114,5],[118,2,118,3],[140,4,140,8],[123,6,123,7],[124,2,124,3],[127,2,127,3],[130,2,130,3],[114,6,114,7],[115,2,115,3],[116,2,116,3],[125,2,125,3],[126,2,126,3],[123,2,123,3],[183,2,183,5],[162,2,162,7],[181,4,181,7],[145,3,145,4],[22,2,22,6],[24,2,24,6],[96,3,96,6],[122,2,122,3],[122,4,122,5],[122,6,122,7],[102,2,102,3],[101,2,101,3],[101,4,101,5],[101,6,101,7],[100,2,100,3],[23,2,23,6],[99,2,99,3],[99,4,99,5],[99,6,99,7],[39,2,39,3],[11,2,11,5],[41,2,41,4],[44,2,44,4],[0,2,0,3],[1,2,1,3],[2,2,2,3],[3,2,3,3],[40,2,40,3],[123,4,123,5],[103,2,103,3],[104,2,104,3],[105,2,105,3],[117,2,117,3],[113,2,113,3],[113,4,113,5],[148,3,148,4],[148,5,148,6],[149,3,149,4],[149,5,149,6],[130,4,130,5],[130,6,130,7],[131,2,131,3],[131,4,131,5],[131,6,131,7],[150,3,150,4],[150,5,150,6],[132,2,132,3],[133,2,133,3],[180,4,180,6],[134,2,134,3],[135,2,135,3],[142,3,142,6],[152,3,152,4],[152,5,152,6],[153,3,153,4],[153,5,153,6],[147,3,147,4],[147,5,147,6],[151,3,151,4],[151,5,151,6]]}
["Dual_Tech_ReadySpace_1610",null,{"$f":"Start_Here!$C19","v":"Company Name"}]
[{"$f":"SUM(H91)","v":0},null,{"$f":"Start_Here!$C20","v":"Address"}]
[null,null,{"$f":"Start_Here!$C21","v":"City, State Zip"}]
[null,null,{"$f":"Start_Here!$C22","v":"Contact Name"}]
[null,null,{"$f":"Start_Here!$C$41","v":"Rep Name"}]
[null,null,{"$f":"Start_Here!$C$37","v":"Tennant Sales and Service Company"}]
[null,null,{"$f":"Start_Here!$C$38","v":"10400 Clean Street"}]
[null,null,{"$f":"Start_Here!$C$39","v":"Eden Prairie, MN 55344"}]
[null,null,{"$f":"Start_Here!$C$43","v":"800-553-8033"},null,null,"Quote Date :",null,{"$f":"Letter!$A$25","v":"2020-09-22"}]
[]
[null,null,{"$f":"Help!C2","v":"US Date Rev - 5/6/2025"}]
[null,null,"BUILT-IN “TENNANT VALUE” INCLUDES:"]
[]
[null,null,"ReadySpace® cleaning technology and deep extraction",null,"Standard (4) 6V 240 AH battery pack "]
[null,null,"560mm/22\" cleaning path",null,"Battery Tray"]
[null,null,"72 l/21-gal. solution and recovery tanks",null,"19 AH Off-board charger"]
[null,null,"One set of ReadySpace® rollers & extraction brushes",null,"Rugged DuramerTM Tank Construction"]
[null,null,"High Traction Tires",null,"Operators video"]
[null,null,"Battery Discharger Indicator",null,"Operators manual"]
[null,null,"Hour meter ",null,"CRI certified, Bronze Cleaning Performance"]
[]
[]
[null,null,"TENNANT COMPANY WARRANTY"]
[null,null,"3 YEARS OR 2500 HOURS ON ALL COMPONENTS, 3 YEARS LABOR"]
[null,null,"90 DAYS TRAVEL, 10 YEARS ON DURAMERTM TANKS"]
[]
[null,null,null,null,null,"Quote Request Information"]
[null,null,null,null,null,null,null,"Fax (quote only)"]
[null,null,null,null,null,null,null,"Mail (quote,lit, specs)"]
[null,null,null,null,null,null,null,"Fax + Mail"]
[]
[null,null,null,null,null,"                Primary Use"]
[null,null,null,null,null,null,null,"Inside"]
[null,null,null,null,null,null,null,"Outside"]
[]
[]
[null,null,"Description",null,"Referencel#","Price Each","Qty","Extended Pr"]
[null,null,null,null,null,"2022 US List","*"]
[null,"Pre-Configured Machines (Note 1)",null,null,null,null,{"$f":"SUM(G40:G41,G43)","v":0}]
[null,null,"1610 ReadySpace Walk-Behind  w/ Wet 240AH Battery and Charger",null,"MV-1610-0001",20517,null,{"$f":"G40*F40","v":0},{"$f":"IFERROR(IFERROR(VLOOKUP(E40,Surcharge!A:B,2,FALSE)*G40, VLOOKUP(E40 & \"\",Surcharge!A:B,2,FALSE)*G40), \"\")","v":0},null,null,null,null,null,null,{"$f":"VLOOKUP(E40,'MPF SAP Download PreConfigured'!C:E,3,FALSE)","v":20516}]
[null,null,"1610 ReadySpace Walk-Behind  w/ AGM 200AH Battery and Charger",null,"MV-1610-0002",21088,null,{"$f":"G41*F41","v":0},{"$f":"IFERROR(IFERROR(VLOOKUP(E41,Surcharge!A:B,2,FALSE)*G41, VLOOKUP(E41 & \"\",Surcharge!A:B,2,FALSE)*G41), \"\")","v":0},null,null,null,null,null,null,{"$f":"VLOOKUP(E41,'MPF SAP Download PreConfigured'!C:E,3,FALSE)","v":21086}]
[null,null,"Above unit includes both Extraction Brushes and ReadySpace Rollers, an English Operator Manual.  These units are packaged in a Skid w/Carton for shipment via LTL Carries.",null,null,null,{"$f":"SUM(G40:G41)","v":0},null,{"$f":"IFERROR(IFERROR(VLOOKUP(E42,Surcharge!A:B,2,FALSE)*G42, VLOOKUP(E42 & \"\",Surcharge!A:B,2,FALSE)*G42), \"\")","v":""}]
[null,null,"1610 ReadySpace, 240AH Battery, Off-Board Charger",null,"MV-1610-0008",20042,null,{"$f":"G43*F43","v":0},{"$f":"IFERROR(IFERROR(VLOOKUP(E43,Surcharge!A:B,2,FALSE)*G43, VLOOKUP(E43 & \"\",Surcharge!A:B,2,FALSE)*G43), \"\")","v":0},null,null,null,null,null,null,{"$f":"VLOOKUP(E43,'MPF SAP Download PreConfigured'!C:E,3,FALSE)","v":20042}]
[null,null,null,null,null,null,{"$f":"SUM(G43)","v":0},null,{"$f":"IFERROR(IFERROR(VLOOKUP(E44,Surcharge!A:B,2,FALSE)*G44, VLOOKUP(E44 & \"\",Surcharge!A:B,2,FALSE)*G44), \"\")","v":""}]
[null,null,"Above unit includes both Extraction Brushes and ReadySpace Rollers and an English Operator Manual.  This unit will ship Pad Wrap via Logix Transportation.  This unit cannot ship to AK or HI.",null,null,null,{"$f":"SUM(G44)","v":0},null,{"$f":"IFERROR(IFERROR(VLOOKUP(E45,Surcharge!A:B,2,FALSE)*G45, VLOOKUP(E45 & \"\",Surcharge!A:B,2,FALSE)*G45), \"\")","v":""}]
[null,null,null,null,null,null,{"$f":"SUM(G45)","v":0},null,{"$f":"IFERROR(IFERROR(VLOOKUP(E46,Surcharge!A:B,2,FALSE)*G46, VLOOKUP(E46 & \"\",Surcharge!A:B,2,FALSE)*G46), \"\")","v":""}]
[null,"Base Configuration",null,null,null,null,{"$f":"SUM(G48,G51,G56)","v":0},null,{"$f":"IFERROR(IFERROR(VLOOKUP(E47,Surcharge!A:B,2,FALSE)*G47, VLOOKUP(E47 & \"\",Surcharge!A:B,2,FALSE)*G47), \"\")","v":""}]
[null,null,"Cleaning Type",null,null,null,{"$f":"SUM(G49)","v":0},null,{"$f":"IFERROR(IFERROR(VLOOKUP(E48,Surcharge!A:B,2,FALSE)*G48, VLOOKUP(E48 & \"\",Surcharge!A:B,2,FALSE)*G48), \"\")","v":""}]
[null,null,"1610 Walk-Behind Dual Technolgy Carpet Maintainer 560mm/22\"",null,"1610-560",20042,null,{"$f":"G49*F49","v":0},{"$f":"IFERROR(IFERROR(VLOOKUP(E49,Surcharge!A:B,2,FALSE)*G49, VLOOKUP(E49 & \"\",Surcharge!A:B,2,FALSE)*G49), \"\")","v":0}]
[null,null,null,null,null,null,null,null,{"$f":"IFERROR(IFERROR(VLOOKUP(E50,Surcharge!A:B,2,FALSE)*G50, VLOOKUP(E50 & \"\",Surcharge!A:B,2,FALSE)*G50), \"\")","v":""}]
[null,null,"Battery Type",null,null,null,{"$f":"SUM(G52:G54)","v":0},null,{"$f":"IFERROR(IFERROR(VLOOKUP(E51,Surcharge!A:B,2,FALSE)*G51, VLOOKUP(E51 & \"\",Surcharge!A:B,2,FALSE)*G51), \"\")","v":""}]
[null,null,"Wet 240AH C/20  (Kit of 4 batteries)",null,9012452,"N/C     ",null,{"$f":"IF(G52=0,\" \",\"N/C\")","v":" "},{"$f":"IFERROR(IFERROR(VLOOKUP(E52,Surcharge!A:B,2,FALSE)*G52, VLOOKUP(E52 & \"\",Surcharge!A:B,2,FALSE)*G52), \"\")","v":""}]
[null,null,"Sealed/MF AGM 200AH C/20  (Kit of 4 batteries)",null,9012454,571,null,{"$f":"G53*F53","v":0},{"$f":"IFERROR(IFERROR(VLOOKUP(E53,Surcharge!A:B,2,FALSE)*G53, VLOOKUP(E53 & \"\",Surcharge!A:B,2,FALSE)*G53), \"\")","v":""}]
[null,null,"Without Battery  (Note 2)",null,null,-952,null,{"$f":"G54*F54","v":0},{"$f":"IFERROR(IFERROR(VLOOKUP(E54,Surcharge!A:B,2,FALSE)*G54, VLOOKUP(E54 & \"\",Surcharge!A:B,2,FALSE)*G54), \"\")","v":""}]
[null,null,null,null,null,null,null,null,{"$f":"IFERROR(IFERROR(VLOOKUP(E55,Surcharge!A:B,2,FALSE)*G55, VLOOKUP(E55 & \"\",Surcharge!A:B,2,FALSE)*G55), \"\")","v":""}]
[null,null,"Charger",null,null,null,{"$f":"SUM(G57:G59)","v":0},null,{"$f":"IFERROR(IFERROR(VLOOKUP(E56,Surcharge!A:B,2,FALSE)*G56, VLOOKUP(E56 & \"\",Surcharge!A:B,2,FALSE)*G56), \"\")","v":""}]
[null,null,"19A 120V-240V AC 50/60Hz 1Ph ",null,1029256,"N/C     ",null,{"$f":"IF(G57=0,\" \",\"N/C\")","v":" "},{"$f":"IFERROR(IFERROR(VLOOKUP(E57,Surcharge!A:B,2,FALSE)*G57, VLOOKUP(E57 & \"\",Surcharge!A:B,2,FALSE)*G57), \"\")","v":""}]
[null,null,"19A 120V-240V AC 50/60Hz 1Ph (for sealed batteries)",null,1058164,"N/C     ",null,{"$f":"IF(G58=0,\" \",\"N/C\")","v":" "},{"$f":"IFERROR(IFERROR(VLOOKUP(E58,Surcharge!A:B,2,FALSE)*G58, VLOOKUP(E58 & \"\",Surcharge!A:B,2,FALSE)*G58), \"\")","v":""}]
[null,null,"Without  Charger",null,null,-718,null,{"$f":"G59*F59","v":0},{"$f":"IFERROR(IFERROR(VLOOKUP(E59,Surcharge!A:B,2,FALSE)*G59, VLOOKUP(E59 & \"\",Surcharge!A:B,2,FALSE)*G59), \"\")","v":""}]
[null,null,null,null,null,null,null,null,{"$f":"IFERROR(IFERROR(VLOOKUP(E60,Surcharge!A:B,2,FALSE)*G60, VLOOKUP(E60 & \"\",Surcharge!A:B,2,FALSE)*G60), \"\")","v":""}]
[null,"Support",null,null,"Reference Number",null,{"$f":"SUM(G62:G64)","v":0},null,{"$f":"IFERROR(IFERROR(VLOOKUP(E61,Surcharge!A:B,2,FALSE)*G61, VLOOKUP(E61 & \"\",Surcharge!A:B,2,FALSE)*G61), \"\")","v":""}]
[null,null,"1610 Operator Manual (English/Spanish/French)",null,9003458,"N/C     ",null,{"$f":"IF(G62=0,\" \",\"N/C\")","v":" "},{"$f":"IFERROR(IFERROR(VLOOKUP(E62,Surcharge!A:B,2,FALSE)*G62, VLOOKUP(E62 & \"\",Surcharge!A:B,2,FALSE)*G62), \"\")","v":""}]
[null,null,"Additional Operator Manual",null,"see above",51,null,{"$f":"G63*F63","v":0},{"$f":"IFERROR(IFERROR(VLOOKUP(E63,Surcharge!A:B,2,FALSE)*G63, VLOOKUP(E63 & \"\",Surcharge!A:B,2,FALSE)*G63), \"\")","v":""}]
[null,null,"Parts Manual (English)",null,9003456,23,null,{"$f":"G64*F64","v":0},{"$f":"IFERROR(IFERROR(VLOOKUP(E64,Surcharge!A:B,2,FALSE)*G64, VLOOKUP(E64 & \"\",Surcharge!A:B,2,FALSE)*G64), \"\")","v":""}]
[null,null,null,null,null,null,null,null,{"$f":"IFERROR(IFERROR(VLOOKUP(E65,Surcharge!A:B,2,FALSE)*G65, VLOOKUP(E65 & \"\",Surcharge!A:B,2,FALSE)*G65), \"\")","v":""}]
[null,null,"Packaging  (Note 3)",null,null,null,{"$f":"SUM(G67:G69)","v":0},null,{"$f":"IFERROR(IFERROR(VLOOKUP(E66,Surcharge!A:B,2,FALSE)*G66, VLOOKUP(E66 & \"\",Surcharge!A:B,2,FALSE)*G66), \"\")","v":""}]
[null,null,"Pad Wrap",null,null,"N/C     ",null,{"$f":"IF(G67=0,\" \",\"N/C\")","v":" "},{"$f":"IFERROR(IFERROR(VLOOKUP(E67,Surcharge!A:B,2,FALSE)*G67, VLOOKUP(E67 & \"\",Surcharge!A:B,2,FALSE)*G67), \"\")","v":""}]
[null,null,"Skid w/Carton, Stackable",null,9012455,475,null,{"$f":"G68*F68","v":0},{"$f":"IFERROR(IFERROR(VLOOKUP(E68,Surcharge!A:B,2,FALSE)*G68, VLOOKUP(E68 & \"\",Surcharge!A:B,2,FALSE)*G68), \"\")","v":""}]
[null,null,"Skid with Stretch Wrap ",null,9012456,360,null,{"$f":"G69*F69","v":0},{"$f":"IFERROR(IFERROR(VLOOKUP(E69,Surcharge!A:B,2,FALSE)*G69, VLOOKUP(E69 & \"\",Surcharge!A:B,2,FALSE)*G69), \"\")","v":""}]
[null,null,null,null,null,null,null,null,{"$f":"IFERROR(IFERROR(VLOOKUP(E70,Surcharge!A:B,2,FALSE)*G70, VLOOKUP(E70 & \"\",Surcharge!A:B,2,FALSE)*G70), \"\")","v":""}]
[null,null,null,null,null,null,{"$f":"SUM(#REF!)","v":{"$error":"#REF!"}},null,{"$f":"IFERROR(IFERROR(VLOOKUP(E71,Surcharge!A:B,2,FALSE)*G71, VLOOKUP(E71 & \"\",Surcharge!A:B,2,FALSE)*G71), \"\")","v":""}]
[null,null,null,null,null,null,null,null,{"$f":"IFERROR(IFERROR(VLOOKUP(E72,Surcharge!A:B,2,FALSE)*G72, VLOOKUP(E72 & \"\",Surcharge!A:B,2,FALSE)*G72), \"\")","v":""}]
[null,"Custom Solution--write in description, qty, price, and PN if applicable",null,null,null,{"$f":"SUM(F74)","v":0},{"$f":"SUM(G74)","v":0},null,{"$f":"IFERROR(IFERROR(VLOOKUP(E73,Surcharge!A:B,2,FALSE)*G73, VLOOKUP(E73 & \"\",Surcharge!A:B,2,FALSE)*G73), \"\")","v":""}]
[null,null,null,null,"Insert Prices Here",{"$f":"SUM(G75:G78)","v":0},{"$f":"SUM(G75:G78)","v":0},null,{"$f":"IFERROR(IFERROR(VLOOKUP(E74,Surcharge!A:B,2,FALSE)*G74, VLOOKUP(E74 & \"\",Surcharge!A:B,2,FALSE)*G74), \"\")","v":""}]
[null,null,null,null,"Custom",null,{"$f":"IF(F75 <> \"\", 1, 0)","v":0},{"$f":"G75*F75","v":0},{"$f":"IFERROR(IFERROR(VLOOKUP(E75,Surcharge!A:B,2,FALSE)*G75, VLOOKUP(E75 & \"\",Surcharge!A:B,2,FALSE)*G75), \"\")","v":""}]
[null,null,null,null,"Custom",null,{"$f":"IF(F76 <> \"\", 1, 0)","v":0},{"$f":"G76*F76","v":0},{"$f":"IFERROR(IFERROR(VLOOKUP(E76,Surcharge!A:B,2,FALSE)*G76, VLOOKUP(E76 & \"\",Surcharge!A:B,2,FALSE)*G76), \"\")","v":""}]
[null,null,null,null,"Custom",null,0,{"$f":"G77*F77","v":0},{"$f":"IFERROR(IFERROR(VLOOKUP(E77,Surcharge!A:B,2,FALSE)*G77, VLOOKUP(E77 & \"\",Surcharge!A:B,2,FALSE)*G77), \"\")","v":""}]
[null,null,null,null,"Custom",null,0,{"$f":"G78*F78","v":0},{"$f":"IFERROR(IFERROR(VLOOKUP(E78,Surcharge!A:B,2,FALSE)*G78, VLOOKUP(E78 & \"\",Surcharge!A:B,2,FALSE)*G78), \"\")","v":""}]
[null,null,null,null,null,{"$f":"ROUND(SUM(H40:H78), 0)","v":0},{"$f":"SUM(F80)","v":0}]
[null,null,null,null,"Machine Subtotal ",{"$f":"ROUND(SUM(H40:H78), 0)","v":0},{"$f":"G79","v":0}]
[null,"Discounts",null,null,null,null,{"$f":"SUM(G82)","v":0}]
[null,null,null,null,null,null,{"$f":"SUM(G83:G84)","v":0}]
[null,null,null,null,"Discount %",null,{"$f":"IF(F83 <> \"\", 1, 0)","v":0},{"$f":"IF(G83*(F83*0.01)*F79 < 0, G83*(F83*0.01)*F79, -(G83*(F83*0.01)*F79))","v":0}]
[null,null,null,null,"Discount $",null,{"$f":"IF(F84 <> \"\", 1, 0)","v":0},{"$f":"IF(G84*F84 < 0, G84*F84, -(G84*F84))","v":0}]
[null,null,null,null,"Discount Total ",{"$f":"SUM(H83:H84)","v":0},{"$f":"SUM(F85)","v":0}]
[null,null,null,null,null,{"$f":"#REF!","v":{"$error":"#REF!"}},{"$f":"#REF!","v":{"$error":"#REF!"}}]
[null,null,null,null,null,null,{"$f":"G86","v":{"$error":"#REF!"}}]
[null,null,"Prepaid and Add",null,"Freight",null,{"$f":"IF(F88 <> \"\", 1, 0)","v":0},{"$f":"G88*F88","v":0}]
[null,null,"Subject to all applicable taxes",null,"Tax",null,0,{"$f":"G89*F89","v":0}]
[null,null,null,null,null,null,{"$f":"SUM(G91)","v":0}]
[null,null,null,null,"MACHINE TOTAL*",null,{"$f":"SUM(H91)","v":0},{"$f":"SUM(H40:H89)","v":0},null,null,null,null,"This goes to \"My Documents\""]
[null,null,null,null,null,null,null,{"$f":"SUM(H91)","v":0}]
[null,"Financing"]
[]
[null,null,"Is customer interested in financing?","Yes"]
[]
[null,null,"If not, why?"]
[]
[]
[null,null,"First Western Equipment Finance - Leasing Calculation Option:",null,"Option 1",null,"Option 2",null,null,{"$f":"Financing!A38","v":"Rates 2025 - Rev. 5/6/2025"}]
[null,null,null,null,"Monthly Payment","Cost Per Day","Monthly Payment","Cost Per Day",null,{"$f":"Financing!A39","v":"“Blank Payment Amounts Indicate The Financing Option Or Purchase Options Selected Are Not "}]
[null,null,"Purchase Option:",null,"FWEF:  $1 Buyout Lease",null,"FWEF: Municipal Lease",null,null,{"$f":"Financing!A40","v":"Applicable Or The Machine Total Is Below The Minimum Amount For The Selected Vendor”"}]
[null,null,"24 Months",null,0,0,0,0,null,{"$f":"Financing!A41","v":"\"Quoted monthly payments are estimates only and are based on a certain level of credit rating."}]
[null,null,"30 Months",null,0,0,0,0,null,{"$f":"Financing!A42","v":"Actual monthly payments may be higher depending on your credit rating.\""}]
[null,null,"36 Months",null,0,0,0,0,null,{"$f":"Financing!A43","v":"“Financing rates do not include Pre-Paid Service”"}]
[null,null,"48 Months",null,0,0,0,0,null,{"$f":"Financing!A44","v":0}]
[]
[null,null,null,"Benefits of Equipment Financing:"]
[null,null,null,"• Spreads out investment over time.",null,"• Keep current with latest technology."]
[null,null,null,"• Preserve capital.",null,"• Service and parts bundling available."]
[null,null,null,"• Low monthly payment.",null,"• Pay for labor savings as you go."]
[]
[]
[null,null,"Bundled Offerings",null,"Flexclean – Fair Market Value",null,"Flexclean - $1 Buyout"]
[null,null,"FlexClean: ",null,"36 Month Term",null,"36 Month Term",null,null,"No","AB Brushes"]
[null,null,"Hours included per Month:",null,"Gold","Silver","Gold","Silver","Check"]
[null,null,"< 30/mo. (Avg. 1hr./day)",null,null,null,null,null,null,null,{"$f":"FlexCleanCalc!$A21","v":"“FlexClean monthly rates include payment for both machine and service.”"}]
[null,null,"< 60/mo. (Avg. 2hrs./day)"]
[null,null,"< 90/mo. (Avg. 3hrs./day)"]
[null,null,"*This value assumes one service contract regardless of the number of UNITS included in the quote"]
[]
[]
[null,null,"Bundled Offerings",null,"Flexclean – Fair Market Value",null,"Flexclean - $1 Buyout"]
[null,null,"FlexClean 2: ",null,"48 Month Term",null,"48 Month Term"]
[null,null,"Hours included per Month:",null,"Gold","Silver","Gold","Silver"]
[null,null,"< 30/mo. (Avg. 1hr./day)"]
[null,null,"< 60/mo. (Avg. 2hrs./day)"]
[null,null,"< 90/mo. (Avg. 3hrs./day)"]
[null,null,"*This value assumes one service contract regardless of the number of UNITS included in the quote"]
[]
[null,null,"Bundled Offerings",null,"Flexclean – Fair Market Value",null,"Flexclean - $1 Buyout"]
[null,null,"FlexClean 3: ",null,"60 Month Term",null,"60 Month Term"]
[null,null,"Hours included per Month:",null,"Gold","Silver","Gold","Silver"]
[null,null,"< 30/mo. (Avg. 1hr./day)"]
[null,null,"< 60/mo. (Avg. 2hrs./day)"]
[null,null,"< 90/mo. (Avg. 3hrs./day)"]
[null,null,"*This value assumes one service contract regardless of the number of UNITS included in the quote"]
[]
[null,"  TennantTrue",null,0]
[]
[null,null,"Is customer interested in service program?","Yes","*State/County selection required for TennantTrue service options"]
[]
[null,null,"If not, why?"]
[]
[null,null,"Term:",36,null,"AB Brushes","No"]
[null,null,"Monthly machine usage (hrs):","< 30/mo. (Avg. 1hr./day)"]
[]
[null,null,"TennantTrue: ","Gold Contract",null,"Silver Contract"]
[null,null,"Per Visit",null,null,392]
[null,null,"Monthly",120,null,67]
[null,null,"Annually",null,null,785]
[null,null,"Pre-Pay Full Term",4162,null,2305]
[null,null,"Hourly Labor Rate"]
[null,null,"Site Visit"]
[]
[null,null,"* Verify customer current pricing prior to quote. "]
[null,null,"**All rates and fees above reflect service for one (1) unit with the exception of Block of Time service."]
[null,null,"*Block of Time is available in 1 Year Term only and is priced as such no matter the term selection on this template."]
[]
[]
[]
[null,null,"Quote Special Instructions:"]
[]
[]
[null,null,{"$f":"Start_Here!E36","v":"Terms and Conditions"}]
[null,null,{"$f":"Start_Here!E37","v":"Ask your local sales rep for estimated lead times. Verify when placing order"}]
[null,null,{"$f":"Start_Here!E38","v":"All orders subject to acceptance by Tennant Sales and Service Company, Minneapolis, Minnesota"}]
[null,null,{"$f":"Start_Here!E39","v":"Prices subject to change without notice."}]
[null,null,{"$f":"Start_Here!E40","v":"Terms:  Net 30 days.  Subject to any applicable taxes."}]
[null,null,{"$f":"Start_Here!E41","v":"Freight: Machines and accessory orders delivered FOB shipping point Frt PPD & Add"}]
[null,null,{"$f":"Start_Here!E42","v":"Parts, supplies, detergents and floor treating material orders delivered FOB "}]
[null,null,{"$f":"Start_Here!E43","v":"shipping point Frt PPD"}]
[null,null,{"$f":"Start_Here!E44","v":"All orders are subject to Tennant’s General Terms and Conditions available at http://www.tennantco.com/terms."}]
[null,null,{"$f":"Start_Here!E45","v":"Printed General Terms and Conditions are also available upon request."}]
[null,null,{"$f":"Start_Here!E46","v":0}]
[]
[null,null,null,null,null,"Quote Date :",null,{"$f":"Letter!$A$25","v":"2020-09-22"}]
[null,"Order Placement Information:  To place your order, fill in PO# and customer signatures,"]
[null,"call or fax to the numbers listed below. Customer Purchase Order is required."]
[null,"If information is missing, orders will be entered and held until all information is received."]
[null,null,"Customer Number",null,"Cust Grp 3"]
[null,null,{"$f":"Start_Here!$C$25","v":0},null,{"$f":"Start_Here!$C$29","v":0}]
[null,null,{"$f":"Start_Here!$B$18","v":"Who Owns the Machine? (Sold-To Info) (Please Verify)"}]
["Company",null,{"$f":"Start_Here!$C$19","v":"Company Name"}]
["Address",null,{"$f":"Start_Here!$C$20","v":"Address"}]
[null,null,{"$f":"Start_Here!$C$21","v":"City, State Zip"}]
["Name",null,{"$f":"Start_Here!$C$22","v":"Contact Name"}]
["Phone",null,{"$f":"Start_Here!$C$23","v":"Contact Phone"}]
[null,null,{"$f":"Start_Here!$B$11","v":"Where is the Machine Being Shipped? (Ship-To Info) (Please Verify)"}]
["Company",null,{"$f":"Start_Here!$C$12","v":"Company Name"}]
["Address",null,{"$f":"Start_Here!$C$13","v":"Address"}]
[null,null,{"$f":"Start_Here!$C$14","v":"City, State Zip"}]
["Name",null,{"$f":"Start_Here!$C$15","v":"Contact Name"}]
["Phone",null,{"$f":"Start_Here!$C$16","v":"Contact Phone"}]
[null,null,{"$f":"Start_Here!$B$31","v":"Shipping / Carrier Instructions:"},null,"Order Special Instructions:"]
[null,null,{"$f":"Start_Here!$C$32","v":0}]
[]
[null,null,"Customer Purchase Order No."]
[null,null,"(please attach copy)"]
[]
[]
[null,null,"Tax Exempt",null,"Yes"]
[null,null,null,null,"No"]
[null,null,"If Yes, attach a copy of your exemption certificate."]
[]
[null,null,"Requested Delivery Date"]
[null,null,{"$f":"Start_Here!$C$28","v":0}]
[]
[null,null,{"$f":"Start_Here!$C$26","v":0},null,{"$f":"Start_Here!$C$27","v":0}]
[null,0,"Authorized Buyer (please print)",null,"Phone Number"]
[]
[]
[null,0,"Authorized Buyer Signature"]
[]
[null,null,{"$f":"Start_Here!$C$41","v":"Rep Name"}]
[null,null,"Tennant Representative"]
[]
[]
["Specialized Maintenance Equipment"]
[{"$f":"Start_Here!$C$47","v":0}]
[{"$f":"Start_Here!$C$48","v":"TENNANT · 10400 Clean Street · Eden Prairie, MN 55344 ·"}]
[]
[null,"Notes"]
[null,1,"Pre-Configured Machines cannot add or change options.  All units will be packaged and shipped as stated above."]
[null,null,"When ordering, provide the reference number listed above.  Price does not include freight or tax.  Availability of units "]
[null,null,"and lead time may vary."]
[]
[null,2,"Customer MUST order Skid w/Carton, Stackable or Skid with Stretch Wrap if WITHOUT BATTERY is selected.   "]
[null,null,"Continental USA orders ONLY."]
[]
[null,3,"Pad wrap available only in the Continental US and is the default packaging method."]
[null,null,"Customer MUST order Skid w/Carton, Stackable or Skid w/Stretch Wrap if WITHOUT BATTERY is selected."]
[null,null,"Skid w/Carton, Stackable or Skid w/Stretch Wrap will both ship via LTL carrier.  Pad Wrap will ship via Logix."]
[null,null,"Skid w/Carton, Stackable is mandatory when shipping to AK and HI.  Packaging is added at No Charge when shipping"]
[null,null,"to these locations."]
[]
[null,4,"Shipping Weights and dimensions","Pad Wrap","Skid w/ Carton"]
[]
[null,null,"Weight (w/240AH Battery)","590 lbs / 268 Kg","670 lbs / 304 Kg"]
[null,null,"Length","60\" / 1,524mm","67\" / 1,702mm"]
[null,null,"Width","28\" / 710mm","33\" / 838mm"]
[null,null,"Height","42\" / 1,066mm","48\" / 1,219mm"]

{"sheet":"Carpet_Extractors","index":9,"n_rows":208,"n_cols":18,"rows_kept":208,"cut":false,"hidden":false,"merged":[[0,2,0,3],[1,2,1,3],[2,2,2,3],[3,2,3,3],[28,2,28,3],[30,2,30,3],[34,2,34,3],[36,2,36,3],[83,3,83,6],[40,2,40,3],[42,2,42,3],[47,2,47,3],[54,2,54,3],[86,2,86,3],[86,4,86,5],[86,6,86,7],[88,2,88,3],[88,4,88,5],[88,6,88,7],[87,2,87,3],[92,2,92,3],[117,2,117,3],[100,2,100,3],[100,4,100,5],[100,6,100,7],[101,2,101,3],[101,4,101,5],[101,6,101,7],[111,2,111,3],[112,2,112,3],[113,2,113,3],[114,2,114,3],[89,2,89,3],[90,2,90,3],[91,2,91,3],[168,4,168,7],[170,2,170,5],[102,2,102,3],[103,2,103,3],[104,2,104,3],[105,2,105,3],[127,4,127,8],[109,2,109,3],[109,4,109,5],[109,6,109,7],[110,2,110,3],[110,4,110,5],[110,6,110,7],[186,2,186,5],[195,4,195,5],[171,2,171,5],[172,2,172,5],[173,2,173,5],[174,2,174,5],[176,2,176,5],[177,2,177,5],[178,2,178,5],[179,2,179,5],[180,2,180,5],[182,4,182,7],[167,4,167,6],[117,4,117,5],[117,6,117,7],[118,2,118,3],[118,4,118,5],[118,6,118,7],[119,2,119,3],[120,2,120,3],[121,2,121,3],[122,2,122,3],[129,3,129,6],[131,3,131,4],[132,3,132,4],[139,3,139,4],[139,5,139,6],[140,3,140,4],[149,2,149,7],[140,5,140,6],[134,3,134,4],[134,5,134,6],[135,3,135,4],[135,5,135,6],[136,3,136,4],[136,5,136,6],[137,3,137,4],[137,5,137,6],[138,3,138,4],[138,5,138,6]]}
["Carpet_Extractors",null,{"$f":"Start_Here!$C19","v":"Company Name"}]
[{"$f":"SUM(H78)","v":0},null,{"$f":"Start_Here!$C20","v":"Address"}]
[null,null,{"$f":"Start_Here!$C21","v":"City, State Zip"}]
[null,null,{"$f":"Start_Here!$C22","v":"Contact Name"}]
[null,null,{"$f":"Start_Here!$C$41","v":"Rep Name"}]
[null,null,{"$f":"Start_Here!$C$37","v":"Tennant Sales and Service Company"}]
[null,null,{"$f":"Start_Here!$C$38","v":"10400 Clean Street"}]
[null,null,{"$f":"Start_Here!$C$39","v":"Eden Prairie, MN 55344"}]
[null,null,{"$f":"Start_Here!$C$43","v":"800-553-8033"},null,null,"Quote Date :",null,{"$f":"Letter!$A$25","v":"2020-09-22"}]
[]
[null,null,{"$f":"Help!C2","v":"US Date Rev - 5/6/2025"}]
[]
[null,null,"New Machine Warranty"]
[null,null,"36 MONTHS OR 2500 HOURS ON PARTS"]
[null,null,"36 MONTHS – LABOR"]
[null,null,"90 DAYS – TRAVEL ON BATTERY UNITS ONLY"]
[null,null,"10 YEARS ON ROTOMOLDED PARTS",null,null,"Quote Request Information"]
[null,null,"BATTERIES ARE PRORATED OVER 12 MONTHS",null,null,null,null,"Fax (quote only)"]
[null,null,null,null,null,null,null,"Mail (quote,lit, specs)"]
[null,null,"EC2 & EC5",null,null,null,null,"Fax + Mail"]
[null,null,"2 Years Parts"]
[null,null,"1 Year Labor",null,null,"                Primary Use"]
[null,null,"90 Day Travel",null,null,null,null,"Inside"]
[null,null,null,null,null,null,null,"Outside"]
[]
[]
[null,null,"Description",null,"Referencel#","Price Each","Qty","Extended Pr"]
[null,null,null,null,null,null,"*"]
[null,null,"1510 Battery Operated Automatic Extractor ",null,614002,17727,null,{"$f":"G29*F29","v":0},{"$f":"IFERROR(IFERROR(VLOOKUP(E29,Surcharge!A:B,2,FALSE)*G29, VLOOKUP(E29 & \"\",Surcharge!A:B,2,FALSE)*G29), \"\")","v":0},null,null,null,null,null,null,null,null,{"$f":"VLOOKUP(E29,'MPF SAP Download PreConfigured'!C:E,3,FALSE)","v":17727}]
[null,null,"21-gal (80 liter) solution tank, 22\" (5580mm) cleaning path, 100 psi, mode controls for deep and surface cleaning, dual vac motors.  Complete package includes four 240 AH 6-volt batteries and 20 amp charger.",null,null,null,{"$f":"SUM(G29)","v":0},null,{"$f":"IFERROR(IFERROR(VLOOKUP(E30,Surcharge!A:B,2,FALSE)*G30, VLOOKUP(E30 & \"\",Surcharge!A:B,2,FALSE)*G30), \"\")","v":""}]
[null,null,"Boxed dimensions: 71L x 34W x 52H (1803mm x 864mm x 1321mm)",null,null,null,{"$f":"SUM(G30)","v":0},null,{"$f":"IFERROR(IFERROR(VLOOKUP(E31,Surcharge!A:B,2,FALSE)*G31, VLOOKUP(E31 & \"\",Surcharge!A:B,2,FALSE)*G31), \"\")","v":""}]
[null,null,"Shipping Weight: 600 lbs. / Cu. Ft.: 36",null,null,null,{"$f":"SUM(G31)","v":0},null,{"$f":"IFERROR(IFERROR(VLOOKUP(E32,Surcharge!A:B,2,FALSE)*G32, VLOOKUP(E32 & \"\",Surcharge!A:B,2,FALSE)*G32), \"\")","v":""}]
[null,null,null,null,null,null,null,null,{"$f":"IFERROR(IFERROR(VLOOKUP(E33,Surcharge!A:B,2,FALSE)*G33, VLOOKUP(E33 & \"\",Surcharge!A:B,2,FALSE)*G33), \"\")","v":""}]
[null,null,null,null,null,null,{"$f":"SUM(G35)","v":0},null,{"$f":"IFERROR(IFERROR(VLOOKUP(E34,Surcharge!A:B,2,FALSE)*G34, VLOOKUP(E34 & \"\",Surcharge!A:B,2,FALSE)*G34), \"\")","v":""}]
[null,null,"1530 Cord Electric Automatic Extractor",null,614000,13942,null,{"$f":"G35*F35","v":0},{"$f":"IFERROR(IFERROR(VLOOKUP(E35,Surcharge!A:B,2,FALSE)*G35, VLOOKUP(E35 & \"\",Surcharge!A:B,2,FALSE)*G35), \"\")","v":""},null,null,null,null,null,null,null,null,{"$f":"VLOOKUP(E35,'MPF SAP Download PreConfigured'!C:E,3,FALSE)","v":13942}]
[null,null,"30-gal (114 liter) solution tank, 22\" (5580mm) cleaning path, 100 psi, mode controls for deep and surface cleaning. ETL US/C*",null,null,null,{"$f":"SUM(G35)","v":0},null,{"$f":"IFERROR(IFERROR(VLOOKUP(E36,Surcharge!A:B,2,FALSE)*G36, VLOOKUP(E36 & \"\",Surcharge!A:B,2,FALSE)*G36), \"\")","v":""}]
[null,null,"Boxed dimensions: 71L x 34W x 52H (1803mm x 864mm x 1321mm)",null,null,null,{"$f":"SUM(G36)","v":0},null,{"$f":"IFERROR(IFERROR(VLOOKUP(E37,Surcharge!A:B,2,FALSE)*G37, VLOOKUP(E37 & \"\",Surcharge!A:B,2,FALSE)*G37), \"\")","v":""}]
[null,null,"Shipping Weight: 344 lbs. / Cu. Ft.: 36",null,null,null,{"$f":"SUM(G37)","v":0},null,{"$f":"IFERROR(IFERROR(VLOOKUP(E38,Surcharge!A:B,2,FALSE)*G38, VLOOKUP(E38 & \"\",Surcharge!A:B,2,FALSE)*G38), \"\")","v":""}]
[null,null,null,null,null,null,null,null,{"$f":"IFERROR(IFERROR(VLOOKUP(E39,Surcharge!A:B,2,FALSE)*G39, VLOOKUP(E39 & \"\",Surcharge!A:B,2,FALSE)*G39), \"\")","v":""}]
[null,null,null,null,null,null,{"$f":"SUM(G41)","v":0},null,{"$f":"IFERROR(IFERROR(VLOOKUP(E40,Surcharge!A:B,2,FALSE)*G40, VLOOKUP(E40 & \"\",Surcharge!A:B,2,FALSE)*G40), \"\")","v":""}]
[null,null,"EX-SC-1020 - Self-Contained Extractor ",null,9007486,5089,null,{"$f":"G41*F41","v":0},{"$f":"IFERROR(IFERROR(VLOOKUP(E41,Surcharge!A:B,2,FALSE)*G41, VLOOKUP(E41 & \"\",Surcharge!A:B,2,FALSE)*G41), \"\")","v":""},null,null,null,null,null,null,null,null,{"$f":"VLOOKUP(E41,'MPF SAP Download PreConfigured'!C:E,3,FALSE)","v":5089}]
[null,null,"Patented, 10-gal. Expansion cavity, 20\" (508mm) cleaning path, 100 psi, 137\" (3480mm) waterlift. ETL US/C*  CRI certified, Bronze Cleaning Performance.",null,null,null,{"$f":"SUM(G41)","v":0},null,{"$f":"IFERROR(IFERROR(VLOOKUP(E42,Surcharge!A:B,2,FALSE)*G42, VLOOKUP(E42 & \"\",Surcharge!A:B,2,FALSE)*G42), \"\")","v":""}]
[null,null,"Boxed dimensions: 41L x 22W x 45H (1041mm x 559mm x 1143mm) ",null,null,null,{"$f":"SUM(G42)","v":0},null,{"$f":"IFERROR(IFERROR(VLOOKUP(E43,Surcharge!A:B,2,FALSE)*G43, VLOOKUP(E43 & \"\",Surcharge!A:B,2,FALSE)*G43), \"\")","v":""}]
[null,null,"Shipping Weight: 142 lbs. / Cu. Ft.: 23.5",null,null,null,{"$f":"SUM(G43)","v":0},null,{"$f":"IFERROR(IFERROR(VLOOKUP(E44,Surcharge!A:B,2,FALSE)*G44, VLOOKUP(E44 & \"\",Surcharge!A:B,2,FALSE)*G44), \"\")","v":""}]
[null,null,null,null,null,null,null,null,{"$f":"IFERROR(IFERROR(VLOOKUP(E45,Surcharge!A:B,2,FALSE)*G45, VLOOKUP(E45 & \"\",Surcharge!A:B,2,FALSE)*G45), \"\")","v":""}]
[null,null,null,null,null,null,{"$f":"SUM(G47)","v":0},null,{"$f":"IFERROR(IFERROR(VLOOKUP(E46,Surcharge!A:B,2,FALSE)*G46, VLOOKUP(E46 & \"\",Surcharge!A:B,2,FALSE)*G46), \"\")","v":""}]
[null,null,"EH5 Heated Canister Extractor",null,9011454,9435,null,{"$f":"G47*F47","v":0},{"$f":"IFERROR(IFERROR(VLOOKUP(E47,Surcharge!A:B,2,FALSE)*G47, VLOOKUP(E47 & \"\",Surcharge!A:B,2,FALSE)*G47), \"\")","v":""},null,null,null,null,null,null,null,null,{"$f":"VLOOKUP(E47,'MPF SAP Download PreConfigured'!C:E,3,FALSE)","v":9435}]
[null,null,"15 gal. capacity, 50-500 psi, Heated, 13\" (330mm) High Airflow Titanium Carpet wand with 2 Unijets,  15-ft. (4.5m) vacuum and solution hoses. 2-40 ft(12.2m) Hospital Grade safety yellow electrical cords (dual cord 15A each cord). Hand tool sold separately. CRI certified  - Gold Cleaning Performance with High Airflow Titanium wand & Platinum. ",null,null,null,{"$f":"SUM(G47)","v":0},null,{"$f":"IFERROR(IFERROR(VLOOKUP(E48,Surcharge!A:B,2,FALSE)*G48, VLOOKUP(E48 & \"\",Surcharge!A:B,2,FALSE)*G48), \"\")","v":""}]
[null,null,"ETL-certified to UL & CSA Standards. ",null,null,null,{"$f":"SUM(G48)","v":0},null,{"$f":"IFERROR(IFERROR(VLOOKUP(E49,Surcharge!A:B,2,FALSE)*G49, VLOOKUP(E49 & \"\",Surcharge!A:B,2,FALSE)*G49), \"\")","v":""}]
[null,null,"Boxed Dimensions:  28.5in x 38in x 55in    724mm x 965mm x 1397mm",null,null,null,{"$f":"SUM(G49)","v":0},null,{"$f":"IFERROR(IFERROR(VLOOKUP(E50,Surcharge!A:B,2,FALSE)*G50, VLOOKUP(E50 & \"\",Surcharge!A:B,2,FALSE)*G50), \"\")","v":""}]
[null,null,"Shipping Weight:  185lb/84kg",null,null,null,{"$f":"SUM(G50)","v":0},null,{"$f":"IFERROR(IFERROR(VLOOKUP(E51,Surcharge!A:B,2,FALSE)*G51, VLOOKUP(E51 & \"\",Surcharge!A:B,2,FALSE)*G51), \"\")","v":""}]
[null,null,null,null,null,null,null,null,{"$f":"IFERROR(IFERROR(VLOOKUP(E52,Surcharge!A:B,2,FALSE)*G52, VLOOKUP(E52 & \"\",Surcharge!A:B,2,FALSE)*G52), \"\")","v":""}]
[null,null,null,null,null,null,null,null,{"$f":"IFERROR(IFERROR(VLOOKUP(E53,Surcharge!A:B,2,FALSE)*G53, VLOOKUP(E53 & \"\",Surcharge!A:B,2,FALSE)*G53), \"\")","v":""}]
[null,null," EC2 Canister Extractor",null,null,null,{"$f":"SUM(G60:G61)","v":0},null,{"$f":"IFERROR(IFERROR(VLOOKUP(E54,Surcharge!A:B,2,FALSE)*G54, VLOOKUP(E54 & \"\",Surcharge!A:B,2,FALSE)*G54), \"\")","v":""}]
[null,null,"15 gal. capacity, 220 psi, 13\" (330mm) Stainless Steel or Titanium Carpet wand with 2 Unijets, 15-ft. (XXm) vacuum and solution hoses, 40 ft (12.2m) Hospital Grade safety yellow electrical cord (single 15A cord). \nHand tool sold separately. CRI certified, Gold Cleaning Performance",null,null,null,{"$f":"SUM(G54)","v":0},null,{"$f":"IFERROR(IFERROR(VLOOKUP(E55,Surcharge!A:B,2,FALSE)*G55, VLOOKUP(E55 & \"\",Surcharge!A:B,2,FALSE)*G55), \"\")","v":""}]
[null,null,"ETL-certified to UL & CSA Standards. ",null,null,null,{"$f":"SUM(G55)","v":0},null,{"$f":"IFERROR(IFERROR(VLOOKUP(E56,Surcharge!A:B,2,FALSE)*G56, VLOOKUP(E56 & \"\",Surcharge!A:B,2,FALSE)*G56), \"\")","v":""}]
[null,null,"Boxed Dimensions:  28.5in x 38in x 55in   724mm x 965mm x 1397mm",null,null,null,{"$f":"SUM(G56)","v":0},null,{"$f":"IFERROR(IFERROR(VLOOKUP(E57,Surcharge!A:B,2,FALSE)*G57, VLOOKUP(E57 & \"\",Surcharge!A:B,2,FALSE)*G57), \"\")","v":""}]
[null,null,"Shipping Weight:   160lbs/72.5kg",null,null,null,{"$f":"SUM(G57)","v":0},null,{"$f":"IFERROR(IFERROR(VLOOKUP(E58,Surcharge!A:B,2,FALSE)*G58, VLOOKUP(E58 & \"\",Surcharge!A:B,2,FALSE)*G58), \"\")","v":""}]
[null,null,null,null,null,null,{"$f":"SUM(G60:G61)","v":0},null,{"$f":"IFERROR(IFERROR(VLOOKUP(E59,Surcharge!A:B,2,FALSE)*G59, VLOOKUP(E59 & \"\",Surcharge!A:B,2,FALSE)*G59), \"\")","v":""}]
[null,null,"EC2, 220 psi (15.2 bar) Canister Extractor w/ Stainless Steel carpet wand and vacuum and solution hoses",null,9011638,5682,null,{"$f":"G60*F60","v":0},{"$f":"IFERROR(IFERROR(VLOOKUP(E60,Surcharge!A:B,2,FALSE)*G60, VLOOKUP(E60 & \"\",Surcharge!A:B,2,FALSE)*G60), \"\")","v":""},null,null,null,null,null,null,null,null,{"$f":"VLOOKUP(E60,'MPF SAP Download PreConfigured'!C:E,3,FALSE)","v":5682}]
[null,null,"EC2, 220 psi (15.2 bar) Canister Extractor w/ High Airflow Titanium carpet wand and vacuum and solution hoses",null,9012278,6116,null,{"$f":"G61*F61","v":0},{"$f":"IFERROR(IFERROR(VLOOKUP(E61,Surcharge!A:B,2,FALSE)*G61, VLOOKUP(E61 & \"\",Surcharge!A:B,2,FALSE)*G61), \"\")","v":""},null,null,null,null,null,null,null,null,{"$f":"VLOOKUP(E61,'MPF SAP Download PreConfigured'!C:E,3,FALSE)","v":6116}]
[null,null,null,null,null,null,null,null,{"$f":"IFERROR(IFERROR(VLOOKUP(E62,Surcharge!A:B,2,FALSE)*G62, VLOOKUP(E62 & \"\",Surcharge!A:B,2,FALSE)*G62), \"\")","v":""}]
[null,null,null,null,null,null,null,null,{"$f":"IFERROR(IFERROR(VLOOKUP(E63,Surcharge!A:B,2,FALSE)*G63, VLOOKUP(E63 & \"\",Surcharge!A:B,2,FALSE)*G63), \"\")","v":""}]
[null,null,null,null,null,null,{"$f":"SUM(#REF!)","v":{"$error":"#REF!"}},null,{"$f":"IFERROR(IFERROR(VLOOKUP(E64,Surcharge!A:B,2,FALSE)*G64, VLOOKUP(E64 & \"\",Surcharge!A:B,2,FALSE)*G64), \"\")","v":""}]
[null,null,null,null,null,null,null,null,{"$f":"IFERROR(IFERROR(VLOOKUP(E65,Surcharge!A:B,2,FALSE)*G65, VLOOKUP(E65 & \"\",Surcharge!A:B,2,FALSE)*G65), \"\")","v":""}]
[null,null,null,null,null,{"$f":"ROUND(SUM(H29:H65), 0)","v":0},{"$f":"SUM(F67)","v":0}]
[null,null,null,null,"Machine Subtotal ",{"$f":"ROUND(SUM(H29:H65), 0)","v":0},{"$f":"G66","v":0}]
[null,"Discounts",null,null,null,null,{"$f":"SUM(G69)","v":0}]
[null,null,null,null,null,null,{"$f":"SUM(G70:G71)","v":0}]
[null,null,null,null,"Discount %",null,{"$f":"IF(F70 <> \"\", 1, 0)","v":0},{"$f":"IF(G70*(F70*0.01)*F66 < 0, G70*(F70*0.01)*F66, -(G70*(F70*0.01)*F66))","v":0}]
[null,null,null,null,"Discount $",null,{"$f":"IF(F71 <> \"\", 1, 0)","v":0},{"$f":"IF(G71*F71 < 0, G71*F71, -(G71*F71))","v":0}]
[null,null,null,null,"Discount Total ",{"$f":"SUM(H70:H71)","v":0},{"$f":"SUM(F72)","v":0}]
[null,null,null,null,null,{"$f":"#REF!","v":{"$error":"#REF!"}},{"$f":"#REF!","v":{"$error":"#REF!"}}]
[null,null,null,null,null,null,{"$f":"G73","v":{"$error":"#REF!"}}]
[null,null,"Prepaid and Add",null,"Freight",null,{"$f":"IF(F75 <> \"\", 1, 0)","v":0},{"$f":"G75*F75","v":0}]
[null,null,"Subject to all applicable taxes",null,"Tax",null,0,{"$f":"G76*F76","v":0}]
[null,null,null,null,null,null,{"$f":"SUM(G78)","v":0}]
[null,null,null,null,"MACHINE TOTAL*",null,{"$f":"SUM(H78)","v":0},{"$f":"SUM(H29:H76)","v":0},null,null,null,null,"This goes to \"My Documents\""]
[null,null,null,null,null,null,null,{"$f":"SUM(H78)","v":0}]
[null,"Financing"]
[]
[null,null,"Is customer interested in financing?","Yes"]
[]
[null,null,"If not, why?"]
[]
[]
[null,null,"First Western Equipment Finance - Leasing Calculation Option:",null,"Option 1",null,"Option 2",null,null,{"$f":"Financing!A38","v":"Rates 2025 - Rev. 5/6/2025"}]
[null,null,null,null,"Monthly Payment","Cost Per Day","Monthly Payment","Cost Per Day",null,{"$f":"Financing!A39","v":"“Blank Payment Amounts Indicate The Financing Option Or Purchase Options Selected Are Not "}]
[null,null,"Purchase Option:",null,"FWEF:  $1 Buyout Lease",null,"FWEF: Municipal Lease",null,null,{"$f":"Financing!A40","v":"Applicable Or The Machine Total Is Below The Minimum Amount For The Selected Vendor”"}]
[null,null,"24 Months",null,0,0,0,0,null,{"$f":"Financing!A41","v":"\"Quoted monthly payments are estimates only and are based on a certain level of credit rating."}]
[null,null,"30 Months",null,0,0,0,0,null,{"$f":"Financing!A42","v":"Actual monthly payments may be higher depending on your credit rating.\""}]
[null,null,"36 Months",null,0,0,0,0,null,{"$f":"Financing!A43","v":"“Financing rates do not include Pre-Paid Service”"}]
[null,null,"48 Months",null,0,0,0,0,null,{"$f":"Financing!A44","v":0}]
[]
[null,null,null,"Benefits of Equipment Financing:"]
[null,null,null,"• Spreads out investment over time.",null,"• Keep current with latest technology."]
[null,null,null,"• Preserve capital.",null,"• Service and parts bundling available."]
[null,null,null,"• Low monthly payment.",null,"• Pay for labor savings as you go."]
[]
[]
[null,null,"Bundled Offerings",null,"Flexclean – Fair Market Value",null,"Flexclean - $1 Buyout"]
[null,null,"FlexClean: ",null,"36 Month Term",null,"36 Month Term",null,null,"No","AB Brushes"]
[null,null,"Hours included per Month:",null,"Gold","Silver","Gold","Silver","Check"]
[null,null,"< 30/mo. (Avg. 1hr./day)",null,null,null,null,null,null,null,{"$f":"FlexCleanCalc!$A21","v":"“FlexClean monthly rates include payment for both machine and service.”"}]
[null,null,"< 60/mo. (Avg. 2hrs./day)"]
[null,null,"< 90/mo. (Avg. 3hrs./day)"]
[null,null,"*This value assumes one service contract regardless of the number of UNITS included in the quote"]
[]
[]
[null,null,"Bundled Offerings",null,"Flexclean – Fair Market Value",null,"Flexclean - $1 Buyout"]
[null,null,"FlexClean 2: ",null,"48 Month Term",null,"48 Month Term"]
[null,null,"Hours included per Month:",null,"Gold","Silver","Gold","Silver"]
[null,null,"< 30/mo. (Avg. 1hr./day)"]
[null,null,"< 60/mo. (Avg. 2hrs./day)"]
[null,null,"< 90/mo. (Avg. 3hrs./day)"]
[null,null,"*This value assumes one service contract regardless of the number of UNITS included in the quote"]
[]
[null,null,"Bundled Offerings",null,"Flexclean – Fair Market Value",null,"Flexclean - $1 Buyout"]
[null,null,"FlexClean 3: ",null,"60 Month Term",null,"60 Month Term"]
[null,null,"Hours included per Month:",null,"Gold","Silver","Gold","Silver"]
[null,null,"< 30/mo. (Avg. 1hr./day)"]
[null,null,"< 60/mo. (Avg. 2hrs./day)"]
[null,null,"< 90/mo. (Avg. 3hrs./day)"]
[null,null,"*This value assumes one service contract regardless of the number of UNITS included in the quote"]
[]
[null,"  TennantTrue",null,0]
[]
[null,null,"Is customer interested in service program?","Yes","*State/County selection required for TennantTrue service options"]
[]
[null,null,"If not, why?"]
[]
[null,null,"Term:",36,null,"AB Brushes","No"]
[null,null,"Monthly machine usage (hrs):","< 30/mo. (Avg. 1hr./day)"]
[]
[null,null,"TennantTrue: ","Gold Contract",null,"Silver Contract"]
[null,null,"Per Visit",null,null,336]
[null,null,"Monthly",112,null,56]
[null,null,"Annually",null,null,659]
[null,null,"Pre-Pay Full Term",3882,null,1936]
[null,null,"Hourly Labor Rate"]
[null,null,"Site Visit"]
[]
[null,null,"* Verify customer current pricing prior to quote. "]
[null,null,"**All rates and fees above reflect service for one (1) unit with the exception of Block of Time service."]
[null,null,"*Block of Time is available in 1 Year Term only and is priced as such no matter the term selection on this template."]
[]
[]
[]
[null,null,"Quote Special Instructions:"]
[]
[]
[null,null,{"$f":"Start_Here!E36","v":"Terms and Conditions"}]
[null,null,{"$f":"Start_Here!E37","v":"Ask your local sales rep for estimated lead times. Verify when placing order"}]
[null,null,{"$f":"Start_Here!E38","v":"All orders subject to acceptance by Tennant Sales and Service Company, Minneapolis, Minnesota"}]
[null,null,{"$f":"Start_Here!E39","v":"Prices subject to change without notice."}]
[null,null,{"$f":"Start_Here!E40","v":"Terms:  Net 30 days.  Subject to any applicable taxes."}]
[null,null,{"$f":"Start_Here!E41","v":"Freight: Machines and accessory orders delivered FOB shipping point Frt PPD & Add"}]
[null,null,{"$f":"Start_Here!E42","v":"Parts, supplies, detergents and floor treating material orders delivered FOB "}]
[null,null,{"$f":"Start_Here!E43","v":"shipping point Frt PPD"}]
[null,null,{"$f":"Start_Here!E44","v":"All orders are subject to Tennant’s General Terms and Conditions available at http://www.tennantco.com/terms."}]
[null,null,{"$f":"Start_Here!E45","v":"Printed General Terms and Conditions are also available upon request."}]
[null,null,{"$f":"Start_Here!E46","v":0}]
[]
[null,null,null,null,null,"Quote Date :",null,{"$f":"Letter!$A$25","v":"2020-09-22"}]
[null,"Order Placement Information:  To place your order, fill in PO# and customer signatures,"]
[null,"call or fax to the numbers listed below. Customer Purchase Order is required."]
[null,"If information is missing, orders will be entered and held until all information is received."]
[null,null,"Customer Number",null,"Cust Grp 3"]
[null,null,{"$f":"Start_Here!$C$25","v":0},null,{"$f":"Start_Here!$C$29","v":0}]
[null,null,{"$f":"Start_Here!$B$18","v":"Who Owns the Machine? (Sold-To Info) (Please Verify)"}]
["Company",null,{"$f":"Start_Here!$C$19","v":"Company Name"}]
["Address",null,{"$f":"Start_Here!$C$20","v":"Address"}]
[null,null,{"$f":"Start_Here!$C$21","v":"City, State Zip"}]
["Name",null,{"$f":"Start_Here!$C$22","v":"Contact Name"}]
["Phone",null,{"$f":"Start_Here!$C$23","v":"Contact Phone"}]
[null,null,{"$f":"Start_Here!$B$11","v":"Where is the Machine Being Shipped? (Ship-To Info) (Please Verify)"}]
["Company",null,{"$f":"Start_Here!$C$12","v":"Company Name"}]
["Address",null,{"$f":"Start_Here!$C$13","v":"Address"}]
[null,null,{"$f":"Start_Here!$C$14","v":"City, State Zip"}]
["Name",null,{"$f":"Start_Here!$C$15","v":"Contact Name"}]
["Phone",null,{"$f":"Start_Here!$C$16","v":"Contact Phone"}]
[null,null,{"$f":"Start_Here!$B$31","v":"Shipping / Carrier Instructions:"},null,"Order Special Instructions:"]
[null,null,{"$f":"Start_Here!$C$32","v":0}]
[]
[null,null,"Customer Purchase Order No."]
[null,null,"(please attach copy)"]
[]
[]
[null,null,"Tax Exempt",null,"Yes"]
[null,null,null,null,"No"]
[null,null,"If Yes, attach a copy of your exemption certificate."]
[]
[null,null,"Requested Delivery Date"]
[null,null,{"$f":"Start_Here!$C$28","v":0}]
[]
[null,null,{"$f":"Start_Here!$C$26","v":0},null,{"$f":"Start_Here!$C$27","v":0}]
[null,0,"Authorized Buyer (please print)",null,"Phone Number"]
[]
[]
[null,0,"Authorized Buyer Signature"]
[]
[null,null,{"$f":"Start_Here!$C$41","v":"Rep Name"}]
[null,null,"Tennant Representative"]
[]
[]
["Specialized Maintenance Equipment"]
[{"$f":"Start_Here!$C$47","v":0}]
[{"$f":"Start_Here!$C$48","v":"TENNANT · 10400 Clean Street · Eden Prairie, MN 55344 ·"}]

{"sheet":"MPF SAP Download (2)","index":10,"n_rows":2653,"n_cols":7,"rows_kept":2653,"cut":false,"hidden":true,"merged":[]}
["Master Price File (MPF) - Products with Variant Numbers (VKs)"]
[]
["Download Date:",null,"2024-10-15"]
["Price Adj Effective Date:",null,"2025-01-01","Next steps - Write steps to update."]
["Table name =",null,"MPF_Table"]
[]
["Material + Variant Lookup Key","PL","Material","Variant","2025 List","Material Description","PH"]
[{"$f":"C8&D8","v":"M-3640VK_PWRVACWND_AWK"},"01","M-3640","VK_PWRVACWND_AWK",331,"Accessory Wand Kit","302406"]
["M-3640VK_SDEBRSLOC_D","01","M-3640","VK_SDEBRSLOC_D",940,"Side Brush: Dual","302406"]
["M-3640VK_DSTCTLFLR_PFB","01","M-3640","VK_DSTCTLFLR_PFB",-560,"Paper Filter Bag","302406"]
["M-3640VK_ULERTG_E","01","M-3640","VK_ULERTG_E","N/C","UL® Type E","302406"]
["M-3640VK_CARCLNEQUPKG_ERT","01","M-3640","VK_CARCLNEQUPKG_ERT",648,"Carp Clean Eqp Ext","302406"]
["M-3640VK_BTY_WO","01","M-3640","VK_BTY_WO",-262,"Without Battery","302406"]
["M-3640VK_BASE_3640-BTY","01","M-3640","VK_BASE_3640-BTY",17429,"3640-E","302406"]
["M-3640VK_BTYWTRSYS","01","M-3640","VK_BTYWTRSYS",631,"Battery Watering Sys","302406"]
["M-3640VK_UL TYPE EE","01","M-3640","VK_UL TYPE EE",2836,"UL® Type EE","302406"]
["M-3640VK_UL TYPE E","01","M-3640","VK_UL TYPE E","N/C","UL® Type E","302406"]
["M-3640VK_PWRVACWND_WO","01","M-3640","VK_PWRVACWND_WO","N/C","Pump w/o WandPump","302406"]
["M-3640VK_PKG_SSKD_USCAMX","01","M-3640","VK_PKG_SSKD_USCAMX",496,"Skid-Cart,Stack","302406"]
["M-3640VK_CLNTOL_PYP","01","M-3640","VK_CLNTOL_PYP","N/C","Poly Brush","302406"]
["M-3640VK_ULERTG_EE","01","M-3640","VK_ULERTG_EE",2836,"UL® Type EE","302406"]
["M-3640VK_PARMNL","01","M-3640","VK_PARMNL",25,"Parts Manual","302406"]
["M-3640VK_PKG_SSKD","01","M-3640","VK_PKG_SSKD",496,"Stack Skid/Carton","302406"]
["M-3640VK_PKG_PAD","01","M-3640","VK_PKG_PAD","N/C","Pad Wrap","302406"]
["M-3640VK_NONMKTTRE_WTP","01","M-3640","VK_NONMKTTRE_WTP",676,"Trs,WideTrackPneum.","302406"]
["M-3640VK_NONMKTTRE_BSR","01","M-3640","VK_NONMKTTRE_BSR","N/C","Tire Blk Sld Rubber","302406"]
["M-3640VK_HPRDMPAST","01","M-3640","VK_HPRDMPAST",209,"Hopper Dump Assist","302406"]
["M-3640VK_HEPFLR","01","M-3640","VK_HEPFLR",7216,"HEPA Filter","302406"]
["M-3640VK_EMYSTP","01","M-3640","VK_EMYSTP",346,"Emergency Stop","302406"]
["M-3640VK_DSTCTLFLR_PFLR","01","M-3640","VK_DSTCTLFLR_PFLR","N/C","Panel Filter Kit","302406"]
["M-3640VK_CLNTOL_UMB","01","M-3640","VK_CLNTOL_UMB","N/C","Union Mix Brush","302406"]
["M-3640VK_CLNTOL_SWB","01","M-3640","VK_CLNTOL_SWB","N/C","Sand Wedge Brush","302406"]
["M-3640VK_CLNTOL_PYPW","01","M-3640","VK_CLNTOL_PYPW","N/C","Poly & Wire Brush","302406"]
["M-3640VK_CHG_WO","01","M-3640","VK_CHG_WO",-138,"Without Charger","302406"]
["M-3640VK_CHG_19A100V5060H1","01","M-3640","VK_CHG_19A100V5060H1",186,"Ch19A 100V 5060H1P","302406"]
["M-3640VK_CHG_11A100V5060H1","01","M-3640","VK_CHG_11A100V5060H1","N/C","Ch11A 100V 5060H1P","302406"]
["M-3640VK_CARCLNEQUPKG_SRT","01","M-3640","VK_CARCLNEQUPKG_SRT",648,"Carp Clean Eqp Std","302406"]
["M-3640VK_BTY_W225C20","01","M-3640","VK_BTY_W225C20",511,"Bty Wet 225AH C20","302406"]
["M-3640VK_BTY_W130C20","01","M-3640","VK_BTY_W130C20","N/C","Bty Wet 130AH C20","302406"]
["M-3640VK_ADLOPRMNL","01","M-3640","VK_ADLOPRMNL",101,"Add Operator Manual","302406"]
["M-3640VK_SRVMNL","01","M-3640","VK_SRVMNL",229,"Service Manual","302406"]
["M-3640VK_SDECLNTOL_PYP","01","M-3640","VK_SDECLNTOL_PYP","N/C","Side Poly Brush","302406"]
["M-3640VK_SDEBRSLOC_RH","01","M-3640","VK_SDEBRSLOC_RH","N/C","Side Brush: RH","302406"]
["M-3640VK_PWRVACWND_LW","01","M-3640","VK_PWRVACWND_LW","N/C","Live Wand","302406"]
["M-3640VK_PKG_WSKD","01","M-3640","VK_PKG_WSKD",336,"Skid w/Stretch Wrap","302406"]
["M-S10VK_CLNTOL_UMB","01","M-S10","VK_CLNTOL_UMB",223,"Union Mix Brush","302601"]
["M-S10VK_CHG_13A85V5060H1P_OFF","01","M-S10","VK_CHG_13A85V5060H1P_OFF","N/C","Ch13A 85V 50/60H Off","302601"]
["M-S10VK_ADLOPRMNL","01","M-S10","VK_ADLOPRMNL",63,"Add Operator Manual","302601"]
["M-S10VK_BTY_W130C20","01","M-S10","VK_BTY_W130C20",761,"Bty Wet 130AH C20","302601"]
["M-S10VK_CLNTOL_D430NYL_IC","01","M-S10","VK_CLNTOL_D430NYL_IC",317,"D430/17 Nyl Brush IC","302601"]
["M-S10VK_CHG_WO","01","M-S10","VK_CHG_WO","N/C","Without Charger","302601"]
["M-S10VK_BTY_A140C20","01","M-S10","VK_BTY_A140C20",2142,"Bty AGM 140AH C20","302601"]
["M-S10VK_BTY_WO","01","M-S10","VK_BTY_WO","N/C","Without Battery","302601"]
["M-S10VK_CLNTOL_PYP","01","M-S10","VK_CLNTOL_PYP","N/C","Poly Brush","302601"]
["M-S10VK_BASE_S10-BTY","01","M-S10","VK_BASE_S10-BTY",15970,"S10 BTY","302601"]
["M-S10VK_SDECLNTOL_PYP","01","M-S10","VK_SDECLNTOL_PYP","N/C","Side Poly Brush","302601"]
["M-S10VK_CLNTOL_NYL","01","M-S10","VK_CLNTOL_NYL",241,"Nylon Brush","302601"]
["M-S10VK_BTY_W110C5","01","M-S10","VK_BTY_W110C5","N/C","Bty Wet 110AH C5","302601"]
["M-S10VK_PKG_PAD","01","M-S10","VK_PKG_PAD","N/C","Pad Wrap","302601"]
["M-S10VK_CHG_13A85V5060H1P_ON","01","M-S10","VK_CHG_13A85V5060H1P_ON","N/C","Ch13A 85V 50/60Hz On","302601"]
["M-S10VK_PKG_SSKD","01","M-S10","VK_PKG_SSKD",432,"Stack Skid/Carton","302601"]
["M-S10VK_CLNTOL_FBWB","01","M-S10","VK_CLNTOL_FBWB","N/C","Fiber & Wire Brush","302601"]
["M-S10VK_FLRSYS_HEPA","01","M-S10","VK_FLRSYS_HEPA",5254,"HEPA Filter System","302601"]
["M-S10VK_CLNTOL_UMB18","01","M-S10","VK_CLNTOL_UMB18",289,"Union Mix, 18-row","302601"]
["M-S10VK_OPRVID","01","M-S10","VK_OPRVID","N/C","Operator Video","302601"]
["M-S10VK_SDECLNTOL_NYL","01","M-S10","VK_SDECLNTOL_NYL","N/C","Side Nylon Brush","302601"]
["M-S10VK_SRVMNL","01","M-S10","VK_SRVMNL",270,"Service Manual","302601"]
["M-S10VK_BASE_S10-BTY_STD","01","M-S10","VK_BASE_S10-BTY_STD",15970,"S10 Bty Sweeper - STD","302601"]
["M-S10VK_S10-B","01","M-S10","VK_S10-B",15970,"S10 Battery Swpr","302601"]
["M-S10VK_BTY_W150C20","01","M-S10","VK_BTY_W150C20",906,"Bty Wet 150AH C20","302601"]
["M-S10VK_CLNTOL_FBWB18","01","M-S10","VK_CLNTOL_FBWB18",334,"Fiber & Wire, 18-row","302601"]
[{"$f":"C72&D72","v":"M-6100VK_CLNTOL_PYPWIN"},"01","M-6100","VK_CLNTOL_PYPWIN","N/C","Poly Window Brush","303050"]
["M-6100VK_SDECLNTOL_PYP","01","M-6100","VK_SDECLNTOL_PYP","N/C","Side Poly Brush","303050"]
["M-6100VK_SDEBRSDSTCTL_D_RH","01","M-6100","VK_SDEBRSDSTCTL_D_RH",1246,"SideBrshDustCntrl Dry RH","303050"]
["M-6100VK_MOPTYP_BM","01","M-6100","VK_MOPTYP_BM","N/C","Blue Mop","303050"]
["M-6100VK_SRVMNL","01","M-6100","VK_SRVMNL",272,"Service Manual","303050"]
["M-6100VK_PARMNL","01","M-6100","VK_PARMNL",28,"Parts Manual","303050"]
["M-6100VK_STLCSENOTBTY_Y","01","M-6100","VK_STLCSENOTBTY_Y",506,"Steel Case","303050"]
["M-6100VK_MCHCOM","01","M-6100","VK_MCHCOM",1367,"IRIS Telemetry","303050"]
["M-6100VK_MOP","01","M-6100","VK_MOP",2450,"QuickMop","303050"]
["M-6100VK_FLRSYS_HEPA","01","M-6100","VK_FLRSYS_HEPA",6542,"HEPA Filter System","303050"]
["M-6100VK_CHG_WO","01","M-6100","VK_CHG_WO",-321,"Without Charger","303050"]
["M-6100VK_WRNLGTANDALM_AU","01","M-6100","VK_WRNLGTANDALM_AU",577,"Audio BU Alarm","303050"]
["M-6100VK_SLADSTFLTPKG_D","01","M-6100","VK_SLADSTFLTPKG_D",8445,"HEPA Dust Filter Pkg: Dual","303050"]
["M-6100VK_BTYCRT_1","01","M-6100","VK_BTYCRT_1",2607,"Battery Cart","303050"]
["M-6100VK_ALTSTBFLSLNS_R","01","M-6100","VK_ALTSTBFLSLNS_R","N/C","Alternate Lens-Red","303050"]
["M-6100VK_21A85V5060H1P_G180","01","M-6100","VK_21A85V5060H1P_G180",481,"Ch21A 85V 5060H1P","303050"]
["M-6100VK_SDEBRSLOC_D_NC","01","M-6100","VK_SDEBRSLOC_D_NC","N/C","Side Brush: Dual","303050"]
["M-6100VK_SDEBRSDSTCTL_D_RH_NC","01","M-6100","VK_SDEBRSDSTCTL_D_RH_NC","N/C","SideBrshDustCntrl Dry RH","303050"]
["M-6100VK_BASE_6100-B_STD","01","M-6100","VK_BASE_6100-B_STD",24171,"6100 Bty Standard Config","303050"]
["M-6100VK_WRKLGT","01","M-6100","VK_WRKLGT",435,"Work Light","303050"]
["M-6100VK_BTY_WO","01","M-6100","VK_BTY_WO",-496,"Without Battery","303050"]
["M-6100VK_BTYEXCSYS_RO","01","M-6100","VK_BTYEXCSYS_RO",1094,"Bty Rollout Sys.","303050"]
["M-6100VK_CSMSLN_CC","01","M-6100","VK_CSMSLN_CC",4404,"Custom Color","303050"]
["M-6100VK_STLCSENOTBTY","01","M-6100","VK_STLCSENOTBTY",506,"Steel Case","303050"]
["M-6100VK_PWRVACWND_VACWNDHP_ON","01","M-6100","VK_PWRVACWND_VACWNDHP_ON",5331,"Vacuum Wand HP","303050"]
["M-6100VK_BTY_W225C20","01","M-6100","VK_BTY_W225C20","N/C","Bty Wet 225AH C20","303050"]
["M-6100VK_PKG_PAD","01","M-6100","VK_PKG_PAD","N/C","Pad Wrap","303050"]
["M-6100VK_RERTRE_SR","01","M-6100","VK_RERTRE_SR","N/C","Trs Rear Solid Rbr","303050"]
["M-6100VK_SDEBRSLOC_D","01","M-6100","VK_SDEBRSLOC_D",1196,"Side Brush: Dual","303050"]
["M-6100VK_FLRSYS_HEPA_NC","01","M-6100","VK_FLRSYS_HEPA_NC","N/C","HEPA Filter System","303050"]
["M-6100VK_WRNLGTANDALM_AUSL","01","M-6100","VK_WRNLGTANDALM_AUSL",789,"AV BU AlrmStrobe Lnl","303050"]
["M-6100VK_FREEXT","01","M-6100","VK_FREEXT",235,"Fire Extinguisher","303050"]
["M-6100VK_SDECLNTOL_HDPYP","01","M-6100","VK_SDECLNTOL_HDPYP","N/C","Side HD Poly Brush","303050"]
["M-6100VK_21A85V5060H1P_G180_ON","01","M-6100","VK_21A85V5060H1P_G180_ON",1953,"Ch21A 85V 5060H1P","303050"]
["M-6100VK_SET_ADJFB","01","M-6100","VK_SET_ADJFB",171,"Adjustable Seat","303050"]
["M-6100VK_ALTSTBFLSLNS_B","01","M-6100","VK_ALTSTBFLSLNS_B","N/C","Alternate Lens-Blue","303050"]
["M-6100VK_CLNTOL_UMB","01","M-6100","VK_CLNTOL_UMB",295,"Union Mix Brush","303050"]
["M-6100VK_OPRVID","01","M-6100","VK_OPRVID","N/C","Operator Video","303050"]
["M-6100VK_PWRVACWND_VACWND_ON","01","M-6100","VK_PWRVACWND_VACWND_ON",5017,"Vacuum Wand","303050"]
["M-6100VK_CLNTOL_PYP","01","M-6100","VK_CLNTOL_PYP","N/C","Poly Brush","303050"]
["M-6100VK_CLNTOL_SWB","01","M-6100","VK_CLNTOL_SWB",295,"Sand Wedge Brush","303050"]
["M-6100VK_21A85V5060H1P","01","M-6100","VK_21A85V5060H1P","N/C","Ch21A 85V 5060H1P","303050"]
["M-6100VK_BTY_G180C20","01","M-6100","VK_BTY_G180C20",2833,"Bty Gel 180AH C20","303050"]
["M-6100VK_PKG_CRT","01","M-6100","VK_PKG_CRT",681,"Crate","303050"]
["M-6100VK_PKG_CRT_NC","01","M-6100","VK_PKG_CRT_NC","N/C","Crate","303050"]
["M-6100VK_21A85V5060H1P_W225_ON","01","M-6100","VK_21A85V5060H1P_W225_ON",2206,"Ch21A 85V 5060H1P","303050"]
["M-6100VK_WRNLGTANDALM_SL","01","M-6100","VK_WRNLGTANDALM_SL",565,"Strobe Light Lintel","303050"]
["M-6100VK_SDEBRSLOC_RH","01","M-6100","VK_SDEBRSLOC_RH","N/C","Side Brush: RH","303050"]
["M-6100VK_PKG_CRT_NO_CHG","01","M-6100","VK_PKG_CRT_NO_CHG","N/C","Crate No Charge","303050"]
["M-6100VK_SLADSTFLTPKG_RH","01","M-6100","VK_SLADSTFLTPKG_RH",7783,"HEPA Dust Filter Pkg: RH","303050"]
["M-6100VK_PWRVACWND_VACWND","01","M-6100","VK_PWRVACWND_VACWND",2017,"Vacuum Wand","303050"]
["M-6100VK_SDEBRSDSTCTL_D_D","01","M-6100","VK_SDEBRSDSTCTL_D_D",1909,"SideBrshDustCntrl Dry D","303050"]
["M-6100VK_BTYCRT_2","01","M-6100","VK_BTYCRT_2",5083,"Battery Cart 2","303050"]
["M-6100VK_UPG","01","M-6100","VK_UPG","N/C","UPG","303050"]
["M-6100VK_MOPTYP_NWM","01","M-6100","VK_MOPTYP_NWM","N/C","White Mop","303050"]
["M-6100VK_SDEBRSDSTCTL_D_D_NC","01","M-6100","VK_SDEBRSDSTCTL_D_D_NC","N/C","SideBrshDustCntrl Dry D","303050"]
["M-6100VK_CHG_21A85V5060H1_ONBD","01","M-6100","VK_CHG_21A85V5060H1_ONBD",2206,"Ch21A 85V 5060H1P","303050"]
["M-6100VK_ADLOPRMNL","01","M-6100","VK_ADLOPRMNL",209,"Add Operator Manual","303050"]
["M-6100VK_WTY_STD","01","M-6100","VK_WTY_STD","N/C","Warranty STD","303050"]
["M-6100VK_PKG_SKD_NO_CHG","01","M-6100","VK_PKG_SKD_NO_CHG","N/C","Skid","303050"]
["M-6100VK_ADLBTY_1","01","M-6100","VK_ADLBTY_1",1811,"Add. Bty","303050"]
["M-6100VK_PKG_SKD","01","M-6100","VK_PKG_SKD",357,"Skid","303050"]
["M-6100VK_WTY_XTD","01","M-6100","VK_WTY_XTD",2411,"Warranty Plus","303050"]
["M-6100VK_BTYWTRSYS","01","M-6100","VK_BTYWTRSYS",847,"Battery Watering Sys","303050"]
[{"$f":"C136&D136","v":"M-6100VK_CSMSBTPARKIT"},"01","M-6100","VK_CSMSBTPARKIT",6378,"Sunbelt -Parts Kit","303050"]
["M-6100VK_BLULGT","01","M-6100","VK_BLULGT",1128,"Blue Light","303050"]
["M-6100VK_PWRVACWND_VACWNDHP","01","M-6100","VK_PWRVACWND_VACWNDHP",2335,"Vacuum Wand HP","303050"]
["M-6100VK_SDEBMP","01","M-6100","VK_SDEBMP",223,"Side Bumper","303050"]
["M-6100VK_BASE_6100-BTY","01","M-6100","VK_BASE_6100-BTY",24171,"6100 Battery Sweeper","303050"]
["M-6100VK_RERTRE_SNM","01","M-6100","VK_RERTRE_SNM",371,"Trs Rear Solid NM","303050"]
["M-6100VK_SETBLT","01","M-6100","VK_SETBLT",175,"Seat Belt","303050"]
["M-6100VK_WAR_XTD","01","M-6100","VK_WAR_XTD",2411,"Warranty Plus","303050"]
["M-S680VK_CHG_27A85V5060H1P","01","M-S680","VK_CHG_27A85V5060H1P","N/C","CH27A 85-270V 5060H1P","303680"]
["M-S680VK_BTY_A245C20","01","M-S680","VK_BTY_A245C20",1190,"AGM 245AH C/20 Battery","303680"]
["M-S680VK_CLNTOL_PYPW","01","M-S680","VK_CLNTOL_PYPW","N/C","Poly & Wire Brush","303680"]
["M-S680VK_CLNTOL_PYP","01","M-S680","VK_CLNTOL_PYP","N/C","Poly Brush","303680"]
["M-S680VK_CHG_WO","01","M-S680","VK_CHG_WO",-270,"Without Charger","303680"]
["M-S680VK_BTY_WO","01","M-S680","VK_BTY_WO",-450,"Without Battery","303680"]
["M-S680VK_PKG_PAD","01","M-S680","VK_PKG_PAD","N/C","Pad Wrap","303680"]
["M-S680VK_BTY_W225C20","01","M-S680","VK_BTY_W225C20","N/C","Bty Wet 225AH C20","303680"]
["M-S680VK_PKG_SCNS","01","M-S680","VK_PKG_SCNS",595,"NonStack Skid/Carton","303680"]
["M-S680VK_REF_S680_1050","01","M-S680","VK_REF_S680_1050",17509,"S680 Battery Sweeper","303680"]
["M-S680VK_CARCREPKG","01","M-S680","VK_CARCREPKG",54,"Carpet Care Pkg","303680"]
["M-S680VK_CLNTOL_NFB","01","M-S680","VK_CLNTOL_NFB",177,"Natural Fiber Brush","303680"]
["M-S880VK_CLNTOL_PYPW","01","M-S880","VK_CLNTOL_PYPW","N/C","Poly & Wire Brush","303880"]
["M-S880VK_PKG_SCNS","01","M-S880","VK_PKG_SCNS",595,"NonStack Skid/Carton","303880"]
["M-S880VK_BTY_W225C20","01","M-S880","VK_BTY_W225C20","N/C","Bty Wet 225AH C20","303880"]
["M-S880VK_CHG_WO","01","M-S880","VK_CHG_WO",-270,"Without Charger","303880"]
["M-S880VK_BTY_WO","01","M-S880","VK_BTY_WO",-450,"Without Battery","303880"]
["M-S880VK_REF_S880_1200","01","M-S880","VK_REF_S880_1200",24497,"S880 Battery Sweeper","303880"]
["M-S880VK_CLNTOL_PYP","01","M-S880","VK_CLNTOL_PYP","N/C","Poly Brush","303880"]
["M-S880VK_CLNTOL_NFB","01","M-S880","VK_CLNTOL_NFB",182,"Natural Fiber Brush","303880"]
["M-S880VK_CHG_27A85V5060H1P","01","M-S880","VK_CHG_27A85V5060H1P","N/C","CH27A 85-270V 5060H1P","303880"]
["M-S880VK_BTY_A245C20","01","M-S880","VK_BTY_A245C20",1190,"AGM 245AH C/20 Battery","303880"]
["M-S16HVK_PKG_PAD","01","M-S16H","VK_PKG_PAD","N/C","Pad Wrap","304007"]
["M-S16HVK_ADLOPRMNL","01","M-S16H","VK_ADLOPRMNL",209,"Add Operator Manual","304007"]
["M-S16HVK_BLULGT_NC","01","M-S16H","VK_BLULGT_NC","N/C","Blue Light","304007"]
["M-S16HVK_CHG_25A100V5060H1ON","01","M-S16H","VK_CHG_25A100V5060H1ON",906,"Ch25A 100V 50/60Hz 1Ph On","304007"]
["M-S16HVK_PKG_SKD","01","M-S16H","VK_PKG_SKD",509,"Skid","304007"]
["M-S16HVK_CLNTOL_PYPWIN","01","M-S16H","VK_CLNTOL_PYPWIN",252,"Poly Window Brush","304007"]
["M-S16HVK_SDEBRSLOC_D","01","M-S16H","VK_SDEBRSLOC_D",1196,"Side Brush: Dual","304007"]
["M-S16HVK_BASE_S16H_STD","01","M-S16H","VK_BASE_S16H_STD",41847,"S16 High Dump - STD","304007"]
["M-S16HVK_SDECLNTOL_PYP","01","M-S16H","VK_SDECLNTOL_PYP","N/C","Side Poly Brush","304007"]
["M-S16HVK_BASE_S16H","01","M-S16H","VK_BASE_S16H",41847,"Sweeper S16 High Dump","304007"]
["M-S16HVK_CARCREPKG","01","M-S16H","VK_CARCREPKG",710,"Carpet Care Pkg","304007"]
["M-S16HVK_SET_DLXW","01","M-S16H","VK_SET_DLXW",625,"Deluxe Seat w/Armr.","304007"]
["M-S16HVK_OVHGRD","01","M-S16H","VK_OVHGRD",1800,"Overhead Guard","304007"]
["M-S16HVK_CLNTOL_PYPW","01","M-S16H","VK_CLNTOL_PYPW","N/C","Poly & Wire Brush","304007"]
["M-S16HVK_PRDPKG","01","M-S16H","VK_PRDPKG",3050,"Productivity Package","304007"]
["M-S16HVK_SDEBRSDSTCTL_D_RH","01","M-S16H","VK_SDEBRSDSTCTL_D_RH",1222,"SideBrshDustCntrl Dry RH","304007"]
["M-S16HVK_PKG_SCNS_NC","01","M-S16H","VK_PKG_SCNS_NC","N/C","NonStack Skid/Carton","304007"]
["M-S16HVK_CHG_33A100V5060H1POFF","01","M-S16H","VK_CHG_33A100V5060H1POFF",270,"Ch33A 100V 50/60Hz 1Ph Off","304007"]
["M-S16HVK_SDEBRSDSTCTL_D_D","01","M-S16H","VK_SDEBRSDSTCTL_D_D",1859,"SideBrshDustCntrl Dry D","304007"]
["M-S16HVK_MCHCOM_SBT","01","M-S16H","VK_MCHCOM_SBT",1367,"IRIS Telemetry","304007"]
["M-S16HVK_BTY_W360C20","01","M-S16H","VK_BTY_W360C20",1188,"Bty Wet 360AH C20","304007"]
["M-S16HVK_BTY_L36V2M","01","M-S16H","VK_BTY_L36V2M",8473,"Bty Li-Ion 36v, 4.1kWh","304007"]
["M-S16HVK_ULERTG_ES","01","M-S16H","VK_ULERTG_ES",3142,"UL® Type ES","304007"]
["M-S16HVK_FREEXT","01","M-S16H","VK_FREEXT",375,"Fire Extinguisher","304007"]
["M-S16HVK_BTY_L36V6M","01","M-S16H","VK_BTY_L36V6M",23343,"Bty Li-Ion 36v, 12.2kWh","304007"]
["M-S16HVK_SLADSTFLTPKG_D","01","M-S16H","VK_SLADSTFLTPKG_D",8707,"HEPA Dust Filter Pkg: Dual","304007"]
["M-S16HVK_SFYLGTPKG","01","M-S16H","VK_SFYLGTPKG",2389,"Safety Light Package","304007"]
["M-S16HVK_CLNTOL_SWB","01","M-S16H","VK_CLNTOL_SWB",252,"Sand Wedge Brush","304007"]
["M-S16HVK_WRNLGTANDALM_AUSL","01","M-S16H","VK_WRNLGTANDALM_AUSL",736,"AV BU AlrmStrobe Lnl","304007"]
["M-S16HVK_FLRSYS_HEPA","01","M-S16H","VK_FLRSYS_HEPA",6851,"HEPA Filter System","304007"]
["M-S16HVK_SLADSTFLTPKG_RH","01","M-S16H","VK_SLADSTFLTPKG_RH",8069,"HEPA Dust Filter Pkg: RH","304007"]
["M-S16HVK_SRVMNL","01","M-S16H","VK_SRVMNL",269,"Service Manual","304007"]
["M-S16HVK_PWRVACWND_VACWND","01","M-S16H","VK_PWRVACWND_VACWND",2017,"Vacuum Wand","304007"]
["M-S16HVK_BTYWTRSYS_SF","01","M-S16H","VK_BTYWTRSYS_SF",1261,"Smart Fill","304007"]
[{"$f":"C200&D200","v":"M-S16HVK_BTY_L36V4M"},"01","M-S16H","VK_BTY_L36V4M",16828,"Bty Li-Ion 36v, 8.2kWh","304007"]
["M-S16HVK_HLTANDTALLGT","01","M-S16H","VK_HLTANDTALLGT",656,"Headlghts/Tail Lghts","304007"]
["M-S16HVK_PKG_SCNS","01","M-S16H","VK_PKG_SCNS",777,"NonStack Skid/Carton","304007"]
["M-S16HVK_BTYWTRSYS_ML","01","M-S16H","VK_BTYWTRSYS_ML",821,"Battery Watering Manual","304007"]
["M-S16HVK_CHG_WO","01","M-S16H","VK_CHG_WO",-199,"Without Charger","304007"]
["M-S16HVK_BTY_WO","01","M-S16H","VK_BTY_WO",-495,"Without Battery","304007"]
["M-S16HVK_CLNTOL_PYP","01","M-S16H","VK_CLNTOL_PYP","N/C","Poly Brush","304007"]
["M-S16HVK_CHG_25A100V5060H1OFF","01","M-S16H","VK_CHG_25A100V5060H1OFF","N/C","Ch25A 100V 50/60Hz 1Ph Off","304007"]
["M-S16HVK_BLULGT","01","M-S16H","VK_BLULGT",1128,"Blue Light","304007"]
["M-S16HVK_CHG_33A100V5060H1PON","01","M-S16H","VK_CHG_33A100V5060H1PON",1172,"Ch33A 100V 50/60Hz 1Ph On","304007"]
["M-S16HVK_CLNTOL_NFB","01","M-S16H","VK_CLNTOL_NFB",252,"Natural Fiber Brush","304007"]
["M-S16HVK_CHG_33A100V5060H1PFLI","01","M-S16H","VK_CHG_33A100V5060H1PFLI",1172,"Ch33A 100V 50/60Hz 1Ph Off","304007"]
["M-S16HVK_BTY_W240C20","01","M-S16H","VK_BTY_W240C20","N/C","Bty Wet 240AH C20","304007"]
["M-S16HVK_MCHCOM","01","M-S16H","VK_MCHCOM",1367,"IRIS Telemetry","304007"]
["M-S16LVK_BTY_W360C20","01","M-S16L","VK_BTY_W360C20",1188,"Bty Wet 360AH C20","304008"]
["M-S16LVK_CLNTOL_NFB","01","M-S16L","VK_CLNTOL_NFB",252,"Natural Fiber Brush","304008"]
["M-S16LVK_SFYLGTPKG","01","M-S16L","VK_SFYLGTPKG",2389,"Safety Light Package","304008"]
["M-S16LVK_CLNTOL_PYPWIN","01","M-S16L","VK_CLNTOL_PYPWIN",252,"Poly Window Brush","304008"]
["M-S16LVK_BTY_L36V6M","01","M-S16L","VK_BTY_L36V6M",23343,"Bty Li-Ion 36v, 12.2kWh","304008"]
["M-S16LVK_SLADSTFLTPKG_D","01","M-S16L","VK_SLADSTFLTPKG_D",8707,"HEPA Dust Filter Pkg: Dual","304008"]
["M-S16LVK_OVHGRD","01","M-S16L","VK_OVHGRD",1800,"Overhead Guard","304008"]
["M-S16LVK_CHG_33A100V5060H1POFF","01","M-S16L","VK_CHG_33A100V5060H1POFF",270,"Ch33A 100V 50/60Hz 1Ph Off","304008"]
["M-S16LVK_CHG_25A100V5060H1ON","01","M-S16L","VK_CHG_25A100V5060H1ON",906,"Ch25A 100V 50/60Hz 1Ph On","304008"]
["M-S16LVK_SRVMNL","01","M-S16L","VK_SRVMNL",269,"Service Manual","304008"]
["M-S16LVK_SDEBRSLOC_D","01","M-S16L","VK_SDEBRSLOC_D",1196,"Side Brush: Dual","304008"]
["M-S16LVK_BTYWTRSYS_SF","01","M-S16L","VK_BTYWTRSYS_SF",1261,"Smart Fill","304008"]
["M-S16LVK_SDECLNTOL_PYP","01","M-S16L","VK_SDECLNTOL_PYP","N/C","Side Poly Brush","304008"]
["M-S16LVK_ULERTG_ES","01","M-S16L","VK_ULERTG_ES",3142,"UL® Type ES","304008"]
["M-S16LVK_CLNTOL_PYPW","01","M-S16L","VK_CLNTOL_PYPW","N/C","Poly & Wire Brush","304008"]
["M-S16LVK_SLADSTFLTPKG_RH","01","M-S16L","VK_SLADSTFLTPKG_RH",8069,"HEPA Dust Filter Pkg: RH","304008"]
["M-S16LVK_PKG_SKD","01","M-S16L","VK_PKG_SKD",509,"Skid","304008"]
["M-S16LVK_BTY_W240C20","01","M-S16L","VK_BTY_W240C20","N/C","Bty Wet 240AH C20","304008"]
["M-S16LVK_SET_DLXW","01","M-S16L","VK_SET_DLXW",625,"Deluxe Seat w/Armr.","304008"]
["M-S16LVK_BTYWTRSYS_ML","01","M-S16L","VK_BTYWTRSYS_ML",821,"Battery Watering Manual","304008"]
["M-S16LVK_CHG_33A100V5060H1PON","01","M-S16L","VK_CHG_33A100V5060H1PON",1172,"Ch33A 100V 50/60Hz 1Ph On","304008"]
["M-S16LVK_FLRSYS_HEPA","01","M-S16L","VK_FLRSYS_HEPA",6851,"HEPA Filter System","304008"]
["M-S16LVK_PKG_PAD","01","M-S16L","VK_PKG_PAD","N/C","Pad Wrap","304008"]
["M-S16LVK_BTY_L36V4M","01","M-S16L","VK_BTY_L36V4M",16828,"Bty Li-Ion 36v, 8.2kWh","304008"]
["M-S16LVK_FREEXT","01","M-S16L","VK_FREEXT",375,"Fire Extinguisher","304008"]
["M-S16LVK_ADLOPRMNL","01","M-S16L","VK_ADLOPRMNL",209,"Add Operator Manual","304008"]
["M-S16LVK_BLULGT","01","M-S16L","VK_BLULGT",1128,"Blue Light","304008"]
["M-S16LVK_CLNTOL_PYP","01","M-S16L","VK_CLNTOL_PYP","N/C","Poly Brush","304008"]
["M-S16LVK_CLNTOL_SWB","01","M-S16L","VK_CLNTOL_SWB",252,"Sand Wedge Brush","304008"]
["M-S16LVK_BLULGT_NC","01","M-S16L","VK_BLULGT_NC","N/C","Blue Light","304008"]
["M-S16LVK_PKG_SCNS_NC","01","M-S16L","VK_PKG_SCNS_NC","N/C","NonStack Skid/Carton","304008"]
["M-S16LVK_SDEBRSDSTCTL_D_RH","01","M-S16L","VK_SDEBRSDSTCTL_D_RH",1222,"SideBrshDustCntrl Dry RH","304008"]
["M-S16LVK_CHG_33A100V5060H1PFLI","01","M-S16L","VK_CHG_33A100V5060H1PFLI",1172,"Ch33A 100V 50/60Hz 1Ph Off","304008"]
["M-S16LVK_RMVHPRBIN","01","M-S16L","VK_RMVHPRBIN",710,"Removable Hopper Bins","304008"]
["M-S16LVK_PWRVACWND_VACWND","01","M-S16L","VK_PWRVACWND_VACWND",2017,"Vacuum Wand","304008"]
["M-S16LVK_WRNLGTANDALM_AUSL","01","M-S16L","VK_WRNLGTANDALM_AUSL",736,"AV BU AlrmStrobe Lnl","304008"]
["M-S16LVK_HLTANDTALLGT","01","M-S16L","VK_HLTANDTALLGT",656,"Headlghts/Tail Lghts","304008"]
["M-S16LVK_PRDPKG","01","M-S16L","VK_PRDPKG",3050,"Productivity Package","304008"]
["M-S16LVK_BTY_L36V2M","01","M-S16L","VK_BTY_L36V2M",8473,"Bty Li-Ion 36v, 4.1kWh","304008"]
["M-S16LVK_SDEBRSDSTCTL_D_D","01","M-S16L","VK_SDEBRSDSTCTL_D_D",1859,"SideBrshDustCntrl Dry D","304008"]
["M-S16LVK_CARCREPKG","01","M-S16L","VK_CARCREPKG",710,"Carpet Care Pkg","304008"]
["M-S16LVK_CHG_WO","01","M-S16L","VK_CHG_WO",-199,"Without Charger","304008"]
["M-S16LVK_BTY_WO","01","M-S16L","VK_BTY_WO",-495,"Without Battery","304008"]
["M-S16LVK_BASE_S16L_STD","01","M-S16L","VK_BASE_S16L_STD",33534,"S16 Low Dump - STD","304008"]
["M-S16LVK_BASE_S16L","01","M-S16L","VK_BASE_S16L",33534,"Sweeper S16 Low Dump","304008"]
["M-S16LVK_PKG_SCNS","01","M-S16L","VK_PKG_SCNS",777,"NonStack Skid/Carton","304008"]
["M-S16LVK_CHG_25A100V5060H1OFF","01","M-S16L","VK_CHG_25A100V5060H1OFF","N/C","Ch25A 100V 50/60Hz 1Ph Off","304008"]
["M-S20VK_CSMFRMLFTLUG_SD","01","M-S20","VK_CSMFRMLFTLUG_SD",1663,"Frame Lifting Lugs-Side","304053"]
["M-S20VK_MCHCOM_SBT","01","M-S20","VK_MCHCOM_SBT",1367,"IRIS Telemetry","304053"]
["M-S20VK_CSMSBTDCL_GT","01","M-S20","VK_CSMSBTDCL_GT",167,"Sunbelt-GenTool Dcl","304053"]
[{"$f":"C264&D264","v":"M-S20VK_CLMCTL_G_L"},"01","M-S20","VK_CLMCTL_G_L",3546,"Heater","304053"]
["M-S20VK_AVFC/O_GLD_YNSCWO","01","M-S20","VK_AVFC/O_GLD_YNSCWO",1004,"AV BU AlarmFlash Cab","304053"]
["M-S20VK_STBFLSLNS_R","01","M-S20","VK_STBFLSLNS_R","N/C","Alt.StrobeLns Red","304053"]
["M-S20VK_SDEBRSDSTCTL_D_RH","01","M-S20","VK_SDEBRSDSTCTL_D_RH",1209,"SideBrshDustCntrl Dry RH","304053"]
["M-S20VK_SRVMNL_BAT","01","M-S20","VK_SRVMNL_BAT",269,"Service Manual","304053"]
["M-S20VK_CHG_80A200V5060H1P","01","M-S20","VK_CHG_80A200V5060H1P",3487,"Ch80A 200V 5060H1P","304053"]
["M-S20VK_PKG_SCNS","01","M-S20","VK_PKG_SCNS",516,"NonStack Skid/Carton","304053"]
["M-S20VK_PWRVACWND_VACWND","01","M-S20","VK_PWRVACWND_VACWND",1297,"Vacuum Wand","304053"]
["M-S20VK_PRDPKG_BAT","01","M-S20","VK_PRDPKG_BAT",4039,"Productivity Pkg","304053"]
["M-S20VK_CLNTOL_UMB","01","M-S20","VK_CLNTOL_UMB",277,"Union Mix Brush","304053"]
["M-S20VK_BASE_S20-GAS","01","M-S20","VK_BASE_S20-GAS",50302,"S20-GAS","304053"]
["M-S20VK_CLNTOL_PYS","01","M-S20","VK_CLNTOL_PYS","N/C","Polyester Brush","304053"]
["M-S20VK_S20-LP","01","M-S20","VK_S20-LP",50302,"S20 LPG","304053"]
["M-S20VK_SDEBRSDSTCTL_D_RH_NC","01","M-S20","VK_SDEBRSDSTCTL_D_RH_NC","N/C","SideBrshDustCntrl Dry RH","304053"]
["M-S20VK_PKG_CRT_NO_CHG","01","M-S20","VK_PKG_CRT_NO_CHG","N/C","Crate No Charge","304053"]
["M-S20VK_SDEBRSDSTCTL_W_RH","01","M-S20","VK_SDEBRSDSTCTL_W_RH",3622,"SideBrshDustCntrl Wet RH","304053"]
["M-S20VK_SRVMNL","01","M-S20","VK_SRVMNL","N/C","Service Manual","304053"]
["M-S20VK_SETBLT","01","M-S20","VK_SETBLT",162,"Seat Belt","304053"]
["M-S20VK_OTDEQU_PKG","01","M-S20","VK_OTDEQU_PKG",2401,"Outdoor Equipm.Pkg","304053"]
["M-S20VK_LPGTNK_E","01","M-S20","VK_LPGTNK_E","N/C","LPG Tank Empty","304053"]
["M-S20VK_CLMCTL_D","01","M-S20","VK_CLMCTL_D",3546,"Heater","304053"]
["M-S20VK_RERTRE_SRST","01","M-S20","VK_RERTRE_SRST",351,"Trs Rear Solid Soft","304053"]
["M-S20VK_BLULGT","01","M-S20","VK_BLULGT",1187,"Blue Light","304053"]
["M-S20VK_WCHHOK","01","M-S20","VK_WCHHOK",631,"Winch Hook","304053"]
["M-S20VK_CHG_60A240V5060H3","01","M-S20","VK_CHG_60A240V5060H3",3004,"Ch60A 240V 5060H3P","304053"]
["M-S20VK_CSMSLN_CC","01","M-S20","VK_CSMSLN_CC",4909,"Custom Color","304053"]
["M-S20VK_MCHCOM","01","M-S20","VK_MCHCOM",1367,"IRIS Telemetry","304053"]
["M-S20VK_BASE_S20-GAS_STD","01","M-S20","VK_BASE_S20-GAS_STD",50302,"S20 Gasoline Std Config","304053"]
["M-S20VK_SDECLNTOL_PYP","01","M-S20","VK_SDECLNTOL_PYP","N/C","Side Poly Brush","304053"]
["M-S20VK_SDEBRSDSTCTL_D_D","01","M-S20","VK_SDEBRSDSTCTL_D_D",1859,"SideBrshDustCntrl Dry D","304053"]
["M-S20VK_SDEBRSDSTCTL_W_D","01","M-S20","VK_SDEBRSDSTCTL_W_D",4271,"SideBrshDustCntrl Wet D","304053"]
["M-S20VK_SBTPARKIT","01","M-S20","VK_SBTPARKIT",1471,"Sunbelt Parts Kit","304053"]
["M-S20VK_SLADSTFLTPKG_D","01","M-S20","VK_SLADSTFLTPKG_D",9000,"HEPA Dust Filter Pkg: Dual","304053"]
["M-S20VK_WTY_XTD","01","M-S20","VK_WTY_XTD","N/C","Warranty Plus","304053"]
["M-S20VK_ULERTG_D","01","M-S20","VK_ULERTG_D","N/C","UL® Type D","304053"]
["M-S20VK_OTDSFY_PKG","01","M-S20","VK_OTDSFY_PKG",3436,"Outdoor Safety Pkg","304053"]
["M-S20VK_AVFO/C_B_YNSCWO","01","M-S20","VK_AVFO/C_B_YNSCWO",1004,"AV BU AlarmFlash OHG","304053"]
["M-S20VK_BASE_S20-DSL","01","M-S20","VK_BASE_S20-DSL",55803,"S20-DSL","304053"]
["M-S20VK_ULERTG_LPS","01","M-S20","VK_ULERTG_LPS",5601,"UL® Type LPS","304053"]
["M-S20VK_SDECLNTOL_NYL","01","M-S20","VK_SDECLNTOL_NYL","N/C","Side Nylon Brush","304053"]
["M-S20VK_AVSO/C_GLD_YNSCWO","01","M-S20","VK_AVSO/C_GLD_YNSCWO",1004,"AV BU AlarmStrobeOHG","304053"]
["M-S20VK_SLMVGVEHSGN","01","M-S20","VK_SLMVGVEHSGN",428,"Slow Moving Sign","304053"]
["M-S20VK_PKG_CRT","01","M-S20","VK_PKG_CRT",986,"Crate","304053"]
["M-S20VK_ULERTG_E","01","M-S20","VK_ULERTG_E","N/C","UL® Type E","304053"]
["M-S20VK_BTY_WO","01","M-S20","VK_BTY_WO","N/C","Without Battery","304053"]
["M-S20VK_FRMLFTLUG_SD","01","M-S20","VK_FRMLFTLUG_SD",1673,"Frame Lifting Lugs-Side","304053"]
["M-S20VK_SET_DLXW","01","M-S20","VK_SET_DLXW",736,"Deluxe Seat w/Armr.","304053"]
["M-S20VK_SDEBRSLOC_D","01","M-S20","VK_SDEBRSLOC_D",3345,"Side Brush: Dual","304053"]
["M-S20VK_BASE_S20-DSL_STD","01","M-S20","VK_BASE_S20-DSL_STD",55803,"S20 Diesel Std Config","304053"]
["M-S20VK_BASE_S20-BTY_STD","01","M-S20","VK_BASE_S20-BTY_STD",54337,"S20 Battery Std Config","304053"]
["M-S20VK_ADLOPRMNL","01","M-S20","VK_ADLOPRMNL",175,"Add Operator Manual","304053"]
["M-S20VK_SDECLNTOL_FWB","01","M-S20","VK_SDECLNTOL_FWB","N/C","Side Flat Wire","304053"]
["M-S20VK_CLNTOL_SWB","01","M-S20","VK_CLNTOL_SWB",277,"Sand Wedge Brush","304053"]
["M-S20VK_HVYDTYRERBMP","01","M-S20","VK_HVYDTYRERBMP",777,"Hvy Dty RearBmpr","304053"]
["M-S20VK_OVHGRD","01","M-S20","VK_OVHGRD",1797,"Overhead Guard","304053"]
["M-S20VK_ULERTG_ES","01","M-S20","VK_ULERTG_ES",4704,"UL® Type ES","304053"]
["M-S20VK_BASE_S20-LPG_STD","01","M-S20","VK_BASE_S20-LPG_STD",50302,"S20 LPG Std Config","304053"]
["M-S20VK_PKG_SKD_NO_CHG","01","M-S20","VK_PKG_SKD_NO_CHG","N/C","Skid","304053"]
["M-S20VK_PARMNL","01","M-S20","VK_PARMNL","N/C","Parts Manual","304053"]
["M-S20VK_RERTRE_SNM","01","M-S20","VK_RERTRE_SNM","N/C","Trs Rear Solid NM","304053"]
["M-S20VK_AVSE_B_YNWO","01","M-S20","VK_AVSE_B_YNWO",1004,"AV BU AlarmStrobeENG","304053"]
["M-S20VK_CHG_100A200V5060H3","01","M-S20","VK_CHG_100A200V5060H3",4171,"Ch100A 200V 5060H3P","304053"]
["M-S20VK_CAB_SC_B_N_ALM","01","M-S20","VK_CAB_SC_B_N_ALM",6437,"Cab Assy Soft Side","304053"]
["M-S20VK_UTLBSK","01","M-S20","VK_UTLBSK",251,"Utility Basket","304053"]
[{"$f":"C328&D328","v":"M-S20VK_PKG_SKD"},"01","M-S20","VK_PKG_SKD",509,"Skid","304053"]
["M-S20VK_AVSO/C_B_YNSCWO","01","M-S20","VK_AVSO/C_B_YNSCWO",1004,"AV BU AlarmStrobeOHG","304053"]
["M-S20VK_SDEBRSDSTCTL_D_D_NC","01","M-S20","VK_SDEBRSDSTCTL_D_D_NC","N/C","SideBrshDustCntrl Dry D","304053"]
["M-S20VK_BASE_S20-BTY","01","M-S20","VK_BASE_S20-BTY",54337,"S20-BTY","304053"]
["M-S20VK_BTY_W340C6","01","M-S20","VK_BTY_W340C6",4582,"Bty Wet 340AH C6","304053"]
["M-S20VK_BTY_W315C6","01","M-S20","VK_BTY_W315C6",2294,"Bty Wet 315AHC6","304053"]
["M-S20VK_HVYDTYFRTBMP","01","M-S20","VK_HVYDTYFRTBMP",973,"Hvy Dty Frnt Bumper","304053"]
["M-S20VK_AVFE_GLD_YNWO","01","M-S20","VK_AVFE_GLD_YNWO",1004,"AV BU AlarmFlash Eng","304053"]
["M-S20VK_BTY_W440C6","01","M-S20","VK_BTY_W440C6",6003,"Bty Wet 440 C6","304053"]
["M-S20VK_FRTTRE_PNER","01","M-S20","VK_FRTTRE_PNER",805,"Trs Frnt Pnmtc Rdl","304053"]
["M-S20VK_HGHRISAIRITK","01","M-S20","VK_HGHRISAIRITK",1060,"High Rise Air Intake","304053"]
["M-S20VK_LPGTNK_F","01","M-S20","VK_LPGTNK_F","N/C","LPG Tank Full","304053"]
["M-S20VK_FRTTRE_SRST","01","M-S20","VK_FRTTRE_SRST",595,"Frt Tire SolidSoft","304053"]
["M-S20VK_CAB_SC_IC_N_ALM","01","M-S20","VK_CAB_SC_IC_N_ALM",6437,"Cab Assy Soft Side","304053"]
["M-S20VK_AVSE_GLD_YNWO","01","M-S20","VK_AVSE_GLD_YNWO",1004,"AV BU AlarmStrobeENG","304053"]
["M-S20VK_CSMSLN_RTR","01","M-S20","VK_CSMSLN_RTR",633,"Rear Tow Ring","304053"]
["M-S20VK_AVFE_B_YNWO","01","M-S20","VK_AVFE_B_YNWO",1004,"AV BU AlarmFlash Eng","304053"]
["M-S20VK_SRVMNL_NOBAT","01","M-S20","VK_SRVMNL_NOBAT",269,"Service Manual","304053"]
["M-S20VK_TRNSIG","01","M-S20","VK_TRNSIG",2092,"Turn Signal","304053"]
["M-S20VK_WRNLGTANDALM_ST","01","M-S20","VK_WRNLGTANDALM_ST",796,"Strobe Light Tank","304053"]
["M-S20VK_CSMSLN_WPMP","01","M-S20","VK_CSMSLN_WPMP",234,"Weatherproof pouch","304053"]
["M-S20VK_ULERTG_G","01","M-S20","VK_ULERTG_G","N/C","UL® Type G","304053"]
["M-S20VK_CAB_SC_IC_N_WO","01","M-S20","VK_CAB_SC_IC_N_WO",6437,"Cab Assy Soft Side","304053"]
["M-S20VK_FLRSYS_HEPA","01","M-S20","VK_FLRSYS_HEPA",7162,"HEPA Filter System","304053"]
["M-S20VK_CHG_60A240V5060H1","01","M-S20","VK_CHG_60A240V5060H1",2602,"Ch60A 240V 5060H1P","304053"]
["M-S20VK_BTY_W420C20","01","M-S20","VK_BTY_W420C20",2294,"Bty Wet 420AHC20","304053"]
["M-S20VK_DATPKG_HO","01","M-S20","VK_DATPKG_HO",1555,"Hardware Only","304053"]
["M-S20VK_S20-B","01","M-S20","VK_S20-B",54337,"S20 Battery","304053"]
["M-S20VK_CAB_SC_B_N_WO","01","M-S20","VK_CAB_SC_B_N_WO",6437,"Cab Assy Soft Side","304053"]
["M-S20VK_BTY_W360C20","01","M-S20","VK_BTY_W360C20","N/C","Bty Wet 360AH C20","304053"]
["M-S20VK_BASE_S20-LPG","01","M-S20","VK_BASE_S20-LPG",50302,"S20-LPG","304053"]
["M-S20VK_S20-G","01","M-S20","VK_S20-G",50302,"S20 Gasoline","304053"]
["M-S20VK_WPFMNLPCH","01","M-S20","VK_WPFMNLPCH",234,"Weatherproof Manual Pouch","304053"]
["M-S20VK_S20-DSL","01","M-S20","VK_S20-DSL",55803,"S20 Diesel","304053"]
["M-S20VK_SLADSTFLTPKG_RH","01","M-S20","VK_SLADSTFLTPKG_RH",8368,"HEPA Dust Filter Pkg: RH","304053"]
["M-S20VK_FREEXT","01","M-S20","VK_FREEXT",167,"Fire Extinguisher","304053"]
["M-S20VK_FLRSYS_HEPA_NC","01","M-S20","VK_FLRSYS_HEPA_NC","N/C","HEPA Filter System","304053"]
["M-S20VK_PKG_WSKD","01","M-S20","VK_PKG_WSKD",355,"Skid w/Stretch Wrap","304053"]
["M-S20VK_CLNTOL_PYSFF","01","M-S20","VK_CLNTOL_PYSFF",277,"Poly Full Fill Brush","304053"]
["M-S20VK_OTDSFY_PKG_WOOHG","01","M-S20","VK_OTDSFY_PKG_WOOHG",3436,"Outdoor Safety Pkg","304053"]
["M-S20VK_RERTRE_PNER","01","M-S20","VK_RERTRE_PNER",421,"Trs Rear Pnmtc Rdl","304053"]
["M-S20VK_STBFLSLNS_B","01","M-S20","VK_STBFLSLNS_B","N/C","Alt.StrobeLns Blue","304053"]
["M-S20VK_CLNTOL_PYPW","01","M-S20","VK_CLNTOL_PYPW","N/C","Poly & Wire Brush","304053"]
["M-S20VK_RERVIWMIR","01","M-S20","VK_RERVIWMIR",481,"Rear View Mirror","304053"]
["M-S20VK_PKG_PAD","01","M-S20","VK_PKG_PAD","N/C","Pad Wrap","304053"]
["M-S20VK_CHG_120A480V5060H3P","01","M-S20","VK_CHG_120A480V5060H3P",4670,"Ch120A 480V 5060H3P","304053"]
["M-S20VK_CHG_WO","01","M-S20","VK_CHG_WO",-375,"Without Charger","304053"]
["M-S20VK_CLNTOL_PYP","01","M-S20","VK_CLNTOL_PYP","N/C","Poly Brush","304053"]
["M-S20VK_SDEBRSLOC_D_BAT","01","M-S20","VK_SDEBRSLOC_D_BAT",3345,"Side Brush: Dual","304053"]
["M-S20VK_HVYDTYPRT_PKG","01","M-S20","VK_HVYDTYPRT_PKG",4039,"Hvy Dty Protect Pkg","304053"]
["M-S20VK_RERTRE_SRSNM","01","M-S20","VK_RERTRE_SRSNM",272,"Trs Rear SftSolid NM","304053"]
["M-S20VK_STLHPR","01","M-S20","VK_STLHPR",3777,"Steel Hopper","304053"]
["M-S20VK_FRTTRE_SRSNM","01","M-S20","VK_FRTTRE_SRSNM",703,"Frt Tire Solid NM","304053"]
["M-S20VK_OPRVID","01","M-S20","VK_OPRVID","N/C","Operator Video","304053"]
["M-S20VK_BTYWTRSYS","01","M-S20","VK_BTYWTRSYS",634,"Battery Watering Sys","304053"]
["M-S20VK_CLNTOL_PYPWIN","01","M-S20","VK_CLNTOL_PYPWIN",277,"Poly Window Brush","304053"]
["M-S20VK_CSMSBTDCL_FC","01","M-S20","VK_CSMSBTDCL_FC",157,"Sunbelt-FloorCareDcl","304053"]
["M-S20VK_PRDPKG_NOBAT","01","M-S20","VK_PRDPKG_NOBAT",4039,"Productivity Pkg","304053"]
["M-S20VK_ALTMUF_P","01","M-S20","VK_ALTMUF_P",2246,"Purifying Muffler","304053"]
["M-S20VK_WTY_STD","01","M-S20","VK_WTY_STD","N/C","Warranty STD","304053"]
["M-S20VK_CHG_80A200V5060H3P","01","M-S20","VK_CHG_80A200V5060H3P",4325,"Ch80A 200V 5060H3P","304053"]
["M-S20VK_ULERTG_LP","01","M-S20","VK_ULERTG_LP","N/C","UL® Type LP","304053"]
["M-S20VK_ADOPRMNL","01","M-S20","VK_ADOPRMNL",82,"Add. Opr Mnl","304053"]
["M-S30VK_MCHCOM","01","M-S30","VK_MCHCOM",1367,"IRIS Telemetry","304215"]
[{"$f":"C392&D392","v":"M-S30VK_SDECLNTOL_PYP"},"01","M-S30","VK_SDECLNTOL_PYP","N/C","Side Poly Brush","304215"]
["M-S30VK_PWRVACWND_VAC_WND","01","M-S30","VK_PWRVACWND_VAC_WND",1675,"Vacuum Wand","304215"]
["M-S30VK_FRMLFTLUG_SD","01","M-S30","VK_FRMLFTLUG_SD",1673,"Frame Lifting Lugs-Side","304215"]
["M-S30VK_SDEBRSDSTCTL_RH_NC","01","M-S30","VK_SDEBRSDSTCTL_RH_NC","N/C","SideBrshDustCntrl R","304215"]
["M-S30VK_SDECLNTOL_FWB","01","M-S30","VK_SDECLNTOL_FWB","N/C","Side Flat Wire","304215"]
["M-S30VK_FLRSYS_HEPA_NC","01","M-S30","VK_FLRSYS_HEPA_NC","N/C","HEPA Filter System","304215"]
["M-S30VK_SLADSTFLTPKG_RH","01","M-S30","VK_SLADSTFLTPKG_RH",10454,"HEPA Dust Filter Pkg: RH","304215"]
["M-S30VK_S30-G","01","M-S30","VK_S30-G",60782,"S30 Gas Rider Swpr","304215"]
["M-S30VK_BASE_S30-GAS","01","M-S30","VK_BASE_S30-GAS",60782,"S30-GAS","304215"]
["M-S30VK_SFYLGTPKG_IDR","01","M-S30","VK_SFYLGTPKG_IDR",963,"Sfty Lght Pkg Ind","304215"]
["M-S30VK_CLNTOL_NYLFF","01","M-S30","VK_CLNTOL_NYLFF",330,"Nylon Full Fill Brsh","304215"]
["M-S30VK_BLULGT","01","M-S30","VK_BLULGT",1187,"Blue Light","304215"]
["M-S30VK_MCHCOM_SBT","01","M-S30","VK_MCHCOM_SBT",1367,"IRIS Telemetry","304215"]
["M-S30VK_RERTRE_SR","01","M-S30","VK_RERTRE_SR","N/C","Trs Rear Solid Rbr","304215"]
["M-S30VK_CAB_G_ACHP","01","M-S30","VK_CAB_G_ACHP",15291,"Cab Climate cntrl AC","304215"]
["M-S30VK_CSMSLN_WPMP","01","M-S30","VK_CSMSLN_WPMP",160,"Weatherproof pouch","304215"]
["M-S30VK_RERTRE_PR","01","M-S30","VK_RERTRE_PR","N/C","Trs Rear Pnmtc Rdl","304215"]
["M-S30VK_AIRITK","01","M-S30","VK_AIRITK",2246,"Hgh Rise Air Intake","304215"]
["M-S30VK_SDEBRSLOC_RH_NC","01","M-S30","VK_SDEBRSLOC_RH_NC","N/C","Side Brush: RH","304215"]
["M-S30VK_CAB_D_ACHP","01","M-S30","VK_CAB_D_ACHP",15291,"Cab Climate cntrl AC","304215"]
["M-S30VK_WAR_XTD","01","M-S30","VK_WAR_XTD",2338,"Warranty Plus","304215"]
["M-S30VK_CLNTOL_CWB","01","M-S30","VK_CLNTOL_CWB",330,"Crinkle Wire Brush","304215"]
["M-S30VK_BASE_S30-DSL","01","M-S30","VK_BASE_S30-DSL",66208,"S30-DSL","304215"]
["M-S30VK_RERTRE_FF","01","M-S30","VK_RERTRE_FF",222,"Trs Rear Foam Flld","304215"]
["M-S30VK_SDEBRSLOC_RH","01","M-S30","VK_SDEBRSLOC_RH","N/C","Side Brush: RH","304215"]
["M-S30VK_LPGTNK_F","01","M-S30","VK_LPGTNK_F","N/C","LPG Tank Full","304215"]
["M-S30VK_CSMSBTPARKIT","01","M-S30","VK_CSMSBTPARKIT",1512,"Sunbelt -Parts Kit","304215"]
["M-S30VK_SDECLNTOL_NYL","01","M-S30","VK_SDECLNTOL_NYL","N/C","Side Nylon Brush","304215"]
["M-S30VK_SDEBRSDSTCTL_WET_D","01","M-S30","VK_SDEBRSDSTCTL_WET_D",4582,"SideBrshDustCntrl D","304215"]
["M-S30VK_SDEBRSDSTCTL_D_NC","01","M-S30","VK_SDEBRSDSTCTL_D_NC","N/C","SideBrshDustCntrl D","304215"]
["M-S30VK_CAB_RHC","01","M-S30","VK_CAB_RHC",16495,"Reduced Height Cab","304215"]
["M-S30VK_CLNTOL_FWFF","01","M-S30","VK_CLNTOL_FWFF",330,"Fiber & Wire Brush","304215"]
["M-S30VK_SET_DLXW","01","M-S30","VK_SET_DLXW",805,"Deluxe Seat w/Armr.","304215"]
["M-S30VK_SLADSTFLTPKG_D","01","M-S30","VK_SLADSTFLTPKG_D",11257,"HEPA Dust Filter Pkg: Dual","304215"]
["M-S30VK_SDEBRSLOC_D","01","M-S30","VK_SDEBRSLOC_D",2230,"Side Brush: Dual","304215"]
["M-S30VK_DATPKG_HO","01","M-S30","VK_DATPKG_HO",1525,"Hardware Only","304215"]
["M-S30VK_CSMSLN_SCW","01","M-S30","VK_CSMSLN_SCW",1533,"Solid Cab Window","304215"]
["M-S30VK_CABFLR_HF","01","M-S30","VK_CABFLR_HF",15167,"Cab Filter HEPA","304215"]
["M-S30VK_CAB_G_ACHP_NC","01","M-S30","VK_CAB_G_ACHP_NC","N/C","Cab Climate cntrl AC","304215"]
["M-S30VK_SDEBRSSPL","01","M-S30","VK_SDEBRSSPL",554,"Side Brush Spotlight","304215"]
["M-S30VK_CLNTOL_NYLP","01","M-S30","VK_CLNTOL_NYLP","N/C","Nylon Patrol Brush","304215"]
["M-S30VK_WCHHOK","01","M-S30","VK_WCHHOK",631,"Winch Hook","304215"]
["M-S30VK_FRTTRE_PNER","01","M-S30","VK_FRTTRE_PNER",595,"Trs Frnt Pnmtc Rdl","304215"]
["M-S30VK_CLNTOL_PYP","01","M-S30","VK_CLNTOL_PYP","N/C","Poly Brush","304215"]
["M-S30VK_CSMFRMLFTLUG_SD","01","M-S30","VK_CSMFRMLFTLUG_SD",1663,"Frame Lifting Lugs-Side","304215"]
["M-S30VK_BLWWND_GL","01","M-S30","VK_BLWWND_GL",2927,"Blower Wand Gas/LPG","304215"]
["M-S30VK_SRVMNL","01","M-S30","VK_SRVMNL",269,"Service Manual","304215"]
["M-S30VK_SDEBRSDSTCTL_RH","01","M-S30","VK_SDEBRSDSTCTL_RH",2818,"SideBrshDustCntrl R","304215"]
["M-S30VK_LPGTNK_E","01","M-S30","VK_LPGTNK_E","N/C","LPG Tank Empty","304215"]
["M-S30VK_SDEBRSDSTCTL_WET_RH","01","M-S30","VK_SDEBRSDSTCTL_WET_RH",3946,"SideBrshDustCntrl R","304215"]
["M-S30VK_ULERTG_LPS","01","M-S30","VK_ULERTG_LPS",5214,"UL® Type LPS","304215"]
["M-S30VK_SETBLT","01","M-S30","VK_SETBLT",727,"Seat Belt","304215"]
["M-S30VK_PKG_SKD_NO_CHG","01","M-S30","VK_PKG_SKD_NO_CHG","N/C","Skid","304215"]
["M-S30VK_BASE_S30-LPG","01","M-S30","VK_BASE_S30-LPG",60782,"S30-LPG","304215"]
["M-S30VK_BASE_S30-DSL_STD","01","M-S30","VK_BASE_S30-DSL_STD",66208,"S30 DSL Std Config","304215"]
["M-S30VK_RERTRE_SNM_NC","01","M-S30","VK_RERTRE_SNM_NC","N/C","Trs Rear Solid NM","304215"]
["M-S30VK_HEPFLRCABPKG","01","M-S30","VK_HEPFLRCABPKG",30146,"HEPA Filter Cab Pkg","304215"]
["M-S30VK_RERTRE_SNM","01","M-S30","VK_RERTRE_SNM",416,"Trs Rear Solid NM","304215"]
["M-S30VK_PKG_SKD_NC","01","M-S30","VK_PKG_SKD_NC","N/C","Skid","304215"]
["M-S30VK_CLNTOL_PYPW","01","M-S30","VK_CLNTOL_PYPW","N/C","Poly & Wire Brush","304215"]
["M-S30VK_CAB_D_ACHP_NC","01","M-S30","VK_CAB_D_ACHP_NC","N/C","Cab Climate cntrl AC","304215"]
["M-S30VK_BASE_S30-GAS_STD","01","M-S30","VK_BASE_S30-GAS_STD",60782,"S30 Gas Std Config","304215"]
["M-S30VK_PKG_PAD","01","M-S30","VK_PKG_PAD","N/C","Pad Wrap","304215"]
["M-S30VK_FREEXT","01","M-S30","VK_FREEXT",167,"Fire Extinguisher","304215"]
[{"$f":"C456&D456","v":"M-S30VK_CLNTOL_PYPWIN"},"01","M-S30","VK_CLNTOL_PYPWIN",330,"Poly Window Brush","304215"]
["M-S30VK_ADLOPRMNL","01","M-S30","VK_ADLOPRMNL",82,"Add Operator Manual","304215"]
["M-S30VK_UPG","01","M-S30","VK_UPG","N/C","UPG","304215"]
["M-S30VK_CSMSLN_HFK","01","M-S30","VK_CSMSLN_HFK",12666,"HEPA Filter Kit","304215"]
["M-S30VK_SDEBRSLOC_D_NC","01","M-S30","VK_SDEBRSLOC_D_NC","N/C","Side Brush: Dual","304215"]
["M-S30VK_S30-LP","01","M-S30","VK_S30-LP",60782,"S30 LPG Rider Swpr","304215"]
["M-S30VK_CAB_G_HP","01","M-S30","VK_CAB_G_HP",9573,"Cab Climate cntrl HT","304215"]
["M-S30VK_PKG_SKD","01","M-S30","VK_PKG_SKD",982,"Skid","304215"]
["M-S30VK_RERTRE_PB","01","M-S30","VK_RERTRE_PB","N/C","Trs Rear Pneumatic-Bias","304215"]
["M-S30VK_STLHPR","01","M-S30","VK_STLHPR",6698,"Steel Hopper","304215"]
["M-S30VK_SDEBRSDSTCTL_D","01","M-S30","VK_SDEBRSDSTCTL_D",3622,"SideBrshDustCntrl D","304215"]
["M-S30VK_LFTLUGRERTOWRNG","01","M-S30","VK_LFTLUGRERTOWRNG",1459,"Lifting Lug / Rear Tow Ring","304215"]
["M-S30VK_SDEBRSSPL_RH","01","M-S30","VK_SDEBRSSPL_RH",554,"SideBrushSpotL.RH","304215"]
["M-S30VK_CABFLR_HF_NC","01","M-S30","VK_CABFLR_HF_NC","N/C","Cab Filter HEPA","304215"]
["M-S30VK_SBTPARKIT","01","M-S30","VK_SBTPARKIT",1574,"Sunbelt Parts Kit","304215"]
["M-S30VK_WPFMNLPCH","01","M-S30","VK_WPFMNLPCH",234,"Weatherproof Manual Pouch","304215"]
["M-S30VK_CSMSLN_LLRTR","01","M-S30","VK_CSMSLN_LLRTR",1673,"Liftigugs&RearTwRing","304215"]
["M-S30VK_HVYDTYPRTPKG","01","M-S30","VK_HVYDTYPRTPKG",7982,"Hvy Duty Protect Pkg","304215"]
["M-S30VK_TRMLVL_X4","01","M-S30","VK_TRMLVL_X4",10763,"Trim Level, X4","304215"]
["M-S30VK_FRTTRE_PB","01","M-S30","VK_FRTTRE_PB",595,"Trs Front Pnmtc Bias","304215"]
["M-S30VK_CLNTOL_NYL","01","M-S30","VK_CLNTOL_NYL","N/C","Nylon Brush","304215"]
["M-S30VK_OVHGRD","01","M-S30","VK_OVHGRD",1509,"Overhead Guard","304215"]
["M-S30VK_CSMSLN_RTR","01","M-S30","VK_CSMSLN_RTR",632,"Rear Tow Ring","304215"]
["M-S30VK_CLNTOL_SWB","01","M-S30","VK_CLNTOL_SWB",330,"Sand Wedge Brush","304215"]
["M-S30VK_S30-DSL","01","M-S30","VK_S30-DSL",66208,"S30 Dsl Rider Swpr","304215"]
["M-S30VK_CAB_L_ACHP","01","M-S30","VK_CAB_L_ACHP",15291,"Cab Climate cntrl AC","304215"]
["M-S30VK_WTY_XTD","01","M-S30","VK_WTY_XTD",2338,"Warranty Plus","304215"]
["M-S30VK_ALTMUF_P","01","M-S30","VK_ALTMUF_P",2524,"Purifying Muffler","304215"]
["M-S30VK_FLRSYS_HEPA","01","M-S30","VK_FLRSYS_HEPA",7639,"HEPA Filter System","304215"]
["M-S30VK_CAB_D_HP","01","M-S30","VK_CAB_D_HP",9573,"Cab Climate cntrl HT","304215"]
["M-S30VK_HVYDTYFRTBMP","01","M-S30","VK_HVYDTYFRTBMP",896,"Hvy Dty Frnt Bumper","304215"]
["M-S30VK_BASE_S30-LPG_STD","01","M-S30","VK_BASE_S30-LPG_STD",60782,"S30 LPG Std Config","304215"]
["M-S30VK_PRDPKG","01","M-S30","VK_PRDPKG",2540,"Productivity Package","304215"]
["M-S30VK_HVYDTYRERBMP","01","M-S30","VK_HVYDTYRERBMP",879,"Hvy Dty RearBmpr","304215"]
["M-S30VK_SFYLGTPKG_OTD","01","M-S30","VK_SFYLGTPKG_OTD",1613,"Sfty Lght Pkg Outd","304215"]
["M-S30VK_BLWWND_D","01","M-S30","VK_BLWWND_D",2230,"Blower Wand Dsl","304215"]
["M-S30VK_CAB_L_HP","01","M-S30","VK_CAB_L_HP",9573,"Cab Climate cntrl HT","304215"]
["M-S30VK_TRMLVL_XP","01","M-S30","VK_TRMLVL_XP",6249,"Trim Level, XP","304215"]
["M-800VK_CLMCTL_HP_D","01","M-800","VK_CLMCTL_HP_D",2654,"Heater/Pressurizer","304309"]
["M-800VK_RERTRE_SR","01","M-800","VK_RERTRE_SR",573,"Trs Rear Solid Rbr","304309"]
["M-800VK_CLNTOL_NYL","01","M-800","VK_CLNTOL_NYL","N/C","Nylon Brush","304309"]
["M-800VK_CLMCTL_ACHP_D_NC","01","M-800","VK_CLMCTL_ACHP_D_NC","N/C","Air Cond./Heater/Pre","304309"]
["M-800VK_ALTSTBFLSLNS_R","01","M-800","VK_ALTSTBFLSLNS_R","N/C","Alternate Lens-Red","304309"]
["M-800VK_SLADSTFLTPKG_D","01","M-800","VK_SLADSTFLTPKG_D",14330,"HEPA Dust Filter Pkg: Dual","304309"]
["M-800VK_CLNTOL_OPYP","01","M-800","VK_CLNTOL_OPYP","N/C","Poly Brush Outdoor","304309"]
["M-800VK_LPGTNK_F","01","M-800","VK_LPGTNK_F","N/C","LPG Tank Full","304309"]
["M-800VK_RVM_RVM_CAB","01","M-800","VK_RVM_RVM_CAB",467,"Rearview Mirror","304309"]
["M-800VK_WRNLGTANDALM_AVFO","01","M-800","VK_WRNLGTANDALM_AVFO",1980,"AV BU AlarmFlash OHG","304309"]
["M-800VK_FUECAP_PSFC","01","M-800","VK_FUECAP_PSFC",570,"Protecto-SealFuelCap","304309"]
["M-800VK_SOLCABWDW_NC","01","M-800","VK_SOLCABWDW_NC","N/C","Solid Cab Windows","304309"]
["M-800VK_RODPKG_DUL","01","M-800","VK_RODPKG_DUL",1851,"Road Package Dual","304309"]
["M-800VK_ALM_SE","01","M-800","VK_ALM_SE",1087,"Strobe Light Eng","304309"]
["M-800VK_OVHGRD","01","M-800","VK_OVHGRD",2816,"Overhead Guard","304309"]
["M-800VK_SDEBRSDSTCTL_D","01","M-800","VK_SDEBRSDSTCTL_D",5609,"SideBrshDustCntrl D","304309"]
["M-800VK_FLRSYS_HEPA_NC","01","M-800","VK_FLRSYS_HEPA_NC","N/C","HEPA Filter System","304309"]
["M-800VK_ALM_FO","01","M-800","VK_ALM_FO",682,"Flashing Light OHG","304309"]
["M-800VK_CSMLFTLUG_SD","01","M-800","VK_CSMLFTLUG_SD",2764,"Frame Lift Lugs - Side","304309"]
["M-800VK_SDEBRSDSTCTL_D_NC","01","M-800","VK_SDEBRSDSTCTL_D_NC","N/C","SideBrshDustCntrl D","304309"]
["M-800VK_CLNTOL_PYP","01","M-800","VK_CLNTOL_PYP","N/C","Poly Brush","304309"]
["M-800VK_LPGTNK_E","01","M-800","VK_LPGTNK_E","N/C","LPG Tank Empty","304309"]
["M-800VK_WAR_XTD","01","M-800","VK_WAR_XTD",2463,"Warranty Plus","304309"]
["M-800VK_WRNLGTANDALM_AVFE","01","M-800","VK_WRNLGTANDALM_AVFE",1980,"AV BU AlarmFlash Eng","304309"]
["M-800VK_ALM_AVE","01","M-800","VK_ALM_AVE",1307,"Audio BU Alarm Eng","304309"]
["M-800VK_ADOPRMNL_D","01","M-800","VK_ADOPRMNL_D",208,"Add. Opr Mnl","304309"]
[{"$f":"C520&D520","v":"M-800VK_ALM_AVSC"},"01","M-800","VK_ALM_AVSC",2382,"AV BU AlarmStrobeCab","304309"]
["M-800VK_CLNTOL_NYLFF","01","M-800","VK_CLNTOL_NYLFF",485,"Nylon Full Fill Brsh","304309"]
["M-800VK_PKG_SKD_NC","01","M-800","VK_PKG_SKD_NC","N/C","Skid","304309"]
["M-800VK_WRNLGTANDALM_AVSO","01","M-800","VK_WRNLGTANDALM_AVSO",2382,"AV BU AlrmStrobe OHG","304309"]
["M-800VK_WRNLGTANDALM_AVFC","01","M-800","VK_WRNLGTANDALM_AVFC",1980,"AV BU AlarmFlash Cab","304309"]
["M-800VK_SRVMNL","01","M-800","VK_SRVMNL",277,"Service Manual","304309"]
["M-800VK_BASE_800-LPG","01","M-800","VK_BASE_800-LPG",105760,"Sweeper 800 LPG","304309"]
["M-800VK_FLRSYS_RFS","01","M-800","VK_FLRSYS_RFS",2800,"Regenerative F./Syst","304309"]
["M-800VK_RERVIWMIR_RVM_OHG","01","M-800","VK_RERVIWMIR_RVM_OHG",467,"Rearview Mirror","304309"]
["M-800VK_STLHPRFLR","01","M-800","VK_STLHPRFLR",1362,"StainlessHopperFloor","304309"]
["M-800VK_WRNLGTANDALM_SO","01","M-800","VK_WRNLGTANDALM_SO",1087,"Strobe Light OHG","304309"]
["M-800VK_PKG_PAD","01","M-800","VK_PKG_PAD","N/C","Pad Wrap","304309"]
["M-800VK_FRTTRE_SR","01","M-800","VK_FRTTRE_SR",1142,"Frt Tire Solid Rbr","304309"]
["M-800VK_SDEBRSMIR_D","01","M-800","VK_SDEBRSMIR_D",1110,"SideBrushMirror Dual","304309"]
["M-800VK_CLNTOL_SWB","01","M-800","VK_CLNTOL_SWB",485,"Sand Wedge Brush","304309"]
["M-800VK_WRNLGTANDALM_SE","01","M-800","VK_WRNLGTANDALM_SE",1087,"Strobe Light Eng","304309"]
["M-800VK_SDEVIWMIR_WCM_CAB","01","M-800","VK_SDEVIWMIR_WCM_CAB",1517,"West Coast Mirror","304309"]
["M-800VK_CLNTOL_CWB","01","M-800","VK_CLNTOL_CWB",485,"Crinkle Wire Brush","304309"]
["M-800VK_PKG_SKD","01","M-800","VK_PKG_SKD",1031,"Skid","304309"]
["M-800VK_FWDSPDCTL","01","M-800","VK_FWDSPDCTL",104,"ForwardSpeedControl","304309"]
["M-800VK_BASE_800-DSL4F","01","M-800","VK_BASE_800-DSL4F",124283,"Sweeper 800 Diesel 4F","304309"]
["M-800VK_SDEBRSSPL_DUL","01","M-800","VK_SDEBRSSPL_DUL",1192,"SideBrushSpotL.Dual","304309"]
["M-800VK_HEPFLRCABPKG","01","M-800","VK_HEPFLRCABPKG",36862,"HEPA Filter Cab Pkg","304309"]
["M-800VK_WRNLGTANDALM_FE","01","M-800","VK_WRNLGTANDALM_FE",682,"Flashing Light on EngCover","304309"]
["M-800VK_SLADSTFLTPKG_RH","01","M-800","VK_SLADSTFLTPKG_RH",11826,"HEPA Dust Filter Pkg: RH","304309"]
["M-800VK_ALM_SC","01","M-800","VK_ALM_SC",1087,"Strobe Light Cab","304309"]
["M-800VK_ALTSTBFLSLNS_B","01","M-800","VK_ALTSTBFLSLNS_B","N/C","Alternate Lens-Blue","304309"]
["M-800VK_SDECLNTOL_NYL","01","M-800","VK_SDECLNTOL_NYL","N/C","Side Nylon Brush","304309"]
["M-800VK_BASE_800-GAS","01","M-800","VK_BASE_800-GAS",102693,"Sweeper 800 Gasoline","304309"]
["M-800VK_DSTCTLFLR_EFFM","01","M-800","VK_DSTCTLFLR_EFFM",839,"Fine Media Cannister","304309"]
["M-800VK_FREEXT","01","M-800","VK_FREEXT",180,"Fire Extinguisher","304309"]
["M-800VK_RVM_RVM_OHG","01","M-800","VK_RVM_RVM_OHG",467,"Rearview Mirror","304309"]
["M-800VK_WRNLGTANDALM_SC","01","M-800","VK_WRNLGTANDALM_SC",1087,"Strobe Light Cab","304309"]
["M-800VK_SELOPRSTN_NC","01","M-800","VK_SELOPRSTN_NC","N/C","Sealed Oper Station","304309"]
["M-800VK_UPG","01","M-800","VK_UPG","N/C","UPG","304309"]
["M-800VK_PWRVACWND","01","M-800","VK_PWRVACWND",1805,"Vacuum  Wand","304309"]
["M-800VK_CLMCTL_ACHP_GL","01","M-800","VK_CLMCTL_ACHP_GL",6172,"Air Cond./Heater/Pre","304309"]
["M-800VK_FLRSYS_HEPA","01","M-800","VK_FLRSYS_HEPA",8854,"HEPA Filter System","304309"]
["M-800VK_SDEBRSMIR_RH","01","M-800","VK_SDEBRSMIR_RH",363,"SideBrushMirror RH","304309"]
["M-800VK_SDEBRSLOC_D","01","M-800","VK_SDEBRSLOC_D",5965,"Side Brush: Dual","304309"]
["M-800VK_WRNLGTANDALM_FO","01","M-800","VK_WRNLGTANDALM_FO",682,"Flashing Light OHG","304309"]
["M-800VK_ALM_SO","01","M-800","VK_ALM_SO",1087,"Strobe Light OHG","304309"]
["M-800VK_RERVIWMIR_WCM_CAB","01","M-800","VK_RERVIWMIR_WCM_CAB",1517,"West Coast Mirror","304309"]
["M-800VK_ALM_AVFC","01","M-800","VK_ALM_AVFC",1980,"AV BU AlarmFlash Cab","304309"]
["M-800VK_SDEVIWMIR_WCM_OHG","01","M-800","VK_SDEVIWMIR_WCM_OHG",1517,"West Coast Mirror","304309"]
["M-800VK_ENGMNL","01","M-800","VK_ENGMNL",98,"Engine Manual","304309"]
["M-800VK_WRNLGTANDALM_FC","01","M-800","VK_WRNLGTANDALM_FC",682,"Flashing Light Cab","304309"]
["M-800VK_CLNTOL_NYLP","01","M-800","VK_CLNTOL_NYLP","N/C","Nylon Patrol Brush","304309"]
["M-800VK_CABFLR_HF_NC","01","M-800","VK_CABFLR_HF_NC","N/C","Cab Filter HEPA","304309"]
["M-800VK_SDECLNTOL_PYP","01","M-800","VK_SDECLNTOL_PYP","N/C","Side Poly Brush","304309"]
["M-800VK_CAB_STDC","01","M-800","VK_CAB_STDC",12435,"Cab","304309"]
["M-800VK_CLMCTL_HP_GL","01","M-800","VK_CLMCTL_HP_GL",2654,"Heater/Pressurizer","304309"]
["M-800VK_BLULGT","01","M-800","VK_BLULGT",1479,"Blue Light","304309"]
["M-800VK_SDEBRSDSTCTL_RH","01","M-800","VK_SDEBRSDSTCTL_RH",3090,"SideBrshDustCntrl R","304309"]
["M-800VK_CLMCTL_ACHP_GL_NC","01","M-800","VK_CLMCTL_ACHP_GL_NC","N/C","Air Cond./Heater/Pre","304309"]
["M-800VK_WAR_STD","01","M-800","VK_WAR_STD","N/C","Warranty STD","304309"]
["M-800VK_ALM_AVFO","01","M-800","VK_ALM_AVFO",1980,"AV BU AlarmFlash OHG","304309"]
["M-800VK_CSMSBTPARKIT","01","M-800","VK_CSMSBTPARKIT",4244,"Sunbelt -Parts Kit","304309"]
["M-800VK_PKG_SKD_NO_CHG","01","M-800","VK_PKG_SKD_NO_CHG","N/C","Skid","304309"]
["M-800VK_WRNLGTANDALM_AVE","01","M-800","VK_WRNLGTANDALM_AVE",1307,"Audio BU Alarm Eng","304309"]
["M-800VK_WRNLGTANDALM_AVSE","01","M-800","VK_WRNLGTANDALM_AVSE",2382,"AV BU AlarmStrobeEng","304309"]
["M-800VK_WTY_XTD","01","M-800","VK_WTY_XTD",2463,"Warranty Plus","304309"]
["M-800VK_ALM_FC","01","M-800","VK_ALM_FC",682,"Flashing Light Cab","304309"]
["M-800VK_ALM_FE","01","M-800","VK_ALM_FE",682,"Flashing Light Eng","304309"]
[{"$f":"C584&D584","v":"M-800VK_RERVIWMIR_WCM_OHG"},"01","M-800","VK_RERVIWMIR_WCM_OHG",1517,"West Coast Mirror","304309"]
["M-800VK_CAB_RHC","01","M-800","VK_CAB_RHC",16564,"Reduced Height Cab","304309"]
["M-800VK_SDEBRSLOC_D_NC","01","M-800","VK_SDEBRSLOC_D_NC","N/C","Side Brush: Dual","304309"]
["M-800VK_RVM_WCM_OHG","01","M-800","VK_RVM_WCM_OHG",1517,"West Coast Mirror","304309"]
["M-800VK_RERVIWMIR_RVM_CAB","01","M-800","VK_RERVIWMIR_RVM_CAB",467,"Rearview Mirror","304309"]
["M-800VK_HVYDTYBMP","01","M-800","VK_HVYDTYBMP",3393,"Hvy Dty Frnt/Rear Bumper","304309"]
["M-800VK_WRNLGTANDALM_AVSC","01","M-800","VK_WRNLGTANDALM_AVSC",2382,"AV BU AlarmStrobeCab","304309"]
["M-800VK_WTY_STD","01","M-800","VK_WTY_STD","N/C","Warranty STD","304309"]
["M-800VK_ALM_AVSO","01","M-800","VK_ALM_AVSO",2382,"AV BU AlarmStrobeOHG","304309"]
["M-800VK_SDEBRSLOC_RH_NC","01","M-800","VK_SDEBRSLOC_RH_NC","N/C","Side Brush: RH","304309"]
["M-800VK_CLNTOL_PYPW","01","M-800","VK_CLNTOL_PYPW","N/C","Poly & Wire Brush","304309"]
["M-800VK_NTLSTT","01","M-800","VK_NTLSTT",280,"Neutral Start","304309"]
["M-800VK_SETBLT","01","M-800","VK_SETBLT",171,"Seat Belt","304309"]
["M-800VK_CABFLR_HF","01","M-800","VK_CABFLR_HF",15181,"Cab Filter HEPA","304309"]
["M-800VK_RVM_WCM_CAB","01","M-800","VK_RVM_WCM_CAB",1517,"West Coast Mirror","304309"]
["M-800VK_ALM_AVSE","01","M-800","VK_ALM_AVSE",2382,"AV BU AlarmStrobeEng","304309"]
["M-800VK_BLWWND","01","M-800","VK_BLWWND",3312,"Blower Wand","304309"]
["M-800VK_RODPKG","01","M-800","VK_RODPKG",920,"Road package","304309"]
["M-800VK_ADOPRMNL","01","M-800","VK_ADOPRMNL",208,"Add. Opr Mnl","304309"]
["M-800VK_SDEBRSSPL_RH_NC","01","M-800","VK_SDEBRSSPL_RH_NC","N/C","SideBrushSpotL.RH No Chg","304309"]
["M-800VK_SDEBRSDSTCTL_RH_NC","01","M-800","VK_SDEBRSDSTCTL_RH_NC","N/C","SideBrshDustCntrl R","304309"]
["M-800VK_CSMHSESLV","01","M-800","VK_CSMHSESLV",2132,"Hyd Hose Sleeve Protection","304309"]
["M-800VK_SDEBRSSPL_RH","01","M-800","VK_SDEBRSSPL_RH",224,"SideBrushSpotL.RH","304309"]
["M-800VK_SELOPRSTN","01","M-800","VK_SELOPRSTN",2157,"Sealed Oper Station","304309"]
["M-800VK_HPRDOROPNLGT","01","M-800","VK_HPRDOROPNLGT",233,"HopperDoorOpenLight","304309"]
["M-800VK_CLMCTL_ACHP_D","01","M-800","VK_CLMCTL_ACHP_D",6172,"Air Cond./Heater/Pre","304309"]
["M-800VK_OPRVID","01","M-800","VK_OPRVID","N/C","Operator Video","304309"]
["M-800VK_ENGSDN_LHTS","01","M-800","VK_ENGSDN_LHTS",1150,"LowOil/WaterShutdwn","304309"]
["M-800VK_SDEBRSSPL_DUL_NC","01","M-800","VK_SDEBRSSPL_DUL_NC","N/C","SideBrushSpotL.Dual No Chg","304309"]
["M-800VK_CAB_STDC_NC","01","M-800","VK_CAB_STDC_NC","N/C","Cab","304309"]
["M-800VK_ALM_AVFE","01","M-800","VK_ALM_AVFE",1980,"AV BU AlarmFlash Eng","304309"]
["M-800VK_SOLCABWDW","01","M-800","VK_SOLCABWDW",1301,"Solid Cab Windows","304309"]
["M-T2VK_PADTYP_BWN3","01","M-T2","VK_PADTYP_BWN3",21.4,"Br Stripping - 3M","306300"]
["M-T2VK_PADTYP_BLU3","01","M-T2","VK_PADTYP_BLU3",21.4,"Blu Scrub - 3M","306300"]
["M-T2VK_PADTYP_BLKH3","01","M-T2","VK_PADTYP_BLKH3",32.1,"Blk Strip (HiPRO) 3M","306300"]
["M-T2VK_CHG_11A100V5060H1","01","M-T2","VK_CHG_11A100V5060H1","N/C","Ch11A 100V 5060H1P","306300"]
["M-T2VK_PADTYP_RED3","01","M-T2","VK_PADTYP_RED3",21.4,"Red Clean 3M","306300"]
["M-T2VK_CSMDRTWTRLBL","01","M-T2","VK_CSMDRTWTRLBL",48,"Dirty Water Label","306300"]
["M-T2VK_CSMFODCORLBL","01","M-T2","VK_CSMFODCORLBL",48,"Food Court Label","306300"]
["M-T2VK_BASE_T2-430-D_STD","01","M-T2","VK_BASE_T2-430-D_STD",8551,"T2 WB Scrbbr 430/17 STD","306300"]
["M-T2VK_PADTYP_WHT3","01","M-T2","VK_PADTYP_WHT3",21.4,"Wh Polish 3M","306300"]
["M-T2VK_PADTYP_YLW3","01","M-T2","VK_PADTYP_YLW3",80.3,"Ylw Polish 3M","306300"]
["M-T2VK_BTY_WO","01","M-T2","VK_BTY_WO",-450,"Without Battery","306300"]
["M-T2VK_ADLOPRMNL","01","M-T2","VK_ADLOPRMNL",143,"Add Operator Manual","306300"]
["M-T2VK_PADTYP_MAR3","01","M-T2","VK_PADTYP_MAR3",31.1,"Mar Surf Prep 3M","306300"]
["M-T2VK_PARMNL","01","M-T2","VK_PARMNL",59,"Parts Manual","306300"]
["M-T2VK_CLNTOL_PYP","01","M-T2","VK_CLNTOL_PYP",249,"Poly Brush","306300"]
["M-T2VK_CLNTOL_NYL","01","M-T2","VK_CLNTOL_NYL",305,"Nylon Brush","306300"]
["M-T2VK_CLNTOL_ABB","01","M-T2","VK_CLNTOL_ABB",416,"Abrasive Brush","306300"]
["M-T2VK_BTY_G102C20","01","M-T2","VK_BTY_G102C20",374,"Bty Gel 102AH C20","306300"]
["M-T2VK_BASE_T2-430-D","01","M-T2","VK_BASE_T2-430-D",8551,"T2-430-D","306300"]
["M-T2VK_CHG_9A100V5060H1P","01","M-T2","VK_CHG_9A100V5060H1P","N/C","Ch9A 100V 5060H1P","306300"]
["M-T2VK_BTY_W105C20","01","M-T2","VK_BTY_W105C20","N/C","Bty Wet 105AH C20","306300"]
["M-T2VK_PKG_WSKD","01","M-T2","VK_PKG_WSKD",200,"Skid w/Stretch Wrap","306300"]
["M-T2VK_PKG_SSKD","01","M-T2","VK_PKG_SSKD",332,"Stack Skid/Carton","306300"]
["M-T2VK_PKG_PAD","01","M-T2","VK_PKG_PAD","N/C","Pad Wrap","306300"]
["M-T2VK_CLNTOL_PAD","01","M-T2","VK_CLNTOL_PAD","N/C","Pad Driver","306300"]
["M-T300VK_DWNPRS_AUT","01","M-T300","VK_DWNPRS_AUT","N/C","Auto Down Pressure","306307"]
["M-T300VK_BASE_T300-600-D_STD","01","M-T300","VK_BASE_T300-600-D_STD",10040,"T300 600mm D Std Config","306307"]
["M-T300VK_BASE_T300-500-O_STD","01","M-T300","VK_BASE_T300-500-O_STD",9664,"T300 500mm O Std Config","306307"]
["M-T300VK_DWNPRS_MEC","01","M-T300","VK_DWNPRS_MEC","N/C","Mech Down Pressure","306307"]
["M-T300VK_BASE_T300-430-D_STD","01","M-T300","VK_BASE_T300-430-D_STD",7398,"T300 430mm D Std Config","306307"]
["M-T300VK_BASE_T300-500-C_STD","01","M-T300","VK_BASE_T300-500-C_STD",10990,"T300 500mm C Std Config","306307"]
["M-T300VK_TRM_PMEM","01","M-T300","VK_TRM_PMEM",295,"Pro Membrane Panel","306307"]
[{"$f":"C648&D648","v":"M-T300VK_CHG_27A100240V5060HOF"},"01","M-T300","VK_CHG_27A100240V5060HOF","N/C","Chg 27A100240V5060H Off","306307"]
["M-T300VK_BTY_L24V90A","01","M-T300","VK_BTY_L24V90A",3029,"Bty Li-Ion 24v, 90AH","306307"]
["M-T300VK_CHG_27A100240V5060HON","01","M-T300","VK_CHG_27A100240V5060HON","N/C","Chg 27A100240V5060H On","306307"]
["M-T300VK_HRCLBLKIT","01","M-T300","VK_HRCLBLKIT",120,"Herc Label Kit","306307"]
["M-T300VK_RECHSE_PYPOR_PC","01","M-T300","VK_RECHSE_PYPOR_PC","N/C","Poly Mat w/Pinch Cuff","306307"]
["M-T300VK_CLNTOL_D600NYL_IC","01","M-T300","VK_CLNTOL_D600NYL_IC",232,"D600/24 Nyl Brush-IC","306307"]
["M-T300VK_PKG_PAD","01","M-T300","VK_PKG_PAD","N/C","Pad Wrap","306307"]
["M-T300VK_BASE_T300-500-D_STD","01","M-T300","VK_BASE_T300-500-D_STD",8504,"T300 500mm D Std Config","306307"]
["M-T300VK_CLNTOL_D500PYP_IC","01","M-T300","VK_CLNTOL_D500PYP_IC",362,"D500/20 PolyBrush-IC","306307"]
["M-T300VK_CLNTOL_D500PAD_IC","01","M-T300","VK_CLNTOL_D500PAD_IC",362,"D500/20 PadDriver-IC","306307"]
["M-T300VK_DWN_PRS_SGL","01","M-T300","VK_DWN_PRS_SGL","N/C","Single D Pressure","306307"]
["M-T300VK_CLNTOL_D430ABB_IC","01","M-T300","VK_CLNTOL_D430ABB_IC",404,"D430/17 Abr Brush IC","306307"]
["M-T300VK_DWN_PRS_MLT_C","01","M-T300","VK_DWN_PRS_MLT_C",368,"Multi DD Press-Cyl","306307"]
["M-T300VK_CLNTOL_D500NYL_IC","01","M-T300","VK_CLNTOL_D500NYL_IC",362,"D500/20 Nyl Brush-IC","306307"]
["M-T300VK_SRVMNL","01","M-T300","VK_SRVMNL",137,"Service Manual","306307"]
["M-T300VK_FREEXT","01","M-T300","VK_FREEXT",160,"Fire Extinguisher","306307"]
["M-T300VK_CSMSBTRERSQE","01","M-T300","VK_CSMSBTRERSQE",564,"Sunbelt - Sqe Guard","306307"]
["M-T300VK_CLNTOL_D500ABB_IC","01","M-T300","VK_CLNTOL_D500ABB_IC",550,"D500/20 Abr Brush-IC","306307"]
["M-T300VK_CLNTOL_DPYP","01","M-T300","VK_CLNTOL_DPYP","N/C","Disk Brush Poly","306307"]
["M-T300VK_CSMSBTPARKIT","01","M-T300","VK_CSMSBTPARKIT",1577,"Sunbelt -Parts Kit","306307"]
["M-T300VK_CLNTOL_D600PYP_IC","01","M-T300","VK_CLNTOL_D600PYP_IC",232,"D600/24 PolyBrush-IC","306307"]
["M-T300VK_CLNTOL_D600ABB_IC","01","M-T300","VK_CLNTOL_D600ABB_IC",407,"D600/24 Abr Brush-IC","306307"]
["M-T300VK_CLNTOL_D600PAD_IC","01","M-T300","VK_CLNTOL_D600PAD_IC",232,"D600/24 PadDriver-IC","306307"]
["M-T300VK_PADTYP_430BLKH3","01","M-T300","VK_PADTYP_430BLKH3",31.1,"430/17 Blk HiPro 3M","306307"]
["M-T300VK_PADTYP_430BLU3","01","M-T300","VK_PADTYP_430BLU3",21.4,"430/17 Bl Scrub 3M","306307"]
["M-T300VK_PADTYP_430BWN3","01","M-T300","VK_PADTYP_430BWN3",21.4,"430/17 Br Strip 3M","306307"]
["M-T300VK_PADTYP_430MAR3","01","M-T300","VK_PADTYP_430MAR3",30,"430/17 MarSur 3M","306307"]
["M-T300VK_PADTYP_430RED3","01","M-T300","VK_PADTYP_430RED3",21.4,"430/17 Red Clean 3M","306307"]
["M-T300VK_PADTYP_430WHT3","01","M-T300","VK_PADTYP_430WHT3",21.4,"430/17 Wh Polish 3M","306307"]
["M-T300VK_PADTYP_500BLKH3","01","M-T300","VK_PADTYP_500BLKH3",31.1,"500/20 Blk HiPro 3M","306307"]
["M-T300VK_PADTYP_500BLU3","01","M-T300","VK_PADTYP_500BLU3",27.9,"500/20 Bl Scrub 3M","306307"]
["M-T300VK_BTY_W150C20","01","M-T300","VK_BTY_W150C20",863,"Bty Wet 150AH C20","306307"]
["M-T300VK_SVEEVMSWHLKT","01","M-T300","VK_SVEEVMSWHLKT",65,"SE Switch Lockout","306307"]
["M-T300VK_PARMNL","01","M-T300","VK_PARMNL",56,"Parts Manual","306307"]
["M-T300VK_PADTYP_500BWN3","01","M-T300","VK_PADTYP_500BWN3",28.9,"500/20 Br Strip 3M","306307"]
["M-T300VK_PADTYP_500MAR3","01","M-T300","VK_PADTYP_500MAR3",32.1,"500/20 MarSur 3M","306307"]
["M-T300VK_PADTYP_500RED3","01","M-T300","VK_PADTYP_500RED3",27.9,"500/20 Red Clean 3M","306307"]
["M-T300VK_PADTYP_500WHT3","01","M-T300","VK_PADTYP_500WHT3",27.9,"500/20 Wh Polish 3M","306307"]
["M-T300VK_PADTYP_600BLKH3","01","M-T300","VK_PADTYP_600BLKH3",18.2,"600/24 Blk HiPro 3M","306307"]
["M-T300VK_PADTYP_600BLU3","01","M-T300","VK_PADTYP_600BLU3",16.100000000000001,"600/24 Bl Scrub 3M","306307"]
["M-T300VK_PADTYP_600BWN3","01","M-T300","VK_PADTYP_600BWN3",16.100000000000001,"600/24 Br Strip 3M","306307"]
["M-T300VK_PADTYP_600MAR3","01","M-T300","VK_PADTYP_600MAR3",18.2,"600/24 MarSur 3M","306307"]
["M-T300VK_PADTYP_600RED3","01","M-T300","VK_PADTYP_600RED3",16.100000000000001,"600/24 Red Clean 3M","306307"]
["M-T300VK_PADTYP_600WHT3","01","M-T300","VK_PADTYP_600WHT3",16.100000000000001,"600/24 Wh Polish 3M","306307"]
["M-T300VK_PADTYP_O500BLU3","01","M-T300","VK_PADTYP_O500BLU3",27.9,"Orb 500/20 Blu 3M","306307"]
["M-T300VK_PADTYP_O500MAR3","01","M-T300","VK_PADTYP_O500MAR3",66.400000000000006,"Orb 500/20 Mar 3M","306307"]
["M-T300VK_PADTYP_O500RED3","01","M-T300","VK_PADTYP_O500RED3",27.9,"Orb 500/20 Red 3M","306307"]
["M-T300VK_PADTYP_O500WHT3","01","M-T300","VK_PADTYP_O500WHT3",27.9,"Orb 500/20 Wht 3M","306307"]
["M-T300VK_MCHCOM","01","M-T300","VK_MCHCOM",1367,"IRIS Telemetry","306307"]
["M-T300VK_CHG_13A85V5060H1P_OFF","01","M-T300","VK_CHG_13A85V5060H1P_OFF","N/C","Ch13A 85V 50/60H Off","306307"]
["M-T300VK_BTY_WO","01","M-T300","VK_BTY_WO","N/C","Without Battery","306307"]
["M-T300VK_BTY_W130C20","01","M-T300","VK_BTY_W130C20",725,"Bty Wet 130AH C20","306307"]
["M-T300VK_BTY_W105C20","01","M-T300","VK_BTY_W105C20",645,"Bty Wet 105AH C20","306307"]
["M-T300VK_BTY_A140C20","01","M-T300","VK_BTY_A140C20",2040,"Bty AGM 140AH C20","306307"]
["M-T300VK_BTYWTRSYS","01","M-T300","VK_BTYWTRSYS",580,"Battery Watering Sys","306307"]
["M-T300VK_BTYLFTBOX","01","M-T300","VK_BTYLFTBOX",186,"Battery Lift Box","306307"]
["M-T300VK_BASE_T300-600-D","01","M-T300","VK_BASE_T300-600-D",10040,"T300-600-D","306307"]
["M-T300VK_BASE_T300-500-O","01","M-T300","VK_BASE_T300-500-O",9664,"T300-500-O","306307"]
["M-T300VK_BASE_T300-500-D","01","M-T300","VK_BASE_T300-500-D",8504,"T300-500-D","306307"]
["M-T300VK_BASE_T300-430-D","01","M-T300","VK_BASE_T300-430-D",7398,"T300-430-D","306307"]
["M-T300VK_ADLOPRMNL","01","M-T300","VK_ADLOPRMNL",137,"Add Operator Manual","306307"]
["M-T300VK_CHG_13A85V5060H1P_ON","01","M-T300","VK_CHG_13A85V5060H1P_ON","N/C","Ch13A 85V 50/60Hz On","306307"]
["M-T300VK_TRM_PPAN","01","M-T300","VK_TRM_PPAN",969,"ProPanel Ctrls","306307"]
["M-T300VK_TRM_MPAN","01","M-T300","VK_TRM_MPAN","N/C","Membrane Ctrl Panel","306307"]
[{"$f":"C712&D712","v":"M-T300VK_SVEEVMSWH"},"01","M-T300","VK_SVEEVMSWH",624,"SE Switch Capability","306307"]
["M-T300VK_RECHSE_PYPOR_DCO","01","M-T300","VK_RECHSE_PYPOR_DCO",37,"Poly Mat w/Drain Cap","306307"]
["M-T300VK_RECHSE_PVC","01","M-T300","VK_RECHSE_PVC","N/C","PVC Matl w/Drain Cap","306307"]
["M-T300VK_QITMOD","01","M-T300","VK_QITMOD","N/C","Quiet Mode","306307"]
["M-T300VK_PRGBRK","01","M-T300","VK_PRGBRK",200,"Parking Brake","306307"]
["M-T300VK_PKG_WSKD","01","M-T300","VK_PKG_WSKD",189,"Skid w/Stretch Wrap","306307"]
["M-T300VK_PKG_SSKD","01","M-T300","VK_PKG_SSKD",320,"Stack Skid/Carton","306307"]
["M-T300VK_OPRMNL","01","M-T300","VK_OPRMNL","N/C","Oper Manual","306307"]
["M-T300VK_CLNTOL_D600PYP","01","M-T300","VK_CLNTOL_D600PYP",232,"D600/24 Poly Brush","306307"]
["M-T300VK_CLNTOL_D600PAD","01","M-T300","VK_CLNTOL_D600PAD",232,"D600/24 Pad Driver","306307"]
["M-T300VK_CLNTOL_D600NYL","01","M-T300","VK_CLNTOL_D600NYL",232,"D600/24 Nylon Brush","306307"]
["M-T300VK_CLNTOL_D600ABB","01","M-T300","VK_CLNTOL_D600ABB",407,"D600/24 Abr Brush","306307"]
["M-T300VK_CLNTOL_D500PYP","01","M-T300","VK_CLNTOL_D500PYP",362,"D500/20 Poly Brush","306307"]
["M-T300VK_CLNTOL_D500PAD","01","M-T300","VK_CLNTOL_D500PAD",362,"D500/20 Pad Driver","306307"]
["M-T300VK_CLNTOL_D500NYL","01","M-T300","VK_CLNTOL_D500NYL",362,"D500/20 Nylon Brush","306307"]
["M-T300VK_CLNTOL_D500ABB","01","M-T300","VK_CLNTOL_D500ABB",550,"D500/20 Abr Brush","306307"]
["M-T300VK_CLNTOL_D430PYP","01","M-T300","VK_CLNTOL_D430PYP",343,"D430/17 Poly Brush","306307"]
["M-T300VK_CLNTOL_D430PAD","01","M-T300","VK_CLNTOL_D430PAD",343,"D430/17 Pad Driver","306307"]
["M-T300VK_CLNTOL_D430NYL","01","M-T300","VK_CLNTOL_D430NYL",343,"D430/17 Nylon Brush","306307"]
["M-T300VK_CLNTOL_D430ABB","01","M-T300","VK_CLNTOL_D430ABB",404,"D430/17 Abr Brush","306307"]
["M-T300VK_CLNTOL_C500PYP","01","M-T300","VK_CLNTOL_C500PYP",141,"C500/20 Poly Brush","306307"]
["M-T300VK_CLNTOL_C500NYL","01","M-T300","VK_CLNTOL_C500NYL",228,"C500/20 Nylon Brush","306307"]
["M-T300VK_CLNTCH_ECH2ON","01","M-T300","VK_CLNTCH_ECH2ON",2222,"ec-H2O™ NanoClean","306307"]
["M-T300VK_CLNDRT_SP","01","M-T300","VK_CLNDRT_SP",1601,"Self Propel","306307"]
["M-T300VK_CLNDRT_PBA","01","M-T300","VK_CLNDRT_PBA","N/C","Pad / Brush Assist","306307"]
["M-T300VK_CHG_WO","01","M-T300","VK_CHG_WO","N/C","Without Charger","306307"]
["M-T300VK_BASE_T300-500-C","01","M-T300","VK_BASE_T300-500-C",10990,"T300-500-C","306307"]
["M-T300EVK_BASE_T300E-500-C_STD","01","M-T300E","VK_BASE_T300E-500-C_STD",9467,"T300E 500mm Cyl Std","306308"]
["M-T300EVK_PADTYP_O500BLU3","01","M-T300E","VK_PADTYP_O500BLU3",27.9,"Orb 500/20 Blu 3M","306308"]
["M-T300EVK_PADTYP_600BLU3","01","M-T300E","VK_PADTYP_600BLU3",16.100000000000001,"600/24 Bl Scrub 3M","306308"]
["M-T300EVK_PADTYP_O500WHT3","01","M-T300E","VK_PADTYP_O500WHT3",27.9,"Orb 500/20 Wht 3M","306308"]
["M-T300EVK_PADTYP_O500MAR3","01","M-T300E","VK_PADTYP_O500MAR3",66.400000000000006,"Orb 500/20 Mar 3M","306308"]
["M-T300EVK_PADTYP_600BLKH3","01","M-T300E","VK_PADTYP_600BLKH3",18.2,"600/24 Blk HiPro 3M","306308"]
["M-T300EVK_PADTYP_O500RED3","01","M-T300E","VK_PADTYP_O500RED3",27.9,"Orb 500/20 Red 3M","306308"]
["M-T300EVK_PADTYP_500WHT3","01","M-T300E","VK_PADTYP_500WHT3",27.9,"500/20 Wh Polish 3M","306308"]
["M-T300EVK_PADTYP_600BWN3","01","M-T300E","VK_PADTYP_600BWN3",16.100000000000001,"600/24 Br Strip 3M","306308"]
["M-T300EVK_PARMNL","01","M-T300E","VK_PARMNL",56,"Parts Manual","306308"]
["M-T300EVK_PADTYP_600RED3","01","M-T300E","VK_PADTYP_600RED3",16.100000000000001,"600/24 Red Clean 3M","306308"]
["M-T300EVK_PADTYP_600WHT3","01","M-T300E","VK_PADTYP_600WHT3",16.100000000000001,"600/24 Wh Polish 3M","306308"]
["M-T300EVK_BASE_T300E-430-D_STD","01","M-T300E","VK_BASE_T300E-430-D_STD",6074,"T300E 430mm Disk Std","306308"]
["M-T300EVK_CHG_27A100240V5060HOF","01","M-T300E","VK_CHG_27A100240V5060HOF","N/C","Chg 27A100240V5060H Off","306308"]
["M-T300EVK_BTY_L24V90A","01","M-T300E","VK_BTY_L24V90A",3029,"Bty Li-Ion 24v, 90AH","306308"]
["M-T300EVK_CHG_27A100240V5060HON","01","M-T300E","VK_CHG_27A100240V5060HON","N/C","Chg 27A100240V5060H On","306308"]
["M-T300EVK_PADTYP_500RED3","01","M-T300E","VK_PADTYP_500RED3",27.9,"500/20 Red Clean 3M","306308"]
["M-T300EVK_MCHCOM_SBT","01","M-T300E","VK_MCHCOM_SBT",1367,"IRIS Telemetry","306308"]
["M-T300EVK_BASE_T300E-500-D_STD","01","M-T300E","VK_BASE_T300E-500-D_STD",6916,"T300E 500mm Disk Std","306308"]
["M-T300EVK_BASE_T300E-500-O_STD","01","M-T300E","VK_BASE_T300E-500-O_STD",7818,"T300E 500mm Orb Std","306308"]
["M-T300EVK_BASE_T300E-600-D_STD","01","M-T300E","VK_BASE_T300E-600-D_STD",7456,"T300E 600mm Disk Std","306308"]
["M-T300EVK_SRVMNL","01","M-T300E","VK_SRVMNL",137,"Service Manual","306308"]
["M-T300EVK_DWNPRS_MEC","01","M-T300E","VK_DWNPRS_MEC","N/C","Mech Down Pressure","306308"]
["M-T300EVK_SVEEVMSWHLKT","01","M-T300E","VK_SVEEVMSWHLKT",65,"SE Switch Lockout","306308"]
["M-T300EVK_SVEEVMSWH","01","M-T300E","VK_SVEEVMSWH",624,"SE Switch Capability","306308"]
["M-T300EVK_RECHSE_PYPOR_PC","01","M-T300E","VK_RECHSE_PYPOR_PC","N/C","Poly Mat w/Pinch Cuff","306308"]
["M-T300EVK_TRM_PMEM","01","M-T300E","VK_TRM_PMEM",295,"Pro Membrane Panel","306308"]
["M-T300EVK_TRM_PPAN","01","M-T300E","VK_TRM_PPAN",969,"ProPanel Ctrls","306308"]
["M-T300EVK_PADTYP_O500YLW3","01","M-T300E","VK_PADTYP_O500YLW3",145.6,"Orb 500/20 Ylw 3M","306308"]
["M-T300EVK_PADTYP_600YLW3","01","M-T300E","VK_PADTYP_600YLW3",48.2,"600/24 Ylw Polish 3M","306308"]
["M-T300EVK_PADTYP_500YLW3","01","M-T300E","VK_PADTYP_500YLW3",88.9,"500/20 Ylw Polish 3M","306308"]
["M-T300EVK_PADTYP_430YLW3","01","M-T300E","VK_PADTYP_430YLW3",76,"430/17 Ylw Polish 3M","306308"]
["M-T300EVK_CLNTOL_D600PYP_IC","01","M-T300E","VK_CLNTOL_D600PYP_IC",232,"D600/24 PolyBrush-IC","306308"]
["M-T300EVK_CLNTOL_D600PAD_IC","01","M-T300E","VK_CLNTOL_D600PAD_IC",232,"D600/24 PadDriver-IC","306308"]
["M-T300EVK_CLNTOL_D600NYL_IC","01","M-T300E","VK_CLNTOL_D600NYL_IC",232,"D600/24 Nyl Brush-IC","306308"]
["M-T300EVK_CLNTOL_D600ABB_IC","01","M-T300E","VK_CLNTOL_D600ABB_IC",407,"D600/24 Abr Brush-IC","306308"]
["M-T300EVK_CLNTOL_D500PYP_IC","01","M-T300E","VK_CLNTOL_D500PYP_IC",362,"D500/20 PolyBrush-IC","306308"]
[{"$f":"C776&D776","v":"M-T300EVK_CLNTOL_D500PAD_IC"},"01","M-T300E","VK_CLNTOL_D500PAD_IC",362,"D500/20 PadDriver-IC","306308"]
["M-T300EVK_CLNTOL_D500NYL_IC","01","M-T300E","VK_CLNTOL_D500NYL_IC",362,"D500/20 Nyl Brush-IC","306308"]
["M-T300EVK_CLNTOL_D500ABB_IC","01","M-T300E","VK_CLNTOL_D500ABB_IC",550,"D500/20 Abr Brush-IC","306308"]
["M-T300EVK_CLNTOL_D430PYP_IC","01","M-T300E","VK_CLNTOL_D430PYP_IC",343,"D430/17 PolyBrush-IC","306308"]
["M-T300EVK_CLNTOL_D430PAD_IC","01","M-T300E","VK_CLNTOL_D430PAD_IC",343,"D430/17 PadDriver-IC","306308"]
["M-T300EVK_CLNTOL_D430NYL_IC","01","M-T300E","VK_CLNTOL_D430NYL_IC",343,"D430/17 Nyl Brush IC","306308"]
["M-T300EVK_CLNTOL_D430ABB_IC","01","M-T300E","VK_CLNTOL_D430ABB_IC",404,"D430/17 Abr Brush IC","306308"]
["M-T300EVK_ATT_IC_T300E","01","M-T300E","VK_ATT_IC_T300E",432,"Insta-Click™","306308"]
["M-T300EVK_MCHCOM","01","M-T300E","VK_MCHCOM",1367,"IRIS Telemetry","306308"]
["M-T300EVK_CSMSBTPARKIT","01","M-T300E","VK_CSMSBTPARKIT",1577,"Sunbelt -Parts Kit","306308"]
["M-T300EVK_PKG_SSKD_NC","01","M-T300E","VK_PKG_SSKD_NC","N/C","Stack Skid/Carton","306308"]
["M-T300EVK_CLNTCH_ECH2ON","01","M-T300E","VK_CLNTCH_ECH2ON",2222,"ec-H2O™ NanoClean","306308"]
["M-T300EVK_CLNTCH_CNV","01","M-T300E","VK_CLNTCH_CNV","N/C","Conventional","306308"]
["M-T300EVK_CLNDRT_SP","01","M-T300E","VK_CLNDRT_SP",1601,"Self Propel","306308"]
["M-T300EVK_CLNDRT_PBA","01","M-T300E","VK_CLNDRT_PBA","N/C","Pad / Brush Assist","306308"]
["M-T300EVK_CHG_WO","01","M-T300E","VK_CHG_WO","N/C","Without Charger","306308"]
["M-T300EVK_CHG_13A85V5060H1P_ON","01","M-T300E","VK_CHG_13A85V5060H1P_ON","N/C","Ch13A 85V 50/60Hz On","306308"]
["M-T300EVK_CHG_13A85V5060H1P_OFF","01","M-T300E","VK_CHG_13A85V5060H1P_OFF","N/C","Ch13A 85V 50/60H Off","306308"]
["M-T300EVK_BTY_WO","01","M-T300E","VK_BTY_WO","N/C","Without Battery","306308"]
["M-T300EVK_BTY_W150C20","01","M-T300E","VK_BTY_W150C20",863,"Bty Wet 150AH C20","306308"]
["M-T300EVK_BTY_W130C20","01","M-T300E","VK_BTY_W130C20",725,"Bty Wet 130AH C20","306308"]
["M-T300EVK_BTY_W105C20","01","M-T300E","VK_BTY_W105C20",645,"Bty Wet 105AH C20","306308"]
["M-T300EVK_BTY_A140C20","01","M-T300E","VK_BTY_A140C20",2040,"Bty AGM 140AH C20","306308"]
["M-T300EVK_BTYWTRSYS","01","M-T300E","VK_BTYWTRSYS",580,"Battery Watering Sys","306308"]
["M-T300EVK_BTYLFTBOX","01","M-T300E","VK_BTYLFTBOX",186,"Battery Lift Box","306308"]
["M-T300EVK_BASE_T300E-600-D","01","M-T300E","VK_BASE_T300E-600-D",7456,"T300E-600-D","306308"]
["M-T300EVK_BASE_T300E-500-O","01","M-T300E","VK_BASE_T300E-500-O",7818,"T300E-500-O","306308"]
["M-T300EVK_BASE_T300E-500-D","01","M-T300E","VK_BASE_T300E-500-D",6916,"T300E-500-D","306308"]
["M-T300EVK_BASE_T300E-500-C","01","M-T300E","VK_BASE_T300E-500-C",9475,"T300E-500-C","306308"]
["M-T300EVK_BASE_T300E-430-D","01","M-T300E","VK_BASE_T300E-430-D",6074,"T300E-430-D","306308"]
["M-T300EVK_ATT_CNV_T300E","01","M-T300E","VK_ATT_CNV_T300E","N/C","Conventional - 3 Lug","306308"]
["M-T300EVK_ADLOPRMNL","01","M-T300E","VK_ADLOPRMNL",137,"Add Operator Manual","306308"]
["M-T300EVK_CLNTOL_D600PAD","01","M-T300E","VK_CLNTOL_D600PAD",232,"D600/24 Pad Driver","306308"]
["M-T300EVK_CLNTOL_D600NYL","01","M-T300E","VK_CLNTOL_D600NYL",232,"D600/24 Nylon Brush","306308"]
["M-T300EVK_CLNTOL_D600ABB","01","M-T300E","VK_CLNTOL_D600ABB",320,"D600/24 Abr Brush","306308"]
["M-T300EVK_CLNTOL_D500PYP","01","M-T300E","VK_CLNTOL_D500PYP",283,"D500/20 Poly Brush","306308"]
["M-T300EVK_CLNTOL_D500PAD","01","M-T300E","VK_CLNTOL_D500PAD",283,"D500/20 Pad Driver","306308"]
["M-T300EVK_CLNTOL_D500NYL","01","M-T300E","VK_CLNTOL_D500NYL",283,"D500/20 Nylon Brush","306308"]
["M-T300EVK_CLNTOL_D500ABB","01","M-T300E","VK_CLNTOL_D500ABB",517,"D500/20 Abr Brush","306308"]
["M-T300EVK_CLNTOL_D430PYP","01","M-T300E","VK_CLNTOL_D430PYP",242,"D430/17 Poly Brush","306308"]
["M-T300EVK_CLNTOL_D430PAD","01","M-T300E","VK_CLNTOL_D430PAD",242,"D430/17 Pad Driver","306308"]
["M-T300EVK_CLNTOL_D430NYL","01","M-T300E","VK_CLNTOL_D430NYL",242,"D430/17 Nylon Brush","306308"]
["M-T300EVK_CLNTOL_D430ABB","01","M-T300E","VK_CLNTOL_D430ABB",391,"D430/17 Abr Brush","306308"]
["M-T300EVK_CLNTOL_C500PYP","01","M-T300E","VK_CLNTOL_C500PYP",141,"C500/20 Poly Brush","306308"]
["M-T300EVK_CLNTOL_C500NYL","01","M-T300E","VK_CLNTOL_C500NYL",228,"C500/20 Nylon Brush","306308"]
["M-T300EVK_PKG_PAD","01","M-T300E","VK_PKG_PAD","N/C","Pad Wrap","306308"]
["M-T300EVK_RECHSE_PYPOR_DCO","01","M-T300E","VK_RECHSE_PYPOR_DCO",37,"Poly Mat w/Drain Cap","306308"]
["M-T300EVK_RECHSE_PVC","01","M-T300E","VK_RECHSE_PVC","N/C","PVC Matl w/Drain Cap","306308"]
["M-T300EVK_PRGBRK","01","M-T300E","VK_PRGBRK",200,"Parking Brake","306308"]
["M-T300EVK_PKG_WSKD","01","M-T300E","VK_PKG_WSKD",189,"Skid w/Stretch Wrap","306308"]
["M-T300EVK_PKG_SSKD","01","M-T300E","VK_PKG_SSKD",320,"Stack Skid/Carton","306308"]
["M-T300EVK_OPRMNL","01","M-T300E","VK_OPRMNL","N/C","Oper Manual","306308"]
["M-T300EVK_DWN_PRS_SGL","01","M-T300E","VK_DWN_PRS_SGL","N/C","Single D Pressure","306308"]
["M-T300EVK_DWN_PRS_MLT_DO","01","M-T300E","VK_DWN_PRS_MLT_DO",368,"Multi DD Press-D/O","306308"]
["M-T300EVK_DWN_PRS_MLT_C","01","M-T300E","VK_DWN_PRS_MLT_C",368,"Multi DD Press-Cyl","306308"]
["M-T300EVK_CLNTOL_D600PYP","01","M-T300E","VK_CLNTOL_D600PYP",232,"D600/24 Poly Brush","306308"]
["M-T300EVK_PADTYP_430BLKH3","01","M-T300E","VK_PADTYP_430BLKH3",31.1,"430/17 Blk HiPro 3M","306308"]
["M-T300EVK_PADTYP_430BLU3","01","M-T300E","VK_PADTYP_430BLU3",21.4,"430/17 Bl Scrub 3M","306308"]
["M-T300EVK_PADTYP_430BWN3","01","M-T300E","VK_PADTYP_430BWN3",21.4,"430/17 Br Strip 3M","306308"]
["M-T300EVK_PADTYP_430MAR3","01","M-T300E","VK_PADTYP_430MAR3",30,"430/17 MarSur 3M","306308"]
["M-T300EVK_PADTYP_430RED3","01","M-T300E","VK_PADTYP_430RED3",21.4,"430/17 Red Clean 3M","306308"]
["M-T300EVK_PADTYP_430WHT3","01","M-T300E","VK_PADTYP_430WHT3",21.4,"430/17 Wh Polish 3M","306308"]
["M-T300EVK_PADTYP_500BLKH3","01","M-T300E","VK_PADTYP_500BLKH3",31.1,"500/20 Blk HiPro 3M","306308"]
["M-T300EVK_PADTYP_500BLU3","01","M-T300E","VK_PADTYP_500BLU3",27.9,"500/20 Bl Scrub 3M","306308"]
[{"$f":"C840&D840","v":"M-T300EVK_PADTYP_500BWN3"},"01","M-T300E","VK_PADTYP_500BWN3",28.9,"500/20 Br Strip 3M","306308"]
["M-T300EVK_PADTYP_500MAR3","01","M-T300E","VK_PADTYP_500MAR3",32.1,"500/20 MarSur 3M","306308"]
["M-T300EVK_PADTYP_600MAR3","01","M-T300E","VK_PADTYP_600MAR3",18.2,"600/24 MarSur 3M","306308"]
["M-SS300VK_BASE_SS300-600-D_STD","01","M-SS300","VK_BASE_SS300-600-D_STD",7456,"600 SS300 Disk STD","306309"]
["M-SS300VK_BASE_SS300-500-O_STD","01","M-SS300","VK_BASE_SS300-500-O_STD",7818,"500 SS300 Orbital STD","306309"]
["M-SS300VK_PADTYP_600BLU3","01","M-SS300","VK_PADTYP_600BLU3",16.100000000000001,"600/24 Bl Scrub 3M","306309"]
["M-SS300VK_PADTYP_430BWN3","01","M-SS300","VK_PADTYP_430BWN3",21.4,"430/17 Br Strip 3M","306309"]
["M-SS300VK_PADTYP_500MAR3","01","M-SS300","VK_PADTYP_500MAR3",32.1,"500/20 MarSur 3M","306309"]
["M-SS300VK_PADTYP_O500MAR3","01","M-SS300","VK_PADTYP_O500MAR3",66.400000000000006,"Orb 500/20 Mar 3M","306309"]
["M-SS300VK_BASE_SS300-500-D_STD","01","M-SS300","VK_BASE_SS300-500-D_STD",6916,"500 SS300 Disk STD","306309"]
["M-SS300VK_PADTYP_O500RED3","01","M-SS300","VK_PADTYP_O500RED3",27.9,"Orb 500/20 Red 3M","306309"]
["M-SS300VK_CLNTOL_D500ABB_IC","01","M-SS300","VK_CLNTOL_D500ABB_IC",550,"D500/20 Abr Brush-IC","306309"]
["M-SS300VK_PADTYP_O500BLU3","01","M-SS300","VK_PADTYP_O500BLU3",27.9,"Orb 500/20 Blu 3M","306309"]
["M-SS300VK_BASE_SS300-430-D_STD","01","M-SS300","VK_BASE_SS300-430-D_STD",6074,"430 SS300 Disk STD","306309"]
["M-SS300VK_PADTYP_600RED3","01","M-SS300","VK_PADTYP_600RED3",16.100000000000001,"600/24 Red Clean 3M","306309"]
["M-SS300VK_BASE_SS300-500-C_STD","01","M-SS300","VK_BASE_SS300-500-C_STD",9463,"500 SS300 Cyl STD","306309"]
["M-SS300VK_CHG_27A100240V5060HOF","01","M-SS300","VK_CHG_27A100240V5060HOF","N/C","Chg 27A100240V5060H Off","306309"]
["M-SS300VK_BTY_L24V90A","01","M-SS300","VK_BTY_L24V90A",3029,"Bty Li-Ion 24v, 90AH","306309"]
["M-SS300VK_CHG_27A100240V5060HON","01","M-SS300","VK_CHG_27A100240V5060HON","N/C","Chg 27A100240V5060H On","306309"]
["M-SS300VK_CLNTOL_D430PAD_IC","01","M-SS300","VK_CLNTOL_D430PAD_IC",343,"D430/17 PadDriver-IC","306309"]
["M-SS300VK_PADTYP_600BLKH3","01","M-SS300","VK_PADTYP_600BLKH3",18.2,"600/24 Blk HiPro 3M","306309"]
["M-SS300VK_PADTYP_500BWN3","01","M-SS300","VK_PADTYP_500BWN3",28.9,"500/20 Br Strip 3M","306309"]
["M-SS300VK_PADTYP_500WHT3","01","M-SS300","VK_PADTYP_500WHT3",27.9,"500/20 Wh Polish 3M","306309"]
["M-SS300VK_PADTYP_500RED3","01","M-SS300","VK_PADTYP_500RED3",27.9,"500/20 Red Clean 3M","306309"]
["M-SS300VK_CLNTOL_D500PAD","01","M-SS300","VK_CLNTOL_D500PAD",283,"D500/20 Pad Driver","306309"]
["M-SS300VK_CLNTCH_CNV","01","M-SS300","VK_CLNTCH_CNV","N/C","Conventional","306309"]
["M-SS300VK_PADTYP_O500WHT3","01","M-SS300","VK_PADTYP_O500WHT3",27.9,"Orb 500/20 Wht 3M","306309"]
["M-SS300VK_CLNTOL_D600ABB_IC","01","M-SS300","VK_CLNTOL_D600ABB_IC",421,"D600/24 Abr Brush-IC","306309"]
["M-SS300VK_CLNTOL_D600PAD_IC","01","M-SS300","VK_CLNTOL_D600PAD_IC",232,"D600/24 PadDriver-IC","306309"]
["M-SS300VK_PADTYP_430WHT3","01","M-SS300","VK_PADTYP_430WHT3",21.4,"430/17 Wh Polish 3M","306309"]
["M-SS300VK_PADTYP_430RED3","01","M-SS300","VK_PADTYP_430RED3",21.4,"430/17 Red Clean 3M","306309"]
["M-SS300VK_PADTYP_430MAR3","01","M-SS300","VK_PADTYP_430MAR3",30,"430/17 MarSur 3M","306309"]
["M-SS300VK_PADTYP_430BLKH3","01","M-SS300","VK_PADTYP_430BLKH3",31.1,"430/17 Blk HiPro 3M","306309"]
["M-SS300VK_DWNPRS_SGL","01","M-SS300","VK_DWNPRS_SGL","N/C","Single Down Pressure","306309"]
["M-SS300VK_CLNTOL_D600PYP_IC","01","M-SS300","VK_CLNTOL_D600PYP_IC",232,"D600/24 PolyBrush-IC","306309"]
["M-SS300VK_RECHSE_PYPOR_PC","01","M-SS300","VK_RECHSE_PYPOR_PC","N/C","Poly Mat w/Pinch Cuff","306309"]
["M-SS300VK_PADTYP_O500YLW3","01","M-SS300","VK_PADTYP_O500YLW3",52.5,"Orb 500/20 Ylw 3M","306309"]
["M-SS300VK_PADTYP_600YLW3","01","M-SS300","VK_PADTYP_600YLW3",48.2,"600/24 Ylw Polish 3M","306309"]
["M-SS300VK_PADTYP_500YLW3","01","M-SS300","VK_PADTYP_500YLW3",88.9,"500/20 Ylw Polish 3M","306309"]
["M-SS300VK_PADTYP_430YLW3","01","M-SS300","VK_PADTYP_430YLW3",76,"430/17 Ylw Polish 3M","306309"]
["M-SS300VK_PADTYP_430BLU3","01","M-SS300","VK_PADTYP_430BLU3",21.4,"430/17 Bl Scrub 3M","306309"]
["M-SS300VK_PADTYP_500BLKH3","01","M-SS300","VK_PADTYP_500BLKH3",31.1,"500/20 Blk HiPro 3M","306309"]
["M-SS300VK_PADTYP_500BLU3","01","M-SS300","VK_PADTYP_500BLU3",27.9,"500/20 Bl Scrub 3M","306309"]
["M-SS300VK_PADTYP_600BWN3","01","M-SS300","VK_PADTYP_600BWN3",16.100000000000001,"600/24 Br Strip 3M","306309"]
["M-SS300VK_PADTYP_600MAR3","01","M-SS300","VK_PADTYP_600MAR3",18.2,"600/24 MarSur 3M","306309"]
["M-SS300VK_PADTYP_600WHT3","01","M-SS300","VK_PADTYP_600WHT3",16.100000000000001,"600/24 Wh Polish 3M","306309"]
["M-SS300VK_DWNPRS_MLT_C","01","M-SS300","VK_DWNPRS_MLT_C",368,"Multi DD Press-Cyl","306309"]
["M-SS300VK_DWNPRS_MLT_DO","01","M-SS300","VK_DWNPRS_MLT_DO",368,"Multi DD Press-D/O","306309"]
["M-SS300VK_MCHCOM","01","M-SS300","VK_MCHCOM",1367,"IRIS Telemetry","306309"]
["M-SS300VK_ATT_QC_SS300","01","M-SS300","VK_ATT_QC_SS300",432,"Insta-Click™","306309"]
["M-SS300VK_BTY_W130C20","01","M-SS300","VK_BTY_W130C20",725,"Bty Wet 130AH C20","306309"]
["M-SS300VK_BTY_W150C20","01","M-SS300","VK_BTY_W150C20",863,"Bty Wet 150AH C20","306309"]
["M-SS300VK_BTY_WO","01","M-SS300","VK_BTY_WO","N/C","Without Battery","306309"]
["M-SS300VK_CHG_13A85V5060H1P_OFF","01","M-SS300","VK_CHG_13A85V5060H1P_OFF","N/C","Ch13A 85V 50/60H Off","306309"]
["M-SS300VK_CHG_13A85V5060H1P_ON","01","M-SS300","VK_CHG_13A85V5060H1P_ON","N/C","Ch13A 85V 50/60Hz On","306309"]
["M-SS300VK_CHG_WO","01","M-SS300","VK_CHG_WO","N/C","Without Charger","306309"]
["M-SS300VK_CLNTCH_ECH2ON","01","M-SS300","VK_CLNTCH_ECH2ON",2222,"ec-H2O™ NanoClean","306309"]
["M-SS300VK_CLNTOL_C500NYL","01","M-SS300","VK_CLNTOL_C500NYL",228,"C500/20 Nylon Brush","306309"]
["M-SS300VK_CLNTOL_D430ABB","01","M-SS300","VK_CLNTOL_D430ABB",404,"D430/17 Abr Brush","306309"]
["M-SS300VK_BTY_A140C20","01","M-SS300","VK_BTY_A140C20",2040,"Bty AGM 140AH C20","306309"]
["M-SS300VK_ADLOPRMNL","01","M-SS300","VK_ADLOPRMNL",137,"Add Operator Manual","306309"]
["M-SS300VK_BASE_SS300-500-C","01","M-SS300","VK_BASE_SS300-500-C",9463,"SS300-500-C","306309"]
["M-SS300VK_BASE_SS300-500-D","01","M-SS300","VK_BASE_SS300-500-D",6916,"SS300-500-D","306309"]
["M-SS300VK_BASE_SS300-600-D","01","M-SS300","VK_BASE_SS300-600-D",7456,"SS300-600-D","306309"]
[{"$f":"C904&D904","v":"M-SS300VK_BTYLFTBOX"},"01","M-SS300","VK_BTYLFTBOX",186,"Battery Lift Box","306309"]
["M-SS300VK_OPRMNL","01","M-SS300","VK_OPRMNL","N/C","Oper Manual","306309"]
["M-SS300VK_PKG_SSKD_NC","01","M-SS300","VK_PKG_SSKD_NC","N/C","Stack Skid/Carton","306309"]
["M-SS300VK_PKG_WSKD","01","M-SS300","VK_PKG_WSKD",189,"Skid w/Stretch Wrap","306309"]
["M-SS300VK_RECHSE_PVC","01","M-SS300","VK_RECHSE_PVC","N/C","PVC Matl w/Drain Cap","306309"]
["M-SS300VK_RECHSE_PYPOR_DCO","01","M-SS300","VK_RECHSE_PYPOR_DCO",37,"Poly Mat w/Drain Cap","306309"]
["M-SS300VK_CLNTOL_D430PYP","01","M-SS300","VK_CLNTOL_D430PYP",248,"D430/17 Poly Brush","306309"]
["M-SS300VK_CLNTOL_D500NYL","01","M-SS300","VK_CLNTOL_D500NYL",283,"D500/20 Nylon Brush","306309"]
["M-SS300VK_REC_TNK_DEB_TRY","01","M-SS300","VK_REC_TNK_DEB_TRY",30,"Rec.Tank Debris Tray","306309"]
["M-SS300VK_CLNTOL_D500PYP_QC","01","M-SS300","VK_CLNTOL_D500PYP_QC",354,"D500/20 PolyBrush-QC","306309"]
["M-SS300VK_CLNTOL_D500PAD_QC","01","M-SS300","VK_CLNTOL_D500PAD_QC",354,"D500/20 PadDriver-QC","306309"]
["M-SS300VK_CLNTOL_D500NYL_QC","01","M-SS300","VK_CLNTOL_D500NYL_QC",354,"D500/20 Nyl Brush-QC","306309"]
["M-SS300VK_CLNTOL_D500ABB_QC","01","M-SS300","VK_CLNTOL_D500ABB_QC",550,"D500/20 Abr Brush-QC","306309"]
["M-SS300VK_CLNTOL_D430PYP_QC","01","M-SS300","VK_CLNTOL_D430PYP_QC",343,"D430/17 PolyBrush-QC","306309"]
["M-SS300VK_CLNTOL_D430PAD_QC","01","M-SS300","VK_CLNTOL_D430PAD_QC",343,"D430/17 PadDriver-QC","306309"]
["M-SS300VK_CLNTOL_D430NYL_QC","01","M-SS300","VK_CLNTOL_D430NYL_QC",343,"D430/17 Nyl Brush QC","306309"]
["M-SS300VK_CLNTOL_D430ABB_QC","01","M-SS300","VK_CLNTOL_D430ABB_QC",404,"D430/17 Abr Brush QC","306309"]
["M-SS300VK_ACCCLP","01","M-SS300","VK_ACCCLP","N/C","Accessory Clip","306309"]
["M-SS300VK_PKG_SSKD","01","M-SS300","VK_PKG_SSKD",320,"Stack Skid/Carton","306309"]
["M-SS300VK_PARMNL","01","M-SS300","VK_PARMNL",56,"Parts Manual","306309"]
["M-SS300VK_CLNDRT_SP","01","M-SS300","VK_CLNDRT_SP",1601,"Self Propel","306309"]
["M-SS300VK_CLNDRT_PBA","01","M-SS300","VK_CLNDRT_PBA","N/C","Pad / Brush Assist","306309"]
["M-SS300VK_BTY_W105C20","01","M-SS300","VK_BTY_W105C20",645,"Bty Wet 105AH C20","306309"]
["M-SS300VK_BTYWTRSYS","01","M-SS300","VK_BTYWTRSYS",580,"Battery Watering Sys","306309"]
["M-SS300VK_BASE_SS300-500-O","01","M-SS300","VK_BASE_SS300-500-O",7818,"SS300-500-O","306309"]
["M-SS300VK_BASE_SS300-430-D","01","M-SS300","VK_BASE_SS300-430-D",6074,"SS300-430-D","306309"]
["M-SS300VK_ATT_CNV_SS300","01","M-SS300","VK_ATT_CNV_SS300","N/C","Conventional - 3 Lug","306309"]
["M-SS300VK_PRGBRK","01","M-SS300","VK_PRGBRK",200,"Parking Brake","306309"]
["M-SS300VK_PKG_PAD","01","M-SS300","VK_PKG_PAD","N/C","Pad Wrap","306309"]
["M-SS300VK_CLNTOL_D600PYP","01","M-SS300","VK_CLNTOL_D600PYP",232,"D600/24 Poly Brush","306309"]
["M-SS300VK_CLNTOL_D600PAD","01","M-SS300","VK_CLNTOL_D600PAD",232,"D600/24 Pad Driver","306309"]
["M-SS300VK_CLNTOL_D600NYL","01","M-SS300","VK_CLNTOL_D600NYL",232,"D600/24 Nylon Brush","306309"]
["M-SS300VK_CLNTOL_D600ABB","01","M-SS300","VK_CLNTOL_D600ABB",333,"D600/24 Abr Brush","306309"]
["M-SS300VK_CLNTOL_D500PYP","01","M-SS300","VK_CLNTOL_D500PYP",283,"D500/20 Poly Brush","306309"]
["M-SS300VK_CLNTOL_D500ABB","01","M-SS300","VK_CLNTOL_D500ABB",517,"D500/20 Abr Brush","306309"]
["M-SS300VK_CLNTOL_D430PAD","01","M-SS300","VK_CLNTOL_D430PAD",248,"D430/17 Pad Driver","306309"]
["M-SS300VK_CLNTOL_D430NYL","01","M-SS300","VK_CLNTOL_D430NYL",248,"D430/17 Nylon Brush","306309"]
["M-SS300VK_CLNTOL_C500PYP","01","M-SS300","VK_CLNTOL_C500PYP",141,"C500/20 Poly Brush","306309"]
["M-SS300VK_SRVMNL","01","M-SS300","VK_SRVMNL",137,"Service Manual","306309"]
["M-SS300VK_ATT_IC_SS300","01","M-SS300","VK_ATT_IC_SS300",432,"Insta-Click™","306309"]
["M-SS300VK_CLNTOL_D430NYL_IC","01","M-SS300","VK_CLNTOL_D430NYL_IC",343,"D430/17 Nyl Brush IC","306309"]
["M-SS300VK_CLNTOL_D430PYP_IC","01","M-SS300","VK_CLNTOL_D430PYP_IC",343,"D430/17 PolyBrush-IC","306309"]
["M-SS300VK_CLNTOL_D500NYL_IC","01","M-SS300","VK_CLNTOL_D500NYL_IC",354,"D500/20 Nyl Brush-IC","306309"]
["M-SS300VK_CLNTOL_D500PAD_IC","01","M-SS300","VK_CLNTOL_D500PAD_IC",354,"D500/20 PadDriver-IC","306309"]
["M-SS300VK_CLNTOL_D500PYP_IC","01","M-SS300","VK_CLNTOL_D500PYP_IC",354,"D500/20 PolyBrush-IC","306309"]
["M-SS300VK_CLNTOL_D600NYL_IC","01","M-SS300","VK_CLNTOL_D600NYL_IC",232,"D600/24 Nyl Brush-IC","306309"]
["M-SS300VK_CLNTOL_D430ABB_IC","01","M-SS300","VK_CLNTOL_D430ABB_IC",404,"D430/17 Abr Brush IC","306309"]
["M-X6ROVRVK_ADLOPRMNL","01","M-X6ROVR","VK_ADLOPRMNL",137,"Add Operator Manual","306404"]
["M-X6ROVRVK_AMRPAR_15HM","01","M-X6ROVR","VK_AMRPAR_15HM","N/C","Home Marker Pkg - 15","306404"]
["M-X6ROVRVK_AMRPAR_2HM","01","M-X6ROVR","VK_AMRPAR_2HM","N/C","Home Marker Pkg - 2","306404"]
["M-X6ROVRVK_AMRPAR_5HM","01","M-X6ROVR","VK_AMRPAR_5HM","N/C","Home Marker Pkg - 5","306404"]
["M-X6ROVRVK_BTY_L24V180A","01","M-X6ROVR","VK_BTY_L24V180A","N/C","Li-Ion 24v, 180AH","306404"]
["M-X6ROVRVK_CHG_41A100V5060H1P","01","M-X6ROVR","VK_CHG_41A100V5060H1P","N/C","Ch41A 100V 5060H1P","306404"]
["M-X6ROVRVK_CHG_CHGDOK","01","M-X6ROVR","VK_CHG_CHGDOK",2500,"XC1 Charging Dock","306404"]
["M-X6ROVRVK_CLNTOL_ABB","01","M-X6ROVR","VK_CLNTOL_ABB","N/C","Abrasive Brush","306404"]
["M-X6ROVRVK_CLNTOL_NYL","01","M-X6ROVR","VK_CLNTOL_NYL","N/C","Nylon Brush","306404"]
["M-X6ROVRVK_CLNTOL_PAD","01","M-X6ROVR","VK_CLNTOL_PAD","N/C","Pad Driver","306404"]
["M-X6ROVRVK_CLNTOL_PYP","01","M-X6ROVR","VK_CLNTOL_PYP","N/C","Poly Brush","306404"]
["M-X6ROVRVK_PADTYP_BLU3","01","M-X6ROVR","VK_PADTYP_BLU3",17,"Blu Scrub - 3M","306404"]
["M-X6ROVRVK_PADTYP_BWN3","01","M-X6ROVR","VK_PADTYP_BWN3",17,"Br Stripping - 3M","306404"]
["M-X6ROVRVK_PADTYP_MAR3","01","M-X6ROVR","VK_PADTYP_MAR3",17,"Mar Surf Prep 3M","306404"]
["M-X6ROVRVK_PADTYP_RED3","01","M-X6ROVR","VK_PADTYP_RED3",17,"Red Clean 3M","306404"]
["M-X6ROVRVK_PADTYP_WHT3","01","M-X6ROVR","VK_PADTYP_WHT3",17,"Wh Polish 3M","306404"]
["M-X6ROVRVK_PADTYP_YLW3","01","M-X6ROVR","VK_PADTYP_YLW3",17,"Ylw Polish 3M","306404"]
[{"$f":"C968&D968","v":"M-X6ROVRVK_PARMNL"},"01","M-X6ROVR","VK_PARMNL",57,"Parts Manual","306404"]
["M-X6ROVRVK_PKG_PAD","01","M-X6ROVR","VK_PKG_PAD","N/C","Pad Wrap","306404"]
["M-X6ROVRVK_PKG_SCNS","01","M-X6ROVR","VK_PKG_SCNS",349,"NonStack Skid/Carton","306404"]
["M-X6ROVRVK_REF_X6ROVR-660D","01","M-X6ROVR","VK_REF_X6ROVR-660D",66458,"X6 ROVR 660-DISK","306404"]
["M-X6ROVRVK_SQEMAT_L","01","M-X6ROVR","VK_SQEMAT_L","N/C","Squeegee Linatex","306404"]
["M-X4ROVRVK_ADLOPRMNL","01","M-X4ROVR","VK_ADLOPRMNL",141,"Add Operator Manual","306405"]
["M-X4ROVRVK_SQEMAT_L","01","M-X4ROVR","VK_SQEMAT_L","N/C","Squeegee Linatex","306405"]
["M-X4ROVRVK_REF_X4ROVR-500D","01","M-X4ROVR","VK_REF_X4ROVR-500D",52787,"X4 ROVR 500-DISK","306405"]
["M-X4ROVRVK_PKG_SCNS","01","M-X4ROVR","VK_PKG_SCNS",320,"NonStack Skid/Carton","306405"]
["M-X4ROVRVK_PKG_PAD","01","M-X4ROVR","VK_PKG_PAD","N/C","Pad Wrap","306405"]
["M-X4ROVRVK_PARMNL","01","M-X4ROVR","VK_PARMNL",58,"Parts Manual","306405"]
["M-X4ROVRVK_PADTYP_500YLW3","01","M-X4ROVR","VK_PADTYP_500YLW3",159.5,"500/20 Ylw Polish 3M","306405"]
["M-X4ROVRVK_PADTYP_500WHT3","01","M-X4ROVR","VK_PADTYP_500WHT3",18.5,"500/20 Wh Polish 3M","306405"]
["M-X4ROVRVK_PADTYP_500RED3","01","M-X4ROVR","VK_PADTYP_500RED3",18.5,"500/20 Red Clean 3M","306405"]
["M-X4ROVRVK_PADTYP_500BLU3","01","M-X4ROVR","VK_PADTYP_500BLU3",18.5,"500/20 Bl Scrub 3M","306405"]
["M-X4ROVRVK_CLNTOL_500PYP","01","M-X4ROVR","VK_CLNTOL_500PYP","N/C","500/20 Poly Brush","306405"]
["M-X4ROVRVK_CLNTOL_500PAD","01","M-X4ROVR","VK_CLNTOL_500PAD","N/C","500/20 Pad Driver","306405"]
["M-X4ROVRVK_CLNTOL_500NYL","01","M-X4ROVR","VK_CLNTOL_500NYL","N/C","500/20 Nylon Brush","306405"]
["M-X4ROVRVK_CHG_41A100V5060H1P","01","M-X4ROVR","VK_CHG_41A100V5060H1P","N/C","Ch41A 100V 5060H1P","306405"]
["M-X4ROVRVK_BTY_L24V90A","01","M-X4ROVR","VK_BTY_L24V90A","N/C","Bty Li-Ion 24v, 90AH","306405"]
["M-T500VK_PADTYP_700BLU3","01","M-T500","VK_PADTYP_700BLU3",18.2,"700/28 Blu Scrub 3M","306407"]
["M-T500VK_PADTYP_650WHT3","01","M-T500","VK_PADTYP_650WHT3",17.2,"650/26 Wh Polish 3M","306407"]
["M-T500VK_PADTYP_O700WHT3","01","M-T500","VK_PADTYP_O700WHT3",61,"Orb 700/28 Wht 3M","306407"]
["M-T500VK_PADTYP_800RED3","01","M-T500","VK_PADTYP_800RED3",20.399999999999999,"800/32 Red Clean 3M","306407"]
["M-T500VK_CHG_27A100240V5060HOF","01","M-T500","VK_CHG_27A100240V5060HOF","N/C","Chg 27A100240V5060H Off","306407"]
["M-T500VK_PADTYP_700WHT3","01","M-T500","VK_PADTYP_700WHT3",18.2,"700/28 Wht Polish 3M","306407"]
["M-T500VK_PADTYP_700BWN3","01","M-T500","VK_PADTYP_700BWN3",18.2,"700/28 Bwn Strip 3M","306407"]
["M-T500VK_BASE_T500-700-C","01","M-T500","VK_BASE_T500-700-C",19425,"T500-700-C","306407"]
["M-T500VK_PADTYP_O700BLU3","01","M-T500","VK_PADTYP_O700BLU3",61,"Orb 700/28 Blu 3M","306407"]
["M-T500VK_BTY_L24V90A","01","M-T500","VK_BTY_L24V90A",3451,"Bty Li-Ion 24v, 90AH","306407"]
["M-T500VK_PADTYP_700RED3","01","M-T500","VK_PADTYP_700RED3",18.2,"700/28 Red Clean 3M","306407"]
["M-T500VK_BTY_L24V180A","01","M-T500","VK_BTY_L24V180A",6495,"Li-Ion 24v, 180AH","306407"]
["M-T500VK_AUTFIL","01","M-T500","VK_AUTFIL",228,"Auto Fill","306407"]
["M-T500VK_PADTYP_O700MAR3","01","M-T500","VK_PADTYP_O700MAR3",121,"Orb 700/28 Mar 3M","306407"]
["M-T500VK_CLNTOL_D700NYL","01","M-T500","VK_CLNTOL_D700NYL","N/C","D700/28 Nylon Brush","306407"]
["M-T500VK_CHG_41A100V5060H1P","01","M-T500","VK_CHG_41A100V5060H1P",418,"Ch41A 100V 5060H1P","306407"]
["M-T500VK_CHG_27A100240V5060HON","01","M-T500","VK_CHG_27A100240V5060HON","N/C","Chg 27A100240V5060H On","306407"]
["M-T500VK_MCHCOM","01","M-T500","VK_MCHCOM",1367,"IRIS Telemetry","306407"]
["M-T500VK_MCHCOM_SBT","01","M-T500","VK_MCHCOM_SBT",1367,"IRIS Telemetry","306407"]
["M-T500VK_BASE_T500-650-D_STD","01","M-T500","VK_BASE_T500-650-D_STD",16742,"T500 650mm Disk Std Config","306407"]
["M-T500VK_BASE_T500-700-C_STD","01","M-T500","VK_BASE_T500-700-C_STD",19425,"T500 700mm Cyl Std Config","306407"]
["M-T500VK_BASE_T500-700-D_STD","01","M-T500","VK_BASE_T500-700-D_STD",18217,"T500 700mm Disk Std Config","306407"]
["M-T500VK_BASE_T500-700-O_STD","01","M-T500","VK_BASE_T500-700-O_STD",18921,"T500 700mm Orb Std Config","306407"]
["M-T500VK_BASE_T500-800-D_STD","01","M-T500","VK_BASE_T500-800-D_STD",19206,"T500 800mm Disk Std Config","306407"]
["M-T500VK_CLNTOL_C700PYP","01","M-T500","VK_CLNTOL_C700PYP","N/C","C700/28 Poly Brush","306407"]
["M-T500VK_CLNTOL_D650NYL","01","M-T500","VK_CLNTOL_D650NYL","N/C","D650/26 Nylon Brush","306407"]
["M-T500VK_CLNTOL_D800PAD","01","M-T500","VK_CLNTOL_D800PAD","N/C","D800/32 Pad Driver","306407"]
["M-T500VK_CLNTOL_O700PAD","01","M-T500","VK_CLNTOL_O700PAD","N/C","O700/28 Pad Driver","306407"]
["M-T500VK_ADLOPRMNL","01","M-T500","VK_ADLOPRMNL",135,"Add Operator Manual","306407"]
["M-T500VK_BASE_T500-700-D","01","M-T500","VK_BASE_T500-700-D",18217,"T500-700-D","306407"]
["M-T500VK_BASE_T500-700-O","01","M-T500","VK_BASE_T500-700-O",18921,"T500-700-O","306407"]
["M-T500VK_BTYWTRSYS_SF","01","M-T500","VK_BTYWTRSYS_SF",981,"Smart Fill","306407"]
["M-T500VK_BTY_A220C20","01","M-T500","VK_BTY_A220C20",1654,"Bty AGM 220AH C20","306407"]
["M-T500VK_BTY_W225C20","01","M-T500","VK_BTY_W225C20","N/C","Bty Wet 225AH C20","306407"]
["M-T500VK_BTY_W260C20","01","M-T500","VK_BTY_W260C20",454,"Bty Wet 260AH C20","306407"]
["M-T500VK_BTY_WO","01","M-T500","VK_BTY_WO",-450,"Without Battery","306407"]
["M-T500VK_CHG_25A100V5060H1","01","M-T500","VK_CHG_25A100V5060H1","N/C","Ch25A 100V 5060H1P","306407"]
["M-T500VK_PKG_SSKD","01","M-T500","VK_PKG_SSKD",472,"Stack Skid/Carton","306407"]
["M-T500VK_PKG_WSKD","01","M-T500","VK_PKG_WSKD",331,"Skid w/Stretch Wrap","306407"]
["M-T500VK_PRGBRK","01","M-T500","VK_PRGBRK",195,"Parking Brake","306407"]
["M-T500VK_SPYNOZWTHHSE","01","M-T500","VK_SPYNOZWTHHSE",757,"Spray Nozzel w/Hose","306407"]
["M-T500VK_SQEWDT_NWA","01","M-T500","VK_SQEWDT_NWA","N/C","NarrowAisle Squeegee","306407"]
["M-T500VK_SQEWDT_STD","01","M-T500","VK_SQEWDT_STD","N/C","Standard Squeegee","306407"]
["M-T500VK_SRVMNL","01","M-T500","VK_SRVMNL",135,"Service Manual","306407"]
[{"$f":"C1032&D1032","v":"M-T500VK_SVEEVMSWH"},"01","M-T500","VK_SVEEVMSWH",613,"SE Switch Capability","306407"]
["M-T500VK_TRM_PMEM","01","M-T500","VK_TRM_PMEM","N/C","Pro Membrane Panel","306407"]
["M-T500VK_TRM_PPAN","01","M-T500","VK_TRM_PPAN",951,"ProPanel Ctrls","306407"]
["M-T500VK_CLNTOL_D650PAD","01","M-T500","VK_CLNTOL_D650PAD","N/C","D650/26 Pad Driver","306407"]
["M-T500VK_BTY_F183C20","01","M-T500","VK_BTY_F183C20",2117,"Sealed/MF FastCharge 183AH C20","306407"]
["M-T500VK_CHG_27A100240V5060H","01","M-T500","VK_CHG_27A100240V5060H",188,"Chg 27A 100-240V 5060Hz 1Ph","306407"]
["M-T500VK_RECHSE_PYPOR_PC","01","M-T500","VK_RECHSE_PYPOR_PC","N/C","Poly Mat w/Pinch Cuff","306407"]
["M-T500VK_BASE_T500-800-D","01","M-T500","VK_BASE_T500-800-D",19206,"T500-800-D","306407"]
["M-T500VK_SVEEVMSWHLKT","01","M-T500","VK_SVEEVMSWHLKT",64,"SE Switch Lockout","306407"]
["M-T500VK_BTYWTRSYS_ML","01","M-T500","VK_BTYWTRSYS_ML",573,"Battery Watering Manual","306407"]
["M-T500VK_CHG_27A85V5060H1P","01","M-T500","VK_CHG_27A85V5060H1P","N/C","CH27A 85-270V 5060H1P","306407"]
["M-T500VK_RECHSE_PVC_DCO","01","M-T500","VK_RECHSE_PVC_DCO","N/C","PVC Matl w/Drain Cap","306407"]
["M-T500VK_PARMNL","01","M-T500","VK_PARMNL",55,"Parts Manual","306407"]
["M-T500VK_CLNTCH_ECH2ON","01","M-T500","VK_CLNTCH_ECH2ON",3040,"ec-H2O™ NanoClean","306407"]
["M-T500VK_CLNTCH_CNV","01","M-T500","VK_CLNTCH_CNV","N/C","Conventional","306407"]
["M-T500VK_CHG_WO","01","M-T500","VK_CHG_WO",-450,"Without Charger","306407"]
["M-T500VK_BASE_T500-650-D","01","M-T500","VK_BASE_T500-650-D",16742,"T500-650-D","306407"]
["M-T500VK_CLNTOL_D800PYP","01","M-T500","VK_CLNTOL_D800PYP","N/C","D800/32 Poly Brush","306407"]
["M-T500VK_CLNTOL_D800NYL","01","M-T500","VK_CLNTOL_D800NYL","N/C","D800/32 Nylon Brush","306407"]
["M-T500VK_CLNTOL_D800ABB","01","M-T500","VK_CLNTOL_D800ABB",356,"D800/32 Abr Brush","306407"]
["M-T500VK_CLNTOL_D700PAD","01","M-T500","VK_CLNTOL_D700PAD","N/C","D700/28 Pad Driver","306407"]
["M-T500VK_CLNTOL_D700ABB","01","M-T500","VK_CLNTOL_D700ABB",356,"D700/28 Abr Brush","306407"]
["M-T500VK_CLNTOL_D650PYP","01","M-T500","VK_CLNTOL_D650PYP","N/C","D650/26 Poly Brush","306407"]
["M-T500VK_CLNTOL_D650ABB","01","M-T500","VK_CLNTOL_D650ABB",356,"D650/26 Abr Brush","306407"]
["M-T500VK_CLNTOL_C700NYL","01","M-T500","VK_CLNTOL_C700NYL","N/C","C700/28 Nylon Brush","306407"]
["M-T500VK_CLNTOL_C700ABB","01","M-T500","VK_CLNTOL_C700ABB",356,"C700/28 Abr Brush","306407"]
["M-T500VK_PADTYP_650RED3","01","M-T500","VK_PADTYP_650RED3",17.2,"650/26 Red Clean 3M","306407"]
["M-T500VK_PADTYP_700BLKH3","01","M-T500","VK_PADTYP_700BLKH3",20.399999999999999,"700/28 Blk HiPro 3M","306407"]
["M-T500VK_PADTYP_700MAR3","01","M-T500","VK_PADTYP_700MAR3",20.399999999999999,"700/28 MarSur Pad 3M","306407"]
["M-T500VK_PADTYP_800BLU3","01","M-T500","VK_PADTYP_800BLU3",20.399999999999999,"800/32 Blu Scrub 3M","306407"]
["M-T500VK_PADTYP_800WHT3","01","M-T500","VK_PADTYP_800WHT3",20.399999999999999,"800/32 Wht Polish 3M","306407"]
["M-T500VK_PADTYP_O700RED3","01","M-T500","VK_PADTYP_O700RED3",61,"Orb 700/28 Red 3M","306407"]
["M-T500VK_PADTYP_650MAR3","01","M-T500","VK_PADTYP_650MAR3",19.3,"650/26 MarSur Pad 3M","306407"]
["M-T500VK_CLNTOL_D700PYP","01","M-T500","VK_CLNTOL_D700PYP","N/C","D700/28 Poly Brush","306407"]
["M-T500VK_PADTYP_650BLU3","01","M-T500","VK_PADTYP_650BLU3",17.2,"650/26 Bl Scrub 3M","306407"]
["M-T500VK_PADTYP_650BWN3","01","M-T500","VK_PADTYP_650BWN3",17.2,"650/26 Br Strip 3M","306407"]
["M-T500VK_CSMSBTPARKIT","01","M-T500","VK_CSMSBTPARKIT",1508,"Sunbelt -Parts Kit","306407"]
["M-T500EVK_PADTYP_800BLU3","01","M-T500E","VK_PADTYP_800BLU3",20.399999999999999,"800/32 Blu Scrub 3M","306408"]
["M-T500EVK_CHG_27A100240V5060HON","01","M-T500E","VK_CHG_27A100240V5060HON","N/C","Chg 27A100240V5060H On","306408"]
["M-T500EVK_CLNTOL_D700ABB","01","M-T500E","VK_CLNTOL_D700ABB",356,"D700/28 Abr Brush","306408"]
["M-T500EVK_CLNTOL_D700PYP","01","M-T500E","VK_CLNTOL_D700PYP","N/C","D700/28 Poly Brush","306408"]
["M-T500EVK_CHG_27A100240V5060HOF","01","M-T500E","VK_CHG_27A100240V5060HOF","N/C","Chg 27A100240V5060H Off","306408"]
["M-T500EVK_CLNTOL_D650NYL","01","M-T500E","VK_CLNTOL_D650NYL","N/C","D650/26 Nylon Brush","306408"]
["M-T500EVK_BTY_L24V90A","01","M-T500E","VK_BTY_L24V90A",3451,"Bty Li-Ion 24v, 90AH","306408"]
["M-T500EVK_CLNTOL_D800PAD","01","M-T500E","VK_CLNTOL_D800PAD","N/C","D800/32 Pad Driver","306408"]
["M-T500EVK_CLNTOL_C700NYL","01","M-T500E","VK_CLNTOL_C700NYL","N/C","C700/28 Nylon Brush","306408"]
["M-T500EVK_CLNTOL_D800ABB","01","M-T500E","VK_CLNTOL_D800ABB",356,"D800/32 Abr Brush","306408"]
["M-T500EVK_CLNTOL_D650ABB","01","M-T500E","VK_CLNTOL_D650ABB",356,"D650/26 Abr Brush","306408"]
["M-T500EVK_CLNTOL_D700PAD","01","M-T500E","VK_CLNTOL_D700PAD","N/C","D700/28 Pad Driver","306408"]
["M-T500EVK_BTY_L24V180A","01","M-T500E","VK_BTY_L24V180A",6495,"Li-Ion 24v, 180AH","306408"]
["M-T500EVK_CHG_41A100V5060H1P","01","M-T500E","VK_CHG_41A100V5060H1P",418,"Ch41A 100V 5060H1P","306408"]
["M-T500EVK_CLNTOL_D800PYP","01","M-T500E","VK_CLNTOL_D800PYP","N/C","D800/32 Poly Brush","306408"]
["M-T500EVK_PADTYP_700RED3","01","M-T500E","VK_PADTYP_700RED3",18.2,"700/28 Red Clean 3M","306408"]
["M-T500EVK_SQEWDT_NWA","01","M-T500E","VK_SQEWDT_NWA","N/C","NarrowAisle Squeegee","306408"]
["M-T500EVK_CHG_27A100240V5060H","01","M-T500E","VK_CHG_27A100240V5060H",188,"Chg 27A 100-240V 5060Hz 1Ph","306408"]
["M-T500EVK_BASE_T500E-650-D_STD","01","M-T500E","VK_BASE_T500E-650-D_STD",15526,"T500E 650mm Disk Std Config","306408"]
["M-T500EVK_BASE_T500E-700-C_STD","01","M-T500E","VK_BASE_T500E-700-C_STD",17963,"T500E 700mm Cyl Std Config","306408"]
["M-T500EVK_BASE_T500E-700-D_STD","01","M-T500E","VK_BASE_T500E-700-D_STD",16336,"T500E 700mm Disk Std Config","306408"]
["M-T500EVK_BASE_T500E-700-O_STD","01","M-T500E","VK_BASE_T500E-700-O_STD",17078,"T500E 700mm Orb Std Config","306408"]
["M-T500EVK_BASE_T500E-800-D_STD","01","M-T500E","VK_BASE_T500E-800-D_STD",17224,"T500E 800mm Disk Std Config","306408"]
["M-T500EVK_BTY_F183C20","01","M-T500E","VK_BTY_F183C20",2117,"Sealed/MF FastCharge 183AH C20","306408"]
["M-T500EVK_RECHSE_PYPOR_DCV","01","M-T500E","VK_RECHSE_PYPOR_DCV","N/C","Poly Mat w/DCV","306408"]
["M-T500EVK_RECHSE_PYPOR_PC","01","M-T500E","VK_RECHSE_PYPOR_PC","N/C","Poly Mat w/Pinch Cuff","306408"]
["M-T500EVK_SPYNOZWTHHSE","01","M-T500E","VK_SPYNOZWTHHSE",757,"Spray Nozzel w/Hose","306408"]
[{"$f":"C1096&D1096","v":"M-T500EVK_PADTYP_O700YLW3"},"01","M-T500E","VK_PADTYP_O700YLW3",131.69999999999999,"Orb 700/28 Ylw 3M","306408"]
["M-T500EVK_PADTYP_800YLW3","01","M-T500E","VK_PADTYP_800YLW3",67.5,"800/32 Ylw Polish 3M","306408"]
["M-T500EVK_PADTYP_700YLW3","01","M-T500E","VK_PADTYP_700YLW3",58.9,"700/28 Ylw Polish 3M","306408"]
["M-T500EVK_PADTYP_650YLW3","01","M-T500E","VK_PADTYP_650YLW3",51.4,"650/26 Ylw Polish 3M","306408"]
["M-T500EVK_CLNTOL_C700ABB","01","M-T500E","VK_CLNTOL_C700ABB",356,"C700/28 Abr Brush","306408"]
["M-T500EVK_CLNTOL_C700PYP","01","M-T500E","VK_CLNTOL_C700PYP","N/C","C700/28 Poly Brush","306408"]
["M-T500EVK_CLNTOL_D650PAD","01","M-T500E","VK_CLNTOL_D650PAD","N/C","D650/26 Pad Driver","306408"]
["M-T500EVK_CLNTOL_D650PYP","01","M-T500E","VK_CLNTOL_D650PYP","N/C","D650/26 Poly Brush","306408"]
["M-T500EVK_CLNTOL_D700NYL","01","M-T500E","VK_CLNTOL_D700NYL","N/C","D700/28 Nylon Brush","306408"]
["M-T500EVK_CLNTOL_D800NYL","01","M-T500E","VK_CLNTOL_D800NYL","N/C","D800/32 Nylon Brush","306408"]
["M-T500EVK_CLNTOL_O700PAD","01","M-T500E","VK_CLNTOL_O700PAD","N/C","O700/28 Pad Driver","306408"]
["M-T500EVK_PRGBRK","01","M-T500E","VK_PRGBRK",195,"Parking Brake","306408"]
["M-T500EVK_PADTYP_650BLU3","01","M-T500E","VK_PADTYP_650BLU3",17.2,"650/26 Bl Scrub 3M","306408"]
["M-T500EVK_PADTYP_O700WHT3","01","M-T500E","VK_PADTYP_O700WHT3",61,"Orb 700/28 Wht 3M","306408"]
["M-T500EVK_PADTYP_O700RED3","01","M-T500E","VK_PADTYP_O700RED3",61,"Orb 700/28 Red 3M","306408"]
["M-T500EVK_PADTYP_O700MAR3","01","M-T500E","VK_PADTYP_O700MAR3",121,"Orb 700/28 Mar 3M","306408"]
["M-T500EVK_PADTYP_O700BLU3","01","M-T500E","VK_PADTYP_O700BLU3",61,"Orb 700/28 Blu 3M","306408"]
["M-T500EVK_PADTYP_800WHT3","01","M-T500E","VK_PADTYP_800WHT3",20.399999999999999,"800/32 Wht Polish 3M","306408"]
["M-T500EVK_PADTYP_800RED3","01","M-T500E","VK_PADTYP_800RED3",20.399999999999999,"800/32 Red Clean 3M","306408"]
["M-T500EVK_BTY_WO","01","M-T500E","VK_BTY_WO",-450,"Without Battery","306408"]
["M-T500EVK_BTY_W260C20","01","M-T500E","VK_BTY_W260C20",454,"Bty Wet 260AH C20","306408"]
["M-T500EVK_BTY_W225C20","01","M-T500E","VK_BTY_W225C20","N/C","Bty Wet 225AH C20","306408"]
["M-T500EVK_BTY_A220C20","01","M-T500E","VK_BTY_A220C20",1654,"Bty AGM 220AH C20","306408"]
["M-T500EVK_BTYWTRSYS_SF","01","M-T500E","VK_BTYWTRSYS_SF",981,"Smart Fill","306408"]
["M-T500EVK_BTYWTRSYS_ML","01","M-T500E","VK_BTYWTRSYS_ML",573,"Battery Watering Manual","306408"]
["M-T500EVK_BASE_T500E-800-D","01","M-T500E","VK_BASE_T500E-800-D",17224,"T500E-800-D","306408"]
["M-T500EVK_BASE_T500E-700-O","01","M-T500E","VK_BASE_T500E-700-O",17078,"T500E-700-O","306408"]
["M-T500EVK_BASE_T500E-700-D","01","M-T500E","VK_BASE_T500E-700-D",16336,"T500E-700-D","306408"]
["M-T500EVK_BASE_T500E-700-C","01","M-T500E","VK_BASE_T500E-700-C",17963,"T500E-700-C","306408"]
["M-T500EVK_BASE_T500E-650-D","01","M-T500E","VK_BASE_T500E-650-D",15526,"T500E-650-D","306408"]
["M-T500EVK_PADTYP_700WHT3","01","M-T500E","VK_PADTYP_700WHT3",18.2,"700/28 Wht Polish 3M","306408"]
["M-T500EVK_PADTYP_700MAR3","01","M-T500E","VK_PADTYP_700MAR3",20.399999999999999,"700/28 MarSur Pad 3M","306408"]
["M-T500EVK_PADTYP_700BWN3","01","M-T500E","VK_PADTYP_700BWN3",18.2,"700/28 Bwn Strip 3M","306408"]
["M-T500EVK_PADTYP_700BLU3","01","M-T500E","VK_PADTYP_700BLU3",18.2,"700/28 Blu Scrub 3M","306408"]
["M-T500EVK_PADTYP_700BLKH3","01","M-T500E","VK_PADTYP_700BLKH3",20.399999999999999,"700/28 Blk HiPro 3M","306408"]
["M-T500EVK_PADTYP_650WHT3","01","M-T500E","VK_PADTYP_650WHT3",17.2,"650/26 Wh Polish 3M","306408"]
["M-T500EVK_PADTYP_650RED3","01","M-T500E","VK_PADTYP_650RED3",17.2,"650/26 Red Clean 3M","306408"]
["M-T500EVK_PADTYP_650MAR3","01","M-T500E","VK_PADTYP_650MAR3",19.3,"650/26 MarSur Pad 3M","306408"]
["M-T500EVK_PADTYP_650BWN3","01","M-T500E","VK_PADTYP_650BWN3",17.2,"650/26 Br Strip 3M","306408"]
["M-T500EVK_ADLOPRMNL","01","M-T500E","VK_ADLOPRMNL",135,"Add Operator Manual","306408"]
["M-T500EVK_SRVMNL","01","M-T500E","VK_SRVMNL",135,"Service Manual","306408"]
["M-T500EVK_SQEWDT_STD","01","M-T500E","VK_SQEWDT_STD","N/C","Standard Squeegee","306408"]
["M-T500EVK_RECHSE_PVC_DCO","01","M-T500E","VK_RECHSE_PVC_DCO","N/C","PVC Matl w/Drain Cap","306408"]
["M-T500EVK_PKG_WSKD","01","M-T500E","VK_PKG_WSKD",331,"Skid w/Stretch Wrap","306408"]
["M-T500EVK_PKG_SSKD","01","M-T500E","VK_PKG_SSKD",472,"Stack Skid/Carton","306408"]
["M-T500EVK_PARMNL","01","M-T500E","VK_PARMNL",55,"Parts Manual","306408"]
["M-T500EVK_MCHCOM","01","M-T500E","VK_MCHCOM",1367,"IRIS Telemetry","306408"]
["M-T500EVK_CLNTCH_ECH2ON","01","M-T500E","VK_CLNTCH_ECH2ON",3040,"ec-H2O™ NanoClean","306408"]
["M-T500EVK_CLNTCH_CNV","01","M-T500E","VK_CLNTCH_CNV","N/C","Conventional","306408"]
["M-T500EVK_CHG_WO","01","M-T500E","VK_CHG_WO",-450,"Without Charger","306408"]
["M-T500EVK_CHG_27A85V5060H1P","01","M-T500E","VK_CHG_27A85V5060H1P","N/C","CH27A 85-270V 5060H1P","306408"]
["M-T500EVK_CHG_25A100V5060H1","01","M-T500E","VK_CHG_25A100V5060H1","N/C","Ch25A 100V 5060H1P","306408"]
["M-SS500VK_MCHCOM","01","M-SS500","VK_MCHCOM",1367,"IRIS Telemetry","306409"]
["M-SS500VK_CLNTOL_D700PYP","01","M-SS500","VK_CLNTOL_D700PYP","N/C","D700/28 Poly Brush","306409"]
["M-SS500VK_ADLOPRMNL","01","M-SS500","VK_ADLOPRMNL",135,"Add Operator Manual","306409"]
["M-SS500VK_BTY_WO","01","M-SS500","VK_BTY_WO",-450,"Without Battery","306409"]
["M-SS500VK_PADTYP_700BWN3","01","M-SS500","VK_PADTYP_700BWN3",18.2,"700/28 Bwn Strip 3M","306409"]
["M-SS500VK_BTY_A220C20","01","M-SS500","VK_BTY_A220C20",1654,"Bty AGM 220AH C20","306409"]
["M-SS500VK_PADTYP_O700MAR3","01","M-SS500","VK_PADTYP_O700MAR3",121,"Orb 700/28 Mar 3M","306409"]
["M-SS500VK_PKG_WSKD","01","M-SS500","VK_PKG_WSKD",331,"Skid w/Stretch Wrap","306409"]
["M-SS500VK_CLNTOL_D800NYL","01","M-SS500","VK_CLNTOL_D800NYL","N/C","D800/32 Nylon Brush","306409"]
["M-SS500VK_PADTYP_650RED3","01","M-SS500","VK_PADTYP_650RED3",17.2,"650/26 Red Clean 3M","306409"]
["M-SS500VK_CLNTOL_D650PYP","01","M-SS500","VK_CLNTOL_D650PYP","N/C","D650/26 Poly Brush","306409"]
["M-SS500VK_PADTYP_O700RED3","01","M-SS500","VK_PADTYP_O700RED3",61,"Orb 700/28 Red 3M","306409"]
[{"$f":"C1160&D1160","v":"M-SS500VK_CLNTOL_C700PYP"},"01","M-SS500","VK_CLNTOL_C700PYP","N/C","C700/28 Poly Brush","306409"]
["M-SS500VK_CHG_27A85V5060H1P","01","M-SS500","VK_CHG_27A85V5060H1P","N/C","CH27A 85-270V 5060H1P","306409"]
["M-SS500VK_PARMNL","01","M-SS500","VK_PARMNL",55,"Parts Manual","306409"]
["M-SS500VK_PADTYP_700BLKH3","01","M-SS500","VK_PADTYP_700BLKH3",20.399999999999999,"700/28 Blk HiPro 3M","306409"]
["M-SS500VK_CLNTOL_D800ABB","01","M-SS500","VK_CLNTOL_D800ABB",356,"D800/32 Abr Brush","306409"]
["M-SS500VK_PADTYP_700RED3","01","M-SS500","VK_PADTYP_700RED3",18.2,"700/28 Red Clean 3M","306409"]
["M-SS500VK_PADTYP_700WHT3","01","M-SS500","VK_PADTYP_700WHT3",18.2,"700/28 Wht Polish 3M","306409"]
["M-SS500VK_CLNTOL_D700PAD","01","M-SS500","VK_CLNTOL_D700PAD","N/C","D700/28 Pad Driver","306409"]
["M-SS500VK_SQEWDT_NWA","01","M-SS500","VK_SQEWDT_NWA","N/C","NarrowAisle Squeegee","306409"]
["M-SS500VK_PADTYP_650MAR3","01","M-SS500","VK_PADTYP_650MAR3",19.3,"650/26 MarSur Pad 3M","306409"]
["M-SS500VK_RECHSE_PVC_DCO","01","M-SS500","VK_RECHSE_PVC_DCO","N/C","PVC Matl w/Drain Cap","306409"]
["M-SS500VK_PADTYP_650BLU3","01","M-SS500","VK_PADTYP_650BLU3",17.2,"650/26 Bl Scrub 3M","306409"]
["M-SS500VK_PADTYP_700BLU3","01","M-SS500","VK_PADTYP_700BLU3",18.2,"700/28 Blu Scrub 3M","306409"]
["M-SS500VK_PADTYP_800RED3","01","M-SS500","VK_PADTYP_800RED3",20.399999999999999,"800/32 Red Clean 3M","306409"]
["M-SS500VK_CLNTOL_O700PAD","01","M-SS500","VK_CLNTOL_O700PAD","N/C","O700/28 Pad Driver","306409"]
["M-SS500VK_CLNTOL_D650PAD","01","M-SS500","VK_CLNTOL_D650PAD","N/C","D650/26 Pad Driver","306409"]
["M-SS500VK_BTYWTRSYS_ML","01","M-SS500","VK_BTYWTRSYS_ML",573,"Battery Watering Manual","306409"]
["M-SS500VK_SQEWDT_STD","01","M-SS500","VK_SQEWDT_STD","N/C","Standard Squeegee","306409"]
["M-SS500VK_PADTYP_800WHT3","01","M-SS500","VK_PADTYP_800WHT3",20.399999999999999,"800/32 Wht Polish 3M","306409"]
["M-SS500VK_PKG_SSKD","01","M-SS500","VK_PKG_SSKD",472,"Stack Skid/Carton","306409"]
["M-SS500VK_PADTYP_800BLU3","01","M-SS500","VK_PADTYP_800BLU3",20.399999999999999,"800/32 Blu Scrub 3M","306409"]
["M-SS500VK_CLNTOL_D650NYL","01","M-SS500","VK_CLNTOL_D650NYL","N/C","D650/26 Nylon Brush","306409"]
["M-SS500VK_CLNTOL_D700ABB","01","M-SS500","VK_CLNTOL_D700ABB",356,"D700/28 Abr Brush","306409"]
["M-SS500VK_PRGBRK","01","M-SS500","VK_PRGBRK",195,"Parking Brake","306409"]
["M-SS500VK_BTY_W225C20","01","M-SS500","VK_BTY_W225C20","N/C","Bty Wet 225AH C20","306409"]
["M-SS500VK_BTY_L24V180A","01","M-SS500","VK_BTY_L24V180A",6495,"Li-Ion 24v, 180AH","306409"]
["M-SS500VK_CHG_27A100240V5060HOF","01","M-SS500","VK_CHG_27A100240V5060HOF","N/C","Chg 27A100240V5060H Off","306409"]
["M-SS500VK_CHG_25A100V5060H1","01","M-SS500","VK_CHG_25A100V5060H1","N/C","Ch25A 100V 5060H1P","306409"]
["M-SS500VK_CHG_WO","01","M-SS500","VK_CHG_WO",-450,"Without Charger","306409"]
["M-SS500VK_SRVMNL","01","M-SS500","VK_SRVMNL",135,"Service Manual","306409"]
["M-SS500VK_PADTYP_650WHT3","01","M-SS500","VK_PADTYP_650WHT3",17.2,"650/26 Wh Polish 3M","306409"]
["M-SS500VK_BTY_L24V90A","01","M-SS500","VK_BTY_L24V90A",3451,"Bty Li-Ion 24v, 90AH","306409"]
["M-SS500VK_CHG_41A100V5060H1P","01","M-SS500","VK_CHG_41A100V5060H1P",418,"Ch41A 100V 5060H1P","306409"]
["M-SS500VK_CHG_27A100240V5060H","01","M-SS500","VK_CHG_27A100240V5060H","N/C","Chg 27A 100-240V 5060Hz 1Ph","306409"]
["M-SS500VK_CLNTOL_C700NYL","01","M-SS500","VK_CLNTOL_C700NYL","N/C","C700/28 Nylon Brush","306409"]
["M-SS500VK_BASE_SS500-650-D_STD","01","M-SS500","VK_BASE_SS500-650-D_STD",15526,"SS500 650mm Disk Std Config","306409"]
["M-SS500VK_BASE_SS500-700-C_STD","01","M-SS500","VK_BASE_SS500-700-C_STD",17963,"SS500 700mm Cyl Std Config","306409"]
["M-SS500VK_BASE_SS500-700-D_STD","01","M-SS500","VK_BASE_SS500-700-D_STD",16336,"SS500 700mm Disk Std Config","306409"]
["M-SS500VK_BASE_SS500-700-O_STD","01","M-SS500","VK_BASE_SS500-700-O_STD",17078,"SS500 700mm Orb Std Config","306409"]
["M-SS500VK_BASE_SS500-800-D_STD","01","M-SS500","VK_BASE_SS500-800-D_STD",17224,"SS500 800mm Disk Std Config","306409"]
["M-SS500VK_OPRMNL","01","M-SS500","VK_OPRMNL","N/C","Oper Manual","306409"]
["M-SS500VK_PKG_PAD","01","M-SS500","VK_PKG_PAD","N/C","Pad Wrap","306409"]
["M-SS500VK_RECHSE_PYPOR_DCV","01","M-SS500","VK_RECHSE_PYPOR_DCV","N/C","Poly Mat w/DCV","306409"]
["M-SS500VK_RECHSE_PYPOR_PC","01","M-SS500","VK_RECHSE_PYPOR_PC","N/C","Poly Mat w/Pinch Cuff","306409"]
["M-SS500VK_CLNTOL_D800PAD","01","M-SS500","VK_CLNTOL_D800PAD","N/C","D800/32 Pad Driver","306409"]
["M-SS500VK_PADTYP_650BWN3","01","M-SS500","VK_PADTYP_650BWN3",17.2,"650/26 Br Strip 3M","306409"]
["M-SS500VK_CLNTOL_D800PYP","01","M-SS500","VK_CLNTOL_D800PYP","N/C","D800/32 Poly Brush","306409"]
["M-SS500VK_CLNTOL_D700NYL","01","M-SS500","VK_CLNTOL_D700NYL","N/C","D700/28 Nylon Brush","306409"]
["M-SS500VK_CLNTOL_D650ABB","01","M-SS500","VK_CLNTOL_D650ABB",356,"D650/26 Abr Brush","306409"]
["M-SS500VK_CLNTOL_C700ABB","01","M-SS500","VK_CLNTOL_C700ABB",356,"C700/28 Abr Brush","306409"]
["M-SS500VK_BTY_W260C20","01","M-SS500","VK_BTY_W260C20",454,"Bty Wet 260AH C20","306409"]
["M-SS500VK_BTYWTRSYS_SF","01","M-SS500","VK_BTYWTRSYS_SF",981,"Smart Fill","306409"]
["M-SS500VK_PADTYP_O700WHT3","01","M-SS500","VK_PADTYP_O700WHT3",61,"Orb 700/28 Wht 3M","306409"]
["M-SS500VK_PADTYP_O700BLU3","01","M-SS500","VK_PADTYP_O700BLU3",61,"Orb 700/28 Blu 3M","306409"]
["M-SS500VK_PADTYP_700MAR3","01","M-SS500","VK_PADTYP_700MAR3",20.399999999999999,"700/28 MarSur Pad 3M","306409"]
["M-SS500VK_CLNTCH_ECH2ON","01","M-SS500","VK_CLNTCH_ECH2ON",3040,"ec-H2O™ NanoClean","306409"]
["M-SS500VK_CLNTCH_CNV","01","M-SS500","VK_CLNTCH_CNV","N/C","Conventional","306409"]
["M-SS500VK_BASE_SS500-800-D","01","M-SS500","VK_BASE_SS500-800-D",17224,"SS500-800-D","306409"]
["M-SS500VK_BASE_SS500-700-O","01","M-SS500","VK_BASE_SS500-700-O",17078,"SS500-700-O","306409"]
["M-SS500VK_BASE_SS500-700-D","01","M-SS500","VK_BASE_SS500-700-D",16336,"SS500-700-D","306409"]
["M-SS500VK_BASE_SS500-700-C","01","M-SS500","VK_BASE_SS500-700-C",17963,"SS500-700-C","306409"]
["M-SS500VK_BASE_SS500-650-D","01","M-SS500","VK_BASE_SS500-650-D",15526,"SS500-650-D","306409"]
["M-T600VK_CSMDRTWTRLBL","01","M-T600","VK_CSMDRTWTRLBL",43,"Dirty Water Label","306504"]
["M-T600VK_CLNTOL_C800HCPYP","01","M-T600","VK_CLNTOL_C800HCPYP","N/C","not used","306504"]
[{"$f":"C1224&D1224","v":"M-T600VK_CHG_33A100V5060H1P"},"01","M-T600","VK_CHG_33A100V5060H1P",188,"Ch33A 100V 5060H1P","306504"]
["M-T600VK_CLNTOL_D800PAD","01","M-T600","VK_CLNTOL_D800PAD","N/C","D800/32 Pad Driver","306504"]
["M-T600VK_BASE_T600-700C_STD","01","M-T600","VK_BASE_T600-700C_STD",24443,"T600 700mm Cyl Std Config","306504"]
["M-T600VK_BASE_T600-700D_STD","01","M-T600","VK_BASE_T600-700D_STD",22740,"T600 700mm Disk Std Config","306504"]
["M-T600VK_BASE_T600-700O_STD","01","M-T600","VK_BASE_T600-700O_STD",23791,"T600 700mm Orb Std Config","306504"]
["M-T600VK_BASE_T600-800C_STD","01","M-T600","VK_BASE_T600-800C_STD",25296,"T600 800mm Cyl Std Config","306504"]
["M-T600VK_BASE_T600-800D_STD","01","M-T600","VK_BASE_T600-800D_STD",23592,"T600 800mm Disk Std Config","306504"]
["M-T600VK_BASE_T600-900D_STD","01","M-T600","VK_BASE_T600-900D_STD",26851,"T600 900mm Disk Std Config","306504"]
["M-T600VK_CLNTOL_C700HDPYP","01","M-T600","VK_CLNTOL_C700HDPYP","N/C","C700/28 HD Poly Brsh","306504"]
["M-T600VK_BTY_L36V4M","01","M-T600","VK_BTY_L36V4M",15188,"Bty Li-Ion 36v, 8.2kWh","306504"]
["M-T600VK_BTY_W210C20","01","M-T600","VK_BTY_W210C20","N/C","Bty Wet 210AH C5","306504"]
["M-T600VK_CLNTOL_C800PYP","01","M-T600","VK_CLNTOL_C800PYP","N/C","C800/32 Poly Brush","306504"]
["M-T600VK_CLNTOL_C800ABB","01","M-T600","VK_CLNTOL_C800ABB",349,"C800/32 Abr Brush","306504"]
["M-T600VK_DWNPRS_HD","01","M-T600","VK_DWNPRS_HD",1681,"Down Pressure - Heavy Duty","306504"]
["M-T600VK_CLNTOL_D900SAB","01","M-T600","VK_CLNTOL_D900SAB",421,"D900/36 Sup Abr Brsh","306504"]
["M-T600VK_CLNTOL_D700SAB","01","M-T600","VK_CLNTOL_D700SAB",349,"D700/28 Sup Abr Brsh","306504"]
["M-T600VK_BTY_F186C6","01","M-T600","VK_BTY_F186C6",2424,"Bty Fast 186AH C/6","306504"]
["M-T600VK_BASE_T600-800D","01","M-T600","VK_BASE_T600-800D",23592,"800 T600 Disk","306504"]
["M-T600VK_BASE_T600-700O","01","M-T600","VK_BASE_T600-700O",23791,"700 T600 Orb","306504"]
["M-T600VK_CHG_33A100V5060H1PLIN","01","M-T600","VK_CHG_33A100V5060H1PLIN",613,"Ch33A 100V 50/60Hz 1Ph On","306504"]
["M-T600VK_CHG_33A100V5060H1PLIF","01","M-T600","VK_CHG_33A100V5060H1PLIF",613,"Ch33A 100V 50/60Hz 1Ph Off","306504"]
["M-T600VK_CHG_25A100V5060H1LION","01","M-T600","VK_CHG_25A100V5060H1LION",440,"Ch25A 100V 50/60Hz 1Ph On","306504"]
["M-T600VK_CHG_25A100V5060H1LIOF","01","M-T600","VK_CHG_25A100V5060H1LIOF",440,"Ch25A 100V 50/60Hz 1Ph Off","306504"]
["M-T600VK_BTY_W360C20","01","M-T600","VK_BTY_W360C20",782,"Bty Wet 360AH C20","306504"]
["M-T600VK_BTY_L36V5M","01","M-T600","VK_BTY_L36V5M",18234,"Bty Li-Ion 36v, 10.2kWh","306504"]
["M-T600VK_BTY_L36V2M","01","M-T600","VK_BTY_L36V2M",7370,"Bty Li-Ion 36v, 4.1kWh","306504"]
["M-T600VK_PADTYP_700YLW3","01","M-T600","VK_PADTYP_700YLW3",55.7,"700/28 Ylw Polish 3M","306504"]
["M-T600VK_PADTYP_900YLW3","01","M-T600","VK_PADTYP_900YLW3",71.7,"900/36 Ylw Polish 3M","306504"]
["M-T600VK_PADTYP_800YLW3","01","M-T600","VK_PADTYP_800YLW3",62.1,"800/32 Ylw Polish 3M","306504"]
["M-T600VK_CLNTOL_D650ABB","01","M-T600","VK_CLNTOL_D650ABB",356,"D650/26 Abr Brush","306504"]
["M-T600VK_RECHSE_PYPOR_DCV","01","M-T600","VK_RECHSE_PYPOR_DCV","N/C","Poly Mat w/DCV","306504"]
["M-T600VK_RECHSE_PYPOR_PC","01","M-T600","VK_RECHSE_PYPOR_PC","N/C","Poly Mat w/Pinch Cuff","306504"]
["M-T600VK_CLNTOL_C800HDPYP","01","M-T600","VK_CLNTOL_C800HDPYP","N/C","C800/32 HD Poly Brsh","306504"]
["M-T600VK_PADTYP_O700YLW3","01","M-T600","VK_PADTYP_O700YLW3",129.5,"Orb 700/28 Ylw 3M","306504"]
["M-T600VK_BTY_F210C20","01","M-T600","VK_BTY_F210C20",2424,"Bty Fast 210AH C20","306504"]
["M-T600VK_PKG_SSKD_NC","01","M-T600","VK_PKG_SSKD_NC","N/C","Stack Skid/Carton","306504"]
["M-T600VK_CLNTOL_O700PAD","01","M-T600","VK_CLNTOL_O700PAD","N/C","O700/28 Pad Driver","306504"]
["M-T600VK_CLNTOL_D900PYP","01","M-T600","VK_CLNTOL_D900PYP","N/C","D900/36 Poly Brush","306504"]
["M-T600VK_CLNTOL_D900NYL","01","M-T600","VK_CLNTOL_D900NYL","N/C","D900/36 Nylon Brush","306504"]
["M-T600VK_CLNTOL_D800SAB","01","M-T600","VK_CLNTOL_D800SAB",349,"D800/32 Sup Abr Brsh","306504"]
["M-T600VK_CLNTOL_D800PYP","01","M-T600","VK_CLNTOL_D800PYP","N/C","D800/32 Poly Brush","306504"]
["M-T600VK_CLNTOL_D800NYL","01","M-T600","VK_CLNTOL_D800NYL","N/C","D800/32 Nylon Brush","306504"]
["M-T600VK_CLNTOL_D800HDPYP","01","M-T600","VK_CLNTOL_D800HDPYP","N/C","D800/32 HD Poly Brsh","306504"]
["M-T600VK_CLNTOL_D700PYP","01","M-T600","VK_CLNTOL_D700PYP","N/C","D700/28 Poly Brush","306504"]
["M-T600VK_CLNTOL_D700PAD","01","M-T600","VK_CLNTOL_D700PAD","N/C","D700/28 Pad Driver","306504"]
["M-T600VK_CLNTOL_D700NYL","01","M-T600","VK_CLNTOL_D700NYL","N/C","D700/28 Nylon Brush","306504"]
["M-T600VK_CLNTOL_C800NYL","01","M-T600","VK_CLNTOL_C800NYL","N/C","C800/32 Nylon Brush","306504"]
["M-T600VK_CLNTOL_C700PYP","01","M-T600","VK_CLNTOL_C700PYP","N/C","C700/28 Poly Brush","306504"]
["M-T600VK_CLNTOL_C700NYL","01","M-T600","VK_CLNTOL_C700NYL","N/C","C700/28 Nylon Brush","306504"]
["M-T600VK_CLNTOL_C700ABB","01","M-T600","VK_CLNTOL_C700ABB",349,"C700/28 Abr Brush","306504"]
["M-T600VK_CLNTCH_ECH2ON","01","M-T600","VK_CLNTCH_ECH2ON",3040,"ec-H2O™ NanoClean","306504"]
["M-T600VK_CHG_WO","01","M-T600","VK_CHG_WO",-675,"Without Charger","306504"]
["M-T600VK_CHG_25A100V5060H1_ON","01","M-T600","VK_CHG_25A100V5060H1_ON","N/C","Ch25A 100V 5060H1P On","306504"]
["M-T600VK_CHG_25A100V5060H1_OFF","01","M-T600","VK_CHG_25A100V5060H1_OFF","N/C","Ch25A 100V 5060H1P Off","306504"]
["M-T600VK_BTY_WO","01","M-T600","VK_BTY_WO",-750,"Without Battery","306504"]
["M-T600VK_BTY_W240C20","01","M-T600","VK_BTY_W240C20","N/C","Bty Wet 240AH C20","306504"]
["M-T600VK_BTYWTRSYS_SF","01","M-T600","VK_BTYWTRSYS_SF",1181,"Smart Fill","306504"]
["M-T600VK_BTYWTRSYS_ML","01","M-T600","VK_BTYWTRSYS_ML",761,"Battery Watering Manual","306504"]
["M-T600VK_BASE_T600-900D","01","M-T600","VK_BASE_T600-900D",26851,"900 T600 Disk","306504"]
["M-T600VK_BASE_T600-800C","01","M-T600","VK_BASE_T600-800C",25296,"800 T600 Cyl","306504"]
["M-T600VK_BASE_T600-700D","01","M-T600","VK_BASE_T600-700D",22740,"700 T600 Disk","306504"]
["M-T600VK_BASE_T600-700C","01","M-T600","VK_BASE_T600-700C",24443,"700 T600 Cyl","306504"]
["M-T600VK_ADLOPRMNL","01","M-T600","VK_ADLOPRMNL",135,"Add Operator Manual","306504"]
["M-T600VK_MCHCOM","01","M-T600","VK_MCHCOM",1367,"IRIS Telemetry","306504"]
[{"$f":"C1288&D1288","v":"M-T600VK_WTY_STD"},"01","M-T600","VK_WTY_STD","N/C","Warranty STD","306504"]
["M-T600VK_ULERTG_E","01","M-T600","VK_ULERTG_E","N/C","UL® Type E","306504"]
["M-T600VK_TRMLVL_PPAN","01","M-T600","VK_TRMLVL_PPAN",951,"ProPanel Ctrls","306504"]
["M-T600VK_PADTYP_900RED3","01","M-T600","VK_PADTYP_900RED3",22.5,"900/36 Red Clean 3M","306504"]
["M-T600VK_PADTYP_700BLU3","01","M-T600","VK_PADTYP_700BLU3",18.2,"700/28 Blu Scrub 3M","306504"]
["M-T600VK_NONMKTTRE_BPR","01","M-T600","VK_NONMKTTRE_BPR","N/C","Tire Blk Pneu Rubber","306504"]
["M-T600VK_NONMKTTRE_BFFR","01","M-T600","VK_NONMKTTRE_BFFR","N/C","Tire Blk Foam Filled","306504"]
["M-T600VK_PADTYP_900BLU3","01","M-T600","VK_PADTYP_900BLU3",22.5,"900/36 Blu Scrub 3M","306504"]
["M-T600VK_PADTYP_800WHT3","01","M-T600","VK_PADTYP_800WHT3",21.4,"800/32 Wht Polish 3M","306504"]
["M-T600VK_PADTYP_800RED3","01","M-T600","VK_PADTYP_800RED3",21.4,"800/32 Red Clean 3M","306504"]
["M-T600VK_PADTYP_800BLU3","01","M-T600","VK_PADTYP_800BLU3",21.4,"800/32 Blu Scrub 3M","306504"]
["M-T600VK_PADTYP_700WHT3","01","M-T600","VK_PADTYP_700WHT3",18.2,"700/28 Wht Polish 3M","306504"]
["M-T600VK_PADTYP_700RED3","01","M-T600","VK_PADTYP_700RED3",18.2,"700/28 Red Clean 3M","306504"]
["M-T600VK_PADTYP_700BWN3","01","M-T600","VK_PADTYP_700BWN3",18.2,"700/28 Bwn Strip 3M","306504"]
["M-T600VK_TRMLVL_PMEM","01","M-T600","VK_TRMLVL_PMEM","N/C","Pro Membrane Panel","306504"]
["M-T600VK_TRLTRTKIT","01","M-T600","VK_TRLTRTKIT",275,"Transport Kit","306504"]
["M-T600VK_SVEEVMSWH","01","M-T600","VK_SVEEVMSWH",613,"SE Switch Capability","306504"]
["M-T600VK_SRVMNL","01","M-T600","VK_SRVMNL",135,"Service Manual","306504"]
["M-T600VK_SQEWDT_STD","01","M-T600","VK_SQEWDT_STD","N/C","Standard Squeegee","306504"]
["M-T600VK_SQEWDT_NWA","01","M-T600","VK_SQEWDT_NWA","N/C","NarrowAisle Squeegee","306504"]
["M-T600VK_SPYNOZWTHHSE","01","M-T600","VK_SPYNOZWTHHSE",757,"Spray Nozzel w/Hose","306504"]
["M-T600VK_RECHSE_PVC_DCO","01","M-T600","VK_RECHSE_PVC_DCO","N/C","PVC Matl w/Drain Cap","306504"]
["M-T600VK_PRGBRK","01","M-T600","VK_PRGBRK",195,"Parking Brake","306504"]
["M-T600VK_PKG_WSKD","01","M-T600","VK_PKG_WSKD",320,"Skid w/Stretch Wrap","306504"]
["M-T600VK_PKG_SSKD","01","M-T600","VK_PKG_SSKD",472,"Stack Skid/Carton","306504"]
["M-T600VK_PKG_PAD","01","M-T600","VK_PKG_PAD","N/C","Pad Wrap","306504"]
["M-T600VK_PARMNL","01","M-T600","VK_PARMNL",55,"Parts Manual","306504"]
["M-T600VK_PADTYP_O700WHT3","01","M-T600","VK_PADTYP_O700WHT3",60,"Orb 700/28 Wht 3M","306504"]
["M-T600VK_PADTYP_O700RED3","01","M-T600","VK_PADTYP_O700RED3",60,"Orb 700/28 Red 3M","306504"]
["M-T600VK_PADTYP_O700BLU3","01","M-T600","VK_PADTYP_O700BLU3",60,"Orb 700/28 Blu 3M","306504"]
["M-T600VK_PADTYP_900WHT3","01","M-T600","VK_PADTYP_900WHT3",22.5,"900/36 Wht Polish 3M","306504"]
["M-T600VK_SVEEVMSWHLKT","01","M-T600","VK_SVEEVMSWHLKT",64,"SE Switch Lockout","306504"]
["M-T600VK_PADTYP_900BLKH3","01","M-T600","VK_PADTYP_900BLKH3",25.7,"900/36 Blk HiPro 3M","306504"]
["M-T600VK_CLNTOL_D900PAD","01","M-T600","VK_CLNTOL_D900PAD","N/C","D900/36 Pad Driver","306504"]
["M-T600EVK_CHG_25A100V5060H1LION","01","M-T600E","VK_CHG_25A100V5060H1LION",440,"Ch25A 100V 50/60Hz 1Ph On","306505"]
["M-T600EVK_CLNTOL_D700PAD","01","M-T600E","VK_CLNTOL_D700PAD","N/C","D700/28 Pad Driver","306505"]
["M-T600EVK_SQEWDT_NWA","01","M-T600E","VK_SQEWDT_NWA","N/C","NarrowAisle Squeegee","306505"]
["M-T600EVK_CLNTOL_D900PAD","01","M-T600E","VK_CLNTOL_D900PAD","N/C","D900/36 Pad Driver","306505"]
["M-T600EVK_CHG_33A100V5060H1PLIF","01","M-T600E","VK_CHG_33A100V5060H1PLIF",613,"Ch33A 100V 50/60Hz 1Ph Off","306505"]
["M-T600EVK_CLNTOL_D800NYL","01","M-T600E","VK_CLNTOL_D800NYL","N/C","D800/32 Nylon Brush","306505"]
["M-T600EVK_RECHSE_PVC_DCO","01","M-T600E","VK_RECHSE_PVC_DCO","N/C","PVC Matl w/Drain Cap","306505"]
["M-T600EVK_SRVMNL","01","M-T600E","VK_SRVMNL",135,"Service Manual","306505"]
["M-T600EVK_CLNTOL_D900SAB","01","M-T600E","VK_CLNTOL_D900SAB",421,"D900/36 Sup Abr Brsh","306505"]
["M-T600EVK_OPRMNL","01","M-T600E","VK_OPRMNL","N/C","Oper Manual","306505"]
["M-T600EVK_MCHCOM","01","M-T600E","VK_MCHCOM",1367,"IRIS Telemetry","306505"]
["M-T600EVK_MCHCOM_SBT","01","M-T600E","VK_MCHCOM_SBT",1367,"IRIS Telemetry","306505"]
["M-T600EVK_PADTYP_700MAR3","01","M-T600E","VK_PADTYP_700MAR3",20.399999999999999,"700/28 MarSur Pad 3M","306505"]
["M-T600EVK_CLNTOL_D700SAB","01","M-T600E","VK_CLNTOL_D700SAB",349,"D700/28 Sup Abr Brsh","306505"]
["M-T600EVK_TRLTRTKIT","01","M-T600E","VK_TRLTRTKIT",275,"Transport Kit","306505"]
["M-T600EVK_IRSSRVRPT_3YP","01","M-T600E","VK_IRSSRVRPT_3YP",168,"Svc Rpt 3 Yr Pre-Paid","306505"]
["M-T600EVK_BTY_L36V5M","01","M-T600E","VK_BTY_L36V5M",18234,"Bty Li-Ion 36v, 10.2kWh","306505"]
["M-T600EVK_RECHSE_PYPOR_DCV","01","M-T600E","VK_RECHSE_PYPOR_DCV","N/C","Poly Mat w/DCV","306505"]
["M-T600EVK_HRCLBLKIT","01","M-T600E","VK_HRCLBLKIT",120,"Herc Label Kit","306505"]
["M-T600EVK_NONMKTTRE_BPR","01","M-T600E","VK_NONMKTTRE_BPR","N/C","Tire Blk Pneu Rubber","306505"]
["M-T600EVK_CLNTOL_D800ABB","01","M-T600E","VK_CLNTOL_D800ABB",356,"D800/32 Abr Brush","306505"]
["M-T600EVK_BASE_T600E-700C_STD","01","M-T600E","VK_BASE_T600E-700C_STD",21595,"T600E 700mm Cyl Std Config","306505"]
["M-T600EVK_BASE_T600E-700D_STD","01","M-T600E","VK_BASE_T600E-700D_STD",19838,"T600E 700mm Disk Std Config","306505"]
["M-T600EVK_BASE_T600E-700O_STD","01","M-T600E","VK_BASE_T600E-700O_STD",20891,"T600E 700mm Orb Std Config","306505"]
["M-T600EVK_BASE_T600E-800C_STD","01","M-T600E","VK_BASE_T600E-800C_STD",22469,"T600E 800mm Cyl Std Config","306505"]
["M-T600EVK_BASE_T600E-800D_STD","01","M-T600E","VK_BASE_T600E-800D_STD",20717,"T600E 800mm Disk Std Config","306505"]
["M-T600EVK_BASE_T600E-900D_STD","01","M-T600E","VK_BASE_T600E-900D_STD",22472,"T600E 900mm Disk Std Config","306505"]
["M-T600EVK_CHG_33A100V5060H1PLIN","01","M-T600E","VK_CHG_33A100V5060H1PLIN",613,"Ch33A 100V 50/60Hz 1Ph On","306505"]
["M-T600EVK_CHG_25A100V5060H1LIOF","01","M-T600E","VK_CHG_25A100V5060H1LIOF",440,"Ch25A 100V 50/60Hz 1Ph Off","306505"]
["M-T600EVK_BTY_L36V4M","01","M-T600E","VK_BTY_L36V4M",15188,"Bty Li-Ion 36v, 8.2kWh","306505"]
[{"$f":"C1352&D1352","v":"M-T600EVK_CLNTOL_D800PYP"},"01","M-T600E","VK_CLNTOL_D800PYP","N/C","D800/32 Poly Brush","306505"]
["M-T600EVK_BTY_L36V2M","01","M-T600E","VK_BTY_L36V2M",7370,"Bty Li-Ion 36v, 4.1kWh","306505"]
["M-T600EVK_PADTYP_O700YLW3","01","M-T600E","VK_PADTYP_O700YLW3",129.5,"Orb 700/28 Ylw 3M","306505"]
["M-T600EVK_PADTYP_900YLW3","01","M-T600E","VK_PADTYP_900YLW3",77.099999999999994,"900/36 Ylw Polish 3M","306505"]
["M-T600EVK_PADTYP_900BLU3","01","M-T600E","VK_PADTYP_900BLU3",22.5,"900/36 Blu Scrub 3M","306505"]
["M-T600EVK_PADTYP_700BWN3","01","M-T600E","VK_PADTYP_700BWN3",18.2,"700/28 Bwn Strip 3M","306505"]
["M-T600EVK_PADTYP_700BLU3","01","M-T600E","VK_PADTYP_700BLU3",18.2,"700/28 Blu Scrub 3M","306505"]
["M-T600EVK_PADTYP_700BLKH3","01","M-T600E","VK_PADTYP_700BLKH3",20.399999999999999,"700/28 Blk HiPro 3M","306505"]
["M-T600EVK_PADTYP_900BLKH3","01","M-T600E","VK_PADTYP_900BLKH3",25.7,"900/36 Blk HiPro 3M","306505"]
["M-T600EVK_PADTYP_800YLW3","01","M-T600E","VK_PADTYP_800YLW3",66.400000000000006,"800/32 Ylw Polish 3M","306505"]
["M-T600EVK_PADTYP_800RED3","01","M-T600E","VK_PADTYP_800RED3",21.4,"800/32 Red Clean 3M","306505"]
["M-T600EVK_PADTYP_800BLU3","01","M-T600E","VK_PADTYP_800BLU3",21.4,"800/32 Blu Scrub 3M","306505"]
["M-T600EVK_PADTYP_700YLW3","01","M-T600E","VK_PADTYP_700YLW3",55.7,"700/28 Ylw Polish 3M","306505"]
["M-T600EVK_PADTYP_700WHT3","01","M-T600E","VK_PADTYP_700WHT3",18.2,"700/28 Wht Polish 3M","306505"]
["M-T600EVK_TRMLVL_PMEM","01","M-T600E","VK_TRMLVL_PMEM","N/C","Pro Membrane Panel","306505"]
["M-T600EVK_RECHSE_PYPOR_PC","01","M-T600E","VK_RECHSE_PYPOR_PC","N/C","Poly Mat w/Pinch Cuff","306505"]
["M-T600EVK_CLNTOL_D900NYL","01","M-T600E","VK_CLNTOL_D900NYL","N/C","D900/36 Nylon Brush","306505"]
["M-T600EVK_PADTYP_700RED3","01","M-T600E","VK_PADTYP_700RED3",18.2,"700/28 Red Clean 3M","306505"]
["M-T600EVK_PADTYP_800WHT3","01","M-T600E","VK_PADTYP_800WHT3",21.4,"800/32 Wht Polish 3M","306505"]
["M-T600EVK_CLNTOL_D700NYL","01","M-T600E","VK_CLNTOL_D700NYL","N/C","D700/28 Nylon Brush","306505"]
["M-T600EVK_CLNTOL_C800HDPYP","01","M-T600E","VK_CLNTOL_C800HDPYP","N/C","C800/32 HD Poly Brsh","306505"]
["M-T600EVK_CLNTOL_C700HDPYP","01","M-T600E","VK_CLNTOL_C700HDPYP","N/C","C700/28 HD Poly Brsh","306505"]
["M-T600EVK_CLNTOL_D800PAD","01","M-T600E","VK_CLNTOL_D800PAD","N/C","D800/32 Pad Driver","306505"]
["M-T600EVK_BTY_F210C20","01","M-T600E","VK_BTY_F210C20",2424,"Bty Fast 210AH C20","306505"]
["M-T600EVK_CLNTOL_C800HCPYP","01","M-T600E","VK_CLNTOL_C800HCPYP","N/C","not used","306505"]
["M-T600EVK_NONMKTTRE_BFFR","01","M-T600E","VK_NONMKTTRE_BFFR","N/C","Tire Blk Foam Filled","306505"]
["M-T600EVK_CLNTOL_D900PYP","01","M-T600E","VK_CLNTOL_D900PYP","N/C","D900/36 Poly Brush","306505"]
["M-T600EVK_CLNTOL_D800SAB","01","M-T600E","VK_CLNTOL_D800SAB",349,"D800/32 Sup Abr Brsh","306505"]
["M-T600EVK_BTY_W210C20","01","M-T600E","VK_BTY_W210C20","N/C","Bty Wet 210AH C5","306505"]
["M-T600EVK_CLNTOL_D800HDPYP","01","M-T600E","VK_CLNTOL_D800HDPYP","N/C","D800/32 HD Poly Brsh","306505"]
["M-T600EVK_CLNTOL_D700PYP","01","M-T600E","VK_CLNTOL_D700PYP","N/C","D700/28 Poly Brush","306505"]
["M-T600EVK_CLNTOL_C800PYP","01","M-T600E","VK_CLNTOL_C800PYP","N/C","C800/32 Poly Brush","306505"]
["M-T600EVK_CLNTOL_C800NYL","01","M-T600E","VK_CLNTOL_C800NYL","N/C","C800/32 Nylon Brush","306505"]
["M-T600EVK_CLNTOL_C800ABB","01","M-T600E","VK_CLNTOL_C800ABB",349,"C800/32 Abr Brush","306505"]
["M-T600EVK_CLNTOL_C700PYP","01","M-T600E","VK_CLNTOL_C700PYP","N/C","C700/28 Poly Brush","306505"]
["M-T600EVK_CLNTOL_C700NYL","01","M-T600E","VK_CLNTOL_C700NYL","N/C","C700/28 Nylon Brush","306505"]
["M-T600EVK_DWNPRS_HD","01","M-T600E","VK_DWNPRS_HD",1681,"Down Pressure - Heavy Duty","306505"]
["M-T600EVK_CLNTOL_C700ABB","01","M-T600E","VK_CLNTOL_C700ABB",349,"C700/28 Abr Brush","306505"]
["M-T600EVK_CLNTCH_ECH2ON","01","M-T600E","VK_CLNTCH_ECH2ON",3040,"ec-H2O™ NanoClean","306505"]
["M-T600EVK_CHG_WO","01","M-T600E","VK_CHG_WO",-675,"Without Charger","306505"]
["M-T600EVK_CHG_33A100V5060H1P","01","M-T600E","VK_CHG_33A100V5060H1P",188,"Ch33A 100V 5060H1P","306505"]
["M-T600EVK_CHG_25A100V5060H1_ON","01","M-T600E","VK_CHG_25A100V5060H1_ON","N/C","Ch25A 100V 5060H1P On","306505"]
["M-T600EVK_CHG_25A100V5060H1_OFF","01","M-T600E","VK_CHG_25A100V5060H1_OFF","N/C","Ch25A 100V 5060H1P Off","306505"]
["M-T600EVK_BTY_WO","01","M-T600E","VK_BTY_WO",-750,"Without Battery","306505"]
["M-T600EVK_BTY_W360C20","01","M-T600E","VK_BTY_W360C20",782,"Bty Wet 360AH C20","306505"]
["M-T600EVK_BTY_W240C20","01","M-T600E","VK_BTY_W240C20","N/C","Bty Wet 240AH C20","306505"]
["M-T600EVK_BTY_F186C6","01","M-T600E","VK_BTY_F186C6",2424,"Bty Fast 186AH C/6","306505"]
["M-T600EVK_BTYWTRSYS_SF","01","M-T600E","VK_BTYWTRSYS_SF",1181,"Smart Fill","306505"]
["M-T600EVK_BTYWTRSYS_ML","01","M-T600E","VK_BTYWTRSYS_ML",761,"Battery Watering Manual","306505"]
["M-T600EVK_BASE_T600E-900D","01","M-T600E","VK_BASE_T600E-900D",22472,"T600E-900-D","306505"]
["M-T600EVK_BASE_T600E-800D","01","M-T600E","VK_BASE_T600E-800D",20717,"T600E-800-D","306505"]
["M-T600EVK_BASE_T600E-800C","01","M-T600E","VK_BASE_T600E-800C",22469,"T600E-800-C","306505"]
["M-T600EVK_BASE_T600E-700O","01","M-T600E","VK_BASE_T600E-700O",20891,"T600E-700-O","306505"]
["M-T600EVK_BASE_T600E-700D","01","M-T600E","VK_BASE_T600E-700D",19838,"T600E-700-D","306505"]
["M-T600EVK_BASE_T600E-700C","01","M-T600E","VK_BASE_T600E-700C",21595,"T600E-700-C","306505"]
["M-T600EVK_AUTFIL","01","M-T600E","VK_AUTFIL",223,"Auto Fill","306505"]
["M-T600EVK_ADLOPRMNL","01","M-T600E","VK_ADLOPRMNL",135,"Add Operator Manual","306505"]
["M-T600EVK_CLNTOL_O700PAD","01","M-T600E","VK_CLNTOL_O700PAD","N/C","O700/28 Pad Driver","306505"]
["M-T600EVK_ULERTG_E","01","M-T600E","VK_ULERTG_E","N/C","UL® Type E","306505"]
["M-T600EVK_PRGBRK","01","M-T600E","VK_PRGBRK",195,"Parking Brake","306505"]
["M-T600EVK_PKG_WSKD","01","M-T600E","VK_PKG_WSKD",320,"Skid w/Stretch Wrap","306505"]
["M-T600EVK_PKG_SSKD_NC","01","M-T600E","VK_PKG_SSKD_NC","N/C","Stack Skid/Carton","306505"]
["M-T600EVK_PKG_SSKD","01","M-T600E","VK_PKG_SSKD",472,"Stack Skid/Carton","306505"]
["M-T600EVK_PKG_PAD","01","M-T600E","VK_PKG_PAD","N/C","Pad Wrap","306505"]
[{"$f":"C1416&D1416","v":"M-T600EVK_PARMNL"},"01","M-T600E","VK_PARMNL",55,"Parts Manual","306505"]
["M-T600EVK_PADTYP_O700WHT3","01","M-T600E","VK_PADTYP_O700WHT3",60,"Orb 700/28 Wht 3M","306505"]
["M-T600EVK_PADTYP_O700RED3","01","M-T600E","VK_PADTYP_O700RED3",60,"Orb 700/28 Red 3M","306505"]
["M-T600EVK_PADTYP_O700MAR3","01","M-T600E","VK_PADTYP_O700MAR3",118.8,"Orb 700/28 Mar 3M","306505"]
["M-T600EVK_PADTYP_O700BLU3","01","M-T600E","VK_PADTYP_O700BLU3",60,"Orb 700/28 Blu 3M","306505"]
["M-T600EVK_PADTYP_900WHT3","01","M-T600E","VK_PADTYP_900WHT3",22.5,"900/36 Wht Polish 3M","306505"]
["M-T600EVK_PADTYP_900RED3","01","M-T600E","VK_PADTYP_900RED3",22.5,"900/36 Red Clean 3M","306505"]
["M-T600EVK_SQEWDT_STD","01","M-T600E","VK_SQEWDT_STD","N/C","Standard Squeegee","306505"]
["M-T600EEVK_BTYWTRSYS_ML","01","M-T600EE","VK_BTYWTRSYS_ML",978,"Battery Watering Manual","306506"]
["M-T600EEVK_BTY_W240C20","01","M-T600EE","VK_BTY_W240C20","N/C","Bty Wet 240AH C20","306506"]
["M-T600EEVK_CLNTOL_D800HDPYP","01","M-T600EE","VK_CLNTOL_D800HDPYP","N/C","D800/32 HD Poly Brsh","306506"]
["M-T600EEVK_SQEWDT_NWA","01","M-T600EE","VK_SQEWDT_NWA","N/C","NarrowAisle Squeegee","306506"]
["M-T600EEVK_ACCCLP","01","M-T600EE","VK_ACCCLP","N/C","Accessory Clip","306506"]
["M-T600EEVK_PARMNL","01","M-T600EE","VK_PARMNL",61,"Parts Manual","306506"]
["M-T600EEVK_CLNTOL_D800SAB","01","M-T600EE","VK_CLNTOL_D800SAB",450,"D800/32 Sup Abr Brsh","306506"]
["M-T600EEVK_PRGBRK","01","M-T600EE","VK_PRGBRK",219,"Parking Brake","306506"]
["M-T600EEVK_PADTYP_800BLU3","01","M-T600EE","VK_PADTYP_800BLU3",22.5,"800/32 Blu Scrub 3M","306506"]
["M-T600EEVK_PKG_PAD","01","M-T600EE","VK_PKG_PAD","N/C","Pad Wrap","306506"]
["M-T600EEVK_CLNTOL_D800PYP","01","M-T600EE","VK_CLNTOL_D800PYP","N/C","D800/32 Poly Brush","306506"]
["M-T600EEVK_ADLOPRMNL","01","M-T600EE","VK_ADLOPRMNL",150,"Add Operator Manual","306506"]
["M-T600EEVK_CHG_WO","01","M-T600EE","VK_CHG_WO",-675,"Without Charger","306506"]
["M-T600EEVK_PKG_WSKD","01","M-T600EE","VK_PKG_WSKD",412,"Skid w/Stretch Wrap","306506"]
["M-T600EEVK_RECHSE_PVC_DCO","01","M-T600EE","VK_RECHSE_PVC_DCO","N/C","PVC Matl w/Drain Cap","306506"]
["M-T600EEVK_TRMLVL_PMEM","01","M-T600EE","VK_TRMLVL_PMEM","N/C","Pro Membrane Panel","306506"]
["M-T600EEVK_RECHSE_PYPOR_DCV","01","M-T600EE","VK_RECHSE_PYPOR_DCV","N/C","Poly Mat w/DCV","306506"]
["M-T600EEVK_RECHSE_PYPOR_PC","01","M-T600EE","VK_RECHSE_PYPOR_PC","N/C","Poly Mat w/Pinch Cuff","306506"]
["M-T600EEVK_NONMKTTRE_BFFR","01","M-T600EE","VK_NONMKTTRE_BFFR","N/C","Tire Blk Foam Filled","306506"]
["M-T600EEVK_BASE_T600EE-800D","01","M-T600EE","VK_BASE_T600EE-800D",38815,"T600EE-800-D","306506"]
["M-T600EEVK_CHG_25A100V5060H1_OFF","01","M-T600EE","VK_CHG_25A100V5060H1_OFF","N/C","Ch25A 100V 5060H1P Off","306506"]
["M-T600EEVK_CLNTOL_D800NYL","01","M-T600EE","VK_CLNTOL_D800NYL","N/C","D800/32 Nylon Brush","306506"]
["M-T600EEVK_CLNTOL_D800PAD","01","M-T600EE","VK_CLNTOL_D800PAD","N/C","D800/32 Pad Driver","306506"]
["M-T600EEVK_PADTYP_800RED3","01","M-T600EE","VK_PADTYP_800RED3",22.5,"800/32 Red Clean 3M","306506"]
["M-T600EEVK_PADTYP_800WHT3","01","M-T600EE","VK_PADTYP_800WHT3",22.5,"800/32 Wht Polish 3M","306506"]
["M-T600EEVK_PKG_SSKD","01","M-T600EE","VK_PKG_SSKD",528,"Stack Skid/Carton","306506"]
["M-T600EEVK_SQEWDT_STD","01","M-T600EE","VK_SQEWDT_STD","N/C","Standard Squeegee","306506"]
["M-T600EEVK_SRVMNL","01","M-T600EE","VK_SRVMNL",150,"Service Manual","306506"]
["M-T600EEVK_TRLTRTKIT","01","M-T600EE","VK_TRLTRTKIT",354,"Transport Kit","306506"]
["M-T600EEVK_NONMKTTRE_BPR","01","M-T600EE","VK_NONMKTTRE_BPR","N/C","Tire Blk Pneu Rubber","306506"]
["M-T7AMRVK_BLULGT","01","M-T7AMR","VK_BLULGT",464,"Blue Light","307001"]
["M-T7AMRVK_BTY_L24V92K","01","M-T7AMR","VK_BTY_L24V92K",10877,"Bty Li-Ion 24v, 9.2kWh","307001"]
["M-T7AMRVK_BTY_F128C20","01","M-T7AMR","VK_BTY_F128C20",2773,"Bty FastCharge 128AH C20","307001"]
["M-T7AMRVK_CSMSBTPARKIT","01","M-T7AMR","VK_CSMSBTPARKIT",1578,"Sunbelt -Parts Kit","307001"]
["M-T7AMRVK_ADLOPRMNL","01","M-T7AMR","VK_ADLOPRMNL",141,"Add Operator Manual","307001"]
["M-T7AMRVK_BASE_T7AMR-650D","01","M-T7AMR","VK_BASE_T7AMR-650D",64129,"T7AMR 650/26 Disc","307001"]
["M-T7AMRVK_BTYWTRSYS","01","M-T7AMR","VK_BTYWTRSYS","N/C","Battery Watering Sys","307001"]
["M-T7AMRVK_BTY_W360C20","01","M-T7AMR","VK_BTY_W360C20","N/C","Bty Wet 360AH C20","307001"]
["M-T7AMRVK_CHG_41A100V5060H1P","01","M-T7AMR","VK_CHG_41A100V5060H1P","N/C","Ch41A 100V 5060H1P","307001"]
["M-T7AMRVK_CLNTCH_ECH2ON","01","M-T7AMR","VK_CLNTCH_ECH2ON",3372,"ec-H2O™ NanoClean","307001"]
["M-T7AMRVK_CLNTOL_650NYL","01","M-T7AMR","VK_CLNTOL_650NYL","N/C","650/24 Nylon Brush","307001"]
["M-T7AMRVK_CLNTOL_650PAD","01","M-T7AMR","VK_CLNTOL_650PAD","N/C","650/24 Pad Driver","307001"]
["M-T7AMRVK_CLNTOL_650PYP","01","M-T7AMR","VK_CLNTOL_650PYP","N/C","650/24 Poly Brush","307001"]
["M-T7AMRVK_CLNTOL_650SAB","01","M-T7AMR","VK_CLNTOL_650SAB",378,"650/24 Sup Abr Brsh","307001"]
["M-T7AMRVK_OPRMNL","01","M-T7AMR","VK_OPRMNL","N/C","Oper Manual","307001"]
["M-T7AMRVK_PADTYP_650BLU3","01","M-T7AMR","VK_PADTYP_650BLU3",17.2,"650/26 Bl Scrub 3M","307001"]
["M-T7AMRVK_PADTYP_650BWN3","01","M-T7AMR","VK_PADTYP_650BWN3",17.2,"650/26 Br Strip 3M","307001"]
["M-T7AMRVK_PADTYP_650MAR3","01","M-T7AMR","VK_PADTYP_650MAR3",20.399999999999999,"650/26 MarSur Pad 3M","307001"]
["M-T7AMRVK_PADTYP_650RED3","01","M-T7AMR","VK_PADTYP_650RED3",17.2,"650/26 Red Clean 3M","307001"]
["M-T7AMRVK_PADTYP_650WHT3","01","M-T7AMR","VK_PADTYP_650WHT3",17.2,"650/26 Wh Polish 3M","307001"]
["M-T7AMRVK_PARMNL","01","M-T7AMR","VK_PARMNL",58,"Parts Manual","307001"]
["M-T7AMRVK_PKG_PAD","01","M-T7AMR","VK_PKG_PAD","N/C","Pad Wrap","307001"]
["M-T7AMRVK_PKG_SCNS","01","M-T7AMR","VK_PKG_SCNS",500,"NonStack Skid/Carton","307001"]
["M-T7AMRVK_PKG_SCNS_NC","01","M-T7AMR","VK_PKG_SCNS_NC","N/C","NonStack Skid/Carton","307001"]
["M-T7AMRVK_PKG_WSKD","01","M-T7AMR","VK_PKG_WSKD",351,"Skid w/Stretch Wrap","307001"]
["M-T7AMRVK_SRVMNL","01","M-T7AMR","VK_SRVMNL",141,"Service Manual","307001"]
[{"$f":"C1480&D1480","v":"M-T380AMRVK_REF_T380AMR-500D"},"01","M-T380AMR","VK_REF_T380AMR-500D",63173,"T380AMR-500 DISK","307012"]
["M-T380AMRVK_SRVMNL","01","M-T380AMR","VK_SRVMNL",141,"Service Manual","307012"]
["M-T380AMRVK_CLNTOL_500PAD","01","M-T380AMR","VK_CLNTOL_500PAD","N/C","500/20 Pad Driver","307012"]
["M-T380AMRVK_PADTYP_500BWN3","01","M-T380AMR","VK_PADTYP_500BWN3",28.9,"500/20 Br Strip 3M","307012"]
["M-T380AMRVK_ADLOPRMNL","01","M-T380AMR","VK_ADLOPRMNL",141,"Add Operator Manual","307012"]
["M-T380AMRVK_CLNTOL_500NYL","01","M-T380AMR","VK_CLNTOL_500NYL","N/C","500/20 Nylon Brush","307012"]
["M-T380AMRVK_CLNTCH_ECH2ON","01","M-T380AMR","VK_CLNTCH_ECH2ON",2354,"ec-H2O™ NanoClean","307012"]
["M-T380AMRVK_BTYWTRSYS","01","M-T380AMR","VK_BTYWTRSYS","N/C","Battery Watering Sys","307012"]
["M-T380AMRVK_PKG_SCNS","01","M-T380AMR","VK_PKG_SCNS",500,"NonStack Skid/Carton","307012"]
["M-T380AMRVK_PADTYP_500RED3","01","M-T380AMR","VK_PADTYP_500RED3",27.9,"500/20 Red Clean 3M","307012"]
["M-T380AMRVK_BTY_L24V46K","01","M-T380AMR","VK_BTY_L24V46K",5440,"Bty Li-Ion 24v, 4.6kWh","307012"]
["M-T380AMRVK_PADTYP_500BLU3","01","M-T380AMR","VK_PADTYP_500BLU3",27.9,"500/20 Bl Scrub 3M","307012"]
["M-T380AMRVK_PKG_PAD","01","M-T380AMR","VK_PKG_PAD","N/C","Pad Wrap","307012"]
["M-T380AMRVK_PARMNL","01","M-T380AMR","VK_PARMNL",58,"Parts Manual","307012"]
["M-T380AMRVK_PADTYP_500WHT3","01","M-T380AMR","VK_PADTYP_500WHT3",27.9,"500/20 Wh Polish 3M","307012"]
["M-T380AMRVK_PADTYP_500MAR3","01","M-T380AMR","VK_PADTYP_500MAR3",32.1,"500/20 MarSur 3M","307012"]
["M-T380AMRVK_CLNTOL_500PYP","01","M-T380AMR","VK_CLNTOL_500PYP","N/C","500/20 Poly Brush","307012"]
["M-T380AMRVK_CHG_27A85V5060H1P","01","M-T380AMR","VK_CHG_27A85V5060H1P","N/C","CH27A 85-270V 5060H1P","307012"]
["M-T380AMRVK_BTY_W225C20","01","M-T380AMR","VK_BTY_W225C20","N/C","Bty Wet 225AH C20","307012"]
["M-T380AMRVK_PADTYP_500BLK3","01","M-T380AMR","VK_PADTYP_500BLK3",31.1,"500/20 Blk Strip 3M","307012"]
["M-T981VK_CLNTOL_900PYP","01","M-T981","VK_CLNTOL_900PYP","N/C","900 Brush Polypropylene","307203"]
["M-T981VK_BTY_A350C20","01","M-T981","VK_BTY_A350C20",1141,"Bty AGM 350AH C20","307203"]
["M-T981VK_BTY_W360C20","01","M-T981","VK_BTY_W360C20","N/C","Bty Wet 360AH C20","307203"]
["M-T981VK_PKG_SCNS","01","M-T981","VK_PKG_SCNS",521,"NonStack Skid/Carton","307203"]
["M-T981VK_BTY_WO","01","M-T981","VK_BTY_WO",-701,"Without Battery","307203"]
["M-T981VK_CHG_WO","01","M-T981","VK_CHG_WO",-299,"Without Charger","307203"]
["M-T981VK_CLNTOL_750PYP","01","M-T981","VK_CLNTOL_750PYP","N/C","750 Brush Polypropylene","307203"]
["M-T981VK_CHG_21A85V5060H1P","01","M-T981","VK_CHG_21A85V5060H1P","N/C","Ch21A 85V 5060H1P","307203"]
["M-T981VK_CPC_US","01","M-T981","VK_CPC_US","N/C","US Plug End","307203"]
["M-T981VK_REF_T981-900D","01","M-T981","VK_REF_T981-900D",27430,"T981-900-Disk","307203"]
["M-T981VK_REF_T981-750C","01","M-T981","VK_REF_T981-750C",27486,"T981-750-Cyl","307203"]
["M-T7VK_MCHCOM_SBT","01","M-T7","VK_MCHCOM_SBT",1367,"IRIS Telemetry","307500"]
["M-T7VK_BASE_T7-650-D_STD","01","M-T7","VK_BASE_T7-650-D_STD",26148,"T7 650mm Disk Std Config","307500"]
["M-T7VK_BASE_T7-700-C_STD","01","M-T7","VK_BASE_T7-700-C_STD",28083,"T7 700mm Cyl Std Config","307500"]
["M-T7VK_BASE_T7-800-C_STD","01","M-T7","VK_BASE_T7-800-C_STD",30021,"T7 800mm Cyl Std Config","307500"]
["M-T7VK_BASE_T7-800-D_STD","01","M-T7","VK_BASE_T7-800-D_STD",28083,"T7 800mm Disk Std Config","307500"]
["M-T7VK_CLNTCH_ECH2ON","01","M-T7","VK_CLNTCH_ECH2ON",3413,"ec-H2O™ NanoClean","307500"]
["M-T7VK_BASE_T7-800-D","01","M-T7","VK_BASE_T7-800-D",28083,"T7 800/32 Disc","307500"]
["M-T7VK_BASE_T7-700-C","01","M-T7","VK_BASE_T7-700-C",28083,"T7 700/28 Cyl","307500"]
["M-T7VK_SETBLT","01","M-T7","VK_SETBLT",94,"Seat Belt","307500"]
["M-T7VK_DTG_FAST365","01","M-T7","VK_DTG_FAST365","N/C","FaST 365 Neutral Cln","307500"]
["M-T7VK_D800SAB","01","M-T7","VK_D800SAB",382,"D800/32 Sup Abr Brsh","307500"]
["M-T7VK_C800ABB","01","M-T7","VK_C800ABB",382,"C800/32 Abr Brush","307500"]
["M-T7VK_800MAR3","01","M-T7","VK_800MAR3",28,"800/32 MarSur Pad 3M","307500"]
["M-T7VK_650WHT3","01","M-T7","VK_650WHT3",19,"650/26 Wh Polish 3M","307500"]
["M-T7VK_D800PAD","01","M-T7","VK_D800PAD","N/C","D800/32 Pad Driver","307500"]
["M-T7VK_800BLU3","01","M-T7","VK_800BLU3",24,"800/32 Bl Scrub 3M","307500"]
["M-T7VK_650MAR3","01","M-T7","VK_650MAR3",23,"650/26 MarSur Pad 3M","307500"]
["M-T7VK_DTG_FAST665","01","M-T7","VK_DTG_FAST665","N/C","FaST 665 Degreaser","307500"]
["M-T7VK_D650PAD","01","M-T7","VK_D650PAD","N/C","D650/26 Pad Driver","307500"]
["M-T7VK_C800NYL","01","M-T7","VK_C800NYL","N/C","C800/32 Nylon Brush","307500"]
["M-T7VK_C700PYP","01","M-T7","VK_C700PYP","N/C","C700/28 Poly Brush","307500"]
["M-T7VK_BTY_WTR_SYS","01","M-T7","VK_BTY_WTR_SYS",616,"HydroLink Bty WatKit","307500"]
["M-T7VK_C700NYL","01","M-T7","VK_C700NYL","N/C","C700/28 Nylon Brush","307500"]
["M-T7VK_800RED3","01","M-T7","VK_800RED3",24,"800/32 Red Clean 3M","307500"]
["M-T7VK_WRNLGTALM_ST","01","M-T7","VK_WRNLGTALM_ST",782,"Strobe Light Tank","307500"]
["M-T7VK_D800PYP","01","M-T7","VK_D800PYP","N/C","D800/32 Poly Brush","307500"]
["M-T7VK_D650NYL","01","M-T7","VK_D650NYL","N/C","D650/26 Nylon Brush","307500"]
["M-T7VK_C800PYP","01","M-T7","VK_C800PYP","N/C","C800/32 Poly Brush","307500"]
["M-T7VK_C800HDPYP","01","M-T7","VK_C800HDPYP","N/C","C800/32 HD Poly Brsh","307500"]
["M-T7VK_C700HDPYP","01","M-T7","VK_C700HDPYP","N/C","C700/28 HD Poly Brsh","307500"]
["M-T7VK_800BWN3","01","M-T7","VK_800BWN3",24,"800/32 Br Strip 3M","307500"]
["M-T7VK_800BLKH3","01","M-T7","VK_800BLKH3",38,"800/32 Blk HiPro 3M","307500"]
["M-T7VK_650RED3","01","M-T7","VK_650RED3",19,"650/26 Red Clean 3M","307500"]
[{"$f":"C1544&D1544","v":"M-T7VK_650BWN3"},"01","M-T7","VK_650BWN3",19,"650/26 Br Strip 3M","307500"]
["M-T7VK_800WHT3","01","M-T7","VK_800WHT3",24,"800/32 Wh Polish 3M","307500"]
["M-T7VK_DTG_FAST965","01","M-T7","VK_DTG_FAST965","N/C","FaST 965 HDDegreaser","307500"]
["M-T7VK_C700ABB","01","M-T7","VK_C700ABB",382,"C700/28 Abr Brush","307500"]
["M-T7VK_650BLU3","01","M-T7","VK_650BLU3",19,"650/26 Bl Scrub 3M","307500"]
["M-T7VK_D800NYL","01","M-T7","VK_D800NYL","N/C","D800/32 Nylon Brush","307500"]
["M-T7VK_D650PYP","01","M-T7","VK_D650PYP","N/C","D650/26 Poly Brush","307500"]
["M-T7VK_WRNLGTANDALM_ST","01","M-T7","VK_WRNLGTANDALM_ST",782,"Strobe Light Tank","307500"]
["M-T7VK_PADTYP_800RED3","01","M-T7","VK_PADTYP_800RED3",21.4,"800/32 Red Clean 3M","307500"]
["M-T7VK_D650SAB","01","M-T7","VK_D650SAB",382,"D650/26 Spr Abr Brsh","307500"]
["M-T7VK_BTY_A220C20","01","M-T7","VK_BTY_A220C20",1782,"Bty AGM 220AH C20","307500"]
["M-T7VK_CLNTOL_650SAB","01","M-T7","VK_CLNTOL_650SAB",382,"650/24 Sup Abr Brsh","307500"]
["M-T7VK_CHG_27A100V5060H1P","01","M-T7","VK_CHG_27A100V5060H1P",441,"Ch27A 100-240V 5060H1P","307500"]
["M-T7VK_PARMNL","01","M-T7","VK_PARMNL",59,"Parts Manual","307500"]
["M-T7VK_BTYWTRSYS","01","M-T7","VK_BTYWTRSYS",616,"Battery Watering Sys","307500"]
["M-T7VK_CLNTOL_C700ABB","01","M-T7","VK_CLNTOL_C700ABB",382,"C700/28 Abr Brush","307500"]
["M-T7VK_CLNTOL_C700HDPYP","01","M-T7","VK_CLNTOL_C700HDPYP","N/C","C700/28 HD Poly Brsh","307500"]
["M-T7VK_CLNTOL_C700NYL","01","M-T7","VK_CLNTOL_C700NYL","N/C","C700/28 Nylon Brush","307500"]
["M-T7VK_CLNTOL_C700PYP","01","M-T7","VK_CLNTOL_C700PYP","N/C","C700/28 Poly Brush","307500"]
["M-T7VK_CLNTOL_C800ABB","01","M-T7","VK_CLNTOL_C800ABB",382,"C800/32 Abr Brush","307500"]
["M-T7VK_CLNTOL_C800HDPYP","01","M-T7","VK_CLNTOL_C800HDPYP","N/C","C800/32 HD Poly Brsh","307500"]
["M-T7VK_CLNTOL_C800NYL","01","M-T7","VK_CLNTOL_C800NYL","N/C","C800/32 Nylon Brush","307500"]
["M-T7VK_CLNTOL_C800PYP","01","M-T7","VK_CLNTOL_C800PYP","N/C","C800/32 Poly Brush","307500"]
["M-T7VK_CLNTOL_D650NYL","01","M-T7","VK_CLNTOL_D650NYL","N/C","D650/26 Nylon Brush","307500"]
["M-T7VK_CLNTOL_D650PAD","01","M-T7","VK_CLNTOL_D650PAD","N/C","D650/26 Pad Driver","307500"]
["M-T7VK_CLNTOL_D650PYP","01","M-T7","VK_CLNTOL_D650PYP","N/C","D650/26 Poly Brush","307500"]
["M-T7VK_MCHCOM","01","M-T7","VK_MCHCOM",1367,"IRIS Telemetry","307500"]
["M-T7VK_BTY_W360C20","01","M-T7","VK_BTY_W360C20",716,"Bty Wet 360AH C20","307500"]
["M-T7VK_BTY_WO","01","M-T7","VK_BTY_WO",-450,"Without Battery","307500"]
["M-T7VK_BASE_T7-800-C","01","M-T7","VK_BASE_T7-800-C",30021,"T7 800/32 Cyl","307500"]
["M-T7VK_BASE_T7-650-D","01","M-T7","VK_BASE_T7-650-D",26148,"T7 650/26 Disc","307500"]
["M-T7VK_CSMSBTPARKIT","01","M-T7","VK_CSMSBTPARKIT",1598,"Sunbelt -Parts Kit","307500"]
["M-T7VK_CLNTOL_D800NYL","01","M-T7","VK_CLNTOL_D800NYL","N/C","D800/32 Nylon Brush","307500"]
["M-T7VK_CLNTOL_D800PAD","01","M-T7","VK_CLNTOL_D800PAD","N/C","D800/32 Pad Driver","307500"]
["M-T7VK_CLNTOL_D800PYP","01","M-T7","VK_CLNTOL_D800PYP","N/C","D800/32 Poly Brush","307500"]
["M-T7VK_CLNTOL_D800SAB","01","M-T7","VK_CLNTOL_D800SAB",382,"D800/32 Sup Abr Brsh","307500"]
["M-T7VK_DTG_F365","01","M-T7","VK_DTG_F365","N/C","FaST 365 Neutral Cln","307500"]
["M-T7VK_DTG_F665","01","M-T7","VK_DTG_F665","N/C","FaST 665 Degreaser","307500"]
["M-T7VK_DTG_F965","01","M-T7","VK_DTG_F965","N/C","FaST 965 HDDegreaser","307500"]
["M-T7VK_PADTYP_650BLU3","01","M-T7","VK_PADTYP_650BLU3",17.2,"650/26 Bl Scrub 3M","307500"]
["M-T7VK_PADTYP_650BWN3","01","M-T7","VK_PADTYP_650BWN3",17.2,"650/26 Br Strip 3M","307500"]
["M-T7VK_PADTYP_650MAR3","01","M-T7","VK_PADTYP_650MAR3",21.4,"650/26 MarSur Pad 3M","307500"]
["M-T7VK_PADTYP_650RED3","01","M-T7","VK_PADTYP_650RED3",17.2,"650/26 Red Clean 3M","307500"]
["M-T7VK_PADTYP_650WHT3","01","M-T7","VK_PADTYP_650WHT3",17.2,"650/26 Wh Polish 3M","307500"]
["M-T7VK_PADTYP_800BLU3","01","M-T7","VK_PADTYP_800BLU3",21.4,"800/32 Blu Scrub 3M","307500"]
["M-T7VK_PADTYP_800WHT3","01","M-T7","VK_PADTYP_800WHT3",21.4,"800/32 Wht Polish 3M","307500"]
["M-T7VK_PKG_SCNS","01","M-T7","VK_PKG_SCNS",500,"NonStack Skid/Carton","307500"]
["M-T7VK_PKG_WSKD","01","M-T7","VK_PKG_WSKD",356,"Skid w/Stretch Wrap","307500"]
["M-T7VK_SRVMNL","01","M-T7","VK_SRVMNL",143,"Service Manual","307500"]
["M-T7VK_ADLOPRMNL","01","M-T7","VK_ADLOPRMNL",143,"Add Operator Manual","307500"]
["M-T7VK_BTY_G180C20","01","M-T7","VK_BTY_G180C20",1190,"Bty Gel 180AH C20","307500"]
["M-T7VK_BTY_W240C20","01","M-T7","VK_BTY_W240C20","N/C","Bty Wet 240AH C20","307500"]
["M-T7VK_CHG_19A100V5060H1","01","M-T7","VK_CHG_19A100V5060H1","N/C","Ch19A 100V 5060H1P","307500"]
["M-T7VK_CHG_25A100V5060H1","01","M-T7","VK_CHG_25A100V5060H1",233,"Ch25A 100V 5060H1P","307500"]
["M-T7VK_CHG_25A115V60H1P","01","M-T7","VK_CHG_25A115V60H1P",723,"Ch25A 115V 60H1P","307500"]
["M-T7VK_CHG_WO","01","M-T7","VK_CHG_WO",-522,"Without Charger","307500"]
["M-T7VK_CLNTCH_ECH2O","01","M-T7","VK_CLNTCH_ECH2O",3413,"ec-H2O™","307500"]
["M-T7VK_CLNTCH_FAST","01","M-T7","VK_CLNTCH_FAST",3142,"FaST®","307500"]
["M-T7VK_UTLBSK","01","M-T7","VK_UTLBSK",246,"Utility Basket","307500"]
["M-SSRVK_PADTYP_800WHT3","01","M-SSR","VK_PADTYP_800WHT3",21.4,"800/32 Wht Polish 3M","307501"]
["M-SSRVK_PADTYP_800BLU3","01","M-SSR","VK_PADTYP_800BLU3",21.4,"800/32 Blu Scrub 3M","307501"]
["M-SSRVK_CLNTCH_CECH2ON","01","M-SSR","VK_CLNTCH_CECH2ON",3413,"ec-H2O NanoClean","307501"]
["M-SSRVK_WRNLGTANDALM_ST","01","M-SSR","VK_WRNLGTANDALM_ST",782,"Strobe Light Tank","307501"]
["M-SSRVK_PADTYP_650WHT3","01","M-SSR","VK_PADTYP_650WHT3",17.2,"650/26 Wh Polish 3M","307501"]
[{"$f":"C1608&D1608","v":"M-SSRVK_PADTYP_650MAR3"},"01","M-SSR","VK_PADTYP_650MAR3",21.4,"650/26 MarSur Pad 3M","307501"]
["M-SSRVK_ADLOPRMNL","01","M-SSR","VK_ADLOPRMNL",143,"Add Operator Manual","307501"]
["M-SSRVK_BASE_SSR-800-C_STD","01","M-SSR","VK_BASE_SSR-800-C_STD",30021,"SSR 800mm Cyl Std Config","307501"]
["M-SSRVK_BASE_SSR-800-D_STD","01","M-SSR","VK_BASE_SSR-800-D_STD",28083,"SSR 800mm Disk Std Config","307501"]
["M-SSRVK_BASE_SSR-650-D_STD","01","M-SSR","VK_BASE_SSR-650-D_STD",26148,"SSR 650mm Disk Std Config","307501"]
["M-SSRVK_BASE_SSR-700-C_STD","01","M-SSR","VK_BASE_SSR-700-C_STD",28083,"SSR 700mm Cyl Std Config","307501"]
["M-SSRVK_BTY_A220C20","01","M-SSR","VK_BTY_A220C20",1782,"Bty AGM 220AH C20","307501"]
["M-SSRVK_BTY_G180C20","01","M-SSR","VK_BTY_G180C20",1190,"Bty Gel 180AH C20","307501"]
["M-SSRVK_BTY_W360C20","01","M-SSR","VK_BTY_W360C20",716,"Bty Wet 360AH C20","307501"]
["M-SSRVK_BTY_WO","01","M-SSR","VK_BTY_WO",-450,"Without Battery","307501"]
["M-SSRVK_PADTYP_650YLW3","01","M-SSR","VK_PADTYP_650YLW3",53.5,"650/26 Ylw Polish 3M","307501"]
["M-SSRVK_PKG_PAD","01","M-SSR","VK_PKG_PAD","N/C","Pad Wrap","307501"]
["M-SSRVK_CLNTOL_D800SAB","01","M-SSR","VK_CLNTOL_D800SAB",382,"D800/32 Sup Abr Brsh","307501"]
["M-SSRVK_CLNTOL_D800PYP","01","M-SSR","VK_CLNTOL_D800PYP","N/C","D800/32 Poly Brush","307501"]
["M-SSRVK_CLNTOL_D800PAD","01","M-SSR","VK_CLNTOL_D800PAD","N/C","D800/32 Pad Driver","307501"]
["M-SSRVK_CLNTOL_D800NYL","01","M-SSR","VK_CLNTOL_D800NYL","N/C","D800/32 Nylon Brush","307501"]
["M-SSRVK_CLNTOL_D650PYP","01","M-SSR","VK_CLNTOL_D650PYP","N/C","D650/26 Poly Brush","307501"]
["M-SSRVK_CLNTOL_D650PAD","01","M-SSR","VK_CLNTOL_D650PAD","N/C","D650/26 Pad Driver","307501"]
["M-SSRVK_CLNTOL_D650NYL","01","M-SSR","VK_CLNTOL_D650NYL","N/C","D650/26 Nylon Brush","307501"]
["M-SSRVK_OPRVID","01","M-SSR","VK_OPRVID","N/C","Operator Video","307501"]
["M-SSRVK_SETBLT","01","M-SSR","VK_SETBLT",94,"Seat Belt","307501"]
["M-SSRVK_PADTYP_800YLW3","01","M-SSR","VK_PADTYP_800YLW3",71.7,"800/32 Ylw Polish 3M","307501"]
["M-SSRVK_BASE_SSR-800-D","01","M-SSR","VK_BASE_SSR-800-D",28083,"SSR 800/32 Disc","307501"]
["M-SSRVK_BASE_SSR-800-C","01","M-SSR","VK_BASE_SSR-800-C",30021,"SSR 800/32 Cyl","307501"]
["M-SSRVK_BASE_SSR-700-C","01","M-SSR","VK_BASE_SSR-700-C",28083,"SSR 700/28 Cyl","307501"]
["M-SSRVK_BASE_SSR-650-D","01","M-SSR","VK_BASE_SSR-650-D",26148,"SSR 650/26 Disc","307501"]
["M-SSRVK_CHG_20A120V5060H1","01","M-SSR","VK_CHG_20A120V5060H1","N/C","Ch20A 120V 5060H1","307501"]
["M-SSRVK_DATPKG_HO","01","M-SSR","VK_DATPKG_HO",1508,"Hardware Only","307501"]
["M-SSRVK_CLNTOL_C700ABB","01","M-SSR","VK_CLNTOL_C700ABB",382,"C700/28 Abr Brush","307501"]
["M-SSRVK_CLNTOL_C700HDPYP","01","M-SSR","VK_CLNTOL_C700HDPYP","N/C","C700/28 HD Poly Brsh","307501"]
["M-SSRVK_CLNTOL_C700NYL","01","M-SSR","VK_CLNTOL_C700NYL","N/C","C700/28 Nylon Brush","307501"]
["M-SSRVK_CLNTOL_C700PYP","01","M-SSR","VK_CLNTOL_C700PYP","N/C","C700/28 Poly Brush","307501"]
["M-SSRVK_CLNTOL_C800ABB","01","M-SSR","VK_CLNTOL_C800ABB",382,"C800/32 Abr Brush","307501"]
["M-SSRVK_CLNTOL_C800HDPYP","01","M-SSR","VK_CLNTOL_C800HDPYP","N/C","C800/32 HD Poly Brsh","307501"]
["M-SSRVK_PADTYP_650BLU3","01","M-SSR","VK_PADTYP_650BLU3",17.2,"650/26 Bl Scrub 3M","307501"]
["M-SSRVK_PADTYP_650BWN3","01","M-SSR","VK_PADTYP_650BWN3",17.2,"650/26 Br Strip 3M","307501"]
["M-SSRVK_PADTYP_650RED3","01","M-SSR","VK_PADTYP_650RED3",17.2,"650/26 Red Clean 3M","307501"]
["M-SSRVK_PADTYP_800RED3","01","M-SSR","VK_PADTYP_800RED3",21.4,"800/32 Red Clean 3M","307501"]
["M-SSRVK_CHG_27A100V5060H1P","01","M-SSR","VK_CHG_27A100V5060H1P",441,"Ch27A 100-240V 5060H1P","307501"]
["M-SSRVK_PKG_SCNS_NC","01","M-SSR","VK_PKG_SCNS_NC","N/C","NonStack Skid/Carton","307501"]
["M-SSRVK_PARMNL","01","M-SSR","VK_PARMNL",59,"Parts Manual","307501"]
["M-SSRVK_SRVMNL","01","M-SSR","VK_SRVMNL",143,"Service Manual","307501"]
["M-SSRVK_CHG_25A100V5060H1_A","01","M-SSR","VK_CHG_25A100V5060H1_A",233,"CH25A 100V5060H1 AGM","307501"]
["M-SSRVK_MCHCOM","01","M-SSR","VK_MCHCOM",1367,"IRIS Telemetry","307501"]
["M-SSRVK_CLNTCH_DECH2ON","01","M-SSR","VK_CLNTCH_DECH2ON",3413,"ec-H2O NanoClean","307501"]
["M-SSRVK_CLNTCH_DFAST","01","M-SSR","VK_CLNTCH_DFAST",3142,"FaST®","307501"]
["M-SSRVK_CLNTCH_DECH2O","01","M-SSR","VK_CLNTCH_DECH2O",3413,"ec-H2O™","307501"]
["M-SSRVK_DTG_FMP","01","M-SSR","VK_DTG_FMP","N/C","Dtrgnt Cleaner","307501"]
["M-SSRVK_DTG_FMPD","01","M-SSR","VK_DTG_FMPD","N/C","Dtrgnt Degreaser","307501"]
["M-SSRVK_OPRMNL","01","M-SSR","VK_OPRMNL","N/C","Oper Manual","307501"]
["M-SSRVK_PKG_SCNS","01","M-SSR","VK_PKG_SCNS",500,"NonStack Skid/Carton","307501"]
["M-SSRVK_PKG_WSKD","01","M-SSR","VK_PKG_WSKD",356,"Skid w/Stretch Wrap","307501"]
["M-SSRVK_UTLBSK","01","M-SSR","VK_UTLBSK",246,"Utility Basket","307501"]
["M-SSRVK_BTYWTRSYS","01","M-SSR","VK_BTYWTRSYS",616,"Battery Watering Sys","307501"]
["M-SSRVK_BTY_W240C20","01","M-SSR","VK_BTY_W240C20","N/C","Bty Wet 240AH C20","307501"]
["M-SSRVK_CHG_19A100V5060H1","01","M-SSR","VK_CHG_19A100V5060H1","N/C","Ch19A 100V 5060H1P","307501"]
["M-SSRVK_CHG_25A100V5060H1","01","M-SSR","VK_CHG_25A100V5060H1",233,"Ch25A 100V 5060H1P","307501"]
["M-SSRVK_CHG_25A115V60H1P","01","M-SSR","VK_CHG_25A115V60H1P",723,"Ch25A 115V 60H1P","307501"]
["M-SSRVK_CHG_WO","01","M-SSR","VK_CHG_WO",-522,"Without Charger","307501"]
["M-SSRVK_CLNTCH_CECH2O","01","M-SSR","VK_CLNTCH_CECH2O",3413,"ec-H2O™","307501"]
["M-SSRVK_CLNTCH_CFAST","01","M-SSR","VK_CLNTCH_CFAST",3142,"FaST®","307501"]
["M-T12VK_DNYL","01","M-T12","VK_DNYL","N/C","Disk Nylon Brush","307600"]
["M-T12VK_BTY_W240C20","01","M-T12","VK_BTY_W240C20","N/C","Bty Wet 240AH C20","307600"]
["M-T12VK_RED3","01","M-T12","VK_RED3",24,"Red Clean 3M","307600"]
[{"$f":"C1672&D1672","v":"M-T12VK_DPYP"},"01","M-T12","VK_DPYP","N/C","Disk Poly Brush","307600"]
["M-T12VK_SDECLNTOL_SCBPYP","01","M-T12","VK_SDECLNTOL_SCBPYP","N/C","Side Cln Polypr Scrb","307600"]
["M-T12VK_SDETYPPAD_WHT3","01","M-T12","VK_SDETYPPAD_WHT3",20,"Side Wh Polish 3M","307600"]
["M-T12VK_OVHGRD_Y","01","M-T12","VK_OVHGRD_Y",1613,"Overhead Guard","307600"]
["M-T12VK_BASE_T12-D","01","M-T12","VK_BASE_T12-D",30272,"T12 ScrubRider Disk","307600"]
["M-T12VK_HVYDTYSQEPRT_Y","01","M-T12","VK_HVYDTYSQEPRT_Y",788,"Hvy Dty Sque Protect","307600"]
["M-T12VK_DSAB","01","M-T12","VK_DSAB",212,"Dsk Spr Abr Brush","307600"]
["M-T12VK_BTY_L36V4M","01","M-T12","VK_BTY_L36V4M",16361,"Bty Li-Ion 36v, 8.2kWh","307600"]
["M-T12VK_SDECLNTOL_PAD","01","M-T12","VK_SDECLNTOL_PAD","N/C","Side Pad Driver","307600"]
["M-T12VK_SDETYPPAD_BLU3","01","M-T12","VK_SDETYPPAD_BLU3",20,"Side Bl Scrub 3M","307600"]
["M-T12VK_MCHCOM_SBT","01","M-T12","VK_MCHCOM_SBT",1367,"IRIS Telemetry","307600"]
["M-T12VK_BLKH3","01","M-T12","VK_BLKH3",38,"Blk Strip (HiPRO) 3M","307600"]
["M-T12VK_ULERTG_ES","01","M-T12","VK_ULERTG_ES",3084,"UL® Type ES","307600"]
["M-T12VK_PRDPKG_Y","01","M-T12","VK_PRDPKG_Y",5750,"Productivity Package","307600"]
["M-T12VK_BASE_T12-XP-D_STD","01","M-T12","VK_BASE_T12-XP-D_STD",32935,"T12 XP Rider Disk Std Config","307600"]
["M-T12VK_FREEXT_Y","01","M-T12","VK_FREEXT_Y",368,"Fire Extinquisher","307600"]
["M-T12VK_SQEMAT_L","01","M-T12","VK_SQEMAT_L","N/C","Squeegee Linatex","307600"]
["M-T12VK_BTY_A312C20","01","M-T12","VK_BTY_A312C20",5029,"Bty AGM 312AH C20","307600"]
["M-T12VK_BWN3","01","M-T12","VK_BWN3",24,"Br Stripping - 3M","307600"]
["M-T12VK_BLULGT","01","M-T12","VK_BLULGT",1075,"Blue Light","307600"]
["M-T12VK_SDETYPPAD_RED3","01","M-T12","VK_SDETYPPAD_RED3",20,"Side Red Clean 3M","307600"]
["M-T12VK_BTYWTRSYS","01","M-T12","VK_BTYWTRSYS",805,"Battery Watering Sys","307600"]
["M-T12VK_SRVMNL","01","M-T12","VK_SRVMNL",264,"Service Manual","307600"]
["M-T12VK_SPYNOZHSE_Y","01","M-T12","VK_SPYNOZHSE_Y",1326,"Spray Nozzel Hose","307600"]
["M-T12VK_WRNLGTALM_AVST","01","M-T12","VK_WRNLGTALM_AVST",722,"AV BU AlarmStrobeTnk","307600"]
["M-T12VK_HVYDTYPRTPKG_Y","01","M-T12","VK_HVYDTYPRTPKG_Y",1628,"Hvy Duty Protect Pkg","307600"]
["M-T12VK_BTY_L36V320A","01","M-T12","VK_BTY_L36V320A",9973,"Li-Ion 36v, 320AH","307600"]
["M-T12VK_BTY_L36V240A","01","M-T12","VK_BTY_L36V240A",7480,"Li-Ion 36v, 240AH","307600"]
["M-T12VK_BTY_L36V160A","01","M-T12","VK_BTY_L36V160A",4987,"Li-Ion 36v, 160AH","307600"]
["M-T12VK_CHG_WO","01","M-T12","VK_CHG_WO",-323,"Without Charger","307600"]
["M-T12VK_BTY_WO","01","M-T12","VK_BTY_WO",-495,"Without Battery","307600"]
["M-T12VK_PKG_SCNS","01","M-T12","VK_PKG_SCNS",763,"NonStack Skid/Carton","307600"]
["M-T12VK_MCHCOM","01","M-T12","VK_MCHCOM",1367,"IRIS Telemetry","307600"]
["M-T12VK_HVYDTYFRTBMP_Y","01","M-T12","VK_HVYDTYFRTBMP_Y",1007,"Hvy Dty Frnt Bumper","307600"]
["M-T12VK_UPG_Y","01","M-T12","VK_UPG_Y","N/C","UPG","307600"]
["M-T12VK_HLT_Y","01","M-T12","VK_HLT_Y",428,"Headlight","307600"]
["M-T12VK_SDECLNTOL_SAB","01","M-T12","VK_SDECLNTOL_SAB",212,"Side Sup Abr Brush","307600"]
["M-T12VK_DHDPYP","01","M-T12","VK_DHDPYP","N/C","Disk HD Poly Brush","307600"]
["M-T12VK_SFYLGTPKG_Y","01","M-T12","VK_SFYLGTPKG_Y",937,"Safety Light Package","307600"]
["M-T12VK_ALTSTBFLSLNS_B","01","M-T12","VK_ALTSTBFLSLNS_B","N/C","Alternate Lens-Blue","307600"]
["M-T12VK_CPYS","01","M-T12","VK_CPYS","N/C","Polyester Brush Cyl","307600"]
["M-T12VK_BASE_T12-XP-C_STD","01","M-T12","VK_BASE_T12-XP-C_STD",33778,"T12 XP Rider Cyl Std Config","307600"]
["M-T12VK_SDEBRSTYP_SCB","01","M-T12","VK_SDEBRSTYP_SCB",4706,"Side Brush Scrubber","307600"]
["M-T12VK_BASE_T12-D_STD","01","M-T12","VK_BASE_T12-D_STD",30272,"T12 Rider Disk Std Config","307600"]
["M-T12VK_DPAD","01","M-T12","VK_DPAD","N/C","Disk Pad Driver","307600"]
["M-T12VK_CHG_21A85V5060H1P","01","M-T12","VK_CHG_21A85V5060H1P","N/C","Ch21A 85V 5060H1P","307600"]
["M-T12VK_PWRVACWND_VACWND","01","M-T12","VK_PWRVACWND_VACWND",932,"Vacuum Wand","307600"]
["M-T12VK_BLU3","01","M-T12","VK_BLU3",24,"Blu Scrub - 3M","307600"]
["M-T12VK_CHDPYP","01","M-T12","VK_CHDPYP","N/C","Cyl. HD Poly Brush","307600"]
["M-T12VK_BASE_T12-C","01","M-T12","VK_BASE_T12-C",31112,"T12 ScrubRider Cyl","307600"]
["M-T12VK_OPRMNL","01","M-T12","VK_OPRMNL","N/C","Oper Manual","307600"]
["M-T12VK_WRNLGTALM_SO","01","M-T12","VK_WRNLGTALM_SO",722,"Strobe Light OHG","307600"]
["M-T12VK_CPYP","01","M-T12","VK_CPYP","N/C","Cyl Poly Brush","307600"]
["M-T12VK_BASE_T12-C_STD","01","M-T12","VK_BASE_T12-C_STD",31112,"T12 Rider Cly Std Config","307600"]
["M-T12VK_BTY_A350C20","01","M-T12","VK_BTY_A350C20",5029,"Bty AGM 350AH C20","307600"]
["M-T12VK_ADLOPRMNL","01","M-T12","VK_ADLOPRMNL",80,"Add Operator Manual","307600"]
["M-T12VK_BASE_T12-XP-C","01","M-T12","VK_BASE_T12-XP-C",33778,"T12 XP ScrubRider C","307600"]
["M-T12VK_BASE_T12-XP-D","01","M-T12","VK_BASE_T12-XP-D",32935,"T12 XP ScrubRider D","307600"]
["M-T12VK_OPRVID","01","M-T12","VK_OPRVID","N/C","Operator Video","307600"]
["M-T12VK_CSAB","01","M-T12","VK_CSAB",212,"Abr. Brush Cyl","307600"]
["M-T12VK_CHG_25A100V5060H1LIOF","01","M-T12","VK_CHG_25A100V5060H1LIOF",698,"Ch25A 100V 50/60Hz 1Ph Off","307600"]
["M-T12VK_PKG_PAD","01","M-T12","VK_PKG_PAD","N/C","Pad Wrap","307600"]
["M-T12VK_TRLTRTKIT_Y","01","M-T12","VK_TRLTRTKIT_Y",208,"Transport Kit","307600"]
["M-T12VK_SQEMAT_G","01","M-T12","VK_SQEMAT_G","N/C","Squeegee Gum Rubber","307600"]
[{"$f":"C1736&D1736","v":"M-T12VK_CHG_21A85V5060H1PA312"},"01","M-T12","VK_CHG_21A85V5060H1PA312",807,"Ch21A 85V 5060H1P","307600"]
["M-T12VK_PARMNL","01","M-T12","VK_PARMNL","N/C","Parts Manual","307600"]
["M-T12VK_CLNTCH_ECH2O","01","M-T12","VK_CLNTCH_ECH2O",4241,"ec-H2O™","307600"]
["M-T12VK_PKG_WSKD","01","M-T12","VK_PKG_WSKD",358,"Skid w/Stretch Wrap","307600"]
["M-T12VK_BTY_L36V2M","01","M-T12","VK_BTY_L36V2M",8160,"Bty Li-Ion 36v, 4.1kWh","307600"]
["M-T12VK_SET_DLXW","01","M-T12","VK_SET_DLXW",614,"Deluxe Seat w/Armr.","307600"]
["M-T12VK_BTY_W360C20","01","M-T12","VK_BTY_W360C20",1167,"Bty Wet 360AH C20","307600"]
["M-T12VK_SDECLNTOL_HDPYP","01","M-T12","VK_SDECLNTOL_HDPYP","N/C","Side HD Poly Brush","307600"]
["M-T12VK_CHG_20A85V5060H1P","01","M-T12","VK_CHG_20A85V5060H1P",890,"Ch20A 85V 5060H1P","307600"]
["M-T12VK_CHG_21A85V5060H1P_360","01","M-T12","VK_CHG_21A85V5060H1P_360","N/C","Ch21A 85V 5060H1P","307600"]
["M-T12VK_ALTSTBFLSLNS_R","01","M-T12","VK_ALTSTBFLSLNS_R","N/C","Alternate Lens-Red","307600"]
["M-T12VK_WHT3","01","M-T12","VK_WHT3",24,"Wh Polish 3M","307600"]
["M-T12VK_SQEMAT_U","01","M-T12","VK_SQEMAT_U","N/C","Squeegee Urethane","307600"]
["M-T12VK_BTY_L36V5M","01","M-T12","VK_BTY_L36V5M",19557,"Bty Li-Ion 36v, 10.2kWh","307600"]
["M-T12VK_CHG_33A100V5060H1PLIF","01","M-T12","VK_CHG_33A100V5060H1PLIF",525,"Ch33A 100V 50/60Hz 1Ph Off","307600"]
["M-T16AMRVK_CSMSBTPARKIT","01","M-T16AMR","VK_CSMSBTPARKIT",2179,"Sunbelt -Parts Kit","308001"]
["M-T16AMRVK_CHG_33A100V5060H1P","01","M-T16AMR","VK_CHG_33A100V5060H1P",-250,"Ch33A 100V 5060H1P","308001"]
["M-T16AMRVK_SRVMNL","01","M-T16AMR","VK_SRVMNL",262,"Service Manual","308001"]
["M-T16AMRVK_PKG_SKD","01","M-T16AMR","VK_PKG_SKD",760,"Skid","308001"]
["M-T16AMRVK_PKG_CRT","01","M-T16AMR","VK_PKG_CRT",1430,"Crate","308001"]
["M-T16AMRVK_PARMNL","01","M-T16AMR","VK_PARMNL","N/C","Parts Manual","308001"]
["M-T16AMRVK_CLNTOL_SAB","01","M-T16AMR","VK_CLNTOL_SAB",443,"Sup Abr Brush","308001"]
["M-T16AMRVK_CLNTOL_PYP","01","M-T16AMR","VK_CLNTOL_PYP","N/C","Poly Brush","308001"]
["M-T16AMRVK_CHG_WO_NOLI","01","M-T16AMR","VK_CHG_WO_NOLI",-323,"Without Charger, FLA","308001"]
["M-T16AMRVK_CHG_WO_LI","01","M-T16AMR","VK_CHG_WO_LI",-750,"Without Charger, Li-Ion","308001"]
["M-T16AMRVK_BASE_T16AMR-STD-W360","01","M-T16AMR","VK_BASE_T16AMR-STD-W360",106120,"T16AMR CYL STD W360","308001"]
["M-T16AMRVK_BASE_T16AMR-STD-LI","01","M-T16AMR","VK_BASE_T16AMR-STD-LI",117756,"T16AMR CYL STD LI-ION","308001"]
["M-T16AMRVK_ADLOPRMNL","01","M-T16AMR","VK_ADLOPRMNL",79,"Add Operator Manual","308001"]
["M-T16AMRVK_CSMSBTDCL_FC","01","M-T16AMR","VK_CSMSBTDCL_FC",232,"Sunbelt-FloorCareDcl","308001"]
["M-T16VK_SVEEVMSWH_N","01","M-T16","VK_SVEEVMSWH_N",-427,"No SE Switch Caplty","308007"]
["M-T16VK_CHG_WO","01","M-T16","VK_CHG_WO",-323,"Without Charger","308007"]
["M-T16VK_BTY_WO","01","M-T16","VK_BTY_WO",-495,"Without Battery","308007"]
["M-T16VK_ULERTG_E","01","M-T16","VK_ULERTG_E","N/C","UL® Type E","308007"]
["M-T16VK_PADTYP_BLU3","01","M-T16","VK_PADTYP_BLU3",24.7,"Blu Scrub - 3M","308007"]
["M-T16VK_CLNTOL_PAD","01","M-T16","VK_CLNTOL_PAD","N/C","Pad Driver","308007"]
["M-T16VK_BTY_L36V2M","01","M-T16","VK_BTY_L36V2M",8312,"Bty Li-Ion 36v, 4.1kWh","308007"]
["M-T16VK_BTY_W360C20","01","M-T16","VK_BTY_W360C20",1167,"Bty Wet 360AH C20","308007"]
["M-T16VK_CLNTOL_DPYP","01","M-T16","VK_CLNTOL_DPYP","N/C","Disk Brush Poly","308007"]
["M-T16VK_MCHCOM_SBT","01","M-T16","VK_MCHCOM_SBT",1367,"IRIS Telemetry","308007"]
["M-T16VK_PADTYP_BWN3","01","M-T16","VK_PADTYP_BWN3",24.7,"Br Stripping - 3M","308007"]
["M-T16VK_CLNTOL_DSAB","01","M-T16","VK_CLNTOL_DSAB",212,"Disk Brush Spr Abr.","308007"]
["M-T16VK_SFYLGTPKG","01","M-T16","VK_SFYLGTPKG",937,"Safety Light Package","308007"]
["M-T16VK_SQEMAT_U","01","M-T16","VK_SQEMAT_U","N/C","Squeegee Urethane","308007"]
["M-T16VK_ULERTG_ES","01","M-T16","VK_ULERTG_ES",3084,"UL® Type ES","308007"]
["M-T16VK_CHG_21A85V5060H1P_RO","01","M-T16","VK_CHG_21A85V5060H1P_RO","N/C","Ch21A 85V 5060H1P","308007"]
["M-T16VK_BTY_L36V320A","01","M-T16","VK_BTY_L36V320A",9973,"Li-Ion 36v, 320AH","308007"]
["M-T16VK_BTY_L36V240A","01","M-T16","VK_BTY_L36V240A",7480,"Li-Ion 36v, 240AH","308007"]
["M-T16VK_PADTYP_WHT3","01","M-T16","VK_PADTYP_WHT3",24.7,"Wh Polish 3M","308007"]
["M-T16VK_PWRVACWND_VACWND","01","M-T16","VK_PWRVACWND_VACWND",932,"Vacuum Wand","308007"]
["M-T16VK_HVYDTYPRTPKG","01","M-T16","VK_HVYDTYPRTPKG",3273,"Hvy Duty Protect Pkg","308007"]
["M-T16VK_CLNTOL_CSAB","01","M-T16","VK_CLNTOL_CSAB",212,"Cyl Brush Spr Abr.","308007"]
["M-T16VK_CHG_90A200V5060H1P","01","M-T16","VK_CHG_90A200V5060H1P",1225,"90A 200-240V AC 50/60Hz 1Ph","308007"]
["M-T16VK_CHG_20A85V5060H1P","01","M-T16","VK_CHG_20A85V5060H1P",890,"Ch20A 85V 5060H1P","308007"]
["M-T16VK_CHG_21A85V5060H1P","01","M-T16","VK_CHG_21A85V5060H1P","N/C","Ch21A 85V 5060H1P","308007"]
["M-T16VK_OPRVID","01","M-T16","VK_OPRVID","N/C","Operator Video","308007"]
["M-T16VK_DTG_FSBD","01","M-T16","VK_DTG_FSBD","N/C","Solvent Degreaser","308007"]
["M-T16VK_MCHCOM","01","M-T16","VK_MCHCOM",1367,"IRIS Telemetry","308007"]
["M-T16VK_HLT","01","M-T16","VK_HLT",428,"Headlight","308007"]
["M-T16VK_SQEMAT_G","01","M-T16","VK_SQEMAT_G","N/C","Squeegee Gum Rubber","308007"]
["M-T16VK_BASE_T16-910-D_STD","01","M-T16","VK_BASE_T16-910-D_STD",37638,"T16 Rider - Disk Std Config","308007"]
["M-T16VK_SPYNOZWTHHSE","01","M-T16","VK_SPYNOZWTHHSE",1326,"Spray Nozzel w/Hose","308007"]
["M-T16VK_SDEPADTYP_BWN3","01","M-T16","VK_SDEPADTYP_BWN3",20,"Side Br Strip 3M","308007"]
["M-T16VK_SRVMNL","01","M-T16","VK_SRVMNL",264,"Service Manual","308007"]
["M-T16VK_SLNRECTNKDRN","01","M-T16","VK_SLNRECTNKDRN",1935,"Sol/Rec Tank Drain","308007"]
[{"$f":"C1800&D1800","v":"M-T16VK_SDEBRSTYP_SCB"},"01","M-T16","VK_SDEBRSTYP_SCB",4706,"Side Brush Scrubber","308007"]
["M-T16VK_SDEBRSTYP_SWP","01","M-T16","VK_SDEBRSTYP_SWP",3344,"Side Brush Sweeper","308007"]
["M-T16VK_HVYDTYSQEPRT","01","M-T16","VK_HVYDTYSQEPRT",788,"Hvy Dty Sque Protect","308007"]
["M-T16VK_CLNTOL_NYL","01","M-T16","VK_CLNTOL_NYL","N/C","Nylon Brush","308007"]
["M-T16VK_CHG_20A115V5060H1_LI","01","M-T16","VK_CHG_20A115V5060H1_LI","N/C","Ch20A 115V 50/60Hz 1Ph On","308007"]
["M-T16VK_TRLTRTKIT","01","M-T16","VK_TRLTRTKIT",208,"Transport Kit","308007"]
["M-T16VK_ALTSTBFLSLNS_B","01","M-T16","VK_ALTSTBFLSLNS_B","N/C","Alternate Lens-Blue","308007"]
["M-T16VK_WRNLGTANDALM_SO","01","M-T16","VK_WRNLGTANDALM_SO",722,"Strobe Light OHG","308007"]
["M-T16VK_BTY_L36V4M","01","M-T16","VK_BTY_L36V4M",16514,"Bty Li-Ion 36v, 8.2kWh","308007"]
["M-T16VK_CLNTCH_ECH2O","01","M-T16","VK_CLNTCH_ECH2O",4835,"ec-H2O™","308007"]
["M-T16VK_CHG_OVH_GRD","01","M-T16","VK_CHG_OVH_GRD",2179,"Overhead Guard","308007"]
["M-T16VK_SDECLNTOL_NYL","01","M-T16","VK_SDECLNTOL_NYL","N/C","Side Nylon Brush","308007"]
["M-T16VK_CPYS","01","M-T16","VK_CPYS","N/C","Polyester Brush Cyl","308007"]
["M-T16VK_BASE_T16-910-C_STD","01","M-T16","VK_BASE_T16-910-C_STD",37638,"T16 Rider - Cyl Std Config","308007"]
["M-T16VK_BTYWTRSYS","01","M-T16","VK_BTYWTRSYS",805,"Battery Watering Sys","308007"]
["M-T16VK_BTYCRT","01","M-T16","VK_BTYCRT",2655,"Battery Cart","308007"]
["M-T16VK_HVYDTYFRTBMP_OVHGRD","01","M-T16","VK_HVYDTYFRTBMP_OVHGRD",1007,"Hvy Dty Frnt Bumper","308007"]
["M-T16VK_BASE_T16-910-D","01","M-T16","VK_BASE_T16-910-D",37638,"T16 Rider - Disk","308007"]
["M-T16VK_ADLBTY_W360C20","01","M-T16","VK_ADLBTY_W360C20",2487,"Ext.Bty Wet 360 C20","308007"]
["M-T16VK_SDEPADTYP_BLU3","01","M-T16","VK_SDEPADTYP_BLU3",20,"Side Blu Scrub 3M","308007"]
["M-T16VK_DTG_SBD","01","M-T16","VK_DTG_SBD","N/C","Solvent Degreaser","308007"]
["M-T16VK_FREEXT","01","M-T16","VK_FREEXT",368,"Fire Extinguisher","308007"]
["M-T16VK_PKG_CRT_NC","01","M-T16","VK_PKG_CRT_NC","N/C","Crate","308007"]
["M-T16VK_SDECLNTOL_SAB","01","M-T16","VK_SDECLNTOL_SAB",212,"Side Sup Abr Brush","308007"]
["M-T16VK_SDEPADTYP_RED3","01","M-T16","VK_SDEPADTYP_RED3",20,"Side Red Clean 3M","308007"]
["M-T16VK_ADLOPRMNL","01","M-T16","VK_ADLOPRMNL",80,"Add Operator Manual","308007"]
["M-T16VK_CLNTCH_ES","01","M-T16","VK_CLNTCH_ES",4830,"ES® Extended Scrub","308007"]
["M-T16VK_BLULGT","01","M-T16","VK_BLULGT",1075,"Blue Light","308007"]
["M-T16VK_SQEMAT_L","01","M-T16","VK_SQEMAT_L","N/C","Squeegee Linatex","308007"]
["M-T16VK_SDECLNTOL_PAD","01","M-T16","VK_SDECLNTOL_PAD","N/C","Side Pad Driver","308007"]
["M-T16VK_BTY_A312C20","01","M-T16","VK_BTY_A312C20",5029,"Bty AGM 312AH C20","308007"]
["M-T16VK_BTYEXCSYS_RO","01","M-T16","VK_BTYEXCSYS_RO",3728,"Bty Rollout Sys.","308007"]
["M-T16VK_SDECLNTOL_SCBPYP","01","M-T16","VK_SDECLNTOL_SCBPYP","N/C","Side Cln Polypr Scrb","308007"]
["M-T16VK_SDECLNTOL_HDPYP","01","M-T16","VK_SDECLNTOL_HDPYP","N/C","Side HD Poly Brush","308007"]
["M-T16VK_CHG_25A100V5060H1LIOF","01","M-T16","VK_CHG_25A100V5060H1LIOF",768,"Ch25A 100V 50/60Hz 1Ph Off","308007"]
["M-T16VK_PKG_SKD","01","M-T16","VK_PKG_SKD",763,"Skid","308007"]
["M-T16VK_PADTYP_RED3","01","M-T16","VK_PADTYP_RED3",24.7,"Red Clean 3M","308007"]
["M-T16VK_OVHGRD","01","M-T16","VK_OVHGRD",2179,"Overhead Guard","308007"]
["M-T16VK_STLCSE","01","M-T16","VK_STLCSE",636,"Steel Case","308007"]
["M-T16VK_SQEMAT_U_RER","01","M-T16","VK_SQEMAT_U_RER","N/C","Squegee Urethane R","308007"]
["M-T16VK_DULVACFAN","01","M-T16","VK_DULVACFAN",928,"Dual Vacuum Fans","308007"]
["M-T16VK_PRESWPSYS","01","M-T16","VK_PRESWPSYS",6698,"Presweep System","308007"]
["M-T16VK_CSMSBTDCL_FC","01","M-T16","VK_CSMSBTDCL_FC",2243,"Sunbelt-FloorCareDcl","308007"]
["M-T16VK_CHG_33A100V5060H1PLIF","01","M-T16","VK_CHG_33A100V5060H1PLIF",525,"Ch33A 100V 50/60Hz 1Ph Off","308007"]
["M-T16VK_HVYDTYFRTBMP","01","M-T16","VK_HVYDTYFRTBMP",1007,"Hvy Dty Frnt Bumper","308007"]
["M-T16VK_BASE_T16-910-C","01","M-T16","VK_BASE_T16-910-C",37638,"T16 Rider - Cyl","308007"]
["M-T16VK_DATPKG_HO","01","M-T16","VK_DATPKG_HO",1508,"Hardware Only","308007"]
["M-T16VK_BTY_L36V6M","01","M-T16","VK_BTY_L36V6M",22906,"Bty Li-Ion 36v, 12.2kWh","308007"]
["M-T16VK_DTGMTG","01","M-T16","VK_DTGMTG",3408,"Detergent Metering","308007"]
["M-T16VK_PKG_CRT","01","M-T16","VK_PKG_CRT",1435,"Crate","308007"]
["M-T16VK_WRNLGTANDALM_AVST","01","M-T16","VK_WRNLGTANDALM_AVST",722,"AV BU AlrmStrobe Tnk","308007"]
["M-T16VK_SDEPADTYP_WHT3","01","M-T16","VK_SDEPADTYP_WHT3",20,"Side Wh Polish 3M","308007"]
["M-T16VK_CLNTOL_HDPYP","01","M-T16","VK_CLNTOL_HDPYP","N/C","HD Poly Brush","308007"]
["M-T16VK_CSMSBTDCLECH","01","M-T16","VK_CSMSBTDCLECH",212,"Sunbelt-ecH2O Decal","308007"]
["M-T16VK_CSMSBTDCL_GT","01","M-T16","VK_CSMSBTDCL_GT",2243,"Sunbelt-GenTool Dcl","308007"]
["M-T16VK_BTY_W240C20","01","M-T16","VK_BTY_W240C20","N/C","Bty Wet 240AH C20","308007"]
["M-T16VK_PADTYP_BLKH3","01","M-T16","VK_PADTYP_BLKH3",28.9,"Blk Strip (HiPRO) 3M","308007"]
["M-T16VK_CHG_21A85V5060H1P_AGM","01","M-T16","VK_CHG_21A85V5060H1P_AGM",807,"Ch21A 85V 5060H1P","308007"]
["M-T16VK_ALTSTBFLSLNS_R","01","M-T16","VK_ALTSTBFLSLNS_R","N/C","Alternate Lens-Red","308007"]
["M-T16VK_CLNTOL_CPYP","01","M-T16","VK_CLNTOL_CPYP","N/C","Cyl Brush Poly","308007"]
["M-T16VK_PRDPKG","01","M-T16","VK_PRDPKG",5750,"Productivity Package","308007"]
["M-T16VK_SET_DLXW","01","M-T16","VK_SET_DLXW",614,"Deluxe Seat w/Armr.","308007"]
["M-T20VK_MCHCOM_SBT","01","M-T20","VK_MCHCOM_SBT",1367,"IRIS Telemetry","308205"]
["M-T20VK_CLNTCH_ES","01","M-T20","VK_CLNTCH_ES",5330,"ES® Extended Scrub","308205"]
[{"$f":"C1864&D1864","v":"M-T20VK_MCHCOM"},"01","M-T20","VK_MCHCOM",1367,"IRIS Telemetry","308205"]
["M-T20VK_CLNTOL_DPADPYP","01","M-T20","VK_CLNTOL_DPADPYP","N/C","Disk Poly Pad Driver","308205"]
["M-T20VK_CLNTOL_CSASB","01","M-T20","VK_CLNTOL_CSASB",212,"Cyl Super Abrasive, Stiff Bristle","308205"]
["M-T20VK_PWRVACWND_VACWND","01","M-T20","VK_PWRVACWND_VACWND",1049,"Vacuum Wand","308205"]
["M-T20VK_BASE_T20-D-LPG","01","M-T20","VK_BASE_T20-D-LPG",72553,"T20 LP Disk Scrbbr","308205"]
["M-T20VK_DATPKG_HO","01","M-T20","VK_DATPKG_HO",1526,"Hardware Only","308205"]
["M-T20VK_HVYDTYSQEPRT","01","M-T20","VK_HVYDTYSQEPRT",983,"Hvy Dty Sque Protect","308205"]
["M-T20VK_CLNTOL_DPYP","01","M-T20","VK_CLNTOL_DPYP","N/C","Disk Brush Poly","308205"]
["M-T20VK_HVYDTYRERBMP","01","M-T20","VK_HVYDTYRERBMP",983,"Hvy Dty RearBmpr","308205"]
["M-T20VK_BASE_T20-C-GAS","01","M-T20","VK_BASE_T20-C-GAS",72553,"T20 Gas Cyl Scrbbr","308205"]
["M-T20VK_LPGTNK_F","01","M-T20","VK_LPGTNK_F","N/C","LPG Tank Full","308205"]
["M-T20VK_CSMFRTCVRLTHKIT","01","M-T20","VK_CSMFRTCVRLTHKIT",685,"Front Cover Latch Kit","308205"]
["M-T20VK_T20-D-LP","01","M-T20","VK_T20-D-LP",72553,"T20 LP Disk Scrbbr","308205"]
["M-T20VK_SDECLNTOL_SCBSAB","01","M-T20","VK_SDECLNTOL_SCBSAB",212,"Side Cln Spr AbrBrsh","308205"]
["M-T20VK_CSMSLN_FSTTK","01","M-T20","VK_CSMSLN_FSTTK",1821,"Front/Side Tie Down","308205"]
["M-T20VK_SDEBRSTYP_D","01","M-T20","VK_SDEBRSTYP_D",5678,"Side Brush Disk","308205"]
["M-T20VK_BASE_T20-D-GAS","01","M-T20","VK_BASE_T20-D-GAS",72553,"T20 Gas Disk Scrbbr","308205"]
["M-T20VK_CLNTOL_DPAD","01","M-T20","VK_CLNTOL_DPAD","N/C","Disk Pad Driver","308205"]
["M-T20VK_SRVMNL","01","M-T20","VK_SRVMNL",264,"Service Manual","308205"]
["M-T20VK_SPYNOZWTHHSE_ES","01","M-T20","VK_SPYNOZWTHHSE_ES",6724,"Spray Nozzle Hose ES","308205"]
["M-T20VK_PWRVACWND_PWRWND","01","M-T20","VK_PWRVACWND_PWRWND",2023,"Power Wand","308205"]
["M-T20VK_OPRVID","01","M-T20","VK_OPRVID","N/C","Operator Video","308205"]
["M-T20VK_TRM_MPAN","01","M-T20","VK_TRM_MPAN","N/C","Membrane Ctrl Panel","308205"]
["M-T20VK_ADLOPRMNL","01","M-T20","VK_ADLOPRMNL",80,"Add Operator Manual","308205"]
["M-T20VK_CSMSLN_FCLK","01","M-T20","VK_CSMSLN_FCLK",685,"Front Cover Latch","308205"]
["M-T20VK_BASE_T20-D-LPG_STD","01","M-T20","VK_BASE_T20-D-LPG_STD",72553,"T20 LP Disk Std Config","308205"]
["M-T20VK_CLNTOL_DSAB","01","M-T20","VK_CLNTOL_DSAB",212,"Disk Brush Spr Abr.","308205"]
["M-T20VK_WRNLGTANDALM_AU","01","M-T20","VK_WRNLGTANDALM_AU",360,"Audio BU Alarm","308205"]
["M-T20VK_DTGMTG","01","M-T20","VK_DTGMTG",3408,"Detergent Metering","308205"]
["M-T20VK_BASE_T20-D-DSL","01","M-T20","VK_BASE_T20-D-DSL",77679,"T20 Dsl Disk Scrbbr","308205"]
["M-T20VK_HVYDTYPRTPKG","01","M-T20","VK_HVYDTYPRTPKG",2326,"Hvy Duty Protect Pkg","308205"]
["M-T20VK_PWRVACWND_PWRWND_ES","01","M-T20","VK_PWRVACWND_PWRWND_ES",7406,"PwrWnd PrpKit ES","308205"]
["M-T20VK_BASE_T20-C-GAS_STD","01","M-T20","VK_BASE_T20-C-GAS_STD",72553,"T20 Gas Cyl Std Config","308205"]
["M-T20VK_CLNTOL_CPYP","01","M-T20","VK_CLNTOL_CPYP","N/C","Cyl Brush Poly","308205"]
["M-T20VK_SQEMAT_U","01","M-T20","VK_SQEMAT_U",896,"Squeegee Urethane","308205"]
["M-T20VK_ULERTG_LPS","01","M-T20","VK_ULERTG_LPS",5496,"UL® Type LPS","308205"]
["M-T20VK_BASE_T20-C-DSL_STD","01","M-T20","VK_BASE_T20-C-DSL_STD",77679,"T20 Diesel Cyl Std Config","308205"]
["M-T20VK_WRNLGTANDALM_AVSO","01","M-T20","VK_WRNLGTANDALM_AVSO",769,"AV BU AlrmStrobe OHG","308205"]
["M-T20VK_WRNLGTANDALM_AVFO","01","M-T20","VK_WRNLGTANDALM_AVFO",769,"AV BU AlarmFlash OHG","308205"]
["M-T20VK_PRDPKG","01","M-T20","VK_PRDPKG",6587,"Productivity Package","308205"]
["M-T20VK_PKG_SKD","01","M-T20","VK_PKG_SKD",892,"Skid","308205"]
["M-T20VK_LPGTNK_E","01","M-T20","VK_LPGTNK_E","N/C","LPG Tank Empty","308205"]
["M-T20VK_PKG_PAD","01","M-T20","VK_PKG_PAD","N/C","Pad Wrap","308205"]
["M-T20VK_SDECLNTOL_SCBPYP","01","M-T20","VK_SDECLNTOL_SCBPYP","N/C","Side Cln Polypr Scrb","308205"]
["M-T20VK_T20-D-G","01","M-T20","VK_T20-D-G",72553,"T20 Gas Disk Scrbbr","308205"]
["M-T20VK_MCHCOM_Y_US","01","M-T20","VK_MCHCOM_Y_US","N/C","Machine Comm","308205"]
["M-T20VK_WPFMNLPCH","01","M-T20","VK_WPFMNLPCH",195,"Weatherproof Manual Pouch","308205"]
["M-T20VK_WRNLGTANDALM_AVST","01","M-T20","VK_WRNLGTANDALM_AVST",769,"AV BU AlrmStrobe Tnk","308205"]
["M-T20VK_SBTPARKIT","01","M-T20","VK_SBTPARKIT",2867,"Sunbelt Parts Kit","308205"]
["M-T20VK_CLNTOL_CHDPYP","01","M-T20","VK_CLNTOL_CHDPYP","N/C","Cyl. HD Poly Brush","308205"]
["M-T20VK_SPYNOZWTHHSE","01","M-T20","VK_SPYNOZWTHHSE",1338,"Spray Nozzel w/Hose","308205"]
["M-T20VK_TRM_PPAN","01","M-T20","VK_TRM_PPAN",3143,"ProPanel Ctrls","308205"]
["M-T20VK_BLULGT","01","M-T20","VK_BLULGT",1187,"Blue Light","308205"]
["M-T20VK_WRNLGTANDALM_ST","01","M-T20","VK_WRNLGTANDALM_ST",527,"Strobe Light Tank","308205"]
["M-T20VK_TRLTRTKIT","01","M-T20","VK_TRLTRTKIT",207,"Transport Kit","308205"]
["M-T20VK_UPG","01","M-T20","VK_UPG","N/C","UPG","308205"]
["M-T20VK_HGHPRSSPY","01","M-T20","VK_HGHPRSSPY",5147,"High Pressure Spray","308205"]
["M-T20VK_FRTSDETIETOWKIT","01","M-T20","VK_FRTSDETIETOWKIT",1733,"Front / Side Tiedown Tow Kit","308205"]
["M-T20VK_T20-C-LP","01","M-T20","VK_T20-C-LP",72553,"T20 LP Cyl Scrbbr","308205"]
["M-T20VK_PKG_CRT_NC","01","M-T20","VK_PKG_CRT_NC","N/C","Crate","308205"]
["M-T20VK_BASE_T20-C-DSL","01","M-T20","VK_BASE_T20-C-DSL",77679,"T20 Dsll Cyl Scrbbr","308205"]
["M-T20VK_CSMSBTDCL_FC","01","M-T20","VK_CSMSBTDCL_FC",256,"Sunbelt-FloorCareDcl","308205"]
["M-T20VK_PKG_CRT","01","M-T20","VK_PKG_CRT",1680,"Crate","308205"]
["M-T20VK_MCHCOM_Y_D_US","01","M-T20","VK_MCHCOM_Y_D_US","N/C","Machine Comm","308205"]
[{"$f":"C1928&D1928","v":"M-T20VK_PARMNL"},"01","M-T20","VK_PARMNL","N/C","Parts Manual","308205"]
["M-T20VK_CSMSLN_WPMP","01","M-T20","VK_CSMSLN_WPMP",206,"Weatherproof pouch","308205"]
["M-T20VK_BASE_T20-C-LPG","01","M-T20","VK_BASE_T20-C-LPG",72553,"T20 LP Cyl Scrbbr","308205"]
["M-T20VK_WRNLGTANDALM_AVFT","01","M-T20","VK_WRNLGTANDALM_AVFT",769,"AV BU AlarmFlash Tnk","308205"]
["M-T20VK_OVHGRD","01","M-T20","VK_OVHGRD",1872,"Overhead Guard","308205"]
["M-T20VK_T20-C-DSL","01","M-T20","VK_T20-C-DSL",77679,"T20 Dsll Cyl Scrbbr","308205"]
["M-T20VK_CSMFRMLFTLUG_SD","01","M-T20","VK_CSMFRMLFTLUG_SD",2157,"Frame Lifting Lugs-Side","308205"]
["M-T20VK_PWRVACWND_PWND_ES_NOZ","01","M-T20","VK_PWRVACWND_PWND_ES_NOZ",8726,"PwrWnd PrpKit ES Noz","308205"]
["M-T20VK_WRNLGTANDALM_FT","01","M-T20","VK_WRNLGTANDALM_FT",527,"Flashing Light Tank","308205"]
["M-T20VK_PWRVACWND_PWRWND_NOZ","01","M-T20","VK_PWRVACWND_PWRWND_NOZ",3357,"PowerWand w/Nozzle","308205"]
["M-T20VK_WTY_STD","01","M-T20","VK_WTY_STD","N/C","Warranty STD","308205"]
["M-T20VK_CSMSBTRERSQE","01","M-T20","VK_CSMSBTRERSQE",583,"Sunbelt - Sqe Guard","308205"]
["M-T20VK_T20-C-G","01","M-T20","VK_T20-C-G",72553,"T20 Gas Cyl Scrbbr","308205"]
["M-T20VK_BASE_T20-D-GAS_STD","01","M-T20","VK_BASE_T20-D-GAS_STD",72553,"T20 Gas Disk Std Config","308205"]
["M-T20VK_DTG_SBD","01","M-T20","VK_DTG_SBD","N/C","Solvent Degreaser","308205"]
["M-T20VK_SQEMAT_L","01","M-T20","VK_SQEMAT_L","N/C","Squeegee Linatex","308205"]
["M-T20VK_BASE_T20-D-DSL_STD","01","M-T20","VK_BASE_T20-D-DSL_STD",77679,"T20 Diesel Disk Std Config","308205"]
["M-T20VK_CSMSBTDCL_GT","01","M-T20","VK_CSMSBTDCL_GT",273,"Sunbelt-GenTool Dcl","308205"]
["M-T20VK_CSMSLN_CC","01","M-T20","VK_CSMSLN_CC","N/C","Custom Color","308205"]
["M-T20VK_T20-D-DSL","01","M-T20","VK_T20-D-DSL",77679,"T20 Dsl Disk Scrbbr","308205"]
["M-T20VK_WRNLGTANDALM_SO","01","M-T20","VK_WRNLGTANDALM_SO",527,"Strobe Light OHG","308205"]
["M-T20VK_FREEXT","01","M-T20","VK_FREEXT",165,"Fire Extinguisher","308205"]
["M-T20VK_RERTRE_HT","01","M-T20","VK_RERTRE_HT",929,"Trs Rear High Track","308205"]
["M-T20VK_SDEBRSTYP_C","01","M-T20","VK_SDEBRSTYP_C",5678,"Side Brush Cyl","308205"]
["M-T20VK_SDECLNTOL_SWPPYP","01","M-T20","VK_SDECLNTOL_SWPPYP","N/C","Side Poly Sweep Brh","308205"]
["M-T20VK_CLNTOL_SASB","01","M-T20","VK_CLNTOL_SASB",212,"Super Abrasive, Stiff Bristle","308205"]
["M-T20VK_CLNTCH_ECH2O","01","M-T20","VK_CLNTCH_ECH2O",5720,"ec-H2O™","308205"]
["M-T20VK_PWRVACWND_WO_NOZ","01","M-T20","VK_PWRVACWND_WO_NOZ",1338,"PowerWand w/o Nozzle","308205"]
["M-T20VK_WRNLGTANDALM_FO","01","M-T20","VK_WRNLGTANDALM_FO",527,"Flashing Light OHG","308205"]
["M-T20VK_FRTTRE_HT","01","M-T20","VK_FRTTRE_HT","N/C","Trs Frnt HighTrack","308205"]
["M-T20VK_CSMSLN_FLLS","01","M-T20","VK_CSMSLN_FLLS",2177,"Frame Lift Lugs Side","308205"]
["M-T20VK_BASE_T20-C-LPG_STD","01","M-T20","VK_BASE_T20-C-LPG_STD",72553,"T20 LP Cyl Std Config","308205"]
["M-T17VK_CHG_160A480V5060H3P","01","M-T17","VK_CHG_160A480V5060H3P",6119,"Ch160A 480V 5060H3P","308400"]
["M-T17VK_PWRSTR","01","M-T17","VK_PWRSTR",3909,"Power Steering","308400"]
["M-T17VK_HVYDTYSQEPRT","01","M-T17","VK_HVYDTYSQEPRT",797,"Hvy Dty Sque Protect","308400"]
["M-T17VK_SDECLNTOL_SAB","01","M-T17","VK_SDECLNTOL_SAB",212,"Side Sup Abr Brush","308400"]
["M-T17VK_CHG_80A200V5060H1P_LI","01","M-T17","VK_CHG_80A200V5060H1P_LI",2741,"Ch80A 200V 50/60Hz 1Ph","308400"]
["M-T17VK_HGHPRSSPY","01","M-T17","VK_HGHPRSSPY",6946,"High Pressure Spray","308400"]
["M-T17VK_SDEBRSTYP_SWP_D","01","M-T17","VK_SDEBRSTYP_SWP_D",5334,"Side Brush Sweep D","308400"]
["M-T17VK_BASE_T17-D_STD","01","M-T17","VK_BASE_T17-D_STD",45496,"T17-D Std Config","308400"]
["M-T17VK_BTY_T930C6","01","M-T17","VK_BTY_T930C6",11323,"Bty Tub 930AH C6","308400"]
["M-T17VK_ADLBTY_T930C6_WTR","01","M-T17","VK_ADLBTY_T930C6_WTR",14578,"Ext.Bty Tub 930 C6 W","308400"]
["M-T17VK_SRVMNL","01","M-T17","VK_SRVMNL",264,"Service Manual","308400"]
["M-T17VK_CSMDRTWTRLBL","01","M-T17","VK_CSMDRTWTRLBL",42,"Dirty Water Label","308400"]
["M-T17VK_SDEBRSTYP_SCB","01","M-T17","VK_SDEBRSTYP_SCB",4706,"Side Brush Scrubber","308400"]
["M-T17VK_SVEEVMSWH_N","01","M-T17","VK_SVEEVMSWH_N",-427,"No SE Switch Caplty","308400"]
["M-T17VK_WRNLGTANDALM_SO","01","M-T17","VK_WRNLGTANDALM_SO",508,"Strobe Light OHG","308400"]
["M-T17VK_SVEEVMSWH","01","M-T17","VK_SVEEVMSWH","N/C","SE Switch Capability","308400"]
["M-T17VK_SDECLNTOL_PYP_SCB","01","M-T17","VK_SDECLNTOL_PYP_SCB","N/C","Side Poly Scrubber","308400"]
["M-T17VK_ALTSTBFLSLNS_R","01","M-T17","VK_ALTSTBFLSLNS_R","N/C","Alternate Lens-Red","308400"]
["M-T17VK_CHG_80A200V5060H3P","01","M-T17","VK_CHG_80A200V5060H3P",4246,"Ch80A 200V 5060H3P","308400"]
["M-T17VK_BTY_WO","01","M-T17","VK_BTY_WO","N/C","Without Battery","308400"]
["M-T17VK_OPRVID","01","M-T17","VK_OPRVID","N/C","Operator Video","308400"]
["M-T17VK_CHG_240A480V5060H3P","01","M-T17","VK_CHG_240A480V5060H3P",6424,"Ch240A 480V 5060H3","308400"]
["M-T17VK_BLULGT","01","M-T17","VK_BLULGT",1187,"Blue Light","308400"]
["M-T17VK_CHG_80A200V5060H1P","01","M-T17","VK_CHG_80A200V5060H1P",3422,"Ch80A 200V 5060H1P","308400"]
["M-T17VK_CLNTOL_PAD","01","M-T17","VK_CLNTOL_PAD","N/C","Pad Driver","308400"]
["M-T17VK_CHG_120A480V5060H3P","01","M-T17","VK_CHG_120A480V5060H3P",4584,"Ch120A 480V 5060H3P","308400"]
["M-T17VK_ULERTG_ES","01","M-T17","VK_ULERTG_ES",4200,"UL® Type ES","308400"]
["M-T17VK_BASE_T17-C","01","M-T17","VK_BASE_T17-C",46338,"T17 Scrubber Cyl.","308400"]
["M-T17VK_BASE_T17-C_STD","01","M-T17","VK_BASE_T17-C_STD",46338,"T17-C Std Config","308400"]
["M-T17VK_TRLTRTKIT","01","M-T17","VK_TRLTRTKIT",208,"Transport Kit","308400"]
["M-T17VK_PKG_CRT","01","M-T17","VK_PKG_CRT",1194,"Crate","308400"]
["M-T17VK_SQEMAT_L","01","M-T17","VK_SQEMAT_L","N/C","Squeegee Linatex","308400"]
[{"$f":"C1992&D1992","v":"M-T17VK_WTY_STD"},"01","M-T17","VK_WTY_STD","N/C","Warranty STD","308400"]
["M-T17VK_CLNTCH_ECH2O","01","M-T17","VK_CLNTCH_ECH2O",4893,"ec-H2O™","308400"]
["M-T17VK_ADLBTY_W750C6","01","M-T17","VK_ADLBTY_W750C6",9596,"Ext.Bty Wet 750 C6","308400"]
["M-T17VK_FUECEL","01","M-T17","VK_FUECEL",2150,"Fuel Cell","308400"]
["M-T17VK_BTYWTRSYS_NC","01","M-T17","VK_BTYWTRSYS_NC","N/C","Battery Watering NC","308400"]
["M-T17VK_PKG_CRT_NC","01","M-T17","VK_PKG_CRT_NC","N/C","Crate","308400"]
["M-T17VK_SDECLNTOL_PAD","01","M-T17","VK_SDECLNTOL_PAD","N/C","Side Pad Driver","308400"]
["M-T17VK_SET_DLXW","01","M-T17","VK_SET_DLXW",619,"Deluxe Seat w/Armr.","308400"]
["M-T17VK_SDEBRSTYP_SCB_RH","01","M-T17","VK_SDEBRSTYP_SCB_RH",4706,"Side Brush: RH","308400"]
["M-T17VK_SQEMAT_G","01","M-T17","VK_SQEMAT_G","N/C","Squeegee Gum Rubber","308400"]
["M-T17VK_CLNTOL_CSAB","01","M-T17","VK_CLNTOL_CSAB",212,"Cyl Brush Spr Abr.","308400"]
["M-T17VK_ADLBTY_W510C6_WTR","01","M-T17","VK_ADLBTY_W510C6_WTR",8258,"Ext.Bty Wet 510 C6 W","308400"]
["M-T17VK_ADLOPRMNL","01","M-T17","VK_ADLOPRMNL",200,"Add Operator Manual","308400"]
["M-T17VK_DATPKG_HO","01","M-T17","VK_DATPKG_HO",1454,"Hardware Only","308400"]
["M-T17VK_PKG_SKD","01","M-T17","VK_PKG_SKD",805,"Skid","308400"]
["M-T17VK_RERTRE_HTNM","01","M-T17","VK_RERTRE_HTNM",378,"Trs Rear HighTractNonMk","308400"]
["M-T17VK_CLNTCH_ES","01","M-T17","VK_CLNTCH_ES",4476,"ES® Extended Scrub","308400"]
["M-T17VK_SDEBRSTYP_SWP_RH","01","M-T17","VK_SDEBRSTYP_SWP_RH",2854,"Side Brush Sweep RH","308400"]
["M-T17VK_CLNTOL_DPYP","01","M-T17","VK_CLNTOL_DPYP","N/C","Disk Brush Poly","308400"]
["M-T17VK_SFYLGTPKG","01","M-T17","VK_SFYLGTPKG",941,"Safety Light Package","308400"]
["M-T17VK_ADLBTY_W750C6_WTR","01","M-T17","VK_ADLBTY_W750C6_WTR",10241,"Ext.Bty Wet 750 C6 W","308400"]
["M-T17VK_CHG_80A200V5060H3P_LI","01","M-T17","VK_CHG_80A200V5060H3P_LI",4634,"Ch80A 200V 50/60Hz 3Ph","308400"]
["M-T17VK_PRESWPSYS","01","M-T17","VK_PRESWPSYS",7097,"Presweep System","308400"]
["M-T17VK_WRNLGTANDALM_AVST","01","M-T17","VK_WRNLGTANDALM_AVST",722,"AV BU AlrmStrobe Tnk","308400"]
["M-T17VK_ALTSTBFLSLNS_B","01","M-T17","VK_ALTSTBFLSLNS_B","N/C","Alternate Lens-Blue","308400"]
["M-T17VK_BTYCOTAST","01","M-T17","VK_BTYCOTAST",397,"Bty Connection Assist","308400"]
["M-T17VK_BTY_L36V9M","01","M-T17","VK_BTY_L36V9M",34052,"Bty Li-Ion 36V, 18.4kWh","308400"]
["M-T17VK_PWRVACWND_VACWND","01","M-T17","VK_PWRVACWND_VACWND",707,"Vacuum Wand","308400"]
["M-T17VK_BTYWTRSYS","01","M-T17","VK_BTYWTRSYS",797,"Battery Watering Sys","308400"]
["M-T17VK_AUTFIL","01","M-T17","VK_AUTFIL",632,"Auto Fill","308400"]
["M-T17VK_HLT","01","M-T17","VK_HLT",432,"Headlight","308400"]
["M-T17VK_UPG","01","M-T17","VK_UPG","N/C","UPG","308400"]
["M-T17VK_BASE_T17-D","01","M-T17","VK_BASE_T17-D",45496,"T17 Scrubber Disk","308400"]
["M-T17VK_CLNTOL_DNYL","01","M-T17","VK_CLNTOL_DNYL","N/C","Disk Brush Nylon","308400"]
["M-T17VK_CLNTOL_DSAB","01","M-T17","VK_CLNTOL_DSAB",212,"Disk Brush Spr Abr.","308400"]
["M-T17VK_BTY_L36V19M","01","M-T17","VK_BTY_L36V19M",71715,"Bty Li-Ion 36v, 38.8kWh","308400"]
["M-T17VK_CHG_120A480V5060H3PLI","01","M-T17","VK_CHG_120A480V5060H3PLI",4242,"Ch120A 480V 50/60Hz 3Ph","308400"]
["M-T17VK_ULERTG_E","01","M-T17","VK_ULERTG_E","N/C","UL® Type E","308400"]
["M-T17VK_PWRVACWND_LW","01","M-T17","VK_PWRVACWND_LW",4797,"Live Wand","308400"]
["M-T17VK_ADLBTY_W510C6","01","M-T17","VK_ADLBTY_W510C6",7935,"Ext.Bty Wet 510 C6","308400"]
["M-T17VK_FRTTRE_HTNM","01","M-T17","VK_FRTTRE_HTNM",797,"Trs Frnt HighTrack","308400"]
["M-T17VK_BTY_W510C6","01","M-T17","VK_BTY_W510C6",6206,"Bty Wet 510AH C6","308400"]
["M-T17VK_OVHGRD","01","M-T17","VK_OVHGRD",2287,"Overhead Guard","308400"]
["M-T17VK_ADLBTY_T930C6","01","M-T17","VK_ADLBTY_T930C6",13955,"Ext.Bty Tub 930 C6","308400"]
["M-T17VK_CHG_300A480V5060H3P","01","M-T17","VK_CHG_300A480V5060H3P",7064,"Ch300A 480V 50/60Hz 3Ph","308400"]
["M-T17VK_BTYEXCSYS_SO","01","M-T17","VK_BTYEXCSYS_SO",1257,"Bty Slide Out System","308400"]
["M-T17VK_BTY_W750C6","01","M-T17","VK_BTY_W750C6",7469,"Bty Wet 750AH C6","308400"]
["M-T17VK_BTY_T930C6_OCC","01","M-T17","VK_BTY_T930C6_OCC",12409,"Bty Tub 930AH C6 OCC","308400"]
["M-T17VK_PRDPKG","01","M-T17","VK_PRDPKG",5551,"Productivity Package","308400"]
["M-T17VK_TRMLVL_PPAN","01","M-T17","VK_TRMLVL_PPAN",3175,"ProPanel Ctrls","308400"]
["M-T17VK_RECTNKDRN_DCV","01","M-T17","VK_RECTNKDRN_DCV",849,"Drain Control Valve","308400"]
["M-T17VK_DTGMTG","01","M-T17","VK_DTGMTG",3408,"Detergent Metering","308400"]
["M-T17VK_CHG_100A200V5060H3","01","M-T17","VK_CHG_100A200V5060H3",4094,"Ch100A 200V 5060H3P","308400"]
["M-T17VK_RMPCLB","01","M-T17","VK_RMPCLB",2256,"Ramp Climb Kit","308400"]
["M-T17VK_SDECLNTOL_PYP_SWP","01","M-T17","VK_SDECLNTOL_PYP_SWP","N/C","Side Poly Sweeper","308400"]
["M-T17VK_MCHCOM","01","M-T17","VK_MCHCOM",1367,"IRIS Telemetry","308400"]
["M-T17VK_SPYNOZWTHHSE","01","M-T17","VK_SPYNOZWTHHSE",1343,"Spray Nozzel w/Hose","308400"]
["M-T17VK_PKG_PAD","01","M-T17","VK_PKG_PAD","N/C","Pad Wrap","308400"]
["M-T17VK_DTG_SBD","01","M-T17","VK_DTG_SBD","N/C","Solvent Degreaser","308400"]
["M-T17VK_PKG_SKD_NC","01","M-T17","VK_PKG_SKD_NC","N/C","Skid","308400"]
["M-T17VK_BTY_F700C6","01","M-T17","VK_BTY_F700C6",21342,"Sealed/MF FastCharge 700AH C/6","308400"]
["M-T17VK_FREEXT","01","M-T17","VK_FREEXT",368,"Fire Extinguisher","308400"]
["M-T17VK_SQEMAT_U","01","M-T17","VK_SQEMAT_U","N/C","Squeegee Urethane","308400"]
["M-T17VK_RECTNKDRN_TEL","01","M-T17","VK_RECTNKDRN_TEL","N/C","Telescopic","308400"]
[{"$f":"C2056&D2056","v":"M-T17VK_CLNTOL_CPYP"},"01","M-T17","VK_CLNTOL_CPYP","N/C","Cyl Brush Poly","308400"]
["M-T1581VK_BASE_T1581_1000C","01","M-T1581","VK_BASE_T1581_1000C",34683,"T1581-1000-Cyl","308500"]
["M-T1581VK_PKG_SCNS","01","M-T1581","VK_PKG_SCNS",595,"NonStack Skid/Carton","308500"]
["M-T1581VK_BTY_W360C20","01","M-T1581","VK_BTY_W360C20","N/C","Bty Wet 360AH C20","308500"]
["M-T1581VK_CHG_21A85V4565H1P","01","M-T1581","VK_CHG_21A85V4565H1P","N/C","Ch21A 85V 45/65Hz 1Ph Off","308500"]
["M-T1581VK_CHG_WO","01","M-T1581","VK_CHG_WO",-298,"Without Charger","308500"]
["M-T1581VK_BTY_WO","01","M-T1581","VK_BTY_WO",-702,"Without Battery","308500"]
["M-T1581VK_CPC_US","01","M-T1581","VK_CPC_US","N/C","US Plug End","308500"]
["M-T1581VK_BTY_A350C20","01","M-T1581","VK_BTY_A350C20",1305,"Bty AGM 350AH C20","308500"]
["M-T1581VK_BASE_T1581_1050D","01","M-T1581","VK_BASE_T1581_1050D",34683,"T1581-1050-Disk","308500"]
["M-T350VK_MCHCOM_SBT","01","M-T350","VK_MCHCOM_SBT",1367,"IRIS Telemetry","309100"]
["M-T350VK_PADTYP_500BLU3","01","M-T350","VK_PADTYP_500BLU3",28.9,"500/20 Bl Scrub 3M","309100"]
["M-T350VK_PADTYP_600BLKH3","01","M-T350","VK_PADTYP_600BLKH3",19.3,"600/24 Blk HiPro 3M","309100"]
["M-T350VK_PADTYP_600MAR3","01","M-T350","VK_PADTYP_600MAR3",19.3,"600/24 MarSur 3M","309100"]
["M-T350VK_PKG_SSKD","01","M-T350","VK_PKG_SSKD",515,"Stack Skid/Carton","309100"]
["M-T350VK_SVEEVMSWH","01","M-T350","VK_SVEEVMSWH",666,"SE Switch Capability","309100"]
["M-T350VK_CLNTOL_600NYL_IC","01","M-T350","VK_CLNTOL_600NYL_IC",258,"600/24 Nylon Brush-IC","309100"]
["M-T350VK_WRNLGTANDALM_AU","01","M-T350","VK_WRNLGTANDALM_AU","N/C","Audio BU Alarm","309100"]
["M-T350VK_TRMLVL_PPAN","01","M-T350","VK_TRMLVL_PPAN",1035,"ProPanel Ctrls","309100"]
["M-T350VK_CLNTOL_600PAD_IC","01","M-T350","VK_CLNTOL_600PAD_IC",258,"600/24 Pad Driver-IC","309100"]
["M-T350VK_BASE_T350-600-D","01","M-T350","VK_BASE_T350-600-D",16721,"T350-600-D","309100"]
["M-T350VK_PARMNL","01","M-T350","VK_PARMNL",59,"Parts Manual","309100"]
["M-T350VK_BASE_T350-500-D_STD","01","M-T350","VK_BASE_T350-500-D_STD",15107,"T350 500mm Disk Std Config","309100"]
["M-T350VK_BASE_T350-600-D_STD","01","M-T350","VK_BASE_T350-600-D_STD",16721,"T350 600mm Disk Std Config","309100"]
["M-T350VK_PKG_WSKD","01","M-T350","VK_PKG_WSKD",372,"Skid w/Stretch Wrap","309100"]
["M-T350VK_QITMOD","01","M-T350","VK_QITMOD",200,"Quiet Mode","309100"]
["M-T350VK_PADTYP_600BLU3","01","M-T350","VK_PADTYP_600BLU3",16.100000000000001,"600/24 Bl Scrub 3M","309100"]
["M-T350VK_PADTYP_600RED3","01","M-T350","VK_PADTYP_600RED3",16.100000000000001,"600/24 Red Clean 3M","309100"]
["M-T350VK_CHG_27A85V5060H1P","01","M-T350","VK_CHG_27A85V5060H1P","N/C","CH27A 85-270V 5060H1P","309100"]
["M-T350VK_PKG_PAD","01","M-T350","VK_PKG_PAD","N/C","Pad Wrap","309100"]
["M-T350VK_PADTYP_600YLW3","01","M-T350","VK_PADTYP_600YLW3",52.5,"600/24 Ylw Polish 3M","309100"]
["M-T350VK_PADTYP_500YLW3","01","M-T350","VK_PADTYP_500YLW3",98.5,"500/20 Ylw Polish 3M","309100"]
["M-T350VK_CLNTOL_500NYL_IC","01","M-T350","VK_CLNTOL_500NYL_IC",402,"500/20 Nylon Brush-IC","309100"]
["M-T350VK_TRMLVL_PMEM","01","M-T350","VK_TRMLVL_PMEM","N/C","Pro Membrane Panel","309100"]
["M-T350VK_RECHSEMAT_PYPOR","01","M-T350","VK_RECHSEMAT_PYPOR",141,"Polyurethane (Oil Resistant)","309100"]
["M-T350VK_PADTYP_600BWN3","01","M-T350","VK_PADTYP_600BWN3",16.100000000000001,"600/24 Br Strip 3M","309100"]
["M-T350VK_CLNTOLATT_IC","01","M-T350","VK_CLNTOLATT_IC","N/C","Clean Tool Attach IC","309100"]
["M-T350VK_RECHSEMAT_PVC","01","M-T350","VK_RECHSEMAT_PVC","N/C","PVC (Standard)","309100"]
["M-T350VK_PADTYP_500BLKH3","01","M-T350","VK_PADTYP_500BLKH3",33.200000000000003,"500/20 Blk HiPro 3M","309100"]
["M-T350VK_SVEEVMSWHLKT","01","M-T350","VK_SVEEVMSWHLKT",70,"SE Switch Lockout","309100"]
["M-T350VK_PADTYP_500WHT3","01","M-T350","VK_PADTYP_500WHT3",28.9,"500/20 Wh Polish 3M","309100"]
["M-T350VK_PADTYP_500MAR3","01","M-T350","VK_PADTYP_500MAR3",34.299999999999997,"500/20 MarSur 3M","309100"]
["M-T350VK_PADTYP_500BWN3","01","M-T350","VK_PADTYP_500BWN3",30,"500/20 Br Strip 3M","309100"]
["M-T350VK_CLNTOL_600ABB_IC","01","M-T350","VK_CLNTOL_600ABB_IC",450,"600/24 Abr Brush-IC","309100"]
["M-T350VK_CLNTOL_500PYP_IC","01","M-T350","VK_CLNTOL_500PYP_IC",402,"500/20 Poly Brush-IC","309100"]
["M-T350VK_CLNTOL_500PAD_IC","01","M-T350","VK_CLNTOL_500PAD_IC",402,"500/20 Pad Driver-IC","309100"]
["M-T350VK_MCHCOM","01","M-T350","VK_MCHCOM",1367,"IRIS Telemetry","309100"]
["M-T350VK_IRSSRVRPT_3YP","01","M-T350","VK_IRSSRVRPT_3YP",200,"Svc Rpt 3 Yr Pre-Paid","309100"]
["M-T350VK_CLNTOL_600PYP_IC","01","M-T350","VK_CLNTOL_600PYP_IC",258,"600/24 Poly Brush-IC","309100"]
["M-T350VK_CLNTOL_500ABB_IC","01","M-T350","VK_CLNTOL_500ABB_IC",608,"500/20 Abr Brush-IC","309100"]
["M-T350VK_CLNTCH_ECH2ON","01","M-T350","VK_CLNTCH_ECH2ON",2374,"ec-H2O™ NanoClean","309100"]
["M-T350VK_CHG_25A100V5060H1","01","M-T350","VK_CHG_25A100V5060H1","N/C","Ch25A 100V 5060H1P","309100"]
["M-T350VK_BTY_WO","01","M-T350","VK_BTY_WO",-450,"Without Battery","309100"]
["M-T350VK_BTY_W240C20","01","M-T350","VK_BTY_W240C20",205,"Bty Wet 240AH C20","309100"]
["M-T350VK_BTY_W210C20","01","M-T350","VK_BTY_W210C20","N/C","Bty Wet 210AH C5","309100"]
["M-T350VK_BTY_A220C20","01","M-T350","VK_BTY_A220C20",1545,"Bty AGM 220AH C20","309100"]
["M-T350VK_BTYWTRSYS_SF","01","M-T350","VK_BTYWTRSYS_SF",1102,"Smart Fill","309100"]
["M-T350VK_BTYWTRSYS_ML","01","M-T350","VK_BTYWTRSYS_ML",642,"Battery Watering Manual","309100"]
["M-T350VK_BASE_T350-500-D","01","M-T350","VK_BASE_T350-500-D",15107,"T350-500-D","309100"]
["M-T350VK_ADLOPRMNL","01","M-T350","VK_ADLOPRMNL",146,"Add Operator Manual","309100"]
["M-T350VK_SRVMNL","01","M-T350","VK_SRVMNL",146,"Service Manual","309100"]
["M-T350VK_RDEPPLSPD","01","M-T350","VK_RDEPPLSPD","N/C","Reduced Propel Speed","309100"]
["M-T350VK_PADTYP_600WHT3","01","M-T350","VK_PADTYP_600WHT3",16.100000000000001,"600/24 Wh Polish 3M","309100"]
["M-T350VK_PADTYP_500RED3","01","M-T350","VK_PADTYP_500RED3",28.9,"500/20 Red Clean 3M","309100"]
[{"$f":"C2120&D2120","v":"M-SS350VK_BASE_SS350-600-D_STD"},"01","M-SS350","VK_BASE_SS350-600-D_STD",16721,"SS350 600mm Disk Std Config","309200"]
["M-SS350VK_PADTYP_600YLW3","01","M-SS350","VK_PADTYP_600YLW3",52.5,"600/24 Ylw Polish 3M","309200"]
["M-SS350VK_BASE_SS350-500-D_STD","01","M-SS350","VK_BASE_SS350-500-D_STD",15107,"SS350 500mm Disk Std Config","309200"]
["M-SS350VK_BTY_W260C20","01","M-SS350","VK_BTY_W260C20",495,"Bty Wet 260AH C20","309200"]
["M-SS350VK_ACCCLP","01","M-SS350","VK_ACCCLP","N/C","Accessory Clip","309200"]
["M-SS350VK_PADTYP_500YLW3","01","M-SS350","VK_PADTYP_500YLW3",98.5,"500/20 Ylw Polish 3M","309200"]
["M-SS350VK_TRMLVL_PPAN","01","M-SS350","VK_TRMLVL_PPAN",1035,"ProPanel Ctrls","309200"]
["M-SS350VK_CLNTOL_600PAD_IC","01","M-SS350","VK_CLNTOL_600PAD_IC",258,"600/24 Pad Driver-IC","309200"]
["M-SS350VK_CLNTOL_600NYL_IC","01","M-SS350","VK_CLNTOL_600NYL_IC",258,"600/24 Nylon Brush-IC","309200"]
["M-SS350VK_CLNTOL_600ABB_IC","01","M-SS350","VK_CLNTOL_600ABB_IC",450,"600/24 Abr Brush-IC","309200"]
["M-SS350VK_CLNTOL_500PYP_IC","01","M-SS350","VK_CLNTOL_500PYP_IC",401,"500/20 Poly Brush-IC","309200"]
["M-SS350VK_CLNTOL_500PAD_IC","01","M-SS350","VK_CLNTOL_500PAD_IC",401,"500/20 Pad Driver-IC","309200"]
["M-SS350VK_CLNTOL_500NYL_IC","01","M-SS350","VK_CLNTOL_500NYL_IC",401,"500/20 Nylon Brush-IC","309200"]
["M-SS350VK_CLNTOL_500ABB_IC","01","M-SS350","VK_CLNTOL_500ABB_IC",608,"500/20 Abr Brush-IC","309200"]
["M-SS350VK_CLNTOLATT_IC","01","M-SS350","VK_CLNTOLATT_IC","N/C","Clean Tool Attach IC","309200"]
["M-SS350VK_CLNTCH_ECH2ON","01","M-SS350","VK_CLNTCH_ECH2ON",2374,"ec-H2O™ NanoClean","309200"]
["M-SS350VK_CHG_27A85V5060H1P","01","M-SS350","VK_CHG_27A85V5060H1P","N/C","CH27A 85-270V 5060H1P","309200"]
["M-SS350VK_CHG_25A100V5060H1","01","M-SS350","VK_CHG_25A100V5060H1","N/C","Ch25A 100V 5060H1P","309200"]
["M-SS350VK_BTY_WO","01","M-SS350","VK_BTY_WO",-450,"Without Battery","309200"]
["M-SS350VK_BTY_W210C20","01","M-SS350","VK_BTY_W210C20","N/C","Bty Wet 210AH C5","309200"]
["M-SS350VK_BTY_A220C20","01","M-SS350","VK_BTY_A220C20",1545,"Bty AGM 220AH C20","309200"]
["M-SS350VK_BTYWTRSYS_SF","01","M-SS350","VK_BTYWTRSYS_SF",1102,"Smart Fill","309200"]
["M-SS350VK_BTYWTRSYS_ML","01","M-SS350","VK_BTYWTRSYS_ML",642,"Battery Watering Manual","309200"]
["M-SS350VK_BASE_SS350-600-D","01","M-SS350","VK_BASE_SS350-600-D",16721,"SS350-600-D","309200"]
["M-SS350VK_BASE_SS350-500-D","01","M-SS350","VK_BASE_SS350-500-D",15107,"SS350-500-D","309200"]
["M-SS350VK_ADLOPRMNL","01","M-SS350","VK_ADLOPRMNL",146,"Add Operator Manual","309200"]
["M-SS350VK_WRNLGTANDALM_AU","01","M-SS350","VK_WRNLGTANDALM_AU","N/C","Audio BU Alarm","309200"]
["M-SS350VK_TRMLVL_PMEM","01","M-SS350","VK_TRMLVL_PMEM","N/C","Pro Membrane Panel","309200"]
["M-SS350VK_SVEEVMSWH","01","M-SS350","VK_SVEEVMSWH",666,"SE Switch Capability","309200"]
["M-SS350VK_SRVMNL","01","M-SS350","VK_SRVMNL",146,"Service Manual","309200"]
["M-SS350VK_RECHSEMAT_PYPOR","01","M-SS350","VK_RECHSEMAT_PYPOR",141,"Polyurethane (Oil Resistant)","309200"]
["M-SS350VK_RECHSEMAT_PVC","01","M-SS350","VK_RECHSEMAT_PVC","N/C","PVC (Standard)","309200"]
["M-SS350VK_RDEPPLSPD","01","M-SS350","VK_RDEPPLSPD","N/C","Reduced Propel Speed","309200"]
["M-SS350VK_QITMOD","01","M-SS350","VK_QITMOD",200,"Quiet Mode","309200"]
["M-SS350VK_PKG_WSKD","01","M-SS350","VK_PKG_WSKD",372,"Skid w/Stretch Wrap","309200"]
["M-SS350VK_PKG_PAD","01","M-SS350","VK_PKG_PAD","N/C","Pad Wrap","309200"]
["M-SS350VK_PARMNL","01","M-SS350","VK_PARMNL",59,"Parts Manual","309200"]
["M-SS350VK_PADTYP_600WHT3","01","M-SS350","VK_PADTYP_600WHT3",16.100000000000001,"600/24 Wh Polish 3M","309200"]
["M-SS350VK_PADTYP_600RED3","01","M-SS350","VK_PADTYP_600RED3",16.100000000000001,"600/24 Red Clean 3M","309200"]
["M-SS350VK_PADTYP_600MAR3","01","M-SS350","VK_PADTYP_600MAR3",19.3,"600/24 MarSur 3M","309200"]
["M-SS350VK_PADTYP_600BWN3","01","M-SS350","VK_PADTYP_600BWN3",16.100000000000001,"600/24 Br Strip 3M","309200"]
["M-SS350VK_PADTYP_600BLU3","01","M-SS350","VK_PADTYP_600BLU3",16.100000000000001,"600/24 Bl Scrub 3M","309200"]
["M-SS350VK_PADTYP_600BLKH3","01","M-SS350","VK_PADTYP_600BLKH3",19.3,"600/24 Blk HiPro 3M","309200"]
["M-SS350VK_PADTYP_500WHT3","01","M-SS350","VK_PADTYP_500WHT3",28.9,"500/20 Wh Polish 3M","309200"]
["M-SS350VK_PADTYP_500RED3","01","M-SS350","VK_PADTYP_500RED3",28.9,"500/20 Red Clean 3M","309200"]
["M-SS350VK_PADTYP_500MAR3","01","M-SS350","VK_PADTYP_500MAR3",34.299999999999997,"500/20 MarSur 3M","309200"]
["M-SS350VK_PADTYP_500BWN3","01","M-SS350","VK_PADTYP_500BWN3",30,"500/20 Br Strip 3M","309200"]
["M-SS350VK_PADTYP_500BLU3","01","M-SS350","VK_PADTYP_500BLU3",28.9,"500/20 Bl Scrub 3M","309200"]
["M-SS350VK_PADTYP_500BLKH3","01","M-SS350","VK_PADTYP_500BLKH3",34.299999999999997,"500/20 Blk HiPro 3M","309200"]
["M-SS350VK_MCHCOM","01","M-SS350","VK_MCHCOM",1367,"IRIS Telemetry","309200"]
["M-SS350VK_IRSSRVRPT_3YP","01","M-SS350","VK_IRSSRVRPT_3YP",200,"Svc Rpt 3 Yr Pre-Paid","309200"]
["M-SS350VK_CLNTOL_600PYP_IC","01","M-SS350","VK_CLNTOL_600PYP_IC",258,"600/24 Poly Brush-IC","309200"]
["M-SS350VK_BTY_W240C20","01","M-SS350","VK_BTY_W240C20",205,"Bty Wet 240AH C20","309200"]
["M-SS350VK_SVEEVMSWHLKT","01","M-SS350","VK_SVEEVMSWHLKT",70,"SE Switch Lockout","309200"]
["M-SS350VK_PKG_SSKD","01","M-SS350","VK_PKG_SSKD",515,"Stack Skid/Carton","309200"]
["M-M17VK_CHG_300A480V5060H3P","01","M-M17","VK_CHG_300A480V5060H3P",7064,"Ch300A 480V 50/60Hz 3Ph","311103"]
["M-M17VK_SQEMAT_U","01","M-M17","VK_SQEMAT_U","N/C","Squeegee Urethane","311103"]
["M-M17VK_PKG_SKD_NC","01","M-M17","VK_PKG_SKD_NC","N/C","Skid","311103"]
["M-M17VK_MCHCOM_SBT","01","M-M17","VK_MCHCOM_SBT",1367,"IRIS Telemetry","311103"]
["M-M17VK_DTG_SBD","01","M-M17","VK_DTG_SBD","N/C","Solvent Degreaser","311103"]
["M-M17VK_BASE_M17-D","01","M-M17","VK_BASE_M17-D",68824,"M17 Scrubber Disk","311103"]
["M-M17VK_AUTFIL","01","M-M17","VK_AUTFIL",632,"Auto Fill","311103"]
["M-M17VK_CLGFLTIND","01","M-M17","VK_CLGFLTIND",570,"Clogged Filter Indicator","311103"]
["M-M17VK_BTY_W750C6","01","M-M17","VK_BTY_W750C6",7469,"Bty Wet 750AH C6","311103"]
[{"$f":"C2184&D2184","v":"M-M17VK_SDEPADTYP_BWN3"},"01","M-M17","VK_SDEPADTYP_BWN3",20,"Side Br Strip 3M","311103"]
["M-M17VK_BTY_WO","01","M-M17","VK_BTY_WO","N/C","Without Battery","311103"]
["M-M17VK_CHG_120A480V5060H3PLI","01","M-M17","VK_CHG_120A480V5060H3PLI",4242,"Ch120A 480V 50/60Hz 3Ph","311103"]
["M-M17VK_ADLBTY_W510C6_WTR","01","M-M17","VK_ADLBTY_W510C6_WTR",8258,"Ext.Bty Wet 510 C6 W","311103"]
["M-M17VK_SQEMAT_L","01","M-M17","VK_SQEMAT_L","N/C","Squeegee Linatex","311103"]
["M-M17VK_SDEBRSDSTCTL","01","M-M17","VK_SDEBRSDSTCTL",4079,"Side Brs Dust Control","311103"]
["M-M17VK_SPYNOZWTHHSE","01","M-M17","VK_SPYNOZWTHHSE",1343,"Spray Nozzel w/Hose","311103"]
["M-M17VK_SDEPADTYP_WHT3","01","M-M17","VK_SDEPADTYP_WHT3",20,"Side Wh Polish 3M","311103"]
["M-M17VK_PKG_SKD","01","M-M17","VK_PKG_SKD",606,"Skid","311103"]
["M-M17VK_MANSWPSYS_DT","01","M-M17","VK_MANSWPSYS_DT","N/C","Swp Sys-Direct Throw","311103"]
["M-M17VK_ADLBTY_T930C6_WTR","01","M-M17","VK_ADLBTY_T930C6_WTR",14578,"Ext.Bty Tub 930 C6 W","311103"]
["M-M17VK_SDECLNTOL_PAD","01","M-M17","VK_SDECLNTOL_PAD","N/C","Side Pad Driver","311103"]
["M-M17VK_BTY_T930C6_OCC","01","M-M17","VK_BTY_T930C6_OCC",12409,"Bty Tub 930AH C6 OCC","311103"]
["M-M17VK_BASE_M17-D_STD","01","M-M17","VK_BASE_M17-D_STD",68824,"M17 Disk Std Config","311103"]
["M-M17VK_RERTRE_NM","01","M-M17","VK_RERTRE_NM","N/C","Trs Rear HighTract","311103"]
["M-M17VK_TRM_MPAN","01","M-M17","VK_TRM_MPAN","N/C","Membrane Ctrl Panel","311103"]
["M-M17VK_CHG_160A480V5060H3P","01","M-M17","VK_CHG_160A480V5060H3P",6119,"Ch160A 480V 5060H3P","311103"]
["M-M17VK_MCHCOM","01","M-M17","VK_MCHCOM",1367,"IRIS Telemetry","311103"]
["M-M17VK_CSMDRTWTRLBL","01","M-M17","VK_CSMDRTWTRLBL","N/C","Dirty Water Label","311103"]
["M-M17VK_CHG_120A480V5060H3P","01","M-M17","VK_CHG_120A480V5060H3P",4584,"Ch120A 480V 5060H3P","311103"]
["M-M17VK_CLNTOL_DSAB","01","M-M17","VK_CLNTOL_DSAB",212,"Disk Brush Spr Abr.","311103"]
["M-M17VK_CLNTCH_CNV","01","M-M17","VK_CLNTCH_CNV","N/C","Conventional","311103"]
["M-M17VK_CLNTOL_CPYP","01","M-M17","VK_CLNTOL_CPYP","N/C","Cyl Brush Poly","311103"]
["M-M17VK_RECTNKDRN_TEL","01","M-M17","VK_RECTNKDRN_TEL","N/C","Telescopic","311103"]
["M-M17VK_FRTTRE_NM","01","M-M17","VK_FRTTRE_NM","N/C","Trs Frt HighTractNonMk","311103"]
["M-M17VK_RERTRE_WHT","01","M-M17","VK_RERTRE_WHT","N/C","Trs Rear Wide HT","311103"]
["M-M17VK_WTY_STD","01","M-M17","VK_WTY_STD","N/C","Warranty STD","311103"]
["M-M17VK_OVHGRD","01","M-M17","VK_OVHGRD",2287,"Overhead Guard","311103"]
["M-M17VK_BTYWTRSYS_NC","01","M-M17","VK_BTYWTRSYS_NC","N/C","Battery Watering NC","311103"]
["M-M17VK_MANPADTYP_RED3","01","M-M17","VK_MANPADTYP_RED3",32,"Red Clean 3M","311103"]
["M-M17VK_PRDPKG_LW","01","M-M17","VK_PRDPKG_LW",5551,"Prod Package- Live Wand","311103"]
["M-M17VK_EXNOPRSTN","01","M-M17","VK_EXNOPRSTN",790,"Extended Ops Station","311103"]
["M-M17VK_MANPADTYP_WHT3","01","M-M17","VK_MANPADTYP_WHT3",32,"Wh Polish 3M","311103"]
["M-M17VK_ADLBTY_T930C6_WTR_OCC","01","M-M17","VK_ADLBTY_T930C6_WTR_OCC",14578,"Ext.Bty T930C6 W OCC","311103"]
["M-M17VK_PWRVACWND_LW","01","M-M17","VK_PWRVACWND_LW",4797,"Live Wand","311103"]
["M-M17VK_CLNTOL_DPYP","01","M-M17","VK_CLNTOL_DPYP","N/C","Disk Brush Poly","311103"]
["M-M17VK_HLT","01","M-M17","VK_HLT",432,"Headlight","311103"]
["M-M17VK_MANSWPSYS_DF","01","M-M17","VK_MANSWPSYS_DF","N/C","Swp Sys-Dual Force","311103"]
["M-M17VK_CHG_80A200V5060H3P_LI","01","M-M17","VK_CHG_80A200V5060H3P_LI",4634,"Ch80A 200V 50/60Hz 3Ph","311103"]
["M-M17VK_ULERTG_ES","01","M-M17","VK_ULERTG_ES",4200,"UL® Type ES","311103"]
["M-M17VK_CHG_WO","01","M-M17","VK_CHG_WO","N/C","Without Charger","311103"]
["M-M17VK_FUECEL","01","M-M17","VK_FUECEL",2150,"Fuel Cell","311103"]
["M-M17VK_SQEMAT_G","01","M-M17","VK_SQEMAT_G","N/C","Squeegee Gum Rubber","311103"]
["M-M17VK_BLULGT","01","M-M17","VK_BLULGT",1187,"Blue Light","311103"]
["M-M17VK_BTY_T930C6","01","M-M17","VK_BTY_T930C6",11323,"Bty Tub 930AH C6","311103"]
["M-M17VK_OPRVID","01","M-M17","VK_OPRVID","N/C","Operator Video","311103"]
["M-M17VK_RECTNKDRN_DCV","01","M-M17","VK_RECTNKDRN_DCV",849,"Drain Control Valve","311103"]
["M-M17VK_SDECLNTOL_SAB","01","M-M17","VK_SDECLNTOL_SAB",212,"Side Sup Abr Brush","311103"]
["M-M17VK_MANPADTYP_BLU3","01","M-M17","VK_MANPADTYP_BLU3",32,"Bl Scrub 3M","311103"]
["M-M17VK_HVYDTYSQEPRT","01","M-M17","VK_HVYDTYSQEPRT",797,"Hvy Dty Sque Protect","311103"]
["M-M17VK_CLNTOL_CSAB","01","M-M17","VK_CLNTOL_CSAB",212,"Cyl Brush Spr Abr.","311103"]
["M-M17VK_PWRVACWND_VACWND","01","M-M17","VK_PWRVACWND_VACWND",707,"Vacuum Wand","311103"]
["M-M17VK_ADLBTY_T930C6","01","M-M17","VK_ADLBTY_T930C6",13955,"Ext.Bty Tub 930 C6","311103"]
["M-M17VK_CLNTOL_DNYL","01","M-M17","VK_CLNTOL_DNYL","N/C","Disk Brush Nylon","311103"]
["M-M17VK_MANPADTYP_BLKH3","01","M-M17","VK_MANPADTYP_BLKH3",34,"Bl Strip Hi Pro 3M","311103"]
["M-M17VK_HGHPRSSPY","01","M-M17","VK_HGHPRSSPY",6946,"High Pressure Spray","311103"]
["M-M17VK_SDEPADTYP_RED3","01","M-M17","VK_SDEPADTYP_RED3",20,"Side Red Clean 3M","311103"]
["M-M17VK_SVEEVMSWH_N","01","M-M17","VK_SVEEVMSWH_N",-427,"No SE Switch Caplty","311103"]
["M-M17VK_ULERTG_E","01","M-M17","VK_ULERTG_E","N/C","UL® Type E","311103"]
["M-M17VK_BASE_M17-C","01","M-M17","VK_BASE_M17-C",69648,"M17 Scrubber Cyl.","311103"]
["M-M17VK_CLGFLTIND_NC","01","M-M17","VK_CLGFLTIND_NC","N/C","Clogged Filter Ind. NC","311103"]
["M-M17VK_SDECLNTOL_PYP","01","M-M17","VK_SDECLNTOL_PYP","N/C","Side Poly Brush","311103"]
["M-M17VK_ALTSTBFLSLNS_R","01","M-M17","VK_ALTSTBFLSLNS_R","N/C","Alternate Lens-Red","311103"]
["M-M17VK_UPG","01","M-M17","VK_UPG","N/C","UPG","311103"]
[{"$f":"C2248&D2248","v":"M-M17VK_CHG_160A600V5060H3P"},"01","M-M17","VK_CHG_160A600V5060H3P",7281,"Ch160A 600V 5060H3P","311103"]
["M-M17VK_OPRMNL","01","M-M17","VK_OPRMNL","N/C","Oper Manual","311103"]
["M-M17VK_TRM_PPAN","01","M-M17","VK_TRM_PPAN",3175,"ProPanel Ctrls","311103"]
["M-M17VK_FREEXT","01","M-M17","VK_FREEXT",368,"Fire Extinguisher","311103"]
["M-M17VK_WRNLGTANDALM_SO","01","M-M17","VK_WRNLGTANDALM_SO",508,"Strobe Light OHG","311103"]
["M-M17VK_CLNTOL_CNYL","01","M-M17","VK_CLNTOL_CNYL","N/C","Cyl Brush Nylon","311103"]
["M-M17VK_BTYCOTAST","01","M-M17","VK_BTYCOTAST",397,"Bty Connection Assist","311103"]
["M-M17VK_ADLBTY_W510C6","01","M-M17","VK_ADLBTY_W510C6",7935,"Ext.Bty Wet 510 C6","311103"]
["M-M17VK_SDEBRSTYP_SCB","01","M-M17","VK_SDEBRSTYP_SCB",4706,"Side Brush Scrubber","311103"]
["M-M17VK_ADLBTY_W750C6_WTR","01","M-M17","VK_ADLBTY_W750C6_WTR",10241,"Ext.Bty Wet 750 C6 W","311103"]
["M-M17VK_CLNTCH_ECH2O","01","M-M17","VK_CLNTCH_ECH2O",4893,"ec-H2O™","311103"]
["M-M17VK_WRNLGTANDALM_AVST","01","M-M17","VK_WRNLGTANDALM_AVST",722,"AV BU AlrmStrobe Tnk","311103"]
["M-M17VK_SRVMNL","01","M-M17","VK_SRVMNL",264,"Service Manual","311103"]
["M-M17VK_CHG_80A200V5060H3P","01","M-M17","VK_CHG_80A200V5060H3P",4246,"Ch80A 200V 5060H3P","311103"]
["M-M17VK_CHG_80A200V5060H1P_LI","01","M-M17","VK_CHG_80A200V5060H1P_LI",2741,"Ch80A 200V 50/60Hz 1Ph","311103"]
["M-M17VK_SFYLGTPKG","01","M-M17","VK_SFYLGTPKG",941,"Safety Light Package","311103"]
["M-M17VK_MANPADTYP_BWN3","01","M-M17","VK_MANPADTYP_BWN3",32,"Br Scrub 3M","311103"]
["M-M17VK_RERTRE_HTNM","01","M-M17","VK_RERTRE_HTNM",378,"Trs Rear HighTractNonMk","311103"]
["M-M17VK_CHG_80A200V5060H1P","01","M-M17","VK_CHG_80A200V5060H1P",3422,"Ch80A 200V 5060H1P","311103"]
["M-M17VK_AUTFIL_NC","01","M-M17","VK_AUTFIL_NC","N/C","Auto Fill","311103"]
["M-M17VK_ALTSTBFLSLNS_B","01","M-M17","VK_ALTSTBFLSLNS_B","N/C","Alternate Lens-Blue","311103"]
["M-M17VK_CHG_100A200V5060H3","01","M-M17","VK_CHG_100A200V5060H3",4094,"Ch100A 200V 5060H3P","311103"]
["M-M17VK_CLNTOL_PAD","01","M-M17","VK_CLNTOL_PAD","N/C","Pad Driver","311103"]
["M-M17VK_DTGMTG","01","M-M17","VK_DTGMTG",3408,"Detergent Metering","311103"]
["M-M17VK_SDEBRSTYP_PRP","01","M-M17","VK_SDEBRSTYP_PRP","N/C","Side Brush: Prep Kit","311103"]
["M-M17VK_SDECLNTOL_NYL","01","M-M17","VK_SDECLNTOL_NYL","N/C","Side Nylon Brush","311103"]
["M-M17VK_ADLOPRMNL","01","M-M17","VK_ADLOPRMNL",200,"Add Operator Manual","311103"]
["M-M17VK_BTY_F700C6","01","M-M17","VK_BTY_F700C6",21341,"Sealed/MF FastCharge 700AH C/6","311103"]
["M-M17VK_BASE_M17-C_STD","01","M-M17","VK_BASE_M17-C_STD",69648,"M17 Cyl Std Config","311103"]
["M-M17VK_TRLTRTKIT","01","M-M17","VK_TRLTRTKIT",214,"Transport Kit","311103"]
["M-M17VK_BTYEXCSYS_SO","01","M-M17","VK_BTYEXCSYS_SO",1257,"Bty Slide Out System","311103"]
["M-M17VK_CLNTCH_ES","01","M-M17","VK_CLNTCH_ES",4476,"ES® Extended Scrub","311103"]
["M-M17VK_BTY_W510C6","01","M-M17","VK_BTY_W510C6",6206,"Bty Wet 510AH C6","311103"]
["M-M17VK_PKG_PAD","01","M-M17","VK_PKG_PAD","N/C","Pad Wrap","311103"]
["M-M17VK_PRDPKG_VACWND","01","M-M17","VK_PRDPKG_VACWND",5551,"Prod Package- Vac Wand","311103"]
["M-M17VK_SDEPADTYP_BLU3","01","M-M17","VK_SDEPADTYP_BLU3",20,"Side Blu Scrub 3M","311103"]
["M-M17VK_SET_DLXW","01","M-M17","VK_SET_DLXW",619,"Deluxe Seat w/Armr.","311103"]
["M-M17VK_ADLBTY_W750C6","01","M-M17","VK_ADLBTY_W750C6",9596,"Ext.Bty Wet 750 C6","311103"]
["M-M17VK_BTYWTRSYS","01","M-M17","VK_BTYWTRSYS",797,"Battery Watering Sys","311103"]
["M-M17VK_SDEBRSTYP_WO","01","M-M17","VK_SDEBRSTYP_WO","N/C","Side Brush - Without","311103"]
["M-M17VK_CHG_240A480V5060H3","01","M-M17","VK_CHG_240A480V5060H3",6424,"Ch240A 480V 5060H3P","311103"]
["M-M17VK_BTY_L36V19M","01","M-M17","VK_BTY_L36V19M",71715,"Bty Li-Ion 36v, 38.8kWh","311103"]
["M-M20VK_MCHCOM_SBT","01","M-M20","VK_MCHCOM_SBT",1367,"IRIS Telemetry","311302"]
["M-M20VK_SDECLNTOL_SAB","01","M-M20","VK_SDECLNTOL_SAB",212,"Side Sup Abr Brush","311302"]
["M-M20VK_ALTSTBFLSLNS_B","01","M-M20","VK_ALTSTBFLSLNS_B",36,"Alternate Lens-Blue","311302"]
["M-M20VK_RERTRE_HT","01","M-M20","VK_RERTRE_HT",929,"Trs Rear High Track","311302"]
["M-M20VK_TRLTRTKIT","01","M-M20","VK_TRLTRTKIT",207,"Transport Kit","311302"]
["M-M20VK_BASE_M20-LPG_STD","01","M-M20","VK_BASE_M20-LPG_STD",82822,"M20 LPG Std Config","311302"]
["M-M20VK_CSMFRTCVRLTHKIT","01","M-M20","VK_CSMFRTCVRLTHKIT",685,"Front Cover Latch Kit","311302"]
["M-M20VK_CSMSBTDCL_GT","01","M-M20","VK_CSMSBTDCL_GT",157,"Sunbelt-GenTool Dcl","311302"]
["M-M20VK_WTY_STD","01","M-M20","VK_WTY_STD","N/C","Warranty STD","311302"]
["M-M20VK_MCHCOM","01","M-M20","VK_MCHCOM",1367,"IRIS Telemetry","311302"]
["M-M20VK_DATPKG_5YR","01","M-M20","VK_DATPKG_5YR",1539,"Data Package 5 Year","311302"]
["M-M20VK_PARMNL","01","M-M20","VK_PARMNL","N/C","Parts Manual","311302"]
["M-M20VK_HVYDTYPRTPKG","01","M-M20","VK_HVYDTYPRTPKG",2326,"Hvy Duty Protect Pkg","311302"]
["M-M20VK_TRMLVL_WOP","01","M-M20","VK_TRMLVL_WOP",1522,"ProPanel w/ WOC","311302"]
["M-M20VK_BASE_M20-DSL","01","M-M20","VK_BASE_M20-DSL",88190,"M20 DSL","311302"]
["M-M20VK_PKG_SKD","01","M-M20","VK_PKG_SKD",892,"Skid","311302"]
["M-M20VK_SDECLNTOL_PYP_SWP","01","M-M20","VK_SDECLNTOL_PYP_SWP","N/C","Side Poly Sweeper","311302"]
["M-M20VK_CSMSLN_FSTTK","01","M-M20","VK_CSMSLN_FSTTK",1821,"Front/Side Tie Down","311302"]
["M-M20VK_TRM_MPAN","01","M-M20","VK_TRM_MPAN","N/C","Membrane Ctrl Panel","311302"]
["M-M20VK_SDECLNTOL_PYP_SCB","01","M-M20","VK_SDECLNTOL_PYP_SCB","N/C","Side Poly Scrubber","311302"]
["M-M20VK_LPGTNK_E","01","M-M20","VK_LPGTNK_E","N/C","LPG Tank Empty","311302"]
["M-M20VK_PRDPKG","01","M-M20","VK_PRDPKG",6587,"Productivity Package","311302"]
[{"$f":"C2312&D2312","v":"M-M20VK_CSMSLN_FCLK"},"01","M-M20","VK_CSMSLN_FCLK",685,"Front Cover Latch","311302"]
["M-M20VK_PWRVACWND_VACWND","01","M-M20","VK_PWRVACWND_VACWND",1049,"Vacuum Wand","311302"]
["M-M20VK_SRVMNL","01","M-M20","VK_SRVMNL",264,"Service Manual","311302"]
["M-M20VK_PKG_CRT","01","M-M20","VK_PKG_CRT",1680,"Crate","311302"]
["M-M20VK_PKG_SKD_NO_CHG","01","M-M20","VK_PKG_SKD_NO_CHG","N/C","Skid","311302"]
["M-M20VK_CSMSBTDCL_FC","01","M-M20","VK_CSMSBTDCL_FC",270,"Sunbelt-FloorCareDcl","311302"]
["M-M20VK_UPG","01","M-M20","VK_UPG","N/C","UPG","311302"]
["M-M20VK_FRTSDETIETOWKIT","01","M-M20","VK_FRTSDETIETOWKIT",1821,"Front / Side Tiedown Tow Kit","311302"]
["M-M20VK_BLULGT","01","M-M20","VK_BLULGT",1187,"Blue Light","311302"]
["M-M20VK_FREEXT","01","M-M20","VK_FREEXT",165,"Fire Extinguisher","311302"]
["M-M20VK_OPRVID","01","M-M20","VK_OPRVID","N/C","Operator Video","311302"]
["M-M20VK_WRNLGTANDALM_AVFO","01","M-M20","VK_WRNLGTANDALM_AVFO",769,"AV BU AlarmFlash OHG","311302"]
["M-M20VK_OVHGRD","01","M-M20","VK_OVHGRD",1872,"Overhead Guard","311302"]
["M-M20VK_WRNLGTANDALM_AVFT","01","M-M20","VK_WRNLGTANDALM_AVFT",769,"AV BU AlarmFlash Tnk","311302"]
["M-M20VK_CSMSBTDCLECH","01","M-M20","VK_CSMSBTDCLECH",255,"Sunbelt-ecH2O Decal","311302"]
["M-M20VK_SPYNOZWTHHSE","01","M-M20","VK_SPYNOZWTHHSE",1338,"Spray Nozzel w/Hose","311302"]
["M-M20VK_ALTSTBFLSLNS_R","01","M-M20","VK_ALTSTBFLSLNS_R",36,"Alternate Lens-Red","311302"]
["M-M20VK_DATPKG_HO","01","M-M20","VK_DATPKG_HO",1467,"Hardware Only","311302"]
["M-M20VK_CLNTOL_PYP","01","M-M20","VK_CLNTOL_PYP","N/C","Poly Brush","311302"]
["M-M20VK_LPGTNK_F","01","M-M20","VK_LPGTNK_F","N/C","LPG Tank Full","311302"]
["M-M20VK_BASE_M20-LPG","01","M-M20","VK_BASE_M20-LPG",82822,"M20 LPG","311302"]
["M-M20VK_WRNLGTANDALM_AU","01","M-M20","VK_WRNLGTANDALM_AU",360,"Audio BU Alarm","311302"]
["M-M20VK_ULERTG_D","01","M-M20","VK_ULERTG_D","N/C","UL® Type D","311302"]
["M-M20VK_BASE_M20-GAS_STD","01","M-M20","VK_BASE_M20-GAS_STD",82822,"M20 GAS Std Config","311302"]
["M-M20VK_CSMSLN_WPMP","01","M-M20","VK_CSMSLN_WPMP",206,"Weatherproof pouch","311302"]
["M-M20VK_CSMSBTPARKIT","01","M-M20","VK_CSMSBTPARKIT",2977,"Sunbelt -Parts Kit","311302"]
["M-M20VK_WRNLGTANDALM_AVST","01","M-M20","VK_WRNLGTANDALM_AVST",769,"AV BU AlrmStrobe Tnk","311302"]
["M-M20VK_ULERTG_LPS","01","M-M20","VK_ULERTG_LPS",5496,"UL® Type LPS","311302"]
["M-M20VK_CLNTOL_SASB","01","M-M20","VK_CLNTOL_SASB",212,"Super Abrasive, Stiff Bristle","311302"]
["M-M20VK_WPFMNLPCH","01","M-M20","VK_WPFMNLPCH",206,"Weatherproof Manual Pouch","311302"]
["M-M20VK_CLNTOL_HDPYP","01","M-M20","VK_CLNTOL_HDPYP","N/C","HD Poly Brush","311302"]
["M-M20VK_HVYDTYSQEPRT","01","M-M20","VK_HVYDTYSQEPRT",983,"Hvy Dty Sque Protect","311302"]
["M-M20VK_HGHPRSSPY","01","M-M20","VK_HGHPRSSPY",5147,"High Pressure Spray","311302"]
["M-M20VK_CSMSBTRERSQE","01","M-M20","VK_CSMSBTRERSQE",577,"Sunbelt - Sqe Guard","311302"]
["M-M20VK_BASE_M20-DSL_STD","01","M-M20","VK_BASE_M20-DSL_STD",88190,"M20 DSL Std Config","311302"]
["M-M20VK_DATPKG_BSVC","01","M-M20","VK_DATPKG_BSVC","N/C","Data Pkg w/Service","311302"]
["M-M20VK_SQEMAT_L","01","M-M20","VK_SQEMAT_L","N/C","Squeegee Linatex","311302"]
["M-M20VK_CLNTCH_ECH2O","01","M-M20","VK_CLNTCH_ECH2O",5720,"ec-H2O™","311302"]
["M-M20VK_CSMSLN_FLLS","01","M-M20","VK_CSMSLN_FLLS",2157,"Frame Lift Lugs Side","311302"]
["M-M20VK_DATPKG_3YR","01","M-M20","VK_DATPKG_3YR",1539,"Data Package 3 Year","311302"]
["M-M20VK_SQEMAT_U","01","M-M20","VK_SQEMAT_U",896,"Squeegee Urethane","311302"]
["M-M20VK_CLNTCH_ES","01","M-M20","VK_CLNTCH_ES",5330,"ES® Extended Scrub","311302"]
["M-M20VK_WRNLGTANDALM_AVSO","01","M-M20","VK_WRNLGTANDALM_AVSO",769,"AV BU AlrmStrobe OHG","311302"]
["M-M20VK_CSMFRMLFTLUG_SD","01","M-M20","VK_CSMFRMLFTLUG_SD",2157,"Frame Lifting Lugs-Side","311302"]
["M-M20VK_SDEBRSTYP","01","M-M20","VK_SDEBRSTYP",5678,"Side Brush","311302"]
["M-M20VK_ADLOPRMNL","01","M-M20","VK_ADLOPRMNL",80,"Add Operator Manual","311302"]
["M-M20VK_TRM_PPAN","01","M-M20","VK_TRM_PPAN",3143,"ProPanel Ctrls","311302"]
["M-M20VK_BASE_M20-GAS","01","M-M20","VK_BASE_M20-GAS",82822,"M20 GAS","311302"]
["M-M20VK_DTGMTG","01","M-M20","VK_DTGMTG",3408,"Detergent Metering","311302"]
["M-M30VK_DTG_SBD","01","M-M30","VK_DTG_SBD","N/C","Solvent Degreaser","311402"]
["M-M30VK_MCHCOM_SBT","01","M-M30","VK_MCHCOM_SBT",1367,"IRIS Telemetry","311402"]
["M-M30VK_LPGTNK_E","01","M-M30","VK_LPGTNK_E","N/C","LPG Tank Empty","311402"]
["M-M30VK_SDEBRSTYP_SWP","01","M-M30","VK_SDEBRSTYP_SWP",5678,"Side Brush Sweeper","311402"]
["M-M30VK_SDECLNTOL_PYSB","01","M-M30","VK_SDECLNTOL_PYSB","N/C","Side Poly Sweep Brh","311402"]
["M-M30VK_PRDPKG","01","M-M30","VK_PRDPKG",6587,"Productivity Package","311402"]
["M-M30VK_HGHPRSSPY","01","M-M30","VK_HGHPRSSPY",4435,"High Pressure Spray","311402"]
["M-M30VK_CLNTOL_SASB","01","M-M30","VK_CLNTOL_SASB",212,"Super Abrasive, Stiff Bristle","311402"]
["M-M30VK_BASE_M30-DSL_3A_STD","01","M-M30","VK_BASE_M30-DSL_3A_STD",96262,"M30 DSL 3a Std Config","311402"]
["M-M30VK_RERTRE_HT","01","M-M30","VK_RERTRE_HT",909,"Trs Rear High Track","311402"]
["M-M30VK_CLNTCH_ECH2O","01","M-M30","VK_CLNTCH_ECH2O",5720,"ec-H2O™","311402"]
["M-M30VK_CSMSLN_WHFK","01","M-M30","VK_CSMSLN_WHFK",1119,"Winch Hook Frame Kit","311402"]
["M-M30VK_PKG_SKD_NO_CHG","01","M-M30","VK_PKG_SKD_NO_CHG","N/C","Skid","311402"]
["M-M30VK_CSMSLN_FCLK","01","M-M30","VK_CSMSLN_FCLK",685,"Front Cover Latch","311402"]
["M-M30VK_WTY_STD","01","M-M30","VK_WTY_STD","N/C","Warranty STD","311402"]
[{"$f":"C2376&D2376","v":"M-M30VK_WRNLGTANDALM_AVFT"},"01","M-M30","VK_WRNLGTANDALM_AVFT",769,"AV BU AlarmFlash Tnk","311402"]
["M-M30VK_ADLOPRMNL_D","01","M-M30","VK_ADLOPRMNL_D",80,"Add Operator Manual","311402"]
["M-M30VK_OPRVID","01","M-M30","VK_OPRVID","N/C","Operator Video","311402"]
["M-M30VK_SPYNOZWTHHSE","01","M-M30","VK_SPYNOZWTHHSE",1338,"Spray Nozzel w/Hose","311402"]
["M-M30VK_WRNLGTANDALM_AVFO","01","M-M30","VK_WRNLGTANDALM_AVFO",769,"AV BU AlarmFlash OHG","311402"]
["M-M30VK_CSMSLN_DWS","01","M-M30","VK_CSMSLN_DWS",3768,"Dewatering System","311402"]
["M-M30VK_BLULGT","01","M-M30","VK_BLULGT",1187,"Blue Light","311402"]
["M-M30VK_TRM_MPAN","01","M-M30","VK_TRM_MPAN","N/C","Membrane Ctrl Panel","311402"]
["M-M30VK_FREEXT","01","M-M30","VK_FREEXT",165,"Fire Extinguisher","311402"]
["M-M30VK_UPG","01","M-M30","VK_UPG","N/C","UPG","311402"]
["M-M30VK_TRMLVL_WOP","01","M-M30","VK_TRMLVL_WOP",1522,"ProPanel w/ WOC","311402"]
["M-M30VK_PKG_PAD","01","M-M30","VK_PKG_PAD","N/C","Pad Wrap","311402"]
["M-M30VK_SDEBRSTYP_SCB","01","M-M30","VK_SDEBRSTYP_SCB",5678,"Side Brush Scrubber","311402"]
["M-M30VK_ULERTG_G","01","M-M30","VK_ULERTG_G","N/C","UL® Type G","311402"]
["M-M30VK_WRNLGTANDALM_AVSO","01","M-M30","VK_WRNLGTANDALM_AVSO",769,"AV BU AlrmStrobe OHG","311402"]
["M-M30VK_SDECLNTOL_PYP","01","M-M30","VK_SDECLNTOL_PYP","N/C","Side Poly Brush","311402"]
["M-M30VK_CLNTCH_ES","01","M-M30","VK_CLNTCH_ES",5330,"ES® Extended Scrub","311402"]
["M-M30VK_OVHGRD","01","M-M30","VK_OVHGRD",1872,"Overhead Guard","311402"]
["M-M30VK_ULERTG_LP","01","M-M30","VK_ULERTG_LP","N/C","UL® Type LP","311402"]
["M-M30VK_HVYDTYPRTPKG","01","M-M30","VK_HVYDTYPRTPKG",2326,"Hvy Duty Protect Pkg","311402"]
["M-M30VK_CSMSLN_FSTTK","01","M-M30","VK_CSMSLN_FSTTK",1821,"Front/Side Tie Down","311402"]
["M-M30VK_BASE_M30-GAS_STD","01","M-M30","VK_BASE_M30-GAS_STD",96262,"M30 GAS Std Config","311402"]
["M-M30VK_DTGMTG","01","M-M30","VK_DTGMTG",3408,"Detergent Metering","311402"]
["M-M30VK_BASE_M30-DSL_3A","01","M-M30","VK_BASE_M30-DSL_3A",96262,"M30 DSL 3A","311402"]
["M-M30VK_ULERTG_D","01","M-M30","VK_ULERTG_D","N/C","UL® Type D","311402"]
["M-M30VK_BASE_M30-GAS","01","M-M30","VK_BASE_M30-GAS",96262,"M30 GAS","311402"]
["M-M30VK_HVYDTYSQEPRT","01","M-M30","VK_HVYDTYSQEPRT",983,"Hvy Dty Sque Protect","311402"]
["M-M30VK_CSMSLN_SKDL","01","M-M30","VK_CSMSLN_SKDL",1028,"Seal Kit w/DrawLatch","311402"]
["M-M30VK_CLMCTL_ACHP_D","01","M-M30","VK_CLMCTL_ACHP_D",8907,"Air Cond./Heater/Pre","311402"]
["M-M30VK_PWRVACWND_VACWND","01","M-M30","VK_PWRVACWND_VACWND",1049,"Vacuum Wand","311402"]
["M-M30VK_PARMNL","01","M-M30","VK_PARMNL","N/C","Parts Manual","311402"]
["M-M30VK_CSMHEDLGTCVR","01","M-M30","VK_CSMHEDLGTCVR",256,"Head Light Cover","311402"]
["M-M30VK_DATPKG_3YR","01","M-M30","VK_DATPKG_3YR",1539,"Data Package 3 Year","311402"]
["M-M30VK_DATPKG_5YR","01","M-M30","VK_DATPKG_5YR",1539,"Data Package 5 Year","311402"]
["M-M30VK_SQEMAT_L","01","M-M30","VK_SQEMAT_L","N/C","Squeegee Linatex","311402"]
["M-M30VK_PKG_SKD","01","M-M30","VK_PKG_SKD",963,"Skid","311402"]
["M-M30VK_BASE_M30-LPG","01","M-M30","VK_BASE_M30-LPG",96262,"M30 LPG","311402"]
["M-M30VK_CSMSLN_WPMP","01","M-M30","VK_CSMSLN_WPMP",206,"Weatherproof pouch","311402"]
["M-M30VK_CSMDWTSYS","01","M-M30","VK_CSMDWTSYS",3768,"Dewatering System","311402"]
["M-M30VK_CSMSELKITDRWLTH","01","M-M30","VK_CSMSELKITDRWLTH",1028,"Seal Kit w/Draw Latch","311402"]
["M-M30VK_WRNLGTANDALM_AVST","01","M-M30","VK_WRNLGTANDALM_AVST",769,"AV BU AlrmStrobe Tnk","311402"]
["M-M30VK_CLNTOL_HDPYP","01","M-M30","VK_CLNTOL_HDPYP","N/C","HD Poly Brush","311402"]
["M-M30VK_TRLTRTKIT","01","M-M30","VK_TRLTRTKIT",207,"Transport Kit","311402"]
["M-M30VK_ULERTG_LPS","01","M-M30","VK_ULERTG_LPS",5389,"UL® Type LPS","311402"]
["M-M30VK_LPGTNK_F","01","M-M30","VK_LPGTNK_F","N/C","LPG Tank Full","311402"]
["M-M30VK_SRVMNL","01","M-M30","VK_SRVMNL",264,"Service Manual","311402"]
["M-M30VK_BASE_M30-LPG_STD","01","M-M30","VK_BASE_M30-LPG_STD",96262,"M30 LPG Std Config","311402"]
["M-M30VK_SDECLNTOL_SAB","01","M-M30","VK_SDECLNTOL_SAB",212,"Side Sup Abr Brush","311402"]
["M-M30VK_ADLOPRMNL","01","M-M30","VK_ADLOPRMNL",80,"Add Operator Manual","311402"]
["M-M30VK_CSMWCHHOKKIT","01","M-M30","VK_CSMWCHHOKKIT",1119,"Winch Hook Frame Kit","311402"]
["M-M30VK_SQEMAT_U","01","M-M30","VK_SQEMAT_U",896,"Squeegee Urethane","311402"]
["M-M30VK_PKG_SKD_NC","01","M-M30","VK_PKG_SKD_NC","N/C","Skid","311402"]
["M-M30VK_DATPKG_BSVC","01","M-M30","VK_DATPKG_BSVC","N/C","Data Pkg w/Service","311402"]
["M-M30VK_CSMSLN_HLC","01","M-M30","VK_CSMSLN_HLC",256,"Head Light Cover","311402"]
["M-M30VK_CSM_SBT_DCL","01","M-M30","VK_CSM_SBT_DCL",151,"Sunbelt Decal Kit","311402"]
["M-M30VK_BASE_M30-DSL_S5","01","M-M30","VK_BASE_M30-DSL_S5",117949,"M30 DSL S5","311402"]
["M-M30VK_WPFMNLPCH","01","M-M30","VK_WPFMNLPCH",206,"Weatherproof Manual Pouch","311402"]
["M-M30VK_BASE_M30-DSL_S5_STD","01","M-M30","VK_BASE_M30-DSL_S5_STD",117949,"M30 DSL s5 Std Config","311402"]
["M-M30VK_CSM_SBT_KIT","01","M-M30","VK_CSM_SBT_KIT",2351,"Sunbelt Parts Kit","311402"]
["M-M30VK_TRM_PPAN","01","M-M30","VK_TRM_PPAN",3143,"ProPanel Ctrls","311402"]
["M-M30VK_CAB_SC","01","M-M30","VK_CAB_SC",8407,"Soft Cab","311402"]
["M-M30VK_CLMCTL_ACHP_GL","01","M-M30","VK_CLMCTL_ACHP_GL",8907,"Air Cond./Heater/Pre","311402"]
["M-M30VK_MCHCOM","01","M-M30","VK_MCHCOM",1367,"IRIS Telemetry","311402"]
["M-1610VK_BASE_1610","01","M-1610","VK_BASE_1610",20042,"1610 ReadySpace","327003"]
[{"$f":"C2440&D2440","v":"M-1610VK_PARMNL"},"01","M-1610","VK_PARMNL",23,"Parts Manual","327003"]
["M-1610VK_PKG_WSKD","01","M-1610","VK_PKG_WSKD",360,"Skid w/Stretch Wrap","327003"]
["M-1610VK_PKG_SSKD","01","M-1610","VK_PKG_SSKD",475,"Stack Skid/Carton","327003"]
["M-1610VK_CHG_WO","01","M-1610","VK_CHG_WO",-718,"Without Charger","327003"]
["M-1610VK_CHG_19A120V5060H1","01","M-1610","VK_CHG_19A120V5060H1","N/C","Ch19A 120V 5060H1","327003"]
["M-1610VK_BTY_WO","01","M-1610","VK_BTY_WO",-952,"Without Battery","327003"]
["M-1610VK_BTY_W240C20","01","M-1610","VK_BTY_W240C20","N/C","Bty Wet 240AH C20","327003"]
["M-1610VK_BTY_A200C20","01","M-1610","VK_BTY_A200C20",571,"Bty AGM 200AH C20","327003"]
["M-1610VK_ADLOPRMNL","01","M-1610","VK_ADLOPRMNL",51,"Add Operator Manual","327003"]
["M-STRIVEVK_BASE_STRIVE-560","01","M-STRIVE","VK_BASE_STRIVE-560",20042,"Strive 560/22","327004"]
["M-STRIVEVK_OPRMNL","01","M-STRIVE","VK_OPRMNL","N/C","Oper Manual","327004"]
["M-STRIVEVK_CHG_WO","01","M-STRIVE","VK_CHG_WO",-717,"Without Charger","327004"]
["M-STRIVEVK_CHG_19A100V5060H1","01","M-STRIVE","VK_CHG_19A100V5060H1","N/C","Ch19A 100V 5060H1P","327004"]
["M-STRIVEVK_BTY_WO","01","M-STRIVE","VK_BTY_WO",-952,"Without Battery","327004"]
["M-STRIVEVK_BTY_W240C20","01","M-STRIVE","VK_BTY_W240C20","N/C","Bty Wet 240AH C20","327004"]
["M-STRIVEVK_ADLOPRMNL","01","M-STRIVE","VK_ADLOPRMNL",51,"Add Operator Manual","327004"]
["M-STRIVEVK_PKG_WSKD","01","M-STRIVE","VK_PKG_WSKD",360,"Skid w/Stretch Wrap","327004"]
["M-STRIVEVK_PARMNL","01","M-STRIVE","VK_PARMNL",22,"Parts Manual","327004"]
["M-STRIVEVK_PKG_SSKD","01","M-STRIVE","VK_PKG_SSKD",475,"Stack Skid/Carton","327004"]
["M-STRIVEVK_BTY_A200C20","01","M-STRIVE","VK_BTY_A200C20",571,"Bty AGM 200AH C20","327004"]
["M-R14VK_PARMNL","01","M-R14","VK_PARMNL",23,"Parts Manual","327005"]
["M-R14VK_UTLBSK","01","M-R14","VK_UTLBSK",248,"Utility Basket","327005"]
["M-R14VK_CLNTOL_C800PYP","01","M-R14","VK_CLNTOL_C800PYP","N/C","C800/32 Poly Brush","327005"]
["M-R14VK_CLNTOL_C800NYL","01","M-R14","VK_CLNTOL_C800NYL","N/C","C800/32 Nylon Brush","327005"]
["M-R14VK_SETBLT","01","M-R14","VK_SETBLT",97,"Seat Belt","327005"]
["M-R14VK_BASE_R14-700","01","M-R14","VK_BASE_R14-700",28871,"R14 700/28","327005"]
["M-R14VK_CHG_25A100V5060H1","01","M-R14","VK_CHG_25A100V5060H1","N/C","Ch25A 100V 5060H1P","327005"]
["M-R14VK_WRNLGTANDALM_ST","01","M-R14","VK_WRNLGTANDALM_ST",787,"Strobe Light Tank","327005"]
["M-R14VK_ADLOPRMNL","01","M-R14","VK_ADLOPRMNL",173,"Add Operator Manual","327005"]
["M-R14VK_BTYWTRSYS","01","M-R14","VK_BTYWTRSYS",628,"Battery Watering Sys","327005"]
["M-R14VK_BTY_W360C20","01","M-R14","VK_BTY_W360C20","N/C","Bty Wet 360AH C20","327005"]
["M-R14VK_BTY_WO","01","M-R14","VK_BTY_WO",-658,"Without Battery","327005"]
["M-R14VK_CHG_WO","01","M-R14","VK_CHG_WO",-375,"Without Charger","327005"]
["M-R14VK_PKG_SCNS","01","M-R14","VK_PKG_SCNS",512,"NonStack Skid/Carton","327005"]
["M-R14VK_PKG_WSKD","01","M-R14","VK_PKG_WSKD",350,"Skid w/Stretch Wrap","327005"]
["M-R14VK_SRVMNL","01","M-R14","VK_SRVMNL","N/C","Service Manual","327005"]
["M-STRIVERIDERVK_SRVMNL","01","M-STRIVERIDER","VK_SRVMNL","N/C","Service Manual","327006"]
["M-STRIVERIDERVK_PKG_WSKD","01","M-STRIVERIDER","VK_PKG_WSKD",350,"Skid w/Stretch Wrap","327006"]
["M-STRIVERIDERVK_PARMNL","01","M-STRIVERIDER","VK_PARMNL",23,"Parts Manual","327006"]
["M-STRIVERIDERVK_SETBLT","01","M-STRIVERIDER","VK_SETBLT",97,"Seat Belt","327006"]
["M-STRIVERIDERVK_PKG_SCNS_NC","01","M-STRIVERIDER","VK_PKG_SCNS_NC",350,"NonStack Skid/Carton","327006"]
["M-STRIVERIDERVK_PKG_SCNS_NO_CHG","01","M-STRIVERIDER","VK_PKG_SCNS_NO_CHG","N/C","NonStack Skid/Carton","327006"]
["M-STRIVERIDERVK_CHG_30A120V5060H1","01","M-STRIVERIDER","VK_CHG_30A120V5060H1","N/C","Ch30A 120V 5060H1P","327006"]
["M-STRIVERIDERVK_CHG_WO","01","M-STRIVERIDER","VK_CHG_WO",-375,"Without Charger","327006"]
["M-STRIVERIDERVK_WRNLGTANDALM_ST","01","M-STRIVERIDER","VK_WRNLGTANDALM_ST",787,"Strobe Light Tank","327006"]
["M-STRIVERIDERVK_BTYWTRSYS","01","M-STRIVERIDER","VK_BTYWTRSYS",628,"Battery Watering Sys","327006"]
["M-STRIVERIDERVK_BASE_STRIVERIDER","01","M-STRIVERIDER","VK_BASE_STRIVERIDER",28871,"Strive Rider","327006"]
["M-STRIVERIDERVK_CHG_25A100V5060H1","01","M-STRIVERIDER","VK_CHG_25A100V5060H1","N/C","Ch25A 100V 5060H1P","327006"]
["M-STRIVERIDERVK_PKG_WSKD_NO_CHG","01","M-STRIVERIDER","VK_PKG_WSKD_NO_CHG","N/C","Skid w/Stretch Wrap","327006"]
["M-STRIVERIDERVK_ADLOPRMNL","01","M-STRIVERIDER","VK_ADLOPRMNL",172,"Add Operator Manual","327006"]
["M-STRIVERIDERVK_BTY_W360C20","01","M-STRIVERIDER","VK_BTY_W360C20","N/C","Bty Wet 360AH C20","327006"]
["M-STRIVERIDERVK_BTY_WO","01","M-STRIVERIDER","VK_BTY_WO",-658,"Without Battery","327006"]
["M-STRIVERIDERVK_OPRMNL","01","M-STRIVERIDER","VK_OPRMNL","N/C","Oper Manual","327006"]
["M-STRIVERIDERVK_PKG_SCNS","01","M-STRIVERIDER","VK_PKG_SCNS",512,"NonStack Skid/Carton","327006"]
["M-STRIVERIDERVK_UTLBSK","01","M-STRIVERIDER","VK_UTLBSK",249,"Utility Basket","327006"]
["M-B5VK_CHG_WO","01","M-B5","VK_CHG_WO",-345,"Without Charger","333010"]
["M-B5VK_BTY_A140C20","01","M-B5","VK_BTY_A140C20",2281,"Bty AGM 140AH C20","333010"]
["M-B5VK_BASE_B5-510","01","M-B5","VK_BASE_B5-510",11747,"B5-510","333010"]
["M-B5VK_PARMNL","01","M-B5","VK_PARMNL",23,"Parts Manual","333010"]
["M-B5VK_MCHCOM","01","M-B5","VK_MCHCOM",1367,"IRIS Telemetry","333010"]
["M-B5VK_ADLOPRMNL","01","M-B5","VK_ADLOPRMNL",52,"Add Operator Manual","333010"]
["M-B5VK_SRVMNL","01","M-B5","VK_SRVMNL",225,"Service Manual","333010"]
["M-B5VK_PRGBRK","01","M-B5","VK_PRGBRK",86,"Parking Brake","333010"]
["M-B5VK_PKG_WSKD","01","M-B5","VK_PKG_WSKD",173,"Skid w/Stretch Wrap","333010"]
[{"$f":"C2504&D2504","v":"M-B5VK_PKG_SSKD"},"01","M-B5","VK_PKG_SSKD",277,"Stack Skid/Carton","333010"]
["M-B5VK_PKG_PAD","01","M-B5","VK_PKG_PAD","N/C","Pad Wrap","333010"]
["M-B5VK_DWNPRS_MEC_NC","01","M-B5","VK_DWNPRS_MEC_NC","N/C","Mech Down Pressure","333010"]
["M-B5VK_DWNPRS_MEC","01","M-B5","VK_DWNPRS_MEC",-470,"Mech Down Pressure","333010"]
["M-B5VK_DWNPRS_AUT","01","M-B5","VK_DWNPRS_AUT","N/C","Auto Down Pressure","333010"]
["M-B5VK_DSTCTLSYS_PAS","01","M-B5","VK_DSTCTLSYS_PAS",-414,"Passive Dust Control","333010"]
["M-B5VK_DSTCTLSYS_ACT","01","M-B5","VK_DSTCTLSYS_ACT","N/C","Active Dust Control","333010"]
["M-B5VK_DSTCTLFLR_PFB","01","M-B5","VK_DSTCTLFLR_PFB","N/C","Paper Filter Bag","333010"]
["M-B5VK_DSTCTLFLR_DFLTB","01","M-B5","VK_DSTCTLFLR_DFLTB",51,"Dust Filter Bag","333010"]
["M-B5VK_CLNDRT_SP","01","M-B5","VK_CLNDRT_SP",3240,"Self Propel","333010"]
["M-B5VK_CLNDRT_PBA","01","M-B5","VK_CLNDRT_PBA","N/C","Pad / Brush Assist","333010"]
["M-B5VK_CHG_25A85V5060H1P_WET","01","M-B5","VK_CHG_25A85V5060H1P_WET","N/C","Ch25A 85V 5060H1P","333010"]
["M-B5VK_CHG_25A85V5060H1P_ON","01","M-B5","VK_CHG_25A85V5060H1P_ON","N/C","Ch25A 85V 5060Hz On","333010"]
["M-B5VK_CHG_25A85V5060H1P_AGM","01","M-B5","VK_CHG_25A85V5060H1P_AGM","N/C","Ch25A 85V 5060H1P","333010"]
["M-B5VK_BTY_WO","01","M-B5","VK_BTY_WO",-371,"Without Battery","333010"]
["M-B5VK_BTY_W225C20_NC","01","M-B5","VK_BTY_W225C20_NC","N/C","Bty Wet 225AH C20","333010"]
["M-B5VK_BTY_W225C20","01","M-B5","VK_BTY_W225C20",443,"Bty Wet 225AH C20","333010"]
["M-B5VK_BTY_W185C20","01","M-B5","VK_BTY_W185C20","N/C","Bty Wet 185AH C20","333010"]
["M-B5VK_BTY_A234C20","01","M-B5","VK_BTY_A234C20",2832,"Bty AGM 234AH C20","333010"]
["M-B5VK_BTYWTRSYS","01","M-B5","VK_BTYWTRSYS",853,"Battery Watering Sys","333010"]
["M-B7VK_DSTCTLSYS_ACT","01","M-B7","VK_DSTCTLSYS_ACT","N/C","Active Dust Control","333011"]
["M-B7VK_BTY_W360C20","01","M-B7","VK_BTY_W360C20",1095,"Bty Wet 360AH C20","333011"]
["M-B7VK_DSTCTLFLR_PFB","01","M-B7","VK_DSTCTLFLR_PFB","N/C","Paper Filter Bag","333011"]
["M-B7VK_CHG_WO","01","M-B7","VK_CHG_WO",-345,"Without Charger","333011"]
["M-B7VK_DSTCTLSYS_PAS","01","M-B7","VK_DSTCTLSYS_PAS",-414,"Passive Dust Control","333011"]
["M-B7VK_PKG_PAD","01","M-B7","VK_PKG_PAD","N/C","Pad Wrap","333011"]
["M-B7VK_SRVMNL","01","M-B7","VK_SRVMNL",225,"Service Manual","333011"]
["M-B7VK_BTY_W240C20","01","M-B7","VK_BTY_W240C20",818,"Bty Wet 240AH C20","333011"]
["M-B7VK_BTY_W330C20","01","M-B7","VK_BTY_W330C20",910,"Bty Wet 330AH C20","333011"]
["M-B7VK_DWNPRS_MEC","01","M-B7","VK_DWNPRS_MEC",-470,"Mech Down Pressure","333011"]
["M-B7VK_PRGBRK","01","M-B7","VK_PRGBRK",86,"Parking Brake","333011"]
["M-B7VK_BTY_A312C20","01","M-B7","VK_BTY_A312C20",3640,"Bty AGM 312AH C20","333011"]
["M-B7VK_BTY_WO","01","M-B7","VK_BTY_WO","N/C","Without Battery","333011"]
["M-B7VK_PKG_SSKD","01","M-B7","VK_PKG_SSKD",381,"Stack Skid/Carton","333011"]
["M-B7VK_CHG_25A85V5060H1P_ON","01","M-B7","VK_CHG_25A85V5060H1P_ON","N/C","Ch25A 85V 5060Hz On","333011"]
["M-B7VK_BASE_B7-690","01","M-B7","VK_BASE_B7-690",16989,"B7-690","333011"]
["M-B7VK_MCHCOM","01","M-B7","VK_MCHCOM",1367,"IRIS Telemetry","333011"]
["M-B7VK_PARMNL","01","M-B7","VK_PARMNL",23,"Parts Manual","333011"]
["M-B7VK_BASE_B7-610","01","M-B7","VK_BASE_B7-610",15467,"B7-610","333011"]
["M-B7VK_PKG_WSKD","01","M-B7","VK_PKG_WSKD",217,"Skid w/Stretch Wrap","333011"]
["M-B7VK_DWNPRS_AUT","01","M-B7","VK_DWNPRS_AUT","N/C","Auto Down Pressure","333011"]
["M-B7VK_DSTCTLFLR_DFLTB","01","M-B7","VK_DSTCTLFLR_DFLTB",51,"Dust Filter Bag","333011"]
["M-B7VK_CHG_25A85V5060H1P_OFF","01","M-B7","VK_CHG_25A85V5060H1P_OFF","N/C","Ch25A 85V 5060Hz Off","333011"]
["M-B7VK_BTYWTRSYS","01","M-B7","VK_BTYWTRSYS",853,"Battery Watering Sys","333011"]
["M-B7VK_ADLOPRMNL","01","M-B7","VK_ADLOPRMNL",52,"Add Operator Manual","333011"]
["M-SG5VK_ADLOPRMNL","01","M-SG5","VK_ADLOPRMNL",52,"Add Operator Manual","333012"]
["M-SG5VK_BTY_W225C20","01","M-SG5","VK_BTY_W225C20",443,"Bty Wet 225AH C20","333012"]
["M-SG5VK_CLNDRT_SP","01","M-SG5","VK_CLNDRT_SP",2583,"Self Propel","333012"]
["M-SG5VK_CLNDRT_PBA","01","M-SG5","VK_CLNDRT_PBA","N/C","Pad / Brush Assist","333012"]
["M-SG5VK_BTY_WO","01","M-SG5","VK_BTY_WO",-371,"Without Battery","333012"]
["M-SG5VK_BTY_W185C20","01","M-SG5","VK_BTY_W185C20","N/C","Bty Wet 185AH C20","333012"]
["M-SG5VK_DSTCTLFLR_DFLTB","01","M-SG5","VK_DSTCTLFLR_DFLTB",51,"Dust Filter Bag","333012"]
["M-SG5VK_PRGBRK","01","M-SG5","VK_PRGBRK",86,"Parking Brake","333012"]
["M-SG5VK_PKG_SSKD","01","M-SG5","VK_PKG_SSKD",277,"Stack Skid/Carton","333012"]
["M-SG5VK_PKG_PAD","01","M-SG5","VK_PKG_PAD","N/C","Pad Wrap","333012"]
["M-SG5VK_PARMNL","01","M-SG5","VK_PARMNL",23,"Parts Manual","333012"]
["M-SG5VK_DWNPRS_MEC","01","M-SG5","VK_DWNPRS_MEC","N/C","Mech Down Pressure","333012"]
["M-SG5VK_DWNPRS_AUT","01","M-SG5","VK_DWNPRS_AUT",678,"Auto Down Pressure","333012"]
["M-SG5VK_DSTCTLSYS_ACT","01","M-SG5","VK_DSTCTLSYS_ACT",584,"Active Dust Control","333012"]
["M-SG5VK_BTY_A234C20","01","M-SG5","VK_BTY_A234C20",2832,"Bty AGM 234AH C20","333012"]
["M-SG5VK_BTYWTRSYS","01","M-SG5","VK_BTYWTRSYS",853,"Battery Watering Sys","333012"]
["M-SG5VK_BASE_SG5-510","01","M-SG5","VK_BASE_SG5-510",11173,"SG5-510","333012"]
["M-SG5VK_SRVMNL","01","M-SG5","VK_SRVMNL",225,"Service Manual","333012"]
["M-SG5VK_BTY_W225C20_NC","01","M-SG5","VK_BTY_W225C20_NC","N/C","Bty Wet 225AH C20","333012"]
[{"$f":"C2568&D2568","v":"M-SG5VK_CHG_WO"},"01","M-SG5","VK_CHG_WO",-345,"Without Charger","333012"]
["M-SG5VK_DSTCTLFLR_PFB","01","M-SG5","VK_DSTCTLFLR_PFB","N/C","Paper Filter Bag","333012"]
["M-SG5VK_DSTCTLSYS_PAS","01","M-SG5","VK_DSTCTLSYS_PAS","N/C","Passive Dust Control","333012"]
["M-SG5VK_PKG_WSKD","01","M-SG5","VK_PKG_WSKD",173,"Skid w/Stretch Wrap","333012"]
["M-SG7VK_BTY_W330C20","01","M-SG7","VK_BTY_W330C20",910,"Bty Wet 330AH C20","333013"]
["M-SG7VK_BTY_A312C20","01","M-SG7","VK_BTY_A312C20",3640,"Bty AGM 312AH C20","333013"]
["M-SG7VK_D800SAB","01","M-SG7","VK_D800SAB",382,"D800/32 Sup Abr Brsh","333013"]
["M-SG7VK_BTY_WO","01","M-SG7","VK_BTY_WO","N/C","Without Battery","333013"]
["M-SG7VK_DSTCTLSYS_ACT","01","M-SG7","VK_DSTCTLSYS_ACT",584,"Active Dust Control","333013"]
["M-SG7VK_DSTCTLFLR_PFB","01","M-SG7","VK_DSTCTLFLR_PFB","N/C","Paper Filter Bag","333013"]
["M-SG7VK_BTY_W360C20","01","M-SG7","VK_BTY_W360C20",1095,"Bty Wet 360AH C20","333013"]
["M-SG7VK_BTY_W240C20","01","M-SG7","VK_BTY_W240C20",818,"Bty Wet 240AH C20","333013"]
["M-SG7VK_ADLOPRMNL","01","M-SG7","VK_ADLOPRMNL",52,"Add Operator Manual","333013"]
["M-SG7VK_BASE_SG7-BTY-690","01","M-SG7","VK_BASE_SG7-BTY-690",15765,"SG7-B-690","333013"]
["M-SG7VK_DSTCTLFLR_DFLTB","01","M-SG7","VK_DSTCTLFLR_DFLTB",51,"Dust Filter Bag","333013"]
["M-SG7VK_BASE_SSR-650-D","01","M-SG7","VK_BASE_SSR-650-D",26148,"SSR 650/26 Disc","333013"]
["M-SG7VK_D800NYL","01","M-SG7","VK_D800NYL","N/C","D800/32 Nylon Brush","333013"]
["M-SG7VK_CLNTOL_C800ABB","01","M-SG7","VK_CLNTOL_C800ABB",382,"C800/32 Abr Brush","333013"]
["M-SG7VK_D800PAD","01","M-SG7","VK_D800PAD","N/C","D800/32 Pad Driver","333013"]
["M-SG7VK_PADTYP_650YLW3","01","M-SG7","VK_PADTYP_650YLW3",53.5,"650/26 Ylw Polish 3M","333013"]
["M-SG7VK_CLNTOL_C700ABB","01","M-SG7","VK_CLNTOL_C700ABB",382,"C700/28 Abr Brush","333013"]
["M-SG7VK_PADTYP_800YLW3","01","M-SG7","VK_PADTYP_800YLW3",71.7,"800/32 Ylw Polish 3M","333013"]
["M-SG7VK_DATPKG_HO","01","M-SG7","VK_DATPKG_HO",1508,"Hardware Only","333013"]
["M-SG7VK_D800PYP","01","M-SG7","VK_D800PYP","N/C","D800/32 Poly Brush","333013"]
["M-SG7VK_CHG_WO","01","M-SG7","VK_CHG_WO",-345,"Without Charger","333013"]
["M-SG7VK_BASE_SSR-700-C","01","M-SG7","VK_BASE_SSR-700-C",28083,"SSR 700/28 Cyl","333013"]
["M-SG7VK_CLNTOL_C700PYP","01","M-SG7","VK_CLNTOL_C700PYP","N/C","C700/28 Poly Brush","333013"]
["M-SG7VK_SETBLT","01","M-SG7","VK_SETBLT",94,"Seat Belt","333013"]
["M-SG7VK_CHG_20A120V5060H1","01","M-SG7","VK_CHG_20A120V5060H1","N/C","Ch20A 120V 5060H1","333013"]
["M-SG7VK_BTY_G180C20","01","M-SG7","VK_BTY_G180C20",1190,"Bty Gel 180AH C20","333013"]
["M-SG7VK_BASE_SSR-800-C","01","M-SG7","VK_BASE_SSR-800-C",30021,"SSR 800/32 Cyl","333013"]
["M-SG7VK_CLNTOL_C700NYL","01","M-SG7","VK_CLNTOL_C700NYL","N/C","C700/28 Nylon Brush","333013"]
["M-SG7VK_BTY_A220C20","01","M-SG7","VK_BTY_A220C20",1782,"Bty AGM 220AH C20","333013"]
["M-SG7VK_BASE_SSR-800-D","01","M-SG7","VK_BASE_SSR-800-D",28083,"SSR 800/32 Disc","333013"]
["M-SG7VK_CLNTOL_C700HDPYP","01","M-SG7","VK_CLNTOL_C700HDPYP","N/C","C700/28 HD Poly Brsh","333013"]
["M-SG7VK_PKG_WSKD","01","M-SG7","VK_PKG_WSKD",217,"Skid w/Stretch Wrap","333013"]
["M-SG7VK_PKG_SSKD","01","M-SG7","VK_PKG_SSKD",381,"Stack Skid/Carton","333013"]
["M-SG7VK_PKG_PAD","01","M-SG7","VK_PKG_PAD","N/C","Pad Wrap","333013"]
["M-SG7VK_PARMNL","01","M-SG7","VK_PARMNL",23,"Parts Manual","333013"]
["M-SG7VK_DWNPRS_MEC","01","M-SG7","VK_DWNPRS_MEC","N/C","Mech Down Pressure","333013"]
["M-SG7VK_DWNPRS_AUT","01","M-SG7","VK_DWNPRS_AUT",662,"Auto Down Pressure","333013"]
["M-SG7VK_DSTCTLSYS_PAS","01","M-SG7","VK_DSTCTLSYS_PAS","N/C","Passive Dust Control","333013"]
["M-SG7VK_MCHCOM","01","M-SG7","VK_MCHCOM",1367,"IRIS Telemetry","333013"]
["M-SG7VK_BASE_SG7-BTY-610","01","M-SG7","VK_BASE_SG7-BTY-610",14242,"SG7-B-610","333013"]
["M-SG7VK_BTYWTRSYS","01","M-SG7","VK_BTYWTRSYS",853,"Battery Watering Sys","333013"]
["M-SG7VK_PRGBRK","01","M-SG7","VK_PRGBRK",86,"Parking Brake","333013"]
["M-SG7VK_SRVMNL","01","M-SG7","VK_SRVMNL",225,"Service Manual","333013"]
["M-B10VK_PKG_SCNS_NC","01","M-B10","VK_PKG_SCNS_NC","N/C","NonStack Skid/Carton","334002"]
["M-B10VK_PARMNL","01","M-B10","VK_PARMNL",23,"Parts Manual","334002"]
["M-B10VK_BASE_B10-690","01","M-B10","VK_BASE_B10-690",32861,"B10-690","334002"]
["M-B10VK_BASE_B10-610","01","M-B10","VK_BASE_B10-610",31966,"B10-610","334002"]
["M-B10VK_ADLOPRMNL","01","M-B10","VK_ADLOPRMNL",174,"Add Operator Manual","334002"]
["M-B10VK_BTYWTRSYS","01","M-B10","VK_BTYWTRSYS",853,"Battery Watering Sys","334002"]
["M-B10VK_BTY_A390C20","01","M-B10","VK_BTY_A390C20",1291,"Bty AGM 390AH C20","334002"]
["M-B10VK_BTY_W435C20","01","M-B10","VK_BTY_W435C20","N/C","Bty Wet 435AH C20","334002"]
["M-B10VK_BTY_WO","01","M-B10","VK_BTY_WO",-759,"Without Battery","334002"]
["M-B10VK_CHG_25A120A5060H1_OFF","01","M-B10","VK_CHG_25A120A5060H1_OFF",647,"Ch25A 120V 5060H Off","334002"]
["M-B10VK_CHG_25A120A5060H1_ON","01","M-B10","VK_CHG_25A120A5060H1_ON","N/C","Ch25A 120V 5060Hz On","334002"]
["M-B10VK_CHG_WO","01","M-B10","VK_CHG_WO",-230,"Without Charger","334002"]
["M-B10VK_PKG_SCNS","01","M-B10","VK_PKG_SCNS",538,"NonStack Skid/Carton","334002"]
["M-B10VK_PKG_WSKD","01","M-B10","VK_PKG_WSKD","N/C","Skid w/Stretch Wrap","334002"]
["M-B10VK_SRVMNL","01","M-B10","VK_SRVMNL",225,"Service Manual","334002"]
["M-B10VK_WLLPROROL","01","M-B10","VK_WLLPROROL",303,"Wall Protect Rollers","334002"]
["M-B10VK_WRNLGTANDALM_ST","01","M-B10","VK_WRNLGTANDALM_ST",797,"Strobe Light Tank","334002"]
[{"$f":"C2632&D2632","v":"M-SGRVK_BASE_SGR-610"},"01","M-SGR","VK_BASE_SGR-610",31026,"SGR 610/24","334003"]
["M-SGRVK_PARMNL","01","M-SGR","VK_PARMNL",23,"Parts Manual","334003"]
["M-SGRVK_BASE_SGR-690","01","M-SGR","VK_BASE_SGR-690",31920,"SGR 690/27","334003"]
["M-SGRVK_SGR-690","01","M-SGR","VK_SGR-690",30402,"SGR 690/27","334003"]
["M-SGRVK_SGR-610","01","M-SGR","VK_SGR-610",29549,"SGR 610/24","334003"]
["M-SGRVK_WRNLGTALM_ST","01","M-SGR","VK_WRNLGTALM_ST",797,"Strobe Light Tank","334003"]
["M-SGRVK_WRNLGTANDALM_ST","01","M-SGR","VK_WRNLGTANDALM_ST",797,"Strobe Light Tank","334003"]
["M-SGRVK_ADLOPRMNL","01","M-SGR","VK_ADLOPRMNL",174,"Add Operator Manual","334003"]
["M-SGRVK_BTYWTRSYS","01","M-SGR","VK_BTYWTRSYS",853,"Battery Watering Sys","334003"]
["M-SGRVK_BTY_A390C20","01","M-SGR","VK_BTY_A390C20",1291,"Bty AGM 390AH C20","334003"]
["M-SGRVK_BTY_W435C20","01","M-SGR","VK_BTY_W435C20","N/C","Bty Wet 435AH C20","334003"]
["M-SGRVK_BTY_WO","01","M-SGR","VK_BTY_WO",-759,"Without Battery","334003"]
["M-SGRVK_CHG_25A120A5060H1_OFF","01","M-SGR","VK_CHG_25A120A5060H1_OFF",647,"Ch25A 120V 5060H Off","334003"]
["M-SGRVK_CHG_25A120A5060H1_ON","01","M-SGR","VK_CHG_25A120A5060H1_ON","N/C","Ch25A 120V 5060Hz On","334003"]
["M-SGRVK_CHG_WO","01","M-SGR","VK_CHG_WO",-230,"Without Charger","334003"]
["M-SGRVK_DSTCTLSYS_ACT","01","M-SGR","VK_DSTCTLSYS_ACT",942,"Active Dust Control","334003"]
["M-SGRVK_DSTCTLSYS_PAS","01","M-SGR","VK_DSTCTLSYS_PAS","N/C","Passive Dust Control","334003"]
["M-SGRVK_OPRMNL","01","M-SGR","VK_OPRMNL","N/C","Oper Manual","334003"]
["M-SGRVK_PKG_SCNS","01","M-SGR","VK_PKG_SCNS",538,"NonStack Skid/Carton","334003"]
["M-SGRVK_PKG_WSKD","01","M-SGR","VK_PKG_WSKD","N/C","Skid w/Stretch Wrap","334003"]
["M-SGRVK_SRVMNL","01","M-SGR","VK_SRVMNL",225,"Service Manual","334003"]
["M-SGRVK_WLLPROROL","01","M-SGR","VK_WLLPROROL",303,"Wall Protect Rollers","334003"]

{"sheet":"MPF SAP Download PreConfigured","index":11,"n_rows":473,"n_cols":5,"rows_kept":473,"cut":false,"hidden":true,"merged":[]}
["Master Price File (MPF) - PreConfigured Machines"]
[]
["Download Date:",null,"2025-04-11"]
["Price Adj Effective Date:",null,"2025-05-19"]
["Table name =",null,"MPF_Table_PreConfigured (Columns C, D & E)"]
[]
["Product Hierarchy","Description","Material","Material Description","2022 List"]
["301001","iMOP XL",9022386,"SCRUBBER, [I-MOP XL+TEAL W/EXTRA BATT]",8206]
["301001","iMOP XL",1264254,"SCRUBBER, [I-MOP XL+TEAL W/BATT & CHRGR]",6861]
["301002","iMOP XXL",1264255,"SCRUBBER, [I-MOP XXL+TEAL W/BATT&CHRGR]",9209]
["301002","iMOP XXL",9022387,"SCRUBBER, [I-MOP XXL+TEAL W/EXTRA BATT]",10923]
["301003","CS5",1251580,"SCRUBBER [CS5 BATTERY  NAM]",2907]
["301004135","CS16","LPTB03328","SCRUBBER [CS16 BATTERY  NA]",4681]
["301004136","CS16 Lithium Ion","LPTB03794","SCRUBBER [CS16 LITHIUM ONB, NA]",4674]
["301006","iMOP Lite",1263271,"SCRUBBER, [I-MOP LITE W/BATT & CHRGR]",5099]
["301006","iMOP Lite",9022310,"I-MOP LITE W/EXTRA BATTERY",6176]
["302506","S9 (Battery Sweeper)",1069648,"SWEEPER, 90CM, 12V [S9 NA, W/O B,W/ C]",5296]
["302508","S6",1251268,"SWEEPER [S6 NA EX W/ BATT, CORD]",3628]
["302509","Scout 6",1251271,"SWEEPER [SCOUT 6  W /IRIS]",3628]
["302509","Scout 6",1251270,"SWEEPER [SCOUT 6  W/ BATT, CORD]",3628]
["302510","S7",1251272,"SWEEPER [S7 NA W/ BATT, CORD]",7251]
["302511","Scout 7",1251274,"SWEEPER [SCOUT 7  W BATT, CORD]",7251]
["302601","SS10","9003573-G","SWEEPER, NA [S10]",17560]
["303050","6100","9006755-G","MODEL 6100 RIDER SWEEPER [FINAL ASSY]",18946]
["306200","T1","9004191-H","SCRUBBER, 38CM, 11L, 120VAC [T1]",5236]
["306200","T1",9004191,"SCRUBBER, 38CM, 11L, 120VAC [T1]",5236]
["306200","T1",9008225,"SCRUBBER, 38CM, 11L, 120VAC [T1STLYSTMR]",4958]
["306200","T1",9004195,"SCRUBBER, 38CM, 11L, 230VAC [T1]",5064]
["306201","Speed Scrub 15\" (3gal, Cord Elec Cyli","9004200-H","SCRUBBER, 38CM, 11L, 120VAC [SS-15\"]",5236]
["306201","Speed Scrub 15\" (3gal, Cord Elec Cyli",9004200,"SCRUBBER, 38CM, 11L, 120VAC [SS-15]",5236]
["306202","T1B",9008636,"SCRUBBER, 38CM, 11L, 12VDC [T1B EX, AGM]",6581]
["306202","T1B",9008638,"SCRUBBER, 38CM, 11L, 12VDC [T1B NA, Li]",8492]
["306202","T1B",9016849,"SCRUBBER, 38CM, 11L, 12VDC [T1B AGMCASEY",6728]
["306202","T1B",9016537,"SCRUBBER, 38CM, 11L, 12VDC [T1B AGM IRIS",7778]
["306202","T1B",9008635,"SCRUBBER, 38CM, 11L, 12VDC [T1B NA, AGM]",6581]
["306202","T1B",9015201,"SCRUBBER, 38CM, 11L, 12VDC[T1B COST Li]",8449]
["306203","SPEEDSCRUB BATT 15\"",9008640,"SCRUBBER, 2 GAL, Li BATT [NOB SS15]",8492]
["306203","SPEEDSCRUB BATT 15\"",9008637,"SCRUBBER, 38CM, 11L, 12VDC [SS-15\", AGM]",6581]
["306300","T2",9008727,"SCRUBBER, 43CM, PUSH [T2, NA W/O CHRGR]",412]
["306304","WB-20  20\" Autoscrub",9002791,"SCRUBBER, 20INCH, 24VDC[WB-20B CTX CMPT]",7425]
["306307","T300","MV-T300-0080","SCRUBBER, 500D, DR, MP, ECNC [US]",13870]
["306307","T300","MV-T300-0112","SCRUBBER,600D,DR,CNV,140AH,PW [T300 ABM]",14160]
["306307","T300","MV-T300-0117","SCRUBBER,500O,DR,ECNC,150AH,PW[T300 ABM]",15018]
["306307","T300","MV-T300-0073","SCRUBBER, 600D, DR, PRO,ECNC,150AH[USPW]",16779]
["306307","T300","MV-T300-0135","SCRUBBER, 500D, DR, ECNC[T300D, ARMKCB]Y",16735]
["306307","T300","MV-T300-0078","SCRUBBER, 500D, DR, MP,ECNC,150A[US PW]",13550]
["306307","T300","MV-T300-0079","SCRUBBER, 500D, P, MP, CNV, 130AH [US]",9891]
["306307","T300","MV-T300-0009","SCRUBBER, 600D, DR, PRO, ECNC [T300 NA]",16475]
["306307","T300","MV-T300-0113","SCRUBBER,500D,DR,ECNC,150AH,PW[T300 ABM]",14307]
["306307","T300","MV-T300-0066","SCRUBBER, 430D, P, MEM, CNV,130AH[US PW]",8760]
["306307","T300","MV-T300-0116","SCRUBBER,500D,DR,CNV,140AH,PW [T300 ABM]",12724]
["306307","T300","MV-T300-0072","SCRUBBER, 600D, DR, MEM,CNV,150AH[US PW]",13254]
["306307","T300","MV-T300-0067","SCRUBBER, 500D, P, MEM, CNV,130AH[US PW]",9884]
["306307","T300","MV-T300-0111","SCRUBBER,600D,DR,CNV,150AH,PW [T300 ABM]",13558]
["306307","T300","MV-T300-0070","SCRUBBER, 500D, DR, PRO,CNV,150AH(US PW)",12297]
["306307","T300","MV-T300-0048","SCRUBBER, 500D, DR, ECNC[T300D, ARMKCB]",15608]
["306307","T300","MV-T300-0115","SCRUBBER,500D,DR,CNV,150AH,PW [T300 ABM]",12001]
["306307","T300","MV-T300-0114","SCRUBBER,500D,DR,ECNC,140AH,PW[T300 ABM]",14908]
["306307","T300","MV-T300-0091","SCRUBBER, 500D,DR, MEM, ECNC[T300D]US PW",14930]
["306307","T300","MV-T300-0068","SCRUBBER, 500D, DR, MEM,CNV,150AH[US PW]",11623]
["306307","T300","MV-T300-0011","SCRUBBER, 500O, DR, MEM, ECNC[T300 O NA]",14962]
["306307","T300","MV-T300-0134","SCRUBBER,500D, DR, ECNC [T300D,ARMK]PW Y",16420]
["306307","T300","MV-T300-0120","SCRUBBER,500O,DR,CNV,140AH,PW [T300 ABM]",13311]
["306307","T300","MV-T300-0077","SCRUBBER, 500D, P, MP, CNV,130AH[US PW]",9571]
["306307","T300","MV-T300-0010","SCRUBBER, 500O, DR, MEM [T300 O NA]",12741]
["306307","T300","MV-T300-0157","SCRUBBER, 430D, MEM, 130AH, OBC [US]",11062]
["306307","T300","MV-T300-0110","SCRUBBER,600D,DR,ECNC,140AH,PW[T300 ABM]",16467]
["306307","T300","MV-T300-0109","SCRUBBER,600D,DR,ECNC,150AH,PW[T300 ABM]",15952]
["306307","T300","MV-T300-0069","SCRUBBER, 500D, DR, MEM,ECNC,150A[US PW]",14468]
["306307","T300","MV-T300-0046","SCRUBBER, 500D, DR, MEM, ECNC,AGM[T300D]",15319]
["306307","T300","MV-T300-0118","SCRUBBER,500O,DR,ECNC,140AH,PW[T300 ABM]",15618]
["306307","T300","MV-T300-0074","SCRUBBER, 500O, DR, MEM,CNV,150AH[US PW]",12421]
["306307","T300","MV-T300-0119","SCRUBBER,500O,DR,CNV,150AH,PW [T300 ABM]",12712]
["306307","T300","MV-T300-0075","SCRUBBER, 500O, DR, MEM,ECNC,150A[US PW]",15298]
["306307","T300","MV-T300-0123","SCRUBBER, 500D, DR, ECNC [T300D,ARMK] PW",16646]
["306307","T300","MV-T300-0007","SCRUBBER, 500D, DR, PRO, ECNC [T300D NA]",14838]
["306307","T300","MV-T300-0008","SCRUBBER, 600D, DR, MEM [T300D NA]",13572]
["306307","T300","MV-T300-0006","SCRUBBER, 500D, DR, PRO [T300D NA]",12617]
["306307","T300","MV-T300-0001","SCRUBBER, 430D, PUSH, MEM [T300D NA]",9079]
["306307","T300","MV-T300-0005","SCRUBBER, 500D, DR, MEM, ECNC [T300D NA]",14164]
["306307","T300","MV-T300-0003","SCRUBBER, 500D, PUSH, MEM [T300D NA]",10204]
["306307","T300","MV-T300-0004","SCRUBBER, 500D, DR, MEM [T300D NA]",11943]
["306308","T300e","MV-T300E-0047","SCRUBBER, 600D, DR, CNV, 150AH [US PW]",10382]
["306308","T300e","MV-T300E-0044","SCRUBBER, 500D, PUSH, CNV, 130AH [US PW]",7923]
["306308","T300e","MV-T300E-0083","SCRUBBER 500D, DR, 150AH, CNV, IRIS, SB",11976]
["306308","T300e","MV-T300E-0048","SCRUBBER, 500O, DR, ECNC, 150AH [US PW]",12869]
["306308","T300e","MV-T300E-0045","SCRUBBER, 500D, DR, IC, CNV,130AH[US PW]",10401]
["306308","T300e","MV-T300E-0070","SCRUBBER 500O, DR,150AH,CNV,SUNBELT",11166]
["306308","T300e","MV-T300E-0066","SCRUBBER,500D,PUSH,IC,150AH, ECNC, [PW]",10929]
["306308","T300e","MV-T300E-0043","SCRUBBER, 430D, PUSH, CNV, 130AH [US PW]",7040]
["306308","T300e","MV-T300E-0046","SCRUBBER, 500D, DR, IC,ECNC,130AH[US PW]",12622]
["306308","T300e","MV-T300E-0008","SCRUBBER, 600D, DR, IC, ECNC[T300e D NA]",13721]
["306308","T300e","MV-T300E-0005","SCRUBBER, 500D,DR,IC,130AH [T300e D NA]",10721]
["306308","T300e","MV-T300E-0003","SCRUBBER, 500D, PUSH [T300e D NA]",8243]
["306308","T300e","MV-T300E-0004","SCRUBBER, 500D, PUSH, IC,ECN[T300e D NA]",10974]
["306308","T300e","MV-T300E-0007","SCRUBBER, 600D, DR [T300e D NA]",10702]
["306308","T300e","MV-T300E-0002","SCRUBBER, 430D, PUSH [T300e D ECNC NA]",9581]
["306308","T300e","MV-T300E-0009","SCRUBBER, 500O, DR [T300e O NA]",10968]
["306308","T300e","MV-T300E-0010","SCRUBBER, 500O, DR, ECNC [T300e O NA]",13189]
["306308","T300e","MV-T300E-0027","SCRUBBER, 500O, DR, ECNC [T300e O WM]",14680]
["306308","T300e","MV-T300E-0006","SCRUBBER, 500D, DR, IC, ECNC[T300e D NA]",12942]
["306309","SS300","MV-SS300-0020","SCRUBBER, 600D, DR, IC,ECNC,150AH[US PW]",13401]
["306309","SS300","MV-SS300-0017","SCRUBBER, 500D, DR, IC, CNV,130AH[US PW]",10392]
["306309","SS300","MV-SS300-0025","SCRUBBER, 500D, DR, IC, 130AH [SS300D]",8661]
["306309","SS300","MV-SS300-0018","SCRUBBER, 500D, DR, IC,ECNC,130AH[US PW]",12614]
["306309","SS300","MV-SS300-0024","SCRUBBER, 500D, PUSH, 130AH [SS300D]",8234]
["306309","SS300","MV-SS300-0016","SCRUBBER, 500D, PUSH, CNV, 130AH [US PW]",7923]
["306309","SS300","MV-SS300-0004","SCRUBBER, 500D, P, IC,ECNC,130AH[SS300D]",10931]
["306309","SS300","MV-SS300-0021","SCRUBBER, 500O, DR, ECNC, 150AH [US PW]",12869]
["306309","SS300","MV-SS300-0015","SCRUBBER, 430D, PUSH, CNV, 130AH [US PW]",7045]
["306309","SS300","MV-SS300-0002","SCRUBBER, 430D, PUSH, ECNC,130AH[SS300D]",9587]
["306309","SS300","MV-SS300-0009","SCRUBBER, 500O, DR, 150AH [SS300 O]",10968]
["306309","SS300","MV-SS300-0001","SCRUBBER, 430D, PUSH, 130AH [SS300D]",7365]
["306309","SS300","MV-SS300-0007","SCRUBBER, 600D, DR, 150AH [SS300D]",10702]
["306309","SS300","MV-SS300-0012","SCRUBBER, 430D, P, IC,ECNC,130AH[SS300D]",9934]
["306309","SS300","MV-SS300-0008","SCRUBBER, 600D, DR, IC,ECNC,150A[SS300D]",13721]
["306309","SS300","MV-SS300-0010","SCRUBBER, 500O, DR, ECNC, 150AH[SS300 O]",13189]
["306309","SS300","MV-SS300-0005","SCRUBBER, 500D, DR, IC, 130AH [SS300D]",10712]
["306309","SS300","MV-SS300-0006","SCRUBBER, 500D, DR, IC,ECN,130AH[SS300D]",12934]
["306309","SS300","MV-SS300-0003","SCRUBBER, 500D, PUSH, 130AH [SS300D]",8243]
["306327","T290","LPTB03553","SCRUBBER [T290 50CM, AGM READY, W/O BAT]",7744]
["306327","T290",9022000,"SCRUBBER [T290 50CM, PA, 130AH WET, NA]",6691]
["306327","T290",9022003,"SCRUBBER [T290 50CM, 130AH WET, NA]",8191]
["306327","T290",9022001,"SCRUBBER [T290 50CM, PA, 150AH WET, NA]",6832]
["306327","T290",1255467,"SCRUBBER [T290 50CM, PA, W/O BATT, NA]",6243]
["306327","T290",9022004,"SCRUBBER [T290 50CM, 150AH WET, NA]",8334]
["306327","T290",9022002,"SCRUBBER [T290 50CM, PA, 140AH AGM, NA]",8022]
["306327","T290",9022005,"SCRUBBER [T290 50CM, 140AH AGM, NA]",9523]
["306327","T290",1255468,"SCRUBBER [T290 50CM, W/O BATT, NA]",7744]
["306328155","T291 - 55cm - Pad Assist",9023481,"SCRUBBER[T681,85CM,PAD DRV,90AH Lithium,",25913]
["306328155","T291 - 55cm - Pad Assist",9023484,"SCRUBBER[T681,85CM,W/BRUSH,180AH Lithium",28113]
["306328155","T291 - 55cm - Pad Assist",9023483,"SCRUBBER[T681,85CM,W/BRUSH,90AH Lithium,",25913]
["306328155","T291 - 55cm - Pad Assist",9023482,"SCRUBBER[T681,85CM,PAD DRV,180AH Lithium",28113]
["306328155","T291 - 55cm - Pad Assist",9300511,"SCRUBBER [T581,50CM,LI-ION,180AH,NA]",17188]
["306328155","T291 - 55cm - Pad Assist",9300510,"SCRUBBER [T581,50CM, LI-ION,90AH,NA]",14988]
["306328155","T291 - 55cm - Pad Assist",9300499,"SCRUBBER [T391,80CM,NANO,SE,LI-ION,NA]",16933]
["306328155","T291 - 55cm - Pad Assist",9300498,"SCRUBBER [T391,80CM,LI-ION,NA]",14092]
["306328155","T291 - 55cm - Pad Assist",9300497,"SCRUBBER [T391,70CM,NANO,SE,LI-ION,NA]",16103]
["306328155","T291 - 55cm - Pad Assist",9300496,"SCRUBBER [T391,70CM,LI-ION,NA]",13262]
["306328155","T291 - 55cm - Pad Assist",9300489,"SCRUBBER [T291,50CM,ECH20,PA,LI-ION,NA]",10868]
["306328155","T291 - 55cm - Pad Assist",9300488,"SCRUBBER [T291,50CM,CONV,PA,LI-ION,NA]",8792]
["306328155","T291 - 55cm - Pad Assist",9300493,"SCRUBBER [T291,50CM,ECH20,PA,NO-BATT,NA]",8473]
["306328155","T291 - 55cm - Pad Assist",9300492,"SCRUBBER [T291,50CM,CONV,PA,NO-BATT,NA]",6251]
["306328155","T291 - 55cm - Pad Assist",9300485,"SCRUBBER [T291,50CM,ECH20,PA,AGM,NA]",10108]
["306328155","T291 - 55cm - Pad Assist",9300484,"SCRUBBER [T291,50CM,CONV,PA,AGM,NA]",7886]
["306328155","T291 - 55cm - Pad Assist",9300481,"SCRUBBER [T291,50CM,ECH20,PA,WET,NA]",8954]
["306328155","T291 - 55cm - Pad Assist",9300480,"SCRUBBER [T291,50CM,CONV,PA,WET,NA]",6733]
["306328185","T291 - 50 cm - Self-Propel",9300491,"SCRUBBER [T291,50CM,ECH20,SP,LI-ION,NA]",12168]
["306328185","T291 - 50 cm - Self-Propel",9300490,"SCRUBBER [T291,50CM,CONV,SP,LI-ION,NA]",10092]
["306328185","T291 - 50 cm - Self-Propel",9300495,"SCRUBBER [T291,50CM,ECH20,SP,NO-BATT,NA]",9864]
["306328185","T291 - 50 cm - Self-Propel",9300494,"SCRUBBER [T291,50CM,CONV,SP,NO-BATT,NA]",7642]
["306328185","T291 - 50 cm - Self-Propel",9300487,"SCRUBBER [T291,50CM,ECH20,SP,AGM,NA]",11499]
["306328185","T291 - 50 cm - Self-Propel",9300486,"SCRUBBER [T291,50CM,CONV,SP,AGM,NA]",9277]
["306328185","T291 - 50 cm - Self-Propel",9300483,"SCRUBBER [T291,50CM,ECH20,SP,WET,NA]",10345]
["306328185","T291 - 50 cm - Self-Propel",9300482,"SCRUBBER [T291,50CM,CONV,SP,WET,NA]",8124]
["306340","T260","TN8001004","SCRUBBER [T260, 50CM, PUSH, GEL BAT, NA]",5405]
["306401","SS5","9002587-G","SCRUBBER, 600MM, DISK, CHRGR [SS]",12156]
["306405","X4 ROVR","MV-X4ROVR-0004","SCRUBBER, X4ROVR, LI-ION, CNV [WALMART]",53165]
["306407","T500","MV-T500-0002","SCRUBBER,T500, 700D, MEM, 225AH, OBC, PW",19197]
["306407","T500","MV-T500-0073","SCRUBBER,T500,800D,PMEM,EC[PBLX],Env Swt",23901]
["306407","T500","MV-T500-0049","SCRUBBER,T500,700O,EC,220AH,OBC,PW [ABM]",24109]
["306407","T500","MV-T500-0004","SCRUBBER,T500, 700O, MEM, 225AH, OBC, PW",19901]
["306407","T500","MV-T500-0074","SCRUBBER,T500,700D,MEM,CNV,220AH,IRIS-SB",20390]
["306407","T500","MV-T500-0013","SCRUBBER,T500, 700O, PPAN, 225AH, OBC,PW",23863]
["306407","T500","MV-T500-0047","SCRUBBER,T500,700D,CNV,220AH,OBC,PW [ABM",20089]
["306407","T500","MV-T500-0007","SCRUBBER,T500,700D,MEM,ECNC,225AH,OBC,PW",22237]
["306407","T500","MV-T500-0012","SCRUBBER,T500, 800D, PPAN, 225AH, OBC,PW",24288]
["306407","T500","MV-T500-0008","SCRUBBER,T500,800D,MEM,ECNC,225AH,OBC,PW",23226]
["306407","T500","MV-T500-0003","SCRUBBER,T500, 800D, MEM, 225AH, OBC, PW",20186]
["306407","T500","MV-T500-0011","SCRUBBER,T500, 700D, PPAN, 225AH, OBC,PW",23301]
["306407","T500","MV-T500-0006","SCRUBBER,T500,650D,MEM,ECNC,225AH,OBC,PW",20762]
["306407","T500","MV-T500-0001","SCRUBBER,T500, 650D, MEM, 225AH, OBC, PW",17722]
["306407","T500","MV-T500-0046","SCRUBBER,T500,700D,CNV,260AH,SF,PW [ABM]",19867]
["306407","T500","MV-T500-0060","SCRUBBER,T500,700D, MEM, CNV,220AH [SBT]",20234]
["306407","T500","MV-T500-0051","SCRUBBER,T500,700O,CNV,220AH,OBC,PW [ABM",20981]
["306407","T500","MV-T500-0010","SCRUBBER,T500,700C,MEM,ECNC,225AH,OBC,PW",23445]
["306407","T500","MV-T500-0005","SCRUBBER,T500, 700C, MEM, 225AH, OBC, PW",20405]
["306407","T500","MV-T500-0044","SCRUBBER,T500, 700D,EC,260AH,SF,PW [ABM]",23026]
["306407","T500","MV-T500-0045","SCRUBBER,T500,700D,EC,220AH,OBC,PW [ABM]",23245]
["306407","T500","MV-T500-0050","SCRUBBER,T500,700O,CNV,260AH,SF,PW [ABM]",20764]
["306407","T500","MV-T500-0009","SCRUBBER,T500,700O,MEM,ECNC,225AH,OBC,PW",22941]
["306407","T500","MV-T500-0048","SCRUBBER,T500,700O,EC,260AH,SF,PW [ABM]",23893]
["306408","T500e","MV-T500E-0012","SCRUBBER,T500E,700D,ECNC,225AH,OBC,SF,PW",20356]
["306408","T500e","MV-T500E-0013","SCRUBBER,T500E,800D,ECNC,225AH,OBC,SF,PW",21244]
["306408","T500e","MV-T500E-0028","SCRUBBER, T500E, 700D,CNV,225AH,OBC,WLMT",17880]
["306408","T500e","MV-T500E-0005","SCRUBBER, T500E, 800D, 225AH, OBC, PW",17224]
["306408","T500e","MV-T500E-0010","SCRUBBER, T500E, 700O, 225AH, OBC, SF,PW",18058]
["306408","T500e","MV-T500E-0003","SCRUBBER, T500E, 650D, 225AH, OBC, PW",15526]
["306408","T500e","MV-T500E-0043","SCRUBBER,T500E,700D,EC,260AH,SF,PW [ABM]",20963]
["306408","T500e","MV-T500E-0006","SCRUBBER, T500E, 700O, 225AH, OBC, PW",17078]
["306408","T500e","MV-T500E-0046","SCRUBBER,T500E, 700D, CNV,220AH,PW [ABM]",18023]
["306408","T500e","MV-T500E-0030","SCRUBBER,T500E,700D,CNV,225AH,OBC,PW,WLM",17553]
["306408","T500e","MV-T500E-0004","SCRUBBER, T500E, 700D, 225AH, OBC, PW",16336]
["306408","T500e","MV-T500E-0029","SCRUBBER,T500E,800D,CNV,225AH,OBC,PW,WLM",18408]
["306408","T500e","MV-T500E-0064","SCRUBBER, T500E, 800D, CNV, TPPL, WM",21788]
["306408","T500e","MV-T500E-0009","SCRUBBER, T500E, 800D, 225AH, OBC, SF,PW",18204]
["306408","T500e","MV-T500E-0045","SCRUBBER,T500E,700D,CNV,260AH,SF,PW [ABM",17802]
["306408","T500e","MV-T500E-0014","SCRUBBER,T500E,700O,ECNC,225AH,OBC,SF,PW",21098]
["306408","T500e","MV-T500E-0007","SCRUBBER, T500E, 650D, 225AH, OBC, SF,PW",16506]
["306408","T500e","MV-T500E-0063","SCRUBBER, T500E, 800D, CNV, TPPL, PW, WM",21322]
["306408","T500e","MV-T500E-0008","SCRUBBER, T500E, 700D, 225AH, OBC, SF,PW",17316]
["306408","T500e","MV-T500E-0044","SCRUBBER,T500E,700D,EC,220AH,OBC,PW [ABM",21181]
["306408","T500e","MV-T500E-0061","SCRUBBER, T500E, 800D, CNV, 225AH,OBC,SC",19422]
["306408","T500e","MV-T500E-0011","SCRUBBER,T500E,650D,ECNC,225AH,OBC,SF,PW",19546]
["306408","T500e","MV-T500E-0050","SCRUBBER, T500E,800D,CNV,225AH,OBC,PW,WM",19812]
["306408","T500e","MV-T500E-0051","SCRUBBER,T500E, 700D,CNV,225AH,OBC,PW,WM",18919]
["306408","T500e","MV-T500E-0049","SCRUBBER, T500E 800D, CNV, 225AH,OBC,WM",20138]
["306409","SS500","MV-SS500-0010","SCRUBBER,SS500,700D,ECNC,225AH,OBC,SF,PW",20356]
["306409","SS500","MV-SS500-0004","SCRUBBER, SS500, 700O, 225AH, OBC, PW",17078]
["306409","SS500","MV-SS500-0009","SCRUBBER,SS500,650D,ECNC,225AH,OBC,SF,PW",19546]
["306409","SS500","MV-SS500-0007","SCRUBBER, SS500, 800D, 225AH, OBC, SF,PW",18204]
["306409","SS500","MV-SS500-0026","SCRUBBER, SS500, 650D, EC, 225AH, OBC",19335]
["306409","SS500","MV-SS500-0027","SCRUBBER, SS500, 700D, CNV, 225AH, OBC",16988]
["306409","SS500","MV-SS500-0035","SCRUBBER, SS500, 700O, EC, 225AH, OBC",21010]
["306409","SS500","MV-SS500-0005","SCRUBBER, SS500, 650D, 225AH, OBC, SF,PW",16506]
["306409","SS500","MV-SS500-0008","SCRUBBER, SS500, 700O, 225AH, OBC, SF,PW",18058]
["306409","SS500","MV-SS500-0033","SCRUBBER, SS500, 700C, EC, 225AH, OBC",21770]
["306409","SS500","MV-SS500-0003","SCRUBBER, SS500, 800D, 225AH, OBC, PW",17224]
["306409","SS500","MV-SS500-0006","SCRUBBER SS500, 700D, 225AH, OBC, SF,PW",17316]
["306409","SS500","MV-SS500-0029","SCRUBBER, SS500, 800D, CNV, 225AH, OBC",18831]
["306409","SS500","MV-SS500-0025","SCRUBBER, SS500, 650D, CNV, 225AH, OBC",16176]
["306409","SS500","MV-SS500-0034","SCRUBBER, SS500, 700O, CNV, 225AH, OBC",17882]
["306409","SS500","MV-SS500-0028","SCRUBBER, SS500, 700D, EC, 225AH, OBC",20145]
["306409","SS500","MV-SS500-0032","SCRUBBER, SS500, 700C, CNV, 225AH, OBC",18612]
["306409","SS500","MV-SS500-0002","SCRUBBER, SS500, 700D, 225AH, OBC, PW",16336]
["306409","SS500","MV-SS500-0031","SCRUBBER, SS500, 800D, EC, 225AH, OBC",21033]
["306409","SS500","MV-SS500-0001","SCRUBBER, SS500, 650D, 225AH, OBC, PW",15526]
["306409","SS500","MV-SS500-0011","SCRUBBER,SS500,800D,ECNC,225AH,OBC,SF,PW",21244]
["306409","SS500","MV-SS500-0012","SCRUBBER,SS500,700O,ECNC,225AH,OBC,SF,PW",21098]
["306413","T390","LPTB03554","SCRUBBER [T390 70CM, AGM READY, W/O BAT]",11109]
["306413","T390",9022006,"SCRUBBER [T390, 70CM, 150AH WET, NA]",11564]
["306413","T390",9022007,"SCRUBBER [T390, 70CM, 140AH AGM, NA]",12775]
["306413","T390",1255469,"SCRUBBER [T390, 70CM, W/O BATT, NA]",11109]
["306414170","T391 - 70cm",9022792,"SCRUBBER[T391,70CM,ECH2O,130AH,FLA,NA]",14556]
["306414170","T391 - 70cm",9022791,"SCRUBBER[T391,70CM,ECH2O,140AH,AGM,NA]",15709]
["306414170","T391 - 70cm","LPTB03541","SCRUBBER [T391, 70CM, ECH2O/CHM DSE, NA]",13596]
["306414170","T391 - 70cm",9022789,"SCRUBBER [T391, 70CM, 140AH, AGM, NA]",12669]
["306414170","T391 - 70cm",9022790,"SCRUBBER [T391, 70CM, 130AH, FLA, NA]",11516]
["306414171","T391 - 70cm - XP","LPTB03543","SCRUBBER [T391, 80CM, ECH2O/CHM DSE, NA]",14625]
["306414171","T391 - 70cm - XP",9022796,"SCRUBBER[T391,80CM,ECH2O,130AH,FLA,NA]",15444]
["306414171","T391 - 70cm - XP","LPTB03542","SCRUBBER [T391, 80CM, NA]",11585]
["306414171","T391 - 70cm - XP",9022795,"SCRUBBER[T391,80CM,ECH2O,140AH,AGM,NA]",16597]
["306414171","T391 - 70cm - XP",9022794,"SCRUBBER [T391, 80CM, 130AH, FLA, NA]",12404]
["306414171","T391 - 70cm - XP",9022793,"SCRUBBER [T391, 80CM, 140AH, AGM, NA]",13557]
["306504","T600","MV-T600-0001","SCRUBBER, T600, 800D, ECNC, 360AH,SF,OBC",29643]
["306504","T600","MV-T600-0002","SCRUBBER, T600, 800D, CNV, 240AH, OBC",24046]
["306505","T600e","MV-T600E-0036","SCRUBBER,T600E, 800D, CNV, 360AH [SC PW]",24288]
["306505","T600e","MV-T600E-0002","SCRUBBER, T600E, 800D, CNV, 240AH [US PW",20717]
["306505","T600e","MV-T600E-0017","SCRUBBER, T600E, 800D, CNV, 240AH, OBC",21170]
["306505","T600e","MV-T600E-0037","SCRUBBER,T600E, 800D, CNV, TPPL [WM PW]",24974]
["306505","T600e","MV-T600E-0016","SCRUBBER, T600E, 700D, CNV, 240AH, OBC",20291]
["306505","T600e","MV-T600E-0038","SCRUBBER,T600E, 800D, CNV, TPPL [WM]",25429]
["306505","T600e","MV-T600E-0005","SCRUBBER,T600E, 800D, CNV, 360AH [WM PW]",24288]
["306505","T600e","MV-T600E-0003","SCRUBBER,T600E,800D, ECNC, 360AH [US PW]",24538]
["307001","T7AMR","MV-T7AMR-0003","SCRUBBER, T7AMR, 650D, CNV [WM]",64538]
["307001","T7AMR","MV-T7AMR-0022","SCRUBBER, T7AMR, 650D, CNV, TWR [SAMS]",77233]
["307001","T7AMR","MV-T7AMR-0021","SCRUBBER, T7AMR, 650D, CNV,TWR,PW [SAMS]",76965]
["307001","T7AMR","MV-T7AMR-0024","SCRUBBER, T7AMR, 650D, CNV, TPPL,PW [WM]",67422]
["307001","T7AMR","MV-T7AMR-0026","SCRUBBER, T7AMR, 650D, CNV, TPPL,CRT[WM]",67459]
["307001","T7AMR","MV-T7AMR-0002","SCRUBBER, T7AMR, 650D, CNV, PW [WM]",64146]
["307001","T7AMR","MV-T7AMR-0015","SCRUBBER, T7AMR, 650D, CNV [SAMS]",64497]
["307001","T7AMR","MV-T7AMR-0014","SCRUBBER, T7AMR, 650D, CNV, PW [SAMS]",64147]
["307001","T7AMR","MV-T7AMR-0005","SCRUBBER, T7AMR, 650D, CNV [KROGER]",64129]
["307003","7100","M7100-10401305","MODEL 7100 RIDER SCRUBBER",13161]
["307003","7100","M7100-10395995","MODEL 7100 RIDER SCRUBBER",14218]
["307003","7100","M7100-10375336","MODEL 7100 RIDER SCRUBBER",13161]
["307012","T380AMR","MV-T380AMR-0014","SCRUBBER, T380AMR, 500D, CNV [WALMART]",68671]
["307200","2180SR",9017766,"SCRUBBER [2180SR 50CM NA AND EXPORT]",10925]
["307201","A670 alfa",9018751,"SCRUBBER [A670 70CM SA W/BATT & CHRGR]",24719]
["307202","T581","LPTB03555","SCRUBBER [T581 50CM, AGM READY, W/O BAT]",12911]
["307202","T581",9022008,"SCRUBBER [T581, 50CM, 150AH WET, NA]",13363]
["307202","T581",9022009,"SCRUBBER [T581, 50CM, 140AH AGM, NA]",14564]
["307202","T581",1255470,"SCRUBBER [T581, 50CM, W/O BATT, NA]",12911]
["307500","T7","MV-T7-0054","SCRUBBER, 800MM, DISK, 360AH[WALMART] PW",28833]
["307500","T7","MV-T7-0102","SCRUBBER, T7,800D,A220AH,IRIS,SCNS[WLMT]",32608]
["307500","T7","MV-T7-0101","SCRUBBER, T7, 800D,A220AH,IRIS,PAD[WLMT]",32108]
["307500","T7","MV-T7-0067","SCRUBBER, T7, 650D,EC,360AH,OBC,PW [ABM]",31806]
["307500","T7","MV-T7-0087","MV T7 SCRUBBER, 800 DISK [SC] PW",30133]
["307500","T7","MV-T7-0052","SCRUBBER, T7, 650D, ECNC, 240AH [US PW]",29560]
["307500","T7","MV-T7-0066","SCRUBBER, T7,800D,CNV,220AH,OBC,PW [ABM]",30625]
["307500","T7","MV-T7-0070","SCRUBBER, T7,650D,CNV,220AH,OBC,PW [ABM]",28681]
["307500","T7","MV-T7-0069","SCRUBBER, T7,650D,CNV,360AH,OBC,PW [ABM]",28227]
["307500","T7","MV-T7-0063","SCRUBBER, T7, 800D,EC,360AH,OBC,PW [ABM]",33750]
["307500","T7","MV-T7-0068","SCRUBBER, T7, 650D,EC,220AH,OBC,PW [ABM]",32259]
["307500","T7","MV-T7-0086","MV T7 SCRUBBER, 800 DISK [SC]",30475]
["307500","T7","MV-T7-0051","SCRUBBER, T7, 650D, CNV, 240AH [US PW]",26207]
["307500","T7","MV-T7-0065","SCRUBBER, T7,800D,CNV,360AH,OBC,PW [ABM]",30171]
["307500","T7","MV-T7-0064","SCRUBBER, T7, 800D,EC,220AH,OBC,PW [ABM]",34204]
["307500","T7","MV-T7-0073","MV T7 SCRUBBER, 800 DISK [WM]",31481]
["307500","T7","MV-T7-0075","SCRUBBER, T7, 800D, CNV, 240AH, OBC[SBT]",31567]
["307500","T7","MV-T7-0074","MV T7 SCRUBBER, 800 DISK [WM] PW",31481]
["307500","T7","MV-T7-0053","SCRUBBER, T7, 800D, ECNC, 240AH [US PW]",31495]
["307500","T7","MV-T7-0078","SCRUBBER, 650MM, DISK, CNV [T7], [MX]",26642]
["307500","T7","MV-T7-0045","SCRUBBER, 800MM, DISK, 360AH[T7 WALMART",29912]
["307500","T7","MT7-10460645","SCRUBBER, 650/800MM, [ T7]",12531]
["307500","T7","MT7-10440013","SCRUBBER, 650/800MM, [ T7]",10614]
["307501","SpeedScrub Rider (Nobles)","MV-SSR-0044","SCRUBBER, SSR, 650D, CNV, 240AH [US PW]",26148]
["307501","SpeedScrub Rider (Nobles)","MV-SSR-0036","SCRUBBER, 800MM, DISK, 235AH [SSR ECNC]",31332]
["307501","SpeedScrub Rider (Nobles)","MV-SSR-0011","SCRUBBER, 650MM, DISK, 235AH SSR",26148]
["307501","SpeedScrub Rider (Nobles)","MV-SSR-0013","SCRUBBER, 800MM, DISK, 235AH [SSR]",28582]
["307501","SpeedScrub Rider (Nobles)","MV-SSR-0035","SCRUBBER, 650MM, DISK, 235AH[SSR ECNC]",30590]
["307501","SpeedScrub Rider (Nobles)","9001975-G","SCRUBBER, 800MM, CYLRCL, 235AH[SSR/FAST]",27625]
["307501","SpeedScrub Rider (Nobles)","9001974-G","SCRUBBER, 800MM, CYLRCL, 235AH [SSR]",25914]
["307501","SpeedScrub Rider (Nobles)","9001973-G","SCRUBBER, 700MM, CYLRCL, 235AH[SSR/FAST]",25953]
["307501","SpeedScrub Rider (Nobles)","9001972-G","SCRUBBER, 700MM, CYLRCL, 235AH [SSR]",24241]
["307502185","T681 - 85cm",9052042,"SCRUBBER[T681,85CM,W/O BATTW/PAD DRV,NA]",22640]
["307502185","T681 - 85cm",9052040,"SCRUBBER[T681,85CM,PAD DRV,240AH WET,NA]",25052]
["307502185","T681 - 85cm",9052045,"SCRUBBER[T681,85CM,W/O BATT,W/BRUSH,NA]",22640]
["307502185","T681 - 85cm",9052043,"SCRUBBER[T681,85CM,240AH WET W/BR. NA]",25052]
["307502185","T681 - 85cm","LPTB03434","SCRUBBER [T681, 85CM, W/O BATT, NA]",22640]
["307502185","T681 - 85cm",9052044,"SCRUBBER[T681,85CM,210AH AGM W/BR. NA]",26621]
["307502185","T681 - 85cm",9052041,"SCRUBBER[T681,85CM,PAD DRV,210AH AGM,NA]",26621]
["307600","T12","MV-T12-0023","SCRUBBER, T12, D, EC, 360AH, OBC,PW[ABM]",37256]
["307600","T12","MV-T12-0027","SCRUBBER, T12XP, D,EC,360AH,OBC,PW [ABM]",40885]
["307600","T12","MV-T12-0028","SCRUBBER, T12XP, D, EC, 312AH, PW [ABM]",43872]
["307600","T12","MV-T12-0012","SCRUBBER MODEL T12, CYL, GRAINGER [US]",31871]
["307600","T12","MV-T12-0041","SCRUBBER, T12XP, D, EC, 360AH, PW [US]",43835]
["307600","T12","MV-T12-0030","SCRUBBER, T12XP, D, CNV, 312AH, PW [ABM]",39675]
["307600","T12","MV-T12-0026","SCRUBBER, T12, D, CNV, 312AH, PW [ABM]",36046]
["307600","T12","MV-T12-0042","SCRUBBER, T12, C, EC, 360AH, PW [US]",44579]
["307600","T12","MV-T12-0024","SCRUBBER, T12, D, EC, 312AH, PW [ABM]",40240]
["307600","T12","MV-T12-0025","SCRUBBER, T12, D, CNV,360AH,OBC,PW [ABM]",33058]
["307600","T12","MV-T12-0029","SCRUBBER, T12XP,D,CNV,360AH,OBC,PW [ABM]",36688]
["307600","T12","MV-T12-0011","SCRUBBER MODEL T12, DISK, GRAINGER [US]",31030]
["309100","T350","MV-T350-0012","SCRUBBER,T350,600D,PPAN,ECNC,240AH[US PW",21950]
["309100","T350","MV-T350-0003","SCRUBBER, T350,500D,PPAN,ECNC,240AH [US]",20736]
["309100","T350","MV-T350-0008","SCRUBBER,T350,500D,MEM,ECNC,240AH[US PW]",19386]
["309100","T350","MV-T350-0011","SCRUBBER,T350,600D,MEM,ECNC,240AH[US PW]",20916]
["309100","T350","MV-T350-0007","SCRUBBER,T350,500D,MEM,CNV,210AH [US PW]",15508]
["309100","T350","MV-T350-0004","SCRUBBER,T350,600D,MEM,CNV,210AH,OBC[US]",17752]
["309100","T350","MV-T350-0002","SCRUBBER,T350,500D,MEM,ECNC,240AH,OBC[US",19900]
["309100","T350","MV-T350-0006","SCRUBBER, T350,600D,PPAN,ECNC,240AH [US]",22465]
["309100","T350","MV-T350-0005","SCRUBBER, T350,600D,MEM,ECNC,240AH [US]",21430]
["309100","T350","MV-T350-0010","SCRUBBER,T350,600D,MEM,CNV,210AH [US PW]",17237]
["309100","T350","MV-T350-0001","SCRUBBER,T350,500D,MEM,CNV,210AH,OBC[US]",16023]
["309100","T350","MV-T350-0009","SCRUBBER,T350,500D,PPAN,ECNC,240AH[US PW",20221]
["309100","T350","MV-T350-0038","SCRUBBER,T350,600D,PPAN,ECNC,240AH SBT",21000]
["309200","SS350","MV-SS350-0001","SCRUBBER,SS350,500D,MEM,CNV,210AH,OBC[US",16022]
["309200","SS350","MV-SS350-0005","SCRUBBER,SS350,500D,MEM,CNV,210AH[US PW]",15507]
["309200","SS350","MV-SS350-0006","SCRUBBER,SS350,500D,MEM,ECNC,240AH[US PW",19186]
["309200","SS350","MV-SS350-0004","SCRUBBER, SS350,600D,MEM,ECNC,240AH [US]",21430]
["309200","SS350","MV-SS350-0007","SCRUBBER,SS350,600D,MEM,CNV,210AH[US PW]",17237]
["309200","SS350","MV-SS350-0002","SCRUBBER, SS350,500D,MEM,ECNC,240AH [US]",19700]
["309200","SS350","MV-SS350-0003","SCRUBBER,SS350,600D,MEM,CNV,210AH,OBC[US",17752]
["309200","SS350","MV-SS350-0008","SCRUBBER,SS350,600D,MEM,ECNC,240AH[US PW",20916]
["311302","M20","MV-M20-0032","M20, LP, MEM, CNV [BRAZIL]",86906]
["311402","M30","MV-M30-0049","SCRUBBER/SWEEPER, M30, C, LP, RH [US]",97029]
["321019","V-BP-10",1215368,"VACUUM, BP, 10QT, 120V [SERVPRO 773]",471]
["321019","V-BP-10",1068051,"VACUUM, BP, 10QT, 120V [SERVPRO 773]",693]
["321020","V-BP-6",1217839,"VACUUM, V-BP-6, 120V [TENNANT MEX]",657]
["321020","V-BP-6",1215364,"VACUUM, BACKPACK, 120V [TENNANT V-BP-6]",613]
["321020","V-BP-6",1060830,"VACUUM, V-BP-6, 120V",726]
["321020","V-BP-6",9013475,"VACUUM, BACKPACK, W/PREM TOOLS [V-BP-6]",956]
["321020","V-BP-6",9013473,"VACUUM, BACKPACK, W/BASE TOOLS [V-BP-6]",809]
["321020","V-BP-6",9013474,"VACUUM, BACKPACK, W/STD TOOLS [V-BP-6]",836]
["321023","Aspen 6",9013476,"VACUUM, BACKPACK, W/BASE TOOLS [ASPEN 6]",809]
["321023","Aspen 6",9013477,"VACUUM, BACKPACK, W/STD TOOLS [ASPEN 6]",836]
["321023","Aspen 6",9013478,"VACUUM, BACKPACK, W/PREM TOOLS [ASPEN 6]",956]
["321023","Aspen 6",1215365,"VACUUM, BACKPACK, 120V [NOBLES ASPEN 6]",636]
["321025","V-BP-6B",9017571,"VACUUM, BACKPACK, W/PREM TOOLS[V-BP-6B]",2295]
["321025","V-BP-6B",9017570,"VACUUM, BACKPACK, W/STD TOOLS [V-BP-6B]",2151]
["321025","V-BP-6B",9017567,"VACUUM, BACKPACK, W/BASIC TOOLS[V-BP-6B]",2081]
["321025","V-BP-6B",1236569,"VACUUM, BATTERY [TENNANT, V-BP-6B]",1186]
["321026","Aspen 6B",9017568,"VACUUM, BACKPACK, W/BASIC TOOLS[ASPEN6B]",2081]
["321026","Aspen 6B",9017569,"VACUUM, BACKPACK, W/STD TOOLS [ASPEN 6B]",2151]
["321026","Aspen 6B",9017572,"VACUUM, BACKPACK, W/PREM TOOLS[ASPEN 6B]",2295]
["322075","V-CAN-10",1244292,"VACUUM, CANISTER, 120V [V-CAN-10, NA]",365]
["322076","V-CAN-12",1252616,"VACUUM, CANISTER, 120V [V-CAN-12,NA,STD]",503]
["322077","V-CAN-16",1252618,"VACUUM, CANISTER, 120V [V-CAN-16,NA,STD]",621]
["322078","Denali-10",1244294,"VACUUM, CANISTER, 120V [DENALI-10, NA]",365]
["322079","Denali-12",1252617,"VACUUM, CANISTER,120V [DENALI-12,NA,STD]",503]
["322080","Denali-16",1252619,"VACUUM, CANISTER,120V [DENALI-16,NA,STD]",621]
["323123","V-SMU-14",1060829,"VACUUM, V-SMU-14, 120V",663]
["323126","V-DMU-14",1068027,"VACUUM, V-DMU-14, 120V",865]
["323129","V-WA-30",1068029,"VACUUM, 120VAC [V-WA-30]",4315]
["323132","V-LWU-13B",1236914,"VACUUM, BATTERY [TENNANT, V-LWU-13B]",1016]
["323133","Independence",1236915,"VACUUM, BATTERY [NOBLES,INDEPENDENCE]",1016]
["324075","V-WD-9",1244345,"VACUUM, WET/DRY, 120V [V-WD-9, NA]",634]
["324076","V-WD-24P",1244346,"VACUUM, WET/DRY, 120V [V-WD-24P, NA]",1983]
["324076","V-WD-24P",9019349,"VACUUM, WET/DRY, 120V [V-WD-24P, W/SQGE]",2465]
["324077","V-WD-24",9019348,"VACUUM, WET/DRY, 120V [V-WD-24, W/SQGE]",1482]
["324077","V-WD-24",1245656,"VACUUM, WET/DRY, 120V [V-WD-24, NA]",1003]
["326025","EX-CAN-10",9007483,"CANISTER, 10GAL [EX-CAN-10]PAC120VCSA-SI",3028]
["326036","EH5",1072858,"EXTRACTOR, 120V, 500PSI, HEAT [EH5]",7893]
["326036","EH5",9011454,"EXTRACTOR, FLOOR TOOL [TCO EH5 PAC]",9435]
["326038","EC2",9012278,"EXTRACTOR, FLOOR TOOL, TI [TCO EC2 PAC]",6116]
["326038","EC2",1072862,"EXTRACTOR, 120V, 200PSI, HEAT [EC2]",4575]
["326038","EC2",9011638,"EXTRACTOR, FLOOR TOOL [TCO EC2 PAC]",5682]
["327002","R3 ReadySpace (15\" Cord Electric)",9004199,"READYSPACE, 5 GAL, 230VAC, TCO [R3]",6445]
["327002","R3 ReadySpace (15\" Cord Electric)","9004192-H","READYSPACE, 5 GAL, 120VAC, TCO [R3]",6428]
["327002","R3 ReadySpace (15\" Cord Electric)",9004192,"READYSPACE, 5 GAL, 120VAC, TCO [R3]",6428]
["327003","1610 w/ ReadySpace (Tennant)","MV-1610-0002","READYSPACE, 21GAL TCO [1610 AGM BAT]",21086]
["327003","1610 w/ ReadySpace (Tennant)","900050-233893","READYSPACE, 21GAL TCO [1610]",6170]
["327003","1610 w/ ReadySpace (Tennant)","900050-242515","READYSPACE, 21GAL TCO [1610]",6170]
["327003","1610 w/ ReadySpace (Tennant)","9000500-247656","READYSPACE, 21GAL TCO [1610]",6300]
["327003","1610 w/ ReadySpace (Tennant)","900050-214820","READYSPACE, 21GAL TCO [1610]",7144]
["327003","1610 w/ ReadySpace (Tennant)","9000500-209891","READYSPACE, 21GAL TCO [1610]",5109]
["327003","1610 w/ ReadySpace (Tennant)","9000500-217561","READYSPACE, 21GAL TCO [1610]",6300]
["327003","1610 w/ ReadySpace (Tennant)","9000500-217559","READYSPACE, 21GAL TCO [1610]",6300]
["327003","1610 w/ ReadySpace (Tennant)","900050-214823","READYSPACE, 21GAL TCO [1610]",7144]
["327003","1610 w/ ReadySpace (Tennant)","MV-1610-0001","READYSPACE, 21GAL TCO [1610]",20516]
["327003","1610 w/ ReadySpace (Tennant)","MV-1610-0008","READYSPACE WB, 240AH [US PW]",20042]
["327003","1610 w/ ReadySpace (Tennant)",9001410,"READYSPACE, 21GAL [ARAMARK 1610]",15574]
["327004","Strive w/ ReadySpace (Nobles)","MV-STRV-0004","STRIVE WB, 240AH [US PW]",20042]
["327004","Strive w/ ReadySpace (Nobles)","MV-STRV-0005","STRIVE READYSPACE, AGM BTY [KOHLS]",21759]
["327004","Strive w/ ReadySpace (Nobles)","MV-STRV-0002","READYSPACE, 21GAL NOB [STRIVE AGM BAT]",21086]
["327004","Strive w/ ReadySpace (Nobles)",9000504,"READYSPACE, 21GAL [STRIVE]  W/O BAT",17725]
["327004","Strive w/ ReadySpace (Nobles)","MV-STRV-0001","READYSPACE, 21GAL NOB [STRIVE]",20516]
["327005","R14 Rider RS & Extractor (Tennant)","MV-R14-0005","READYSPACE, R14, 360AH, PW [ABM]",28871]
["327006","Strive Rider RS (Nobles)","MV-STRVR-0002","READYSPACE, 32GAL, 335AH,NOB[STRIVE RDR]",28664]
["327007","Nobles ReadySpace (15\" Cord Electric)",9016493,"READYSPACE, 5 GAL, NOB[STRVE COMP, IRIS]",7944]
["327007","Nobles ReadySpace (15\" Cord Electric)",9004202,"READYSPACE, 5 GAL, NOB [STRIVE COMPACT]",6428]
["327007","Nobles ReadySpace (15\" Cord Electric)","9004202-H","READYSPACE, 5 GAL, NOB [STRIVE COMPACT]",6428]
["328002","1220",9001938,"EXTRACTOR, 7GAL 16W [ARAMARK 1220]",3858]
["328033","EX-SC-1020",9007486,"EXTRACTOR, 10GAL 20W[120V UL EX-SC-1020]",5089]
["331018","Nobles E5 (5-Gal Cord)","9004201-H","EXTRACTOR, 5GAL, NOB [SPEED EX-15\"]",5095]
["331018","Nobles E5 (5-Gal Cord)",9004201,"EXTRACTOR, 5GAL, NOB [SPEED EX-15]",5095]
["331019","E5 (5-Gal Cord Electric)",9004194,"EXTRACTOR, 5GAL, 120VAC, TCO [E5]",5095]
["331019","E5 (5-Gal Cord Electric)",9004198,"EXTRACTOR, 5GAL, 230VAC, TCO [E5]",4965]
["331019","E5 (5-Gal Cord Electric)","9004194-H","EXTRACTOR, 5GAL, 120VAC, TCO [E5]]",5095]
["331021","Falcon 2800 Plus",608352,"EXTRACTOR, 28GAL [NOB FACN 2800 PLS]120V",14044]
["331021","Falcon 2800 Plus",609260,"EXTRACTOR, 28GAL [NOB 2800 PLS]CSA-SI",0]
["331022","Falcon Ultra B",608350,"EXTRACTOR, 17GAL [NOB FLCN ULTRA]24VDC",13546]
["331022","Falcon Ultra B",608351,"EXTRACTOR, 17GAL [NOB FLCN ULTRA] PAC",15274]
["331023","1510 Battery",614002,"EXTRACTOR, 21GAL 22W, 24V W/ BAT [1510]",17727]
["331024","1530 Cord Electric",614000,"EXTRACTOR, 30GAL 22W, 120V [1530]",13942]
["332106","BR-1600-NDC",9007348,"BURNISHER, 20 [BR-1600-NDC] 230V 1600H",3020]
["332106","BR-1600-NDC",9007347,"BURNISHER, 20\" [BR-1600-NDC] 120V 1600H",3020]
["332107","BR-2000-DC",9007349,"BURNISHER, 20INCH [BR-2000-DC] 120V",3949]
["333010","B5","MV-B5-0014","BURNISHER, ADP, 234AH, OBC, PW [B5 ABM]",17806]
["333010","B5","MV-B5-0013","BURNISHER, ADP, 225AH, OBC, PW [B5 ABM]",15420]
["333010","B5","MV-B5-0011","BURNISHER, 510MM, PUSH, 185AH [US PW]",10801]
["333010","B5","MV-B5-0017","BURNISHER, 510MM, DR, ADC, 225AH [SBT]",12190]
["333010","B5","MV-B5-0010","BURNISHER, 510MM, DR, ADC, 225AH [US PW]",15430]
["333010","B5","MV-B5-0008","Was never released, reuse# for next",12204]
["333011","B7","MV-B7-0015","BURNISHER, 690MM, ADC, 330AH [SBT]",17898]
["333011","B7","MV-B7-0012","BURNISHER, 690,ADP,312AH,OBC [B7 ABM] PW",20627]
["333011","B7","MV-B7-0011","BURNISHER,690, ADP, 360AH,OBC [B7 ABM]PW",18079]
["333011","B7","MV-B7-0010","BURNISHER, 690MM, PROPEL, PDC [WLMRT] PW",20202]
["333011","B7","MV-B7-0009","BURNISHER, 690MM, PDC, 330AH [US PW]",16953]
["333011","B7","MV-B7-0008","BURNISHER, 690MM, ADC, 330AH [US PW]",17898]
["333012","Speed Gleam 5","MV-SG5-0001","BURNISHER, 20\", PROPEL, ADC, OBC [SG5]",15050]
["333012","Speed Gleam 5","MV-SG5-0006","BURNISHER, 510MM, PUSH, OBC [US PW]",11173]
["333012","Speed Gleam 5","MV-SG5-0003","BURNISHER, 20\", PROPEL, PDC, OBC [SG5]",13470]
["333012","Speed Gleam 5","MV-SG5-0002","BURNISHER, 20\", ASSIST, ADC, OBC [SG5]",12049]
["333012","Speed Gleam 5","MSG5-10700984","MODEL SPEED GLEAM 5 BURNISHER",26703]
["333013","Speed Gleam 7","MV-SG7-0005","BURNISHER, 690MM, PROPEL, OBC [US PW]",17336]
["334002","B10","MV-B10-0006","BURNISHER, 69CM, 390AH,OBC,PW [B10 ABM]",34449]
["334002","B10","MV-B10-0005","BURNISHER, 69CM, 435AH,OBC,PW [B10 ABM]",34010]
["334003","SG Rider","MV-SGR-0007","BURNISHER, 61CM, CHRGR, ADC [SG RIDR NA]",30426]
["334003","SG Rider","MV-SGR-0008","BURNISHER, 69CM, CHRGR, ADC [SG RIDR NA]",31279]
["334003","SG Rider","MV-SGR-0006","BURNISHER, 69CM, CHRGR, PDC [SG RIDR NA]",30382]
["336233","FM-17-SS",9009505,"FLOOR MACH, 17\" HD[FM17SS SERVPRO]120/60",1467]
["336235","FM-20-SS",9007336,"FLOOR MACH, 20\" HD [FM-20-SS] 120/60",1826]
["336236","FM-20-DS",9007334,"FLOOR MACH, 20 DS [FM-20-DS] 120/60",2838]
["340013","ST1 Tower (Saleable Kit for T7AMR)",9021810,"PARTS KIT [ST1 T7 AMR]",30167]
["340014","ST1 RS26 (Saleable Kit for RS26)",9021811,"PARTS KIT [ST1 RS26]",30167]
["341051","ActiveIon Ionator - 0.5L","AT20018","IONATOR EXP [US - WARRANTY UNIT]",1]
["341076","ASC-15",9007354,"CANISTER, 15GAL [120V ASC-15]",6929]
["341081","Dryer (Generic)",9014819,"BLOWER, FLOOR, 3-SPEED, 120V",461]
["341081","Dryer (Generic)",9003569,"250 AIR MOVER,DRYER,3-SPEED,230 VOLT, EU",541]
["341083","Flood Pumper Plus (Svcmaster)","609021-207425","WET/DRY, 16GAL FLOOD PUMPER+ S/M",623]
["341141","Q12",1072856,"CLEANER, HARD SURF, 120V, 1200PSI [Q12]",11948]
["341141","Q12",9011458,"CLEANER, FLOOR TOOL [TCO Q12 PAC]",14573]
["341151","I-mop Cabinet",1233400,"CABINET ASSY, STORAGE [IMOP]",1517]
["342001","100-Tb  (12V)","AT20012","100-Tb Solution Transport Cart",1869]
["342002","100-Tm (120V)","AT20013","100-TM-120V SOLUTION TRANSPORT CART",13490]
["342003","100-Tm (230V","AT20014","100-TM-230V SOLUTION TRANSPORT CART",13490]
["342004","200-Tb (12V)","AT20015","200-Tb Solution Transport Cart",21532]
["342005","200-Tm (120V)","AT20016","200-TM-120V SOLUTION TRANSPORT CART",16293]
["342006","200-Tm (230V)","AT20017","200-TM-230V SOLUTION TRANSPORT CART",16293]
["342102","OS3","AT20029","SATELLITE STARTER SYSTEM (MSC ONLY)",1069]
["342102","OS3","AT20038","SATELLITE SINGLE EXTENDER (MSC ONLY)",886]

{"sheet":"Vacuums","index":12,"n_rows":310,"n_cols":17,"rows_kept":310,"cut":false,"hidden":false,"merged":[[66,2,66,3],[59,2,59,3],[73,2,73,3],[121,2,121,3],[122,2,122,4],[123,2,123,4],[83,2,83,3],[100,2,100,3],[101,2,101,3],[90,2,90,3],[98,2,98,3],[0,2,0,3],[1,2,1,3],[2,2,2,3],[3,2,3,3],[27,2,27,3],[190,6,190,7],[124,2,124,4],[125,2,125,3],[107,2,107,3],[109,2,109,3],[110,2,110,3],[112,2,112,4],[113,2,113,4],[114,2,114,4],[115,2,115,4],[116,2,116,3],[185,3,185,6],[188,2,188,3],[188,4,188,5],[188,6,188,7],[161,2,161,3],[154,2,154,3],[36,2,36,3],[38,2,38,3],[191,2,191,3],[202,2,202,3],[202,4,202,5],[202,6,202,7],[190,2,190,3],[190,4,190,5],[159,2,159,3],[152,2,152,3],[103,2,103,4],[104,2,104,4],[105,2,105,4],[106,2,106,4],[138,2,138,3],[140,2,140,3],[118,2,118,3],[119,2,119,3],[131,2,131,3],[133,2,133,3],[192,2,192,3],[193,2,193,3],[189,2,189,3],[145,2,145,3],[147,2,147,3],[281,2,281,5],[280,2,280,5],[216,2,216,3],[203,4,203,5],[203,6,203,7],[194,2,194,3],[211,2,211,3],[211,4,211,5],[211,6,211,7],[212,2,212,3],[212,4,212,5],[212,6,212,7],[204,2,204,3],[205,2,205,3],[206,2,206,3],[207,2,207,3],[203,2,203,3],[238,3,238,4],[238,5,238,6],[239,3,239,4],[239,5,239,6],[240,3,240,4],[240,5,240,6],[241,3,241,4],[234,3,234,4],[219,4,219,5],[219,6,219,7],[220,2,220,3],[236,3,236,4],[236,5,236,6],[242,3,242,4],[242,5,242,6],[237,3,237,4],[237,5,237,6],[219,2,219,3],[220,4,220,5],[220,6,220,7],[221,2,221,3],[229,4,229,8],[222,2,222,3],[223,2,223,3],[224,2,224,3],[231,3,231,6],[284,4,284,7],[288,2,288,5],[297,4,297,5],[29,2,29,3],[43,2,43,3],[45,2,45,3],[49,2,49,3],[52,2,52,3],[273,2,273,5],[274,2,274,5],[275,2,275,5],[276,2,276,5],[278,2,278,5],[269,4,269,6],[279,2,279,5],[282,2,282,5],[251,2,251,7],[270,4,270,7],[241,5,241,6],[213,2,213,3],[214,2,214,3],[215,2,215,3],[272,2,272,5],[233,3,233,4]]}
["Vacuums",null,{"$f":"Start_Here!$C19","v":"Company Name"}]
[{"$f":"SUM(H180)","v":0},null,{"$f":"Start_Here!$C20","v":"Address"}]
[null,null,{"$f":"Start_Here!$C21","v":"City, State Zip"}]
[null,null,{"$f":"Start_Here!$C22","v":"Contact Name"}]
[null,null,{"$f":"Start_Here!$C$41","v":"Rep Name"}]
[null,null,{"$f":"Start_Here!$C$37","v":"Tennant Sales and Service Company"}]
[null,null,{"$f":"Start_Here!$C$38","v":"10400 Clean Street"}]
[null,null,{"$f":"Start_Here!$C$39","v":"Eden Prairie, MN 55344"}]
[null,null,{"$f":"Start_Here!$C$43","v":"800-553-8033"},null,null,"Quote Date :",null,{"$f":"Letter!$A$25","v":"2020-09-22"}]
[]
[null,null,{"$f":"Help!C2","v":"US Date Rev - 5/6/2025"}]
[]
[]
[null,null,"New Machine Warranty"]
[null,null,"12 MONTHS ON PARTS",null,null,"Quote Request Information"]
[null,null,"12 MONTHS - LABOR",null,null,null,null,"Fax (quote only)"]
[null,null,"NO TRAVEL",null,null,null,null,"Mail (quote,lit, specs)"]
[null,null,null,null,null,null,null,"Fax + Mail"]
[]
[null,null,null,null,null,"                Primary Use"]
[null,null,null,null,null,null,null,"Inside"]
[null,null,null,null,null,null,null,"Outside"]
[]
[]
[null,null,"Description",null,"Referencel#","Price Each","Qty","Extended Pr"]
[null,"Upright, Portable, and Canister Vacuums",null,null,null,null,{"$f":"SUM(G28)","v":0}]
[]
[null,null,"V-WA-30   30\" (762mm) Wide Area Vacuum",null,1068029,4315,null,{"$f":"G28*F28","v":0},{"$f":"IFERROR(IFERROR(VLOOKUP(E28,Surcharge!A:B,2,FALSE)*G28, VLOOKUP(E28 & \"\",Surcharge!A:B,2,FALSE)*G28), \"\")","v":""},null,null,null,null,null,null,null,{"$f":"VLOOKUP(E28,'MPF SAP Download PreConfigured'!C:E,3,FALSE)","v":4315}]
[null,null,"Certified CRI Bronze Cleaning Performance.   Comes standard with HEPA filtration, and spare bag and 75 ft. (23m) safety-yellow power cord.  ETL US/C",null,null,null,{"$f":"SUM(G28)","v":0},null,{"$f":"IFERROR(IFERROR(VLOOKUP(E29,Surcharge!A:B,2,FALSE)*G29, VLOOKUP(E29 & \"\",Surcharge!A:B,2,FALSE)*G29), \"\")","v":""}]
[null,null,"Boxed Dimensions: 18\"L x 32.25 \"W x 43.25 \"H (457mm x 819mm x 196mm) *",null,null,null,{"$f":"SUM(G29)","v":0},null,{"$f":"IFERROR(IFERROR(VLOOKUP(E30,Surcharge!A:B,2,FALSE)*G30, VLOOKUP(E30 & \"\",Surcharge!A:B,2,FALSE)*G30), \"\")","v":""}]
[null,null,"Shipping Weight: 100 lbs. (45.36kg)",null,null,null,{"$f":"SUM(G30)","v":0},null,{"$f":"IFERROR(IFERROR(VLOOKUP(E31,Surcharge!A:B,2,FALSE)*G31, VLOOKUP(E31 & \"\",Surcharge!A:B,2,FALSE)*G31), \"\")","v":""}]
[null,null,"Made in the USA with Globally sourced components",null,null,null,{"$f":"SUM(G31)","v":0},null,{"$f":"IFERROR(IFERROR(VLOOKUP(E32,Surcharge!A:B,2,FALSE)*G32, VLOOKUP(E32 & \"\",Surcharge!A:B,2,FALSE)*G32), \"\")","v":""}]
[null,null,null,null,null,null,null,null,{"$f":"IFERROR(IFERROR(VLOOKUP(E33,Surcharge!A:B,2,FALSE)*G33, VLOOKUP(E33 & \"\",Surcharge!A:B,2,FALSE)*G33), \"\")","v":""}]
[null,null,null,null,null,null,null,null,{"$f":"IFERROR(IFERROR(VLOOKUP(E34,Surcharge!A:B,2,FALSE)*G34, VLOOKUP(E34 & \"\",Surcharge!A:B,2,FALSE)*G34), \"\")","v":""}]
[null,null,null,null,null,null,null,null,{"$f":"IFERROR(IFERROR(VLOOKUP(E35,Surcharge!A:B,2,FALSE)*G35, VLOOKUP(E35 & \"\",Surcharge!A:B,2,FALSE)*G35), \"\")","v":""}]
[null,null,"V-LWU-13B Battery Light Weight Upright Commercial Vacuum ",null,1236914,1016,null,{"$f":"G36*F36","v":0},{"$f":"IFERROR(IFERROR(VLOOKUP(E36,Surcharge!A:B,2,FALSE)*G36, VLOOKUP(E36 & \"\",Surcharge!A:B,2,FALSE)*G36), \"\")","v":""},null,null,null,null,null,null,null,{"$f":"VLOOKUP(E36,'MPF SAP Download PreConfigured'!C:E,3,FALSE)","v":1016}]
[null,null,"Certified CRI Bronze Cleaning Performance.   44 VDC / 2.9 Ah lithium ion powered vacuum.  Runtime 50 minutes.  Weighs only 11 lbs (4.99 kg).  Comes standard with HEPA filtration, spare belt and bag.  Comes with battery and charger, UL certified.",null,null,null,{"$f":"SUM(G36)","v":0},null,{"$f":"IFERROR(IFERROR(VLOOKUP(E37,Surcharge!A:B,2,FALSE)*G37, VLOOKUP(E37 & \"\",Surcharge!A:B,2,FALSE)*G37), \"\")","v":""}]
[null,null,null,null,null,null,{"$f":"SUM(G37)","v":0},null,{"$f":"IFERROR(IFERROR(VLOOKUP(E38,Surcharge!A:B,2,FALSE)*G38, VLOOKUP(E38 & \"\",Surcharge!A:B,2,FALSE)*G38), \"\")","v":""}]
[null,null,"Boxed Dimensions: 35\"L x  15\"W x 7 \"H (889mm x 381mm x 178mm) ",null,null,null,0,null,{"$f":"IFERROR(IFERROR(VLOOKUP(E39,Surcharge!A:B,2,FALSE)*G39, VLOOKUP(E39 & \"\",Surcharge!A:B,2,FALSE)*G39), \"\")","v":""}]
[null,null,"Shipping Weight: 17 lbs. (7.7kg)",null,null,null,0,null,{"$f":"IFERROR(IFERROR(VLOOKUP(E40,Surcharge!A:B,2,FALSE)*G40, VLOOKUP(E40 & \"\",Surcharge!A:B,2,FALSE)*G40), \"\")","v":""}]
[null,null,"Made in the USA with Globally sourced components",null,null,null,0,null,{"$f":"IFERROR(IFERROR(VLOOKUP(E41,Surcharge!A:B,2,FALSE)*G41, VLOOKUP(E41 & \"\",Surcharge!A:B,2,FALSE)*G41), \"\")","v":""}]
[null,null,null,null,null,null,null,null,{"$f":"IFERROR(IFERROR(VLOOKUP(E42,Surcharge!A:B,2,FALSE)*G42, VLOOKUP(E42 & \"\",Surcharge!A:B,2,FALSE)*G42), \"\")","v":""}]
[null,null,null,null,null,null,null,null,{"$f":"IFERROR(IFERROR(VLOOKUP(E43,Surcharge!A:B,2,FALSE)*G43, VLOOKUP(E43 & \"\",Surcharge!A:B,2,FALSE)*G43), \"\")","v":""}]
[null,null,"V-SMU-14 - 14\" (356mm) Single Motor Vacuum ",null,1060829,663,null,{"$f":"G44*F44","v":0},{"$f":"IFERROR(IFERROR(VLOOKUP(E44,Surcharge!A:B,2,FALSE)*G44, VLOOKUP(E44 & \"\",Surcharge!A:B,2,FALSE)*G44), \"\")","v":""},null,null,null,null,null,null,null,{"$f":"VLOOKUP(E44,'MPF SAP Download PreConfigured'!C:E,3,FALSE)","v":663}]
[null,null,"Certified CRI Silver Cleaning Performance. 1.5-gallon (5.5-liter) bag capacity.  Comes standard with 3-stage HEPA filtration, easy access crevice tool and dusting brush , 4:1 stretch hose, telescopic aluminum wand, spare belt and bag and 50 ft. (15m) safety-yellow power cord.  ETL US/C",null,null,null,{"$f":"SUM(G44)","v":0},null,{"$f":"IFERROR(IFERROR(VLOOKUP(E45,Surcharge!A:B,2,FALSE)*G45, VLOOKUP(E45 & \"\",Surcharge!A:B,2,FALSE)*G45), \"\")","v":""}]
[null,null,"Boxed Dimensions: 42.75\"L x 17.25\"W x 9.75\"H (1090mm x 440mm x 250mm) *",null,null,null,{"$f":"SUM(G45)","v":0},null,{"$f":"IFERROR(IFERROR(VLOOKUP(E46,Surcharge!A:B,2,FALSE)*G46, VLOOKUP(E46 & \"\",Surcharge!A:B,2,FALSE)*G46), \"\")","v":""}]
[null,null,"Shipping Weight: 21.75 lbs. (9.9 kg)",null,null,null,{"$f":"SUM(G46)","v":0},null,{"$f":"IFERROR(IFERROR(VLOOKUP(E47,Surcharge!A:B,2,FALSE)*G47, VLOOKUP(E47 & \"\",Surcharge!A:B,2,FALSE)*G47), \"\")","v":""}]
[null,null,null,null,null,null,null,null,{"$f":"IFERROR(IFERROR(VLOOKUP(E48,Surcharge!A:B,2,FALSE)*G48, VLOOKUP(E48 & \"\",Surcharge!A:B,2,FALSE)*G48), \"\")","v":""}]
[null,null,null,null,null,null,null,null,{"$f":"IFERROR(IFERROR(VLOOKUP(E49,Surcharge!A:B,2,FALSE)*G49, VLOOKUP(E49 & \"\",Surcharge!A:B,2,FALSE)*G49), \"\")","v":""}]
[null,null,"V-DMU-14 - 14\" (356mm) Dual Motor Vacuum ",null,1068027,865,null,{"$f":"G50*F50","v":0},{"$f":"IFERROR(IFERROR(VLOOKUP(E50,Surcharge!A:B,2,FALSE)*G50, VLOOKUP(E50 & \"\",Surcharge!A:B,2,FALSE)*G50), \"\")","v":""},null,null,null,null,null,null,null,{"$f":"VLOOKUP(E50,'MPF SAP Download PreConfigured'!C:E,3,FALSE)","v":865}]
[null,null,"Certified CRI Silver Cleaning Performance. 1.5-gallon (5.5-liter) bag capacity.  Comes standard with 3-stage HEPA filtration, easy access crevice tool and dusting brush , 4:1 stretch hose, telescopic aluminum wand, spare bag and 50 ft. (15m) safety-yellow power cord.  ETL US/C",null,null,null,{"$f":"SUM(G50)","v":0},null,{"$f":"IFERROR(IFERROR(VLOOKUP(E51,Surcharge!A:B,2,FALSE)*G51, VLOOKUP(E51 & \"\",Surcharge!A:B,2,FALSE)*G51), \"\")","v":""}]
[null,null,null,null,null,null,{"$f":"SUM(G51)","v":0},null,{"$f":"IFERROR(IFERROR(VLOOKUP(E52,Surcharge!A:B,2,FALSE)*G52, VLOOKUP(E52 & \"\",Surcharge!A:B,2,FALSE)*G52), \"\")","v":""}]
[null,null,"Boxed Dimensions: 42.75\"L x 17.25\"W x 9.75\"H (1090mm x 440mm x 250mm) *",null,null,null,{"$f":"SUM(G52)","v":0},null,{"$f":"IFERROR(IFERROR(VLOOKUP(E53,Surcharge!A:B,2,FALSE)*G53, VLOOKUP(E53 & \"\",Surcharge!A:B,2,FALSE)*G53), \"\")","v":""}]
[null,null,"Shipping Weight: 22.75 lbs. (9.9 kg)",null,null,null,{"$f":"SUM(G53)","v":0},null,{"$f":"IFERROR(IFERROR(VLOOKUP(E54,Surcharge!A:B,2,FALSE)*G54, VLOOKUP(E54 & \"\",Surcharge!A:B,2,FALSE)*G54), \"\")","v":""}]
[null,null,null,null,null,null,null,null,{"$f":"IFERROR(IFERROR(VLOOKUP(E55,Surcharge!A:B,2,FALSE)*G55, VLOOKUP(E55 & \"\",Surcharge!A:B,2,FALSE)*G55), \"\")","v":""}]
[]
[null,null,"V-CAN-16 Premium Dry Canister Vacuum Cleaner",null,1252618,621,null,{"$f":"G57*F57","v":0},null,null,null,null,null,null,null,null,{"$f":"VLOOKUP(E57,'MPF SAP Download PreConfigured'!C:E,3,FALSE)","v":621}]
[null,null,"CRI certified Bronze with optional high performance tool. 4.2 gallon (16 liter) capacity with multi-stage filtration including cloth filter, fleece bag and downstream HEPA cartridge.  Comes standard with speed regulator, full bag indicator, chrome telescopic tube, wand with air flow regulator, floor tool, flat lance, round brush and small tool, 6.5 ft (2 m) hose, 40 ft (12m) detachable safety-yellow power cord.  UL / CSA",null,null,null,{"$f":"SUM(G57)","v":0}]
[null,null,null,null,null,null,{"$f":"SUM(G58)","v":0}]
[null,null,"Boxed Dimensions: 16 x 17 x 20 in (400 x 435 x 515 mm)",null,null,null,0]
[null,null,"Shipping Weight: 20 lb / 9 kg ",null,null,null,0]
[]
[]
[null,null,"V-CAN-12 Standard Dry Canister Vacuum Cleaner",null,1252616,503,null,{"$f":"G64*F64","v":0},null,null,null,null,null,null,null,null,{"$f":"VLOOKUP(E64,'MPF SAP Download PreConfigured'!C:E,3,FALSE)","v":503}]
[null,null,"CRI certified Bronze with optional high performance tool. 3.2 gallon (12 liter) capacity with multi-stage filtration including cloth filter, fleece bag and downstream foam filter.  Comes standard with chrome tube, wand with air flow regulator, floor tool, flat lance, round brush and small tool, 6.2 ft (1.9 m) hose, 40 ft (12m) detachable safety-yellow power cord.  UL / CSA",null,null,null,{"$f":"SUM(G64)","v":0}]
[null,null,null,null,null,null,{"$f":"SUM(G65)","v":0}]
[null,null,"Boxed Dimensions: 15.5 x 15.5 x 20 in (395 x 395 x 510 mm)",null,null,null,0]
[null,null,"Shipping Weight: 19.4 lb / 8.8 kg",null,null,null,0]
[]
[]
[null,null,"V-CAN-10 Compact Dry Canister Vacuum Cleaner",null,1244292,365,null,{"$f":"G71*F71","v":0},null,null,null,null,null,null,null,null,{"$f":"VLOOKUP(E71,'MPF SAP Download PreConfigured'!C:E,3,FALSE)","v":365}]
[null,null,"2.6 gallon (10 liter) capacity, comes standard with paper bag, floor tool/crevice tool/dusting brush, 2-piece wand, 5 ft (1.5 m) hose and 26 ft (8 m) yellow power cord.  Intertek ETL (US-Can)",null,null,null,{"$f":"SUM(G71)","v":0}]
[null,null,null,null,null,null,{"$f":"SUM(G72)","v":0}]
[null,null,"Boxed Dimensions: 13.2 x 13 x 13 in (335 x 330 x 330 mm). ",null,null,null,0]
[null,null,"Shipping Weight: 15 lb / 6.7kg ",null,null,null,0]
[]
[null,null,null,null,null,null,null,null,{"$f":"IFERROR(IFERROR(VLOOKUP(E77,Surcharge!A:B,2,FALSE)*G77, VLOOKUP(E77 & \"\",Surcharge!A:B,2,FALSE)*G77), \"\")","v":""}]
[null,null,null,null,null,null,null,null,{"$f":"IFERROR(IFERROR(VLOOKUP(E78,Surcharge!A:B,2,FALSE)*G78, VLOOKUP(E78 & \"\",Surcharge!A:B,2,FALSE)*G78), \"\")","v":""}]
[null,null,"V-BP-6 Backpack Vacuum - Base Kit",null,9013473,809,null,{"$f":"G79*F79","v":0},{"$f":"IFERROR(IFERROR(VLOOKUP(E79,Surcharge!A:B,2,FALSE)*G79, VLOOKUP(E79 & \"\",Surcharge!A:B,2,FALSE)*G79), \"\")","v":""},null,null,null,null,null,null,null,{"$f":"VLOOKUP(E79,'MPF SAP Download PreConfigured'!C:E,3,FALSE)","v":809}]
[null,null,"Ergonomic Commercial Backpack Vacuum - 10 amp vac motor, 6 qt. (5.7 litre) capacity,  comes standard with 4-stage HEPA filtration, Deuter branded hiking harness, 14\" (356 mm) hard floor tool, 14\" (356mm) carpet floor tool, 15-ft (5m) crush proof 4:1 stretch hose and lightweight, two-piece aluminum wand, dust brush, crevice and upholstery tool.  50 ft. (15m) safety-yellow power cord.  UL-CSA. CRI certified Gold with optional Hi-performance tool.",null,null,null,{"$f":"SUM(G79)","v":0},null,{"$f":"IFERROR(IFERROR(VLOOKUP(E80,Surcharge!A:B,2,FALSE)*G80, VLOOKUP(E80 & \"\",Surcharge!A:B,2,FALSE)*G80), \"\")","v":""}]
[null,null,"Vacuum Boxed Dimensions: 26.8\"L x 15.2\"W x 14.2\"H (680mm x 385mm x 360mm)",null,null,null,{"$f":"SUM(G80)","v":0},null,{"$f":"IFERROR(IFERROR(VLOOKUP(E81,Surcharge!A:B,2,FALSE)*G81, VLOOKUP(E81 & \"\",Surcharge!A:B,2,FALSE)*G81), \"\")","v":""}]
[null,null,"Tools Boxed Dimensions:  32\"L x 11\" W x 4.5\"H (813mm x 279mm x 114mm)",null,null,null,0,null,{"$f":"IFERROR(IFERROR(VLOOKUP(E82,Surcharge!A:B,2,FALSE)*G82, VLOOKUP(E82 & \"\",Surcharge!A:B,2,FALSE)*G82), \"\")","v":""}]
[null,null,"Shipping Weight: vacuum 21.2 lbs. (9.6 kg) + tools 3.6 lbs (1.6 kg) = total 24.8 lbs (11.2 kg)",null,null,null,0,null,{"$f":"IFERROR(IFERROR(VLOOKUP(E83,Surcharge!A:B,2,FALSE)*G83, VLOOKUP(E83 & \"\",Surcharge!A:B,2,FALSE)*G83), \"\")","v":""}]
[null,null,"*3 Total boxes will come with the order (in addition to the two above there will be a small accessory box. ",null,null,null,0,null,{"$f":"IFERROR(IFERROR(VLOOKUP(E84,Surcharge!A:B,2,FALSE)*G84, VLOOKUP(E84 & \"\",Surcharge!A:B,2,FALSE)*G84), \"\")","v":""}]
[null,null,null,null,null,null,null,null,{"$f":"IFERROR(IFERROR(VLOOKUP(E85,Surcharge!A:B,2,FALSE)*G85, VLOOKUP(E85 & \"\",Surcharge!A:B,2,FALSE)*G85), \"\")","v":""}]
[null,null,"V-BP-6 Backpack Vacuum - Standard Kit",null,9013474,836,null,{"$f":"G86*F86","v":0},{"$f":"IFERROR(IFERROR(VLOOKUP(E86,Surcharge!A:B,2,FALSE)*G86, VLOOKUP(E86 & \"\",Surcharge!A:B,2,FALSE)*G86), \"\")","v":""},null,null,null,null,null,null,null,{"$f":"VLOOKUP(E86,'MPF SAP Download PreConfigured'!C:E,3,FALSE)","v":836}]
[null,null,"Ergonomic Commercial Backpack Vacuum - 10 amp vac motor, 6 qt. (5.7 litre) capacity,  comes standard with 4-stage HEPA filtration, Deuter branded hiking harness, 14\" (356 mm) hard floor tool, 14\" (356mm) carpet floor tool, 15-ft (5m) crush proof 4:1 stretch hose and robust one-piece chrome telescoping wand, dust brush, crevice and upholstery tool.  50 ft. (15m) safety-yellow power cord.  UL-CSA. CRI certified Gold with optional Hi-performance tool.",null,null,null,{"$f":"SUM(G86)","v":0},null,{"$f":"IFERROR(IFERROR(VLOOKUP(E87,Surcharge!A:B,2,FALSE)*G87, VLOOKUP(E87 & \"\",Surcharge!A:B,2,FALSE)*G87), \"\")","v":""}]
[null,null,"Vacuum Boxed Dimensions: 26.8\"L x 15.2\"W x 14.2\"H (680mm x 385mm x 360mm)",null,null,null,{"$f":"SUM(G87)","v":0},null,{"$f":"IFERROR(IFERROR(VLOOKUP(E88,Surcharge!A:B,2,FALSE)*G88, VLOOKUP(E88 & \"\",Surcharge!A:B,2,FALSE)*G88), \"\")","v":""}]
[null,null,"Tools Boxed Dimensions:  44.5\"L x 7.5\" W x 3.5\"H (1130mm x 191mm x 89mm)",null,null,null,0,null,{"$f":"IFERROR(IFERROR(VLOOKUP(E89,Surcharge!A:B,2,FALSE)*G89, VLOOKUP(E89 & \"\",Surcharge!A:B,2,FALSE)*G89), \"\")","v":""}]
[null,null,"Shipping Weight: vacuum 21.2 lbs. (9.6 kg) + tools 4.8 lbs (2.2 kg) = total 26 lbs (11.8 kg)",null,null,null,0,null,{"$f":"IFERROR(IFERROR(VLOOKUP(E90,Surcharge!A:B,2,FALSE)*G90, VLOOKUP(E90 & \"\",Surcharge!A:B,2,FALSE)*G90), \"\")","v":""}]
[null,null,"*3 Total boxes will come with the order (in addition to the two above there will be a small accessory box. ",null,null,null,0,null,{"$f":"IFERROR(IFERROR(VLOOKUP(E91,Surcharge!A:B,2,FALSE)*G91, VLOOKUP(E91 & \"\",Surcharge!A:B,2,FALSE)*G91), \"\")","v":""}]
[null,null,null,null,null,null,null,null,{"$f":"IFERROR(IFERROR(VLOOKUP(E92,Surcharge!A:B,2,FALSE)*G92, VLOOKUP(E92 & \"\",Surcharge!A:B,2,FALSE)*G92), \"\")","v":""}]
[null,null,"V-BP-6 Backpack Vacuum - Premium Kit (Sidewinder Tools)",null,9013475,956,null,{"$f":"G93*F93","v":0},{"$f":"IFERROR(IFERROR(VLOOKUP(E93,Surcharge!A:B,2,FALSE)*G93, VLOOKUP(E93 & \"\",Surcharge!A:B,2,FALSE)*G93), \"\")","v":""},null,null,null,null,null,null,null,{"$f":"VLOOKUP(E93,'MPF SAP Download PreConfigured'!C:E,3,FALSE)","v":956}]
[null,null,"Ergonomic Commercial Backpack Vacuum - 10 amp vac motor, 6 qt. (5.7 litre) capacity,  comes standard with 4-stage HEPA filtration, Deuter branded hiking harness, 18\" (457 mm) Sidewinder branded hard floor tool, 18\" (457 mm) Sidewinder branded carpet floor tool, 15-ft (5m) crush proof 4:1 stretch hose and two-piece anodized aluminum wand, dust brush, crevice and upholstery tool.  50 ft. (15m) safety-yellow power cord.  UL-CSA. CRI certified Gold with optional Hi-performance tool.",null,null,null,{"$f":"SUM(G93)","v":0},null,{"$f":"IFERROR(IFERROR(VLOOKUP(E94,Surcharge!A:B,2,FALSE)*G94, VLOOKUP(E94 & \"\",Surcharge!A:B,2,FALSE)*G94), \"\")","v":""}]
[null,null,null,null,null,null,{"$f":"SUM(G94)","v":0},null,{"$f":"IFERROR(IFERROR(VLOOKUP(E95,Surcharge!A:B,2,FALSE)*G95, VLOOKUP(E95 & \"\",Surcharge!A:B,2,FALSE)*G95), \"\")","v":""}]
[null,null,"Vacuum Boxed Dimensions: 26.8\"L x 15.2\"W x 14.2\"H (680mm x 385mm x 360mm)",null,null,null,0,null,{"$f":"IFERROR(IFERROR(VLOOKUP(E96,Surcharge!A:B,2,FALSE)*G96, VLOOKUP(E96 & \"\",Surcharge!A:B,2,FALSE)*G96), \"\")","v":""}]
[null,null,"Tools Boxed Dimensions:  32\"L x 11\" W x 4.5\"H (813mm x 279mm x 114mm)",null,null,null,0,null,{"$f":"IFERROR(IFERROR(VLOOKUP(E97,Surcharge!A:B,2,FALSE)*G97, VLOOKUP(E97 & \"\",Surcharge!A:B,2,FALSE)*G97), \"\")","v":""}]
[null,null,"Shipping Weight: vacuum 21.2 lbs. (9.6 kg) + tools 3.4 lbs (1.5 kg) = total 24.6 lbs (11.2 kg)",null,null,null,0,null,{"$f":"IFERROR(IFERROR(VLOOKUP(E98,Surcharge!A:B,2,FALSE)*G98, VLOOKUP(E98 & \"\",Surcharge!A:B,2,FALSE)*G98), \"\")","v":""}]
[null,null,"*3 Total boxes will come with the order (in addition to the two above there will be a small accessory box. ",null,null,null,0,null,{"$f":"IFERROR(IFERROR(VLOOKUP(E99,Surcharge!A:B,2,FALSE)*G99, VLOOKUP(E99 & \"\",Surcharge!A:B,2,FALSE)*G99), \"\")","v":""}]
[null,null,null,null,null,null,null,null,{"$f":"IFERROR(IFERROR(VLOOKUP(E100,Surcharge!A:B,2,FALSE)*G100, VLOOKUP(E100 & \"\",Surcharge!A:B,2,FALSE)*G100), \"\")","v":""}]
[null,null,"V-BP-6B Battery Backpack Vacuum - Base Kit",null,9017567,2081,null,{"$f":"G101*F101","v":0},{"$f":"IFERROR(IFERROR(VLOOKUP(E101,Surcharge!A:B,2,FALSE)*G101, VLOOKUP(E101 & \"\",Surcharge!A:B,2,FALSE)*G101), \"\")","v":""},null,null,null,null,null,null,null,{"$f":"VLOOKUP(E101,'MPF SAP Download PreConfigured'!C:E,3,FALSE)","v":2081}]
[null,null,"Ergonomic Commercial Backpack Vacuum - 36 VDC / 10.4 Ah lithium ion powered battery vacuum.  Runtime 55 minutes. 6 qt. (5.7 liter) capacity,  comes standard with 4-stage HEPA filtration, Deuter branded hiking harness, 14\" (356 mm) hard floor tool, 14\" (356mm) carpet floor tool, 15-ft (5m) crush proof 4:1 stretch hose and lightweight, two-piece aluminum wand, dust brush, crevice and upholstery tool.  ETL certified. CRI certified Silver with optional Hi-performance tool.  Battery and charger included in price, battery ships separately.",null,null,null,{"$f":"SUM(G101)","v":0},null,{"$f":"IFERROR(IFERROR(VLOOKUP(E102,Surcharge!A:B,2,FALSE)*G102, VLOOKUP(E102 & \"\",Surcharge!A:B,2,FALSE)*G102), \"\")","v":""}]
[null,null,null,null,null,null,{"$f":"SUM(G102)","v":0},null,{"$f":"IFERROR(IFERROR(VLOOKUP(E103,Surcharge!A:B,2,FALSE)*G103, VLOOKUP(E103 & \"\",Surcharge!A:B,2,FALSE)*G103), \"\")","v":""}]
[null,null,"Vacuum Boxed Dimensions: 33.25\"L x 16\"W x 15\"H (844.6mm x 406mm x 381mm)",null,null,null,0,null,{"$f":"IFERROR(IFERROR(VLOOKUP(E104,Surcharge!A:B,2,FALSE)*G104, VLOOKUP(E104 & \"\",Surcharge!A:B,2,FALSE)*G104), \"\")","v":""}]
[null,null,"Tools Boxed Dimensions:  32\"L x 11\" W x 4.5\"H (813mm x 279mm x 114mm)",null,null,null,0,null,{"$f":"IFERROR(IFERROR(VLOOKUP(E105,Surcharge!A:B,2,FALSE)*G105, VLOOKUP(E105 & \"\",Surcharge!A:B,2,FALSE)*G105), \"\")","v":""}]
[null,null,"Battery Box Dimensions:  13.5\"L x 4.5\"W x 6.25\"H (343mm x 114mm x 159mm)",null,null,null,0,null,{"$f":"IFERROR(IFERROR(VLOOKUP(E106,Surcharge!A:B,2,FALSE)*G106, VLOOKUP(E106 & \"\",Surcharge!A:B,2,FALSE)*G106), \"\")","v":""}]
[null,null,"Shipping Weight: vacuum 23 lbs. (10.4 kg) + tools 3.6 lbs (1.6 kg) + battery box 6.2 lbs (2.8 kg) = total 32.8 lbs (14.8 kg)",null,null,null,0,null,{"$f":"IFERROR(IFERROR(VLOOKUP(E107,Surcharge!A:B,2,FALSE)*G107, VLOOKUP(E107 & \"\",Surcharge!A:B,2,FALSE)*G107), \"\")","v":""}]
[null,null,"*4 Total boxes will come with the order (in addition to the three above there will be a small accessory box).",null,null,null,0,null,{"$f":"IFERROR(IFERROR(VLOOKUP(E108,Surcharge!A:B,2,FALSE)*G108, VLOOKUP(E108 & \"\",Surcharge!A:B,2,FALSE)*G108), \"\")","v":""}]
[null,null,null,null,null,null,null,null,{"$f":"IFERROR(IFERROR(VLOOKUP(E109,Surcharge!A:B,2,FALSE)*G109, VLOOKUP(E109 & \"\",Surcharge!A:B,2,FALSE)*G109), \"\")","v":""}]
[null,null,"V-BP-6B Battery Backpack Vacuum - Standard Kit",null,9017570,2151,null,{"$f":"G110*F110","v":0},{"$f":"IFERROR(IFERROR(VLOOKUP(E110,Surcharge!A:B,2,FALSE)*G110, VLOOKUP(E110 & \"\",Surcharge!A:B,2,FALSE)*G110), \"\")","v":""},null,null,null,null,null,null,null,{"$f":"VLOOKUP(E110,'MPF SAP Download PreConfigured'!C:E,3,FALSE)","v":2151}]
[null,null,"Ergonomic Commercial Backpack Vacuum - 36 VDC / 10.4 Ah lithium ion battery powered vacuum.  Runtime 55 minutes.  6 qt. (5.7 liter) capacity,  comes standard with 4-stage HEPA filtration, Deuter branded hiking harness, 14\" (356 mm) hard floor tool, 14\" (356mm) carpet floor tool, 15-ft (5m) crush proof 4:1 stretch hose and chrome telescoping wand, dust brush, crevice and upholstery tool.  ETL certified. CRI certified Silver with optional Hi-performance tool.  Battery and charger included in price, battery ships separately.",null,null,null,{"$f":"SUM(G110)","v":0},null,{"$f":"IFERROR(IFERROR(VLOOKUP(E111,Surcharge!A:B,2,FALSE)*G111, VLOOKUP(E111 & \"\",Surcharge!A:B,2,FALSE)*G111), \"\")","v":""}]
[null,null,null,null,null,null,{"$f":"SUM(G111)","v":0},null,{"$f":"IFERROR(IFERROR(VLOOKUP(E112,Surcharge!A:B,2,FALSE)*G112, VLOOKUP(E112 & \"\",Surcharge!A:B,2,FALSE)*G112), \"\")","v":""}]
[null,null,"Vacuum Boxed Dimensions: 33.25\"L x 16\"W x 15\"H (844.6mm x 406mm x 381mm)",null,null,null,0,null,{"$f":"IFERROR(IFERROR(VLOOKUP(E113,Surcharge!A:B,2,FALSE)*G113, VLOOKUP(E113 & \"\",Surcharge!A:B,2,FALSE)*G113), \"\")","v":""}]
[null,null,"Tools Boxed Dimensions:  44.5\"L x 7.5\" W x 3.5\"H (1130mm x 191mm x 89mm)",null,null,null,0,null,{"$f":"IFERROR(IFERROR(VLOOKUP(E114,Surcharge!A:B,2,FALSE)*G114, VLOOKUP(E114 & \"\",Surcharge!A:B,2,FALSE)*G114), \"\")","v":""}]
[null,null,"Battery Box Dimensions:  13.5\"L x 4.5\"W x 6.25\"H (343mm x 114mm x 159mm)",null,null,null,0,null,{"$f":"IFERROR(IFERROR(VLOOKUP(E115,Surcharge!A:B,2,FALSE)*G115, VLOOKUP(E115 & \"\",Surcharge!A:B,2,FALSE)*G115), \"\")","v":""}]
[null,null,"Shipping Weight: vacuum 23 lbs. (10.4 kg) + tools 3.6 lbs (1.6 kg) + battery box 6.2 lbs (2.8 kg) = total 32.8 lbs (14.8 kg)",null,null,null,0,null,{"$f":"IFERROR(IFERROR(VLOOKUP(E116,Surcharge!A:B,2,FALSE)*G116, VLOOKUP(E116 & \"\",Surcharge!A:B,2,FALSE)*G116), \"\")","v":""}]
[null,null,"*4 Total boxes will come with the order (in addition to the three above there will be a small accessory box).",null,null,null,0,null,{"$f":"IFERROR(IFERROR(VLOOKUP(E117,Surcharge!A:B,2,FALSE)*G117, VLOOKUP(E117 & \"\",Surcharge!A:B,2,FALSE)*G117), \"\")","v":""}]
[null,null,null,null,null,null,null,null,{"$f":"IFERROR(IFERROR(VLOOKUP(E118,Surcharge!A:B,2,FALSE)*G118, VLOOKUP(E118 & \"\",Surcharge!A:B,2,FALSE)*G118), \"\")","v":""}]
[null,null,"V-BP-6B Battery Backpack Vacuum - Premium Kit (Sidewinder Tools)",null,9017571,2295,null,{"$f":"G119*F119","v":0},{"$f":"IFERROR(IFERROR(VLOOKUP(E119,Surcharge!A:B,2,FALSE)*G119, VLOOKUP(E119 & \"\",Surcharge!A:B,2,FALSE)*G119), \"\")","v":""},null,null,null,null,null,null,null,{"$f":"VLOOKUP(E119,'MPF SAP Download PreConfigured'!C:E,3,FALSE)","v":2295}]
[null,null,"Ergonomic Commercial Backpack Vacuum - 36 VDC / 10.4 Ah lithium ion powered vacuum. Runtime 55 minutes.  6 qt. (5.7 litre) capacity,  comes standard with 4-stage HEPA filtration, Deuter branded hiking harness, 18\" (457 mm) Sidewinder branded hard floor tool, 18\" (457 mm) Sidewinder branded carpet floor tool, 15-ft (5m) crush proof 4:1 stretch hose and two-piece anodized aluminum wand, dust brush, crevice and upholstery tool.  ETL certified. CRI certified Silver with optional Hi-performance tool.  Battery and charger included in price, battery ships separately.",null,null,null,{"$f":"SUM(G119)","v":0},null,{"$f":"IFERROR(IFERROR(VLOOKUP(E120,Surcharge!A:B,2,FALSE)*G120, VLOOKUP(E120 & \"\",Surcharge!A:B,2,FALSE)*G120), \"\")","v":""}]
[null,null,null,null,null,null,{"$f":"SUM(G120)","v":0},null,{"$f":"IFERROR(IFERROR(VLOOKUP(E121,Surcharge!A:B,2,FALSE)*G121, VLOOKUP(E121 & \"\",Surcharge!A:B,2,FALSE)*G121), \"\")","v":""}]
[null,null,"Vacuum Boxed Dimensions: 33.25\"L x 16\"W x 15\"H (844.6mm x 406mm x 381mm)",null,null,null,0,null,{"$f":"IFERROR(IFERROR(VLOOKUP(E122,Surcharge!A:B,2,FALSE)*G122, VLOOKUP(E122 & \"\",Surcharge!A:B,2,FALSE)*G122), \"\")","v":""}]
[null,null,"Tools Boxed Dimensions:  32\"L x 11\" W x 4.5\"H (813mm x 279mm x 114mm)",null,null,null,0,null,{"$f":"IFERROR(IFERROR(VLOOKUP(E123,Surcharge!A:B,2,FALSE)*G123, VLOOKUP(E123 & \"\",Surcharge!A:B,2,FALSE)*G123), \"\")","v":""}]
[null,null,"Battery Box Dimensions:  13.5\"L x 4.5\"W x 6.25\"H (343mm x 114mm x 159mm)",null,null,null,0,null,{"$f":"IFERROR(IFERROR(VLOOKUP(E124,Surcharge!A:B,2,FALSE)*G124, VLOOKUP(E124 & \"\",Surcharge!A:B,2,FALSE)*G124), \"\")","v":""}]
[null,null,"Shipping Weight: vacuum 23 lbs. (10.4 kg) + tools 3.4 lbs (1.5 kg) + battery box 6.2 lbs (2.8 kg) = total 32.6 lbs (14.7 kg)",null,null,null,0,null,{"$f":"IFERROR(IFERROR(VLOOKUP(E125,Surcharge!A:B,2,FALSE)*G125, VLOOKUP(E125 & \"\",Surcharge!A:B,2,FALSE)*G125), \"\")","v":""}]
[null,null,"*4 Total boxes will come with the order (in addition to the three above there will be a small accessory box).",null,null,null,0,null,{"$f":"IFERROR(IFERROR(VLOOKUP(E126,Surcharge!A:B,2,FALSE)*G126, VLOOKUP(E126 & \"\",Surcharge!A:B,2,FALSE)*G126), \"\")","v":""}]
[null,null,null,null,null,null,null,null,{"$f":"IFERROR(IFERROR(VLOOKUP(E127,Surcharge!A:B,2,FALSE)*G127, VLOOKUP(E127 & \"\",Surcharge!A:B,2,FALSE)*G127), \"\")","v":""}]
[]
["      Wet/Dry Vacuums",null,null,null,null,null,{"$f":"SUM(G131,G138,G145,G152,G159)","v":0},null,{"$f":"IFERROR(IFERROR(VLOOKUP(E129,Surcharge!A:B,2,FALSE)*G129, VLOOKUP(E129 & \"\",Surcharge!A:B,2,FALSE)*G129), \"\")","v":""}]
[null,null,null,null,null,null,null,null,{"$f":"IFERROR(IFERROR(VLOOKUP(E130,Surcharge!A:B,2,FALSE)*G130, VLOOKUP(E130 & \"\",Surcharge!A:B,2,FALSE)*G130), \"\")","v":""}]
[null,null,"V-WD-24P  24-gal. Wet/Dry Vacuum with Pump & Front Mount Squeegee",null,9019349,2465,null,{"$f":"G131*F131","v":0},null,null,null,null,null,null,null,null,{"$f":"VLOOKUP(E131,'MPF SAP Download PreConfigured'!C:E,3,FALSE)","v":2465}]
[null,null,"22.7 gallon gross volume tank capacity/14.5 gallon water volume tank capacity. 100\" (2530 mm) waterlift with powerful submersible pump and front mount squeegee. Includes 16-ft. (5 m) vacuum hose, a 40-ft. (12 m) power cord, 2-pc. Aluminum/plastic wand, wand with air flor regulator and wet floor tool.  \nOptions include: dual filtration system, dust floor tool, flat lance, round brush and adaptor.",null,null,null,{"$f":"SUM(G131)","v":0}]
[null,null,null,null,"Dual Filtration System sold as option",null,{"$f":"SUM(G132)","v":0}]
[null,null,"Boxed dimensions:  24L x 19W x 37H (620mm x 495mm x 950mm)",null,null,null,0]
[null,null,"Shipping Weight: 87 lbs. (39.5 kg) ",null,null,null,0]
[]
[null,null,null,null,null,null,null,null,{"$f":"IFERROR(IFERROR(VLOOKUP(E137,Surcharge!A:B,2,FALSE)*G137, VLOOKUP(E137 & \"\",Surcharge!A:B,2,FALSE)*G137), \"\")","v":""}]
[null,null,"V-WD-24P  24-gal. Wet/Dry Vacuum with Pump ",null,1244346,1983,null,{"$f":"G138*F138","v":0},{"$f":"IFERROR(IFERROR(VLOOKUP(E138,Surcharge!A:B,2,FALSE)*G138, VLOOKUP(E138 & \"\",Surcharge!A:B,2,FALSE)*G138), \"\")","v":""},null,null,null,null,null,null,null,{"$f":"VLOOKUP(E138,'MPF SAP Download PreConfigured'!C:E,3,FALSE)","v":1983}]
[null,null,"22.7 gallon gross volume tank capacity/14.5 gallon water volume tank capacity.\n100\" (2530 mm) waterlift with powerful submersible pump. Includes 16-ft. (5 m) vacuum hose, a 40-ft. (12 m) power cord, 2-pc. Aluminum/plastic wand, wand with air flor regulator and wet floor tool.  \nOptions include: front mount squeegee kit, dual filtration system, dust floor tool, flat lance, round brush and adaptor.",null,"Squeegee sold as option",null,{"$f":"SUM(G138)","v":0},null,{"$f":"IFERROR(IFERROR(VLOOKUP(E139,Surcharge!A:B,2,FALSE)*G139, VLOOKUP(E139 & \"\",Surcharge!A:B,2,FALSE)*G139), \"\")","v":""}]
[null,null,null,null,"Dual Filtration System sold as option",null,{"$f":"SUM(G139)","v":0},null,{"$f":"IFERROR(IFERROR(VLOOKUP(E140,Surcharge!A:B,2,FALSE)*G140, VLOOKUP(E140 & \"\",Surcharge!A:B,2,FALSE)*G140), \"\")","v":""}]
[null,null,"Boxed dimensions:  24L x 19W x 37H (620mm x 495mm x 950mm)",null,null,null,0]
[null,null,"Shipping Weight: 65 lbs. (29.6 kg) ",null,null,null,0]
[]
[null,null,null,null,null,null,null,null,{"$f":"IFERROR(IFERROR(VLOOKUP(E144,Surcharge!A:B,2,FALSE)*G144, VLOOKUP(E144 & \"\",Surcharge!A:B,2,FALSE)*G144), \"\")","v":""}]
[null,null,"V-WD-24  24-gal. Wet/Dry Vacuum with front mount squeegee",null,9019348,1482,null,{"$f":"G145*F145","v":0},null,null,null,null,null,null,null,null,{"$f":"VLOOKUP(E145,'MPF SAP Download PreConfigured'!C:E,3,FALSE)","v":1482}]
[null,null,"24 gallon gross volume tank capacity/15.59 gallon water volume tank capacity. 100\" (2530 mm) waterlift with front mount squeegee. Includes 16-ft. (5 m) vacuum hose, a 40-ft. (12 m) power cord, 2-pc. Aluminum/plastic wand, wand with air flor regulator, cloth filter,  paper bag, dust floor tool, wet floor tool, flat lance, round brush and adaptor.  \nOptions include: carpet brush tool and upstream HEPA filter.",null,null,null,{"$f":"SUM(G145)","v":0}]
[null,null,"   ",null,null,null,{"$f":"SUM(G146)","v":0}]
[null,null,"Boxed dimensions:  24L x 19W x 37H (620mm x 495mm x 950mm)",null,null,null,0]
[null,null,"Shipping Weight: 79 lbs. (35.8 kg)",null,null,null,0]
[]
[]
[null,null,"V-WD-24  24-gal. Wet/Dry Vacuum",null,1245656,1003,null,{"$f":"G152*F152","v":0},{"$f":"IFERROR(IFERROR(VLOOKUP(E152,Surcharge!A:B,2,FALSE)*G152, VLOOKUP(E152 & \"\",Surcharge!A:B,2,FALSE)*G152), \"\")","v":""},null,null,null,null,null,null,null,{"$f":"VLOOKUP(E152,'MPF SAP Download PreConfigured'!C:E,3,FALSE)","v":1003}]
[null,null,"24 gallon gross volume tank capacity/15.59 gallon water volume tank capacity. 100\" (2530 mm) waterlift. Includes 16-ft. (5 m) vacuum hose, a 40-ft. (12 m) power cord, 2-pc. Aluminum/plastic wand, wand with air flor regulator, cloth filter,  paper bag, dust floor tool, wet floor tool, flat lance, round brush and adaptor.  \nOptions include: front mount squeegee kit, carpet brush tool and upstream HEPA filter.",null,"Squeegee sold as option",null,{"$f":"SUM(G152)","v":0},null,{"$f":"IFERROR(IFERROR(VLOOKUP(E153,Surcharge!A:B,2,FALSE)*G153, VLOOKUP(E153 & \"\",Surcharge!A:B,2,FALSE)*G153), \"\")","v":""}]
[null,null,"   ",null,null,null,{"$f":"SUM(G153)","v":0},null,{"$f":"IFERROR(IFERROR(VLOOKUP(E154,Surcharge!A:B,2,FALSE)*G154, VLOOKUP(E154 & \"\",Surcharge!A:B,2,FALSE)*G154), \"\")","v":""}]
[null,null,"Boxed dimensions:  24L x 19W x 37H (620mm x 495mm x 950mm)",null,null,null,{"$f":"SUM(G154)","v":0},null,{"$f":"IFERROR(IFERROR(VLOOKUP(E155,Surcharge!A:B,2,FALSE)*G155, VLOOKUP(E155 & \"\",Surcharge!A:B,2,FALSE)*G155), \"\")","v":""}]
[null,null,"Shipping Weight: 59 lbs. (26.8 kg)",null,null,null,{"$f":"SUM(G155)","v":0},null,{"$f":"IFERROR(IFERROR(VLOOKUP(E156,Surcharge!A:B,2,FALSE)*G156, VLOOKUP(E156 & \"\",Surcharge!A:B,2,FALSE)*G156), \"\")","v":""}]
[]
[]
[null,null,"V-WD-9  9-gal. Wet/Dry Vacuum",null,1244345,634,null,{"$f":"G159*F159","v":0},{"$f":"IFERROR(IFERROR(VLOOKUP(E159,Surcharge!A:B,2,FALSE)*G159, VLOOKUP(E159 & \"\",Surcharge!A:B,2,FALSE)*G159), \"\")","v":""},null,null,null,null,null,null,null,{"$f":"VLOOKUP(E159,'MPF SAP Download PreConfigured'!C:E,3,FALSE)","v":634}]
[null,null,"9 gallon gross volume tank capacity/6.6 gallon water volume tank capacity. 100\" (2530 mm) waterlift.  Includes 8-ft. (2.5 m) vacuum hose, a 28-ft. (8.5 m) power cord, 2-pc. Aluminum/plastic wand, wand with air flor regulator, cloth filter,  paper bag, dust floor tool, wet floor tool, flat lance, round brush and adaptor.  \nOptions include: carpet brush tool and upstream HEPA filter.",null,null,null,{"$f":"SUM(G159)","v":0},null,{"$f":"IFERROR(IFERROR(VLOOKUP(E160,Surcharge!A:B,2,FALSE)*G160, VLOOKUP(E160 & \"\",Surcharge!A:B,2,FALSE)*G160), \"\")","v":""}]
[null,null,null,null,null,null,{"$f":"SUM(G160)","v":0},null,{"$f":"IFERROR(IFERROR(VLOOKUP(E161,Surcharge!A:B,2,FALSE)*G161, VLOOKUP(E161 & \"\",Surcharge!A:B,2,FALSE)*G161), \"\")","v":""}]
[null,null,"Boxed dimensions:  17L x 17W x 32H (420mm x 420mm x 820mm) ",null,null,null,{"$f":"SUM(G161)","v":0},null,{"$f":"IFERROR(IFERROR(VLOOKUP(E162,Surcharge!A:B,2,FALSE)*G162, VLOOKUP(E162 & \"\",Surcharge!A:B,2,FALSE)*G162), \"\")","v":""}]
[null,null,"Shipping Weight:  31 lbs. (13.9 kg)",null,null,null,{"$f":"SUM(G162)","v":0},null,{"$f":"IFERROR(IFERROR(VLOOKUP(E163,Surcharge!A:B,2,FALSE)*G163, VLOOKUP(E163 & \"\",Surcharge!A:B,2,FALSE)*G163), \"\")","v":""}]
[null,null,null,null,null,null,null,null,{"$f":"IFERROR(IFERROR(VLOOKUP(E164,Surcharge!A:B,2,FALSE)*G164, VLOOKUP(E164 & \"\",Surcharge!A:B,2,FALSE)*G164), \"\")","v":""}]
[]
[null,null,null,null,null,null,{"$f":"SUM(#REF!)","v":{"$error":"#REF!"}}]
[]
[null,null,null,null,null,{"$f":"ROUND(SUM(H28:H167), 0)","v":0},{"$f":"SUM(F169)","v":0}]
[null,null,null,null,"Machine Subtotal ",{"$f":"ROUND(SUM(H28:H167), 0)","v":0},{"$f":"G168","v":0}]
[null,"Discounts",null,null,null,null,{"$f":"SUM(G171)","v":0}]
[null,null,null,null,null,null,{"$f":"SUM(G172:G173)","v":0}]
[null,null,null,null,"Discount %",null,{"$f":"IF(F172 <> \"\", 1, 0)","v":0},{"$f":"IF(G172*(F172*0.01)*F168 < 0, G172*(F172*0.01)*F168, -(G172*(F172*0.01)*F168))","v":0}]
[null,null,null,null,"Discount $",null,{"$f":"IF(F173 <> \"\", 1, 0)","v":0},{"$f":"IF(G173*F173 < 0, G173*F173, -(G173*F173))","v":0}]
[null,null,null,null,"Discount Total ",{"$f":"SUM(H172:H173)","v":0},{"$f":"SUM(F174)","v":0}]
[null,null,null,null,null,{"$f":"#REF!","v":{"$error":"#REF!"}},{"$f":"#REF!","v":{"$error":"#REF!"}}]
[null,null,null,null,null,null,{"$f":"G175","v":{"$error":"#REF!"}}]
[null,null,"Prepaid and Add",null,"Freight",null,{"$f":"IF(F177 <> \"\", 1, 0)","v":0},{"$f":"G177*F177","v":0}]
[null,null,"Subject to all applicable taxes",null,"Tax",null,0,{"$f":"G178*F178","v":0}]
[null,null,null,null,null,null,{"$f":"SUM(G180)","v":0}]
[null,null,null,null,"MACHINE TOTAL*",null,{"$f":"SUM(H180)","v":0},{"$f":"SUM(H28:H178)","v":0},null,null,null,null,"This goes to \"My Documents\""]
[null,null,null,null,null,null,null,{"$f":"SUM(H180)","v":0}]
[null,"Financing"]
[]
[null,null,"Is customer interested in financing?","Yes"]
[]
[null,null,"If not, why?"]
[]
[]
[null,null,"First Western Equipment Finance - Leasing Calculation Option:",null,"Option 1",null,"Option 2",null,null,{"$f":"Financing!A38","v":"Rates 2025 - Rev. 5/6/2025"}]
[null,null,null,null,"Monthly Payment","Cost Per Day","Monthly Payment","Cost Per Day",null,{"$f":"Financing!A39","v":"“Blank Payment Amounts Indicate The Financing Option Or Purchase Options Selected Are Not "}]
[null,null,"Purchase Option:",null,"FWEF:  $1 Buyout Lease",null,"FWEF: Municipal Lease",null,null,{"$f":"Financing!A40","v":"Applicable Or The Machine Total Is Below The Minimum Amount For The Selected Vendor”"}]
[null,null,"24 Months",null,0,0,0,0,null,{"$f":"Financing!A41","v":"\"Quoted monthly payments are estimates only and are based on a certain level of credit rating."}]
[null,null,"30 Months",null,0,0,0,0,null,{"$f":"Financing!A42","v":"Actual monthly payments may be higher depending on your credit rating.\""}]
[null,null,"36 Months",null,0,0,0,0,null,{"$f":"Financing!A43","v":"“Financing rates do not include Pre-Paid Service”"}]
[null,null,"48 Months",null,0,0,0,0,null,{"$f":"Financing!A44","v":0}]
[]
[null,null,null,"Benefits of Equipment Financing:"]
[null,null,null,"• Spreads out investment over time.",null,"• Keep current with latest technology."]
[null,null,null,"• Preserve capital.",null,"• Service and parts bundling available."]
[null,null,null,"• Low monthly payment.",null,"• Pay for labor savings as you go."]
[]
[]
[null,null,"Bundled Offerings",null,"Flexclean – Fair Market Value",null,"Flexclean - $1 Buyout"]
[null,null,"FlexClean: ",null,"36 Month Term",null,"36 Month Term",null,null,"No","AB Brushes"]
[null,null,"Hours included per Month:",null,"Gold","Silver","Gold","Silver","Check"]
[null,null,"< 30/mo. (Avg. 1hr./day)",null,null,null,null,null,null,null,{"$f":"FlexCleanCalc!$A21","v":"“FlexClean monthly rates include payment for both machine and service.”"}]
[null,null,"< 60/mo. (Avg. 2hrs./day)"]
[null,null,"< 90/mo. (Avg. 3hrs./day)"]
[null,null,"*This value assumes one service contract regardless of the number of UNITS included in the quote"]
[]
[]
[null,null,"Bundled Offerings",null,"Flexclean – Fair Market Value",null,"Flexclean - $1 Buyout"]
[null,null,"FlexClean 2: ",null,"48 Month Term",null,"48 Month Term"]
[null,null,"Hours included per Month:",null,"Gold","Silver","Gold","Silver"]
[null,null,"< 30/mo. (Avg. 1hr./day)"]
[null,null,"< 60/mo. (Avg. 2hrs./day)"]
[null,null,"< 90/mo. (Avg. 3hrs./day)"]
[null,null,"*This value assumes one service contract regardless of the number of UNITS included in the quote"]
[]
[null,null,"Bundled Offerings",null,"Flexclean – Fair Market Value",null,"Flexclean - $1 Buyout"]
[null,null,"FlexClean 3: ",null,"60 Month Term",null,"60 Month Term"]
[null,null,"Hours included per Month:",null,"Gold","Silver","Gold","Silver"]
[null,null,"< 30/mo. (Avg. 1hr./day)"]
[null,null,"< 60/mo. (Avg. 2hrs./day)"]
[null,null,"< 90/mo. (Avg. 3hrs./day)"]
[null,null,"*This value assumes one service contract regardless of the number of UNITS included in the quote"]
[]
[null,"  TennantTrue",null,0]
[]
[null,null,"Is customer interested in service program?","Yes","*State/County selection required for TennantTrue service options"]
[]
[null,null,"If not, why?"]
[]
[null,null,"Term:",36,null,"AB Brushes","No"]
[null,null,"Monthly machine usage (hrs):","< 30/mo. (Avg. 1hr./day)"]
[]
[null,null,"TennantTrue: ","Gold Contract",null,"Silver Contract"]
[null,null,"Per Visit"]
[null,null,"Monthly"]
[null,null,"Annually"]
[null,null,"Pre-Pay Full Term"]
[null,null,"Hourly Labor Rate"]
[null,null,"Site Visit"]
[]
[null,null,"* Verify customer current pricing prior to quote. "]
[null,null,"**All rates and fees above reflect service for one (1) unit with the exception of Block of Time service."]
[null,null,"*Block of Time is available in 1 Year Term only and is priced as such no matter the term selection on this template."]
[]
[]
[]
[null,null,"Quote Special Instructions:"]
[]
[]
[null,null,{"$f":"Start_Here!E36","v":"Terms and Conditions"}]
[null,null,{"$f":"Start_Here!E37","v":"Ask your local sales rep for estimated lead times. Verify when placing order"}]
[null,null,{"$f":"Start_Here!E38","v":"All orders subject to acceptance by Tennant Sales and Service Company, Minneapolis, Minnesota"}]
[null,null,{"$f":"Start_Here!E39","v":"Prices subject to change without notice."}]
[null,null,{"$f":"Start_Here!E40","v":"Terms:  Net 30 days.  Subject to any applicable taxes."}]
[null,null,{"$f":"Start_Here!E41","v":"Freight: Machines and accessory orders delivered FOB shipping point Frt PPD & Add"}]
[null,null,{"$f":"Start_Here!E42","v":"Parts, supplies, detergents and floor treating material orders delivered FOB "}]
[null,null,{"$f":"Start_Here!E43","v":"shipping point Frt PPD"}]
[null,null,{"$f":"Start_Here!E44","v":"All orders are subject to Tennant’s General Terms and Conditions available at http://www.tennantco.com/terms."}]
[null,null,{"$f":"Start_Here!E45","v":"Printed General Terms and Conditions are also available upon request."}]
[null,null,{"$f":"Start_Here!E46","v":0}]
[]
[null,null,null,null,null,"Quote Date :",null,{"$f":"Letter!$A$25","v":"2020-09-22"}]
[null,"Order Placement Information:  To place your order, fill in PO# and customer signatures,"]
[null,"call or fax to the numbers listed below. Customer Purchase Order is required."]
[null,"If information is missing, orders will be entered and held until all information is received."]
[null,null,"Customer Number",null,"Cust Grp 3"]
[null,null,{"$f":"Start_Here!$C$25","v":0},null,{"$f":"Start_Here!$C$29","v":0}]
[null,null,{"$f":"Start_Here!$B$18","v":"Who Owns the Machine? (Sold-To Info) (Please Verify)"}]
["Company",null,{"$f":"Start_Here!$C$19","v":"Company Name"}]
["Address",null,{"$f":"Start_Here!$C$20","v":"Address"}]
[null,null,{"$f":"Start_Here!$C$21","v":"City, State Zip"}]
["Name",null,{"$f":"Start_Here!$C$22","v":"Contact Name"}]
["Phone",null,{"$f":"Start_Here!$C$23","v":"Contact Phone"}]
[null,null,{"$f":"Start_Here!$B$11","v":"Where is the Machine Being Shipped? (Ship-To Info) (Please Verify)"}]
["Company",null,{"$f":"Start_Here!$C$12","v":"Company Name"}]
["Address",null,{"$f":"Start_Here!$C$13","v":"Address"}]
[null,null,{"$f":"Start_Here!$C$14","v":"City, State Zip"}]
["Name",null,{"$f":"Start_Here!$C$15","v":"Contact Name"}]
["Phone",null,{"$f":"Start_Here!$C$16","v":"Contact Phone"}]
[null,null,{"$f":"Start_Here!$B$31","v":"Shipping / Carrier Instructions:"},null,"Order Special Instructions:"]
[null,null,{"$f":"Start_Here!$C$32","v":0}]
[]
[null,null,"Customer Purchase Order No."]
[null,null,"(please attach copy)"]
[]
[]
[null,null,"Tax Exempt",null,"Yes"]
[null,null,null,null,"No"]
[null,null,"If Yes, attach a copy of your exemption certificate."]
[]
[null,null,"Requested Delivery Date"]
[null,null,{"$f":"Start_Here!$C$28","v":0}]
[]
[null,null,{"$f":"Start_Here!$C$26","v":0},null,{"$f":"Start_Here!$C$27","v":0}]
[null,0,"Authorized Buyer (please print)",null,"Phone Number"]
[]
[]
[null,0,"Authorized Buyer Signature"]
[]
[null,null,{"$f":"Start_Here!$C$41","v":"Rep Name"}]
[null,null,"Tennant Representative"]
[]
[]
["Specialized Maintenance Equipment"]
[{"$f":"Start_Here!$C$47","v":0}]
[{"$f":"Start_Here!$C$48","v":"TENNANT · 10400 Clean Street · Eden Prairie, MN 55344 ·"}]

{"sheet":"F_Series_Floor_Machine","index":13,"n_rows":183,"n_cols":17,"rows_kept":183,"cut":false,"hidden":false,"merged":[[170,4,170,5],[146,2,146,5],[147,2,147,5],[148,2,148,5],[149,2,149,5],[151,2,151,5],[152,2,152,5],[153,2,153,5],[154,2,154,5],[155,2,155,5],[34,2,34,3],[35,2,35,3],[36,2,36,3],[157,4,157,7],[161,2,161,5],[63,6,63,7],[86,2,86,3],[87,2,87,3],[88,2,88,3],[107,3,107,4],[92,4,92,5],[92,6,92,7],[93,2,93,3],[95,2,95,3],[143,4,143,7],[145,2,145,5],[142,4,142,6],[124,2,124,7],[102,4,102,8],[0,2,0,3],[1,2,1,3],[2,2,2,3],[3,2,3,3],[27,2,27,3],[28,2,28,3],[29,2,29,3],[66,2,66,3],[67,2,67,3],[64,2,64,3],[65,2,65,3],[30,2,30,3],[33,2,33,3],[58,3,58,6],[62,2,62,3],[61,4,61,5],[61,6,61,7],[63,2,63,3],[63,4,63,5],[93,6,93,7],[92,2,92,3],[104,3,104,6],[106,3,106,4],[61,2,61,3],[84,6,84,7],[85,2,85,3],[85,4,85,5],[85,6,85,7],[96,2,96,3],[97,2,97,3],[75,6,75,7],[76,2,76,3],[93,4,93,5],[76,4,76,5],[76,6,76,7],[75,2,75,3],[75,4,75,5],[84,2,84,3],[84,4,84,5],[94,2,94,3],[78,2,78,3],[79,2,79,3],[80,2,80,3],[89,2,89,3],[77,2,77,3],[114,3,114,4],[114,5,114,6],[115,3,115,4],[115,5,115,6],[109,3,109,4],[109,5,109,6],[110,3,110,4],[110,5,110,6],[111,3,111,4],[111,5,111,6],[112,3,112,4],[112,5,112,6],[113,3,113,4],[113,5,113,6]]}
["F_Series_Floor_Machine",null,{"$f":"Start_Here!$C19","v":"Company Name"}]
[{"$f":"SUM(H53)","v":0},null,{"$f":"Start_Here!$C20","v":"Address"}]
[null,null,{"$f":"Start_Here!$C21","v":"City, State Zip"}]
[null,null,{"$f":"Start_Here!$C22","v":"Contact Name"}]
[null,null,{"$f":"Start_Here!$C$41","v":"Rep Name"}]
[null,null,{"$f":"Start_Here!$C$37","v":"Tennant Sales and Service Company"}]
[null,null,{"$f":"Start_Here!$C$38","v":"10400 Clean Street"}]
[null,null,{"$f":"Start_Here!$C$39","v":"Eden Prairie, MN 55344"}]
[null,null,{"$f":"Start_Here!$C$43","v":"800-553-8033"},null,null,"Quote Date :",null,{"$f":"Letter!$A$25","v":"2020-09-22"}]
[]
[null,null,{"$f":"Help!C2","v":"US Date Rev - 5/6/2025"}]
[]
[]
[]
[null,null,"New Machine Warranty"]
[null,null,"Model FM-17SS, FM-20SS, FM20DS",null,null,"Quote Request Information"]
[null,null,"36 MONTHS PARTS",null,null,null,null,"Fax (quote only)"]
[null,null,"36 MONTHS – LABOR",null,null,null,null,"Mail (quote,lit, specs)"]
[null,null,"NO TRAVEL",null,null,null,null,"Fax + Mail"]
[null,null,"10 YEARS ON ROTOMOLDED PLASTIC PARTS"]
[null,null,null,null,null,"                Primary Use"]
[null,null,null,null,null,null,null,"Inside"]
[null,null,null,null,null,null,null,"Outside"]
[]
[]
[null,null,"Description",null,"Referencel#","Price Each","Qty","Extended Pr"]
[]
[null,null,"FM-20-SS  Heavy Duty 20\" (508mm) Floor Machine",null,9007336,1826,null,{"$f":"G28*F28","v":0},{"$f":"IFERROR(IFERROR(VLOOKUP(E28,Surcharge!A:B,2,FALSE)*G28, VLOOKUP(E28 & \"\",Surcharge!A:B,2,FALSE)*G28), \"\")","v":""},null,null,null,null,null,null,null,{"$f":"VLOOKUP(E28,'MPF SAP Download PreConfigured'!C:E,3,FALSE)","v":1826}]
[null,null,"175 rpm (1.50 hp).  Includes pad driver.  CSA US/C* ",null,null,null,{"$f":"SUM(G28)","v":0},null,{"$f":"IFERROR(IFERROR(VLOOKUP(E29,Surcharge!A:B,2,FALSE)*G29, VLOOKUP(E29 & \"\",Surcharge!A:B,2,FALSE)*G29), \"\")","v":""}]
[null,null,"Boxed dimensions: 25L x 22W x 51H (635mm x 559mm x 1295mm) ",null,null,null,{"$f":"SUM(G29)","v":0},null,{"$f":"IFERROR(IFERROR(VLOOKUP(E30,Surcharge!A:B,2,FALSE)*G30, VLOOKUP(E30 & \"\",Surcharge!A:B,2,FALSE)*G30), \"\")","v":""}]
[null,null,"Shipping Weight:  Unit 110 lbs. (50 kg) / Cu. Ft.: 16.25 (Cu. M .46)",null,null,null,{"$f":"SUM(G30)","v":0},null,{"$f":"IFERROR(IFERROR(VLOOKUP(E31,Surcharge!A:B,2,FALSE)*G31, VLOOKUP(E31 & \"\",Surcharge!A:B,2,FALSE)*G31), \"\")","v":""}]
[null,null,null,null,null,null,null,null,{"$f":"IFERROR(IFERROR(VLOOKUP(E32,Surcharge!A:B,2,FALSE)*G32, VLOOKUP(E32 & \"\",Surcharge!A:B,2,FALSE)*G32), \"\")","v":""}]
[null,null,null,null,null,null,null,null,{"$f":"IFERROR(IFERROR(VLOOKUP(E33,Surcharge!A:B,2,FALSE)*G33, VLOOKUP(E33 & \"\",Surcharge!A:B,2,FALSE)*G33), \"\")","v":""}]
[null,null,"FM-20-DS  Heavy Duty Dual Speed 20\" (508mm) Floor Machine",null,9007334,2838,null,{"$f":"G34*F34","v":0},{"$f":"IFERROR(IFERROR(VLOOKUP(E34,Surcharge!A:B,2,FALSE)*G34, VLOOKUP(E34 & \"\",Surcharge!A:B,2,FALSE)*G34), \"\")","v":""},null,null,null,null,null,null,null,{"$f":"VLOOKUP(E34,'MPF SAP Download PreConfigured'!C:E,3,FALSE)","v":2838}]
[null,null,"185/330 rpm  (1.50 hp). Includes pad driver.  CSA US/C*",null,null,null,{"$f":"SUM(G34)","v":0},null,{"$f":"IFERROR(IFERROR(VLOOKUP(E35,Surcharge!A:B,2,FALSE)*G35, VLOOKUP(E35 & \"\",Surcharge!A:B,2,FALSE)*G35), \"\")","v":""}]
[null,null,"Boxed dimensions: 25L x 22W x 51H (635mm x 559mm x 1295mm) ",null,null,null,{"$f":"SUM(G35)","v":0},null,{"$f":"IFERROR(IFERROR(VLOOKUP(E36,Surcharge!A:B,2,FALSE)*G36, VLOOKUP(E36 & \"\",Surcharge!A:B,2,FALSE)*G36), \"\")","v":""}]
[null,null,"Shipping Weight:  Unit 96 lbs. (44 kg) / Cu. Ft.: 16.25 (Cu. M .46)",null,null,null,{"$f":"SUM(G36)","v":0},null,{"$f":"IFERROR(IFERROR(VLOOKUP(E37,Surcharge!A:B,2,FALSE)*G37, VLOOKUP(E37 & \"\",Surcharge!A:B,2,FALSE)*G37), \"\")","v":""}]
[null,null,null,null,null,null,null,null,{"$f":"IFERROR(IFERROR(VLOOKUP(E38,Surcharge!A:B,2,FALSE)*G38, VLOOKUP(E38 & \"\",Surcharge!A:B,2,FALSE)*G38), \"\")","v":""}]
[null,null,null,null,null,null,{"$f":"SUM(#REF!)","v":{"$error":"#REF!"}}]
[]
[null,null,null,null,null,{"$f":"ROUND(SUM(H28:H41), 0)","v":0},{"$f":"SUM(F42)","v":0}]
[null,null,null,null,"Machine Subtotal ",{"$f":"ROUND(SUM(H28:H41), 0)","v":0},{"$f":"G41","v":0}]
[null,"Discounts",null,null,null,null,{"$f":"SUM(G44)","v":0}]
[null,null,null,null,null,null,{"$f":"SUM(G45:G46)","v":0}]
[null,null,null,null,"Discount %",null,{"$f":"IF(F45 <> \"\", 1, 0)","v":0},{"$f":"IF(G45*(F45*0.01)*F41 < 0, G45*(F45*0.01)*F41, -(G45*(F45*0.01)*F41))","v":0}]
[null,null,null,null,"Discount $",null,{"$f":"IF(F46 <> \"\", 1, 0)","v":0},{"$f":"IF(G46*F46 < 0, G46*F46, -(G46*F46))","v":0}]
[null,null,null,null,"Discount Total ",{"$f":"SUM(H45:H46)","v":0},{"$f":"SUM(F47)","v":0}]
[null,null,null,null,null,{"$f":"#REF!","v":{"$error":"#REF!"}},{"$f":"#REF!","v":{"$error":"#REF!"}}]
[null,null,null,null,null,null,{"$f":"G48","v":{"$error":"#REF!"}}]
[null,null,"Prepaid and Add",null,"Freight",null,{"$f":"IF(F50 <> \"\", 1, 0)","v":0},{"$f":"G50*F50","v":0}]
[null,null,"Subject to all applicable taxes",null,"Tax",null,0,{"$f":"G51*F51","v":0}]
[null,null,null,null,null,null,{"$f":"SUM(G53)","v":0}]
[null,null,null,null,"MACHINE TOTAL*",null,{"$f":"SUM(H53)","v":0},{"$f":"SUM(H28:H51)","v":0},null,null,null,null,"This goes to \"My Documents\""]
[null,null,null,null,null,null,null,{"$f":"SUM(H53)","v":0}]
[null,"Financing"]
[]
[null,null,"Is customer interested in financing?","Yes"]
[]
[null,null,"If not, why?"]
[]
[]
[null,null,"First Western Equipment Finance - Leasing Calculation Option:",null,"Option 1",null,"Option 2",null,null,{"$f":"Financing!A38","v":"Rates 2025 - Rev. 5/6/2025"}]
[null,null,null,null,"Monthly Payment","Cost Per Day","Monthly Payment","Cost Per Day",null,{"$f":"Financing!A39","v":"“Blank Payment Amounts Indicate The Financing Option Or Purchase Options Selected Are Not "}]
[null,null,"Purchase Option:",null,"FWEF:  $1 Buyout Lease",null,"FWEF: Municipal Lease",null,null,{"$f":"Financing!A40","v":"Applicable Or The Machine Total Is Below The Minimum Amount For The Selected Vendor”"}]
[null,null,"24 Months",null,0,0,0,0,null,{"$f":"Financing!A41","v":"\"Quoted monthly payments are estimates only and are based on a certain level of credit rating."}]
[null,null,"30 Months",null,0,0,0,0,null,{"$f":"Financing!A42","v":"Actual monthly payments may be higher depending on your credit rating.\""}]
[null,null,"36 Months",null,0,0,0,0,null,{"$f":"Financing!A43","v":"“Financing rates do not include Pre-Paid Service”"}]
[null,null,"48 Months",null,0,0,0,0,null,{"$f":"Financing!A44","v":0}]
[]
[null,null,null,"Benefits of Equipment Financing:"]
[null,null,null,"• Spreads out investment over time.",null,"• Keep current with latest technology."]
[null,null,null,"• Preserve capital.",null,"• Service and parts bundling available."]
[null,null,null,"• Low monthly payment.",null,"• Pay for labor savings as you go."]
[]
[]
[null,null,"Bundled Offerings",null,"Flexclean – Fair Market Value",null,"Flexclean - $1 Buyout"]
[null,null,"FlexClean: ",null,"36 Month Term",null,"36 Month Term",null,null,"No","AB Brushes"]
[null,null,"Hours included per Month:",null,"Gold","Silver","Gold","Silver","Check"]
[null,null,"< 30/mo. (Avg. 1hr./day)",null,null,null,null,null,null,null,{"$f":"FlexCleanCalc!$A21","v":"“FlexClean monthly rates include payment for both machine and service.”"}]
[null,null,"< 60/mo. (Avg. 2hrs./day)"]
[null,null,"< 90/mo. (Avg. 3hrs./day)"]
[null,null,"*This value assumes one service contract regardless of the number of UNITS included in the quote"]
[]
[]
[null,null,"Bundled Offerings",null,"Flexclean – Fair Market Value",null,"Flexclean - $1 Buyout"]
[null,null,"FlexClean 2: ",null,"48 Month Term",null,"48 Month Term"]
[null,null,"Hours included per Month:",null,"Gold","Silver","Gold","Silver"]
[null,null,"< 30/mo. (Avg. 1hr./day)"]
[null,null,"< 60/mo. (Avg. 2hrs./day)"]
[null,null,"< 90/mo. (Avg. 3hrs./day)"]
[null,null,"*This value assumes one service contract regardless of the number of UNITS included in the quote"]
[]
[null,null,"Bundled Offerings",null,"Flexclean – Fair Market Value",null,"Flexclean - $1 Buyout"]
[null,null,"FlexClean 3: ",null,"60 Month Term",null,"60 Month Term"]
[null,null,"Hours included per Month:",null,"Gold","Silver","Gold","Silver"]
[null,null,"< 30/mo. (Avg. 1hr./day)"]
[null,null,"< 60/mo. (Avg. 2hrs./day)"]
[null,null,"< 90/mo. (Avg. 3hrs./day)"]
[null,null,"*This value assumes one service contract regardless of the number of UNITS included in the quote"]
[]
[null,"  TennantTrue",null,0]
[]
[null,null,"Is customer interested in service program?","Yes","*State/County selection required for TennantTrue service options"]
[]
[null,null,"If not, why?"]
[]
[null,null,"Term:",36,null,"AB Brushes","No"]
[null,null,"Monthly machine usage (hrs):","< 30/mo. (Avg. 1hr./day)"]
[]
[null,null,"TennantTrue: ","Gold Contract",null,"Silver Contract"]
[null,null,"Per Visit"]
[null,null,"Monthly"]
[null,null,"Annually"]
[null,null,"Pre-Pay Full Term"]
[null,null,"Hourly Labor Rate"]
[null,null,"Site Visit"]
[]
[null,null,"* Verify customer current pricing prior to quote. "]
[null,null,"**All rates and fees above reflect service for one (1) unit with the exception of Block of Time service."]
[null,null,"*Block of Time is available in 1 Year Term only and is priced as such no matter the term selection on this template."]
[]
[]
[]
[null,null,"Quote Special Instructions:"]
[]
[]
[null,null,{"$f":"Start_Here!E36","v":"Terms and Conditions"}]
[null,null,{"$f":"Start_Here!E37","v":"Ask your local sales rep for estimated lead times. Verify when placing order"}]
[null,null,{"$f":"Start_Here!E38","v":"All orders subject to acceptance by Tennant Sales and Service Company, Minneapolis, Minnesota"}]
[null,null,{"$f":"Start_Here!E39","v":"Prices subject to change without notice."}]
[null,null,{"$f":"Start_Here!E40","v":"Terms:  Net 30 days.  Subject to any applicable taxes."}]
[null,null,{"$f":"Start_Here!E41","v":"Freight: Machines and accessory orders delivered FOB shipping point Frt PPD & Add"}]
[null,null,{"$f":"Start_Here!E42","v":"Parts, supplies, detergents and floor treating material orders delivered FOB "}]
[null,null,{"$f":"Start_Here!E43","v":"shipping point Frt PPD"}]
[null,null,{"$f":"Start_Here!E44","v":"All orders are subject to Tennant’s General Terms and Conditions available at http://www.tennantco.com/terms."}]
[null,null,{"$f":"Start_Here!E45","v":"Printed General Terms and Conditions are also available upon request."}]
[null,null,{"$f":"Start_Here!E46","v":0}]
[]
[null,null,null,null,null,"Quote Date :",null,{"$f":"Letter!$A$25","v":"2020-09-22"}]
[null,"Order Placement Information:  To place your order, fill in PO# and customer signatures,"]
[null,"call or fax to the numbers listed below. Customer Purchase Order is required."]
[null,"If information is missing, orders will be entered and held until all information is received."]
[null,null,"Customer Number",null,"Cust Grp 3"]
[null,null,{"$f":"Start_Here!$C$25","v":0},null,{"$f":"Start_Here!$C$29","v":0}]
[null,null,{"$f":"Start_Here!$B$18","v":"Who Owns the Machine? (Sold-To Info) (Please Verify)"}]
["Company",null,{"$f":"Start_Here!$C$19","v":"Company Name"}]
["Address",null,{"$f":"Start_Here!$C$20","v":"Address"}]
[null,null,{"$f":"Start_Here!$C$21","v":"City, State Zip"}]
["Name",null,{"$f":"Start_Here!$C$22","v":"Contact Name"}]
["Phone",null,{"$f":"Start_Here!$C$23","v":"Contact Phone"}]
[null,null,{"$f":"Start_Here!$B$11","v":"Where is the Machine Being Shipped? (Ship-To Info) (Please Verify)"}]
["Company",null,{"$f":"Start_Here!$C$12","v":"Company Name"}]
["Address",null,{"$f":"Start_Here!$C$13","v":"Address"}]
[null,null,{"$f":"Start_Here!$C$14","v":"City, State Zip"}]
["Name",null,{"$f":"Start_Here!$C$15","v":"Contact Name"}]
["Phone",null,{"$f":"Start_Here!$C$16","v":"Contact Phone"}]
[null,null,{"$f":"Start_Here!$B$31","v":"Shipping / Carrier Instructions:"},null,"Order Special Instructions:"]
[null,null,{"$f":"Start_Here!$C$32","v":0}]
[]
[null,null,"Customer Purchase Order No."]
[null,null,"(please attach copy)"]
[]
[]
[null,null,"Tax Exempt",null,"Yes"]
[null,null,null,null,"No"]
[null,null,"If Yes, attach a copy of your exemption certificate."]
[]
[null,null,"Requested Delivery Date"]
[null,null,{"$f":"Start_Here!$C$28","v":0}]
[]
[null,null,{"$f":"Start_Here!$C$26","v":0},null,{"$f":"Start_Here!$C$27","v":0}]
[null,0,"Authorized Buyer (please print)",null,"Phone Number"]
[]
[]
[null,0,"Authorized Buyer Signature"]
[]
[null,null,{"$f":"Start_Here!$C$41","v":"Rep Name"}]
[null,null,"Tennant Representative"]
[]
[]
["Specialized Maintenance Equipment"]
[{"$f":"Start_Here!$C$47","v":0}]
[{"$f":"Start_Here!$C$48","v":"TENNANT · 10400 Clean Street · Eden Prairie, MN 55344 ·"}]

{"sheet":"Burnishers","index":14,"n_rows":179,"n_cols":16,"rows_kept":179,"cut":false,"hidden":false,"merged":[[144,2,144,5],[153,4,153,7],[120,2,120,7],[139,4,139,7],[141,2,141,5],[142,2,142,5],[143,2,143,5],[138,4,138,6],[157,2,157,5],[166,4,166,5],[145,2,145,5],[147,2,147,5],[148,2,148,5],[149,2,149,5],[150,2,150,5],[151,2,151,5],[82,2,82,3],[83,2,83,3],[84,2,84,3],[89,4,89,5],[89,6,89,7],[89,2,89,3],[88,4,88,5],[88,6,88,7],[85,2,85,3],[88,2,88,3],[80,2,80,3],[80,4,80,5],[80,6,80,7],[81,2,81,3],[81,4,81,5],[81,6,81,7],[76,2,76,3],[58,2,58,3],[0,2,0,3],[1,2,1,3],[2,2,2,3],[3,2,3,3],[23,2,23,3],[25,2,25,3],[26,2,26,3],[29,2,29,3],[31,2,31,3],[32,2,32,3],[54,3,54,6],[57,2,57,3],[57,4,57,5],[57,6,57,7],[75,2,75,3],[63,2,63,3],[71,2,71,3],[71,4,71,5],[71,6,71,7],[72,2,72,3],[72,4,72,5],[72,6,72,7],[73,2,73,3],[74,2,74,3],[59,2,59,3],[59,4,59,5],[59,6,59,7],[61,2,61,3],[62,2,62,3],[60,2,60,3],[98,4,98,8],[100,3,100,6],[102,3,102,4],[103,3,103,4],[90,2,90,3],[91,2,91,3],[92,2,92,3],[93,2,93,3],[111,3,111,4],[111,5,111,6],[105,3,105,4],[105,5,105,6],[106,3,106,4],[106,5,106,6],[107,3,107,4],[107,5,107,6],[108,3,108,4],[108,5,108,6],[109,3,109,4],[109,5,109,6],[110,5,110,6],[110,3,110,4]]}
["Burnishers",null,{"$f":"Start_Here!$C19","v":"Company Name"}]
[{"$f":"SUM(H49)","v":0},null,{"$f":"Start_Here!$C20","v":"Address"}]
[null,null,{"$f":"Start_Here!$C21","v":"City, State Zip"}]
[null,null,{"$f":"Start_Here!$C22","v":"Contact Name"}]
[null,null,{"$f":"Start_Here!$C$41","v":"Rep Name"}]
[null,null,{"$f":"Start_Here!$C$37","v":"Tennant Sales and Service Company"}]
[null,null,{"$f":"Start_Here!$C$38","v":"10400 Clean Street"}]
[null,null,{"$f":"Start_Here!$C$39","v":"Eden Prairie, MN 55344"}]
[null,null,{"$f":"Start_Here!$C$43","v":"800-553-8033"},null,null,"Quote Date :",null,{"$f":"Letter!$A$25","v":"2020-09-22"}]
[]
[null,null,{"$f":"Help!C2","v":"US Date Rev - 5/6/2025"}]
[null,null,null,null,null,"Quote Request Information"]
[null,null,null,null,null,null,null,"Fax (quote only)"]
[null,null,"New Machine Warranty",null,null,null,null,"Mail (quote,lit, specs)"]
[null,null,"36 MONTHS or 2500 HOURS ON PARTS",null,null,null,null,"Fax + Mail"]
[null,null,"36 MONTHS – LABOR"]
[null,null,"90 DAYS - TRAVEL ON BATTERY UNITS ONLY",null,null,"                Primary Use"]
[null,null,"10 YEARS ON ROTOMOLDED PLASTIC PARTS",null,null,null,null,"Inside"]
[null,null,"BATTERIES ARE PRORATED OVER 1 YEAR",null,null,null,null,"Outside"]
[]
[]
[null,null,"Description",null,"Referencel#","Price Each","Qty","Extended Pr"]
[null,null,null,null,null,null,{"$f":"SUM(G24)","v":0}]
[null,null,"BR-2000-DC  Dust Control Burnisher* - 2000 rpm 20\" (508mm)",null,9007349,3949,null,{"$f":"G24*F24","v":0},{"$f":"IFERROR(IFERROR(VLOOKUP(E24,Surcharge!A:B,2,FALSE)*G24, VLOOKUP(E24 & \"\",Surcharge!A:B,2,FALSE)*G24), \"\")","v":""},null,null,null,null,null,null,{"$f":"VLOOKUP(E24,'MPF SAP Download PreConfigured'!C:E,3,FALSE)","v":3949}]
[null,null,"Complete package includes flexible pad driver, 75-ft. (23m) power cord, cloth filter bag and 1-pad. CSA US/C*        ",null,null,null,{"$f":"SUM(G24)","v":0},null,{"$f":"IFERROR(IFERROR(VLOOKUP(E25,Surcharge!A:B,2,FALSE)*G25, VLOOKUP(E25 & \"\",Surcharge!A:B,2,FALSE)*G25), \"\")","v":""}]
[null,null,"Boxed dimensions: 34L x 27W x 51H (864mm x 686mm x 1295mm)",null,null,null,{"$f":"SUM(G25)","v":0},null,{"$f":"IFERROR(IFERROR(VLOOKUP(E26,Surcharge!A:B,2,FALSE)*G26, VLOOKUP(E26 & \"\",Surcharge!A:B,2,FALSE)*G26), \"\")","v":""}]
[null,null,"Shipping Weight:  93 lbs. (42 kg) / Cu. Ft.: 27.09 (Cu. M. .76)",null,null,null,{"$f":"SUM(G26)","v":0},null,{"$f":"IFERROR(IFERROR(VLOOKUP(E27,Surcharge!A:B,2,FALSE)*G27, VLOOKUP(E27 & \"\",Surcharge!A:B,2,FALSE)*G27), \"\")","v":""}]
[null,null,null,null,null,null,null,null,{"$f":"IFERROR(IFERROR(VLOOKUP(E28,Surcharge!A:B,2,FALSE)*G28, VLOOKUP(E28 & \"\",Surcharge!A:B,2,FALSE)*G28), \"\")","v":""}]
[null,null,null,null,null,null,{"$f":"SUM(G30)","v":0},null,{"$f":"IFERROR(IFERROR(VLOOKUP(E29,Surcharge!A:B,2,FALSE)*G29, VLOOKUP(E29 & \"\",Surcharge!A:B,2,FALSE)*G29), \"\")","v":""}]
[null,null,"BR-1600-NDC Burnisher - 1600 rpm 20\" (508mm) ",null,9007347,3020,null,{"$f":"G30*F30","v":0},{"$f":"IFERROR(IFERROR(VLOOKUP(E30,Surcharge!A:B,2,FALSE)*G30, VLOOKUP(E30 & \"\",Surcharge!A:B,2,FALSE)*G30), \"\")","v":""},null,null,null,null,null,null,{"$f":"VLOOKUP(E30,'MPF SAP Download PreConfigured'!C:E,3,FALSE)","v":3020}]
[null,null,"Complete package includes flexible pad driver and a 75-ft. (23m) power cord.  ",null,null,null,{"$f":"SUM(G30)","v":0},null,{"$f":"IFERROR(IFERROR(VLOOKUP(E31,Surcharge!A:B,2,FALSE)*G31, VLOOKUP(E31 & \"\",Surcharge!A:B,2,FALSE)*G31), \"\")","v":""}]
[null,null,"Boxed dimensions: 31L x 23W x 53H (787mm x 584mm x 1346mm)",null,null,null,{"$f":"SUM(G31)","v":0},null,{"$f":"IFERROR(IFERROR(VLOOKUP(E32,Surcharge!A:B,2,FALSE)*G32, VLOOKUP(E32 & \"\",Surcharge!A:B,2,FALSE)*G32), \"\")","v":""}]
[null,null,"Shipping Weight:  100 lbs. (45 kg) / Cu. Ft.: 21.87 (Cu. M. .62)",null,null,null,{"$f":"SUM(G32)","v":0},null,{"$f":"IFERROR(IFERROR(VLOOKUP(E33,Surcharge!A:B,2,FALSE)*G33, VLOOKUP(E33 & \"\",Surcharge!A:B,2,FALSE)*G33), \"\")","v":""}]
[null,null,null,null,null,null,null,null,{"$f":"IFERROR(IFERROR(VLOOKUP(E34,Surcharge!A:B,2,FALSE)*G34, VLOOKUP(E34 & \"\",Surcharge!A:B,2,FALSE)*G34), \"\")","v":""}]
[null,null,null,null,null,null,{"$f":"SUM(#REF!)","v":{"$error":"#REF!"}}]
[]
[null,null,null,null,null,{"$f":"ROUND(SUM(H24:H36), 0)","v":0},{"$f":"SUM(F38)","v":0}]
[null,null,null,null,"Machine Subtotal ",{"$f":"ROUND(SUM(H24:H36), 0)","v":0},{"$f":"G37","v":0}]
[null,"Discounts",null,null,null,null,{"$f":"SUM(G40)","v":0}]
[null,null,null,null,null,null,{"$f":"SUM(G41:G42)","v":0}]
[null,null,null,null,"Discount %",null,{"$f":"IF(F41 <> \"\", 1, 0)","v":0},{"$f":"IF(G41*(F41*0.01)*F37 < 0, G41*(F41*0.01)*F37, -(G41*(F41*0.01)*F37))","v":0}]
[null,null,null,null,"Discount $",null,{"$f":"IF(F42 <> \"\", 1, 0)","v":0},{"$f":"IF(G42*F42 < 0, G42*F42, -(G42*F42))","v":0}]
[null,null,null,null,"Discount Total ",{"$f":"SUM(H41:H42)","v":0},{"$f":"SUM(F43)","v":0}]
[null,null,null,null,null,{"$f":"#REF!","v":{"$error":"#REF!"}},{"$f":"#REF!","v":{"$error":"#REF!"}}]
[null,null,null,null,null,null,{"$f":"G44","v":{"$error":"#REF!"}}]
[null,null,"Prepaid and Add",null,"Freight",null,{"$f":"IF(F46 <> \"\", 1, 0)","v":0},{"$f":"G46*F46","v":0}]
[null,null,"Subject to all applicable taxes",null,"Tax",null,0,{"$f":"G47*F47","v":0}]
[null,null,null,null,null,null,{"$f":"SUM(G49)","v":0}]
[null,null,null,null,"MACHINE TOTAL*",null,{"$f":"SUM(H49)","v":0},{"$f":"SUM(H24:H47)","v":0},null,null,null,null,"This goes to \"My Documents\""]
[null,null,null,null,null,null,null,{"$f":"SUM(H49)","v":0}]
[null,"Financing"]
[]
[null,null,"Is customer interested in financing?","Yes"]
[]
[null,null,"If not, why?"]
[]
[]
[null,null,"First Western Equipment Finance - Leasing Calculation Option:",null,"Option 1",null,"Option 2",null,null,{"$f":"Financing!A38","v":"Rates 2025 - Rev. 5/6/2025"}]
[null,null,null,null,"Monthly Payment","Cost Per Day","Monthly Payment","Cost Per Day",null,{"$f":"Financing!A39","v":"“Blank Payment Amounts Indicate The Financing Option Or Purchase Options Selected Are Not "}]
[null,null,"Purchase Option:",null,"FWEF:  $1 Buyout Lease",null,"FWEF: Municipal Lease",null,null,{"$f":"Financing!A40","v":"Applicable Or The Machine Total Is Below The Minimum Amount For The Selected Vendor”"}]
[null,null,"24 Months",null,0,0,0,0,null,{"$f":"Financing!A41","v":"\"Quoted monthly payments are estimates only and are based on a certain level of credit rating."}]
[null,null,"30 Months",null,0,0,0,0,null,{"$f":"Financing!A42","v":"Actual monthly payments may be higher depending on your credit rating.\""}]
[null,null,"36 Months",null,0,0,0,0,null,{"$f":"Financing!A43","v":"“Financing rates do not include Pre-Paid Service”"}]
[null,null,"48 Months",null,0,0,0,0,null,{"$f":"Financing!A44","v":0}]
[]
[null,null,null,"Benefits of Equipment Financing:"]
[null,null,null,"• Spreads out investment over time.",null,"• Keep current with latest technology."]
[null,null,null,"• Preserve capital.",null,"• Service and parts bundling available."]
[null,null,null,"• Low monthly payment.",null,"• Pay for labor savings as you go."]
[]
[]
[null,null,"Bundled Offerings",null,"Flexclean – Fair Market Value",null,"Flexclean - $1 Buyout"]
[null,null,"FlexClean: ",null,"36 Month Term",null,"36 Month Term",null,null,"No","AB Brushes"]
[null,null,"Hours included per Month:",null,"Gold","Silver","Gold","Silver","Check"]
[null,null,"< 30/mo. (Avg. 1hr./day)",null,null,null,null,null,null,null,{"$f":"FlexCleanCalc!$A21","v":"“FlexClean monthly rates include payment for both machine and service.”"}]
[null,null,"< 60/mo. (Avg. 2hrs./day)"]
[null,null,"< 90/mo. (Avg. 3hrs./day)"]
[null,null,"*This value assumes one service contract regardless of the number of UNITS included in the quote"]
[]
[]
[null,null,"Bundled Offerings",null,"Flexclean – Fair Market Value",null,"Flexclean - $1 Buyout"]
[null,null,"FlexClean 2: ",null,"48 Month Term",null,"48 Month Term"]
[null,null,"Hours included per Month:",null,"Gold","Silver","Gold","Silver"]
[null,null,"< 30/mo. (Avg. 1hr./day)"]
[null,null,"< 60/mo. (Avg. 2hrs./day)"]
[null,null,"< 90/mo. (Avg. 3hrs./day)"]
[null,null,"*This value assumes one service contract regardless of the number of UNITS included in the quote"]
[]
[null,null,"Bundled Offerings",null,"Flexclean – Fair Market Value",null,"Flexclean - $1 Buyout"]
[null,null,"FlexClean 3: ",null,"60 Month Term",null,"60 Month Term"]
[null,null,"Hours included per Month:",null,"Gold","Silver","Gold","Silver"]
[null,null,"< 30/mo. (Avg. 1hr./day)"]
[null,null,"< 60/mo. (Avg. 2hrs./day)"]
[null,null,"< 90/mo. (Avg. 3hrs./day)"]
[null,null,"*This value assumes one service contract regardless of the number of UNITS included in the quote"]
[]
[null,"  TennantTrue",null,0]
[]
[null,null,"Is customer interested in service program?","Yes","*State/County selection required for TennantTrue service options"]
[]
[null,null,"If not, why?"]
[]
[null,null,"Term:",36,null,"AB Brushes","No"]
[null,null,"Monthly machine usage (hrs):","< 30/mo. (Avg. 1hr./day)"]
[]
[null,null,"TennantTrue: ","Gold Contract",null,"Silver Contract"]
[null,null,"Per Visit"]
[null,null,"Monthly"]
[null,null,"Annually"]
[null,null,"Pre-Pay Full Term"]
[null,null,"Hourly Labor Rate"]
[null,null,"Site Visit"]
[]
[null,null,"* Verify customer current pricing prior to quote. "]
[null,null,"**All rates and fees above reflect service for one (1) unit with the exception of Block of Time service."]
[null,null,"*Block of Time is available in 1 Year Term only and is priced as such no matter the term selection on this template."]
[]
[]
[]
[null,null,"Quote Special Instructions:"]
[]
[]
[null,null,{"$f":"Start_Here!E36","v":"Terms and Conditions"}]
[null,null,{"$f":"Start_Here!E37","v":"Ask your local sales rep for estimated lead times. Verify when placing order"}]
[null,null,{"$f":"Start_Here!E38","v":"All orders subject to acceptance by Tennant Sales and Service Company, Minneapolis, Minnesota"}]
[null,null,{"$f":"Start_Here!E39","v":"Prices subject to change without notice."}]
[null,null,{"$f":"Start_Here!E40","v":"Terms:  Net 30 days.  Subject to any applicable taxes."}]
[null,null,{"$f":"Start_Here!E41","v":"Freight: Machines and accessory orders delivered FOB shipping point Frt PPD & Add"}]
[null,null,{"$f":"Start_Here!E42","v":"Parts, supplies, detergents and floor treating material orders delivered FOB "}]
[null,null,{"$f":"Start_Here!E43","v":"shipping point Frt PPD"}]
[null,null,{"$f":"Start_Here!E44","v":"All orders are subject to Tennant’s General Terms and Conditions available at http://www.tennantco.com/terms."}]
[null,null,{"$f":"Start_Here!E45","v":"Printed General Terms and Conditions are also available upon request."}]
[null,null,{"$f":"Start_Here!E46","v":0}]
[]
[null,null,null,null,null,"Quote Date :",null,{"$f":"Letter!$A$25","v":"2020-09-22"}]
[null,"Order Placement Information:  To place your order, fill in PO# and customer signatures,"]
[null,"call or fax to the numbers listed below. Customer Purchase Order is required."]
[null,"If information is missing, orders will be entered and held until all information is received."]
[null,null,"Customer Number",null,"Cust Grp 3"]
[null,null,{"$f":"Start_Here!$C$25","v":0},null,{"$f":"Start_Here!$C$29","v":0}]
[null,null,{"$f":"Start_Here!$B$18","v":"Who Owns the Machine? (Sold-To Info) (Please Verify)"}]
["Company",null,{"$f":"Start_Here!$C$19","v":"Company Name"}]
["Address",null,{"$f":"Start_Here!$C$20","v":"Address"}]
[null,null,{"$f":"Start_Here!$C$21","v":"City, State Zip"}]
["Name",null,{"$f":"Start_Here!$C$22","v":"Contact Name"}]
["Phone",null,{"$f":"Start_Here!$C$23","v":"Contact Phone"}]
[null,null,{"$f":"Start_Here!$B$11","v":"Where is the Machine Being Shipped? (Ship-To Info) (Please Verify)"}]
["Company",null,{"$f":"Start_Here!$C$12","v":"Company Name"}]
["Address",null,{"$f":"Start_Here!$C$13","v":"Address"}]
[null,null,{"$f":"Start_Here!$C$14","v":"City, State Zip"}]
["Name",null,{"$f":"Start_Here!$C$15","v":"Contact Name"}]
["Phone",null,{"$f":"Start_Here!$C$16","v":"Contact Phone"}]
[null,null,{"$f":"Start_Here!$B$31","v":"Shipping / Carrier Instructions:"},null,"Order Special Instructions:"]
[null,null,{"$f":"Start_Here!$C$32","v":0}]
[]
[null,null,"Customer Purchase Order No."]
[null,null,"(please attach copy)"]
[]
[]
[null,null,"Tax Exempt",null,"Yes"]
[null,null,null,null,"No"]
[null,null,"If Yes, attach a copy of your exemption certificate."]
[]
[null,null,"Requested Delivery Date"]
[null,null,{"$f":"Start_Here!$C$28","v":0}]
[]
[null,null,{"$f":"Start_Here!$C$26","v":0},null,{"$f":"Start_Here!$C$27","v":0}]
[null,0,"Authorized Buyer (please print)",null,"Phone Number"]
[]
[]
[null,0,"Authorized Buyer Signature"]
[]
[null,null,{"$f":"Start_Here!$C$41","v":"Rep Name"}]
[null,null,"Tennant Representative"]
[]
[]
["Specialized Maintenance Equipment"]
[{"$f":"Start_Here!$C$47","v":0}]
[{"$f":"Start_Here!$C$48","v":"TENNANT · 10400 Clean Street · Eden Prairie, MN 55344 ·"}]

{"sheet":"B10","index":15,"n_rows":234,"n_cols":13,"rows_kept":234,"cut":false,"hidden":false,"merged":[[197,4,197,5],[173,2,173,5],[174,2,174,5],[175,2,175,5],[176,2,176,5],[188,2,188,5],[180,2,180,5],[181,2,181,5],[182,2,182,5],[184,4,184,7],[151,2,151,7],[170,4,170,7],[172,2,172,5],[178,2,178,5],[179,2,179,5],[169,4,169,6],[134,3,134,4],[133,3,133,4],[129,4,129,8],[131,3,131,6],[111,6,111,7],[112,2,112,3],[112,4,112,5],[112,6,112,7],[120,2,120,3],[120,4,120,5],[120,6,120,7],[113,2,113,3],[121,2,121,3],[122,2,122,3],[123,2,123,3],[124,2,124,3],[119,6,119,7],[114,2,114,3],[115,2,115,3],[116,2,116,3],[25,2,25,6],[26,2,26,6],[85,3,85,6],[104,2,104,3],[105,2,105,3],[106,2,106,3],[111,2,111,3],[111,4,111,5],[119,2,119,3],[93,2,93,3],[94,2,94,3],[102,2,102,3],[92,2,92,3],[102,4,102,5],[119,4,119,5],[107,2,107,3],[88,2,88,3],[88,4,88,5],[103,6,103,7],[0,2,0,3],[1,2,1,3],[2,2,2,3],[3,2,3,3],[11,2,11,7],[91,2,91,3],[89,2,89,3],[103,2,103,3],[103,4,103,5],[24,2,24,6],[88,6,88,7],[90,2,90,3],[90,4,90,5],[90,6,90,7],[102,6,102,7],[141,3,141,4],[141,5,141,6],[142,3,142,4],[142,5,142,6],[136,3,136,4],[136,5,136,6],[137,3,137,4],[137,5,137,6],[138,3,138,4],[138,5,138,6],[139,3,139,4],[139,5,139,6],[140,3,140,4],[140,5,140,6]]}
["B10",null,{"$f":"Start_Here!$C19","v":"Company Name"}]
[{"$f":"SUM(H80)","v":0},null,{"$f":"Start_Here!$C20","v":"Address"}]
[null,null,{"$f":"Start_Here!$C21","v":"City, State Zip"}]
[null,null,{"$f":"Start_Here!$C22","v":"Contact Name"}]
[null,null,{"$f":"Start_Here!$C$41","v":"Rep Name"}]
[null,null,{"$f":"Start_Here!$C$37","v":"Tennant Sales and Service Company"}]
[null,null,{"$f":"Start_Here!$C$38","v":"10400 Clean Street"}]
[null,null,{"$f":"Start_Here!$C$39","v":"Eden Prairie, MN 55344"}]
[null,null,{"$f":"Start_Here!$C$43","v":"800-553-8033"},null,null,"Quote Date :",null,{"$f":"Letter!$A$25","v":"2020-09-22"}]
[]
[null,null,{"$f":"Help!C2","v":"US Date Rev - 5/6/2025"}]
[null,null,"BUILT-IN “TENNANT VALUE” INCLUDES:"]
[]
[null,null,"610mm/690mm or 24\"/27\" burnishing path",null,"Standard (6) 6V 435AH battery pack "]
[null,null,"Active Dust Control",null,"Battery Tray"]
[null,null,"HEPA filtration - 99.97 @ .3 microns",null,"On Board Charger"]
[null,null,"Automated Head Lift",null,"Rugged DuramerTM Tank Construction"]
[null,null,"True free floating Head",null,"69 dBa"]
[null,null,"Supervisor lock-out",null,"Emergency Stop"]
[null,null,"Back up Alarm",null,"Anti-Static Straps"]
[null,null,"Adjustable Seat",null,"Hour Meter"]
[null,null,"Operators manual",null,"QA Controls"]
[]
[]
[null,null,"TENNANT COMPANY WARRANTY"]
[null,null,"3 YEARS OR 2000 HOURS ON ALL COMPONENTS, 2 YEARS LABOR"]
[null,null,"6 MONTHS TRAVEL, 10 YEARS ON DURAMERTM TANKS"]
[]
[null,null,null,null,null,"Quote Request Information"]
[null,null,null,null,null,null,null,"Fax (quote only)"]
[null,null,null,null,null,null,null,"Mail (quote,lit, specs)"]
[null,null,null,null,null,null,null,"Fax + Mail"]
[]
[null,null,null,null,null,"                Primary Use"]
[null,null,null,null,null,null,null,"Inside"]
[null,null,null,null,null,null,null,"Outside"]
[]
[]
[null,null,"Description",null,"Referencel#","Price Each","Qty","Extended Pr"]
[null,null,null,null,null,null,"*"]
[null,"Base Configuration",null,null,null,null,{"$f":"SUM(G42,G46,G52)","v":0}]
[null,null,"Cleaning Type",null,null,null,{"$f":"SUM(G43:G44)","v":0}]
[null,null,"B10 Battery Rider Burnisher 610mm/24\"",null,"B10-610",31966,null,{"$f":"G43*F43","v":0},{"$f":"IFERROR(IFERROR(VLOOKUP(E43,Surcharge!A:B,2,FALSE)*G43, VLOOKUP(E43 & \"\",Surcharge!A:B,2,FALSE)*G43), \"\")","v":0}]
[null,null,"B10 Battery Rider Burnisher 690mm/27\"",null,"B10-690",32861,null,{"$f":"G44*F44","v":0},{"$f":"IFERROR(IFERROR(VLOOKUP(E44,Surcharge!A:B,2,FALSE)*G44, VLOOKUP(E44 & \"\",Surcharge!A:B,2,FALSE)*G44), \"\")","v":0}]
[null,null,null,null,null,null,null,null,{"$f":"IFERROR(IFERROR(VLOOKUP(E45,Surcharge!A:B,2,FALSE)*G45, VLOOKUP(E45 & \"\",Surcharge!A:B,2,FALSE)*G45), \"\")","v":""}]
[null,null,"Battery Type",null,null,null,{"$f":"SUM(G47:G50)","v":0},null,{"$f":"IFERROR(IFERROR(VLOOKUP(E46,Surcharge!A:B,2,FALSE)*G46, VLOOKUP(E46 & \"\",Surcharge!A:B,2,FALSE)*G46), \"\")","v":""}]
[null,null,"Wet 435AH C/20  (Kit of 6 batteries)",null,9010885,"N/C     ",null,{"$f":"IF(G47=0,\" \",\"N/C\")","v":" "},{"$f":"IFERROR(IFERROR(VLOOKUP(E47,Surcharge!A:B,2,FALSE)*G47, VLOOKUP(E47 & \"\",Surcharge!A:B,2,FALSE)*G47), \"\")","v":""}]
[null,null,"Sealed/MF AGM 390AH C/20  (Kit of 6 batteries)",null,9010886,1291,null,{"$f":"G48*F48","v":0},{"$f":"IFERROR(IFERROR(VLOOKUP(E48,Surcharge!A:B,2,FALSE)*G48, VLOOKUP(E48 & \"\",Surcharge!A:B,2,FALSE)*G48), \"\")","v":""}]
[null,null,null,null,null,null,null,null,{"$f":"IFERROR(IFERROR(VLOOKUP(E49,Surcharge!A:B,2,FALSE)*G49, VLOOKUP(E49 & \"\",Surcharge!A:B,2,FALSE)*G49), \"\")","v":""}]
[null,null,"Manual Battery Watering Kit  (Note 1)",null,9009620,853,null,{"$f":"G50*F50","v":0},{"$f":"IFERROR(IFERROR(VLOOKUP(E50,Surcharge!A:B,2,FALSE)*G50, VLOOKUP(E50 & \"\",Surcharge!A:B,2,FALSE)*G50), \"\")","v":""}]
[null,null,null,null,null,null,null,null,{"$f":"IFERROR(IFERROR(VLOOKUP(E51,Surcharge!A:B,2,FALSE)*G51, VLOOKUP(E51 & \"\",Surcharge!A:B,2,FALSE)*G51), \"\")","v":""}]
[null,null,"Charger",null,null,null,{"$f":"SUM(G53:G53)","v":0},null,{"$f":"IFERROR(IFERROR(VLOOKUP(E52,Surcharge!A:B,2,FALSE)*G52, VLOOKUP(E52 & \"\",Surcharge!A:B,2,FALSE)*G52), \"\")","v":""}]
[null,null,"25A 120V AC 50/60Hz 1Ph (on board)",null,9010881,"N/C     ",null,{"$f":"IF(G53=0,\" \",\"N/C\")","v":" "},{"$f":"IFERROR(IFERROR(VLOOKUP(E53,Surcharge!A:B,2,FALSE)*G53, VLOOKUP(E53 & \"\",Surcharge!A:B,2,FALSE)*G53), \"\")","v":""}]
[null,null,null,null,null,null,null,null,{"$f":"IFERROR(IFERROR(VLOOKUP(E54,Surcharge!A:B,2,FALSE)*G54, VLOOKUP(E54 & \"\",Surcharge!A:B,2,FALSE)*G54), \"\")","v":""}]
[null,"Machine Protection & Safety",null,null,"Reference Number",null,{"$f":"SUM(G56:G56)","v":0},null,{"$f":"IFERROR(IFERROR(VLOOKUP(E55,Surcharge!A:B,2,FALSE)*G55, VLOOKUP(E55 & \"\",Surcharge!A:B,2,FALSE)*G55), \"\")","v":""}]
[null,null,"Strobe Light on Tank",null,9010878,797,null,{"$f":"G56*F56","v":0},{"$f":"IFERROR(IFERROR(VLOOKUP(E56,Surcharge!A:B,2,FALSE)*G56, VLOOKUP(E56 & \"\",Surcharge!A:B,2,FALSE)*G56), \"\")","v":""}]
[null,null,null,null,null,null,null,null,{"$f":"IFERROR(IFERROR(VLOOKUP(E57,Surcharge!A:B,2,FALSE)*G57, VLOOKUP(E57 & \"\",Surcharge!A:B,2,FALSE)*G57), \"\")","v":""}]
[null,"Support (note 2)",null,null,null,null,{"$f":"SUM(G59:G62)","v":0},null,{"$f":"IFERROR(IFERROR(VLOOKUP(E58,Surcharge!A:B,2,FALSE)*G58, VLOOKUP(E58 & \"\",Surcharge!A:B,2,FALSE)*G58), \"\")","v":""}]
[null,null,"B10 Operator Manual  (English)",null,9010734,"N/C     ",null,{"$f":"IF(G59=0,\" \",\"N/C\")","v":" "},{"$f":"IFERROR(IFERROR(VLOOKUP(E59,Surcharge!A:B,2,FALSE)*G59, VLOOKUP(E59 & \"\",Surcharge!A:B,2,FALSE)*G59), \"\")","v":""}]
[null,null,"B10 Operator Manual  (French)",null,9010732,"N/C     ",null," ",{"$f":"IFERROR(IFERROR(VLOOKUP(E60,Surcharge!A:B,2,FALSE)*G60, VLOOKUP(E60 & \"\",Surcharge!A:B,2,FALSE)*G60), \"\")","v":""}]
[null,null,null,null,null,null,null,null,{"$f":"IFERROR(IFERROR(VLOOKUP(E61,Surcharge!A:B,2,FALSE)*G61, VLOOKUP(E61 & \"\",Surcharge!A:B,2,FALSE)*G61), \"\")","v":""}]
[null,null,"Packaging  (Note 3)",null,null,null,{"$f":"SUM(G63:G64)","v":0},null,{"$f":"IFERROR(IFERROR(VLOOKUP(E62,Surcharge!A:B,2,FALSE)*G62, VLOOKUP(E62 & \"\",Surcharge!A:B,2,FALSE)*G62), \"\")","v":""}]
[null,null,"Pad Wrap",null,null,"N/C     ",null,{"$f":"IF(G63=0,\" \",\"N/C\")","v":" "},{"$f":"IFERROR(IFERROR(VLOOKUP(E63,Surcharge!A:B,2,FALSE)*G63, VLOOKUP(E63 & \"\",Surcharge!A:B,2,FALSE)*G63), \"\")","v":""}]
[null,null,"Skid w/Carton, Non-Stackable",null,9010888,538,null,{"$f":"G64*F64","v":0},{"$f":"IFERROR(IFERROR(VLOOKUP(E64,Surcharge!A:B,2,FALSE)*G64, VLOOKUP(E64 & \"\",Surcharge!A:B,2,FALSE)*G64), \"\")","v":""}]
[null,null,null,null,null,null,null,null,{"$f":"IFERROR(IFERROR(VLOOKUP(E65,Surcharge!A:B,2,FALSE)*G65, VLOOKUP(E65 & \"\",Surcharge!A:B,2,FALSE)*G65), \"\")","v":""}]
[null,null,null,null,null,null,{"$f":"SUM(#REF!)","v":{"$error":"#REF!"}}]
[]
[null,null,null,null,null,{"$f":"ROUND(SUM(H43:H67), 0)","v":0},{"$f":"SUM(F69)","v":0}]
[null,null,null,null,"Machine Subtotal ",{"$f":"ROUND(SUM(H43:H67), 0)","v":0},{"$f":"G68","v":0}]
[null,"Discounts",null,null,null,null,{"$f":"SUM(G71)","v":0}]
[null,null,null,null,null,null,{"$f":"SUM(G72:G73)","v":0}]
[null,null,null,null,"Discount %",null,{"$f":"IF(F72 <> \"\", 1, 0)","v":0},{"$f":"IF(G72*(F72*0.01)*F68 < 0, G72*(F72*0.01)*F68, -(G72*(F72*0.01)*F68))","v":0}]
[null,null,null,null,"Discount $",null,{"$f":"IF(F73 <> \"\", 1, 0)","v":0},{"$f":"IF(G73*F73 < 0, G73*F73, -(G73*F73))","v":0}]
[null,null,null,null,"Discount Total ",{"$f":"SUM(H72:H73)","v":0},{"$f":"SUM(F74)","v":0}]
[null,null,null,null,null,{"$f":"#REF!","v":{"$error":"#REF!"}},{"$f":"#REF!","v":{"$error":"#REF!"}}]
[null,null,null,null,null,null,{"$f":"G75","v":{"$error":"#REF!"}}]
[null,null,"Prepaid and Add",null,"Freight",null,{"$f":"IF(F77 <> \"\", 1, 0)","v":0},{"$f":"G77*F77","v":0}]
[null,null,"Subject to all applicable taxes",null,"Tax",null,0,{"$f":"G78*F78","v":0}]
[null,null,null,null,null,null,{"$f":"SUM(G80)","v":0}]
[null,null,null,null,"MACHINE TOTAL*",null,{"$f":"SUM(H80)","v":0},{"$f":"SUM(H43:H78)","v":0},null,null,null,null,"This goes to \"My Documents\""]
[null,null,null,null,null,null,null,{"$f":"SUM(H80)","v":0}]
[null,"Financing"]
[]
[null,null,"Is customer interested in financing?","Yes"]
[]
[null,null,"If not, why?"]
[]
[]
[null,null,"First Western Equipment Finance - Leasing Calculation Option:",null,"Option 1",null,"Option 2",null,null,{"$f":"Financing!A38","v":"Rates 2025 - Rev. 5/6/2025"}]
[null,null,null,null,"Monthly Payment","Cost Per Day","Monthly Payment","Cost Per Day",null,{"$f":"Financing!A39","v":"“Blank Payment Amounts Indicate The Financing Option Or Purchase Options Selected Are Not "}]
[null,null,"Purchase Option:",null,"FWEF:  $1 Buyout Lease",null,"FWEF: Municipal Lease",null,null,{"$f":"Financing!A40","v":"Applicable Or The Machine Total Is Below The Minimum Amount For The Selected Vendor”"}]
[null,null,"24 Months",null,0,0,0,0,null,{"$f":"Financing!A41","v":"\"Quoted monthly payments are estimates only and are based on a certain level of credit rating."}]
[null,null,"30 Months",null,0,0,0,0,null,{"$f":"Financing!A42","v":"Actual monthly payments may be higher depending on your credit rating.\""}]
[null,null,"36 Months",null,0,0,0,0,null,{"$f":"Financing!A43","v":"“Financing rates do not include Pre-Paid Service”"}]
[null,null,"48 Months",null,0,0,0,0,null,{"$f":"Financing!A44","v":0}]
[]
[null,null,null,"Benefits of Equipment Financing:"]
[null,null,null,"• Spreads out investment over time.",null,"• Keep current with latest technology."]
[null,null,null,"• Preserve capital.",null,"• Service and parts bundling available."]
[null,null,null,"• Low monthly payment.",null,"• Pay for labor savings as you go."]
[]
[]
[null,null,"Bundled Offerings",null,"Flexclean – Fair Market Value",null,"Flexclean - $1 Buyout"]
[null,null,"FlexClean: ",null,"36 Month Term",null,"36 Month Term",null,null,"No","AB Brushes"]
[null,null,"Hours included per Month:",null,"Gold","Silver","Gold","Silver","Check"]
[null,null,"< 30/mo. (Avg. 1hr./day)",null,null,null,null,null,null,null,{"$f":"FlexCleanCalc!$A21","v":"“FlexClean monthly rates include payment for both machine and service.”"}]
[null,null,"< 60/mo. (Avg. 2hrs./day)"]
[null,null,"< 90/mo. (Avg. 3hrs./day)"]
[null,null,"*This value assumes one service contract regardless of the number of UNITS included in the quote"]
[]
[]
[null,null,"Bundled Offerings",null,"Flexclean – Fair Market Value",null,"Flexclean - $1 Buyout"]
[null,null,"FlexClean 2: ",null,"48 Month Term",null,"48 Month Term"]
[null,null,"Hours included per Month:",null,"Gold","Silver","Gold","Silver"]
[null,null,"< 30/mo. (Avg. 1hr./day)"]
[null,null,"< 60/mo. (Avg. 2hrs./day)"]
[null,null,"< 90/mo. (Avg. 3hrs./day)"]
[null,null,"*This value assumes one service contract regardless of the number of UNITS included in the quote"]
[]
[null,null,"Bundled Offerings",null,"Flexclean – Fair Market Value",null,"Flexclean - $1 Buyout"]
[null,null,"FlexClean 3: ",null,"60 Month Term",null,"60 Month Term"]
[null,null,"Hours included per Month:",null,"Gold","Silver","Gold","Silver"]
[null,null,"< 30/mo. (Avg. 1hr./day)"]
[null,null,"< 60/mo. (Avg. 2hrs./day)"]
[null,null,"< 90/mo. (Avg. 3hrs./day)"]
[null,null,"*This value assumes one service contract regardless of the number of UNITS included in the quote"]
[]
[null,"  TennantTrue",null,0]
[]
[null,null,"Is customer interested in service program?","Yes","*State/County selection required for TennantTrue service options"]
[]
[null,null,"If not, why?"]
[]
[null,null,"Term:",36,null,"AB Brushes","No"]
[null,null,"Monthly machine usage (hrs):","< 30/mo. (Avg. 1hr./day)"]
[]
[null,null,"TennantTrue: ","Gold Contract",null,"Silver Contract"]
[null,null,"Per Visit",null,null,501]
[null,null,"Monthly",148,null,88]
[null,null,"Annually",null,null,1035]
[null,null,"Pre-Pay Full Term",5119,null,3042]
[null,null,"Hourly Labor Rate"]
[null,null,"Site Visit"]
[]
[null,null,"* Verify customer current pricing prior to quote. "]
[null,null,"**All rates and fees above reflect service for one (1) unit with the exception of Block of Time service."]
[null,null,"*Block of Time is available in 1 Year Term only and is priced as such no matter the term selection on this template."]
[]
[]
[]
[null,null,"Quote Special Instructions:"]
[]
[]
[null,null,{"$f":"Start_Here!E36","v":"Terms and Conditions"}]
[null,null,{"$f":"Start_Here!E37","v":"Ask your local sales rep for estimated lead times. Verify when placing order"}]
[null,null,{"$f":"Start_Here!E38","v":"All orders subject to acceptance by Tennant Sales and Service Company, Minneapolis, Minnesota"}]
[null,null,{"$f":"Start_Here!E39","v":"Prices subject to change without notice."}]
[null,null,{"$f":"Start_Here!E40","v":"Terms:  Net 30 days.  Subject to any applicable taxes."}]
[null,null,{"$f":"Start_Here!E41","v":"Freight: Machines and accessory orders delivered FOB shipping point Frt PPD & Add"}]
[null,null,{"$f":"Start_Here!E42","v":"Parts, supplies, detergents and floor treating material orders delivered FOB "}]
[null,null,{"$f":"Start_Here!E43","v":"shipping point Frt PPD"}]
[null,null,{"$f":"Start_Here!E44","v":"All orders are subject to Tennant’s General Terms and Conditions available at http://www.tennantco.com/terms."}]
[null,null,{"$f":"Start_Here!E45","v":"Printed General Terms and Conditions are also available upon request."}]
[null,null,{"$f":"Start_Here!E46","v":0}]
[]
[null,null,null,null,null,"Quote Date :",null,{"$f":"Letter!$A$25","v":"2020-09-22"}]
[null,"Order Placement Information:  To place your order, fill in PO# and customer signatures,"]
[null,"call or fax to the numbers listed below. Customer Purchase Order is required."]
[null,"If information is missing, orders will be entered and held until all information is received."]
[null,null,"Customer Number",null,"Cust Grp 3"]
[null,null,{"$f":"Start_Here!$C$25","v":0},null,{"$f":"Start_Here!$C$29","v":0}]
[null,null,{"$f":"Start_Here!$B$18","v":"Who Owns the Machine? (Sold-To Info) (Please Verify)"}]
["Company",null,{"$f":"Start_Here!$C$19","v":"Company Name"}]
["Address",null,{"$f":"Start_Here!$C$20","v":"Address"}]
[null,null,{"$f":"Start_Here!$C$21","v":"City, State Zip"}]
["Name",null,{"$f":"Start_Here!$C$22","v":"Contact Name"}]
["Phone",null,{"$f":"Start_Here!$C$23","v":"Contact Phone"}]
[null,null,{"$f":"Start_Here!$B$11","v":"Where is the Machine Being Shipped? (Ship-To Info) (Please Verify)"}]
["Company",null,{"$f":"Start_Here!$C$12","v":"Company Name"}]
["Address",null,{"$f":"Start_Here!$C$13","v":"Address"}]
[null,null,{"$f":"Start_Here!$C$14","v":"City, State Zip"}]
["Name",null,{"$f":"Start_Here!$C$15","v":"Contact Name"}]
["Phone",null,{"$f":"Start_Here!$C$16","v":"Contact Phone"}]
[null,null,{"$f":"Start_Here!$B$31","v":"Shipping / Carrier Instructions:"},null,"Order Special Instructions:"]
[null,null,{"$f":"Start_Here!$C$32","v":0}]
[]
[null,null,"Customer Purchase Order No."]
[null,null,"(please attach copy)"]
[]
[]
[null,null,"Tax Exempt",null,"Yes"]
[null,null,null,null,"No"]
[null,null,"If Yes, attach a copy of your exemption certificate."]
[]
[null,null,"Requested Delivery Date"]
[null,null,{"$f":"Start_Here!$C$28","v":0}]
[]
[null,null,{"$f":"Start_Here!$C$26","v":0},null,{"$f":"Start_Here!$C$27","v":0}]
[null,0,"Authorized Buyer (please print)",null,"Phone Number"]
[]
[]
[null,0,"Authorized Buyer Signature"]
[]
[null,null,{"$f":"Start_Here!$C$41","v":"Rep Name"}]
[null,null,"Tennant Representative"]
[]
[]
["Specialized Maintenance Equipment"]
[{"$f":"Start_Here!$C$47","v":0}]
[{"$f":"Start_Here!$C$48","v":"TENNANT · 10400 Clean Street · Eden Prairie, MN 55344 ·"}]
[]
[null,"Notes"]
[null,1,"Factory installed pricing.   Only available on wet batteries, not sealed. "]
[]
[null,2,"Operator and Parts manuals can be ordered free of charge on Tennantco.com and service manuals on My Account."]
[]
[null,3,"Pad wrap available only in the Continental US and is the default packaging method."]
[null,null,"Customer MUST order Skid w/Carton, Non-Stackable or Skid w/Stretch Wrap if WITHOUT BATTERY is selected."]
[null,null,"Skid w/Carton, Non-Stackable is mandatory when shipping to AK and HI.  Packaging is added at No Charge when shipping"]
[null,null,"to these locations."]
[]
[null,4,"Shipping Weights and Dimensions","Pad Wrap","Skid w/ Carton"]
[]
[null,null,"24\" / 610mm Cleaning Path"]
[null,null,"Weight (w/ 435AH Battery)","1,339 lbs / 608 Kg","1,346 lbs / 610 Kg"]
[null,null,"Length","58.5\" / 1,485mm","85\" / 2,159mm"]
[null,null,"Width","30\" / 762mm","46\" / 1,169mm"]
[null,null,"Height","55\" / 1,397mm","63\" / 1,600mm"]
[]
[null,null,"27\" / 690mm Cleaning Path"]
[null,null,"Weight (w/ 435AH Battery)","1,343 lbs / 610 Kg","1,350 lbs / 612 Kg"]
[null,null,"Length","58.5\" / 1,485mm","85\" / 2,159mm"]
[null,null,"Width","31.5\" / 800mm","46\" / 1,169mm"]
[null,null,"Height","55\" / 1,397mm","63\" / 1,600mm"]

{"sheet":"B7","index":16,"n_rows":253,"n_cols":12,"rows_kept":253,"cut":false,"hidden":false,"merged":[[190,4,190,7],[192,2,192,5],[0,2,0,3],[1,2,1,3],[2,2,2,3],[3,2,3,3],[113,2,113,3],[105,3,105,6],[108,2,108,3],[108,4,108,5],[108,6,108,7],[111,2,111,3],[110,2,110,3],[110,4,110,5],[110,6,110,7],[109,2,109,3],[122,2,122,3],[124,2,124,3],[153,3,153,4],[154,3,154,4],[49,2,49,4],[51,2,51,4],[114,2,114,3],[112,2,112,3],[131,2,131,3],[131,4,131,5],[11,2,11,6],[27,2,27,6],[28,2,28,6],[29,2,29,6],[30,2,30,6],[31,2,31,6],[32,2,32,6],[202,2,202,5],[204,4,204,7],[208,2,208,5],[132,2,132,3],[132,4,132,5],[132,6,132,7],[122,4,122,5],[139,2,139,3],[139,4,139,5],[122,6,122,7],[123,2,123,3],[123,4,123,5],[123,6,123,7],[127,2,127,3],[217,4,217,5],[193,2,193,5],[194,2,194,5],[195,2,195,5],[196,2,196,5],[198,2,198,5],[199,2,199,5],[201,2,201,5],[200,2,200,5],[189,4,189,6],[140,2,140,3],[140,4,140,5],[140,6,140,7],[141,2,141,3],[149,4,149,8],[151,3,151,6],[143,2,143,3],[144,2,144,3],[171,2,171,7],[161,3,161,4],[161,5,161,6],[158,3,158,4],[162,3,162,4],[162,5,162,6],[159,3,159,4],[131,6,131,7],[125,2,125,3],[126,2,126,3],[139,6,139,7],[158,5,158,6],[156,3,156,4],[133,2,133,3],[134,2,134,3],[135,2,135,3],[136,2,136,3],[142,2,142,3],[159,5,159,6],[160,3,160,4],[160,5,160,6],[156,5,156,6],[157,3,157,4],[157,5,157,6]]}
["B7",null,{"$f":"Start_Here!$C19","v":"Company Name"}]
[{"$f":"SUM(H100)","v":0},null,{"$f":"Start_Here!$C20","v":"Address"}]
[null,null,{"$f":"Start_Here!$C21","v":"City, State Zip"}]
[null,null,{"$f":"Start_Here!$C22","v":"Contact Name"}]
[null,null,{"$f":"Start_Here!$C$41","v":"Rep Name"}]
[null,null,{"$f":"Start_Here!$C$37","v":"Tennant Sales and Service Company"}]
[null,null,{"$f":"Start_Here!$C$38","v":"10400 Clean Street"}]
[null,null,{"$f":"Start_Here!$C$39","v":"Eden Prairie, MN 55344"}]
[null,null,{"$f":"Start_Here!$C$43","v":"800-553-8033"},null,null,"Quote Date :",null,{"$f":"Letter!$A$25","v":"2020-09-22"}]
[]
[null,null,{"$f":"Help!C2","v":"US Date Rev - 5/6/2025"}]
[null,null,"BUILT-IN “TENNANT VALUE” INCLUDES:"]
[]
[null,null,"610mm/690mm or 24\"/27\" Burnishing Path",null,"On Board Charger"]
[null,null,"Transaxel drive",null,"3m/15 ft power cord"]
[null,null,"Active Dust Control",null,"Battery Tray"]
[null,null,"HEPA Filtration - 99.97 @ .3 microns",null,"Variable Bail"]
[null,null,"Tooless Felt Dust skirt",null,"On-Board Trouble Shooting Guide"]
[null,null,"Pad RPM - 1850 ",null,"ETL Listed for the US and Canada"]
[null,null,"Automated Down Pressure - Variable",null,"64 dBa"]
[null,null,"True Free Floating Head",null,"Emergency Stop"]
[null,null,"Rugged DuramerTM Tank Construction",null,"Key Switch"]
[null,null,"Two-Way Gas Assist Shock for Tank Open/Close",null,"Hour Meter"]
[null,null,"Anti-Static Straps",null,"Operators manual"]
[null,null,"Clamshell Tank Design",null,"Jacking Points/Shipping Tie Downs"]
[null,null,"Unit shipped with 1 burnishing pad, paper bag and HEPA filter"]
[]
[null,null,"TENNANT COMPANY WARRANTY"]
[null,null,"3 YEARS OR 2000 HOURS - PARTS"]
[null,null,"1 YEAR - BATTERY CHARGERS"]
[null,null,"2 YEARS - LABOR"]
[null,null,"6 MONTHS - TRAVEL"]
[null,null,"10 YEARS ON DURAMERTM TANKS"]
[]
[null,null,null,null,null,"Quote Request Information"]
[null,null,null,null,null,null,null,"Fax (quote only)"]
[null,null,null,null,null,null,null,"Mail (quote,lit, specs)"]
[null,null,null,null,null,null,null,"Fax + Mail"]
[]
[null,null,null,null,null,"                Primary Use"]
[null,null,null,null,null,null,null,"Inside"]
[null,null,null,null,null,null,null,"Outside"]
[]
[]
[null,null,"Description",null,"Reference # ","Price Each","Qty","Extended Pr"]
[null,"Pre-Configured Machines",null,null,null,null,{"$f":"SUM(G47:G48)","v":0}]
[null,null,"690mm / 27\", Self Propel, 330AH Battery, On-Board Charger, Automated Down Pressure, Active Dust Control System w/ Paper Filter Bag, HEPA Filter, Pad Wrap",null,"MV-B7-0008",17899,null,{"$f":"G47*F47","v":0},{"$f":"IFERROR(IFERROR(VLOOKUP(E47,Surcharge!A:B,2,FALSE)*G47, VLOOKUP(E47 & \"\",Surcharge!A:B,2,FALSE)*G47), \"\")","v":0}]
[null,null,"690mm / 27\", Self Propel, 330AH Battery, On-Board Charger, Mechanical Down Pressure, Passive Dust Control System w/ Paper Filter Bag, Pad Wrap",null,"MV-B7-0009",17015,null,0,{"$f":"IFERROR(IFERROR(VLOOKUP(E48,Surcharge!A:B,2,FALSE)*G48, VLOOKUP(E48 & \"\",Surcharge!A:B,2,FALSE)*G48), \"\")","v":0}]
[null,null,null,null,null,null,{"$f":"SUM(G47:G48)","v":0},null,{"$f":"IFERROR(IFERROR(VLOOKUP(E49,Surcharge!A:B,2,FALSE)*G49, VLOOKUP(E49 & \"\",Surcharge!A:B,2,FALSE)*G49), \"\")","v":""}]
[null,null,"Above unit(s) include an English Operator Manual.  No additional options can be added or changed, including packaging/shipping.",null,null,null,{"$f":"SUM(G49)","v":0},null,{"$f":"IFERROR(IFERROR(VLOOKUP(E50,Surcharge!A:B,2,FALSE)*G50, VLOOKUP(E50 & \"\",Surcharge!A:B,2,FALSE)*G50), \"\")","v":""}]
[null,null,null,null,null,null,{"$f":"SUM(G50)","v":0},null,{"$f":"IFERROR(IFERROR(VLOOKUP(E51,Surcharge!A:B,2,FALSE)*G51, VLOOKUP(E51 & \"\",Surcharge!A:B,2,FALSE)*G51), \"\")","v":""}]
[null,null,"All units listed above will ship Pad Wrap via Logix Transportation.  These units cannot ship to AK or HI.",null,null,null,0,null,{"$f":"IFERROR(IFERROR(VLOOKUP(E52,Surcharge!A:B,2,FALSE)*G52, VLOOKUP(E52 & \"\",Surcharge!A:B,2,FALSE)*G52), \"\")","v":""}]
[null,null,null,null,null,null,{"$f":"SUM(G52)","v":0},null,{"$f":"IFERROR(IFERROR(VLOOKUP(E53,Surcharge!A:B,2,FALSE)*G53, VLOOKUP(E53 & \"\",Surcharge!A:B,2,FALSE)*G53), \"\")","v":""}]
[null,"Base Configuration",null,null,"Reference Number",null,{"$f":"SUM(G55,G59,G63,G66,G69)","v":0},null,{"$f":"IFERROR(IFERROR(VLOOKUP(E54,Surcharge!A:B,2,FALSE)*G54, VLOOKUP(E54 & \"\",Surcharge!A:B,2,FALSE)*G54), \"\")","v":""}]
[null,null,"Cleaning Type",null,null,null,{"$f":"SUM(G56:G57)","v":0},null,{"$f":"IFERROR(IFERROR(VLOOKUP(E55,Surcharge!A:B,2,FALSE)*G55, VLOOKUP(E55 & \"\",Surcharge!A:B,2,FALSE)*G55), \"\")","v":""}]
[null,null,"B7 Battery  Walk-Behind Burnisher 610mm/24\"",null,"B7-610",15467,null,{"$f":"G56*F56","v":0},{"$f":"IFERROR(IFERROR(VLOOKUP(E56,Surcharge!A:B,2,FALSE)*G56, VLOOKUP(E56 & \"\",Surcharge!A:B,2,FALSE)*G56), \"\")","v":""}]
[null,null,"B7 Battery Walk-Behind Burnisher 690mm/27\"",null,"B7-690",16989,null,{"$f":"G57*F57","v":0},{"$f":"IFERROR(IFERROR(VLOOKUP(E57,Surcharge!A:B,2,FALSE)*G57, VLOOKUP(E57 & \"\",Surcharge!A:B,2,FALSE)*G57), \"\")","v":""}]
[null,null,null,null,null,null,null,null,{"$f":"IFERROR(IFERROR(VLOOKUP(E58,Surcharge!A:B,2,FALSE)*G58, VLOOKUP(E58 & \"\",Surcharge!A:B,2,FALSE)*G58), \"\")","v":""}]
[null,null,"Battery Type",null,null,null,{"$f":"SUM(G60:G61)","v":0},null,{"$f":"IFERROR(IFERROR(VLOOKUP(E59,Surcharge!A:B,2,FALSE)*G59, VLOOKUP(E59 & \"\",Surcharge!A:B,2,FALSE)*G59), \"\")","v":""}]
[null,null,"Wet 330AH C/20  (Kit of 6 batteries)  ",null,9012674,910,null,{"$f":"G60*F60","v":0},{"$f":"IFERROR(IFERROR(VLOOKUP(E60,Surcharge!A:B,2,FALSE)*G60, VLOOKUP(E60 & \"\",Surcharge!A:B,2,FALSE)*G60), \"\")","v":""}]
[null,null,"Sealed/MF AGM 312AH C/20  (Kit of 6 batteries)",null,9012676,3640,null,{"$f":"G61*F61","v":0},{"$f":"IFERROR(IFERROR(VLOOKUP(E61,Surcharge!A:B,2,FALSE)*G61, VLOOKUP(E61 & \"\",Surcharge!A:B,2,FALSE)*G61), \"\")","v":""}]
[null,null,null,null,null,null,null,null,{"$f":"IFERROR(IFERROR(VLOOKUP(E62,Surcharge!A:B,2,FALSE)*G62, VLOOKUP(E62 & \"\",Surcharge!A:B,2,FALSE)*G62), \"\")","v":""}]
[null,null,"Battery Watering System",null,null,null,{"$f":"SUM(G64)","v":0},null,{"$f":"IFERROR(IFERROR(VLOOKUP(E63,Surcharge!A:B,2,FALSE)*G63, VLOOKUP(E63 & \"\",Surcharge!A:B,2,FALSE)*G63), \"\")","v":""}]
[null,null,"Manual Battery Watering Kit  (Note 1)",null,9009620,853,null,{"$f":"G64*F64","v":0},{"$f":"IFERROR(IFERROR(VLOOKUP(E64,Surcharge!A:B,2,FALSE)*G64, VLOOKUP(E64 & \"\",Surcharge!A:B,2,FALSE)*G64), \"\")","v":""}]
[null,null,null,null,null,null,null,null,{"$f":"IFERROR(IFERROR(VLOOKUP(E65,Surcharge!A:B,2,FALSE)*G65, VLOOKUP(E65 & \"\",Surcharge!A:B,2,FALSE)*G65), \"\")","v":""}]
[null,null,"Charger",null,null,null,{"$f":"SUM(G67:G67)","v":0},null,{"$f":"IFERROR(IFERROR(VLOOKUP(E66,Surcharge!A:B,2,FALSE)*G66, VLOOKUP(E66 & \"\",Surcharge!A:B,2,FALSE)*G66), \"\")","v":""}]
[null,null,"25A 85-265V AC 50/60Hz 1Ph (on board)",null,9012668,"N/C     ",null,{"$f":"IF(G67=0,\" \",\"N/C\")","v":" "},{"$f":"IFERROR(IFERROR(VLOOKUP(E67,Surcharge!A:B,2,FALSE)*G67, VLOOKUP(E67 & \"\",Surcharge!A:B,2,FALSE)*G67), \"\")","v":""}]
[null,null,null,null,null,null,null,null,{"$f":"IFERROR(IFERROR(VLOOKUP(E68,Surcharge!A:B,2,FALSE)*G68, VLOOKUP(E68 & \"\",Surcharge!A:B,2,FALSE)*G68), \"\")","v":""}]
[null,null,"Down Pressure",null,null,null,{"$f":"SUM(G70:G71)","v":0},null,{"$f":"IFERROR(IFERROR(VLOOKUP(E69,Surcharge!A:B,2,FALSE)*G69, VLOOKUP(E69 & \"\",Surcharge!A:B,2,FALSE)*G69), \"\")","v":""}]
[null,null,"Automated Down Pressure",null,9012641,"N/C     ",null,{"$f":"IF(G70=0,\" \",\"N/C\")","v":" "},{"$f":"IFERROR(IFERROR(VLOOKUP(E70,Surcharge!A:B,2,FALSE)*G70, VLOOKUP(E70 & \"\",Surcharge!A:B,2,FALSE)*G70), \"\")","v":""}]
[null,null,"Mechanical Set and Forget TM Down Pressure",null,9012640,-470,null,{"$f":"G71*F71","v":0},{"$f":"IFERROR(IFERROR(VLOOKUP(E71,Surcharge!A:B,2,FALSE)*G71, VLOOKUP(E71 & \"\",Surcharge!A:B,2,FALSE)*G71), \"\")","v":""}]
[null,null,null,null,null,null,null,null,{"$f":"IFERROR(IFERROR(VLOOKUP(E72,Surcharge!A:B,2,FALSE)*G72, VLOOKUP(E72 & \"\",Surcharge!A:B,2,FALSE)*G72), \"\")","v":""}]
[null,"Cleaning Performance",null,null,"Reference Number",null,{"$f":"SUM(G74:G76)","v":0},null,{"$f":"IFERROR(IFERROR(VLOOKUP(E73,Surcharge!A:B,2,FALSE)*G73, VLOOKUP(E73 & \"\",Surcharge!A:B,2,FALSE)*G73), \"\")","v":""}]
[null,null,"Dust Control, Active - HEPA Filtration to 99.97% @ .3 microns",null,9012651,"N/C     ",null,{"$f":"IF(G74=0,\" \",\"N/C\")","v":" "},{"$f":"IFERROR(IFERROR(VLOOKUP(E74,Surcharge!A:B,2,FALSE)*G74, VLOOKUP(E74 & \"\",Surcharge!A:B,2,FALSE)*G74), \"\")","v":""}]
[null,null,"Dust Control, Passive - 95% @ .3 microns ",null,"PASSIVE",-414,null,{"$f":"G75*F75","v":0},{"$f":"IFERROR(IFERROR(VLOOKUP(E75,Surcharge!A:B,2,FALSE)*G75, VLOOKUP(E75 & \"\",Surcharge!A:B,2,FALSE)*G75), \"\")","v":""}]
[null,null,"Dust Control Filter, Paper Filter Bag",null,1210869,"N/C     ",null,{"$f":"IF(G76=0,\" \",\"N/C\")","v":" "},{"$f":"IFERROR(IFERROR(VLOOKUP(E76,Surcharge!A:B,2,FALSE)*G76, VLOOKUP(E76 & \"\",Surcharge!A:B,2,FALSE)*G76), \"\")","v":""}]
[null,null,null,null,null,null,null,null,{"$f":"IFERROR(IFERROR(VLOOKUP(E77,Surcharge!A:B,2,FALSE)*G77, VLOOKUP(E77 & \"\",Surcharge!A:B,2,FALSE)*G77), \"\")","v":""}]
[null,"Support  (Note 2)",null,null,"Reference Number",null,{"$f":"SUM(G79:G82)","v":0},null,{"$f":"IFERROR(IFERROR(VLOOKUP(E78,Surcharge!A:B,2,FALSE)*G78, VLOOKUP(E78 & \"\",Surcharge!A:B,2,FALSE)*G78), \"\")","v":""}]
[null,null,"B7 Operator Manual  - English",null,9011840,"N/C     ",null,{"$f":"IF(G79=0,\" \",\"N/C\")","v":" "},{"$f":"IFERROR(IFERROR(VLOOKUP(E79,Surcharge!A:B,2,FALSE)*G79, VLOOKUP(E79 & \"\",Surcharge!A:B,2,FALSE)*G79), \"\")","v":""}]
[null,null,"B7 Operator Manual - French",null,9011486,"N/C     ",null," ",{"$f":"IFERROR(IFERROR(VLOOKUP(E80,Surcharge!A:B,2,FALSE)*G80, VLOOKUP(E80 & \"\",Surcharge!A:B,2,FALSE)*G80), \"\")","v":""}]
[null,null,null,null,null,null,null,null,{"$f":"IFERROR(IFERROR(VLOOKUP(E81,Surcharge!A:B,2,FALSE)*G81, VLOOKUP(E81 & \"\",Surcharge!A:B,2,FALSE)*G81), \"\")","v":""}]
[null,null,"Packaging  (Note 3)",null,null,null,{"$f":"SUM(G83:G84)","v":0},null,{"$f":"IFERROR(IFERROR(VLOOKUP(E82,Surcharge!A:B,2,FALSE)*G82, VLOOKUP(E82 & \"\",Surcharge!A:B,2,FALSE)*G82), \"\")","v":""}]
[null,null,"Pad Wrap",null,44961,"N/C     ",null,{"$f":"IF(G83=0,\" \",\"N/C\")","v":" "},{"$f":"IFERROR(IFERROR(VLOOKUP(E83,Surcharge!A:B,2,FALSE)*G83, VLOOKUP(E83 & \"\",Surcharge!A:B,2,FALSE)*G83), \"\")","v":""}]
[null,null,"Skid w/Carton, Stackable",null,9012681,381,null,{"$f":"G84*F84","v":0},{"$f":"IFERROR(IFERROR(VLOOKUP(E84,Surcharge!A:B,2,FALSE)*G84, VLOOKUP(E84 & \"\",Surcharge!A:B,2,FALSE)*G84), \"\")","v":""}]
[null,null,null,null,null,null,null,null,{"$f":"IFERROR(IFERROR(VLOOKUP(E85,Surcharge!A:B,2,FALSE)*G85, VLOOKUP(E85 & \"\",Surcharge!A:B,2,FALSE)*G85), \"\")","v":""}]
[null,null,null,null,null,null,{"$f":"SUM(#REF!)","v":{"$error":"#REF!"}}]
[]
[null,null,null,null,null,{"$f":"ROUND(SUM(H47:H87), 0)","v":0},{"$f":"SUM(F89)","v":0}]
[null,null,null,null,"Machine Subtotal ",{"$f":"ROUND(SUM(H47:H87), 0)","v":0},{"$f":"G88","v":0}]
[null,"Discounts",null,null,null,null,{"$f":"SUM(G91)","v":0}]
[null,null,null,null,null,null,{"$f":"SUM(G92:G93)","v":0}]
[null,null,null,null,"Discount %",null,{"$f":"IF(F92 <> \"\", 1, 0)","v":0},{"$f":"IF(G92*(F92*0.01)*F88 < 0, G92*(F92*0.01)*F88, -(G92*(F92*0.01)*F88))","v":0}]
[null,null,null,null,"Discount $",null,{"$f":"IF(F93 <> \"\", 1, 0)","v":0},{"$f":"IF(G93*F93 < 0, G93*F93, -(G93*F93))","v":0}]
[null,null,null,null,"Discount Total ",{"$f":"SUM(H92:H93)","v":0},{"$f":"SUM(F94)","v":0}]
[null,null,null,null,null,{"$f":"#REF!","v":{"$error":"#REF!"}},{"$f":"#REF!","v":{"$error":"#REF!"}}]
[null,null,null,null,null,null,{"$f":"G95","v":{"$error":"#REF!"}}]
[null,null,"Prepaid and Add",null,"Freight",null,{"$f":"IF(F97 <> \"\", 1, 0)","v":0},{"$f":"G97*F97","v":0}]
[null,null,"Subject to all applicable taxes",null,"Tax",null,0,{"$f":"G98*F98","v":0}]
[null,null,null,null,null,null,{"$f":"SUM(G100)","v":0}]
[null,null,null,null,"MACHINE TOTAL*",null,{"$f":"SUM(H100)","v":0},{"$f":"SUM(H47:H98)","v":0},null,null,null,"This goes to \"My Documents\""]
[null,null,null,null,null,null,null,{"$f":"SUM(H100)","v":0}]
[null,"Financing"]
[]
[null,null,"Is customer interested in financing?","Yes"]
[]
[null,null,"If not, why?"]
[]
[]
[null,null,"First Western Equipment Finance - Leasing Calculation Option:",null,"Option 1",null,"Option 2",null,null,{"$f":"Financing!A38","v":"Rates 2025 - Rev. 5/6/2025"}]
[null,null,null,null,"Monthly Payment","Cost Per Day","Monthly Payment","Cost Per Day",null,{"$f":"Financing!A39","v":"“Blank Payment Amounts Indicate The Financing Option Or Purchase Options Selected Are Not "}]
[null,null,"Purchase Option:",null,"FWEF:  $1 Buyout Lease",null,"FWEF: Municipal Lease",null,null,{"$f":"Financing!A40","v":"Applicable Or The Machine Total Is Below The Minimum Amount For The Selected Vendor”"}]
[null,null,"24 Months",null,0,0,0,0,null,{"$f":"Financing!A41","v":"\"Quoted monthly payments are estimates only and are based on a certain level of credit rating."}]
[null,null,"30 Months",null,0,0,0,0,null,{"$f":"Financing!A42","v":"Actual monthly payments may be higher depending on your credit rating.\""}]
[null,null,"36 Months",null,0,0,0,0,null,{"$f":"Financing!A43","v":"“Financing rates do not include Pre-Paid Service”"}]
[null,null,"48 Months",null,0,0,0,0,null,{"$f":"Financing!A44","v":0}]
[]
[null,null,null,"Benefits of Equipment Financing:"]
[null,null,null,"• Spreads out investment over time.",null,"• Keep current with latest technology."]
[null,null,null,"• Preserve capital.",null,"• Service and parts bundling available."]
[null,null,null,"• Low monthly payment.",null,"• Pay for labor savings as you go."]
[]
[]
[null,null,"Bundled Offerings",null,"Flexclean – Fair Market Value",null,"Flexclean - $1 Buyout"]
[null,null,"FlexClean: ",null,"36 Month Term",null,"36 Month Term",null,null,"No","AB Brushes"]
[null,null,"Hours included per Month:",null,"Gold","Silver","Gold","Silver","Check"]
[null,null,"< 30/mo. (Avg. 1hr./day)",null,null,null,null,null,null,null,{"$f":"FlexCleanCalc!$A21","v":"“FlexClean monthly rates include payment for both machine and service.”"}]
[null,null,"< 60/mo. (Avg. 2hrs./day)"]
[null,null,"< 90/mo. (Avg. 3hrs./day)"]
[null,null,"*This value assumes one service contract regardless of the number of UNITS included in the quote"]
[]
[]
[null,null,"Bundled Offerings",null,"Flexclean – Fair Market Value",null,"Flexclean - $1 Buyout"]
[null,null,"FlexClean 2: ",null,"48 Month Term",null,"48 Month Term"]
[null,null,"Hours included per Month:",null,"Gold","Silver","Gold","Silver"]
[null,null,"< 30/mo. (Avg. 1hr./day)"]
[null,null,"< 60/mo. (Avg. 2hrs./day)"]
[null,null,"< 90/mo. (Avg. 3hrs./day)"]
[null,null,"*This value assumes one service contract regardless of the number of UNITS included in the quote"]
[]
[null,null,"Bundled Offerings",null,"Flexclean – Fair Market Value",null,"Flexclean - $1 Buyout"]
[null,null,"FlexClean 3: ",null,"60 Month Term",null,"60 Month Term"]
[null,null,"Hours included per Month:",null,"Gold","Silver","Gold","Silver"]
[null,null,"< 30/mo. (Avg. 1hr./day)"]
[null,null,"< 60/mo. (Avg. 2hrs./day)"]
[null,null,"< 90/mo. (Avg. 3hrs./day)"]
[null,null,"*This value assumes one service contract regardless of the number of UNITS included in the quote"]
[]
[null,"  TennantTrue",null,0]
[]
[null,null,"Is customer interested in service program?","Yes","*State/County selection required for TennantTrue service options"]
[]
[null,null,"If not, why?"]
[]
[null,null,"Term:",36,null,"AB Brushes","No"]
[null,null,"Monthly machine usage (hrs):","< 30/mo. (Avg. 1hr./day)"]
[]
[null,null,"TennantTrue: ","Gold Contract",null,"Silver Contract"]
[null,null,"Per Visit",null,null,336]
[null,null,"Monthly",112,null,56]
[null,null,"Annually",null,null,659]
[null,null,"Pre-Pay Full Term",3882,null,1936]
[null,null,"Hourly Labor Rate"]
[null,null,"Site Visit"]
[]
[null,null,"* Verify customer current pricing prior to quote. "]
[null,null,"**All rates and fees above reflect service for one (1) unit with the exception of Block of Time service."]
[null,null,"*Block of Time is available in 1 Year Term only and is priced as such no matter the term selection on this template."]
[]
[]
[]
[null,null,"Quote Special Instructions:"]
[]
[]
[null,null,{"$f":"Start_Here!E36","v":"Terms and Conditions"}]
[null,null,{"$f":"Start_Here!E37","v":"Ask your local sales rep for estimated lead times. Verify when placing order"}]
[null,null,{"$f":"Start_Here!E38","v":"All orders subject to acceptance by Tennant Sales and Service Company, Minneapolis, Minnesota"}]
[null,null,{"$f":"Start_Here!E39","v":"Prices subject to change without notice."}]
[null,null,{"$f":"Start_Here!E40","v":"Terms:  Net 30 days.  Subject to any applicable taxes."}]
[null,null,{"$f":"Start_Here!E41","v":"Freight: Machines and accessory orders delivered FOB shipping point Frt PPD & Add"}]
[null,null,{"$f":"Start_Here!E42","v":"Parts, supplies, detergents and floor treating material orders delivered FOB "}]
[null,null,{"$f":"Start_Here!E43","v":"shipping point Frt PPD"}]
[null,null,{"$f":"Start_Here!E44","v":"All orders are subject to Tennant’s General Terms and Conditions available at http://www.tennantco.com/terms."}]
[null,null,{"$f":"Start_Here!E45","v":"Printed General Terms and Conditions are also available upon request."}]
[null,null,{"$f":"Start_Here!E46","v":0}]
[]
[null,null,null,null,null,"Quote Date :",null,{"$f":"Letter!$A$25","v":"2020-09-22"}]
[null,"Order Placement Information:  To place your order, fill in PO# and customer signatures,"]
[null,"call or fax to the numbers listed below. Customer Purchase Order is required."]
[null,"If information is missing, orders will be entered and held until all information is received."]
[null,null,"Customer Number",null,"Cust Grp 3"]
[null,null,{"$f":"Start_Here!$C$25","v":0},null,{"$f":"Start_Here!$C$29","v":0}]
[null,null,{"$f":"Start_Here!$B$18","v":"Who Owns the Machine? (Sold-To Info) (Please Verify)"}]
["Company",null,{"$f":"Start_Here!$C$19","v":"Company Name"}]
["Address",null,{"$f":"Start_Here!$C$20","v":"Address"}]
[null,null,{"$f":"Start_Here!$C$21","v":"City, State Zip"}]
["Name",null,{"$f":"Start_Here!$C$22","v":"Contact Name"}]
["Phone",null,{"$f":"Start_Here!$C$23","v":"Contact Phone"}]
[null,null,{"$f":"Start_Here!$B$11","v":"Where is the Machine Being Shipped? (Ship-To Info) (Please Verify)"}]
["Company",null,{"$f":"Start_Here!$C$12","v":"Company Name"}]
["Address",null,{"$f":"Start_Here!$C$13","v":"Address"}]
[null,null,{"$f":"Start_Here!$C$14","v":"City, State Zip"}]
["Name",null,{"$f":"Start_Here!$C$15","v":"Contact Name"}]
["Phone",null,{"$f":"Start_Here!$C$16","v":"Contact Phone"}]
[null,null,{"$f":"Start_Here!$B$31","v":"Shipping / Carrier Instructions:"},null,"Order Special Instructions:"]
[null,null,{"$f":"Start_Here!$C$32","v":0}]
[]
[null,null,"Customer Purchase Order No."]
[null,null,"(please attach copy)"]
[]
[]
[null,null,"Tax Exempt",null,"Yes"]
[null,null,null,null,"No"]
[null,null,"If Yes, attach a copy of your exemption certificate."]
[]
[null,null,"Requested Delivery Date"]
[null,null,{"$f":"Start_Here!$C$28","v":0}]
[]
[null,null,{"$f":"Start_Here!$C$26","v":0},null,{"$f":"Start_Here!$C$27","v":0}]
[null,0,"Authorized Buyer (please print)",null,"Phone Number"]
[]
[]
[null,0,"Authorized Buyer Signature"]
[]
[null,null,{"$f":"Start_Here!$C$41","v":"Rep Name"}]
[null,null,"Tennant Representative"]
[]
[]
["Specialized Maintenance Equipment"]
[{"$f":"Start_Here!$C$47","v":0}]
[{"$f":"Start_Here!$C$48","v":"TENNANT · 10400 Clean Street · Eden Prairie, MN 55344 ·"}]
[]
[null,"Notes"]
[null,1,"Factory installed pricing.   Only available on wet batteries, not sealed. "]
[]
[null,2,"Additional hard copy Operator and Parts Manuals can be ordered or digital copies can be downloaded from www.Tennantco.com."]
[null,null,"Additional service manuals can be ordered free of charge on My Account "]
[]
[null,7,"Pad wrap available only in the Continental US and is the default packaging method."]
[null,null,"Skid w/Carton, Non-Stackable is mandatory when shipping to AK and HI.  Packaging is added at No Charge when shipping"]
[null,null,"to these locations."]
[]
[null,8,"Machine Weights and Dimensions","Pad Wrap","Skid w/Carton"]
[null,null,"B7-610"]
[null,null,"Weight","776lbs / 353 Kg","872 lbs / 396 Kg"]
[null,null,"Length","61.5\" / 1562 mm","73\" / 1855 mm"]
[null,null,"Width","30\" / 762 mm","43\" / 1092 mm"]
[null,null,"Height","43\" / 1092","51\" / 1296 mm"]
[]
[null,null,"B7-690"]
[null,null,"Weight","797 lbs / 362 Kg","892 lbs / 405 Kg"]
[null,null,"Length","63\" / 1602 mm","73\" / 1855 mm"]
[null,null,"Width","31.5\" / 800 mm","43\" / 1092 mm"]
[null,null,"Height","43\" / 1092","51\" / 1296 mm"]

{"sheet":"B5","index":17,"n_rows":258,"n_cols":13,"rows_kept":258,"cut":false,"hidden":false,"merged":[[29,2,29,6],[30,2,30,6],[31,2,31,6],[0,2,0,3],[1,2,1,3],[2,2,2,3],[3,2,3,3],[11,2,11,7],[28,2,28,6],[32,2,32,6],[33,2,33,6],[175,2,175,7],[194,4,194,7],[196,2,196,5],[158,3,158,4],[157,3,157,4],[127,2,127,3],[127,4,127,5],[131,2,131,3],[153,4,153,8],[155,3,155,6],[130,2,130,3],[129,2,129,3],[135,2,135,3],[135,4,135,5],[221,4,221,5],[197,2,197,5],[198,2,198,5],[199,2,199,5],[200,2,200,5],[202,2,202,5],[203,2,203,5],[204,2,204,5],[205,2,205,5],[206,2,206,5],[208,4,208,7],[212,2,212,5],[144,2,144,3],[144,4,144,5],[144,6,144,7],[143,2,143,3],[143,4,143,5],[143,6,143,7],[136,4,136,5],[136,6,136,7],[137,2,137,3],[138,2,138,3],[139,2,139,3],[135,6,135,7],[47,2,47,3],[48,2,48,3],[50,2,50,4],[52,2,52,4],[114,2,114,3],[114,4,114,5],[115,2,115,3],[116,2,116,3],[117,2,117,3],[126,6,126,7],[162,3,162,4],[162,5,162,6],[163,3,163,4],[114,6,114,7],[109,3,109,6],[112,2,112,3],[112,4,112,5],[112,6,112,7],[113,2,113,3],[140,2,140,3],[136,2,136,3],[127,6,127,7],[128,2,128,3],[118,2,118,3],[126,2,126,3],[126,4,126,5],[163,5,163,6],[164,3,164,4],[164,5,164,6],[193,4,193,6],[145,2,145,3],[146,2,146,3],[147,2,147,3],[148,2,148,3],[165,3,165,4],[165,5,165,6],[166,3,166,4],[166,5,166,6],[160,3,160,4],[160,5,160,6],[161,3,161,4],[161,5,161,6]]}
["B5",null,{"$f":"Start_Here!$C19","v":"Company Name"}]
[{"$f":"SUM(H104)","v":0},null,{"$f":"Start_Here!$C20","v":"Address"}]
[null,null,{"$f":"Start_Here!$C21","v":"City, State Zip"}]
[null,null,{"$f":"Start_Here!$C22","v":"Contact Name"}]
[null,null,{"$f":"Start_Here!$C$41","v":"Rep Name"}]
[null,null,{"$f":"Start_Here!$C$37","v":"Tennant Sales and Service Company"}]
[null,null,{"$f":"Start_Here!$C$38","v":"10400 Clean Street"}]
[null,null,{"$f":"Start_Here!$C$39","v":"Eden Prairie, MN 55344"}]
[null,null,{"$f":"Start_Here!$C$43","v":"800-553-8033"},null,null,"Quote Date :",null,{"$f":"Letter!$A$25","v":"2020-09-22"}]
[]
[null,null,{"$f":"Help!C2","v":"US Date Rev - 5/6/2025"}]
[null,null,"BUILT-IN “TENNANT VALUE” INCLUDES:"]
[]
[null,null,"510mm/20\" Burnishing Path",null,"On Board Charger"]
[null,null,"Push or Self Propel drive  Available",null,"3m/15 ft power cord"]
[null,null,"Active Dust Control",null,"Standard (3) 12V 185 AH Battery Pack for  Pad/Brush Assist "]
[null,null,"HEPA Filtration - 99.97 @ .3 microns",null,"Standard (3) 12V 225 AH Battery Pack for Self Propel Drive Unit"]
[null,null,"Tooless Felt Dust skirt",null,"Battery Tray"]
[null,null,"Pad RPM - 2100",null,"Variable Bail"]
[null,null,"Automated Down Pressure - Variable (Self Propel unit only)",null,"On-Board Trouble Shooting Guide"]
[null,null,"True Free Floating Head",null,"ETL Listed for the US and Canada"]
[null,null,"Rugged DuramerTM Tank Construction",null,"64 dBa"]
[null,null,"Two-Way Gas Assist Shock for Tank Open/Close",null,"Emergency Stop"]
[null,null,"Anti-Static Straps",null,"Key Switch"]
[null,null,"Clamshell Tank Design",null,"Hour Meter"]
[null,null,"Unit shipped with 1 burnishing pad, paper bag and HEPA filter",null,"Operators manual"]
[null,null,null,null,"Jacking Points/Shipping Tie Downs"]
[]
[null,null,"TENNANT COMPANY WARRANTY"]
[null,null,"3 YEARS OR 2000 HOURS - PARTS"]
[null,null,"1 YEAR - BATTERY CHARGERS"]
[null,null,"2 YEARS - LABOR"]
[null,null,"6 MONTHS - TRAVEL"]
[null,null,"10 YEARS ON DURAMERTM TANKS"]
[]
[null,null,null,null,null,"Quote Request Information"]
[null,null,null,null,null,null,null,"Fax (quote only)"]
[null,null,null,null,null,null,null,"Mail (quote,lit, specs)"]
[null,null,null,null,null,null,null,"Fax + Mail"]
[]
[null,null,null,null,null,"                Primary Use"]
[null,null,null,null,null,null,null,"Inside"]
[null,null,null,null,null,null,null,"Outside"]
[]
[]
[null,null,"Description",null,"Referencel#","Price Each","Qty","Extended Pr"]
[null,"Pre-Configured Machines ",null,null,null,null,{"$f":"SUM(G48:G49)","v":0}]
[null,null,"510mm / 20\", Self Propel, 225AH Battery, On-Board Charger, Automated Down Pressure, Active Dust Control System w/ Paper Filter Bag, HEPA Filte, Pad Wrap",null,"MV-B5-0010",15430,null,{"$f":"G48*F48","v":0},{"$f":"IFERROR(IFERROR(VLOOKUP(E48,Surcharge!A:B,2,FALSE)*G48, VLOOKUP(E48 & \"\",Surcharge!A:B,2,FALSE)*G48), \"\")","v":0}]
[null,null,"510mm / 20\", Pad Assist, 185AH Battery, On-Board Charger, Mechanical Down Pressure, Passive Dust Control System w/ Paper Filter Bag, Pad Wrap ",null,"MV-B5-0011",10863,null,0,{"$f":"IFERROR(IFERROR(VLOOKUP(E49,Surcharge!A:B,2,FALSE)*G49, VLOOKUP(E49 & \"\",Surcharge!A:B,2,FALSE)*G49), \"\")","v":0}]
[null,null,null,null,null,null,{"$f":"SUM(G48:G49)","v":0},null,{"$f":"IFERROR(IFERROR(VLOOKUP(E50,Surcharge!A:B,2,FALSE)*G50, VLOOKUP(E50 & \"\",Surcharge!A:B,2,FALSE)*G50), \"\")","v":""}]
[null,null,"Above unit(s) include an English Operator Manual.  No additional options can be added or changed, including packaging/shipping.",null,null,null,{"$f":"SUM(G50)","v":0},null,{"$f":"IFERROR(IFERROR(VLOOKUP(E51,Surcharge!A:B,2,FALSE)*G51, VLOOKUP(E51 & \"\",Surcharge!A:B,2,FALSE)*G51), \"\")","v":""}]
[null,null,null,null,null,null,{"$f":"SUM(G51)","v":0},null,{"$f":"IFERROR(IFERROR(VLOOKUP(E52,Surcharge!A:B,2,FALSE)*G52, VLOOKUP(E52 & \"\",Surcharge!A:B,2,FALSE)*G52), \"\")","v":""}]
[null,null,"All units listed above will ship Pad Wrap via Logix Transportation.  These units cannot ship to AK or HI.",null,null,null,{"$f":"SUM(G52)","v":0},null,{"$f":"IFERROR(IFERROR(VLOOKUP(E53,Surcharge!A:B,2,FALSE)*G53, VLOOKUP(E53 & \"\",Surcharge!A:B,2,FALSE)*G53), \"\")","v":""}]
[null,null,null,null,null,null,{"$f":"SUM(G53)","v":0},null,{"$f":"IFERROR(IFERROR(VLOOKUP(E54,Surcharge!A:B,2,FALSE)*G54, VLOOKUP(E54 & \"\",Surcharge!A:B,2,FALSE)*G54), \"\")","v":""}]
[null,"Base Configuration",null,null,null,null,{"$f":"SUM(G56,G59,G63,G70,G73)","v":0},null,{"$f":"IFERROR(IFERROR(VLOOKUP(E55,Surcharge!A:B,2,FALSE)*G55, VLOOKUP(E55 & \"\",Surcharge!A:B,2,FALSE)*G55), \"\")","v":""}]
[null,null,"Cleaning Type",null,null,null,{"$f":"SUM(G57)","v":0},null,{"$f":"IFERROR(IFERROR(VLOOKUP(E56,Surcharge!A:B,2,FALSE)*G56, VLOOKUP(E56 & \"\",Surcharge!A:B,2,FALSE)*G56), \"\")","v":""}]
[null,null,"B5 Walk-Behind Battery Burnisher 510 mm/20\"",null,"B5-510",11747,null,{"$f":"G57*F57","v":0},{"$f":"IFERROR(IFERROR(VLOOKUP(E57,Surcharge!A:B,2,FALSE)*G57, VLOOKUP(E57 & \"\",Surcharge!A:B,2,FALSE)*G57), \"\")","v":""}]
[null,null,null,null,null,null,null,null,{"$f":"IFERROR(IFERROR(VLOOKUP(E58,Surcharge!A:B,2,FALSE)*G58, VLOOKUP(E58 & \"\",Surcharge!A:B,2,FALSE)*G58), \"\")","v":""}]
[null,null,"Drive Type  (Note 1)",null,null,null,{"$f":"SUM(G60:G61)","v":0},null,{"$f":"IFERROR(IFERROR(VLOOKUP(E59,Surcharge!A:B,2,FALSE)*G59, VLOOKUP(E59 & \"\",Surcharge!A:B,2,FALSE)*G59), \"\")","v":""}]
[null,null,"Pad Assist",null,"Pad-B5","N/C     ",null,{"$f":"IF(G60=0,\" \",\"N/C\")","v":" "},{"$f":"IFERROR(IFERROR(VLOOKUP(E60,Surcharge!A:B,2,FALSE)*G60, VLOOKUP(E60 & \"\",Surcharge!A:B,2,FALSE)*G60), \"\")","v":""}]
[null,null,"Self Propel",null,"Self-B5",3240,null,{"$f":"G61*F61","v":0},{"$f":"IFERROR(IFERROR(VLOOKUP(E61,Surcharge!A:B,2,FALSE)*G61, VLOOKUP(E61 & \"\",Surcharge!A:B,2,FALSE)*G61), \"\")","v":""}]
[null,null,null,null,null,null,null,null,{"$f":"IFERROR(IFERROR(VLOOKUP(E62,Surcharge!A:B,2,FALSE)*G62, VLOOKUP(E62 & \"\",Surcharge!A:B,2,FALSE)*G62), \"\")","v":""}]
[null,null,"Battery Type",null,null,null,{"$f":"SUM(G64:G68)","v":0},null,{"$f":"IFERROR(IFERROR(VLOOKUP(E63,Surcharge!A:B,2,FALSE)*G63, VLOOKUP(E63 & \"\",Surcharge!A:B,2,FALSE)*G63), \"\")","v":""}]
[null,null,"Wet 185AH C/20  (Kit of 3 batteries)",null,9012670,"N/C     ",null,{"$f":"IF(G64=0,\" \",\"N/C\")","v":" "},{"$f":"IFERROR(IFERROR(VLOOKUP(E64,Surcharge!A:B,2,FALSE)*G64, VLOOKUP(E64 & \"\",Surcharge!A:B,2,FALSE)*G64), \"\")","v":""}]
[null,null,"Wet 225AH C/20  (Kit of 3 batteries)  (Note 2)",null,9012671,443,null,{"$f":"G65*F65","v":0},{"$f":"IFERROR(IFERROR(VLOOKUP(E65,Surcharge!A:B,2,FALSE)*G65, VLOOKUP(E65 & \"\",Surcharge!A:B,2,FALSE)*G65), \"\")","v":""}]
[null,null,"Sealed/MF AGM 234AH C/20  (Kit of 3 batteries)",null,9012672,2832,null,{"$f":"G66*F66","v":0},{"$f":"IFERROR(IFERROR(VLOOKUP(E66,Surcharge!A:B,2,FALSE)*G66, VLOOKUP(E66 & \"\",Surcharge!A:B,2,FALSE)*G66), \"\")","v":""}]
[null,null,null,null,null," ",null,null,{"$f":"IFERROR(IFERROR(VLOOKUP(E67,Surcharge!A:B,2,FALSE)*G67, VLOOKUP(E67 & \"\",Surcharge!A:B,2,FALSE)*G67), \"\")","v":""}]
[null,null,"Manual Battery Watering Kit  (Note 3)",null,9009620,853,null,{"$f":"G68*F68","v":0},{"$f":"IFERROR(IFERROR(VLOOKUP(E68,Surcharge!A:B,2,FALSE)*G68, VLOOKUP(E68 & \"\",Surcharge!A:B,2,FALSE)*G68), \"\")","v":""}]
[null,null,null,null,null,null,null,null,{"$f":"IFERROR(IFERROR(VLOOKUP(E69,Surcharge!A:B,2,FALSE)*G69, VLOOKUP(E69 & \"\",Surcharge!A:B,2,FALSE)*G69), \"\")","v":""}]
[null,null,"Charger",null,"Reference Number",null,{"$f":"SUM(G71:G71)","v":0},null,{"$f":"IFERROR(IFERROR(VLOOKUP(E70,Surcharge!A:B,2,FALSE)*G70, VLOOKUP(E70 & \"\",Surcharge!A:B,2,FALSE)*G70), \"\")","v":""}]
[null,null,"25A 85-265V AC 50/60Hz 1Ph On-Board for 185AH and 225AH",null,9012668,"N/C     ",null,{"$f":"IF(G71=0,\" \",\"N/C\")","v":" "},{"$f":"IFERROR(IFERROR(VLOOKUP(E71,Surcharge!A:B,2,FALSE)*G71, VLOOKUP(E71 & \"\",Surcharge!A:B,2,FALSE)*G71), \"\")","v":""}]
[null,null,null,null,null,null,null,null,{"$f":"IFERROR(IFERROR(VLOOKUP(E72,Surcharge!A:B,2,FALSE)*G72, VLOOKUP(E72 & \"\",Surcharge!A:B,2,FALSE)*G72), \"\")","v":""}]
[null,null,"Down Pressure",null,null,null,{"$f":"SUM(G74:G75)","v":0},null,{"$f":"IFERROR(IFERROR(VLOOKUP(E73,Surcharge!A:B,2,FALSE)*G73, VLOOKUP(E73 & \"\",Surcharge!A:B,2,FALSE)*G73), \"\")","v":""}]
[null,null,"Automated Down Pressure",null,9012641,"N/C     ",null,{"$f":"IF(G74=0,\" \",\"N/C\")","v":" "},{"$f":"IFERROR(IFERROR(VLOOKUP(E74,Surcharge!A:B,2,FALSE)*G74, VLOOKUP(E74 & \"\",Surcharge!A:B,2,FALSE)*G74), \"\")","v":""}]
[null,null,"Mechanical Set and Forget TM Down Pressure (Note 1)",null,9012640,-470,null,{"$f":"G75*F75","v":0},{"$f":"IFERROR(IFERROR(VLOOKUP(E75,Surcharge!A:B,2,FALSE)*G75, VLOOKUP(E75 & \"\",Surcharge!A:B,2,FALSE)*G75), \"\")","v":""}]
[null,null,null,null,null,null,null,null,{"$f":"IFERROR(IFERROR(VLOOKUP(E76,Surcharge!A:B,2,FALSE)*G76, VLOOKUP(E76 & \"\",Surcharge!A:B,2,FALSE)*G76), \"\")","v":""}]
[null,"Cleaning Performance",null,null,null,null,{"$f":"SUM(G78:G80)","v":0},null,{"$f":"IFERROR(IFERROR(VLOOKUP(E77,Surcharge!A:B,2,FALSE)*G77, VLOOKUP(E77 & \"\",Surcharge!A:B,2,FALSE)*G77), \"\")","v":""}]
[null,null,"Dust Control System, Active - HEPA Filtration to 99.97% @ .3 microns",null,9012651,"N/C     ",null,{"$f":"IF(G78=0,\" \",\"N/C\")","v":" "},{"$f":"IFERROR(IFERROR(VLOOKUP(E78,Surcharge!A:B,2,FALSE)*G78, VLOOKUP(E78 & \"\",Surcharge!A:B,2,FALSE)*G78), \"\")","v":""}]
[null,null,"Dust Control System, Passive - 95% @ .3 microns ",null,"PASSIVE",-414,null,{"$f":"G79*F79","v":0},{"$f":"IFERROR(IFERROR(VLOOKUP(E79,Surcharge!A:B,2,FALSE)*G79, VLOOKUP(E79 & \"\",Surcharge!A:B,2,FALSE)*G79), \"\")","v":""}]
[null,null,"Dust Control Filter, Paper Filter Bag",null,1210869,"N/C     ",null,{"$f":"IF(G80=0,\" \",\"N/C\")","v":" "},{"$f":"IFERROR(IFERROR(VLOOKUP(E80,Surcharge!A:B,2,FALSE)*G80, VLOOKUP(E80 & \"\",Surcharge!A:B,2,FALSE)*G80), \"\")","v":""}]
[null,null,null,null,null,null,null,null,{"$f":"IFERROR(IFERROR(VLOOKUP(E81,Surcharge!A:B,2,FALSE)*G81, VLOOKUP(E81 & \"\",Surcharge!A:B,2,FALSE)*G81), \"\")","v":""}]
[null,"Support (Note 4)",null,null,null,null,{"$f":"SUM(G83:G84)","v":0},null,{"$f":"IFERROR(IFERROR(VLOOKUP(E82,Surcharge!A:B,2,FALSE)*G82, VLOOKUP(E82 & \"\",Surcharge!A:B,2,FALSE)*G82), \"\")","v":""}]
[null,null,"B5 Operator Manual - English",null,9011480,"N/C     ",null,{"$f":"IF(G83=0,\" \",\"N/C\")","v":" "},{"$f":"IFERROR(IFERROR(VLOOKUP(E83,Surcharge!A:B,2,FALSE)*G83, VLOOKUP(E83 & \"\",Surcharge!A:B,2,FALSE)*G83), \"\")","v":""}]
[null,null,"B5 Operator Manual - French",null,9011486,"N/C     ",null," ",{"$f":"IFERROR(IFERROR(VLOOKUP(E84,Surcharge!A:B,2,FALSE)*G84, VLOOKUP(E84 & \"\",Surcharge!A:B,2,FALSE)*G84), \"\")","v":""}]
[null,null,null,null,null,null,null,null,{"$f":"IFERROR(IFERROR(VLOOKUP(E85,Surcharge!A:B,2,FALSE)*G85, VLOOKUP(E85 & \"\",Surcharge!A:B,2,FALSE)*G85), \"\")","v":""}]
[null,null,"Packaging (Note 5)",null,null,null,{"$f":"SUM(G87:G88)","v":0},null,{"$f":"IFERROR(IFERROR(VLOOKUP(E86,Surcharge!A:B,2,FALSE)*G86, VLOOKUP(E86 & \"\",Surcharge!A:B,2,FALSE)*G86), \"\")","v":""}]
[null,null,"Pad Wrap ",null,44961,"N/C     ",null,{"$f":"IF(G87=0,\" \",\"N/C\")","v":" "},{"$f":"IFERROR(IFERROR(VLOOKUP(E87,Surcharge!A:B,2,FALSE)*G87, VLOOKUP(E87 & \"\",Surcharge!A:B,2,FALSE)*G87), \"\")","v":""}]
[null,null,"Skid w/Carton, Stackable",null,9012678,277,null,{"$f":"G88*F88","v":0},{"$f":"IFERROR(IFERROR(VLOOKUP(E88,Surcharge!A:B,2,FALSE)*G88, VLOOKUP(E88 & \"\",Surcharge!A:B,2,FALSE)*G88), \"\")","v":""}]
[null,null,null,null,null,null,null,null,{"$f":"IFERROR(IFERROR(VLOOKUP(E89,Surcharge!A:B,2,FALSE)*G89, VLOOKUP(E89 & \"\",Surcharge!A:B,2,FALSE)*G89), \"\")","v":""}]
[null,null,null,null,null,null,{"$f":"SUM(#REF!)","v":{"$error":"#REF!"}}]
[]
[null,null,null,null,null,{"$f":"ROUND(SUM(H48:H91), 0)","v":0},{"$f":"SUM(F93)","v":0}]
[null,null,null,null,"Machine Subtotal ",{"$f":"ROUND(SUM(H48:H91), 0)","v":0},{"$f":"G92","v":0}]
[null,"Discounts",null,null,null,null,{"$f":"SUM(G95)","v":0}]
[null,null,null,null,null,null,{"$f":"SUM(G96:G97)","v":0}]
[null,null,null,null,"Discount %",null,{"$f":"IF(F96 <> \"\", 1, 0)","v":0},{"$f":"IF(G96*(F96*0.01)*F92 < 0, G96*(F96*0.01)*F92, -(G96*(F96*0.01)*F92))","v":0}]
[null,null,null,null,"Discount $",null,{"$f":"IF(F97 <> \"\", 1, 0)","v":0},{"$f":"IF(G97*F97 < 0, G97*F97, -(G97*F97))","v":0}]
[null,null,null,null,"Discount Total ",{"$f":"SUM(H96:H97)","v":0},{"$f":"SUM(F98)","v":0}]
[null,null,null,null,null,{"$f":"#REF!","v":{"$error":"#REF!"}},{"$f":"#REF!","v":{"$error":"#REF!"}}]
[null,null,null,null,null,null,{"$f":"G99","v":{"$error":"#REF!"}}]
[null,null,"Prepaid and Add",null,"Freight",null,{"$f":"IF(F101 <> \"\", 1, 0)","v":0},{"$f":"G101*F101","v":0}]
[null,null,"Subject to all applicable taxes",null,"Tax",null,0,{"$f":"G102*F102","v":0}]
[null,null,null,null,null,null,{"$f":"SUM(G104)","v":0}]
[null,null,null,null,"MACHINE TOTAL*",null,{"$f":"SUM(H104)","v":0},{"$f":"SUM(H48:H102)","v":0},null,null,null,null,"This goes to \"My Documents\""]
[null,null,null,null,null,null,null,{"$f":"SUM(H104)","v":0}]
[null,"Financing"]
[]
[null,null,"Is customer interested in financing?","Yes"]
[]
[null,null,"If not, why?"]
[]
[]
[null,null,"First Western Equipment Finance - Leasing Calculation Option:",null,"Option 1",null,"Option 2",null,null,{"$f":"Financing!A38","v":"Rates 2025 - Rev. 5/6/2025"}]
[null,null,null,null,"Monthly Payment","Cost Per Day","Monthly Payment","Cost Per Day",null,{"$f":"Financing!A39","v":"“Blank Payment Amounts Indicate The Financing Option Or Purchase Options Selected Are Not "}]
[null,null,"Purchase Option:",null,"FWEF:  $1 Buyout Lease",null,"FWEF: Municipal Lease",null,null,{"$f":"Financing!A40","v":"Applicable Or The Machine Total Is Below The Minimum Amount For The Selected Vendor”"}]
[null,null,"24 Months",null,0,0,0,0,null,{"$f":"Financing!A41","v":"\"Quoted monthly payments are estimates only and are based on a certain level of credit rating."}]
[null,null,"30 Months",null,0,0,0,0,null,{"$f":"Financing!A42","v":"Actual monthly payments may be higher depending on your credit rating.\""}]
[null,null,"36 Months",null,0,0,0,0,null,{"$f":"Financing!A43","v":"“Financing rates do not include Pre-Paid Service”"}]
[null,null,"48 Months",null,0,0,0,0,null,{"$f":"Financing!A44","v":0}]
[]
[null,null,null,"Benefits of Equipment Financing:"]
[null,null,null,"• Spreads out investment over time.",null,"• Keep current with latest technology."]
[null,null,null,"• Preserve capital.",null,"• Service and parts bundling available."]
[null,null,null,"• Low monthly payment.",null,"• Pay for labor savings as you go."]
[]
[]
[null,null,"Bundled Offerings",null,"Flexclean – Fair Market Value",null,"Flexclean - $1 Buyout"]
[null,null,"FlexClean: ",null,"36 Month Term",null,"36 Month Term",null,null,"No","AB Brushes"]
[null,null,"Hours included per Month:",null,"Gold","Silver","Gold","Silver","Check"]
[null,null,"< 30/mo. (Avg. 1hr./day)",null,null,null,null,null,null,null,{"$f":"FlexCleanCalc!$A21","v":"“FlexClean monthly rates include payment for both machine and service.”"}]
[null,null,"< 60/mo. (Avg. 2hrs./day)"]
[null,null,"< 90/mo. (Avg. 3hrs./day)"]
[null,null,"*This value assumes one service contract regardless of the number of UNITS included in the quote"]
[]
[]
[null,null,"Bundled Offerings",null,"Flexclean – Fair Market Value",null,"Flexclean - $1 Buyout"]
[null,null,"FlexClean 2: ",null,"48 Month Term",null,"48 Month Term"]
[null,null,"Hours included per Month:",null,"Gold","Silver","Gold","Silver"]
[null,null,"< 30/mo. (Avg. 1hr./day)"]
[null,null,"< 60/mo. (Avg. 2hrs./day)"]
[null,null,"< 90/mo. (Avg. 3hrs./day)"]
[null,null,"*This value assumes one service contract regardless of the number of UNITS included in the quote"]
[]
[null,null,"Bundled Offerings",null,"Flexclean – Fair Market Value",null,"Flexclean - $1 Buyout"]
[null,null,"FlexClean 3: ",null,"60 Month Term",null,"60 Month Term"]
[null,null,"Hours included per Month:",null,"Gold","Silver","Gold","Silver"]
[null,null,"< 30/mo. (Avg. 1hr./day)"]
[null,null,"< 60/mo. (Avg. 2hrs./day)"]
[null,null,"< 90/mo. (Avg. 3hrs./day)"]
[null,null,"*This value assumes one service contract regardless of the number of UNITS included in the quote"]
[]
[null,"  TennantTrue",null,0]
[]
[null,null,"Is customer interested in service program?","Yes","*State/County selection required for TennantTrue service options"]
[]
[null,null,"If not, why?"]
[]
[null,null,"Term:",36,null,"AB Brushes","No"]
[null,null,"Monthly machine usage (hrs):","< 30/mo. (Avg. 1hr./day)"]
[]
[null,null,"TennantTrue: ","Gold Contract",null,"Silver Contract"]
[null,null,"Per Visit",null,null,336]
[null,null,"Monthly",112,null,56]
[null,null,"Annually",null,null,659]
[null,null,"Pre-Pay Full Term",3882,null,1936]
[null,null,"Hourly Labor Rate"]
[null,null,"Site Visit"]
[]
[null,null,"* Verify customer current pricing prior to quote. "]
[null,null,"**All rates and fees above reflect service for one (1) unit with the exception of Block of Time service."]
[null,null,"*Block of Time is available in 1 Year Term only and is priced as such no matter the term selection on this template."]
[]
[]
[]
[null,null,"Quote Special Instructions:"]
[]
[]
[null,null,{"$f":"Start_Here!E36","v":"Terms and Conditions"}]
[null,null,{"$f":"Start_Here!E37","v":"Ask your local sales rep for estimated lead times. Verify when placing order"}]
[null,null,{"$f":"Start_Here!E38","v":"All orders subject to acceptance by Tennant Sales and Service Company, Minneapolis, Minnesota"}]
[null,null,{"$f":"Start_Here!E39","v":"Prices subject to change without notice."}]
[null,null,{"$f":"Start_Here!E40","v":"Terms:  Net 30 days.  Subject to any applicable taxes."}]
[null,null,{"$f":"Start_Here!E41","v":"Freight: Machines and accessory orders delivered FOB shipping point Frt PPD & Add"}]
[null,null,{"$f":"Start_Here!E42","v":"Parts, supplies, detergents and floor treating material orders delivered FOB "}]
[null,null,{"$f":"Start_Here!E43","v":"shipping point Frt PPD"}]
[null,null,{"$f":"Start_Here!E44","v":"All orders are subject to Tennant’s General Terms and Conditions available at http://www.tennantco.com/terms."}]
[null,null,{"$f":"Start_Here!E45","v":"Printed General Terms and Conditions are also available upon request."}]
[null,null,{"$f":"Start_Here!E46","v":0}]
[]
[null,null,null,null,null,"Quote Date :",null,{"$f":"Letter!$A$25","v":"2020-09-22"}]
[null,"Order Placement Information:  To place your order, fill in PO# and customer signatures,"]
[null,"call or fax to the numbers listed below. Customer Purchase Order is required."]
[null,"If information is missing, orders will be entered and held until all information is received."]
[null,null,"Customer Number",null,"Cust Grp 3"]
[null,null,{"$f":"Start_Here!$C$25","v":0},null,{"$f":"Start_Here!$C$29","v":0}]
[null,null,{"$f":"Start_Here!$B$18","v":"Who Owns the Machine? (Sold-To Info) (Please Verify)"}]
["Company",null,{"$f":"Start_Here!$C$19","v":"Company Name"}]
["Address",null,{"$f":"Start_Here!$C$20","v":"Address"}]
[null,null,{"$f":"Start_Here!$C$21","v":"City, State Zip"}]
["Name",null,{"$f":"Start_Here!$C$22","v":"Contact Name"}]
["Phone",null,{"$f":"Start_Here!$C$23","v":"Contact Phone"}]
[null,null,{"$f":"Start_Here!$B$11","v":"Where is the Machine Being Shipped? (Ship-To Info) (Please Verify)"}]
["Company",null,{"$f":"Start_Here!$C$12","v":"Company Name"}]
["Address",null,{"$f":"Start_Here!$C$13","v":"Address"}]
[null,null,{"$f":"Start_Here!$C$14","v":"City, State Zip"}]
["Name",null,{"$f":"Start_Here!$C$15","v":"Contact Name"}]
["Phone",null,{"$f":"Start_Here!$C$16","v":"Contact Phone"}]
[null,null,{"$f":"Start_Here!$B$31","v":"Shipping / Carrier Instructions:"},null,"Order Special Instructions:"]
[null,null,{"$f":"Start_Here!$C$32","v":0}]
[]
[null,null,"Customer Purchase Order No."]
[null,null,"(please attach copy)"]
[]
[]
[null,null,"Tax Exempt",null,"Yes"]
[null,null,null,null,"No"]
[null,null,"If Yes, attach a copy of your exemption certificate."]
[]
[null,null,"Requested Delivery Date"]
[null,null,{"$f":"Start_Here!$C$28","v":0}]
[]
[null,null,{"$f":"Start_Here!$C$26","v":0},null,{"$f":"Start_Here!$C$27","v":0}]
[null,0,"Authorized Buyer (please print)",null,"Phone Number"]
[]
[]
[null,0,"Authorized Buyer Signature"]
[]
[null,null,{"$f":"Start_Here!$C$41","v":"Rep Name"}]
[null,null,"Tennant Representative"]
[]
[]
["Specialized Maintenance Equipment"]
[{"$f":"Start_Here!$C$47","v":0}]
[{"$f":"Start_Here!$C$48","v":"TENNANT · 10400 Clean Street · Eden Prairie, MN 55344 ·"}]
[]
[null,"Notes"]
[null,1,"When pad/brush assist unit is chosen, only mechanical Set and Forget™ down pressure is available.  "]
[null,null,"Mechanical down pressure can only be deducted from the self-propelled unit."]
[]
[null,2,"225AH Battery is standard on units with the Self Propel Drive Type.  "]
[null,null,"When Self Propel is selected, this battery will be added at No Charge."]
[]
[null,3,"Factory installed pricing.  Only available on wet batteries, not sealed. "]
[]
[null,4,"Additional hard copy Operator and Parts Manuals can be ordered or digital copies can be downloaded from www.Tennantco.com."]
[null,null,"Service manuals can be ordered free of charge on My Account."]
[]
[null,5,"Pad wrap available only in the Continental US and is the default packaging method."]
[null,null,"Skid w/Carton, Non-Stackable is mandatory when shipping to AK and HI.  Packaging is added at No Charge when shipping"]
[null,null,"to these locations."]
[null,null,null," "]
[null,6,"Shipping Weights and Dimensions","Pad Wrap","Skid w/Carton"]
[]
[null,null,"Weight - Pad Drive w/185AH Battery","507 lbs / 230 Kg","587 lbs / 267 Kg"]
[null,null,"Weight - Self Propel w/225AH Battery","572 lbs / 259 Kg","652 lbs / 296 Kg"]
[null,null,"Length","59\" / 1499 mm","60\" / 1524 mm"]
[null,null,"Width","25\" / 622 mm","31\" / 788 mm"]
[null,null,"Height","43\" / 1092 mm","50\" / 1270 mm"]

{"sheet":"S7_S6","index":18,"n_rows":181,"n_cols":17,"rows_kept":181,"cut":false,"hidden":false,"merged":[[73,6,73,7],[63,2,63,3],[62,2,62,3],[60,2,60,3],[73,2,73,3],[168,4,168,5],[144,2,144,5],[145,2,145,5],[146,2,146,5],[147,2,147,5],[149,2,149,5],[150,2,150,5],[151,2,151,5],[152,2,152,5],[153,2,153,5],[155,4,155,7],[159,2,159,5],[107,3,107,4],[107,5,107,6],[108,3,108,4],[108,5,108,6],[109,3,109,4],[109,5,109,6],[143,2,143,5],[122,2,122,7],[141,4,141,7],[140,4,140,6],[110,5,110,6],[111,3,111,4],[111,5,111,6],[112,3,112,4],[112,5,112,6],[113,3,113,4],[113,5,113,6],[110,3,110,4],[82,6,82,7],[83,2,83,3],[83,4,83,5],[83,6,83,7],[95,2,95,3],[91,6,91,7],[87,2,87,3],[94,2,94,3],[84,2,84,3],[85,2,85,3],[86,2,86,3],[90,4,90,5],[90,6,90,7],[0,2,0,3],[1,2,1,3],[2,2,2,3],[3,2,3,3],[91,4,91,5],[82,4,82,5],[73,4,73,5],[31,2,31,3],[32,2,32,3],[33,2,33,3],[64,2,64,3],[65,2,65,3],[59,2,59,3],[27,2,27,3],[25,2,25,3],[26,2,26,3],[28,2,28,3],[56,3,56,6],[59,4,59,5],[59,6,59,7],[61,2,61,3],[61,4,61,5],[61,6,61,7],[74,2,74,3],[74,4,74,5],[74,6,74,7],[105,3,105,4],[75,2,75,3],[76,2,76,3],[77,2,77,3],[78,2,78,3],[100,4,100,8],[102,3,102,6],[104,3,104,4],[82,2,82,3],[90,2,90,3],[92,2,92,3],[93,2,93,3],[91,2,91,3]]}
["S7_S6",null,{"$f":"Start_Here!$C19","v":"Company Name"}]
[{"$f":"SUM(H51)","v":0},null,{"$f":"Start_Here!$C20","v":"Address"}]
[null,null,{"$f":"Start_Here!$C21","v":"City, State Zip"}]
[null,null,{"$f":"Start_Here!$C22","v":"Contact Name"}]
[null,null,{"$f":"Start_Here!$C$41","v":"Rep Name"}]
[null,null,{"$f":"Start_Here!$C$37","v":"Tennant Sales and Service Company"}]
[null,null,{"$f":"Start_Here!$C$38","v":"10400 Clean Street"}]
[null,null,{"$f":"Start_Here!$C$39","v":"Eden Prairie, MN 55344"}]
[null,null,{"$f":"Start_Here!$C$43","v":"800-553-8033"},null,null,"Quote Date :",null,{"$f":"Letter!$A$25","v":"2020-09-22"}]
[]
[null,null,{"$f":"Help!C2","v":"US Date Rev - 5/6/2025"}]
[null,null,null,null,null,"Quote Request Information"]
[null,null,null,null,null,null,null,"Fax (quote only)"]
[null,null,null,null,null,null,null,"Mail (quote,lit, specs)"]
[null,null,"EXCLUSIVE FACTORY-DIRECT WARRANTY",null,null,null,null,"Fax + Mail"]
[null,null,"12 MONTHS ON PARTS"]
[null,null,"12 MONTHS - LABOR",null,null,"                Primary Use"]
[null,null,"90 DAYS - TRAVEL",null,null,null,null,"Inside"]
[null,null,null,null,null,null,null,"Outside"]
[]
[]
[]
[null,null,"Description",null,"Referencel#","Price Each","Qty","Extended Pr"]
[]
[null,null,null,null,null,null,{"$f":"SUM(G26)","v":0}]
[null,null,"S7 - 28 in (700 mm) Battery Walk-Behind Sweeper ",null,1251272,7251,null,{"$f":"G26*F26","v":0},{"$f":"IFERROR(IFERROR(VLOOKUP(E26,Surcharge!A:B,2,FALSE)*G26, VLOOKUP(E26 & \"\",Surcharge!A:B,2,FALSE)*G26), \"\")","v":""},null,null,null,null,null,null,null,{"$f":"VLOOKUP(E26,'MPF SAP Download PreConfigured'!C:E,3,FALSE)","v":7251}]
[null,null,"28\" (700mm) cleaning path, 1.6 cu. Ft (45 L) hopper capacity,  140AH sealed battery on-board charger.",null,null,null,{"$f":"SUM(G26)","v":0},null,{"$f":"IFERROR(IFERROR(VLOOKUP(E27,Surcharge!A:B,2,FALSE)*G27, VLOOKUP(E27 & \"\",Surcharge!A:B,2,FALSE)*G27), \"\")","v":""}]
[null,null,"Boxed dimensions: 47.25 in x 31.5 in x 41.5 in  (L 1200 x W 800 x H 1050) ",null,null,null,{"$f":"SUM(G27)","v":0},null,{"$f":"IFERROR(IFERROR(VLOOKUP(E28,Surcharge!A:B,2,FALSE)*G28, VLOOKUP(E28 & \"\",Surcharge!A:B,2,FALSE)*G28), \"\")","v":""}]
[null,null,"Shipping Weight :  319 lb/144.5kg  / Cu. Ft.: 35.8 ",null,null,null,{"$f":"SUM(G28)","v":0},null,{"$f":"IFERROR(IFERROR(VLOOKUP(E29,Surcharge!A:B,2,FALSE)*G29, VLOOKUP(E29 & \"\",Surcharge!A:B,2,FALSE)*G29), \"\")","v":""}]
[]
[]
[null,null,"S6 - 25 in (635 mm) Battery Walk-Behind Sweeper ",null,1251268,3628,null,{"$f":"G32*F32","v":0},{"$f":"IFERROR(IFERROR(VLOOKUP(E32,Surcharge!A:B,2,FALSE)*G32, VLOOKUP(E32 & \"\",Surcharge!A:B,2,FALSE)*G32), \"\")","v":""},null,null,null,null,null,null,null,{"$f":"VLOOKUP(E32,'MPF SAP Download PreConfigured'!C:E,3,FALSE)","v":3628}]
[null,null,"25\" (635mm) cleaning path, 1.25 cu. Ft (35 L) hopper capacity, 42 AH sealed battery and on-board charger.",null,null,null,{"$f":"SUM(G32)","v":0}]
[null,null,"Boxed dimensions on pallet: 34.25 in x 21.75 in x 25 in  (L 870 x W 550 x H 630) ",null,null,null,{"$f":"SUM(G33)","v":0}]
[null,null,"Shipping Weight :  123lb/56kg  / Cu. Ft.: 10.8 ",null,null,null,{"$f":"SUM(G34)","v":0}]
[]
[null,null,null,null,null,null,{"$f":"SUM(#REF!)","v":{"$error":"#REF!"}}]
[]
[null,null,null,null,null,{"$f":"ROUND(SUM(H26:H38), 0)","v":0},{"$f":"SUM(F40)","v":0}]
[null,null,null,null,"Machine Subtotal ",{"$f":"ROUND(SUM(H26:H38), 0)","v":0},{"$f":"G39","v":0}]
[null,"Discounts",null,null,null,null,{"$f":"SUM(G42)","v":0}]
[null,null,null,null,null,null,{"$f":"SUM(G43:G44)","v":0}]
[null,null,null,null,"Discount %",null,{"$f":"IF(F43 <> \"\", 1, 0)","v":0},{"$f":"IF(G43*(F43*0.01)*F39 < 0, G43*(F43*0.01)*F39, -(G43*(F43*0.01)*F39))","v":0}]
[null,null,null,null,"Discount $",null,{"$f":"IF(F44 <> \"\", 1, 0)","v":0},{"$f":"IF(G44*F44 < 0, G44*F44, -(G44*F44))","v":0}]
[null,null,null,null,"Discount Total ",{"$f":"SUM(H43:H44)","v":0},{"$f":"SUM(F45)","v":0}]
[null,null,null,null,null,{"$f":"#REF!","v":{"$error":"#REF!"}},{"$f":"#REF!","v":{"$error":"#REF!"}}]
[null,null,null,null,null,null,{"$f":"G46","v":{"$error":"#REF!"}}]
[null,null,"Prepaid and Add",null,"Freight",null,{"$f":"IF(F48 <> \"\", 1, 0)","v":0},{"$f":"G48*F48","v":0}]
[null,null,"Subject to all applicable taxes",null,"Tax",null,0,{"$f":"G49*F49","v":0}]
[null,null,null,null,null,null,{"$f":"SUM(G51)","v":0}]
[null,null,null,null,"MACHINE TOTAL*",null,{"$f":"SUM(H51)","v":0},{"$f":"SUM(H26:H49)","v":0},null,null,null,null,"This goes to \"My Documents\""]
[null,null,null,null,null,null,null,{"$f":"SUM(H51)","v":0}]
[null,"Financing"]
[]
[null,null,"Is customer interested in financing?","Yes"]
[]
[null,null,"If not, why?"]
[]
[]
[null,null,"First Western Equipment Finance - Leasing Calculation Option:",null,"Option 1",null,"Option 2",null,null,{"$f":"Financing!A38","v":"Rates 2025 - Rev. 5/6/2025"}]
[null,null,null,null,"Monthly Payment","Cost Per Day","Monthly Payment","Cost Per Day",null,{"$f":"Financing!A39","v":"“Blank Payment Amounts Indicate The Financing Option Or Purchase Options Selected Are Not "}]
[null,null,"Purchase Option:",null,"FWEF:  $1 Buyout Lease",null,"FWEF: Municipal Lease",null,null,{"$f":"Financing!A40","v":"Applicable Or The Machine Total Is Below The Minimum Amount For The Selected Vendor”"}]
[null,null,"24 Months",null,0,0,0,0,null,{"$f":"Financing!A41","v":"\"Quoted monthly payments are estimates only and are based on a certain level of credit rating."}]
[null,null,"30 Months",null,0,0,0,0,null,{"$f":"Financing!A42","v":"Actual monthly payments may be higher depending on your credit rating.\""}]
[null,null,"36 Months",null,0,0,0,0,null,{"$f":"Financing!A43","v":"“Financing rates do not include Pre-Paid Service”"}]
[null,null,"48 Months",null,0,0,0,0,null,{"$f":"Financing!A44","v":0}]
[]
[null,null,null,"Benefits of Equipment Financing:"]
[null,null,null,"• Spreads out investment over time.",null,"• Keep current with latest technology."]
[null,null,null,"• Preserve capital.",null,"• Service and parts bundling available."]
[null,null,null,"• Low monthly payment.",null,"• Pay for labor savings as you go."]
[]
[]
[null,null,"Bundled Offerings",null,"Flexclean – Fair Market Value",null,"Flexclean - $1 Buyout"]
[null,null,"FlexClean: ",null,"36 Month Term",null,"36 Month Term",null,null,"No","AB Brushes"]
[null,null,"Hours included per Month:",null,"Gold","Silver","Gold","Silver","Check"]
[null,null,"< 30/mo. (Avg. 1hr./day)",null,null,null,null,null,null,null,{"$f":"FlexCleanCalc!$A21","v":"“FlexClean monthly rates include payment for both machine and service.”"}]
[null,null,"< 60/mo. (Avg. 2hrs./day)"]
[null,null,"< 90/mo. (Avg. 3hrs./day)"]
[null,null,"*This value assumes one service contract regardless of the number of UNITS included in the quote"]
[]
[]
[null,null,"Bundled Offerings",null,"Flexclean – Fair Market Value",null,"Flexclean - $1 Buyout"]
[null,null,"FlexClean 2: ",null,"48 Month Term",null,"48 Month Term"]
[null,null,"Hours included per Month:",null,"Gold","Silver","Gold","Silver"]
[null,null,"< 30/mo. (Avg. 1hr./day)"]
[null,null,"< 60/mo. (Avg. 2hrs./day)"]
[null,null,"< 90/mo. (Avg. 3hrs./day)"]
[null,null,"*This value assumes one service contract regardless of the number of UNITS included in the quote"]
[]
[null,null,"Bundled Offerings",null,"Flexclean – Fair Market Value",null,"Flexclean - $1 Buyout"]
[null,null,"FlexClean 3: ",null,"60 Month Term",null,"60 Month Term"]
[null,null,"Hours included per Month:",null,"Gold","Silver","Gold","Silver"]
[null,null,"< 30/mo. (Avg. 1hr./day)"]
[null,null,"< 60/mo. (Avg. 2hrs./day)"]
[null,null,"< 90/mo. (Avg. 3hrs./day)"]
[null,null,"*This value assumes one service contract regardless of the number of UNITS included in the quote"]
[]
[null,"  TennantTrue",null,0]
[]
[null,null,"Is customer interested in service program?","Yes","*State/County selection required for TennantTrue service options"]
[]
[null,null,"If not, why?"]
[]
[null,null,"Term:",36,null,"AB Brushes","No"]
[null,null,"Monthly machine usage (hrs):","< 30/mo. (Avg. 1hr./day)"]
[]
[null,null,"TennantTrue: ","Gold Contract",null,"Silver Contract"]
[null,null,"Per Visit",null,null,433]
[null,null,"Monthly",112,null,69]
[null,null,"Annually",null,null,816]
[null,null,"Pre-Pay Full Term",3882,null,2397]
[null,null,"Hourly Labor Rate"]
[null,null,"Site Visit"]
[]
[null,null,"* Verify customer current pricing prior to quote. "]
[null,null,"**All rates and fees above reflect service for one (1) unit with the exception of Block of Time service."]
[null,null,"*Block of Time is available in 1 Year Term only and is priced as such no matter the term selection on this template."]
[]
[]
[]
[null,null,"Quote Special Instructions:"]
[]
[]
[null,null,{"$f":"Start_Here!E36","v":"Terms and Conditions"}]
[null,null,{"$f":"Start_Here!E37","v":"Ask your local sales rep for estimated lead times. Verify when placing order"}]
[null,null,{"$f":"Start_Here!E38","v":"All orders subject to acceptance by Tennant Sales and Service Company, Minneapolis, Minnesota"}]
[null,null,{"$f":"Start_Here!E39","v":"Prices subject to change without notice."}]
[null,null,{"$f":"Start_Here!E40","v":"Terms:  Net 30 days.  Subject to any applicable taxes."}]
[null,null,{"$f":"Start_Here!E41","v":"Freight: Machines and accessory orders delivered FOB shipping point Frt PPD & Add"}]
[null,null,{"$f":"Start_Here!E42","v":"Parts, supplies, detergents and floor treating material orders delivered FOB "}]
[null,null,{"$f":"Start_Here!E43","v":"shipping point Frt PPD"}]
[null,null,{"$f":"Start_Here!E44","v":"All orders are subject to Tennant’s General Terms and Conditions available at http://www.tennantco.com/terms."}]
[null,null,{"$f":"Start_Here!E45","v":"Printed General Terms and Conditions are also available upon request."}]
[null,null,{"$f":"Start_Here!E46","v":0}]
[]
[null,null,null,null,null,"Quote Date :",null,{"$f":"Letter!$A$25","v":"2020-09-22"}]
[null,"Order Placement Information:  To place your order, fill in PO# and customer signatures,"]
[null,"call or fax to the numbers listed below. Customer Purchase Order is required."]
[null,"If information is missing, orders will be entered and held until all information is received."]
[null,null,"Customer Number",null,"Cust Grp 3"]
[null,null,{"$f":"Start_Here!$C$25","v":0},null,{"$f":"Start_Here!$C$29","v":0}]
[null,null,{"$f":"Start_Here!$B$18","v":"Who Owns the Machine? (Sold-To Info) (Please Verify)"}]
["Company",null,{"$f":"Start_Here!$C$19","v":"Company Name"}]
["Address",null,{"$f":"Start_Here!$C$20","v":"Address"}]
[null,null,{"$f":"Start_Here!$C$21","v":"City, State Zip"}]
["Name",null,{"$f":"Start_Here!$C$22","v":"Contact Name"}]
["Phone",null,{"$f":"Start_Here!$C$23","v":"Contact Phone"}]
[null,null,{"$f":"Start_Here!$B$11","v":"Where is the Machine Being Shipped? (Ship-To Info) (Please Verify)"}]
["Company",null,{"$f":"Start_Here!$C$12","v":"Company Name"}]
["Address",null,{"$f":"Start_Here!$C$13","v":"Address"}]
[null,null,{"$f":"Start_Here!$C$14","v":"City, State Zip"}]
["Name",null,{"$f":"Start_Here!$C$15","v":"Contact Name"}]
["Phone",null,{"$f":"Start_Here!$C$16","v":"Contact Phone"}]
[null,null,{"$f":"Start_Here!$B$31","v":"Shipping / Carrier Instructions:"},null,"Order Special Instructions:"]
[null,null,{"$f":"Start_Here!$C$32","v":0}]
[]
[null,null,"Customer Purchase Order No."]
[null,null,"(please attach copy)"]
[]
[]
[null,null,"Tax Exempt",null,"Yes"]
[null,null,null,null,"No"]
[null,null,"If Yes, attach a copy of your exemption certificate."]
[]
[null,null,"Requested Delivery Date"]
[null,null,{"$f":"Start_Here!$C$28","v":0}]
[]
[null,null,{"$f":"Start_Here!$C$26","v":0},null,{"$f":"Start_Here!$C$27","v":0}]
[null,0,"Authorized Buyer (please print)",null,"Phone Number"]
[]
[]
[null,0,"Authorized Buyer Signature"]
[]
[null,null,{"$f":"Start_Here!$C$41","v":"Rep Name"}]
[null,null,"Tennant Representative"]
[]
[]
["Specialized Maintenance Equipment"]
[{"$f":"Start_Here!$C$47","v":0}]
[{"$f":"Start_Here!$C$48","v":"TENNANT · 10400 Clean Street · Eden Prairie, MN 55344 ·"}]

{"sheet":"3640","index":19,"n_rows":312,"n_cols":13,"rows_kept":312,"cut":false,"hidden":false,"merged":[[193,3,193,4],[227,2,227,5],[224,2,224,5],[225,2,225,5],[226,2,226,5],[193,5,193,6],[194,3,194,4],[194,5,194,6],[188,3,188,4],[188,5,188,6],[189,3,189,4],[189,5,189,6],[48,2,48,3],[172,3,172,4],[137,3,137,6],[140,3,140,4],[142,5,142,6],[186,3,186,4],[181,4,181,8],[154,3,154,4],[154,5,154,6],[185,3,185,4],[155,5,155,6],[163,5,163,6],[190,3,190,4],[190,5,190,6],[191,3,191,4],[191,5,191,6],[192,3,192,4],[192,5,192,6],[249,4,249,5],[240,2,240,5],[230,2,230,5],[231,2,231,5],[203,1,203,6],[234,2,234,5],[233,2,233,5],[222,4,222,7],[236,4,236,7],[232,2,232,5],[228,2,228,5],[221,4,221,6],[0,2,0,3],[1,2,1,3],[2,2,2,3],[3,2,3,3],[163,3,163,4],[11,1,11,5],[25,1,25,5],[26,1,26,5],[24,1,24,5],[140,5,140,6],[142,3,142,4],[183,3,183,6],[155,3,155,4],[164,3,164,4],[164,5,164,6],[171,3,171,4],[171,5,171,6],[172,5,172,6]]}
[3640,null,{"$f":"Start_Here!$C19","v":"Company Name"}]
[{"$f":"SUM(G132)","v":0},null,{"$f":"Start_Here!$C20","v":"Address"}]
[null,null,{"$f":"Start_Here!$C21","v":"City, State Zip"}]
[null,null,{"$f":"Start_Here!$C22","v":"Contact Name"}]
[null,null,{"$f":"Start_Here!$C$41","v":"Rep Name"}]
[null,null,{"$f":"Start_Here!$C$37","v":"Tennant Sales and Service Company"}]
[null,null,{"$f":"Start_Here!$C$38","v":"10400 Clean Street"}]
[null,null,{"$f":"Start_Here!$C$39","v":"Eden Prairie, MN 55344"}]
[null,null,{"$f":"Start_Here!$C$43","v":"800-553-8033"},null,"Quote Date :",null,{"$f":"Letter!$A$25","v":"2020-09-22"}]
[]
[null,null,{"$f":"Help!C2","v":"US Date Rev - 5/6/2025"}]
[null,"BUILT-IN “TENNANT VALUE” INCLUDES:"]
[]
[null,null,null,"Variable Controls Height"]
[null,"Standard 80cm/32\" path width",null,"Fully Variable Forward/Reverse Speed Control"]
[null,"Panel Filter with Timed Shaker",null,"Free-Floating Hopper"]
[null,"High Air Flow Kit",null,"Hopper Capacity 85 l/3 cubic feet"]
[null,"130 AH Batteries with 11 Amp Off Board Charger",null,"Standard Side Brush  (Select One)"]
[null,"Battery Discharge Indicator w. Hour Meter",null,"Standard Main Brush (Select One)"]
[null,"Self-adjusting Main and Side Brush",null,"Operator Training Video"]
[null,"Direct Throw Sweeping",null,"Built in Spray Bottle/Glove Holder on Cover "]
[null,"Quick Release Main Broom",null,"Hour Meter"]
[null,"Parking Brake",null,"Key Switch"]
[]
[null,"TENNANT COMPANY WARRANTY"]
[null,"3 YEARS OR 2500 HOURS ON ALL COMPONENTS, 3 YEARS LABOR"]
[null,"90 DAYS TRAVEL, 10 YEARS ON DURAMERTM TANKS"]
[]
[]
[]
[]
[null,null,null,null,"                Quote Request Information"]
[null,null,null,null,null,null,"Fax (quote only)"]
[null,null,null,null,null,null,"Mail (quote,lit, specs)"]
[null,null,null,null,null,null,"Fax + Mail"]
[]
[null,null,null,null,"                Primary Use"]
[null,null,null,null,null,null,"Inside"]
[null,null,null,null,null,null,"Outside"]
[]
[]
["`",null,"Description","Reference #","Price Each","Qty","Extended Price"]
[null,"Base Configuration",null,null,null,{"$f":"SUM(F44,F47,F54,F59)","v":0}]
[null,null,"Cleaning Type",null,null,{"$f":"SUM(F45)","v":0},null,null,null,null,null,{"$f":"SUM(F44)","v":0},"Surcharge Qty"]
[null,null,"3640 E Battery Powered Walk-Behind Sweeper","3640-E",17429,null,{"$f":"F45*E45","v":0},{"$f":"IFERROR(IFERROR(VLOOKUP(D45,Surcharge!A:B,2,FALSE)*F45, VLOOKUP(D45 & \"\",Surcharge!A:B,2,FALSE)*F45), \"\")","v":0},null,null,null,{"$f":"SUM(F45)","v":0},"Surcharge Qty"]
[null,null,null,null,null,null,null,{"$f":"IFERROR(IFERROR(VLOOKUP(D46,Surcharge!A:B,2,FALSE)*F46, VLOOKUP(D46 & \"\",Surcharge!A:B,2,FALSE)*F46), \"\")","v":""}]
[null,null,"Battery Type",null,null,{"$f":"SUM(F48:F52)","v":0},null,{"$f":"IFERROR(IFERROR(VLOOKUP(D47,Surcharge!A:B,2,FALSE)*F47, VLOOKUP(D47 & \"\",Surcharge!A:B,2,FALSE)*F47), \"\")","v":""}]
[null,null,"Wet 130AH C/5  (Kit of 2 batteries)",80128,"N/C     ",null,{"$f":"IF(F48=0,\" \",\"N/C\")","v":" "},{"$f":"IFERROR(IFERROR(VLOOKUP(D48,Surcharge!A:B,2,FALSE)*F48, VLOOKUP(D48 & \"\",Surcharge!A:B,2,FALSE)*F48), \"\")","v":""}]
[null,null,"Wet 225AH C/6  (Kit of 2 batteries)  (Extended Run Time Batteries)\n     Requires 19A 100-240V AC 50/60Hz 1PH Charger",null,511,null,{"$f":"F49*E49","v":0},{"$f":"IFERROR(IFERROR(VLOOKUP(D49,Surcharge!A:B,2,FALSE)*F49, VLOOKUP(D49 & \"\",Surcharge!A:B,2,FALSE)*F49), \"\")","v":""}]
[null,null,"Less Battery",null,-262,null,{"$f":"F50*E50","v":0},{"$f":"IFERROR(IFERROR(VLOOKUP(D50,Surcharge!A:B,2,FALSE)*F50, VLOOKUP(D50 & \"\",Surcharge!A:B,2,FALSE)*F50), \"\")","v":""}]
[null,null,null,null," ",null,null,{"$f":"IFERROR(IFERROR(VLOOKUP(D51,Surcharge!A:B,2,FALSE)*F51, VLOOKUP(D51 & \"\",Surcharge!A:B,2,FALSE)*F51), \"\")","v":""}]
[null,null,"Manual Battery Watering Kit  (Note 1)",9009619,631,null,{"$f":"F52*E52","v":0},{"$f":"IFERROR(IFERROR(VLOOKUP(D52,Surcharge!A:B,2,FALSE)*F52, VLOOKUP(D52 & \"\",Surcharge!A:B,2,FALSE)*F52), \"\")","v":""}]
[null,null,null,null,null,null,null,{"$f":"IFERROR(IFERROR(VLOOKUP(D53,Surcharge!A:B,2,FALSE)*F53, VLOOKUP(D53 & \"\",Surcharge!A:B,2,FALSE)*F53), \"\")","v":""}]
[null,null,"Charger","Reference Number",null,{"$f":"SUM(F55:F57)","v":0},null,{"$f":"IFERROR(IFERROR(VLOOKUP(D54,Surcharge!A:B,2,FALSE)*F54, VLOOKUP(D54 & \"\",Surcharge!A:B,2,FALSE)*F54), \"\")","v":""}]
[null,null,"11A 100-240V AC 50/60Hz 1 Ph - off board",1056034,"N/C     ",null,{"$f":"IF(F55=0,\" \",\"N/C\")","v":" "},{"$f":"IFERROR(IFERROR(VLOOKUP(D55,Surcharge!A:B,2,FALSE)*F55, VLOOKUP(D55 & \"\",Surcharge!A:B,2,FALSE)*F55), \"\")","v":""}]
[null,null,"19A 100-240V AC 50/60Hz 1PH - off board",1029256,186,null,{"$f":"F56*E56","v":0},{"$f":"IFERROR(IFERROR(VLOOKUP(D56,Surcharge!A:B,2,FALSE)*F56, VLOOKUP(D56 & \"\",Surcharge!A:B,2,FALSE)*F56), \"\")","v":""}]
[null,null,"Less Charger",null,-138,null,{"$f":"F57*E57","v":0},{"$f":"IFERROR(IFERROR(VLOOKUP(D57,Surcharge!A:B,2,FALSE)*F57, VLOOKUP(D57 & \"\",Surcharge!A:B,2,FALSE)*F57), \"\")","v":""}]
[]
[null,null,"UL Rating/UL",null,null,{"$f":"SUM(F60:F61)","v":0}]
[null,null,"UL Type E ",80452,"N/C     ",null,{"$f":"IF(F60=0,\" \",\"N/C\")","v":" "}]
[null,null,"UL Type EE ",80454,2836,null,{"$f":"F61*E61","v":0}]
[null,null,null,null,null,null,null,{"$f":"IFERROR(IFERROR(VLOOKUP(D62,Surcharge!A:B,2,FALSE)*F62, VLOOKUP(D62 & \"\",Surcharge!A:B,2,FALSE)*F62), \"\")","v":""}]
[null,"Packages (Note 2) ",null,null,null,{"$f":"SUM(F64)","v":0},null,{"$f":"IFERROR(IFERROR(VLOOKUP(D63,Surcharge!A:B,2,FALSE)*F63, VLOOKUP(D63 & \"\",Surcharge!A:B,2,FALSE)*F63), \"\")","v":""}]
[null,null,"Carpet Cleaning Equipment Pkg (Note 3)",null,null,{"$f":"SUM(F65:F66)","v":0},null,{"$f":"IFERROR(IFERROR(VLOOKUP(D64,Surcharge!A:B,2,FALSE)*F64, VLOOKUP(D64 & \"\",Surcharge!A:B,2,FALSE)*F64), \"\")","v":""}]
[null,null,"Standard Run Time - for standard 130 AH batteries",80123,648,null,{"$f":"F65*E65","v":0},{"$f":"IFERROR(IFERROR(VLOOKUP(D65,Surcharge!A:B,2,FALSE)*F65, VLOOKUP(D65 & \"\",Surcharge!A:B,2,FALSE)*F65), \"\")","v":""}]
[null,null,"Extended Run Time - for 225 AH batteries",80040,648,null,{"$f":"F66*E66","v":0},{"$f":"IFERROR(IFERROR(VLOOKUP(D66,Surcharge!A:B,2,FALSE)*F66, VLOOKUP(D66 & \"\",Surcharge!A:B,2,FALSE)*F66), \"\")","v":""}]
[null,null,null,null,null,null,null,{"$f":"IFERROR(IFERROR(VLOOKUP(D67,Surcharge!A:B,2,FALSE)*F67, VLOOKUP(D67 & \"\",Surcharge!A:B,2,FALSE)*F67), \"\")","v":""}]
[null,"Cleaning Performance",null,null,null,{"$f":"SUM(F69:F80)","v":0},null,{"$f":"IFERROR(IFERROR(VLOOKUP(D68,Surcharge!A:B,2,FALSE)*F68, VLOOKUP(D68 & \"\",Surcharge!A:B,2,FALSE)*F68), \"\")","v":""}]
[null,null,"Side Brush, Right Hand",null,"N/C     ",null,{"$f":"IF(F69=0,\" \",\"N/C\")","v":" "},{"$f":"IFERROR(IFERROR(VLOOKUP(D69,Surcharge!A:B,2,FALSE)*F69, VLOOKUP(D69 & \"\",Surcharge!A:B,2,FALSE)*F69), \"\")","v":""}]
[null,null,"Side Brush, Dual (Note 4)",80150,940,null,{"$f":"F70*E70","v":0},{"$f":"IFERROR(IFERROR(VLOOKUP(D70,Surcharge!A:B,2,FALSE)*F70, VLOOKUP(D70 & \"\",Surcharge!A:B,2,FALSE)*F70), \"\")","v":""}]
[null,null,null,null,null,null,null,{"$f":"IFERROR(IFERROR(VLOOKUP(D71,Surcharge!A:B,2,FALSE)*F71, VLOOKUP(D71 & \"\",Surcharge!A:B,2,FALSE)*F71), \"\")","v":""}]
[null,null,"Live Wand (Note 5)",373143,"N/C",null,{"$f":"IF(F72=0,\" \",\"N/C\")","v":" "},{"$f":"IFERROR(IFERROR(VLOOKUP(D72,Surcharge!A:B,2,FALSE)*F72, VLOOKUP(D72 & \"\",Surcharge!A:B,2,FALSE)*F72), \"\")","v":""}]
[null,null,"Accessory Wand Kit (Note 6)",373138,331,null,{"$f":"F73*E73","v":0},{"$f":"IFERROR(IFERROR(VLOOKUP(D73,Surcharge!A:B,2,FALSE)*F73, VLOOKUP(D73 & \"\",Surcharge!A:B,2,FALSE)*F73), \"\")","v":""}]
[null,null,"Without Vacuum Wand",null," ",null,{"$f":"IF(F74=0,\" \",\"N/C\")","v":" "},{"$f":"IFERROR(IFERROR(VLOOKUP(D74,Surcharge!A:B,2,FALSE)*F74, VLOOKUP(D74 & \"\",Surcharge!A:B,2,FALSE)*F74), \"\")","v":""}]
[null,null,null,null,null,null,null,{"$f":"IFERROR(IFERROR(VLOOKUP(D75,Surcharge!A:B,2,FALSE)*F75, VLOOKUP(D75 & \"\",Surcharge!A:B,2,FALSE)*F75), \"\")","v":""}]
[null,null,"Dust Control Filter, Panel Filter",null,"N/C     ",null,{"$f":"IF(F76=0,\" \",\"N/C\")","v":" "},{"$f":"IFERROR(IFERROR(VLOOKUP(D76,Surcharge!A:B,2,FALSE)*F76, VLOOKUP(D76 & \"\",Surcharge!A:B,2,FALSE)*F76), \"\")","v":""}]
[null,null,"Dust Control Filter, Bag Filter (Note 7)",373146,-560,null,{"$f":"F77*E77","v":0},{"$f":"IFERROR(IFERROR(VLOOKUP(D77,Surcharge!A:B,2,FALSE)*F77, VLOOKUP(D77 & \"\",Surcharge!A:B,2,FALSE)*F77), \"\")","v":""}]
[null,null,"HEPA Filter (Note 8)",324010,7216,null,{"$f":"F78*E78","v":0},{"$f":"IFERROR(IFERROR(VLOOKUP(D78,Surcharge!A:B,2,FALSE)*F78, VLOOKUP(D78 & \"\",Surcharge!A:B,2,FALSE)*F78), \"\")","v":""}]
[null,null,null,null," ",null,null,{"$f":"IFERROR(IFERROR(VLOOKUP(D79,Surcharge!A:B,2,FALSE)*F79, VLOOKUP(D79 & \"\",Surcharge!A:B,2,FALSE)*F79), \"\")","v":""}]
[null,null,"Hopper Dump Assist",80285,209,null,{"$f":"F80*E80","v":0},{"$f":"IFERROR(IFERROR(VLOOKUP(D80,Surcharge!A:B,2,FALSE)*F80, VLOOKUP(D80 & \"\",Surcharge!A:B,2,FALSE)*F80), \"\")","v":""}]
[null,null,null,null,null,null,null,{"$f":"IFERROR(IFERROR(VLOOKUP(D81,Surcharge!A:B,2,FALSE)*F81, VLOOKUP(D81 & \"\",Surcharge!A:B,2,FALSE)*F81), \"\")","v":""}]
[null,"Machine Protection & Safety",null,"Reference Number",null,{"$f":"SUM(F83:F86)","v":0},null,{"$f":"IFERROR(IFERROR(VLOOKUP(D82,Surcharge!A:B,2,FALSE)*F82, VLOOKUP(D82 & \"\",Surcharge!A:B,2,FALSE)*F82), \"\")","v":""}]
[null,null,"Emergency Stop ",80179,346,null,{"$f":"F83*E83","v":0},{"$f":"IFERROR(IFERROR(VLOOKUP(D83,Surcharge!A:B,2,FALSE)*F83, VLOOKUP(D83 & \"\",Surcharge!A:B,2,FALSE)*F83), \"\")","v":""}]
[null,null,null,null," ",null,null,{"$f":"IFERROR(IFERROR(VLOOKUP(D84,Surcharge!A:B,2,FALSE)*F84, VLOOKUP(D84 & \"\",Surcharge!A:B,2,FALSE)*F84), \"\")","v":""}]
[null,null,"Tires, Solid Rubber",null,"N/C     ",null,{"$f":"IF(F85=0,\" \",\"N/C\")","v":" "},{"$f":"IFERROR(IFERROR(VLOOKUP(D85,Surcharge!A:B,2,FALSE)*F85, VLOOKUP(D85 & \"\",Surcharge!A:B,2,FALSE)*F85), \"\")","v":""}]
[null,null,"Tires, Wide Trac Pneumatic (Note 9)",80226,676,null,{"$f":"F86*E86","v":0},{"$f":"IFERROR(IFERROR(VLOOKUP(D86,Surcharge!A:B,2,FALSE)*F86, VLOOKUP(D86 & \"\",Surcharge!A:B,2,FALSE)*F86), \"\")","v":""}]
[null,null,null,null,null,null,null,{"$f":"IFERROR(IFERROR(VLOOKUP(D87,Surcharge!A:B,2,FALSE)*F87, VLOOKUP(D87 & \"\",Surcharge!A:B,2,FALSE)*F87), \"\")","v":""}]
[null,"Brushes",null,null,null,{"$f":"SUM(F89,F95)","v":0},null,{"$f":"IFERROR(IFERROR(VLOOKUP(D88,Surcharge!A:B,2,FALSE)*F88, VLOOKUP(D88 & \"\",Surcharge!A:B,2,FALSE)*F88), \"\")","v":""}]
[null,null,"Main Brush (Note 10)",null,null,{"$f":"SUM(F90:F93)","v":0},null,{"$f":"IFERROR(IFERROR(VLOOKUP(D89,Surcharge!A:B,2,FALSE)*F89, VLOOKUP(D89 & \"\",Surcharge!A:B,2,FALSE)*F89), \"\")","v":""}]
[null,null,"Polyprolyene Brush ",80058,"N/C     ",null,{"$f":"IF(F90=0,\" \",\"N/C\")","v":" "},{"$f":"IFERROR(IFERROR(VLOOKUP(D90,Surcharge!A:B,2,FALSE)*F90, VLOOKUP(D90 & \"\",Surcharge!A:B,2,FALSE)*F90), \"\")","v":""}]
[null,null,"Polyprolyene & Wire Brush ",378802,"N/C     ",null,{"$f":"IF(F91=0,\" \",\"N/C\")","v":" "},{"$f":"IFERROR(IFERROR(VLOOKUP(D91,Surcharge!A:B,2,FALSE)*F91, VLOOKUP(D91 & \"\",Surcharge!A:B,2,FALSE)*F91), \"\")","v":""}]
[null,null,"Union Mix Brush (Carpet)",80355,"N/C     ",null,{"$f":"IF(F92=0,\" \",\"N/C\")","v":" "},{"$f":"IFERROR(IFERROR(VLOOKUP(D92,Surcharge!A:B,2,FALSE)*F92, VLOOKUP(D92 & \"\",Surcharge!A:B,2,FALSE)*F92), \"\")","v":""}]
[null,null,"Sand Wedge Brush ",80351,"N/C     ",null,{"$f":"IF(F93=0,\" \",\"N/C\")","v":" "},{"$f":"IFERROR(IFERROR(VLOOKUP(D93,Surcharge!A:B,2,FALSE)*F93, VLOOKUP(D93 & \"\",Surcharge!A:B,2,FALSE)*F93), \"\")","v":""}]
[null,null,null,null,null,null,null,{"$f":"IFERROR(IFERROR(VLOOKUP(D94,Surcharge!A:B,2,FALSE)*F94, VLOOKUP(D94 & \"\",Surcharge!A:B,2,FALSE)*F94), \"\")","v":""}]
[null,null,"Side Brush",null,null,{"$f":"SUM(F96)","v":0},null,{"$f":"IFERROR(IFERROR(VLOOKUP(D95,Surcharge!A:B,2,FALSE)*F95, VLOOKUP(D95 & \"\",Surcharge!A:B,2,FALSE)*F95), \"\")","v":""}]
[null,null,"Polyprolyene Brush",80042,"N/C     ",null,{"$f":"IF(F96=0,\" \",\"N/C\")","v":" "},{"$f":"IFERROR(IFERROR(VLOOKUP(D96,Surcharge!A:B,2,FALSE)*F96, VLOOKUP(D96 & \"\",Surcharge!A:B,2,FALSE)*F96), \"\")","v":""}]
[null,null,null,null,null,null,null,{"$f":"IFERROR(IFERROR(VLOOKUP(D97,Surcharge!A:B,2,FALSE)*F97, VLOOKUP(D97 & \"\",Surcharge!A:B,2,FALSE)*F97), \"\")","v":""}]
[null,"Support",null,null,null,{"$f":"SUM(F99:F105)","v":0},null,{"$f":"IFERROR(IFERROR(VLOOKUP(D98,Surcharge!A:B,2,FALSE)*F98, VLOOKUP(D98 & \"\",Surcharge!A:B,2,FALSE)*F98), \"\")","v":""}]
[null,null,"Operator Manual English",330560,"N/C     ",null,{"$f":"IF(F99=0,\" \",\"N/C\")","v":" "},{"$f":"IFERROR(IFERROR(VLOOKUP(D99,Surcharge!A:B,2,FALSE)*F99, VLOOKUP(D99 & \"\",Surcharge!A:B,2,FALSE)*F99), \"\")","v":""}]
[null,null,"Operator Manual Spanish",330562,"N/C     ",null," ",{"$f":"IFERROR(IFERROR(VLOOKUP(D100,Surcharge!A:B,2,FALSE)*F100, VLOOKUP(D100 & \"\",Surcharge!A:B,2,FALSE)*F100), \"\")","v":""}]
[null,null,"Operator Manual French",330563,"N/C     ",null," ",{"$f":"IFERROR(IFERROR(VLOOKUP(D101,Surcharge!A:B,2,FALSE)*F101, VLOOKUP(D101 & \"\",Surcharge!A:B,2,FALSE)*F101), \"\")","v":""}]
[null,null,"Operator Manual Japanese",330564,"N/C     ",null," ",{"$f":"IFERROR(IFERROR(VLOOKUP(D102,Surcharge!A:B,2,FALSE)*F102, VLOOKUP(D102 & \"\",Surcharge!A:B,2,FALSE)*F102), \"\")","v":""}]
[null,null,"Additional Operator Manual","see above",101,null,{"$f":"F103*E103","v":0},{"$f":"IFERROR(IFERROR(VLOOKUP(D103,Surcharge!A:B,2,FALSE)*F103, VLOOKUP(D103 & \"\",Surcharge!A:B,2,FALSE)*F103), \"\")","v":""}]
[null,null,"3640 Parts Manual",null,25,null,{"$f":"F104*E104","v":0},{"$f":"IFERROR(IFERROR(VLOOKUP(D104,Surcharge!A:B,2,FALSE)*F104, VLOOKUP(D104 & \"\",Surcharge!A:B,2,FALSE)*F104), \"\")","v":""}]
[null,null,"3640 Service Manual",330565,229,null,{"$f":"F105*E105","v":0},{"$f":"IFERROR(IFERROR(VLOOKUP(D105,Surcharge!A:B,2,FALSE)*F105, VLOOKUP(D105 & \"\",Surcharge!A:B,2,FALSE)*F105), \"\")","v":""}]
[null,null,null,null,null,null,null,{"$f":"IFERROR(IFERROR(VLOOKUP(D106,Surcharge!A:B,2,FALSE)*F106, VLOOKUP(D106 & \"\",Surcharge!A:B,2,FALSE)*F106), \"\")","v":""}]
[null,null,"Packaging  (Note 11)",null,null,{"$f":"SUM(F108:F110)","v":0},null,{"$f":"IFERROR(IFERROR(VLOOKUP(D107,Surcharge!A:B,2,FALSE)*F107, VLOOKUP(D107 & \"\",Surcharge!A:B,2,FALSE)*F107), \"\")","v":""}]
[null,null,"Pad Wrap ",null,"N/C     ",null,{"$f":"IF(F108=0,\" \",\"N/C\")","v":" "},{"$f":"IFERROR(IFERROR(VLOOKUP(D108,Surcharge!A:B,2,FALSE)*F108, VLOOKUP(D108 & \"\",Surcharge!A:B,2,FALSE)*F108), \"\")","v":""}]
[null,null,"Skid w/Carton, Stackable ",9005746,496,null,{"$f":"F109*E109","v":0},{"$f":"IFERROR(IFERROR(VLOOKUP(D109,Surcharge!A:B,2,FALSE)*F109, VLOOKUP(D109 & \"\",Surcharge!A:B,2,FALSE)*F109), \"\")","v":""}]
[null,null,"Skid w/Stretch Wrap",9005748,336,null,{"$f":"F110*E110","v":0},{"$f":"IFERROR(IFERROR(VLOOKUP(D110,Surcharge!A:B,2,FALSE)*F110, VLOOKUP(D110 & \"\",Surcharge!A:B,2,FALSE)*F110), \"\")","v":""}]
[null,null,null,null,null,null,null,{"$f":"IFERROR(IFERROR(VLOOKUP(D111,Surcharge!A:B,2,FALSE)*F111, VLOOKUP(D111 & \"\",Surcharge!A:B,2,FALSE)*F111), \"\")","v":""}]
[null,null,null,null,null,{"$f":"SUM(#REF!)","v":{"$error":"#REF!"}}]
[]
[null,"Custom Solution--write in description, qty, price, and PN if applicable",null,null,null,{"$f":"SUM(E115)","v":0}]
[null,null,null,"Insert Prices Here",{"$f":"SUM(F116:F119)","v":0}]
[null,null,null,"Custom",null,{"$f":"IF(E116 <> \"\", 1, 0)","v":0},{"$f":"F116*E116","v":0}]
[null,null,null,"Custom",null,{"$f":"IF(E117 <> \"\", 1, 0)","v":0},{"$f":"F117*E117","v":0}]
[null,null,null,"Custom",null,0,{"$f":"F118*E118","v":0}]
[null,null,null,"Custom",null,0,{"$f":"F119*E119","v":0}]
[null,null,null,null,{"$f":"ROUND(SUM(G45:G119), 0)","v":0},{"$f":"SUM(E121)","v":0}]
[null,null,null,"Machine Subtotal ",{"$f":"ROUND(SUM(G45:G119), 0)","v":0},{"$f":"F120","v":0}]
[null,"Discounts",null,null,null,{"$f":"SUM(F123)","v":0}]
[null,null,null,null,null,{"$f":"SUM(F124:F125)","v":0}]
[null,null,null,"Discount %",null,{"$f":"IF(E124 <> \"\", 1, 0)","v":0},{"$f":"IF(F124*(E124*0.01)*E120 < 0, F124*(E124*0.01)*E120, -(F124*(E124*0.01)*E120))","v":0}]
[null,null,null,"Discount $",null,{"$f":"IF(E125 <> \"\", 1, 0)","v":0},{"$f":"IF(F125*E125 < 0, F125*E125, -(F125*E125))","v":0}]
[null,null,null,"Discount Total ",{"$f":"SUM(G124:G125)","v":0},{"$f":"SUM(E126)","v":0}]
[null,null,null,null,{"$f":"#REF!","v":{"$error":"#REF!"}},{"$f":"#REF!","v":{"$error":"#REF!"}}]
[null,null,null,null,null,{"$f":"F127","v":{"$error":"#REF!"}}]
[null,null,"Prepaid and Add","Freight",null,{"$f":"IF(E129 <> \"\", 1, 0)","v":0},{"$f":"F129*E129","v":0}]
[null,null,"Subject to all applicable taxes","Tax",null,0,{"$f":"F130*E130","v":0}]
[null,null,null,null,null,{"$f":"SUM(F132)","v":0}]
[null,null,null,"          MACHINE TOTAL*",null,{"$f":"SUM(G132)","v":0},{"$f":"SUM(G45:G130)","v":0},null,null,null,"This goes to \"My Documents\""]
[null,null,null,null,null,null,{"$f":"SUM(G132)","v":0}]
[null,"Financing"]
[]
[null,null,"Is customer interested in financing?","Yes"]
[]
[null,null,"If not, why?"]
[]
[]
[null,null,"First Western Equipment Finance - Leasing Calculation Option:","Option 1",null,"Option 2",null,null,null,{"$f":"Financing!A38","v":"Rates 2025 - Rev. 5/6/2025"}]
[null,null,null,"Monthly Payment","Cost Per Day","Monthly Payment","Cost Per Day",null,null,{"$f":"Financing!A39","v":"“Blank Payment Amounts Indicate The Financing Option Or Purchase Options Selected Are Not "}]
[null,null,"Purchase Option:","FWEF:  $1 Buyout Lease",null,"FWEF: Municipal Lease",null,null,null,{"$f":"Financing!A40","v":"Applicable Or The Machine Total Is Below The Minimum Amount For The Selected Vendor”"}]
[null,null,"24 Months",0,0,0,0,null,null,{"$f":"Financing!A41","v":"\"Quoted monthly payments are estimates only and are based on a certain level of credit rating."}]
[null,null,"30 Months",0,0,0,0,null,null,{"$f":"Financing!A42","v":"Actual monthly payments may be higher depending on your credit rating.\""}]
[null,null,"36 Months",0,0,0,0,null,null,{"$f":"Financing!A43","v":"“Financing rates do not include Pre-Paid Service”"}]
[null,null,"48 Months",0,0,0,0,null,{"$f":"Financing!A44","v":0}]
[]
[null,null,null,"Benefits of Equipment Financing:"]
[null,null,null,"• Spreads out investment over time.",null,"• Keep current with latest technology."]
[null,null,null,"• Preserve capital.",null,"• Service and parts bundling available."]
[null,null,null,"• Low monthly payment.",null,"• Pay for labor savings as you go."]
[]
[]
[null,null,"Bundled Offerings","Flexclean – Fair Market Value",null,"Flexclean - $1 Buyout"]
[null,null,"FlexClean: ","36 Month Term",null,"36 Month Term",null,null,"No","AB Brushes"]
[null,null,"Hours included per Month:","Gold","Silver","Gold","Silver","Check"]
[null,null,"< 30/mo. (Avg. 1hr./day)",null,null,null,null,null,{"$f":"FlexCleanCalc!$A21","v":"“FlexClean monthly rates include payment for both machine and service.”"}]
[null,null,"< 60/mo. (Avg. 2hrs./day)"]
[null,null,"< 90/mo. (Avg. 3hrs./day)"]
[null,null,"*This value assumes one service contract regardless of the number of UNITS included in the quote"]
[]
[]
[null,null,"Bundled Offerings","Flexclean – Fair Market Value",null,"Flexclean - $1 Buyout"]
[null,null,"FlexClean 2: ","48 Month Term",null,"48 Month Term"]
[null,null,"Hours included per Month:","Gold","Silver","Gold","Silver"]
[null,null,"< 30/mo. (Avg. 1hr./day)"]
[null,null,"< 60/mo. (Avg. 2hrs./day)"]
[null,null,"< 90/mo. (Avg. 3hrs./day)"]
[null,null,"*This value assumes one service contract regardless of the number of UNITS included in the quote"]
[]
[null,null,"Bundled Offerings","Flexclean – Fair Market Value",null,"Flexclean - $1 Buyout"]
[null,null,"FlexClean 3: ","60 Month Term",null,"60 Month Term"]
[null,null,"Hours included per Month:","Gold","Silver","Gold","Silver"]
[null,null,"< 30/mo. (Avg. 1hr./day)"]
[null,null,"< 60/mo. (Avg. 2hrs./day)"]
[null,null,"< 90/mo. (Avg. 3hrs./day)"]
[null,null,"*This value assumes one service contract regardless of the number of UNITS included in the quote"]
[]
[null,"   TennantTrue"]
[]
[null,null,"Is customer interested in service program?","Yes","*State/County selection required for TennantTrue service options"]
[]
[null,null,"If not, why?"]
[]
[null,null,"Term:",36,null,"AB Brushes","No"]
[null,null,"Monthly machine usage (hrs):","< 30/mo. (Avg. 1hr./day)"]
[]
[null,null,"TennantTrue: ","Gold Contract",null,"Silver Contract"]
[null,null,"Per Visit",null,null,433]
[null,null,"Monthly",137,null,69]
[null,null,"Annually",null,null,816]
[null,null,"Pre-Pay Full Term",4726,null,2397]
[null,null,"Hourly Labor Rate"]
[null,null,"Site Visit"]
[]
[null,null,"* Verify customer current pricing prior to quote. "]
[null,null,"**All rates and fees above reflect service for one (1) unit with the exception of Block of Time service."]
[null,null,"*Block of Time is available in 1 Year Term only and is priced as such no matter the term selection on this template."]
[]
[]
[]
[null,"Quote Special Instructions:"]
[]
[]
[null,{"$f":"Start_Here!E36","v":"Terms and Conditions"}]
[null,{"$f":"Start_Here!E37","v":"Ask your local sales rep for estimated lead times. Verify when placing order"}]
[null,{"$f":"Start_Here!E38","v":"All orders subject to acceptance by Tennant Sales and Service Company, Minneapolis, Minnesota"}]
[null,{"$f":"Start_Here!E39","v":"Prices subject to change without notice."}]
[null,{"$f":"Start_Here!E40","v":"Terms:  Net 30 days.  Subject to any applicable taxes."}]
[null,{"$f":"Start_Here!E41","v":"Freight: Machines and accessory orders delivered FOB shipping point Frt PPD & Add"}]
[null,{"$f":"Start_Here!E42","v":"Parts, supplies, detergents and floor treating material orders delivered FOB "}]
[null,{"$f":"Start_Here!E43","v":"shipping point Frt PPD"}]
[null,{"$f":"Start_Here!E44","v":"All orders are subject to Tennant’s General Terms and Conditions available at http://www.tennantco.com/terms."}]
[null,{"$f":"Start_Here!E45","v":"Printed General Terms and Conditions are also available upon request."}]
[null,{"$f":"Start_Here!E46","v":0}]
[]
[null,null,null,null,"Quote Date :",null,{"$f":"Letter!$A$25","v":"2020-09-22"}]
["Order Placement Information:  To place your order, fill in PO# and customer signatures,"]
["call or fax to the numbers listed below. Customer Purchase Order is required."]
["If information is missing, orders will be entered and held until all information is received."]
[null,null,"Customer Number",null,"Cust Grp 3"]
[null,null,{"$f":"Start_Here!$C$25","v":0},null,{"$f":"Start_Here!$C$29","v":0}]
[null,null,{"$f":"Start_Here!$B$18","v":"Who Owns the Machine? (Sold-To Info) (Please Verify)"}]
["Company",null,{"$f":"Start_Here!$C$19","v":"Company Name"}]
["Address",null,{"$f":"Start_Here!$C$20","v":"Address"}]
[null,null,{"$f":"Start_Here!$C$21","v":"City, State Zip"}]
["Name",null,{"$f":"Start_Here!$C$22","v":"Contact Name"}]
["Phone",null,{"$f":"Start_Here!$C$23","v":"Contact Phone"}]
[null,null,{"$f":"Start_Here!$B$11","v":"Where is the Machine Being Shipped? (Ship-To Info) (Please Verify)"}]
["Company",null,{"$f":"Start_Here!$C$12","v":"Company Name"}]
["Address",null,{"$f":"Start_Here!$C$13","v":"Address"}]
[null,null,{"$f":"Start_Here!$C$14","v":"City, State Zip"}]
["Name",null,{"$f":"Start_Here!$C$15","v":"Contact Name"}]
["Phone",null,{"$f":"Start_Here!$C$16","v":"Contact Phone"}]
[null,null,{"$f":"Start_Here!$B$31","v":"Shipping / Carrier Instructions:"},null,"Order Special Instructions:"]
[null,null,{"$f":"Start_Here!$C$32","v":0}]
[]
[null,null,"Customer Purchase Order No."]
[null,null,"(please attach copy)"]
[]
[]
[null,null,"Tax Exempt",null,"Yes"]
[null,null,null,null,"No"]
[null,null,"If Yes, attach a copy of your exemption certificate."]
[]
[null,null,"Requested Delivery Date"]
[null,null,{"$f":"Start_Here!$C$28","v":0}]
[]
[null,null,{"$f":"Start_Here!$C$26","v":0},null,{"$f":"Start_Here!$C$27","v":0}]
[null,0,"Authorized Buyer (please print)",null,"Phone Number"]
[]
[]
[null,0,"Authorized Buyer Signature"]
[]
[null,null,{"$f":"Start_Here!$C$41","v":"Rep Name"}]
[null,null,"Tennant Representative"]
[]
["Specialized Maintenance Equipment"]
[{"$f":"Start_Here!$C$48","v":"TENNANT · 10400 Clean Street · Eden Prairie, MN 55344 ·"}]
[{"$f":"Start_Here!$C$49","v":" PHONE:800-553-8033 · FAX:763-513-2116"}]
[]
[]
[null,"SPECIAL INFORMATION"]
[]
[null,1,"Only available on 225 AH wet batteries."]
[]
[null,2,"Configuration Reccomendation Criteria:"]
[null,null,"Standard Configuration -","Panel Filter/Live Wand",null,"Bag Filter/Live Wand"]
[null,null,"Panel Filter/High Air Flow System","(Less High Air Flow System)",null,"(Less High Air Flow System)"]
[null,null,"Most Applications, Particularly:","Light Applications:",null,"Light Applications:"]
[null,null,"Continual Dust Accumulation","Light Dust",null,"Primarily for Carpet"]
[null,null,"Sensitive to Dusting","Less Sensitive to Dust",null,"Applications"]
[null,null,"Medium to Heavy Dust","Want Live Vacuum Wand",null,"Light to No Dust"]
[null,null,"Vacuum Wand Available as an Option",null,null,"HEPA filter Applications"]
[]
[null,3,"Carpet Cleaning Packages – "]
[null,null,"Standard Run Time package requires the selection of the Wet 130AH battery."]
[null,null,"Extended Run Time package requires the selection of the Wet 225AH battery."]
[null,null,"Each package includes:  Union Mix (Carpet Brush) and Battery Acid Containment Bags"]
[]
[null,4,"When dual side brushes are chosen, it is recommened to use the exteneded run time batteries kit #80131 with this option."]
[]
[null,5,"Recommended for light dust applications only.  Ordering the Live Wand option will reroute the aiflow permanently"]
[null,null,"through a \"live wand\" that is always available to the operator for detailing or edge cleaning.  "]
[null,null,"This will remove the High Air Flow system and will replace it with the Live Vacuum Wand.  No additional charge."]
[]
[null,6,"Vacuum wand to be installed on front cover.  Order only when purchasing the standard machine with the"]
[null,null,"High Air Flow System.  When any of the part numbers 373143 or 373146 are ordered, "]
[null,null,"the Live Vacuum Wand is standard and it is not possible to order this option."]
[null,null,"Kit supplies a hose and wand that is stored onboard and connects for use."]
[]
[null,7,"This will remove the Panel Filter System with the Bag Filter System.  This is recommneded only for carpet applications"]
[null,null,"and very light dust applications."]
[]
[null,8,"Recommended for use with paper filter collector bag or for an additional level of filtration.  "]
[null,null,"This is a \"Custom\" option.   Please keep in mind tht this may require a longer delivery time."]
[]
[null,9,"Wide Trac Pneumatic Tire and Caster Kit is to better equip machines for outdoor use."]
[]
[null,10,"Only Union Mix Brush is available with Carpet Cleaning Equipment Pkg"]
[]
[null,11,"Pad wrap available only in the Continental US and is the default packaging method."]
[null,null,"Customer MUST order Skid w/Carton, Stackable or Skid w/Stretch Wrap if WITHOUT BATTERY is selected."]
[null,null,"Skid w/Carton, Stackable is mandatory when shipping to AK and HI and added at No Charge when shipping to these locations."]
[]
[null,12,"Shipping Weights and Dimensions","Pad Warp","Skid w/Carton"]
[]
[null,null,"Weight (w/ 130AH Battery)","520 lbs / 235 Kg","676 lbs / 307 Kg"]
[null,null,"Length","58\" / 1475 mm","73\" / 1854 mm"]
[null,null,"Width","33\" / 820 mm","44\" / 1118 mm"]
[null,null,"Height","38\" / 960 mm","52\" / 1321 mm"]

{"sheet":"S16L_Standard_Config","index":20,"n_rows":253,"n_cols":13,"rows_kept":253,"cut":false,"hidden":false,"merged":[[196,4,196,7],[223,4,223,5],[205,2,205,5],[206,2,206,5],[207,2,207,5],[208,2,208,5],[210,4,210,7],[214,2,214,5],[198,2,198,5],[199,2,199,5],[200,2,200,5],[201,2,201,5],[202,2,202,5],[204,2,204,5],[166,3,166,4],[176,1,176,6],[195,4,195,6],[166,5,166,6],[167,3,167,4],[167,5,167,6],[163,3,163,4],[163,5,163,6],[164,3,164,4],[164,5,164,6],[165,3,165,4],[165,5,165,6],[159,3,159,4],[161,3,161,4],[161,5,161,6],[162,3,162,4],[162,5,162,6],[154,4,154,8],[145,3,145,4],[145,5,145,6],[156,3,156,6],[158,3,158,4],[30,2,30,6],[27,2,27,3],[110,3,110,6],[113,3,113,4],[113,5,113,6],[50,2,50,3],[31,2,31,6],[32,2,32,6],[33,2,33,6],[34,2,34,6],[59,2,59,3],[56,2,56,3],[53,2,53,3],[0,2,0,3],[1,2,1,3],[2,2,2,3],[3,2,3,3],[29,2,29,6],[115,3,115,4],[115,5,115,6],[137,3,137,4],[137,5,137,6],[144,3,144,4],[144,5,144,6],[127,3,127,4],[127,5,127,6],[128,3,128,4],[128,5,128,6],[136,3,136,4],[136,5,136,6]]}
["S16L_Standard_Config",null,{"$f":"Start_Here!$C19","v":"Company Name"}]
[{"$f":"SUM(G105)","v":0},null,{"$f":"Start_Here!$C20","v":"Address"}]
[null,null,{"$f":"Start_Here!$C21","v":"City, State Zip"}]
[null,null,{"$f":"Start_Here!$C22","v":"Contact Name"}]
[null,null,{"$f":"Start_Here!$C$41","v":"Rep Name"}]
[null,null,{"$f":"Start_Here!$C$37","v":"Tennant Sales and Service Company"}]
[null,null,{"$f":"Start_Here!$C$38","v":"10400 Clean Street"}]
[null,null,{"$f":"Start_Here!$C$39","v":"Eden Prairie, MN 55344"}]
[null,null,{"$f":"Start_Here!$C$43","v":"800-553-8033"},null,"Quote Date :",null,{"$f":"Letter!$A$25","v":"2020-09-22"}]
[]
[null,null,{"$f":"Help!C2","v":"US Date Rev - 5/6/2025"}]
[null,null,"                                                               BUILT-IN \"TENNANT VALUE\" INCLUDES:"]
[]
[null,null,"MaxPro™ Sweeping Technology","Wet Sweeping By-Pass"]
[null,null,"1-Step™ Control Module","UL-Label (Type E)"]
[null,null,"46\" (1170mm) Sweep Path","Tool-less Side Panel Removal"]
[null,null,"No-Tool Brush Change","Soft corner rollers all-around"]
[null,null,"Multi-stage Air Filtration & Dust Control","Hour Meter"]
[null,null,"  Stage 1: Perma-filter™","Battery Discharge Indicator"]
[null,null,"  Stage 2: Panel filter","Horn"]
[null,null,"  97.0 ft² (9.0 m2) Pleated Media","Cup Holders"]
[null,null,"Flap and Trap Debris Pedal","Automatic Parking Brake"]
[null,null,"Retractable Right Hand Side Brush","Yellow Maintenance Touch Points"]
[null,null,"Thermo-Sentry™ Hopper Fire Sensor","Seat occupancy interlock safety switch"]
[null,null,"Worn main brush indicator light","Main and right side brush (Standard)"]
[null,null,"5.3 ft3 (150 L) Hopper Volume Capacity","Onboard Diagnostics"]
[null,null,"200 lbs (90 kg) Hopper Weight Capacity","Operator and parts manual"]
[null,null,"Duramer™ Hopper Construction"]
[]
[null,null,"TENNANT COMPANY WARRANTY"]
[null,null,"3 YEARS OR 2000 HOURS - PARTS"]
[null,null,"6 MONTHS - LABOR"]
[null,null,"6 MONTHS - TRAVEL"]
[null,null,"10 YEARS ON DURAMERTM HOPPER"]
[null,null,"CUSTOM Options May Add 1 Week Or More to Standard Lead Times"]
[]
[null,null,null,null,"                Quote Request Information"]
[null,null,null,null,null,null,"Fax (quote only)"]
[null,null,null,null,null,null,"Mail (quote,lit, specs)"]
[null,null,null,null,null,null,"Fax + Mail"]
[]
[null,null,null,null,"                Primary Use"]
[null,null,null,null,null,null,"Inside"]
[null,null,null,null,null,null,"Outside"]
[]
[]
[null,null,"Description","Reference # ","Price Each","Qty","Extended Price"]
[null,"Standard Configurations  (Note 1)",null,null,null,{"$f":"SUM(F50,F53,F56,F59)","v":0}]
[null,null,null,null,null,null,null,null,null,null,null,{"$f":"SUM(F49)","v":0},"Surcharge Qty"]
[null,null,"S16L Rider - Sweeper, Wet 360AH C/20 Batteries, Off-Board 25A 100-240V AC 50/60Hz 1Ph, UL Type E, Right Hand Side Brush, Standard Seat","S16L-1000",34722,null,{"$f":"F50*E50","v":0},{"$f":"IFERROR(IFERROR(VLOOKUP(D50,Surcharge!A:B,2,FALSE)*F50, VLOOKUP(D50 & \"\",Surcharge!A:B,2,FALSE)*F50), \"\")","v":""}]
[null,null,"Choice of Brushes, Operator Manual, and Shipment Packaging available.",null,null,{"$f":"SUM(F50)","v":0},null,{"$f":"IFERROR(IFERROR(VLOOKUP(D51,Surcharge!A:B,2,FALSE)*F51, VLOOKUP(D51 & \"\",Surcharge!A:B,2,FALSE)*F51), \"\")","v":""}]
[null,null,null,null,null,null,null,{"$f":"IFERROR(IFERROR(VLOOKUP(D52,Surcharge!A:B,2,FALSE)*F52, VLOOKUP(D52 & \"\",Surcharge!A:B,2,FALSE)*F52), \"\")","v":""}]
[null,null,"S16L Rider - Sweeper, Wet 360AH C/20 Batteries, Smart-Fill Battery Watering System, On-Board 25A 100-240V AC 50/60Hz 1Ph Charger, UL Type E, Right Side Brush, Vacuum Wand, Removable Hopper Bins, AV Bu Alarm w/Strobe on Lintel","S16L-2000",40352,null,{"$f":"F53*E53","v":0},{"$f":"IFERROR(IFERROR(VLOOKUP(D53,Surcharge!A:B,2,FALSE)*F53, VLOOKUP(D53 & \"\",Surcharge!A:B,2,FALSE)*F53), \"\")","v":""}]
[null,null,"Choice of Fire Extinguisher, Overhead Guard, Brushes, Operator Manual, Parts Manual, and Shipment Packaging available.",null,null,{"$f":"SUM(F53)","v":0},null,{"$f":"IFERROR(IFERROR(VLOOKUP(D54,Surcharge!A:B,2,FALSE)*F54, VLOOKUP(D54 & \"\",Surcharge!A:B,2,FALSE)*F54), \"\")","v":""}]
[]
[null,null,"S16L Rider - Sweeper, Wet 360AH C/20 Batteries, Smart-Fill Battery Watering System, On-Board 25A 100-240V AC 50/60Hz 1Ph Charger, UL Type E, Carpet Care Package, Right Hand Side Brush, Vacuum Wand, Removable Hopper Bins, Standard Seat, AU BU Alarm w/Strobe on Lintel  (Carpet Care Package includes Natural Fiber Brush)","S16L-2002",41062,null,{"$f":"F56*E56","v":0}]
[null,null,"Choice of Fire Extinguisher, Overhead Guard, Brushes, Operator Manual, Parts Manual, and Shipment Packaging available.",null,null,{"$f":"SUM(F56)","v":0}]
[null,null,null,null,null,null,null,{"$f":"IFERROR(IFERROR(VLOOKUP(D58,Surcharge!A:B,2,FALSE)*F58, VLOOKUP(D58 & \"\",Surcharge!A:B,2,FALSE)*F58), \"\")","v":""}]
[null,null,"S16L Rider - Sweeper,  Wet 360AH C/20 Batteries, Smart-Fill Battery Watering System, On-Board 33A 100-240V AC 50/60Hz 1Ph Charger, UL Type E, Productivity Package, Safety Light Package, Removable Hopper Bins, Deluxe Seat w/Armrest","S16L-3000",44304,null,{"$f":"F59*E59","v":0}]
[null,null,"Choice of Fire Extinguisher, Overhead Guard, Brushes, Operator Manual, Parts Manual, and Shipment Packaging available.",null,null,{"$f":"SUM(F59)","v":0}]
[]
[null,"Machine Protection & Safety",null,null,null,{"$f":"SUM(F63:F64)","v":0}]
[null,null,"Overhead Guard",9045052,1682,null,{"$f":"F63*E63","v":0}]
[null,null,"Fire Extinguisher",9045069,350,null,{"$f":"F64*E64","v":0}]
[null,null,null,null,null,null,null,{"$f":"IFERROR(IFERROR(VLOOKUP(D65,Surcharge!A:B,2,FALSE)*F65, VLOOKUP(D65 & \"\",Surcharge!A:B,2,FALSE)*F65), \"\")","v":""}]
[null,"Brushes and Pads",null,"Reference Number",null,{"$f":"SUM(F67,F74)","v":0},null,{"$f":"IFERROR(IFERROR(VLOOKUP(D66,Surcharge!A:B,2,FALSE)*F66, VLOOKUP(D66 & \"\",Surcharge!A:B,2,FALSE)*F66), \"\")","v":""}]
[null,null,"Main Sweeping Brushes",null,null,{"$f":"SUM(F68:F72)","v":0},null,{"$f":"IFERROR(IFERROR(VLOOKUP(D67,Surcharge!A:B,2,FALSE)*F67, VLOOKUP(D67 & \"\",Surcharge!A:B,2,FALSE)*F67), \"\")","v":""}]
[null,null,"Polypropylene Brush",1240255,"N/C",null,{"$f":"IF(F68=0,\" \",\"N/C\")","v":" "},{"$f":"IFERROR(IFERROR(VLOOKUP(D68,Surcharge!A:B,2,FALSE)*F68, VLOOKUP(D68 & \"\",Surcharge!A:B,2,FALSE)*F68), \"\")","v":""}]
[null,null,"Polypropylene and Wire Brush",1254155,"N/C",null,{"$f":"IF(F69=0,\" \",\"N/C\")","v":" "},{"$f":"IFERROR(IFERROR(VLOOKUP(D69,Surcharge!A:B,2,FALSE)*F69, VLOOKUP(D69 & \"\",Surcharge!A:B,2,FALSE)*F69), \"\")","v":""}]
[null,null,"Polypropylene, Window Brush",1239052,252,null,{"$f":"F70*E70","v":0},{"$f":"IFERROR(IFERROR(VLOOKUP(D70,Surcharge!A:B,2,FALSE)*F70, VLOOKUP(D70 & \"\",Surcharge!A:B,2,FALSE)*F70), \"\")","v":""}]
[null,null,"Sand Wedge Brush",1239051,252,null,{"$f":"F71*E71","v":0},{"$f":"IFERROR(IFERROR(VLOOKUP(D71,Surcharge!A:B,2,FALSE)*F71, VLOOKUP(D71 & \"\",Surcharge!A:B,2,FALSE)*F71), \"\")","v":""}]
[null,null,"Natural Fiber Brush",1239050,252,null,{"$f":"F72*E72","v":0}]
[null,null,null,null," ",null,null,{"$f":"IFERROR(IFERROR(VLOOKUP(D73,Surcharge!A:B,2,FALSE)*F73, VLOOKUP(D73 & \"\",Surcharge!A:B,2,FALSE)*F73), \"\")","v":""}]
[null,null,"Side Sweeping Brushes",null," ",{"$f":"SUM(F75:F75)","v":0},null,{"$f":"IFERROR(IFERROR(VLOOKUP(D74,Surcharge!A:B,2,FALSE)*F74, VLOOKUP(D74 & \"\",Surcharge!A:B,2,FALSE)*F74), \"\")","v":""}]
[null,null,"Polypropylene Brush",1225549,"N/C",null,{"$f":"IF(F75=0,\" \",\"N/C\")","v":" "},{"$f":"IFERROR(IFERROR(VLOOKUP(D75,Surcharge!A:B,2,FALSE)*F75, VLOOKUP(D75 & \"\",Surcharge!A:B,2,FALSE)*F75), \"\")","v":""}]
[null,null,null,null,null,null,null,{"$f":"IFERROR(IFERROR(VLOOKUP(D76,Surcharge!A:B,2,FALSE)*F76, VLOOKUP(D76 & \"\",Surcharge!A:B,2,FALSE)*F76), \"\")","v":""}]
[null,"Support (Note 2) ",null,null,null,{"$f":"SUM(F78:F86)","v":0},null,{"$f":"IFERROR(IFERROR(VLOOKUP(D77,Surcharge!A:B,2,FALSE)*F77, VLOOKUP(D77 & \"\",Surcharge!A:B,2,FALSE)*F77), \"\")","v":""}]
[null,null,"Standard Warranty",null,"N/C",null,{"$f":"IF(F78=0,\" \",\"N/C\")","v":" "},{"$f":"IFERROR(IFERROR(VLOOKUP(D78,Surcharge!A:B,2,FALSE)*F78, VLOOKUP(D78 & \"\",Surcharge!A:B,2,FALSE)*F78), \"\")","v":""}]
[null,null,"Ultimate Performance Guarantee",null,"N/C",null,{"$f":"IF(F79=0,\" \",\"N/C\")","v":" "},{"$f":"IFERROR(IFERROR(VLOOKUP(D79,Surcharge!A:B,2,FALSE)*F79, VLOOKUP(D79 & \"\",Surcharge!A:B,2,FALSE)*F79), \"\")","v":""}]
[null,null,"Operator Manual (English)",9045321,"N/C",null,{"$f":"IF(F80=0,\" \",\"N/C\")","v":" "},{"$f":"IFERROR(IFERROR(VLOOKUP(D80,Surcharge!A:B,2,FALSE)*F80, VLOOKUP(D80 & \"\",Surcharge!A:B,2,FALSE)*F80), \"\")","v":""}]
[null,null,"Operator Manual (Spanish)",9045322,"N/C",null," ",{"$f":"IFERROR(IFERROR(VLOOKUP(D81,Surcharge!A:B,2,FALSE)*F81, VLOOKUP(D81 & \"\",Surcharge!A:B,2,FALSE)*F81), \"\")","v":""}]
[null,null,"Operator Manual (French)",9045323,"N/C",null," ",{"$f":"IFERROR(IFERROR(VLOOKUP(D82,Surcharge!A:B,2,FALSE)*F82, VLOOKUP(D82 & \"\",Surcharge!A:B,2,FALSE)*F82), \"\")","v":""}]
[null,null,"Parts Manual",9045325,"N/C",null,{"$f":"IF(F83=0,\" \",\"N/C\")","v":" "}]
[null,null,"Service Manual",9045326,null,null,{"$f":"F84*E84","v":0},{"$f":"IFERROR(IFERROR(VLOOKUP(D84,Surcharge!A:B,2,FALSE)*F84, VLOOKUP(D84 & \"\",Surcharge!A:B,2,FALSE)*F84), \"\")","v":""}]
[null,null,null,null," ",null,null,{"$f":"IFERROR(IFERROR(VLOOKUP(D85,Surcharge!A:B,2,FALSE)*F85, VLOOKUP(D85 & \"\",Surcharge!A:B,2,FALSE)*F85), \"\")","v":""}]
[null,null,"Packaging  (Note 3)",null,null,{"$f":"SUM(F87:F89)","v":0},null,{"$f":"IFERROR(IFERROR(VLOOKUP(D86,Surcharge!A:B,2,FALSE)*F86, VLOOKUP(D86 & \"\",Surcharge!A:B,2,FALSE)*F86), \"\")","v":""}]
[null,null,"Skid w/Carton, Non-Stackable",9045304,777,null,{"$f":"F87*E87","v":0},{"$f":"IFERROR(IFERROR(VLOOKUP(D87,Surcharge!A:B,2,FALSE)*F87, VLOOKUP(D87 & \"\",Surcharge!A:B,2,FALSE)*F87), \"\")","v":""}]
[null,null,"Skid",9045305,509,null,{"$f":"F88*E88","v":0},{"$f":"IFERROR(IFERROR(VLOOKUP(D88,Surcharge!A:B,2,FALSE)*F88, VLOOKUP(D88 & \"\",Surcharge!A:B,2,FALSE)*F88), \"\")","v":""}]
[null,null,"Pad Wrap",null,"N/C",null,{"$f":"IF(F89=0,\" \",\"N/C\")","v":" "},{"$f":"IFERROR(IFERROR(VLOOKUP(D89,Surcharge!A:B,2,FALSE)*F89, VLOOKUP(D89 & \"\",Surcharge!A:B,2,FALSE)*F89), \"\")","v":""}]
[null,null,null,null,null,null,null,{"$f":"IFERROR(IFERROR(VLOOKUP(D90,Surcharge!A:B,2,FALSE)*F90, VLOOKUP(D90 & \"\",Surcharge!A:B,2,FALSE)*F90), \"\")","v":""}]
[null,null,null,null,null,{"$f":"SUM(#REF!)","v":{"$error":"#REF!"}}]
[]
[null,null,null,null,{"$f":"ROUND(SUM(G50:G92), 0)","v":0},{"$f":"SUM(E94)","v":0}]
[null,null,null,"Machine Subtotal ",{"$f":"ROUND(SUM(G50:G92), 0)","v":0},{"$f":"F93","v":0}]
[null,"Discounts",null,null,null,{"$f":"SUM(F96)","v":0}]
[null,null,null,null,null,{"$f":"SUM(F97:F98)","v":0}]
[null,null,null,"Discount %",null,{"$f":"IF(E97 <> \"\", 1, 0)","v":0},{"$f":"IF(F97*(E97*0.01)*E93 < 0, F97*(E97*0.01)*E93, -(F97*(E97*0.01)*E93))","v":0}]
[null,null,null,"Discount $",null,{"$f":"IF(E98 <> \"\", 1, 0)","v":0},{"$f":"IF(F98*E98 < 0, F98*E98, -(F98*E98))","v":0}]
[null,null,null,"Discount Total ",{"$f":"SUM(G97:G98)","v":0},{"$f":"SUM(E99)","v":0}]
[null,null,null,null,{"$f":"#REF!","v":{"$error":"#REF!"}},{"$f":"#REF!","v":{"$error":"#REF!"}}]
[null,null,null,null,null,{"$f":"F100","v":{"$error":"#REF!"}}]
[null,null,"Prepaid and Add","Freight",null,{"$f":"IF(E102 <> \"\", 1, 0)","v":0},{"$f":"F102*E102","v":0}]
[null,null,"Subject to all applicable taxes","Tax",null,0,{"$f":"F103*E103","v":0}]
[null,null,null,null,null,{"$f":"SUM(F105)","v":0}]
[null,null,null,"MACHINE TOTAL*",null,{"$f":"SUM(G105)","v":0},{"$f":"SUM(G50:G103)","v":0},null,null,null,"This goes to \"My Documents\""]
[null,null,null,null,null,null,{"$f":"SUM(G105)","v":0}]
[null,"Financing"]
[]
[null,null,"Is customer interested in financing?","Yes"]
[]
[null,null,"If not, why?"]
[]
[]
[null,null,"First Western Equipment Finance - Leasing Calculation Option:","Option 1",null,"Option 2",null,null,null,{"$f":"Financing!A38","v":"Rates 2025 - Rev. 5/6/2025"}]
[null,null,null,"Monthly Payment","Cost Per Day","Monthly Payment","Cost Per Day",null,null,{"$f":"Financing!A39","v":"“Blank Payment Amounts Indicate The Financing Option Or Purchase Options Selected Are Not "}]
[null,null,"Purchase Option:","FWEF:  $1 Buyout Lease",null,"FWEF: Municipal Lease",null,null,null,{"$f":"Financing!A40","v":"Applicable Or The Machine Total Is Below The Minimum Amount For The Selected Vendor”"}]
[null,null,"24 Months",0,0,0,0,null,null,{"$f":"Financing!A41","v":"\"Quoted monthly payments are estimates only and are based on a certain level of credit rating."}]
[null,null,"30 Months",0,0,0,0,null,null,{"$f":"Financing!A42","v":"Actual monthly payments may be higher depending on your credit rating.\""}]
[null,null,"36 Months",0,0,0,0,null,null,{"$f":"Financing!A43","v":"“Financing rates do not include Pre-Paid Service”"}]
[null,null,"48 Months",0,0,0,0]
[]
[null,null,null,"Benefits of Equipment Financing:"]
[null,null,null,"• Spreads out investment over time.",null,"• Keep current with latest technology."]
[null,null,null,"• Preserve capital.",null,"• Service and parts bundling available."]
[null,null,null,"• Low monthly payment.",null,"• Pay for labor savings as you go."]
[]
[]
[null,null,"Bundled Offerings","Flexclean – Fair Market Value",null,"Flexclean - $1 Buyout"]
[null,null,"FlexClean: ","36 Month Term",null,"36 Month Term",null,null,"No","AB Brushes"]
[null,null,"Hours included per Month:","Gold","Silver","Gold","Silver","Check"]
[null,null,"< 30/mo. (Avg. 1hr./day)",null,null,null,null,null,{"$f":"FlexCleanCalc!$A21","v":"“FlexClean monthly rates include payment for both machine and service.”"}]
[null,null,"< 60/mo. (Avg. 2hrs./day)"]
[null,null,"< 90/mo. (Avg. 3hrs./day)"]
[null,null,"*This value assumes one service contract regardless of the number of UNITS included in the quote"]
[]
[]
[null,null,"Bundled Offerings","Flexclean – Fair Market Value",null,"Flexclean - $1 Buyout"]
[null,null,"FlexClean 2: ","48 Month Term",null,"48 Month Term"]
[null,null,"Hours included per Month:","Gold","Silver","Gold","Silver"]
[null,null,"< 30/mo. (Avg. 1hr./day)"]
[null,null,"< 60/mo. (Avg. 2hrs./day)"]
[null,null,"< 90/mo. (Avg. 3hrs./day)"]
[null,null,"*This value assumes one service contract regardless of the number of UNITS included in the quote"]
[]
[null,null,"Bundled Offerings","Flexclean – Fair Market Value",null,"Flexclean - $1 Buyout"]
[null,null,"FlexClean 3: ","60 Month Term",null,"60 Month Term"]
[null,null,"Hours included per Month:","Gold","Silver","Gold","Silver"]
[null,null,"< 30/mo. (Avg. 1hr./day)"]
[null,null,"< 60/mo. (Avg. 2hrs./day)"]
[null,null,"< 90/mo. (Avg. 3hrs./day)"]
[null,null,"*This value assumes one service contract regardless of the number of UNITS included in the quote"]
[]
[null,"   TennantTrue"]
[]
[null,null,"Is customer interested in service program?","Yes","*State/County selection required for TennantTrue service options"]
[]
[null,null,"If not, why?"]
[]
[null,null,"Term:",36,null,"AB Brushes","No"]
[null,null,"Monthly machine usage (hrs):","< 30/mo. (Avg. 1hr./day)"]
[]
[null,null,"TennantTrue: ","Gold Contract",null,"Silver Contract"]
[null,null,"Per Visit",null,null,473]
[null,null,"Monthly",208,null,99]
[null,null,"Annually",null,null,1160]
[null,null,"Pre-Pay Full Term",7200,null,3411]
[null,null,"Hourly Labor Rate"]
[null,null,"Site Visit"]
[]
[null,null,"* Verify customer current pricing prior to quote. "]
[null,null,"**All rates and fees above reflect service for one (1) unit with the exception of Block of Time service."]
[null,null,"*Block of Time is available in 1 Year Term only and is priced as such no matter the term selection on this template."]
[]
[null,null,null,0,0]
[]
[null,"Quote Special Instructions:"]
[]
[]
[null,{"$f":"Start_Here!E36","v":"Terms and Conditions"}]
[null,{"$f":"Start_Here!E37","v":"Ask your local sales rep for estimated lead times. Verify when placing order"}]
[null,{"$f":"Start_Here!E38","v":"All orders subject to acceptance by Tennant Sales and Service Company, Minneapolis, Minnesota"}]
[null,{"$f":"Start_Here!E39","v":"Prices subject to change without notice."}]
[null,{"$f":"Start_Here!E40","v":"Terms:  Net 30 days.  Subject to any applicable taxes."}]
[null,{"$f":"Start_Here!E41","v":"Freight: Machines and accessory orders delivered FOB shipping point Frt PPD & Add"}]
[null,{"$f":"Start_Here!E42","v":"Parts, supplies, detergents and floor treating material orders delivered FOB "}]
[null,{"$f":"Start_Here!E43","v":"shipping point Frt PPD"}]
[null,{"$f":"Start_Here!E44","v":"All orders are subject to Tennant’s General Terms and Conditions available at http://www.tennantco.com/terms."}]
[null,{"$f":"Start_Here!E45","v":"Printed General Terms and Conditions are also available upon request."}]
[null,{"$f":"Start_Here!E46","v":0}]
[]
[null,null,null,null,"Quote Date :",null,{"$f":"Letter!$A$25","v":"2020-09-22"}]
["Order Placement Information:  To place your order, fill in PO# and customer signatures,"]
["call or fax to the numbers listed below. Customer Purchase Order is required."]
["If information is missing, orders will be entered and held until all information is received."]
[]
[null,null,"Customer Number",null,"Cust Grp 3"]
[null,null,{"$f":"Start_Here!$C$25","v":0},null,{"$f":"Start_Here!$C$29","v":0}]
[null,null,{"$f":"Start_Here!$B$18","v":"Who Owns the Machine? (Sold-To Info) (Please Verify)"}]
["Company",null,{"$f":"Start_Here!$C$19","v":"Company Name"}]
["Address",null,{"$f":"Start_Here!$C$20","v":"Address"}]
[null,null,{"$f":"Start_Here!$C$21","v":"City, State Zip"}]
["Name",null,{"$f":"Start_Here!$C$22","v":"Contact Name"}]
["Phone",null,{"$f":"Start_Here!$C$23","v":"Contact Phone"}]
[null,null,{"$f":"Start_Here!$B$11","v":"Where is the Machine Being Shipped? (Ship-To Info) (Please Verify)"}]
["Company",null,{"$f":"Start_Here!$C$12","v":"Company Name"}]
["Address",null,{"$f":"Start_Here!$C$13","v":"Address"}]
[null,null,{"$f":"Start_Here!$C$14","v":"City, State Zip"}]
["Name",null,{"$f":"Start_Here!$C$15","v":"Contact Name"}]
["Phone",null,{"$f":"Start_Here!$C$16","v":"Contact Phone"}]
[null,null,{"$f":"Start_Here!$B$31","v":"Shipping / Carrier Instructions:"},null,"Order Special Instructions:"]
[null,null,{"$f":"Start_Here!$C$32","v":0}]
[]
[null,null,"Customer Purchase Order No."]
[null,null,"(please attach copy)"]
[]
[]
[null,null,"Tax Exempt",null,"Yes"]
[null,null,null,null,"No"]
[null,null,"If Yes, attach a copy of your exemption certificate."]
[]
[null,null,"Requested Delivery Date"]
[null,null,{"$f":"Start_Here!$C$28","v":0}]
[]
[null,null,{"$f":"Start_Here!$C$26","v":0},null,{"$f":"Start_Here!$C$27","v":0}]
[null,0,"Authorized Buyer (please print)",null,"Phone Number"]
[]
[]
[null,0,"Authorized Buyer Signature"]
[]
[null,null,{"$f":"Start_Here!$C$41","v":"Rep Name"}]
[null,null,"Tennant Representative"]
[]
[null,null,null,"Specialized Maintenance Equipment"]
[null,null,{"$f":"Start_Here!$C$48","v":"TENNANT · 10400 Clean Street · Eden Prairie, MN 55344 ·"}]
[null,null,null,{"$f":"Start_Here!$C$49","v":" PHONE:800-553-8033 · FAX:763-513-2116"}]
[]
[]
[null,"SPECIAL INFORMATION"]
[]
[null,"Notes"]
[null,1,"Standard Configurations are set configurations as listed and cannot be altered."]
[null,null,"However, these are partial configurations which require the selection of "]
[null,null,"Brushes, Operator Manuals, Service Manual, and Shipment Packaging."]
[null,null,"Except where otherwise noted."]
[]
[null,2,"Additional hard copy Operator and Parts Manuals can be ordered or digital copies can be downloaded from www.Tennantco.com."]
[]
[null,3,"Shipping Weights and Dimensions","Pad Wrap","Crate"]
[]
[null,null,"Weight"]
[null,null,"Length"]
[null,null,"Width"]
[null,null,"Height"]

{"sheet":"6100","index":21,"n_rows":349,"n_cols":17,"rows_kept":349,"cut":false,"hidden":false,"merged":[[240,2,240,5],[248,2,248,5],[241,2,241,5],[245,2,245,5],[197,3,197,6],[200,3,200,4],[202,3,202,4],[202,5,202,6],[203,3,203,4],[203,5,203,6],[204,3,204,4],[204,5,204,6],[208,3,208,4],[208,5,208,6],[205,3,205,4],[205,5,205,6],[251,4,251,7],[264,4,264,5],[236,4,236,6],[34,2,34,6],[177,3,177,4],[177,5,177,6],[168,3,168,4],[168,5,168,6],[246,2,246,5],[255,2,255,5],[239,2,239,5],[199,3,199,4],[249,2,249,5],[243,2,243,5],[247,2,247,5],[242,2,242,5],[237,4,237,7],[29,2,29,6],[30,2,30,6],[31,2,31,6],[32,2,32,6],[33,2,33,6],[169,3,169,4],[169,5,169,6],[217,1,217,6],[151,3,151,6],[195,4,195,8],[154,3,154,4],[154,5,154,6],[156,3,156,4],[156,5,156,6],[186,3,186,4],[206,3,206,4],[206,5,206,6],[207,3,207,4],[207,5,207,6],[0,2,0,3],[1,2,1,3],[2,2,2,3],[3,2,3,3],[186,5,186,6],[185,3,185,4],[185,5,185,6],[178,3,178,4],[178,5,178,6]]}
[6100,null,{"$f":"Start_Here!$C19","v":"Company Name"}]
[{"$f":"SUM(G146)","v":0},null,{"$f":"Start_Here!$C20","v":"Address"}]
[null,null,{"$f":"Start_Here!$C21","v":"City, State Zip"}]
[null,null,{"$f":"Start_Here!$C22","v":"Contact Name"}]
[null,null,{"$f":"Start_Here!$C$41","v":"Rep Name"}]
[null,null,{"$f":"Start_Here!$C$37","v":"Tennant Sales and Service Company"}]
[null,null,{"$f":"Start_Here!$C$38","v":"10400 Clean Street"}]
[null,null,{"$f":"Start_Here!$C$39","v":"Eden Prairie, MN 55344"}]
[null,null,{"$f":"Start_Here!$C$43","v":"800-553-8033"},null,"Quote Date :",null,{"$f":"Letter!$A$25","v":"2020-09-22"}]
[]
[null,null,{"$f":"Help!C2","v":"US Date Rev - 5/6/2025"}]
[null,null,"                                                               BUILT-IN \"TENNANT VALUE\" INCLUDES:"]
[]
[null,"Glide-In/Out Wheeled Hopper",null,"Panel Filter with VCS® System"]
[null,"Color-Coded Wiring",null,"Low Effort Steering"]
[null,"Corrosion-Proof Hopper & Shrouds",null,"Cup Holder"]
[null,"Corner Rollers All-Around",null,"360o Visibility"]
[null,"Removable Side Panels",null,"Self Adjusting Recirculation Skirt"]
[null,"High Visibility Operation Decals",null,"High Flow Radial Discharge Fan"]
[null,"Auto-On Side Brush",null,"36\" Doorway Pass-Through Clearance"]
[null,"WipeCleanTM Polyethylene Shrouds",null,"Wet 225AH C/20"]
[null,"Retractable Sidebrush Assembly",null,"21A 85-265V AC 50/60Hz 1Ph Charger"]
[null,"Hour Meter",null,"Large Built-In Utility Tray"]
[null,"Standard Main Sweeping Brush (Select One)",null,"Battery Discharge Indicator"]
[null,"Standard Side Sweeping Brush (Select One)",null,"Power Shutdown Switch"]
[null,"InstantAccessTM Filter",null,"Heavy-Duty Motor Controller (p/n 83187)"]
[null,"No-Tool Brush & Filter Change"]
[]
[]
[null,null,"TENNANT COMPANY WARRANTY"]
[null,null,"2 YEARS OR 1000 HOURS - PARTS"]
[null,null,"6 MONTHS - LABOR"]
[null,null,"6 MONTHS - TRAVEL"]
[null,null,"10 YEARS ON DURAMERTM HOPPER"]
[null,null,"CUSTOM Options May Add 1 Week Or More to Standard Lead Times"]
[]
[null,null,null,null,"                Quote Request Information"]
[null,null,null,null,null,null,"Fax (quote only)"]
[null,null,null,null,null,null,"Mail (quote,lit, specs)"]
[null,null,null,null,null,null,"Fax + Mail"]
[]
[null,null,null,null,"                Primary Use"]
[null,null,null,null,null,null,"Inside"]
[null,null,null,null,null,null,"Outside"]
[]
[]
[null,null,"Description","Reference # ","Price Each","Qty","Extended Price"]
[null,"Base Configuration",null,null,null,{"$f":"SUM(F49,F52,F59)","v":0}]
[null,null,"Cleaning Type",null,null,{"$f":"SUM(F50)","v":0},null,null,null,null,null,{"$f":"SUM(F49)","v":0},"Surcharge Qty"]
[null,null,"6100 Battery Rider Sweeper","6100-B",24171,null,{"$f":"F50*E50","v":0},{"$f":"IFERROR(IFERROR(VLOOKUP(D50,Surcharge!A:B,2,FALSE)*F50, VLOOKUP(D50 & \"\",Surcharge!A:B,2,FALSE)*F50), \"\")","v":0},null,null,null,null,null,null,null,{"$f":"VLOOKUP(Q50,'MPF SAP Download (2)'!A:E,5,FALSE)","v":24171},"M-6100VK_BASE_6100-BTY"]
[null,null,null,null,null,null,null,{"$f":"IFERROR(IFERROR(VLOOKUP(D51,Surcharge!A:B,2,FALSE)*F51, VLOOKUP(D51 & \"\",Surcharge!A:B,2,FALSE)*F51), \"\")","v":""}]
[null,null,"Battery Type  (Note 1 and 2)",null,null,{"$f":"SUM(F53:F57)","v":0},null,{"$f":"IFERROR(IFERROR(VLOOKUP(D52,Surcharge!A:B,2,FALSE)*F52, VLOOKUP(D52 & \"\",Surcharge!A:B,2,FALSE)*F52), \"\")","v":""}]
[null,null,"Wet 225 AH C/20  (Kit of 6 batteries)",81698,"N/C",null,{"$f":"IF(F53=0,\" \",\"N/C\")","v":" "},{"$f":"IFERROR(IFERROR(VLOOKUP(D53,Surcharge!A:B,2,FALSE)*F53, VLOOKUP(D53 & \"\",Surcharge!A:B,2,FALSE)*F53), \"\")","v":""},null,null,null,null,null,null,null,{"$f":"VLOOKUP(Q53,'MPF SAP Download (2)'!A:E,5,FALSE)","v":"N/C"},"M-6100VK_BTY_W225C20"]
[null,null,"Sealed/MF Gel 180AH C/20  (Kit of 6 batteries)",324448,2833,null,{"$f":"F54*E54","v":0},{"$f":"IFERROR(IFERROR(VLOOKUP(D54,Surcharge!A:B,2,FALSE)*F54, VLOOKUP(D54 & \"\",Surcharge!A:B,2,FALSE)*F54), \"\")","v":""},null,null,null,null,null,null,null,{"$f":"VLOOKUP(Q54,'MPF SAP Download (2)'!A:E,5,FALSE)","v":2833},"M-6100VK_BTY_G180C20"]
[null,null,"Less Battery, DEDUCT  (Note 3)","LESS BATTERY",-496,null,{"$f":"F55*E55","v":0},{"$f":"IFERROR(IFERROR(VLOOKUP(D55,Surcharge!A:B,2,FALSE)*F55, VLOOKUP(D55 & \"\",Surcharge!A:B,2,FALSE)*F55), \"\")","v":""},null,null,null,null,null,null,null,{"$f":"VLOOKUP(Q55,'MPF SAP Download (2)'!A:E,5,FALSE)","v":-496},"M-6100VK_BTY_WO"]
[null,null,null,null," ",null,null,{"$f":"IFERROR(IFERROR(VLOOKUP(D56,Surcharge!A:B,2,FALSE)*F56, VLOOKUP(D56 & \"\",Surcharge!A:B,2,FALSE)*F56), \"\")","v":""},null,null,null,null,null,null,null,null,""]
[null,null,"Manual Battery Watering Kit",9009620,847,null,{"$f":"F57*E57","v":0},{"$f":"IFERROR(IFERROR(VLOOKUP(D57,Surcharge!A:B,2,FALSE)*F57, VLOOKUP(D57 & \"\",Surcharge!A:B,2,FALSE)*F57), \"\")","v":""},null,null,null,null,null,null,null,{"$f":"VLOOKUP(Q57,'MPF SAP Download (2)'!A:E,5,FALSE)","v":847},"M-6100VK_BTYWTRSYS"]
[null,null,null,null,null,null,null,{"$f":"IFERROR(IFERROR(VLOOKUP(D58,Surcharge!A:B,2,FALSE)*F58, VLOOKUP(D58 & \"\",Surcharge!A:B,2,FALSE)*F58), \"\")","v":""}]
[null,null,"Charger",null,null,{"$f":"SUM(F60:F64)","v":0},null,{"$f":"IFERROR(IFERROR(VLOOKUP(D59,Surcharge!A:B,2,FALSE)*F59, VLOOKUP(D59 & \"\",Surcharge!A:B,2,FALSE)*F59), \"\")","v":""}]
[null,null,"21A 85-265V AC 50/60Hz 1Ph - Off Board for Wet 225AH Battery",9003372,"N/C",null,{"$f":"IF(F60=0,\" \",\"N/C\")","v":" "},{"$f":"IFERROR(IFERROR(VLOOKUP(D60,Surcharge!A:B,2,FALSE)*F60, VLOOKUP(D60 & \"\",Surcharge!A:B,2,FALSE)*F60), \"\")","v":""},null,null,null,null,null,null,null,{"$f":"VLOOKUP(Q60,'MPF SAP Download (2)'!A:E,5,FALSE)","v":"N/C"},"M-6100VK_21A85V5060H1P"]
[null,null,"21A 85-265V AC 50/60Hz 1Ph - Off Board for Gel 180AH Battery",314567,481,null,{"$f":"F61*E61","v":0},{"$f":"IFERROR(IFERROR(VLOOKUP(D61,Surcharge!A:B,2,FALSE)*F61, VLOOKUP(D61 & \"\",Surcharge!A:B,2,FALSE)*F61), \"\")","v":""},null,null,null,null,null,null,null,{"$f":"VLOOKUP(Q61,'MPF SAP Download (2)'!A:E,5,FALSE)","v":481},"M-6100VK_21A85V5060H1P_G180"]
[null,null,"21A 85-265V AC 50/60Hz 1Ph - On Board for Wet 225AH Battery",326246,2206,null,{"$f":"F62*E62","v":0},{"$f":"IFERROR(IFERROR(VLOOKUP(D62,Surcharge!A:B,2,FALSE)*F62, VLOOKUP(D62 & \"\",Surcharge!A:B,2,FALSE)*F62), \"\")","v":""},null,null,null,null,null,null,null,{"$f":"VLOOKUP(Q62,'MPF SAP Download (2)'!A:E,5,FALSE)","v":2206},"M-6100VK_21A85V5060H1P_W225_ON"]
[null,null,"21A 85-265V AC 50/60Hz 1Ph - On Board for Gel 180AH Battery",325736,1953,null,{"$f":"F63*E63","v":0},null,null,null,null,null,null,null,null,{"$f":"VLOOKUP(Q63,'MPF SAP Download (2)'!A:E,5,FALSE)","v":1953},"M-6100VK_21A85V5060H1P_G180_ON"]
[null,null,"Less Charger, DEDUCT","LESS CHARGER",-321,null,{"$f":"F64*E64","v":0},{"$f":"IFERROR(IFERROR(VLOOKUP(D64,Surcharge!A:B,2,FALSE)*F64, VLOOKUP(D64 & \"\",Surcharge!A:B,2,FALSE)*F64), \"\")","v":""},null,null,null,null,null,null,null,{"$f":"VLOOKUP(Q64,'MPF SAP Download (2)'!A:E,5,FALSE)","v":-321},"M-6100VK_CHG_WO"]
[null,null,null,null,null,null,null,{"$f":"IFERROR(IFERROR(VLOOKUP(D65,Surcharge!A:B,2,FALSE)*F65, VLOOKUP(D65 & \"\",Surcharge!A:B,2,FALSE)*F65), \"\")","v":""},null,null,null,null,null,null,null,null,""]
[null,"Packages",null,null,null,{"$f":"SUM(F67:F69)","v":0},null,{"$f":"IFERROR(IFERROR(VLOOKUP(D66,Surcharge!A:B,2,FALSE)*F66, VLOOKUP(D66 & \"\",Surcharge!A:B,2,FALSE)*F66), \"\")","v":""}]
[null,null,"HEPA Dust Filter Package - Right Hand Side Brush (Note 4)","HDR-6100",7783,null,{"$f":"F67*E67","v":0},{"$f":"IFERROR(IFERROR(VLOOKUP(D67,Surcharge!A:B,2,FALSE)*F67, VLOOKUP(D67 & \"\",Surcharge!A:B,2,FALSE)*F67), \"\")","v":""},null,null,null,null,null,null,null,{"$f":"VLOOKUP(Q67,'MPF SAP Download (2)'!A:E,5,FALSE)","v":7783},"M-6100VK_SLADSTFLTPKG_RH"]
[null,null,"Dry Dust Control (RH), HEPA Filter System",null,null,{"$f":"SUM(F67)","v":0},null,{"$f":"IFERROR(IFERROR(VLOOKUP(D68,Surcharge!A:B,2,FALSE)*F68, VLOOKUP(D68 & \"\",Surcharge!A:B,2,FALSE)*F68), \"\")","v":""}]
[null,null,"HEPA Dust Filter Package - Dual Side Brush (Note 4)","HDD-6100",8445,null,{"$f":"F69*E69","v":0},{"$f":"IFERROR(IFERROR(VLOOKUP(D69,Surcharge!A:B,2,FALSE)*F69, VLOOKUP(D69 & \"\",Surcharge!A:B,2,FALSE)*F69), \"\")","v":""},null,null,null,null,null,null,null,{"$f":"VLOOKUP(Q69,'MPF SAP Download (2)'!A:E,5,FALSE)","v":8445},"M-6100VK_SLADSTFLTPKG_D"]
[null,null,"Dry Dust Control (Dual), HEPA Filter System",null,null,{"$f":"SUM(F69)","v":0},null,{"$f":"IFERROR(IFERROR(VLOOKUP(D70,Surcharge!A:B,2,FALSE)*F70, VLOOKUP(D70 & \"\",Surcharge!A:B,2,FALSE)*F70), \"\")","v":""}]
[null,null,null,null,null,null,null,{"$f":"IFERROR(IFERROR(VLOOKUP(D71,Surcharge!A:B,2,FALSE)*F71, VLOOKUP(D71 & \"\",Surcharge!A:B,2,FALSE)*F71), \"\")","v":""}]
[null,"Cleaning Performance",null,"Reference Number",null,{"$f":"SUM(F73:F80)","v":0},null,{"$f":"IFERROR(IFERROR(VLOOKUP(D72,Surcharge!A:B,2,FALSE)*F72, VLOOKUP(D72 & \"\",Surcharge!A:B,2,FALSE)*F72), \"\")","v":""}]
[null,null,"Dual Sweeping Side Brush  (Note 5)",83228,1196,null,{"$f":"F73*E73","v":0},{"$f":"IFERROR(IFERROR(VLOOKUP(D73,Surcharge!A:B,2,FALSE)*F73, VLOOKUP(D73 & \"\",Surcharge!A:B,2,FALSE)*F73), \"\")","v":""},null,null,null,null,null,null,null,{"$f":"VLOOKUP(Q73,'MPF SAP Download (2)'!A:E,5,FALSE)","v":1196},"M-6100VK_SDEBRSLOC_D"]
[null,null,"Side Brush Dust Control, Dry, Right Hand",326579,1246,null,{"$f":"F74*E74","v":0},{"$f":"IFERROR(IFERROR(VLOOKUP(D74,Surcharge!A:B,2,FALSE)*F74, VLOOKUP(D74 & \"\",Surcharge!A:B,2,FALSE)*F74), \"\")","v":""},null,null,null,null,null,null,null,{"$f":"VLOOKUP(Q74,'MPF SAP Download (2)'!A:E,5,FALSE)","v":1246},"M-6100VK_SDEBRSDSTCTL_D_RH"]
[null,null,"Side Brush Dust Control, Dry, Dual",326593,1909,null,0,{"$f":"IFERROR(IFERROR(VLOOKUP(D75,Surcharge!A:B,2,FALSE)*F75, VLOOKUP(D75 & \"\",Surcharge!A:B,2,FALSE)*F75), \"\")","v":""},null,null,null,null,null,null,null,{"$f":"VLOOKUP(Q75,'MPF SAP Download (2)'!A:E,5,FALSE)","v":1909},"M-6100VK_SDEBRSDSTCTL_D_D"]
[null,null,"High Performance Vacuum Wand (dual vacuum motors)  (Note 6)",83436,2335,null,{"$f":"F76*E76","v":0},{"$f":"IFERROR(IFERROR(VLOOKUP(D76,Surcharge!A:B,2,FALSE)*F76, VLOOKUP(D76 & \"\",Surcharge!A:B,2,FALSE)*F76), \"\")","v":""},null,null,null,null,null,null,null,{"$f":"VLOOKUP(Q76,'MPF SAP Download (2)'!A:E,5,FALSE)","v":2335},"M-6100VK_PWRVACWND_VACWNDHP"]
[null,null,"High Performance Vacuum Wand w/On-Board Charger (dual vacuum motors)  (Note 6)","83436 & 326589",5331,null,0,{"$f":"IFERROR(IFERROR(VLOOKUP(D77,Surcharge!A:B,2,FALSE)*F77, VLOOKUP(D77 & \"\",Surcharge!A:B,2,FALSE)*F77), \"\")","v":""},null,null,null,null,null,null,null,{"$f":"VLOOKUP(Q77,'MPF SAP Download (2)'!A:E,5,FALSE)","v":5331},"M-6100VK_PWRVACWND_VACWNDHP_ON"]
[null,null,"Vacuum Wand  (Note 6)",83230,2017,null,0,{"$f":"IFERROR(IFERROR(VLOOKUP(D78,Surcharge!A:B,2,FALSE)*F78, VLOOKUP(D78 & \"\",Surcharge!A:B,2,FALSE)*F78), \"\")","v":""},null,null,null,null,null,null,null,{"$f":"VLOOKUP(Q78,'MPF SAP Download (2)'!A:E,5,FALSE)","v":2017},"M-6100VK_PWRVACWND_VACWND"]
[null,null,"Vacuum Wand w/On-Board Charger  (Note 6)","83230 & 326589",5017,null,0,{"$f":"IFERROR(IFERROR(VLOOKUP(D79,Surcharge!A:B,2,FALSE)*F79, VLOOKUP(D79 & \"\",Surcharge!A:B,2,FALSE)*F79), \"\")","v":""},null,null,null,null,null,null,null,{"$f":"VLOOKUP(Q79,'MPF SAP Download (2)'!A:E,5,FALSE)","v":5017},"M-6100VK_PWRVACWND_VACWND_ON"]
[null,null,"HEPA Filter System  (Note 7)",324539,6542,null,0,{"$f":"IFERROR(IFERROR(VLOOKUP(D80,Surcharge!A:B,2,FALSE)*F80, VLOOKUP(D80 & \"\",Surcharge!A:B,2,FALSE)*F80), \"\")","v":""},null,null,null,null,null,null,null,{"$f":"VLOOKUP(Q80,'MPF SAP Download (2)'!A:E,5,FALSE)","v":6542},"M-6100VK_FLRSYS_HEPA"]
[null,null,null,null,null,null,null,{"$f":"IFERROR(IFERROR(VLOOKUP(D81,Surcharge!A:B,2,FALSE)*F81, VLOOKUP(D81 & \"\",Surcharge!A:B,2,FALSE)*F81), \"\")","v":""}]
[null,"Machine Protection & Safety",null,null,"Price",{"$f":"SUM(F83:F93)","v":0},null,{"$f":"IFERROR(IFERROR(VLOOKUP(D82,Surcharge!A:B,2,FALSE)*F82, VLOOKUP(D82 & \"\",Surcharge!A:B,2,FALSE)*F82), \"\")","v":""}]
[null,null,"Side Bumper GlideByTM Protective Side Molding [Not w/rollout 83357] ",83434,223,null,{"$f":"F83*E83","v":0},{"$f":"IFERROR(IFERROR(VLOOKUP(D83,Surcharge!A:B,2,FALSE)*F83, VLOOKUP(D83 & \"\",Surcharge!A:B,2,FALSE)*F83), \"\")","v":""},null,null,null,null,null,null,null,{"$f":"VLOOKUP(Q83,'MPF SAP Download (2)'!A:E,5,FALSE)","v":223},"M-6100VK_SDEBMP"]
[null,null,"Adjustable Seat (front/back)",83193,171,null,0,{"$f":"IFERROR(IFERROR(VLOOKUP(D84,Surcharge!A:B,2,FALSE)*F84, VLOOKUP(D84 & \"\",Surcharge!A:B,2,FALSE)*F84), \"\")","v":""},null,null,null,null,null,null,null,{"$f":"VLOOKUP(Q84,'MPF SAP Download (2)'!A:E,5,FALSE)","v":171},"M-6100VK_SET_ADJFB"]
[null,null,"Seat Belt ",83266,175,null,0,{"$f":"IFERROR(IFERROR(VLOOKUP(D85,Surcharge!A:B,2,FALSE)*F85, VLOOKUP(D85 & \"\",Surcharge!A:B,2,FALSE)*F85), \"\")","v":""},null,null,null,null,null,null,null,{"$f":"VLOOKUP(Q85,'MPF SAP Download (2)'!A:E,5,FALSE)","v":175},"M-6100VK_SETBLT"]
[null,null,"Rear Tires, Solid, Non-Marking (in lieu of standard)",374178,371,null,0,{"$f":"IFERROR(IFERROR(VLOOKUP(D86,Surcharge!A:B,2,FALSE)*F86, VLOOKUP(D86 & \"\",Surcharge!A:B,2,FALSE)*F86), \"\")","v":""},null,null,null,null,null,null,null,{"$f":"VLOOKUP(Q86,'MPF SAP Download (2)'!A:E,5,FALSE)","v":371},"M-6100VK_RERTRE_SNM"]
[null,null,"Audio BU Alarm w/o vac wand",384497,577,null,0,{"$f":"IFERROR(IFERROR(VLOOKUP(D87,Surcharge!A:B,2,FALSE)*F87, VLOOKUP(D87 & \"\",Surcharge!A:B,2,FALSE)*F87), \"\")","v":""},null,null,null,null,null,null,null,{"$f":"VLOOKUP(Q87,'MPF SAP Download (2)'!A:E,5,FALSE)","v":577},"M-6100VK_WRNLGTANDALM_AU"]
[null,null,"Audio BU Alarm with vac wand",384498,577,null,{"$f":"F88*E88","v":0},{"$f":"IFERROR(IFERROR(VLOOKUP(D88,Surcharge!A:B,2,FALSE)*F88, VLOOKUP(D88 & \"\",Surcharge!A:B,2,FALSE)*F88), \"\")","v":""},null,null,null,null,null,null,null,{"$f":"VLOOKUP(Q88,'MPF SAP Download (2)'!A:E,5,FALSE)","v":577},"M-6100VK_WRNLGTANDALM_AU"]
[null,null,"AV BU Alarm w/ Strobe Light on Lintel w/o vac wand ","  374350\n",789,null,0,{"$f":"IFERROR(IFERROR(VLOOKUP(D89,Surcharge!A:B,2,FALSE)*F89, VLOOKUP(D89 & \"\",Surcharge!A:B,2,FALSE)*F89), \"\")","v":""},null,null,null,null,null,null,null,{"$f":"VLOOKUP(Q89,'MPF SAP Download (2)'!A:E,5,FALSE)","v":789},"M-6100VK_WRNLGTANDALM_AUSL"]
[null,null,"AV BU Alarm w/ Strobe Light on Lintel with vac wand ",374349,789,null,{"$f":"F90*E90","v":0},{"$f":"IFERROR(IFERROR(VLOOKUP(D90,Surcharge!A:B,2,FALSE)*F90, VLOOKUP(D90 & \"\",Surcharge!A:B,2,FALSE)*F90), \"\")","v":""},null,null,null,null,null,null,null,{"$f":"VLOOKUP(Q90,'MPF SAP Download (2)'!A:E,5,FALSE)","v":789},"M-6100VK_WRNLGTANDALM_AUSL"]
[null,null,"Blue Light  (Note 9)",9021424,1128,null,{"$f":"F91*E91","v":0}]
[null,null,"Work Light, Single",83202,435,null,{"$f":"F92*E92","v":0},{"$f":"IFERROR(IFERROR(VLOOKUP(D92,Surcharge!A:B,2,FALSE)*F92, VLOOKUP(D92 & \"\",Surcharge!A:B,2,FALSE)*F92), \"\")","v":""},null,null,null,null,null,null,null,{"$f":"VLOOKUP(Q92,'MPF SAP Download (2)'!A:E,5,FALSE)","v":435},"M-6100VK_WRKLGT"]
[null,null,"Fire Extinguisher",83220,235,null,{"$f":"F93*E93","v":0},{"$f":"IFERROR(IFERROR(VLOOKUP(D93,Surcharge!A:B,2,FALSE)*F93, VLOOKUP(D93 & \"\",Surcharge!A:B,2,FALSE)*F93), \"\")","v":""},null,null,null,null,null,null,null,{"$f":"VLOOKUP(Q93,'MPF SAP Download (2)'!A:E,5,FALSE)","v":235},"M-6100VK_FREEXT"]
[null,null,null,null,null,null,null,{"$f":"IFERROR(IFERROR(VLOOKUP(D94,Surcharge!A:B,2,FALSE)*F94, VLOOKUP(D94 & \"\",Surcharge!A:B,2,FALSE)*F94), \"\")","v":""}]
[null,"Brushes and Pads",null,null,null,{"$f":"SUM(F96,F102)","v":0},null,{"$f":"IFERROR(IFERROR(VLOOKUP(D95,Surcharge!A:B,2,FALSE)*F95, VLOOKUP(D95 & \"\",Surcharge!A:B,2,FALSE)*F95), \"\")","v":""}]
[null,null,"Main Sweeping Brushes",null,null,{"$f":"SUM(F97:F100)","v":0},null,{"$f":"IFERROR(IFERROR(VLOOKUP(D96,Surcharge!A:B,2,FALSE)*F96, VLOOKUP(D96 & \"\",Surcharge!A:B,2,FALSE)*F96), \"\")","v":""}]
[null,null,"Polypropylene Brush",81888,"N/C",null,{"$f":"IF(F97=0,\" \",\"N/C\")","v":" "},{"$f":"IFERROR(IFERROR(VLOOKUP(D97,Surcharge!A:B,2,FALSE)*F97, VLOOKUP(D97 & \"\",Surcharge!A:B,2,FALSE)*F97), \"\")","v":""},null,null,null,null,null,null,null,{"$f":"VLOOKUP(Q97,'MPF SAP Download (2)'!A:E,5,FALSE)","v":"N/C"},"M-6100VK_CLNTOL_PYP"]
[null,null,"Polypropylene, Window Brush",370048,"N/C",null,{"$f":"IF(F98=0,\" \",\"N/C\")","v":" "},{"$f":"IFERROR(IFERROR(VLOOKUP(D98,Surcharge!A:B,2,FALSE)*F98, VLOOKUP(D98 & \"\",Surcharge!A:B,2,FALSE)*F98), \"\")","v":""},null,null,null,null,null,null,null,{"$f":"VLOOKUP(Q98,'MPF SAP Download (2)'!A:E,5,FALSE)","v":"N/C"},"M-6100VK_CLNTOL_PYPWIN"]
[null,null,"Union Mix Brush (Note 10)",83031,295,null,{"$f":"F99*E99","v":0},{"$f":"IFERROR(IFERROR(VLOOKUP(D99,Surcharge!A:B,2,FALSE)*F99, VLOOKUP(D99 & \"\",Surcharge!A:B,2,FALSE)*F99), \"\")","v":""},null,null,null,null,null,null,null,{"$f":"VLOOKUP(Q99,'MPF SAP Download (2)'!A:E,5,FALSE)","v":295},"M-6100VK_CLNTOL_UMB"]
[null,null,"Sand Wedge Brush",83030,295,null,{"$f":"F100*E100","v":0},{"$f":"IFERROR(IFERROR(VLOOKUP(D100,Surcharge!A:B,2,FALSE)*F100, VLOOKUP(D100 & \"\",Surcharge!A:B,2,FALSE)*F100), \"\")","v":""},null,null,null,null,null,null,null,{"$f":"VLOOKUP(Q100,'MPF SAP Download (2)'!A:E,5,FALSE)","v":295},"M-6100VK_CLNTOL_SWB"]
[null,null,null,null,null,null,null,{"$f":"IFERROR(IFERROR(VLOOKUP(D101,Surcharge!A:B,2,FALSE)*F101, VLOOKUP(D101 & \"\",Surcharge!A:B,2,FALSE)*F101), \"\")","v":""},null,null,null,null,null,null,null,null,""]
[null,null,"Side Sweeping Brushes",null,null,{"$f":"SUM(F103:F104)","v":0},null,{"$f":"IFERROR(IFERROR(VLOOKUP(D102,Surcharge!A:B,2,FALSE)*F102, VLOOKUP(D102 & \"\",Surcharge!A:B,2,FALSE)*F102), \"\")","v":""},null,null,null,null,null,null,null,null,""]
[null,null,"Polypropylene Brush",80042,"N/C",null,{"$f":"IF(F103=0,\" \",\"N/C\")","v":" "},{"$f":"IFERROR(IFERROR(VLOOKUP(D103,Surcharge!A:B,2,FALSE)*F103, VLOOKUP(D103 & \"\",Surcharge!A:B,2,FALSE)*F103), \"\")","v":""},null,null,null,null,null,null,null,{"$f":"VLOOKUP(Q103,'MPF SAP Download (2)'!A:E,5,FALSE)","v":"N/C"},"M-6100VK_SDECLNTOL_PYP"]
[null,null,"Heavy Duty Polypropylene Brush",378804,"N/C",null,{"$f":"IF(F104=0,\" \",\"N/C\")","v":" "},{"$f":"IFERROR(IFERROR(VLOOKUP(D104,Surcharge!A:B,2,FALSE)*F104, VLOOKUP(D104 & \"\",Surcharge!A:B,2,FALSE)*F104), \"\")","v":""},null,null,null,null,null,null,null,{"$f":"VLOOKUP(Q104,'MPF SAP Download (2)'!A:E,5,FALSE)","v":"N/C"},"M-6100VK_SDECLNTOL_HDPYP"]
[null,null,null,null,null,null,null,{"$f":"IFERROR(IFERROR(VLOOKUP(D105,Surcharge!A:B,2,FALSE)*F105, VLOOKUP(D105 & \"\",Surcharge!A:B,2,FALSE)*F105), \"\")","v":""},null,null,null,null,null,null,null,null,""]
[null,"Support  ",null,"Reference Number",null,{"$f":"SUM(F107:F117)","v":0},null,{"$f":"IFERROR(IFERROR(VLOOKUP(D106,Surcharge!A:B,2,FALSE)*F106, VLOOKUP(D106 & \"\",Surcharge!A:B,2,FALSE)*F106), \"\")","v":""},null,null,null,null,null,null,null,null,""]
[null,null,"Standard Warranty",null,"N/C",null,{"$f":"IF(F107=0,\" \",\"N/C\")","v":" "},{"$f":"IFERROR(IFERROR(VLOOKUP(D107,Surcharge!A:B,2,FALSE)*F107, VLOOKUP(D107 & \"\",Surcharge!A:B,2,FALSE)*F107), \"\")","v":""},null,null,null,null,null,null,null,{"$f":"VLOOKUP(Q107,'MPF SAP Download (2)'!A:E,5,FALSE)","v":"N/C"},"M-6100VK_WTY_STD"]
[null,null,"Extended Warranty  (Note 11)",42405,2411,null,{"$f":"F108*E108","v":0},{"$f":"IFERROR(IFERROR(VLOOKUP(D108,Surcharge!A:B,2,FALSE)*F108, VLOOKUP(D108 & \"\",Surcharge!A:B,2,FALSE)*F108), \"\")","v":""},null,null,null,null,null,null,null,{"$f":"VLOOKUP(Q108,'MPF SAP Download (2)'!A:E,5,FALSE)","v":2411},"M-6100VK_WAR_XTD"]
[null,null,"Ultimate Performance Guarantee",50619,"N/C",null,{"$f":"IF(F109=0,\" \",\"N/C\")","v":" "},{"$f":"IFERROR(IFERROR(VLOOKUP(D109,Surcharge!A:B,2,FALSE)*F109, VLOOKUP(D109 & \"\",Surcharge!A:B,2,FALSE)*F109), \"\")","v":""},null,null,null,null,null,null,null,{"$f":"VLOOKUP(Q109,'MPF SAP Download (2)'!A:E,5,FALSE)","v":"N/C"},"M-6100VK_UPG"]
[null,null,"Operator Manual (English)",330250,"N/C",null," ",{"$f":"IFERROR(IFERROR(VLOOKUP(D110,Surcharge!A:B,2,FALSE)*F110, VLOOKUP(D110 & \"\",Surcharge!A:B,2,FALSE)*F110), \"\")","v":""},null,null,null,null,null,null,null,{"$f":"VLOOKUP(Q110,'MPF SAP Download (2)'!A:E,5,FALSE)","v":{"$error":"#N/A"}},"M-6100"]
[null,null,"Operator Manual (Spanish)",330252,"N/C",null," ",{"$f":"IFERROR(IFERROR(VLOOKUP(D111,Surcharge!A:B,2,FALSE)*F111, VLOOKUP(D111 & \"\",Surcharge!A:B,2,FALSE)*F111), \"\")","v":""},null,null,null,null,null,null,null,{"$f":"VLOOKUP(Q111,'MPF SAP Download (2)'!A:E,5,FALSE)","v":{"$error":"#N/A"}},"M-6100"]
[null,null,"Operator Manual (French)",330253,"N/C",null," ",{"$f":"IFERROR(IFERROR(VLOOKUP(D112,Surcharge!A:B,2,FALSE)*F112, VLOOKUP(D112 & \"\",Surcharge!A:B,2,FALSE)*F112), \"\")","v":""},null,null,null,null,null,null,null,{"$f":"VLOOKUP(Q112,'MPF SAP Download (2)'!A:E,5,FALSE)","v":{"$error":"#N/A"}},"M-6100"]
[null,null,"Additional Operator Manual","SEE ABOVE",209,null,0,{"$f":"IFERROR(IFERROR(VLOOKUP(D113,Surcharge!A:B,2,FALSE)*F113, VLOOKUP(D113 & \"\",Surcharge!A:B,2,FALSE)*F113), \"\")","v":""},null,null,null,null,null,null,null,{"$f":"VLOOKUP(Q113,'MPF SAP Download (2)'!A:E,5,FALSE)","v":209},"M-6100VK_ADLOPRMNL"]
[null,null,"Parts Manual",null,28,null,{"$f":"F114*E114","v":0},{"$f":"IFERROR(IFERROR(VLOOKUP(D114,Surcharge!A:B,2,FALSE)*F114, VLOOKUP(D114 & \"\",Surcharge!A:B,2,FALSE)*F114), \"\")","v":""},null,null,null,null,null,null,null,{"$f":"VLOOKUP(Q114,'MPF SAP Download (2)'!A:E,5,FALSE)","v":28},"M-6100VK_PARMNL"]
[null,null,"Service Manual",330255,272,null,0,{"$f":"IFERROR(IFERROR(VLOOKUP(D115,Surcharge!A:B,2,FALSE)*F115, VLOOKUP(D115 & \"\",Surcharge!A:B,2,FALSE)*F115), \"\")","v":""},null,null,null,null,null,null,null,{"$f":"VLOOKUP(Q115,'MPF SAP Download (2)'!A:E,5,FALSE)","v":272},"M-6100VK_SRVMNL"]
[null,null,null,null,null,null,null,{"$f":"IFERROR(IFERROR(VLOOKUP(D116,Surcharge!A:B,2,FALSE)*F116, VLOOKUP(D116 & \"\",Surcharge!A:B,2,FALSE)*F116), \"\")","v":""},null,null,null,null,null,null,null,null,""]
[null,null,"Packaging  (Note 12)",null,null,{"$f":"SUM(F118:F120)","v":0},null,{"$f":"IFERROR(IFERROR(VLOOKUP(D117,Surcharge!A:B,2,FALSE)*F117, VLOOKUP(D117 & \"\",Surcharge!A:B,2,FALSE)*F117), \"\")","v":""}]
[null,null,"Pad Wrap",null,"N/C",null,{"$f":"IF(F118=0,\" \",\"N/C\")","v":" "},{"$f":"IFERROR(IFERROR(VLOOKUP(D118,Surcharge!A:B,2,FALSE)*F118, VLOOKUP(D118 & \"\",Surcharge!A:B,2,FALSE)*F118), \"\")","v":""},null,null,null,null,null,null,null,{"$f":"VLOOKUP(Q118,'MPF SAP Download (2)'!A:E,5,FALSE)","v":"N/C"},"M-6100VK_PKG_PAD"]
[null,null,"Crate",83353,681,null,{"$f":"F119*E119","v":0},{"$f":"IFERROR(IFERROR(VLOOKUP(D119,Surcharge!A:B,2,FALSE)*F119, VLOOKUP(D119 & \"\",Surcharge!A:B,2,FALSE)*F119), \"\")","v":""},null,null,null,null,null,null,null,{"$f":"VLOOKUP(Q119,'MPF SAP Download (2)'!A:E,5,FALSE)","v":681},"M-6100VK_PKG_CRT"]
[null,null,"Skid",375230,357,null,{"$f":"F120*E120","v":0},{"$f":"IFERROR(IFERROR(VLOOKUP(D120,Surcharge!A:B,2,FALSE)*F120, VLOOKUP(D120 & \"\",Surcharge!A:B,2,FALSE)*F120), \"\")","v":""},null,null,null,null,null,null,null,{"$f":"VLOOKUP(Q120,'MPF SAP Download (2)'!A:E,5,FALSE)","v":357},"M-6100VK_PKG_SKD"]
[null,null,null,null,null,null,null,{"$f":"IFERROR(IFERROR(VLOOKUP(D121,Surcharge!A:B,2,FALSE)*F121, VLOOKUP(D121 & \"\",Surcharge!A:B,2,FALSE)*F121), \"\")","v":""},null,null,null,null,null,null,null,null,""]
[null,"Custom Solutions",null,null,null,{"$f":"SUM(F123)","v":0},null,{"$f":"IFERROR(IFERROR(VLOOKUP(D122,Surcharge!A:B,2,FALSE)*F122, VLOOKUP(D122 & \"\",Surcharge!A:B,2,FALSE)*F122), \"\")","v":""},null,null,null,null,null,null,null,null,""]
[null,null,"Custom Color  (Note 13)",324138,4404,null,{"$f":"F123*E123","v":0},{"$f":"IFERROR(IFERROR(VLOOKUP(D123,Surcharge!A:B,2,FALSE)*F123, VLOOKUP(D123 & \"\",Surcharge!A:B,2,FALSE)*F123), \"\")","v":""},null,null,null,null,null,null,null,{"$f":"VLOOKUP(Q123,'MPF SAP Download (2)'!A:E,5,FALSE)","v":4404},"M-6100VK_CSMSLN_CC"]
[null,null,null,null,null,null,null,{"$f":"IFERROR(IFERROR(VLOOKUP(D124,Surcharge!A:B,2,FALSE)*F124, VLOOKUP(D124 & \"\",Surcharge!A:B,2,FALSE)*F124), \"\")","v":""}]
[]
[null,null,null,null,null,{"$f":"SUM(#REF!)","v":{"$error":"#REF!"}}]
[]
[null,"Custom Solution--write in description, qty, price, and PN if applicable",null,null,null,{"$f":"SUM(E129)","v":0}]
[null,null,null,"Insert Prices Here",{"$f":"SUM(F130:F133)","v":0}]
[null,null,null,"Custom",null,{"$f":"IF(E130 <> \"\", 1, 0)","v":0},{"$f":"F130*E130","v":0}]
[null,null,null,"Custom",null,{"$f":"IF(E131 <> \"\", 1, 0)","v":0},{"$f":"F131*E131","v":0}]
[null,null,null,"Custom",null,0,{"$f":"F132*E132","v":0}]
[null,null,null,"Custom",null,0,{"$f":"F133*E133","v":0}]
[null,null,null,null,{"$f":"ROUND(SUM(G50:G133), 0)","v":0},{"$f":"SUM(E135)","v":0}]
[null,null,null,"Machine Subtotal ",{"$f":"ROUND(SUM(G50:G133), 0)","v":0},{"$f":"F134","v":0}]
[null,"Discounts",null,null,null,{"$f":"SUM(F137)","v":0}]
[null,null,null,null,null,{"$f":"SUM(F138:F139)","v":0}]
[null,null,null,"Discount %",null,{"$f":"IF(E138 <> \"\", 1, 0)","v":0},{"$f":"IF(F138*(E138*0.01)*E134 < 0, F138*(E138*0.01)*E134, -(F138*(E138*0.01)*E134))","v":0}]
[null,null,null,"Discount $",null,{"$f":"IF(E139 <> \"\", 1, 0)","v":0},{"$f":"IF(F139*E139 < 0, F139*E139, -(F139*E139))","v":0}]
[null,null,null,"Discount Total ",{"$f":"SUM(G138:G139)","v":0},{"$f":"SUM(E140)","v":0}]
[null,null,null,null,{"$f":"#REF!","v":{"$error":"#REF!"}},{"$f":"#REF!","v":{"$error":"#REF!"}}]
[null,null,null,null,null,{"$f":"F141","v":{"$error":"#REF!"}}]
[null,null,"Prepaid and Add","Freight",null,{"$f":"IF(E143 <> \"\", 1, 0)","v":0},{"$f":"F143*E143","v":0}]
[null,null,"Subject to all applicable taxes","Tax",null,0,{"$f":"F144*E144","v":0}]
[null,null,null,null,null,{"$f":"SUM(F146)","v":0}]
[null,null,null,"MACHINE TOTAL*",null,{"$f":"SUM(G146)","v":0},{"$f":"SUM(G50:G144)","v":0},null,null,null,"This goes to \"My Documents\""]
[null,null,null,null,null,null,{"$f":"SUM(G146)","v":0}]
[null,"Financing"]
[]
[null,null,"Is customer interested in financing?","Yes"]
[]
[null,null,"If not, why?"]
[]
[]
[null,null,"First Western Equipment Finance - Leasing Calculation Option:","Option 1",null,"Option 2",null,null,null,{"$f":"Financing!A38","v":"Rates 2025 - Rev. 5/6/2025"}]
[null,null,null,"Monthly Payment","Cost Per Day","Monthly Payment","Cost Per Day",null,null,{"$f":"Financing!A39","v":"“Blank Payment Amounts Indicate The Financing Option Or Purchase Options Selected Are Not "}]
[null,null,"Purchase Option:","FWEF:  $1 Buyout Lease",null,"FWEF: Municipal Lease",null,null,null,{"$f":"Financing!A40","v":"Applicable Or The Machine Total Is Below The Minimum Amount For The Selected Vendor”"}]
[null,null,"24 Months",0,0,0,0,null,null,{"$f":"Financing!A41","v":"\"Quoted monthly payments are estimates only and are based on a certain level of credit rating."}]
[null,null,"30 Months",0,0,0,0,null,null,{"$f":"Financing!A42","v":"Actual monthly payments may be higher depending on your credit rating.\""}]
[null,null,"36 Months",0,0,0,0,null,null,{"$f":"Financing!A43","v":"“Financing rates do not include Pre-Paid Service”"}]
[null,null,"48 Months",0,0,0,0,null,{"$f":"Financing!A44","v":0}]
[]
[null,null,null,"Benefits of Equipment Financing:"]
[null,null,null,"• Spreads out investment over time.",null,"• Keep current with latest technology."]
[null,null,null,"• Preserve capital.",null,"• Service and parts bundling available."]
[null,null,null,"• Low monthly payment.",null,"• Pay for labor savings as you go."]
[]
[]
[null,null,"Bundled Offerings","Flexclean – Fair Market Value",null,"Flexclean - $1 Buyout"]
[null,null,"FlexClean: ","36 Month Term",null,"36 Month Term",null,null,"No","AB Brushes"]
[null,null,"Hours included per Month:","Gold","Silver","Gold","Silver","Check"]
[null,null,"< 30/mo. (Avg. 1hr./day)",null,null,null,null,null,{"$f":"FlexCleanCalc!$A21","v":"“FlexClean monthly rates include payment for both machine and service.”"}]
[null,null,"< 60/mo. (Avg. 2hrs./day)"]
[null,null,"< 90/mo. (Avg. 3hrs./day)"]
[null,null,"*This value assumes one service contract regardless of the number of UNITS included in the quote"]
[]
[]
[null,null,"Bundled Offerings","Flexclean – Fair Market Value",null,"Flexclean - $1 Buyout"]
[null,null,"FlexClean 2: ","48 Month Term",null,"48 Month Term"]
[null,null,"Hours included per Month:","Gold","Silver","Gold","Silver"]
[null,null,"< 30/mo. (Avg. 1hr./day)"]
[null,null,"< 60/mo. (Avg. 2hrs./day)"]
[null,null,"< 90/mo. (Avg. 3hrs./day)"]
[null,null,"*This value assumes one service contract regardless of the number of UNITS included in the quote"]
[]
[null,null,"Bundled Offerings","Flexclean – Fair Market Value",null,"Flexclean - $1 Buyout"]
[null,null,"FlexClean 3: ","60 Month Term",null,"60 Month Term"]
[null,null,"Hours included per Month:","Gold","Silver","Gold","Silver"]
[null,null,"< 30/mo. (Avg. 1hr./day)"]
[null,null,"< 60/mo. (Avg. 2hrs./day)"]
[null,null,"< 90/mo. (Avg. 3hrs./day)"]
[null,null,"*This value assumes one service contract regardless of the number of UNITS included in the quote"]
[]
[null,"   TennantTrue"]
[]
[null,null,"Is customer interested in service program?","Yes","*State/County selection required for TennantTrue service options"]
[]
[null,null,"If not, why?"]
[]
[null,null,"Term:",36,null,"AB Brushes","No"]
[null,null,"Monthly machine usage (hrs):","< 30/mo. (Avg. 1hr./day)"]
[]
[null,null,"TennantTrue: ","Gold Contract",null,"Silver Contract"]
[null,null,"Per Visit",null,null,473]
[null,null,"Monthly",208,null,99]
[null,null,"Annually",null,null,1160]
[null,null,"Pre-Pay Full Term",7200,null,3411]
[null,null,"Hourly Labor Rate"]
[null,null,"Site Visit"]
[]
[null,null,"* Verify customer current pricing prior to quote. "]
[null,null,"**All rates and fees above reflect service for one (1) unit with the exception of Block of Time service."]
[null,null,"*Block of Time is available in 1 Year Term only and is priced as such no matter the term selection on this template."]
[]
[null,null,null,0,0]
[]
[null,"Quote Special Instructions:"]
[]
[]
[null,{"$f":"Start_Here!E36","v":"Terms and Conditions"}]
[null,{"$f":"Start_Here!E37","v":"Ask your local sales rep for estimated lead times. Verify when placing order"}]
[null,{"$f":"Start_Here!E38","v":"All orders subject to acceptance by Tennant Sales and Service Company, Minneapolis, Minnesota"}]
[null,{"$f":"Start_Here!E39","v":"Prices subject to change without notice."}]
[null,{"$f":"Start_Here!E40","v":"Terms:  Net 30 days.  Subject to any applicable taxes."}]
[null,{"$f":"Start_Here!E41","v":"Freight: Machines and accessory orders delivered FOB shipping point Frt PPD & Add"}]
[null,{"$f":"Start_Here!E42","v":"Parts, supplies, detergents and floor treating material orders delivered FOB "}]
[null,{"$f":"Start_Here!E43","v":"shipping point Frt PPD"}]
[null,{"$f":"Start_Here!E44","v":"All orders are subject to Tennant’s General Terms and Conditions available at http://www.tennantco.com/terms."}]
[null,{"$f":"Start_Here!E45","v":"Printed General Terms and Conditions are also available upon request."}]
[null,{"$f":"Start_Here!E46","v":0}]
[]
[null,null,null,null,"Quote Date :",null,{"$f":"Letter!$A$25","v":"2020-09-22"}]
["Order Placement Information:  To place your order, fill in PO# and customer signatures,"]
["call or fax to the numbers listed below. Customer Purchase Order is required."]
["If information is missing, orders will be entered and held until all information is received."]
[]
[null,null,"Customer Number",null,"Cust Grp 3"]
[null,null,{"$f":"Start_Here!$C$25","v":0},null,{"$f":"Start_Here!$C$29","v":0}]
[null,null,{"$f":"Start_Here!$B$18","v":"Who Owns the Machine? (Sold-To Info) (Please Verify)"}]
["Company",null,{"$f":"Start_Here!$C$19","v":"Company Name"}]
["Address",null,{"$f":"Start_Here!$C$20","v":"Address"}]
[null,null,{"$f":"Start_Here!$C$21","v":"City, State Zip"}]
["Name",null,{"$f":"Start_Here!$C$22","v":"Contact Name"}]
["Phone",null,{"$f":"Start_Here!$C$23","v":"Contact Phone"}]
[null,null,{"$f":"Start_Here!$B$11","v":"Where is the Machine Being Shipped? (Ship-To Info) (Please Verify)"}]
["Company",null,{"$f":"Start_Here!$C$12","v":"Company Name"}]
["Address",null,{"$f":"Start_Here!$C$13","v":"Address"}]
[null,null,{"$f":"Start_Here!$C$14","v":"City, State Zip"}]
["Name",null,{"$f":"Start_Here!$C$15","v":"Contact Name"}]
["Phone",null,{"$f":"Start_Here!$C$16","v":"Contact Phone"}]
[null,null,{"$f":"Start_Here!$B$31","v":"Shipping / Carrier Instructions:"},null,"Order Special Instructions:"]
[null,null,{"$f":"Start_Here!$C$32","v":0}]
[]
[null,null,"Customer Purchase Order No."]
[null,null,"(please attach copy)"]
[]
[]
[null,null,"Tax Exempt",null,"Yes"]
[null,null,null,null,"No"]
[null,null,"If Yes, attach a copy of your exemption certificate."]
[]
[null,null,"Requested Delivery Date"]
[null,null,{"$f":"Start_Here!$C$28","v":0}]
[]
[null,null,{"$f":"Start_Here!$C$26","v":0},null,{"$f":"Start_Here!$C$27","v":0}]
[null,0,"Authorized Buyer (please print)",null,"Phone Number"]
[]
[]
[null,0,"Authorized Buyer Signature"]
[]
[null,null,{"$f":"Start_Here!$C$41","v":"Rep Name"}]
[null,null,"Tennant Representative"]
[]
[null,null,null,"Specialized Maintenance Equipment"]
[null,null,{"$f":"Start_Here!$C$48","v":"TENNANT · 10400 Clean Street · Eden Prairie, MN 55344 ·"}]
[null,null,null,{"$f":"Start_Here!$C$49","v":" PHONE:800-553-8033 · FAX:763-513-2116"}]
[]
[]
[null,"SPECIAL INFORMATION"]
[]
[null,"Notes"]
[]
[null,1,"According to the manufacturer, new batteries do not develop full energy (run time) potential until after a couple months of"]
[null,null,"use.  This \"burn-in\" period is usually 50 charge cycles. "]
[null,null,"Average run times are 3.4 hours for standard and 4.8 hours for heavy duty batteries.  "]
[]
[null,null,"Model 6100 Continuous Runtime Chart (220 AH Battery Package):"]
[null,null,null,"Run Time"]
[null,null,"Sweeping (Main and single side brush)","3.5 hours"]
[null,null,"Sweeping (Main and dual side brush)","3.25 hours"]
[null,null,"The above runtimes are guidelines.  Actual times will vary based on floor conditions, final machine "]
[null,null,"configuration and usage."]
[]
[null,2,"Should the customer wish to use their own battery supplier, they have two options:"]
[null,null,"a.  Buy batteries to fit in our steel case - see below for internal dimensions."]
[null,null,"b.  Buy their own steel case battery (there is no deduction for this) - see below for external dimensions."]
[null,null,null,null,"Width            Height","Height"]
[null,null,"External Dimensions:",null,"22.18 in.         21.24 in","11.5 in"]
[null,null,null,null,"563 mm           539 mm","292 mm"]
[]
[null,null,"Internal Dimensions:",null,"21.81 in.          20.88 in ","11.32 in"]
[null,null,null,null,"554 mm          530 mm","287 mm"]
[null,null,"An extra steel case can be ordered without batteries; part number 369483."]
[]
[null,null,"Battery compartment is 21.62 in. (550 mm) x 22.24 in. (565 mm) x 14.50 in. (365 mm).  "]
[null,null,"Max weight 480 lbs (220kg)."]
[]
[null,3,"Customer MUST order shipping crate if LESS BATTERY is selected. "]
[null,null,"Continental USA orders ONLY."]
[]
[null,4,"HEPA Dust Filter Package is not available with an On-Board Charger."]
[null,null,"Package is not available with either the Vacuum Wand or the High Performance Vacuum Wand."]
[null,null,"The HEPA Dust Filter Package will ship with 2 extra HEPA filters for a total of 3 filters at the time of delivery."]
[]
[null,5,"Dual Side Brush cannot be equiped on units with the HEPA Dust Filter Package - Right Hand"]
[]
[null,6,"Reach of vacuum wand is 11 feet, comes with a box of 10 vacuum bags (p/n1067452)."]
[null,null,"Cannot be equiped with the HEPA Dust Filter Package."]
[]
[null,7,"The HEPA Filter System cannot be equiped on units with an On-Board Charger or Vacuum Wand option"]
[null,null,"HEPA Filter System requires Side Brush Dust Control, Dry also be added to the machine."]
[]
[null,8,"The Union Mix Brush is commonly used for Carpet"]
[]
[null,9,"Blue Light is not available with Vacuum Wand or High Performance Vacuum Wand."]
[null,null,"The Blue Light requires either the Audio BU Alarm or The AV BU Alarm w/Strobe Light be installed on the machine."]
[]
[null,10,"The Union Mix Brush is commonly used for Carpet"]
[]
[null,11,"Warranty Plus Extended Warranty includes an additional 18 months trip and labor coverage."]
[]
[null,12,"Pad wrap available only in the Continental US and is the default packaging method."]
[null,null,"Customer MUST order Crate or Skid if WITHOUT BATTERY is selected."]
[null,null,"Crate is mandatory when shipping to AK and HI.  Packaging is added at No Charge when shipping to these locations."]
[]
[null,13,"CUSTOM PAINT: Customized painting is limited to metal parts only.  All non-metal components must remain standard TENNANT colors."]
[null,null,"When selling a Custom Color, you will need to confirm that the color falls within the standard colors available from our powder supplier.  "]
[null,null,"Please request a color chart from our Custom Solutions Group and obtain the customer's approval. "]
[null,null,"For pricing and lead time impact information contact our Custom Solutions Group."]
[]
[null,14,"Part numbers beginning with \"CP\" followed by a 6-digit number or a 6-digit number with the first three digits \"324 & 325\" indicate"]
[null,null,"a CUSTOM option.  Please keep in mind that these items may require a longer lead time."]
[]
[null,15,"Shipping Weights and Dimensions","Pad Wrap","Crate"]
[]
[null,null,"Weight","1009 lbs / 458 Kg","1300 lbs / 590 Kg"]
[null,null,"Length","60\" / 1520 mm","80\" / 2032 mm"]
[null,null,"Width","32\" / 805 mm","46\" / 1169 mm"]
[null,null,"Height","46\" / 1180 mm","52\" / 1321 mm"]

{"sheet":"S680","index":22,"n_rows":249,"n_cols":17,"rows_kept":249,"cut":false,"hidden":false,"merged":[[109,3,109,4],[109,5,109,6],[0,2,0,3],[1,2,1,3],[2,2,2,3],[3,2,3,3],[29,2,29,6],[30,2,30,6],[31,2,31,6],[32,2,32,6],[33,2,33,6],[34,2,34,6],[106,3,106,6],[111,3,111,4],[111,5,111,6],[123,3,123,4],[123,5,123,6],[124,3,124,4],[124,5,124,6],[155,3,155,4],[132,3,132,4],[132,5,132,6],[133,3,133,4],[133,5,133,6],[140,3,140,4],[140,5,140,6],[141,3,141,4],[141,5,141,6],[150,4,150,8],[152,3,152,6],[154,3,154,4],[157,3,157,4],[157,5,157,6],[158,3,158,4],[158,5,158,6],[159,3,159,4],[159,5,159,6],[194,2,194,5],[160,3,160,4],[160,5,160,6],[161,3,161,4],[161,5,161,6],[162,3,162,4],[162,5,162,6],[163,3,163,4],[163,5,163,6],[172,1,172,6],[191,4,191,6],[192,4,192,7],[219,4,219,5],[195,2,195,5],[196,2,196,5],[197,2,197,5],[198,2,198,5],[200,2,200,5],[201,2,201,5],[202,2,202,5],[203,2,203,5],[204,2,204,5],[206,4,206,7],[210,2,210,5]]}
["S680",null,{"$f":"Start_Here!$C19","v":"Company Name"}]
[{"$f":"SUM(G101)","v":0},null,{"$f":"Start_Here!$C20","v":"Address"}]
[null,null,{"$f":"Start_Here!$C21","v":"City, State Zip"}]
[null,null,{"$f":"Start_Here!$C22","v":"Contact Name"}]
[null,null,{"$f":"Start_Here!$C$41","v":"Rep Name"}]
[null,null,{"$f":"Start_Here!$C$37","v":"Tennant Sales and Service Company"}]
[null,null,{"$f":"Start_Here!$C$38","v":"10400 Clean Street"}]
[null,null,{"$f":"Start_Here!$C$39","v":"Eden Prairie, MN 55344"}]
[null,null,{"$f":"Start_Here!$C$43","v":"800-553-8033"},null,"Quote Date :",null,{"$f":"Letter!$A$25","v":"2020-09-22"}]
[]
[null,null,{"$f":"Help!C2","v":"US Date Rev - 5/6/2025"}]
[null,null,"                                                               BUILT-IN \"TENNANT VALUE\" INCLUDES:"]
[]
[null,"42\" (1050 mm) Sweep Path",null,"Horn"]
[null,"2.5 ft3 / 70L Low-Dump Hopper Volume Capacity",null,"Low Effort Steering"]
[null,"Corrosion-Proof Hopper & Shrouds",null,"Adjustable Side Brush RPM"]
[null,"Front Corner Rollers",null,"360o Visibility"]
[null,"Flap and Trap Debris Pedal",null,"Self-Leveling Main Brush"]
[null,"High Visibility Operation Decals",null,"Amber Strobe Light"]
[null,"Glide-In/Out Wheeled Hopper",null,"Thermo-Sentry™ Hopper Fire Sensor"]
[null,"Retractable Side Brush Assemblies",null,"Wet 225AH C/20 Batteries"]
[null,"Hour Meter",null,"27A 85-270V AC 50/60Hz 1Ph Charger"]
[null,"Standard Main Sweeping Brush (Select One)",null,"Battery Discharge Indicator"]
[null,"Standard Dual Side Sweeping Brushes",null,"Power Shutdown Switch"]
[null,"No-Tool Main Brush & Filter Change",null,"Operator Manual"]
[null,"Seat occupancy interlock safety switch"]
[null," "]
[]
[]
[null,null,"TENNANT COMPANY WARRANTY"]
[null,null,"2 YEARS OR 1000 HOURS - PARTS"]
[null,null,"6 MONTHS - LABOR"]
[null,null,"6 MONTHS - TRAVEL"]
[null,null,"10 YEARS ON DURAMERTM HOPPER"]
[]
[]
[null,null,null,null,"                Quote Request Information"]
[null,null,null,null,null,null,"Fax (quote only)"]
[null,null,null,null,null,null,"Mail (quote,lit, specs)"]
[null,null,null,null,null,null,"Fax + Mail"]
[]
[null,null,null,null,"                Primary Use"]
[null,null,null,null,null,null,"Inside"]
[null,null,null,null,null,null,"Outside"]
[]
[]
[null,null,"Description","Reference # ","Price Each","Qty","Extended Price"]
[null,"Base Configuration",null,null,null,{"$f":"SUM(F49,F52,F57)","v":0}]
[null,null,"Cleaning Type",null,null,{"$f":"SUM(F50)","v":0},null,null,null,null,null,{"$f":"SUM(F49)","v":0},"Surcharge Qty"]
[null,null,"S680 Ride-On Sweeper 1050 mm/42\" w/ Dual Side Brushes","S680_1050",17509,null,{"$f":"F50*E50","v":0},{"$f":"IFERROR(IFERROR(VLOOKUP(D50,Surcharge!A:B,2,FALSE)*F50, VLOOKUP(D50 & \"\",Surcharge!A:B,2,FALSE)*F50), \"\")","v":""},null,null,null,null,null,null,null,{"$f":"VLOOKUP(Q50,'MPF SAP Download (2)'!A:E,5,FALSE)","v":24171},"M-6100VK_BASE_6100-BTY"]
[null,null,null,null,null,null,null,{"$f":"IFERROR(IFERROR(VLOOKUP(D51,Surcharge!A:B,2,FALSE)*F51, VLOOKUP(D51 & \"\",Surcharge!A:B,2,FALSE)*F51), \"\")","v":""}]
[null,null,"Battery Type",null,null,{"$f":"SUM(F53:F55)","v":0},null,{"$f":"IFERROR(IFERROR(VLOOKUP(D52,Surcharge!A:B,2,FALSE)*F52, VLOOKUP(D52 & \"\",Surcharge!A:B,2,FALSE)*F52), \"\")","v":""}]
[null,null,"Wet 225AH C/20",9022613,"N/C",null,{"$f":"IF(F53=0,\" \",\"N/C\")","v":" "},{"$f":"IFERROR(IFERROR(VLOOKUP(D53,Surcharge!A:B,2,FALSE)*F53, VLOOKUP(D53 & \"\",Surcharge!A:B,2,FALSE)*F53), \"\")","v":""},null,null,null,null,null,null,null,{"$f":"VLOOKUP(Q53,'MPF SAP Download (2)'!A:E,5,FALSE)","v":"N/C"},"M-6100VK_BTY_W225C20"]
[null,null,"Sealed/MF AGM 245AH C/20",9022614,1190,null,{"$f":"F54*E54","v":0},{"$f":"IFERROR(IFERROR(VLOOKUP(D54,Surcharge!A:B,2,FALSE)*F54, VLOOKUP(D54 & \"\",Surcharge!A:B,2,FALSE)*F54), \"\")","v":""},null,null,null,null,null,null,null,{"$f":"VLOOKUP(Q54,'MPF SAP Download (2)'!A:E,5,FALSE)","v":2833},"M-6100VK_BTY_G180C20"]
[null,null,"Without Battery","LESS BATTERY",-450,null,{"$f":"F55*E55","v":0},{"$f":"IFERROR(IFERROR(VLOOKUP(D55,Surcharge!A:B,2,FALSE)*F55, VLOOKUP(D55 & \"\",Surcharge!A:B,2,FALSE)*F55), \"\")","v":""},null,null,null,null,null,null,null,{"$f":"VLOOKUP(Q55,'MPF SAP Download (2)'!A:E,5,FALSE)","v":-496},"M-6100VK_BTY_WO"]
[]
[null,null,"Charger",null,null,{"$f":"SUM(F58:F59)","v":0},null,{"$f":"IFERROR(IFERROR(VLOOKUP(D57,Surcharge!A:B,2,FALSE)*F57, VLOOKUP(D57 & \"\",Surcharge!A:B,2,FALSE)*F57), \"\")","v":""},null,null,null,null,null,null,null,null,""]
[null,null,"27A 85-270V AC 50/60Hz 1Ph - Off Board",9015391,"N/C",null,{"$f":"IF(F58=0,\" \",\"N/C\")","v":" "},{"$f":"IFERROR(IFERROR(VLOOKUP(D58,Surcharge!A:B,2,FALSE)*F58, VLOOKUP(D58 & \"\",Surcharge!A:B,2,FALSE)*F58), \"\")","v":""},null,null,null,null,null,null,null,{"$f":"VLOOKUP(Q58,'MPF SAP Download (2)'!A:E,5,FALSE)","v":847},"M-6100VK_BTYWTRSYS"]
[null,null,"Without Charger","LESS CHARGER",-270,null,{"$f":"F59*E59","v":0},{"$f":"IFERROR(IFERROR(VLOOKUP(D59,Surcharge!A:B,2,FALSE)*F59, VLOOKUP(D59 & \"\",Surcharge!A:B,2,FALSE)*F59), \"\")","v":""}]
[]
[null,"Packages",null,null,null,{"$f":"SUM(F62)","v":0},null,{"$f":"IFERROR(IFERROR(VLOOKUP(D61,Surcharge!A:B,2,FALSE)*F61, VLOOKUP(D61 & \"\",Surcharge!A:B,2,FALSE)*F61), \"\")","v":""}]
[null,null,"Carpet Care Package  (Note 1)",9022636,54,null,{"$f":"F62*E62","v":0},{"$f":"IFERROR(IFERROR(VLOOKUP(D62,Surcharge!A:B,2,FALSE)*F62, VLOOKUP(D62 & \"\",Surcharge!A:B,2,FALSE)*F62), \"\")","v":""},null,null,null,null,null,null,null,{"$f":"VLOOKUP(Q62,'MPF SAP Download (2)'!A:E,5,FALSE)","v":7783},"M-6100VK_SLADSTFLTPKG_RH"]
[null,null,null,null,null,{"$f":"SUM(F62)","v":0},null,{"$f":"IFERROR(IFERROR(VLOOKUP(D63,Surcharge!A:B,2,FALSE)*F63, VLOOKUP(D63 & \"\",Surcharge!A:B,2,FALSE)*F63), \"\")","v":""}]
[null,"Brushes and Pads",null,null,null,{"$f":"SUM(F65,F70)","v":0},null,null,null,null,null,null,null,null,null,{"$f":"VLOOKUP(Q64,'MPF SAP Download (2)'!A:E,5,FALSE)","v":8445},"M-6100VK_SLADSTFLTPKG_D"]
[null,null,"Main Sweeping Brushes",null,null,{"$f":"SUM(F66:F68)","v":0},null,{"$f":"IFERROR(IFERROR(VLOOKUP(D65,Surcharge!A:B,2,FALSE)*F65, VLOOKUP(D65 & \"\",Surcharge!A:B,2,FALSE)*F65), \"\")","v":""}]
[null,null,"Polypropylene Brush",9022617,"N/C",null,{"$f":"IF(F66=0,\" \",\"N/C\")","v":" "},{"$f":"IFERROR(IFERROR(VLOOKUP(D66,Surcharge!A:B,2,FALSE)*F66, VLOOKUP(D66 & \"\",Surcharge!A:B,2,FALSE)*F66), \"\")","v":""}]
[null,null,"Polypropylene and Wire Brush",9022619,"N/C",null," ",{"$f":"IFERROR(IFERROR(VLOOKUP(D67,Surcharge!A:B,2,FALSE)*F67, VLOOKUP(D67 & \"\",Surcharge!A:B,2,FALSE)*F67), \"\")","v":""}]
[null,null,"Natural Fiber Brush  (Note 1)",9022618,177,null,{"$f":"F68*E68","v":0},{"$f":"IFERROR(IFERROR(VLOOKUP(D68,Surcharge!A:B,2,FALSE)*F68, VLOOKUP(D68 & \"\",Surcharge!A:B,2,FALSE)*F68), \"\")","v":""},null,null,null,null,null,null,null,{"$f":"VLOOKUP(Q68,'MPF SAP Download (2)'!A:E,5,FALSE)","v":1196},"M-6100VK_SDEBRSLOC_D"]
[null,null,null,null,null,null,null,{"$f":"IFERROR(IFERROR(VLOOKUP(D69,Surcharge!A:B,2,FALSE)*F69, VLOOKUP(D69 & \"\",Surcharge!A:B,2,FALSE)*F69), \"\")","v":""},null,null,null,null,null,null,null,{"$f":"VLOOKUP(Q69,'MPF SAP Download (2)'!A:E,5,FALSE)","v":1246},"M-6100VK_SDEBRSDSTCTL_D_RH"]
[null,null,"Side Sweeping Brushes",null,null,{"$f":"SUM(F71)","v":0},null,{"$f":"IFERROR(IFERROR(VLOOKUP(D70,Surcharge!A:B,2,FALSE)*F70, VLOOKUP(D70 & \"\",Surcharge!A:B,2,FALSE)*F70), \"\")","v":""},null,null,null,null,null,null,null,{"$f":"VLOOKUP(Q70,'MPF SAP Download (2)'!A:E,5,FALSE)","v":1909},"M-6100VK_SDEBRSDSTCTL_D_D"]
[null,null,"Polypropylene Brush",null,null,null,{"$f":"IF(F71=0,\" \",\"N/C\")","v":" "},{"$f":"IFERROR(IFERROR(VLOOKUP(D71,Surcharge!A:B,2,FALSE)*F71, VLOOKUP(D71 & \"\",Surcharge!A:B,2,FALSE)*F71), \"\")","v":""},null,null,null,null,null,null,null,{"$f":"VLOOKUP(Q71,'MPF SAP Download (2)'!A:E,5,FALSE)","v":2335},"M-6100VK_PWRVACWND_VACWNDHP"]
[null,null,null,null,null,null,null,{"$f":"IFERROR(IFERROR(VLOOKUP(D72,Surcharge!A:B,2,FALSE)*F72, VLOOKUP(D72 & \"\",Surcharge!A:B,2,FALSE)*F72), \"\")","v":""},null,null,null,null,null,null,null,{"$f":"VLOOKUP(Q72,'MPF SAP Download (2)'!A:E,5,FALSE)","v":5331},"M-6100VK_PWRVACWND_VACWNDHP_ON"]
[null,"Support",null,null,null,{"$f":"SUM(F74)","v":0},null,{"$f":"IFERROR(IFERROR(VLOOKUP(D73,Surcharge!A:B,2,FALSE)*F73, VLOOKUP(D73 & \"\",Surcharge!A:B,2,FALSE)*F73), \"\")","v":""},null,null,null,null,null,null,null,{"$f":"VLOOKUP(Q73,'MPF SAP Download (2)'!A:E,5,FALSE)","v":2017},"M-6100VK_PWRVACWND_VACWND"]
[null,null,"Standard Warranty",null,"N/C",null,{"$f":"IF(F74=0,\" \",\"N/C\")","v":" "},{"$f":"IFERROR(IFERROR(VLOOKUP(D74,Surcharge!A:B,2,FALSE)*F74, VLOOKUP(D74 & \"\",Surcharge!A:B,2,FALSE)*F74), \"\")","v":""},null,null,null,null,null,null,null,{"$f":"VLOOKUP(Q74,'MPF SAP Download (2)'!A:E,5,FALSE)","v":5017},"M-6100VK_PWRVACWND_VACWND_ON"]
[null,null,null,null,null,null,null,{"$f":"IFERROR(IFERROR(VLOOKUP(D75,Surcharge!A:B,2,FALSE)*F75, VLOOKUP(D75 & \"\",Surcharge!A:B,2,FALSE)*F75), \"\")","v":""},null,null,null,null,null,null,null,{"$f":"VLOOKUP(Q75,'MPF SAP Download (2)'!A:E,5,FALSE)","v":6542},"M-6100VK_FLRSYS_HEPA"]
[null,null,"Packaging  (Note 2)",null,null,{"$f":"SUM(F77:F78)","v":0},null,{"$f":"IFERROR(IFERROR(VLOOKUP(D76,Surcharge!A:B,2,FALSE)*F76, VLOOKUP(D76 & \"\",Surcharge!A:B,2,FALSE)*F76), \"\")","v":""}]
[null,null,"Pad Wrap",null,"N/C",null,{"$f":"IF(F77=0,\" \",\"N/C\")","v":" "},{"$f":"IFERROR(IFERROR(VLOOKUP(D77,Surcharge!A:B,2,FALSE)*F77, VLOOKUP(D77 & \"\",Surcharge!A:B,2,FALSE)*F77), \"\")","v":""}]
[null,null,"Skid w/Carton, Non-Stackable",9022625,595,null,{"$f":"F78*E78","v":0},{"$f":"IFERROR(IFERROR(VLOOKUP(D78,Surcharge!A:B,2,FALSE)*F78, VLOOKUP(D78 & \"\",Surcharge!A:B,2,FALSE)*F78), \"\")","v":""},null,null,null,null,null,null,null,{"$f":"VLOOKUP(Q78,'MPF SAP Download (2)'!A:E,5,FALSE)","v":223},"M-6100VK_SDEBMP"]
[null,null,null,null,null,null,null,{"$f":"IFERROR(IFERROR(VLOOKUP(D79,Surcharge!A:B,2,FALSE)*F79, VLOOKUP(D79 & \"\",Surcharge!A:B,2,FALSE)*F79), \"\")","v":""}]
[]
[null,null,null,null,null,{"$f":"SUM(#REF!)","v":{"$error":"#REF!"}}]
[]
[null,"Custom Solution--write in description, qty, price, and PN if applicable",null,null,null,{"$f":"SUM(E84)","v":0}]
[null,null,null,"Insert Prices Here",{"$f":"SUM(F85:F88)","v":0}]
[null,null,null,"Custom",null,{"$f":"IF(E85 <> \"\", 1, 0)","v":0},{"$f":"F85*E85","v":0}]
[null,null,null,"Custom",null,{"$f":"IF(E86 <> \"\", 1, 0)","v":0},{"$f":"F86*E86","v":0}]
[null,null,null,"Custom",null,0,{"$f":"F87*E87","v":0}]
[null,null,null,"Custom",null,0,{"$f":"F88*E88","v":0}]
[null,null,null,null,{"$f":"ROUND(SUM(G50:G88), 0)","v":0},{"$f":"SUM(E90)","v":0}]
[null,null,null,"Machine Subtotal ",{"$f":"ROUND(SUM(G50:G88), 0)","v":0},{"$f":"F89","v":0}]
[null,"Discounts",null,null,null,{"$f":"SUM(F92)","v":0}]
[null,null,null,null,null,{"$f":"SUM(F93:F94)","v":0}]
[null,null,null,"Discount %",null,{"$f":"IF(E93 <> \"\", 1, 0)","v":0},{"$f":"IF(F93*(E93*0.01)*E89 < 0, F93*(E93*0.01)*E89, -(F93*(E93*0.01)*E89))","v":0}]
[null,null,null,"Discount $",null,{"$f":"IF(E94 <> \"\", 1, 0)","v":0},{"$f":"IF(F94*E94 < 0, F94*E94, -(F94*E94))","v":0}]
[null,null,null,"Discount Total ",{"$f":"SUM(G93:G94)","v":0},{"$f":"SUM(E95)","v":0}]
[null,null,null,null,{"$f":"#REF!","v":{"$error":"#REF!"}},{"$f":"#REF!","v":{"$error":"#REF!"}}]
[null,null,null,null,null,{"$f":"F96","v":{"$error":"#REF!"}}]
[null,null,"Prepaid and Add","Freight",null,{"$f":"IF(E98 <> \"\", 1, 0)","v":0},{"$f":"F98*E98","v":0}]
[null,null,"Subject to all applicable taxes","Tax",null,0,{"$f":"F99*E99","v":0}]
[null,null,null,null,null,{"$f":"SUM(F101)","v":0}]
[null,null,null,"MACHINE TOTAL*",null,{"$f":"SUM(G101)","v":0},{"$f":"SUM(G50:G99)","v":0},null,null,null,"This goes to \"My Documents\""]
[null,null,null,null,null,null,{"$f":"SUM(G101)","v":0}]
[null,"Financing"]
[]
[null,null,"Is customer interested in financing?","Yes"]
[]
[null,null,"If not, why?"]
[]
[]
[null,null,"First Western Equipment Finance - Leasing Calculation Option:","Option 1",null,"Option 2",null,null,null,{"$f":"Financing!A38","v":"Rates 2025 - Rev. 5/6/2025"}]
[null,null,null,"Monthly Payment","Cost Per Day","Monthly Payment","Cost Per Day",null,null,{"$f":"Financing!A39","v":"“Blank Payment Amounts Indicate The Financing Option Or Purchase Options Selected Are Not "}]
[null,null,"Purchase Option:","FWEF:  $1 Buyout Lease",null,"FWEF: Municipal Lease",null,null,null,{"$f":"Financing!A40","v":"Applicable Or The Machine Total Is Below The Minimum Amount For The Selected Vendor”"}]
[null,null,"24 Months",0,0,0,0,null,null,{"$f":"Financing!A41","v":"\"Quoted monthly payments are estimates only and are based on a certain level of credit rating."}]
[null,null,"30 Months",0,0,0,0,null,null,{"$f":"Financing!A42","v":"Actual monthly payments may be higher depending on your credit rating.\""}]
[null,null,"36 Months",0,0,0,0,null,null,{"$f":"Financing!A43","v":"“Financing rates do not include Pre-Paid Service”"}]
[null,null,"48 Months",0,0,0,0,null,{"$f":"Financing!A44","v":0}]
[]
[null,null,null,"Benefits of Equipment Financing:"]
[null,null,null,"• Spreads out investment over time.",null,"• Keep current with latest technology."]
[null,null,null,"• Preserve capital.",null,"• Service and parts bundling available."]
[null,null,null,"• Low monthly payment.",null,"• Pay for labor savings as you go."]
[]
[]
[null,null,"Bundled Offerings","Flexclean – Fair Market Value",null,"Flexclean - $1 Buyout"]
[null,null,"FlexClean: ","36 Month Term",null,"36 Month Term",null,null,"No","AB Brushes"]
[null,null,"Hours included per Month:","Gold","Silver","Gold","Silver","Check"]
[null,null,"< 30/mo. (Avg. 1hr./day)",null,null,null,null,null,{"$f":"FlexCleanCalc!$A21","v":"“FlexClean monthly rates include payment for both machine and service.”"}]
[null,null,"< 60/mo. (Avg. 2hrs./day)"]
[null,null,"< 90/mo. (Avg. 3hrs./day)"]
[null,null,"*This value assumes one service contract regardless of the number of UNITS included in the quote"]
[]
[]
[null,null,"Bundled Offerings","Flexclean – Fair Market Value",null,"Flexclean - $1 Buyout"]
[null,null,"FlexClean 2: ","48 Month Term",null,"48 Month Term"]
[null,null,"Hours included per Month:","Gold","Silver","Gold","Silver"]
[null,null,"< 30/mo. (Avg. 1hr./day)"]
[null,null,"< 60/mo. (Avg. 2hrs./day)"]
[null,null,"< 90/mo. (Avg. 3hrs./day)"]
[null,null,"*This value assumes one service contract regardless of the number of UNITS included in the quote"]
[]
[null,null,"Bundled Offerings","Flexclean – Fair Market Value",null,"Flexclean - $1 Buyout"]
[null,null,"FlexClean 3: ","60 Month Term",null,"60 Month Term"]
[null,null,"Hours included per Month:","Gold","Silver","Gold","Silver"]
[null,null,"< 30/mo. (Avg. 1hr./day)"]
[null,null,"< 60/mo. (Avg. 2hrs./day)"]
[null,null,"< 90/mo. (Avg. 3hrs./day)"]
[null,null,"*This value assumes one service contract regardless of the number of UNITS included in the quote"]
[]
[null,"   TennantTrue"]
[]
[null,null,"Is customer interested in service program?","Yes","*State/County selection required for TennantTrue service options"]
[]
[null,null,"If not, why?"]
[]
[null,null,"Term:",36,null,"AB Brushes","No"]
[null,null,"Monthly machine usage (hrs):","< 30/mo. (Avg. 1hr./day)"]
[]
[null,null,"TennantTrue: ","Gold Contract",null,"Silver Contract"]
[null,null,"Per Visit",null,null,473]
[null,null,"Monthly",208,null,99]
[null,null,"Annually",null,null,1160]
[null,null,"Pre-Pay Full Term",7200,null,3411]
[null,null,"Hourly Labor Rate"]
[null,null,"Site Visit"]
[]
[null,null,"* Verify customer current pricing prior to quote. "]
[null,null,"**All rates and fees above reflect service for one (1) unit with the exception of Block of Time service."]
[null,null,"*Block of Time is available in 1 Year Term only and is priced as such no matter the term selection on this template."]
[]
[null,null,null,0,0]
[]
[null,"Quote Special Instructions:"]
[]
[]
[null,{"$f":"Start_Here!E36","v":"Terms and Conditions"}]
[null,{"$f":"Start_Here!E37","v":"Ask your local sales rep for estimated lead times. Verify when placing order"}]
[null,{"$f":"Start_Here!E38","v":"All orders subject to acceptance by Tennant Sales and Service Company, Minneapolis, Minnesota"}]
[null,{"$f":"Start_Here!E39","v":"Prices subject to change without notice."}]
[null,{"$f":"Start_Here!E40","v":"Terms:  Net 30 days.  Subject to any applicable taxes."}]
[null,{"$f":"Start_Here!E41","v":"Freight: Machines and accessory orders delivered FOB shipping point Frt PPD & Add"}]
[null,{"$f":"Start_Here!E42","v":"Parts, supplies, detergents and floor treating material orders delivered FOB "}]
[null,{"$f":"Start_Here!E43","v":"shipping point Frt PPD"}]
[null,{"$f":"Start_Here!E44","v":"All orders are subject to Tennant’s General Terms and Conditions available at http://www.tennantco.com/terms."}]
[null,{"$f":"Start_Here!E45","v":"Printed General Terms and Conditions are also available upon request."}]
[null,{"$f":"Start_Here!E46","v":0}]
[]
[null,null,null,null,"Quote Date :",null,{"$f":"Letter!$A$25","v":"2020-09-22"}]
["Order Placement Information:  To place your order, fill in PO# and customer signatures,"]
["call or fax to the numbers listed below. Customer Purchase Order is required."]
["If information is missing, orders will be entered and held until all information is received."]
[]
[null,null,"Customer Number",null,"Cust Grp 3"]
[null,null,{"$f":"Start_Here!$C$25","v":0},null,{"$f":"Start_Here!$C$29","v":0}]
[null,null,{"$f":"Start_Here!$B$18","v":"Who Owns the Machine? (Sold-To Info) (Please Verify)"}]
["Company",null,{"$f":"Start_Here!$C$19","v":"Company Name"}]
["Address",null,{"$f":"Start_Here!$C$20","v":"Address"}]
[null,null,{"$f":"Start_Here!$C$21","v":"City, State Zip"}]
["Name",null,{"$f":"Start_Here!$C$22","v":"Contact Name"}]
["Phone",null,{"$f":"Start_Here!$C$23","v":"Contact Phone"}]
[null,null,{"$f":"Start_Here!$B$11","v":"Where is the Machine Being Shipped? (Ship-To Info) (Please Verify)"}]
["Company",null,{"$f":"Start_Here!$C$12","v":"Company Name"}]
["Address",null,{"$f":"Start_Here!$C$13","v":"Address"}]
[null,null,{"$f":"Start_Here!$C$14","v":"City, State Zip"}]
["Name",null,{"$f":"Start_Here!$C$15","v":"Contact Name"}]
["Phone",null,{"$f":"Start_Here!$C$16","v":"Contact Phone"}]
[null,null,{"$f":"Start_Here!$B$31","v":"Shipping / Carrier Instructions:"},null,"Order Special Instructions:"]
[null,null,{"$f":"Start_Here!$C$32","v":0}]
[]
[null,null,"Customer Purchase Order No."]
[null,null,"(please attach copy)"]
[]
[]
[null,null,"Tax Exempt",null,"Yes"]
[null,null,null,null,"No"]
[null,null,"If Yes, attach a copy of your exemption certificate."]
[]
[null,null,"Requested Delivery Date"]
[null,null,{"$f":"Start_Here!$C$28","v":0}]
[]
[null,null,{"$f":"Start_Here!$C$26","v":0},null,{"$f":"Start_Here!$C$27","v":0}]
[null,0,"Authorized Buyer (please print)",null,"Phone Number"]
[]
[]
[null,0,"Authorized Buyer Signature"]
[]
[null,null,{"$f":"Start_Here!$C$41","v":"Rep Name"}]
[null,null,"Tennant Representative"]
[]
[null,null,null,"Specialized Maintenance Equipment"]
[null,null,{"$f":"Start_Here!$C$48","v":"TENNANT · 10400 Clean Street · Eden Prairie, MN 55344 ·"}]
[null,null,null,{"$f":"Start_Here!$C$49","v":" PHONE:800-553-8033 · FAX:763-513-2116"}]
[]
[]
[null,"SPECIAL INFORMATION"]
[]
[null,"Notes"]
[]
[null,1,"Natural Fiber Brush is mandator when the Carpet Care Package is selected."]
[]
[null,2,"Pad wrap available only in the Continental US and is the default packaging method."]
[null,null,"Customer MUST order Skid w/Carton, Non-Stackable if WITHOUT BATTERY is selected."]
[null,null,"Skid w/Carton, Non-Stackable is mandatory when shipping to AK and HI."]
[]
[null,3,"Shipping Weights and Dimensions","Crate"]
[]
[null,null,"Weight","184 Kg / 406 lbs"]
[null,null,"Length","1530 mm / 61\""]
[null,null,"Width","950 mm / 38\""]
[null,null,"Height","1460 mm / 58\""]

{"sheet":"S880","index":23,"n_rows":243,"n_cols":17,"rows_kept":243,"cut":false,"hidden":false,"merged":[[105,3,105,4],[105,5,105,6],[0,2,0,3],[1,2,1,3],[2,2,2,3],[3,2,3,3],[28,2,28,6],[29,2,29,6],[30,2,30,6],[31,2,31,6],[32,2,32,6],[33,2,33,6],[102,3,102,6],[107,3,107,4],[107,5,107,6],[119,3,119,4],[119,5,119,6],[120,3,120,4],[120,5,120,6],[151,3,151,4],[128,3,128,4],[128,5,128,6],[129,3,129,4],[129,5,129,6],[136,3,136,4],[136,5,136,6],[137,3,137,4],[137,5,137,6],[146,4,146,8],[148,3,148,6],[150,3,150,4],[153,3,153,4],[153,5,153,6],[154,3,154,4],[154,5,154,6],[155,3,155,4],[155,5,155,6],[190,2,190,5],[156,3,156,4],[156,5,156,6],[157,3,157,4],[157,5,157,6],[158,3,158,4],[158,5,158,6],[159,3,159,4],[159,5,159,6],[168,1,168,6],[187,4,187,6],[188,4,188,7],[215,4,215,5],[191,2,191,5],[192,2,192,5],[193,2,193,5],[194,2,194,5],[196,2,196,5],[197,2,197,5],[198,2,198,5],[199,2,199,5],[200,2,200,5],[202,4,202,7],[206,2,206,5]]}
["S880",null,{"$f":"Start_Here!$C19","v":"Company Name"}]
[{"$f":"SUM(G97)","v":0},null,{"$f":"Start_Here!$C20","v":"Address"}]
[null,null,{"$f":"Start_Here!$C21","v":"City, State Zip"}]
[null,null,{"$f":"Start_Here!$C22","v":"Contact Name"}]
[null,null,{"$f":"Start_Here!$C$41","v":"Rep Name"}]
[null,null,{"$f":"Start_Here!$C$37","v":"Tennant Sales and Service Company"}]
[null,null,{"$f":"Start_Here!$C$38","v":"10400 Clean Street"}]
[null,null,{"$f":"Start_Here!$C$39","v":"Eden Prairie, MN 55344"}]
[null,null,{"$f":"Start_Here!$C$43","v":"800-553-8033"},null,"Quote Date :",null,{"$f":"Letter!$A$25","v":"2020-09-22"}]
[]
[null,null,{"$f":"Help!C2","v":"US Date Rev - 5/6/2025"}]
[null,null,"                                                               BUILT-IN \"TENNANT VALUE\" INCLUDES:"]
[]
[null,"48\" (1200 mm) Sweep Path",null,"Hour Meter"]
[null,"2.4 ft3 / 67L High-Dump Hopper Volume Capacity",null,"Low Effort Steering"]
[null,"Corrosion-Proof Shrouds",null,"Adjustable Side Brush RPM"]
[null,"Front Corner Rollers",null,"360o Visibility"]
[null,"Front Bumpers",null,"Seat occupancy interlock safety switch"]
[null,"Flap and Trap Debris Pedal",null,"Amber Strobe Light"]
[null,"High Visibility Operation Decals",null,"Thermo-Sentry™ Hopper Fire Sensor"]
[null,"Horn",null,"Wet 225AH C/20 Batteries"]
[null,"Retractable Side Brush Assemblies",null,"27A 85-270V AC 50/60Hz 1Ph Charger"]
[null,"Standard Main Sweeping Brush (Select One)",null,"Battery Discharge Indicator"]
[null,"Standard Dual Side Sweeping Brushes",null,"Power Shutdown Switch"]
[null,"No-Tool Main Brush Change",null,"Operator Manual"]
[null," "]
[]
[]
[null,null,"TENNANT COMPANY WARRANTY"]
[null,null,"2 YEARS OR 1000 HOURS - PARTS"]
[null,null,"6 MONTHS - LABOR"]
[null,null,"6 MONTHS - TRAVEL"]
[null,null,"10 YEARS ON DURAMERTM HOPPER"]
[]
[]
[null,null,null,null,"                Quote Request Information"]
[null,null,null,null,null,null,"Fax (quote only)"]
[null,null,null,null,null,null,"Mail (quote,lit, specs)"]
[null,null,null,null,null,null,"Fax + Mail"]
[]
[null,null,null,null,"                Primary Use"]
[null,null,null,null,null,null,"Inside"]
[null,null,null,null,null,null,"Outside"]
[]
[]
[null,null,"Description","Reference # ","Price Each","Qty","Extended Price"]
[null,"Base Configuration",null,null,null,{"$f":"SUM(F48,F51,F56)","v":0}]
[null,null,"Cleaning Type",null,null,{"$f":"SUM(F49)","v":0},null,null,null,null,null,{"$f":"SUM(F48)","v":0},"Surcharge Qty"]
[null,null,"S880 Ride-On Sweeper 1200 mm/48\" w/ Dual Side Brushes","S880_1200",24497,null,{"$f":"F49*E49","v":0},{"$f":"IFERROR(IFERROR(VLOOKUP(D49,Surcharge!A:B,2,FALSE)*F49, VLOOKUP(D49 & \"\",Surcharge!A:B,2,FALSE)*F49), \"\")","v":""},null,null,null,null,null,null,null,{"$f":"VLOOKUP(Q49,'MPF SAP Download (2)'!A:E,5,FALSE)","v":24171},"M-6100VK_BASE_6100-BTY"]
[null,null,null,null,null,null,null,{"$f":"IFERROR(IFERROR(VLOOKUP(D50,Surcharge!A:B,2,FALSE)*F50, VLOOKUP(D50 & \"\",Surcharge!A:B,2,FALSE)*F50), \"\")","v":""}]
[null,null,"Battery Type",null,null,{"$f":"SUM(F52:F54)","v":0},null,{"$f":"IFERROR(IFERROR(VLOOKUP(D51,Surcharge!A:B,2,FALSE)*F51, VLOOKUP(D51 & \"\",Surcharge!A:B,2,FALSE)*F51), \"\")","v":""}]
[null,null,"Wet 225AH C/20",9022613,"N/C",null,{"$f":"IF(F52=0,\" \",\"N/C\")","v":" "},{"$f":"IFERROR(IFERROR(VLOOKUP(D52,Surcharge!A:B,2,FALSE)*F52, VLOOKUP(D52 & \"\",Surcharge!A:B,2,FALSE)*F52), \"\")","v":""},null,null,null,null,null,null,null,{"$f":"VLOOKUP(Q52,'MPF SAP Download (2)'!A:E,5,FALSE)","v":"N/C"},"M-6100VK_BTY_W225C20"]
[null,null,"Sealed/MF AGM 245AH C/20",9022614,1190,null,{"$f":"F53*E53","v":0},{"$f":"IFERROR(IFERROR(VLOOKUP(D53,Surcharge!A:B,2,FALSE)*F53, VLOOKUP(D53 & \"\",Surcharge!A:B,2,FALSE)*F53), \"\")","v":""},null,null,null,null,null,null,null,{"$f":"VLOOKUP(Q53,'MPF SAP Download (2)'!A:E,5,FALSE)","v":2833},"M-6100VK_BTY_G180C20"]
[null,null,"Without Battery","LESS BATTERY",-450,null,{"$f":"F54*E54","v":0},{"$f":"IFERROR(IFERROR(VLOOKUP(D54,Surcharge!A:B,2,FALSE)*F54, VLOOKUP(D54 & \"\",Surcharge!A:B,2,FALSE)*F54), \"\")","v":""},null,null,null,null,null,null,null,{"$f":"VLOOKUP(Q54,'MPF SAP Download (2)'!A:E,5,FALSE)","v":-496},"M-6100VK_BTY_WO"]
[]
[null,null,"Charger",null,null,{"$f":"SUM(F57:F58)","v":0},null,{"$f":"IFERROR(IFERROR(VLOOKUP(D56,Surcharge!A:B,2,FALSE)*F56, VLOOKUP(D56 & \"\",Surcharge!A:B,2,FALSE)*F56), \"\")","v":""},null,null,null,null,null,null,null,null,""]
[null,null,"27A 85-270V AC 50/60Hz 1Ph - Off Board",9015391,"N/C",null,{"$f":"IF(F57=0,\" \",\"N/C\")","v":" "},{"$f":"IFERROR(IFERROR(VLOOKUP(D57,Surcharge!A:B,2,FALSE)*F57, VLOOKUP(D57 & \"\",Surcharge!A:B,2,FALSE)*F57), \"\")","v":""},null,null,null,null,null,null,null,{"$f":"VLOOKUP(Q57,'MPF SAP Download (2)'!A:E,5,FALSE)","v":847},"M-6100VK_BTYWTRSYS"]
[null,null,"Without Charger","LESS CHARGER",-270,null,{"$f":"F58*E58","v":0},{"$f":"IFERROR(IFERROR(VLOOKUP(D58,Surcharge!A:B,2,FALSE)*F58, VLOOKUP(D58 & \"\",Surcharge!A:B,2,FALSE)*F58), \"\")","v":""}]
[]
[null,"Brushes and Pads",null,"Reference Number",null,{"$f":"SUM(F61,F66)","v":0},null,{"$f":"IFERROR(IFERROR(VLOOKUP(D60,Surcharge!A:B,2,FALSE)*F60, VLOOKUP(D60 & \"\",Surcharge!A:B,2,FALSE)*F60), \"\")","v":""}]
[null,null,"Main Sweeping Brushes",null,null,{"$f":"SUM(F62:F64)","v":0},null,{"$f":"IFERROR(IFERROR(VLOOKUP(D61,Surcharge!A:B,2,FALSE)*F61, VLOOKUP(D61 & \"\",Surcharge!A:B,2,FALSE)*F61), \"\")","v":""},null,null,null,null,null,null,null,{"$f":"VLOOKUP(Q61,'MPF SAP Download (2)'!A:E,5,FALSE)","v":7783},"M-6100VK_SLADSTFLTPKG_RH"]
[null,null,"Polypropylene Brush",9022622,"N/C",null,{"$f":"IF(F62=0,\" \",\"N/C\")","v":" "},{"$f":"IFERROR(IFERROR(VLOOKUP(D62,Surcharge!A:B,2,FALSE)*#REF!, VLOOKUP(D62 & \"\",Surcharge!A:B,2,FALSE)*#REF!), \"\")","v":""}]
[null,null,"Polypropylene and Wire Brush",9022624,"N/C",null," ",null,null,null,null,null,null,null,null,{"$f":"VLOOKUP(Q63,'MPF SAP Download (2)'!A:E,5,FALSE)","v":8445},"M-6100VK_SLADSTFLTPKG_D"]
[null,null,"Natural Fiber Brush",9022623,182,null,{"$f":"F64*E64","v":0},{"$f":"IFERROR(IFERROR(VLOOKUP(D64,Surcharge!A:B,2,FALSE)*#REF!, VLOOKUP(D64 & \"\",Surcharge!A:B,2,FALSE)*#REF!), \"\")","v":""}]
[null,null,null,null,null,null,null,{"$f":"IFERROR(IFERROR(VLOOKUP(D65,Surcharge!A:B,2,FALSE)*F62, VLOOKUP(D65 & \"\",Surcharge!A:B,2,FALSE)*F62), \"\")","v":""}]
[null,null,"Side Sweeping Brushes",null,null,{"$f":"SUM(F67)","v":0},null,{"$f":"IFERROR(IFERROR(VLOOKUP(D66,Surcharge!A:B,2,FALSE)*F63, VLOOKUP(D66 & \"\",Surcharge!A:B,2,FALSE)*F63), \"\")","v":""}]
[null,null,"Polypropylene Brush",null,"N/C",null,{"$f":"IF(F67=0,\" \",\"N/C\")","v":" "},{"$f":"IFERROR(IFERROR(VLOOKUP(D67,Surcharge!A:B,2,FALSE)*F64, VLOOKUP(D67 & \"\",Surcharge!A:B,2,FALSE)*F64), \"\")","v":""},null,null,null,null,null,null,null,{"$f":"VLOOKUP(Q67,'MPF SAP Download (2)'!A:E,5,FALSE)","v":1196},"M-6100VK_SDEBRSLOC_D"]
[null,null,null,null,null,null,null,{"$f":"IFERROR(IFERROR(VLOOKUP(D68,Surcharge!A:B,2,FALSE)*F68, VLOOKUP(D68 & \"\",Surcharge!A:B,2,FALSE)*F68), \"\")","v":""},null,null,null,null,null,null,null,{"$f":"VLOOKUP(Q68,'MPF SAP Download (2)'!A:E,5,FALSE)","v":1246},"M-6100VK_SDEBRSDSTCTL_D_RH"]
[null,"Support",null,null,null,{"$f":"SUM(F70)","v":0},null,{"$f":"IFERROR(IFERROR(VLOOKUP(D69,Surcharge!A:B,2,FALSE)*F69, VLOOKUP(D69 & \"\",Surcharge!A:B,2,FALSE)*F69), \"\")","v":""},null,null,null,null,null,null,null,{"$f":"VLOOKUP(Q69,'MPF SAP Download (2)'!A:E,5,FALSE)","v":1909},"M-6100VK_SDEBRSDSTCTL_D_D"]
[null,null,"Standard Warranty",null,"N/C",null,{"$f":"IF(F70=0,\" \",\"N/C\")","v":" "},{"$f":"IFERROR(IFERROR(VLOOKUP(D70,Surcharge!A:B,2,FALSE)*F70, VLOOKUP(D70 & \"\",Surcharge!A:B,2,FALSE)*F70), \"\")","v":""},null,null,null,null,null,null,null,{"$f":"VLOOKUP(Q70,'MPF SAP Download (2)'!A:E,5,FALSE)","v":2335},"M-6100VK_PWRVACWND_VACWNDHP"]
[null,null,null,null,null,null,null,{"$f":"IFERROR(IFERROR(VLOOKUP(D71,Surcharge!A:B,2,FALSE)*F71, VLOOKUP(D71 & \"\",Surcharge!A:B,2,FALSE)*F71), \"\")","v":""},null,null,null,null,null,null,null,{"$f":"VLOOKUP(Q71,'MPF SAP Download (2)'!A:E,5,FALSE)","v":5331},"M-6100VK_PWRVACWND_VACWNDHP_ON"]
[null,null,"Packaging  (Note 1)",null,null,{"$f":"SUM(F73:F74)","v":0},null,{"$f":"IFERROR(IFERROR(VLOOKUP(D72,Surcharge!A:B,2,FALSE)*F72, VLOOKUP(D72 & \"\",Surcharge!A:B,2,FALSE)*F72), \"\")","v":""},null,null,null,null,null,null,null,{"$f":"VLOOKUP(Q72,'MPF SAP Download (2)'!A:E,5,FALSE)","v":2017},"M-6100VK_PWRVACWND_VACWND"]
[null,null,"Pad Wrap",9022626,"N/C",null,{"$f":"IF(F73=0,\" \",\"N/C\")","v":" "},{"$f":"IFERROR(IFERROR(VLOOKUP(D73,Surcharge!A:B,2,FALSE)*F73, VLOOKUP(D73 & \"\",Surcharge!A:B,2,FALSE)*F73), \"\")","v":""},null,null,null,null,null,null,null,{"$f":"VLOOKUP(Q73,'MPF SAP Download (2)'!A:E,5,FALSE)","v":5017},"M-6100VK_PWRVACWND_VACWND_ON"]
[null,null,"Skid w/Carton, Non-Stackable",9022625,595,null,{"$f":"F74*E74","v":0},{"$f":"IFERROR(IFERROR(VLOOKUP(D74,Surcharge!A:B,2,FALSE)*F74, VLOOKUP(D74 & \"\",Surcharge!A:B,2,FALSE)*F74), \"\")","v":""},null,null,null,null,null,null,null,{"$f":"VLOOKUP(Q74,'MPF SAP Download (2)'!A:E,5,FALSE)","v":6542},"M-6100VK_FLRSYS_HEPA"]
[null,null,null,null,null,null,null,{"$f":"IFERROR(IFERROR(VLOOKUP(D75,Surcharge!A:B,2,FALSE)*F75, VLOOKUP(D75 & \"\",Surcharge!A:B,2,FALSE)*F75), \"\")","v":""}]
[]
[null,null,null,null,null,{"$f":"SUM(#REF!)","v":{"$error":"#REF!"}}]
[]
[null,"Custom Solution--write in description, qty, price, and PN if applicable",null,null,null,{"$f":"SUM(E80)","v":0}]
[null,null,null,"Insert Prices Here",{"$f":"SUM(F81:F84)","v":0}]
[null,null,null,"Custom",null,{"$f":"IF(E81 <> \"\", 1, 0)","v":0},{"$f":"F81*E81","v":0}]
[null,null,null,"Custom",null,{"$f":"IF(E82 <> \"\", 1, 0)","v":0},{"$f":"F82*E82","v":0}]
[null,null,null,"Custom",null,0,{"$f":"F83*E83","v":0}]
[null,null,null,"Custom",null,0,{"$f":"F84*E84","v":0}]
[null,null,null,null,{"$f":"ROUND(SUM(G49:G84), 0)","v":0},{"$f":"SUM(E86)","v":0}]
[null,null,null,"Machine Subtotal ",{"$f":"ROUND(SUM(G49:G84), 0)","v":0},{"$f":"F85","v":0}]
[null,"Discounts",null,null,null,{"$f":"SUM(F88)","v":0}]
[null,null,null,null,null,{"$f":"SUM(F89:F90)","v":0}]
[null,null,null,"Discount %",null,{"$f":"IF(E89 <> \"\", 1, 0)","v":0},{"$f":"IF(F89*(E89*0.01)*E85 < 0, F89*(E89*0.01)*E85, -(F89*(E89*0.01)*E85))","v":0}]
[null,null,null,"Discount $",null,{"$f":"IF(E90 <> \"\", 1, 0)","v":0},{"$f":"IF(F90*E90 < 0, F90*E90, -(F90*E90))","v":0}]
[null,null,null,"Discount Total ",{"$f":"SUM(G89:G90)","v":0},{"$f":"SUM(E91)","v":0}]
[null,null,null,null,{"$f":"#REF!","v":{"$error":"#REF!"}},{"$f":"#REF!","v":{"$error":"#REF!"}}]
[null,null,null,null,null,{"$f":"F92","v":{"$error":"#REF!"}}]
[null,null,"Prepaid and Add","Freight",null,{"$f":"IF(E94 <> \"\", 1, 0)","v":0},{"$f":"F94*E94","v":0}]
[null,null,"Subject to all applicable taxes","Tax",null,0,{"$f":"F95*E95","v":0}]
[null,null,null,null,null,{"$f":"SUM(F97)","v":0}]
[null,null,null,"MACHINE TOTAL*",null,{"$f":"SUM(G97)","v":0},{"$f":"SUM(G49:G95)","v":0},null,null,null,"This goes to \"My Documents\""]
[null,null,null,null,null,null,{"$f":"SUM(G97)","v":0}]
[null,"Financing"]
[]
[null,null,"Is customer interested in financing?","Yes"]
[]
[null,null,"If not, why?"]
[]
[]
[null,null,"First Western Equipment Finance - Leasing Calculation Option:","Option 1",null,"Option 2",null,null,null,{"$f":"Financing!A38","v":"Rates 2025 - Rev. 5/6/2025"}]
[null,null,null,"Monthly Payment","Cost Per Day","Monthly Payment","Cost Per Day",null,null,{"$f":"Financing!A39","v":"“Blank Payment Amounts Indicate The Financing Option Or Purchase Options Selected Are Not "}]
[null,null,"Purchase Option:","FWEF:  $1 Buyout Lease",null,"FWEF: Municipal Lease",null,null,null,{"$f":"Financing!A40","v":"Applicable Or The Machine Total Is Below The Minimum Amount For The Selected Vendor”"}]
[null,null,"24 Months",0,0,0,0,null,null,{"$f":"Financing!A41","v":"\"Quoted monthly payments are estimates only and are based on a certain level of credit rating."}]
[null,null,"30 Months",0,0,0,0,null,null,{"$f":"Financing!A42","v":"Actual monthly payments may be higher depending on your credit rating.\""}]
[null,null,"36 Months",0,0,0,0,null,null,{"$f":"Financing!A43","v":"“Financing rates do not include Pre-Paid Service”"}]
[null,null,"48 Months",0,0,0,0,null,{"$f":"Financing!A44","v":0}]
[]
[null,null,null,"Benefits of Equipment Financing:"]
[null,null,null,"• Spreads out investment over time.",null,"• Keep current with latest technology."]
[null,null,null,"• Preserve capital.",null,"• Service and parts bundling available."]
[null,null,null,"• Low monthly payment.",null,"• Pay for labor savings as you go."]
[]
[]
[null,null,"Bundled Offerings","Flexclean – Fair Market Value",null,"Flexclean - $1 Buyout"]
[null,null,"FlexClean: ","36 Month Term",null,"36 Month Term",null,null,"No","AB Brushes"]
[null,null,"Hours included per Month:","Gold","Silver","Gold","Silver","Check"]
[null,null,"< 30/mo. (Avg. 1hr./day)",null,null,null,null,null,{"$f":"FlexCleanCalc!$A21","v":"“FlexClean monthly rates include payment for both machine and service.”"}]
[null,null,"< 60/mo. (Avg. 2hrs./day)"]
[null,null,"< 90/mo. (Avg. 3hrs./day)"]
[null,null,"*This value assumes one service contract regardless of the number of UNITS included in the quote"]
[]
[]
[null,null,"Bundled Offerings","Flexclean – Fair Market Value",null,"Flexclean - $1 Buyout"]
[null,null,"FlexClean 2: ","48 Month Term",null,"48 Month Term"]
[null,null,"Hours included per Month:","Gold","Silver","Gold","Silver"]
[null,null,"< 30/mo. (Avg. 1hr./day)"]
[null,null,"< 60/mo. (Avg. 2hrs./day)"]
[null,null,"< 90/mo. (Avg. 3hrs./day)"]
[null,null,"*This value assumes one service contract regardless of the number of UNITS included in the quote"]
[]
[null,null,"Bundled Offerings","Flexclean – Fair Market Value",null,"Flexclean - $1 Buyout"]
[null,null,"FlexClean 3: ","60 Month Term",null,"60 Month Term"]
[null,null,"Hours included per Month:","Gold","Silver","Gold","Silver"]
[null,null,"< 30/mo. (Avg. 1hr./day)"]
[null,null,"< 60/mo. (Avg. 2hrs./day)"]
[null,null,"< 90/mo. (Avg. 3hrs./day)"]
[null,null,"*This value assumes one service contract regardless of the number of UNITS included in the quote"]
[]
[null,"   TennantTrue"]
[]
[null,null,"Is customer interested in service program?","Yes","*State/County selection required for TennantTrue service options"]
[]
[null,null,"If not, why?"]
[]
[null,null,"Term:",36,null,"AB Brushes","No"]
[null,null,"Monthly machine usage (hrs):","< 30/mo. (Avg. 1hr./day)"]
[]
[null,null,"TennantTrue: ","Gold Contract",null,"Silver Contract"]
[null,null,"Per Visit",null,null,473]
[null,null,"Monthly",208,null,99]
[null,null,"Annually",null,null,1160]
[null,null,"Pre-Pay Full Term",7200,null,3411]
[null,null,"Hourly Labor Rate"]
[null,null,"Site Visit"]
[]
[null,null,"* Verify customer current pricing prior to quote. "]
[null,null,"**All rates and fees above reflect service for one (1) unit with the exception of Block of Time service."]
[null,null,"*Block of Time is available in 1 Year Term only and is priced as such no matter the term selection on this template."]
[]
[null,null,null,0,0]
[]
[null,"Quote Special Instructions:"]
[]
[]
[null,{"$f":"Start_Here!E36","v":"Terms and Conditions"}]
[null,{"$f":"Start_Here!E37","v":"Ask your local sales rep for estimated lead times. Verify when placing order"}]
[null,{"$f":"Start_Here!E38","v":"All orders subject to acceptance by Tennant Sales and Service Company, Minneapolis, Minnesota"}]
[null,{"$f":"Start_Here!E39","v":"Prices subject to change without notice."}]
[null,{"$f":"Start_Here!E40","v":"Terms:  Net 30 days.  Subject to any applicable taxes."}]
[null,{"$f":"Start_Here!E41","v":"Freight: Machines and accessory orders delivered FOB shipping point Frt PPD & Add"}]
[null,{"$f":"Start_Here!E42","v":"Parts, supplies, detergents and floor treating material orders delivered FOB "}]
[null,{"$f":"Start_Here!E43","v":"shipping point Frt PPD"}]
[null,{"$f":"Start_Here!E44","v":"All orders are subject to Tennant’s General Terms and Conditions available at http://www.tennantco.com/terms."}]
[null,{"$f":"Start_Here!E45","v":"Printed General Terms and Conditions are also available upon request."}]
[null,{"$f":"Start_Here!E46","v":0}]
[]
[null,null,null,null,"Quote Date :",null,{"$f":"Letter!$A$25","v":"2020-09-22"}]
["Order Placement Information:  To place your order, fill in PO# and customer signatures,"]
["call or fax to the numbers listed below. Customer Purchase Order is required."]
["If information is missing, orders will be entered and held until all information is received."]
[]
[null,null,"Customer Number",null,"Cust Grp 3"]
[null,null,{"$f":"Start_Here!$C$25","v":0},null,{"$f":"Start_Here!$C$29","v":0}]
[null,null,{"$f":"Start_Here!$B$18","v":"Who Owns the Machine? (Sold-To Info) (Please Verify)"}]
["Company",null,{"$f":"Start_Here!$C$19","v":"Company Name"}]
["Address",null,{"$f":"Start_Here!$C$20","v":"Address"}]
[null,null,{"$f":"Start_Here!$C$21","v":"City, State Zip"}]
["Name",null,{"$f":"Start_Here!$C$22","v":"Contact Name"}]
["Phone",null,{"$f":"Start_Here!$C$23","v":"Contact Phone"}]
[null,null,{"$f":"Start_Here!$B$11","v":"Where is the Machine Being Shipped? (Ship-To Info) (Please Verify)"}]
["Company",null,{"$f":"Start_Here!$C$12","v":"Company Name"}]
["Address",null,{"$f":"Start_Here!$C$13","v":"Address"}]
[null,null,{"$f":"Start_Here!$C$14","v":"City, State Zip"}]
["Name",null,{"$f":"Start_Here!$C$15","v":"Contact Name"}]
["Phone",null,{"$f":"Start_Here!$C$16","v":"Contact Phone"}]
[null,null,{"$f":"Start_Here!$B$31","v":"Shipping / Carrier Instructions:"},null,"Order Special Instructions:"]
[null,null,{"$f":"Start_Here!$C$32","v":0}]
[]
[null,null,"Customer Purchase Order No."]
[null,null,"(please attach copy)"]
[]
[]
[null,null,"Tax Exempt",null,"Yes"]
[null,null,null,null,"No"]
[null,null,"If Yes, attach a copy of your exemption certificate."]
[]
[null,null,"Requested Delivery Date"]
[null,null,{"$f":"Start_Here!$C$28","v":0}]
[]
[null,null,{"$f":"Start_Here!$C$26","v":0},null,{"$f":"Start_Here!$C$27","v":0}]
[null,0,"Authorized Buyer (please print)",null,"Phone Number"]
[]
[]
[null,0,"Authorized Buyer Signature"]
[]
[null,null,{"$f":"Start_Here!$C$41","v":"Rep Name"}]
[null,null,"Tennant Representative"]
[]
[null,null,null,"Specialized Maintenance Equipment"]
[null,null,{"$f":"Start_Here!$C$48","v":"TENNANT · 10400 Clean Street · Eden Prairie, MN 55344 ·"}]
[null,null,null,{"$f":"Start_Here!$C$49","v":" PHONE:800-553-8033 · FAX:763-513-2116"}]
[]
[]
[null,"SPECIAL INFORMATION"]
[]
[null,"Notes"]
[]
[null,1,"Pad wrap available only in the Continental US and is the default packaging method."]
[null,null,"Customer MUST order Skid w/Carton, Non-Stackable if WITHOUT BATTERY is selected."]
[null,null,"Skid w/Carton, Non-Stackable is mandatory when shipping to AK and HI."]
[]
[null,2,"Shipping Weights and Dimensions","Pad Wrap","Crate"]
[]
[null,null,"Weight","336 Kg / 741 lbs","348 Kg / 768 lbs"]
[null,null,"Length","1550 mm / 63\"","1730 mm / 69\""]
[null,null,"Width","905 mm / 36\"","1080 mm / 43\""]
[null,null,"Height","1210 mm / 48\"","1360 mm / 54\""]

{"sheet":"S10","index":24,"n_rows":244,"n_cols":16,"rows_kept":244,"cut":false,"hidden":false,"merged":[[154,3,154,4],[154,5,154,6],[155,3,155,4],[151,3,151,4],[151,5,151,6],[152,3,152,4],[152,5,152,6],[153,3,153,4],[153,5,153,6],[155,5,155,6],[148,3,148,4],[134,3,134,4],[134,5,134,6],[150,3,150,4],[150,5,150,6],[116,3,116,4],[116,5,116,6],[117,5,117,6],[117,3,117,4],[12,1,12,5],[24,1,24,5],[25,1,25,5],[26,1,26,5],[104,5,104,6],[99,3,99,6],[102,3,102,4],[102,5,102,6],[104,3,104,4],[126,5,126,6],[133,3,133,4],[133,5,133,6],[143,4,143,8],[147,3,147,4],[145,3,145,6],[199,4,199,7],[212,4,212,5],[0,2,0,3],[1,2,1,3],[2,2,2,3],[3,2,3,3],[184,4,184,6],[187,2,187,5],[195,2,195,5],[196,2,196,5],[197,2,197,5],[203,2,203,5],[125,3,125,4],[125,5,125,6],[126,3,126,4],[194,2,194,5],[156,3,156,4],[156,5,156,6],[185,4,185,7],[193,2,193,5],[191,2,191,5],[165,1,165,6],[188,2,188,5],[189,2,189,5],[190,2,190,5]]}
["S10",null,{"$f":"Start_Here!$C19","v":"Company Name"}]
[{"$f":"SUM(G94)","v":0},null,{"$f":"Start_Here!$C20","v":"Address"}]
[null,null,{"$f":"Start_Here!$C21","v":"City, State Zip"}]
[null,null,{"$f":"Start_Here!$C22","v":"Contact Name"}]
[null,null,{"$f":"Start_Here!$C$41","v":"Rep Name"}]
[null,null,{"$f":"Start_Here!$C$37","v":"Tennant Sales and Service Company"}]
[null,null,{"$f":"Start_Here!$C$38","v":"10400 Clean Street"}]
[null,null,{"$f":"Start_Here!$C$39","v":"Eden Prairie, MN 55344"}]
[null,null,{"$f":"Start_Here!$C$43","v":"800-553-8033"},null,"Quote Date :",null,{"$f":"Letter!$A$25","v":"2020-09-22"}]
[]
[null,null,{"$f":"Help!C2","v":"US Date Rev - 5/6/2025"}]
[]
[null,"BUILT-IN “TENNANT VALUE” INCLUDES:"]
[]
[null,"Steel Wrap Around Bumper",null,"Thermo-Sentry™"]
[null,"Ergonomic Handle and Controls",null,"Free-Floating Hopper"]
[null,"Fully Variable Forward/Reverse Speed Control",null,"Utility/Storage Box"]
[null,"Panel Filter with Automatic Timed Shaker",null,"Hour Meter"]
[null,"155 AH Batteries (qty. 2)",null,"Key Switch"]
[null,"On Board \"Smart\" Charger with Charge Indicator",null,"Easy Access, Removable Side Panels"]
[null,"Battery Discharge Indicator",null,"Filter Shaker Overide Switch"]
[null,"Parking Brake"]
[]
[]
[null,"TENNANT COMPANY WARRANTY"]
[null,"36 MONTHS OR 2000 HOURS - PARTS"]
[null,"6 MONTHS LABOR AND TRAVEL"]
[]
[]
[]
[]
[null,null,null,null,"                Quote Request Information"]
[null,null,null,null,null,null,"Fax (quote only)"]
[null,null,null,null,null,null,"Mail (quote,lit, specs)"]
[null,null,null,null,null,null,"Fax + Mail"]
[]
[null,null,null,null,"                Primary Use"]
[null,null,null,null,null,null,"Inside"]
[null,null,null,null,null,null,"Outside"]
[]
[]
[null,null,"Description","Reference  #","Price Each","Qty","Extended Price"]
[null,"Base Configuration",null,null,null,{"$f":"SUM(F44,F47)","v":0}]
[null,null,"Cleaning Type",null,null,{"$f":"SUM(F45)","v":0}]
[null,null,"S10 Battery Powered Sweeper","S10-B",15970,null,{"$f":"F45*E45","v":0},{"$f":"IFERROR(IFERROR(VLOOKUP(D45,Surcharge!A:B,2,FALSE)*F45, VLOOKUP(D45 & \"\",Surcharge!A:B,2,FALSE)*F45), \"\")","v":0},null,null,null,null,null,null,{"$f":"VLOOKUP(P45,'MPF SAP Download (2)'!A:E,5,FALSE)","v":15970},"M-S10VK_BASE_S10-BTY"]
[null,null,null,null,null,null,null,{"$f":"IFERROR(IFERROR(VLOOKUP(D46,Surcharge!A:B,2,FALSE)*F46, VLOOKUP(D46 & \"\",Surcharge!A:B,2,FALSE)*F46), \"\")","v":""}]
[null,null," Battery Type",null,null,{"$f":"SUM(F48)","v":0},null,{"$f":"IFERROR(IFERROR(VLOOKUP(D47,Surcharge!A:B,2,FALSE)*F47, VLOOKUP(D47 & \"\",Surcharge!A:B,2,FALSE)*F47), \"\")","v":""}]
[null,null,"Wet 155AH C/5",1030120,"N/C",null,{"$f":"IF(F48=0,\" \",\"N/C\")","v":" "},{"$f":"IFERROR(IFERROR(VLOOKUP(D48,Surcharge!A:B,2,FALSE)*F48, VLOOKUP(D48 & \"\",Surcharge!A:B,2,FALSE)*F48), \"\")","v":""},null,null,null,null,null,null,{"$f":"VLOOKUP(P48,'MPF SAP Download (2)'!A:E,5,FALSE)","v":"N/C"},"M-S10VK_BTY_W110C5"]
[null,null,null,null,null,null,null,{"$f":"IFERROR(IFERROR(VLOOKUP(D49,Surcharge!A:B,2,FALSE)*F49, VLOOKUP(D49 & \"\",Surcharge!A:B,2,FALSE)*F49), \"\")","v":""}]
[null,"Cleaning Performance",null,null,null,{"$f":"SUM(F51)","v":0},null,{"$f":"IFERROR(IFERROR(VLOOKUP(D50,Surcharge!A:B,2,FALSE)*F50, VLOOKUP(D50 & \"\",Surcharge!A:B,2,FALSE)*F50), \"\")","v":""}]
[null,null,"HEPA Filter System  (Note 1)",326527,5254,null,{"$f":"F51*E51","v":0},{"$f":"IFERROR(IFERROR(VLOOKUP(D51,Surcharge!A:B,2,FALSE)*F51, VLOOKUP(D51 & \"\",Surcharge!A:B,2,FALSE)*F51), \"\")","v":""},null,null,null,null,null,null,{"$f":"VLOOKUP(P51,'MPF SAP Download (2)'!A:E,5,FALSE)","v":5254},"M-S10VK_FLRSYS_HEPA"]
[null,null,null,null,null,null,null,{"$f":"IFERROR(IFERROR(VLOOKUP(D52,Surcharge!A:B,2,FALSE)*F52, VLOOKUP(D52 & \"\",Surcharge!A:B,2,FALSE)*F52), \"\")","v":""}]
[null,"Brushes (Note 2)",null,null,null,{"$f":"SUM(F54,F60)","v":0},null,{"$f":"IFERROR(IFERROR(VLOOKUP(D53,Surcharge!A:B,2,FALSE)*F53, VLOOKUP(D53 & \"\",Surcharge!A:B,2,FALSE)*F53), \"\")","v":""}]
[null,null,"Main Brush",null,null,{"$f":"SUM(F55:F58)","v":0},null,{"$f":"IFERROR(IFERROR(VLOOKUP(D54,Surcharge!A:B,2,FALSE)*F54, VLOOKUP(D54 & \"\",Surcharge!A:B,2,FALSE)*F54), \"\")","v":""}]
[null,null,"Polyprolyene Brush","28007P","N/C",null,{"$f":"IF(F55=0,\" \",\"N/C\")","v":" "},{"$f":"IFERROR(IFERROR(VLOOKUP(D55,Surcharge!A:B,2,FALSE)*F55, VLOOKUP(D55 & \"\",Surcharge!A:B,2,FALSE)*F55), \"\")","v":""},null,null,null,null,null,null,{"$f":"VLOOKUP(P55,'MPF SAP Download (2)'!A:E,5,FALSE)","v":"N/C"},"M-S10VK_CLNTOL_PYP"]
[null,null,"Nylon Brush","28006N",241,null,{"$f":"F56*E56","v":0},{"$f":"IFERROR(IFERROR(VLOOKUP(D56,Surcharge!A:B,2,FALSE)*F56, VLOOKUP(D56 & \"\",Surcharge!A:B,2,FALSE)*F56), \"\")","v":""},null,null,null,null,null,null,{"$f":"VLOOKUP(P56,'MPF SAP Download (2)'!A:E,5,FALSE)","v":241},"M-S10VK_CLNTOL_NYL"]
[null,null,"Union Mix Brush (6 Row)",28006,223,null,{"$f":"F57*E57","v":0},{"$f":"IFERROR(IFERROR(VLOOKUP(D57,Surcharge!A:B,2,FALSE)*F57, VLOOKUP(D57 & \"\",Surcharge!A:B,2,FALSE)*F57), \"\")","v":""},null,null,null,null,null,null,{"$f":"VLOOKUP(P57,'MPF SAP Download (2)'!A:E,5,FALSE)","v":223},"M-S10VK_CLNTOL_UMB"]
[null,null,"Fiber and Wire Brush (6 Row)",28002,"N/C",null,{"$f":"IF(F58=0,\" \",\"N/C\")","v":" "},{"$f":"IFERROR(IFERROR(VLOOKUP(D58,Surcharge!A:B,2,FALSE)*F58, VLOOKUP(D58 & \"\",Surcharge!A:B,2,FALSE)*F58), \"\")","v":""},null,null,null,null,null,null,{"$f":"VLOOKUP(P58,'MPF SAP Download (2)'!A:E,5,FALSE)","v":"N/C"},"M-S10VK_SDECLNTOL_NYL"]
[null,null,null,null,null,null,null,{"$f":"IFERROR(IFERROR(VLOOKUP(D59,Surcharge!A:B,2,FALSE)*F59, VLOOKUP(D59 & \"\",Surcharge!A:B,2,FALSE)*F59), \"\")","v":""}]
[null,null,"Side Brush",null,null,{"$f":"SUM(F61:F62)","v":0},null,{"$f":"IFERROR(IFERROR(VLOOKUP(D60,Surcharge!A:B,2,FALSE)*F60, VLOOKUP(D60 & \"\",Surcharge!A:B,2,FALSE)*F60), \"\")","v":""}]
[null,null,"Polyprolyene Brush","28096P","N/C",null,{"$f":"IF(F61=0,\" \",\"N/C\")","v":" "},{"$f":"IFERROR(IFERROR(VLOOKUP(D61,Surcharge!A:B,2,FALSE)*F61, VLOOKUP(D61 & \"\",Surcharge!A:B,2,FALSE)*F61), \"\")","v":""},null,null,null,null,null,null,{"$f":"VLOOKUP(P61,'MPF SAP Download (2)'!A:E,5,FALSE)","v":"N/C"},"M-S10VK_SDECLNTOL_PYP"]
[null,null,"Nylon Brush","28096N","N/C",null,{"$f":"IF(F62=0,\" \",\"N/C\")","v":" "},{"$f":"IFERROR(IFERROR(VLOOKUP(D62,Surcharge!A:B,2,FALSE)*F62, VLOOKUP(D62 & \"\",Surcharge!A:B,2,FALSE)*F62), \"\")","v":""},null,null,null,null,null,null,{"$f":"VLOOKUP(P62,'MPF SAP Download (2)'!A:E,5,FALSE)","v":"N/C"},"M-S10VK_SDECLNTOL_NYL"]
[null,null,null,null,null,null,null,{"$f":"IFERROR(IFERROR(VLOOKUP(D63,Surcharge!A:B,2,FALSE)*F63, VLOOKUP(D63 & \"\",Surcharge!A:B,2,FALSE)*F63), \"\")","v":""}]
[null,"Support",null,"Reference Number",null,{"$f":"SUM(F65:F70)","v":0},null,{"$f":"IFERROR(IFERROR(VLOOKUP(D64,Surcharge!A:B,2,FALSE)*F64, VLOOKUP(D64 & \"\",Surcharge!A:B,2,FALSE)*F64), \"\")","v":""}]
[null,null,"Operator Manual English",9012903,"N/C",null,{"$f":"IF(F65=0,\" \",\"N/C\")","v":" "},{"$f":"IFERROR(IFERROR(VLOOKUP(D65,Surcharge!A:B,2,FALSE)*F65, VLOOKUP(D65 & \"\",Surcharge!A:B,2,FALSE)*F65), \"\")","v":""},null,null,null,null,null,null,"N/C","M-S10"]
[null,null,"Operator Manual Spanish",331582,"N/C",null,{"$f":"IF(F66=0,\" \",\"N/C\")","v":" "},{"$f":"IFERROR(IFERROR(VLOOKUP(D66,Surcharge!A:B,2,FALSE)*F66, VLOOKUP(D66 & \"\",Surcharge!A:B,2,FALSE)*F66), \"\")","v":""},null,null,null,null,null,null,"N/C","M-S10"]
[null,null,"Operator Manual French",331583,"N/C",null," ",{"$f":"IFERROR(IFERROR(VLOOKUP(D67,Surcharge!A:B,2,FALSE)*F67, VLOOKUP(D67 & \"\",Surcharge!A:B,2,FALSE)*F67), \"\")","v":""},null,null,null,null,null,null,"N/C","M-S10"]
[null,null,"Additional Operator Manual","see above",63,null,{"$f":"F68*E68","v":0},{"$f":"IFERROR(IFERROR(VLOOKUP(D68,Surcharge!A:B,2,FALSE)*F68, VLOOKUP(D68 & \"\",Surcharge!A:B,2,FALSE)*F68), \"\")","v":""},null,null,null,null,null,null,{"$f":"VLOOKUP(P68,'MPF SAP Download (2)'!A:E,5,FALSE)","v":63},"M-S10VK_ADLOPRMNL"]
[null,null,null,null,null,null,null,{"$f":"IFERROR(IFERROR(VLOOKUP(D69,Surcharge!A:B,2,FALSE)*F69, VLOOKUP(D69 & \"\",Surcharge!A:B,2,FALSE)*F69), \"\")","v":""},null,null,null,null,null,null,"N/C"]
[null,null,"Packaging  (Note 3)",null,null,{"$f":"SUM(F71:F72)","v":0},null,{"$f":"IFERROR(IFERROR(VLOOKUP(D70,Surcharge!A:B,2,FALSE)*F70, VLOOKUP(D70 & \"\",Surcharge!A:B,2,FALSE)*F70), \"\")","v":""},null,null,null,null,null,null,"N/C"]
[null,null,"Pad Wrap ",9011912,null,null,{"$f":"IF(F71=0,\" \",\"N/C\")","v":" "},{"$f":"IFERROR(IFERROR(VLOOKUP(D71,Surcharge!A:B,2,FALSE)*F71, VLOOKUP(D71 & \"\",Surcharge!A:B,2,FALSE)*F71), \"\")","v":""},null,null,null,null,null,null,{"$f":"VLOOKUP(P71,'MPF SAP Download (2)'!A:E,5,FALSE)","v":"N/C"},"M-S10VK_PKG_PAD"]
[null,null,"Skid w/Carton, Stackable ",830471,432,null,{"$f":"F72*E72","v":0},{"$f":"IFERROR(IFERROR(VLOOKUP(D72,Surcharge!A:B,2,FALSE)*F72, VLOOKUP(D72 & \"\",Surcharge!A:B,2,FALSE)*F72), \"\")","v":""},null,null,null,null,null,null,{"$f":"VLOOKUP(P72,'MPF SAP Download (2)'!A:E,5,FALSE)","v":432},"M-S10VK_PKG_SSKD"]
[]
[null,null,null,null,null,{"$f":"SUM(#REF!)","v":{"$error":"#REF!"}}]
[]
[null,"Custom Solution--write in description, qty, price, and PN if applicable",null,null,null,{"$f":"SUM(E77)","v":0}]
[null,null,null,"Insert Prices Here",{"$f":"SUM(F78:F81)","v":0}]
[null,null,null,"Custom",null,{"$f":"IF(E78 <> \"\", 1, 0)","v":0},{"$f":"F78*E78","v":0}]
[null,null,null,"Custom",null,{"$f":"IF(E79 <> \"\", 1, 0)","v":0},{"$f":"F79*E79","v":0}]
[null,null,null,"Custom",null,0,{"$f":"F80*E80","v":0}]
[null,null,null,"Custom",null,0,{"$f":"F81*E81","v":0}]
[null,null,null,null,{"$f":"ROUND(SUM(G45:G81), 0)","v":0},{"$f":"SUM(E83)","v":0}]
[null,null,null,"Machine Subtotal ",{"$f":"ROUND(SUM(G45:G81), 0)","v":0},{"$f":"F82","v":0}]
[null,"Discounts",null,null,null,{"$f":"SUM(F85)","v":0}]
[null,null,null,null,null,{"$f":"SUM(F86:F87)","v":0}]
[null,null,null,"Discount %",null,{"$f":"IF(E86 <> \"\", 1, 0)","v":0},{"$f":"IF(F86*(E86*0.01)*E82 < 0, F86*(E86*0.01)*E82, -(F86*(E86*0.01)*E82))","v":0}]
[null,null,null,"Discount $",null,{"$f":"IF(E87 <> \"\", 1, 0)","v":0},{"$f":"IF(F87*E87 < 0, F87*E87, -(F87*E87))","v":0}]
[null,null,null,"Discount Total ",{"$f":"SUM(G86:G87)","v":0},{"$f":"SUM(E88)","v":0}]
[null,null,null,null,{"$f":"#REF!","v":{"$error":"#REF!"}},{"$f":"#REF!","v":{"$error":"#REF!"}}]
[null,null,null,null,null,{"$f":"F89","v":{"$error":"#REF!"}}]
[null,null,"Prepaid and Add","Freight",null,{"$f":"IF(E91 <> \"\", 1, 0)","v":0},{"$f":"F91*E91","v":0}]
[null,null,"Subject to all applicable taxes","Tax",null,0,{"$f":"F92*E92","v":0}]
[null,null,null,null,null,{"$f":"SUM(F94)","v":0}]
[null,null,null,"MACHINE TOTAL*",null,{"$f":"SUM(G94)","v":0},{"$f":"SUM(G45:G92)","v":0},null,null,null,null,"This goes to \"My Documents\""]
[null,null,null,null,null,null,{"$f":"SUM(G94)","v":0}]
[null,"Financing"]
[]
[null,null,"Is customer interested in financing?","Yes"]
[]
[null,null,"If not, why?"]
[]
[]
[null,null,"First Western Equipment Finance - Leasing Calculation Option:","Option 1",null,"Option 2",null,null,null,{"$f":"Financing!A38","v":"Rates 2025 - Rev. 5/6/2025"}]
[null,null,null,"Monthly Payment","Cost Per Day","Monthly Payment","Cost Per Day",null,null,{"$f":"Financing!A39","v":"“Blank Payment Amounts Indicate The Financing Option Or Purchase Options Selected Are Not "}]
[null,null,"Purchase Option:","FWEF:  $1 Buyout Lease",null,"FWEF: Municipal Lease",null,null,null,{"$f":"Financing!A40","v":"Applicable Or The Machine Total Is Below The Minimum Amount For The Selected Vendor”"}]
[null,null,"24 Months",0,0,0,0,null,null,{"$f":"Financing!A41","v":"\"Quoted monthly payments are estimates only and are based on a certain level of credit rating."}]
[null,null,"30 Months",0,0,0,0,null,null,{"$f":"Financing!A42","v":"Actual monthly payments may be higher depending on your credit rating.\""}]
[null,null,"36 Months",0,0,0,0,null,null,{"$f":"Financing!A43","v":"“Financing rates do not include Pre-Paid Service”"}]
[null,null,"48 Months",0,0,0,0,null,{"$f":"Financing!A44","v":0}]
[]
[null,null,null,"Benefits of Equipment Financing:"]
[null,null,null,"• Spreads out investment over time.",null,"• Keep current with latest technology."]
[null,null,null,"• Preserve capital.",null,"• Service and parts bundling available."]
[null,null,null,"• Low monthly payment.",null,"• Pay for labor savings as you go."]
[]
[]
[null,null,"Bundled Offerings","Flexclean – Fair Market Value",null,"Flexclean - $1 Buyout"]
[null,null,"FlexClean: ","36 Month Term",null,"36 Month Term",null,null,"No","AB Brushes"]
[null,null,"Hours included per Month:","Gold","Silver","Gold","Silver","Check"]
[null,null,"< 30/mo. (Avg. 1hr./day)",null,null,null,null,null,{"$f":"FlexCleanCalc!$A21","v":"“FlexClean monthly rates include payment for both machine and service.”"}]
[null,null,"< 60/mo. (Avg. 2hrs./day)"]
[null,null,"< 90/mo. (Avg. 3hrs./day)"]
[null,null,"*This value assumes one service contract regardless of the number of UNITS included in the quote"]
[]
[]
[null,null,"Bundled Offerings","Flexclean – Fair Market Value",null,"Flexclean - $1 Buyout"]
[null,null,"FlexClean 2: ","48 Month Term",null,"48 Month Term"]
[null,null,"Hours included per Month:","Gold","Silver","Gold","Silver"]
[null,null,"< 30/mo. (Avg. 1hr./day)"]
[null,null,"< 60/mo. (Avg. 2hrs./day)"]
[null,null,"< 90/mo. (Avg. 3hrs./day)"]
[null,null,"*This value assumes one service contract regardless of the number of UNITS included in the quote"]
[]
[null,null,"Bundled Offerings","Flexclean – Fair Market Value",null,"Flexclean - $1 Buyout"]
[null,null,"FlexClean 3: ","60 Month Term",null,"60 Month Term"]
[null,null,"Hours included per Month:","Gold","Silver","Gold","Silver"]
[null,null,"< 30/mo. (Avg. 1hr./day)"]
[null,null,"< 60/mo. (Avg. 2hrs./day)"]
[null,null,"< 90/mo. (Avg. 3hrs./day)"]
[null,null,"*This value assumes one service contract regardless of the number of UNITS included in the quote"]
[]
[null,"   TennantTrue"]
[]
[null,null,"Is customer interested in service program?","Yes","*State/County selection required for TennantTrue service options"]
[]
[null,null,"If not, why?"]
[]
[null,null,"Term:",36,null,"AB Brushes","No"]
[null,null,"Monthly machine usage (hrs):","< 30/mo. (Avg. 1hr./day)"]
[]
[null,null,"TennantTrue: ","Gold Contract",null,"Silver Contract"]
[null,null,"Per Visit",null,null,433]
[null,null,"Monthly",148,null,69]
[null,null,"Annually",null,null,816]
[null,null,"Pre-Pay Full Term",5119,null,2397]
[null,null,"Hourly Labor Rate"]
[null,null,"Site Visit"]
[]
[null,null,"* Verify customer current pricing prior to quote. "]
[null,null,"**All rates and fees above reflect service for one (1) unit with the exception of Block of Time service."]
[null,null,"*Block of Time is available in 1 Year Term only and is priced as such no matter the term selection on this template."]
[]
[]
[]
[null,"Quote Special Instructions:"]
[]
[]
[null,{"$f":"Start_Here!E36","v":"Terms and Conditions"}]
[null,{"$f":"Start_Here!E37","v":"Ask your local sales rep for estimated lead times. Verify when placing order"}]
[null,{"$f":"Start_Here!E38","v":"All orders subject to acceptance by Tennant Sales and Service Company, Minneapolis, Minnesota"}]
[null,{"$f":"Start_Here!E39","v":"Prices subject to change without notice."}]
[null,{"$f":"Start_Here!E40","v":"Terms:  Net 30 days.  Subject to any applicable taxes."}]
[null,{"$f":"Start_Here!E41","v":"Freight: Machines and accessory orders delivered FOB shipping point Frt PPD & Add"}]
[null,{"$f":"Start_Here!E42","v":"Parts, supplies, detergents and floor treating material orders delivered FOB "}]
[null,{"$f":"Start_Here!E43","v":"shipping point Frt PPD"}]
[null,{"$f":"Start_Here!E44","v":"All orders are subject to Tennant’s General Terms and Conditions available at http://www.tennantco.com/terms."}]
[null,{"$f":"Start_Here!E45","v":"Printed General Terms and Conditions are also available upon request."}]
[null,{"$f":"Start_Here!E46","v":0}]
[]
[null,null,null,null,"Quote Date :",null,{"$f":"Letter!$A$25","v":"2020-09-22"}]
["Order Placement Information:  To place your order, fill in PO# and customer signatures,"]
["call or fax to the numbers listed below. Customer Purchase Order is required."]
["If information is missing, orders will be entered and held until all information is received."]
[]
[null,null,"Customer Number",null,"Cust Grp 3"]
[null,null,{"$f":"Start_Here!$C$25","v":0},null,{"$f":"Start_Here!$C$29","v":0}]
[null,null,{"$f":"Start_Here!$B$18","v":"Who Owns the Machine? (Sold-To Info) (Please Verify)"}]
["Company",null,{"$f":"Start_Here!$C$19","v":"Company Name"}]
["Address",null,{"$f":"Start_Here!$C$20","v":"Address"}]
[null,null,{"$f":"Start_Here!$C$21","v":"City, State Zip"}]
["Name",null,{"$f":"Start_Here!$C$22","v":"Contact Name"}]
["Phone",null,{"$f":"Start_Here!$C$23","v":"Contact Phone"}]
[null,null,{"$f":"Start_Here!$B$11","v":"Where is the Machine Being Shipped? (Ship-To Info) (Please Verify)"}]
["Company",null,{"$f":"Start_Here!$C$12","v":"Company Name"}]
["Address",null,{"$f":"Start_Here!$C$13","v":"Address"}]
[null,null,{"$f":"Start_Here!$C$14","v":"City, State Zip"}]
["Name",null,{"$f":"Start_Here!$C$15","v":"Contact Name"}]
["Phone",null,{"$f":"Start_Here!$C$16","v":"Contact Phone"}]
[null,null,{"$f":"Start_Here!$B$31","v":"Shipping / Carrier Instructions:"},null,"Order Special Instructions:"]
[null,null,{"$f":"Start_Here!$C$32","v":0}]
[]
[null,null,"Customer Purchase Order No."]
[null,null,"(please attach copy)"]
[]
[]
[null,null,"Tax Exempt",null,"Yes"]
[null,null,null,null,"No"]
[null,null,"If Yes, attach a copy of your exemption certificate."]
[]
[null,null,"Requested Delivery Date"]
[null,null,{"$f":"Start_Here!$C$28","v":0}]
[]
[null,null,{"$f":"Start_Here!$C$26","v":0},null,{"$f":"Start_Here!$C$27","v":0}]
[null,0,"Authorized Buyer (please print)",null,"Phone Number"]
[]
[]
[null,0,"Authorized Buyer Signature"]
[]
[null,null,{"$f":"Start_Here!$C$41","v":"Rep Name"}]
[null,null,"Tennant Representative"]
[]
[null,null,null,"Specialized Maintenance Equipment"]
[null,null,{"$f":"Start_Here!$C$48","v":"TENNANT · 10400 Clean Street · Eden Prairie, MN 55344 ·"}]
[null,null,null,{"$f":"Start_Here!$C$49","v":" PHONE:800-553-8033 · FAX:763-513-2116"}]
[]
[]
[null,"SPECIAL INFORMATION"]
[]
[null,1,"The HEPA Filter System will remove the Side Brush from the machine as it is not compatible."]
[null,null,"The HEPA Dust Filter Package will ship with 2 extra HEPA filters for a total of 3 filters at the time of delivery."]
[]
[null,2,"If the S10 is being used on coated, polished, tile, or terazzo floors, the polyproplyene main brush (28007P) must be ordered."]
[]
[null,3,"Pad wrap available only in the Continental US and is the default packaging method."]
[null,null,"Customer MUST order Skid w/Carton, Stackable if WITHOUT BATTERY is selected."]
[null,null,"Skid w/Carton, Stackable is mandatory when shipping to AK and HI.  Packaging is added at No Charge when shipping"]
[null,null,"to these locations."]
[null,null,null," "]
[null,4,"Machine Weights and dimensions","Pad Wrap","Skid w/Carton"]
[]
[null,null,"Weight (w/155AH Battery)","600 lbs / 272 Kg","700 lbs / 317 Kg"]
[null,null,"Length","62\" / 1570 mm","75\" / 1905 mm"]
[null,null,"Width","37\" / 920 mm","40\" / 1016 mm"]
[null,null,"Height","42\" / 1067 mm","52\" / 1321 mm"]

{"sheet":"S16L","index":25,"n_rows":298,"n_cols":17,"rows_kept":298,"cut":false,"hidden":false,"merged":[[151,3,151,4],[151,5,151,6],[153,3,153,4],[153,5,153,6],[30,2,30,6],[31,2,31,6],[32,2,32,6],[33,2,33,6],[34,2,34,6],[148,3,148,6],[0,2,0,3],[1,2,1,3],[2,2,2,3],[3,2,3,3],[29,2,29,6],[27,2,27,3],[165,3,165,4],[165,5,165,6],[166,3,166,4],[166,5,166,6],[174,3,174,4],[174,5,174,6],[175,3,175,4],[175,5,175,6],[182,3,182,4],[182,5,182,6],[183,3,183,4],[183,5,183,6],[203,3,203,4],[203,5,203,6],[204,3,204,4],[204,5,204,6],[205,3,205,4],[205,5,205,6],[200,3,200,4],[200,5,200,6],[201,3,201,4],[201,5,201,6],[202,3,202,4],[202,5,202,6],[192,4,192,8],[194,3,194,6],[196,3,196,4],[197,3,197,4],[199,3,199,4],[199,5,199,6],[242,2,242,5],[214,1,214,6],[233,4,233,6],[234,4,234,7],[236,2,236,5],[237,2,237,5],[238,2,238,5],[239,2,239,5],[240,2,240,5],[261,4,261,5],[243,2,243,5],[244,2,244,5],[245,2,245,5],[246,2,246,5],[248,4,248,7],[252,2,252,5]]}
["S16L",null,{"$f":"Start_Here!$C19","v":"Company Name"}]
[{"$f":"SUM(G143)","v":0},null,{"$f":"Start_Here!$C20","v":"Address"}]
[null,null,{"$f":"Start_Here!$C21","v":"City, State Zip"}]
[null,null,{"$f":"Start_Here!$C22","v":"Contact Name"}]
[null,null,{"$f":"Start_Here!$C$41","v":"Rep Name"}]
[null,null,{"$f":"Start_Here!$C$37","v":"Tennant Sales and Service Company"}]
[null,null,{"$f":"Start_Here!$C$38","v":"10400 Clean Street"}]
[null,null,{"$f":"Start_Here!$C$39","v":"Eden Prairie, MN 55344"}]
[null,null,{"$f":"Start_Here!$C$43","v":"800-553-8033"},null,"Quote Date :",null,{"$f":"Letter!$A$25","v":"2020-09-22"}]
[]
[null,null,{"$f":"Help!C2","v":"US Date Rev - 5/6/2025"}]
[null,null,"                                                               BUILT-IN \"TENNANT VALUE\" INCLUDES:"]
[]
[null,null,"MaxPro™ Sweeping Technology","Wet Sweeping By-Pass"]
[null,null,"1-Step™ Control Module","UL-Label (Type E)"]
[null,null,"46\" (1170mm) Sweep Path","Tool-less Side Panel Removal"]
[null,null,"No-Tool Brush Change","Soft corner rollers all-around"]
[null,null,"Multi-stage Air Filtration & Dust Control","Hour Meter"]
[null,null,"  Stage 1: Perma-filter™","Battery Discharge Indicator"]
[null,null,"  Stage 2: Panel filter","Horn"]
[null,null,"  97.0 ft² (9.0 m2) Pleated Media","Cup Holders"]
[null,null,"Flap and Trap Debris Pedal","Automatic Parking Brake"]
[null,null,"Retractable Right Hand Side Brush","Yellow Maintenance Touch Points"]
[null,null,"Thermo-Sentry™ Hopper Fire Sensor","Seat occupancy interlock safety switch"]
[null,null,"Worn main brush indicator light","Main and right side brush (Standard)"]
[null,null,"5.3 ft3 (150 L) Hopper Volume Capacity","Onboard Diagnostics"]
[null,null,"200 lbs (90 kg) Hopper Weight Capacity","Operator and parts manual"]
[null,null,"Duramer™ Hopper Construction"]
[]
[null,null,"TENNANT COMPANY WARRANTY"]
[null,null,"3 YEARS OR 2000 HOURS - PARTS"]
[null,null,"6 MONTHS - LABOR"]
[null,null,"6 MONTHS - TRAVEL"]
[null,null,"10 YEARS ON DURAMERTM HOPPER"]
[null,null,"CUSTOM Options May Add 1 Week Or More to Standard Lead Times"]
[]
[null,null,null,null,"                Quote Request Information"]
[null,null,null,null,null,null,"Fax (quote only)"]
[null,null,null,null,null,null,"Mail (quote,lit, specs)"]
[null,null,null,null,null,null,"Fax + Mail"]
[]
[null,null,null,null,"                Primary Use"]
[null,null,null,null,null,null,"Inside"]
[null,null,null,null,null,null,"Outside"]
[]
[]
[null,null,"Description","Reference # ","Price Each","Qty","Extended Price"]
[null,"Base Configuration",null,null,null,{"$f":"SUM(F49,F52,F60)","v":0}]
[null,null,"Cleaning Type",null,null,{"$f":"SUM(F50)","v":0},null,null,null,null,null,{"$f":"SUM(F49)","v":0},"Surcharge Qty"]
[null,null,"S16 Rider Sweeper - Low Dump","S16L",33534,null,{"$f":"F50*E50","v":0},{"$f":"IFERROR(IFERROR(VLOOKUP(D50,Surcharge!A:B,2,FALSE)*F50, VLOOKUP(D50 & \"\",Surcharge!A:B,2,FALSE)*F50), \"\")","v":""},null,null,null,null,null,null,null,{"$f":"VLOOKUP(Q50,'MPF SAP Download (2)'!A:E,5,FALSE)","v":33534},"M-S16LVK_BASE_S16L"]
[null,null,null,null,null,null,null,{"$f":"IFERROR(IFERROR(VLOOKUP(D51,Surcharge!A:B,2,FALSE)*F51, VLOOKUP(D51 & \"\",Surcharge!A:B,2,FALSE)*F51), \"\")","v":""}]
[null,null,"Battery Type",null,null,{"$f":"SUM(F53:F55)","v":0},null,{"$f":"IFERROR(IFERROR(VLOOKUP(D52,Surcharge!A:B,2,FALSE)*F52, VLOOKUP(D52 & \"\",Surcharge!A:B,2,FALSE)*F52), \"\")","v":""}]
[null,null,"Wet 240AH C/20",9045055,"N/C",null,{"$f":"IF(F53=0,\" \",\"N/C\")","v":" "},{"$f":"IFERROR(IFERROR(VLOOKUP(D53,Surcharge!A:B,2,FALSE)*F53, VLOOKUP(D53 & \"\",Surcharge!A:B,2,FALSE)*F53), \"\")","v":""},null,null,null,null,null,null,null,{"$f":"VLOOKUP(Q53,'MPF SAP Download (2)'!A:E,5,FALSE)","v":"N/C"},"M-S16LVK_BTY_W240C20"]
[null,null,"Wet 360AH C/20",9045056,1188,null,{"$f":"F54*E54","v":0},{"$f":"IFERROR(IFERROR(VLOOKUP(D54,Surcharge!A:B,2,FALSE)*F54, VLOOKUP(D54 & \"\",Surcharge!A:B,2,FALSE)*F54), \"\")","v":""},null,null,null,null,null,null,null,{"$f":"VLOOKUP(Q54,'MPF SAP Download (2)'!A:E,5,FALSE)","v":1188},"M-S16LVK_BTY_W360C20"]
[null,null,"Without - Less Battery, DEDUCT (Note 2)",9045060,-495,null,{"$f":"F55*E55","v":0},{"$f":"IFERROR(IFERROR(VLOOKUP(D55,Surcharge!A:B,2,FALSE)*F55, VLOOKUP(D55 & \"\",Surcharge!A:B,2,FALSE)*F55), \"\")","v":""},null,null,null,null,null,null,null,{"$f":"VLOOKUP(Q55,'MPF SAP Download (2)'!A:E,5,FALSE)","v":-495},"M-S16LVK_BTY_WO"]
[]
[null,null,"Smart-Fill Automatic Battery Watering System  ",9045062,1261,null,{"$f":"F57*E57","v":0},null,null,null,null,null,null,null,null,{"$f":"VLOOKUP(Q57,'MPF SAP Download (2)'!A:E,5,FALSE)","v":1261},"M-S16LVK_BTYWTRSYS_SF"]
[null,null,"Manual Battery Watering System ",9045073,821,null,0,null,null,null,null,null,null,null,null,{"$f":"VLOOKUP(Q58,'MPF SAP Download (2)'!A:E,5,FALSE)","v":821},"M-S16LVK_BTYWTRSYS_ML"]
[]
[null,null,"Charger","Reference Number",null,{"$f":"SUM(F61:F66)","v":0},null,{"$f":"IFERROR(IFERROR(VLOOKUP(D60,Surcharge!A:B,2,FALSE)*F60, VLOOKUP(D60 & \"\",Surcharge!A:B,2,FALSE)*F60), \"\")","v":""}]
[null,null,"25A 100-240V AC 50/60Hz 1Ph - Off Board (for 240 and 360AH Batteries)",9045257,"N/C",null,{"$f":"IF(F61=0,\" \",\"N/C\")","v":" "},{"$f":"IFERROR(IFERROR(VLOOKUP(D61,Surcharge!A:B,2,FALSE)*F61, VLOOKUP(D61 & \"\",Surcharge!A:B,2,FALSE)*F61), \"\")","v":""},null,null,null,null,null,null,null,{"$f":"VLOOKUP(Q61,'MPF SAP Download (2)'!A:E,5,FALSE)","v":"N/C"},"M-S16LVK_CHG_25A100V5060H1OFF"]
[null,null,"25A 100-240V AC 50/60Hz 1Ph - On Board (for 240 and 360AH Batteries)",9045255,906,null,{"$f":"F62*E62","v":0},{"$f":"IFERROR(IFERROR(VLOOKUP(D62,Surcharge!A:B,2,FALSE)*F62, VLOOKUP(D62 & \"\",Surcharge!A:B,2,FALSE)*F62), \"\")","v":""},null,null,null,null,null,null,null,{"$f":"VLOOKUP(Q62,'MPF SAP Download (2)'!A:E,5,FALSE)","v":906},"M-S16LVK_CHG_25A100V5060H1ON"]
[null,null,"33A 100-240V AC 50/60Hz 1Ph - On Board (for 240 and 360AH Batteries)",9045256,1172,null,{"$f":"F63*E63","v":0},null,null,null,null,null,null,null,null,{"$f":"VLOOKUP(Q63,'MPF SAP Download (2)'!A:E,5,FALSE)","v":1172},"M-S16LVK_CHG_33A100V5060H1PON"]
[null,null,"Without - Less Charger, DEDUCT",null,-199,null,{"$f":"F64*E64","v":0},null,null,null,null,null,null,null,null,{"$f":"VLOOKUP(Q64,'MPF SAP Download (2)'!A:E,5,FALSE)","v":-199},"M-S16LVK_CHG_WO"]
[]
[null,null,"UL Type ES",9017316,3142,null,{"$f":"F66*E66","v":0},null,null,null,null,null,null,null,null,{"$f":"VLOOKUP(Q66,'MPF SAP Download (2)'!A:E,5,FALSE)","v":3142},"M-S16LVK_ULERTG_ES"]
[null,null,null,null,null,null,null,{"$f":"IFERROR(IFERROR(VLOOKUP(D67,Surcharge!A:B,2,FALSE)*F67, VLOOKUP(D67 & \"\",Surcharge!A:B,2,FALSE)*F67), \"\")","v":""},null,null,null,null,null,null,null,null,""]
[null,"Packages",null,null,null,{"$f":"SUM(F69:F78)","v":0},null,{"$f":"IFERROR(IFERROR(VLOOKUP(D68,Surcharge!A:B,2,FALSE)*F68, VLOOKUP(D68 & \"\",Surcharge!A:B,2,FALSE)*F68), \"\")","v":""},null,null,null,null,null,null,null,null,""]
[null,null,"Productivity Package","PRD-S16",3050,null,{"$f":"F69*E69","v":0},{"$f":"IFERROR(IFERROR(VLOOKUP(D69,Surcharge!A:B,2,FALSE)*F69, VLOOKUP(D69 & \"\",Surcharge!A:B,2,FALSE)*F69), \"\")","v":""},null,null,null,null,null,null,null,{"$f":"VLOOKUP(Q69,'MPF SAP Download (2)'!A:E,5,FALSE)","v":3050},"M-S16LVK_PRDPKG"]
[null,null,"Includes:  Dual Side Brush, Vacuum Wand",null,null,{"$f":"SUM(F69)","v":0},null,{"$f":"IFERROR(IFERROR(VLOOKUP(D70,Surcharge!A:B,2,FALSE)*F70, VLOOKUP(D70 & \"\",Surcharge!A:B,2,FALSE)*F70), \"\")","v":""}]
[null,null,"Safety Light Package","SFY-S16",2389,null,{"$f":"F71*E71","v":0},null,null,null,null,null,null,null,null,{"$f":"VLOOKUP(Q71,'MPF SAP Download (2)'!A:E,5,FALSE)","v":2389},"M-S16LVK_SFYLGTPKG"]
[null,null,"Includes:  Headlight & Tail Lights, AV Back Up Alarm w/ Strobe, Blue Light",null,null,{"$f":"SUM(F71)","v":0}]
[null,null,"Carpet Care Package",9045122,710,null,{"$f":"F73*E73","v":0},null,null,null,null,null,null,null,null,{"$f":"VLOOKUP(Q73,'MPF SAP Download (2)'!A:E,5,FALSE)","v":710},"M-S16LVK_CARCREPKG"]
[null,null,"Includes:  Natural Fiber main brush, Non-marking skirts, FiberShield™ Lint Screen, Slotted front main brush skirt"]
[null,null,"HEPA Dust Filter Package - For Right Hand Side Brush","HDR-S16",8069,null,{"$f":"F75*E75","v":0},{"$f":"IFERROR(IFERROR(VLOOKUP(D75,Surcharge!A:B,2,FALSE)*F75, VLOOKUP(D75 & \"\",Surcharge!A:B,2,FALSE)*F75), \"\")","v":""},null,null,null,null,null,null,null,{"$f":"VLOOKUP(Q75,'MPF SAP Download (2)'!A:E,5,FALSE)","v":8069},"M-S16LVK_SLADSTFLTPKG_RH"]
[null,null,"Includes:  Right Hand Side Brush, Dry Dust Control - Right Hand, HEPA Filter System ",null,null,{"$f":"SUM(F75)","v":0},null,{"$f":"IFERROR(IFERROR(VLOOKUP(D76,Surcharge!A:B,2,FALSE)*F76, VLOOKUP(D76 & \"\",Surcharge!A:B,2,FALSE)*F76), \"\")","v":""}]
[null,null,"HEPA Dust Filter Package - For Dual Side Brush","HDD-S16",8137,null,{"$f":"F77*E77","v":0},null,null,null,null,null,null,null,null,{"$f":"VLOOKUP(Q77,'MPF SAP Download (2)'!A:E,5,FALSE)","v":8707},"M-S16LVK_SLADSTFLTPKG_D"]
[null,null,"Includes:  Dual Side Brush, Dry Dust Control - Dual, HEPA Filter System ",null,null,{"$f":"SUM(F77)","v":0}]
[null,null,null,null,null,null,null,{"$f":"IFERROR(IFERROR(VLOOKUP(D79,Surcharge!A:B,2,FALSE)*F79, VLOOKUP(D79 & \"\",Surcharge!A:B,2,FALSE)*F79), \"\")","v":""}]
[null,"Cleaning Performance",null,"Reference Number",null,{"$f":"SUM(F81:F86)","v":0},null,{"$f":"IFERROR(IFERROR(VLOOKUP(D80,Surcharge!A:B,2,FALSE)*F80, VLOOKUP(D80 & \"\",Surcharge!A:B,2,FALSE)*F80), \"\")","v":""}]
[null,null,"Dual Side Brush",9045101,1196,null,{"$f":"F81*E81","v":0},{"$f":"IFERROR(IFERROR(VLOOKUP(D81,Surcharge!A:B,2,FALSE)*F81, VLOOKUP(D81 & \"\",Surcharge!A:B,2,FALSE)*F81), \"\")","v":""},null,null,null,null,null,null,null,{"$f":"VLOOKUP(Q81,'MPF SAP Download (2)'!A:E,5,FALSE)","v":1196},"M-S16LVK_SDEBRSLOC_D"]
[null,null,"Side Brush Dust Control - Dry  (Right Hand Side Brush)",9045105,1222,null,{"$f":"F82*E82","v":0},{"$f":"IFERROR(IFERROR(VLOOKUP(D82,Surcharge!A:B,2,FALSE)*F82, VLOOKUP(D82 & \"\",Surcharge!A:B,2,FALSE)*F82), \"\")","v":""},null,null,null,null,null,null,null,{"$f":"VLOOKUP(Q82,'MPF SAP Download (2)'!A:E,5,FALSE)","v":1222},"M-S16LVK_SDEBRSDSTCTL_D_RH"]
[null,null,"Side Brush Dust Control - Dry  (Dual Side Brush)",9045106,1859,null,0,{"$f":"IFERROR(IFERROR(VLOOKUP(D83,Surcharge!A:B,2,FALSE)*F83, VLOOKUP(D83 & \"\",Surcharge!A:B,2,FALSE)*F83), \"\")","v":""},null,null,null,null,null,null,null,{"$f":"VLOOKUP(Q83,'MPF SAP Download (2)'!A:E,5,FALSE)","v":1859},"M-S16LVK_SDEBRSDSTCTL_D_D"]
[null,null,"Vacuum Wand",9045161,2017,null,0,{"$f":"IFERROR(IFERROR(VLOOKUP(D84,Surcharge!A:B,2,FALSE)*F84, VLOOKUP(D84 & \"\",Surcharge!A:B,2,FALSE)*F84), \"\")","v":""},null,null,null,null,null,null,null,{"$f":"VLOOKUP(Q84,'MPF SAP Download (2)'!A:E,5,FALSE)","v":2017},"M-S16LVK_PWRVACWND_VACWND"]
[null,null,"HEPA Filter System  (Note 3)",9045159,6851,null,0,{"$f":"IFERROR(IFERROR(VLOOKUP(D85,Surcharge!A:B,2,FALSE)*F85, VLOOKUP(D85 & \"\",Surcharge!A:B,2,FALSE)*F85), \"\")","v":""},null,null,null,null,null,null,null,{"$f":"VLOOKUP(Q85,'MPF SAP Download (2)'!A:E,5,FALSE)","v":6851},"M-S16LVK_FLRSYS_HEPA"]
[null,null,"Removable Hopper Bins",9045164,710,null,0,{"$f":"IFERROR(IFERROR(VLOOKUP(D86,Surcharge!A:B,2,FALSE)*F86, VLOOKUP(D86 & \"\",Surcharge!A:B,2,FALSE)*F86), \"\")","v":""},null,null,null,null,null,null,null,{"$f":"VLOOKUP(Q86,'MPF SAP Download (2)'!A:E,5,FALSE)","v":710},"M-S16LVK_RMVHPRBIN"]
[null,null,null,null,null,null,null,{"$f":"IFERROR(IFERROR(VLOOKUP(D87,Surcharge!A:B,2,FALSE)*F87, VLOOKUP(D87 & \"\",Surcharge!A:B,2,FALSE)*F87), \"\")","v":""}]
[null,"Machine Protection & Safety",null,null,null,{"$f":"SUM(F89:F94)","v":0},null,{"$f":"IFERROR(IFERROR(VLOOKUP(D88,Surcharge!A:B,2,FALSE)*F88, VLOOKUP(D88 & \"\",Surcharge!A:B,2,FALSE)*F88), \"\")","v":""}]
[null,null,"Overhead Guard",9045052,1800,null,{"$f":"F89*E89","v":0},{"$f":"IFERROR(IFERROR(VLOOKUP(D89,Surcharge!A:B,2,FALSE)*F89, VLOOKUP(D89 & \"\",Surcharge!A:B,2,FALSE)*F89), \"\")","v":""},null,null,null,null,null,null,null,{"$f":"VLOOKUP(Q89,'MPF SAP Download (2)'!A:E,5,FALSE)","v":1800},"M-S16LVK_OVHGRD"]
[null,null,"Deluxe Seat with Armrest",9045201,625,null,0,{"$f":"IFERROR(IFERROR(VLOOKUP(D90,Surcharge!A:B,2,FALSE)*F90, VLOOKUP(D90 & \"\",Surcharge!A:B,2,FALSE)*F90), \"\")","v":""},null,null,null,null,null,null,null,{"$f":"VLOOKUP(Q90,'MPF SAP Download (2)'!A:E,5,FALSE)","v":625},"M-S16LVK_SET_DLXW"]
[null,null,"Headlight & Tail Lights  (Note 4)",9045206,656,null,0,{"$f":"IFERROR(IFERROR(VLOOKUP(D91,Surcharge!A:B,2,FALSE)*F91, VLOOKUP(D91 & \"\",Surcharge!A:B,2,FALSE)*F91), \"\")","v":""},null,null,null,null,null,null,null,{"$f":"VLOOKUP(Q91,'MPF SAP Download (2)'!A:E,5,FALSE)","v":656},"M-S16LVK_HLTANDTALLGT"]
[null,null,"AU BU Alarm-Strobe on Lintel  (Note 4)",9045204,736,null,0,{"$f":"IFERROR(IFERROR(VLOOKUP(D92,Surcharge!A:B,2,FALSE)*F92, VLOOKUP(D92 & \"\",Surcharge!A:B,2,FALSE)*F92), \"\")","v":""},null,null,null,null,null,null,null,{"$f":"VLOOKUP(Q92,'MPF SAP Download (2)'!A:E,5,FALSE)","v":736},"M-S16LVK_WRNLGTANDALM_AUSL"]
[null,null,"Blue Light",9045208,1128,null,0,{"$f":"IFERROR(IFERROR(VLOOKUP(D93,Surcharge!A:B,2,FALSE)*F93, VLOOKUP(D93 & \"\",Surcharge!A:B,2,FALSE)*F93), \"\")","v":""},null,null,null,null,null,null,null,{"$f":"VLOOKUP(Q93,'MPF SAP Download (2)'!A:E,5,FALSE)","v":1128},"M-S16LVK_BLULGT"]
[null,null,"Fire Extinguisher",9045069,375,null,{"$f":"F94*E94","v":0},{"$f":"IFERROR(IFERROR(VLOOKUP(D94,Surcharge!A:B,2,FALSE)*F94, VLOOKUP(D94 & \"\",Surcharge!A:B,2,FALSE)*F94), \"\")","v":""},null,null,null,null,null,null,null,{"$f":"VLOOKUP(Q94,'MPF SAP Download (2)'!A:E,5,FALSE)","v":375},"M-S16LVK_FREEXT"]
[null,null,null,null,null,null,null,{"$f":"IFERROR(IFERROR(VLOOKUP(D95,Surcharge!A:B,2,FALSE)*F95, VLOOKUP(D95 & \"\",Surcharge!A:B,2,FALSE)*F95), \"\")","v":""}]
[null,"Brushes and Pads",null,null,null,{"$f":"SUM(F97,F104)","v":0},null,{"$f":"IFERROR(IFERROR(VLOOKUP(D96,Surcharge!A:B,2,FALSE)*F96, VLOOKUP(D96 & \"\",Surcharge!A:B,2,FALSE)*F96), \"\")","v":""}]
[null,null,"Main Sweeping Brushes",null,null,{"$f":"SUM(F98:F102)","v":0},null,{"$f":"IFERROR(IFERROR(VLOOKUP(D97,Surcharge!A:B,2,FALSE)*F97, VLOOKUP(D97 & \"\",Surcharge!A:B,2,FALSE)*F97), \"\")","v":""}]
[null,null,"Polypropylene Brush",1240255,"N/C",null,{"$f":"IF(F98=0,\" \",\"N/C\")","v":" "},{"$f":"IFERROR(IFERROR(VLOOKUP(D98,Surcharge!A:B,2,FALSE)*F98, VLOOKUP(D98 & \"\",Surcharge!A:B,2,FALSE)*F98), \"\")","v":""},null,null,null,null,null,null,null,{"$f":"VLOOKUP(Q98,'MPF SAP Download (2)'!A:E,5,FALSE)","v":"N/C"},"M-S16LVK_CLNTOL_PYP"]
[null,null,"Polypropylene and Wire Brush",1254155,"N/C",null,{"$f":"IF(F99=0,\" \",\"N/C\")","v":" "},{"$f":"IFERROR(IFERROR(VLOOKUP(D99,Surcharge!A:B,2,FALSE)*F99, VLOOKUP(D99 & \"\",Surcharge!A:B,2,FALSE)*F99), \"\")","v":""},null,null,null,null,null,null,null,{"$f":"VLOOKUP(Q99,'MPF SAP Download (2)'!A:E,5,FALSE)","v":"N/C"},"M-S16LVK_CLNTOL_PYPW"]
[null,null,"Polypropylene, Window Brush",1239052,252,null,{"$f":"F100*E100","v":0},{"$f":"IFERROR(IFERROR(VLOOKUP(D100,Surcharge!A:B,2,FALSE)*F100, VLOOKUP(D100 & \"\",Surcharge!A:B,2,FALSE)*F100), \"\")","v":""},null,null,null,null,null,null,null,{"$f":"VLOOKUP(Q100,'MPF SAP Download (2)'!A:E,5,FALSE)","v":252},"M-S16LVK_CLNTOL_PYPWIN"]
[null,null,"Sand Wedge Brush",1239051,252,null,{"$f":"F101*E101","v":0},{"$f":"IFERROR(IFERROR(VLOOKUP(D101,Surcharge!A:B,2,FALSE)*F101, VLOOKUP(D101 & \"\",Surcharge!A:B,2,FALSE)*F101), \"\")","v":""},null,null,null,null,null,null,null,{"$f":"VLOOKUP(Q101,'MPF SAP Download (2)'!A:E,5,FALSE)","v":252},"M-S16LVK_CLNTOL_SWB"]
[null,null,"Natural Fiber Brush",1239050,252,null,{"$f":"F102*E102","v":0},null,null,null,null,null,null,null,null,{"$f":"VLOOKUP(Q102,'MPF SAP Download (2)'!A:E,5,FALSE)","v":252},"M-S16LVK_CLNTOL_NFB"]
[null,null,null,null,null,null,null,{"$f":"IFERROR(IFERROR(VLOOKUP(D103,Surcharge!A:B,2,FALSE)*F103, VLOOKUP(D103 & \"\",Surcharge!A:B,2,FALSE)*F103), \"\")","v":""}]
[null,null,"Side Sweeping Brushes",null,null,{"$f":"SUM(F105:F105)","v":0},null,{"$f":"IFERROR(IFERROR(VLOOKUP(D104,Surcharge!A:B,2,FALSE)*F104, VLOOKUP(D104 & \"\",Surcharge!A:B,2,FALSE)*F104), \"\")","v":""}]
[null,null,"Polypropylene Brush",1225549,"N/C",null,{"$f":"IF(F105=0,\" \",\"N/C\")","v":" "},{"$f":"IFERROR(IFERROR(VLOOKUP(D105,Surcharge!A:B,2,FALSE)*F105, VLOOKUP(D105 & \"\",Surcharge!A:B,2,FALSE)*F105), \"\")","v":""},null,null,null,null,null,null,null,{"$f":"VLOOKUP(Q105,'MPF SAP Download (2)'!A:E,5,FALSE)","v":"N/C"},"M-S16LVK_CLNTOL_PYP"]
[null,null,null,null,null,null,null,{"$f":"IFERROR(IFERROR(VLOOKUP(D106,Surcharge!A:B,2,FALSE)*F106, VLOOKUP(D106 & \"\",Surcharge!A:B,2,FALSE)*F106), \"\")","v":""}]
[null,"Support (Note 5) ",null,"Reference Number",null,{"$f":"SUM(F108:F117)","v":0},null,{"$f":"IFERROR(IFERROR(VLOOKUP(D107,Surcharge!A:B,2,FALSE)*F107, VLOOKUP(D107 & \"\",Surcharge!A:B,2,FALSE)*F107), \"\")","v":""}]
[null,null,"Standard Warranty",null,"N/C",null,{"$f":"IF(F108=0,\" \",\"N/C\")","v":" "},{"$f":"IFERROR(IFERROR(VLOOKUP(D108,Surcharge!A:B,2,FALSE)*F108, VLOOKUP(D108 & \"\",Surcharge!A:B,2,FALSE)*F108), \"\")","v":""}]
[null,null,"Ultimate Performance Guarantee",null,"N/C",null,{"$f":"IF(F109=0,\" \",\"N/C\")","v":" "},{"$f":"IFERROR(IFERROR(VLOOKUP(D109,Surcharge!A:B,2,FALSE)*F109, VLOOKUP(D109 & \"\",Surcharge!A:B,2,FALSE)*F109), \"\")","v":""}]
[null,null,"Operator Manual (English)",9045321,"N/C",null,{"$f":"IF(F110=0,\" \",\"N/C\")","v":" "},{"$f":"IFERROR(IFERROR(VLOOKUP(D110,Surcharge!A:B,2,FALSE)*F110, VLOOKUP(D110 & \"\",Surcharge!A:B,2,FALSE)*F110), \"\")","v":""}]
[null,null,"Operator Manual (Spanish)",9045322,"N/C",null," ",{"$f":"IFERROR(IFERROR(VLOOKUP(D111,Surcharge!A:B,2,FALSE)*F111, VLOOKUP(D111 & \"\",Surcharge!A:B,2,FALSE)*F111), \"\")","v":""}]
[null,null,"Operator Manual (French)",9045323,"N/C",null," ",{"$f":"IFERROR(IFERROR(VLOOKUP(D112,Surcharge!A:B,2,FALSE)*F112, VLOOKUP(D112 & \"\",Surcharge!A:B,2,FALSE)*F112), \"\")","v":""}]
[null,null,"Additional Operator Manual","SEE ABOVE",209,null,{"$f":"F113*E113","v":0},{"$f":"IFERROR(IFERROR(VLOOKUP(D113,Surcharge!A:B,2,FALSE)*F113, VLOOKUP(D113 & \"\",Surcharge!A:B,2,FALSE)*F113), \"\")","v":""},null,null,null,null,null,null,null,{"$f":"VLOOKUP(Q113,'MPF SAP Download (2)'!A:E,5,FALSE)","v":209},"M-S16LVK_ADLOPRMNL"]
[null,null,"Parts Manual",9045325,"N/C",null,{"$f":"IF(F114=0,\" \",\"N/C\")","v":" "},{"$f":"IFERROR(IFERROR(VLOOKUP(D114,Surcharge!A:B,2,FALSE)*F114, VLOOKUP(D114 & \"\",Surcharge!A:B,2,FALSE)*F114), \"\")","v":""}]
[null,null,"Service Manual",9045326,269,null,{"$f":"F115*E115","v":0},{"$f":"IFERROR(IFERROR(VLOOKUP(D115,Surcharge!A:B,2,FALSE)*F115, VLOOKUP(D115 & \"\",Surcharge!A:B,2,FALSE)*F115), \"\")","v":""},null,null,null,null,null,null,null,{"$f":"VLOOKUP(Q115,'MPF SAP Download (2)'!A:E,5,FALSE)","v":269},"M-S16LVK_SRVMNL"]
[null,null,null,null,null,null,null,{"$f":"IFERROR(IFERROR(VLOOKUP(D116,Surcharge!A:B,2,FALSE)*F116, VLOOKUP(D116 & \"\",Surcharge!A:B,2,FALSE)*F116), \"\")","v":""}]
[null,null,"Packaging  (Note 6)",null,null,{"$f":"SUM(F118:F120)","v":0},null,{"$f":"IFERROR(IFERROR(VLOOKUP(D117,Surcharge!A:B,2,FALSE)*F117, VLOOKUP(D117 & \"\",Surcharge!A:B,2,FALSE)*F117), \"\")","v":""}]
[null,null,"Skid w/Carton, Non-Stackable",9045304,777,null,{"$f":"F118*E118","v":0},{"$f":"IFERROR(IFERROR(VLOOKUP(D118,Surcharge!A:B,2,FALSE)*F118, VLOOKUP(D118 & \"\",Surcharge!A:B,2,FALSE)*F118), \"\")","v":""}]
[null,null,"Skid",9045305,509,null,{"$f":"F119*E119","v":0},{"$f":"IFERROR(IFERROR(VLOOKUP(D119,Surcharge!A:B,2,FALSE)*F119, VLOOKUP(D119 & \"\",Surcharge!A:B,2,FALSE)*F119), \"\")","v":""}]
[null,null,"Pad Wrap",null,"N/C",null,{"$f":"IF(F120=0,\" \",\"N/C\")","v":" "},{"$f":"IFERROR(IFERROR(VLOOKUP(D120,Surcharge!A:B,2,FALSE)*F120, VLOOKUP(D120 & \"\",Surcharge!A:B,2,FALSE)*F120), \"\")","v":""}]
[null,null,null,null,null,null,null,{"$f":"IFERROR(IFERROR(VLOOKUP(D121,Surcharge!A:B,2,FALSE)*F121, VLOOKUP(D121 & \"\",Surcharge!A:B,2,FALSE)*F121), \"\")","v":""}]
[null,null,null,null,null,null,null,{"$f":"IFERROR(IFERROR(VLOOKUP(D122,Surcharge!A:B,2,FALSE)*F122, VLOOKUP(D122 & \"\",Surcharge!A:B,2,FALSE)*F122), \"\")","v":""}]
[null,null,null,null,null,{"$f":"SUM(#REF!)","v":{"$error":"#REF!"}}]
[]
[null,"Custom Solution--write in description, qty, price, and PN if applicable",null,null,null,{"$f":"SUM(E126)","v":0}]
[null,null,null,"Insert Prices Here",{"$f":"SUM(F127:F130)","v":0}]
[null,null,null,"Custom",null,{"$f":"IF(E127 <> \"\", 1, 0)","v":0},{"$f":"F127*E127","v":0}]
[null,null,null,"Custom",null,{"$f":"IF(E128 <> \"\", 1, 0)","v":0},{"$f":"F128*E128","v":0}]
[null,null,null,"Custom",null,0,{"$f":"F129*E129","v":0}]
[null,null,null,"Custom",null,0,{"$f":"F130*E130","v":0}]
[null,null,null,null,{"$f":"ROUND(SUM(G50:G130), 0)","v":0},{"$f":"SUM(E132)","v":0}]
[null,null,null,"Machine Subtotal ",{"$f":"ROUND(SUM(G50:G130), 0)","v":0},{"$f":"F131","v":0}]
[null,"Discounts",null,null,null,{"$f":"SUM(F134)","v":0}]
[null,null,null,null,null,{"$f":"SUM(F135:F136)","v":0}]
[null,null,null,"Discount %",null,{"$f":"IF(E135 <> \"\", 1, 0)","v":0},{"$f":"IF(F135*(E135*0.01)*E131 < 0, F135*(E135*0.01)*E131, -(F135*(E135*0.01)*E131))","v":0}]
[null,null,null,"Discount $",null,{"$f":"IF(E136 <> \"\", 1, 0)","v":0},{"$f":"IF(F136*E136 < 0, F136*E136, -(F136*E136))","v":0}]
[null,null,null,"Discount Total ",{"$f":"SUM(G135:G136)","v":0},{"$f":"SUM(E137)","v":0}]
[null,null,null,null,{"$f":"#REF!","v":{"$error":"#REF!"}},{"$f":"#REF!","v":{"$error":"#REF!"}}]
[null,null,null,null,null,{"$f":"F138","v":{"$error":"#REF!"}}]
[null,null,"Prepaid and Add","Freight",null,{"$f":"IF(E140 <> \"\", 1, 0)","v":0},{"$f":"F140*E140","v":0}]
[null,null,"Subject to all applicable taxes","Tax",null,0,{"$f":"F141*E141","v":0}]
[null,null,null,null,null,{"$f":"SUM(F143)","v":0}]
[null,null,null,"MACHINE TOTAL*",null,{"$f":"SUM(G143)","v":0},{"$f":"SUM(G50:G141)","v":0},null,null,null,"This goes to \"My Documents\""]
[null,null,null,null,null,null,{"$f":"SUM(G143)","v":0}]
[null,"Financing"]
[]
[null,null,"Is customer interested in financing?","Yes"]
[]
[null,null,"If not, why?"]
[]
[]
[null,null,"First Western Equipment Finance - Leasing Calculation Option:","Option 1",null,"Option 2",null,null,null,{"$f":"Financing!A38","v":"Rates 2025 - Rev. 5/6/2025"}]
[null,null,null,"Monthly Payment","Cost Per Day","Monthly Payment","Cost Per Day",null,null,{"$f":"Financing!A39","v":"“Blank Payment Amounts Indicate The Financing Option Or Purchase Options Selected Are Not "}]
[null,null,"Purchase Option:","FWEF:  $1 Buyout Lease",null,"FWEF: Municipal Lease",null,null,null,{"$f":"Financing!A40","v":"Applicable Or The Machine Total Is Below The Minimum Amount For The Selected Vendor”"}]
[null,null,"24 Months",0,0,0,0,null,null,{"$f":"Financing!A41","v":"\"Quoted monthly payments are estimates only and are based on a certain level of credit rating."}]
[null,null,"30 Months",0,0,0,0,null,null,{"$f":"Financing!A42","v":"Actual monthly payments may be higher depending on your credit rating.\""}]
[null,null,"36 Months",0,0,0,0,null,null,{"$f":"Financing!A43","v":"“Financing rates do not include Pre-Paid Service”"}]
[null,null,"48 Months",0,0,0,0,null,{"$f":"Financing!A44","v":0}]
[]
[null,null,null,"Benefits of Equipment Financing:"]
[null,null,null,"• Spreads out investment over time.",null,"• Keep current with latest technology."]
[null,null,null,"• Preserve capital.",null,"• Service and parts bundling available."]
[null,null,null,"• Low monthly payment.",null,"• Pay for labor savings as you go."]
[]
[]
[null,null,"Bundled Offerings","Flexclean – Fair Market Value",null,"Flexclean - $1 Buyout"]
[null,null,"FlexClean: ","36 Month Term",null,"36 Month Term",null,null,"No","AB Brushes"]
[null,null,"Hours included per Month:","Gold","Silver","Gold","Silver","Check"]
[null,null,"< 30/mo. (Avg. 1hr./day)",null,null,null,null,null,{"$f":"FlexCleanCalc!$A21","v":"“FlexClean monthly rates include payment for both machine and service.”"}]
[null,null,"< 60/mo. (Avg. 2hrs./day)"]
[null,null,"< 90/mo. (Avg. 3hrs./day)"]
[null,null,"*This value assumes one service contract regardless of the number of UNITS included in the quote"]
[]
[]
[null,null,"Bundled Offerings","Flexclean – Fair Market Value",null,"Flexclean - $1 Buyout"]
[null,null,"FlexClean 2: ","48 Month Term",null,"48 Month Term"]
[null,null,"Hours included per Month:","Gold","Silver","Gold","Silver"]
[null,null,"< 30/mo. (Avg. 1hr./day)"]
[null,null,"< 60/mo. (Avg. 2hrs./day)"]
[null,null,"< 90/mo. (Avg. 3hrs./day)"]
[null,null,"*This value assumes one service contract regardless of the number of UNITS included in the quote"]
[]
[null,null,"Bundled Offerings","Flexclean – Fair Market Value",null,"Flexclean - $1 Buyout"]
[null,null,"FlexClean 3: ","60 Month Term",null,"60 Month Term"]
[null,null,"Hours included per Month:","Gold","Silver","Gold","Silver"]
[null,null,"< 30/mo. (Avg. 1hr./day)"]
[null,null,"< 60/mo. (Avg. 2hrs./day)"]
[null,null,"< 90/mo. (Avg. 3hrs./day)"]
[null,null,"*This value assumes one service contract regardless of the number of UNITS included in the quote"]
[]
[null,"   TennantTrue"]
[]
[null,null,"Is customer interested in service program?","Yes","*State/County selection required for TennantTrue service options"]
[]
[null,null,"If not, why?"]
[]
[null,null,"Term:",36,null,"AB Brushes","No"]
[null,null,"Monthly machine usage (hrs):","< 30/mo. (Avg. 1hr./day)"]
[]
[null,null,"TennantTrue: ","Gold Contract",null,"Silver Contract"]
[null,null,"Per Visit",null,null,473]
[null,null,"Monthly",208,null,99]
[null,null,"Annually",null,null,1160]
[null,null,"Pre-Pay Full Term",7200,null,3411]
[null,null,"Hourly Labor Rate"]
[null,null,"Site Visit"]
[]
[null,null,"* Verify customer current pricing prior to quote. "]
[null,null,"**All rates and fees above reflect service for one (1) unit with the exception of Block of Time service."]
[null,null,"*Block of Time is available in 1 Year Term only and is priced as such no matter the term selection on this template."]
[]
[null,null,null,0,0]
[]
[null,"Quote Special Instructions:"]
[]
[]
[null,{"$f":"Start_Here!E36","v":"Terms and Conditions"}]
[null,{"$f":"Start_Here!E37","v":"Ask your local sales rep for estimated lead times. Verify when placing order"}]
[null,{"$f":"Start_Here!E38","v":"All orders subject to acceptance by Tennant Sales and Service Company, Minneapolis, Minnesota"}]
[null,{"$f":"Start_Here!E39","v":"Prices subject to change without notice."}]
[null,{"$f":"Start_Here!E40","v":"Terms:  Net 30 days.  Subject to any applicable taxes."}]
[null,{"$f":"Start_Here!E41","v":"Freight: Machines and accessory orders delivered FOB shipping point Frt PPD & Add"}]
[null,{"$f":"Start_Here!E42","v":"Parts, supplies, detergents and floor treating material orders delivered FOB "}]
[null,{"$f":"Start_Here!E43","v":"shipping point Frt PPD"}]
[null,{"$f":"Start_Here!E44","v":"All orders are subject to Tennant’s General Terms and Conditions available at http://www.tennantco.com/terms."}]
[null,{"$f":"Start_Here!E45","v":"Printed General Terms and Conditions are also available upon request."}]
[null,{"$f":"Start_Here!E46","v":0}]
[]
[null,null,null,null,"Quote Date :",null,{"$f":"Letter!$A$25","v":"2020-09-22"}]
["Order Placement Information:  To place your order, fill in PO# and customer signatures,"]
["call or fax to the numbers listed below. Customer Purchase Order is required."]
["If information is missing, orders will be entered and held until all information is received."]
[]
[null,null,"Customer Number",null,"Cust Grp 3"]
[null,null,{"$f":"Start_Here!$C$25","v":0},null,{"$f":"Start_Here!$C$29","v":0}]
[null,null,{"$f":"Start_Here!$B$18","v":"Who Owns the Machine? (Sold-To Info) (Please Verify)"}]
["Company",null,{"$f":"Start_Here!$C$19","v":"Company Name"}]
["Address",null,{"$f":"Start_Here!$C$20","v":"Address"}]
[null,null,{"$f":"Start_Here!$C$21","v":"City, State Zip"}]
["Name",null,{"$f":"Start_Here!$C$22","v":"Contact Name"}]
["Phone",null,{"$f":"Start_Here!$C$23","v":"Contact Phone"}]
[null,null,{"$f":"Start_Here!$B$11","v":"Where is the Machine Being Shipped? (Ship-To Info) (Please Verify)"}]
["Company",null,{"$f":"Start_Here!$C$12","v":"Company Name"}]
["Address",null,{"$f":"Start_Here!$C$13","v":"Address"}]
[null,null,{"$f":"Start_Here!$C$14","v":"City, State Zip"}]
["Name",null,{"$f":"Start_Here!$C$15","v":"Contact Name"}]
["Phone",null,{"$f":"Start_Here!$C$16","v":"Contact Phone"}]
[null,null,{"$f":"Start_Here!$B$31","v":"Shipping / Carrier Instructions:"},null,"Order Special Instructions:"]
[null,null,{"$f":"Start_Here!$C$32","v":0}]
[]
[null,null,"Customer Purchase Order No."]
[null,null,"(please attach copy)"]
[]
[]
[null,null,"Tax Exempt",null,"Yes"]
[null,null,null,null,"No"]
[null,null,"If Yes, attach a copy of your exemption certificate."]
[]
[null,null,"Requested Delivery Date"]
[null,null,{"$f":"Start_Here!$C$28","v":0}]
[]
[null,null,{"$f":"Start_Here!$C$26","v":0},null,{"$f":"Start_Here!$C$27","v":0}]
[null,0,"Authorized Buyer (please print)",null,"Phone Number"]
[]
[]
[null,0,"Authorized Buyer Signature"]
[]
[null,null,{"$f":"Start_Here!$C$41","v":"Rep Name"}]
[null,null,"Tennant Representative"]
[]
[null,null,null,"Specialized Maintenance Equipment"]
[null,null,{"$f":"Start_Here!$C$48","v":"TENNANT · 10400 Clean Street · Eden Prairie, MN 55344 ·"}]
[null,null,null,{"$f":"Start_Here!$C$49","v":" PHONE:800-553-8033 · FAX:763-513-2116"}]
[]
[]
[null,"SPECIAL INFORMATION"]
[]
[null,"Notes"]
[null,2,"Customer MUST order shipping crate if LESS BATTERY is selected. "]
[null,null,"Continental USA orders ONLY."]
[]
[null,3,"HEPA Filter System requires Side Brush Dust Control - Dry."]
[]
[null,4,"Headlight and Tail Lights require the AU BU Alarm-Strobe on Lintel."]
[null,null,"Headlight and Tail Lights are not available without the AU BU Alarm-Strobe on Lintel"]
[]
[null,5,"Additional hard copy Operator and Parts Manuals can be ordered or digital copies can be downloaded from www.Tennantco.com."]
[]
[null,6,"Pad wrap available only in the Continental US and is the default packaging method."]
[null,null,"Customer MUST order Crate or Skid w/Carton, Non-Stackable if WITHOUT BATTERY is selected."]
[null,null,"Crate is mandatory when shipping to AK and HI.  Packaging is added at No Charge when shipping to these locations."]
[]
[null,7,"Shipping Weights and Dimensions","Pad Wrap","Crate"]
[]
[null,null,"Weight"]
[null,null,"Length"]
[null,null,"Width"]
[null,null,"Height"]

{"sheet":"Pricezones","index":26,"n_rows":42,"n_cols":13,"rows_kept":42,"cut":false,"hidden":true,"merged":[]}
["Sheetname","Green discount","Yellow","Red"," ","Product subcategories","PH2",null,"Discounts Dropdown",null,null,"US","2024-09-30"]
[null,"Level A","Level B","Level C","Level D",null,null,null,"Select a Trade-in","Select Tennant Program"]
["Dual_Tech_ReadySpace_R14",0,0.2,0.3,null,"Sweeper","327005",null,"Trade-in Scrap","Strategic Accts"]
["Dual_Tech_ReadySpace_1610",0,0.2,0.3,null,"Sweeper","327003",null,"Recon Trade-in","Strategic Alliance"]
["_R3_E5",0,0.2,0.3,null,"Sweeper","327002",null,null,"Recon Sale"]
["Carpet_Extractors",0,0.2,0.3,null,"Sweeper","327003",null,null,"Recon Trade-in"]
["Vacuums",0,0.2,0.3,null,"Sweeper","323121",null,null,"Industrial Bundling"]
["F_Series_Floor_Machine",0,0.2,0.3,null,"Sweeper","336233",null,null,"Demonstrator units, greater than 3 months, full warranty"]
["Burnishers",0,0.2,0.3,null,"Sweeper","333010",null,null,"Distributor - Commercial or Industrial"]
["B5",0,0.2,0.3,null,"Sweeper","333010",null,null,"Contracts (example GSA, Local Gov)"]
["B7",0,0.2,0.3,null,"Sweeper","333011"]
["B10",0,0.2,0.3,null,"Sweeper",null,null,null,"Contracts (example GSA, Local Gov)"]
["S9",0,0.1,0.15,null,"Sweeper","302506"]
["S7_S6",0,0.1,0.15,null,"Sweeper","302500"]
["S7",0,0.1,0.15,null,"Sweeper","302506"]
[3640,0,0.08,0.16,null,"Sweeper","302406"]
["S10",0,0.1,0.2,null,"Sweeper","302601"]
["S10_Quick_Ship",0,0.1,0.2,null,"Sweeper","302601"]
["S10_Standard_Config",0,0.1,0.2,null,"Sweeper","302601"]
[6100,0,0.1,0.2,null,"Sweeper","303050"]
["6100_Standard_Config",0,0.1,0.2,null,"Sweeper","303050"]
[6200,0,0.08,0.16,null,"Sweeper","304004"]
["S16L",0,0.08,0.16,null,"Sweeper","304004"]
["S16L_Standard_Config",0,0.08,0.16,null,"Sweeper","304004"]
["S16L_Quick_Ship",0,0.08,0.16,null,"Sweeper","304004"]
["S16H",0,0.08,0.16,null,"Sweeper","304004"]
["S16H_Standard_Config",0,0.08,0.16,null,"Sweeper","304004"]
["S16H_Quick_Ship",0,0.08,0.16,null,"Sweeper","304004"]
["S20_GLPD_Built_to_Order",0,0.08,0.16,null,"Sweeper","304053"]
["S20EV",0,0.08,0.16,null,"Sweeper","304053"]
["S20_LP_Standard_Config",0,0.08,0.16,null,"Sweeper","302601"]
["S20_LP_Quick_Ship",0,0.08,0.16,null,"Sweeper","302601"]
["S30_Built_to_Order",0,0.08,0.16,null,"Sweeper","304215"]
["S30_Standard_Config",0,0.08,0.16,null,"Sweeper","302601"]
["S30_Quick_Ship",0,0.08,0.16,null,"Sweeper","302601"]
[800,0,0.05,0.1,null,"Sweeper","304309"]
["Sentinel",0,0.05,0.1,null,"Sweeper","304403"]
[4300,0,0.08,0.12,null,"Sweeper","312013"]
["GM_400",0,0.09,0.15,null,"Sweeper","312101"]
["GM_636",0,0.09,0.15,null,"Sweeper","312104"]
["S680",0,0.2,0.3,null,"Sweeper"]
["S880",0,0.2,0.3,null,"Sweeper"]

{"sheet":"PricezonesUsers","index":27,"n_rows":21,"n_cols":11,"rows_kept":21,"cut":false,"hidden":true,"merged":[]}
["Green","Yellow","Red",null,"Level A name","Level B name","Level C name",null,null,"Governance"]
[null,"kbs6","p1g",null,null,"Boris, Kenneth","Gee, Paul",null,null,"cpn8","Peterson, Charlie"]
[null,"bcd","jws25",null,null,"Chatfield, Brant","Watters, Josh",null,null,"azn","Alicia Zahn"]
[null,"bpc","tjw",null,null,"Clifton, Brian","Watson, Terry",null,null,"lty","Lindsay Trickey"]
[null,"nck","cpn8",null,null,"Cork, William","Peterson, Charlie"]
[null,"sft2","azn",null,null,"Forrest, Stephen","Alicia Zahn"]
[null,"jhk5","lty",null,null,"Hamrick, James","Lindsay Trickey"]
[null,"kje","afd",null,null,"Josche, Kevin","Amanda Fristed"]
[null,"dek","pbn7",null,null,"Kortsha, Dennis","Bannon, Patrick"]
[null,"dlr4",null,null,null,"Lancaster, David"]
[null,"jdl",null,null,null,"Laubach, James"]
[null,"rdr3",null,null,null,"Demar, Ryan"]
[null,"mco5",null,null,null,"Cayado, Maria"]
[null,"ptn",null,null,null,"Thompson, Phil"]
[null,"jey2",null,null,null,"Emery, Josh"]
[null,"cgn13",null,null,null,"Groen, Caleb"]
[null,"msm4",null,null,null,"Satterstrom, Mike"]
[null,"jss24",null,null,null,"Stevens, Jonathan"]
[null,"rla7",null,null,null,"Lua, Raul"]
[null,"pls5",null,null,null,"Landis, Pat"]
[null,"jtt5",null,null,null,"Tolbert, Jeff"]

{"sheet":"Contact","index":28,"n_rows":43,"n_cols":6,"rows_kept":43,"cut":false,"hidden":false,"merged":[[39,0,39,5],[18,5,19,5],[16,3,16,4],[6,4,7,4],[15,3,15,4],[16,0,16,2],[18,0,19,0],[18,1,19,1],[18,2,19,2],[18,4,19,4],[18,3,19,3],[37,0,37,5]]}
["Wells Fargo Capital Solutions"]
["Equipment Finance",null,null,"Client Services:  (800) 535-1480"]
["300 E. John Carpenter Freeway, Irving, TX 75062",null,null,"Sales & Operations:  (800) 233-5103"]
["Name","Location","Function","Phone Number","Fax Number","E-Mail Address"]
["Levi Wessel","Rosemount, IL","Relationship Manager","800-258-6649 x-69235",null,"TennantSales@wellsfargo.com"]
["Pedro Hernandez","Rosemount, IL","Manufacturer Services Group","847-607-6355","888-375-3288","Pedro.Hernandez2@wellsfargo.com"]
["Customer Support Center -\nJoe Sims","Cedar Rapids, IA","Existing leases – Questions re: billing, payoffs, taxes, insurance, returns, etc.","(319) 841-7325","Please help save time & have the Account Schedule Number (Lease Number) when calling.","joseph.sims@ge.com"]
["Asset Management - \nJohn Rasmussen","Danbury, CT","Expiring leases - Questions re: Buyout to Return invoices, Payoff invoices, etc.","(203) 749-2120",null,"john.rasmussen@ge.com"]
["Canada",null,null,"Main Phone:  905-288-3689"]
["2300 Meadowvale Boulevard, Suite 200; Mississauga, ON  L5N 5P9"]
["Name","Location","Function","Phone Number","Fax Number","E-Mail Address"]
["Trevor Lee","Toronto",null,"905-288-3689",null,"trevor.lee@wellsfargo.com"]
["* All inquires for existing leases (i.e. buy out quotes, billing questions, etc.) should be directed to the Customer Support Center."]
[]
["U.S. Bank"]
["U.S.A.",null,null,"Main Phone:  (800) 934-7444"]
["1310 Madrid Street, Ste. 101, Marshall, MN 56258",null,null,"Fax to Credit:  (800) 328-9092"]
["Name","Location","Function","Phone Number","Fax Number","E-Mail Address"]
["Mark Maltese","Carol Stream, IL","Relationship Manager","(224) 363-1558",null,"mark.maltese@usbank.com"]
[]
["Kirk Grannes","Marshall, MN","Program Manager","(507) 532-1695",null,"kirk.grannes@usbank.com"]
["Brandon Pingeon","Marshall, MN","FMV end of lease buyout, off lease equipment","507-532-8535",null,"brandon.pingeon@usbank.com"]
["Josh Coil","Marshall, MN","Existing leases - All questions: billing, payoffs, taxes, insurance, returns, etc.","507-532-8495",null,"josh.coil@usbank.com"]
[]
["First Western Equipment Finance"]
["U.S.A.",null,null,"Main Phone:  (800) 477-5855 or (952) 516-7360"]
["100 Prairie Center Drive, Eden Prairie, MN 55344",null,null,"Fax to Credit:  (800) 288-4959 or (952) 516-7321"]
["Name","Location","Function","Phone Number","Fax Number","E-Mail Address"]
["Duncan Leighton","Eden Prairie, MN","Relationship Manager","952-516-7331 (office)\n612-272-1790 (cell)","(800) 288-4959\n(952) 516-7321","Duncan.Leighton@firstwesternef.com"]
[]
["National Leasing"]
["Canada",null,null,"Main Phone:  (866) 208 4540"]
["1525 Buffalo Place,Winnipeg, Manitoba, R3T 1L9",null,null,"Fax to Credit:  (877) 871-2199"]
["Name","Location","Function","Phone Number","Fax Number","E-Mail Address"]
["John Tersigni","Markham, Ontario","District Manager","(866) 208-4540","(877) 871-2199","john.tersigni@nationalleasing.com"]
["Karen Mckerracher","Winnipeg","Sales Coordinator","(877) 599-4966","(877) 871-2199","karen.mckerracher@nationalleasing.com"]
[]
["Tennant"]
["U.S.A.",null,null,"Main Phone:  (763) 540-1200"]
["P. O. Box 1452\nMinneapolis, MN 55440-1452"]
["Name","Location","Function","Phone Number","Fax Number","E-Mail Address"]
["Chris Lund","Minneapolis (Plant 1)","Product Manager, Service","(763) 513-1879","(763) 513-2112","chris.lund@tennantco.com"]
["Jodie Cooke","Minneapolis (Plant 1)","End of Lease Administrator (inspections, returns, etc.)","(763) 540-2507","(763) 513-1725","jodie.cooke@tennantco.com"]

{"sheet":"Help","index":29,"n_rows":121,"n_cols":3,"rows_kept":121,"cut":false,"hidden":false,"merged":[]}
[null,"Instructions For The Use Of The Quote/Order Spreadsheet","05/19/2025 Prices"]
[null,null,"US Date Rev - 5/6/2025"]
[null,"TO CUSTOMIZE your cover letter with your own name and region phone number, do the following:"]
[null,"1.  Change the template (adding your name and region office address/phone number to the Start Here Tab (Seller Info)"]
[null,"2.  Click on FILE , click on SAVE AS"]
[null,"3.  In the \"Save as type\" box, select Template from the drop down list"]
[null,"4.  In the \"File Name\" box, enter the name you want to use for this file"]
[null,"5.  File name should be QT25SweeperUSMay.xltm"]
[null,"6.  Click Save"]
[]
[null,"When SAVING the template after working on it, always make sure it is save as: "]
[null,"** Excel Macro-Enabled Workbook (*.xlsm)"]
[null,"This ensure that all macros remain and the template functions properly."]
[null,"Example:"]
[]
[]
[]
[]
[]
[]
[]
[]
[]
[]
[]
[null,"TennantTrue:"]
[null,"1. On ‘Start Here’ Sheet"]
[null,"a. Select both State and County information from drop down"]
[null,"b. If customer is a National Account, select ‘Yes’"]
[null,"c. If you choose to discount, enter a percent in the TennantTrue Discount area"]
[null,"2. After completing a machine quote, select ‘Yes’ next to “Is customer interested in "]
[null,"service program?” NOTE: if ‘Yes’ is not an option, make sure Step 1 above has been completed."]
[null,"3. Select anticipated Monthly machine usage"]
[null,"4. Click ‘Add to Summary’ to add data to TennantTrue Summary"]
[null,"5. When emailing to a customer:"]
[null,"a. First delete all worksheets you do not want to include.  To do this, while holding down "]
[null,"the SHIFT key, select the worksheets you wish to delete."]
[null,"b. Right Click while still pointing to one of the selected worksheets"]
[null,"c. Select 'Delete'"]
[null,"d. When the message \"Data may exist in the sheet(s) selected for deletion.  To "]
[null,"permanently delete the data, press Delete.\" appears, select 'Delete' "]
[null,"e. Go to File -> Save As -> and save as a separate file"]
[]
[null,"TO USE THE QUOTE/ORDER FORM:"]
[null,"1.  Enter all pertinent information on the Start Here sheet.  This information will be carried over to the Cover Letter and Quotation sheets.  Get as much information as you can regarding ordering information—this will save a lot of time later (and be easier to read if it is typed)."]
[null,"2 If you have access to the Tennant Intranet, you can verify leadtimes from this address:"]
[null,"Machine availablility Minneapolis, MN"]
[null,"Machine availablility Holland, MI"]
[]
[null,"3.  You may edit and customize the letter where/when appropriate."]
[null,"4.  Click on the tab of the machine you want to quote.  Scroll down the list of machine power sources and options and enter the number desired in the Quantity box.  "]
[null,"5.  Use the arrows on the bottom left to scroll to machine family tabs not visible (back and forth)."]
[null,"6.  Use the Specials area for  Freight and Tax. You may also use this space to add Trade-In, Special promotional discounts, Additional product lines being included in the quote.   Fill in the description, price, and quantity. Note: You may enter a negative amount for discounts or trade-in allowances for example"]
[null,"7.  After all items you want to quote have a quantity entered, click on Tools on your menu bar.  Click on \"Hide Blank Qty\".  The list will automatically shorten to only the items you selected to quote.  To see the entire list again, click on Tools again, click on \"Show All Qty\"."]
[]
[null,"QUOTING"]
[null,"1.  To the customer:"]
[null,"**Print or fax quote (see Fax information below)"]
[null,"2.  To Minneapolis for a formal SAP quote. "]
[null,"**Email or fax to your quote coordinator (See Fax or Email information below)"]
[null,"**Sales Support fax for Quotes (763) 513-2116"]
[]
[null,"ORDERING"]
[null,"1.  Fill in the information under Order Placement Information. "]
[null,"      "]
[null,"The following information is required to place the order:"]
[null,"   1  Order info (one of the following is attached):"]
[null,"       - Hard copy purchase order (complete)"]
[null,"       - Sales order form (complete) and signed by customer"]
[null,"   2.  Full company name and billing address (sold-to)"]
[null,"   3.  Complete Ship-to information"]
[null,"   4.  Ship-to contact name and phone number"]
[null,"   5.  Buyer’s name and phone number"]
[null,"   6.  Requested delivery date for the machine"]
[null,"   7  Complete configuration with part numbers (including brushes and detergent)"]
[null,"   8.  Credit Info: "]
[null,"       - New account or location: Completed credit application"]
[null,"       - Existing account: Updated credit info included (or not required per _______ in Credit)"]
[null,"   9.   Tax exemption certificate for ship-to state if customer wants exemption"]
[null,"   10.  SAP quotation number, if applicable, and quote is consistent with PO"]
[]
[null,"2.  Fax the form, PO, tax exemption certificate, etc. to: (763) 513-2116"]
[]
[null,"FAX"]
[null,"1.  Fax by selecting Winfax as your printer.  "]
[null,"2.  Only one excel TAB will fax at a time.  If you have multiple tabs, you must send each tab individually."]
[]
[null,"EMAIL"]
[null,"1. EMail one tab or several tabs.  When you have completed your quote, click on Option, Hide Blank Qty."]
[null,"2.  Select the tab(s) to be deleted (hold the control button down to select multiple tabs)"]
[null,"   - Note: do not select Start_Here page. If you keep this sheet, your links to your company name, contact, etc will be preserved on your quote when the customer or Customer Service gets it. You will be able to change the quote later as well because the hide/show quantities will stay in tact."]
[null,"3.  Click on Edit, click on \"Delete Sheet\", click OK."]
[null,"4.  If you intend to email the quote and do not want the Special Information at the bottom of the machine to be transmitted to your customer, delete the Special Information.  These cells have been left unprotected for this purpose."]
[null,"5.  Click File, Send and address your EMail"]
[]
[null,"FAQ"]
[null,"Q: How to I add price in the Specials area (discounts, freight, tax, etc)?  It wants a password.:"]
[null,"A. Fill in the description, price (under the heading “insert price here”), and quantity.  The extended price will calculate automatically."]
[]
[null,"Q: Who do I call for questions?"]
[null,"A. If you have any questions regarding the use of this template, please contact your local Tennant Rep or Customer Service @ (800) 553-8033 and ask for extension 2180."]
[null,"A. If you have questions regarding pricing, contact Customer Service @ (800) 553-8033 and ask for extension 2177."]
[null,"A. If you have questions regarding quotes or machine orders, contact Customer Service @ (800) 553-8033 to speak with your Quote Coordinator or Machine Specialist."]
[]
[null,"Q: I tried to take an item off the machine and the price column says --  #Value!  -- .  How do I get rid of it?"]
[null,"A: Move your cursor to the quantity column and press the delete key on your keyboard.  To avoid it in the future, do not use the space bar in the quantity column."]
[]
[null,"Finance Quote Templates Cheat Sheet"]
[]
[null,"1. Payments are calculated based on Machines Total, Purchase Options, and Terms. Any changes made to these will be calculated automatically."]
[null,"2. The Machine Total must be a minimum of $2000 for All-Lines Leasing and $5000 for GE and US bank or the payment amount will be blank."]
[null,"3. To change \"Purchase Options\" or \"Terms\", simply click on the cell. The drop down arrow will show up on the right. Click on the drop down arrow to select a value."]
[null,"4. \"Rent To Own\" is only available for 9, 12, or 18 months. Those terms AND \"Rent To Own\" option MUST be selected together to show payment, otherwise, the cell will be blank."]
[null,"5. To change vendor (All-Lines Leasing, GE, or US Bank), go to the \"Start_Here\" tab, and scroll down to \"Leasing Options\" at the end of the sheet. Select the vendor via the drop down, and then click the \"Apply Change\" button. (US Only)"]
[null,"6. Rates are updated quarterly (or more frequently if necessary). Since it is built-in the quote templates, the downloaded templates always contain the current rates. CAUTION: Make sure any version you've saved to your hard drive are the most current version."]
[null,"7. For the contract document, please contact All-Lines Leasing at 800-477-5855, GE at 800-876-6015, or US Bank at 800-934-7444."]
[]
[null,"Note: Macros – If you encounter a pop-up box bout macros when opening the file you should select “Enable Macros”. You can also go to “Tools>Macros>Security” on your menu bar and change the setting to medium to allow macros. Macros must be enabled for the worksheet to function properly."]
[]
[null,"LOGO:"]
[null,"The “Cover_Letter” tab is not protected and therefore the distributor can put their logos on it. The tennant logo itself on all the machine tabs is not protected, and can be removed if choose to. To remove the logo, just do a single left click on it and press delete.\n"]

{"sheet":"Surcharge","index":30,"n_rows":318,"n_cols":9,"rows_kept":318,"cut":false,"hidden":true,"merged":[[0,4,0,5]]}
["Material","Surcharge","PH Category*","Prod Hier 1 - nav","ProdHier*",null,"Material","Description","Surcharge"]
["1070589",{"$f":"12.5","v":12.5},"Consumables","Batteries","515010","6V Battery","1070589","BATTERY, WET, 06V 360A, HLREP.BYNONE[TR]",{"$f":"12.5","v":12.5}]
["1204144",12.5,"Consumables","Batteries","515010","6V Battery","1204144","BATTERY, WET, 06VDC 435AH, HL, W/BOX[TR]",12.5]
["1205632",12.5,"Consumables","Batteries","515010","6V Battery","1205632","BATTERY, WET, 6VDC 330AH C/20, W/CA [TR]",12.5]
["1031914",12.5,"Consumables","Batteries","515010010","6V AGM Battery","1031914","BATTERY, AGM, 06VDC 0312AH [DISCOVER]",12.5]
["1021446",12.5,"Consumables","Batteries","515010010030","6V AGM 151-200 AH Battery","1021446","BATTERY, 06VDC 0200AH [AGM]",12.5]
["1074042",12.5,"Consumables","Batteries","515010010040","6V AGM 201-300 AH Battery","1074042","BATTERY, AGM, 06VDC 0220AH [DISCOVER]",12.5]
["1038630",12.5,"Consumables","Batteries","515010020030","6V Wet 151-200 AH Battery","1038630","BATTERY, WET, 06VDC 0185AH [TR]",12.5]
["10155",12.5,"Consumables","Batteries","515010020040","6V Wet 201-300 AH Battery","10155","BATTERY, WET, 06VDC, 225AH [TR]",12.5]
["1027944",12.5,"Consumables","Batteries","515010020040","6V Wet 201-300 AH Battery","1027944","BATTERY, WET, 06VDC 0240AH, W/O CARTON",12.5]
["1028282",12.5,"Consumables","Batteries","515010020040","6V Wet 201-300 AH Battery","1028282","BATTERY, 06VDC 0220AH",12.5]
["1028600",12.5,"Consumables","Batteries","515010020040","6V Wet 201-300 AH Battery","1028600","BATTERY, WET, 06VDC 0244AH [LOC SOURCE]",12.5]
["130986",12.5,"Consumables","Batteries","515010020040","6V Wet 201-300 AH Battery","130986","BATTERY, 06VDC 0250AH [9C11]",12.5]
["222280",12.5,"Consumables","Batteries","515010020040","6V Wet 201-300 AH Battery","222280","BATTERY, WET, 06VDC 0240AH",12.5]
["222778",12.5,"Consumables","Batteries","515010020040","6V Wet 201-300 AH Battery","222778","BATTERY KIT, WET, 06VDC 0240AH, CI",12.5]
["223373",12.5,"Consumables","Batteries","515010020040","6V Wet 201-300 AH Battery","223373","BATTERY KIT, WET, 06VDC 0240AH, CI",12.5]
["390825",12.5,"Consumables","Batteries","515010020040","6V Wet 201-300 AH Battery","390825","BATTERY, WET, 06VDC 0260AH [TR]",12.5]
["10138",12.5,"Consumables","Batteries","515010020050","6V Wet 301-400 AH Battery","10138","BATTERY, WET, 06VDC 0330AH [TR]",12.5]
["1028597",12.5,"Consumables","Batteries","515010020050","6V Wet 301-400 AH Battery","1028597","BATTERY, WET, 06VDC 0335AH [LOC SOURCE]",12.5]
["1028611",12.5,"Consumables","Batteries","515010020050","6V Wet 301-400 AH Battery","1028611","BATTERY, WET, 06VDC 0350AH [LOC SOURCE]",12.5]
["1028612",12.5,"Consumables","Batteries","515010020050","6V Wet 301-400 AH Battery","1028612","BATTERY, WET, 06VDC 0305AH [LOC SOURCE]",12.5]
["1070586",12.5,"Consumables","Batteries","515010020050","6V Wet 301-400 AH Battery","1070586","BATTERY, WET, 06VDC 0360AH, W/O CARTON",12.5]
["1070587",12.5,"Consumables","Batteries","515010020050","6V Wet 301-400 AH Battery","1070587","BATTERY, WET, 06VDC 0360AH, W/ CART [TR]",12.5]
["222777",12.5,"Consumables","Batteries","515010020050","6V Wet 301-400 AH Battery","222777","BATTERY KIT, WET, 06VDC 0360AH, CI",12.5]
["222852",12.5,"Consumables","Batteries","515010020050","6V Wet 301-400 AH Battery","222852","BATTERY KIT, WET, 06VDC 0360AH, REPLMT",12.5]
["10157",12.5,"Consumables","Batteries","515010020060","6V Wet 401-500 AH Battery","10157","BATTERY, WET, 06VDC 420AH [TR]",12.5]
["1204146",12.5,"Consumables","Batteries","515010020060","6V Wet 401-500 AH Battery","1204146","BATTERY, WET, 06VDC 435AH, W/ BOX [TR]",12.5]
["390764",12.5,"Consumables","Batteries","515010030030","6V Gel 151-200 AH Battery","390764","BATTERY, GEL, 06V 0180AH [MAINT FREE TR]",12.5]
["1028279",12.5,"Consumables","Batteries","515020","12V Battery","1028279","BATTERY, 12VDC 0260CCA",12.5]
["1028284",12.5,"Consumables","Batteries","515020","12V Battery","1028284","BATTERY, 12VDC 0530CCA",12.5]
["1028285",12.5,"Consumables","Batteries","515020","12V Battery","1028285","BATTERY, 12VDC 0700CCA",12.5]
["1070603",12.5,"Consumables","Batteries","515020","12V Battery","1070603","BATTERY, WET, 12V 225A, HLREP.BYNONE[TR]",12.5]
["1206317",12.5,"Consumables","Batteries","515020","12V Battery","1206317","BATTERY, WET, 12VDC 185AH C/20, W/CA[TR]",12.5]
["9008732",{"$f":"12.5","v":12.5},"Consumables","Batteries","515020","12V Battery","9008732","BATTERY KIT, 12VDC 0040AH, CI [LI-ION]",{"$f":"12.5","v":12.5}]
["1016203",12.5,"Consumables","Batteries","515020010010","12V AGM Less than 100 AH Battery","1016203","BATTERY, AGM, 12VDC 0042AH [3610 AM, MK]",12.5]
["1065086",12.5,"Consumables","Batteries","515020010010","12V AGM Less than 100 AH Battery","1065086","BATTERY, AGM, 12VDC 0050AH [T1B, S5, MK]",12.5]
["1068827",12.5,"Consumables","Batteries","515020010010","12V AGM Less than 100 AH Battery","1068827","BATTERY, AGM, 12VDC 0026AH  [S3B, MK]",12.5]
["1053408",12.5,"Consumables","Batteries","515020010020","12V AGM 101-150 AH Battery","1053408","BATTERY, 12VDC 0140AH [AGM]",12.5]
["1053427",12.5,"Consumables","Batteries","515020010040","12V AGM 201-300 AH Battery","1053427","BATTERY, 12VDC EV185A 234AH DISCOVER AGM",12.5]
["10134",12.5,"Consumables","Batteries","515020020","12V Wet Battery","10134","BATTERY, WET, 12VDC 0260CCA",12.5]
["10137",12.5,"Consumables","Batteries","515020020","12V Wet Battery","10137","BATTERY, WET, 12VDC 0475CCA [TR]",12.5]
["10143",12.5,"Consumables","Batteries","515020020","12V Wet Battery","10143","BATTERY, WET, 12VDC 0600CCA [TR]",12.5]
["77602",12.5,"Consumables","Batteries","515020020","12V Wet Battery","77602","BATTERY, WET, 12VDC 0700CCA [TR]",12.5]
["EM011",12.5,"Consumables","Batteries","515020020010","12V Wet Less than 100 AH Battery","EM011","BATTERY  70 AMP HR DIN 570 144 064",12.5]
["1028287",12.5,"Consumables","Batteries","515020020020","12V Wet 101-150 AH Battery","1028287","BATTERY, 12VDC 0130AH",12.5]
["1073553",12.5,"Consumables","Batteries","515020020020","12V Wet 101-150 AH Battery","1073553","BATTERY, WET, 12VDC 1000CCA",12.5]
["130869",12.5,"Consumables","Batteries","515020020020","12V Wet 101-150 AH Battery","130869","BATTERY, WET, 12VDC 0130AH[30XHS-WNT TR]",12.5]
["578426",12.5,"Consumables","Batteries","515020020020","12V Wet 101-150 AH Battery","578426","BATTERY, WET, 12V 0105AH [S8, 27TMX TR]",12.5]
["602240",12.5,"Consumables","Batteries","515020020020","12V Wet 101-150 AH Battery","602240","BATTERY, 06VDC 0350AH [L16G-LT TR]",12.5]
["61355",12.5,"Consumables","Batteries","515020020020","12V Wet 101-150 AH Battery","61355","BATTERY, WET, 12VDC 0105AH 0530CCA [TR]",12.5]
["80063",12.5,"Consumables","Batteries","515020020020","12V Wet 101-150 AH Battery","80063","BATTERY, WET, 12VDC 0130AH [TR]",12.5]
["1015046",12.5,"Consumables","Batteries","515020020030","12V Wet 151-200 AH Battery","1015046","BATTERY, WET, 12VDC 0150AH",12.5]
["1028286",12.5,"Consumables","Batteries","515020020040","12V Wet 201-300 AH Battery","1028286","BATTERY, 12VDC 0215AH",12.5]
["1070591",12.5,"Consumables","Batteries","515020020040","12V Wet 201-300 AH Battery","1070591","BATTERY, WET, 12VDC 0225AH, W/ CART [TR]",12.5]
["600394",12.5,"Consumables","Batteries","515020020040","12V Wet 201-300 AH Battery","600394","BATTERY, WET, 12V 225AH, DUAL POST [TR]",12.5]
["61384",12.5,"Consumables","Batteries","515020020040","12V Wet 201-300 AH Battery","61384","BATTERY KIT, WET, F/10146, REPLMT",12.5]
["80031",12.5,"Consumables","Batteries","515020020040","12V Wet 201-300 AH Battery","80031","BATTERY, WET, 12VDC 0225AH [TR]",12.5]
["611867",12.5,"Consumables","Batteries","515020030010","12V Gel Less than 100 AH Battery","611867","BATTERY, GEL, 12VDC 0100AH [S8, CROWN]",12.5]
["994200",12.5,"Consumables","Batteries","515020030010","12V Gel Less than 100 AH Battery","994200","BATTERY, GEL, 12VDC 0076AH [GF12076V]",12.5]
["1071125",12.5,"Consumables","Batteries","515020030020","12V Gel 101-150 AH Battery","1071125","BATTERY, GEL, 12V 102AH [TRJN 31-GEL TR]",12.5]
["386334",25,"Consumables","Batteries","515030","18V Battery","386334","BATTERY, 36VDC 0600AH, SEALED",25]
["386939",25,"Consumables","Batteries","515030","18V Battery","386939","BATTERY KIT, 36VDC 1000AH, WET, CI",25]
["1049972",25,"Consumables","Batteries","515030020050","18V Wet 301-400 AH Battery","1049972","BATTERY, WET, 18VDC 0340AH",25]
["1049973",25,"Consumables","Batteries","515030020060","18V Wet 401-500 AH Battery","1049973","BATTERY, WET, 18VDC 0440AH",25]
["06564",25,"Consumables","Batteries","515030020070","18V Wet 501-600 AH Battery","06564","BATTERY SET [(2)-18VDC TYPE E]",25]
["33520",25,"Consumables","Batteries","515030020070","18V Wet 501-600 AH Battery","33520","BATTERY SET [(2)-18VDC TYPE EE]",25]
["80232",25,"Consumables","Batteries","515040020020","24V Wet 101-150 AH Battery","80232","BATTERY KIT, 24VDC, 130AH, WET, CI[3640]",25]
["383951",50,"Consumables","Batteries","515050020040","36V Wet 201-300 AH Battery","383951","BATTERY KIT, WET, 36VDC 0235AH, CI",50]
["390829",50,"Consumables","Batteries","515050020040","36V Wet 201-300 AH Battery","390829","BATTERY KIT, 36VDC, 244AH, WET, CI",50]
["83255",50,"Consumables","Batteries","515050020040","36V Wet 201-300 AH Battery","83255","BATTERY KIT, WET, 36VDC 0220AH, CI[6100]",50]
["223377",50,"Consumables","Batteries","515050020050","36V Wet 301-400 AH Battery","223377","BATTERY KIT, WET, 36VDC 0360AH, CI",50]
["383955",50,"Consumables","Batteries","515050020050","36V Wet 301-400 AH Battery","383955","BATTERY KIT, WET, 36VDC 0360AH, CI",50]
["387322",50,"Consumables","Batteries","515050020050","36V Wet 301-400 AH Battery","387322","BATTERY, WET, 36VDC 0380AH [TR]",50]
["387324",50,"Consumables","Batteries","515050020050","36V Wet 301-400 AH Battery","387324","BATTERY KIT, WET, 36VDC 0380AH, CI",50]
["386335",50,"Consumables","Batteries","515050020060","36V Wet 401-500 AH Battery","386335","BATTERY, WET, 36VDC 0500AH",50]
["386932",50,"Consumables","Batteries","515050020060","36V Wet 401-500 AH Battery","386932","BATTERY KIT, WET, 36VDC 0500AH, CI",50]
["1207937",50,"Consumables","Batteries","515050020070","36V Wet 501-600 AH Battery","1207937","BATTERY, WET, 36VDC, 510AH",50]
["1018515",50,"Consumables","Batteries","515050020090","36V Wet 701-800 AH Battery","1018515","BATTERY, WET, 36VDC 0750AH",50]
["1210315",50,"Consumables","Batteries","515050020090","36V Wet 701-800 AH Battery","1210315","BATTERY, WET, 36VDC, 750AH [W/WATERING]",50]
["386936",50,"Consumables","Batteries","515050020090","36V Wet 701-800 AH Battery","386936","BATTERY KIT, WET, 36VDC 0750AH, CI",50]
["386337",50,"Consumables","Batteries","515050020110","36V Wet 900 or higher AH Battery","386337","BATTERY, WET, 36VDC 1000AH",50]
["1028283",12.5,"Consumables","Batteries","515070","Batteries - Other","1028283","BATTERY, 06VDC 0360AH",12.5]
["1204248",12.5,"Consumables","Batteries","515070","Batteries - Other","1204248","BATTERY, 06VDC EVL16A 390AH DISCOVER AGM",12.5]
["1213281","N/A","Consumables","Batteries","515070","Batteries - Other","1213281","HOSE KIT, WATERING, BATTERY, 20FT","N/A"]
["387043","N/A","Consumables","Batteries","515070","Batteries - Other","387043","BATTERY KIT, R/O, CI","N/A"]
["9008688","N/A","Consumables","Batteries","515070","Batteries - Other","9008688","BATTERY KIT, CONV. [LI TO AGM]","N/A"]
["9008689","N/A","Consumables","Batteries","515070","Batteries - Other","9008689"," BATTERY KIT, CONV. W/O BAT [AGM TO Li+]","N/A"]
["9008690","N/A","Consumables","Batteries","515070","Batteries - Other","9008690","BATTERY REPLMT KIT, [Li+]","N/A"]
["T17-D",150,"T17"]
["T17-C",150,"T17"]
["M17-D",150,"M17"]
["M17-C",150,"M17"]
["T12-D",100,"T12"]
["T12-C",100,"T12"]
["T12-XP-D",100,"T12"]
["T12-XP-C",100,"T12"]
["T16-910-D",100,"T16"]
["T16-910-C",100,"T16"]
["6100-B",100,6100]
["6200-B",100,6200]
["S20-B",100,"S20EV"]
["MV-B5-0010",100,"B5"]
["MV-B5-0011",100,"B5"]
["MV-SG5-0006",100,"SpeedGleam5"]
["MV-B7-0008",100,"B7"]
["MV-B7-0009",100,"B7"]
["MV-SG7-0005",100,"SpeedGleam7"]
["B10-610",100,"B10"]
["B10-690",100,"B10"]
["SGR-610",100,"SpeedGleam_Rider"]
["SGR-690",100,"SpeedGleam_Rider"]
["MV-5680-0030",100,5680]
["MV-5680-0031",100,5680]
["MV-5680-0032",100,5680]
["MV-5680-0033",100,5680]
["MV-5680-0034",100,5680]
["MV-5680-0035",100,5680]
["5680-700-D",100,5680]
["5680-800-D",100,5680]
["5680-900-D",100,5680]
["5680-700-C",100,5680]
["5680-800-C",100,5680]
["5680-900-C",100,5680]
["5700-700-D",100,5700]
["5700-800-D",100,5700]
["5700-900-D",100,5700]
["5700-700-C",100,5700]
["5700-800-C",100,5700]
["5700-900-C",100,5700]
["MV-1610-0001",50,"Dual_Tech_ReadySpace_1610"]
["MV-1610-0002",50,"Dual_Tech_ReadySpace_1610"]
["MV-1610-0008",50,"Dual_Tech_ReadySpace_1610"]
["1610-560",50,"Dual_Tech_ReadySpace_1610"]
["R14-700",50,"Dual_Tech_ReadySpace_R14"]
["MV-STRV-0001",50,"DualTech_ReadySpace_Strive"]
["MV-STRV-0002",50,"DualTech_ReadySpace_Strive"]
["MV-STRV-0004",50,"DualTech_ReadySpace_Strive"]
["Strive-560",50,"DualTech_ReadySpace_Strive"]
["Strive-700",50,"DualTech_ReadySpace_StriveRider"]
["MV-SS350-0001",50,"SS350"]
["MV-SS350-0002",50,"SS350"]
["MV-SS350-0003",50,"SS350"]
["MV-SS350-0004",50,"SS350"]
["MV-SS350-0005",50,"SS350"]
["MV-SS350-0006",50,"SS350"]
["MV-SS350-0007",50,"SS350"]
["MV-SS350-0008",50,"SS350"]
["SS350-500-D",50,"SS350"]
["SS350-600-D",50,"SS350"]
["MV-SSR-0044",50,"SSR"]
["MV-SSR-0045",50,"SSR"]
["SSR-650-D",50,"SSR"]
["SSR-800-D",50,"SSR"]
["SSR-700-C",50,"SSR"]
["SSR-800-C",50,"SSR"]
["MV-T350-0001",50,"T350"]
["MV-T350-0002",50,"T350"]
["MV-T350-0003",50,"T350"]
["MV-T350-0004",50,"T350"]
["MV-T350-0005",50,"T350"]
["MV-T350-0006",50,"T350"]
["MV-T350-0007",50,"T350"]
["MV-T350-0008",50,"T350"]
["MV-T350-0009",50,"T350"]
["MV-T350-0010",50,"T350"]
["MV-T350-0011",50,"T350"]
["MV-T350-0012",50,"T350"]
["T350-500-D",50,"T350"]
["T350-600-D",50,"T350"]
["MV-T7-0051",50,"T7"]
["MV-T7-0052",50,"T7"]
["MV-T7-0053",50,"T7"]
["T7-650-D",50,"T7"]
["T7-800-D",50,"T7"]
["T7-700-C",50,"T7"]
["T7-800-C",50,"T7"]
["MV-SS300-0001",50,"SS300"]
["MV-SS300-0002",50,"SS300"]
["MV-SS300-0003",50,"SS300"]
["MV-SS300-0004",50,"SS300"]
["MV-SS300-0005",50,"SS300"]
["MV-SS300-0006",50,"SS300"]
["MV-SS300-0007",50,"SS300"]
["MV-SS300-0008",50,"SS300"]
["MV-SS300-0015",50,"SS300"]
["MV-SS300-0016",50,"SS300"]
["MV-SS300-0017",50,"SS300"]
["MV-SS300-0018",50,"SS300"]
["MV-SS300-0019",50,"SS300"]
["MV-SS300-0020",50,"SS300"]
["MV-SS300-0011",50,"SS300"]
["MV-SS300-0009",50,"SS300"]
["MV-SS300-0010",50,"SS300"]
["MV-SS300-0021",50,"SS300"]
["SS300-430-D",50,"SS300"]
["SS300-500-D",50,"SS300"]
["SS300-600-D",50,"SS300"]
["SS300-500-C",50,"SS300"]
["SS300-500-O",50,"SS300"]
["MV-SS500-0001",50,"SS500"]
["MV-SS500-0005",50,"SS500"]
["MV-SS500-0009",50,"SS500"]
["MV-SS500-0002",50,"SS500"]
["MV-SS500-0006",50,"SS500"]
["MV-SS500-0010",50,"SS500"]
["MV-SS500-0003",50,"SS500"]
["MV-SS500-0007",50,"SS500"]
["MV-SS500-0011",50,"SS500"]
["MV-SS500-0004",50,"SS500"]
["MV-SS500-0008",50,"SS500"]
["MV-SS500-0012",50,"SS500"]
["SS500-650-D",50,"SS500"]
["SS500-700-D",50,"SS500"]
["SS500-800-D",50,"SS500"]
["SS500-700-C",50,"SS500"]
["SS500-700-O",50,"SS500"]
["T12-D",50,"T12"]
["T12-C",50,"T12"]
["T12-XP-D",50,"T12"]
["T12-XP-C",50,"T12"]
["MV-T300-0001",50,"T300"]
["MV-T300-0079",50,"T300"]
["MV-T300-0080",50,"T300"]
["MV-T300-0003",50,"T300"]
["MV-T300-0004",50,"T300"]
["MV-T300-0005",50,"T300"]
["MV-T300-0006",50,"T300"]
["MV-T300-0007",50,"T300"]
["MV-T300-0008",50,"T300"]
["MV-T300-0009",50,"T300"]
["MV-T300-0066",50,"T300"]
["MV-T300-0077",50,"T300"]
["MV-T300-0078",50,"T300"]
["MV-T300-0067",50,"T300"]
["MV-T300-0068",50,"T300"]
["MV-T300-0069",50,"T300"]
["MV-T300-0070",50,"T300"]
["MV-T300-0071",50,"T300"]
["MV-T300-0072",50,"T300"]
["MV-T300-0073",50,"T300"]
["MV-T300-0012",50,"T300"]
["MV-T300-0010",50,"T300"]
["MV-T300-0011",50,"T300"]
["MV-T300-0074",50,"T300"]
["MV-T300-0075",50,"T300"]
["T300-430-D",50,"T300"]
["T300-500-D",50,"T300"]
["T300-600-D",50,"T300"]
["T300-500-C",50,"T300"]
["T300-500-O",50,"T300"]
["MV-T300e-0001",50,"T300e"]
["MV-T300e-0002",50,"T300e"]
["MV-T300e-0003",50,"T300e"]
["MV-T300e-0004",50,"T300e"]
["MV-T300e-0005",50,"T300e"]
["MV-T300e-0006",50,"T300e"]
["MV-T300e-0007",50,"T300e"]
["MV-T300e-0008",50,"T300e"]
["MV-T300e-0043",50,"T300e"]
["MV-T300e-0044",50,"T300e"]
["MV-T300e-0045",50,"T300e"]
["MV-T300e-0046",50,"T300e"]
["MV-T300e-0047",50,"T300e"]
["MV-T300e-0011",50,"T300e"]
["MV-T300e-0009",50,"T300e"]
["MV-T300e-0010",50,"T300e"]
["MV-T300e-0048",50,"T300e"]
["T300e-430-D",50,"T300e"]
["T300e-500-D",50,"T300e"]
["T300e-600-D",50,"T300e"]
["T300e-500-C",50,"T300e"]
["T300e-500-O",50,"T300e"]
["MV-T500-0001",50,"T500"]
["MV-T500-0006",50,"T500"]
["MV-T500-0002",50,"T500"]
["MV-T500-0007",50,"T500"]
["MV-T500-0011",50,"T500"]
["MV-T500-0003",50,"T500"]
["MV-T500-0008",50,"T500"]
["MV-T500-0012",50,"T500"]
["MV-T500-0004",50,"T500"]
["MV-T500-0009",50,"T500"]
["MV-T500-0013",50,"T500"]
["MV-T500-0005",50,"T500"]
["MV-T500-0010",50,"T500"]
["T500-650-D",50,"T500"]
["T500-700-D",50,"T500"]
["T500-800-D",50,"T500"]
["T500-700-C",50,"T500"]
["T500-700-O",50,"T500"]
["MV-T500e-0003",50,"T500e"]
["MV-T500e-0007",50,"T500e"]
["MV-T500e-0011",50,"T500e"]
["MV-T500e-0004",50,"T500e"]
["MV-T500e-0008",50,"T500e"]
["MV-T500e-0012",50,"T500e"]
["MV-T500e-0005",50,"T500e"]
["MV-T500e-0009",50,"T500e"]
["MV-T500e-0013",50,"T500e"]
["MV-T500e-0006",50,"T500e"]
["MV-T500e-0010",50,"T500e"]
["MV-T500e-0014",50,"T500e"]
["T500e-650-D",50,"T500e"]
["T500e-700-D",50,"T500e"]
["T500e-800-D",50,"T500e"]
["T500e-700-C",50,"T500e"]
["T500e-700-O",50,"T500e"]
["3640-E",50,3640]
["S10-B",50,"S10"]
[9008635,50,"T1b"]
[9008637,50,"SS15b"]
[1071366,50,"S9"]
[9010139,50,"Scout 9"]
[1069647,50,"S5"]
[1071118,50,"Scout 5"]
[9007471,50,"V-WD- 16B"]
[614002,50,1510]
[608351,50,"Falcon Ultra"]

{"sheet":"TennantTrue Rate","index":31,"n_rows":144,"n_cols":54,"rows_kept":144,"cut":false,"hidden":true,"merged":[[2,42,2,45],[2,46,2,49],[2,50,2,53],[2,38,2,41],[2,14,2,16],[2,18,2,20],[2,30,2,33],[3,14,3,16],[3,18,3,20],[3,2,3,4],[3,22,3,24],[2,2,2,4],[2,22,2,24],[2,6,2,8],[3,6,3,8],[3,10,3,12],[2,10,2,13],[3,30,3,32],[3,34,3,36],[2,34,2,36],[2,26,2,28],[3,26,3,28]]}
["TennantTrue Service Rates","2024-10-22"]
["2025 Service Pricing_v5.1"]
[null,null,"GOLD",null,null,null,"GOLD  PRE PAY",null,null,null,"Federal Gov't Only",null,null,null,"GOLD w/AB Brushes",null,null,null,"GOLD w/AB Brushes PrePay",null,null,null,"SILVER",null,null,null,"SILVER  ANNUALLY",null,null,null,"SILVER   PRE PAY",null,null,null,"SILVER  PER VISIT",null,null,null,"Block of Time  Commercial; Weekly\nWeekly Visits",null,null,null,"Block of Time  Commercial; BiWeekly\nBiWeekly Visits",null,null,null,"Block of Time  Industrial; Weekly\nWeekly Visits",null,null,null,"Block of Time  Industrial; BiWeekly\nBiweekly visits"]
[null,null,"Term",null,null,null,"Term",null,null,null,"Term",null,null,null,"Term",null,null,null,"Term",null,null,null,"Term",null,null,null,"Term",null,null,null,"Term",null,null,null,"Term",null,null,null,null,null,null,"Term",null,null,null,"Term",null,null,null,"Term ",null,null,null,"Term"]
["Model","Hours",36,48,60,null,36,48,60,null,36,48,60,12,36,48,60,null,36,48,60,null,36,48,60,null,36,48,60,null,36,48,60,12,36,48,60,null,36,48,60,12,36,48,60,12,36,48,60,12,36,48,60,12]
["Dual_Tech_ReadySpace_R14","30/mo or  <1/day",164.42238851421519,180.68893122354697,188.80579651345741,null,5682.2559148620003,8239.2710765498996,10647.944159044499,null,null,null,null,2674.4986621705821,null,null,null,null,null,null,null,null,88.023926948028404,90.691318673726244,93.358710399424069,null,1034.5854314721196,1066.9566902791321,1098.0330987338641,null,3041.6034775068952,4135.7520251839169,5264.8615323725135,1034.5854314721196,501.46964443119214,516.14029892253018,529.47725755101931,null,null,null,null,2814.0982706112104,null,null,null,1459.0632739567129,null,null,null,3160.8591949519291,null,null,null,1632.443736127072]
["Dual_Tech_ReadySpace_R14","60/mo or <2/day",345.10513270671669,379.27031230429287,397.18319743527564,null,11926.451739888451,17294.42358866295,22399.653958188301,null,null,null,null,null,null,null,null,null,null,null,null,null,210.7239463301286,217.39242564437319,224.06090495861773,null,2478.3435742648771,2556.0345954017066,2635.0204668908182,null,7282.238381225533,9913.3742970595085,12636.4445879054,2478.3435742648771,501.46964443119214,516.14029892253018,529.47725755101931,null,null,null,null,2814.0982706112104,null,null,null,1459.0632739567129,null,null,null,3160.8591949519291,null,null,null,1632.443736127072]
["Dual_Tech_ReadySpace_R14","90/mo or <3/day",597.34071721060332,null,null,null,20643.434596891348,null,null,null,null,null,null,null,null,null,null,null,null,null,null,null,426.7826761116529,438.78593887729306,452.12289750578213,null,5018.8399654392178,5159.978653837793,5316.655546463734,null,14749.640362827176,20008.02764343829,25499.487987459892,5018.8399654392178,501.46964443119214,516.14029892253018,529.47725755101931,null,null,null,null,2814.0982706112104,null,null,null,1459.0632739567129,null,null,null,3160.8591949519291,null,null,null,1632.443736127072]
["Dual_Tech_ReadySpace_1610","30/mo or  <1/day",120.44303725012531,128.61059874242395,136.73373740419689,null,4162.3781712628506,5864.5406731927496,7711.2738455229,null,null,null,null,2146.7464470015034,null,null,null,null,null,null,null,null,66.684793142445756,68.018489005294668,69.352184868143581,null,784.67931348198317,800.21751770934895,815.75572193671496,null,2304.8336270592904,3101.1665937117973,3911.7429142393912,784.67931348198317,392.10658367758106,404.10984644322133,420.11419679740817,null,null,null,null,2814.0982706112104,null,null,null,1459.0632739567129,null,null,null,3160.8591949519291,null,null,null,1632.443736127072]
["Dual_Tech_ReadySpace_1610","60/mo or <2/day",252.30833777314081,276.71266443252074,296.24900066869526,null,8719.4971295316009,12617.876685280951,16707.3409532115,null,null,null,null,null,null,null,null,null,null,null,null,null,145.37284905053173,149.37393663907849,153.37502422762526,null,1709.2024650102601,1757.1119280446387,1803.7265407267364,null,5024.0193668483398,6810.9128529954305,8650.895203586022,1709.2024650102601,392.10658367758106,404.10984644322133,420.11419679740817,null,null,null,null,2814.0982706112104,null,null,null,1459.0632739567129,null,null,null,3160.8591949519291,null,null,null,1632.443736127072]
["Dual_Tech_ReadySpace_1610","90/mo or <3/day",437.82917437103845,null,null,null,15130.892077716599,null,null,null,null,null,null,null,null,null,null,null,null,null,null,null,261.40438911838737,269.40656429548085,277.40873947257433,null,3073.9747363139077,3168.4988120303838,3261.7280373945796,null,9034.1709078610511,12285.540142437381,15645.676806605283,3073.9747363139077,392.10658367758106,404.10984644322133,420.11419679740817,null,null,null,null,2814.0982706112104,null,null,null,1459.0632739567129,null,null,null,3160.8591949519291,null,null,null,1632.443736127072]
["R3_E5","30/mo or  <1/day",null,null,null,null,null,null,null,null,null,null,null,null,null,null,null,null,null,null,null,null,null,null,null,null,null,null,null,null,null,null,null,null,null,null,null,null,null,null,null,2814.0982706112104,null,null,null,1459.0632739567129,null,null,null,3160.8591949519291,null,null,null,1632.443736127072]
["R3_E5","60/mo or <2/day",null,null,null,null,null,null,null,null,null,null,null,null,null,null,null,null,null,null,null,null,null,null,null,null,null,null,null,null,null,null,null,null,null,null,null,null,null,null,null,2814.0982706112104,null,null,null,1459.0632739567129,null,null,null,3160.8591949519291,null,null,null,1632.443736127072]
["R3_E5","90/mo or <3/day",null,null,null,null,null,null,null,null,null,null,null,null,null,null,null,null,null,null,null,null,null,null,null,null,null,null,null,null,null,null,null,null,null,null,null,null,null,null,null,2814.0982706112104,null,null,null,1459.0632739567129,null,null,null,3160.8591949519291,null,null,null,1632.443736127072]
["Carpet_Extractors","30/mo or  <1/day",112.33104772829567,120.47766698915169,128.59747816837495,null,3882.0367843128006,5493.6854752095005,7252.4191090351515,null,null,null,null,2049.4025727395478,null,null,null,null,null,null,null,null,56.015226239654432,57.348922102503352,58.682617965352264,null,659.07882931077449,674.61703353814039,690.15523776550663,null,1935.8012766593481,2615.5977116066101,3309.6375004289584,659.07882931077449,336.0913574379266,350.7620119292647,364.09897055775383,null,null,null,null,2814.0982706112104,null,null,null,1459.0632739567129,null,null,null,3160.8591949519291,null,null,null,1632.443736127072]
["Carpet_Extractors","60/mo or <2/day",236.04798209485443,260.44680092597622,268.56342814570661,null,8157.5572193671505,11876.166289314451,15145.977712888798,null,null,null,null,null,null,null,null,null,null,null,null,null,126.70110697064693,130.70219455919369,136.03697801058934,null,1490.3727554748555,1536.9873681569538,1600.4350354186979,null,4379.1838914126511,5960.1961715471425,7671.9883372619634,1490.3727554748555,336.0913574379266,350.7620119292647,364.09897055775383,null,null,null,null,2814.0982706112104,null,null,null,1459.0632739567129,null,null,null,3160.8591949519291,null,null,null,1632.443736127072]
["Carpet_Extractors","90/mo or <3/day",387.41115877796267,null,null,null,13388.501215327502,null,null,null,null,null,null,null,null,null,null,null,null,null,null,null,226.72829668431558,234.73047186140906,241.39895117565365,null,2666.0968753455495,2760.6209510620265,2838.3119721988564,null,7835.1394816493057,10703.233011950611,13615.35145422946,2666.0968753455495,336.0913574379266,350.7620119292647,364.09897055775383,null,null,null,null,2814.0982706112104,null,null,null,1459.0632739567129,null,null,null,3160.8591949519291,null,null,null,1632.443736127072]
["Vacuums","30/mo or  <1/day",0,null,null,null,0,null,null,null,null,null,null,null,null,null,null,null,null,null,null,null,0,null,null,null,0,null,null,null,0,null,null,null,0,null,null,null,null,null,null,2814.0982706112104,null,null,null,1459.0632739567129,null,null,null,3160.8591949519291,null,null,null,1632.443736127072]
["Vacuums","60/mo or <2/day",null,null,null,null,null,null,null,null,null,null,null,null,null,null,null,null,null,null,null,null,null,null,null,null,null,null,null,null,null,null,null,null,null,null,null,null,null,null,null,2814.0982706112104,null,null,null,1459.0632739567129,null,null,null,3160.8591949519291,null,null,null,1632.443736127072]
["Vacuums","90/mo or <3/day",null,null,null,null,null,null,null,null,null,null,null,null,null,null,null,null,null,null,null,null,null,null,null,null,null,null,null,null,null,null,null,null,null,null,null,null,null,null,null,2814.0982706112104,null,null,null,1459.0632739567129,null,null,null,3160.8591949519291,null,null,null,1632.443736127072]
["F_Series_Floor_Machine","30/mo or  <1/day",0,null,null,null,0,null,null,null,null,null,null,null,null,null,null,null,null,null,null,null,0,null,null,null,0,null,null,null,0,null,null,null,0,null,null,null,null,null,null,2814.0982706112104,null,null,null,1459.0632739567129,null,null,null,3160.8591949519291,null,null,null,1632.443736127072]
["F_Series_Floor_Machine","60/mo or <2/day",null,null,null,null,null,null,null,null,null,null,null,null,null,null,null,null,null,null,null,null,null,null,null,null,null,null,null,null,null,null,null,null,null,null,null,null,null,null,null,2814.0982706112104,null,null,null,1459.0632739567129,null,null,null,3160.8591949519291,null,null,null,1632.443736127072]
["F_Series_Floor_Machine","90/mo or <3/day",null,null,null,null,null,null,null,null,null,null,null,null,null,null,null,null,null,null,null,null,null,null,null,null,null,null,null,null,null,null,null,null,null,null,null,null,null,null,null,2814.0982706112104,null,null,null,1459.0632739567129,null,null,null,3160.8591949519291,null,null,null,1632.443736127072]
["Burnishers","30/mo or  <1/day",0,null,null,null,0,null,null,null,null,null,null,null,null,null,null,null,null,null,null,null,0,null,null,null,0,null,null,null,0,null,null,null,0,null,null,null,null,null,null,2814.0982706112104,null,null,null,1459.0632739567129,null,null,null,3160.8591949519291,null,null,null,1632.443736127072]
["Burnishers","60/mo or <2/day",null,null,null,null,null,null,null,null,null,null,null,null,null,null,null,null,null,null,null,null,null,null,null,null,null,null,null,null,null,null,null,null,null,null,null,null,null,null,null,2814.0982706112104,null,null,null,1459.0632739567129,null,null,null,3160.8591949519291,null,null,null,1632.443736127072]
["Burnishers","90/mo or <3/day",null,null,null,null,null,null,null,null,null,null,null,null,null,null,null,null,null,null,null,null,null,null,null,null,null,null,null,null,null,null,null,null,null,null,null,null,null,null,null,2814.0982706112104,null,null,null,1459.0632739567129,null,null,null,3160.8591949519291,null,null,null,1632.443736127072]
["B5","30/mo or  <1/day",112.33104772829567,120.47766698915169,128.59747816837495,null,3882.0367843128006,5493.6854752095005,7252.4191090351515,null,null,null,null,2049.4025727395478,null,null,null,null,null,null,null,null,56.015226239654432,57.348922102503352,58.682617965352264,null,659.07882931077449,674.61703353814039,690.15523776550663,null,1935.8012766593481,2615.5977116066101,3309.6375004289584,659.07882931077449,336.0913574379266,350.7620119292647,364.09897055775383,null,null,null,null,2814.0982706112104,null,null,null,1459.0632739567129,null,null,null,3160.8591949519291,null,null,null,1632.443736127072]
["B5","60/mo or <2/day",236.04798209485443,260.44680092597622,268.56342814570661,null,8157.5572193671505,11876.166289314451,15145.977712888798,null,null,null,null,null,null,null,null,null,null,null,null,null,126.70110697064693,130.70219455919369,136.03697801058934,null,1490.3727554748555,1536.9873681569538,1600.4350354186979,null,4379.1838914126511,5960.1961715471425,7671.9883372619634,1490.3727554748555,336.0913574379266,350.7620119292647,364.09897055775383,null,null,null,null,2814.0982706112104,null,null,null,1459.0632739567129,null,null,null,3160.8591949519291,null,null,null,1632.443736127072]
["B5","90/mo or <3/day",387.41115877796267,null,null,null,13388.501215327502,null,null,null,null,null,null,null,null,null,null,null,null,null,null,null,226.72829668431558,234.73047186140906,241.39895117565365,null,2666.0968753455495,2760.6209510620265,2838.3119721988564,null,7835.1394816493057,10703.233011950611,13615.35145422946,2666.0968753455495,336.0913574379266,350.7620119292647,364.09897055775383,null,null,null,null,2814.0982706112104,null,null,null,1459.0632739567129,null,null,null,3160.8591949519291,null,null,null,1632.443736127072]
["B7","30/mo or  <1/day",112.33104772829567,120.47766698915169,128.59747816837495,null,3882.0367843128006,5493.6854752095005,7252.4191090351515,null,null,null,null,2049.4025727395478,null,null,null,null,null,null,null,null,56.015226239654432,57.348922102503352,58.682617965352264,null,659.07882931077449,674.61703353814039,690.15523776550663,null,1935.8012766593481,2615.5977116066101,3309.6375004289584,659.07882931077449,336.0913574379266,350.7620119292647,364.09897055775383,null,null,null,null,2814.0982706112104,null,null,null,1459.0632739567129,null,null,null,3160.8591949519291,null,null,null,1632.443736127072]
["B7","60/mo or <2/day",236.04798209485443,260.44680092597622,268.56342814570661,null,8157.5572193671505,11876.166289314451,15145.977712888798,null,null,null,null,null,null,null,null,null,null,null,null,null,126.70110697064693,130.70219455919369,136.03697801058934,null,1490.3727554748555,1536.9873681569538,1600.4350354186979,null,4379.1838914126511,5960.1961715471425,7671.9883372619634,1490.3727554748555,336.0913574379266,350.7620119292647,364.09897055775383,null,null,null,null,2814.0982706112104,null,null,null,1459.0632739567129,null,null,null,3160.8591949519291,null,null,null,1632.443736127072]
["B7","90/mo or <3/day",387.41115877796267,null,null,null,13388.501215327502,null,null,null,null,null,null,null,null,null,null,null,null,null,null,null,226.72829668431558,234.73047186140906,241.39895117565365,null,2666.0968753455495,2760.6209510620265,2838.3119721988564,null,7835.1394816493057,10703.233011950611,13615.35145422946,2666.0968753455495,336.0913574379266,350.7620119292647,364.09897055775383,null,null,null,null,2814.0982706112104,null,null,null,1459.0632739567129,null,null,null,3160.8591949519291,null,null,null,1632.443736127072]
["B10","30/mo or  <1/day",148.12565620130181,164.39549845682185,172.5555691630075,null,5119.0588684332006,7496.303544319052,9731.4918223333498,null,null,null,null,2478.937874415622,null,null,null,null,null,null,null,null,88.023926948028404,90.691318673726244,93.358710399424069,null,1034.5854314721196,1066.9566902791321,1098.0330987338641,null,3041.6034775068952,4135.7520251839169,5264.8615323725135,1034.5854314721196,501.46964443119214,516.14029892253018,529.47725755101931,null,null,null,null,2814.0982706112104,null,null,null,1459.0632739567129,null,null,null,3160.8591949519291,null,null,null,1632.443736127072]
["B10","60/mo or <2/day",304.39967855906031,336.92392866691597,345.08884720482109,null,10519.716260080799,15363.46228662135,19461.726508402349,null,null,null,null,null,null,null,null,null,null,null,null,null,210.7239463301286,217.39242564437319,224.06090495861773,null,2478.3435742648771,2556.0345954017066,2635.0204668908182,null,7282.238381225533,9913.3742970595085,12636.4445879054,2478.3435742648771,501.46964443119214,516.14029892253018,529.47725755101931,null,null,null,null,2814.0982706112104,null,null,null,1459.0632739567129,null,null,null,3160.8591949519291,null,null,null,1632.443736127072]
["B10","90/mo or <3/day",540.41128401928779,null,null,null,18676.016343183604,null,null,null,null,null,null,null,null,null,null,null,null,null,null,null,357.43049124350927,368.10005814630068,378.76962504909181,null,4203.0842435025033,4328.6847276737117,4454.2852118449209,null,12352.872360755971,16785.145116612126,21362.44111192369,4203.0842435025033,501.46964443119214,516.14029892253018,529.47725755101931,null,null,null,null,2814.0982706112104,null,null,null,1459.0632739567129,null,null,null,3160.8591949519291,null,null,null,1632.443736127072]
["S7_S6","30/mo or  <1/day",112.33104772829567,120.47766698915169,128.59747816837495,null,3882.0367843128006,5493.6854752095005,7252.4191090351515,null,null,null,null,2049.4025727395478,182.31969275071822,190.44844932747367,201.8461024119666,null,6300.7669569221998,8684.2973141298007,11383.368873689251,null,69.352184868143581,72.019576593841421,74.686968319539247,null,815.75572193671496,846.83213039144698,877.908538846179,null,2396.7680020712055,3283.7404933833482,4212.148195968467,815.75572193671496,433.45115542589747,446.78811405438654,460.12507268287573,null,null,null,null,2814.0982706112104,null,null,null,1459.0632739567129,null,null,null,3160.8591949519291,null,null,null,1632.443736127072]
["S7_S6","60/mo or <2/day",236.04798209485443,260.44680092597622,268.56342814570661,null,8157.5572193671505,11876.166289314451,15145.977712888798,null,null,null,null,null,310.91109615730022,336.92392866691597,345.08884720482109,null,10744.743651399449,15363.46228662135,19461.726508402349,null,165.3782869932655,170.71307044466113,176.04785389605681,null,1944.8652291253111,2007.0180460347751,2070.4657132965199,null,5715.4694549661262,7784.6403179103672,9928.9125012868735,1944.8652291253111,433.45115542589747,446.78811405438654,460.12507268287573,null,null,null,null,2814.0982706112104,null,null,null,1459.0632739567129,null,null,null,3160.8591949519291,null,null,null,1632.443736127072]
["S7_S6","90/mo or <3/day",421.60519532737914,null,null,null,14570.2093038165,null,null,null,null,null,null,null,553.43411921576762,null,null,null,19126.071125820901,null,null,null,281.40982706112112,289.4120022382146,297.41417741530807,null,3309.6375004289584,3402.8667257931547,3497.3908015096313,null,9725.6209959788339,13197.114790442856,16774.786313793877,3309.6375004289584,433.45115542589747,446.78811405438654,460.12507268287573,null,null,null,null,2814.0982706112104,null,null,null,1459.0632739567129,null,null,null,3160.8591949519291,null,null,null,1632.443736127072]
["S8","30/mo or  <1/day",null,null,null,null,null,null,null,null,null,null,null,null,null,null,null,null,null,null,null,null,69.352184868143581,72.019576593841421,74.686968319539247,null,815.75572193671496,846.83213039144698,877.908538846179,null,2396.7680020712055,3283.7404933833482,4212.148195968467,815.75572193671496,433.45115542589747,446.78811405438654,460.12507268287573,null,null,null,null,2814.0982706112104,null,null,null,1459.0632739567129,null,null,null,3160.8591949519291,null,null,null,1632.443736127072]
["S8","60/mo or <2/day",null,null,null,null,null,null,null,null,null,null,null,null,null,null,null,null,null,null,null,null,165.3782869932655,170.71307044466113,176.04785389605681,null,1944.8652291253111,2007.0180460347751,2070.4657132965199,null,5715.4694549661262,7784.6403179103672,9928.9125012868735,1944.8652291253111,433.45115542589747,446.78811405438654,460.12507268287573,null,null,null,null,2814.0982706112104,null,null,null,1459.0632739567129,null,null,null,3160.8591949519291,null,null,null,1632.443736127072]
["S8","90/mo or <3/day",null,null,null,null,null,null,null,null,null,null,null,null,null,null,null,null,null,null,null,null,281.40982706112112,289.4120022382146,297.41417741530807,null,3309.6375004289584,3402.8667257931547,3497.3908015096313,null,9725.6209959788339,13197.114790442856,16774.786313793877,3309.6375004289584,433.45115542589747,446.78811405438654,460.12507268287573,null,null,null,null,2814.0982706112104,null,null,null,1459.0632739567129,null,null,null,3160.8591949519291,null,null,null,1632.443736127072]
["S9","30/mo or  <1/day",null,null,null,null,null,null,null,null,null,null,null,null,null,null,null,null,null,null,null,null,69.352184868143581,72.019576593841421,74.686968319539247,null,815.75572193671496,846.83213039144698,877.908538846179,null,2396.7680020712055,3283.7404933833482,4212.148195968467,815.75572193671496,433.45115542589747,446.78811405438654,460.12507268287573,null,null,null,null,2814.0982706112104,null,null,null,1459.0632739567129,null,null,null,3160.8591949519291,null,null,null,1632.443736127072]
["S9","60/mo or <2/day",null,null,null,null,null,null,null,null,null,null,null,null,null,null,null,null,null,null,null,null,165.3782869932655,170.71307044466113,176.04785389605681,null,1944.8652291253111,2007.0180460347751,2070.4657132965199,null,5715.4694549661262,7784.6403179103672,9928.9125012868735,1944.8652291253111,433.45115542589747,446.78811405438654,460.12507268287573,null,null,null,null,2814.0982706112104,null,null,null,1459.0632739567129,null,null,null,3160.8591949519291,null,null,null,1632.443736127072]
["S9","90/mo or <3/day",null,null,null,null,null,null,null,null,null,null,null,null,null,null,null,null,null,null,null,null,281.40982706112112,289.4120022382146,297.41417741530807,null,3309.6375004289584,3402.8667257931547,3497.3908015096313,null,9725.6209959788339,13197.114790442856,16774.786313793877,3309.6375004289584,433.45115542589747,446.78811405438654,460.12507268287573,null,null,null,null,2814.0982706112104,null,null,null,1459.0632739567129,null,null,null,3160.8591949519291,null,null,null,1632.443736127072]
[3640,"30/mo or  <1/day",136.73976956303869,156.26256670354957,164.39701880599159,null,4725.5752176916503,7125.4483463358001,9271.3799495812491,null,null,null,null,2342.3072347564639,209.96593506726768,226.26091830205212,234.39113935525441,null,7256.1905178282004,10317.31732152045,13218.787819640253,null,69.352184868143581,72.019576593841421,74.686968319539247,null,815.75572193671496,846.83213039144698,877.908538846179,null,2396.7680020712055,3283.7404933833482,4212.148195968467,815.75572193671496,433.45115542589747,446.78811405438654,460.12507268287573,null,null,null,null,2814.0982706112104,null,null,null,1459.0632739567129,null,null,null,3160.8591949519291,null,null,null,1632.443736127072]
[3640,"60/mo or <2/day",296.25131240260362,328.79099691364371,336.95258796899913,null,10238.117736866401,14992.607088638104,19002.871771914601,null,null,null,null,null,371.11442646504935,405.29569391476406,415.08296775408382,null,12825.304168898701,18481.16022220935,23409.134378461345,null,165.3782869932655,170.71307044466113,176.04785389605681,null,1944.8652291253111,2007.0180460347751,2070.4657132965199,null,5715.4694549661262,7784.6403179103672,9928.9125012868735,1944.8652291253111,433.45115542589747,446.78811405438654,460.12507268287573,null,null,null,null,2814.0982706112104,null,null,null,1459.0632739567129,null,null,null,3160.8591949519291,null,null,null,1632.443736127072]
[3640,"90/mo or <3/day",506.25362410449833,null,null,null,17495.565390958949,null,null,null,null,null,null,null,639.68311991647636,null,null,null,22106.741208594751,null,null,null,281.40982706112112,289.4120022382146,297.41417741530807,null,3309.6375004289584,3402.8667257931547,3497.3908015096313,null,9725.6209959788339,13197.114790442856,16774.786313793877,3309.6375004289584,433.45115542589747,446.78811405438654,460.12507268287573,null,null,null,null,2814.0982706112104,null,null,null,1459.0632739567129,null,null,null,3160.8591949519291,null,null,null,1632.443736127072]
["S10","30/mo or  <1/day",148.12565620130181,164.39549845682185,172.5555691630075,null,5119.0588684332006,7496.303544319052,9731.4918223333498,null,null,null,null,2478.937874415622,218.11430122372434,234.39385005532441,244.15465043824074,null,7537.7890410426007,10688.172519503702,13769.413503425552,null,69.352184868143581,72.019576593841421,74.686968319539247,null,815.75572193671496,846.83213039144698,877.908538846179,null,2396.7680020712055,3283.7404933833482,4212.148195968467,815.75572193671496,433.45115542589747,446.78811405438654,460.12507268287573,null,null,null,null,2814.0982706112104,null,null,null,1459.0632739567129,null,null,null,3160.8591949519291,null,null,null,1632.443736127072]
["S10","60/mo or <2/day",345.10513270671669,379.27031230429287,397.18319743527564,null,11926.451739888451,17294.42358866295,22399.653958188301,null,null,null,null,null,423.24214388559591,459.00061274654144,475.31357722036034,null,14626.780435712251,20930.06166516315,26805.916564735053,null,165.3782869932655,170.71307044466113,176.04785389605681,null,1944.8652291253111,2007.0180460347751,2070.4657132965199,null,5715.4694549661262,7784.6403179103672,9928.9125012868735,1944.8652291253111,433.45115542589747,446.78811405438654,460.12507268287573,null,null,null,null,2814.0982706112104,null,null,null,1459.0632739567129,null,null,null,3160.8591949519291,null,null,null,1632.443736127072]
["S10","90/mo or <3/day",581.11673816694406,null,null,null,20082.751822991253,null,null,null,null,null,null,null,717.82013109535569,null,null,null,24807.069904418553,null,null,null,281.40982706112112,289.4120022382146,297.41417741530807,null,3309.6375004289584,3402.8667257931547,3497.3908015096313,null,9725.6209959788339,13197.114790442856,16774.786313793877,3309.6375004289584,433.45115542589747,446.78811405438654,460.12507268287573,null,null,null,null,2814.0982706112104,null,null,null,1459.0632739567129,null,null,null,3160.8591949519291,null,null,null,1632.443736127072]
["S10_Standard_Config","30/mo or  <1/day",148.12565620130181,164.39549845682185,172.5555691630075,null,5119.0588684332006,7496.303544319052,9731.4918223333498,null,null,null,null,2478.937874415622,218.11430122372434,234.39385005532441,244.15465043824074,null,7537.7890410426007,10688.172519503702,13769.413503425552,null,69.352184868143581,72.019576593841421,74.686968319539247,null,815.75572193671496,846.83213039144698,877.908538846179,null,2396.7680020712055,3283.7404933833482,4212.148195968467,815.75572193671496,433.45115542589747,446.78811405438654,460.12507268287573,null,null,null,null,2814.0982706112104,null,null,null,1459.0632739567129,null,null,null,3160.8591949519291,null,null,null,1632.443736127072]
["S10_Standard_Config","60/mo or <2/day",345.10513270671669,379.27031230429287,397.18319743527564,null,11926.451739888451,17294.42358866295,22399.653958188301,null,null,null,null,null,423.24214388559591,459.00061274654144,475.31357722036034,null,14626.780435712251,20930.06166516315,26805.916564735053,null,165.3782869932655,170.71307044466113,176.04785389605681,null,1944.8652291253111,2007.0180460347751,2070.4657132965199,null,5715.4694549661262,7784.6403179103672,9928.9125012868735,1944.8652291253111,433.45115542589747,446.78811405438654,460.12507268287573,null,null,null,null,2814.0982706112104,null,null,null,1459.0632739567129,null,null,null,3160.8591949519291,null,null,null,1632.443736127072]
["S10_Standard_Config","90/mo or <3/day",581.11673816694406,null,null,null,20082.751822991253,null,null,null,null,null,null,null,717.82013109535569,null,null,null,24807.069904418553,null,null,null,281.40982706112112,289.4120022382146,297.41417741530807,null,3309.6375004289584,3402.8667257931547,3497.3908015096313,null,9725.6209959788339,13197.114790442856,16774.786313793877,3309.6375004289584,433.45115542589747,446.78811405438654,460.12507268287573,null,null,null,null,2814.0982706112104,null,null,null,1459.0632739567129,null,null,null,3160.8591949519291,null,null,null,1632.443736127072]
["S10_Quick_Ship","30/mo or  <1/day",148.12565620130181,164.39549845682185,172.5555691630075,null,5119.0588684332006,7496.303544319052,9731.4918223333498,null,null,null,null,2478.937874415622,218.11430122372434,234.39385005532441,244.15465043824074,null,7537.7890410426007,10688.172519503702,13769.413503425552,null,69.352184868143581,72.019576593841421,74.686968319539247,null,815.75572193671496,846.83213039144698,877.908538846179,null,2396.7680020712055,3283.7404933833482,4212.148195968467,815.75572193671496,433.45115542589747,446.78811405438654,460.12507268287573,null,null,null,null,2814.0982706112104,null,null,null,1459.0632739567129,null,null,null,3160.8591949519291,null,null,null,1632.443736127072]
["S10_Quick_Ship","60/mo or <2/day",345.10513270671669,379.27031230429287,397.18319743527564,null,11926.451739888451,17294.42358866295,22399.653958188301,null,null,null,null,null,423.24214388559591,459.00061274654144,475.31357722036034,null,14626.780435712251,20930.06166516315,26805.916564735053,null,165.3782869932655,170.71307044466113,176.04785389605681,null,1944.8652291253111,2007.0180460347751,2070.4657132965199,null,5715.4694549661262,7784.6403179103672,9928.9125012868735,1944.8652291253111,433.45115542589747,446.78811405438654,460.12507268287573,null,null,null,null,2814.0982706112104,null,null,null,1459.0632739567129,null,null,null,3160.8591949519291,null,null,null,1632.443736127072]
["S10_Quick_Ship","90/mo or <3/day",581.11673816694406,null,null,null,20082.751822991253,null,null,null,null,null,null,null,717.82013109535569,null,null,null,24807.069904418553,null,null,null,281.40982706112112,289.4120022382146,297.41417741530807,null,3309.6375004289584,3402.8667257931547,3497.3908015096313,null,9725.6209959788339,13197.114790442856,16774.786313793877,3309.6375004289584,433.45115542589747,446.78811405438654,460.12507268287573,null,null,null,null,2814.0982706112104,null,null,null,1459.0632739567129,null,null,null,3160.8591949519291,null,null,null,1632.443736127072]
[6100,"30/mo or  <1/day",208.32898650905094,224.60676269121714,240.92243786510605,null,7199.6193859324503,10241.889145659448,13587.128745094798,null,null,null,null,3201.3778381086113,314.14861663910676,332.07173887513318,348.32105977795584,null,10856.628778926601,15142.206304095749,19644.011266733098,null,98.693493850819721,101.36088557651753,104.02827730221537,null,1160.1859156433281,1192.5571744503407,1223.6335829050727,null,3410.6358279068377,4622.6157576413843,5866.9669461829453,1160.1859156433281,473.46203131136485,486.79898993985393,501.46964443119214,null,null,null,null,2814.0982706112104,null,null,null,1459.0632739567129,null,null,null,3160.8591949519291,null,null,null,1632.443736127072]
[6100,"60/mo or <2/day",472.05958755508192,522.49261894242625,540.42594222813,null,16313.857302469951,23825.246481961203,30478.011592901399,null,null,null,null,null,587.59177913055703,639.66197470990789,655.98311449799587,null,20306.522078045549,29168.075605448703,36995.005987291792,null,226.72829668431558,234.73047186140906,241.39895117565365,null,2666.0968753455495,2760.6209510620265,2838.3119721988564,null,7835.1394816493057,10703.233011950611,13615.35145422946,2666.0968753455495,473.46203131136485,486.79898993985393,501.46964443119214,null,null,null,null,2814.0982706112104,null,null,null,1459.0632739567129,null,null,null,3160.8591949519291,null,null,null,1632.443736127072]
[6100,"90/mo or <3/day",724.33154869359566,null,null,null,25032.097295737203,null,null,null,null,null,null,null,948.95726751555992,null,null,null,32794.913728098451,null,null,null,377.43592918624296,388.10549608903426,398.77506299182562,null,4438.7470076175541,4564.3474917887625,4689.9479759599717,null,13044.322448873761,17698.014614969878,22491.550619112288,4438.7470076175541,473.46203131136485,486.79898993985393,501.46964443119214,null,null,null,null,2814.0982706112104,null,null,null,1459.0632739567129,null,null,null,3160.8591949519291,null,null,null,1632.443736127072]
["6100_Standard_Config","30/mo or  <1/day",208.32898650905094,224.60676269121714,240.92243786510605,null,7199.6193859324503,10241.889145659448,13587.128745094798,null,null,null,null,3201.3778381086113,314.14861663910676,332.07173887513318,348.32105977795584,null,10856.628778926601,15142.206304095749,19644.011266733098,null,98.693493850819721,101.36088557651753,104.02827730221537,null,1160.1859156433281,1192.5571744503407,1223.6335829050727,null,3410.6358279068377,4622.6157576413843,5866.9669461829453,1160.1859156433281,473.46203131136485,486.79898993985393,501.46964443119214,null,null,null,null,2814.0982706112104,null,null,null,1459.0632739567129,null,null,null,3160.8591949519291,null,null,null,1632.443736127072]
["6100_Standard_Config","60/mo or <2/day",472.05958755508192,522.49261894242625,540.42594222813,null,16313.857302469951,23825.246481961203,30478.011592901399,null,null,null,null,null,587.59177913055703,639.66197470990789,655.98311449799587,null,20306.522078045549,29168.075605448703,36995.005987291792,null,226.72829668431558,234.73047186140906,241.39895117565365,null,2666.0968753455495,2760.6209510620265,2838.3119721988564,null,7835.1394816493057,10703.233011950611,13615.35145422946,2666.0968753455495,473.46203131136485,486.79898993985393,501.46964443119214,null,null,null,null,2814.0982706112104,null,null,null,1459.0632739567129,null,null,null,3160.8591949519291,null,null,null,1632.443736127072]
["6100_Standard_Config","90/mo or <3/day",724.33154869359566,null,null,null,25032.097295737203,null,null,null,null,null,null,null,948.95726751555992,null,null,null,32794.913728098451,null,null,null,377.43592918624296,388.10549608903426,398.77506299182562,null,4438.7470076175541,4564.3474917887625,4689.9479759599717,null,13044.322448873761,17698.014614969878,22491.550619112288,4438.7470076175541,473.46203131136485,486.79898993985393,501.46964443119214,null,null,null,null,2814.0982706112104,null,null,null,1459.0632739567129,null,null,null,3160.8591949519291,null,null,null,1632.443736127072]
[6200,"30/mo or  <1/day",null,null,null,null,null,null,null,null,null,null,null,null,null,null,null,null,null,null,null,null,98.693493850819721,101.36088557651753,104.02827730221537,null,1160.1859156433281,1192.5571744503407,1223.6335829050727,null,3410.6358279068377,4622.6157576413843,5866.9669461829453,1160.1859156433281,473.46203131136485,486.79898993985393,501.46964443119214,null,null,null,null,2814.0982706112104,null,null,null,1459.0632739567129,null,null,null,3160.8591949519291,null,null,null,1632.443736127072]
[6200,"60/mo or <2/day",null,null,null,null,null,null,null,null,null,null,null,null,null,null,null,null,null,null,null,null,226.72829668431558,234.73047186140906,241.39895117565365,null,2666.0968753455495,2760.6209510620265,2838.3119721988564,null,7835.1394816493057,10703.233011950611,13615.35145422946,2666.0968753455495,473.46203131136485,486.79898993985393,501.46964443119214,null,null,null,null,2814.0982706112104,null,null,null,1459.0632739567129,null,null,null,3160.8591949519291,null,null,null,1632.443736127072]
[6200,"90/mo or <3/day",null,null,null,null,null,null,null,null,null,null,null,null,null,null,null,null,null,null,null,null,377.43592918624296,388.10549608903426,398.77506299182562,null,4438.7470076175541,4564.3474917887625,4689.9479759599717,null,13044.322448873761,17698.014614969878,22491.550619112288,4438.7470076175541,473.46203131136485,486.79898993985393,501.46964443119214,null,null,null,null,2814.0982706112104,null,null,null,1459.0632739567129,null,null,null,3160.8591949519291,null,null,null,1632.443736127072]
["S16L","30/mo or  <1/day",208.32898650905094,224.60676269121714,240.92243786510605,null,7199.6193859324503,10241.889145659448,13587.128745094798,null,null,null,null,3201.3778381086113,314.14861663910676,332.07173887513318,348.32105977795584,null,10856.628778926601,15142.206304095749,19644.011266733098,null,98.693493850819721,101.36088557651753,104.02827730221537,null,1160.1859156433281,1192.5571744503407,1223.6335829050727,null,3410.6358279068377,4622.6157576413843,5866.9669461829453,1160.1859156433281,473.46203131136485,486.79898993985393,501.46964443119214,null,null,null,null,2814.0982706112104,null,null,null,1459.0632739567129,null,null,null,3160.8591949519291,null,null,null,1632.443736127072]
["S16L","60/mo or <2/day",472.05958755508192,522.49261894242625,540.42594222813,null,16313.857302469951,23825.246481961203,30478.011592901399,null,null,null,null,null,587.59177913055703,639.66197470990789,655.98311449799587,null,20306.522078045549,29168.075605448703,36995.005987291792,null,226.72829668431558,234.73047186140906,241.39895117565365,null,2666.0968753455495,2760.6209510620265,2838.3119721988564,null,7835.1394816493057,10703.233011950611,13615.35145422946,2666.0968753455495,473.46203131136485,486.79898993985393,501.46964443119214,null,null,null,null,2814.0982706112104,null,null,null,1459.0632739567129,null,null,null,3160.8591949519291,null,null,null,1632.443736127072]
["S16L","90/mo or <3/day",724.33154869359566,800.83186972560145,833.39814808130257,null,25032.097295737203,36517.2942068388,47000.55351525345,null,null,null,null,null,948.95726751555992,1027.0652187674727,1062.9075318950638,null,32794.913728098451,46833.354392094901,59944.028493001053,null,377.43592918624296,388.10549608903426,398.77506299182562,null,4438.7470076175541,4564.3474917887625,4689.9479759599717,null,13044.322448873761,17698.014614969878,22491.550619112288,4438.7470076175541,473.46203131136485,486.79898993985393,501.46964443119214,null,null,null,null,2814.0982706112104,null,null,null,1459.0632739567129,null,null,null,3160.8591949519291,null,null,null,1632.443736127072]
["S16L_Standard_Config","30/mo or  <1/day",208.32898650905094,224.60676269121714,240.92243786510605,null,7199.6193859324503,10241.889145659448,13587.128745094798,null,null,null,null,3201.3778381086113,314.14861663910676,332.07173887513318,348.32105977795584,null,10856.628778926601,15142.206304095749,19644.011266733098,null,98.693493850819721,101.36088557651753,104.02827730221537,null,1160.1859156433281,1192.5571744503407,1223.6335829050727,null,3410.6358279068377,4622.6157576413843,5866.9669461829453,1160.1859156433281,473.46203131136485,486.79898993985393,501.46964443119214,null,null,null,null,2814.0982706112104,null,null,null,1459.0632739567129,null,null,null,3160.8591949519291,null,null,null,1632.443736127072]
["S16L_Standard_Config","60/mo or <2/day",472.05958755508192,522.49261894242625,540.42594222813,null,16313.857302469951,23825.246481961203,30478.011592901399,null,null,null,null,null,587.59177913055703,639.66197470990789,655.98311449799587,null,20306.522078045549,29168.075605448703,36995.005987291792,null,226.72829668431558,234.73047186140906,241.39895117565365,null,2666.0968753455495,2760.6209510620265,2838.3119721988564,null,7835.1394816493057,10703.233011950611,13615.35145422946,2666.0968753455495,473.46203131136485,486.79898993985393,501.46964443119214,null,null,null,null,2814.0982706112104,null,null,null,1459.0632739567129,null,null,null,3160.8591949519291,null,null,null,1632.443736127072]
["S16L_Standard_Config","90/mo or <3/day",724.33154869359566,800.83186972560145,833.39814808130257,null,25032.097295737203,36517.2942068388,47000.55351525345,null,null,null,null,null,948.95726751555992,1027.0652187674727,1062.9075318950638,null,32794.913728098451,46833.354392094901,59944.028493001053,null,377.43592918624296,388.10549608903426,398.77506299182562,null,4438.7470076175541,4564.3474917887625,4689.9479759599717,null,13044.322448873761,17698.014614969878,22491.550619112288,4438.7470076175541,473.46203131136485,486.79898993985393,501.46964443119214,null,null,null,null,2814.0982706112104,null,null,null,1459.0632739567129,null,null,null,3160.8591949519291,null,null,null,1632.443736127072]
["S16L_Quick_Ship","30/mo or  <1/day",208.32898650905094,224.60676269121714,240.92243786510605,null,7199.6193859324503,10241.889145659448,13587.128745094798,null,null,null,null,3201.3778381086113,314.14861663910676,332.07173887513318,348.32105977795584,null,10856.628778926601,15142.206304095749,19644.011266733098,null,98.693493850819721,101.36088557651753,104.02827730221537,null,1160.1859156433281,1192.5571744503407,1223.6335829050727,null,3410.6358279068377,4622.6157576413843,5866.9669461829453,1160.1859156433281,473.46203131136485,486.79898993985393,501.46964443119214,null,null,null,null,2814.0982706112104,null,null,null,1459.0632739567129,null,null,null,3160.8591949519291,null,null,null,1632.443736127072]
["S16L_Quick_Ship","60/mo or <2/day",472.05958755508192,522.49261894242625,540.42594222813,null,16313.857302469951,23825.246481961203,30478.011592901399,null,null,null,null,null,587.59177913055703,639.66197470990789,655.98311449799587,null,20306.522078045549,29168.075605448703,36995.005987291792,null,226.72829668431558,234.73047186140906,241.39895117565365,null,2666.0968753455495,2760.6209510620265,2838.3119721988564,null,7835.1394816493057,10703.233011950611,13615.35145422946,2666.0968753455495,473.46203131136485,486.79898993985393,501.46964443119214,null,null,null,null,2814.0982706112104,null,null,null,1459.0632739567129,null,null,null,3160.8591949519291,null,null,null,1632.443736127072]
["S16L_Quick_Ship","90/mo or <3/day",724.33154869359566,800.83186972560145,833.39814808130257,null,25032.097295737203,36517.2942068388,47000.55351525345,null,null,null,null,null,948.95726751555992,1027.0652187674727,1062.9075318950638,null,32794.913728098451,46833.354392094901,59944.028493001053,null,377.43592918624296,388.10549608903426,398.77506299182562,null,4438.7470076175541,4564.3474917887625,4689.9479759599717,null,13044.322448873761,17698.014614969878,22491.550619112288,4438.7470076175541,473.46203131136485,486.79898993985393,501.46964443119214,null,null,null,null,2814.0982706112104,null,null,null,1459.0632739567129,null,null,null,3160.8591949519291,null,null,null,1632.443736127072]
["S16H","30/mo or  <1/day",208.32898650905094,224.60676269121714,240.92243786510605,null,7199.6193859324503,10241.889145659448,13587.128745094798,null,null,null,null,3201.3778381086113,314.14861663910676,332.07173887513318,348.32105977795584,null,10856.628778926601,15142.206304095749,19644.011266733098,null,98.693493850819721,101.36088557651753,104.02827730221537,null,1160.1859156433281,1192.5571744503407,1223.6335829050727,null,3410.6358279068377,4622.6157576413843,5866.9669461829453,1160.1859156433281,473.46203131136485,486.79898993985393,501.46964443119214,null,null,null,null,2814.0982706112104,null,null,null,1459.0632739567129,null,null,null,3160.8591949519291,null,null,null,1632.443736127072]
["S16H","60/mo or <2/day",472.05958755508192,522.49261894242625,540.42594222813,null,16313.857302469951,23825.246481961203,30478.011592901399,null,null,null,null,null,587.59177913055703,639.66197470990789,655.98311449799587,null,20306.522078045549,29168.075605448703,36995.005987291792,null,226.72829668431558,234.73047186140906,241.39895117565365,null,2666.0968753455495,2760.6209510620265,2838.3119721988564,null,7835.1394816493057,10703.233011950611,13615.35145422946,2666.0968753455495,473.46203131136485,486.79898993985393,501.46964443119214,null,null,null,null,2814.0982706112104,null,null,null,1459.0632739567129,null,null,null,3160.8591949519291,null,null,null,1632.443736127072]
["S16H","90/mo or <3/day",724.33154869359566,800.83186972560145,833.39814808130257,null,25032.097295737203,36517.2942068388,47000.55351525345,null,null,null,null,null,948.95726751555992,1027.0652187674727,1062.9075318950638,null,32794.913728098451,46833.354392094901,59944.028493001053,null,377.43592918624296,388.10549608903426,398.77506299182562,null,4438.7470076175541,4564.3474917887625,4689.9479759599717,null,13044.322448873761,17698.014614969878,22491.550619112288,4438.7470076175541,473.46203131136485,486.79898993985393,501.46964443119214,null,null,null,null,2814.0982706112104,null,null,null,1459.0632739567129,null,null,null,3160.8591949519291,null,null,null,1632.443736127072]
["S16H_Standard_Config","30/mo or  <1/day",208.32898650905094,224.60676269121714,240.92243786510605,null,7199.6193859324503,10241.889145659448,13587.128745094798,null,null,null,null,3201.3778381086113,314.14861663910676,332.07173887513318,348.32105977795584,null,10856.628778926601,15142.206304095749,19644.011266733098,null,98.693493850819721,101.36088557651753,104.02827730221537,null,1160.1859156433281,1192.5571744503407,1223.6335829050727,null,3410.6358279068377,4622.6157576413843,5866.9669461829453,1160.1859156433281,473.46203131136485,486.79898993985393,501.46964443119214,null,null,null,null,2814.0982706112104,null,null,null,1459.0632739567129,null,null,null,3160.8591949519291,null,null,null,1632.443736127072]
["S16H_Standard_Config","60/mo or <2/day",472.05958755508192,522.49261894242625,540.42594222813,null,16313.857302469951,23825.246481961203,30478.011592901399,null,null,null,null,null,587.59177913055703,639.66197470990789,655.98311449799587,null,20306.522078045549,29168.075605448703,36995.005987291792,null,226.72829668431558,234.73047186140906,241.39895117565365,null,2666.0968753455495,2760.6209510620265,2838.3119721988564,null,7835.1394816493057,10703.233011950611,13615.35145422946,2666.0968753455495,473.46203131136485,486.79898993985393,501.46964443119214,null,null,null,null,2814.0982706112104,null,null,null,1459.0632739567129,null,null,null,3160.8591949519291,null,null,null,1632.443736127072]
["S16H_Standard_Config","90/mo or <3/day",724.33154869359566,800.83186972560145,833.39814808130257,null,25032.097295737203,36517.2942068388,47000.55351525345,null,null,null,null,null,948.95726751555992,1027.0652187674727,1062.9075318950638,null,32794.913728098451,46833.354392094901,59944.028493001053,null,377.43592918624296,388.10549608903426,398.77506299182562,null,4438.7470076175541,4564.3474917887625,4689.9479759599717,null,13044.322448873761,17698.014614969878,22491.550619112288,4438.7470076175541,473.46203131136485,486.79898993985393,501.46964443119214,null,null,null,null,2814.0982706112104,null,null,null,1459.0632739567129,null,null,null,3160.8591949519291,null,null,null,1632.443736127072]
["S16H_Quick_Ship","30/mo or  <1/day",208.32898650905094,224.60676269121714,240.92243786510605,null,7199.6193859324503,10241.889145659448,13587.128745094798,null,null,null,null,3201.3778381086113,314.14861663910676,332.07173887513318,348.32105977795584,null,10856.628778926601,15142.206304095749,19644.011266733098,null,98.693493850819721,101.36088557651753,104.02827730221537,null,1160.1859156433281,1192.5571744503407,1223.6335829050727,null,3410.6358279068377,4622.6157576413843,5866.9669461829453,1160.1859156433281,473.46203131136485,486.79898993985393,501.46964443119214,null,null,null,null,2814.0982706112104,null,null,null,1459.0632739567129,null,null,null,3160.8591949519291,null,null,null,1632.443736127072]
["S16H_Quick_Ship","60/mo or <2/day",472.05958755508192,522.49261894242625,540.42594222813,null,16313.857302469951,23825.246481961203,30478.011592901399,null,null,null,null,null,587.59177913055703,639.66197470990789,655.98311449799587,null,20306.522078045549,29168.075605448703,36995.005987291792,null,226.72829668431558,234.73047186140906,241.39895117565365,null,2666.0968753455495,2760.6209510620265,2838.3119721988564,null,7835.1394816493057,10703.233011950611,13615.35145422946,2666.0968753455495,473.46203131136485,486.79898993985393,501.46964443119214,null,null,null,null,2814.0982706112104,null,null,null,1459.0632739567129,null,null,null,3160.8591949519291,null,null,null,1632.443736127072]
["S16H_Quick_Ship","90/mo or <3/day",724.33154869359566,800.83186972560145,833.39814808130257,null,25032.097295737203,36517.2942068388,47000.55351525345,null,null,null,null,null,948.95726751555992,1027.0652187674727,1062.9075318950638,null,32794.913728098451,46833.354392094901,59944.028493001053,null,377.43592918624296,388.10549608903426,398.77506299182562,null,4438.7470076175541,4564.3474917887625,4689.9479759599717,null,13044.322448873761,17698.014614969878,22491.550619112288,4438.7470076175541,473.46203131136485,486.79898993985393,501.46964443119214,null,null,null,null,2814.0982706112104,null,null,null,1459.0632739567129,null,null,null,3160.8591949519291,null,null,null,1632.443736127072]
["S20_GLPD_Built_to_Order","30/mo or  <1/day",172.17738276537602,185.628740793921,199.08009882246603,null,5950.0259391685504,8464.2984678685498,11228.741113174201,null,null,null,null,2767.5585931845121,259.61120995091852,274.40770378231804,287.85906181086307,null,8972.1815186659496,12513.534375339901,16234.6577178159,null,141.37176146198502,145.37284905053173,149.37393663907849,null,1662.5878523281622,1709.2024650102601,1757.1119280446387,null,4885.4703791543261,6629.6338036761617,8424.296391936934,1662.5878523281622,673.51641073870212,694.85554454428461,714.86098248701853,null,null,null,null,2814.0982706112104,null,null,null,1459.0632739567129,null,null,null,3160.8591949519291,null,null,null,1632.443736127072]
["S20_GLPD_Built_to_Order","60/mo or <2/day",390.08938282780508,431.78859271629454,446.58508654769395,null,13481.529298889402,19689.2681722497,25187.982192516603,null,null,null,null,null,485.59402483047455,528.6383705218185,542.08972855036347,null,16781.511992808151,24105.587868911254,30573.553948991997,null,330.75657398653101,340.0924450264734,349.42831606641579,null,3889.7304582506222,3999.7927381944646,4109.8550181383071,null,11430.938909932252,15508.422669263548,19707.622361709211,3889.7304582506222,673.51641073870212,694.85554454428461,714.86098248701853,null,null,null,null,2814.0982706112104,null,null,null,1459.0632739567129,null,null,null,3160.8591949519291,null,null,null,1632.443736127072]
["S20_GLPD_Built_to_Order","90/mo or <3/day",598.58543227025257,661.80681500441415,688.70953106150409,null,20687.4343661436,30178.813161986101,38842.996295886296,null,null,null,null,null,784.21417306417356,848.78069160118969,878.37367926398849,null,27102.60072312165,38704.711306807803,49539.968769240448,null,517.47399478537898,532.14464927671713,548.14899963090409,null,6085.7966557183499,6258.011752571656,6445.7650536523288,null,17884.473065698268,24265.495601736569,30915.84701104922,6085.7966557183499,673.51641073870212,694.85554454428461,714.86098248701853,null,null,null,null,2814.0982706112104,null,null,null,1459.0632739567129,null,null,null,3160.8591949519291,null,null,null,1632.443736127072]
["S20EV","30/mo or  <1/day",172.17738276537602,185.628740793921,199.08009882246603,null,5950.0259391685504,8464.2984678685498,11228.741113174201,null,null,null,null,2767.5585931845121,259.61120995091852,274.40770378231804,287.85906181086307,null,8972.1815186659496,12513.534375339901,16234.6577178159,null,141.37176146198502,145.37284905053173,149.37393663907849,null,1662.5878523281622,1709.2024650102601,1757.1119280446387,null,4885.4703791543261,6629.6338036761617,8424.296391936934,1662.5878523281622,673.51641073870212,694.85554454428461,714.86098248701853,null,null,null,null,2814.0982706112104,null,null,null,1459.0632739567129,null,null,null,3160.8591949519291,null,null,null,1632.443736127072]
["S20EV","60/mo or <2/day",390.08938282780508,431.78859271629454,446.58508654769395,null,13481.529298889402,19689.2681722497,25187.982192516603,null,null,null,null,null,485.59402483047455,528.6383705218185,542.08972855036347,null,16781.511992808151,24105.587868911254,30573.553948991997,null,330.75657398653101,340.0924450264734,349.42831606641579,null,3889.7304582506222,3999.7927381944646,4109.8550181383071,null,11430.938909932252,15508.422669263548,19707.622361709211,3889.7304582506222,673.51641073870212,694.85554454428461,714.86098248701853,null,null,null,null,2814.0982706112104,null,null,null,1459.0632739567129,null,null,null,3160.8591949519291,null,null,null,1632.443736127072]
["S20EV","90/mo or <3/day",598.58543227025257,661.80681500441415,688.70953106150409,null,20687.4343661436,30178.813161986101,38842.996295886296,null,null,null,null,null,784.21417306417356,848.78069160118969,878.37367926398849,null,27102.60072312165,38704.711306807803,49539.968769240448,null,517.47399478537898,532.14464927671713,548.14899963090409,null,6085.7966557183499,6258.011752571656,6445.7650536523288,null,17884.473065698268,24265.495601736569,30915.84701104922,6085.7966557183499,673.51641073870212,694.85554454428461,714.86098248701853,null,null,null,null,2814.0982706112104,null,null,null,1459.0632739567129,null,null,null,3160.8591949519291,null,null,null,1632.443736127072]
["S20_LP_Standard_Config","30/mo or  <1/day",172.17738276537602,185.628740793921,199.08009882246603,null,5950.0259391685504,8464.2984678685498,11228.741113174201,null,null,null,null,2767.5585931845121,259.61120995091852,274.40770378231804,287.85906181086307,null,8972.1815186659496,12513.534375339901,16234.6577178159,null,141.37176146198502,145.37284905053173,149.37393663907849,null,1662.5878523281622,1709.2024650102601,1757.1119280446387,null,4885.4703791543261,6629.6338036761617,8424.296391936934,1662.5878523281622,673.51641073870212,694.85554454428461,714.86098248701853,null,null,null,null,2814.0982706112104,null,null,null,1459.0632739567129,null,null,null,3160.8591949519291,null,null,null,1632.443736127072]
["S20_LP_Standard_Config","60/mo or <2/day",390.08938282780508,431.78859271629454,446.58508654769395,null,13481.529298889402,19689.2681722497,25187.982192516603,null,null,null,null,null,485.59402483047455,528.6383705218185,542.08972855036347,null,16781.511992808151,24105.587868911254,30573.553948991997,null,330.75657398653101,340.0924450264734,349.42831606641579,null,3889.7304582506222,3999.7927381944646,4109.8550181383071,null,11430.938909932252,15508.422669263548,19707.622361709211,3889.7304582506222,673.51641073870212,694.85554454428461,714.86098248701853,null,null,null,null,2814.0982706112104,null,null,null,1459.0632739567129,null,null,null,3160.8591949519291,null,null,null,1632.443736127072]
["S20_LP_Standard_Config","90/mo or <3/day",598.58543227025257,661.80681500441415,688.70953106150409,null,20687.4343661436,30178.813161986101,38842.996295886296,null,null,null,null,null,784.21417306417356,848.78069160118969,878.37367926398849,null,27102.60072312165,38704.711306807803,49539.968769240448,null,517.47399478537898,532.14464927671713,548.14899963090409,null,6085.7966557183499,6258.011752571656,6445.7650536523288,null,17884.473065698268,24265.495601736569,30915.84701104922,6085.7966557183499,673.51641073870212,694.85554454428461,714.86098248701853,null,null,null,null,2814.0982706112104,null,null,null,1459.0632739567129,null,null,null,3160.8591949519291,null,null,null,1632.443736127072]
["S20_LP_Quick_Ship","30/mo or  <1/day",172.17738276537602,185.628740793921,199.08009882246603,null,5950.0259391685504,8464.2984678685498,11228.741113174201,null,null,null,null,2767.5585931845121,259.61120995091852,274.40770378231804,287.85906181086307,null,8972.1815186659496,12513.534375339901,16234.6577178159,null,141.37176146198502,145.37284905053173,149.37393663907849,null,1662.5878523281622,1709.2024650102601,1757.1119280446387,null,4885.4703791543261,6629.6338036761617,8424.296391936934,1662.5878523281622,673.51641073870212,694.85554454428461,714.86098248701853,null,null,null,null,2814.0982706112104,null,null,null,1459.0632739567129,null,null,null,3160.8591949519291,null,null,null,1632.443736127072]
["S20_LP_Quick_Ship","60/mo or <2/day",390.08938282780508,431.78859271629454,446.58508654769395,null,13481.529298889402,19689.2681722497,25187.982192516603,null,null,null,null,null,485.59402483047455,528.6383705218185,542.08972855036347,null,16781.511992808151,24105.587868911254,30573.553948991997,null,330.75657398653101,340.0924450264734,349.42831606641579,null,3889.7304582506222,3999.7927381944646,4109.8550181383071,null,11430.938909932252,15508.422669263548,19707.622361709211,3889.7304582506222,673.51641073870212,694.85554454428461,714.86098248701853,null,null,null,null,2814.0982706112104,null,null,null,1459.0632739567129,null,null,null,3160.8591949519291,null,null,null,1632.443736127072]
["S20_LP_Quick_Ship","90/mo or <3/day",598.58543227025257,661.80681500441415,688.70953106150409,null,20687.4343661436,30178.813161986101,38842.996295886296,null,null,null,null,null,784.21417306417356,848.78069160118969,878.37367926398849,null,27102.60072312165,38704.711306807803,49539.968769240448,null,517.47399478537898,532.14464927671713,548.14899963090409,null,6085.7966557183499,6258.011752571656,6445.7650536523288,null,17884.473065698268,24265.495601736569,30915.84701104922,6085.7966557183499,673.51641073870212,694.85554454428461,714.86098248701853,null,null,null,null,2814.0982706112104,null,null,null,1459.0632739567129,null,null,null,3160.8591949519291,null,null,null,1632.443736127072]
["S30_Built_to_Order","30/mo or  <1/day",260.4567039295975,284.87316544597348,301.13075621018845,null,9001.0956527460003,12989.98901952855,16982.653795104154,null,null,null,null,3826.9104471551695,366.23995742502626,392.28300310952841,408.5516692442323,null,12656.8479094758,17887.791905436152,23040.793453006801,null,141.37176146198502,145.37284905053173,149.37393663907849,null,1662.5878523281622,1709.2024650102601,1757.1119280446387,null,4885.4703791543261,6629.6338036761617,8424.296391936934,1662.5878523281622,673.51641073870212,694.85554454428461,714.86098248701853,null,null,null,null,2814.0982706112104,null,null,null,1459.0632739567129,null,null,null,3160.8591949519291,null,null,null,1632.443736127072]
["S30_Built_to_Order","60/mo or <2/day",572.96837201048731,633.15562930729016,657.63265746635432,null,19801.153299776848,28871.391447062098,37088.034070853697,null,null,null,null,null,690.13751214417925,750.35255433495217,776.44433343054891,null,23850.389207248201,34215.477706813952,43788.570359839199,null,330.75657398653101,340.0924450264734,349.42831606641579,null,3889.7304582506222,3999.7927381944646,4109.8550181383071,null,11430.938909932252,15508.422669263548,19707.622361709211,3889.7304582506222,673.51641073870212,694.85554454428461,714.86098248701853,null,null,null,null,2814.0982706112104,null,null,null,1459.0632739567129,null,null,null,3160.8591949519291,null,null,null,1632.443736127072]
["S30_Built_to_Order","90/mo or <3/day",942.44584991732006,1035.1981505207452,1087.3163096025296,null,32569.886336779804,47204.20959007815,61320.592702464302,null,null,null,null,null,1173.5829863375241,1267.9378449652349,1321.7297400789782,null,40557.730160459701,57816.953933720855,74540.637658368898,null,517.47399478537898,532.14464927671713,548.14899963090409,null,6085.7966557183499,6258.011752571656,6445.7650536523288,null,17884.473065698268,24265.495601736569,30915.84701104922,6085.7966557183499,673.51641073870212,694.85554454428461,714.86098248701853,null,null,null,null,2814.0982706112104,null,null,null,1459.0632739567129,null,null,null,3160.8591949519291,null,null,null,1632.443736127072]
["S30_Standard_Config","30/mo or  <1/day",260.4567039295975,284.87316544597348,301.13075621018845,null,9001.0956527460003,12989.98901952855,16982.653795104154,null,null,null,null,3826.9104471551695,366.23995742502626,392.28300310952841,408.5516692442323,null,12656.8479094758,17887.791905436152,23040.793453006801,null,141.37176146198502,145.37284905053173,149.37393663907849,null,1662.5878523281622,1709.2024650102601,1757.1119280446387,null,4885.4703791543261,6629.6338036761617,8424.296391936934,1662.5878523281622,673.51641073870212,694.85554454428461,714.86098248701853,null,null,null,null,2814.0982706112104,null,null,null,1459.0632739567129,null,null,null,3160.8591949519291,null,null,null,1632.443736127072]
["S30_Standard_Config","60/mo or <2/day",572.96837201048731,633.15562930729016,657.63265746635432,null,19801.153299776848,28871.391447062098,37088.034070853697,null,null,null,null,null,690.13751214417925,750.35255433495217,776.44433343054891,null,23850.389207248201,34215.477706813952,43788.570359839199,null,330.75657398653101,340.0924450264734,349.42831606641579,null,3889.7304582506222,3999.7927381944646,4109.8550181383071,null,11430.938909932252,15508.422669263548,19707.622361709211,3889.7304582506222,673.51641073870212,694.85554454428461,714.86098248701853,null,null,null,null,2814.0982706112104,null,null,null,1459.0632739567129,null,null,null,3160.8591949519291,null,null,null,1632.443736127072]
["S30_Standard_Config","90/mo or <3/day",942.44584991732006,1035.1981505207452,1087.3163096025296,null,32569.886336779804,47204.20959007815,61320.592702464302,null,null,null,null,null,1173.5829863375241,1267.9378449652349,1321.7297400789782,null,40557.730160459701,57816.953933720855,74540.637658368898,null,517.47399478537898,532.14464927671713,548.14899963090409,null,6085.7966557183499,6258.011752571656,6445.7650536523288,null,17884.473065698268,24265.495601736569,30915.84701104922,6085.7966557183499,673.51641073870212,694.85554454428461,714.86098248701853,null,null,null,null,2814.0982706112104,null,null,null,1459.0632739567129,null,null,null,3160.8591949519291,null,null,null,1632.443736127072]
["S30_Quick_Ship","30/mo or  <1/day",260.4567039295975,284.87316544597348,301.13075621018845,null,9001.0956527460003,12989.98901952855,16982.653795104154,null,null,null,null,3826.9104471551695,366.23995742502626,392.28300310952841,408.5516692442323,null,12656.8479094758,17887.791905436152,23040.793453006801,null,141.37176146198502,145.37284905053173,149.37393663907849,null,1662.5878523281622,1709.2024650102601,1757.1119280446387,null,4885.4703791543261,6629.6338036761617,8424.296391936934,1662.5878523281622,673.51641073870212,694.85554454428461,714.86098248701853,null,null,null,null,2814.0982706112104,null,null,null,1459.0632739567129,null,null,null,3160.8591949519291,null,null,null,1632.443736127072]
["S30_Quick_Ship","60/mo or <2/day",572.96837201048731,633.15562930729016,657.63265746635432,null,19801.153299776848,28871.391447062098,37088.034070853697,null,null,null,null,null,690.13751214417925,750.35255433495217,776.44433343054891,null,23850.389207248201,34215.477706813952,43788.570359839199,null,330.75657398653101,340.0924450264734,349.42831606641579,null,3889.7304582506222,3999.7927381944646,4109.8550181383071,null,11430.938909932252,15508.422669263548,19707.622361709211,3889.7304582506222,673.51641073870212,694.85554454428461,714.86098248701853,null,null,null,null,2814.0982706112104,null,null,null,1459.0632739567129,null,null,null,3160.8591949519291,null,null,null,1632.443736127072]
["S30_Quick_Ship","90/mo or <3/day",942.44584991732006,1035.1981505207452,1087.3163096025296,null,32569.886336779804,47204.20959007815,61320.592702464302,null,null,null,null,null,1173.5829863375241,1267.9378449652349,1321.7297400789782,null,40557.730160459701,57816.953933720855,74540.637658368898,null,517.47399478537898,532.14464927671713,548.14899963090409,null,6085.7966557183499,6258.011752571656,6445.7650536523288,null,17884.473065698268,24265.495601736569,30915.84701104922,6085.7966557183499,673.51641073870212,694.85554454428461,714.86098248701853,null,null,null,null,2814.0982706112104,null,null,null,1459.0632739567129,null,null,null,3160.8591949519291,null,null,null,1632.443736127072]
[800,"30/mo or  <1/day",380.89974117972281,413.42862566803626,441.11899730871409,null,13163.473824008852,18852.015420192602,24877.46953522215,null,null,null,null,5272.2268941566745,488.31994323336824,522.49261894242625,550.18945331111649,null,16875.797212634403,23825.246481961203,31028.637276686703,null,192.05220425024376,197.38698770163944,202.72177115303506,null,2258.2190143771923,2321.6666816389366,2383.8194985484001,null,6637.4029057898424,9000.5047987017551,11433.528610636817,2258.2190143771923,934.92079985708949,962.92841297691655,989.60233023389492,null,null,null,null,2814.0982706112104,null,null,null,1459.0632739567129,null,null,null,3160.8591949519291,null,null,null,1632.443736127072]
[800,"60/mo or <2/day",885.4800400913773,978.24005898765893,1018.9717320216251,null,30601.210946807703,44606.966067931055,57466.212915967204,null,null,null,null,null,1009.160597823309,1105.196502119248,1149.1964620371646,null,34875.474245597703,50396.078565262796,64810.402972299911,null,453.45659336863116,466.79355199712029,480.13051062560942,null,5332.193750691099,5488.8706433170391,5646.8423862952595,null,15671.573813650892,21286.044941139138,27079.205417242098,5332.193750691099,934.92079985708949,962.92841297691655,989.60233023389492,null,null,null,null,2814.0982706112104,null,null,null,1459.0632739567129,null,null,null,3160.8591949519291,null,null,null,1632.443736127072]
[800,"90/mo or <3/day",1458.375658832611,1600.0095838403677,1676.5598072455916,null,50399.849974055855,72959.160237816599,94551.7327142922,null,null,null,null,null,1699.2981099674882,1847.3885554407475,1925.6185043465198,null,58725.863452845908,84239.443937829128,108597.71619587475,null,754.87185837248592,780.21207976661549,802.88490943504712,null,8877.4940152351082,9175.3095962596235,9442.048768829407,null,26088.644897747523,35577.308279259014,45282.211669601362,8877.4940152351082,934.92079985708949,962.92841297691655,989.60233023389492,null,null,null,null,2814.0982706112104,null,null,null,1459.0632739567129,null,null,null,3160.8591949519291,null,null,null,1632.443736127072]
[810,"30/mo or  <1/day",380.89974117972281,413.42862566803626,441.11899730871409,null,13163.473824008852,18852.015420192602,24877.46953522215,null,null,null,null,5272.2268941566745,488.31994323336824,522.49261894242625,550.18945331111649,null,16875.797212634403,23825.246481961203,31028.637276686703,null,192.05220425024376,197.38698770163944,202.72177115303506,null,2258.2190143771923,2321.6666816389366,2383.8194985484001,null,6637.4029057898424,9000.5047987017551,11433.528610636817,2258.2190143771923,934.92079985708949,962.92841297691655,989.60233023389492,null,null,null,null,2814.0982706112104,null,null,null,1459.0632739567129,null,null,null,3160.8591949519291,null,null,null,1632.443736127072]
[810,"60/mo or <2/day",885.4800400913773,978.24005898765893,1018.9717320216251,null,30601.210946807703,44606.966067931055,57466.212915967204,null,null,null,null,null,1009.160597823309,1105.196502119248,1149.1964620371646,null,34875.474245597703,50396.078565262796,64810.402972299911,null,453.45659336863116,466.79355199712029,480.13051062560942,null,5332.193750691099,5488.8706433170391,5646.8423862952595,null,15671.573813650892,21286.044941139138,27079.205417242098,5332.193750691099,934.92079985708949,962.92841297691655,989.60233023389492,null,null,null,null,2814.0982706112104,null,null,null,1459.0632739567129,null,null,null,3160.8591949519291,null,null,null,1632.443736127072]
[810,"90/mo or <3/day",1458.375658832611,1600.0095838403677,1676.5598072455916,null,50399.849974055855,72959.160237816599,94551.7327142922,null,null,null,null,null,1699.2981099674882,1847.3885554407475,1925.6185043465198,null,58725.863452845908,84239.443937829128,108597.71619587475,null,754.87185837248592,780.21207976661549,802.88490943504712,null,8877.4940152351082,9175.3095962596235,9442.048768829407,null,26088.644897747523,35577.308279259014,45282.211669601362,8877.4940152351082,934.92079985708949,962.92841297691655,989.60233023389492,null,null,null,null,2814.0982706112104,null,null,null,1459.0632739567129,null,null,null,3160.8591949519291,null,null,null,1632.443736127072]
["Sentinel","30/mo or  <1/day",1298.0560497545926,1427.1890868286248,1498.4812843799134,null,44860.90759332975,65079.430132870795,84514.756779721793,null,null,null,null,16278.102597055111,null,null,null,null,null,null,null,null,262.73808498123623,270.74026015832982,278.74243533542329,null,3089.5129405412731,3184.0370162577497,3278.5610919742262,null,9080.785520543146,12346.39810899457,15720.778127037553,3089.5129405412731,1236.3360648609441,1271.0121572950161,1304.3545538662395,null,null,null,null,2814.0982706112104,null,null,null,1459.0632739567129,null,null,null,3160.8591949519291,null,null,null,1632.443736127072]
["Sentinel","60/mo or <2/day",3042.6971860568792,3342.6624700934326,3509.4593096473909,null,105155.67710408443,152425.2577799088,197933.5905493788,null,null,null,null,null,null,null,null,null,null,null,null,null,598.82944241916289,616.16748863619887,633.50553485323474,null,7042.6910660536387,7245.9825713616774,7450.5689270219973,null,20695.593180499229,28096.957794134571,35730.100620828125,7042.6910660536387,1236.3360648609441,1271.0121572950161,1304.3545538662395,null,null,null,null,2814.0982706112104,null,null,null,1459.0632739567129,null,null,null,3160.8591949519291,null,null,null,1632.443736127072]
["Sentinel","90/mo or <3/day",5063.0911619443386,5570.2073596204846,5848.6504708113671,null,174980.79663487652,254001.86793938882,329863.75581158965,null,null,null,null,null,null,null,null,null,null,null,null,null,1002.9392888623843,1032.2805978450604,1065.6229944162833,null,11794.791858923074,12139.22205262969,12531.561709370681,null,34661.849080196705,47071.69485645301,60101.773951451702,11794.791858923074,1236.3360648609441,1271.0121572950161,1304.3545538662395,null,null,null,null,2814.0982706112104,null,null,null,1459.0632739567129,null,null,null,3160.8591949519291,null,null,null,1632.443736127072]
[830,"30/mo or  <1/day",null,null,null,null,null,null,null,null,null,null,null,null,null,null,null,null,null,null,null,null,262.73808498123623,270.74026015832982,278.74243533542329,null,3089.5129405412731,3184.0370162577497,3278.5610919742262,null,9080.785520543146,12346.39810899457,15720.778127037553,3089.5129405412731,1236.3360648609441,1271.0121572950161,1304.3545538662395,null,null,null,null,2814.0982706112104,null,null,null,1459.0632739567129,null,null,null,3160.8591949519291,null,null,null,1632.443736127072]
[830,"60/mo or <2/day",null,null,null,null,null,null,null,null,null,null,null,null,null,null,null,null,null,null,null,null,598.82944241916289,616.16748863619887,633.50553485323474,null,7042.6910660536387,7245.9825713616774,7450.5689270219973,null,20695.593180499229,28096.957794134571,35730.100620828125,7042.6910660536387,1236.3360648609441,1271.0121572950161,1304.3545538662395,null,null,null,null,2814.0982706112104,null,null,null,1459.0632739567129,null,null,null,3160.8591949519291,null,null,null,1632.443736127072]
[830,"90/mo or <3/day",null,null,null,null,null,null,null,null,null,null,null,null,null,null,null,null,null,null,null,null,1002.9392888623843,1032.2805978450604,1065.6229944162833,null,11794.791858923074,12139.22205262969,12531.561709370681,null,34661.849080196705,47071.69485645301,60101.773951451702,11794.791858923074,1236.3360648609441,1271.0121572950161,1304.3545538662395,null,null,null,null,2814.0982706112104,null,null,null,1459.0632739567129,null,null,null,3160.8591949519291,null,null,null,1632.443736127072]
[4300,"30/mo or  <1/day",268.60507008605418,293.00609719924574,310.89426729317478,null,9282.6941759604015,13360.844217511802,17533.279478889453,null,null,null,null,3924.6908410326505,null,null,null,null,null,null,null,null,120.03262765640235,124.03371524494909,128.03480283349583,null,1411.3868839857453,1458.0014966678427,1505.9109597022218,null,4148.7005287067223,5655.9063387612241,7221.3804146683497,1411.3868839857453,577.49030861358028,598.82944241916289,618.83488036189647,null,null,null,null,2814.0982706112104,null,null,null,1459.0632739567129,null,null,null,3160.8591949519291,null,null,null,1632.443736127072]
[4300,"60/mo or <2/day",625.02333616177998,682.0083583472848,716.21372396427228,null,21600.115294061699,31099.036907490303,40391.788173565496,null,null,null,null,null,null,null,null,null,null,null,null,null,281.40982706112112,289.4120022382146,297.41417741530807,null,3309.6375004289584,3402.8667257931547,3497.3908015096313,null,9725.6209959788339,13197.114790442856,16774.786313793877,3309.6375004289584,577.49030861358028,598.82944241916289,618.83488036189647,null,null,null,null,2814.0982706112104,null,null,null,1459.0632739567129,null,null,null,3160.8591949519291,null,null,null,1632.443736127072]
[4300,"90/mo or <3/day",1018.9459125379825,1121.4623656257922,1170.3284449291077,null,35213.643900707852,51137.788961229307,66002.168150903701,null,null,null,null,null,null,null,null,null,null,null,null,null,466.79355199712029,480.13051062560942,494.80116511694746,null,5488.8706433170391,5646.8423862952595,5819.0574831485665,null,16132.540539062747,21893.329756358693,27906.614792349341,5488.8706433170391,577.49030861358028,598.82944241916289,618.83488036189647,null,null,null,null,2814.0982706112104,null,null,null,1459.0632739567129,null,null,null,3160.8591949519291,null,null,null,1632.443736127072]
["Litter_Hawk","30/mo or  <1/day",null,null,null,null,null,null,null,null,null,null,null,null,null,null,null,null,null,null,null,null,120.03262765640235,124.03371524494909,128.03480283349583,null,1411.3868839857453,1458.0014966678427,1505.9109597022218,null,4148.7005287067223,5655.9063387612241,7221.3804146683497,1411.3868839857453,577.49030861358028,598.82944241916289,618.83488036189647,null,null,null,null,2814.0982706112104,null,null,null,1459.0632739567129,null,null,null,3160.8591949519291,null,null,null,1632.443736127072]
["Litter_Hawk","60/mo or <2/day",null,null,null,null,null,null,null,null,null,null,null,null,null,null,null,null,null,null,null,null,281.40982706112112,289.4120022382146,297.41417741530807,null,3309.6375004289584,3402.8667257931547,3497.3908015096313,null,9725.6209959788339,13197.114790442856,16774.786313793877,3309.6375004289584,577.49030861358028,598.82944241916289,618.83488036189647,null,null,null,null,2814.0982706112104,null,null,null,1459.0632739567129,null,null,null,3160.8591949519291,null,null,null,1632.443736127072]
["Litter_Hawk","90/mo or <3/day",null,null,null,null,null,null,null,null,null,null,null,null,null,null,null,null,null,null,null,null,466.79355199712029,480.13051062560942,494.80116511694746,null,5488.8706433170391,5646.8423862952595,5819.0574831485665,null,16132.540539062747,21893.329756358693,27906.614792349341,5488.8706433170391,577.49030861358028,598.82944241916289,618.83488036189647,null,null,null,null,2814.0982706112104,null,null,null,1459.0632739567129,null,null,null,3160.8591949519291,null,null,null,1632.443736127072]
[6400,"30/mo or  <1/day",null,null,null,null,null,null,null,null,null,null,null,null,null,null,null,null,null,null,null,null,141.37176146198502,145.37284905053173,149.37393663907849,null,1662.5878523281622,1709.2024650102601,1757.1119280446387,null,4885.4703791543261,6629.6338036761617,8424.296391936934,1662.5878523281622,673.51641073870212,694.85554454428461,714.86098248701853,null,null,null,null,2814.0982706112104,null,null,null,1459.0632739567129,null,null,null,3160.8591949519291,null,null,null,1632.443736127072]
[6400,"60/mo or <2/day",null,null,null,null,null,null,null,null,null,null,null,null,null,null,null,null,null,null,null,null,330.75657398653101,340.0924450264734,349.42831606641579,null,3889.7304582506222,3999.7927381944646,4109.8550181383071,null,11430.938909932252,15508.422669263548,19707.622361709211,3889.7304582506222,673.51641073870212,694.85554454428461,714.86098248701853,null,null,null,null,2814.0982706112104,null,null,null,1459.0632739567129,null,null,null,3160.8591949519291,null,null,null,1632.443736127072]
[6400,"90/mo or <3/day",null,null,null,null,null,null,null,null,null,null,null,null,null,null,null,null,null,null,null,null,517.47399478537898,532.14464927671713,548.14899963090409,null,6085.7966557183499,6258.011752571656,6445.7650536523288,null,17884.473065698268,24265.495601736569,30915.84701104922,6085.7966557183499,673.51641073870212,694.85554454428461,714.86098248701853,null,null,null,null,2814.0982706112104,null,null,null,1459.0632739567129,null,null,null,3160.8591949519291,null,null,null,1632.443736127072]
[6500,"30/mo or  <1/day",null,null,null,null,null,null,null,null,null,null,null,null,null,null,null,null,null,null,null,null,141.37176146198502,145.37284905053173,149.37393663907849,null,1662.5878523281622,1709.2024650102601,1757.1119280446387,null,4885.4703791543261,6629.6338036761617,8424.296391936934,1662.5878523281622,673.51641073870212,694.85554454428461,714.86098248701853,null,null,null,null,2814.0982706112104,null,null,null,1459.0632739567129,null,null,null,3160.8591949519291,null,null,null,1632.443736127072]
[6500,"60/mo or <2/day",null,null,null,null,null,null,null,null,null,null,null,null,null,null,null,null,null,null,null,null,330.75657398653101,340.0924450264734,349.42831606641579,null,3889.7304582506222,3999.7927381944646,4109.8550181383071,null,11430.938909932252,15508.422669263548,19707.622361709211,3889.7304582506222,673.51641073870212,694.85554454428461,714.86098248701853,null,null,null,null,2814.0982706112104,null,null,null,1459.0632739567129,null,null,null,3160.8591949519291,null,null,null,1632.443736127072]
[6500,"90/mo or <3/day",null,null,null,null,null,null,null,null,null,null,null,null,null,null,null,null,null,null,null,null,517.47399478537898,532.14464927671713,548.14899963090409,null,6085.7966557183499,6258.011752571656,6445.7650536523288,null,17884.473065698268,24265.495601736569,30915.84701104922,6085.7966557183499,673.51641073870212,694.85554454428461,714.86098248701853,null,null,null,null,2814.0982706112104,null,null,null,1459.0632739567129,null,null,null,3160.8591949519291,null,null,null,1632.443736127072]
[6550,"30/mo or  <1/day",null,null,null,null,null,null,null,null,null,null,null,null,null,null,null,null,null,null,null,null,141.37176146198502,145.37284905053173,149.37393663907849,null,1662.5878523281622,1709.2024650102601,1757.1119280446387,null,4885.4703791543261,6629.6338036761617,8424.296391936934,1662.5878523281622,673.51641073870212,694.85554454428461,714.86098248701853,null,null,null,null,2814.0982706112104,null,null,null,1459.0632739567129,null,null,null,3160.8591949519291,null,null,null,1632.443736127072]
[6550,"60/mo or <2/day",null,null,null,null,null,null,null,null,null,null,null,null,null,null,null,null,null,null,null,null,330.75657398653101,340.0924450264734,349.42831606641579,null,3889.7304582506222,3999.7927381944646,4109.8550181383071,null,11430.938909932252,15508.422669263548,19707.622361709211,3889.7304582506222,673.51641073870212,694.85554454428461,714.86098248701853,null,null,null,null,2814.0982706112104,null,null,null,1459.0632739567129,null,null,null,3160.8591949519291,null,null,null,1632.443736127072]
[6550,"90/mo or <3/day",null,null,null,null,null,null,null,null,null,null,null,null,null,null,null,null,null,null,null,null,517.47399478537898,532.14464927671713,548.14899963090409,null,6085.7966557183499,6258.011752571656,6445.7650536523288,null,17884.473065698268,24265.495601736569,30915.84701104922,6085.7966557183499,673.51641073870212,694.85554454428461,714.86098248701853,null,null,null,null,2814.0982706112104,null,null,null,1459.0632739567129,null,null,null,3160.8591949519291,null,null,null,1632.443736127072]
[6600,"30/mo or  <1/day",null,null,null,null,null,null,null,null,null,null,null,null,null,null,null,null,null,null,null,null,141.37176146198502,145.37284905053173,149.37393663907849,null,1662.5878523281622,1709.2024650102601,1757.1119280446387,null,4885.4703791543261,6629.6338036761617,8424.296391936934,1662.5878523281622,673.51641073870212,694.85554454428461,714.86098248701853,null,null,null,null,2814.0982706112104,null,null,null,1459.0632739567129,null,null,null,3160.8591949519291,null,null,null,1632.443736127072]
[6600,"60/mo or <2/day",null,null,null,null,null,null,null,null,null,null,null,null,null,null,null,null,null,null,null,null,330.75657398653101,340.0924450264734,349.42831606641579,null,3889.7304582506222,3999.7927381944646,4109.8550181383071,null,11430.938909932252,15508.422669263548,19707.622361709211,3889.7304582506222,673.51641073870212,694.85554454428461,714.86098248701853,null,null,null,null,2814.0982706112104,null,null,null,1459.0632739567129,null,null,null,3160.8591949519291,null,null,null,1632.443736127072]
[6600,"90/mo or <3/day",null,null,null,null,null,null,null,null,null,null,null,null,null,null,null,null,null,null,null,null,517.47399478537898,532.14464927671713,548.14899963090409,null,6085.7966557183499,6258.011752571656,6445.7650536523288,null,17884.473065698268,24265.495601736569,30915.84701104922,6085.7966557183499,673.51641073870212,694.85554454428461,714.86098248701853,null,null,null,null,2814.0982706112104,null,null,null,1459.0632739567129,null,null,null,3160.8591949519291,null,null,null,1632.443736127072]
[6650,"30/mo or  <1/day",null,null,null,null,null,null,null,null,null,null,null,null,null,null,null,null,null,null,null,null,141.37176146198502,145.37284905053173,149.37393663907849,null,1662.5878523281622,1709.2024650102601,1757.1119280446387,null,4885.4703791543261,6629.6338036761617,8424.296391936934,1662.5878523281622,673.51641073870212,694.85554454428461,714.86098248701853,null,null,null,null,2814.0982706112104,null,null,null,1459.0632739567129,null,null,null,3160.8591949519291,null,null,null,1632.443736127072]
[6650,"60/mo or <2/day",null,null,null,null,null,null,null,null,null,null,null,null,null,null,null,null,null,null,null,null,330.75657398653101,340.0924450264734,349.42831606641579,null,3889.7304582506222,3999.7927381944646,4109.8550181383071,null,11430.938909932252,15508.422669263548,19707.622361709211,3889.7304582506222,673.51641073870212,694.85554454428461,714.86098248701853,null,null,null,null,2814.0982706112104,null,null,null,1459.0632739567129,null,null,null,3160.8591949519291,null,null,null,1632.443736127072]
[6650,"90/mo or <3/day",null,null,null,null,null,null,null,null,null,null,null,null,null,null,null,null,null,null,null,null,517.47399478537898,532.14464927671713,548.14899963090409,null,6085.7966557183499,6258.011752571656,6445.7650536523288,null,17884.473065698268,24265.495601736569,30915.84701104922,6085.7966557183499,673.51641073870212,694.85554454428461,714.86098248701853,null,null,null,null,2814.0982706112104,null,null,null,1459.0632739567129,null,null,null,3160.8591949519291,null,null,null,1632.443736127072]
["S680","30/mo or  <1/day",208.32898650905094,224.60676269121714,240.92243786510605,null,7199.6193859324503,10241.889145659448,13587.128745094798,null,null,null,null,3201.3778381086113,314.14861663910676,332.07173887513318,348.32105977795584,null,10856.628778926601,15142.206304095749,19644.011266733098,null,98.693493850819721,101.36088557651753,104.02827730221537,null,1160.1859156433281,1192.5571744503407,1223.6335829050727,null,3410.6358279068377,4622.6157576413843,5866.9669461829453,1160.1859156433281,473.46203131136485,486.79898993985393,501.46964443119214,null,null,null,null,2814.0982706112104,null,null,null,1459.0632739567129,null,null,null,3160.8591949519291,null,null,null,1632.443736127072]
["S680","60/mo or <2/day",472.05958755508192,522.49261894242625,540.42594222813,null,16313.857302469951,23825.246481961203,30478.011592901399,null,null,null,null,null,587.59177913055703,639.66197470990789,655.98311449799587,null,20306.522078045549,29168.075605448703,36995.005987291792,null,226.72829668431558,234.73047186140906,241.39895117565365,null,2666.0968753455495,2760.6209510620265,2838.3119721988564,null,7835.1394816493057,10703.233011950611,13615.35145422946,2666.0968753455495,473.46203131136485,486.79898993985393,501.46964443119214,null,null,null,null,2814.0982706112104,null,null,null,1459.0632739567129,null,null,null,3160.8591949519291,null,null,null,1632.443736127072]
["S680","90/mo or <3/day",724.33154869359566,null,null,null,25032.097295737203,null,null,null,null,null,null,null,948.95726751555992,null,null,null,32794.913728098451,null,null,null,377.43592918624296,388.10549608903426,398.77506299182562,null,4438.7470076175541,4564.3474917887625,4689.9479759599717,null,13044.322448873761,17698.014614969878,22491.550619112288,4438.7470076175541,473.46203131136485,486.79898993985393,501.46964443119214,null,null,null,null,2814.0982706112104,null,null,null,1459.0632739567129,null,null,null,3160.8591949519291,null,null,null,1632.443736127072]
["S880","30/mo or  <1/day",208.32898650905094,224.60676269121714,240.92243786510605,null,7199.6193859324503,10241.889145659448,13587.128745094798,null,null,null,null,3201.3778381086113,314.14861663910676,332.07173887513318,348.32105977795584,null,10856.628778926601,15142.206304095749,19644.011266733098,null,98.693493850819721,101.36088557651753,104.02827730221537,null,1160.1859156433281,1192.5571744503407,1223.6335829050727,null,3410.6358279068377,4622.6157576413843,5866.9669461829453,1160.1859156433281,473.46203131136485,486.79898993985393,501.46964443119214,null,null,null,null,2814.0982706112104,null,null,null,1459.0632739567129,null,null,null,3160.8591949519291,null,null,null,1632.443736127072]
["S880","60/mo or <2/day",472.05958755508192,522.49261894242625,540.42594222813,null,16313.857302469951,23825.246481961203,30478.011592901399,null,null,null,null,null,587.59177913055703,639.66197470990789,655.98311449799587,null,20306.522078045549,29168.075605448703,36995.005987291792,null,226.72829668431558,234.73047186140906,241.39895117565365,null,2666.0968753455495,2760.6209510620265,2838.3119721988564,null,7835.1394816493057,10703.233011950611,13615.35145422946,2666.0968753455495,473.46203131136485,486.79898993985393,501.46964443119214,null,null,null,null,2814.0982706112104,null,null,null,1459.0632739567129,null,null,null,3160.8591949519291,null,null,null,1632.443736127072]
["S880","90/mo or <3/day",724.33154869359566,null,null,null,25032.097295737203,null,null,null,null,null,null,null,948.95726751555992,null,null,null,32794.913728098451,null,null,null,377.43592918624296,388.10549608903426,398.77506299182562,null,4438.7470076175541,4564.3474917887625,4689.9479759599717,null,13044.322448873761,17698.014614969878,22491.550619112288,4438.7470076175541,473.46203131136485,486.79898993985393,501.46964443119214,null,null,null,null,2814.0982706112104,null,null,null,1459.0632739567129,null,null,null,3160.8591949519291,null,null,null,1632.443736127072]
[0,null,0,null,null,null,0,null,null,null,null,null,null,null,null,null,null,null,null,null,null,null,0,null,null,null,0,null,null,null,0,null,null,null,0]

{"sheet":"Lists","index":32,"n_rows":63,"n_cols":17,"rows_kept":63,"cut":false,"hidden":true,"merged":[]}
["FlexClean Regions",null,null,"Flexclean: ",null,null,"Tab Name","Machine","Product",2009,"Material","PH","Type","Rider_WB",null,null,"All Tabs"]
["Description","Region Key",null,null,null,null,"Dual_Tech_ReadySpace_1610",1610,"Comm","Y",1610,350010080,"Scrubber","WB",null,null,"Dual_Tech_ReadySpace_R14"]
["CA - All Other","CA00",null,"Tab name: ","GM_400",null,3640,3640,"Comm","Y",3640,300020070,"Sweeper","WB",null,null,"Dual_Tech_ReadySpace_1610"]
["CA - British Columbia","BCCA",null,"Material: ",{"$f":"VLOOKUP($E$3, G2:M111, 5, FALSE)","v":"GM400"},null,5680,5680,"Comm","Y",5680,320020155,"Scrubber","WB",null,null,"_R3_E5"]
["US - All Other","US00",null,"Type: ",{"$f":"VLOOKUP($E$3, G2:M112, 7, FALSE)","v":"Sweeper"},null,5700,5700,"Comm","Y",5700,320020160,"Scrubber","WB",null,null,"Carpet_Extractors"]
["US - California","CAUS",null,"Type 2: ",{"$f":"VLOOKUP($E$3, G2:N113, 8, FALSE)","v":"Rider"},null,6100,6100,"Ind","Y",6100,300030010,"Sweeper","Rider",null,null,"Vacuums"]
["US - Conneticut","CTUS",null,null,null,null,6200,6200,"Ind","Y",6200,300030020,"Sweeper","Rider",null,null,"F_Series_Floor_Machine"]
["US - DC","DCUS",null,null,null,null,7300,7300,"Ind","Y",7300,320050065,"Scrubber","Rider",null,null,"Burnishers"]
["US - Massuchusetts","MAUS",null,null,null,null,8300,8300,"Ind","Y",8300,340020015,"Scrubber","Rider",null,null,"B5"]
["US - New Jersey","NJUS",null,null,null,null,"M20","M20","Ind","Y","M20",340020070,"Scrubber","Rider",null,null,"B7"]
["US - New York","NYUS",null,null,null,null,"M30","M30","Ind","Y","M30",340020080,"Scrubber","Rider",null,null,"B10"]
["US - Pennsylvania","PAUS",null,null,null,null,"T2","T2","Comm","Y","T2",320010540,"Scrubber","WB",null,null,"S7_S6_S5"]
["US - Rhode Island","RIUS",null,null,null,null,"T3","T3","Comm","Y","T3",320010540,"Scrubber","WB",null,null,"S7"]
[null,null,null,null,null,null,"T3_plus_Orbital","T3 +","Comm","Y","T3",320010540,"Scrubber","WB",null,null,"S8"]
[null,null,null,null,null,null,"T5","T5","Comm","Y","T5",320020500,"Scrubber","WB",null,null,"S9"]
[null,null,null,null,null,null,"T7","T7","Comm","Y","T7",320040050,"Scrubber","Rider",null,null,3640]
[null,null,null,null,null,null,"T12","T12","Comm","Y","T12",320040050,"Scrubber","Rider",null,null,"S10"]
[null,null,null,null,null,null,"T20","T20","Ind","Y","T20",320050110,"Scrubber","Rider",null,null,"S10_Quick_Ship"]
[null,null,null,null,null,null,"T20_Strategic_Accts_List","T20","Ind","Y","T20",320050110,"Scrubber","Rider",null,null,"S10_Standard_Config"]
[null,null,null,null,null,null,"T20_Direct_Discount","T20","Ind","Y","T20",320050110,"Scrubber","Rider",null,null,6100]
[null,null,null,null,null,null,"Dual_Tech_ReadySpace_R14","R14","Comm","Y","R14",350090010,"Scrubber","Rider",null,null,"6100_Standard_Config"]
[null,null,null,null,"Template",null,"S9","S9","Comm","Y","S9",300020200,"Sweeper","WB",null,null,6200]
[null,null,null,null,"Scrubber",null,"S10","S10","Ind","Y","S10",300020210,"Sweeper","WB",null,null,"S680"]
[null,null,null,null,"Sweeper",null,"S30_Built_to_Order","S30_Built_to_Order","Ind","Y","S30",300040310,"Sweeper","Rider",null,null,"S880"]
[null,null,null,null,"Nobles",null,"DualTech_ReadySpace_Strive","Strive","Comm","Y","DualTech_ReadySpace_Strive",350010090,"Scrubber","WB",null,null,"S16L"]
[null,null,null,null,null,null,"DualTech_ReadySpace_StriveRider","Strive Rider","Comm","Y","DualTech_ReadySpace_StriveRider",350090020,"Scrubber","Rider",null,null,"S16L_Quick_Ship"]
[null,null,null,null,null,null,"SS5_24_32","SS5_24_32","Comm","Y","SS5_24_32",320020510,"Scrubber","WB",null,null,"S16L_Standard_Config"]
[null,null,null,null,null,null,2550,2550,"Comm","Y",2550,400020018,"Sweeper","WB",null,null,"S16H"]
[null,null,null,null,null,null,1510,1510,"Comm","Y",1510,350010040,"Scrubber","WB",null,null,"S16H_Quick_Ship"]
[null,null,null,null,null,null,"SSR","SSR","Comm","Y","SSR",null,"Scrubber","Rider",null,null,"S16H_Standard_Config"]
[null,null,null,null,null,null,"SpeedGleam7","SpeedGleam7","Comm","Y","SpeedGleam7",null,"Sweeper","WB",null,null,"S20_GLPD_Built_to_Order"]
[null,null,null,null,null,null,"SpeedGleam_Rider","SpeedGleam7","Comm","Y","SpeedGleam_Rider",null,"Sweeper","WB",null,null,"S20EV"]
[null,null,null,null,null,null,"SS_17_20","SS_17_20","Comm","Y","SS_17_20",null,"Scrubber","WB",null,null,"S20_LP_Quick_Ship"]
[null,null,null,null,null,null,"SS_XC","SS_XC","Comm","Y","SS_XC",null,"Scrubber","WB",null,null,"S20_LP_Standard_Config"]
[null,null,null,null,null,null,"SS3_Orbital","SS3_Orbital","Comm","Y","SS3_Orbital",null,"Scrubber","WB",null,null,"S30_Built_to_Order"]
[null,null,null,null,null,null,"S20_GLPD_Built_to_Order","S20_GLPD_Built_to_Order","Ind","Y","S20",null,"Sweeper","Rider",null,null,"S30_Quick_Ship"]
[null,null,null,null,null,null,"S20EV","S20EV","Ind","Y","S20",null,"Sweeper","Rider",null,null,"S30_Standard_Config"]
[null,null,null,null,null,null,"GM_400","GM_400","Ind","Y","GM400",null,"Sweeper","Rider",null,null,800]
[null,null,null,null,null,null,"GM_636","GM_636","Ind","Y","GM600",null,"Sweeper","Rider",null,null,810]
[null,null,null,null,null,null,800,800,"Ind","Y",800,null,"Sweeper","Rider",null,null,"Sentinel"]
[null,null,null,null,null,null,810,810,"Ind","Y",810,null,"Sweeper","Rider",null,null,830]
[null,null,null,null,null,null,4300,4300,"Ind","Y","ATLV",null,"Sweeper","Rider",null,null,"Centurion"]
[null,null,null,null,null,null,"T16","T16","Ind","Y","T16",320040060,"Scrubber","Rider",null,null,4300]
[null,null,null,null,null,null,"T17","T17","Ind","Y","T17",320040060,"Scrubber","Rider",null,null,"GM_400"]
[null,null,null,null,null,null,"B7","B7","Comm","Y","B7",400020018,"Sweeper","WB",null,null,"GM_5XX"]
[null,null,null,null,null,null,"B10","B10","Comm","Y","B10",400020018,"Sweeper","WB",null,null,"GM_636"]
[null,null,null,null,null,null,"Sentinel","Sentinel","Ind","Y","Sentinel",null,"Sweeper","Rider",null,null,"Litter_Hawk"]
[null,null,null,null,null,null,"S10_Quick_Ship","S10_Quick_Ship","Ind","Y","S10_Quick_Ship",300020210,"Sweeper","WB",null,null,6400]
[null,null,null,null,null,null,"S20_LP_Standard_Config","S20_LP_Standard_Config","Ind","Y","S20_LP_Standard_Config",null,"Sweeper","Rider",null,null,6500]
[null,null,null,null,null,null,"S30_Standard_Config","S30_Standard_Config","Ind","Y","S30_Standard_Config",300040310,"Sweeper","Rider",null,null,6550]
[null,null,null,null,null,null,"S16L","S16L","Ind","Y","S16",300030020,"Sweeper","Rider",null,null,6600]
[null,null,null,null,null,null,"S16L_Standard_Config","S16L_Standard_Config","Ind","Y","S16",300030020,"Sweeper","Rider",null,null,6650]
[null,null,null,null,null,null,"S16H","S16H","Ind","Y","S16",300030020,"Sweeper","Rider"]
[null,null,null,null,null,null,"S16H_Standard_Config","S16H_Standard_Config","Ind","Y","S16",300030020,"Sweeper","Rider"]
[null,null,null,null,null,null,"S7_S6","S7_S6","Comm","Y","S7",300020200,"Sweeper","WB"]
[null,null,null,null,null,null,"6100_Standard_Config","6100_Standard_Config","Ind","Y",6100,300030010,"Sweeper","Rider"]
[null,null,null,null,null,null,"S10_Standard_Config","S10_Standard_Config","Ind","Y","S10",300020210,"Sweeper","WB"]
[null,null,null,null,null,null,"S16L_Quick_Ship","S16L_Quick_Ship","Ind","Y","S16",300030020,"Sweeper","Rider"]
[null,null,null,null,null,null,"S16H_Quick_Ship","S16H_Quick_Ship","Ind","Y","S16",300030020,"Sweeper","Rider"]
[null,null,null,null,null,null,"S20_LP_Quick_Ship","S20_LP_Quick_Ship","Ind","Y","S20",null,"Sweeper","Rider"]
[null,null,null,null,null,null,"S30_Quick_Ship","S30_Quick_Ship","Ind","Y","S30",300040310,"Sweeper","Rider"]
[null,null,null,null,null,null,"S680","S680","Ind","Y","S680",null,"Sweeper","Rider"]
[null,null,null,null,null,null,"S880","S880","Ind","Y","S880",null,"Sweeper","Rider"]

{"sheet":"County Tier","index":33,"n_rows":146,"n_cols":6,"rows_kept":146,"cut":false,"hidden":true,"merged":[]}
["State","Code","County","PM","Reg","Trip"]
["Alberta",null,"ALL OTHER COUNTIES",133,171,127]
["Alaska",null,"ALL OTHER COUNTIES",148,175,138]
["Alabama",null,"ALL OTHER COUNTIES",121,150,122]
["Arkansas",null,"ALL OTHER COUNTIES",128,152,122]
["Arizona",null,"ALL OTHER COUNTIES",130,151,127]
["British Columbia",null,"ALL OTHER COUNTIES",133,171,127]
["California",1,"Alameda",145,173,138]
["California",13,"Contra Costa",145,173,138]
["California",41,"Marin",145,173,138]
["California",51,"Mono",136,166,127]
["California",53,"Monterey",145,173,138]
["California",55,"Napa",145,173,138]
["California",69,"San Benito",145,173,138]
["California",75,"San Francisco",145,173,138]
["California",81,"San Mateo",145,173,138]
["California",85,"Santa Clara",145,173,138]
["California",87,"Santa Cruz",145,173,138]
["California",95,"Solano",145,173,138]
["California",97,"Sonoma",145,173,138]
["California",null,"ALL OTHER COUNTIES",136,166,135]
["Colorado",7,"Archuleta",129,157,126]
["Colorado",null,"ALL OTHER COUNTIES",129,157,126]
["Connecticut",null,"ALL OTHER COUNTIES",135,169,130]
["District of Columbia",null,"ALL OTHER COUNTIES",133,163,129]
["Delaware",null,"ALL OTHER COUNTIES",135,169,130]
["Florida",111,"St Lucie",128,150,122]
["Florida",null,"ALL OTHER COUNTIES",128,150,122]
["Georgia",127,"Glynn",128,155,122]
["Georgia",null,"ALL OTHER COUNTIES",128,155,122]
["Hawaii",null,"ALL OTHER COUNTIES",148,175,138]
["Iowa",149,"Plymouth",128,145,122]
["Iowa",null,"ALL OTHER COUNTIES",128,145,122]
["Idaho",1,"Ada",128,140,122]
["Idaho",null,"ALL OTHER COUNTIES",128,140,122]
["Illinois",5,"Bond",132,166,136]
["Illinois",null,"ALL OTHER COUNTIES",132,166,136]
["Indiana",5,"Bartholomew",134,168,136]
["Indiana",7,"Benton",128,152,122]
["Indiana",9,"Blackford",134,168,136]
["Indiana",11,"Boone",134,168,136]
["Indiana",15,"Carroll",134,168,136]
["Indiana",33,"De Kalb",134,168,136]
["Indiana",47,"Franklin",134,168,136]
["Indiana",59,"Hancock",134,168,136]
["Indiana",61,"Harrison",134,168,136]
["Indiana",73,"Jasper",134,168,136]
["Indiana",91,"La Porte",134,168,136]
["Indiana",89,"Lake",134,168,136]
["Indiana",111,"Newton",134,168,136]
["Indiana",127,"Porter",134,168,136]
["Indiana",131,"Pulaski",134,168,136]
["Indiana",149,"Starke",134,168,136]
["Indiana",null,"ALL OTHER COUNTIES",128,152,122]
["Kansas",81,"Haskell",128,158,128]
["Kansas",null,"ALL OTHER COUNTIES",128,158,128]
["Kentucky",85,"Grayson",128,150,122]
["Kentucky",null,"ALL OTHER COUNTIES",128,150,122]
["Louisiana",103,"St Tammany",128,144,122]
["Louisiana",null,"ALL OTHER COUNTIES",128,144,122]
["Massachusetts",13,"Hampden",137,169,138]
["Massachusetts",null,"ALL OTHER COUNTIES",137,169,138]
["Manitoba",null,"ALL OTHER COUNTIES",133,171,127]
["Maryland",null,"ALL OTHER COUNTIES",133,163,129]
["Maine",null,"ALL OTHER COUNTIES",129,157,126]
["Michigan",153,"Schoolcraft",128,156,128]
["Michigan",null,"ALL OTHER COUNTIES",128,156,128]
["Minnesota",null,"ALL OTHER COUNTIES",128,162,129]
["Missouri",510,"St Louis City",128,157,127]
["Missouri",null,"ALL OTHER COUNTIES",128,157,127]
["Mississippi",null,"ALL OTHER COUNTIES",128,152,122]
["Montana",null,"ALL OTHER COUNTIES",148,175,138]
["New Brunswick",null,"ALL OTHER COUNTIES",133,171,127]
["North Carolina",1,"Alamance",128,152,126]
["North Carolina",null,"ALL OTHER COUNTIES",128,152,126]
["North Dakota",13,"Burke",128,145,122]
["North Dakota",null,"ALL OTHER COUNTIES",128,145,122]
["Nebraska",41,"Custer",128,145,122]
["Nebraska",null,"ALL OTHER COUNTIES",128,145,122]
["New Hampshire",null,"ALL OTHER COUNTIES",140,169,138]
["New Jersey",1,"Atlantic",137,172,132]
["New Jersey",5,"Burlington",137,172,132]
["New Jersey",7,"Camden",137,172,132]
["New Jersey",9,"Cape May",137,172,132]
["New Jersey",11,"Cumberland",137,172,132]
["New Jersey",15,"Gloucester",137,172,132]
["New Jersey",33,"Salem",137,172,132]
["New Jersey",null,"ALL OTHER COUNTIES",144,172,137]
["Newfoundland and Labrador",null,"ALL OTHER COUNTIES",133,171,127]
["New Mexico",null,"ALL OTHER COUNTIES",128,150,122]
["Nova Scotia",null,"ALL OTHER COUNTIES",133,171,127]
["Nevada",7,"Elko",132,164,129]
["Nevada",null,"ALL OTHER COUNTIES",132,164,129]
["New York",1,"Albany",144,172,137]
["New York",5,"Bronx",144,172,137]
["New York",47,"Kings",144,172,137]
["New York",59,"Nassau",144,172,137]
["New York",61,"New York",144,172,137]
["New York",73,"Orleans",134,168,129]
["New York",81,"Queens",144,172,137]
["New York",85,"Richmond",144,172,137]
["New York",91,"Saratoga",144,172,137]
["New York",89,"St Lawrence",144,172,137]
["New York",103,"Suffolk",144,172,137]
["New York",111,"Ulster",144,172,137]
["New York",null,"ALL OTHER COUNTIES",134,168,129]
["Ohio",5,"Ashland",128,158,128]
["Ohio",null,"ALL OTHER COUNTIES",128,158,128]
["Oklahoma",7,"Beaver",128,145,122]
["Oklahoma",null,"ALL OTHER COUNTIES",128,145,122]
["Ontario",null,"ALL OTHER COUNTIES",133,171,127]
["Oregon",9,"Columbia",128,157,127]
["Oregon",null,"ALL OTHER COUNTIES",128,157,127]
["Pennsylvania",11,"Berks",132,166,128]
["Pennsylvania",null,"ALL OTHER COUNTIES",132,166,128]
["Prince Edward Island",null,"ALL OTHER COUNTIES",133,171,127]
["Quebec",null,"ALL OTHER COUNTIES",133,171,127]
["Rhode Island",null,"ALL OTHER COUNTIES",135,169,130]
["South Carolina",33,"Dillon",128,156,128]
["South Carolina",null,"ALL OTHER COUNTIES",128,156,128]
["South Dakota",5,"Beadle",128,145,122]
["South Dakota",null,"ALL OTHER COUNTIES",128,145,122]
["Saskatchewan",null,"ALL OTHER COUNTIES",133,171,127]
["Tennessee",47,"Fayette",128,152,122]
["Tennessee",null,"ALL OTHER COUNTIES",128,152,122]
["Texas",59,"Callahan",128,156,128]
["Texas",null,"ALL OTHER COUNTIES",128,156,128]
["Utah",null,"ALL OTHER COUNTIES",128,150,122]
["Virginia",510,"Alexandria City",126,152,120]
["Virginia",13,"Arlington",134,164,128]
["Virginia",59,"Fairfax",134,164,128]
["Virginia",600,"Fairfax City",126,152,120]
["Virginia",81,"Greensville",128,149,122]
["Virginia",85,"Hanover",134,164,128]
["Virginia",103,"Lancaster",134,164,128]
["Virginia",107,"Loudoun",126,152,120]
["Virginia",683,"Manassas City",126,152,120]
["Virginia",153,"Prince William",126,152,120]
["Virginia",179,"Stafford",126,152,120]
["Virginia",null,"ALL OTHER COUNTIES",128,149,122]
["Vermont",null,"ALL OTHER COUNTIES",135,168,130]
["Washington",null,"ALL OTHER COUNTIES",132,158,128]
["Wisconsin",null,"ALL OTHER COUNTIES",129,157,126]
["West Virginia",null,"ALL OTHER COUNTIES",128,158,128]
["Wyoming",null,"ALL OTHER COUNTIES",129,157,126]
["Yukon",null,"ALL OTHER COUNTIES",133,171,127]

{"sheet":"Settings","index":34,"n_rows":37,"n_cols":3,"rows_kept":37,"cut":false,"hidden":true,"merged":[]}
["Type Of Discounts","Low","High"]
["TTDiscount",0,5]
["TTNationalAccount",0,8]
[]
[]
["If No Option"]
["1 - Has Capital "]
["2 - Has own financing option"]
["3 - Does not qualify"]
["4 - Does not like Tennant offering"]
["5 - Other"]
[]
[]
[]
["Monthly Machine Usage"]
["< 30/mo. (Avg. 1hr./day)",25]
["< 60/mo. (Avg. 2hrs./day)",40]
["< 90/mo. (Avg. 3hrs./day)",60]
[null,80]
[null,100]
[null,125]
[null,150]
[]
["Terms"]
[12]
[36]
[48]
[60]
[]
["Contract",null,"Contract 2"]
["Gold Contract",null,"Gold Contract"]
["Silver Contract",null,"Silver Contract"]
["Federal Government (FGSP-1)",null,"Block of Time Weekly Agreement"]
["Block of Time Weekly Agreement",null,"Block of Time Bi-Weekly Agreement"]
["Block of Time Bi-Weekly Agreement",null,"Pay As You Go Agreement"]
["Pay As You Go Agreement",null,"No Agreement"]
["No Agreement"]

{"sheet":"FlexClean","index":35,"n_rows":336,"n_cols":18,"rows_kept":336,"cut":false,"hidden":true,"merged":[]}
[null,null,null,null,"MATNR","ZZMVGR5","These cells are used/reference in a macro. ",null,null,null,null,null,null,"NA = Not available",null,null,"KEY = 4 Digit Region Code, 1 digit hour code, MatNR"]
[null,null,null,null,"GM600",6,"If rows are added/removed from the rate table below,",null,null,null,null,null,null,"1BO = 1BO only",null,"Hour Code:","0 = 25"]
[{"$f":"DCOUNTA($A$7:$L$341,\"KEY\",$E$1:$F$2)","v":1},"<--- Lookup to determine industrial or not",null,null,null,null,"be sure to adjust the formula in cell A3 so that",null,null,null,null,null,null,null,null,null,"1 = 40"]
[{"$f":"DCOUNTA($A$7:$L$341,\"KEY\",$E$1:$E$2)","v":7},"<--- Lookup to determine FlexClean or not",null,null,null,null,"it includes the whole range of data including the column",null,null,null,null,null,null,null,null,null,"2 = 60"]
[null,null,null,null,null,null,"headers.",null,null,null,null,null," column13","column14","column15",null,"3 = 80","5 = 125"]
[null,null,null,null,null,null,null,null,null,null,null,null,"36 Terms","48 Terms","60 Terms",null,"4 = 100","6 = 150"]
["KEY","KSCHL","VKORG","LAND1","MATNR","ZZMVGR5","REGIO","COUNC","KBETR","DATAB","DATBI","RGNKEY","Criteria","Criteria","Criteria"]
[{"$f":"L8 & RIGHT(F8, 1) & E8","v":"US0003640"},"ZFL4","NA01","US",3640,0,null,null,0,"2009-01-01","9999-12-31","US00"]
["US0013640","ZFL4","NA01","US",3640,1,null,null,0,"2009-01-01","9999-12-31","US00"]
["US0023640","ZFL4","NA01","US",3640,2,null,null,0,"2009-01-01","9999-12-31","US00"]
["US0033640","ZFL4","NA01","US",3640,3,null,null,0,"2009-01-01","9999-12-31","US00",null,null,"NA"]
["US0043640","ZFL4","NA01","US",3640,4,null,null,0,"2009-01-01","9999-12-31","US00",null,"NA","NA"]
["US0053640","ZFL4","NA01","US",3640,5,null,null,0,"2009-01-01","9999-12-31","US00","NA","NA","NA"]
["US0063640","ZFL4","NA01","US",3640,6,null,null,0,"2009-01-01","9999-12-31","US00","NA","NA","NA"]
[{"$f":"L15 & RIGHT(F15, 1) & E15","v":"US000S7"},"ZFL4","NA01","US","S7",0,null,null,0,"2009-01-01","9999-12-31","US00"]
["US001S7","ZFL4","NA01","US","S7",1,null,null,0,"2009-01-01","9999-12-31","US00"]
["US002S7","ZFL4","NA01","US","S7",2,null,null,0,"2009-01-01","9999-12-31","US00"]
["US003S7","ZFL4","NA01","US","S7",3,null,null,0,"2009-01-01","9999-12-31","US00",null,null,"NA"]
["US004S7","ZFL4","NA01","US","S7",4,null,null,0,"2009-01-01","9999-12-31","US00",null,"NA","NA"]
["US005S7","ZFL4","NA01","US","S7",5,null,null,0,"2009-01-01","9999-12-31","US00","NA","NA","NA"]
["US006S7","ZFL4","NA01","US","S7",6,null,null,0,"2009-01-01","9999-12-31","US00","NA","NA","NA"]
["US000S9","ZFL4","NA01","US","S9",0,null,null,0,"2009-01-01","9999-12-31","US00"]
["US001S9","ZFL4","NA01","US","S9",1,null,null,0,"2009-01-01","9999-12-31","US00"]
["US002S9","ZFL4","NA01","US","S9",2,null,null,0,"2009-01-01","9999-12-31","US00"]
["US003S9","ZFL4","NA01","US","S9",3,null,null,0,"2009-01-01","9999-12-31","US00",null,null,"NA"]
["US004S9","ZFL4","NA01","US","S9",4,null,null,0,"2009-01-01","9999-12-31","US00",null,"NA","NA"]
["US005S9","ZFL4","NA01","US","S9",5,null,null,0,"2009-01-01","9999-12-31","US00","NA","NA","NA"]
["US006S9","ZFL4","NA01","US","S9",6,null,null,0,"2009-01-01","9999-12-31","US00","NA","NA","NA"]
["US000S10","ZFL4","NA01","US","S10",0,null,null,0,"2009-01-01","9999-12-31","US00"]
["US001S10","ZFL4","NA01","US","S10",1,null,null,0,"2009-01-01","9999-12-31","US00"]
["US002S10","ZFL4","NA01","US","S10",2,null,null,0,"2009-01-01","9999-12-31","US00"]
["US003S10","ZFL4","NA01","US","S10",3,null,null,0,"2009-01-01","9999-12-31","US00",null,null,"NA"]
["US004S10","ZFL4","NA01","US","S10",4,null,null,0,"2009-01-01","9999-12-31","US00",null,"NA","NA"]
["US005S10","ZFL4","NA01","US","S10",5,null,null,0,"2009-01-01","9999-12-31","US00","NA","NA","NA"]
["US006S10","ZFL4","NA01","US","S10",6,null,null,0,"2009-01-01","9999-12-31","US00","NA","NA","NA"]
[{"$f":"L36 & RIGHT(F36, 1) & E36","v":"US000S10_Quick_Ship"},"ZFL4","NA01","US","S10_Quick_Ship",0,null,null,0,"2009-01-01","9999-12-31","US00"]
["US001S10_Quick_Ship","ZFL4","NA01","US","S10_Quick_Ship",1,null,null,0,"2009-01-01","9999-12-31","US00"]
["US002S10_Quick_Ship","ZFL4","NA01","US","S10_Quick_Ship",2,null,null,0,"2009-01-01","9999-12-31","US00"]
["US003S10_Quick_Ship","ZFL4","NA01","US","S10_Quick_Ship",3,null,null,0,"2009-01-01","9999-12-31","US00",null,null,"NA"]
["US004S10_Quick_Ship","ZFL4","NA01","US","S10_Quick_Ship",4,null,null,0,"2009-01-01","9999-12-31","US00",null,"NA","NA"]
["US005S10_Quick_Ship","ZFL4","NA01","US","S10_Quick_Ship",5,null,null,0,"2009-01-01","9999-12-31","US00","NA","NA","NA"]
["US006S10_Quick_Ship","ZFL4","NA01","US","S10_Quick_Ship",6,null,null,0,"2009-01-01","9999-12-31","US00","NA","NA","NA"]
["US0006100","ZFL4","NA01","US",6100,0,null,null,0,"2009-01-01","9999-12-31","US00"]
["US0016100","ZFL4","NA01","US",6100,1,null,null,0,"2009-01-01","9999-12-31","US00"]
["US0026100","ZFL4","NA01","US",6100,2,null,null,0,"2009-01-01","9999-12-31","US00"]
["US0036100","ZFL4","NA01","US",6100,3,null,null,0,"2009-01-01","9999-12-31","US00",null,null,"NA"]
["US0046100","ZFL4","NA01","US",6100,4,null,null,0,"2009-01-01","9999-12-31","US00",null,"NA","NA"]
["US0056100","ZFL4","NA01","US",6100,5,null,null,0,"2009-01-01","9999-12-31","US00","NA","NA","NA"]
["US0066100","ZFL4","NA01","US",6100,6,null,null,0,"2009-01-01","9999-12-31","US00","NA","NA","NA"]
["US000R14","ZFL4","NA01","US","R14",0,null,null,0,"2009-01-01","9999-12-31","US00"]
["US001R14","ZFL4","NA01","US","R14",1,null,null,0,"2009-01-01","9999-12-31","US00"]
["US002R14","ZFL4","NA01","US","R14",2,null,null,0,"2009-01-01","9999-12-31","US00"]
["US003R14","ZFL4","NA01","US","R14",3,null,null,0,"2009-01-01","9999-12-31","US00",null,null,"NA"]
["US004R14","ZFL4","NA01","US","R14",4,null,null,0,"2009-01-01","9999-12-31","US00",null,"NA","NA"]
["US005R14","ZFL4","NA01","US","R14",5,null,null,0,"2009-01-01","9999-12-31","US00","NA","NA","NA"]
["US006R14","ZFL4","NA01","US","R14",6,null,null,0,"2009-01-01","9999-12-31","US00","NA","NA","NA"]
["US0001610","ZFL4","NA01","US",1610,0,null,null,0,"2009-01-01","9999-12-31","US00"]
["US0011610","ZFL4","NA01","US",1610,1,null,null,0,"2009-01-01","9999-12-31","US00"]
["US0021610","ZFL4","NA01","US",1610,2,null,null,0,"2009-01-01","9999-12-31","US00"]
["US0031610","ZFL4","NA01","US",1610,3,null,null,0,"2009-01-01","9999-12-31","US00",null,null,"NA"]
["US0041610","ZFL4","NA01","US",1610,4,null,null,0,"2009-01-01","9999-12-31","US00",null,"NA","NA"]
["US0051610","ZFL4","NA01","US",1610,5,null,null,0,"2009-01-01","9999-12-31","US00","NA","NA","NA"]
["US0061610","ZFL4","NA01","US",1610,6,null,null,0,"2009-01-01","9999-12-31","US00","NA","NA","NA"]
["US0001510","ZFL4","NA01","US",1510,0,null,null,0,"2009-01-01","9999-12-31","US00"]
["US0011510","ZFL4","NA01","US",1510,1,null,null,0,"2009-01-01","9999-12-31","US00"]
["US0021510","ZFL4","NA01","US",1510,2,null,null,0,"2009-01-01","9999-12-31","US00"]
["US0031510","ZFL4","NA01","US",1510,3,null,null,0,"2009-01-01","9999-12-31","US00",null,null,"NA"]
["US0041510","ZFL4","NA01","US",1510,4,null,null,0,"2009-01-01","9999-12-31","US00",null,"NA","NA"]
["US0051510","ZFL4","NA01","US",1510,5,null,null,0,"2009-01-01","9999-12-31","US00","NA","NA","NA"]
["US0061510","ZFL4","NA01","US",1510,6,null,null,0,"2009-01-01","9999-12-31","US00","NA","NA","NA"]
["US0005680","ZFL4","NA01","US",5680,0,null,null,0,"2009-01-01","9999-12-31","US00"]
["US0015680","ZFL4","NA01","US",5680,1,null,null,0,"2009-01-01","9999-12-31","US00"]
["US0025680","ZFL4","NA01","US",5680,2,null,null,0,"2009-01-01","9999-12-31","US00"]
["US0035680","ZFL4","NA01","US",5680,3,null,null,0,"2009-01-01","9999-12-31","US00",null,null,"NA"]
["US0045680","ZFL4","NA01","US",5680,4,null,null,0,"2009-01-01","9999-12-31","US00",null,"NA","NA"]
["US0055680","ZFL4","NA01","US",5680,5,null,null,0,"2009-01-01","9999-12-31","US00","NA","NA","NA"]
["US0065680","ZFL4","NA01","US",5680,6,null,null,0,"2009-01-01","9999-12-31","US00","NA","NA","NA"]
["US0005700","ZFL4","NA01","US",5700,0,null,null,0,"2009-01-01","9999-12-31","US00"]
["US0015700","ZFL4","NA01","US",5700,1,null,null,0,"2009-01-01","9999-12-31","US00"]
["US0025700","ZFL4","NA01","US",5700,2,null,null,0,"2009-01-01","9999-12-31","US00"]
["US0035700","ZFL4","NA01","US",5700,3,null,null,0,"2009-01-01","9999-12-31","US00",null,null,"NA"]
["US0045700","ZFL4","NA01","US",5700,4,null,null,0,"2009-01-01","9999-12-31","US00",null,"NA","NA"]
["US0055700","ZFL4","NA01","US",5700,5,null,null,0,"2009-01-01","9999-12-31","US00","NA","NA","NA"]
["US0065700","ZFL4","NA01","US",5700,6,null,null,0,"2009-01-01","9999-12-31","US00","NA","NA","NA"]
["US000T2","ZFL4","NA01","US","T2",0,null,null,0,"2009-01-01","9999-12-31","US00"]
[{"$f":"L86 & RIGHT(F86, 1) & E86","v":"US001T2"},"ZFL4","NA01","US","T2",1,null,null,0,"2009-01-01","9999-12-31","US00"]
["US002T2","ZFL4","NA01","US","T2",2,null,null,0,"2009-01-01","9999-12-31","US00"]
["US003T2","ZFL4","NA01","US","T2",3,null,null,0,"2009-01-01","9999-12-31","US00",null,null,"NA"]
["US004T2","ZFL4","NA01","US","T2",4,null,null,0,"2009-01-01","9999-12-31","US00",null,"NA","NA"]
["US005T2","ZFL4","NA01","US","T2",5,null,null,0,"2009-01-01","9999-12-31","US00","NA","NA","NA"]
["US006T2","ZFL4","NA01","US","T2",6,null,null,0,"2009-01-01","9999-12-31","US00","NA","NA","NA"]
["US000T3","ZFL4","NA01","US","T3",0,null,null,0,"2009-01-01","9999-12-31","US00"]
["US001T3","ZFL4","NA01","US","T3",1,null,null,0,"2009-01-01","9999-12-31","US00"]
["US002T3","ZFL4","NA01","US","T3",2,null,null,0,"2009-01-01","9999-12-31","US00"]
["US003T3","ZFL4","NA01","US","T3",3,null,null,0,"2009-01-01","9999-12-31","US00",null,null,"NA"]
["US004T3","ZFL4","NA01","US","T3",4,null,null,0,"2009-01-01","9999-12-31","US00",null,"NA","NA"]
["US005T3","ZFL4","NA01","US","T3",5,null,null,0,"2009-01-01","9999-12-31","US00","NA","NA","NA"]
["US006T3","ZFL4","NA01","US","T3",6,null,null,0,"2009-01-01","9999-12-31","US00","NA","NA","NA"]
["US000T5","ZFL4","NA01","US","T5",0,null,null,0,"2009-01-01","9999-12-31","US00"]
["US001T5","ZFL4","NA01","US","T5",1,null,null,0,"2009-01-01","9999-12-31","US00"]
["US002T5","ZFL4","NA01","US","T5",2,null,null,0,"2009-01-01","9999-12-31","US00"]
["US003T5","ZFL4","NA01","US","T5",3,null,null,0,"2009-01-01","9999-12-31","US00",null,null,"NA"]
["US004T5","ZFL4","NA01","US","T5",4,null,null,0,"2009-01-01","9999-12-31","US00",null,"NA","NA"]
["US005T5","ZFL4","NA01","US","T5",5,null,null,0,"2009-01-01","9999-12-31","US00","NA","NA","NA"]
["US006T5","ZFL4","NA01","US","T5",6,null,null,0,"2009-01-01","9999-12-31","US00","NA","NA","NA"]
["US000T7","ZFL4","NA01","US","T7",0,null,null,0,"2009-01-01","9999-12-31","US00"]
["US001T7","ZFL4","NA01","US","T7",1,null,null,0,"2009-01-01","9999-12-31","US00"]
["US002T7","ZFL4","NA01","US","T7",2,null,null,0,"2009-01-01","9999-12-31","US00"]
["US003T7","ZFL4","NA01","US","T7",3,null,null,0,"2009-01-01","9999-12-31","US00",null,null,"NA"]
["US004T7","ZFL4","NA01","US","T7",4,null,null,0,"2009-01-01","9999-12-31","US00",null,"NA","NA"]
["US005T7","ZFL4","NA01","US","T7",5,null,null,0,"2009-01-01","9999-12-31","US00","NA","NA","NA"]
["US006T7","ZFL4","NA01","US","T7",6,null,null,0,"2009-01-01","9999-12-31","US00","NA","NA","NA"]
["US0002550","ZFL4","NA01","US",2550,0,null,null,0,"2009-01-01","9999-12-31","US00"]
["US0012550","ZFL4","NA01","US",2550,1,null,null,0,"2009-01-01","9999-12-31","US00"]
["US0022550","ZFL4","NA01","US",2550,2,null,null,0,"2009-01-01","9999-12-31","US00"]
["US0032550","ZFL4","NA01","US",2550,3,null,null,0,"2009-01-01","9999-12-31","US00",null,null,"NA"]
["US0042550","ZFL4","NA01","US",2550,4,null,null,0,"2009-01-01","9999-12-31","US00",null,"NA","NA"]
["US0052550","ZFL4","NA01","US",2550,5,null,null,0,"2009-01-01","9999-12-31","US00","NA","NA","NA"]
["US0062550","ZFL4","NA01","US",2550,6,null,null,0,"2009-01-01","9999-12-31","US00","NA","NA","NA"]
["US000B7","ZFL4","NA01","US","B7",0,null,null,0,"2009-01-01","9999-12-31","US00"]
["US001B7","ZFL4","NA01","US","B7",1,null,null,0,"2009-01-01","9999-12-31","US00"]
["US002B7","ZFL4","NA01","US","B7",2,null,null,0,"2009-01-01","9999-12-31","US00"]
["US003B7","ZFL4","NA01","US","B7",3,null,null,0,"2009-01-01","9999-12-31","US00",null,null,"NA"]
["US004B7","ZFL4","NA01","US","B7",4,null,null,0,"2009-01-01","9999-12-31","US00",null,"NA","NA"]
["US005B7","ZFL4","NA01","US","B7",5,null,null,0,"2009-01-01","9999-12-31","US00","NA","NA","NA"]
["US006B7","ZFL4","NA01","US","B7",6,null,null,0,"2009-01-01","9999-12-31","US00","NA","NA","NA"]
["US000B10","ZFL4","NA01","US","B10",0,null,null,0,"2009-01-01","9999-12-31","US00"]
["US001B10","ZFL4","NA01","US","B10",1,null,null,0,"2009-01-01","9999-12-31","US00"]
["US002B10","ZFL4","NA01","US","B10",2,null,null,0,"2009-01-01","9999-12-31","US00"]
["US003B10","ZFL4","NA01","US","B10",3,null,null,0,"2009-01-01","9999-12-31","US00",null,null,"NA"]
["US004B10","ZFL4","NA01","US","B10",4,null,null,0,"2009-01-01","9999-12-31","US00",null,"NA","NA"]
["US005B10","ZFL4","NA01","US","B10",5,null,null,0,"2009-01-01","9999-12-31","US00","NA","NA","NA"]
["US006B10","ZFL4","NA01","US","B10",6,null,null,0,"2009-01-01","9999-12-31","US00","NA","NA","NA"]
["US0006200","ZFL4","NA01","US",6200,0,null,null,0,"2009-01-01","9999-12-31","US00"]
["US0016200","ZFL4","NA01","US",6200,1,null,null,0,"2009-01-01","9999-12-31","US00"]
["US0026200","ZFL4","NA01","US",6200,2,null,null,0,"2009-01-01","9999-12-31","US00"]
["US0036200","ZFL4","NA01","US",6200,3,null,null,0,"2009-01-01","9999-12-31","US00"]
["US0046200","ZFL4","NA01","US",6200,4,null,null,0,"2009-01-01","9999-12-31","US00"]
["US0056200","ZFL4","NA01","US",6200,5,null,null,0,"2009-01-01","9999-12-31","US00","1BO","1BO","NA"]
["US0066200","ZFL4","NA01","US",6200,6,null,null,0,"2009-01-01","9999-12-31","US00","1BO","NA","NA"]
[{"$f":"L141 & RIGHT(F141, 1) & E141","v":"US000S16"},"ZFL4","NA01","US","S16",0,null,null,0,"2009-01-01","9999-12-31","US00"]
["US001S16","ZFL4","NA01","US","S16",1,null,null,0,"2009-01-01","9999-12-31","US00"]
["US002S16","ZFL4","NA01","US","S16",2,null,null,0,"2009-01-01","9999-12-31","US00"]
["US003S16","ZFL4","NA01","US","S16",3,null,null,0,"2009-01-01","9999-12-31","US00"]
["US004S16","ZFL4","NA01","US","S16",4,null,null,0,"2009-01-01","9999-12-31","US00"]
["US005S16","ZFL4","NA01","US","S16",5,null,null,0,"2009-01-01","9999-12-31","US00","1BO","1BO","NA"]
["US006S16","ZFL4","NA01","US","S16",6,null,null,0,"2009-01-01","9999-12-31","US00","1BO","NA","NA"]
[{"$f":"L148 & RIGHT(F148, 1) & E148","v":"US000S20"},"ZFL4","NA01","US","S20",0,null,null,0,"2009-01-01","9999-12-31","US00"]
["US001S20","ZFL4","NA01","US","S20",1,null,null,0,"2009-01-01","9999-12-31","US00"]
["US002S20","ZFL4","NA01","US","S20",2,null,null,0,"2009-01-01","9999-12-31","US00"]
["US003S20","ZFL4","NA01","US","S20",3,null,null,0,"2009-01-01","9999-12-31","US00"]
["US004S20","ZFL4","NA01","US","S20",4,null,null,0,"2009-01-01","9999-12-31","US00"]
["US005S20","ZFL4","NA01","US","S20",5,null,null,0,"2009-01-01","9999-12-31","US00","1BO","1BO","NA"]
["US006S20","ZFL4","NA01","US","S20",6,null,null,0,"2009-01-01","9999-12-31","US00","1BO","NA","NA"]
[{"$f":"L155 & RIGHT(F155, 1) & E155","v":"US000S20_LP_Standard_Config"},"ZFL4","NA01","US","S20_LP_Standard_Config",0,null,null,0,"2009-01-01","9999-12-31","US00"]
["US001S20_LP_Standard_Config","ZFL4","NA01","US","S20_LP_Standard_Config",1,null,null,0,"2009-01-01","9999-12-31","US00"]
["US002S20_LP_Standard_Config","ZFL4","NA01","US","S20_LP_Standard_Config",2,null,null,0,"2009-01-01","9999-12-31","US00"]
["US003S20_LP_Standard_Config","ZFL4","NA01","US","S20_LP_Standard_Config",3,null,null,0,"2009-01-01","9999-12-31","US00"]
["US004S20_LP_Standard_Config","ZFL4","NA01","US","S20_LP_Standard_Config",4,null,null,0,"2009-01-01","9999-12-31","US00"]
["US005S20_LP_Standard_Config","ZFL4","NA01","US","S20_LP_Standard_Config",5,null,null,0,"2009-01-01","9999-12-31","US00","1BO","1BO","NA"]
["US006S20_LP_Standard_Config","ZFL4","NA01","US","S20_LP_Standard_Config",6,null,null,0,"2009-01-01","9999-12-31","US00","1BO","NA","NA"]
["US000S30","ZFL4","NA01","US","S30",0,null,null,0,"2009-01-01","9999-12-31","US00"]
["US001S30","ZFL4","NA01","US","S30",1,null,null,0,"2009-01-01","9999-12-31","US00"]
["US002S30","ZFL4","NA01","US","S30",2,null,null,0,"2009-01-01","9999-12-31","US00"]
["US003S30","ZFL4","NA01","US","S30",3,null,null,0,"2009-01-01","9999-12-31","US00"]
["US004S30","ZFL4","NA01","US","S30",4,null,null,0,"2009-01-01","9999-12-31","US00"]
["US005S30","ZFL4","NA01","US","S30",5,null,null,0,"2009-01-01","9999-12-31","US00","1BO","1BO","NA"]
["US006S30","ZFL4","NA01","US","S30",6,null,null,0,"2009-01-01","9999-12-31","US00","1BO","NA","NA"]
[{"$f":"L169 & RIGHT(F169, 1) & E169","v":"US000S30_Standard_Config"},"ZFL4","NA01","US","S30_Standard_Config",0,null,null,0,"2009-01-01","9999-12-31","US00"]
["US001S30_Standard_Config","ZFL4","NA01","US","S30_Standard_Config",1,null,null,0,"2009-01-01","9999-12-31","US00"]
["US002S30_Standard_Config","ZFL4","NA01","US","S30_Standard_Config",2,null,null,0,"2009-01-01","9999-12-31","US00"]
["US003S30_Standard_Config","ZFL4","NA01","US","S30_Standard_Config",3,null,null,0,"2009-01-01","9999-12-31","US00"]
["US004S30_Standard_Config","ZFL4","NA01","US","S30_Standard_Config",4,null,null,0,"2009-01-01","9999-12-31","US00"]
["US005S30_Standard_Config","ZFL4","NA01","US","S30_Standard_Config",5,null,null,0,"2009-01-01","9999-12-31","US00","1BO","1BO","NA"]
["US006S30_Standard_Config","ZFL4","NA01","US","S30_Standard_Config",6,null,null,0,"2009-01-01","9999-12-31","US00","1BO","NA","NA"]
["US000800","ZFL4","NA01","US",800,0,null,null,0,"2009-01-01","9999-12-31","US00"]
["US001800","ZFL4","NA01","US",800,1,null,null,0,"2009-01-01","9999-12-31","US00"]
["US002800","ZFL4","NA01","US",800,2,null,null,0,"2009-01-01","9999-12-31","US00"]
["US003800","ZFL4","NA01","US",800,3,null,null,0,"2009-01-01","9999-12-31","US00"]
["US004800","ZFL4","NA01","US",800,4,null,null,0,"2009-01-01","9999-12-31","US00"]
["US005800","ZFL4","NA01","US",800,5,null,null,0,"2009-01-01","9999-12-31","US00","1BO","1BO","NA"]
["US006800","ZFL4","NA01","US",800,6,null,null,0,"2009-01-01","9999-12-31","US00","1BO","NA","NA"]
["US000810","ZFL4","NA01","US",810,0,null,null,0,"2009-01-01","9999-12-31","US00"]
["US001810","ZFL4","NA01","US",810,1,null,null,0,"2009-01-01","9999-12-31","US00"]
["US002810","ZFL4","NA01","US",810,2,null,null,0,"2009-01-01","9999-12-31","US00"]
["US003810","ZFL4","NA01","US",810,3,null,null,0,"2009-01-01","9999-12-31","US00"]
["US004810","ZFL4","NA01","US",810,4,null,null,0,"2009-01-01","9999-12-31","US00"]
["US005810","ZFL4","NA01","US",810,5,null,null,0,"2009-01-01","9999-12-31","US00","1BO","1BO","NA"]
["US006810","ZFL4","NA01","US",810,6,null,null,0,"2009-01-01","9999-12-31","US00","1BO","NA","NA"]
["US000ATLV","ZFL4","NA01","US","ATLV",0,null,null,0,"2009-01-01","9999-12-31","US00"]
["US001ATLV","ZFL4","NA01","US","ATLV",1,null,null,0,"2009-01-01","9999-12-31","US00"]
["US002ATLV","ZFL4","NA01","US","ATLV",2,null,null,0,"2009-01-01","9999-12-31","US00"]
["US003ATLV","ZFL4","NA01","US","ATLV",3,null,null,0,"2009-01-01","9999-12-31","US00"]
["US004ATLV","ZFL4","NA01","US","ATLV",4,null,null,0,"2009-01-01","9999-12-31","US00"]
["US005ATLV","ZFL4","NA01","US","ATLV",5,null,null,0,"2009-01-01","9999-12-31","US00","1BO","1BO","NA"]
["US006ATLV","ZFL4","NA01","US","ATLV",6,null,null,0,"2009-01-01","9999-12-31","US00","1BO","NA","NA"]
["US000T12","ZFL4","NA01","US","T12",0,null,null,0,"2009-01-01","9999-12-31","US00"]
["US001T12","ZFL4","NA01","US","T12",1,null,null,0,"2009-01-01","9999-12-31","US00"]
["US002T12","ZFL4","NA01","US","T12",2,null,null,0,"2009-01-01","9999-12-31","US00"]
["US003T12","ZFL4","NA01","US","T12",3,null,null,0,"2009-01-01","9999-12-31","US00"]
["US004T12","ZFL4","NA01","US","T12",4,null,null,0,"2009-01-01","9999-12-31","US00"]
["US005T12","ZFL4","NA01","US","T12",5,null,null,0,"2009-01-01","9999-12-31","US00","1BO","1BO","NA"]
["US006T12","ZFL4","NA01","US","T12",6,null,null,0,"2009-01-01","9999-12-31","US00","1BO","NA","NA"]
["US000T16","ZFL4","NA01","US","T16",0,null,null,0,"2009-01-01","9999-12-31","US00"]
["US001T16","ZFL4","NA01","US","T16",1,null,null,0,"2009-01-01","9999-12-31","US00"]
["US002T16","ZFL4","NA01","US","T16",2,null,null,0,"2009-01-01","9999-12-31","US00"]
["US003T16","ZFL4","NA01","US","T16",3,null,null,0,"2009-01-01","9999-12-31","US00"]
["US004T16","ZFL4","NA01","US","T16",4,null,null,0,"2009-01-01","9999-12-31","US00"]
["US005T16","ZFL4","NA01","US","T16",5,null,null,0,"2009-01-01","9999-12-31","US00","1BO","1BO","NA"]
["US006T16","ZFL4","NA01","US","T16",6,null,null,0,"2009-01-01","9999-12-31","US00","1BO","NA","NA"]
["US000T17","ZFL4","NA01","US","T17",0,null,null,0,"2009-01-01","9999-12-31","US00"]
["US001T17","ZFL4","NA01","US","T17",1,null,null,0,"2009-01-01","9999-12-31","US00"]
["US002T17","ZFL4","NA01","US","T17",2,null,null,0,"2009-01-01","9999-12-31","US00"]
["US003T17","ZFL4","NA01","US","T17",3,null,null,0,"2009-01-01","9999-12-31","US00"]
["US004T17","ZFL4","NA01","US","T17",4,null,null,0,"2009-01-01","9999-12-31","US00"]
["US005T17","ZFL4","NA01","US","T17",5,null,null,0,"2009-01-01","9999-12-31","US00","1BO","1BO","NA"]
["US006T17","ZFL4","NA01","US","T17",6,null,null,0,"2009-01-01","9999-12-31","US00","1BO","NA","NA"]
["US0007300","ZFL4","NA01","US",7300,0,null,null,0,"2009-01-01","9999-12-31","US00"]
["US0017300","ZFL4","NA01","US",7300,1,null,null,0,"2009-01-01","9999-12-31","US00"]
["US0027300","ZFL4","NA01","US",7300,2,null,null,0,"2009-01-01","9999-12-31","US00"]
["US0037300","ZFL4","NA01","US",7300,3,null,null,0,"2009-01-01","9999-12-31","US00"]
["US0047300","ZFL4","NA01","US",7300,4,null,null,0,"2009-01-01","9999-12-31","US00"]
["US0057300","ZFL4","NA01","US",7300,5,null,null,0,"2009-01-01","9999-12-31","US00","1BO","1BO","NA"]
["US0067300","ZFL4","NA01","US",7300,6,null,null,0,"2009-01-01","9999-12-31","US00","1BO","NA","NA"]
["US000T20","ZFL4","NA01","US","T20",0,null,null,0,"2009-01-01","9999-12-31","US00"]
[{"$f":"L226 & RIGHT(F226, 1) & E226","v":"US001T20"},"ZFL4","NA01","US","T20",1,null,null,0,"2009-01-01","9999-12-31","US00"]
["US002T20","ZFL4","NA01","US","T20",2,null,null,0,"2009-01-01","9999-12-31","US00"]
["US003T20","ZFL4","NA01","US","T20",3,null,null,0,"2009-01-01","9999-12-31","US00"]
["US004T20","ZFL4","NA01","US","T20",4,null,null,0,"2009-01-01","9999-12-31","US00"]
["US005T20","ZFL4","NA01","US","T20",5,null,null,0,"2009-01-01","9999-12-31","US00","1BO","1BO","NA"]
["US006T20","ZFL4","NA01","US","T20",6,null,null,0,"2009-01-01","9999-12-31","US00","1BO","NA","NA"]
["US0008300","ZFL4","NA01","US",8300,0,null,null,0,"2009-01-01","9999-12-31","US00"]
["US0018300","ZFL4","NA01","US",8300,1,null,null,0,"2009-01-01","9999-12-31","US00"]
["US0028300","ZFL4","NA01","US",8300,2,null,null,0,"2009-01-01","9999-12-31","US00"]
["US0038300","ZFL4","NA01","US",8300,3,null,null,0,"2009-01-01","9999-12-31","US00"]
["US0048300","ZFL4","NA01","US",8300,4,null,null,0,"2009-01-01","9999-12-31","US00"]
["US0058300","ZFL4","NA01","US",8300,5,null,null,0,"2009-01-01","9999-12-31","US00","1BO","1BO","NA"]
["US0068300","ZFL4","NA01","US",8300,6,null,null,0,"2009-01-01","9999-12-31","US00","1BO","NA","NA"]
["US000M20","ZFL4","NA01","US","M20",0,null,null,0,"2009-01-01","9999-12-31","US00"]
["US001M20","ZFL4","NA01","US","M20",1,null,null,0,"2009-01-01","9999-12-31","US00"]
["US002M20","ZFL4","NA01","US","M20",2,null,null,0,"2009-01-01","9999-12-31","US00"]
["US003M20","ZFL4","NA01","US","M20",3,null,null,0,"2009-01-01","9999-12-31","US00"]
["US004M20","ZFL4","NA01","US","M20",4,null,null,0,"2009-01-01","9999-12-31","US00"]
["US005M20","ZFL4","NA01","US","M20",5,null,null,0,"2009-01-01","9999-12-31","US00","1BO","1BO","NA"]
["US006M20","ZFL4","NA01","US","M20",6,null,null,0,"2009-01-01","9999-12-31","US00","1BO","NA","NA"]
["US000M30","ZFL4","NA01","US","M30",0,null,null,0,"2009-01-01","9999-12-31","US00"]
["US001M30","ZFL4","NA01","US","M30",1,null,null,0,"2009-01-01","9999-12-31","US00"]
["US002M30","ZFL4","NA01","US","M30",2,null,null,0,"2009-01-01","9999-12-31","US00"]
["US003M30","ZFL4","NA01","US","M30",3,null,null,0,"2009-01-01","9999-12-31","US00"]
["US004M30","ZFL4","NA01","US","M30",4,null,null,0,"2009-01-01","9999-12-31","US00"]
["US005M30","ZFL4","NA01","US","M30",5,null,null,0,"2009-01-01","9999-12-31","US00","1BO","1BO","NA"]
["US006M30","ZFL4","NA01","US","M30",6,null,null,0,"2009-01-01","9999-12-31","US00","1BO","NA","NA"]
["US000GM400","ZFL4","NA01","US","GM400",0,null,null,0,"2009-01-01","9999-12-31","US00","1BO","1BO","1BO"]
["US001GM400","ZFL4","NA01","US","GM400",1,null,null,0,"2009-01-01","9999-12-31","US00","1BO","1BO","1BO"]
["US002GM400","ZFL4","NA01","US","GM400",2,null,null,0,"2009-01-01","9999-12-31","US00","1BO","1BO","1BO"]
["US003GM400","ZFL4","NA01","US","GM400",3,null,null,0,"2009-01-01","9999-12-31","US00","1BO","1BO","1BO"]
["US004GM400","ZFL4","NA01","US","GM400",4,null,null,0,"2009-01-01","9999-12-31","US00","1BO","1BO","1BO"]
["US005GM400","ZFL4","NA01","US","GM400",5,null,null,0,"2009-01-01","9999-12-31","US00","1BO","1BO","NA"]
["US006GM400","ZFL4","NA01","US","GM400",6,null,null,0,"2009-01-01","9999-12-31","US00","1BO","NA","NA"]
["US000GM600","ZFL4","NA01","US","GM600",0,null,null,0,"2009-01-01","9999-12-31","US00","1BO","1BO","1BO"]
["US001GM600","ZFL4","NA01","US","GM600",1,null,null,0,"2009-01-01","9999-12-31","US00","1BO","1BO","1BO"]
["US002GM600","ZFL4","NA01","US","GM600",2,null,null,0,"2009-01-01","9999-12-31","US00","1BO","1BO","1BO"]
["US003GM600","ZFL4","NA01","US","GM600",3,null,null,0,"2009-01-01","9999-12-31","US00","1BO","1BO","1BO"]
["US004GM600","ZFL4","NA01","US","GM600",4,null,null,0,"2009-01-01","9999-12-31","US00","1BO","1BO","1BO"]
["US005GM600","ZFL4","NA01","US","GM600",5,null,null,0,"2009-01-01","9999-12-31","US00","1BO","1BO","NA"]
["US006GM600","ZFL4","NA01","US","GM600",6,null,null,0,"2009-01-01","9999-12-31","US00","1BO","NA","NA"]
["US000DualTech_ReadySpace_Strive","ZFL4","NA01","US","DualTech_ReadySpace_Strive",0,null,null,0,"2009-01-01","9999-12-31","US00"]
["US001DualTech_ReadySpace_Strive","ZFL4","NA01","US","DualTech_ReadySpace_Strive",1,null,null,0,"2009-01-01","9999-12-31","US00"]
["US002DualTech_ReadySpace_Strive","ZFL4","NA01","US","DualTech_ReadySpace_Strive",2,null,null,0,"2009-01-01","9999-12-31","US00"]
["US003DualTech_ReadySpace_Strive","ZFL4","NA01","US","DualTech_ReadySpace_Strive",3,null,null,0,"2009-01-01","9999-12-31","US00",null,null,"NA"]
["US004DualTech_ReadySpace_Strive","ZFL4","NA01","US","DualTech_ReadySpace_Strive",4,null,null,0,"2009-01-01","9999-12-31","US00",null,"NA","NA"]
["US005DualTech_ReadySpace_Strive","ZFL4","NA01","US","DualTech_ReadySpace_Strive",5,null,null,0,"2009-01-01","9999-12-31","US00","NA","NA","NA"]
["US006DualTech_ReadySpace_Strive","ZFL4","NA01","US","DualTech_ReadySpace_Strive",6,null,null,0,"2009-01-01","9999-12-31","US00","NA","NA","NA"]
["US000DualTech_ReadySpace_StriveRider","ZFL4","NA01","US","DualTech_ReadySpace_StriveRider",0,null,null,0,"2009-01-01","9999-12-31","US00"]
["US001DualTech_ReadySpace_StriveRider","ZFL4","NA01","US","DualTech_ReadySpace_StriveRider",1,null,null,0,"2009-01-01","9999-12-31","US00"]
["US002DualTech_ReadySpace_StriveRider","ZFL4","NA01","US","DualTech_ReadySpace_StriveRider",2,null,null,0,"2009-01-01","9999-12-31","US00"]
["US003DualTech_ReadySpace_StriveRider","ZFL4","NA01","US","DualTech_ReadySpace_StriveRider",3,null,null,0,"2009-01-01","9999-12-31","US00",null,null,"NA"]
["US004DualTech_ReadySpace_StriveRider","ZFL4","NA01","US","DualTech_ReadySpace_StriveRider",4,null,null,0,"2009-01-01","9999-12-31","US00",null,"NA","NA"]
["US005DualTech_ReadySpace_StriveRider","ZFL4","NA01","US","DualTech_ReadySpace_StriveRider",5,null,null,0,"2009-01-01","9999-12-31","US00","NA","NA","NA"]
["US006DualTech_ReadySpace_StriveRider","ZFL4","NA01","US","DualTech_ReadySpace_StriveRider",6,null,null,0,"2009-01-01","9999-12-31","US00","NA","NA","NA"]
["US000SS5_24_32","ZFL4","NA01","US","SS5_24_32",0,null,null,0,"2009-01-01","9999-12-31","US00"]
["US001SS5_24_32","ZFL4","NA01","US","SS5_24_32",1,null,null,0,"2009-01-01","9999-12-31","US00"]
["US002SS5_24_32","ZFL4","NA01","US","SS5_24_32",2,null,null,0,"2009-01-01","9999-12-31","US00"]
["US003SS5_24_32","ZFL4","NA01","US","SS5_24_32",3,null,null,0,"2009-01-01","9999-12-31","US00",null,null,"NA"]
["US004SS5_24_32","ZFL4","NA01","US","SS5_24_32",4,null,null,0,"2009-01-01","9999-12-31","US00",null,"NA","NA"]
["US005SS5_24_32","ZFL4","NA01","US","SS5_24_32",5,null,null,0,"2009-01-01","9999-12-31","US00","NA","NA","NA"]
["US006SS5_24_32","ZFL4","NA01","US","SS5_24_32",6,null,null,0,"2009-01-01","9999-12-31","US00","NA","NA","NA"]
["US000SSR","ZFL4","NA01","US","SSR",0,null,null,0,"2009-01-01","9999-12-31","US00"]
["US001SSR","ZFL4","NA01","US","SSR",1,null,null,0,"2009-01-01","9999-12-31","US00"]
[{"$f":"L290 & RIGHT(F290, 1) & E290","v":"US002SSR"},"ZFL4","NA01","US","SSR",2,null,null,0,"2009-01-01","9999-12-31","US00"]
["US003SSR","ZFL4","NA01","US","SSR",3,null,null,0,"2009-01-01","9999-12-31","US00",null,null,"NA"]
["US004SSR","ZFL4","NA01","US","SSR",4,null,null,0,"2009-01-01","9999-12-31","US00",null,"NA","NA"]
["US005SSR","ZFL4","NA01","US","SSR",5,null,null,0,"2009-01-01","9999-12-31","US00","NA","NA","NA"]
["US006SSR","ZFL4","NA01","US","SSR",6,null,null,0,"2009-01-01","9999-12-31","US00","NA","NA","NA"]
["US000SpeedGleam7","ZFL4","NA01","US","SpeedGleam7",0,null,null,0,"2009-01-01","9999-12-31","US00"]
["US001SpeedGleam7","ZFL4","NA01","US","SpeedGleam7",1,null,null,0,"2009-01-01","9999-12-31","US00"]
["US002SpeedGleam7","ZFL4","NA01","US","SpeedGleam7",2,null,null,0,"2009-01-01","9999-12-31","US00"]
["US003SpeedGleam7","ZFL4","NA01","US","SpeedGleam7",3,null,null,0,"2009-01-01","9999-12-31","US00",null,null,"NA"]
["US004SpeedGleam7","ZFL4","NA01","US","SpeedGleam7",4,null,null,0,"2009-01-01","9999-12-31","US00",null,"NA","NA"]
["US005SpeedGleam7","ZFL4","NA01","US","SpeedGleam7",5,null,null,0,"2009-01-01","9999-12-31","US00","NA","NA","NA"]
["US006SpeedGleam7","ZFL4","NA01","US","SpeedGleam7",6,null,null,0,"2009-01-01","9999-12-31","US00","NA","NA","NA"]
["US000SpeedGleam_Rider","ZFL4","NA01","US","SpeedGleam_Rider",0,null,null,0,"2009-01-01","9999-12-31","US00"]
["US001SpeedGleam_Rider","ZFL4","NA01","US","SpeedGleam_Rider",1,null,null,0,"2009-01-01","9999-12-31","US00"]
["US002SpeedGleam_Rider","ZFL4","NA01","US","SpeedGleam_Rider",2,null,null,0,"2009-01-01","9999-12-31","US00"]
["US003SpeedGleam_Rider","ZFL4","NA01","US","SpeedGleam_Rider",3,null,null,0,"2009-01-01","9999-12-31","US00",null,null,"NA"]
["US004SpeedGleam_Rider","ZFL4","NA01","US","SpeedGleam_Rider",4,null,null,0,"2009-01-01","9999-12-31","US00",null,"NA","NA"]
["US005SpeedGleam_Rider","ZFL4","NA01","US","SpeedGleam_Rider",5,null,null,0,"2009-01-01","9999-12-31","US00","NA","NA","NA"]
["US006SpeedGleam_Rider","ZFL4","NA01","US","SpeedGleam_Rider",6,null,null,0,"2009-01-01","9999-12-31","US00","NA","NA","NA"]
["US000SS_17_20","ZFL4","NA01","US","SS_17_20",0,null,null,0,"2009-01-01","9999-12-31","US00"]
["US001SS_17_20","ZFL4","NA01","US","SS_17_20",1,null,null,0,"2009-01-01","9999-12-31","US00"]
["US002SS_17_20","ZFL4","NA01","US","SS_17_20",2,null,null,0,"2009-01-01","9999-12-31","US00"]
["US003SS_17_20","ZFL4","NA01","US","SS_17_20",3,null,null,0,"2009-01-01","9999-12-31","US00",null,null,"NA"]
["US004SS_17_20","ZFL4","NA01","US","SS_17_20",4,null,null,0,"2009-01-01","9999-12-31","US00",null,"NA","NA"]
["US005SS_17_20","ZFL4","NA01","US","SS_17_20",5,null,null,0,"2009-01-01","9999-12-31","US00","NA","NA","NA"]
["US006SS_17_20","ZFL4","NA01","US","SS_17_20",6,null,null,0,"2009-01-01","9999-12-31","US00","NA","NA","NA"]
["US000SS_XC","ZFL4","NA01","US","SS_XC",0,null,null,0,"2009-01-01","9999-12-31","US00"]
["US001SS_XC","ZFL4","NA01","US","SS_XC",1,null,null,0,"2009-01-01","9999-12-31","US00"]
["US002SS_XC","ZFL4","NA01","US","SS_XC",2,null,null,0,"2009-01-01","9999-12-31","US00"]
["US003SS_XC","ZFL4","NA01","US","SS_XC",3,null,null,0,"2009-01-01","9999-12-31","US00",null,null,"NA"]
["US004SS_XC","ZFL4","NA01","US","SS_XC",4,null,null,0,"2009-01-01","9999-12-31","US00",null,"NA","NA"]
["US005SS_XC","ZFL4","NA01","US","SS_XC",5,null,null,0,"2009-01-01","9999-12-31","US00","NA","NA","NA"]
["US006SS_XC","ZFL4","NA01","US","SS_XC",6,null,null,0,"2009-01-01","9999-12-31","US00","NA","NA","NA"]
["US000SS3_Orbital","ZFL4","NA01","US","SS3_Orbital",0,null,null,0,"2009-01-01","9999-12-31","US00"]
["US001SS3_Orbital","ZFL4","NA01","US","SS3_Orbital",1,null,null,0,"2009-01-01","9999-12-31","US00"]
["US002SS3_Orbital","ZFL4","NA01","US","SS3_Orbital",2,null,null,0,"2009-01-01","9999-12-31","US00"]
["US003SS3_Orbital","ZFL4","NA01","US","SS3_Orbital",3,null,null,0,"2009-01-01","9999-12-31","US00",null,null,"NA"]
["US004SS3_Orbital","ZFL4","NA01","US","SS3_Orbital",4,null,null,0,"2009-01-01","9999-12-31","US00",null,"NA","NA"]
["US005SS3_Orbital","ZFL4","NA01","US","SS3_Orbital",5,null,null,0,"2009-01-01","9999-12-31","US00","NA","NA","NA"]
["US006SS3_Orbital","ZFL4","NA01","US","SS3_Orbital",6,null,null,0,"2009-01-01","9999-12-31","US00","NA","NA","NA"]
["US000Sentinel","ZFL4","NA01","US","Sentinel",0,null,null,0,"2009-01-01","9999-12-31","US00"]
["US001Sentinel","ZFL4","NA01","US","Sentinel",1,null,null,0,"2009-01-01","9999-12-31","US00"]
["US002Sentinel","ZFL4","NA01","US","Sentinel",2,null,null,0,"2009-01-01","9999-12-31","US00"]
["US003Sentinel","ZFL4","NA01","US","Sentinel",3,null,null,0,"2009-01-01","9999-12-31","US00"]
["US004Sentinel","ZFL4","NA01","US","Sentinel",4,null,null,0,"2009-01-01","9999-12-31","US00"]
["US005Sentinel","ZFL4","NA01","US","Sentinel",5,null,null,0,"2009-01-01","9999-12-31","US00",null,null,"NA"]
["US006Sentinel","ZFL4","NA01","US","Sentinel",6,null,null,0,"2009-01-01","9999-12-31","US00",null,"NA","NA"]

{"sheet":"Financing","index":36,"n_rows":79,"n_cols":102,"rows_kept":79,"cut":false,"hidden":true,"merged":[[41,51,41,57],[41,59,41,65],[41,95,41,101],[58,3,58,4],[41,67,41,69],[41,71,41,77],[41,79,41,85],[41,87,41,93],[41,3,41,9],[41,11,41,17],[41,19,41,25],[41,27,41,33],[41,35,41,41],[41,43,41,49],[1,35,1,41],[1,43,1,49],[22,27,22,33],[22,35,22,41],[22,43,22,49],[1,3,1,9],[1,11,1,17],[1,19,1,25],[1,27,1,33],[37,3,37,4],[16,3,16,4],[22,3,22,9],[22,11,22,17],[22,19,22,25],[22,51,22,57],[1,71,1,77],[22,71,22,77],[1,51,1,57],[1,59,1,65],[22,67,22,69],[22,59,22,65],[1,67,1,69],[1,79,1,85],[1,87,1,93],[1,95,1,101],[22,79,22,85],[22,87,22,93],[22,95,22,101]]}
["Finance Partner","First Western Equipment Finance",null,{"$f":"C8","v":"US Bank"},null,"2025-05-06"]
["Equipment Cost",0,null,{"$f":"B8","v":"$1 Buyout Lease"},null,null,null,null,null,null,null,{"$f":"B9","v":"Fair Market Value Sweeper Lease"},null,null,null,null,null,null,null,{"$f":"B10","v":"Fair Market Value Scrubber Lease"},null,null,null,null,null,null,null,{"$f":"B11","v":"Fair Market Value Robotic Lease"},null,null,null,null,null,null,null,{"$f":"B12","v":"Municipal $1 Buyout Lease - Monthly Pmt"},null,null,null,null,null,null,null,{"$f":"B13","v":0},null,null,null,null,null,null,null,{"$f":"B14","v":0},null,null,null,null,null,null,null,{"$f":"B15","v":"Municipal $1 Buyout Lease - Annual Pmt"},null,null,null,null,null,null,null,{"$f":"B16","v":"Rent To Own"},null,null,null,{"$f":"B17","v":0},null,null,null,null,null,null,null,{"$f":"B18","v":"$1 Buyout Lease - 90 days no pmt"},null,null,null,null,null,null,null,{"$f":"B19","v":"Fair Market Value Sweeper Lease - 90 days no pmt"},null,null,null,null,null,null,null,{"$f":"B20","v":"Fair Market Value Scrubber Lease - 90 days no pmt"}]
["Term:",48,null,null,null,3000,10000,25000,50000,100000,null,null,null,3000,10000,25000,50000,100000,null,null,null,3000,10000,25000,50000,100000,null,null,null,3000,10000,25000,50000,100000,null,null,null,3000,10000,25000,50000,100000,null,null,null,3000,10000,25000,50000,100000,null,null,null,3000,10000,25000,50000,100000,null,null,null,3000,10000,25000,50000,100000,null,null,null,1,null,null,null,3000,10000,25000,50000,100000,null,null,null,3000,10000,25000,50000,100000,null,null,null,3000,10000,25000,50000,100000,null,null,null,3000,10000,25000,50000,100000]
["Purchase Option:","FWEF: Municipal Lease",null,null,null,"to","to","to","to","to",null,null,null,"to","to","to","to","to",null,null,null,"to","to","to","to","to",null,null,null,"to","to","to","to","to",null,null,null,"to","to","to","to","to",null,null,null,"to","to","to","to","to",null,null,null,"to","to","to","to","to",null,null,null,"to","to","to","to","to",null,null,null,"to",null,null,null,"to","to","to","to","to",null,null,null,"to","to","to","to","to",null,null,null,"to","to","to","to","to",null,null,null,"to","to","to","to","to"]
["No money down and payments of:",{"$f":"IF(B1=C8,D17, IF(B1=C9,D38, IF(B1=C10,D59)))","v":0},null,"Term","Adv",9999,24999,49999,99999,249999,null,"Term","Adv",9999,24999,49999,99999,249999,null,"Term","Adv",9999,24999,49999,99999,249999,null,"Term","Adv",9999,24999,49999,99999,249999,null,"Term","Adv",9999,24999,49999,99999,249999,null,"Term","Adv",9999,24999,49999,99999,null,null,"Term","Adv",9999,24999,49999,99999,null,null,"Term","Adv",9999,24999,49999,99999,null,null,"Term","Adv",249999,null,"Term","Adv",9999,24999,49999,99999,249999,null,"Term","Adv",9999,24999,49999,99999,null,null,"Term","Adv",9999,24999,49999,99999,null,null,"Term","Adv",9999,24999,49999,99999]
["For Calculation",null,null,12,0,null,null,null,null,null,null,12,0,null,null,null,null,null,null,12,0,null,null,null,null,null,null,12,0,null,null,null,null,null,null,12,0,null,null,null,null,null,null,12,0,null,null,null,null,null,null,12,0,null,null,null,null,null,null,12,0,null,null,null,null,null,null,9,0,null,null,12,0,null,null,null,null,null,null,12,0,null,null,null,null,null,null,12,0,null,null,null,null,null,null,12,0]
["Term","Purchase Opt","Select a Finance Partner",24,0,4.6560947672325E-2,4.6327410679636E-2,4.6094571447160997E-2,4.5862430632944998E-2,4.5700347968129003E-2,null,24,0,3.5860815059763997E-2,3.5574719594499003E-2,3.5289130347070999E-2,3.5004047795350997E-2,3.4804791744382002E-2,null,24,0,3.5860815059763997E-2,3.5574719594499003E-2,3.5289130347070999E-2,3.5004047795350997E-2,3.4804791744382002E-2,null,24,0,4.1975176553826002E-2,4.1719114500799001E-2,4.1463668118653998E-2,4.1208837988233001E-2,4.1030823872214003E-2,null,24,0,null,null,null,null,null,null,24,0,null,null,null,null,null,null,24,0,null,null,null,null,null,null,24,0,null,null,null,null,null,null,12,0,null,null,24,0,null,null,null,null,null,null,24,0,null,null,null,null,null,null,24,0,null,null,null,null,null,null,24,0]
[12,"$1 Buyout Lease","US Bank",36,0,3.2092520658132999E-2,3.1857195981401999E-2,3.1622917240480997E-2,3.1506170325181999E-2,3.1445565447330001E-2,null,36,0,2.6687637323342998E-2,2.6411402201262001E-2,2.6135987322889E-2,2.5998587805807001E-2,2.5927221244108001E-2,null,36,0,2.7178990400973001E-2,2.6906474390777001E-2,2.6634799133987998E-2,2.6499277126816E-2,2.6428888900181E-2,null,36,0,2.9635755410761001E-2,2.9381835352522E-2,2.9128858192624001E-2,2.9002723732087E-2,2.8937227179773001E-2,null,36,0,null,null,null,null,null,null,36,0,null,null,null,null,null,null,36,0,null,null,null,null,null,null,36,0,null,null,null,null,null,null,18,0,null,null,36,0,null,null,null,null,null,null,36,0,null,null,null,null,null,null,36,0,null,null,null,null,null,null,36,0]
[24,"Fair Market Value Sweeper Lease","OnPoint Capital",48,0,2.4864410646046001E-2,2.4625923323644001E-2,2.4507201048186E-2,2.4436134705613E-2,2.4403013305115E-2,null,48,0,2.2020533305850999E-2,2.1752789092867E-2,2.1619356586115E-2,2.1539437905125001E-2,2.1502178685097E-2,null,48,0,2.2198275639611E-2,2.1932359982290001E-2,2.1799846864994001E-2,2.1720481455155E-2,2.1683480848848E-2,null,48,0,2.3442471975939998E-2,2.3189356208252E-2,2.3063278817148002E-2,2.2987786305366999E-2,2.2952595995105001E-2,null,48,0,null,null,null,null,null,null,48,0,null,null,null,null,null,null,48,0,null,null,null,null,null,null,48,0,null,null,null,null,null,null,null,null,null,null,48,0,null,null,null,null,null,null,48,0,null,null,null,null,null,null,48,0,null,null,null,null,null,null,48,0]
[36,"Fair Market Value Scrubber Lease","First Western Equipment Finance",60,0,2.0582678677938001E-2,2.0461207099860001E-2,2.0340167813078E-2,2.0219561348443001E-2,2.0209931544801E-2,null,60,0,1.9077648404985E-2,1.8946360036496999E-2,1.8815457339624E-2,1.8684940787974998E-2,1.8674516159245001E-2,null,60,0,1.9214469338863002E-2,1.9084073405875E-2,1.8954067382651998E-2,1.8824451748009001E-2,1.8814099376104999E-2,null,60,0,1.9761753074417999E-2,1.9634926883416001E-2,1.9508507554786999E-2,1.9382495588159E-2,1.937243224356E-2,null,60,0,null,null,null,null,null,null,60,0,null,null,null,null,null,null,60,0,null,null,null,null,null,null,60,0,null,null,null,null,null,null,null,null,null,null,60,0,null,null,null,null,null,null,60,0,null,null,null,null,null,null,60,0,null,null,null,null,null,null,60,0]
[48,"Fair Market Value Robotic Lease"]
[60,"Municipal $1 Buyout Lease - Monthly Pmt",null,12,0,{"$f":"IF(AND(F$3<=$B$2,$B$2<G$3,$B$3=$A$8,$B$4=D2),F6*$B$2,0)","v":0},{"$f":"IF(AND(G$3<=$B$2,$B$2<H$3,$B$3=$A$8,$B$4=D2),G6*$B$2,0)","v":0},{"$f":"IF(AND(H$3<=$B$2,$B$2<I$3,$B$3=$A$8,$B$4=D2),H6*$B$2,0)","v":0},{"$f":"IF(AND(I$3<=$B$2,$B$2<J$3,$B$3=$A$8,$B$4=D2),I6*$B$2,0)","v":0},{"$f":"IF(AND(J$3<=$B$2,$B$3=$A$8,$B$4=D2),J6*$B$2,0)","v":0},null,12,0,{"$f":"IF(AND(N$3<=$B$2,$B$2<O$3,$B$3=$A$8,$B$4=L2),N6*$B$2,0)","v":0},{"$f":"IF(AND(O$3<=$B$2,$B$2<P$3,$B$3=$A$8,$B$4=L2),O6*$B$2,0)","v":0},{"$f":"IF(AND(P$3<=$B$2,$B$2<Q$3,$B$3=$A$8,$B$4=L2),P6*$B$2,0)","v":0},{"$f":"IF(AND(Q$3<=$B$2,$B$2<R$3,$B$3=$A$8,$B$4=L2),Q6*$B$2,0)","v":0},{"$f":"IF(AND(R$3<=$B$2,$B$3=$A$8,$B$4=L2),R6*$B$2,0)","v":0},null,12,0,{"$f":"IF(AND(V$3<=$B$2,$B$2<W$3,$B$3=$A$8,$B$4=T2),V6*$B$2,0)","v":0},{"$f":"IF(AND(W$3<=$B$2,$B$2<X$3,$B$3=$A$8,$B$4=T2),W6*$B$2,0)","v":0},{"$f":"IF(AND(X$3<=$B$2,$B$2<Y$3,$B$3=$A$8,$B$4=T2),X6*$B$2,0)","v":0},{"$f":"IF(AND(Y$3<=$B$2,$B$2<Z$3,$B$3=$A$8,$B$4=T2),Y6*$B$2,0)","v":0},{"$f":"IF(AND(Z$3<=$B$2,$B$3=$A$8,$B$4=T2),Z6*$B$2,0)","v":0},null,12,0,{"$f":"IF(AND(AD$3<=$B$2,$B$2<AE$3,$B$3=$A$8,$B$4=AB2),AD6*$B$2,0)","v":0},{"$f":"IF(AND(AE$3<=$B$2,$B$2<AF$3,$B$3=$A$8,$B$4=AB2),AE6*$B$2,0)","v":0},{"$f":"IF(AND(AF$3<=$B$2,$B$2<AG$3,$B$3=$A$8,$B$4=AB2),AF6*$B$2,0)","v":0},{"$f":"IF(AND(AG$3<=$B$2,$B$2<AH$3,$B$3=$A$8,$B$4=AB2),AG6*$B$2,0)","v":0},{"$f":"IF(AND(AH$3<=$B$2,$B$3=$A$8,$B$4=AB2),AH6*$B$2,0)","v":0},null,12,0,{"$f":"IF(AND(AL$3<=$B$2,$B$2<AM$3,$B$3=$A$8,$B$4=AJ2),AL6*$B$2,0)","v":0},{"$f":"IF(AND(AM$3<=$B$2,$B$2<AN$3,$B$3=$A$8,$B$4=AJ2),AM6*$B$2,0)","v":0},{"$f":"IF(AND(AN$3<=$B$2,$B$2<AO$3,$B$3=$A$8,$B$4=AJ2),AN6*$B$2,0)","v":0},{"$f":"IF(AND(AO$3<=$B$2,$B$2<AP$3,$B$3=$A$8,$B$4=AJ2),AO6*$B$2,0)","v":0},{"$f":"IF(AND(AP$3<=$B$2,$B$3=$A$8,$B$4=AJ2),AP6*$B$2,0)","v":0},null,12,0,{"$f":"IF(AND(AT$3<=$B$2,$B$2<AU$3,$B$3=$A$8,$B$4=AR2),AT6*$B$2,0)","v":0},{"$f":"IF(AND(AU$3<=$B$2,$B$2<AV$3,$B$3=$A$8,$B$4=AR2),AU6*$B$2,0)","v":0},{"$f":"IF(AND(AV$3<=$B$2,$B$2<AW$3,$B$3=$A$8,$B$4=AR2),AV6*$B$2,0)","v":0},{"$f":"IF(AND(AW$3<=$B$2,$B$2<AX$3,$B$3=$A$8,$B$4=AR2),AW6*$B$2,0)","v":0},{"$f":"IF(AND(AX$3<=$B$2,$B$3=$A$8,$B$4=AR2),AX6*$B$2,0)","v":0},null,12,0,{"$f":"IF(AND(BB$3<=$B$2,$B$2<BC$3,$B$3=$A$8,$B$4=AZ2),BB6*$B$2,0)","v":0},{"$f":"IF(AND(BC$3<=$B$2,$B$2<BD$3,$B$3=$A$8,$B$4=AZ2),BC6*$B$2,0)","v":0},{"$f":"IF(AND(BD$3<=$B$2,$B$2<BE$3,$B$3=$A$8,$B$4=AZ2),BD6*$B$2,0)","v":0},{"$f":"IF(AND(BE$3<=$B$2,$B$2<BF$3,$B$3=$A$8,$B$4=AZ2),BE6*$B$2,0)","v":0},{"$f":"IF(AND(BF$3<=$B$2,$B$3=$A$8,$B$4=AZ2),BF6*$B$2,0)","v":0},null,12,0,{"$f":"IF(AND(BJ$3<=$B$2,$B$2<BK$3,$B$3=$A$8,$B$4=BH2),BJ6*$B$2,0)","v":0},{"$f":"IF(AND(BK$3<=$B$2,$B$2<BL$3,$B$3=$A$8,$B$4=BH2),BK6*$B$2,0)","v":0},{"$f":"IF(AND(BL$3<=$B$2,$B$2<BM$3,$B$3=$A$8,$B$4=BH2),BL6*$B$2,0)","v":0},{"$f":"IF(AND(BM$3<=$B$2,$B$2<BN$3,$B$3=$A$8,$B$4=BH2),BM6*$B$2,0)","v":0},{"$f":"IF(AND(BN$3<=$B$2,$B$3=$A$8,$B$4=BH2),BN6*$B$2,0)","v":0},null,9,0,{"$f":"IF(AND(BR$3<=$B$2,$B$3=$A$13,$B$4=BP2),BR6*$B$2,0)","v":0},null,12,0,{"$f":"IF(AND(BV$3<=$B$2,$B$2<BW$3,$B$3=$A$8,$B$4=BT2),BV6*$B$2,0)","v":0},{"$f":"IF(AND(BW$3<=$B$2,$B$2<BX$3,$B$3=$A$8,$B$4=BT2),BW6*$B$2,0)","v":0},{"$f":"IF(AND(BX$3<=$B$2,$B$2<BY$3,$B$3=$A$8,$B$4=BT2),BX6*$B$2,0)","v":0},{"$f":"IF(AND(BY$3<=$B$2,$B$2<BZ$3,$B$3=$A$8,$B$4=BT2),BY6*$B$2,0)","v":0},{"$f":"IF(AND(BZ$3<=$B$2,$B$3=$A$8,$B$4=BT2),BZ6*$B$2,0)","v":0},null,12,0,{"$f":"IF(AND(CD$3<=$B$2,$B$2<CE$3,$B$3=$A$8,$B$4=CB2),CD6*$B$2,0)","v":0},{"$f":"IF(AND(CE$3<=$B$2,$B$2<CF$3,$B$3=$A$8,$B$4=CB2),CE6*$B$2,0)","v":0},{"$f":"IF(AND(CF$3<=$B$2,$B$2<CG$3,$B$3=$A$8,$B$4=CB2),CF6*$B$2,0)","v":0},{"$f":"IF(AND(CG$3<=$B$2,$B$2<CH$3,$B$3=$A$8,$B$4=CB2),CG6*$B$2,0)","v":0},{"$f":"IF(AND(CH$3<=$B$2,$B$3=$A$8,$B$4=CB2),CH6*$B$2,0)","v":0},null,12,0,{"$f":"IF(AND(CL$3<=$B$2,$B$2<CM$3,$B$3=$A$8,$B$4=CJ2),CL6*$B$2,0)","v":0},{"$f":"IF(AND(CM$3<=$B$2,$B$2<CN$3,$B$3=$A$8,$B$4=CJ2),CM6*$B$2,0)","v":0},{"$f":"IF(AND(CN$3<=$B$2,$B$2<CO$3,$B$3=$A$8,$B$4=CJ2),CN6*$B$2,0)","v":0},{"$f":"IF(AND(CO$3<=$B$2,$B$2<CP$3,$B$3=$A$8,$B$4=CJ2),CO6*$B$2,0)","v":0},{"$f":"IF(AND(CP$3<=$B$2,$B$3=$A$8,$B$4=CJ2),CP6*$B$2,0)","v":0},null,12,0,{"$f":"IF(AND(CT$3<=$B$2,$B$2<CU$3,$B$3=$A$8,$B$4=CR2),CT6*$B$2,0)","v":0},{"$f":"IF(AND(CU$3<=$B$2,$B$2<CV$3,$B$3=$A$8,$B$4=CR2),CU6*$B$2,0)","v":0},{"$f":"IF(AND(CV$3<=$B$2,$B$2<CW$3,$B$3=$A$8,$B$4=CR2),CV6*$B$2,0)","v":0},{"$f":"IF(AND(CW$3<=$B$2,$B$2<CX$3,$B$3=$A$8,$B$4=CR2),CW6*$B$2,0)","v":0},{"$f":"IF(AND(CX$3<=$B$2,$B$3=$A$8,$B$4=CR2),CX6*$B$2,0)","v":0}]
[9,null,null,24,0,{"$f":"IF(AND(F$3<=$B$2,$B$2<G$3,$B$3=$A$9,$B$4=D2),F7*$B$2,0)","v":0},{"$f":"IF(AND(G$3<=$B$2,$B$2<H$3,$B$3=$A$9,$B$4=D2),G7*$B$2,0)","v":0},{"$f":"IF(AND(H$3<=$B$2,$B$2<I$3,$B$3=$A$9,$B$4=D2),H7*$B$2,0)","v":0},{"$f":"IF(AND(I$3<=$B$2,$B$2<J$3,$B$3=$A$9,$B$4=D2),I7*$B$2,0)","v":0},{"$f":"IF(AND(J$3<=$B$2,$B$3=$A$9,$B$4=D2),J7*$B$2,0)","v":0},null,24,0,{"$f":"IF(AND(N$3<=$B$2,$B$2<O$3,$B$3=$A$9,$B$4=L2),N7*$B$2,0)","v":0},{"$f":"IF(AND(O$3<=$B$2,$B$2<P$3,$B$3=$A$9,$B$4=L2),O7*$B$2,0)","v":0},{"$f":"IF(AND(P$3<=$B$2,$B$2<Q$3,$B$3=$A$9,$B$4=L2),P7*$B$2,0)","v":0},{"$f":"IF(AND(Q$3<=$B$2,$B$2<R$3,$B$3=$A$9,$B$4=L2),Q7*$B$2,0)","v":0},{"$f":"IF(AND(R$3<=$B$2,$B$3=$A$9,$B$4=L2),R7*$B$2,0)","v":0},null,24,0,{"$f":"IF(AND(V$3<=$B$2,$B$2<W$3,$B$3=$A$9,$B$4=T2),V7*$B$2,0)","v":0},{"$f":"IF(AND(W$3<=$B$2,$B$2<X$3,$B$3=$A$9,$B$4=T2),W7*$B$2,0)","v":0},{"$f":"IF(AND(X$3<=$B$2,$B$2<Y$3,$B$3=$A$9,$B$4=T2),X7*$B$2,0)","v":0},{"$f":"IF(AND(Y$3<=$B$2,$B$2<Z$3,$B$3=$A$9,$B$4=T2),Y7*$B$2,0)","v":0},{"$f":"IF(AND(Z$3<=$B$2,$B$3=$A$9,$B$4=T2),Z7*$B$2,0)","v":0},null,24,0,{"$f":"IF(AND(AD$3<=$B$2,$B$2<AE$3,$B$3=$A$9,$B$4=AB2),AD7*$B$2,0)","v":0},{"$f":"IF(AND(AE$3<=$B$2,$B$2<AF$3,$B$3=$A$9,$B$4=AB2),AE7*$B$2,0)","v":0},{"$f":"IF(AND(AF$3<=$B$2,$B$2<AG$3,$B$3=$A$9,$B$4=AB2),AF7*$B$2,0)","v":0},{"$f":"IF(AND(AG$3<=$B$2,$B$2<AH$3,$B$3=$A$9,$B$4=AB2),AG7*$B$2,0)","v":0},{"$f":"IF(AND(AH$3<=$B$2,$B$3=$A$9,$B$4=AB2),AH7*$B$2,0)","v":0},null,24,0,{"$f":"IF(AND(AL$3<=$B$2,$B$2<AM$3,$B$3=$A$9,$B$4=AJ2),AL7*$B$2,0)","v":0},{"$f":"IF(AND(AM$3<=$B$2,$B$2<AN$3,$B$3=$A$9,$B$4=AJ2),AM7*$B$2,0)","v":0},{"$f":"IF(AND(AN$3<=$B$2,$B$2<AO$3,$B$3=$A$9,$B$4=AJ2),AN7*$B$2,0)","v":0},{"$f":"IF(AND(AO$3<=$B$2,$B$2<AP$3,$B$3=$A$9,$B$4=AJ2),AO7*$B$2,0)","v":0},{"$f":"IF(AND(AP$3<=$B$2,$B$3=$A$9,$B$4=AJ2),AP7*$B$2,0)","v":0},null,24,0,{"$f":"IF(AND(AT$3<=$B$2,$B$2<AU$3,$B$3=$A$9,$B$4=AR2),AT7*$B$2,0)","v":0},{"$f":"IF(AND(AU$3<=$B$2,$B$2<AV$3,$B$3=$A$9,$B$4=AR2),AU7*$B$2,0)","v":0},{"$f":"IF(AND(AV$3<=$B$2,$B$2<AW$3,$B$3=$A$9,$B$4=AR2),AV7*$B$2,0)","v":0},{"$f":"IF(AND(AW$3<=$B$2,$B$2<AX$3,$B$3=$A$9,$B$4=AR2),AW7*$B$2,0)","v":0},{"$f":"IF(AND(AX$3<=$B$2,$B$3=$A$9,$B$4=AR2),AX7*$B$2,0)","v":0},null,24,0,{"$f":"IF(AND(BB$3<=$B$2,$B$2<BC$3,$B$3=$A$9,$B$4=AZ2),BB7*$B$2,0)","v":0},{"$f":"IF(AND(BC$3<=$B$2,$B$2<BD$3,$B$3=$A$9,$B$4=AZ2),BC7*$B$2,0)","v":0},{"$f":"IF(AND(BD$3<=$B$2,$B$2<BE$3,$B$3=$A$9,$B$4=AZ2),BD7*$B$2,0)","v":0},{"$f":"IF(AND(BE$3<=$B$2,$B$2<BF$3,$B$3=$A$9,$B$4=AZ2),BE7*$B$2,0)","v":0},{"$f":"IF(AND(BF$3<=$B$2,$B$3=$A$9,$B$4=AZ2),BF7*$B$2,0)","v":0},null,24,0,{"$f":"IF(AND(BJ$3<=$B$2,$B$2<BK$3,$B$3=$A$9,$B$4=BH2),BJ7*$B$2,0)","v":0},{"$f":"IF(AND(BK$3<=$B$2,$B$2<BL$3,$B$3=$A$9,$B$4=BH2),BK7*$B$2,0)","v":0},{"$f":"IF(AND(BL$3<=$B$2,$B$2<BM$3,$B$3=$A$9,$B$4=BH2),BL7*$B$2,0)","v":0},{"$f":"IF(AND(BM$3<=$B$2,$B$2<BN$3,$B$3=$A$9,$B$4=BH2),BM7*$B$2,0)","v":0},{"$f":"IF(AND(BN$3<=$B$2,$B$3=$A$9,$B$4=BH2),BN7*$B$2,0)","v":0},null,12,0,{"$f":"IF(AND(BR$3<=$B$2,$B$3=$A$8,$B$4=BP2),BR7*$B$2,0)","v":0},null,24,0,{"$f":"IF(AND(BV$3<=$B$2,$B$2<BW$3,$B$3=$A$9,$B$4=BT2),BV7*$B$2,0)","v":0},{"$f":"IF(AND(BW$3<=$B$2,$B$2<BX$3,$B$3=$A$9,$B$4=BT2),BW7*$B$2,0)","v":0},{"$f":"IF(AND(BX$3<=$B$2,$B$2<BY$3,$B$3=$A$9,$B$4=BT2),BX7*$B$2,0)","v":0},{"$f":"IF(AND(BY$3<=$B$2,$B$2<BZ$3,$B$3=$A$9,$B$4=BT2),BY7*$B$2,0)","v":0},{"$f":"IF(AND(BZ$3<=$B$2,$B$3=$A$9,$B$4=BT2),BZ7*$B$2,0)","v":0},null,24,0,{"$f":"IF(AND(CD$3<=$B$2,$B$2<CE$3,$B$3=$A$9,$B$4=CB2),CD7*$B$2,0)","v":0},{"$f":"IF(AND(CE$3<=$B$2,$B$2<CF$3,$B$3=$A$9,$B$4=CB2),CE7*$B$2,0)","v":0},{"$f":"IF(AND(CF$3<=$B$2,$B$2<CG$3,$B$3=$A$9,$B$4=CB2),CF7*$B$2,0)","v":0},{"$f":"IF(AND(CG$3<=$B$2,$B$2<CH$3,$B$3=$A$9,$B$4=CB2),CG7*$B$2,0)","v":0},{"$f":"IF(AND(CH$3<=$B$2,$B$3=$A$9,$B$4=CB2),CH7*$B$2,0)","v":0},null,24,0,{"$f":"IF(AND(CL$3<=$B$2,$B$2<CM$3,$B$3=$A$9,$B$4=CJ2),CL7*$B$2,0)","v":0},{"$f":"IF(AND(CM$3<=$B$2,$B$2<CN$3,$B$3=$A$9,$B$4=CJ2),CM7*$B$2,0)","v":0},{"$f":"IF(AND(CN$3<=$B$2,$B$2<CO$3,$B$3=$A$9,$B$4=CJ2),CN7*$B$2,0)","v":0},{"$f":"IF(AND(CO$3<=$B$2,$B$2<CP$3,$B$3=$A$9,$B$4=CJ2),CO7*$B$2,0)","v":0},{"$f":"IF(AND(CP$3<=$B$2,$B$3=$A$9,$B$4=CJ2),CP7*$B$2,0)","v":0},null,24,0,{"$f":"IF(AND(CT$3<=$B$2,$B$2<CU$3,$B$3=$A$9,$B$4=CR2),CT7*$B$2,0)","v":0},{"$f":"IF(AND(CU$3<=$B$2,$B$2<CV$3,$B$3=$A$9,$B$4=CR2),CU7*$B$2,0)","v":0},{"$f":"IF(AND(CV$3<=$B$2,$B$2<CW$3,$B$3=$A$9,$B$4=CR2),CV7*$B$2,0)","v":0},{"$f":"IF(AND(CW$3<=$B$2,$B$2<CX$3,$B$3=$A$9,$B$4=CR2),CW7*$B$2,0)","v":0},{"$f":"IF(AND(CX$3<=$B$2,$B$3=$A$9,$B$4=CR2),CX7*$B$2,0)","v":0}]
[18,null,null,36,0,{"$f":"IF(AND(F$3<=$B$2,$B$2<G$3,$B$3=$A$10,$B$4=D2),F8*$B$2,0)","v":0},{"$f":"IF(AND(G$3<=$B$2,$B$2<H$3,$B$3=$A$10,$B$4=D2),G8*$B$2,0)","v":0},{"$f":"IF(AND(H$3<=$B$2,$B$2<I$3,$B$3=$A$10,$B$4=D2),H8*$B$2,0)","v":0},{"$f":"IF(AND(I$3<=$B$2,$B$2<J$3,$B$3=$A$10,$B$4=D2),I8*$B$2,0)","v":0},{"$f":"IF(AND(J$3<=$B$2,$B$3=$A$10,$B$4=D2),J8*$B$2,0)","v":0},null,36,0,{"$f":"IF(AND(N$3<=$B$2,$B$2<O$3,$B$3=$A$10,$B$4=L2),N8*$B$2,0)","v":0},{"$f":"IF(AND(O$3<=$B$2,$B$2<P$3,$B$3=$A$10,$B$4=L2),O8*$B$2,0)","v":0},{"$f":"IF(AND(P$3<=$B$2,$B$2<Q$3,$B$3=$A$10,$B$4=L2),P8*$B$2,0)","v":0},{"$f":"IF(AND(Q$3<=$B$2,$B$2<R$3,$B$3=$A$10,$B$4=L2),Q8*$B$2,0)","v":0},{"$f":"IF(AND(R$3<=$B$2,$B$3=$A$10,$B$4=L2),R8*$B$2,0)","v":0},null,36,0,{"$f":"IF(AND(V$3<=$B$2,$B$2<W$3,$B$3=$A$10,$B$4=T2),V8*$B$2,0)","v":0},{"$f":"IF(AND(W$3<=$B$2,$B$2<X$3,$B$3=$A$10,$B$4=T2),W8*$B$2,0)","v":0},{"$f":"IF(AND(X$3<=$B$2,$B$2<Y$3,$B$3=$A$10,$B$4=T2),X8*$B$2,0)","v":0},{"$f":"IF(AND(Y$3<=$B$2,$B$2<Z$3,$B$3=$A$10,$B$4=T2),Y8*$B$2,0)","v":0},{"$f":"IF(AND(Z$3<=$B$2,$B$3=$A$10,$B$4=T2),Z8*$B$2,0)","v":0},null,36,0,{"$f":"IF(AND(AD$3<=$B$2,$B$2<AE$3,$B$3=$A$10,$B$4=AB2),AD8*$B$2,0)","v":0},{"$f":"IF(AND(AE$3<=$B$2,$B$2<AF$3,$B$3=$A$10,$B$4=AB2),AE8*$B$2,0)","v":0},{"$f":"IF(AND(AF$3<=$B$2,$B$2<AG$3,$B$3=$A$10,$B$4=AB2),AF8*$B$2,0)","v":0},{"$f":"IF(AND(AG$3<=$B$2,$B$2<AH$3,$B$3=$A$10,$B$4=AB2),AG8*$B$2,0)","v":0},{"$f":"IF(AND(AH$3<=$B$2,$B$3=$A$10,$B$4=AB2),AH8*$B$2,0)","v":0},null,36,0,{"$f":"IF(AND(AL$3<=$B$2,$B$2<AM$3,$B$3=$A$10,$B$4=AJ2),AL8*$B$2,0)","v":0},{"$f":"IF(AND(AM$3<=$B$2,$B$2<AN$3,$B$3=$A$10,$B$4=AJ2),AM8*$B$2,0)","v":0},{"$f":"IF(AND(AN$3<=$B$2,$B$2<AO$3,$B$3=$A$10,$B$4=AJ2),AN8*$B$2,0)","v":0},{"$f":"IF(AND(AO$3<=$B$2,$B$2<AP$3,$B$3=$A$10,$B$4=AJ2),AO8*$B$2,0)","v":0},{"$f":"IF(AND(AP$3<=$B$2,$B$3=$A$10,$B$4=AJ2),AP8*$B$2,0)","v":0},null,36,0,{"$f":"IF(AND(AT$3<=$B$2,$B$2<AU$3,$B$3=$A$10,$B$4=AR2),AT8*$B$2,0)","v":0},{"$f":"IF(AND(AU$3<=$B$2,$B$2<AV$3,$B$3=$A$10,$B$4=AR2),AU8*$B$2,0)","v":0},{"$f":"IF(AND(AV$3<=$B$2,$B$2<AW$3,$B$3=$A$10,$B$4=AR2),AV8*$B$2,0)","v":0},{"$f":"IF(AND(AW$3<=$B$2,$B$2<AX$3,$B$3=$A$10,$B$4=AR2),AW8*$B$2,0)","v":0},{"$f":"IF(AND(AX$3<=$B$2,$B$3=$A$10,$B$4=AR2),AX8*$B$2,0)","v":0},null,36,0,{"$f":"IF(AND(BB$3<=$B$2,$B$2<BC$3,$B$3=$A$10,$B$4=AZ2),BB8*$B$2,0)","v":0},{"$f":"IF(AND(BC$3<=$B$2,$B$2<BD$3,$B$3=$A$10,$B$4=AZ2),BC8*$B$2,0)","v":0},{"$f":"IF(AND(BD$3<=$B$2,$B$2<BE$3,$B$3=$A$10,$B$4=AZ2),BD8*$B$2,0)","v":0},{"$f":"IF(AND(BE$3<=$B$2,$B$2<BF$3,$B$3=$A$10,$B$4=AZ2),BE8*$B$2,0)","v":0},{"$f":"IF(AND(BF$3<=$B$2,$B$3=$A$10,$B$4=AZ2),BF8*$B$2,0)","v":0},null,36,0,{"$f":"IF(AND(BJ$3<=$B$2,$B$2<BK$3,$B$3=$A$10,$B$4=BH2),BJ8*$B$2,0)","v":0},{"$f":"IF(AND(BK$3<=$B$2,$B$2<BL$3,$B$3=$A$10,$B$4=BH2),BK8*$B$2,0)","v":0},{"$f":"IF(AND(BL$3<=$B$2,$B$2<BM$3,$B$3=$A$10,$B$4=BH2),BL8*$B$2,0)","v":0},{"$f":"IF(AND(BM$3<=$B$2,$B$2<BN$3,$B$3=$A$10,$B$4=BH2),BM8*$B$2,0)","v":0},{"$f":"IF(AND(BN$3<=$B$2,$B$3=$A$10,$B$4=BH2),BN8*$B$2,0)","v":0},null,18,0,{"$f":"IF(AND(BR$3<=$B$2,$B$3=$A$14,$B$4=BP2),BR8*$B$2,0)","v":0},null,36,0,{"$f":"IF(AND(BV$3<=$B$2,$B$2<BW$3,$B$3=$A$10,$B$4=BT2),BV8*$B$2,0)","v":0},{"$f":"IF(AND(BW$3<=$B$2,$B$2<BX$3,$B$3=$A$10,$B$4=BT2),BW8*$B$2,0)","v":0},{"$f":"IF(AND(BX$3<=$B$2,$B$2<BY$3,$B$3=$A$10,$B$4=BT2),BX8*$B$2,0)","v":0},{"$f":"IF(AND(BY$3<=$B$2,$B$2<BZ$3,$B$3=$A$10,$B$4=BT2),BY8*$B$2,0)","v":0},{"$f":"IF(AND(BZ$3<=$B$2,$B$3=$A$10,$B$4=BT2),BZ8*$B$2,0)","v":0},null,36,0,{"$f":"IF(AND(CD$3<=$B$2,$B$2<CE$3,$B$3=$A$10,$B$4=CB2),CD8*$B$2,0)","v":0},{"$f":"IF(AND(CE$3<=$B$2,$B$2<CF$3,$B$3=$A$10,$B$4=CB2),CE8*$B$2,0)","v":0},{"$f":"IF(AND(CF$3<=$B$2,$B$2<CG$3,$B$3=$A$10,$B$4=CB2),CF8*$B$2,0)","v":0},{"$f":"IF(AND(CG$3<=$B$2,$B$2<CH$3,$B$3=$A$10,$B$4=CB2),CG8*$B$2,0)","v":0},{"$f":"IF(AND(CH$3<=$B$2,$B$3=$A$10,$B$4=CB2),CH8*$B$2,0)","v":0},null,36,0,{"$f":"IF(AND(CL$3<=$B$2,$B$2<CM$3,$B$3=$A$10,$B$4=CJ2),CL8*$B$2,0)","v":0},{"$f":"IF(AND(CM$3<=$B$2,$B$2<CN$3,$B$3=$A$10,$B$4=CJ2),CM8*$B$2,0)","v":0},{"$f":"IF(AND(CN$3<=$B$2,$B$2<CO$3,$B$3=$A$10,$B$4=CJ2),CN8*$B$2,0)","v":0},{"$f":"IF(AND(CO$3<=$B$2,$B$2<CP$3,$B$3=$A$10,$B$4=CJ2),CO8*$B$2,0)","v":0},{"$f":"IF(AND(CP$3<=$B$2,$B$3=$A$10,$B$4=CJ2),CP8*$B$2,0)","v":0},null,36,0,{"$f":"IF(AND(CT$3<=$B$2,$B$2<CU$3,$B$3=$A$10,$B$4=CR2),CT8*$B$2,0)","v":0},{"$f":"IF(AND(CU$3<=$B$2,$B$2<CV$3,$B$3=$A$10,$B$4=CR2),CU8*$B$2,0)","v":0},{"$f":"IF(AND(CV$3<=$B$2,$B$2<CW$3,$B$3=$A$10,$B$4=CR2),CV8*$B$2,0)","v":0},{"$f":"IF(AND(CW$3<=$B$2,$B$2<CX$3,$B$3=$A$10,$B$4=CR2),CW8*$B$2,0)","v":0},{"$f":"IF(AND(CX$3<=$B$2,$B$3=$A$10,$B$4=CR2),CX8*$B$2,0)","v":0}]
[30,"Municipal $1 Buyout Lease - Annual Pmt",null,48,0,{"$f":"IF(AND(F$3<=$B$2,$B$2<G$3,$B$3=$A$11,$B$4=D2),F9*$B$2,0)","v":0},{"$f":"IF(AND(G$3<=$B$2,$B$2<H$3,$B$3=$A$11,$B$4=D2),G9*$B$2,0)","v":0},{"$f":"IF(AND(H$3<=$B$2,$B$2<I$3,$B$3=$A$11,$B$4=D2),H9*$B$2,0)","v":0},{"$f":"IF(AND(I$3<=$B$2,$B$2<J$3,$B$3=$A$11,$B$4=D2),I9*$B$2,0)","v":0},{"$f":"IF(AND(J$3<=$B$2,$B$3=$A$11,$B$4=D2),J9*$B$2,0)","v":0},null,48,0,{"$f":"IF(AND(N$3<=$B$2,$B$2<O$3,$B$3=$A$11,$B$4=L2),N9*$B$2,0)","v":0},{"$f":"IF(AND(O$3<=$B$2,$B$2<P$3,$B$3=$A$11,$B$4=L2),O9*$B$2,0)","v":0},{"$f":"IF(AND(P$3<=$B$2,$B$2<Q$3,$B$3=$A$11,$B$4=L2),P9*$B$2,0)","v":0},{"$f":"IF(AND(Q$3<=$B$2,$B$2<R$3,$B$3=$A$11,$B$4=L2),Q9*$B$2,0)","v":0},{"$f":"IF(AND(R$3<=$B$2,$B$3=$A$11,$B$4=L2),R9*$B$2,0)","v":0},null,48,0,{"$f":"IF(AND(V$3<=$B$2,$B$2<W$3,$B$3=$A$11,$B$4=T2),V9*$B$2,0)","v":0},{"$f":"IF(AND(W$3<=$B$2,$B$2<X$3,$B$3=$A$11,$B$4=T2),W9*$B$2,0)","v":0},{"$f":"IF(AND(X$3<=$B$2,$B$2<Y$3,$B$3=$A$11,$B$4=T2),X9*$B$2,0)","v":0},{"$f":"IF(AND(Y$3<=$B$2,$B$2<Z$3,$B$3=$A$11,$B$4=T2),Y9*$B$2,0)","v":0},{"$f":"IF(AND(Z$3<=$B$2,$B$3=$A$11,$B$4=T2),Z9*$B$2,0)","v":0},null,48,0,{"$f":"IF(AND(AD$3<=$B$2,$B$2<AE$3,$B$3=$A$11,$B$4=AB2),AD9*$B$2,0)","v":0},{"$f":"IF(AND(AE$3<=$B$2,$B$2<AF$3,$B$3=$A$11,$B$4=AB2),AE9*$B$2,0)","v":0},{"$f":"IF(AND(AF$3<=$B$2,$B$2<AG$3,$B$3=$A$11,$B$4=AB2),AF9*$B$2,0)","v":0},{"$f":"IF(AND(AG$3<=$B$2,$B$2<AH$3,$B$3=$A$11,$B$4=AB2),AG9*$B$2,0)","v":0},{"$f":"IF(AND(AH$3<=$B$2,$B$3=$A$11,$B$4=AB2),AH9*$B$2,0)","v":0},null,48,0,{"$f":"IF(AND(AL$3<=$B$2,$B$2<AM$3,$B$3=$A$11,$B$4=AJ2),AL9*$B$2,0)","v":0},{"$f":"IF(AND(AM$3<=$B$2,$B$2<AN$3,$B$3=$A$11,$B$4=AJ2),AM9*$B$2,0)","v":0},{"$f":"IF(AND(AN$3<=$B$2,$B$2<AO$3,$B$3=$A$11,$B$4=AJ2),AN9*$B$2,0)","v":0},{"$f":"IF(AND(AO$3<=$B$2,$B$2<AP$3,$B$3=$A$11,$B$4=AJ2),AO9*$B$2,0)","v":0},{"$f":"IF(AND(AP$3<=$B$2,$B$3=$A$11,$B$4=AJ2),AP9*$B$2,0)","v":0},null,48,0,{"$f":"IF(AND(AT$3<=$B$2,$B$2<AU$3,$B$3=$A$11,$B$4=AR2),AT9*$B$2,0)","v":0},{"$f":"IF(AND(AU$3<=$B$2,$B$2<AV$3,$B$3=$A$11,$B$4=AR2),AU9*$B$2,0)","v":0},{"$f":"IF(AND(AV$3<=$B$2,$B$2<AW$3,$B$3=$A$11,$B$4=AR2),AV9*$B$2,0)","v":0},{"$f":"IF(AND(AW$3<=$B$2,$B$2<AX$3,$B$3=$A$11,$B$4=AR2),AW9*$B$2,0)","v":0},{"$f":"IF(AND(AX$3<=$B$2,$B$3=$A$11,$B$4=AR2),AX9*$B$2,0)","v":0},null,48,0,{"$f":"IF(AND(BB$3<=$B$2,$B$2<BC$3,$B$3=$A$11,$B$4=AZ2),BB9*$B$2,0)","v":0},{"$f":"IF(AND(BC$3<=$B$2,$B$2<BD$3,$B$3=$A$11,$B$4=AZ2),BC9*$B$2,0)","v":0},{"$f":"IF(AND(BD$3<=$B$2,$B$2<BE$3,$B$3=$A$11,$B$4=AZ2),BD9*$B$2,0)","v":0},{"$f":"IF(AND(BE$3<=$B$2,$B$2<BF$3,$B$3=$A$11,$B$4=AZ2),BE9*$B$2,0)","v":0},{"$f":"IF(AND(BF$3<=$B$2,$B$3=$A$11,$B$4=AZ2),BF9*$B$2,0)","v":0},null,48,0,{"$f":"IF(AND(BJ$3<=$B$2,$B$2<BK$3,$B$3=$A$11,$B$4=BH2),BJ9*$B$2,0)","v":0},{"$f":"IF(AND(BK$3<=$B$2,$B$2<BL$3,$B$3=$A$11,$B$4=BH2),BK9*$B$2,0)","v":0},{"$f":"IF(AND(BL$3<=$B$2,$B$2<BM$3,$B$3=$A$11,$B$4=BH2),BL9*$B$2,0)","v":0},{"$f":"IF(AND(BM$3<=$B$2,$B$2<BN$3,$B$3=$A$11,$B$4=BH2),BM9*$B$2,0)","v":0},{"$f":"IF(AND(BN$3<=$B$2,$B$3=$A$11,$B$4=BH2),BN9*$B$2,0)","v":0},null,null,null,null,null,48,0,{"$f":"IF(AND(BV$3<=$B$2,$B$2<BW$3,$B$3=$A$11,$B$4=BT2),BV9*$B$2,0)","v":0},{"$f":"IF(AND(BW$3<=$B$2,$B$2<BX$3,$B$3=$A$11,$B$4=BT2),BW9*$B$2,0)","v":0},{"$f":"IF(AND(BX$3<=$B$2,$B$2<BY$3,$B$3=$A$11,$B$4=BT2),BX9*$B$2,0)","v":0},{"$f":"IF(AND(BY$3<=$B$2,$B$2<BZ$3,$B$3=$A$11,$B$4=BT2),BY9*$B$2,0)","v":0},{"$f":"IF(AND(BZ$3<=$B$2,$B$3=$A$11,$B$4=BT2),BZ9*$B$2,0)","v":0},null,48,0,{"$f":"IF(AND(CD$3<=$B$2,$B$2<CE$3,$B$3=$A$11,$B$4=CB2),CD9*$B$2,0)","v":0},{"$f":"IF(AND(CE$3<=$B$2,$B$2<CF$3,$B$3=$A$11,$B$4=CB2),CE9*$B$2,0)","v":0},{"$f":"IF(AND(CF$3<=$B$2,$B$2<CG$3,$B$3=$A$11,$B$4=CB2),CF9*$B$2,0)","v":0},{"$f":"IF(AND(CG$3<=$B$2,$B$2<CH$3,$B$3=$A$11,$B$4=CB2),CG9*$B$2,0)","v":0},{"$f":"IF(AND(CH$3<=$B$2,$B$3=$A$11,$B$4=CB2),CH9*$B$2,0)","v":0},null,48,0,{"$f":"IF(AND(CL$3<=$B$2,$B$2<CM$3,$B$3=$A$11,$B$4=CJ2),CL9*$B$2,0)","v":0},{"$f":"IF(AND(CM$3<=$B$2,$B$2<CN$3,$B$3=$A$11,$B$4=CJ2),CM9*$B$2,0)","v":0},{"$f":"IF(AND(CN$3<=$B$2,$B$2<CO$3,$B$3=$A$11,$B$4=CJ2),CN9*$B$2,0)","v":0},{"$f":"IF(AND(CO$3<=$B$2,$B$2<CP$3,$B$3=$A$11,$B$4=CJ2),CO9*$B$2,0)","v":0},{"$f":"IF(AND(CP$3<=$B$2,$B$3=$A$11,$B$4=CJ2),CP9*$B$2,0)","v":0},null,48,0,{"$f":"IF(AND(CT$3<=$B$2,$B$2<CU$3,$B$3=$A$11,$B$4=CR2),CT9*$B$2,0)","v":0},{"$f":"IF(AND(CU$3<=$B$2,$B$2<CV$3,$B$3=$A$11,$B$4=CR2),CU9*$B$2,0)","v":0},{"$f":"IF(AND(CV$3<=$B$2,$B$2<CW$3,$B$3=$A$11,$B$4=CR2),CV9*$B$2,0)","v":0},{"$f":"IF(AND(CW$3<=$B$2,$B$2<CX$3,$B$3=$A$11,$B$4=CR2),CW9*$B$2,0)","v":0},{"$f":"IF(AND(CX$3<=$B$2,$B$3=$A$11,$B$4=CR2),CX9*$B$2,0)","v":0}]
[null,"Rent To Own",null,60,0,{"$f":"IF(AND(F$3<=$B$2,$B$2<G$3,$B$3=$A$12,$B$4=D2),F10*$B$2,0)","v":0},{"$f":"IF(AND(G$3<=$B$2,$B$2<H$3,$B$3=$A$12,$B$4=D2),G10*$B$2,0)","v":0},{"$f":"IF(AND(H$3<=$B$2,$B$2<I$3,$B$3=$A$12,$B$4=D2),H10*$B$2,0)","v":0},{"$f":"IF(AND(I$3<=$B$2,$B$2<J$3,$B$3=$A$12,$B$4=D2),I10*$B$2,0)","v":0},{"$f":"IF(AND(J$3<=$B$2,$B$3=$A$12,$B$4=D2),J10*$B$2,0)","v":0},null,60,0,{"$f":"IF(AND(N$3<=$B$2,$B$2<O$3,$B$3=$A$12,$B$4=L2),N10*$B$2,0)","v":0},{"$f":"IF(AND(O$3<=$B$2,$B$2<P$3,$B$3=$A$12,$B$4=L2),O10*$B$2,0)","v":0},{"$f":"IF(AND(P$3<=$B$2,$B$2<Q$3,$B$3=$A$12,$B$4=L2),P10*$B$2,0)","v":0},{"$f":"IF(AND(Q$3<=$B$2,$B$2<R$3,$B$3=$A$12,$B$4=L2),Q10*$B$2,0)","v":0},{"$f":"IF(AND(R$3<=$B$2,$B$3=$A$12,$B$4=L2),R10*$B$2,0)","v":0},null,60,0,{"$f":"IF(AND(V$3<=$B$2,$B$2<W$3,$B$3=$A$12,$B$4=T2),V10*$B$2,0)","v":0},{"$f":"IF(AND(W$3<=$B$2,$B$2<X$3,$B$3=$A$12,$B$4=T2),W10*$B$2,0)","v":0},{"$f":"IF(AND(X$3<=$B$2,$B$2<Y$3,$B$3=$A$12,$B$4=T2),X10*$B$2,0)","v":0},{"$f":"IF(AND(Y$3<=$B$2,$B$2<Z$3,$B$3=$A$12,$B$4=T2),Y10*$B$2,0)","v":0},{"$f":"IF(AND(Z$3<=$B$2,$B$3=$A$12,$B$4=T2),Z10*$B$2,0)","v":0},null,60,0,{"$f":"IF(AND(AD$3<=$B$2,$B$2<AE$3,$B$3=$A$12,$B$4=AB2),AD10*$B$2,0)","v":0},{"$f":"IF(AND(AE$3<=$B$2,$B$2<AF$3,$B$3=$A$12,$B$4=AB2),AE10*$B$2,0)","v":0},{"$f":"IF(AND(AF$3<=$B$2,$B$2<AG$3,$B$3=$A$12,$B$4=AB2),AF10*$B$2,0)","v":0},{"$f":"IF(AND(AG$3<=$B$2,$B$2<AH$3,$B$3=$A$12,$B$4=AB2),AG10*$B$2,0)","v":0},{"$f":"IF(AND(AH$3<=$B$2,$B$3=$A$12,$B$4=AB2),AH10*$B$2,0)","v":0},null,60,0,{"$f":"IF(AND(AL$3<=$B$2,$B$2<AM$3,$B$3=$A$12,$B$4=AJ2),AL10*$B$2,0)","v":0},{"$f":"IF(AND(AM$3<=$B$2,$B$2<AN$3,$B$3=$A$12,$B$4=AJ2),AM10*$B$2,0)","v":0},{"$f":"IF(AND(AN$3<=$B$2,$B$2<AO$3,$B$3=$A$12,$B$4=AJ2),AN10*$B$2,0)","v":0},{"$f":"IF(AND(AO$3<=$B$2,$B$2<AP$3,$B$3=$A$12,$B$4=AJ2),AO10*$B$2,0)","v":0},{"$f":"IF(AND(AP$3<=$B$2,$B$3=$A$12,$B$4=AJ2),AP10*$B$2,0)","v":0},null,60,0,{"$f":"IF(AND(AT$3<=$B$2,$B$2<AU$3,$B$3=$A$12,$B$4=AR2),AT10*$B$2,0)","v":0},{"$f":"IF(AND(AU$3<=$B$2,$B$2<AV$3,$B$3=$A$12,$B$4=AR2),AU10*$B$2,0)","v":0},{"$f":"IF(AND(AV$3<=$B$2,$B$2<AW$3,$B$3=$A$12,$B$4=AR2),AV10*$B$2,0)","v":0},{"$f":"IF(AND(AW$3<=$B$2,$B$2<AX$3,$B$3=$A$12,$B$4=AR2),AW10*$B$2,0)","v":0},{"$f":"IF(AND(AX$3<=$B$2,$B$3=$A$12,$B$4=AR2),AX10*$B$2,0)","v":0},null,60,0,{"$f":"IF(AND(BB$3<=$B$2,$B$2<BC$3,$B$3=$A$12,$B$4=AZ2),BB10*$B$2,0)","v":0},{"$f":"IF(AND(BC$3<=$B$2,$B$2<BD$3,$B$3=$A$12,$B$4=AZ2),BC10*$B$2,0)","v":0},{"$f":"IF(AND(BD$3<=$B$2,$B$2<BE$3,$B$3=$A$12,$B$4=AZ2),BD10*$B$2,0)","v":0},{"$f":"IF(AND(BE$3<=$B$2,$B$2<BF$3,$B$3=$A$12,$B$4=AZ2),BE10*$B$2,0)","v":0},{"$f":"IF(AND(BF$3<=$B$2,$B$3=$A$12,$B$4=AZ2),BF10*$B$2,0)","v":0},null,60,0,{"$f":"IF(AND(BJ$3<=$B$2,$B$2<BK$3,$B$3=$A$12,$B$4=BH2),BJ10*$B$2,0)","v":0},{"$f":"IF(AND(BK$3<=$B$2,$B$2<BL$3,$B$3=$A$12,$B$4=BH2),BK10*$B$2,0)","v":0},{"$f":"IF(AND(BL$3<=$B$2,$B$2<BM$3,$B$3=$A$12,$B$4=BH2),BL10*$B$2,0)","v":0},{"$f":"IF(AND(BM$3<=$B$2,$B$2<BN$3,$B$3=$A$12,$B$4=BH2),BM10*$B$2,0)","v":0},{"$f":"IF(AND(BN$3<=$B$2,$B$3=$A$12,$B$4=BH2),BN10*$B$2,0)","v":0},null,null,null,null,null,60,0,{"$f":"IF(AND(BV$3<=$B$2,$B$2<BW$3,$B$3=$A$12,$B$4=BT2),BV10*$B$2,0)","v":0},{"$f":"IF(AND(BW$3<=$B$2,$B$2<BX$3,$B$3=$A$12,$B$4=BT2),BW10*$B$2,0)","v":0},{"$f":"IF(AND(BX$3<=$B$2,$B$2<BY$3,$B$3=$A$12,$B$4=BT2),BX10*$B$2,0)","v":0},{"$f":"IF(AND(BY$3<=$B$2,$B$2<BZ$3,$B$3=$A$12,$B$4=BT2),BY10*$B$2,0)","v":0},{"$f":"IF(AND(BZ$3<=$B$2,$B$3=$A$12,$B$4=BT2),BZ10*$B$2,0)","v":0},null,60,0,{"$f":"IF(AND(CD$3<=$B$2,$B$2<CE$3,$B$3=$A$12,$B$4=CB2),CD10*$B$2,0)","v":0},{"$f":"IF(AND(CE$3<=$B$2,$B$2<CF$3,$B$3=$A$12,$B$4=CB2),CE10*$B$2,0)","v":0},{"$f":"IF(AND(CF$3<=$B$2,$B$2<CG$3,$B$3=$A$12,$B$4=CB2),CF10*$B$2,0)","v":0},{"$f":"IF(AND(CG$3<=$B$2,$B$2<CH$3,$B$3=$A$12,$B$4=CB2),CG10*$B$2,0)","v":0},{"$f":"IF(AND(CH$3<=$B$2,$B$3=$A$12,$B$4=CB2),CH10*$B$2,0)","v":0},null,60,0,{"$f":"IF(AND(CL$3<=$B$2,$B$2<CM$3,$B$3=$A$12,$B$4=CJ2),CL10*$B$2,0)","v":0},{"$f":"IF(AND(CM$3<=$B$2,$B$2<CN$3,$B$3=$A$12,$B$4=CJ2),CM10*$B$2,0)","v":0},{"$f":"IF(AND(CN$3<=$B$2,$B$2<CO$3,$B$3=$A$12,$B$4=CJ2),CN10*$B$2,0)","v":0},{"$f":"IF(AND(CO$3<=$B$2,$B$2<CP$3,$B$3=$A$12,$B$4=CJ2),CO10*$B$2,0)","v":0},{"$f":"IF(AND(CP$3<=$B$2,$B$3=$A$12,$B$4=CJ2),CP10*$B$2,0)","v":0},null,60,0,{"$f":"IF(AND(CT$3<=$B$2,$B$2<CU$3,$B$3=$A$12,$B$4=CR2),CT10*$B$2,0)","v":0},{"$f":"IF(AND(CU$3<=$B$2,$B$2<CV$3,$B$3=$A$12,$B$4=CR2),CU10*$B$2,0)","v":0},{"$f":"IF(AND(CV$3<=$B$2,$B$2<CW$3,$B$3=$A$12,$B$4=CR2),CV10*$B$2,0)","v":0},{"$f":"IF(AND(CW$3<=$B$2,$B$2<CX$3,$B$3=$A$12,$B$4=CR2),CW10*$B$2,0)","v":0},{"$f":"IF(AND(CX$3<=$B$2,$B$3=$A$12,$B$4=CR2),CX10*$B$2,0)","v":0}]
[null,null,null,{"$f":"SUM(F17:CX17)","v":0},null,{"$f":"SUM(F12:F16)","v":0},{"$f":"SUM(G12:G16)","v":0},{"$f":"SUM(H12:H16)","v":0},{"$f":"SUM(I12:I16)","v":0},{"$f":"SUM(J12:J16)","v":0},null,null,null,{"$f":"SUM(N12:N16)","v":0},{"$f":"SUM(O12:O16)","v":0},{"$f":"SUM(P12:P16)","v":0},{"$f":"SUM(Q12:Q16)","v":0},{"$f":"SUM(R12:R16)","v":0},null,null,null,{"$f":"SUM(V12:V16)","v":0},{"$f":"SUM(W12:W16)","v":0},{"$f":"SUM(X12:X16)","v":0},{"$f":"SUM(Y12:Y16)","v":0},{"$f":"SUM(Z12:Z16)","v":0},null,null,null,{"$f":"SUM(AD12:AD16)","v":0},{"$f":"SUM(AE12:AE16)","v":0},{"$f":"SUM(AF12:AF16)","v":0},{"$f":"SUM(AG12:AG16)","v":0},{"$f":"SUM(AH12:AH16)","v":0},null,null,null,{"$f":"SUM(AL12:AL16)","v":0},{"$f":"SUM(AM12:AM16)","v":0},{"$f":"SUM(AN12:AN16)","v":0},{"$f":"SUM(AO12:AO16)","v":0},{"$f":"SUM(AP12:AP16)","v":0},null,null,null,{"$f":"SUM(AT12:AT16)","v":0},{"$f":"SUM(AU12:AU16)","v":0},{"$f":"SUM(AV12:AV16)","v":0},{"$f":"SUM(AW12:AW16)","v":0},{"$f":"SUM(AX12:AX16)","v":0},null,null,null,{"$f":"SUM(BB12:BB16)","v":0},{"$f":"SUM(BC12:BC16)","v":0},{"$f":"SUM(BD12:BD16)","v":0},{"$f":"SUM(BE12:BE16)","v":0},{"$f":"SUM(BF12:BF16)","v":0},null,null,null,{"$f":"SUM(BJ12:BJ16)","v":0},{"$f":"SUM(BK12:BK16)","v":0},{"$f":"SUM(BL12:BL16)","v":0},{"$f":"SUM(BM12:BM16)","v":0},{"$f":"SUM(BN12:BN16)","v":0},null,null,null,{"$f":"SUM(BR12:BR16)","v":0},null,null,null,{"$f":"SUM(BV12:BV16)","v":0},{"$f":"SUM(BW12:BW16)","v":0},{"$f":"SUM(BX12:BX16)","v":0},{"$f":"SUM(BY12:BY16)","v":0},{"$f":"SUM(BZ12:BZ16)","v":0},null,null,null,{"$f":"SUM(CD12:CD16)","v":0},{"$f":"SUM(CE12:CE16)","v":0},{"$f":"SUM(CF12:CF16)","v":0},{"$f":"SUM(CG12:CG16)","v":0},{"$f":"SUM(CH12:CH16)","v":0},null,null,null,{"$f":"SUM(CL12:CL16)","v":0},{"$f":"SUM(CM12:CM16)","v":0},{"$f":"SUM(CN12:CN16)","v":0},{"$f":"SUM(CO12:CO16)","v":0},{"$f":"SUM(CP12:CP16)","v":0},null,null,null,{"$f":"SUM(CT12:CT16)","v":0},{"$f":"SUM(CU12:CU16)","v":0},{"$f":"SUM(CV12:CV16)","v":0},{"$f":"SUM(CW12:CW16)","v":0},{"$f":"SUM(CX12:CX16)","v":0}]
[null,"$1 Buyout Lease - 90 days no pmt"]
[null,"Fair Market Value Sweeper Lease - 90 days no pmt"]
[null,"Fair Market Value Scrubber Lease - 90 days no pmt"]
[null,"All-Lines:  60-days no pmt"]
[null,"All-Lines:  Municipal Lease",null,{"$f":"C9","v":"OnPoint Capital"},null,"2025-04-09"]
[null,null,null,{"$f":"B8","v":"$1 Buyout Lease"},null,null,null,null,null,null,null,{"$f":"B9","v":"Fair Market Value Sweeper Lease"},null,null,null,null,null,null,null,{"$f":"B10","v":"Fair Market Value Scrubber Lease"},null,null,null,null,null,null,null,{"$f":"B11","v":"Fair Market Value Robotic Lease"},null,null,null,null,null,null,null,{"$f":"B12","v":"Municipal $1 Buyout Lease - Monthly Pmt"},null,null,null,null,null,null,null,{"$f":"B13","v":0},null,null,null,null,null,null,null,{"$f":"B14","v":0},null,null,null,null,null,null,null,{"$f":"B15","v":"Municipal $1 Buyout Lease - Annual Pmt"},null,null,null,null,null,null,null,{"$f":"B16","v":"Rent To Own"},null,null,null,{"$f":"B17","v":0},null,null,null,null,null,null,null,{"$f":"B18","v":"$1 Buyout Lease - 90 days no pmt"},null,null,null,null,null,null,null,{"$f":"B19","v":"Fair Market Value Sweeper Lease - 90 days no pmt"},null,null,null,null,null,null,null,{"$f":"B20","v":"Fair Market Value Scrubber Lease - 90 days no pmt"}]
["For Drop Down","PurchaseOptTCS","PurchaseOptTFS",null,null,3000,10000,25000,50000,100000,null,null,null,3000,10000,25000,50000,100000,null,null,null,3000,10000,25000,50000,100000,null,null,null,3000,10000,25000,50000,100000,null,null,null,3000,10000,25000,50000,100000,null,null,null,3000,10000,25000,50000,100000,null,null,null,3000,10000,25000,50000,100000,null,null,null,3000,10000,25000,50000,100000,null,null,null,1,null,null,null,3000,10000,25000,50000,100000,null,null,null,3000,10000,25000,50000,100000,null,null,null,3000,10000,25000,50000,100000,null,null,null,3000,10000,25000,50000,100000]
["Term","Purchase Opt - TCS","Purchase Opt - TFS",null,null,"to","to","to","to","to",null,null,null,"to","to","to","to","to",null,null,null,"to","to","to","to","to",null,null,null,"to","to","to","to","to",null,null,null,"to","to","to","to","to",null,null,null,"to","to","to","to","to",null,null,null,"to","to","to","to","to",null,null,null,"to","to","to","to","to",null,null,null,"to",null,null,null,"to","to","to","to","to",null,null,null,"to","to","to","to","to",null,null,null,"to","to","to","to","to",null,null,null,"to","to","to","to","to"]
["None","None","None","Term","Adv",9999,24999,49999,99999,249999,null,"Term","Adv",9999,24999,49999,99999,249999,null,"Term","Adv",9999,24999,49999,99999,249999,null,"Term","Adv",9999,24999,49999,99999,249999,null,"Term","Adv",9999,24999,49999,99999,249999,null,"Term","Adv",9999,24999,49999,99999,249999,null,"Term","Adv",9999,24999,49999,99999,249999,null,"Term","Adv",9999,24999,49999,99999,249999,null,"Term","Adv",null,null,"Term","Adv",9999,24999,49999,99999,249999,null,"Term","Adv",9999,24999,49999,99999,249999,null,"Term","Adv",9999,24999,49999,99999,249999,null,"Term","Adv",9999,24999,49999,99999,249999]
["12 Months","$1 Buyout Lease - 90 days no pmt","$1 Buyout Lease - 90 days no pmt",12,0,null,null,null,null,null,null,12,0,null,null,null,null,null,null,12,0,null,null,null,null,null,null,12,0,null,null,null,null,null,null,12,0,null,null,null,null,null,null,12,0,null,null,null,null,null,null,12,0,null,null,null,null,null,null,12,0,null,null,null,null,null,null,9,0,null,null,12,0,null,null,null,null,null,null,12,0,null,null,null,null,null,null,12,0,null,null,null,null,null,null,12,0]
["18 Months","$1.00 - 90 days deferred","$1.00 - 90 days deferred",24,0,4.7960000000000003E-2,4.7509999999999997E-2,4.6679999999999999E-2,4.6679999999999999E-2,4.6440000000000002E-2,null,24,0,4.0669999999999998E-2,4.0210000000000003E-2,null,null,null,null,24,0,4.0669999999999998E-2,4.0210000000000003E-2,null,null,null,null,24,0,null,null,null,null,null,null,24,0,null,null,null,null,null,null,24,0,null,null,null,null,null,null,24,0,null,null,null,null,null,null,24,0,null,null,null,null,null,null,12,0,null,null,24,0,null,null,null,null,null,null,24,0,null,null,null,null,null,null,24,0,null,null,null,null,null,null,24,0]
["24 Months","Fair Market Value Sweeper Lease","Fair Market Value Sweeper Lease",36,0,3.3149999999999999E-2,3.2829999999999998E-2,3.2230000000000002E-2,3.2230000000000002E-2,3.2230000000000002E-2,null,36,0,2.9530000000000001E-2,2.921E-2,2.768E-2,2.768E-2,2.768E-2,null,36,0,2.9530000000000001E-2,2.921E-2,2.768E-2,2.768E-2,2.768E-2,null,36,0,0.29559999999999997,0.29559999999999997,0.29559999999999997,0.29559999999999997,0.29559999999999997,null,36,0,null,null,null,null,null,null,36,0,null,null,null,null,null,null,36,0,null,null,null,null,null,null,36,0,null,null,null,null,null,null,18,0,null,null,36,0,null,null,null,null,null,null,36,0,null,null,null,null,null,null,36,0,null,null,null,null,null,null,36,0]
["30 Months","Fair Market Value Sweeper Lease - 90 days no pmt","Fair Market Value Sweeper Lease - 90 days no pmt",48,0,2.5870000000000001E-2,2.563E-2,2.5020000000000001E-2,2.5020000000000001E-2,2.5020000000000001E-2,null,48,0,2.4049999999999998E-2,2.3800000000000002E-2,2.1930000000000002E-2,2.1930000000000002E-2,2.1860000000000001E-2,null,48,0,2.4049999999999998E-2,2.3800000000000002E-2,2.1930000000000002E-2,2.1930000000000002E-2,2.1860000000000001E-2,null,48,0,2.3220000000000001E-2,2.3220000000000001E-2,2.3220000000000001E-2,2.3220000000000001E-2,2.3220000000000001E-2,null,48,0,null,null,null,null,null,null,48,0,null,null,null,null,null,null,48,0,null,null,null,null,null,null,48,0,null,null,null,null,null,null,null,null,null,null,48,0,null,null,null,null,null,null,48,0,null,null,null,null,null,null,48,0,null,null,null,null,null,null,48,0]
["36 Months","Fair Market Value Scrubber Lease","Fair Market Value Scrubber Lease",60,0,2.1559999999999999E-2,2.1350000000000001E-2,2.0709999999999999E-2,2.0709999999999999E-2,2.0709999999999999E-2,null,60,0,2.1000000000000001E-2,2.0789999999999999E-2,1.847E-2,1.847E-2,1.8380000000000001E-2,null,60,0,2.1000000000000001E-2,2.0789999999999999E-2,1.847E-2,1.847E-2,1.8380000000000001E-2,null,60,0,1.951E-2,1.951E-2,1.951E-2,1.951E-2,1.951E-2,null,60,0,null,null,null,null,null,null,60,0,null,null,null,null,null,null,60,0,null,null,null,null,null,null,60,0,null,null,null,null,null,null,null,null,null,null,60,0,null,null,null,null,null,null,60,0,null,null,null,null,null,null,60,0,null,null,null,null,null,null,60,0]
["48 Months","Fair Market Value Scrubber Lease - 90 days no pmt","Fair Market Value Scrubber Lease - 90 days no pmt"]
["60 Months","Fair Market Value Robotic Lease","Fair Market Value Robotic Lease",12,0,{"$f":"IF(AND(F$24<=$B$2,$B$2<G$24,$B$3=$A$8,$B$4=D23),F27*$B$2,0)","v":0},{"$f":"IF(AND(G$24<=$B$2,$B$2<H$24,$B$3=$A$8,$B$4=D23),G27*$B$2,0)","v":0},{"$f":"IF(AND(H$24<=$B$2,$B$2<I$24,$B$3=$A$8,$B$4=D23),H27*$B$2,0)","v":0},{"$f":"IF(AND(I$24<=$B$2,$B$2<J$24,$B$3=$A$8,$B$4=D23),I27*$B$2,0)","v":0},{"$f":"IF(AND(J$24<=$B$2,$B$3=$A$8,$B$4=D23),J27*$B$2,0)","v":0},null,12,0,{"$f":"IF(AND(N$24<=$B$2,$B$2<O$24,$B$3=$A$8,$B$4=L23),N27*$B$2,0)","v":0},{"$f":"IF(AND(O$24<=$B$2,$B$2<P$24,$B$3=$A$8,$B$4=L23),O27*$B$2,0)","v":0},{"$f":"IF(AND(P$24<=$B$2,$B$2<Q$24,$B$3=$A$8,$B$4=L23),P27*$B$2,0)","v":0},{"$f":"IF(AND(Q$24<=$B$2,$B$2<R$24,$B$3=$A$8,$B$4=L23),Q27*$B$2,0)","v":0},{"$f":"IF(AND(R$24<=$B$2,$B$3=$A$8,$B$4=L23),R27*$B$2,0)","v":0},null,12,0,{"$f":"IF(AND(V$24<=$B$2,$B$2<W$24,$B$3=$A$8,$B$4=T23),V27*$B$2,0)","v":0},{"$f":"IF(AND(W$24<=$B$2,$B$2<X$24,$B$3=$A$8,$B$4=T23),W27*$B$2,0)","v":0},{"$f":"IF(AND(X$24<=$B$2,$B$2<Y$24,$B$3=$A$8,$B$4=T23),X27*$B$2,0)","v":0},{"$f":"IF(AND(Y$24<=$B$2,$B$2<Z$24,$B$3=$A$8,$B$4=T23),Y27*$B$2,0)","v":0},{"$f":"IF(AND(Z$24<=$B$2,$B$3=$A$8,$B$4=T23),Z27*$B$2,0)","v":0},null,12,0,{"$f":"IF(AND(AD$24<=$B$2,$B$2<AE$24,$B$3=$A$8,$B$4=AB23),AD27*$B$2,0)","v":0},{"$f":"IF(AND(AE$24<=$B$2,$B$2<AF$24,$B$3=$A$8,$B$4=AB23),AE27*$B$2,0)","v":0},{"$f":"IF(AND(AF$24<=$B$2,$B$2<AG$24,$B$3=$A$8,$B$4=AB23),AF27*$B$2,0)","v":0},{"$f":"IF(AND(AG$24<=$B$2,$B$2<AH$24,$B$3=$A$8,$B$4=AB23),AG27*$B$2,0)","v":0},{"$f":"IF(AND(AH$24<=$B$2,$B$3=$A$8,$B$4=AB23),AH27*$B$2,0)","v":0},null,12,0,{"$f":"IF(AND(AL$24<=$B$2,$B$2<AM$24,$B$3=$A$8,$B$4=AJ23),AL27*$B$2,0)","v":0},{"$f":"IF(AND(AM$24<=$B$2,$B$2<AN$24,$B$3=$A$8,$B$4=AJ23),AM27*$B$2,0)","v":0},{"$f":"IF(AND(AN$24<=$B$2,$B$2<AO$24,$B$3=$A$8,$B$4=AJ23),AN27*$B$2,0)","v":0},{"$f":"IF(AND(AO$24<=$B$2,$B$2<AP$24,$B$3=$A$8,$B$4=AJ23),AO27*$B$2,0)","v":0},{"$f":"IF(AND(AP$24<=$B$2,$B$3=$A$8,$B$4=AJ23),AP27*$B$2,0)","v":0},null,12,0,{"$f":"IF(AND(AT$24<=$B$2,$B$2<AU$24,$B$3=$A$8,$B$4=AR23),AT27*$B$2,0)","v":0},{"$f":"IF(AND(AU$24<=$B$2,$B$2<AV$24,$B$3=$A$8,$B$4=AR23),AU27*$B$2,0)","v":0},{"$f":"IF(AND(AV$24<=$B$2,$B$2<AW$24,$B$3=$A$8,$B$4=AR23),AV27*$B$2,0)","v":0},{"$f":"IF(AND(AW$24<=$B$2,$B$2<AX$24,$B$3=$A$8,$B$4=AR23),AW27*$B$2,0)","v":0},{"$f":"IF(AND(AX$24<=$B$2,$B$3=$A$8,$B$4=AR23),AX27*$B$2,0)","v":0},null,12,0,{"$f":"IF(AND(BB$24<=$B$2,$B$2<BC$24,$B$3=$A$8,$B$4=AZ23),BB27*$B$2,0)","v":0},{"$f":"IF(AND(BC$24<=$B$2,$B$2<BD$24,$B$3=$A$8,$B$4=AZ23),BC27*$B$2,0)","v":0},{"$f":"IF(AND(BD$24<=$B$2,$B$2<BE$24,$B$3=$A$8,$B$4=AZ23),BD27*$B$2,0)","v":0},{"$f":"IF(AND(BE$24<=$B$2,$B$2<BF$24,$B$3=$A$8,$B$4=AZ23),BE27*$B$2,0)","v":0},{"$f":"IF(AND(BF$24<=$B$2,$B$3=$A$8,$B$4=AZ23),BF27*$B$2,0)","v":0},null,12,0,{"$f":"IF(AND(BJ$24<=$B$2,$B$2<BK$24,$B$3=$A$8,$B$4=BH23),BJ27*$B$2,0)","v":0},{"$f":"IF(AND(BK$24<=$B$2,$B$2<BL$24,$B$3=$A$8,$B$4=BH23),BK27*$B$2,0)","v":0},{"$f":"IF(AND(BL$24<=$B$2,$B$2<BM$24,$B$3=$A$8,$B$4=BH23),BL27*$B$2,0)","v":0},{"$f":"IF(AND(BM$24<=$B$2,$B$2<BN$24,$B$3=$A$8,$B$4=BH23),BM27*$B$2,0)","v":0},{"$f":"IF(AND(BN$24<=$B$2,$B$3=$A$8,$B$4=BH23),BN27*$B$2,0)","v":0},null,9,0,{"$f":"IF(AND(BR$3<=$B$2,$B$3=$A$13,$B$4=BP23),BR27*$B$2,0)","v":0},null,12,0,{"$f":"IF(AND(BV$24<=$B$2,$B$2<BW$24,$B$3=$A$8,$B$4=BT23),BV27*$B$2,0)","v":0},{"$f":"IF(AND(BW$24<=$B$2,$B$2<BX$24,$B$3=$A$8,$B$4=BT23),BW27*$B$2,0)","v":0},{"$f":"IF(AND(BX$24<=$B$2,$B$2<BY$24,$B$3=$A$8,$B$4=BT23),BX27*$B$2,0)","v":0},{"$f":"IF(AND(BY$24<=$B$2,$B$2<BZ$24,$B$3=$A$8,$B$4=BT23),BY27*$B$2,0)","v":0},{"$f":"IF(AND(BZ$24<=$B$2,$B$3=$A$8,$B$4=BT23),BZ27*$B$2,0)","v":0},null,12,0,{"$f":"IF(AND(CD$24<=$B$2,$B$2<CE$24,$B$3=$A$8,$B$4=CB23),CD27*$B$2,0)","v":0},{"$f":"IF(AND(CE$24<=$B$2,$B$2<CF$24,$B$3=$A$8,$B$4=CB23),CE27*$B$2,0)","v":0},{"$f":"IF(AND(CF$24<=$B$2,$B$2<CG$24,$B$3=$A$8,$B$4=CB23),CF27*$B$2,0)","v":0},{"$f":"IF(AND(CG$24<=$B$2,$B$2<CH$24,$B$3=$A$8,$B$4=CB23),CG27*$B$2,0)","v":0},{"$f":"IF(AND(CH$24<=$B$2,$B$3=$A$8,$B$4=CB23),CH27*$B$2,0)","v":0},null,12,0,{"$f":"IF(AND(CL$24<=$B$2,$B$2<CM$24,$B$3=$A$8,$B$4=CJ23),CL27*$B$2,0)","v":0},{"$f":"IF(AND(CM$24<=$B$2,$B$2<CN$24,$B$3=$A$8,$B$4=CJ23),CM27*$B$2,0)","v":0},{"$f":"IF(AND(CN$24<=$B$2,$B$2<CO$24,$B$3=$A$8,$B$4=CJ23),CN27*$B$2,0)","v":0},{"$f":"IF(AND(CO$24<=$B$2,$B$2<CP$24,$B$3=$A$8,$B$4=CJ23),CO27*$B$2,0)","v":0},{"$f":"IF(AND(CP$24<=$B$2,$B$3=$A$8,$B$4=CJ23),CP27*$B$2,0)","v":0},null,12,0,{"$f":"IF(AND(CT$24<=$B$2,$B$2<CU$24,$B$3=$A$8,$B$4=CR23),CT27*$B$2,0)","v":0},{"$f":"IF(AND(CU$24<=$B$2,$B$2<CV$24,$B$3=$A$8,$B$4=CR23),CU27*$B$2,0)","v":0},{"$f":"IF(AND(CV$24<=$B$2,$B$2<CW$24,$B$3=$A$8,$B$4=CR23),CV27*$B$2,0)","v":0},{"$f":"IF(AND(CW$24<=$B$2,$B$2<CX$24,$B$3=$A$8,$B$4=CR23),CW27*$B$2,0)","v":0},{"$f":"IF(AND(CX$24<=$B$2,$B$3=$A$8,$B$4=CR23),CX27*$B$2,0)","v":0}]
[null,"Municipal $1 Buyout Lease - Monthly Pmt","Municipal $1 Buyout Lease - Monthly Pmt",24,0,{"$f":"IF(AND(F$24<=$B$2,$B$2<G$24,$B$3=$A$9,$B$4=D23),F28*$B$2,0)","v":0},{"$f":"IF(AND(G$24<=$B$2,$B$2<H$24,$B$3=$A$9,$B$4=D23),G28*$B$2,0)","v":0},{"$f":"IF(AND(H$24<=$B$2,$B$2<I$24,$B$3=$A$9,$B$4=D23),H28*$B$2,0)","v":0},{"$f":"IF(AND(I$24<=$B$2,$B$2<J$24,$B$3=$A$9,$B$4=D23),I28*$B$2,0)","v":0},{"$f":"IF(AND(J$24<=$B$2,$B$3=$A$9,$B$4=D23),J28*$B$2,0)","v":0},null,24,0,{"$f":"IF(AND(N$24<=$B$2,$B$2<O$24,$B$3=$A$9,$B$4=L23),N28*$B$2,0)","v":0},{"$f":"IF(AND(O$24<=$B$2,$B$2<P$24,$B$3=$A$9,$B$4=L23),O28*$B$2,0)","v":0},{"$f":"IF(AND(P$24<=$B$2,$B$2<Q$24,$B$3=$A$9,$B$4=L23),P28*$B$2,0)","v":0},{"$f":"IF(AND(Q$24<=$B$2,$B$2<R$24,$B$3=$A$9,$B$4=L23),Q28*$B$2,0)","v":0},{"$f":"IF(AND(R$24<=$B$2,$B$3=$A$9,$B$4=L23),R28*$B$2,0)","v":0},null,24,0,{"$f":"IF(AND(V$24<=$B$2,$B$2<W$24,$B$3=$A$9,$B$4=T23),V28*$B$2,0)","v":0},{"$f":"IF(AND(W$24<=$B$2,$B$2<X$24,$B$3=$A$9,$B$4=T23),W28*$B$2,0)","v":0},{"$f":"IF(AND(X$24<=$B$2,$B$2<Y$24,$B$3=$A$9,$B$4=T23),X28*$B$2,0)","v":0},{"$f":"IF(AND(Y$24<=$B$2,$B$2<Z$24,$B$3=$A$9,$B$4=T23),Y28*$B$2,0)","v":0},{"$f":"IF(AND(Z$24<=$B$2,$B$3=$A$9,$B$4=T23),Z28*$B$2,0)","v":0},null,24,0,{"$f":"IF(AND(AD$24<=$B$2,$B$2<AE$24,$B$3=$A$9,$B$4=AB23),AD28*$B$2,0)","v":0},{"$f":"IF(AND(AE$24<=$B$2,$B$2<AF$24,$B$3=$A$9,$B$4=AB23),AE28*$B$2,0)","v":0},{"$f":"IF(AND(AF$24<=$B$2,$B$2<AG$24,$B$3=$A$9,$B$4=AB23),AF28*$B$2,0)","v":0},{"$f":"IF(AND(AG$24<=$B$2,$B$2<AH$24,$B$3=$A$9,$B$4=AB23),AG28*$B$2,0)","v":0},{"$f":"IF(AND(AH$24<=$B$2,$B$3=$A$9,$B$4=AB23),AH28*$B$2,0)","v":0},null,24,0,{"$f":"IF(AND(AL$24<=$B$2,$B$2<AM$24,$B$3=$A$9,$B$4=AJ23),AL28*$B$2,0)","v":0},{"$f":"IF(AND(AM$24<=$B$2,$B$2<AN$24,$B$3=$A$9,$B$4=AJ23),AM28*$B$2,0)","v":0},{"$f":"IF(AND(AN$24<=$B$2,$B$2<AO$24,$B$3=$A$9,$B$4=AJ23),AN28*$B$2,0)","v":0},{"$f":"IF(AND(AO$24<=$B$2,$B$2<AP$24,$B$3=$A$9,$B$4=AJ23),AO28*$B$2,0)","v":0},{"$f":"IF(AND(AP$24<=$B$2,$B$3=$A$9,$B$4=AJ23),AP28*$B$2,0)","v":0},null,24,0,{"$f":"IF(AND(AT$24<=$B$2,$B$2<AU$24,$B$3=$A$9,$B$4=AR23),AT28*$B$2,0)","v":0},{"$f":"IF(AND(AU$24<=$B$2,$B$2<AV$24,$B$3=$A$9,$B$4=AR23),AU28*$B$2,0)","v":0},{"$f":"IF(AND(AV$24<=$B$2,$B$2<AW$24,$B$3=$A$9,$B$4=AR23),AV28*$B$2,0)","v":0},{"$f":"IF(AND(AW$24<=$B$2,$B$2<AX$24,$B$3=$A$9,$B$4=AR23),AW28*$B$2,0)","v":0},{"$f":"IF(AND(AX$24<=$B$2,$B$3=$A$9,$B$4=AR23),AX28*$B$2,0)","v":0},null,24,0,{"$f":"IF(AND(BB$24<=$B$2,$B$2<BC$24,$B$3=$A$9,$B$4=AZ23),BB28*$B$2,0)","v":0},{"$f":"IF(AND(BC$24<=$B$2,$B$2<BD$24,$B$3=$A$9,$B$4=AZ23),BC28*$B$2,0)","v":0},{"$f":"IF(AND(BD$24<=$B$2,$B$2<BE$24,$B$3=$A$9,$B$4=AZ23),BD28*$B$2,0)","v":0},{"$f":"IF(AND(BE$24<=$B$2,$B$2<BF$24,$B$3=$A$9,$B$4=AZ23),BE28*$B$2,0)","v":0},{"$f":"IF(AND(BF$24<=$B$2,$B$3=$A$9,$B$4=AZ23),BF28*$B$2,0)","v":0},null,24,0,{"$f":"IF(AND(BJ$24<=$B$2,$B$2<BK$24,$B$3=$A$9,$B$4=BH23),BJ28*$B$2,0)","v":0},{"$f":"IF(AND(BK$24<=$B$2,$B$2<BL$24,$B$3=$A$9,$B$4=BH23),BK28*$B$2,0)","v":0},{"$f":"IF(AND(BL$24<=$B$2,$B$2<BM$24,$B$3=$A$9,$B$4=BH23),BL28*$B$2,0)","v":0},{"$f":"IF(AND(BM$24<=$B$2,$B$2<BN$24,$B$3=$A$9,$B$4=BH23),BM28*$B$2,0)","v":0},{"$f":"IF(AND(BN$24<=$B$2,$B$3=$A$9,$B$4=BH23),BN28*$B$2,0)","v":0},null,12,0,{"$f":"IF(AND(BR$3<=$B$2,$B$3=$A$8,$B$4=BP23),BR28*$B$2,0)","v":0},null,24,0,{"$f":"IF(AND(BV$24<=$B$2,$B$2<BW$24,$B$3=$A$9,$B$4=BT23),BV28*$B$2,0)","v":0},{"$f":"IF(AND(BW$24<=$B$2,$B$2<BX$24,$B$3=$A$9,$B$4=BT23),BW28*$B$2,0)","v":0},{"$f":"IF(AND(BX$24<=$B$2,$B$2<BY$24,$B$3=$A$9,$B$4=BT23),BX28*$B$2,0)","v":0},{"$f":"IF(AND(BY$24<=$B$2,$B$2<BZ$24,$B$3=$A$9,$B$4=BT23),BY28*$B$2,0)","v":0},{"$f":"IF(AND(BZ$24<=$B$2,$B$3=$A$9,$B$4=BT23),BZ28*$B$2,0)","v":0},null,24,0,{"$f":"IF(AND(CD$24<=$B$2,$B$2<CE$24,$B$3=$A$9,$B$4=CB23),CD28*$B$2,0)","v":0},{"$f":"IF(AND(CE$24<=$B$2,$B$2<CF$24,$B$3=$A$9,$B$4=CB23),CE28*$B$2,0)","v":0},{"$f":"IF(AND(CF$24<=$B$2,$B$2<CG$24,$B$3=$A$9,$B$4=CB23),CF28*$B$2,0)","v":0},{"$f":"IF(AND(CG$24<=$B$2,$B$2<CH$24,$B$3=$A$9,$B$4=CB23),CG28*$B$2,0)","v":0},{"$f":"IF(AND(CH$24<=$B$2,$B$3=$A$9,$B$4=CB23),CH28*$B$2,0)","v":0},null,24,0,{"$f":"IF(AND(CL$24<=$B$2,$B$2<CM$24,$B$3=$A$9,$B$4=CJ23),CL28*$B$2,0)","v":0},{"$f":"IF(AND(CM$24<=$B$2,$B$2<CN$24,$B$3=$A$9,$B$4=CJ23),CM28*$B$2,0)","v":0},{"$f":"IF(AND(CN$24<=$B$2,$B$2<CO$24,$B$3=$A$9,$B$4=CJ23),CN28*$B$2,0)","v":0},{"$f":"IF(AND(CO$24<=$B$2,$B$2<CP$24,$B$3=$A$9,$B$4=CJ23),CO28*$B$2,0)","v":0},{"$f":"IF(AND(CP$24<=$B$2,$B$3=$A$9,$B$4=CJ23),CP28*$B$2,0)","v":0},null,24,0,{"$f":"IF(AND(CT$24<=$B$2,$B$2<CU$24,$B$3=$A$9,$B$4=CR23),CT28*$B$2,0)","v":0},{"$f":"IF(AND(CU$24<=$B$2,$B$2<CV$24,$B$3=$A$9,$B$4=CR23),CU28*$B$2,0)","v":0},{"$f":"IF(AND(CV$24<=$B$2,$B$2<CW$24,$B$3=$A$9,$B$4=CR23),CV28*$B$2,0)","v":0},{"$f":"IF(AND(CW$24<=$B$2,$B$2<CX$24,$B$3=$A$9,$B$4=CR23),CW28*$B$2,0)","v":0},{"$f":"IF(AND(CX$24<=$B$2,$B$3=$A$9,$B$4=CR23),CX28*$B$2,0)","v":0}]
[null,"Municipal $1 Buyout Lease - Annual Pmt","Municipal $1 Buyout Lease - Annual Pmt",36,0,{"$f":"IF(AND(F$24<=$B$2,$B$2<G$24,$B$3=$A$10,$B$4=D23),F29*$B$2,0)","v":0},{"$f":"IF(AND(G$24<=$B$2,$B$2<H$24,$B$3=$A$10,$B$4=D23),G29*$B$2,0)","v":0},{"$f":"IF(AND(H$24<=$B$2,$B$2<I$24,$B$3=$A$10,$B$4=D23),H29*$B$2,0)","v":0},{"$f":"IF(AND(I$24<=$B$2,$B$2<J$24,$B$3=$A$10,$B$4=D23),I29*$B$2,0)","v":0},{"$f":"IF(AND(J$24<=$B$2,$B$3=$A$10,$B$4=D23),J29*$B$2,0)","v":0},null,36,0,{"$f":"IF(AND(N$24<=$B$2,$B$2<O$24,$B$3=$A$10,$B$4=L23),N29*$B$2,0)","v":0},{"$f":"IF(AND(O$24<=$B$2,$B$2<P$24,$B$3=$A$10,$B$4=L23),O29*$B$2,0)","v":0},{"$f":"IF(AND(P$24<=$B$2,$B$2<Q$24,$B$3=$A$10,$B$4=L23),P29*$B$2,0)","v":0},{"$f":"IF(AND(Q$24<=$B$2,$B$2<R$24,$B$3=$A$10,$B$4=L23),Q29*$B$2,0)","v":0},{"$f":"IF(AND(R$24<=$B$2,$B$3=$A$10,$B$4=L23),R29*$B$2,0)","v":0},null,36,0,{"$f":"IF(AND(V$24<=$B$2,$B$2<W$24,$B$3=$A$10,$B$4=T23),V29*$B$2,0)","v":0},{"$f":"IF(AND(W$24<=$B$2,$B$2<X$24,$B$3=$A$10,$B$4=T23),W29*$B$2,0)","v":0},{"$f":"IF(AND(X$24<=$B$2,$B$2<Y$24,$B$3=$A$10,$B$4=T23),X29*$B$2,0)","v":0},{"$f":"IF(AND(Y$24<=$B$2,$B$2<Z$24,$B$3=$A$10,$B$4=T23),Y29*$B$2,0)","v":0},{"$f":"IF(AND(Z$24<=$B$2,$B$3=$A$10,$B$4=T23),Z29*$B$2,0)","v":0},null,36,0,{"$f":"IF(AND(AD$24<=$B$2,$B$2<AE$24,$B$3=$A$10,$B$4=AB23),AD29*$B$2,0)","v":0},{"$f":"IF(AND(AE$24<=$B$2,$B$2<AF$24,$B$3=$A$10,$B$4=AB23),AE29*$B$2,0)","v":0},{"$f":"IF(AND(AF$24<=$B$2,$B$2<AG$24,$B$3=$A$10,$B$4=AB23),AF29*$B$2,0)","v":0},{"$f":"IF(AND(AG$24<=$B$2,$B$2<AH$24,$B$3=$A$10,$B$4=AB23),AG29*$B$2,0)","v":0},{"$f":"IF(AND(AH$24<=$B$2,$B$3=$A$10,$B$4=AB23),AH29*$B$2,0)","v":0},null,36,0,{"$f":"IF(AND(AL$24<=$B$2,$B$2<AM$24,$B$3=$A$10,$B$4=AJ23),AL29*$B$2,0)","v":0},{"$f":"IF(AND(AM$24<=$B$2,$B$2<AN$24,$B$3=$A$10,$B$4=AJ23),AM29*$B$2,0)","v":0},{"$f":"IF(AND(AN$24<=$B$2,$B$2<AO$24,$B$3=$A$10,$B$4=AJ23),AN29*$B$2,0)","v":0},{"$f":"IF(AND(AO$24<=$B$2,$B$2<AP$24,$B$3=$A$10,$B$4=AJ23),AO29*$B$2,0)","v":0},{"$f":"IF(AND(AP$24<=$B$2,$B$3=$A$10,$B$4=AJ23),AP29*$B$2,0)","v":0},null,36,0,{"$f":"IF(AND(AT$24<=$B$2,$B$2<AU$24,$B$3=$A$10,$B$4=AR23),AT29*$B$2,0)","v":0},{"$f":"IF(AND(AU$24<=$B$2,$B$2<AV$24,$B$3=$A$10,$B$4=AR23),AU29*$B$2,0)","v":0},{"$f":"IF(AND(AV$24<=$B$2,$B$2<AW$24,$B$3=$A$10,$B$4=AR23),AV29*$B$2,0)","v":0},{"$f":"IF(AND(AW$24<=$B$2,$B$2<AX$24,$B$3=$A$10,$B$4=AR23),AW29*$B$2,0)","v":0},{"$f":"IF(AND(AX$24<=$B$2,$B$3=$A$10,$B$4=AR23),AX29*$B$2,0)","v":0},null,36,0,{"$f":"IF(AND(BB$24<=$B$2,$B$2<BC$24,$B$3=$A$10,$B$4=AZ23),BB29*$B$2,0)","v":0},{"$f":"IF(AND(BC$24<=$B$2,$B$2<BD$24,$B$3=$A$10,$B$4=AZ23),BC29*$B$2,0)","v":0},{"$f":"IF(AND(BD$24<=$B$2,$B$2<BE$24,$B$3=$A$10,$B$4=AZ23),BD29*$B$2,0)","v":0},{"$f":"IF(AND(BE$24<=$B$2,$B$2<BF$24,$B$3=$A$10,$B$4=AZ23),BE29*$B$2,0)","v":0},{"$f":"IF(AND(BF$24<=$B$2,$B$3=$A$10,$B$4=AZ23),BF29*$B$2,0)","v":0},null,36,0,{"$f":"IF(AND(BJ$24<=$B$2,$B$2<BK$24,$B$3=$A$10,$B$4=BH23),BJ29*$B$2,0)","v":0},{"$f":"IF(AND(BK$24<=$B$2,$B$2<BL$24,$B$3=$A$10,$B$4=BH23),BK29*$B$2,0)","v":0},{"$f":"IF(AND(BL$24<=$B$2,$B$2<BM$24,$B$3=$A$10,$B$4=BH23),BL29*$B$2,0)","v":0},{"$f":"IF(AND(BM$24<=$B$2,$B$2<BN$24,$B$3=$A$10,$B$4=BH23),BM29*$B$2,0)","v":0},{"$f":"IF(AND(BN$24<=$B$2,$B$3=$A$10,$B$4=BH23),BN29*$B$2,0)","v":0},null,18,0,{"$f":"IF(AND(BR$3<=$B$2,$B$3=$A$14,$B$4=BP23),BR29*$B$2,0)","v":0},null,36,0,{"$f":"IF(AND(BV$24<=$B$2,$B$2<BW$24,$B$3=$A$10,$B$4=BT23),BV29*$B$2,0)","v":0},{"$f":"IF(AND(BW$24<=$B$2,$B$2<BX$24,$B$3=$A$10,$B$4=BT23),BW29*$B$2,0)","v":0},{"$f":"IF(AND(BX$24<=$B$2,$B$2<BY$24,$B$3=$A$10,$B$4=BT23),BX29*$B$2,0)","v":0},{"$f":"IF(AND(BY$24<=$B$2,$B$2<BZ$24,$B$3=$A$10,$B$4=BT23),BY29*$B$2,0)","v":0},{"$f":"IF(AND(BZ$24<=$B$2,$B$3=$A$10,$B$4=BT23),BZ29*$B$2,0)","v":0},null,36,0,{"$f":"IF(AND(CD$24<=$B$2,$B$2<CE$24,$B$3=$A$10,$B$4=CB23),CD29*$B$2,0)","v":0},{"$f":"IF(AND(CE$24<=$B$2,$B$2<CF$24,$B$3=$A$10,$B$4=CB23),CE29*$B$2,0)","v":0},{"$f":"IF(AND(CF$24<=$B$2,$B$2<CG$24,$B$3=$A$10,$B$4=CB23),CF29*$B$2,0)","v":0},{"$f":"IF(AND(CG$24<=$B$2,$B$2<CH$24,$B$3=$A$10,$B$4=CB23),CG29*$B$2,0)","v":0},{"$f":"IF(AND(CH$24<=$B$2,$B$3=$A$10,$B$4=CB23),CH29*$B$2,0)","v":0},null,36,0,{"$f":"IF(AND(CL$24<=$B$2,$B$2<CM$24,$B$3=$A$10,$B$4=CJ23),CL29*$B$2,0)","v":0},{"$f":"IF(AND(CM$24<=$B$2,$B$2<CN$24,$B$3=$A$10,$B$4=CJ23),CM29*$B$2,0)","v":0},{"$f":"IF(AND(CN$24<=$B$2,$B$2<CO$24,$B$3=$A$10,$B$4=CJ23),CN29*$B$2,0)","v":0},{"$f":"IF(AND(CO$24<=$B$2,$B$2<CP$24,$B$3=$A$10,$B$4=CJ23),CO29*$B$2,0)","v":0},{"$f":"IF(AND(CP$24<=$B$2,$B$3=$A$10,$B$4=CJ23),CP29*$B$2,0)","v":0},null,36,0,{"$f":"IF(AND(CT$24<=$B$2,$B$2<CU$24,$B$3=$A$10,$B$4=CR23),CT29*$B$2,0)","v":0},{"$f":"IF(AND(CU$24<=$B$2,$B$2<CV$24,$B$3=$A$10,$B$4=CR23),CU29*$B$2,0)","v":0},{"$f":"IF(AND(CV$24<=$B$2,$B$2<CW$24,$B$3=$A$10,$B$4=CR23),CV29*$B$2,0)","v":0},{"$f":"IF(AND(CW$24<=$B$2,$B$2<CX$24,$B$3=$A$10,$B$4=CR23),CW29*$B$2,0)","v":0},{"$f":"IF(AND(CX$24<=$B$2,$B$3=$A$10,$B$4=CR23),CX29*$B$2,0)","v":0}]
[null,null,null,48,0,{"$f":"IF(AND(F$24<=$B$2,$B$2<G$24,$B$3=$A$11,$B$4=D23),F30*$B$2,0)","v":0},{"$f":"IF(AND(G$24<=$B$2,$B$2<H$24,$B$3=$A$11,$B$4=D23),G30*$B$2,0)","v":0},{"$f":"IF(AND(H$24<=$B$2,$B$2<I$24,$B$3=$A$11,$B$4=D23),H30*$B$2,0)","v":0},{"$f":"IF(AND(I$24<=$B$2,$B$2<J$24,$B$3=$A$11,$B$4=D23),I30*$B$2,0)","v":0},{"$f":"IF(AND(J$24<=$B$2,$B$3=$A$11,$B$4=D23),J30*$B$2,0)","v":0},null,48,0,{"$f":"IF(AND(N$24<=$B$2,$B$2<O$24,$B$3=$A$11,$B$4=L23),N30*$B$2,0)","v":0},{"$f":"IF(AND(O$24<=$B$2,$B$2<P$24,$B$3=$A$11,$B$4=L23),O30*$B$2,0)","v":0},{"$f":"IF(AND(P$24<=$B$2,$B$2<Q$24,$B$3=$A$11,$B$4=L23),P30*$B$2,0)","v":0},{"$f":"IF(AND(Q$24<=$B$2,$B$2<R$24,$B$3=$A$11,$B$4=L23),Q30*$B$2,0)","v":0},{"$f":"IF(AND(R$24<=$B$2,$B$3=$A$11,$B$4=L23),R30*$B$2,0)","v":0},null,48,0,{"$f":"IF(AND(V$24<=$B$2,$B$2<W$24,$B$3=$A$11,$B$4=T23),V30*$B$2,0)","v":0},{"$f":"IF(AND(W$24<=$B$2,$B$2<X$24,$B$3=$A$11,$B$4=T23),W30*$B$2,0)","v":0},{"$f":"IF(AND(X$24<=$B$2,$B$2<Y$24,$B$3=$A$11,$B$4=T23),X30*$B$2,0)","v":0},{"$f":"IF(AND(Y$24<=$B$2,$B$2<Z$24,$B$3=$A$11,$B$4=T23),Y30*$B$2,0)","v":0},{"$f":"IF(AND(Z$24<=$B$2,$B$3=$A$11,$B$4=T23),Z30*$B$2,0)","v":0},null,48,0,{"$f":"IF(AND(AD$24<=$B$2,$B$2<AE$24,$B$3=$A$11,$B$4=AB23),AD30*$B$2,0)","v":0},{"$f":"IF(AND(AE$24<=$B$2,$B$2<AF$24,$B$3=$A$11,$B$4=AB23),AE30*$B$2,0)","v":0},{"$f":"IF(AND(AF$24<=$B$2,$B$2<AG$24,$B$3=$A$11,$B$4=AB23),AF30*$B$2,0)","v":0},{"$f":"IF(AND(AG$24<=$B$2,$B$2<AH$24,$B$3=$A$11,$B$4=AB23),AG30*$B$2,0)","v":0},{"$f":"IF(AND(AH$24<=$B$2,$B$3=$A$11,$B$4=AB23),AH30*$B$2,0)","v":0},null,48,0,{"$f":"IF(AND(AL$24<=$B$2,$B$2<AM$24,$B$3=$A$11,$B$4=AJ23),AL30*$B$2,0)","v":0},{"$f":"IF(AND(AM$24<=$B$2,$B$2<AN$24,$B$3=$A$11,$B$4=AJ23),AM30*$B$2,0)","v":0},{"$f":"IF(AND(AN$24<=$B$2,$B$2<AO$24,$B$3=$A$11,$B$4=AJ23),AN30*$B$2,0)","v":0},{"$f":"IF(AND(AO$24<=$B$2,$B$2<AP$24,$B$3=$A$11,$B$4=AJ23),AO30*$B$2,0)","v":0},{"$f":"IF(AND(AP$24<=$B$2,$B$3=$A$11,$B$4=AJ23),AP30*$B$2,0)","v":0},null,48,0,{"$f":"IF(AND(AT$24<=$B$2,$B$2<AU$24,$B$3=$A$11,$B$4=AR23),AT30*$B$2,0)","v":0},{"$f":"IF(AND(AU$24<=$B$2,$B$2<AV$24,$B$3=$A$11,$B$4=AR23),AU30*$B$2,0)","v":0},{"$f":"IF(AND(AV$24<=$B$2,$B$2<AW$24,$B$3=$A$11,$B$4=AR23),AV30*$B$2,0)","v":0},{"$f":"IF(AND(AW$24<=$B$2,$B$2<AX$24,$B$3=$A$11,$B$4=AR23),AW30*$B$2,0)","v":0},{"$f":"IF(AND(AX$24<=$B$2,$B$3=$A$11,$B$4=AR23),AX30*$B$2,0)","v":0},null,48,0,{"$f":"IF(AND(BB$24<=$B$2,$B$2<BC$24,$B$3=$A$11,$B$4=AZ23),BB30*$B$2,0)","v":0},{"$f":"IF(AND(BC$24<=$B$2,$B$2<BD$24,$B$3=$A$11,$B$4=AZ23),BC30*$B$2,0)","v":0},{"$f":"IF(AND(BD$24<=$B$2,$B$2<BE$24,$B$3=$A$11,$B$4=AZ23),BD30*$B$2,0)","v":0},{"$f":"IF(AND(BE$24<=$B$2,$B$2<BF$24,$B$3=$A$11,$B$4=AZ23),BE30*$B$2,0)","v":0},{"$f":"IF(AND(BF$24<=$B$2,$B$3=$A$11,$B$4=AZ23),BF30*$B$2,0)","v":0},null,48,0,{"$f":"IF(AND(BJ$24<=$B$2,$B$2<BK$24,$B$3=$A$11,$B$4=BH23),BJ30*$B$2,0)","v":0},{"$f":"IF(AND(BK$24<=$B$2,$B$2<BL$24,$B$3=$A$11,$B$4=BH23),BK30*$B$2,0)","v":0},{"$f":"IF(AND(BL$24<=$B$2,$B$2<BM$24,$B$3=$A$11,$B$4=BH23),BL30*$B$2,0)","v":0},{"$f":"IF(AND(BM$24<=$B$2,$B$2<BN$24,$B$3=$A$11,$B$4=BH23),BM30*$B$2,0)","v":0},{"$f":"IF(AND(BN$24<=$B$2,$B$3=$A$11,$B$4=BH23),BN30*$B$2,0)","v":0},null,null,null,null,null,48,0,{"$f":"IF(AND(BV$24<=$B$2,$B$2<BW$24,$B$3=$A$11,$B$4=BT23),BV30*$B$2,0)","v":0},{"$f":"IF(AND(BW$24<=$B$2,$B$2<BX$24,$B$3=$A$11,$B$4=BT23),BW30*$B$2,0)","v":0},{"$f":"IF(AND(BX$24<=$B$2,$B$2<BY$24,$B$3=$A$11,$B$4=BT23),BX30*$B$2,0)","v":0},{"$f":"IF(AND(BY$24<=$B$2,$B$2<BZ$24,$B$3=$A$11,$B$4=BT23),BY30*$B$2,0)","v":0},{"$f":"IF(AND(BZ$24<=$B$2,$B$3=$A$11,$B$4=BT23),BZ30*$B$2,0)","v":0},null,48,0,{"$f":"IF(AND(CD$24<=$B$2,$B$2<CE$24,$B$3=$A$11,$B$4=CB23),CD30*$B$2,0)","v":0},{"$f":"IF(AND(CE$24<=$B$2,$B$2<CF$24,$B$3=$A$11,$B$4=CB23),CE30*$B$2,0)","v":0},{"$f":"IF(AND(CF$24<=$B$2,$B$2<CG$24,$B$3=$A$11,$B$4=CB23),CF30*$B$2,0)","v":0},{"$f":"IF(AND(CG$24<=$B$2,$B$2<CH$24,$B$3=$A$11,$B$4=CB23),CG30*$B$2,0)","v":0},{"$f":"IF(AND(CH$24<=$B$2,$B$3=$A$11,$B$4=CB23),CH30*$B$2,0)","v":0},null,48,0,{"$f":"IF(AND(CL$24<=$B$2,$B$2<CM$24,$B$3=$A$11,$B$4=CJ23),CL30*$B$2,0)","v":0},{"$f":"IF(AND(CM$24<=$B$2,$B$2<CN$24,$B$3=$A$11,$B$4=CJ23),CM30*$B$2,0)","v":0},{"$f":"IF(AND(CN$24<=$B$2,$B$2<CO$24,$B$3=$A$11,$B$4=CJ23),CN30*$B$2,0)","v":0},{"$f":"IF(AND(CO$24<=$B$2,$B$2<CP$24,$B$3=$A$11,$B$4=CJ23),CO30*$B$2,0)","v":0},{"$f":"IF(AND(CP$24<=$B$2,$B$3=$A$11,$B$4=CJ23),CP30*$B$2,0)","v":0},null,48,0,{"$f":"IF(AND(CT$24<=$B$2,$B$2<CU$24,$B$3=$A$11,$B$4=CR23),CT30*$B$2,0)","v":0},{"$f":"IF(AND(CU$24<=$B$2,$B$2<CV$24,$B$3=$A$11,$B$4=CR23),CU30*$B$2,0)","v":0},{"$f":"IF(AND(CV$24<=$B$2,$B$2<CW$24,$B$3=$A$11,$B$4=CR23),CV30*$B$2,0)","v":0},{"$f":"IF(AND(CW$24<=$B$2,$B$2<CX$24,$B$3=$A$11,$B$4=CR23),CW30*$B$2,0)","v":0},{"$f":"IF(AND(CX$24<=$B$2,$B$3=$A$11,$B$4=CR23),CX30*$B$2,0)","v":0}]
["Change this Quarter when have new rates.",null,null,60,0,{"$f":"IF(AND(F$24<=$B$2,$B$2<G$24,$B$3=$A$12,$B$4=D23),F31*$B$2,0)","v":0},{"$f":"IF(AND(G$24<=$B$2,$B$2<H$24,$B$3=$A$12,$B$4=D23),G31*$B$2,0)","v":0},{"$f":"IF(AND(H$24<=$B$2,$B$2<I$24,$B$3=$A$12,$B$4=D23),H31*$B$2,0)","v":0},{"$f":"IF(AND(I$24<=$B$2,$B$2<J$24,$B$3=$A$12,$B$4=D23),I31*$B$2,0)","v":0},{"$f":"IF(AND(J$24<=$B$2,$B$3=$A$12,$B$4=D23),J31*$B$2,0)","v":0},null,60,0,{"$f":"IF(AND(N$24<=$B$2,$B$2<O$24,$B$3=$A$12,$B$4=L23),N31*$B$2,0)","v":0},{"$f":"IF(AND(O$24<=$B$2,$B$2<P$24,$B$3=$A$12,$B$4=L23),O31*$B$2,0)","v":0},{"$f":"IF(AND(P$24<=$B$2,$B$2<Q$24,$B$3=$A$12,$B$4=L23),P31*$B$2,0)","v":0},{"$f":"IF(AND(Q$24<=$B$2,$B$2<R$24,$B$3=$A$12,$B$4=L23),Q31*$B$2,0)","v":0},{"$f":"IF(AND(R$24<=$B$2,$B$3=$A$12,$B$4=L23),R31*$B$2,0)","v":0},null,60,0,{"$f":"IF(AND(V$24<=$B$2,$B$2<W$24,$B$3=$A$12,$B$4=T23),V31*$B$2,0)","v":0},{"$f":"IF(AND(W$24<=$B$2,$B$2<X$24,$B$3=$A$12,$B$4=T23),W31*$B$2,0)","v":0},{"$f":"IF(AND(X$24<=$B$2,$B$2<Y$24,$B$3=$A$12,$B$4=T23),X31*$B$2,0)","v":0},{"$f":"IF(AND(Y$24<=$B$2,$B$2<Z$24,$B$3=$A$12,$B$4=T23),Y31*$B$2,0)","v":0},{"$f":"IF(AND(Z$24<=$B$2,$B$3=$A$12,$B$4=T23),Z31*$B$2,0)","v":0},null,60,0,{"$f":"IF(AND(AD$24<=$B$2,$B$2<AE$24,$B$3=$A$12,$B$4=AB23),AD31*$B$2,0)","v":0},{"$f":"IF(AND(AE$24<=$B$2,$B$2<AF$24,$B$3=$A$12,$B$4=AB23),AE31*$B$2,0)","v":0},{"$f":"IF(AND(AF$24<=$B$2,$B$2<AG$24,$B$3=$A$12,$B$4=AB23),AF31*$B$2,0)","v":0},{"$f":"IF(AND(AG$24<=$B$2,$B$2<AH$24,$B$3=$A$12,$B$4=AB23),AG31*$B$2,0)","v":0},{"$f":"IF(AND(AH$24<=$B$2,$B$3=$A$12,$B$4=AB23),AH31*$B$2,0)","v":0},null,60,0,{"$f":"IF(AND(AL$24<=$B$2,$B$2<AM$24,$B$3=$A$12,$B$4=AJ23),AL31*$B$2,0)","v":0},{"$f":"IF(AND(AM$24<=$B$2,$B$2<AN$24,$B$3=$A$12,$B$4=AJ23),AM31*$B$2,0)","v":0},{"$f":"IF(AND(AN$24<=$B$2,$B$2<AO$24,$B$3=$A$12,$B$4=AJ23),AN31*$B$2,0)","v":0},{"$f":"IF(AND(AO$24<=$B$2,$B$2<AP$24,$B$3=$A$12,$B$4=AJ23),AO31*$B$2,0)","v":0},{"$f":"IF(AND(AP$24<=$B$2,$B$3=$A$12,$B$4=AJ23),AP31*$B$2,0)","v":0},null,60,0,{"$f":"IF(AND(AT$24<=$B$2,$B$2<AU$24,$B$3=$A$12,$B$4=AR23),AT31*$B$2,0)","v":0},{"$f":"IF(AND(AU$24<=$B$2,$B$2<AV$24,$B$3=$A$12,$B$4=AR23),AU31*$B$2,0)","v":0},{"$f":"IF(AND(AV$24<=$B$2,$B$2<AW$24,$B$3=$A$12,$B$4=AR23),AV31*$B$2,0)","v":0},{"$f":"IF(AND(AW$24<=$B$2,$B$2<AX$24,$B$3=$A$12,$B$4=AR23),AW31*$B$2,0)","v":0},{"$f":"IF(AND(AX$24<=$B$2,$B$3=$A$12,$B$4=AR23),AX31*$B$2,0)","v":0},null,60,0,{"$f":"IF(AND(BB$24<=$B$2,$B$2<BC$24,$B$3=$A$12,$B$4=AZ23),BB31*$B$2,0)","v":0},{"$f":"IF(AND(BC$24<=$B$2,$B$2<BD$24,$B$3=$A$12,$B$4=AZ23),BC31*$B$2,0)","v":0},{"$f":"IF(AND(BD$24<=$B$2,$B$2<BE$24,$B$3=$A$12,$B$4=AZ23),BD31*$B$2,0)","v":0},{"$f":"IF(AND(BE$24<=$B$2,$B$2<BF$24,$B$3=$A$12,$B$4=AZ23),BE31*$B$2,0)","v":0},{"$f":"IF(AND(BF$24<=$B$2,$B$3=$A$12,$B$4=AZ23),BF31*$B$2,0)","v":0},null,60,0,{"$f":"IF(AND(BJ$24<=$B$2,$B$2<BK$24,$B$3=$A$12,$B$4=BH23),BJ31*$B$2,0)","v":0},{"$f":"IF(AND(BK$24<=$B$2,$B$2<BL$24,$B$3=$A$12,$B$4=BH23),BK31*$B$2,0)","v":0},{"$f":"IF(AND(BL$24<=$B$2,$B$2<BM$24,$B$3=$A$12,$B$4=BH23),BL31*$B$2,0)","v":0},{"$f":"IF(AND(BM$24<=$B$2,$B$2<BN$24,$B$3=$A$12,$B$4=BH23),BM31*$B$2,0)","v":0},{"$f":"IF(AND(BN$24<=$B$2,$B$3=$A$12,$B$4=BH23),BN31*$B$2,0)","v":0},null,null,null,null,null,60,0,{"$f":"IF(AND(BV$24<=$B$2,$B$2<BW$24,$B$3=$A$12,$B$4=BT23),BV31*$B$2,0)","v":0},{"$f":"IF(AND(BW$24<=$B$2,$B$2<BX$24,$B$3=$A$12,$B$4=BT23),BW31*$B$2,0)","v":0},{"$f":"IF(AND(BX$24<=$B$2,$B$2<BY$24,$B$3=$A$12,$B$4=BT23),BX31*$B$2,0)","v":0},{"$f":"IF(AND(BY$24<=$B$2,$B$2<BZ$24,$B$3=$A$12,$B$4=BT23),BY31*$B$2,0)","v":0},{"$f":"IF(AND(BZ$24<=$B$2,$B$3=$A$12,$B$4=BT23),BZ31*$B$2,0)","v":0},null,60,0,{"$f":"IF(AND(CD$24<=$B$2,$B$2<CE$24,$B$3=$A$12,$B$4=CB23),CD31*$B$2,0)","v":0},{"$f":"IF(AND(CE$24<=$B$2,$B$2<CF$24,$B$3=$A$12,$B$4=CB23),CE31*$B$2,0)","v":0},{"$f":"IF(AND(CF$24<=$B$2,$B$2<CG$24,$B$3=$A$12,$B$4=CB23),CF31*$B$2,0)","v":0},{"$f":"IF(AND(CG$24<=$B$2,$B$2<CH$24,$B$3=$A$12,$B$4=CB23),CG31*$B$2,0)","v":0},{"$f":"IF(AND(CH$24<=$B$2,$B$3=$A$12,$B$4=CB23),CH31*$B$2,0)","v":0},null,60,0,{"$f":"IF(AND(CL$24<=$B$2,$B$2<CM$24,$B$3=$A$12,$B$4=CJ23),CL31*$B$2,0)","v":0},{"$f":"IF(AND(CM$24<=$B$2,$B$2<CN$24,$B$3=$A$12,$B$4=CJ23),CM31*$B$2,0)","v":0},{"$f":"IF(AND(CN$24<=$B$2,$B$2<CO$24,$B$3=$A$12,$B$4=CJ23),CN31*$B$2,0)","v":0},{"$f":"IF(AND(CO$24<=$B$2,$B$2<CP$24,$B$3=$A$12,$B$4=CJ23),CO31*$B$2,0)","v":0},{"$f":"IF(AND(CP$24<=$B$2,$B$3=$A$12,$B$4=CJ23),CP31*$B$2,0)","v":0},null,60,0,{"$f":"IF(AND(CT$24<=$B$2,$B$2<CU$24,$B$3=$A$12,$B$4=CR23),CT31*$B$2,0)","v":0},{"$f":"IF(AND(CU$24<=$B$2,$B$2<CV$24,$B$3=$A$12,$B$4=CR23),CU31*$B$2,0)","v":0},{"$f":"IF(AND(CV$24<=$B$2,$B$2<CW$24,$B$3=$A$12,$B$4=CR23),CV31*$B$2,0)","v":0},{"$f":"IF(AND(CW$24<=$B$2,$B$2<CX$24,$B$3=$A$12,$B$4=CR23),CW31*$B$2,0)","v":0},{"$f":"IF(AND(CX$24<=$B$2,$B$3=$A$12,$B$4=CR23),CX31*$B$2,0)","v":0}]
["Rates 2025 - Rev. 5/6/2025",null,null,{"$f":"SUM(F38:CX38)","v":0},null,{"$f":"SUM(F33:F37)","v":0},{"$f":"SUM(G33:G37)","v":0},{"$f":"SUM(H33:H37)","v":0},{"$f":"SUM(I33:I37)","v":0},{"$f":"SUM(J33:J37)","v":0},null,null,null,{"$f":"SUM(N33:N37)","v":0},{"$f":"SUM(O33:O37)","v":0},{"$f":"SUM(P33:P37)","v":0},{"$f":"SUM(Q33:Q37)","v":0},{"$f":"SUM(R33:R37)","v":0},null,null,null,{"$f":"SUM(V33:V37)","v":0},{"$f":"SUM(W33:W37)","v":0},{"$f":"SUM(X33:X37)","v":0},{"$f":"SUM(Y33:Y37)","v":0},{"$f":"SUM(Z33:Z37)","v":0},null,null,null,{"$f":"SUM(AD33:AD37)","v":0},{"$f":"SUM(AE33:AE37)","v":0},{"$f":"SUM(AF33:AF37)","v":0},{"$f":"SUM(AG33:AG37)","v":0},{"$f":"SUM(AH33:AH37)","v":0},null,null,null,{"$f":"SUM(AL33:AL37)","v":0},{"$f":"SUM(AM33:AM37)","v":0},{"$f":"SUM(AN33:AN37)","v":0},{"$f":"SUM(AO33:AO37)","v":0},{"$f":"SUM(AP33:AP37)","v":0},null,null,null,{"$f":"SUM(AT33:AT37)","v":0},{"$f":"SUM(AU33:AU37)","v":0},{"$f":"SUM(AV33:AV37)","v":0},{"$f":"SUM(AW33:AW37)","v":0},{"$f":"SUM(AX33:AX37)","v":0},null,null,null,{"$f":"SUM(BB33:BB37)","v":0},{"$f":"SUM(BC33:BC37)","v":0},{"$f":"SUM(BD33:BD37)","v":0},{"$f":"SUM(BE33:BE37)","v":0},{"$f":"SUM(BF33:BF37)","v":0},null,null,null,{"$f":"SUM(BJ33:BJ37)","v":0},{"$f":"SUM(BK33:BK37)","v":0},{"$f":"SUM(BL33:BL37)","v":0},{"$f":"SUM(BM33:BM37)","v":0},{"$f":"SUM(BN33:BN37)","v":0},null,null,null,{"$f":"SUM(BR33:BR37)","v":0},null,null,null,{"$f":"SUM(BV33:BV37)","v":0},{"$f":"SUM(BW33:BW37)","v":0},{"$f":"SUM(BX33:BX37)","v":0},{"$f":"SUM(BY33:BY37)","v":0},{"$f":"SUM(BZ33:BZ37)","v":0},null,null,null,{"$f":"SUM(CD33:CD37)","v":0},{"$f":"SUM(CE33:CE37)","v":0},{"$f":"SUM(CF33:CF37)","v":0},{"$f":"SUM(CG33:CG37)","v":0},{"$f":"SUM(CH33:CH37)","v":0},null,null,null,{"$f":"SUM(CL33:CL37)","v":0},{"$f":"SUM(CM33:CM37)","v":0},{"$f":"SUM(CN33:CN37)","v":0},{"$f":"SUM(CO33:CO37)","v":0},{"$f":"SUM(CP33:CP37)","v":0},null,null,null,{"$f":"SUM(CT33:CT37)","v":0},{"$f":"SUM(CU33:CU37)","v":0},{"$f":"SUM(CV33:CV37)","v":0},{"$f":"SUM(CW33:CW37)","v":0},{"$f":"SUM(CX33:CX37)","v":0}]
["“Blank Payment Amounts Indicate The Financing Option Or Purchase Options Selected Are Not "]
["Applicable Or The Machine Total Is Below The Minimum Amount For The Selected Vendor”"]
["\"Quoted monthly payments are estimates only and are based on a certain level of credit rating.",null,null,{"$f":"C10","v":"First Western Equipment Finance"},null,"2024-01-30"]
["Actual monthly payments may be higher depending on your credit rating.\"",null,"PurchaseOptAllLines",{"$f":"C45","v":0},null,null,null,null,null,null,null,{"$f":"C46","v":0},null,null,null,null,null,null,null,{"$f":"C47","v":"FWEF:  60-days no pmt"},null,null,null,null,null,null,null,{"$f":"C48","v":"FWEF:  Municipal Lease"},null,null,null,null,null,null,null,{"$f":"C49","v":"FWEF:  $1 Buyout Lease"},null,null,null,null,null,null,null,{"$f":"C50","v":"FWEF:  Fair Market Value Lease"},null,null,null,null,null,null,null,{"$f":"C51","v":"FWEF:  Short-term / Rent-to-own"},null,null,null,null,null,null,null,{"$f":"B15","v":"Municipal $1 Buyout Lease - Annual Pmt"},null,null,null,null,null,null,null,{"$f":"B16","v":"Rent To Own"},null,null,null,{"$f":"B17","v":0},null,null,null,null,null,null,null,{"$f":"B18","v":"$1 Buyout Lease - 90 days no pmt"},null,null,null,null,null,null,null,{"$f":"B19","v":"Fair Market Value Sweeper Lease - 90 days no pmt"},null,null,null,null,null,null,null,{"$f":"B20","v":"Fair Market Value Scrubber Lease - 90 days no pmt"}]
["“Financing rates do not include Pre-Paid Service”",null,"PurchaseOpt - AllLines",null,null,1000,3500,5001,10000,10000,null,null,null,2000,5001,10000,10000,10000,null,null,null,2000,5001,10000,10000,10000,null,null,null,3500,10000,25000,50000,150000,null,null,null,3500,10000,25000,25000,25000,null,null,null,3500,10000,25000,25000,25000,null,null,null,2500,null,null,null,null,null,null,null,1000,2001,5001,null,10001,null,null,null,1,null,null,null,1000,2001,5001,null,10001,null,null,null,1000,2001,5001,null,10001,null,null,null,1000,2001,5001,null,10001,null,null,null,1000,2001,5001,null,10001]
[null,null,"None",null,null,"to","to","to",null,"to",null,null,null,"to","to",null,null,"to",null,null,null,"to","to",null,null,"to",null,null,null,"to","to","to","to","to",null,null,null,"to","to",null,null,"to",null,null,null,"to","to",null,null,"to",null,null,null,"to",null,null,null,null,null,null,null,"to","to","to",null,"to",null,null,null,"to",null,null,null,"to","to","to",null,"to",null,null,null,"to","to","to",null,"to",null,null,null,"to","to","to",null,"to",null,null,null,"to","to","to",null,"to"]
[null,null,null,"Term","Adv",3499,5000,9999,null,null,null,"Term","Adv",5000,9999,null,null,null,null,"Term","Adv",5000,9999,null,null,null,null,"Term","Adv",9999,24999,49999,149999,null,null,"Term","Adv",9999,24999,null,null,null,null,"Term","Adv",9999,24999,null,null,null,null,"Term","Adv",null,null,null,null,null,null,"Term","Adv",2000,5000,10000,null,null,null,"Term","Adv",null,null,"Term","Adv",2000,5000,10000,null,null,null,"Term","Adv",2000,5000,10000,null,null,null,"Term","Adv",2000,5000,10000,null,null,null,"Term","Adv",2000,5000,10000]
["PurchaseOptALL","PurchaseOptALLPurchaseOptALLAMR",null,12,null,null,null,null,null,null,null,12,null,null,null,null,null,null,null,12,0,null,null,null,null,null,null,12,0,null,null,null,null,null,null,12,0,null,null,null,null,null,null,12,0,null,null,null,null,null,null,9,1,null,null,null,null,null,null,12,0,null,null,null,null,null,null,9,0,null,null,12,0,null,null,null,null,null,null,12,0,null,null,null,null,null,null,12,0,null,null,null,null,null,null,12,0]
["None","None","FWEF:  60-days no pmt",24,1,5.578421410962605E-2,4.8099999999999997E-2,4.8099999999999997E-2,null,4.6820000000000001E-2,null,24,1,4.5629999999999997E-2,4.5629999999999997E-2,null,null,4.4260000000000001E-2,null,24,0,null,null,null,null,null,null,24,1,4.5969999999999997E-2,4.5969999999999997E-2,4.5659999999999999E-2,4.5339999999999998E-2,4.514E-2,null,24,1,4.6820000000000001E-2,4.6399999999999997E-2,null,null,4.5969999999999997E-2,null,24,1,3.7690000000000001E-2,3.7170000000000002E-2,null,null,3.6650000000000002E-2,null,12,1,8.9289999999999994E-2,null,null,null,null,null,24,0,null,null,null,null,null,null,12,0,null,null,24,0,null,null,null,null,null,null,24,0,null,null,null,null,null,null,24,0,null,null,null,null,null,null,24,0]
["$1 Buyout Lease","$1 Buyout Lease","FWEF:  Municipal Lease",30,1,null,3.9899999999999998E-2,3.9899999999999998E-2,null,3.8580000000000003E-2,null,30,1,3.7999999999999999E-2,3.7999999999999999E-2,null,null,3.6600000000000001E-2,null,30,1,4.0910000000000002E-2,4.0910000000000002E-2,null,null,3.9940000000000003E-2,null,30,1,3.771E-2,3.771E-2,3.739E-2,3.7069999999999999E-2,3.6859999999999997E-2,null,30,0,null,null,null,null,null,null,30,0,null,null,null,null,null,null,18,1,6.1420000000000002E-2,null,null,null,null,null,30,0,null,null,null,null,null,null,18,0,null,null,30,0,null,null,null,null,null,null,30,0,null,null,null,null,null,null,30,0,null,null,null,null,null,null,30,0]
["Fair Market Value Sweeper Lease","$1 Buyout Lease - 90 days no pmt","FWEF:  $1 Buyout Lease",36,1,null,3.4470000000000001E-2,3.4470000000000001E-2,null,3.3110000000000001E-2,null,36,1,3.295E-2,3.295E-2,null,null,3.1510000000000003E-2,null,36,0,null,null,null,null,null,null,36,1,3.2219999999999999E-2,3.2219999999999999E-2,3.1890000000000002E-2,3.1559999999999998E-2,3.1350000000000003E-2,null,36,1,3.3110000000000001E-2,3.2660000000000002E-2,null,null,3.2219999999999999E-2,null,36,1,2.9000000000000001E-2,2.8490000000000001E-2,null,null,2.7980000000000001E-2,null,24,1,null,null,null,null,null,null,36,0,null,null,null,null,null,null,null,null,null,null,36,0,null,null,null,null,null,null,36,0,null,null,null,null,null,null,36,0,null,null,null,null,null,null,36,0]
["Fair Market Value Scrubber Lease","Municipal $1 Buyout Lease - Monthly Pmt","FWEF:  Fair Market Value Lease",48,1,null,2.7730000000000001E-2,2.7730000000000001E-2,null,2.631E-2,null,48,null,null,null,null,null,null,null,48,0,null,null,null,null,null,null,48,1,2.538E-2,2.538E-2,2.504E-2,2.47E-2,2.4469999999999999E-2,null,48,1,2.631E-2,2.5839999999999998E-2,null,null,2.538E-2,null,48,1,2.4709999999999999E-2,2.4209999999999999E-2,null,null,2.3709999999999998E-2,null,null,null,null,null,null,null,null,null,48,0,null,null,null,null,null,null,null,null,null,null,48,0,null,null,null,null,null,null,48,0,null,null,null,null,null,null,48,0,null,null,null,null,null,null,48,0]
["Fair Market Value Robotic Lease","Municipal $1 Buyout Lease - Annual Pmt","FWEF:  Short-term / Rent-to-own",60,null,null,2.375E-2,2.375E-2,null,2.2270000000000002E-2,null,60,null,null,null,null,null,null,null,60,0,null,null,null,null,null,null,60,1,2.1309999999999999E-2,2.1309999999999999E-2,2.095E-2,2.06E-2,2.0369999999999999E-2,null,60,0,2.2270000000000002E-2,2.1780000000000001E-2,null,null,2.1309999999999999E-2,null,60,1,2.1669999999999998E-2,2.1170000000000001E-2,null,null,2.068E-2,null,null,null,null,null,null,null,null,null,60,0,null,null,null,null,null,null,null,null,null,null,60,0,null,null,null,null,null,null,48,0,null,null,null,null,null,null,60,0,null,null,null,null,null,null,60,0]
["$1 Buyout Lease - 90 days no pmt","FWEF:  60-days no pmt"]
["Fair Market Value Sweeper Lease - 90 days no pmt","FWEF:  Municipal Lease",null,12,0,{"$f":"IF(AND(F$43<=$B$2,$B$2<G$43,$B$3=$A$8,$B$4=D42),F46*$B$2,0)","v":0},{"$f":"IF(AND(G$43<=$B$2,$B$2<H$43,$B$3=$A$8,$B$4=D42),G46*$B$2,0)","v":0},{"$f":"IF(AND(H$43<=$B$2,$B$2<I$43,$B$3=$A$8,$B$4=D42),H46*$B$2,0)","v":0},{"$f":"IF(AND(I$43<=$B$2,$B$2<J$43,$B$3=$A$8,$B$4=D42),I46*$B$2,0)","v":0},{"$f":"IF(AND(J$43<=$B$2,$B$3=$A$8,$B$4=D42),J46*$B$2,0)","v":0},null,12,0,{"$f":"IF(AND(N$43<=$B$2,$B$2<O$43,$B$3=$A$8,$B$4=L42),N46*$B$2,0)","v":0},{"$f":"IF(AND(O$43<=$B$2,$B$2<P$43,$B$3=$A$8,$B$4=L42),O46*$B$2,0)","v":0},{"$f":"IF(AND(P$43<=$B$2,$B$2<Q$43,$B$3=$A$8,$B$4=L42),P46*$B$2,0)","v":0},{"$f":"IF(AND(Q$43<=$B$2,$B$2<R$43,$B$3=$A$8,$B$4=L42),Q46*$B$2,0)","v":0},{"$f":"IF(AND(R$43<=$B$2,$B$3=$A$8,$B$4=L42),R46*$B$2,0)","v":0},null,12,0,{"$f":"IF(AND(V$43<=$B$2,$B$2<W$43,$B$3=$A$8,$B$4=T42),V46*$B$2,0)","v":0},{"$f":"IF(AND(W$43<=$B$2,$B$2<X$43,$B$3=$A$8,$B$4=T42),W46*$B$2,0)","v":0},{"$f":"IF(AND(X$43<=$B$2,$B$2<Y$43,$B$3=$A$8,$B$4=T42),X46*$B$2,0)","v":0},{"$f":"IF(AND(Y$43<=$B$2,$B$2<Z$43,$B$3=$A$8,$B$4=T42),Y46*$B$2,0)","v":0},{"$f":"IF(AND(Z$43<=$B$2,$B$3=$A$8,$B$4=T42),Z46*$B$2,0)","v":0},null,12,0,{"$f":"IF(AND(AD$43<=$B$2,$B$2<AE$43,$B$3=$A$8,$B$4=AB42),AD46*$B$2,0)","v":0},{"$f":"IF(AND(AE$43<=$B$2,$B$2<AF$43,$B$3=$A$8,$B$4=AB42),AE46*$B$2,0)","v":0},{"$f":"IF(AND(AF$43<=$B$2,$B$2<AG$43,$B$3=$A$8,$B$4=AB42),AF46*$B$2,0)","v":0},{"$f":"IF(AND(AG$43<=$B$2,$B$2<AH$43,$B$3=$A$8,$B$4=AB42),AG46*$B$2,0)","v":0},{"$f":"IF(AND(AH$43<=$B$2,$B$3=$A$8,$B$4=AB42),AH46*$B$2,0)","v":0},null,12,0,{"$f":"IF(AND(AL$43<=$B$2,$B$2<AM$43,$B$3=$A$8,$B$4=AJ42),AL46*$B$2,0)","v":0},{"$f":"IF(AND(AM$43<=$B$2,$B$2<AN$43,$B$3=$A$8,$B$4=AJ42),AM46*$B$2,0)","v":0},{"$f":"IF(AND(AN$43<=$B$2,$B$2<AO$43,$B$3=$A$8,$B$4=AJ42),AN46*$B$2,0)","v":0},{"$f":"IF(AND(AO$43<=$B$2,$B$2<AP$43,$B$3=$A$8,$B$4=AJ42),AO46*$B$2,0)","v":0},{"$f":"IF(AND(AP$43<=$B$2,$B$3=$A$8,$B$4=AJ42),AP46*$B$2,0)","v":0},null,12,0,{"$f":"IF(AND(AT$43<=$B$2,$B$2<AU$43,$B$3=$A$8,$B$4=AR42),AT46*$B$2,0)","v":0},{"$f":"IF(AND(AU$43<=$B$2,$B$2<AV$43,$B$3=$A$8,$B$4=AR42),AU46*$B$2,0)","v":0},{"$f":"IF(AND(AV$43<=$B$2,$B$2<AW$43,$B$3=$A$8,$B$4=AR42),AV46*$B$2,0)","v":0},{"$f":"IF(AND(AW$43<=$B$2,$B$2<AX$43,$B$3=$A$8,$B$4=AR42),AW46*$B$2,0)","v":0},{"$f":"IF(AND(AX$43<=$B$2,$B$3=$A$8,$B$4=AR42),AX46*$B$2,0)","v":0},null,9,0,{"$f":"IF(AND(BB$3<=$B$2,$B$3=$A$13,$B$4=AZ42),BB46*$B$2,0)","v":0},null,null,null,null,null,12,0,{"$f":"IF(AND(BJ$43<=$B$2,$B$2<BK$43,$B$3=$A$8,$B$4=BH42),BJ46*$B$2,0)","v":0},{"$f":"IF(AND(BK$43<=$B$2,$B$2<BL$43,$B$3=$A$8,$B$4=BH42),BK46*$B$2,0)","v":0},{"$f":"IF(AND(BL$43<=$B$2,$B$2<BM$43,$B$3=$A$8,$B$4=BH42),BL46*$B$2,0)","v":0},{"$f":"IF(AND(BM$43<=$B$2,$B$2<BN$43,$B$3=$A$8,$B$4=BH42),BM46*$B$2,0)","v":0},{"$f":"IF(AND(BN$43<=$B$2,$B$3=$A$8,$B$4=BH42),BN46*$B$2,0)","v":0},null,9,0,{"$f":"IF(AND(BR$3<=$B$2,$B$3=$A$13,$B$4=BP42),BR46*$B$2,0)","v":0},null,12,0,{"$f":"IF(AND(BV$43<=$B$2,$B$2<BW$43,$B$3=$A$8,$B$4=BT42),BV46*$B$2,0)","v":0},{"$f":"IF(AND(BW$43<=$B$2,$B$2<BX$43,$B$3=$A$8,$B$4=BT42),BW46*$B$2,0)","v":0},{"$f":"IF(AND(BX$43<=$B$2,$B$2<BY$43,$B$3=$A$8,$B$4=BT42),BX46*$B$2,0)","v":0},{"$f":"IF(AND(BY$43<=$B$2,$B$2<BZ$43,$B$3=$A$8,$B$4=BT42),BY46*$B$2,0)","v":0},{"$f":"IF(AND(BZ$43<=$B$2,$B$3=$A$8,$B$4=BT42),BZ46*$B$2,0)","v":0},null,12,0,{"$f":"IF(AND(CD$43<=$B$2,$B$2<CE$43,$B$3=$A$8,$B$4=CB42),CD46*$B$2,0)","v":0},{"$f":"IF(AND(CE$43<=$B$2,$B$2<CF$43,$B$3=$A$8,$B$4=CB42),CE46*$B$2,0)","v":0},{"$f":"IF(AND(CF$43<=$B$2,$B$2<CG$43,$B$3=$A$8,$B$4=CB42),CF46*$B$2,0)","v":0},{"$f":"IF(AND(CG$43<=$B$2,$B$2<CH$43,$B$3=$A$8,$B$4=CB42),CG46*$B$2,0)","v":0},{"$f":"IF(AND(CH$43<=$B$2,$B$3=$A$8,$B$4=CB42),CH46*$B$2,0)","v":0},null,12,0,{"$f":"IF(AND(CL$43<=$B$2,$B$2<CM$43,$B$3=$A$8,$B$4=CJ42),CL46*$B$2,0)","v":0},{"$f":"IF(AND(CM$43<=$B$2,$B$2<CN$43,$B$3=$A$8,$B$4=CJ42),CM46*$B$2,0)","v":0},{"$f":"IF(AND(CN$43<=$B$2,$B$2<CO$43,$B$3=$A$8,$B$4=CJ42),CN46*$B$2,0)","v":0},{"$f":"IF(AND(CO$43<=$B$2,$B$2<CP$43,$B$3=$A$8,$B$4=CJ42),CO46*$B$2,0)","v":0},{"$f":"IF(AND(CP$43<=$B$2,$B$3=$A$8,$B$4=CJ42),CP46*$B$2,0)","v":0},null,12,0,{"$f":"IF(AND(CT$43<=$B$2,$B$2<CU$43,$B$3=$A$8,$B$4=CR42),CT46*$B$2,0)","v":0},{"$f":"IF(AND(CU$43<=$B$2,$B$2<CV$43,$B$3=$A$8,$B$4=CR42),CU46*$B$2,0)","v":0},{"$f":"IF(AND(CV$43<=$B$2,$B$2<CW$43,$B$3=$A$8,$B$4=CR42),CV46*$B$2,0)","v":0},{"$f":"IF(AND(CW$43<=$B$2,$B$2<CX$43,$B$3=$A$8,$B$4=CR42),CW46*$B$2,0)","v":0},{"$f":"IF(AND(CX$43<=$B$2,$B$3=$A$8,$B$4=CR42),CX46*$B$2,0)","v":0}]
["Fair Market Value Scrubber Lease - 90 days no pmt","FWEF:  $1 Buyout Lease",null,24,0,{"$f":"IF(AND(F$43<=$B$2,$B$2<G$43,$B$3=$A$9,$B$4=D42),F47*$B$2,0)","v":0},{"$f":"IF(AND(G$43<=$B$2,$B$2<H$43,$B$3=$A$9,$B$4=D42),G47*$B$2,0)","v":0},{"$f":"IF(AND(H$43<=$B$2,$B$2<I$43,$B$3=$A$9,$B$4=D42),H47*$B$2,0)","v":0},{"$f":"IF(AND(I$43<=$B$2,$B$2<J$43,$B$3=$A$9,$B$4=D42),I47*$B$2,0)","v":0},{"$f":"IF(AND(J$43<=$B$2,$B$3=$A$9,$B$4=D42),J47*$B$2,0)","v":0},null,24,0,{"$f":"IF(AND(N$43<=$B$2,$B$2<O$43,$B$3=$A$9,$B$4=L42),N47*$B$2,0)","v":0},{"$f":"IF(AND(O$43<=$B$2,$B$2<P$43,$B$3=$A$9,$B$4=L42),O47*$B$2,0)","v":0},{"$f":"IF(AND(P$43<=$B$2,$B$2<Q$43,$B$3=$A$9,$B$4=L42),P47*$B$2,0)","v":0},{"$f":"IF(AND(Q$43<=$B$2,$B$2<R$43,$B$3=$A$9,$B$4=L42),Q47*$B$2,0)","v":0},{"$f":"IF(AND(R$43<=$B$2,$B$3=$A$9,$B$4=L42),R47*$B$2,0)","v":0},null,24,0,{"$f":"IF(AND(V$43<=$B$2,$B$2<W$43,$B$3=$A$9,$B$4=T42),V47*$B$2,0)","v":0},{"$f":"IF(AND(W$43<=$B$2,$B$2<X$43,$B$3=$A$9,$B$4=T42),W47*$B$2,0)","v":0},{"$f":"IF(AND(X$43<=$B$2,$B$2<Y$43,$B$3=$A$9,$B$4=T42),X47*$B$2,0)","v":0},{"$f":"IF(AND(Y$43<=$B$2,$B$2<Z$43,$B$3=$A$9,$B$4=T42),Y47*$B$2,0)","v":0},{"$f":"IF(AND(Z$43<=$B$2,$B$3=$A$9,$B$4=T42),Z47*$B$2,0)","v":0},null,24,0,{"$f":"IF(AND(AD$43<=$B$2,$B$2<AE$43,$B$3=$A$9,$B$4=AB42),AD47*$B$2,0)","v":0},{"$f":"IF(AND(AE$43<=$B$2,$B$2<AF$43,$B$3=$A$9,$B$4=AB42),AE47*$B$2,0)","v":0},{"$f":"IF(AND(AF$43<=$B$2,$B$2<AG$43,$B$3=$A$9,$B$4=AB42),AF47*$B$2,0)","v":0},{"$f":"IF(AND(AG$43<=$B$2,$B$2<AH$43,$B$3=$A$9,$B$4=AB42),AG47*$B$2,0)","v":0},{"$f":"IF(AND(AH$43<=$B$2,$B$3=$A$9,$B$4=AB42),AH47*$B$2,0)","v":0},null,24,0,{"$f":"IF(AND(AL$43<=$B$2,$B$2<AM$43,$B$3=$A$9,$B$4=AJ42),AL47*$B$2,0)","v":0},{"$f":"IF(AND(AM$43<=$B$2,$B$2<AN$43,$B$3=$A$9,$B$4=AJ42),AM47*$B$2,0)","v":0},{"$f":"IF(AND(AN$43<=$B$2,$B$2<AO$43,$B$3=$A$9,$B$4=AJ42),AN47*$B$2,0)","v":0},{"$f":"IF(AND(AO$43<=$B$2,$B$2<AP$43,$B$3=$A$9,$B$4=AJ42),AO47*$B$2,0)","v":0},{"$f":"IF(AND(AP$43<=$B$2,$B$3=$A$9,$B$4=AJ42),AP47*$B$2,0)","v":0},null,24,0,{"$f":"IF(AND(AT$43<=$B$2,$B$2<AU$43,$B$3=$A$9,$B$4=AR42),AT47*$B$2,0)","v":0},{"$f":"IF(AND(AU$43<=$B$2,$B$2<AV$43,$B$3=$A$9,$B$4=AR42),AU47*$B$2,0)","v":0},{"$f":"IF(AND(AV$43<=$B$2,$B$2<AW$43,$B$3=$A$9,$B$4=AR42),AV47*$B$2,0)","v":0},{"$f":"IF(AND(AW$43<=$B$2,$B$2<AX$43,$B$3=$A$9,$B$4=AR42),AW47*$B$2,0)","v":0},{"$f":"IF(AND(AX$43<=$B$2,$B$3=$A$9,$B$4=AR42),AX47*$B$2,0)","v":0},null,12,0,{"$f":"IF(AND(BB$3<=$B$2,$B$3=$A$8,$B$4=AZ42),BB47*$B$2,0)","v":0},null,null,null,null,null,24,0,{"$f":"IF(AND(BJ$43<=$B$2,$B$2<BK$43,$B$3=$A$9,$B$4=BH42),BJ47*$B$2,0)","v":0},{"$f":"IF(AND(BK$43<=$B$2,$B$2<BL$43,$B$3=$A$9,$B$4=BH42),BK47*$B$2,0)","v":0},{"$f":"IF(AND(BL$43<=$B$2,$B$2<BM$43,$B$3=$A$9,$B$4=BH42),BL47*$B$2,0)","v":0},{"$f":"IF(AND(BM$43<=$B$2,$B$2<BN$43,$B$3=$A$9,$B$4=BH42),BM47*$B$2,0)","v":0},{"$f":"IF(AND(BN$43<=$B$2,$B$3=$A$9,$B$4=BH42),BN47*$B$2,0)","v":0},null,12,0,{"$f":"IF(AND(BR$3<=$B$2,$B$3=$A$8,$B$4=BP42),BR47*$B$2,0)","v":0},null,24,0,{"$f":"IF(AND(BV$43<=$B$2,$B$2<BW$43,$B$3=$A$9,$B$4=BT42),BV47*$B$2,0)","v":0},{"$f":"IF(AND(BW$43<=$B$2,$B$2<BX$43,$B$3=$A$9,$B$4=BT42),BW47*$B$2,0)","v":0},{"$f":"IF(AND(BX$43<=$B$2,$B$2<BY$43,$B$3=$A$9,$B$4=BT42),BX47*$B$2,0)","v":0},{"$f":"IF(AND(BY$43<=$B$2,$B$2<BZ$43,$B$3=$A$9,$B$4=BT42),BY47*$B$2,0)","v":0},{"$f":"IF(AND(BZ$43<=$B$2,$B$3=$A$9,$B$4=BT42),BZ47*$B$2,0)","v":0},null,24,0,{"$f":"IF(AND(CD$43<=$B$2,$B$2<CE$43,$B$3=$A$9,$B$4=CB42),CD47*$B$2,0)","v":0},{"$f":"IF(AND(CE$43<=$B$2,$B$2<CF$43,$B$3=$A$9,$B$4=CB42),CE47*$B$2,0)","v":0},{"$f":"IF(AND(CF$43<=$B$2,$B$2<CG$43,$B$3=$A$9,$B$4=CB42),CF47*$B$2,0)","v":0},{"$f":"IF(AND(CG$43<=$B$2,$B$2<CH$43,$B$3=$A$9,$B$4=CB42),CG47*$B$2,0)","v":0},{"$f":"IF(AND(CH$43<=$B$2,$B$3=$A$9,$B$4=CB42),CH47*$B$2,0)","v":0},null,24,0,{"$f":"IF(AND(CL$43<=$B$2,$B$2<CM$43,$B$3=$A$9,$B$4=CJ42),CL47*$B$2,0)","v":0},{"$f":"IF(AND(CM$43<=$B$2,$B$2<CN$43,$B$3=$A$9,$B$4=CJ42),CM47*$B$2,0)","v":0},{"$f":"IF(AND(CN$43<=$B$2,$B$2<CO$43,$B$3=$A$9,$B$4=CJ42),CN47*$B$2,0)","v":0},{"$f":"IF(AND(CO$43<=$B$2,$B$2<CP$43,$B$3=$A$9,$B$4=CJ42),CO47*$B$2,0)","v":0},{"$f":"IF(AND(CP$43<=$B$2,$B$3=$A$9,$B$4=CJ42),CP47*$B$2,0)","v":0},null,24,0,{"$f":"IF(AND(CT$43<=$B$2,$B$2<CU$43,$B$3=$A$9,$B$4=CR42),CT47*$B$2,0)","v":0},{"$f":"IF(AND(CU$43<=$B$2,$B$2<CV$43,$B$3=$A$9,$B$4=CR42),CU47*$B$2,0)","v":0},{"$f":"IF(AND(CV$43<=$B$2,$B$2<CW$43,$B$3=$A$9,$B$4=CR42),CV47*$B$2,0)","v":0},{"$f":"IF(AND(CW$43<=$B$2,$B$2<CX$43,$B$3=$A$9,$B$4=CR42),CW47*$B$2,0)","v":0},{"$f":"IF(AND(CX$43<=$B$2,$B$3=$A$9,$B$4=CR42),CX47*$B$2,0)","v":0}]
["Municipal $1 Buyout Lease - Monthly Pmt","FWEF:  Short-term / Rent-to-own",null,30,0,{"$f":"IF(AND(F$43<=$B$2,$B$2<G$43,$B$3=$A$15,$B$4=D42),F48*$B$2,0)","v":0},{"$f":"IF(AND(G$43<=$B$2,$B$2<H$43,$B$3=$A$15,$B$4=D42),G48*$B$2,0)","v":0},{"$f":"IF(AND(H$43<=$B$2,$B$2<I$43,$B$3=$A$15,$B$4=D42),H48*$B$2,0)","v":0},{"$f":"IF(AND(I$43<=$B$2,$B$2<J$43,$B$3=$A$15,$B$4=D42),I48*$B$2,0)","v":0},{"$f":"IF(AND(J$43<=$B$2,$B$3=$A$15,$B$4=D42),J48*$B$2,0)","v":0},null,30,0,{"$f":"IF(AND(N$43<=$B$2,$B$2<O$43,$B$3=$A$15,$B$4=L42),N48*$B$2,0)","v":0},{"$f":"IF(AND(O$43<=$B$2,$B$2<P$43,$B$3=$A$15,$B$4=L42),O48*$B$2,0)","v":0},{"$f":"IF(AND(P$43<=$B$2,$B$2<Q$43,$B$3=$A$15,$B$4=L42),P48*$B$2,0)","v":0},{"$f":"IF(AND(Q$43<=$B$2,$B$2<R$43,$B$3=$A$15,$B$4=L42),Q48*$B$2,0)","v":0},{"$f":"IF(AND(R$43<=$B$2,$B$3=$A$15,$B$4=L42),R48*$B$2,0)","v":0},null,30,0,{"$f":"IF(AND(V$43<=$B$2,$B$2<W$43,$B$3=$A$15,$B$4=T42),V48*$B$2,0)","v":0},{"$f":"IF(AND(W$43<=$B$2,$B$2<X$43,$B$3=$A$15,$B$4=T42),W48*$B$2,0)","v":0},{"$f":"IF(AND(X$43<=$B$2,$B$2<Y$43,$B$3=$A$15,$B$4=T42),X48*$B$2,0)","v":0},{"$f":"IF(AND(Y$43<=$B$2,$B$2<Z$43,$B$3=$A$15,$B$4=T42),Y48*$B$2,0)","v":0},{"$f":"IF(AND(Z$43<=$B$2,$B$3=$A$15,$B$4=T42),Z48*$B$2,0)","v":0},null,30,0,{"$f":"IF(AND(AD$43<=$B$2,$B$2<AE$43,$B$3=$A$15,$B$4=AB42),AD48*$B$2,0)","v":0},{"$f":"IF(AND(AE$43<=$B$2,$B$2<AF$43,$B$3=$A$15,$B$4=AB42),AE48*$B$2,0)","v":0},{"$f":"IF(AND(AF$43<=$B$2,$B$2<AG$43,$B$3=$A$15,$B$4=AB42),AF48*$B$2,0)","v":0},{"$f":"IF(AND(AG$43<=$B$2,$B$2<AH$43,$B$3=$A$15,$B$4=AB42),AG48*$B$2,0)","v":0},{"$f":"IF(AND(AH$43<=$B$2,$B$3=$A$15,$B$4=AB42),AH48*$B$2,0)","v":0},null,30,0,{"$f":"IF(AND(AL$43<=$B$2,$B$2<AM$43,$B$3=$A$15,$B$4=AJ42),AL48*$B$2,0)","v":0},{"$f":"IF(AND(AM$43<=$B$2,$B$2<AN$43,$B$3=$A$15,$B$4=AJ42),AM48*$B$2,0)","v":0},{"$f":"IF(AND(AN$43<=$B$2,$B$2<AO$43,$B$3=$A$15,$B$4=AJ42),AN48*$B$2,0)","v":0},{"$f":"IF(AND(AO$43<=$B$2,$B$2<AP$43,$B$3=$A$15,$B$4=AJ42),AO48*$B$2,0)","v":0},{"$f":"IF(AND(AP$43<=$B$2,$B$3=$A$15,$B$4=AJ42),AP48*$B$2,0)","v":0},null,30,0,{"$f":"IF(AND(AT$43<=$B$2,$B$2<AU$43,$B$3=$A$15,$B$4=AR42),AT48*$B$2,0)","v":0},{"$f":"IF(AND(AU$43<=$B$2,$B$2<AV$43,$B$3=$A$15,$B$4=AR42),AU48*$B$2,0)","v":0},{"$f":"IF(AND(AV$43<=$B$2,$B$2<AW$43,$B$3=$A$15,$B$4=AR42),AV48*$B$2,0)","v":0},{"$f":"IF(AND(AW$43<=$B$2,$B$2<AX$43,$B$3=$A$15,$B$4=AR42),AW48*$B$2,0)","v":0},{"$f":"IF(AND(AX$43<=$B$2,$B$3=$A$15,$B$4=AR42),AX48*$B$2,0)","v":0},null,18,0,{"$f":"IF(AND(BB$3<=$B$2,$B$3=$A$14,$B$4=AZ42),BB48*$B$2,0)","v":0},null,null,null,null,null,30,0,{"$f":"IF(AND(BJ$43<=$B$2,$B$2<BK$43,$B$3=$A$15,$B$4=BH42),BJ48*$B$2,0)","v":0},{"$f":"IF(AND(BK$43<=$B$2,$B$2<BL$43,$B$3=$A$15,$B$4=BH42),BK48*$B$2,0)","v":0},{"$f":"IF(AND(BL$43<=$B$2,$B$2<BM$43,$B$3=$A$15,$B$4=BH42),BL48*$B$2,0)","v":0},{"$f":"IF(AND(BM$43<=$B$2,$B$2<BN$43,$B$3=$A$15,$B$4=BH42),BM48*$B$2,0)","v":0},{"$f":"IF(AND(BN$43<=$B$2,$B$3=$A$15,$B$4=BH42),BN48*$B$2,0)","v":0},null,18,0,{"$f":"IF(AND(BR$3<=$B$2,$B$3=$A$14,$B$4=BP42),BR48*$B$2,0)","v":0},null,30,0,{"$f":"IF(AND(BV$43<=$B$2,$B$2<BW$43,$B$3=$A$15,$B$4=BT42),BV48*$B$2,0)","v":0},{"$f":"IF(AND(BW$43<=$B$2,$B$2<BX$43,$B$3=$A$15,$B$4=BT42),BW48*$B$2,0)","v":0},{"$f":"IF(AND(BX$43<=$B$2,$B$2<BY$43,$B$3=$A$15,$B$4=BT42),BX48*$B$2,0)","v":0},{"$f":"IF(AND(BY$43<=$B$2,$B$2<BZ$43,$B$3=$A$15,$B$4=BT42),BY48*$B$2,0)","v":0},{"$f":"IF(AND(BZ$43<=$B$2,$B$3=$A$15,$B$4=BT42),BZ48*$B$2,0)","v":0},null,30,0,{"$f":"IF(AND(CD$43<=$B$2,$B$2<CE$43,$B$3=$A$15,$B$4=CB42),CD48*$B$2,0)","v":0},{"$f":"IF(AND(CE$43<=$B$2,$B$2<CF$43,$B$3=$A$15,$B$4=CB42),CE48*$B$2,0)","v":0},{"$f":"IF(AND(CF$43<=$B$2,$B$2<CG$43,$B$3=$A$15,$B$4=CB42),CF48*$B$2,0)","v":0},{"$f":"IF(AND(CG$43<=$B$2,$B$2<CH$43,$B$3=$A$15,$B$4=CB42),CG48*$B$2,0)","v":0},{"$f":"IF(AND(CH$43<=$B$2,$B$3=$A$15,$B$4=CB42),CH48*$B$2,0)","v":0},null,30,0,{"$f":"IF(AND(CL$43<=$B$2,$B$2<CM$43,$B$3=$A$15,$B$4=CJ42),CL48*$B$2,0)","v":0},{"$f":"IF(AND(CM$43<=$B$2,$B$2<CN$43,$B$3=$A$15,$B$4=CJ42),CM48*$B$2,0)","v":0},{"$f":"IF(AND(CN$43<=$B$2,$B$2<CO$43,$B$3=$A$15,$B$4=CJ42),CN48*$B$2,0)","v":0},{"$f":"IF(AND(CO$43<=$B$2,$B$2<CP$43,$B$3=$A$15,$B$4=CJ42),CO48*$B$2,0)","v":0},{"$f":"IF(AND(CP$43<=$B$2,$B$3=$A$15,$B$4=CJ42),CP48*$B$2,0)","v":0},null,30,0,{"$f":"IF(AND(CT$43<=$B$2,$B$2<CU$43,$B$3=$A$15,$B$4=CR42),CT48*$B$2,0)","v":0},{"$f":"IF(AND(CU$43<=$B$2,$B$2<CV$43,$B$3=$A$15,$B$4=CR42),CU48*$B$2,0)","v":0},{"$f":"IF(AND(CV$43<=$B$2,$B$2<CW$43,$B$3=$A$15,$B$4=CR42),CV48*$B$2,0)","v":0},{"$f":"IF(AND(CW$43<=$B$2,$B$2<CX$43,$B$3=$A$15,$B$4=CR42),CW48*$B$2,0)","v":0},{"$f":"IF(AND(CX$43<=$B$2,$B$3=$A$15,$B$4=CR42),CX48*$B$2,0)","v":0}]
["Municipal $1 Buyout Lease - Annual Pmt",null,null,36,0,{"$f":"IF(AND(F$43<=$B$2,$B$2<G$43,$B$3=$A$10,$B$4=D42),F49*$B$2,0)","v":0},{"$f":"IF(AND(G$43<=$B$2,$B$2<H$43,$B$3=$A$10,$B$4=D42),G49*$B$2,0)","v":0},{"$f":"IF(AND(H$43<=$B$2,$B$2<I$43,$B$3=$A$10,$B$4=D42),H49*$B$2,0)","v":0},{"$f":"IF(AND(I$43<=$B$2,$B$2<J$43,$B$3=$A$10,$B$4=D42),I49*$B$2,0)","v":0},{"$f":"IF(AND(J$43<=$B$2,$B$3=$A$10,$B$4=D42),J49*$B$2,0)","v":0},null,36,0,{"$f":"IF(AND(N$43<=$B$2,$B$2<O$43,$B$3=$A$10,$B$4=L42),N49*$B$2,0)","v":0},{"$f":"IF(AND(O$43<=$B$2,$B$2<P$43,$B$3=$A$10,$B$4=L42),O49*$B$2,0)","v":0},{"$f":"IF(AND(P$43<=$B$2,$B$2<Q$43,$B$3=$A$10,$B$4=L42),P49*$B$2,0)","v":0},{"$f":"IF(AND(Q$43<=$B$2,$B$2<R$43,$B$3=$A$10,$B$4=L42),Q49*$B$2,0)","v":0},{"$f":"IF(AND(R$43<=$B$2,$B$3=$A$10,$B$4=L42),R49*$B$2,0)","v":0},null,36,0,{"$f":"IF(AND(V$43<=$B$2,$B$2<W$43,$B$3=$A$10,$B$4=T42),V49*$B$2,0)","v":0},{"$f":"IF(AND(W$43<=$B$2,$B$2<X$43,$B$3=$A$10,$B$4=T42),W49*$B$2,0)","v":0},{"$f":"IF(AND(X$43<=$B$2,$B$2<Y$43,$B$3=$A$10,$B$4=T42),X49*$B$2,0)","v":0},{"$f":"IF(AND(Y$43<=$B$2,$B$2<Z$43,$B$3=$A$10,$B$4=T42),Y49*$B$2,0)","v":0},{"$f":"IF(AND(Z$43<=$B$2,$B$3=$A$10,$B$4=T42),Z49*$B$2,0)","v":0},null,36,0,{"$f":"IF(AND(AD$43<=$B$2,$B$2<AE$43,$B$3=$A$10,$B$4=AB42),AD49*$B$2,0)","v":0},{"$f":"IF(AND(AE$43<=$B$2,$B$2<AF$43,$B$3=$A$10,$B$4=AB42),AE49*$B$2,0)","v":0},{"$f":"IF(AND(AF$43<=$B$2,$B$2<AG$43,$B$3=$A$10,$B$4=AB42),AF49*$B$2,0)","v":0},{"$f":"IF(AND(AG$43<=$B$2,$B$2<AH$43,$B$3=$A$10,$B$4=AB42),AG49*$B$2,0)","v":0},{"$f":"IF(AND(AH$43<=$B$2,$B$3=$A$10,$B$4=AB42),AH49*$B$2,0)","v":0},null,36,0,{"$f":"IF(AND(AL$43<=$B$2,$B$2<AM$43,$B$3=$A$10,$B$4=AJ42),AL49*$B$2,0)","v":0},{"$f":"IF(AND(AM$43<=$B$2,$B$2<AN$43,$B$3=$A$10,$B$4=AJ42),AM49*$B$2,0)","v":0},{"$f":"IF(AND(AN$43<=$B$2,$B$2<AO$43,$B$3=$A$10,$B$4=AJ42),AN49*$B$2,0)","v":0},{"$f":"IF(AND(AO$43<=$B$2,$B$2<AP$43,$B$3=$A$10,$B$4=AJ42),AO49*$B$2,0)","v":0},{"$f":"IF(AND(AP$43<=$B$2,$B$3=$A$10,$B$4=AJ42),AP49*$B$2,0)","v":0},null,36,0,{"$f":"IF(AND(AT$43<=$B$2,$B$2<AU$43,$B$3=$A$10,$B$4=AR42),AT49*$B$2,0)","v":0},{"$f":"IF(AND(AU$43<=$B$2,$B$2<AV$43,$B$3=$A$10,$B$4=AR42),AU49*$B$2,0)","v":0},{"$f":"IF(AND(AV$43<=$B$2,$B$2<AW$43,$B$3=$A$10,$B$4=AR42),AV49*$B$2,0)","v":0},{"$f":"IF(AND(AW$43<=$B$2,$B$2<AX$43,$B$3=$A$10,$B$4=AR42),AW49*$B$2,0)","v":0},{"$f":"IF(AND(AX$43<=$B$2,$B$3=$A$10,$B$4=AR42),AX49*$B$2,0)","v":0},null,24,0,{"$f":"IF(AND(BB$3<=$B$2,$B$3=$A$9,$B$4=AZ42),BB49*$B$2,0)","v":0},null,null,null,null,null,36,0,{"$f":"IF(AND(BJ$43<=$B$2,$B$2<BK$43,$B$3=$A$10,$B$4=BH42),BJ49*$B$2,0)","v":0},{"$f":"IF(AND(BK$43<=$B$2,$B$2<BL$43,$B$3=$A$10,$B$4=BH42),BK49*$B$2,0)","v":0},{"$f":"IF(AND(BL$43<=$B$2,$B$2<BM$43,$B$3=$A$10,$B$4=BH42),BL49*$B$2,0)","v":0},{"$f":"IF(AND(BM$43<=$B$2,$B$2<BN$43,$B$3=$A$10,$B$4=BH42),BM49*$B$2,0)","v":0},{"$f":"IF(AND(BN$43<=$B$2,$B$3=$A$10,$B$4=BH42),BN49*$B$2,0)","v":0},null,null,null,null,null,36,0,{"$f":"IF(AND(BV$43<=$B$2,$B$2<BW$43,$B$3=$A$10,$B$4=BT42),BV49*$B$2,0)","v":0},{"$f":"IF(AND(BW$43<=$B$2,$B$2<BX$43,$B$3=$A$10,$B$4=BT42),BW49*$B$2,0)","v":0},{"$f":"IF(AND(BX$43<=$B$2,$B$2<BY$43,$B$3=$A$10,$B$4=BT42),BX49*$B$2,0)","v":0},{"$f":"IF(AND(BY$43<=$B$2,$B$2<BZ$43,$B$3=$A$10,$B$4=BT42),BY49*$B$2,0)","v":0},{"$f":"IF(AND(BZ$43<=$B$2,$B$3=$A$10,$B$4=BT42),BZ49*$B$2,0)","v":0},null,36,0,{"$f":"IF(AND(CD$43<=$B$2,$B$2<CE$43,$B$3=$A$10,$B$4=CB42),CD49*$B$2,0)","v":0},{"$f":"IF(AND(CE$43<=$B$2,$B$2<CF$43,$B$3=$A$10,$B$4=CB42),CE49*$B$2,0)","v":0},{"$f":"IF(AND(CF$43<=$B$2,$B$2<CG$43,$B$3=$A$10,$B$4=CB42),CF49*$B$2,0)","v":0},{"$f":"IF(AND(CG$43<=$B$2,$B$2<CH$43,$B$3=$A$10,$B$4=CB42),CG49*$B$2,0)","v":0},{"$f":"IF(AND(CH$43<=$B$2,$B$3=$A$10,$B$4=CB42),CH49*$B$2,0)","v":0},null,36,0,{"$f":"IF(AND(CL$43<=$B$2,$B$2<CM$43,$B$3=$A$10,$B$4=CJ42),CL49*$B$2,0)","v":0},{"$f":"IF(AND(CM$43<=$B$2,$B$2<CN$43,$B$3=$A$10,$B$4=CJ42),CM49*$B$2,0)","v":0},{"$f":"IF(AND(CN$43<=$B$2,$B$2<CO$43,$B$3=$A$10,$B$4=CJ42),CN49*$B$2,0)","v":0},{"$f":"IF(AND(CO$43<=$B$2,$B$2<CP$43,$B$3=$A$10,$B$4=CJ42),CO49*$B$2,0)","v":0},{"$f":"IF(AND(CP$43<=$B$2,$B$3=$A$10,$B$4=CJ42),CP49*$B$2,0)","v":0},null,36,0,{"$f":"IF(AND(CT$43<=$B$2,$B$2<CU$43,$B$3=$A$10,$B$4=CR42),CT49*$B$2,0)","v":0},{"$f":"IF(AND(CU$43<=$B$2,$B$2<CV$43,$B$3=$A$10,$B$4=CR42),CU49*$B$2,0)","v":0},{"$f":"IF(AND(CV$43<=$B$2,$B$2<CW$43,$B$3=$A$10,$B$4=CR42),CV49*$B$2,0)","v":0},{"$f":"IF(AND(CW$43<=$B$2,$B$2<CX$43,$B$3=$A$10,$B$4=CR42),CW49*$B$2,0)","v":0},{"$f":"IF(AND(CX$43<=$B$2,$B$3=$A$10,$B$4=CR42),CX49*$B$2,0)","v":0}]
["FWEF:  60-days no pmt",null,null,48,0,{"$f":"IF(AND(F$43<=$B$2,$B$2<G$43,$B$3=$A$11,$B$4=D42),F50*$B$2,0)","v":0},{"$f":"IF(AND(G$43<=$B$2,$B$2<H$43,$B$3=$A$11,$B$4=D42),G50*$B$2,0)","v":0},{"$f":"IF(AND(H$43<=$B$2,$B$2<I$43,$B$3=$A$11,$B$4=D42),H50*$B$2,0)","v":0},{"$f":"IF(AND(I$43<=$B$2,$B$2<J$43,$B$3=$A$11,$B$4=D42),I50*$B$2,0)","v":0},{"$f":"IF(AND(J$43<=$B$2,$B$3=$A$11,$B$4=D42),J50*$B$2,0)","v":0},null,48,0,{"$f":"IF(AND(N$43<=$B$2,$B$2<O$43,$B$3=$A$11,$B$4=L42),N50*$B$2,0)","v":0},{"$f":"IF(AND(O$43<=$B$2,$B$2<P$43,$B$3=$A$11,$B$4=L42),O50*$B$2,0)","v":0},{"$f":"IF(AND(P$43<=$B$2,$B$2<Q$43,$B$3=$A$11,$B$4=L42),P50*$B$2,0)","v":0},{"$f":"IF(AND(Q$43<=$B$2,$B$2<R$43,$B$3=$A$11,$B$4=L42),Q50*$B$2,0)","v":0},{"$f":"IF(AND(R$43<=$B$2,$B$3=$A$11,$B$4=L42),R50*$B$2,0)","v":0},null,48,0,{"$f":"IF(AND(V$43<=$B$2,$B$2<W$43,$B$3=$A$11,$B$4=T42),V50*$B$2,0)","v":0},{"$f":"IF(AND(W$43<=$B$2,$B$2<X$43,$B$3=$A$11,$B$4=T42),W50*$B$2,0)","v":0},{"$f":"IF(AND(X$43<=$B$2,$B$2<Y$43,$B$3=$A$11,$B$4=T42),X50*$B$2,0)","v":0},{"$f":"IF(AND(Y$43<=$B$2,$B$2<Z$43,$B$3=$A$11,$B$4=T42),Y50*$B$2,0)","v":0},{"$f":"IF(AND(Z$43<=$B$2,$B$3=$A$11,$B$4=T42),Z50*$B$2,0)","v":0},null,48,0,{"$f":"IF(AND(AD$43<=$B$2,$B$2<AE$43,$B$3=$A$11,$B$4=AB42),AD50*$B$2,0)","v":0},{"$f":"IF(AND(AE$43<=$B$2,$B$2<AF$43,$B$3=$A$11,$B$4=AB42),AE50*$B$2,0)","v":0},{"$f":"IF(AND(AF$43<=$B$2,$B$2<AG$43,$B$3=$A$11,$B$4=AB42),AF50*$B$2,0)","v":0},{"$f":"IF(AND(AG$43<=$B$2,$B$2<AH$43,$B$3=$A$11,$B$4=AB42),AG50*$B$2,0)","v":0},{"$f":"IF(AND(AH$43<=$B$2,$B$3=$A$11,$B$4=AB42),AH50*$B$2,0)","v":0},null,48,0,{"$f":"IF(AND(AL$43<=$B$2,$B$2<AM$43,$B$3=$A$11,$B$4=AJ42),AL50*$B$2,0)","v":0},{"$f":"IF(AND(AM$43<=$B$2,$B$2<AN$43,$B$3=$A$11,$B$4=AJ42),AM50*$B$2,0)","v":0},{"$f":"IF(AND(AN$43<=$B$2,$B$2<AO$43,$B$3=$A$11,$B$4=AJ42),AN50*$B$2,0)","v":0},{"$f":"IF(AND(AO$43<=$B$2,$B$2<AP$43,$B$3=$A$11,$B$4=AJ42),AO50*$B$2,0)","v":0},{"$f":"IF(AND(AP$43<=$B$2,$B$3=$A$11,$B$4=AJ42),AP50*$B$2,0)","v":0},null,48,0,{"$f":"IF(AND(AT$43<=$B$2,$B$2<AU$43,$B$3=$A$11,$B$4=AR42),AT50*$B$2,0)","v":0},{"$f":"IF(AND(AU$43<=$B$2,$B$2<AV$43,$B$3=$A$11,$B$4=AR42),AU50*$B$2,0)","v":0},{"$f":"IF(AND(AV$43<=$B$2,$B$2<AW$43,$B$3=$A$11,$B$4=AR42),AV50*$B$2,0)","v":0},{"$f":"IF(AND(AW$43<=$B$2,$B$2<AX$43,$B$3=$A$11,$B$4=AR42),AW50*$B$2,0)","v":0},{"$f":"IF(AND(AX$43<=$B$2,$B$3=$A$11,$B$4=AR42),AX50*$B$2,0)","v":0},null,null,0,null,null,null,null,null,null,48,0,{"$f":"IF(AND(BJ$43<=$B$2,$B$2<BK$43,$B$3=$A$11,$B$4=BH42),BJ50*$B$2,0)","v":0},{"$f":"IF(AND(BK$43<=$B$2,$B$2<BL$43,$B$3=$A$11,$B$4=BH42),BK50*$B$2,0)","v":0},{"$f":"IF(AND(BL$43<=$B$2,$B$2<BM$43,$B$3=$A$11,$B$4=BH42),BL50*$B$2,0)","v":0},{"$f":"IF(AND(BM$43<=$B$2,$B$2<BN$43,$B$3=$A$11,$B$4=BH42),BM50*$B$2,0)","v":0},{"$f":"IF(AND(BN$43<=$B$2,$B$3=$A$11,$B$4=BH42),BN50*$B$2,0)","v":0},null,null,null,null,null,48,0,{"$f":"IF(AND(BV$43<=$B$2,$B$2<BW$43,$B$3=$A$11,$B$4=BT42),BV50*$B$2,0)","v":0},{"$f":"IF(AND(BW$43<=$B$2,$B$2<BX$43,$B$3=$A$11,$B$4=BT42),BW50*$B$2,0)","v":0},{"$f":"IF(AND(BX$43<=$B$2,$B$2<BY$43,$B$3=$A$11,$B$4=BT42),BX50*$B$2,0)","v":0},{"$f":"IF(AND(BY$43<=$B$2,$B$2<BZ$43,$B$3=$A$11,$B$4=BT42),BY50*$B$2,0)","v":0},{"$f":"IF(AND(BZ$43<=$B$2,$B$3=$A$11,$B$4=BT42),BZ50*$B$2,0)","v":0},null,48,0,{"$f":"IF(AND(CD$43<=$B$2,$B$2<CE$43,$B$3=$A$11,$B$4=CB42),CD50*$B$2,0)","v":0},{"$f":"IF(AND(CE$43<=$B$2,$B$2<CF$43,$B$3=$A$11,$B$4=CB42),CE50*$B$2,0)","v":0},{"$f":"IF(AND(CF$43<=$B$2,$B$2<CG$43,$B$3=$A$11,$B$4=CB42),CF50*$B$2,0)","v":0},{"$f":"IF(AND(CG$43<=$B$2,$B$2<CH$43,$B$3=$A$11,$B$4=CB42),CG50*$B$2,0)","v":0},{"$f":"IF(AND(CH$43<=$B$2,$B$3=$A$11,$B$4=CB42),CH50*$B$2,0)","v":0},null,48,0,{"$f":"IF(AND(CL$43<=$B$2,$B$2<CM$43,$B$3=$A$11,$B$4=CJ42),CL50*$B$2,0)","v":0},{"$f":"IF(AND(CM$43<=$B$2,$B$2<CN$43,$B$3=$A$11,$B$4=CJ42),CM50*$B$2,0)","v":0},{"$f":"IF(AND(CN$43<=$B$2,$B$2<CO$43,$B$3=$A$11,$B$4=CJ42),CN50*$B$2,0)","v":0},{"$f":"IF(AND(CO$43<=$B$2,$B$2<CP$43,$B$3=$A$11,$B$4=CJ42),CO50*$B$2,0)","v":0},{"$f":"IF(AND(CP$43<=$B$2,$B$3=$A$11,$B$4=CJ42),CP50*$B$2,0)","v":0},null,48,0,{"$f":"IF(AND(CT$43<=$B$2,$B$2<CU$43,$B$3=$A$11,$B$4=CR42),CT50*$B$2,0)","v":0},{"$f":"IF(AND(CU$43<=$B$2,$B$2<CV$43,$B$3=$A$11,$B$4=CR42),CU50*$B$2,0)","v":0},{"$f":"IF(AND(CV$43<=$B$2,$B$2<CW$43,$B$3=$A$11,$B$4=CR42),CV50*$B$2,0)","v":0},{"$f":"IF(AND(CW$43<=$B$2,$B$2<CX$43,$B$3=$A$11,$B$4=CR42),CW50*$B$2,0)","v":0},{"$f":"IF(AND(CX$43<=$B$2,$B$3=$A$11,$B$4=CR42),CX50*$B$2,0)","v":0}]
["FWEF:  Municipal Lease",null,null,60,0,{"$f":"IF(AND(F$43<=$B$2,$B$2<G$43,$B$3=$A$12,$B$4=D42),F51*$B$2,0)","v":0},{"$f":"IF(AND(G$43<=$B$2,$B$2<H$43,$B$3=$A$12,$B$4=D42),G51*$B$2,0)","v":0},{"$f":"IF(AND(H$43<=$B$2,$B$2<I$43,$B$3=$A$12,$B$4=D42),H51*$B$2,0)","v":0},{"$f":"IF(AND(I$43<=$B$2,$B$2<J$43,$B$3=$A$12,$B$4=D42),I51*$B$2,0)","v":0},{"$f":"IF(AND(J$43<=$B$2,$B$3=$A$12,$B$4=D42),J51*$B$2,0)","v":0},null,60,0,{"$f":"IF(AND(N$43<=$B$2,$B$2<O$43,$B$3=$A$12,$B$4=L42),N51*$B$2,0)","v":0},{"$f":"IF(AND(O$43<=$B$2,$B$2<P$43,$B$3=$A$12,$B$4=L42),O51*$B$2,0)","v":0},{"$f":"IF(AND(P$43<=$B$2,$B$2<Q$43,$B$3=$A$12,$B$4=L42),P51*$B$2,0)","v":0},{"$f":"IF(AND(Q$43<=$B$2,$B$2<R$43,$B$3=$A$12,$B$4=L42),Q51*$B$2,0)","v":0},{"$f":"IF(AND(R$43<=$B$2,$B$3=$A$12,$B$4=L42),R51*$B$2,0)","v":0},null,60,0,{"$f":"IF(AND(V$43<=$B$2,$B$2<W$43,$B$3=$A$12,$B$4=T42),V51*$B$2,0)","v":0},{"$f":"IF(AND(W$43<=$B$2,$B$2<X$43,$B$3=$A$12,$B$4=T42),W51*$B$2,0)","v":0},{"$f":"IF(AND(X$43<=$B$2,$B$2<Y$43,$B$3=$A$12,$B$4=T42),X51*$B$2,0)","v":0},{"$f":"IF(AND(Y$43<=$B$2,$B$2<Z$43,$B$3=$A$12,$B$4=T42),Y51*$B$2,0)","v":0},{"$f":"IF(AND(Z$43<=$B$2,$B$3=$A$12,$B$4=T42),Z51*$B$2,0)","v":0},null,60,0,{"$f":"IF(AND(AD$43<=$B$2,$B$2<AE$43,$B$3=$A$12,$B$4=AB42),AD51*$B$2,0)","v":0},{"$f":"IF(AND(AE$43<=$B$2,$B$2<AF$43,$B$3=$A$12,$B$4=AB42),AE51*$B$2,0)","v":0},{"$f":"IF(AND(AF$43<=$B$2,$B$2<AG$43,$B$3=$A$12,$B$4=AB42),AF51*$B$2,0)","v":0},{"$f":"IF(AND(AG$43<=$B$2,$B$2<AH$43,$B$3=$A$12,$B$4=AB42),AG51*$B$2,0)","v":0},{"$f":"IF(AND(AH$43<=$B$2,$B$3=$A$12,$B$4=AB42),AH51*$B$2,0)","v":0},null,60,0,{"$f":"IF(AND(AL$43<=$B$2,$B$2<AM$43,$B$3=$A$12,$B$4=AJ42),AL51*$B$2,0)","v":0},{"$f":"IF(AND(AM$43<=$B$2,$B$2<AN$43,$B$3=$A$12,$B$4=AJ42),AM51*$B$2,0)","v":0},{"$f":"IF(AND(AN$43<=$B$2,$B$2<AO$43,$B$3=$A$12,$B$4=AJ42),AN51*$B$2,0)","v":0},{"$f":"IF(AND(AO$43<=$B$2,$B$2<AP$43,$B$3=$A$12,$B$4=AJ42),AO51*$B$2,0)","v":0},{"$f":"IF(AND(AP$43<=$B$2,$B$3=$A$12,$B$4=AJ42),AP51*$B$2,0)","v":0},null,60,0,{"$f":"IF(AND(AT$43<=$B$2,$B$2<AU$43,$B$3=$A$12,$B$4=AR42),AT51*$B$2,0)","v":0},{"$f":"IF(AND(AU$43<=$B$2,$B$2<AV$43,$B$3=$A$12,$B$4=AR42),AU51*$B$2,0)","v":0},{"$f":"IF(AND(AV$43<=$B$2,$B$2<AW$43,$B$3=$A$12,$B$4=AR42),AV51*$B$2,0)","v":0},{"$f":"IF(AND(AW$43<=$B$2,$B$2<AX$43,$B$3=$A$12,$B$4=AR42),AW51*$B$2,0)","v":0},{"$f":"IF(AND(AX$43<=$B$2,$B$3=$A$12,$B$4=AR42),AX51*$B$2,0)","v":0},null,null,0,null,null,null,null,null,null,60,0,{"$f":"IF(AND(BJ$43<=$B$2,$B$2<BK$43,$B$3=$A$12,$B$4=BH42),BJ51*$B$2,0)","v":0},{"$f":"IF(AND(BK$43<=$B$2,$B$2<BL$43,$B$3=$A$12,$B$4=BH42),BK51*$B$2,0)","v":0},{"$f":"IF(AND(BL$43<=$B$2,$B$2<BM$43,$B$3=$A$12,$B$4=BH42),BL51*$B$2,0)","v":0},{"$f":"IF(AND(BM$43<=$B$2,$B$2<BN$43,$B$3=$A$12,$B$4=BH42),BM51*$B$2,0)","v":0},{"$f":"IF(AND(BN$43<=$B$2,$B$3=$A$12,$B$4=BH42),BN51*$B$2,0)","v":0},null,null,null,null,null,60,0,{"$f":"IF(AND(BV$43<=$B$2,$B$2<BW$43,$B$3=$A$12,$B$4=BT42),BV51*$B$2,0)","v":0},{"$f":"IF(AND(BW$43<=$B$2,$B$2<BX$43,$B$3=$A$12,$B$4=BT42),BW51*$B$2,0)","v":0},{"$f":"IF(AND(BX$43<=$B$2,$B$2<BY$43,$B$3=$A$12,$B$4=BT42),BX51*$B$2,0)","v":0},{"$f":"IF(AND(BY$43<=$B$2,$B$2<BZ$43,$B$3=$A$12,$B$4=BT42),BY51*$B$2,0)","v":0},{"$f":"IF(AND(BZ$43<=$B$2,$B$3=$A$12,$B$4=BT42),BZ51*$B$2,0)","v":0},null,60,0,{"$f":"IF(AND(CD$43<=$B$2,$B$2<CE$43,$B$3=$A$12,$B$4=CB42),CD51*$B$2,0)","v":0},{"$f":"IF(AND(CE$43<=$B$2,$B$2<CF$43,$B$3=$A$12,$B$4=CB42),CE51*$B$2,0)","v":0},{"$f":"IF(AND(CF$43<=$B$2,$B$2<CG$43,$B$3=$A$12,$B$4=CB42),CF51*$B$2,0)","v":0},{"$f":"IF(AND(CG$43<=$B$2,$B$2<CH$43,$B$3=$A$12,$B$4=CB42),CG51*$B$2,0)","v":0},{"$f":"IF(AND(CH$43<=$B$2,$B$3=$A$12,$B$4=CB42),CH51*$B$2,0)","v":0},null,60,0,{"$f":"IF(AND(CL$43<=$B$2,$B$2<CM$43,$B$3=$A$12,$B$4=CJ42),CL51*$B$2,0)","v":0},{"$f":"IF(AND(CM$43<=$B$2,$B$2<CN$43,$B$3=$A$12,$B$4=CJ42),CM51*$B$2,0)","v":0},{"$f":"IF(AND(CN$43<=$B$2,$B$2<CO$43,$B$3=$A$12,$B$4=CJ42),CN51*$B$2,0)","v":0},{"$f":"IF(AND(CO$43<=$B$2,$B$2<CP$43,$B$3=$A$12,$B$4=CJ42),CO51*$B$2,0)","v":0},{"$f":"IF(AND(CP$43<=$B$2,$B$3=$A$12,$B$4=CJ42),CP51*$B$2,0)","v":0},null,60,0,{"$f":"IF(AND(CT$43<=$B$2,$B$2<CU$43,$B$3=$A$12,$B$4=CR42),CT51*$B$2,0)","v":0},{"$f":"IF(AND(CU$43<=$B$2,$B$2<CV$43,$B$3=$A$12,$B$4=CR42),CU51*$B$2,0)","v":0},{"$f":"IF(AND(CV$43<=$B$2,$B$2<CW$43,$B$3=$A$12,$B$4=CR42),CV51*$B$2,0)","v":0},{"$f":"IF(AND(CW$43<=$B$2,$B$2<CX$43,$B$3=$A$12,$B$4=CR42),CW51*$B$2,0)","v":0},{"$f":"IF(AND(CX$43<=$B$2,$B$3=$A$12,$B$4=CR42),CX51*$B$2,0)","v":0}]
["FWEF:  $1 Buyout Lease",null,null,{"$f":"SUM(F59:CX59)","v":0},null,{"$f":"SUM(F53:F58)","v":0},{"$f":"SUM(G53:G58)","v":0},{"$f":"SUM(H53:H58)","v":0},{"$f":"SUM(I53:I58)","v":0},{"$f":"SUM(J53:J58)","v":0},null,null,null,{"$f":"SUM(N53:N58)","v":0},{"$f":"SUM(O53:O58)","v":0},{"$f":"SUM(P53:P58)","v":0},{"$f":"SUM(Q53:Q58)","v":0},{"$f":"SUM(R53:R58)","v":0},null,null,null,{"$f":"SUM(V53:V58)","v":0},{"$f":"SUM(W53:W58)","v":0},{"$f":"SUM(X53:X58)","v":0},{"$f":"SUM(Y53:Y58)","v":0},{"$f":"SUM(Z53:Z58)","v":0},null,null,null,{"$f":"SUM(AD53:AD58)","v":0},{"$f":"SUM(AE53:AE58)","v":0},{"$f":"SUM(AF53:AF58)","v":0},{"$f":"SUM(AG53:AG58)","v":0},{"$f":"SUM(AH53:AH58)","v":0},null,null,null,{"$f":"SUM(AL53:AL58)","v":0},{"$f":"SUM(AM53:AM58)","v":0},{"$f":"SUM(AN53:AN58)","v":0},{"$f":"SUM(AO53:AO58)","v":0},{"$f":"SUM(AP53:AP58)","v":0},null,null,null,{"$f":"SUM(AT53:AT58)","v":0},{"$f":"SUM(AU53:AU58)","v":0},{"$f":"SUM(AV53:AV58)","v":0},{"$f":"SUM(AW53:AW58)","v":0},{"$f":"SUM(AX53:AX58)","v":0},null,null,null,{"$f":"SUM(BB53:BB58)","v":0},{"$f":"SUM(BC53:BC58)","v":0},{"$f":"SUM(BD53:BD58)","v":0},{"$f":"SUM(BE53:BE58)","v":0},{"$f":"SUM(BF53:BF58)","v":0},null,null,null,{"$f":"SUM(BJ53:BJ58)","v":0},{"$f":"SUM(BK53:BK58)","v":0},{"$f":"SUM(BL53:BL58)","v":0},{"$f":"SUM(BM53:BM58)","v":0},{"$f":"SUM(BN53:BN58)","v":0},null,null,null,{"$f":"SUM(BR53:BR58)","v":0},null,null,null,{"$f":"SUM(BV53:BV58)","v":0},{"$f":"SUM(BW53:BW58)","v":0},{"$f":"SUM(BX53:BX58)","v":0},{"$f":"SUM(BY53:BY58)","v":0},{"$f":"SUM(BZ53:BZ58)","v":0},null,null,null,{"$f":"SUM(CD53:CD58)","v":0},{"$f":"SUM(CE53:CE58)","v":0},{"$f":"SUM(CF53:CF58)","v":0},{"$f":"SUM(CG53:CG58)","v":0},{"$f":"SUM(CH53:CH58)","v":0},null,null,null,{"$f":"SUM(CL53:CL58)","v":0},{"$f":"SUM(CM53:CM58)","v":0},{"$f":"SUM(CN53:CN58)","v":0},{"$f":"SUM(CO53:CO58)","v":0},{"$f":"SUM(CP53:CP58)","v":0},null,null,null,{"$f":"SUM(CT53:CT58)","v":0},{"$f":"SUM(CU53:CU58)","v":0},{"$f":"SUM(CV53:CV58)","v":0},{"$f":"SUM(CW53:CW58)","v":0},{"$f":"SUM(CX53:CX58)","v":0}]
["FWEF:  Fair Market Value Lease"]
["FWEF:  Short-term / Rent-to-own"]
[]
[]
[]
[]
[]
[]
[]
[]
["PurchaseOptIPC"]
["None"]
["$1 Buyout Lease"]
["$1 Buyout Lease - 90 days no pmt"]
["Municipal $1 Buyout Lease - Monthly Pmt"]
["Municipal $1 Buyout Lease - Annual Pmt"]
["FWEF:  60-days no pmt"]
["FWEF:  Municipal Lease"]
["FWEF:  $1 Buyout Lease"]
["FWEF:  Short-term / Rent-to-own"]

{"sheet":"FlexCleanCalc","index":37,"n_rows":118,"n_cols":47,"rows_kept":118,"cut":false,"hidden":true,"merged":[[117,8,117,9],[117,16,117,17],[117,24,117,25],[117,32,117,33],[117,40,117,41],[106,8,106,14],[106,16,106,22],[106,24,106,30],[106,32,106,38],[106,40,106,46],[103,8,103,9],[103,16,103,17],[103,24,103,25],[103,32,103,33],[103,40,103,41],[92,8,92,14],[92,16,92,22],[92,24,92,30],[92,32,92,38],[92,40,92,46],[87,8,87,9],[87,16,87,17],[87,24,87,25],[87,32,87,33],[87,40,87,41],[73,8,73,9],[73,16,73,17],[73,24,73,25],[73,32,73,33],[73,40,73,41],[76,8,76,14],[76,16,76,22],[76,24,76,30],[76,32,76,38],[76,40,76,46],[47,40,47,46],[47,8,47,14],[47,16,47,22],[62,8,62,14],[62,16,62,22],[62,24,62,30],[62,32,62,38],[62,40,62,46],[58,8,58,9],[58,16,58,17],[47,24,47,30],[47,32,47,38],[58,24,58,25],[58,32,58,33],[58,40,58,41],[49,1,49,2],[49,3,49,4],[46,1,46,2],[46,3,46,4],[47,1,47,2],[47,3,47,4],[48,1,48,2],[48,3,48,4],[44,3,44,4],[45,1,45,2],[28,40,28,41],[17,24,17,30],[17,16,17,22],[39,1,39,2],[42,8,42,9],[42,16,42,17],[42,24,42,25],[42,40,42,41],[40,1,40,2],[31,8,31,14],[31,16,31,22],[31,24,31,30],[31,32,31,38],[31,40,31,46],[38,1,38,2],[33,1,33,2],[37,1,37,2],[42,32,42,33],[41,1,41,2],[25,1,25,2],[26,1,26,2],[27,1,27,2],[28,1,28,2],[36,1,36,2],[13,40,13,41],[2,8,2,14],[2,16,2,22],[2,24,2,30],[2,32,2,38],[2,40,2,46],[13,16,13,17],[24,1,24,2],[22,1,22,2],[17,8,17,14],[13,8,13,9],[13,24,13,25],[17,32,17,38],[17,40,17,46],[35,1,35,2],[29,1,29,2],[30,1,30,2],[44,1,44,2],[13,32,13,33],[28,8,28,9],[28,16,28,17],[28,24,28,25],[28,32,28,33]]}
["Machine Total: ",0,null,"*Hour*","Term",null,null,null,{"$f":"Financing!C8","v":"US Bank"}]
["Region, Country: ","US - All Other",null,"300 Hours/Yr","36 Month Term",null,null,null,"FMV Sweeper"]
["Term: ","36 Month Term",null,"480 Hours/Yr","48 Month Term",null,null,null,"300 Hours/Yr",null,null,null,null,null,null,null,"480 Hours/Yr",null,null,null,null,null,null,null,"720 Hours/Yr",null,null,null,null,null,null,null,"960 Hours/Yr",null,null,null,null,null,null,null,"1200 Hours/Yr"]
["Material: ","GM400",null,"720 Hours/Yr","60 Month Term",null,null,null,null,null,3000,10000,25000,50000,100000,null,null,null,3000,10000,25000,50000,100000,null,null,null,3000,10000,25000,50000,100000,null,null,null,3000,10000,25000,50000,100000,null,null,null,3000,10000,25000,50000,100000]
["Type: ","Sweeper",null,"960 Hours/Yr",null,null,null,null,null,null,"to","to","to","to","to",null,null,null,"to","to","to","to","to",null,null,null,"to","to","to","to","to",null,null,null,"to","to","to","to","to",null,null,null,"to","to","to","to","to"]
["Finance Partner:","Select a Finance Partner",null,"1200 Hours/Yr",null,null,null,null,"Term","Adv",9999,24999,49999,99999,null,null,"Term","Adv",9999,24999,49999,99999,null,null,"Term","Adv",9999,24999,49999,99999,null,null,"Term","Adv",9999,24999,49999,99999,null,null,"Term","Adv",9999,24999,49999,99999]
["Type 2:","Rider",null,"125 and 150 use 100 hours rates",null,null,null,null,36,0,{"$f":"SUM(Financing!$N8)","v":2.6687637323342998E-2},{"$f":"SUM(Financing!$O8)","v":2.6411402201262001E-2},{"$f":"SUM(Financing!$P8)","v":2.6135987322889E-2},{"$f":"SUM(Financing!$Q8)","v":2.5998587805807001E-2},{"$f":"SUM(Financing!$R8)","v":2.5927221244108001E-2},null,36,0,{"$f":"SUM(Financing!$N8)","v":2.6687637323342998E-2},{"$f":"SUM(Financing!$O8)","v":2.6411402201262001E-2},{"$f":"SUM(Financing!$P8)","v":2.6135987322889E-2},{"$f":"SUM(Financing!$Q8)","v":2.5998587805807001E-2},{"$f":"SUM(Financing!$R8)","v":2.5927221244108001E-2},null,36,0,{"$f":"SUM(Financing!$N8)","v":2.6687637323342998E-2},{"$f":"SUM(Financing!$O8)","v":2.6411402201262001E-2},{"$f":"SUM(Financing!$P8)","v":2.6135987322889E-2},{"$f":"SUM(Financing!$Q8)","v":2.5998587805807001E-2},{"$f":"SUM(Financing!$R8)","v":2.5927221244108001E-2},null,36,0,{"$f":"SUM(Financing!$N8)","v":2.6687637323342998E-2},{"$f":"SUM(Financing!$O8)","v":2.6411402201262001E-2},{"$f":"SUM(Financing!$P8)","v":2.6135987322889E-2},{"$f":"SUM(Financing!$Q8)","v":2.5998587805807001E-2},{"$f":"SUM(Financing!$R8)","v":2.5927221244108001E-2},null,36,0,{"$f":"SUM(Financing!$N8)","v":2.6687637323342998E-2},{"$f":"SUM(Financing!$O8)","v":2.6411402201262001E-2},{"$f":"SUM(Financing!$P8)","v":2.6135987322889E-2},{"$f":"SUM(Financing!$Q8)","v":2.5998587805807001E-2},{"$f":"SUM(Financing!$R8)","v":2.5927221244108001E-2}]
["Flexclean term colum",13,null,null,null,null,null,null,48,0,{"$f":"SUM(Financing!$N9)","v":2.2020533305850999E-2},{"$f":"SUM(Financing!$O9)","v":2.1752789092867E-2},{"$f":"SUM(Financing!$P9)","v":2.1619356586115E-2},{"$f":"SUM(Financing!$Q9)","v":2.1539437905125001E-2},{"$f":"SUM(Financing!$R9)","v":2.1502178685097E-2},null,48,0,{"$f":"SUM(Financing!$N9)","v":2.2020533305850999E-2},{"$f":"SUM(Financing!$O9)","v":2.1752789092867E-2},{"$f":"SUM(Financing!$P9)","v":2.1619356586115E-2},{"$f":"SUM(Financing!$Q9)","v":2.1539437905125001E-2},{"$f":"SUM(Financing!$R9)","v":2.1502178685097E-2},null,48,0,{"$f":"SUM(Financing!$N9)","v":2.2020533305850999E-2},{"$f":"SUM(Financing!$O9)","v":2.1752789092867E-2},{"$f":"SUM(Financing!$P9)","v":2.1619356586115E-2},{"$f":"SUM(Financing!$Q9)","v":2.1539437905125001E-2},{"$f":"SUM(Financing!$R9)","v":2.1502178685097E-2},null,48,0,{"$f":"SUM(Financing!$N9)","v":2.2020533305850999E-2},{"$f":"SUM(Financing!$O9)","v":2.1752789092867E-2},{"$f":"SUM(Financing!$P9)","v":2.1619356586115E-2},{"$f":"SUM(Financing!$Q9)","v":2.1539437905125001E-2},{"$f":"SUM(Financing!$R9)","v":2.1502178685097E-2},null,48,0,{"$f":"SUM(Financing!$N9)","v":2.2020533305850999E-2},{"$f":"SUM(Financing!$O9)","v":2.1752789092867E-2},{"$f":"SUM(Financing!$P9)","v":2.1619356586115E-2},{"$f":"SUM(Financing!$Q9)","v":2.1539437905125001E-2},{"$f":"SUM(Financing!$R9)","v":2.1502178685097E-2}]
[null,null,null,null,null,null,null,null,60,0,{"$f":"SUM(Financing!$N10)","v":1.9077648404985E-2},{"$f":"SUM(Financing!$O10)","v":1.8946360036496999E-2},{"$f":"SUM(Financing!$P10)","v":1.8815457339624E-2},{"$f":"SUM(Financing!$Q10)","v":1.8684940787974998E-2},{"$f":"SUM(Financing!$R10)","v":1.8674516159245001E-2},null,48,0,{"$f":"SUM(Financing!$N10)","v":1.9077648404985E-2},{"$f":"SUM(Financing!$O10)","v":1.8946360036496999E-2},{"$f":"SUM(Financing!$P10)","v":1.8815457339624E-2},{"$f":"SUM(Financing!$Q10)","v":1.8684940787974998E-2},{"$f":"SUM(Financing!$R10)","v":1.8674516159245001E-2},null,48,0,{"$f":"SUM(Financing!$N10)","v":1.9077648404985E-2},{"$f":"SUM(Financing!$O10)","v":1.8946360036496999E-2},{"$f":"SUM(Financing!$P10)","v":1.8815457339624E-2},{"$f":"SUM(Financing!$Q10)","v":1.8684940787974998E-2},{"$f":"SUM(Financing!$R10)","v":1.8674516159245001E-2},null,48,0,{"$f":"SUM(Financing!$N10)","v":1.9077648404985E-2},{"$f":"SUM(Financing!$O10)","v":1.8946360036496999E-2},{"$f":"SUM(Financing!$P10)","v":1.8815457339624E-2},{"$f":"SUM(Financing!$Q10)","v":1.8684940787974998E-2},{"$f":"SUM(Financing!$R10)","v":1.8674516159245001E-2},null,48,0,{"$f":"SUM(Financing!$N10)","v":1.9077648404985E-2},{"$f":"SUM(Financing!$O10)","v":1.8946360036496999E-2},{"$f":"SUM(Financing!$P10)","v":1.8815457339624E-2},{"$f":"SUM(Financing!$Q10)","v":1.8684940787974998E-2},{"$f":"SUM(Financing!$R10)","v":1.8674516159245001E-2}]
[null,{"$f":"VLOOKUP((VLOOKUP($B$2,FlexCleanRegions,2,FALSE)&((5)))&$B$4, FlexCleanRates, 13, FALSE)","v":"1BO"},null,"Type:","Finance Partner:"]
[null,null,null,"Sweeper",{"$f":"Financing!C8","v":"US Bank"},null,null,null,36,0,{"$f":"IF(AND(K$4<=$B$1,$B$1<L$4,$B3=$E2, $B5=$D11),IF(K7 = \"NA\", 0,K7*$B$1),0)","v":0},{"$f":"IF(AND(L$4<=$B$1,$B$1<M$4,$B3=$E2, $B5=$D11),IF(L7 = \"NA\", 0,L7*$B$1),0)","v":0},{"$f":"IF(AND(M$4<=$B$1,$B$1<N$4,$B3=$E2, $B5=$D11),IF(M7 = \"NA\", 0,M7*$B$1),0)","v":0},{"$f":"IF(AND(N$4<=$B$1,$B$1<O$4,$B3=$E2, $B5=$D11),IF(N7 = \"NA\", 0,N7*$B$1),0)","v":0},{"$f":"IF(AND(O$4<=$B$1,$B3=$E2, $B5=$D11),IF(O7 = \"NA\", 0,O7*$B$1),0)","v":0},null,36,0,{"$f":"IF(AND(S$4<=$B$1,$B$1<T$4,$B3=$E2, $B5=$D11),IF(S7 = \"NA\", 0,S7*$B$1),0)","v":0},{"$f":"IF(AND(T$4<=$B$1,$B$1<U$4,$B3=$E2, $B5=$D11),IF(T7 = \"NA\", 0,T7*$B$1),0)","v":0},{"$f":"IF(AND(U$4<=$B$1,$B$1<V$4,$B3=$E2, $B5=$D11),IF(U7 = \"NA\", 0,U7*$B$1),0)","v":0},{"$f":"IF(AND(V$4<=$B$1,$B$1<W$4,$B3=$E2, $B5=$D11),IF(V7 = \"NA\", 0,V7*$B$1),0)","v":0},{"$f":"IF(AND(W$4<=$B$1,$B3=$E2, $B5=$D11),IF(W7 = \"NA\", 0,W7*$B$1),0)","v":0},null,36,0,{"$f":"IF(AND(AA$4<=$B$1,$B$1<AB$4,$B3=$E2, $B5=$D11),IF(AA7 = \"NA\", 0,AA7*$B$1),0)","v":0},{"$f":"IF(AND(AB$4<=$B$1,$B$1<AC$4,$B3=$E2, $B5=$D11),IF(AB7 = \"NA\", 0,AB7*$B$1),0)","v":0},{"$f":"IF(AND(AC$4<=$B$1,$B$1<AD$4,$B3=$E2, $B5=$D11),IF(AC7 = \"NA\", 0,AC7*$B$1),0)","v":0},{"$f":"IF(AND(AD$4<=$B$1,$B$1<AE$4,$B3=$E2, $B5=$D11),IF(AD7 = \"NA\", 0,AD7*$B$1),0)","v":0},{"$f":"IF(AND(AE$4<=$B$1,$B3=$E2, $B5=$D11),IF(AE7 = \"NA\", 0,AE7*$B$1),0)","v":0},null,36,0,{"$f":"IF(AND(AI$4<=$B$1,$B$1<AJ$4,$B3=$E2, $B5=$D11),IF(AI7 = \"NA\", 0,AI7*$B$1),0)","v":0},{"$f":"IF(AND(AJ$4<=$B$1,$B$1<AK$4,$B3=$E2, $B5=$D11),IF(AJ7 = \"NA\", 0,AJ7*$B$1),0)","v":0},{"$f":"IF(AND(AK$4<=$B$1,$B$1<AL$4,$B3=$E2, $B5=$D11),IF(AK7 = \"NA\", 0,AK7*$B$1),0)","v":0},{"$f":"IF(AND(AL$4<=$B$1,$B$1<AM$4,$B3=$E2, $B5=$D11),IF(AL7 = \"NA\", 0,AL7*$B$1),0)","v":0},{"$f":"IF(AND(AM$4<=$B$1,$B3=$E2, $B5=$D11),IF(AM7 = \"NA\", 0,AM7*$B$1),0)","v":0},null,36,0,{"$f":"IF(AND(AQ$4<=$B$1,$B$1<AR$4,$B3=$E2, $B5=$D11),IF(AQ7 = \"NA\", 0,AQ7*$B$1),0)","v":0},{"$f":"IF(AND(AR$4<=$B$1,$B$1<AS$4,$B3=$E2, $B5=$D11),IF(AR7 = \"NA\", 0,AR7*$B$1),0)","v":0},{"$f":"IF(AND(AS$4<=$B$1,$B$1<AT$4,$B3=$E2, $B5=$D11),IF(AS7 = \"NA\", 0,AS7*$B$1),0)","v":0},{"$f":"IF(AND(AT$4<=$B$1,$B$1<AU$4,$B3=$E2, $B5=$D11),IF(AT7 = \"NA\", 0,AT7*$B$1),0)","v":0},{"$f":"IF(AND(AU$4<=$B$1,$B3=$E2, $B5=$D11),IF(AU7 = \"NA\", 0,AU7*$B$1),0)","v":0}]
[null,null,null,"Scrubber",{"$f":"Financing!C9","v":"OnPoint Capital"},null,null,null,48,0,{"$f":"IF(AND(K$4<=$B$1,$B$1<L$4,$B3=$E3, $B5=$D11),IF(K8 = \"NA\", 0,K8*$B$1),0)","v":0},{"$f":"IF(AND(L$4<=$B$1,$B$1<M$4,$B3=$E3, $B5=$D11),IF(L8 = \"NA\", 0,L8*$B$1),0)","v":0},{"$f":"IF(AND(M$4<=$B$1,$B$1<N$4,$B3=$E3, $B5=$D11),IF(M8 = \"NA\", 0,M8*$B$1),0)","v":0},{"$f":"IF(AND(N$4<=$B$1,$B$1<O$4,$B3=$E3, $B5=$D11),IF(N8 = \"NA\", 0,N8*$B$1),0)","v":0},{"$f":"IF(AND(O$4<=$B$1,$B3=$E3, $B5=$D10),IF(O8 = \"NA\", 0,O8*$B$1),0)","v":0},null,48,0,{"$f":"IF(AND(S$4<=$B$1,$B$1<T$4,$B3=$E3, $B5=$D11),IF(S8 = \"NA\", 0,S8*$B$1),0)","v":0},{"$f":"IF(AND(T$4<=$B$1,$B$1<U$4,$B3=$E3, $B5=$D11),IF(T8 = \"NA\", 0,T8*$B$1),0)","v":0},{"$f":"IF(AND(U$4<=$B$1,$B$1<V$4,$B3=$E3, $B5=$D11),IF(U8 = \"NA\", 0,U8*$B$1),0)","v":0},{"$f":"IF(AND(V$4<=$B$1,$B$1<W$4,$B3=$E3, $B5=$D11),IF(V8 = \"NA\", 0,V8*$B$1),0)","v":0},{"$f":"IF(AND(W$4<=$B$1,$B3=$E3, $B5=$D10),IF(W8 = \"NA\", 0,W8*$B$1),0)","v":0},null,48,0,{"$f":"IF(AND(AA$4<=$B$1,$B$1<AB$4,$B3=$E3, $B5=$D11),IF(AA8 = \"NA\", 0,AA8*$B$1),0)","v":0},{"$f":"IF(AND(AB$4<=$B$1,$B$1<AC$4,$B3=$E3, $B5=$D11),IF(AB8 = \"NA\", 0,AB8*$B$1),0)","v":0},{"$f":"IF(AND(AC$4<=$B$1,$B$1<AD$4,$B3=$E3, $B5=$D11),IF(AC8 = \"NA\", 0,AC8*$B$1),0)","v":0},{"$f":"IF(AND(AD$4<=$B$1,$B$1<AE$4,$B3=$E3, $B5=$D11),IF(AD8 = \"NA\", 0,AD8*$B$1),0)","v":0},{"$f":"IF(AND(AE$4<=$B$1,$B3=$E3, $B5=$D10),IF(AE8 = \"NA\", 0,AE8*$B$1),0)","v":0},null,48,0,{"$f":"IF(AND(AI$4<=$B$1,$B$1<AJ$4,$B3=$E3, $B5=$D11),IF(AI8 = \"NA\", 0,AI8*$B$1),0)","v":0},{"$f":"IF(AND(AJ$4<=$B$1,$B$1<AK$4,$B3=$E3, $B5=$D11),IF(AJ8 = \"NA\", 0,AJ8*$B$1),0)","v":0},{"$f":"IF(AND(AK$4<=$B$1,$B$1<AL$4,$B3=$E3, $B5=$D11),IF(AK8 = \"NA\", 0,AK8*$B$1),0)","v":0},{"$f":"IF(AND(AL$4<=$B$1,$B$1<AM$4,$B3=$E3, $B5=$D11),IF(AL8 = \"NA\", 0,AL8*$B$1),0)","v":0},{"$f":"IF(AND(AM$4<=$B$1,$B3=$E3, $B5=$D11),IF(AM8 = \"NA\", 0,AM8*$B$1),0)","v":0},null,48,0,{"$f":"IF(AND(AQ$4<=$B$1,$B$1<AR$4,$B3=$E3, $B5=$D11),IF(AQ8 = \"NA\", 0,AQ8*$B$1),0)","v":0},{"$f":"IF(AND(AR$4<=$B$1,$B$1<AS$4,$B3=$E3, $B5=$D11),IF(AR8 = \"NA\", 0,AR8*$B$1),0)","v":0},{"$f":"IF(AND(AS$4<=$B$1,$B$1<AT$4,$B3=$E3, $B5=$D11),IF(AS8 = \"NA\", 0,AS8*$B$1),0)","v":0},{"$f":"IF(AND(AT$4<=$B$1,$B$1<AU$4,$B3=$E3, $B5=$D11),IF(AT8 = \"NA\", 0,AT8*$B$1),0)","v":0},{"$f":"IF(AND(AU$4<=$B$1,$B3=$E3, $B5=$D11),IF(AU8 = \"NA\", 0,AU8*$B$1),0)","v":0}]
[null,null,null,null,{"$f":"Financing!C10","v":"First Western Equipment Finance"},null,null,null,60,0,{"$f":"IF(AND(K$4<=$B$1,$B$1<L$4,$B3=$E4, $B5=$D11),IF(K9 = \"NA\", 0,K9*$B$1),0)","v":0},{"$f":"IF(AND(L$4<=$B$1,$B$1<M$4,$B3=$E4, $B5=$D11),IF(L9 = \"NA\", 0,L9*$B$1),0)","v":0},{"$f":"IF(AND(M$4<=$B$1,$B$1<N$4,$B3=$E4, $B5=$D11),IF(M9 = \"NA\", 0,M9*$B$1),0)","v":0},{"$f":"IF(AND(N$4<=$B$1,$B$1<O$4,$B3=$E4, $B5=$D11),IF(N9 = \"NA\", 0,N9*$B$1),0)","v":0},{"$f":"IF(AND(O$4<=$B$1,$B3=$E4, $B5=$D11),IF(O9 = \"NA\", 0,O9*$B$1),0)","v":0},null,48,0,{"$f":"IF(AND(S$4<=$B$1,$B$1<T$4,$B3=$E4, $B5=$D11),IF(S9 = \"NA\", 0,S9*$B$1),0)","v":0},{"$f":"IF(AND(T$4<=$B$1,$B$1<U$4,$B3=$E4, $B5=$D11),IF(T9 = \"NA\", 0,T9*$B$1),0)","v":0},{"$f":"IF(AND(U$4<=$B$1,$B$1<V$4,$B3=$E4, $B5=$D11),IF(U9 = \"NA\", 0,U9*$B$1),0)","v":0},{"$f":"IF(AND(V$4<=$B$1,$B$1<W$4,$B3=$E4, $B5=$D11),IF(V9 = \"NA\", 0,V9*$B$1),0)","v":0},{"$f":"IF(AND(W$4<=$B$1,$B3=$E4, $B5=$D11),IF(W9 = \"NA\", 0,W9*$B$1),0)","v":0},null,48,0,{"$f":"IF(AND(AA$4<=$B$1,$B$1<AB$4,$B3=$E4, $B5=$D11),IF(AA9 = \"NA\", 0,AA9*$B$1),0)","v":0},{"$f":"IF(AND(AB$4<=$B$1,$B$1<AC$4,$B3=$E4, $B5=$D11),IF(AB9 = \"NA\", 0,AB9*$B$1),0)","v":0},{"$f":"IF(AND(AC$4<=$B$1,$B$1<AD$4,$B3=$E4, $B5=$D11),IF(AC9 = \"NA\", 0,AC9*$B$1),0)","v":0},{"$f":"IF(AND(AD$4<=$B$1,$B$1<AE$4,$B3=$E4, $B5=$D11),IF(AD9 = \"NA\", 0,AD9*$B$1),0)","v":0},{"$f":"IF(AND(AE$4<=$B$1,$B3=$E4, $B5=$D11),IF(AE9 = \"NA\", 0,AE9*$B$1),0)","v":0},null,48,0,{"$f":"IF(AND(AI$4<=$B$1,$B$1<AJ$4,$B3=$E4, $B5=$D11),IF(AI9 = \"NA\", 0,AI9*$B$1),0)","v":0},{"$f":"IF(AND(AJ$4<=$B$1,$B$1<AK$4,$B3=$E4, $B5=$D11),IF(AJ9 = \"NA\", 0,AJ9*$B$1),0)","v":0},{"$f":"IF(AND(AK$4<=$B$1,$B$1<AL$4,$B3=$E4, $B5=$D11),IF(AK9 = \"NA\", 0,AK9*$B$1),0)","v":0},{"$f":"IF(AND(AL$4<=$B$1,$B$1<AM$4,$B3=$E4, $B5=$D11),IF(AL9 = \"NA\", 0,AL9*$B$1),0)","v":0},{"$f":"IF(AND(AM$4<=$B$1,$B3=$E4, $B5=$D11),IF(AM9 = \"NA\", 0,AM9*$B$1),0)","v":0},null,48,0,{"$f":"IF(AND(AQ$4<=$B$1,$B$1<AR$4,$B3=$E4, $B5=$D11),IF(AQ9 = \"NA\", 0,AQ9*$B$1),0)","v":0},{"$f":"IF(AND(AR$4<=$B$1,$B$1<AS$4,$B3=$E4, $B5=$D11),IF(AR9 = \"NA\", 0,AR9*$B$1),0)","v":0},{"$f":"IF(AND(AS$4<=$B$1,$B$1<AT$4,$B3=$E4, $B5=$D11),IF(AS9 = \"NA\", 0,AS9*$B$1),0)","v":0},{"$f":"IF(AND(AT$4<=$B$1,$B$1<AU$4,$B3=$E4, $B5=$D11),IF(AT9 = \"NA\", 0,AT9*$B$1),0)","v":0},{"$f":"IF(AND(AU$4<=$B$1,$B3=$E4, $B5=$D11),IF(AU9 = \"NA\", 0,AU9*$B$1),0)","v":0}]
[null,null,null,"Type 2:","Overage Fee",null,null,null,{"$f":"SUM(K14:O14)","v":0},null,{"$f":"SUM(K11:K13)","v":0},{"$f":"SUM(L11:L13)","v":0},{"$f":"SUM(M11:M13)","v":0},{"$f":"SUM(N11:N13)","v":0},{"$f":"SUM(O11:O13)","v":0},null,{"$f":"SUM(S14:W14)","v":0},null,{"$f":"SUM(S11:S13)","v":0},{"$f":"SUM(T11:T13)","v":0},{"$f":"SUM(U11:U13)","v":0},{"$f":"SUM(V11:V13)","v":0},{"$f":"SUM(W11:W13)","v":0},null,{"$f":"SUM(AA14:AE14)","v":0},null,{"$f":"SUM(AA11:AA13)","v":0},{"$f":"SUM(AB11:AB13)","v":0},{"$f":"SUM(AC11:AC13)","v":0},{"$f":"SUM(AD11:AD13)","v":0},{"$f":"SUM(AE11:AE13)","v":0},null,{"$f":"SUM(AI14:AM14)","v":0},null,{"$f":"SUM(AI11:AI13)","v":0},{"$f":"SUM(AJ11:AJ13)","v":0},{"$f":"SUM(AK11:AK13)","v":0},{"$f":"SUM(AL11:AL13)","v":0},{"$f":"SUM(AM11:AM13)","v":0},null,{"$f":"SUM(AQ14:AU14)","v":0},null,{"$f":"SUM(AQ11:AQ13)","v":0},{"$f":"SUM(AR11:AR13)","v":0},{"$f":"SUM(AS11:AS13)","v":0},{"$f":"SUM(AT11:AT13)","v":0},{"$f":"SUM(AU11:AU13)","v":0}]
[null,null,null,"Rider",10]
[null,null,null,"WB",10]
[null,null,null,null,null,null,null,null,"FMV Scrubber"]
["Update:",null,null,null,null,null,null,null,"300 Hours/Yr",null,null,null,null,null,null,null,"480 Hours/Yr",null,null,null,null,null,null,null,"720 Hours/Yr",null,null,null,null,null,null,null,"960 Hours/Yr",null,null,null,null,null,null,null,"1200 Hours/Yr"]
["2019-08-01",null,null,null,null,null,null,null,null,null,3000,10000,25000,50000,100000,null,null,null,3000,10000,25000,50000,100000,null,null,null,3000,10000,25000,50000,100000,null,null,null,3000,10000,25000,50000,100000,null,null,null,3000,10000,25000,50000,100000]
["This show up on every machine tab",null,null,null,null,null,null,null,null,null,"to","to","to","to","to",null,null,null,"to","to","to","to","to",null,null,null,"to","to","to","to","to",null,null,null,"to","to","to","to","to",null,null,null,"to","to","to","to","to"]
["“FlexClean monthly rates include payment for both machine and service.”",null,null,null,null,null,null,null,"Term","Adv",9999,24999,49999,99999,null,null,"Term","Adv",9999,24999,49999,99999,null,null,"Term","Adv",9999,24999,49999,99999,null,null,"Term","Adv",9999,24999,49999,99999,null,null,"Term","Adv",9999,24999,49999,99999]
[null,null,null,null,null,null,null,null,36,0,{"$f":"SUM(Financing!$V8)","v":2.7178990400973001E-2},{"$f":"SUM(Financing!$W8)","v":2.6906474390777001E-2},{"$f":"SUM(Financing!$X8)","v":2.6634799133987998E-2},{"$f":"SUM(Financing!$Y8)","v":2.6499277126816E-2},{"$f":"SUM(Financing!$Z8)","v":2.6428888900181E-2},null,36,0,{"$f":"SUM(Financing!$V8)","v":2.7178990400973001E-2},{"$f":"SUM(Financing!$W8)","v":2.6906474390777001E-2},{"$f":"SUM(Financing!$X8)","v":2.6634799133987998E-2},{"$f":"SUM(Financing!$Y8)","v":2.6499277126816E-2},{"$f":"SUM(Financing!$Z8)","v":2.6428888900181E-2},null,36,0,{"$f":"SUM(Financing!$V8)","v":2.7178990400973001E-2},{"$f":"SUM(Financing!$W8)","v":2.6906474390777001E-2},{"$f":"SUM(Financing!$X8)","v":2.6634799133987998E-2},{"$f":"SUM(Financing!$Y8)","v":2.6499277126816E-2},{"$f":"SUM(Financing!$Z8)","v":2.6428888900181E-2},null,36,0,{"$f":"SUM(Financing!$V8)","v":2.7178990400973001E-2},{"$f":"SUM(Financing!$W8)","v":2.6906474390777001E-2},{"$f":"SUM(Financing!$X8)","v":2.6634799133987998E-2},{"$f":"SUM(Financing!$Y8)","v":2.6499277126816E-2},{"$f":"SUM(Financing!$Z8)","v":2.6428888900181E-2},null,36,0,{"$f":"SUM(Financing!$V8)","v":2.7178990400973001E-2},{"$f":"SUM(Financing!$W8)","v":2.6906474390777001E-2},{"$f":"SUM(Financing!$X8)","v":2.6634799133987998E-2},{"$f":"SUM(Financing!$Y8)","v":2.6499277126816E-2},{"$f":"SUM(Financing!$Z8)","v":2.6428888900181E-2}]
["Calculation","Option 1",null,"Option 2","Option 3",null,null,null,48,0,{"$f":"SUM(Financing!$V9)","v":2.2198275639611E-2},{"$f":"SUM(Financing!$W9)","v":2.1932359982290001E-2},{"$f":"SUM(Financing!$X9)","v":2.1799846864994001E-2},{"$f":"SUM(Financing!$Y9)","v":2.1720481455155E-2},{"$f":"SUM(Financing!$Z9)","v":2.1683480848848E-2},null,48,0,{"$f":"SUM(Financing!$V9)","v":2.2198275639611E-2},{"$f":"SUM(Financing!$W9)","v":2.1932359982290001E-2},{"$f":"SUM(Financing!$X9)","v":2.1799846864994001E-2},{"$f":"SUM(Financing!$Y9)","v":2.1720481455155E-2},{"$f":"SUM(Financing!$Z9)","v":2.1683480848848E-2},null,48,0,{"$f":"SUM(Financing!$V9)","v":2.2198275639611E-2},{"$f":"SUM(Financing!$W9)","v":2.1932359982290001E-2},{"$f":"SUM(Financing!$X9)","v":2.1799846864994001E-2},{"$f":"SUM(Financing!$Y9)","v":2.1720481455155E-2},{"$f":"SUM(Financing!$Z9)","v":2.1683480848848E-2},null,48,0,{"$f":"SUM(Financing!$V9)","v":2.2198275639611E-2},{"$f":"SUM(Financing!$W9)","v":2.1932359982290001E-2},{"$f":"SUM(Financing!$X9)","v":2.1799846864994001E-2},{"$f":"SUM(Financing!$Y9)","v":2.1720481455155E-2},{"$f":"SUM(Financing!$Z9)","v":2.1683480848848E-2},null,48,0,{"$f":"SUM(Financing!$V9)","v":2.2198275639611E-2},{"$f":"SUM(Financing!$W9)","v":2.1932359982290001E-2},{"$f":"SUM(Financing!$X9)","v":2.1799846864994001E-2},{"$f":"SUM(Financing!$Y9)","v":2.1720481455155E-2},{"$f":"SUM(Financing!$Z9)","v":2.1683480848848E-2}]
[null,"FMV Sweeper",null,"FMV Scrubber",1,null,null,null,60,0,{"$f":"SUM(Financing!$V10)","v":1.9214469338863002E-2},{"$f":"SUM(Financing!$W10)","v":1.9084073405875E-2},{"$f":"SUM(Financing!$X10)","v":1.8954067382651998E-2},{"$f":"SUM(Financing!$Y10)","v":1.8824451748009001E-2},{"$f":"SUM(Financing!$Z10)","v":1.8814099376104999E-2},null,48,0,{"$f":"SUM(Financing!$V10)","v":1.9214469338863002E-2},{"$f":"SUM(Financing!$W10)","v":1.9084073405875E-2},{"$f":"SUM(Financing!$X10)","v":1.8954067382651998E-2},{"$f":"SUM(Financing!$Y10)","v":1.8824451748009001E-2},{"$f":"SUM(Financing!$Z10)","v":1.8814099376104999E-2},null,48,0,{"$f":"SUM(Financing!$V10)","v":1.9214469338863002E-2},{"$f":"SUM(Financing!$W10)","v":1.9084073405875E-2},{"$f":"SUM(Financing!$X10)","v":1.8954067382651998E-2},{"$f":"SUM(Financing!$Y10)","v":1.8824451748009001E-2},{"$f":"SUM(Financing!$Z10)","v":1.8814099376104999E-2},null,48,0,{"$f":"SUM(Financing!$V10)","v":1.9214469338863002E-2},{"$f":"SUM(Financing!$W10)","v":1.9084073405875E-2},{"$f":"SUM(Financing!$X10)","v":1.8954067382651998E-2},{"$f":"SUM(Financing!$Y10)","v":1.8824451748009001E-2},{"$f":"SUM(Financing!$Z10)","v":1.8814099376104999E-2},null,48,0,{"$f":"SUM(Financing!$V10)","v":1.9214469338863002E-2},{"$f":"SUM(Financing!$W10)","v":1.9084073405875E-2},{"$f":"SUM(Financing!$X10)","v":1.8954067382651998E-2},{"$f":"SUM(Financing!$Y10)","v":1.8824451748009001E-2},{"$f":"SUM(Financing!$Z10)","v":1.8814099376104999E-2}]
[25,{"$f":"IF($B6=$E11, I14, IF($B6=$E12,I59, IF($B6=$E13,I104)))","v":false},null,{"$f":"IF($B6=$E11, I29, IF($B6=$E12,I74))","v":false},{"$f":"IF($B6=$E11, I43, IF($B6=$E12,I88, IF($B6=$E13,I118)))","v":false}]
[40,{"$f":"IF($B6=$E11, Q14, IF($B6=$E12,Q59, IF($B6=$E13,Q104)))","v":false},null,{"$f":"IF($B6=$E11, Q29, IF($B6=$E12,Q74))","v":false},{"$f":"IF($B6=$E11, Q43, IF($B6=$E12,Q88, IF($B6=$E13,Q118)))","v":false},null,null,null,36,0,{"$f":"IF(AND(K$19<=$B$1,$B$1<L$19,$B3=$E2, $B5=$D12),IF(K22 = \"NA\", 0,K22*$B$1),0)","v":0},{"$f":"IF(AND(L$19<=$B$1,$B$1<M$19,$B3=$E2, $B5=$D12),IF(L22 = \"NA\", 0,L22*$B$1),0)","v":0},{"$f":"IF(AND(M$19<=$B$1,$B$1<N$19,$B3=$E2, $B5=$D12),IF(M22 = \"NA\", 0,M22*$B$1),0)","v":0},{"$f":"IF(AND(N$19<=$B$1,$B$1<O$19,$B3=$E2, $B5=$D12),IF(N22 = \"NA\", 0,N22*$B$1),0)","v":0},{"$f":"IF(AND(O$19<=$B$1,$B3=$E2, $B5=$D12),IF(O22 = \"NA\", 0,O22*$B$1),0)","v":0},null,36,0,{"$f":"IF(AND(S$19<=$B$1,$B$1<T$19,$B3=$E2, $B5=$D12),IF(S22 = \"NA\", 0,S22*$B$1),0)","v":0},{"$f":"IF(AND(T$19<=$B$1,$B$1<U$19,$B3=$E2, $B5=$D12),IF(T22 = \"NA\", 0,T22*$B$1),0)","v":0},{"$f":"IF(AND(U$19<=$B$1,$B$1<V$19,$B3=$E2, $B5=$D12),IF(U22 = \"NA\", 0,U22*$B$1),0)","v":0},{"$f":"IF(AND(V$19<=$B$1,$B$1<W$19,$B3=$E2, $B5=$D12),IF(V22 = \"NA\", 0,V22*$B$1),0)","v":0},{"$f":"IF(AND(W$19<=$B$1,$B3=$E2, $B5=$D12),IF(W22 = \"NA\", 0,W22*$B$1),0)","v":0},null,36,0,{"$f":"IF(AND(AA$19<=$B$1,$B$1<AB$19,$B3=$E2, $B5=$D12),IF(AA22 = \"NA\", 0,AA22*$B$1),0)","v":0},{"$f":"IF(AND(AB$19<=$B$1,$B$1<AC$19,$B3=$E2, $B5=$D12),IF(AB22 = \"NA\", 0,AB22*$B$1),0)","v":0},{"$f":"IF(AND(AC$19<=$B$1,$B$1<AD$19,$B3=$E2, $B5=$D12),IF(AC22 = \"NA\", 0,AC22*$B$1),0)","v":0},{"$f":"IF(AND(AD$19<=$B$1,$B$1<AE$19,$B3=$E2, $B5=$D12),IF(AD22 = \"NA\", 0,AD22*$B$1),0)","v":0},{"$f":"IF(AND(AE$19<=$B$1,$B3=$E2, $B5=$D12),IF(AE22 = \"NA\", 0,AE22*$B$1),0)","v":0},null,36,0,{"$f":"IF(AND(AI$19<=$B$1,$B$1<AJ$19,$B3=$E2, $B5=$D12),IF(AI22 = \"NA\", 0,AI22*$B$1),0)","v":0},{"$f":"IF(AND(AJ$19<=$B$1,$B$1<AK$19,$B3=$E2, $B5=$D12),IF(AJ22 = \"NA\", 0,AJ22*$B$1),0)","v":0},{"$f":"IF(AND(AK$19<=$B$1,$B$1<AL$19,$B3=$E2, $B5=$D12),IF(AK22 = \"NA\", 0,AK22*$B$1),0)","v":0},{"$f":"IF(AND(AL$19<=$B$1,$B$1<AM$19,$B3=$E2, $B5=$D12),IF(AL22 = \"NA\", 0,AL22*$B$1),0)","v":0},{"$f":"IF(AND(AM$19<=$B$1,$B3=$E2, $B5=$D12),IF(AM22 = \"NA\", 0,AM22*$B$1),0)","v":0},null,36,0,{"$f":"IF(AND(AQ$19<=$B$1,$B$1<AR$19,$B3=$E2, $B5=$D12),IF(AQ22 = \"NA\", 0,AQ22*$B$1),0)","v":0},{"$f":"IF(AND(AR$19<=$B$1,$B$1<AS$19,$B3=$E2, $B5=$D12),IF(AR22 = \"NA\", 0,AR22*$B$1),0)","v":0},{"$f":"IF(AND(AS$19<=$B$1,$B$1<AT$19,$B3=$E2, $B5=$D12),IF(AS22 = \"NA\", 0,AS22*$B$1),0)","v":0},{"$f":"IF(AND(AT$19<=$B$1,$B$1<AU$19,$B3=$E2, $B5=$D12),IF(AT22 = \"NA\", 0,AT22*$B$1),0)","v":0},{"$f":"IF(AND(AU$19<=$B$1,$B3=$E2, $B5=$D12),IF(AU22 = \"NA\", 0,AU22*$B$1),0)","v":0}]
[60,{"$f":"IF($B6=$E11, Y14, IF($B6=$E12,Y59, IF($B6=$E13,Y104)))","v":false},null,{"$f":"IF($B6=$E11, Y29, IF($B6=$E12,Y74))","v":false},{"$f":"IF($B6=$E11, Y43, IF($B6=$E12,Y88, IF($B6=$E13,Y118)))","v":false},null,null,null,48,0,{"$f":"IF(AND(K$19<=$B$1,$B$1<L$19,$B3=$E3, $B5=$D12),IF(K23 = \"NA\", 0,K23*$B$1),0)","v":0},{"$f":"IF(AND(L$19<=$B$1,$B$1<M$19,$B3=$E3, $B5=$D12),IF(L23 = \"NA\", 0,L23*$B$1),0)","v":0},{"$f":"IF(AND(M$19<=$B$1,$B$1<N$19,$B3=$E3, $B5=$D12),IF(M23 = \"NA\", 0,M23*$B$1),0)","v":0},{"$f":"IF(AND(N$19<=$B$1,$B$1<O$19,$B3=$E3, $B5=$D12),IF(N23 = \"NA\", 0,N23*$B$1),0)","v":0},{"$f":"IF(AND(O$19<=$B$1,$B3=$E3, $B5=$D12),IF(O23 = \"NA\", 0,O23*$B$1),0)","v":0},null,48,0,{"$f":"IF(AND(S$19<=$B$1,$B$1<T$19,$B3=$E3, $B5=$D12),IF(S23 = \"NA\", 0,S23*$B$1),0)","v":0},{"$f":"IF(AND(T$19<=$B$1,$B$1<U$19,$B3=$E3, $B5=$D12),IF(T23 = \"NA\", 0,T23*$B$1),0)","v":0},{"$f":"IF(AND(U$19<=$B$1,$B$1<V$19,$B3=$E3, $B5=$D12),IF(U23 = \"NA\", 0,U23*$B$1),0)","v":0},{"$f":"IF(AND(V$19<=$B$1,$B$1<W$19,$B3=$E3, $B5=$D12),IF(V23 = \"NA\", 0,V23*$B$1),0)","v":0},{"$f":"IF(AND(W$19<=$B$1,$B3=$E3, $B5=$D12),IF(W23 = \"NA\", 0,W23*$B$1),0)","v":0},null,48,0,{"$f":"IF(AND(AA$19<=$B$1,$B$1<AB$19,$B3=$E3, $B5=$D12),IF(AA23 = \"NA\", 0,AA23*$B$1),0)","v":0},{"$f":"IF(AND(AB$19<=$B$1,$B$1<AC$19,$B3=$E3, $B5=$D12),IF(AB23 = \"NA\", 0,AB23*$B$1),0)","v":0},{"$f":"IF(AND(AC$19<=$B$1,$B$1<AD$19,$B3=$E3, $B5=$D12),IF(AC23 = \"NA\", 0,AC23*$B$1),0)","v":0},{"$f":"IF(AND(AD$19<=$B$1,$B$1<AE$19,$B3=$E3, $B5=$D12),IF(AD23 = \"NA\", 0,AD23*$B$1),0)","v":0},{"$f":"IF(AND(AE$19<=$B$1,$B3=$E3, $B5=$D12),IF(AE23 = \"NA\", 0,AE23*$B$1),0)","v":0},null,48,0,{"$f":"IF(AND(AI$19<=$B$1,$B$1<AJ$19,$B3=$E3, $B5=$D12),IF(AI23 = \"NA\", 0,AI23*$B$1),0)","v":0},{"$f":"IF(AND(AJ$19<=$B$1,$B$1<AK$19,$B3=$E3, $B5=$D12),IF(AJ23 = \"NA\", 0,AJ23*$B$1),0)","v":0},{"$f":"IF(AND(AK$19<=$B$1,$B$1<AL$19,$B3=$E3, $B5=$D12),IF(AK23 = \"NA\", 0,AK23*$B$1),0)","v":0},{"$f":"IF(AND(AL$19<=$B$1,$B$1<AM$19,$B3=$E3, $B5=$D12),IF(AL23 = \"NA\", 0,AL23*$B$1),0)","v":0},{"$f":"IF(AND(AM$19<=$B$1,$B3=$E3, $B5=$D12),IF(AM23 = \"NA\", 0,AM23*$B$1),0)","v":0},null,48,0,{"$f":"IF(AND(AQ$19<=$B$1,$B$1<AR$19,$B3=$E3, $B5=$D12),IF(AQ23 = \"NA\", 0,AQ23*$B$1),0)","v":0},{"$f":"IF(AND(AR$19<=$B$1,$B$1<AS$19,$B3=$E3, $B5=$D12),IF(AR23 = \"NA\", 0,AR23*$B$1),0)","v":0},{"$f":"IF(AND(AS$19<=$B$1,$B$1<AT$19,$B3=$E3, $B5=$D12),IF(AS23 = \"NA\", 0,AS23*$B$1),0)","v":0},{"$f":"IF(AND(AT$19<=$B$1,$B$1<AU$19,$B3=$E3, $B5=$D12),IF(AT23 = \"NA\", 0,AT23*$B$1),0)","v":0},{"$f":"IF(AND(AU$19<=$B$1,$B3=$E3, $B5=$D12),IF(AU23 = \"NA\", 0,AU23*$B$1),0)","v":0}]
[80,{"$f":"IF($B6=$E11, AG14, IF($B6=$E12,AG59, IF($B6=$E13,AG104)))","v":false},null,{"$f":"IF($B6=$E11, AG29, IF($B6=$E12,AG74))","v":false},{"$f":"IF($B6=$E11, AG43, IF($B6=$E12,AG88, IF($B6=$E13,AG118)))","v":false},null,null,null,60,0,{"$f":"IF(AND(K$19<=$B$1,$B$1<L$19,$B3=$E4, $B5=$D12),IF(K24 = \"NA\", 0,K24*$B$1),0)","v":0},{"$f":"IF(AND(L$19<=$B$1,$B$1<M$19,$B3=$E4, $B5=$D12),IF(L24 = \"NA\", 0,L24*$B$1),0)","v":0},{"$f":"IF(AND(M$19<=$B$1,$B$1<N$19,$B3=$E4, $B5=$D12),IF(M24 = \"NA\", 0,M24*$B$1),0)","v":0},{"$f":"IF(AND(N$19<=$B$1,$B$1<O$19,$B3=$E4, $B5=$D12),IF(N24 = \"NA\", 0,N24*$B$1),0)","v":0},{"$f":"IF(AND(O$19<=$B$1,$B3=$E4, $B5=$D12),IF(O24 = \"NA\", 0,O24*$B$1),0)","v":0},null,48,0,{"$f":"IF(AND(S$19<=$B$1,$B$1<T$19,$B3=$E4, $B5=$D12),IF(S24 = \"NA\", 0,S24*$B$1),0)","v":0},{"$f":"IF(AND(T$19<=$B$1,$B$1<U$19,$B3=$E4, $B5=$D12),IF(T24 = \"NA\", 0,T24*$B$1),0)","v":0},{"$f":"IF(AND(U$19<=$B$1,$B$1<V$19,$B3=$E4, $B5=$D12),IF(U24 = \"NA\", 0,U24*$B$1),0)","v":0},{"$f":"IF(AND(V$19<=$B$1,$B$1<W$19,$B3=$E4, $B5=$D12),IF(V24 = \"NA\", 0,V24*$B$1),0)","v":0},{"$f":"IF(AND(W$19<=$B$1,$B3=$E4, $B5=$D12),IF(W24 = \"NA\", 0,W24*$B$1),0)","v":0},null,48,0,{"$f":"IF(AND(AA$19<=$B$1,$B$1<AB$19,$B3=$E4, $B5=$D12),IF(AA24 = \"NA\", 0,AA24*$B$1),0)","v":0},{"$f":"IF(AND(AB$19<=$B$1,$B$1<AC$19,$B3=$E4, $B5=$D12),IF(AB24 = \"NA\", 0,AB24*$B$1),0)","v":0},{"$f":"IF(AND(AC$19<=$B$1,$B$1<AD$19,$B3=$E4, $B5=$D12),IF(AC24 = \"NA\", 0,AC24*$B$1),0)","v":0},{"$f":"IF(AND(AD$19<=$B$1,$B$1<AE$19,$B3=$E4, $B5=$D12),IF(AD24 = \"NA\", 0,AD24*$B$1),0)","v":0},{"$f":"IF(AND(AE$19<=$B$1,$B3=$E4, $B5=$D12),IF(AE24 = \"NA\", 0,AE24*$B$1),0)","v":0},null,48,0,{"$f":"IF(AND(AI$19<=$B$1,$B$1<AJ$19,$B3=$E4, $B5=$D12),IF(AI24 = \"NA\", 0,AI24*$B$1),0)","v":0},{"$f":"IF(AND(AJ$19<=$B$1,$B$1<AK$19,$B3=$E4, $B5=$D12),IF(AJ24 = \"NA\", 0,AJ24*$B$1),0)","v":0},{"$f":"IF(AND(AK$19<=$B$1,$B$1<AL$19,$B3=$E4, $B5=$D12),IF(AK24 = \"NA\", 0,AK24*$B$1),0)","v":0},{"$f":"IF(AND(AL$19<=$B$1,$B$1<AM$19,$B3=$E4, $B5=$D12),IF(AL24 = \"NA\", 0,AL24*$B$1),0)","v":0},{"$f":"IF(AND(AM$19<=$B$1,$B3=$E4, $B5=$D12),IF(AM24 = \"NA\", 0,AM24*$B$1),0)","v":0},null,48,0,{"$f":"IF(AND(AQ$19<=$B$1,$B$1<AR$19,$B3=$E4, $B5=$D12),IF(AQ24 = \"NA\", 0,AQ24*$B$1),0)","v":0},{"$f":"IF(AND(AR$19<=$B$1,$B$1<AS$19,$B3=$E4, $B5=$D12),IF(AR24 = \"NA\", 0,AR24*$B$1),0)","v":0},{"$f":"IF(AND(AS$19<=$B$1,$B$1<AT$19,$B3=$E4, $B5=$D12),IF(AS24 = \"NA\", 0,AS24*$B$1),0)","v":0},{"$f":"IF(AND(AT$19<=$B$1,$B$1<AU$19,$B3=$E4, $B5=$D12),IF(AT24 = \"NA\", 0,AT24*$B$1),0)","v":0},{"$f":"IF(AND(AU$19<=$B$1,$B3=$E4, $B5=$D12),IF(AU24 = \"NA\", 0,AU24*$B$1),0)","v":0}]
[100,{"$f":"IF($B6=$E11, AO14, IF($B6=$E12,AO59, IF($B6=$E13,AO104)))","v":false},null,{"$f":"IF($B6=$E11, AO29, IF($B6=$E12,AO74))","v":false},{"$f":"IF($B6=$E11, AO43, IF($B6=$E12,AO88, IF($B6=$E13,AO118)))","v":false},null,null,null,{"$f":"SUM(K29:O29)","v":0},null,{"$f":"SUM(K26:K28)","v":0},{"$f":"SUM(L26:L28)","v":0},{"$f":"SUM(M26:M28)","v":0},{"$f":"SUM(N26:N28)","v":0},{"$f":"SUM(O26:O28)","v":0},null,{"$f":"SUM(S29:W29)","v":0},null,{"$f":"SUM(S26:S28)","v":0},{"$f":"SUM(T26:T28)","v":0},{"$f":"SUM(U26:U28)","v":0},{"$f":"SUM(V26:V28)","v":0},{"$f":"SUM(W26:W28)","v":0},null,{"$f":"SUM(AA29:AE29)","v":0},null,{"$f":"SUM(AA26:AA28)","v":0},{"$f":"SUM(AB26:AB28)","v":0},{"$f":"SUM(AC26:AC28)","v":0},{"$f":"SUM(AD26:AD28)","v":0},{"$f":"SUM(AE26:AE28)","v":0},null,{"$f":"SUM(AI29:AM29)","v":0},null,{"$f":"SUM(AI26:AI28)","v":0},{"$f":"SUM(AJ26:AJ28)","v":0},{"$f":"SUM(AK26:AK28)","v":0},{"$f":"SUM(AL26:AL28)","v":0},{"$f":"SUM(AM26:AM28)","v":0},null,{"$f":"SUM(AQ29:AU29)","v":0},null,{"$f":"SUM(AQ26:AQ28)","v":0},{"$f":"SUM(AR26:AR28)","v":0},{"$f":"SUM(AS26:AS28)","v":0},{"$f":"SUM(AT26:AT28)","v":0},{"$f":"SUM(AU26:AU28)","v":0}]
[125,{"$f":"IF($B6=$E11, AO14, IF($B6=$E12,AO59, IF($B6=$E13,AO104)))","v":false},null,{"$f":"IF($B6=$E11, AO29, IF($B6=$E12,AO74))","v":false},{"$f":"IF($B6=$E11, AO43, IF($B6=$E12,AO88, IF($B6=$E13,AO118)))","v":false}]
[150,{"$f":"IF($B6=$E11, AO14, IF($B6=$E12,AO59, IF($B6=$E13,AO104)))","v":false},null,{"$f":"IF($B6=$E11, AO29, IF($B6=$E12,AO74))","v":false},{"$f":"IF($B6=$E11, AO43, IF($B6=$E12,AO88, IF($B6=$E13,AO118)))","v":false},null,null,null,1]
[null,null,null,null,null,null,null,null,"300 Hours/Yr",null,null,null,null,null,null,null,"480 Hours/Yr",null,null,null,null,null,null,null,"720 Hours/Yr",null,null,null,null,null,null,null,"960 Hours/Yr",null,null,null,null,null,null,null,"1200 Hours/Yr"]
[null,null,null,null,null,null,null,{"$f":"IF(ISERROR(B37),\"NOTICE: One of the Leasing Options must be FMV Scrubber. Click 'View Leasing Options' to correct.\",\"\")","v":""},null,null,3000,10000,25000,50000,100000,null,null,null,3000,10000,25000,50000,100000,null,null,null,3000,10000,25000,50000,100000,null,null,null,3000,10000,25000,50000,100000,null,null,null,3000,10000,25000,50000,100000]
["FlexClean: ","Option 1 + 2",null,"Option 3","Hourly Overage Fee","1BO","<>NA",null,null,null,"to","to","to","to","to",null,null,null,"to","to","to","to","to",null,null,null,"to","to","to","to","to",null,null,null,"to","to","to","to","to",null,null,null,"to","to","to","to","to"]
["Hours included per Month:",null,null,null,null,null,null,null,"Term","Adv",9999,24999,49999,99999,null,null,"Term","Adv",9999,24999,49999,99999,null,null,"Term","Adv",9999,24999,49999,99999,null,null,"Term","Adv",9999,24999,49999,99999,null,null,"Term","Adv",9999,24999,49999,99999]
[25,{"$f":"(VLOOKUP(VLOOKUP($B$2,FlexCleanRegions,2,FALSE)&(0)&$B$4,FlexCleanRates,9,FALSE)*0.01*$B$1)+SUM(B25:D25) * F36 * G36","v":0},null,{"$f":"(VLOOKUP(VLOOKUP($B$2,FlexCleanRegions,2,FALSE)&(0)&$B$4,FlexCleanRates,9,FALSE)*0.01*$B$1)+SUM(E25) * G36","v":0},{"$f":"IF(ISERROR(B36),#N/A,(VLOOKUP(VLOOKUP($B$2,FlexCleanRegions,2,FALSE)&(0)&$B$4,FlexCleanRates,9,FALSE)*0.01*$B$1)/A36) + IF($B$2<>\"\",IF($B36>0,IF($B$7=$D$15,$E$15,IF($B$7=$D$16,$E$16))))","v":0},{"$f":"IF(VLOOKUP((VLOOKUP($B$2,FlexCleanRegions,2,FALSE)&((0)))&$B$4, FlexCleanRates, $B8, FALSE) = \"1BO\", 0, 1)","v":0},{"$f":"IF(VLOOKUP((VLOOKUP($B$2,FlexCleanRegions,2,FALSE)&((0)))&$B$4, FlexCleanRates, $B8, FALSE) = \"NA\", 0, 1)","v":1},null,36,0,{"$f":"SUM(Financing!$F8)","v":3.2092520658132999E-2},{"$f":"SUM(Financing!$G8)","v":3.1857195981401999E-2},{"$f":"SUM(Financing!$H8)","v":3.1622917240480997E-2},{"$f":"SUM(Financing!$I8)","v":3.1506170325181999E-2},{"$f":"SUM(Financing!$J8)","v":3.1445565447330001E-2},null,36,0,{"$f":"SUM(Financing!$F8)","v":3.2092520658132999E-2},{"$f":"SUM(Financing!$G8)","v":3.1857195981401999E-2},{"$f":"SUM(Financing!$H8)","v":3.1622917240480997E-2},{"$f":"SUM(Financing!$I8)","v":3.1506170325181999E-2},{"$f":"SUM(Financing!$J8)","v":3.1445565447330001E-2},null,36,0,{"$f":"SUM(Financing!$F8)","v":3.2092520658132999E-2},{"$f":"SUM(Financing!$G8)","v":3.1857195981401999E-2},{"$f":"SUM(Financing!$H8)","v":3.1622917240480997E-2},{"$f":"SUM(Financing!$I8)","v":3.1506170325181999E-2},{"$f":"SUM(Financing!$J8)","v":3.1445565447330001E-2},null,36,0,{"$f":"SUM(Financing!$F8)","v":3.2092520658132999E-2},{"$f":"SUM(Financing!$G8)","v":3.1857195981401999E-2},{"$f":"SUM(Financing!$H8)","v":3.1622917240480997E-2},{"$f":"SUM(Financing!$I8)","v":3.1506170325181999E-2},{"$f":"SUM(Financing!$J8)","v":3.1445565447330001E-2},null,36,0,{"$f":"SUM(Financing!$F8)","v":3.2092520658132999E-2},{"$f":"SUM(Financing!$G8)","v":3.1857195981401999E-2},{"$f":"SUM(Financing!$H8)","v":3.1622917240480997E-2},{"$f":"SUM(Financing!$I8)","v":3.1506170325181999E-2},{"$f":"SUM(Financing!$J8)","v":3.1445565447330001E-2}]
[40,{"$f":"(VLOOKUP(VLOOKUP($B$2,FlexCleanRegions,2,FALSE)&(($A37/20)-1)&$B$4,FlexCleanRates,9,FALSE)*0.01*$B$1)+SUM(B26:D26) * F37 * G37","v":0},null,{"$f":"(VLOOKUP(VLOOKUP($B$2,FlexCleanRegions,2,FALSE)&(($A37/20)-1)&$B$4,FlexCleanRates,9,FALSE)*0.01*$B$1)+SUM(E26) * G37","v":0},{"$f":"IF(ISERROR(B37),#N/A,(VLOOKUP(VLOOKUP($B$2,FlexCleanRegions,2,FALSE)&(($A37/20)-1)&$B$4,FlexCleanRates,9,FALSE)*0.01*$B$1)/A37) + IF($B$2<>\"\",IF($B37>0,IF($B$7=$D$15,$E$15,IF($B$7=$D$16,$E$16))))","v":0},{"$f":"IF(VLOOKUP((VLOOKUP($B$2,FlexCleanRegions,2,FALSE)&((1)))&$B$4, FlexCleanRates, $B8, FALSE) = \"1BO\", 0, 1)","v":0},{"$f":"IF(VLOOKUP((VLOOKUP($B$2,FlexCleanRegions,2,FALSE)&((1)))&$B$4, FlexCleanRates, $B8, FALSE) = \"NA\", 0, 1)","v":1},null,48,0,{"$f":"SUM(Financing!$F9)","v":2.4864410646046001E-2},{"$f":"SUM(Financing!$G9)","v":2.4625923323644001E-2},{"$f":"SUM(Financing!$H9)","v":2.4507201048186E-2},{"$f":"SUM(Financing!$I9)","v":2.4436134705613E-2},{"$f":"SUM(Financing!$J9)","v":2.4403013305115E-2},null,48,0,{"$f":"SUM(Financing!$F9)","v":2.4864410646046001E-2},{"$f":"SUM(Financing!$G9)","v":2.4625923323644001E-2},{"$f":"SUM(Financing!$H9)","v":2.4507201048186E-2},{"$f":"SUM(Financing!$I9)","v":2.4436134705613E-2},{"$f":"SUM(Financing!$J9)","v":2.4403013305115E-2},null,48,0,{"$f":"SUM(Financing!$F9)","v":2.4864410646046001E-2},{"$f":"SUM(Financing!$G9)","v":2.4625923323644001E-2},{"$f":"SUM(Financing!$H9)","v":2.4507201048186E-2},{"$f":"SUM(Financing!$I9)","v":2.4436134705613E-2},{"$f":"SUM(Financing!$J9)","v":2.4403013305115E-2},null,48,0,{"$f":"SUM(Financing!$F9)","v":2.4864410646046001E-2},{"$f":"SUM(Financing!$G9)","v":2.4625923323644001E-2},{"$f":"SUM(Financing!$H9)","v":2.4507201048186E-2},{"$f":"SUM(Financing!$I9)","v":2.4436134705613E-2},{"$f":"SUM(Financing!$J9)","v":2.4403013305115E-2},null,48,0,{"$f":"SUM(Financing!$F9)","v":2.4864410646046001E-2},{"$f":"SUM(Financing!$G9)","v":2.4625923323644001E-2},{"$f":"SUM(Financing!$H9)","v":2.4507201048186E-2},{"$f":"SUM(Financing!$I9)","v":2.4436134705613E-2},{"$f":"SUM(Financing!$J9)","v":2.4403013305115E-2}]
[60,{"$f":"(VLOOKUP(VLOOKUP($B$2,FlexCleanRegions,2,FALSE)&(($A38/20)-1)&$B$4,FlexCleanRates,9,FALSE)*0.01*$B$1)+SUM(B27:D27) * F38 * G38","v":0},null,{"$f":"(VLOOKUP(VLOOKUP($B$2,FlexCleanRegions,2,FALSE)&(($A38/20)-1)&$B$4,FlexCleanRates,9,FALSE)*0.01*$B$1)+SUM(E27) * G38","v":0},{"$f":"IF(ISERROR(B38),#N/A,(VLOOKUP(VLOOKUP($B$2,FlexCleanRegions,2,FALSE)&(($A38/20)-1)&$B$4,FlexCleanRates,9,FALSE)*0.01*$B$1)/A38) + IF($B$2<>\"\",IF($B38>0,IF($B$7=$D$15,$E$15,IF($B$7=$D$16,$E$16))))","v":0},{"$f":"IF(VLOOKUP((VLOOKUP($B$2,FlexCleanRegions,2,FALSE)&((2)))&$B$4, FlexCleanRates, $B8, FALSE) = \"1BO\", 0, 1)","v":0},{"$f":"IF(VLOOKUP((VLOOKUP($B$2,FlexCleanRegions,2,FALSE)&((2)))&$B$4, FlexCleanRates, $B8, FALSE) = \"NA\", 0, 1)","v":1},null,48,0,{"$f":"SUM(Financing!$F10)","v":2.0582678677938001E-2},{"$f":"SUM(Financing!$G10)","v":2.0461207099860001E-2},{"$f":"SUM(Financing!$H10)","v":2.0340167813078E-2},{"$f":"SUM(Financing!$I10)","v":2.0219561348443001E-2},{"$f":"SUM(Financing!$J10)","v":2.0209931544801E-2},null,48,0,{"$f":"SUM(Financing!$F10)","v":2.0582678677938001E-2},{"$f":"SUM(Financing!$G10)","v":2.0461207099860001E-2},{"$f":"SUM(Financing!$H10)","v":2.0340167813078E-2},{"$f":"SUM(Financing!$I10)","v":2.0219561348443001E-2},{"$f":"SUM(Financing!$J10)","v":2.0209931544801E-2},null,48,0,{"$f":"SUM(Financing!$F10)","v":2.0582678677938001E-2},{"$f":"SUM(Financing!$G10)","v":2.0461207099860001E-2},{"$f":"SUM(Financing!$H10)","v":2.0340167813078E-2},{"$f":"SUM(Financing!$I10)","v":2.0219561348443001E-2},{"$f":"SUM(Financing!$J10)","v":2.0209931544801E-2},null,48,0,{"$f":"SUM(Financing!$F10)","v":2.0582678677938001E-2},{"$f":"SUM(Financing!$G10)","v":2.0461207099860001E-2},{"$f":"SUM(Financing!$H10)","v":2.0340167813078E-2},{"$f":"SUM(Financing!$I10)","v":2.0219561348443001E-2},{"$f":"SUM(Financing!$J10)","v":2.0209931544801E-2},null,48,0,{"$f":"SUM(Financing!$F10)","v":2.0582678677938001E-2},{"$f":"SUM(Financing!$G10)","v":2.0461207099860001E-2},{"$f":"SUM(Financing!$H10)","v":2.0340167813078E-2},{"$f":"SUM(Financing!$I10)","v":2.0219561348443001E-2},{"$f":"SUM(Financing!$J10)","v":2.0209931544801E-2}]
[80,{"$f":"(VLOOKUP(VLOOKUP($B$2,FlexCleanRegions,2,FALSE)&(($A39/20)-1)&$B$4,FlexCleanRates,9,FALSE)*0.01*$B$1)+SUM(B28:D28) * F39 * G39","v":0},null,{"$f":"(VLOOKUP(VLOOKUP($B$2,FlexCleanRegions,2,FALSE)&(($A39/20)-1)&$B$4,FlexCleanRates,9,FALSE)*0.01*$B$1)+SUM(E28) * G39","v":0},{"$f":"IF(ISERROR(B39),#N/A,(VLOOKUP(VLOOKUP($B$2,FlexCleanRegions,2,FALSE)&(($A39/20)-1)&$B$4,FlexCleanRates,9,FALSE)*0.01*$B$1)/A39) + IF($B$2<>\"\",IF($B39>0,IF($B$7=$D$15,$E$15,IF($B$7=$D$16,$E$16))))","v":0},{"$f":"IF(VLOOKUP((VLOOKUP($B$2,FlexCleanRegions,2,FALSE)&((3)))&$B$4, FlexCleanRates, $B8, FALSE) = \"1BO\", 0, 1)","v":0},{"$f":"IF(VLOOKUP((VLOOKUP($B$2,FlexCleanRegions,2,FALSE)&((3)))&$B$4, FlexCleanRates, $B8, FALSE) = \"NA\", 0, 1)","v":1}]
[100,{"$f":"(VLOOKUP(VLOOKUP($B$2,FlexCleanRegions,2,FALSE)&(($A40/20)-1)&$B$4,FlexCleanRates,9,FALSE)*0.01*$B$1)+SUM(B29:D29) * F40 * G40","v":0},null,{"$f":"(VLOOKUP(VLOOKUP($B$2,FlexCleanRegions,2,FALSE)&(($A40/20)-1)&$B$4,FlexCleanRates,9,FALSE)*0.01*$B$1)+SUM(E29) * G40","v":0},{"$f":"IF(ISERROR(B40),#N/A,(VLOOKUP(VLOOKUP($B$2,FlexCleanRegions,2,FALSE)&(($A40/20)-1)&$B$4,FlexCleanRates,9,FALSE)*0.01*$B$1)/A40) + IF($B$2<>\"\",IF($B40>0,IF($B$7=$D$15,$E$15,IF($B$7=$D$16,$E$16))))","v":0},{"$f":"IF(VLOOKUP((VLOOKUP($B$2,FlexCleanRegions,2,FALSE)&((4)))&$B$4, FlexCleanRates, $B8, FALSE) = \"1BO\", 0, 1)","v":0},{"$f":"IF(VLOOKUP((VLOOKUP($B$2,FlexCleanRegions,2,FALSE)&((4)))&$B$4, FlexCleanRates, $B8, FALSE) = \"NA\", 0, 1)","v":1},null,36,0,{"$f":"IF(AND(K$33<=$B$1,$B$1<L$33,$B3=$E2),IF(K36 = \"NA\", 0,K36*$B$1),0)","v":0},{"$f":"IF(AND(L$33<=$B$1,$B$1<M$33,$B3=$E2),IF(L36 = \"NA\", 0,L36*$B$1),0)","v":0},{"$f":"IF(AND(M$33<=$B$1,$B$1<N$33,$B3=$E2),IF(M36 = \"NA\", 0,M36*$B$1),0)","v":0},{"$f":"IF(AND(N$33<=$B$1,$B$1<O$33,$B3=$E2),IF(N36 = \"NA\", 0,N36*$B$1),0)","v":0},{"$f":"IF(AND(O$33<=$B$1,$B$1<P$33,$B3=$E2),IF(O36 = \"NA\", 0,O36*$B$1),0)","v":0},null,36,0,{"$f":"IF(AND(S$33<=$B$1,$B$1<T$33,$B3=$E2),IF(S36 = \"NA\", 0,S36*$B$1),0)","v":0},{"$f":"IF(AND(T$33<=$B$1,$B$1<U$33,$B3=$E2),IF(T36 = \"NA\", 0,T36*$B$1),0)","v":0},{"$f":"IF(AND(U$33<=$B$1,$B$1<V$33,$B3=$E2),IF(U36 = \"NA\", 0,U36*$B$1),0)","v":0},{"$f":"IF(AND(V$33<=$B$1,$B$1<W$33,$B3=$E2),IF(V36 = \"NA\", 0,V36*$B$1),0)","v":0},{"$f":"IF(AND(W$33<=$B$1,$B$1<X$33,$B3=$E2),IF(W36 = \"NA\", 0,W36*$B$1),0)","v":0},null,36,0,{"$f":"IF(AND(AA$33<=$B$1,$B$1<AB$33,$B3=$E2),IF(AA36 = \"NA\", 0,AA36*$B$1),0)","v":0},{"$f":"IF(AND(AB$33<=$B$1,$B$1<AC$33,$B3=$E2),IF(AB36 = \"NA\", 0,AB36*$B$1),0)","v":0},{"$f":"IF(AND(AC$33<=$B$1,$B$1<AD$33,$B3=$E2),IF(AC36 = \"NA\", 0,AC36*$B$1),0)","v":0},{"$f":"IF(AND(AD$33<=$B$1,$B$1<AE$33,$B3=$E2),IF(AD36 = \"NA\", 0,AD36*$B$1),0)","v":0},{"$f":"IF(AND(AE$33<=$B$1,$B$1<AF$33,$B3=$E2),IF(AE36 = \"NA\", 0,AE36*$B$1),0)","v":0},null,36,0,{"$f":"IF(AND(AI$33<=$B$1,$B$1<AJ$33,$B3=$E2),IF(AI36 = \"NA\", 0,AI36*$B$1),0)","v":0},{"$f":"IF(AND(AJ$33<=$B$1,$B$1<AK$33,$B3=$E2),IF(AJ36 = \"NA\", 0,AJ36*$B$1),0)","v":0},{"$f":"IF(AND(AK$33<=$B$1,$B$1<AL$33,$B3=$E2),IF(AK36 = \"NA\", 0,AK36*$B$1),0)","v":0},{"$f":"IF(AND(AL$33<=$B$1,$B$1<AM$33,$B3=$E2),IF(AL36 = \"NA\", 0,AL36*$B$1),0)","v":0},{"$f":"IF(AND(AM$33<=$B$1,$B$1<AN$33,$B3=$E2),IF(AM36 = \"NA\", 0,AM36*$B$1),0)","v":0},null,36,0,{"$f":"IF(AND(AQ$33<=$B$1,$B$1<AR$33,$B3=$E2),IF(AQ36 = \"NA\", 0,AQ36*$B$1),0)","v":0},{"$f":"IF(AND(AR$33<=$B$1,$B$1<AS$33,$B3=$E2),IF(AR36 = \"NA\", 0,AR36*$B$1),0)","v":0},{"$f":"IF(AND(AS$33<=$B$1,$B$1<AT$33,$B3=$E2),IF(AS36 = \"NA\", 0,AS36*$B$1),0)","v":0},{"$f":"IF(AND(AT$33<=$B$1,$B$1<AU$33,$B3=$E2),IF(AT36 = \"NA\", 0,AT36*$B$1),0)","v":0},{"$f":"IF(AND(AU$33<=$B$1,$B$1<AV$33,$B3=$E2),IF(AU36 = \"NA\", 0,AU36*$B$1),0)","v":0}]
[125,{"$f":"(VLOOKUP(VLOOKUP($B$2,FlexCleanRegions,2,FALSE)&((5)-1)&$B$4,FlexCleanRates,8,FALSE)*0.01*$B$1)+SUM(B30:D30) * F41 * G41","v":0},null,{"$f":"(VLOOKUP(VLOOKUP($B$2,FlexCleanRegions,2,FALSE)&((5)-1)&$B$4,FlexCleanRates,9,FALSE)*0.01*$B$1)+SUM(E30) * G41","v":0},{"$f":"IF(ISERROR(B41),#N/A,(VLOOKUP(VLOOKUP($B$2,FlexCleanRegions,2,FALSE)&((5)-1)&$B$4,FlexCleanRates,9,FALSE)*0.01*$B$1)/A41) + IF($B$2<>\"\",IF($B41>0,IF($B$7=$D$15,$E$15,IF($B$7=$D$16,$E$16))))","v":0},{"$f":"IF(VLOOKUP((VLOOKUP($B$2,FlexCleanRegions,2,FALSE)&((5)))&$B$4, FlexCleanRates, $B8, FALSE) = \"1BO\", 0, 1)","v":0},{"$f":"IF(VLOOKUP((VLOOKUP($B$2,FlexCleanRegions,2,FALSE)&((5)))&$B$4, FlexCleanRates, $B8, FALSE) = \"NA\", 0, 1)","v":1},null,48,0,{"$f":"IF(AND(K$33<=$B$1,$B$1<L$33,$B3=$E3),IF(K37 = \"NA\", 0,K37*$B$1),0)","v":0},{"$f":"IF(AND(L$33<=$B$1,$B$1<M$33,$B3=$E3),IF(L37 = \"NA\", 0,L37*$B$1),0)","v":0},{"$f":"IF(AND(M$33<=$B$1,$B$1<N$33,$B3=$E3),IF(M37 = \"NA\", 0,M37*$B$1),0)","v":0},{"$f":"IF(AND(N$33<=$B$1,$B$1<O$33,$B3=$E3),IF(N37 = \"NA\", 0,N37*$B$1),0)","v":0},{"$f":"IF(AND(O$33<=$B$1,$B$1<P$33,$B3=$E3),IF(O37 = \"NA\", 0,O37*$B$1),0)","v":0},null,48,0,{"$f":"IF(AND(S$33<=$B$1,$B$1<T$33,$B3=$E3),IF(S37 = \"NA\", 0,S37*$B$1),0)","v":0},{"$f":"IF(AND(T$33<=$B$1,$B$1<U$33,$B3=$E3),IF(T37 = \"NA\", 0,T37*$B$1),0)","v":0},{"$f":"IF(AND(U$33<=$B$1,$B$1<V$33,$B3=$E3),IF(U37 = \"NA\", 0,U37*$B$1),0)","v":0},{"$f":"IF(AND(V$33<=$B$1,$B$1<W$33,$B3=$E3),IF(V37 = \"NA\", 0,V37*$B$1),0)","v":0},{"$f":"IF(AND(W$33<=$B$1,$B$1<X$33,$B3=$E3),IF(W37 = \"NA\", 0,W37*$B$1),0)","v":0},null,48,0,{"$f":"IF(AND(AA$33<=$B$1,$B$1<AB$33,$B3=$E3),IF(AA37 = \"NA\", 0,AA37*$B$1),0)","v":0},{"$f":"IF(AND(AB$33<=$B$1,$B$1<AC$33,$B3=$E3),IF(AB37 = \"NA\", 0,AB37*$B$1),0)","v":0},{"$f":"IF(AND(AC$33<=$B$1,$B$1<AD$33,$B3=$E3),IF(AC37 = \"NA\", 0,AC37*$B$1),0)","v":0},{"$f":"IF(AND(AD$33<=$B$1,$B$1<AE$33,$B3=$E3),IF(AD37 = \"NA\", 0,AD37*$B$1),0)","v":0},{"$f":"IF(AND(AE$33<=$B$1,$B$1<AF$33,$B3=$E3),IF(AE37 = \"NA\", 0,AE37*$B$1),0)","v":0},null,48,0,{"$f":"IF(AND(AI$33<=$B$1,$B$1<AJ$33,$B3=$E3),IF(AI37 = \"NA\", 0,AI37*$B$1),0)","v":0},{"$f":"IF(AND(AJ$33<=$B$1,$B$1<AK$33,$B3=$E3),IF(AJ37 = \"NA\", 0,AJ37*$B$1),0)","v":0},{"$f":"IF(AND(AK$33<=$B$1,$B$1<AL$33,$B3=$E3),IF(AK37 = \"NA\", 0,AK37*$B$1),0)","v":0},{"$f":"IF(AND(AL$33<=$B$1,$B$1<AM$33,$B3=$E3),IF(AL37 = \"NA\", 0,AL37*$B$1),0)","v":0},{"$f":"IF(AND(AM$33<=$B$1,$B$1<AN$33,$B3=$E3),IF(AM37 = \"NA\", 0,AM37*$B$1),0)","v":0},null,48,0,{"$f":"IF(AND(AQ$33<=$B$1,$B$1<AR$33,$B3=$E3),IF(AQ37 = \"NA\", 0,AQ37*$B$1),0)","v":0},{"$f":"IF(AND(AR$33<=$B$1,$B$1<AS$33,$B3=$E3),IF(AR37 = \"NA\", 0,AR37*$B$1),0)","v":0},{"$f":"IF(AND(AS$33<=$B$1,$B$1<AT$33,$B3=$E3),IF(AS37 = \"NA\", 0,AS37*$B$1),0)","v":0},{"$f":"IF(AND(AT$33<=$B$1,$B$1<AU$33,$B3=$E3),IF(AT37 = \"NA\", 0,AT37*$B$1),0)","v":0},{"$f":"IF(AND(AU$33<=$B$1,$B$1<AV$33,$B3=$E3),IF(AU37 = \"NA\", 0,AU37*$B$1),0)","v":0}]
[150,{"$f":"(VLOOKUP(VLOOKUP($B$2,FlexCleanRegions,2,FALSE)&((6)-1)&$B$4,FlexCleanRates,9,FALSE)*0.01*$B$1)+SUM(B31:D31) * F42 * G42","v":0},null,{"$f":"(VLOOKUP(VLOOKUP($B$2,FlexCleanRegions,2,FALSE)&((6)-1)&$B$4,FlexCleanRates,9,FALSE)*0.01*$B$1)+SUM(E31) * G42","v":0},{"$f":"IF(ISERROR(B42),#N/A,(VLOOKUP(VLOOKUP($B$2,FlexCleanRegions,2,FALSE)&((6)-1)&$B$4,FlexCleanRates,9,FALSE)*0.01*$B$1)/A42) + IF($B$2<>\"\",IF($B42>0,IF($B$7=$D$15,$E$15,IF($B$7=$D$16,$E$16))))","v":0},{"$f":"IF(VLOOKUP((VLOOKUP($B$2,FlexCleanRegions,2,FALSE)&((6)))&$B$4, FlexCleanRates, $B8, FALSE) = \"1BO\", 0, 1)","v":0},{"$f":"IF(VLOOKUP((VLOOKUP($B$2,FlexCleanRegions,2,FALSE)&((6)))&$B$4, FlexCleanRates, $B8, FALSE) = \"NA\", 0, 1)","v":1},null,48,0,{"$f":"IF(AND(K$33<=$B$1,$B$1<L$33,$B3=$E4),IF(K38 = \"NA\", 0,K38*$B$1),0)","v":0},{"$f":"IF(AND(L$33<=$B$1,$B$1<M$33,$B3=$E4),IF(L38 = \"NA\", 0,L38*$B$1),0)","v":0},{"$f":"IF(AND(M$33<=$B$1,$B$1<N$33,$B3=$E4),IF(M38 = \"NA\", 0,M38*$B$1),0)","v":0},{"$f":"IF(AND(N$33<=$B$1,$B$1<O$33,$B3=$E4),IF(N38 = \"NA\", 0,N38*$B$1),0)","v":0},{"$f":"IF(AND(O$33<=$B$1,$B$1<P$33,$B3=$E4),IF(O38 = \"NA\", 0,O38*$B$1),0)","v":0},null,48,0,{"$f":"IF(AND(S$33<=$B$1,$B$1<T$33,$B3=$E4),IF(S38 = \"NA\", 0,S38*$B$1),0)","v":0},{"$f":"IF(AND(T$33<=$B$1,$B$1<U$33,$B3=$E4),IF(T38 = \"NA\", 0,T38*$B$1),0)","v":0},{"$f":"IF(AND(U$33<=$B$1,$B$1<V$33,$B3=$E4),IF(U38 = \"NA\", 0,U38*$B$1),0)","v":0},{"$f":"IF(AND(V$33<=$B$1,$B$1<W$33,$B3=$E4),IF(V38 = \"NA\", 0,V38*$B$1),0)","v":0},{"$f":"IF(AND(W$33<=$B$1,$B$1<X$33,$B3=$E4),IF(W38 = \"NA\", 0,W38*$B$1),0)","v":0},null,48,0,{"$f":"IF(AND(AA$33<=$B$1,$B$1<AB$33,$B3=$E4),IF(AA38 = \"NA\", 0,AA38*$B$1),0)","v":0},{"$f":"IF(AND(AB$33<=$B$1,$B$1<AC$33,$B3=$E4),IF(AB38 = \"NA\", 0,AB38*$B$1),0)","v":0},{"$f":"IF(AND(AC$33<=$B$1,$B$1<AD$33,$B3=$E4),IF(AC38 = \"NA\", 0,AC38*$B$1),0)","v":0},{"$f":"IF(AND(AD$33<=$B$1,$B$1<AE$33,$B3=$E4),IF(AD38 = \"NA\", 0,AD38*$B$1),0)","v":0},{"$f":"IF(AND(AE$33<=$B$1,$B$1<AF$33,$B3=$E4),IF(AE38 = \"NA\", 0,AE38*$B$1),0)","v":0},null,48,0,{"$f":"IF(AND(AI$33<=$B$1,$B$1<AJ$33,$B3=$E4),IF(AI38 = \"NA\", 0,AI38*$B$1),0)","v":0},{"$f":"IF(AND(AJ$33<=$B$1,$B$1<AK$33,$B3=$E4),IF(AJ38 = \"NA\", 0,AJ38*$B$1),0)","v":0},{"$f":"IF(AND(AK$33<=$B$1,$B$1<AL$33,$B3=$E4),IF(AK38 = \"NA\", 0,AK38*$B$1),0)","v":0},{"$f":"IF(AND(AL$33<=$B$1,$B$1<AM$33,$B3=$E4),IF(AL38 = \"NA\", 0,AL38*$B$1),0)","v":0},{"$f":"IF(AND(AM$33<=$B$1,$B$1<AN$33,$B3=$E4),IF(AM38 = \"NA\", 0,AM38*$B$1),0)","v":0},null,48,0,{"$f":"IF(AND(AQ$33<=$B$1,$B$1<AR$33,$B3=$E4),IF(AQ38 = \"NA\", 0,AQ38*$B$1),0)","v":0},{"$f":"IF(AND(AR$33<=$B$1,$B$1<AS$33,$B3=$E4),IF(AR38 = \"NA\", 0,AR38*$B$1),0)","v":0},{"$f":"IF(AND(AS$33<=$B$1,$B$1<AT$33,$B3=$E4),IF(AS38 = \"NA\", 0,AS38*$B$1),0)","v":0},{"$f":"IF(AND(AT$33<=$B$1,$B$1<AU$33,$B3=$E4),IF(AT38 = \"NA\", 0,AT38*$B$1),0)","v":0},{"$f":"IF(AND(AU$33<=$B$1,$B$1<AV$33,$B3=$E4),IF(AU38 = \"NA\", 0,AU38*$B$1),0)","v":0}]
[null,null,null,0,0,null,null,null,{"$f":"SUM(K43:O43)","v":0},null,{"$f":"SUM(K40:K42)","v":0},{"$f":"SUM(L40:L42)","v":0},{"$f":"SUM(M40:M42)","v":0},{"$f":"SUM(N40:N42)","v":0},{"$f":"SUM(O40:O42)","v":0},null,{"$f":"SUM(S43:W43)","v":0},null,{"$f":"SUM(S40:S42)","v":0},{"$f":"SUM(T40:T42)","v":0},{"$f":"SUM(U40:U42)","v":0},{"$f":"SUM(V40:V42)","v":0},{"$f":"SUM(W40:W42)","v":0},null,{"$f":"SUM(AA43:AE43)","v":0},null,{"$f":"SUM(AA40:AA42)","v":0},{"$f":"SUM(AB40:AB42)","v":0},{"$f":"SUM(AC40:AC42)","v":0},{"$f":"SUM(AD40:AD42)","v":0},{"$f":"SUM(AE40:AE42)","v":0},null,{"$f":"SUM(AI43:AM43)","v":0},null,{"$f":"SUM(AI40:AI42)","v":0},{"$f":"SUM(AJ40:AJ42)","v":0},{"$f":"SUM(AK40:AK42)","v":0},{"$f":"SUM(AL40:AL42)","v":0},{"$f":"SUM(AM40:AM42)","v":0},null,{"$f":"SUM(AQ43:AU43)","v":0},null,{"$f":"SUM(AQ40:AQ42)","v":0},{"$f":"SUM(AR40:AR42)","v":0},{"$f":"SUM(AS40:AS42)","v":0},{"$f":"SUM(AT40:AT42)","v":0},{"$f":"SUM(AU40:AU42)","v":0}]
["Back up only, not using…"]
[null,"Price",null,"Hourly Overage Fee"]
["Hours included per Month:",null,null,null,null,null,null,null,{"$f":"Financing!C9","v":"OnPoint Capital"}]
[40,{"$f":"(VLOOKUP(VLOOKUP($B$2,FlexCleanRegions,2,FALSE)&(($A47/20)-1)&$B$4,FlexCleanRates,9,FALSE)*0.01*$B$1)+SUM(B26:E26)","v":0},{"$f":"VLOOKUP(#REF!&#REF!&\"M20\",FlexCleanRates,9,FALSE)*3*#REF!","v":{"$error":"#REF!"}},{"$f":"IF(ISERROR(B47),#N/A,(VLOOKUP(VLOOKUP($B$2,FlexCleanRegions,2,FALSE)&(($A47/20)-1)&$B$4,FlexCleanRates,9,FALSE)*0.01*$B$1)/A47 + (SUM(B26:E26)/A37))","v":0},{"$f":"VLOOKUP(#REF!&#REF!&\"M20\",FlexCleanRates,9,FALSE)*3*#REF!","v":{"$error":"#REF!"}},null,null,null,"FMV Sweeper"]
[60,{"$f":"(VLOOKUP(VLOOKUP($B$2,FlexCleanRegions,2,FALSE)&(($A48/20)-1)&$B$4,FlexCleanRates,9,FALSE)*0.01*$B$1)+SUM(B27:E27)","v":0},{"$f":"VLOOKUP(#REF!&#REF!&\"M20\",FlexCleanRates,9,FALSE)*3*#REF!","v":{"$error":"#REF!"}},{"$f":"IF(ISERROR(B48),#N/A,(VLOOKUP(VLOOKUP($B$2,FlexCleanRegions,2,FALSE)&(($A48/20)-1)&$B$4,FlexCleanRates,9,FALSE)*0.01*$B$1)/A48 + (SUM(B27:E27)/A38))","v":0},{"$f":"VLOOKUP(#REF!&#REF!&\"M20\",FlexCleanRates,9,FALSE)*3*#REF!","v":{"$error":"#REF!"}},null,null,null,"300 Hours/Yr",null,null,null,null,null,null,null,"480 Hours/Yr",null,null,null,null,null,null,null,"720 Hours/Yr",null,null,null,null,null,null,null,"960 Hours/Yr",null,null,null,null,null,null,null,"1200 Hours/Yr"]
[80,{"$f":"(VLOOKUP(VLOOKUP($B$2,FlexCleanRegions,2,FALSE)&(($A49/20)-1)&$B$4,FlexCleanRates,9,FALSE)*0.01*$B$1)+SUM(B28:E28)","v":0},{"$f":"VLOOKUP(#REF!&#REF!&\"M20\",FlexCleanRates,9,FALSE)*3*#REF!","v":{"$error":"#REF!"}},{"$f":"IF(ISERROR(B49),#N/A,(VLOOKUP(VLOOKUP($B$2,FlexCleanRegions,2,FALSE)&(($A49/20)-1)&$B$4,FlexCleanRates,9,FALSE)*0.01*$B$1)/A49 + (SUM(B28:E28)/A39))","v":0},{"$f":"VLOOKUP(#REF!&#REF!&\"M20\",FlexCleanRates,9,FALSE)*3*#REF!","v":{"$error":"#REF!"}},null,null,null,null,null,3000,10000,25000,50000,100000,null,null,null,3000,10000,25000,50000,100000,null,null,null,3000,10000,25000,50000,100000,null,null,null,3000,10000,25000,50000,100000,null,null,null,3000,10000,25000,50000,100000]
[100,{"$f":"(VLOOKUP(VLOOKUP($B$2,FlexCleanRegions,2,FALSE)&(($A50/20)-1)&$B$4,FlexCleanRates,9,FALSE)*0.01*$B$1)+SUM(B29:E29)","v":0},{"$f":"VLOOKUP(#REF!&#REF!&\"M20\",FlexCleanRates,9,FALSE)*3*#REF!","v":{"$error":"#REF!"}},{"$f":"IF(ISERROR(B50),#N/A,(VLOOKUP(VLOOKUP($B$2,FlexCleanRegions,2,FALSE)&(($A50/20)-1)&$B$4,FlexCleanRates,9,FALSE)*0.01*$B$1)/A50 + (SUM(B29:E29)/A40))","v":0},{"$f":"VLOOKUP(#REF!&#REF!&\"M20\",FlexCleanRates,9,FALSE)*3*#REF!","v":{"$error":"#REF!"}},null,null,null,null,null,"to","to","to","to","to",null,null,null,"to","to","to","to","to",null,null,null,"to","to","to","to","to",null,null,null,"to","to","to","to","to",null,null,null,"to","to","to","to","to"]
[null,null,null,null,null,null,null,null,"Term","Adv",9999,24999,49999,99999,null,null,"Term","Adv",9999,24999,49999,99999,null,null,"Term","Adv",9999,24999,49999,99999,null,null,"Term","Adv",9999,24999,49999,99999,null,null,"Term","Adv",9999,24999,49999,99999]
[null,null,null,null,null,null,null,null,36,0,{"$f":"SUM(Financing!$N29)","v":2.9530000000000001E-2},{"$f":"SUM(Financing!$O29)","v":2.921E-2},{"$f":"SUM(Financing!$P29)","v":2.768E-2},{"$f":"SUM(Financing!$Q29)","v":2.768E-2},{"$f":"SUM(Financing!$R29)","v":2.768E-2},null,36,0,{"$f":"SUM(Financing!$N29)","v":2.9530000000000001E-2},{"$f":"SUM(Financing!$O29)","v":2.921E-2},{"$f":"SUM(Financing!$P29)","v":2.768E-2},{"$f":"SUM(Financing!$Q29)","v":2.768E-2},{"$f":"SUM(Financing!$R29)","v":2.768E-2},null,36,0,{"$f":"SUM(Financing!$N29)","v":2.9530000000000001E-2},{"$f":"SUM(Financing!$O29)","v":2.921E-2},{"$f":"SUM(Financing!$P29)","v":2.768E-2},{"$f":"SUM(Financing!$Q29)","v":2.768E-2},{"$f":"SUM(Financing!$R29)","v":2.768E-2},null,36,0,{"$f":"SUM(Financing!$N29)","v":2.9530000000000001E-2},{"$f":"SUM(Financing!$O29)","v":2.921E-2},{"$f":"SUM(Financing!$P29)","v":2.768E-2},{"$f":"SUM(Financing!$Q29)","v":2.768E-2},{"$f":"SUM(Financing!$R29)","v":2.768E-2},null,36,0,{"$f":"SUM(Financing!$N29)","v":2.9530000000000001E-2},{"$f":"SUM(Financing!$O29)","v":2.921E-2},{"$f":"SUM(Financing!$P29)","v":2.768E-2},{"$f":"SUM(Financing!$Q29)","v":2.768E-2},{"$f":"SUM(Financing!$R29)","v":2.768E-2}]
[null,null,null,null,null,null,null,null,48,0,{"$f":"SUM(Financing!$N30)","v":2.4049999999999998E-2},{"$f":"SUM(Financing!$O30)","v":2.3800000000000002E-2},{"$f":"SUM(Financing!$P30)","v":2.1930000000000002E-2},{"$f":"SUM(Financing!$Q30)","v":2.1930000000000002E-2},{"$f":"SUM(Financing!$R30)","v":2.1860000000000001E-2},null,48,0,{"$f":"SUM(Financing!$N30)","v":2.4049999999999998E-2},{"$f":"SUM(Financing!$O30)","v":2.3800000000000002E-2},{"$f":"SUM(Financing!$P30)","v":2.1930000000000002E-2},{"$f":"SUM(Financing!$Q30)","v":2.1930000000000002E-2},{"$f":"SUM(Financing!$R30)","v":2.1860000000000001E-2},null,48,0,{"$f":"SUM(Financing!$N30)","v":2.4049999999999998E-2},{"$f":"SUM(Financing!$O30)","v":2.3800000000000002E-2},{"$f":"SUM(Financing!$P30)","v":2.1930000000000002E-2},{"$f":"SUM(Financing!$Q30)","v":2.1930000000000002E-2},{"$f":"SUM(Financing!$R30)","v":2.1860000000000001E-2},null,48,0,{"$f":"SUM(Financing!$N30)","v":2.4049999999999998E-2},{"$f":"SUM(Financing!$O30)","v":2.3800000000000002E-2},{"$f":"SUM(Financing!$P30)","v":2.1930000000000002E-2},{"$f":"SUM(Financing!$Q30)","v":2.1930000000000002E-2},{"$f":"SUM(Financing!$R30)","v":2.1860000000000001E-2},null,48,0,{"$f":"SUM(Financing!$N30)","v":2.4049999999999998E-2},{"$f":"SUM(Financing!$O30)","v":2.3800000000000002E-2},{"$f":"SUM(Financing!$P30)","v":2.1930000000000002E-2},{"$f":"SUM(Financing!$Q30)","v":2.1930000000000002E-2},{"$f":"SUM(Financing!$R30)","v":2.1860000000000001E-2}]
[null,null,null,null,null,null,null,null,60,0,{"$f":"SUM(Financing!$N31)","v":2.1000000000000001E-2},{"$f":"SUM(Financing!$O31)","v":2.0789999999999999E-2},{"$f":"SUM(Financing!$P31)","v":1.847E-2},{"$f":"SUM(Financing!$Q31)","v":1.847E-2},{"$f":"SUM(Financing!$R31)","v":1.8380000000000001E-2},null,48,0,{"$f":"SUM(Financing!$N31)","v":2.1000000000000001E-2},{"$f":"SUM(Financing!$O31)","v":2.0789999999999999E-2},{"$f":"SUM(Financing!$P31)","v":1.847E-2},{"$f":"SUM(Financing!$Q31)","v":1.847E-2},{"$f":"SUM(Financing!$R31)","v":1.8380000000000001E-2},null,48,0,{"$f":"SUM(Financing!$N31)","v":2.1000000000000001E-2},{"$f":"SUM(Financing!$O31)","v":2.0789999999999999E-2},{"$f":"SUM(Financing!$P31)","v":1.847E-2},{"$f":"SUM(Financing!$Q31)","v":1.847E-2},{"$f":"SUM(Financing!$R31)","v":1.8380000000000001E-2},null,48,0,{"$f":"SUM(Financing!$N31)","v":2.1000000000000001E-2},{"$f":"SUM(Financing!$O31)","v":2.0789999999999999E-2},{"$f":"SUM(Financing!$P31)","v":1.847E-2},{"$f":"SUM(Financing!$Q31)","v":1.847E-2},{"$f":"SUM(Financing!$R31)","v":1.8380000000000001E-2},null,48,0,{"$f":"SUM(Financing!$N31)","v":2.1000000000000001E-2},{"$f":"SUM(Financing!$O31)","v":2.0789999999999999E-2},{"$f":"SUM(Financing!$P31)","v":1.847E-2},{"$f":"SUM(Financing!$Q31)","v":1.847E-2},{"$f":"SUM(Financing!$R31)","v":1.8380000000000001E-2}]
[]
[null,null,null,null,null,null,null,null,36,0,{"$f":"IF(AND(K$49<=$B$1,$B$1<L$49,$B3=$E2, $B5=$D11),IF(K52 = \"NA\", 0,K52*$B$1),0)","v":0},{"$f":"IF(AND(L$49<=$B$1,$B$1<M$49,$B3=$E2, $B5=$D11),IF(L52 = \"NA\", 0,L52*$B$1),0)","v":0},{"$f":"IF(AND(M$49<=$B$1,$B$1<N$49,$B3=$E2, $B5=$D11),IF(M52 = \"NA\", 0,M52*$B$1),0)","v":0},{"$f":"IF(AND(N$49<=$B$1,$B$1<O$49,$B3=$E2, $B5=$D11),IF(N52 = \"NA\", 0,N52*$B$1),0)","v":0},{"$f":"IF(AND(O$49<=$B$1,$B3=$E2, $B5=$D11),IF(O52 = \"NA\", 0,O52*$B$1),0)","v":0},null,36,0,{"$f":"IF(AND(S$49<=$B$1,$B$1<T$49,$B3=$E2, $B5=$D11),IF(S52 = \"NA\", 0,S52*$B$1),0)","v":0},{"$f":"IF(AND(T$49<=$B$1,$B$1<U$49,$B3=$E2, $B5=$D11),IF(T52 = \"NA\", 0,T52*$B$1),0)","v":0},{"$f":"IF(AND(U$49<=$B$1,$B$1<V$49,$B3=$E2, $B5=$D11),IF(U52 = \"NA\", 0,U52*$B$1),0)","v":0},{"$f":"IF(AND(V$49<=$B$1,$B$1<W$49,$B3=$E2, $B5=$D11),IF(V52 = \"NA\", 0,V52*$B$1),0)","v":0},{"$f":"IF(AND(W$49<=$B$1,$B3=$E2, $B5=$D11),IF(W52 = \"NA\", 0,W52*$B$1),0)","v":0},null,36,0,{"$f":"IF(AND(AA$49<=$B$1,$B$1<AB$49,$B3=$E2, $B5=$D11),IF(AA52 = \"NA\", 0,AA52*$B$1),0)","v":0},{"$f":"IF(AND(AB$49<=$B$1,$B$1<AC$49,$B3=$E2, $B5=$D11),IF(AB52 = \"NA\", 0,AB52*$B$1),0)","v":0},{"$f":"IF(AND(AC$49<=$B$1,$B$1<AD$49,$B3=$E2, $B5=$D11),IF(AC52 = \"NA\", 0,AC52*$B$1),0)","v":0},{"$f":"IF(AND(AD$49<=$B$1,$B$1<AE$49,$B3=$E2, $B5=$D11),IF(AD52 = \"NA\", 0,AD52*$B$1),0)","v":0},{"$f":"IF(AND(AE$49<=$B$1,$B3=$E2, $B5=$D11),IF(AE52 = \"NA\", 0,AE52*$B$1),0)","v":0},null,36,0,{"$f":"IF(AND(AI$49<=$B$1,$B$1<AJ$49,$B3=$E2, $B5=$D11),IF(AI52 = \"NA\", 0,AI52*$B$1),0)","v":0},{"$f":"IF(AND(AJ$49<=$B$1,$B$1<AK$49,$B3=$E2, $B5=$D11),IF(AJ52 = \"NA\", 0,AJ52*$B$1),0)","v":0},{"$f":"IF(AND(AK$49<=$B$1,$B$1<AL$49,$B3=$E2, $B5=$D11),IF(AK52 = \"NA\", 0,AK52*$B$1),0)","v":0},{"$f":"IF(AND(AL$49<=$B$1,$B$1<AM$49,$B3=$E2, $B5=$D11),IF(AL52 = \"NA\", 0,AL52*$B$1),0)","v":0},{"$f":"IF(AND(AM$49<=$B$1,$B3=$E2, $B5=$D11),IF(AM52 = \"NA\", 0,AM52*$B$1),0)","v":0},null,36,0,{"$f":"IF(AND(AQ$49<=$B$1,$B$1<AR$49,$B3=$E2, $B5=$D11),IF(AQ52 = \"NA\", 0,AQ52*$B$1),0)","v":0},{"$f":"IF(AND(AR$49<=$B$1,$B$1<AS$49,$B3=$E2, $B5=$D11),IF(AR52 = \"NA\", 0,AR52*$B$1),0)","v":0},{"$f":"IF(AND(AS$49<=$B$1,$B$1<AT$49,$B3=$E2, $B5=$D11),IF(AS52 = \"NA\", 0,AS52*$B$1),0)","v":0},{"$f":"IF(AND(AT$49<=$B$1,$B$1<AU$49,$B3=$E2, $B5=$D11),IF(AT52 = \"NA\", 0,AT52*$B$1),0)","v":0},{"$f":"IF(AND(AU$49<=$B$1,$B3=$E2, $B5=$D11),IF(AU52 = \"NA\", 0,AU52*$B$1),0)","v":0}]
[null,null,null,null,null,null,null,null,48,0,{"$f":"IF(AND(K$49<=$B$1,$B$1<L$49,$B3=$E3, $B5=$D11),IF(K53 = \"NA\", 0,K53*$B$1),0)","v":0},{"$f":"IF(AND(L$49<=$B$1,$B$1<M$49,$B3=$E3, $B5=$D11),IF(L53 = \"NA\", 0,L53*$B$1),0)","v":0},{"$f":"IF(AND(M$49<=$B$1,$B$1<N$49,$B3=$E3, $B5=$D11),IF(M53 = \"NA\", 0,M53*$B$1),0)","v":0},{"$f":"IF(AND(N$49<=$B$1,$B$1<O$49,$B3=$E3, $B5=$D11),IF(N53 = \"NA\", 0,N53*$B$1),0)","v":0},{"$f":"IF(AND(O$49<=$B$1,$B3=$E3, $B5=$D11),IF(O53 = \"NA\", 0,O53*$B$1),0)","v":0},null,48,0,{"$f":"IF(AND(S$49<=$B$1,$B$1<T$49,$B3=$E3, $B5=$D11),IF(S53 = \"NA\", 0,S53*$B$1),0)","v":0},{"$f":"IF(AND(T$49<=$B$1,$B$1<U$49,$B3=$E3, $B5=$D11),IF(T53 = \"NA\", 0,T53*$B$1),0)","v":0},{"$f":"IF(AND(U$49<=$B$1,$B$1<V$49,$B3=$E3, $B5=$D11),IF(U53 = \"NA\", 0,U53*$B$1),0)","v":0},{"$f":"IF(AND(V$49<=$B$1,$B$1<W$49,$B3=$E3, $B5=$D11),IF(V53 = \"NA\", 0,V53*$B$1),0)","v":0},{"$f":"IF(AND(W$49<=$B$1,$B3=$E3, $B5=$D11),IF(W53 = \"NA\", 0,W53*$B$1),0)","v":0},null,48,0,{"$f":"IF(AND(AA$49<=$B$1,$B$1<AB$49,$B3=$E3, $B5=$D11),IF(AA53 = \"NA\", 0,AA53*$B$1),0)","v":0},{"$f":"IF(AND(AB$49<=$B$1,$B$1<AC$49,$B3=$E3, $B5=$D11),IF(AB53 = \"NA\", 0,AB53*$B$1),0)","v":0},{"$f":"IF(AND(AC$49<=$B$1,$B$1<AD$49,$B3=$E3, $B5=$D11),IF(AC53 = \"NA\", 0,AC53*$B$1),0)","v":0},{"$f":"IF(AND(AD$49<=$B$1,$B$1<AE$49,$B3=$E3, $B5=$D11),IF(AD53 = \"NA\", 0,AD53*$B$1),0)","v":0},{"$f":"IF(AND(AE$49<=$B$1,$B3=$E3, $B5=$D11),IF(AE53 = \"NA\", 0,AE53*$B$1),0)","v":0},null,48,0,{"$f":"IF(AND(AI$49<=$B$1,$B$1<AJ$49,$B3=$E3, $B5=$D11),IF(AI53 = \"NA\", 0,AI53*$B$1),0)","v":0},{"$f":"IF(AND(AJ$49<=$B$1,$B$1<AK$49,$B3=$E3, $B5=$D11),IF(AJ53 = \"NA\", 0,AJ53*$B$1),0)","v":0},{"$f":"IF(AND(AK$49<=$B$1,$B$1<AL$49,$B3=$E3, $B5=$D11),IF(AK53 = \"NA\", 0,AK53*$B$1),0)","v":0},{"$f":"IF(AND(AL$49<=$B$1,$B$1<AM$49,$B3=$E3, $B5=$D11),IF(AL53 = \"NA\", 0,AL53*$B$1),0)","v":0},{"$f":"IF(AND(AM$49<=$B$1,$B3=$E3, $B5=$D11),IF(AM53 = \"NA\", 0,AM53*$B$1),0)","v":0},null,48,0,{"$f":"IF(AND(AQ$49<=$B$1,$B$1<AR$49,$B3=$E3, $B5=$D11),IF(AQ53 = \"NA\", 0,AQ53*$B$1),0)","v":0},{"$f":"IF(AND(AR$49<=$B$1,$B$1<AS$49,$B3=$E3, $B5=$D11),IF(AR53 = \"NA\", 0,AR53*$B$1),0)","v":0},{"$f":"IF(AND(AS$49<=$B$1,$B$1<AT$49,$B3=$E3, $B5=$D11),IF(AS53 = \"NA\", 0,AS53*$B$1),0)","v":0},{"$f":"IF(AND(AT$49<=$B$1,$B$1<AU$49,$B3=$E3, $B5=$D11),IF(AT53 = \"NA\", 0,AT53*$B$1),0)","v":0},{"$f":"IF(AND(AU$49<=$B$1,$B3=$E3, $B5=$D11),IF(AU53 = \"NA\", 0,AU53*$B$1),0)","v":0}]
[null,null,null,null,null,null,null,null,60,0,{"$f":"IF(AND(K$49<=$B$1,$B$1<L$49,$B3=$E4, $B5=$D11),IF(K54 = \"NA\", 0,K54*$B$1),0)","v":0},{"$f":"IF(AND(L$49<=$B$1,$B$1<M$49,$B3=$E4, $B5=$D11),IF(L54 = \"NA\", 0,L54*$B$1),0)","v":0},{"$f":"IF(AND(M$49<=$B$1,$B$1<N$49,$B3=$E4, $B5=$D11),IF(M54 = \"NA\", 0,M54*$B$1),0)","v":0},{"$f":"IF(AND(N$49<=$B$1,$B$1<O$49,$B3=$E4, $B5=$D11),IF(N54 = \"NA\", 0,N54*$B$1),0)","v":0},{"$f":"IF(AND(O$49<=$B$1,$B3=$E4, $B5=$D11),IF(O54 = \"NA\", 0,O54*$B$1),0)","v":0},null,48,0,{"$f":"IF(AND(S$49<=$B$1,$B$1<T$49,$B3=$E4, $B5=$D11),IF(S54 = \"NA\", 0,S54*$B$1),0)","v":0},{"$f":"IF(AND(T$49<=$B$1,$B$1<U$49,$B3=$E4, $B5=$D11),IF(T54 = \"NA\", 0,T54*$B$1),0)","v":0},{"$f":"IF(AND(U$49<=$B$1,$B$1<V$49,$B3=$E4, $B5=$D11),IF(U54 = \"NA\", 0,U54*$B$1),0)","v":0},{"$f":"IF(AND(V$49<=$B$1,$B$1<W$49,$B3=$E4, $B5=$D11),IF(V54 = \"NA\", 0,V54*$B$1),0)","v":0},{"$f":"IF(AND(W$49<=$B$1,$B3=$E4, $B5=$D11),IF(W54 = \"NA\", 0,W54*$B$1),0)","v":0},null,48,0,{"$f":"IF(AND(AA$49<=$B$1,$B$1<AB$49,$B3=$E4, $B5=$D11),IF(AA54 = \"NA\", 0,AA54*$B$1),0)","v":0},{"$f":"IF(AND(AB$49<=$B$1,$B$1<AC$49,$B3=$E4, $B5=$D11),IF(AB54 = \"NA\", 0,AB54*$B$1),0)","v":0},{"$f":"IF(AND(AC$49<=$B$1,$B$1<AD$49,$B3=$E4, $B5=$D11),IF(AC54 = \"NA\", 0,AC54*$B$1),0)","v":0},{"$f":"IF(AND(AD$49<=$B$1,$B$1<AE$49,$B3=$E4, $B5=$D11),IF(AD54 = \"NA\", 0,AD54*$B$1),0)","v":0},{"$f":"IF(AND(AE$49<=$B$1,$B3=$E4, $B5=$D11),IF(AE54 = \"NA\", 0,AE54*$B$1),0)","v":0},null,48,0,{"$f":"IF(AND(AI$49<=$B$1,$B$1<AJ$49,$B3=$E4, $B5=$D11),IF(AI54 = \"NA\", 0,AI54*$B$1),0)","v":0},{"$f":"IF(AND(AJ$49<=$B$1,$B$1<AK$49,$B3=$E4, $B5=$D11),IF(AJ54 = \"NA\", 0,AJ54*$B$1),0)","v":0},{"$f":"IF(AND(AK$49<=$B$1,$B$1<AL$49,$B3=$E4, $B5=$D11),IF(AK54 = \"NA\", 0,AK54*$B$1),0)","v":0},{"$f":"IF(AND(AL$49<=$B$1,$B$1<AM$49,$B3=$E4, $B5=$D11),IF(AL54 = \"NA\", 0,AL54*$B$1),0)","v":0},{"$f":"IF(AND(AM$49<=$B$1,$B3=$E4, $B5=$D11),IF(AM54 = \"NA\", 0,AM54*$B$1),0)","v":0},null,48,0,{"$f":"IF(AND(AQ$49<=$B$1,$B$1<AR$49,$B3=$E4, $B5=$D11),IF(AQ54 = \"NA\", 0,AQ54*$B$1),0)","v":0},{"$f":"IF(AND(AR$49<=$B$1,$B$1<AS$49,$B3=$E4, $B5=$D11),IF(AR54 = \"NA\", 0,AR54*$B$1),0)","v":0},{"$f":"IF(AND(AS$49<=$B$1,$B$1<AT$49,$B3=$E4, $B5=$D11),IF(AS54 = \"NA\", 0,AS54*$B$1),0)","v":0},{"$f":"IF(AND(AT$49<=$B$1,$B$1<AU$49,$B3=$E4, $B5=$D11),IF(AT54 = \"NA\", 0,AT54*$B$1),0)","v":0},{"$f":"IF(AND(AU$49<=$B$1,$B3=$E4, $B5=$D11),IF(AU54 = \"NA\", 0,AU54*$B$1),0)","v":0}]
[null,null,null,null,null,null,null,null,{"$f":"SUM(K59:O59)","v":0},null,{"$f":"SUM(K56:K58)","v":0},{"$f":"SUM(L56:L58)","v":0},{"$f":"SUM(M56:M58)","v":0},{"$f":"SUM(N56:N58)","v":0},{"$f":"SUM(O56:O58)","v":0},null,{"$f":"SUM(S59:W59)","v":0},null,{"$f":"SUM(S56:S58)","v":0},{"$f":"SUM(T56:T58)","v":0},{"$f":"SUM(U56:U58)","v":0},{"$f":"SUM(V56:V58)","v":0},{"$f":"SUM(W56:W58)","v":0},null,{"$f":"SUM(AA59:AE59)","v":0},null,{"$f":"SUM(AA56:AA58)","v":0},{"$f":"SUM(AB56:AB58)","v":0},{"$f":"SUM(AC56:AC58)","v":0},{"$f":"SUM(AD56:AD58)","v":0},{"$f":"SUM(AE56:AE58)","v":0},null,{"$f":"SUM(AI59:AM59)","v":0},null,{"$f":"SUM(AI56:AI58)","v":0},{"$f":"SUM(AJ56:AJ58)","v":0},{"$f":"SUM(AK56:AK58)","v":0},{"$f":"SUM(AL56:AL58)","v":0},{"$f":"SUM(AM56:AM58)","v":0},null,{"$f":"SUM(AQ59:AU59)","v":0},null,{"$f":"SUM(AQ56:AQ58)","v":0},{"$f":"SUM(AR56:AR58)","v":0},{"$f":"SUM(AS56:AS58)","v":0},{"$f":"SUM(AT56:AT58)","v":0},{"$f":"SUM(AU56:AU58)","v":0}]
[]
[]
[null,null,null,null,null,null,null,null,"FMV Scrubber"]
[null,null,null,null,null,null,null,null,"300 Hours/Yr",null,null,null,null,null,null,null,"480 Hours/Yr",null,null,null,null,null,null,null,"720 Hours/Yr",null,null,null,null,null,null,null,"960 Hours/Yr",null,null,null,null,null,null,null,"1200 Hours/Yr"]
[null,null,null,null,null,null,null,null,null,null,3000,10000,25000,50000,100000,null,null,null,3000,10000,25000,50000,100000,null,null,null,3000,10000,25000,50000,100000,null,null,null,3000,10000,25000,50000,100000,null,null,null,3000,10000,25000,50000,100000]
[null,null,null,null,null,null,null,null,null,null,"to","to","to","to","to",null,null,null,"to","to","to","to","to",null,null,null,"to","to","to","to","to",null,null,null,"to","to","to","to","to",null,null,null,"to","to","to","to","to"]
[null,null,null,null,null,null,null,null,"Term","Adv",9999,24999,49999,99999,null,null,"Term","Adv",9999,24999,49999,99999,null,null,"Term","Adv",9999,24999,49999,99999,null,null,"Term","Adv",9999,24999,49999,99999,null,null,"Term","Adv",9999,24999,49999,99999]
[null,null,null,null,null,null,null,null,36,0,{"$f":"SUM(Financing!$V29)","v":2.9530000000000001E-2},{"$f":"SUM(Financing!$W29)","v":2.921E-2},{"$f":"SUM(Financing!$X29)","v":2.768E-2},{"$f":"SUM(Financing!$Y29)","v":2.768E-2},{"$f":"SUM(Financing!$Z29)","v":2.768E-2},null,36,0,{"$f":"SUM(Financing!$V29)","v":2.9530000000000001E-2},{"$f":"SUM(Financing!$W29)","v":2.921E-2},{"$f":"SUM(Financing!$X29)","v":2.768E-2},{"$f":"SUM(Financing!$Y29)","v":2.768E-2},{"$f":"SUM(Financing!$Z29)","v":2.768E-2},null,36,0,{"$f":"SUM(Financing!$V29)","v":2.9530000000000001E-2},{"$f":"SUM(Financing!$W29)","v":2.921E-2},{"$f":"SUM(Financing!$X29)","v":2.768E-2},{"$f":"SUM(Financing!$Y29)","v":2.768E-2},{"$f":"SUM(Financing!$Z29)","v":2.768E-2},null,36,0,{"$f":"SUM(Financing!$V29)","v":2.9530000000000001E-2},{"$f":"SUM(Financing!$W29)","v":2.921E-2},{"$f":"SUM(Financing!$X29)","v":2.768E-2},{"$f":"SUM(Financing!$Y29)","v":2.768E-2},{"$f":"SUM(Financing!$Z29)","v":2.768E-2},null,36,0,{"$f":"SUM(Financing!$V29)","v":2.9530000000000001E-2},{"$f":"SUM(Financing!$W29)","v":2.921E-2},{"$f":"SUM(Financing!$X29)","v":2.768E-2},{"$f":"SUM(Financing!$Y29)","v":2.768E-2},{"$f":"SUM(Financing!$Z29)","v":2.768E-2}]
[null,null,null,null,null,null,null,null,48,0,{"$f":"SUM(Financing!$V30)","v":2.4049999999999998E-2},{"$f":"SUM(Financing!$W30)","v":2.3800000000000002E-2},{"$f":"SUM(Financing!$X30)","v":2.1930000000000002E-2},{"$f":"SUM(Financing!$Y30)","v":2.1930000000000002E-2},{"$f":"SUM(Financing!$Z30)","v":2.1860000000000001E-2},null,48,0,{"$f":"SUM(Financing!$V30)","v":2.4049999999999998E-2},{"$f":"SUM(Financing!$W30)","v":2.3800000000000002E-2},{"$f":"SUM(Financing!$X30)","v":2.1930000000000002E-2},{"$f":"SUM(Financing!$Y30)","v":2.1930000000000002E-2},{"$f":"SUM(Financing!$Z30)","v":2.1860000000000001E-2},null,48,0,{"$f":"SUM(Financing!$V30)","v":2.4049999999999998E-2},{"$f":"SUM(Financing!$W30)","v":2.3800000000000002E-2},{"$f":"SUM(Financing!$X30)","v":2.1930000000000002E-2},{"$f":"SUM(Financing!$Y30)","v":2.1930000000000002E-2},{"$f":"SUM(Financing!$Z30)","v":2.1860000000000001E-2},null,48,0,{"$f":"SUM(Financing!$V30)","v":2.4049999999999998E-2},{"$f":"SUM(Financing!$W30)","v":2.3800000000000002E-2},{"$f":"SUM(Financing!$X30)","v":2.1930000000000002E-2},{"$f":"SUM(Financing!$Y30)","v":2.1930000000000002E-2},{"$f":"SUM(Financing!$Z30)","v":2.1860000000000001E-2},null,48,0,{"$f":"SUM(Financing!$V30)","v":2.4049999999999998E-2},{"$f":"SUM(Financing!$W30)","v":2.3800000000000002E-2},{"$f":"SUM(Financing!$X30)","v":2.1930000000000002E-2},{"$f":"SUM(Financing!$Y30)","v":2.1930000000000002E-2},{"$f":"SUM(Financing!$Z30)","v":2.1860000000000001E-2}]
[null,null,null,null,null,null,null,null,48,0,{"$f":"SUM(Financing!$V31)","v":2.1000000000000001E-2},{"$f":"SUM(Financing!$W31)","v":2.0789999999999999E-2},{"$f":"SUM(Financing!$X31)","v":1.847E-2},{"$f":"SUM(Financing!$Y31)","v":1.847E-2},{"$f":"SUM(Financing!$Z31)","v":1.8380000000000001E-2},null,48,0,{"$f":"SUM(Financing!$V31)","v":2.1000000000000001E-2},{"$f":"SUM(Financing!$W31)","v":2.0789999999999999E-2},{"$f":"SUM(Financing!$X31)","v":1.847E-2},{"$f":"SUM(Financing!$Y31)","v":1.847E-2},{"$f":"SUM(Financing!$Z31)","v":1.8380000000000001E-2},null,48,0,{"$f":"SUM(Financing!$V31)","v":2.1000000000000001E-2},{"$f":"SUM(Financing!$W31)","v":2.0789999999999999E-2},{"$f":"SUM(Financing!$X31)","v":1.847E-2},{"$f":"SUM(Financing!$Y31)","v":1.847E-2},{"$f":"SUM(Financing!$Z31)","v":1.8380000000000001E-2},null,48,0,{"$f":"SUM(Financing!$V31)","v":2.1000000000000001E-2},{"$f":"SUM(Financing!$W31)","v":2.0789999999999999E-2},{"$f":"SUM(Financing!$X31)","v":1.847E-2},{"$f":"SUM(Financing!$Y31)","v":1.847E-2},{"$f":"SUM(Financing!$Z31)","v":1.8380000000000001E-2},null,48,0,{"$f":"SUM(Financing!$V31)","v":2.1000000000000001E-2},{"$f":"SUM(Financing!$W31)","v":2.0789999999999999E-2},{"$f":"SUM(Financing!$X31)","v":1.847E-2},{"$f":"SUM(Financing!$Y31)","v":1.847E-2},{"$f":"SUM(Financing!$Z31)","v":1.8380000000000001E-2}]
[]
[null,null,null,null,null,null,null,null,36,0,{"$f":"IF(AND(K$64<=$B$1,$B$1<L$64,$B3=$E2, $B5=$D12),IF(K67 = \"NA\", 0,K67*$B$1),0)","v":0},{"$f":"IF(AND(L$64<=$B$1,$B$1<M$64,$B3=$E2, $B5=$D12),IF(L67 = \"NA\", 0,L67*$B$1),0)","v":0},{"$f":"IF(AND(M$64<=$B$1,$B$1<N$64,$B3=$E2, $B5=$D12),IF(M67 = \"NA\", 0,M67*$B$1),0)","v":0},{"$f":"IF(AND(N$64<=$B$1,$B$1<O$64,$B3=$E2, $B5=$D12),IF(N67 = \"NA\", 0,N67*$B$1),0)","v":0},{"$f":"IF(AND(O$64<=$B$1,$B3=$E2, $B5=$D12),IF(O67 = \"NA\", 0,O67*$B$1),0)","v":0},null,36,0,{"$f":"IF(AND(S$64<=$B$1,$B$1<T$64,$B3=$E2, $B5=$D12),IF(S67 = \"NA\", 0,S67*$B$1),0)","v":0},{"$f":"IF(AND(T$64<=$B$1,$B$1<U$64,$B3=$E2, $B5=$D12),IF(T67 = \"NA\", 0,T67*$B$1),0)","v":0},{"$f":"IF(AND(U$64<=$B$1,$B$1<V$64,$B3=$E2, $B5=$D12),IF(U67 = \"NA\", 0,U67*$B$1),0)","v":0},{"$f":"IF(AND(V$64<=$B$1,$B$1<W$64,$B3=$E2, $B5=$D12),IF(V67 = \"NA\", 0,V67*$B$1),0)","v":0},{"$f":"IF(AND(W$64<=$B$1,$B3=$E2, $B5=$D12),IF(W67 = \"NA\", 0,W67*$B$1),0)","v":0},null,36,0,{"$f":"IF(AND(AA$64<=$B$1,$B$1<AB$64,$B3=$E2, $B5=$D12),IF(AA67 = \"NA\", 0,AA67*$B$1),0)","v":0},{"$f":"IF(AND(AB$64<=$B$1,$B$1<AC$64,$B3=$E2, $B5=$D12),IF(AB67 = \"NA\", 0,AB67*$B$1),0)","v":0},{"$f":"IF(AND(AC$64<=$B$1,$B$1<AD$64,$B3=$E2, $B5=$D12),IF(AC67 = \"NA\", 0,AC67*$B$1),0)","v":0},{"$f":"IF(AND(AD$64<=$B$1,$B$1<AE$64,$B3=$E2, $B5=$D12),IF(AD67 = \"NA\", 0,AD67*$B$1),0)","v":0},{"$f":"IF(AND(AE$64<=$B$1,$B3=$E2, $B5=$D12),IF(AE67 = \"NA\", 0,AE67*$B$1),0)","v":0},null,36,0,{"$f":"IF(AND(AI$64<=$B$1,$B$1<AJ$64,$B3=$E2, $B5=$D12),IF(AI67 = \"NA\", 0,AI67*$B$1),0)","v":0},{"$f":"IF(AND(AJ$64<=$B$1,$B$1<AK$64,$B3=$E2, $B5=$D12),IF(AJ67 = \"NA\", 0,AJ67*$B$1),0)","v":0},{"$f":"IF(AND(AK$64<=$B$1,$B$1<AL$64,$B3=$E2, $B5=$D12),IF(AK67 = \"NA\", 0,AK67*$B$1),0)","v":0},{"$f":"IF(AND(AL$64<=$B$1,$B$1<AM$64,$B3=$E2, $B5=$D12),IF(AL67 = \"NA\", 0,AL67*$B$1),0)","v":0},{"$f":"IF(AND(AM$64<=$B$1,$B3=$E2, $B5=$D12),IF(AM67 = \"NA\", 0,AM67*$B$1),0)","v":0},null,36,0,{"$f":"IF(AND(AQ$64<=$B$1,$B$1<AR$64,$B3=$E2, $B5=$D12),IF(AQ67 = \"NA\", 0,AQ67*$B$1),0)","v":0},{"$f":"IF(AND(AR$64<=$B$1,$B$1<AS$64,$B3=$E2, $B5=$D12),IF(AR67 = \"NA\", 0,AR67*$B$1),0)","v":0},{"$f":"IF(AND(AS$64<=$B$1,$B$1<AT$64,$B3=$E2, $B5=$D12),IF(AS67 = \"NA\", 0,AS67*$B$1),0)","v":0},{"$f":"IF(AND(AT$64<=$B$1,$B$1<AU$64,$B3=$E2, $B5=$D12),IF(AT67 = \"NA\", 0,AT67*$B$1),0)","v":0},{"$f":"IF(AND(AU$64<=$B$1,$B3=$E2, $B5=$D12),IF(AU67 = \"NA\", 0,AU67*$B$1),0)","v":0}]
[null,null,null,null,null,null,null,null,48,0,{"$f":"IF(AND(K$64<=$B$1,$B$1<L$64,$B3=$E3, $B5=$D12),IF(K68 = \"NA\", 0,K68*$B$1),0)","v":0},{"$f":"IF(AND(L$64<=$B$1,$B$1<M$64,$B3=$E3, $B5=$D12),IF(L68 = \"NA\", 0,L68*$B$1),0)","v":0},{"$f":"IF(AND(M$64<=$B$1,$B$1<N$64,$B3=$E3, $B5=$D12),IF(M68 = \"NA\", 0,M68*$B$1),0)","v":0},{"$f":"IF(AND(N$64<=$B$1,$B$1<O$64,$B3=$E3, $B5=$D12),IF(N68 = \"NA\", 0,N68*$B$1),0)","v":0},{"$f":"IF(AND(O$64<=$B$1,$B3=$E3, $B5=$D12),IF(O68 = \"NA\", 0,O68*$B$1),0)","v":0},null,48,0,{"$f":"IF(AND(S$64<=$B$1,$B$1<T$64,$B3=$E3, $B5=$D12),IF(S68 = \"NA\", 0,S68*$B$1),0)","v":0},{"$f":"IF(AND(T$64<=$B$1,$B$1<U$64,$B3=$E3, $B5=$D12),IF(T68 = \"NA\", 0,T68*$B$1),0)","v":0},{"$f":"IF(AND(U$64<=$B$1,$B$1<V$64,$B3=$E3, $B5=$D12),IF(U68 = \"NA\", 0,U68*$B$1),0)","v":0},{"$f":"IF(AND(V$64<=$B$1,$B$1<W$64,$B3=$E3, $B5=$D12),IF(V68 = \"NA\", 0,V68*$B$1),0)","v":0},{"$f":"IF(AND(W$64<=$B$1,$B3=$E3, $B5=$D12),IF(W68 = \"NA\", 0,W68*$B$1),0)","v":0},null,48,0,{"$f":"IF(AND(AA$64<=$B$1,$B$1<AB$64,$B3=$E3, $B5=$D12),IF(AA68 = \"NA\", 0,AA68*$B$1),0)","v":0},{"$f":"IF(AND(AB$64<=$B$1,$B$1<AC$64,$B3=$E3, $B5=$D12),IF(AB68 = \"NA\", 0,AB68*$B$1),0)","v":0},{"$f":"IF(AND(AC$64<=$B$1,$B$1<AD$64,$B3=$E3, $B5=$D12),IF(AC68 = \"NA\", 0,AC68*$B$1),0)","v":0},{"$f":"IF(AND(AD$64<=$B$1,$B$1<AE$64,$B3=$E3, $B5=$D12),IF(AD68 = \"NA\", 0,AD68*$B$1),0)","v":0},{"$f":"IF(AND(AE$64<=$B$1,$B3=$E3, $B5=$D12),IF(AE68 = \"NA\", 0,AE68*$B$1),0)","v":0},null,48,0,{"$f":"IF(AND(AI$64<=$B$1,$B$1<AJ$64,$B3=$E3, $B5=$D12),IF(AI68 = \"NA\", 0,AI68*$B$1),0)","v":0},{"$f":"IF(AND(AJ$64<=$B$1,$B$1<AK$64,$B3=$E3, $B5=$D12),IF(AJ68 = \"NA\", 0,AJ68*$B$1),0)","v":0},{"$f":"IF(AND(AK$64<=$B$1,$B$1<AL$64,$B3=$E3, $B5=$D12),IF(AK68 = \"NA\", 0,AK68*$B$1),0)","v":0},{"$f":"IF(AND(AL$64<=$B$1,$B$1<AM$64,$B3=$E3, $B5=$D12),IF(AL68 = \"NA\", 0,AL68*$B$1),0)","v":0},{"$f":"IF(AND(AM$64<=$B$1,$B3=$E3, $B5=$D12),IF(AM68 = \"NA\", 0,AM68*$B$1),0)","v":0},null,48,0,{"$f":"IF(AND(AQ$64<=$B$1,$B$1<AR$64,$B3=$E3, $B5=$D12),IF(AQ68 = \"NA\", 0,AQ68*$B$1),0)","v":0},{"$f":"IF(AND(AR$64<=$B$1,$B$1<AS$64,$B3=$E3, $B5=$D12),IF(AR68 = \"NA\", 0,AR68*$B$1),0)","v":0},{"$f":"IF(AND(AS$64<=$B$1,$B$1<AT$64,$B3=$E3, $B5=$D12),IF(AS68 = \"NA\", 0,AS68*$B$1),0)","v":0},{"$f":"IF(AND(AT$64<=$B$1,$B$1<AU$64,$B3=$E3, $B5=$D12),IF(AT68 = \"NA\", 0,AT68*$B$1),0)","v":0},{"$f":"IF(AND(AU$64<=$B$1,$B3=$E3, $B5=$D12),IF(AU68 = \"NA\", 0,AU68*$B$1),0)","v":0}]
[null,null,null,null,null,null,null,null,48,0,{"$f":"IF(AND(K$64<=$B$1,$B$1<L$64,$B3=$E4, $B5=$D12),IF(K69 = \"NA\", 0,K69*$B$1),0)","v":0},{"$f":"IF(AND(L$64<=$B$1,$B$1<M$64,$B3=$E4, $B5=$D12),IF(L69 = \"NA\", 0,L69*$B$1),0)","v":0},{"$f":"IF(AND(M$64<=$B$1,$B$1<N$64,$B3=$E4, $B5=$D12),IF(M69 = \"NA\", 0,M69*$B$1),0)","v":0},{"$f":"IF(AND(N$64<=$B$1,$B$1<O$64,$B3=$E4, $B5=$D12),IF(N69 = \"NA\", 0,N69*$B$1),0)","v":0},{"$f":"IF(AND(O$64<=$B$1,$B3=$E4, $B5=$D12),IF(O69 = \"NA\", 0,O69*$B$1),0)","v":0},null,48,0,{"$f":"IF(AND(S$64<=$B$1,$B$1<T$64,$B3=$E4, $B5=$D12),IF(S69 = \"NA\", 0,S69*$B$1),0)","v":0},{"$f":"IF(AND(T$64<=$B$1,$B$1<U$64,$B3=$E4, $B5=$D12),IF(T69 = \"NA\", 0,T69*$B$1),0)","v":0},{"$f":"IF(AND(U$64<=$B$1,$B$1<V$64,$B3=$E4, $B5=$D12),IF(U69 = \"NA\", 0,U69*$B$1),0)","v":0},{"$f":"IF(AND(V$64<=$B$1,$B$1<W$64,$B3=$E4, $B5=$D12),IF(V69 = \"NA\", 0,V69*$B$1),0)","v":0},{"$f":"IF(AND(W$64<=$B$1,$B3=$E4, $B5=$D12),IF(W69 = \"NA\", 0,W69*$B$1),0)","v":0},null,48,0,{"$f":"IF(AND(AA$64<=$B$1,$B$1<AB$64,$B3=$E4, $B5=$D12),IF(AA69 = \"NA\", 0,AA69*$B$1),0)","v":0},{"$f":"IF(AND(AB$64<=$B$1,$B$1<AC$64,$B3=$E4, $B5=$D12),IF(AB69 = \"NA\", 0,AB69*$B$1),0)","v":0},{"$f":"IF(AND(AC$64<=$B$1,$B$1<AD$64,$B3=$E4, $B5=$D12),IF(AC69 = \"NA\", 0,AC69*$B$1),0)","v":0},{"$f":"IF(AND(AD$64<=$B$1,$B$1<AE$64,$B3=$E4, $B5=$D12),IF(AD69 = \"NA\", 0,AD69*$B$1),0)","v":0},{"$f":"IF(AND(AE$64<=$B$1,$B3=$E4, $B5=$D12),IF(AE69 = \"NA\", 0,AE69*$B$1),0)","v":0},null,48,0,{"$f":"IF(AND(AI$64<=$B$1,$B$1<AJ$64,$B3=$E4, $B5=$D12),IF(AI69 = \"NA\", 0,AI69*$B$1),0)","v":0},{"$f":"IF(AND(AJ$64<=$B$1,$B$1<AK$64,$B3=$E4, $B5=$D12),IF(AJ69 = \"NA\", 0,AJ69*$B$1),0)","v":0},{"$f":"IF(AND(AK$64<=$B$1,$B$1<AL$64,$B3=$E4, $B5=$D12),IF(AK69 = \"NA\", 0,AK69*$B$1),0)","v":0},{"$f":"IF(AND(AL$64<=$B$1,$B$1<AM$64,$B3=$E4, $B5=$D12),IF(AL69 = \"NA\", 0,AL69*$B$1),0)","v":0},{"$f":"IF(AND(AM$64<=$B$1,$B3=$E4, $B5=$D12),IF(AM69 = \"NA\", 0,AM69*$B$1),0)","v":0},null,48,0,{"$f":"IF(AND(AQ$64<=$B$1,$B$1<AR$64,$B3=$E4, $B5=$D12),IF(AQ69 = \"NA\", 0,AQ69*$B$1),0)","v":0},{"$f":"IF(AND(AR$64<=$B$1,$B$1<AS$64,$B3=$E4, $B5=$D12),IF(AR69 = \"NA\", 0,AR69*$B$1),0)","v":0},{"$f":"IF(AND(AS$64<=$B$1,$B$1<AT$64,$B3=$E4, $B5=$D12),IF(AS69 = \"NA\", 0,AS69*$B$1),0)","v":0},{"$f":"IF(AND(AT$64<=$B$1,$B$1<AU$64,$B3=$E4, $B5=$D12),IF(AT69 = \"NA\", 0,AT69*$B$1),0)","v":0},{"$f":"IF(AND(AU$64<=$B$1,$B3=$E4, $B5=$D12),IF(AU69 = \"NA\", 0,AU69*$B$1),0)","v":0}]
[null,null,null,null,null,null,null,null,{"$f":"SUM(K74:O74)","v":0},null,{"$f":"SUM(K71:K73)","v":0},{"$f":"SUM(L71:L73)","v":0},{"$f":"SUM(M71:M73)","v":0},{"$f":"SUM(N71:N73)","v":0},{"$f":"SUM(O71:O73)","v":0},null,{"$f":"SUM(S74:W74)","v":0},null,{"$f":"SUM(S71:S73)","v":0},{"$f":"SUM(T71:T73)","v":0},{"$f":"SUM(U71:U73)","v":0},{"$f":"SUM(V71:V73)","v":0},{"$f":"SUM(W71:W73)","v":0},null,{"$f":"SUM(AA74:AE74)","v":0},null,{"$f":"SUM(AA71:AA73)","v":0},{"$f":"SUM(AB71:AB73)","v":0},{"$f":"SUM(AC71:AC73)","v":0},{"$f":"SUM(AD71:AD73)","v":0},{"$f":"SUM(AE71:AE73)","v":0},null,{"$f":"SUM(AI74:AM74)","v":0},null,{"$f":"SUM(AI71:AI73)","v":0},{"$f":"SUM(AJ71:AJ73)","v":0},{"$f":"SUM(AK71:AK73)","v":0},{"$f":"SUM(AL71:AL73)","v":0},{"$f":"SUM(AM71:AM73)","v":0},null,{"$f":"SUM(AQ74:AU74)","v":0},null,{"$f":"SUM(AQ71:AQ73)","v":0},{"$f":"SUM(AR71:AR73)","v":0},{"$f":"SUM(AS71:AS73)","v":0},{"$f":"SUM(AT71:AT73)","v":0},{"$f":"SUM(AU71:AU73)","v":0}]
[]
[null,null,null,null,null,null,null,null,1]
[null,null,null,null,null,null,null,null,"300 Hours/Yr",null,null,null,null,null,null,null,"480 Hours/Yr",null,null,null,null,null,null,null,"720 Hours/Yr",null,null,null,null,null,null,null,"960 Hours/Yr",null,null,null,null,null,null,null,"1200 Hours/Yr"]
[null,null,null,null,null,null,null,null,null,null,3000,10000,25000,50000,100000,null,null,null,3000,10000,25000,50000,100000,null,null,null,3000,10000,25000,50000,100000,null,null,null,3000,10000,25000,50000,100000,null,null,null,3000,10000,25000,50000,100000]
[null,null,null,null,null,null,null,null,null,null,"to","to","to","to","to",null,null,null,"to","to","to","to","to",null,null,null,"to","to","to","to","to",null,null,null,"to","to","to","to","to",null,null,null,"to","to","to","to","to"]
[null,null,null,null,null,null,null,null,"Term","Adv",9999,24999,49999,99999,null,null,"Term","Adv",9999,24999,49999,99999,null,null,"Term","Adv",9999,24999,49999,99999,null,null,"Term","Adv",9999,24999,49999,99999,null,null,"Term","Adv",9999,24999,49999,99999]
[null,null,null,null,null,null,null,null,36,0,{"$f":"SUM(Financing!$F29)","v":3.3149999999999999E-2},{"$f":"SUM(Financing!$G29)","v":3.2829999999999998E-2},{"$f":"SUM(Financing!$H29)","v":3.2230000000000002E-2},{"$f":"SUM(Financing!$I29)","v":3.2230000000000002E-2},{"$f":"SUM(Financing!$J29)","v":3.2230000000000002E-2},null,36,0,{"$f":"SUM(Financing!$F29)","v":3.3149999999999999E-2},{"$f":"SUM(Financing!$G29)","v":3.2829999999999998E-2},{"$f":"SUM(Financing!$H29)","v":3.2230000000000002E-2},{"$f":"SUM(Financing!$I29)","v":3.2230000000000002E-2},{"$f":"SUM(Financing!$J29)","v":3.2230000000000002E-2},null,36,0,{"$f":"SUM(Financing!$F29)","v":3.3149999999999999E-2},{"$f":"SUM(Financing!$G29)","v":3.2829999999999998E-2},{"$f":"SUM(Financing!$H29)","v":3.2230000000000002E-2},{"$f":"SUM(Financing!$I29)","v":3.2230000000000002E-2},{"$f":"SUM(Financing!$J29)","v":3.2230000000000002E-2},null,36,0,{"$f":"SUM(Financing!$F29)","v":3.3149999999999999E-2},{"$f":"SUM(Financing!$G29)","v":3.2829999999999998E-2},{"$f":"SUM(Financing!$H29)","v":3.2230000000000002E-2},{"$f":"SUM(Financing!$I29)","v":3.2230000000000002E-2},{"$f":"SUM(Financing!$J29)","v":3.2230000000000002E-2},null,36,0,{"$f":"SUM(Financing!$F29)","v":3.3149999999999999E-2},{"$f":"SUM(Financing!$G29)","v":3.2829999999999998E-2},{"$f":"SUM(Financing!$H29)","v":3.2230000000000002E-2},{"$f":"SUM(Financing!$I29)","v":3.2230000000000002E-2},{"$f":"SUM(Financing!$J29)","v":3.2230000000000002E-2}]
[null,null,null,null,null,null,null,null,48,0,{"$f":"SUM(Financing!$F30)","v":2.5870000000000001E-2},{"$f":"SUM(Financing!$G30)","v":2.563E-2},{"$f":"SUM(Financing!$H30)","v":2.5020000000000001E-2},{"$f":"SUM(Financing!$I30)","v":2.5020000000000001E-2},{"$f":"SUM(Financing!$J30)","v":2.5020000000000001E-2},null,48,0,{"$f":"SUM(Financing!$F30)","v":2.5870000000000001E-2},{"$f":"SUM(Financing!$G30)","v":2.563E-2},{"$f":"SUM(Financing!$H30)","v":2.5020000000000001E-2},{"$f":"SUM(Financing!$I30)","v":2.5020000000000001E-2},{"$f":"SUM(Financing!$J30)","v":2.5020000000000001E-2},null,48,0,{"$f":"SUM(Financing!$F30)","v":2.5870000000000001E-2},{"$f":"SUM(Financing!$G30)","v":2.563E-2},{"$f":"SUM(Financing!$H30)","v":2.5020000000000001E-2},{"$f":"SUM(Financing!$I30)","v":2.5020000000000001E-2},{"$f":"SUM(Financing!$J30)","v":2.5020000000000001E-2},null,48,0,{"$f":"SUM(Financing!$F30)","v":2.5870000000000001E-2},{"$f":"SUM(Financing!$G30)","v":2.563E-2},{"$f":"SUM(Financing!$H30)","v":2.5020000000000001E-2},{"$f":"SUM(Financing!$I30)","v":2.5020000000000001E-2},{"$f":"SUM(Financing!$J30)","v":2.5020000000000001E-2},null,48,0,{"$f":"SUM(Financing!$F30)","v":2.5870000000000001E-2},{"$f":"SUM(Financing!$G30)","v":2.563E-2},{"$f":"SUM(Financing!$H30)","v":2.5020000000000001E-2},{"$f":"SUM(Financing!$I30)","v":2.5020000000000001E-2},{"$f":"SUM(Financing!$J30)","v":2.5020000000000001E-2}]
[null,null,null,null,null,null,null,null,48,0,{"$f":"SUM(Financing!$F31)","v":2.1559999999999999E-2},{"$f":"SUM(Financing!$G31)","v":2.1350000000000001E-2},{"$f":"SUM(Financing!$H31)","v":2.0709999999999999E-2},{"$f":"SUM(Financing!$I31)","v":2.0709999999999999E-2},{"$f":"SUM(Financing!$J31)","v":2.0709999999999999E-2},null,48,0,{"$f":"SUM(Financing!$F31)","v":2.1559999999999999E-2},{"$f":"SUM(Financing!$G31)","v":2.1350000000000001E-2},{"$f":"SUM(Financing!$H31)","v":2.0709999999999999E-2},{"$f":"SUM(Financing!$I31)","v":2.0709999999999999E-2},{"$f":"SUM(Financing!$J31)","v":2.0709999999999999E-2},null,48,0,{"$f":"SUM(Financing!$F31)","v":2.1559999999999999E-2},{"$f":"SUM(Financing!$G31)","v":2.1350000000000001E-2},{"$f":"SUM(Financing!$H31)","v":2.0709999999999999E-2},{"$f":"SUM(Financing!$I31)","v":2.0709999999999999E-2},{"$f":"SUM(Financing!$J31)","v":2.0709999999999999E-2},null,48,0,{"$f":"SUM(Financing!$F31)","v":2.1559999999999999E-2},{"$f":"SUM(Financing!$G31)","v":2.1350000000000001E-2},{"$f":"SUM(Financing!$H31)","v":2.0709999999999999E-2},{"$f":"SUM(Financing!$I31)","v":2.0709999999999999E-2},{"$f":"SUM(Financing!$J31)","v":2.0709999999999999E-2},null,48,0,{"$f":"SUM(Financing!$F31)","v":2.1559999999999999E-2},{"$f":"SUM(Financing!$G31)","v":2.1350000000000001E-2},{"$f":"SUM(Financing!$H31)","v":2.0709999999999999E-2},{"$f":"SUM(Financing!$I31)","v":2.0709999999999999E-2},{"$f":"SUM(Financing!$J31)","v":2.0709999999999999E-2}]
[]
[null,null,null,null,null,null,null,null,36,0,{"$f":"IF(AND(K$78<=$B$1,$B$1<L$78,$B3=$E2),IF(K81 = \"NA\", 0,K81*$B$1),0)","v":0},{"$f":"IF(AND(L$78<=$B$1,$B$1<M$78,$B3=$E2),IF(L81 = \"NA\", 0,L81*$B$1),0)","v":0},{"$f":"IF(AND(M$78<=$B$1,$B$1<N$78,$B3=$E2),IF(M81 = \"NA\", 0,M81*$B$1),0)","v":0},{"$f":"IF(AND(N$78<=$B$1,$B$1<O$78,$B3=$E2),IF(N81 = \"NA\", 0,N81*$B$1),0)","v":0},{"$f":"IF(AND(O$78<=$B$1,$B$1<P$78,$B3=$E2),IF(O81 = \"NA\", 0,O81*$B$1),0)","v":0},null,36,0,{"$f":"IF(AND(S$78<=$B$1,$B$1<T$78,$B3=$E2),IF(S81 = \"NA\", 0,S81*$B$1),0)","v":0},{"$f":"IF(AND(T$78<=$B$1,$B$1<U$78,$B3=$E2),IF(T81 = \"NA\", 0,T81*$B$1),0)","v":0},{"$f":"IF(AND(U$78<=$B$1,$B$1<V$78,$B3=$E2),IF(U81 = \"NA\", 0,U81*$B$1),0)","v":0},{"$f":"IF(AND(V$78<=$B$1,$B$1<W$78,$B3=$E2),IF(V81 = \"NA\", 0,V81*$B$1),0)","v":0},{"$f":"IF(AND(W$78<=$B$1,$B$1<X$78,$B3=$E2),IF(W81 = \"NA\", 0,W81*$B$1),0)","v":0},null,36,0,{"$f":"IF(AND(AA$78<=$B$1,$B$1<AB$78,$B3=$E2),IF(AA81 = \"NA\", 0,AA81*$B$1),0)","v":0},{"$f":"IF(AND(AB$78<=$B$1,$B$1<AC$78,$B3=$E2),IF(AB81 = \"NA\", 0,AB81*$B$1),0)","v":0},{"$f":"IF(AND(AC$78<=$B$1,$B$1<AD$78,$B3=$E2),IF(AC81 = \"NA\", 0,AC81*$B$1),0)","v":0},{"$f":"IF(AND(AD$78<=$B$1,$B$1<AE$78,$B3=$E2),IF(AD81 = \"NA\", 0,AD81*$B$1),0)","v":0},{"$f":"IF(AND(AE$78<=$B$1,$B$1<AF$78,$B3=$E2),IF(AE81 = \"NA\", 0,AE81*$B$1),0)","v":0},null,36,0,{"$f":"IF(AND(AI$78<=$B$1,$B$1<AJ$78,$B3=$E2),IF(AI81 = \"NA\", 0,AI81*$B$1),0)","v":0},{"$f":"IF(AND(AJ$78<=$B$1,$B$1<AK$78,$B3=$E2),IF(AJ81 = \"NA\", 0,AJ81*$B$1),0)","v":0},{"$f":"IF(AND(AK$78<=$B$1,$B$1<AL$78,$B3=$E2),IF(AK81 = \"NA\", 0,AK81*$B$1),0)","v":0},{"$f":"IF(AND(AL$78<=$B$1,$B$1<AM$78,$B3=$E2),IF(AL81 = \"NA\", 0,AL81*$B$1),0)","v":0},{"$f":"IF(AND(AM$78<=$B$1,$B$1<AN$78,$B3=$E2),IF(AM81 = \"NA\", 0,AM81*$B$1),0)","v":0},null,36,0,{"$f":"IF(AND(AQ$78<=$B$1,$B$1<AR$78,$B3=$E2),IF(AQ81 = \"NA\", 0,AQ81*$B$1),0)","v":0},{"$f":"IF(AND(AR$78<=$B$1,$B$1<AS$78,$B3=$E2),IF(AR81 = \"NA\", 0,AR81*$B$1),0)","v":0},{"$f":"IF(AND(AS$78<=$B$1,$B$1<AT$78,$B3=$E2),IF(AS81 = \"NA\", 0,AS81*$B$1),0)","v":0},{"$f":"IF(AND(AT$78<=$B$1,$B$1<AU$78,$B3=$E2),IF(AT81 = \"NA\", 0,AT81*$B$1),0)","v":0},{"$f":"IF(AND(AU$78<=$B$1,$B$1<AV$78,$B3=$E2),IF(AU81 = \"NA\", 0,AU81*$B$1),0)","v":0}]
[null,null,null,null,null,null,null,null,48,0,{"$f":"IF(AND(K$78<=$B$1,$B$1<L$78,$B3=$E3),IF(K82 = \"NA\", 0,K82*$B$1),0)","v":0},{"$f":"IF(AND(L$78<=$B$1,$B$1<M$78,$B3=$E3),IF(L82 = \"NA\", 0,L82*$B$1),0)","v":0},{"$f":"IF(AND(M$78<=$B$1,$B$1<N$78,$B3=$E3),IF(M82 = \"NA\", 0,M82*$B$1),0)","v":0},{"$f":"IF(AND(N$78<=$B$1,$B$1<O$78,$B3=$E3),IF(N82 = \"NA\", 0,N82*$B$1),0)","v":0},{"$f":"IF(AND(O$78<=$B$1,$B$1<P$78,$B3=$E3),IF(O82 = \"NA\", 0,O82*$B$1),0)","v":0},null,48,0,{"$f":"IF(AND(S$78<=$B$1,$B$1<T$78,$B3=$E3),IF(S82 = \"NA\", 0,S82*$B$1),0)","v":0},{"$f":"IF(AND(T$78<=$B$1,$B$1<U$78,$B3=$E3),IF(T82 = \"NA\", 0,T82*$B$1),0)","v":0},{"$f":"IF(AND(U$78<=$B$1,$B$1<V$78,$B3=$E3),IF(U82 = \"NA\", 0,U82*$B$1),0)","v":0},{"$f":"IF(AND(V$78<=$B$1,$B$1<W$78,$B3=$E3),IF(V82 = \"NA\", 0,V82*$B$1),0)","v":0},{"$f":"IF(AND(W$78<=$B$1,$B$1<X$78,$B3=$E3),IF(W82 = \"NA\", 0,W82*$B$1),0)","v":0},null,48,0,{"$f":"IF(AND(AA$78<=$B$1,$B$1<AB$78,$B3=$E3),IF(AA82 = \"NA\", 0,AA82*$B$1),0)","v":0},{"$f":"IF(AND(AB$78<=$B$1,$B$1<AC$78,$B3=$E3),IF(AB82 = \"NA\", 0,AB82*$B$1),0)","v":0},{"$f":"IF(AND(AC$78<=$B$1,$B$1<AD$78,$B3=$E3),IF(AC82 = \"NA\", 0,AC82*$B$1),0)","v":0},{"$f":"IF(AND(AD$78<=$B$1,$B$1<AE$78,$B3=$E3),IF(AD82 = \"NA\", 0,AD82*$B$1),0)","v":0},{"$f":"IF(AND(AE$78<=$B$1,$B$1<AF$78,$B3=$E3),IF(AE82 = \"NA\", 0,AE82*$B$1),0)","v":0},null,48,0,{"$f":"IF(AND(AI$78<=$B$1,$B$1<AJ$78,$B3=$E3),IF(AI82 = \"NA\", 0,AI82*$B$1),0)","v":0},{"$f":"IF(AND(AJ$78<=$B$1,$B$1<AK$78,$B3=$E3),IF(AJ82 = \"NA\", 0,AJ82*$B$1),0)","v":0},{"$f":"IF(AND(AK$78<=$B$1,$B$1<AL$78,$B3=$E3),IF(AK82 = \"NA\", 0,AK82*$B$1),0)","v":0},{"$f":"IF(AND(AL$78<=$B$1,$B$1<AM$78,$B3=$E3),IF(AL82 = \"NA\", 0,AL82*$B$1),0)","v":0},{"$f":"IF(AND(AM$78<=$B$1,$B$1<AN$78,$B3=$E3),IF(AM82 = \"NA\", 0,AM82*$B$1),0)","v":0},null,48,0,{"$f":"IF(AND(AQ$78<=$B$1,$B$1<AR$78,$B3=$E3),IF(AQ82 = \"NA\", 0,AQ82*$B$1),0)","v":0},{"$f":"IF(AND(AR$78<=$B$1,$B$1<AS$78,$B3=$E3),IF(AR82 = \"NA\", 0,AR82*$B$1),0)","v":0},{"$f":"IF(AND(AS$78<=$B$1,$B$1<AT$78,$B3=$E3),IF(AS82 = \"NA\", 0,AS82*$B$1),0)","v":0},{"$f":"IF(AND(AT$78<=$B$1,$B$1<AU$78,$B3=$E3),IF(AT82 = \"NA\", 0,AT82*$B$1),0)","v":0},{"$f":"IF(AND(AU$78<=$B$1,$B$1<AV$78,$B3=$E3),IF(AU82 = \"NA\", 0,AU82*$B$1),0)","v":0}]
[null,null,null,null,null,null,null,null,48,0,{"$f":"IF(AND(K$78<=$B$1,$B$1<L$78,$B3=$E4),IF(K83 = \"NA\", 0,K83*$B$1),0)","v":0},{"$f":"IF(AND(L$78<=$B$1,$B$1<M$78,$B3=$E4),IF(L83 = \"NA\", 0,L83*$B$1),0)","v":0},{"$f":"IF(AND(M$78<=$B$1,$B$1<N$78,$B3=$E4),IF(M83 = \"NA\", 0,M83*$B$1),0)","v":0},{"$f":"IF(AND(N$78<=$B$1,$B$1<O$78,$B3=$E4),IF(N83 = \"NA\", 0,N83*$B$1),0)","v":0},{"$f":"IF(AND(O$78<=$B$1,$B$1<P$78,$B3=$E4),IF(O83 = \"NA\", 0,O83*$B$1),0)","v":0},null,48,0,{"$f":"IF(AND(S$78<=$B$1,$B$1<T$78,$B3=$E4),IF(S83 = \"NA\", 0,S83*$B$1),0)","v":0},{"$f":"IF(AND(T$78<=$B$1,$B$1<U$78,$B3=$E4),IF(T83 = \"NA\", 0,T83*$B$1),0)","v":0},{"$f":"IF(AND(U$78<=$B$1,$B$1<V$78,$B3=$E4),IF(U83 = \"NA\", 0,U83*$B$1),0)","v":0},{"$f":"IF(AND(V$78<=$B$1,$B$1<W$78,$B3=$E4),IF(V83 = \"NA\", 0,V83*$B$1),0)","v":0},{"$f":"IF(AND(W$78<=$B$1,$B$1<X$78,$B3=$E4),IF(W83 = \"NA\", 0,W83*$B$1),0)","v":0},null,48,0,{"$f":"IF(AND(AA$78<=$B$1,$B$1<AB$78,$B3=$E4),IF(AA83 = \"NA\", 0,AA83*$B$1),0)","v":0},{"$f":"IF(AND(AB$78<=$B$1,$B$1<AC$78,$B3=$E4),IF(AB83 = \"NA\", 0,AB83*$B$1),0)","v":0},{"$f":"IF(AND(AC$78<=$B$1,$B$1<AD$78,$B3=$E4),IF(AC83 = \"NA\", 0,AC83*$B$1),0)","v":0},{"$f":"IF(AND(AD$78<=$B$1,$B$1<AE$78,$B3=$E4),IF(AD83 = \"NA\", 0,AD83*$B$1),0)","v":0},{"$f":"IF(AND(AE$78<=$B$1,$B$1<AF$78,$B3=$E4),IF(AE83 = \"NA\", 0,AE83*$B$1),0)","v":0},null,48,0,{"$f":"IF(AND(AI$78<=$B$1,$B$1<AJ$78,$B3=$E4),IF(AI83 = \"NA\", 0,AI83*$B$1),0)","v":0},{"$f":"IF(AND(AJ$78<=$B$1,$B$1<AK$78,$B3=$E4),IF(AJ83 = \"NA\", 0,AJ83*$B$1),0)","v":0},{"$f":"IF(AND(AK$78<=$B$1,$B$1<AL$78,$B3=$E4),IF(AK83 = \"NA\", 0,AK83*$B$1),0)","v":0},{"$f":"IF(AND(AL$78<=$B$1,$B$1<AM$78,$B3=$E4),IF(AL83 = \"NA\", 0,AL83*$B$1),0)","v":0},{"$f":"IF(AND(AM$78<=$B$1,$B$1<AN$78,$B3=$E4),IF(AM83 = \"NA\", 0,AM83*$B$1),0)","v":0},null,48,0,{"$f":"IF(AND(AQ$78<=$B$1,$B$1<AR$78,$B3=$E4),IF(AQ83 = \"NA\", 0,AQ83*$B$1),0)","v":0},{"$f":"IF(AND(AR$78<=$B$1,$B$1<AS$78,$B3=$E4),IF(AR83 = \"NA\", 0,AR83*$B$1),0)","v":0},{"$f":"IF(AND(AS$78<=$B$1,$B$1<AT$78,$B3=$E4),IF(AS83 = \"NA\", 0,AS83*$B$1),0)","v":0},{"$f":"IF(AND(AT$78<=$B$1,$B$1<AU$78,$B3=$E4),IF(AT83 = \"NA\", 0,AT83*$B$1),0)","v":0},{"$f":"IF(AND(AU$78<=$B$1,$B$1<AV$78,$B3=$E4),IF(AU83 = \"NA\", 0,AU83*$B$1),0)","v":0}]
[null,null,null,null,null,null,null,null,{"$f":"SUM(K88:O88)","v":0},null,{"$f":"SUM(K85:K87)","v":0},{"$f":"SUM(L85:L87)","v":0},{"$f":"SUM(M85:M87)","v":0},{"$f":"SUM(N85:N87)","v":0},{"$f":"SUM(O85:O87)","v":0},null,{"$f":"SUM(S88:W88)","v":0},null,{"$f":"SUM(S85:S87)","v":0},{"$f":"SUM(T85:T87)","v":0},{"$f":"SUM(U85:U87)","v":0},{"$f":"SUM(V85:V87)","v":0},{"$f":"SUM(W85:W87)","v":0},null,{"$f":"SUM(AA88:AE88)","v":0},null,{"$f":"SUM(AA85:AA87)","v":0},{"$f":"SUM(AB85:AB87)","v":0},{"$f":"SUM(AC85:AC87)","v":0},{"$f":"SUM(AD85:AD87)","v":0},{"$f":"SUM(AE85:AE87)","v":0},null,{"$f":"SUM(AI88:AM88)","v":0},null,{"$f":"SUM(AI85:AI87)","v":0},{"$f":"SUM(AJ85:AJ87)","v":0},{"$f":"SUM(AK85:AK87)","v":0},{"$f":"SUM(AL85:AL87)","v":0},{"$f":"SUM(AM85:AM87)","v":0},null,{"$f":"SUM(AQ88:AU88)","v":0},null,{"$f":"SUM(AQ85:AQ87)","v":0},{"$f":"SUM(AR85:AR87)","v":0},{"$f":"SUM(AS85:AS87)","v":0},{"$f":"SUM(AT85:AT87)","v":0},{"$f":"SUM(AU85:AU87)","v":0}]
[]
[]
[null,null,null,null,null,null,null,null,{"$f":"Financing!C10","v":"First Western Equipment Finance"}]
[null,null,null,null,null,null,null,null,"FMV"]
[null,null,null,null,null,null,null,null,"300 Hours/Yr",null,null,null,null,null,null,null,"480 Hours/Yr",null,null,null,null,null,null,null,"720 Hours/Yr",null,null,null,null,null,null,null,"960 Hours/Yr",null,null,null,null,null,null,null,"1200 Hours/Yr"]
[null,null,null,null,null,null,null,null,null,null,3000,10000,25000,50000,100000,null,null,null,3000,10000,25000,50000,100000,null,null,null,3000,10000,25000,50000,100000,null,null,null,3000,10000,25000,50000,100000,null,null,null,3000,10000,25000,50000,100000]
[null,null,null,null,null,null,null,null,null,null,"to","to","to","to","to",null,null,null,"to","to","to","to","to",null,null,null,"to","to","to","to","to",null,null,null,"to","to","to","to","to",null,null,null,"to","to","to","to","to"]
[null,null,null,null,null,null,null,null,"Term","Adv",9999,24999,49999,99999,null,null,"Term","Adv",9999,24999,49999,99999,null,null,"Term","Adv",9999,24999,49999,99999,null,null,"Term","Adv",9999,24999,49999,99999,null,null,"Term","Adv",9999,24999,49999,99999]
[null,null,null,null,null,null,null,null,36,0,{"$f":"SUM(Financing!$AT49)","v":2.9000000000000001E-2},{"$f":"SUM(Financing!$AU49)","v":2.8490000000000001E-2},{"$f":"SUM(Financing!$AX49)","v":2.7980000000000001E-2},{"$f":"SUM(Financing!$AX49)","v":2.7980000000000001E-2},{"$f":"SUM(Financing!$AX49)","v":2.7980000000000001E-2},null,36,0,{"$f":"SUM(Financing!$AT49)","v":2.9000000000000001E-2},{"$f":"SUM(Financing!$AU49)","v":2.8490000000000001E-2},{"$f":"SUM(Financing!$AX49)","v":2.7980000000000001E-2},{"$f":"SUM(Financing!$AX49)","v":2.7980000000000001E-2},{"$f":"SUM(Financing!$AX49)","v":2.7980000000000001E-2},null,36,0,{"$f":"SUM(Financing!$AT49)","v":2.9000000000000001E-2},{"$f":"SUM(Financing!$AU49)","v":2.8490000000000001E-2},{"$f":"SUM(Financing!$AX49)","v":2.7980000000000001E-2},{"$f":"SUM(Financing!$AX49)","v":2.7980000000000001E-2},{"$f":"SUM(Financing!$AX49)","v":2.7980000000000001E-2},null,36,0,{"$f":"SUM(Financing!$AT49)","v":2.9000000000000001E-2},{"$f":"SUM(Financing!$AU49)","v":2.8490000000000001E-2},{"$f":"SUM(Financing!$AX49)","v":2.7980000000000001E-2},{"$f":"SUM(Financing!$AX49)","v":2.7980000000000001E-2},{"$f":"SUM(Financing!$AX49)","v":2.7980000000000001E-2},null,36,0,{"$f":"SUM(Financing!$AT49)","v":2.9000000000000001E-2},{"$f":"SUM(Financing!$AU49)","v":2.8490000000000001E-2},{"$f":"SUM(Financing!$AX49)","v":2.7980000000000001E-2},{"$f":"SUM(Financing!$AX49)","v":2.7980000000000001E-2},{"$f":"SUM(Financing!$AX49)","v":2.7980000000000001E-2}]
[null,null,null,null,null,null,null,null,48,0,{"$f":"SUM(Financing!$AT50)","v":2.4709999999999999E-2},{"$f":"SUM(Financing!$AU50)","v":2.4209999999999999E-2},{"$f":"SUM(Financing!$AX50)","v":2.3709999999999998E-2},{"$f":"SUM(Financing!$AX50)","v":2.3709999999999998E-2},{"$f":"SUM(Financing!$AX50)","v":2.3709999999999998E-2},null,48,0,{"$f":"SUM(Financing!$AT50)","v":2.4709999999999999E-2},{"$f":"SUM(Financing!$AU50)","v":2.4209999999999999E-2},{"$f":"SUM(Financing!$AX50)","v":2.3709999999999998E-2},{"$f":"SUM(Financing!$AX50)","v":2.3709999999999998E-2},{"$f":"SUM(Financing!$AX50)","v":2.3709999999999998E-2},null,48,0,{"$f":"SUM(Financing!$AT50)","v":2.4709999999999999E-2},{"$f":"SUM(Financing!$AU50)","v":2.4209999999999999E-2},{"$f":"SUM(Financing!$AX50)","v":2.3709999999999998E-2},{"$f":"SUM(Financing!$AX50)","v":2.3709999999999998E-2},{"$f":"SUM(Financing!$AX50)","v":2.3709999999999998E-2},null,48,0,{"$f":"SUM(Financing!$AT50)","v":2.4709999999999999E-2},{"$f":"SUM(Financing!$AU50)","v":2.4209999999999999E-2},{"$f":"SUM(Financing!$AX50)","v":2.3709999999999998E-2},{"$f":"SUM(Financing!$AX50)","v":2.3709999999999998E-2},{"$f":"SUM(Financing!$AX50)","v":2.3709999999999998E-2},null,48,0,{"$f":"SUM(Financing!$AT50)","v":2.4709999999999999E-2},{"$f":"SUM(Financing!$AU50)","v":2.4209999999999999E-2},{"$f":"SUM(Financing!$AX50)","v":2.3709999999999998E-2},{"$f":"SUM(Financing!$AX50)","v":2.3709999999999998E-2},{"$f":"SUM(Financing!$AX50)","v":2.3709999999999998E-2}]
[null,null,null,null,null,null,null,null,60,0,{"$f":"SUM(Financing!$AT51)","v":2.1669999999999998E-2},{"$f":"SUM(Financing!$AU51)","v":2.1170000000000001E-2},{"$f":"SUM(Financing!$AX51)","v":2.068E-2},{"$f":"SUM(Financing!$AX51)","v":2.068E-2},{"$f":"SUM(Financing!$AX51)","v":2.068E-2},null,48,0,{"$f":"SUM(Financing!$AT51)","v":2.1669999999999998E-2},{"$f":"SUM(Financing!$AU51)","v":2.1170000000000001E-2},{"$f":"SUM(Financing!$AX51)","v":2.068E-2},{"$f":"SUM(Financing!$AX51)","v":2.068E-2},{"$f":"SUM(Financing!$AX51)","v":2.068E-2},null,48,0,{"$f":"SUM(Financing!$AT51)","v":2.1669999999999998E-2},{"$f":"SUM(Financing!$AU51)","v":2.1170000000000001E-2},{"$f":"SUM(Financing!$AX51)","v":2.068E-2},{"$f":"SUM(Financing!$AX51)","v":2.068E-2},{"$f":"SUM(Financing!$AX51)","v":2.068E-2},null,48,0,{"$f":"SUM(Financing!$AT51)","v":2.1669999999999998E-2},{"$f":"SUM(Financing!$AU51)","v":2.1170000000000001E-2},{"$f":"SUM(Financing!$AX51)","v":2.068E-2},{"$f":"SUM(Financing!$AX51)","v":2.068E-2},{"$f":"SUM(Financing!$AX51)","v":2.068E-2},null,48,0,{"$f":"SUM(Financing!$AT51)","v":2.1669999999999998E-2},{"$f":"SUM(Financing!$AU51)","v":2.1170000000000001E-2},{"$f":"SUM(Financing!$AX51)","v":2.068E-2},{"$f":"SUM(Financing!$AX51)","v":2.068E-2},{"$f":"SUM(Financing!$AX51)","v":2.068E-2}]
[]
[null,null,null,null,null,null,null,null,36,0,{"$f":"IF(AND(K$94<=$B$1,$B$1<L$94,$B3=$E2),IF(K97 = \"NA\", 0,K97*$B$1),0)","v":0},{"$f":"IF(AND(L$94<=$B$1,$B$1<M$94,$B3=$E2),IF(L97 = \"NA\", 0,L97*$B$1),0)","v":0},{"$f":"IF(AND(M$94<=$B$1,$B$1<N$94,$B3=$E2),IF(M97 = \"NA\", 0,M97*$B$1),0)","v":0},{"$f":"IF(AND(N$94<=$B$1,$B$1<O$94,$B3=$E2),IF(N97 = \"NA\", 0,N97*$B$1),0)","v":0},{"$f":"IF(AND(O$94<=$B$1,$B3=$E2),IF(O97 = \"NA\", 0,O97*$B$1),0)","v":0},null,36,0,{"$f":"IF(AND(S$94<=$B$1,$B$1<T$94,$B3=$E2),IF(S97 = \"NA\", 0,S97*$B$1),0)","v":0},{"$f":"IF(AND(T$94<=$B$1,$B$1<U$94,$B3=$E2),IF(T97 = \"NA\", 0,T97*$B$1),0)","v":0},{"$f":"IF(AND(U$94<=$B$1,$B$1<V$94,$B3=$E2),IF(U97 = \"NA\", 0,U97*$B$1),0)","v":0},{"$f":"IF(AND(V$94<=$B$1,$B$1<W$94,$B3=$E2),IF(V97 = \"NA\", 0,V97*$B$1),0)","v":0},{"$f":"IF(AND(W$94<=$B$1,$B3=$E2),IF(W97 = \"NA\", 0,W97*$B$1),0)","v":0},null,36,0,{"$f":"IF(AND(AA$94<=$B$1,$B$1<AB$94,$B3=$E2),IF(AA97 = \"NA\", 0,AA97*$B$1),0)","v":0},{"$f":"IF(AND(AB$94<=$B$1,$B$1<AC$94,$B3=$E2),IF(AB97 = \"NA\", 0,AB97*$B$1),0)","v":0},{"$f":"IF(AND(AC$94<=$B$1,$B$1<AD$94,$B3=$E2),IF(AC97 = \"NA\", 0,AC97*$B$1),0)","v":0},{"$f":"IF(AND(AD$94<=$B$1,$B$1<AE$94,$B3=$E2),IF(AD97 = \"NA\", 0,AD97*$B$1),0)","v":0},{"$f":"IF(AND(AE$94<=$B$1,$B3=$E2),IF(AE97 = \"NA\", 0,AE97*$B$1),0)","v":0},null,36,0,{"$f":"IF(AND(AI$94<=$B$1,$B$1<AJ$94,$B3=$E2),IF(AI97 = \"NA\", 0,AI97*$B$1),0)","v":0},{"$f":"IF(AND(AJ$94<=$B$1,$B$1<AK$94,$B3=$E2),IF(AJ97 = \"NA\", 0,AJ97*$B$1),0)","v":0},{"$f":"IF(AND(AK$94<=$B$1,$B$1<AL$94,$B3=$E2),IF(AK97 = \"NA\", 0,AK97*$B$1),0)","v":0},{"$f":"IF(AND(AL$94<=$B$1,$B$1<AM$94,$B3=$E2),IF(AL97 = \"NA\", 0,AL97*$B$1),0)","v":0},{"$f":"IF(AND(AM$94<=$B$1,$B3=$E2),IF(AM97 = \"NA\", 0,AM97*$B$1),0)","v":0},null,36,0,{"$f":"IF(AND(AQ$94<=$B$1,$B$1<AR$94,$B3=$E2),IF(AQ97 = \"NA\", 0,AQ97*$B$1),0)","v":0},{"$f":"IF(AND(AR$94<=$B$1,$B$1<AS$94,$B3=$E2),IF(AR97 = \"NA\", 0,AR97*$B$1),0)","v":0},{"$f":"IF(AND(AS$94<=$B$1,$B$1<AT$94,$B3=$E2),IF(AS97 = \"NA\", 0,AS97*$B$1),0)","v":0},{"$f":"IF(AND(AT$94<=$B$1,$B$1<AU$94,$B3=$E2),IF(AT97 = \"NA\", 0,AT97*$B$1),0)","v":0},{"$f":"IF(AND(AU$94<=$B$1,$B3=$E2),IF(AU97 = \"NA\", 0,AU97*$B$1),0)","v":0}]
[null,null,null,null,null,null,null,null,48,0,{"$f":"IF(AND(K$94<=$B$1,$B$1<L$94,$B3=$E3),IF(K98 = \"NA\", 0,K98*$B$1),0)","v":0},{"$f":"IF(AND(L$94<=$B$1,$B$1<M$94,$B3=$E3),IF(L98 = \"NA\", 0,L98*$B$1),0)","v":0},{"$f":"IF(AND(M$94<=$B$1,$B$1<N$94,$B3=$E3),IF(M98 = \"NA\", 0,M98*$B$1),0)","v":0},{"$f":"IF(AND(N$94<=$B$1,$B$1<O$94,$B3=$E3),IF(N98 = \"NA\", 0,N98*$B$1),0)","v":0},{"$f":"IF(AND(O$94<=$B$1,$B3=$E3),IF(O98 = \"NA\", 0,O98*$B$1),0)","v":0},null,48,0,{"$f":"IF(AND(S$94<=$B$1,$B$1<T$94,$B3=$E3),IF(S98 = \"NA\", 0,S98*$B$1),0)","v":0},{"$f":"IF(AND(T$94<=$B$1,$B$1<U$94,$B3=$E3),IF(T98 = \"NA\", 0,T98*$B$1),0)","v":0},{"$f":"IF(AND(U$94<=$B$1,$B$1<V$94,$B3=$E3),IF(U98 = \"NA\", 0,U98*$B$1),0)","v":0},{"$f":"IF(AND(V$94<=$B$1,$B$1<W$94,$B3=$E3),IF(V98 = \"NA\", 0,V98*$B$1),0)","v":0},{"$f":"IF(AND(W$94<=$B$1,$B3=$E3),IF(W98 = \"NA\", 0,W98*$B$1),0)","v":0},null,48,0,{"$f":"IF(AND(AA$94<=$B$1,$B$1<AB$94,$B3=$E3),IF(AA98 = \"NA\", 0,AA98*$B$1),0)","v":0},{"$f":"IF(AND(AB$94<=$B$1,$B$1<AC$94,$B3=$E3),IF(AB98 = \"NA\", 0,AB98*$B$1),0)","v":0},{"$f":"IF(AND(AC$94<=$B$1,$B$1<AD$94,$B3=$E3),IF(AC98 = \"NA\", 0,AC98*$B$1),0)","v":0},{"$f":"IF(AND(AD$94<=$B$1,$B$1<AE$94,$B3=$E3),IF(AD98 = \"NA\", 0,AD98*$B$1),0)","v":0},{"$f":"IF(AND(AE$94<=$B$1,$B3=$E3),IF(AE98 = \"NA\", 0,AE98*$B$1),0)","v":0},null,48,0,{"$f":"IF(AND(AI$94<=$B$1,$B$1<AJ$94,$B3=$E3),IF(AI98 = \"NA\", 0,AI98*$B$1),0)","v":0},{"$f":"IF(AND(AJ$94<=$B$1,$B$1<AK$94,$B3=$E3),IF(AJ98 = \"NA\", 0,AJ98*$B$1),0)","v":0},{"$f":"IF(AND(AK$94<=$B$1,$B$1<AL$94,$B3=$E3),IF(AK98 = \"NA\", 0,AK98*$B$1),0)","v":0},{"$f":"IF(AND(AL$94<=$B$1,$B$1<AM$94,$B3=$E3),IF(AL98 = \"NA\", 0,AL98*$B$1),0)","v":0},{"$f":"IF(AND(AM$94<=$B$1,$B3=$E3),IF(AM98 = \"NA\", 0,AM98*$B$1),0)","v":0},null,48,0,{"$f":"IF(AND(AQ$94<=$B$1,$B$1<AR$94,$B3=$E3),IF(AQ98 = \"NA\", 0,AQ98*$B$1),0)","v":0},{"$f":"IF(AND(AR$94<=$B$1,$B$1<AS$94,$B3=$E3),IF(AR98 = \"NA\", 0,AR98*$B$1),0)","v":0},{"$f":"IF(AND(AS$94<=$B$1,$B$1<AT$94,$B3=$E3),IF(AS98 = \"NA\", 0,AS98*$B$1),0)","v":0},{"$f":"IF(AND(AT$94<=$B$1,$B$1<AU$94,$B3=$E3),IF(AT98 = \"NA\", 0,AT98*$B$1),0)","v":0},{"$f":"IF(AND(AU$94<=$B$1,$B3=$E3),IF(AU98 = \"NA\", 0,AU98*$B$1),0)","v":0}]
[null,null,null,null,null,null,null,null,60,0,{"$f":"IF(AND(K$94<=$B$1,$B$1<L$94,$B3=$E4),IF(K99 = \"NA\", 0,K99*$B$1),0)","v":0},{"$f":"IF(AND(L$94<=$B$1,$B$1<M$94,$B3=$E4),IF(L99 = \"NA\", 0,L99*$B$1),0)","v":0},{"$f":"IF(AND(M$94<=$B$1,$B$1<N$94,$B3=$E4),IF(M99 = \"NA\", 0,M99*$B$1),0)","v":0},{"$f":"IF(AND(N$94<=$B$1,$B$1<O$94,$B3=$E4),IF(N99 = \"NA\", 0,N99*$B$1),0)","v":0},{"$f":"IF(AND(O$94<=$B$1,$B3=$E4),IF(O99 = \"NA\", 0,O99*$B$1),0)","v":0},null,48,0,{"$f":"IF(AND(S$94<=$B$1,$B$1<T$94,$B3=$E4),IF(S99 = \"NA\", 0,S99*$B$1),0)","v":0},{"$f":"IF(AND(T$94<=$B$1,$B$1<U$94,$B3=$E4),IF(T99 = \"NA\", 0,T99*$B$1),0)","v":0},{"$f":"IF(AND(U$94<=$B$1,$B$1<V$94,$B3=$E4),IF(U99 = \"NA\", 0,U99*$B$1),0)","v":0},{"$f":"IF(AND(V$94<=$B$1,$B$1<W$94,$B3=$E4),IF(V99 = \"NA\", 0,V99*$B$1),0)","v":0},{"$f":"IF(AND(W$94<=$B$1,$B3=$E4),IF(W99 = \"NA\", 0,W99*$B$1),0)","v":0},null,48,0,{"$f":"IF(AND(AA$94<=$B$1,$B$1<AB$94,$B3=$E4),IF(AA99 = \"NA\", 0,AA99*$B$1),0)","v":0},{"$f":"IF(AND(AB$94<=$B$1,$B$1<AC$94,$B3=$E4),IF(AB99 = \"NA\", 0,AB99*$B$1),0)","v":0},{"$f":"IF(AND(AC$94<=$B$1,$B$1<AD$94,$B3=$E4),IF(AC99 = \"NA\", 0,AC99*$B$1),0)","v":0},{"$f":"IF(AND(AD$94<=$B$1,$B$1<AE$94,$B3=$E4),IF(AD99 = \"NA\", 0,AD99*$B$1),0)","v":0},{"$f":"IF(AND(AE$94<=$B$1,$B3=$E4),IF(AE99 = \"NA\", 0,AE99*$B$1),0)","v":0},null,48,0,{"$f":"IF(AND(AI$94<=$B$1,$B$1<AJ$94,$B3=$E4),IF(AI99 = \"NA\", 0,AI99*$B$1),0)","v":0},{"$f":"IF(AND(AJ$94<=$B$1,$B$1<AK$94,$B3=$E4),IF(AJ99 = \"NA\", 0,AJ99*$B$1),0)","v":0},{"$f":"IF(AND(AK$94<=$B$1,$B$1<AL$94,$B3=$E4),IF(AK99 = \"NA\", 0,AK99*$B$1),0)","v":0},{"$f":"IF(AND(AL$94<=$B$1,$B$1<AM$94,$B3=$E4),IF(AL99 = \"NA\", 0,AL99*$B$1),0)","v":0},{"$f":"IF(AND(AM$94<=$B$1,$B3=$E4),IF(AM99 = \"NA\", 0,AM99*$B$1),0)","v":0},null,48,0,{"$f":"IF(AND(AQ$94<=$B$1,$B$1<AR$94,$B3=$E4),IF(AQ99 = \"NA\", 0,AQ99*$B$1),0)","v":0},{"$f":"IF(AND(AR$94<=$B$1,$B$1<AS$94,$B3=$E4),IF(AR99 = \"NA\", 0,AR99*$B$1),0)","v":0},{"$f":"IF(AND(AS$94<=$B$1,$B$1<AT$94,$B3=$E4),IF(AS99 = \"NA\", 0,AS99*$B$1),0)","v":0},{"$f":"IF(AND(AT$94<=$B$1,$B$1<AU$94,$B3=$E4),IF(AT99 = \"NA\", 0,AT99*$B$1),0)","v":0},{"$f":"IF(AND(AU$94<=$B$1,$B3=$E4),IF(AU99 = \"NA\", 0,AU99*$B$1),0)","v":0}]
[null,null,null,null,null,null,null,null,{"$f":"SUM(K104:O104)","v":0},null,{"$f":"SUM(K101:K103)","v":0},{"$f":"SUM(L101:L103)","v":0},{"$f":"SUM(M101:M103)","v":0},{"$f":"SUM(N101:N103)","v":0},{"$f":"SUM(O101:O103)","v":0},null,{"$f":"SUM(S104:W104)","v":0},null,{"$f":"SUM(S101:S103)","v":0},{"$f":"SUM(T101:T103)","v":0},{"$f":"SUM(U101:U103)","v":0},{"$f":"SUM(V101:V103)","v":0},{"$f":"SUM(W101:W103)","v":0},null,{"$f":"SUM(AA104:AE104)","v":0},null,{"$f":"SUM(AA101:AA103)","v":0},{"$f":"SUM(AB101:AB103)","v":0},{"$f":"SUM(AC101:AC103)","v":0},{"$f":"SUM(AD101:AD103)","v":0},{"$f":"SUM(AE101:AE103)","v":0},null,{"$f":"SUM(AI104:AM104)","v":0},null,{"$f":"SUM(AI101:AI103)","v":0},{"$f":"SUM(AJ101:AJ103)","v":0},{"$f":"SUM(AK101:AK103)","v":0},{"$f":"SUM(AL101:AL103)","v":0},{"$f":"SUM(AM101:AM103)","v":0},null,{"$f":"SUM(AQ104:AU104)","v":0},null,{"$f":"SUM(AQ101:AQ103)","v":0},{"$f":"SUM(AR101:AR103)","v":0},{"$f":"SUM(AS101:AS103)","v":0},{"$f":"SUM(AT101:AT103)","v":0},{"$f":"SUM(AU101:AU103)","v":0}]
[]
[null,null,null,null,null,null,null,null,1]
[null,null,null,null,null,null,null,null,"300 Hours/Yr",null,null,null,null,null,null,null,"480 Hours/Yr",null,null,null,null,null,null,null,"720 Hours/Yr",null,null,null,null,null,null,null,"960 Hours/Yr",null,null,null,null,null,null,null,"1200 Hours/Yr"]
[null,null,null,null,null,null,null,null,null,null,3000,10000,25000,50000,100000,null,null,null,3000,10000,25000,50000,100000,null,null,null,3000,10000,25000,50000,100000,null,null,null,3000,10000,25000,50000,100000,null,null,null,3000,10000,25000,50000,100000]
[null,null,null,null,null,null,null,null,null,null,"to","to","to","to","to",null,null,null,"to","to","to","to","to",null,null,null,"to","to","to","to","to",null,null,null,"to","to","to","to","to",null,null,null,"to","to","to","to","to"]
[null,null,null,null,null,null,null,null,"Term","Adv",9999,24999,49999,99999,null,null,"Term","Adv",9999,24999,49999,99999,null,null,"Term","Adv",9999,24999,49999,99999,null,null,"Term","Adv",9999,24999,49999,99999,null,null,"Term","Adv",9999,24999,49999,99999]
[null,null,null,null,null,null,null,null,36,0,{"$f":"SUM(Financing!$AL49)","v":3.3110000000000001E-2},{"$f":"SUM(Financing!$AM49)","v":3.2660000000000002E-2},{"$f":"SUM(Financing!$AP49)","v":3.2219999999999999E-2},{"$f":"SUM(Financing!$AP49)","v":3.2219999999999999E-2},{"$f":"SUM(Financing!$AP49)","v":3.2219999999999999E-2},null,36,0,{"$f":"SUM(Financing!$AL49)","v":3.3110000000000001E-2},{"$f":"SUM(Financing!$AM49)","v":3.2660000000000002E-2},{"$f":"SUM(Financing!$AP49)","v":3.2219999999999999E-2},{"$f":"SUM(Financing!$AP49)","v":3.2219999999999999E-2},{"$f":"SUM(Financing!$AP49)","v":3.2219999999999999E-2},null,36,0,{"$f":"SUM(Financing!$AL49)","v":3.3110000000000001E-2},{"$f":"SUM(Financing!$AM49)","v":3.2660000000000002E-2},{"$f":"SUM(Financing!$AP49)","v":3.2219999999999999E-2},{"$f":"SUM(Financing!$AP49)","v":3.2219999999999999E-2},{"$f":"SUM(Financing!$AP49)","v":3.2219999999999999E-2},null,36,0,{"$f":"SUM(Financing!$AL49)","v":3.3110000000000001E-2},{"$f":"SUM(Financing!$AM49)","v":3.2660000000000002E-2},{"$f":"SUM(Financing!$AP49)","v":3.2219999999999999E-2},{"$f":"SUM(Financing!$AP49)","v":3.2219999999999999E-2},{"$f":"SUM(Financing!$AP49)","v":3.2219999999999999E-2},null,36,0,{"$f":"SUM(Financing!$AL49)","v":3.3110000000000001E-2},{"$f":"SUM(Financing!$AM49)","v":3.2660000000000002E-2},{"$f":"SUM(Financing!$AP49)","v":3.2219999999999999E-2},{"$f":"SUM(Financing!$AP49)","v":3.2219999999999999E-2},{"$f":"SUM(Financing!$AP49)","v":3.2219999999999999E-2}]
[null,null,null,null,null,null,null,null,48,0,{"$f":"SUM(Financing!$AL50)","v":2.631E-2},{"$f":"SUM(Financing!$AM50)","v":2.5839999999999998E-2},{"$f":"SUM(Financing!$AP50)","v":2.538E-2},{"$f":"SUM(Financing!$AP50)","v":2.538E-2},{"$f":"SUM(Financing!$AP50)","v":2.538E-2},null,48,0,{"$f":"SUM(Financing!$AL50)","v":2.631E-2},{"$f":"SUM(Financing!$AM50)","v":2.5839999999999998E-2},{"$f":"SUM(Financing!$AP50)","v":2.538E-2},{"$f":"SUM(Financing!$AP50)","v":2.538E-2},{"$f":"SUM(Financing!$AP50)","v":2.538E-2},null,48,0,{"$f":"SUM(Financing!$AL50)","v":2.631E-2},{"$f":"SUM(Financing!$AM50)","v":2.5839999999999998E-2},{"$f":"SUM(Financing!$AP50)","v":2.538E-2},{"$f":"SUM(Financing!$AP50)","v":2.538E-2},{"$f":"SUM(Financing!$AP50)","v":2.538E-2},null,48,0,{"$f":"SUM(Financing!$AL50)","v":2.631E-2},{"$f":"SUM(Financing!$AM50)","v":2.5839999999999998E-2},{"$f":"SUM(Financing!$AP50)","v":2.538E-2},{"$f":"SUM(Financing!$AP50)","v":2.538E-2},{"$f":"SUM(Financing!$AP50)","v":2.538E-2},null,48,0,{"$f":"SUM(Financing!$AL50)","v":2.631E-2},{"$f":"SUM(Financing!$AM50)","v":2.5839999999999998E-2},{"$f":"SUM(Financing!$AP50)","v":2.538E-2},{"$f":"SUM(Financing!$AP50)","v":2.538E-2},{"$f":"SUM(Financing!$AP50)","v":2.538E-2}]
[null,null,null,null,null,null,null,null,48,0,{"$f":"SUM(Financing!$AL51)","v":2.2270000000000002E-2},{"$f":"SUM(Financing!$AM51)","v":2.1780000000000001E-2},{"$f":"SUM(Financing!$AP51)","v":2.1309999999999999E-2},{"$f":"SUM(Financing!$AP51)","v":2.1309999999999999E-2},{"$f":"SUM(Financing!$AP51)","v":2.1309999999999999E-2},null,48,0,{"$f":"SUM(Financing!$AL51)","v":2.2270000000000002E-2},{"$f":"SUM(Financing!$AM51)","v":2.1780000000000001E-2},{"$f":"SUM(Financing!$AP51)","v":2.1309999999999999E-2},{"$f":"SUM(Financing!$AP51)","v":2.1309999999999999E-2},{"$f":"SUM(Financing!$AP51)","v":2.1309999999999999E-2},null,48,0,{"$f":"SUM(Financing!$AL51)","v":2.2270000000000002E-2},{"$f":"SUM(Financing!$AM51)","v":2.1780000000000001E-2},{"$f":"SUM(Financing!$AP51)","v":2.1309999999999999E-2},{"$f":"SUM(Financing!$AP51)","v":2.1309999999999999E-2},{"$f":"SUM(Financing!$AP51)","v":2.1309999999999999E-2},null,48,0,{"$f":"SUM(Financing!$AL51)","v":2.2270000000000002E-2},{"$f":"SUM(Financing!$AM51)","v":2.1780000000000001E-2},{"$f":"SUM(Financing!$AP51)","v":2.1309999999999999E-2},{"$f":"SUM(Financing!$AP51)","v":2.1309999999999999E-2},{"$f":"SUM(Financing!$AP51)","v":2.1309999999999999E-2},null,48,0,{"$f":"SUM(Financing!$AL51)","v":2.2270000000000002E-2},{"$f":"SUM(Financing!$AM51)","v":2.1780000000000001E-2},{"$f":"SUM(Financing!$AP51)","v":2.1309999999999999E-2},{"$f":"SUM(Financing!$AP51)","v":2.1309999999999999E-2},{"$f":"SUM(Financing!$AP51)","v":2.1309999999999999E-2}]
[]
[null,null,null,null,null,null,null,null,36,0,{"$f":"IF(AND(K$108<=$B$1,$B$1<L$108,$B3=$E2),IF(K111 = \"NA\", 0,K111*$B$1),0)","v":0},{"$f":"IF(AND(L$108<=$B$1,$B$1<M$108,$B3=$E2),IF(L111 = \"NA\", 0,L111*$B$1),0)","v":0},{"$f":"IF(AND(M$108<=$B$1,$B$1<N$108,$B3=$E2),IF(M111 = \"NA\", 0,M111*$B$1),0)","v":0},0,{"$f":"IF(AND(O$108<=$B$1,$B$3=$E2),IF(O111 = \"NA\", 0,O111*$B$1),0)","v":0},null,36,0,{"$f":"IF(AND(S$108<=$B$1,$B$1<T$108,$B3=$E2),IF(S111 = \"NA\", 0,S111*$B$1),0)","v":0},{"$f":"IF(AND(T$108<=$B$1,$B$1<U$108,$B3=$E2),IF(T111 = \"NA\", 0,T111*$B$1),0)","v":0},{"$f":"IF(AND(U$108<=$B$1,$B$1<V$108,$B3=$E2),IF(U111 = \"NA\", 0,U111*$B$1),0)","v":0},0,{"$f":"IF(AND(W$108<=$B$1,$B$3=$E2),IF(W111 = \"NA\", 0,W111*$B$1),0)","v":0},null,36,0,{"$f":"IF(AND(AA$108<=$B$1,$B$1<AB$108,$B3=$E2),IF(AA111 = \"NA\", 0,AA111*$B$1),0)","v":0},{"$f":"IF(AND(AB$108<=$B$1,$B$1<AC$108,$B3=$E2),IF(AB111 = \"NA\", 0,AB111*$B$1),0)","v":0},{"$f":"IF(AND(AC$108<=$B$1,$B$1<AD$108,$B3=$E2),IF(AC111 = \"NA\", 0,AC111*$B$1),0)","v":0},0,{"$f":"IF(AND(AE$108<=$B$1,$B$3=$E2),IF(AE111 = \"NA\", 0,AE111*$B$1),0)","v":0},null,36,0,{"$f":"IF(AND(AI$108<=$B$1,$B$1<AJ$108,$B3=$E2),IF(AI111 = \"NA\", 0,AI111*$B$1),0)","v":0},{"$f":"IF(AND(AJ$108<=$B$1,$B$1<AK$108,$B3=$E2),IF(AJ111 = \"NA\", 0,AJ111*$B$1),0)","v":0},{"$f":"IF(AND(AK$108<=$B$1,$B$1<AL$108,$B3=$E2),IF(AK111 = \"NA\", 0,AK111*$B$1),0)","v":0},0,{"$f":"IF(AND(AM$108<=$B$1,$B$3=$E2),IF(AM111 = \"NA\", 0,AM111*$B$1),0)","v":0},null,36,0,{"$f":"IF(AND(AQ$108<=$B$1,$B$1<AR$108,$B3=$E2),IF(AQ111 = \"NA\", 0,AQ111*$B$1),0)","v":0},{"$f":"IF(AND(AR$108<=$B$1,$B$1<AS$108,$B3=$E2),IF(AR111 = \"NA\", 0,AR111*$B$1),0)","v":0},{"$f":"IF(AND(AS$108<=$B$1,$B$1<AT$108,$B3=$E2),IF(AS111 = \"NA\", 0,AS111*$B$1),0)","v":0},0,{"$f":"IF(AND(AU$108<=$B$1,$B$3=$E2),IF(AU111 = \"NA\", 0,AU111*$B$1),0)","v":0}]
[null,null,null,null,null,null,null,null,48,0,{"$f":"IF(AND(K$108<=$B$1,$B$1<L$108,$B3=$E3),IF(K112 = \"NA\", 0,K112*$B$1),0)","v":0},{"$f":"IF(AND(L$108<=$B$1,$B$1<M$108,$B3=$E3),IF(L112 = \"NA\", 0,L112*$B$1),0)","v":0},{"$f":"IF(AND(M$108<=$B$1,$B$1<N$108,$B3=$E3),IF(M112 = \"NA\", 0,M112*$B$1),0)","v":0},0,{"$f":"IF(AND(O$108<=$B$1,$B$3=$E3),IF(O112 = \"NA\", 0,O112*$B$1),0)","v":0},null,48,0,{"$f":"IF(AND(S$108<=$B$1,$B$1<T$108,$B3=$E3),IF(S112 = \"NA\", 0,S112*$B$1),0)","v":0},{"$f":"IF(AND(T$108<=$B$1,$B$1<U$108,$B3=$E3),IF(T112 = \"NA\", 0,T112*$B$1),0)","v":0},{"$f":"IF(AND(U$108<=$B$1,$B$1<V$108,$B3=$E3),IF(U112 = \"NA\", 0,U112*$B$1),0)","v":0},0,{"$f":"IF(AND(W$108<=$B$1,$B$3=$E3),IF(W112 = \"NA\", 0,W112*$B$1),0)","v":0},null,48,0,{"$f":"IF(AND(AA$108<=$B$1,$B$1<AB$108,$B3=$E3),IF(AA112 = \"NA\", 0,AA112*$B$1),0)","v":0},{"$f":"IF(AND(AB$108<=$B$1,$B$1<AC$108,$B3=$E3),IF(AB112 = \"NA\", 0,AB112*$B$1),0)","v":0},{"$f":"IF(AND(AC$108<=$B$1,$B$1<AD$108,$B3=$E3),IF(AC112 = \"NA\", 0,AC112*$B$1),0)","v":0},0,{"$f":"IF(AND(AE$108<=$B$1,$B$3=$E3),IF(AE112 = \"NA\", 0,AE112*$B$1),0)","v":0},null,48,0,{"$f":"IF(AND(AI$108<=$B$1,$B$1<AJ$108,$B3=$E3),IF(AI112 = \"NA\", 0,AI112*$B$1),0)","v":0},{"$f":"IF(AND(AJ$108<=$B$1,$B$1<AK$108,$B3=$E3),IF(AJ112 = \"NA\", 0,AJ112*$B$1),0)","v":0},{"$f":"IF(AND(AK$108<=$B$1,$B$1<AL$108,$B3=$E3),IF(AK112 = \"NA\", 0,AK112*$B$1),0)","v":0},0,{"$f":"IF(AND(AM$108<=$B$1,$B$3=$E3),IF(AM112 = \"NA\", 0,AM112*$B$1),0)","v":0},null,48,0,{"$f":"IF(AND(AQ$108<=$B$1,$B$1<AR$108,$B3=$E3),IF(AQ112 = \"NA\", 0,AQ112*$B$1),0)","v":0},{"$f":"IF(AND(AR$108<=$B$1,$B$1<AS$108,$B3=$E3),IF(AR112 = \"NA\", 0,AR112*$B$1),0)","v":0},{"$f":"IF(AND(AS$108<=$B$1,$B$1<AT$108,$B3=$E3),IF(AS112 = \"NA\", 0,AS112*$B$1),0)","v":0},0,{"$f":"IF(AND(AU$108<=$B$1,$B$3=$E3),IF(AU112 = \"NA\", 0,AU112*$B$1),0)","v":0}]
[null,null,null,null,null,null,null,null,48,0,{"$f":"IF(AND(K$108<=$B$1,$B$1<L$108,$B3=$E4),IF(K113 = \"NA\", 0,K113*$B$1),0)","v":0},{"$f":"IF(AND(L$108<=$B$1,$B$1<M$108,$B3=$E4),IF(L113 = \"NA\", 0,L113*$B$1),0)","v":0},{"$f":"IF(AND(M$108<=$B$1,$B$1<N$108,$B3=$E4),IF(M113 = \"NA\", 0,M113*$B$1),0)","v":0},0,{"$f":"IF(AND(O$108<=$B$1,$B$3=$E4),IF(O113 = \"NA\", 0,O113*$B$1),0)","v":0},null,48,0,{"$f":"IF(AND(S$108<=$B$1,$B$1<T$108,$B3=$E4),IF(S113 = \"NA\", 0,S113*$B$1),0)","v":0},{"$f":"IF(AND(T$108<=$B$1,$B$1<U$108,$B3=$E4),IF(T113 = \"NA\", 0,T113*$B$1),0)","v":0},{"$f":"IF(AND(U$108<=$B$1,$B$1<V$108,$B3=$E4),IF(U113 = \"NA\", 0,U113*$B$1),0)","v":0},0,{"$f":"IF(AND(W$108<=$B$1,$B$3=$E4),IF(W113 = \"NA\", 0,W113*$B$1),0)","v":0},null,48,0,{"$f":"IF(AND(AA$108<=$B$1,$B$1<AB$108,$B3=$E4),IF(AA113 = \"NA\", 0,AA113*$B$1),0)","v":0},{"$f":"IF(AND(AB$108<=$B$1,$B$1<AC$108,$B3=$E4),IF(AB113 = \"NA\", 0,AB113*$B$1),0)","v":0},{"$f":"IF(AND(AC$108<=$B$1,$B$1<AD$108,$B3=$E4),IF(AC113 = \"NA\", 0,AC113*$B$1),0)","v":0},0,{"$f":"IF(AND(AE$108<=$B$1,$B$3=$E4),IF(AE113 = \"NA\", 0,AE113*$B$1),0)","v":0},null,48,0,{"$f":"IF(AND(AI$108<=$B$1,$B$1<AJ$108,$B3=$E4),IF(AI113 = \"NA\", 0,AI113*$B$1),0)","v":0},{"$f":"IF(AND(AJ$108<=$B$1,$B$1<AK$108,$B3=$E4),IF(AJ113 = \"NA\", 0,AJ113*$B$1),0)","v":0},{"$f":"IF(AND(AK$108<=$B$1,$B$1<AL$108,$B3=$E4),IF(AK113 = \"NA\", 0,AK113*$B$1),0)","v":0},0,{"$f":"IF(AND(AM$108<=$B$1,$B$3=$E4),IF(AM113 = \"NA\", 0,AM113*$B$1),0)","v":0},null,48,0,{"$f":"IF(AND(AQ$108<=$B$1,$B$1<AR$108,$B3=$E4),IF(AQ113 = \"NA\", 0,AQ113*$B$1),0)","v":0},{"$f":"IF(AND(AR$108<=$B$1,$B$1<AS$108,$B3=$E4),IF(AR113 = \"NA\", 0,AR113*$B$1),0)","v":0},{"$f":"IF(AND(AS$108<=$B$1,$B$1<AT$108,$B3=$E4),IF(AS113 = \"NA\", 0,AS113*$B$1),0)","v":0},0,{"$f":"IF(AND(AU$108<=$B$1,$B$3=$E4),IF(AU113 = \"NA\", 0,AU113*$B$1),0)","v":0}]
[null,null,null,null,null,null,null,null,{"$f":"SUM(K118:O118)","v":0},null,{"$f":"SUM(K115:K117)","v":0},{"$f":"SUM(L115:L117)","v":0},{"$f":"SUM(M115:M117)","v":0},{"$f":"SUM(N115:N117)","v":0},{"$f":"SUM(O115:O117)","v":0},null,{"$f":"SUM(S118:W118)","v":0},null,{"$f":"SUM(S115:S117)","v":0},{"$f":"SUM(T115:T117)","v":0},{"$f":"SUM(U115:U117)","v":0},{"$f":"SUM(V115:V117)","v":0},{"$f":"SUM(W115:W117)","v":0},null,{"$f":"SUM(AA118:AE118)","v":0},null,{"$f":"SUM(AA115:AA117)","v":0},{"$f":"SUM(AB115:AB117)","v":0},{"$f":"SUM(AC115:AC117)","v":0},{"$f":"SUM(AD115:AD117)","v":0},{"$f":"SUM(AE115:AE117)","v":0},null,{"$f":"SUM(AI118:AM118)","v":0},null,{"$f":"SUM(AI115:AI117)","v":0},{"$f":"SUM(AJ115:AJ117)","v":0},{"$f":"SUM(AK115:AK117)","v":0},{"$f":"SUM(AL115:AL117)","v":0},{"$f":"SUM(AM115:AM117)","v":0},null,{"$f":"SUM(AQ118:AU118)","v":0},null,{"$f":"SUM(AQ115:AQ117)","v":0},{"$f":"SUM(AR115:AR117)","v":0},{"$f":"SUM(AS115:AS117)","v":0},{"$f":"SUM(AT115:AT117)","v":0},{"$f":"SUM(AU115:AU117)","v":0}]