{"text_format":"1","workbook":"xlsx","n_sheets":55,"sheets":["Letter","CRM Mapping","Log","Start_Here","Cover_Letter","TennantTrue Summary_","Sheet1","AMR Autonomy Parts","Specialty","CS5_CS16","i_mop_Lite","i_mop_XL","i_mop_XXL","T1_T1B","T260","T391_T291","T581_T390_T290","MPF SAP Download PreConfigured","T681","T981","T2_Std_Config","T300_Series_Std_Config","T350_Std_Config","T500_Series_Std_Config","T600_Series_Std_Config","T7_Std_Config","T12_Standard_Config","T16_Standard_Config","T2","T300","T300e","T350","T500","T500e","T600","T600e","T600ee","T7","T12_Built_to_Order","T1581_Built_to_Order","T16_Built_to_Order","Pricezones","PricezonesUsers","MPF SAP Download","Contact","Help","Surcharge","County Tier","TennantTrue Rate","Financing","Settings","Lists","FlexClean","FlexCleanCalc","Security"],"not_rendered":{"charts":0,"images":26,"macros":1,"external_links":2,"defined_names":911,"comments":1,"pivot_tables":0},"unopened":[],"bounds":{"document_bytes":16777216,"sheet_cells":100000,"rows_first":2000,"rows_last":500,"rows_between":2000,"halvings":0,"cell_chars":16384,"cell_head_chars":4096},"cells_cut":0,"cells_raw":0,"read":"whole","date_system":"1900"}

{"sheet":"Letter","index":0,"n_rows":37,"n_cols":3,"rows_kept":37,"cut":false,"hidden":true,"merged":[]}
["clean"]
["Important!!"]
["If you accidentally stumbled into this page do not change any information on this page."]
[]
["Contact Name"]
["Company Name"]
["Address"]
[{"$f":"B8&\", \"&C8&\" \"&D8","v":",  "}]
["Salutation"]
["Rep Name"]
["Contact Phone"]
[null,null,"// SAP Customer Number"]
[null,null,"// Cust group 3"]
["Date",null,"Date"]
[]
[]
[]
[]
[]
[]
[]
[]
[]
["Please do not change cell A25."]
["2020-09-17","Quote Date"]
[]
[]
[]
[]
[]
[]
[]
[]
[]
[]
["Equipment Type","Scrubber"]
["Country","USA"]

{"sheet":"CRM Mapping","index":1,"n_rows":0,"n_cols":0,"rows_kept":0,"cut":false,"hidden":true,"merged":[]}

{"sheet":"Log","index":2,"n_rows":34,"n_cols":3,"rows_kept":34,"cut":false,"hidden":true,"merged":[]}
["Date","UpdatedBy","Description"]
["2019-08-23","Pao Leepalao","show user ID instead of full name on approve box"]
["2019-08-23","Pao Leepalao","date stamp when it's approved (yellow and red)"]
["2019-08-23","Pao Leepalao","revision date on all machine tabs"]
["2019-08-23","Pao Leepalao","change log (date, name, what changed) - hide tab"]
["2019-08-23","Pao Leepalao","fix T6 quick ship hide/show blank qty issue"]
["2019-08-23","Jeannie Smallish","T300/SS300: removed drain hose/cap"]
["2019-08-23","Jeannie Smallish","T20/M20/M30/S30/800/T16 quick ship: update built-in values"]
["2019-08-23","Jeannie Smallish","T16: update preconfigured machines"]
["2019-08-23","Jeannie Smallish","T20/S30: prices correction"]
["2019-08-23","Pao Leepalao","Update freight rates"]
["2019-09-16","Jeannie Smallish","corrected column issue on Extractors"]
["2019-09-16","Jeannie Smallish","Add new machine S10_Quick_Ship"]
["2019-09-16","Pao Leepalao","Discount/Service rates for S10_Quick_Ship"]
["2019-09-16","Pao Leepalao","Update leasing contact for Tennant"]
["2019-10-02","Pao Leepalao","Update finance rates - US  Bank"]
["2019-10-02","Pao Leepalao","Add governance approval process"]
["2019-10-21","Jeannie/Pao","T12_Quick_Ship"]
["2019-10-21","Jeannie/Pao","T20_Quick_Ship"]
["2019-10-21","Jeannie/Pao","M20_Quick_Ship"]
["2019-11-04","Jeannie/Pao","VC Changes for T17, M17, T600, T600e, T12, and T16"]
["2019-11-04","Jeannie/Pao","Price update for T600"]
["2019-11-08","Pao Leepalao","Fix GT formatting issue"]
["2019-11-22","Jeannie/Pao","T17_Quick_Ship"]
["2019-11-22","Jeannie/Pao","M17_Quick_Ship"]
["2019-12-04","Pao/Jeannie","New 2020 price increase"]
["2019-12-04","Pao Leepalao","Only positive allow in custom solution"]
["2020-01-03","Pao/Jeannie","T300_Quick_Ship"]
["2020-01-03","Pao/Jeannie","T300e_Quick_Ship"]
["2020-01-03","Pao/Jeannie","T500_Quick_Ship"]
["2020-01-03","Pao/Jeannie","T500e_Quick_Ship"]
["2020-01-03","Pao Leepalao","US Bank 2020 rates"]
["2020-04-01","Pao Leepalao","Q2 US Bank rates"]
["2020-04-01","Pao Leepalao","new service contract and rate for AMR"]

{"sheet":"Start_Here","index":3,"n_rows":64,"n_cols":17,"rows_kept":64,"cut":false,"hidden":false,"merged":[[0,2,0,7],[17,5,17,7],[30,2,33,3],[3,5,3,7],[10,1,10,2],[10,5,10,7],[30,1,31,1]]}
["Distributor",null,"Please fill out as much buyer information as you can.  Overkey addresses and contacts for proper display on the machine sheets.",null,null,null,null,null,null,null,null,null,null,null,"Alabama","Discount","ALL OTHER COUNTIES"]
[null,null,null,null,null,null,null,null,null,null,null,null,null,null,"Arkansas",{"$f":"TTDiscountLow","v":0},"BARBOUR"]
["Buyer Info",null,null,null,null,null,null,null,null,null,null,null,null,null,"Arizona",{"$f":"TTDiscountHigh","v":5},"COVINGTON"]
[null,"CRM Address Information",null,null,null,"Who is Buying the Machine? (Bill-To for Machine Aquisition Info) (Please Verify)",null,null,"Select One",null,null,null,null,null,"British Columbia",null,"DALE"]
[null,"Company",{"$f":"Letter!$A$6","v":"Company Name"},null,null,"Company",null,"Company Name",null,null,null,null,null,null,"Canada",null,"ESCAMBIA"]
[null,"Address",{"$f":"Address","v":"Address"},null,null,"Address",null,"Address",null,null,null,null,null,null,"California",null,"GENEVA"]
[null,"City, State Zip",{"$f":"CityStateZip","v":",  "},null,null,"City, State Zip",null,"City, State Zip",null,null,null,null,null,null,"Colorado",null,"HENRY"]
[null,"Name",{"$f":"ContactName","v":"Contact Name"},null,null,"Name",null,"Contact Name",null,null,null,null,null,null,"Connecticut",null,"HOUSTON"]
[null,"Phone",{"$f":"Letter!$A$11","v":"Contact Phone"},null,null,"Phone",null,"Contact Phone",null,null,null,null,null,null,"District of Columbia",null,"LEE"]
[null,null,null,null,null,null,null,null,null,null,null,null,null,null,"Delaware",null,"RUSSELL"]
[null,"Where is the Machine Being Shipped? (Ship-To Info) (Please Verify)",null,"Select One",null,"Where is the Machine Being Used? (Machine Use Location - Specific) (Please Verify)",null,null,"Select One",null,null,null,null,null,"Florida"]
[null,"Company","Company Name",null,null,"Company",null,"Company Name",null,null,null,null,null,null,"Georgia"]
[null,"Address","Address",null,null,"Address",null,"Address",null,null,null,null,null,null,"Hawaii"]
[null,"City, State Zip","City, State Zip",null,null,"City, State Zip",null,"City, State Zip",null,null,null,null,null,null,"Iowa"]
[null,"Name","Contact Name",null,null,"Name",null,"Contact Name",null,null,null,null,null,null,"Idaho"]
[null,"Phone","Contact Phone",null,null,"Phone",null,"Contact Phone",null,null,null,null,null,null,"Illinois"]
[null,null,null,null,null,null,null,null,null,null,null,null,null,null,"Indiana"]
[null,"Who Owns the Machine? (Sold-To Info) (Please Verify)",null,"Select One",null,"Who Pays for Service on the Machine? (Service Bill-To Info) (Please Verify)",null,null,"Select One",null,null,null,null,null,"Kansas"]
[null,"Company","Company Name",null,null,"Company",null,"Company Name",null,null,null,null,null,null,"Kentucky"]
[null,"Address","Address",null,null,"Address",null,"Address",null,null,null,null,null,null,"Louisiana"]
[null,"City, State Zip","City, State Zip",null,null,"City, State Zip",null,"City, State Zip",null,null,null,null,null,null,"Massachusetts"]
[null,"Name","Contact Name",null,null,"Name",null,"Contact Name",null,null,null,null,null,null,"Maryland"]
[null,"Phone","Contact Phone",null,null,"Phone",null,"Contact Phone",null,null,null,null,null,null,"Maine"]
[null,null,null,null,null,null,null,null,null,null,null,null,null,null,"Michigan"]
[null,"Customer Number",{"$f":"Letter!$A$12","v":0},null,null,"Finance Partner",null,"TennantTrue Details",null,null,null,null,null,null,"Minnesota"]
[null,"Authorized Buyer's Name",null,null,null,"First Western Equipment Finance",null,"State",null,null,null,null,null,null,"Missouri"]
[null,"Buyer's Phone #",null,null,null,null,null,null,null,null,null,null,null,null,"Mississippi"]
[null,"Requested Delivery Date",null,null,null,"Select Market",null,"County",null,null,null,null,null,null,"Montana"]
[null,"Cust Grp 3",{"$f":"Letter!$A$13","v":0},null,null,"Internal use only",null,null,null,null,null,null,null,null,"North Carolina"]
[null,null,null,null,null,null,null,"National Account",null,null,null,null,null,null,"North Dakota"]
[null,"Shipping / Carrier Instructions:",null,null,null,"Quote Service",null,null,null,null,null,null,null,null,"Nebraska"]
[null,null,null,null,null,"Yes",null,"TennantTrue Discount (%)",null,null,null,null,null,null,"New Hampshire"]
[null,null,null,null,null,null,null,null,null,null,null,null,null,null,"New Jersey"]
[null,null,null,null,null,null,null,null,null,null,null,null,null,null,"New Mexico"]
[null,"Seller Info",null,null,null,null,null,null,null,null,null,null,null,null,"Nevada"]
[null,"Letter/Quote",null,null,"Terms and Conditions",null,null,null,null,null,null,null,null,null,"New York"]
[null,"Company","Tennant Sales and Service Company",null,"Ask your local sales rep for estimated lead times. Verify when placing order",null,null,null,null,null,null,null,null,null,"Ohio"]
[null,"Address","10400 Clean Street",null,"All orders subject to acceptance by Tennant Sales and Service Company, Minneapolis, Minnesota",null,null,null,null,null,null,null,null,null,"Oklahoma"]
[null,null,"Eden Prairie, MN 55344",null,"Prices subject to change without notice.",null,null,null,null,null,null,null,null,null,"Ontario"]
[null,null,null,null,"Terms:  Net 30 days.  Subject to any applicable taxes.",null,null,null,null,null,null,null,null,null,"Oregon"]
[null,"Name",{"$f":"RepName","v":"Rep Name"},null,"Freight: Machines and accessory orders delivered FOB shipping point Frt PPD & Add",null,null,null,null,null,null,null,null,null,"Pennsylvania"]
[null,null,null,null,"Parts, supplies, detergents and floor treating material orders delivered FOB ",null,null,null,null,null,null,null,null,null,"Prince Edward Isle"]
[null,"Phone","800-553-8033",null,"shipping point Frt PPD",null,null,null,null,null,null,null,null,null,"Rhode Island"]
[null,"Fax","763-513-2116",null,"All orders are subject to Tennant’s General Terms and Conditions available at http://www.tennantco.com/terms.",null,null,null,null,null,null,null,null,null,"Quebec"]
[null,null,null,null,"Printed General Terms and Conditions are also available upon request.",null,null,null,null,null,null,null,null,null,"South Carolina"]
[null,null,null,null,null,null,null,null,null,null,null,null,null,null,"South Dakota"]
[null,"Footer",null,null,null,null,null,null,null,null,null,null,null,null,"Tennessee"]
[null,"Line 1","TENNANT · 10400 Clean Street · Eden Prairie, MN 55344 ·",null,null,null,null,null,null,null,null,null,null,null,"Texas"]
[null,"Line 2"," PHONE:800-553-8033 · FAX:763-513-2116",null,null,null,null,null,null,null,null,null,null,null,"Utah"]
[null,null,null,null,null,null,null,null,null,null,null,null,null,null,"Virginia"]
[null,null,null,null,null,null,null,null,null,null,null,null,null,null,"Vermont"]
[null,null,null,null,null,null,null,null,null,null,null,null,null,null,"Washington"]
[null,null,null,null,null,null,null,null,null,null,null,null,null,null,"West Virginia"]
[null,null,null,null,null,null,null,null,null,null,null,null,null,null,"Wisconsin"]
[null,null,null,null,null,null,null,null,null,null,null,null,null,null,"Wyoming"]
[]
[]
[]
[]
[]
[null,null,"Battery Surcharge","Price"]
[null,null,"36 Volt Machines",0,null,null,null,null,null,null,null,null,null,null,"Wisconsin"]
[null,null,"24 Volt Machines",0,null,null,null,null,null,null,null,null,null,null,"West Virginia"]
[null,null,"Small 24 Volt Machines",0,null,null,null,null,null,null,null,null,null,null,"Wyoming"]

{"sheet":"Cover_Letter","index":4,"n_rows":37,"n_cols":1,"rows_kept":37,"cut":false,"hidden":false,"merged":[[8,0,8,1]]}
[{"$f":"Letter!$A$25","v":"2020-09-17"}]
[]
[]
[{"$f":"Start_Here!C37","v":"Tennant Sales and Service Company"}]
[{"$f":"Start_Here!C38","v":"10400 Clean Street"}]
[{"$f":"Start_Here!C39","v":"Eden Prairie, MN 55344"}]
[{"$f":"Start_Here!C40","v":0}]
[]
[{"$f":"Start_Here!$C$22","v":"Contact Name"}]
[{"$f":"Start_Here!$C$19","v":"Company Name"}]
[{"$f":"Start_Here!$C$20","v":"Address"}]
[{"$f":"Start_Here!$C$21","v":"City, State Zip"}]
[]
[]
[{"$f":"Salutation","v":"Salutation"}]
[]
["Thank you for your interest in TENNANT maintenance equipment.  We are pleased to send you the attached quotation and literature on the products you are considering."]
[]
["A variety of lease and finance programs are available that will allow you to maximize the cost savings and productivity advantages that Tennant provides."]
[]
["I will be in contact with you, but in the meantime, feel free to call my sales office listed below, should you need to--your questions are invited and your orders will be given prompt attention."]
[]
["Yours Truly,"]
[]
[]
["                                                                                                                "]
[{"$f":"Start_Here!$C$41","v":"Rep Name"}]
[{"$f":"Start_Here!C37","v":"Tennant Sales and Service Company"}]
[{"$f":"Start_Here!C38","v":"10400 Clean Street"}]
[{"$f":"Start_Here!C39","v":"Eden Prairie, MN 55344"}]
[{"$f":"Start_Here!$C$43","v":"800-553-8033"}]
[]
["attachment"]
[]
[]
[{"$f":"Start_Here!C48","v":"TENNANT · 10400 Clean Street · Eden Prairie, MN 55344 ·"}]
[{"$f":"Start_Here!C49","v":" PHONE:800-553-8033 · FAX:763-513-2116"}]

{"sheet":"TennantTrue Summary_","index":5,"n_rows":66,"n_cols":15,"rows_kept":66,"cut":false,"hidden":true,"merged":[[39,9,39,10],[69,0,69,11],[46,3,47,3],[46,4,47,5],[51,1,52,11],[53,1,54,11],[59,3,59,5],[60,3,60,5],[61,3,61,5],[62,3,62,5],[63,2,64,6],[67,0,67,11],[68,0,68,11],[41,14,43,19],[25,14,35,16],[25,17,35,17],[25,18,35,18],[25,19,35,19],[36,14,39,16],[36,17,39,17],[36,18,39,18],[36,19,39,19],[27,9,27,10],[34,3,35,3],[34,4,35,5],[11,14,18,16],[11,17,18,17],[11,18,18,18],[11,19,18,19],[15,9,15,10],[19,14,24,16],[19,17,24,17],[19,18,24,18],[19,19,24,19],[9,17,10,17],[9,18,10,18],[9,19,10,19],[1,2,3,6],[1,15,3,19],[4,2,5,10],[4,16,5,19],[7,14,8,17]]}
[]
[]
[]
[]
[]
[]
[]
[null,null,null,null,null,null,null,null,null,null,null,null,null,null,"Choose the best plan for you"]
[null,"Prepared for:",null,null,null,null,null,null,null,null,"Prepared On:"]
[null,{"$f":"Start_Here!$C$22","v":"Contact Name"},null,null,null,null,null,null,null,null,{"$f":"Letter!$A$25","v":"2020-09-17"}]
[null,{"$f":"Start_Here!$C$19","v":"Company Name"}]
[null,{"$f":"Start_Here!$C$20","v":"Address"}]
[null,{"$f":"Start_Here!$C$21","v":"City, State Zip"}]
[]
[]
[null,null,"Machine 1",null,"Term",null,null,null,"Service Hours"]
[]
[null,null,"Used Machine?",null,"Gold","Silver","Pay As You Go","Block of Time - Weekly","Block of Time - Bi-Weekly",null,"On Demand"]
[null,null,"Monthly Rate"]
[null,null,"Annually"]
[null,null,"Pre Pay 12 mo"]
[null,null,"Per Visit"]
[null,null,"Hourly Labor Rate",null,"See Below"]
[null,null,"Site Visit Charge",null,null,null,null,null,null,null,null," "]
[]
[]
[]
[null,null,"Machine 2",null,"Term",null,null,null,"Service Hours"]
[]
[null,null,"Used Machine?",null,"Gold","Silver","Pay As You Go","Block of Time - Weekly","Block of Time - Bi-Weekly",null,"On Demand"]
[null,null,"Monthly Rate"]
[null,null,"Annually"]
[null,null,"Pre Pay 36 mo"]
[null,null,"Per Visit"]
[null,null,"Hourly Labor Rate",null,"See Below"]
[null,null,"Site Visit Charge"]
[]
[]
[]
[null,null,"Machine 3",null,"Term",null,null,null,"Service Hours"]
[]
[null,null,"Used Machine?",null,"Gold","Silver","Pay As You Go","Block of Time - Weekly","Block of Time - Bi-Weekly",null,"On Demand"]
[null,null,"Monthly Rate"]
[null,null,"Annually"]
[null,null,"Pre Pay 36 mo"]
[null,null,"Per Visit"]
[null,null,"Hourly Labor Rate",null,"See Below"]
[null,null,"Site Visit Charge",null,null,null,null,null,null,null,null," "]
[]
[null,"**All rates and fees above reflect service for one (1) unit with the exception of Block of Time service."]
[]
[null," **   Breakdown service calls for Silver customers include a Site Visit Charge and will be billed at the current \"Pay As You Go\" Hourly Labor Rate.  Parts will be billed at list price."]
[]
[]
[]
[null," ",null,null,null," "]
[null,"Tennant Company Sales Representative:",null,null,null,null,{"$f":"Start_Here!$C$41","v":"Rep Name"}]
[]
[null,"Customer"]
[null,"Accepted By*:"]
[null,"Print Name:"]
[null,"Title:"]
[null,"Date:"]
[null,null,"*Acceptance is contingent upon customer review and approval of the Master Usage \nAgreement and the Usage Schedule / Equipment Schedule.\n"]
[]
[null,null,"**This quote is good for 60 days from the above date."]

{"sheet":"Sheet1","index":6,"n_rows":15,"n_cols":7,"rows_kept":15,"cut":false,"hidden":true,"merged":[]}
["Customer Information (\"Customer\")"]
["Sold-To",null,{"$f":"Start_Here!$C$19","v":"Company Name"},null,null,null,{"$f":"Start_Here!$C$20","v":"Address"}]
[null,null,"Full Legal Name",null,null,null,"Street Address"]
[null,null,{"$f":"Start_Here!$C$21","v":"City, State Zip"},null,null,null,{"$f":"Start_Here!$C$23","v":"Contact Phone"}]
[null,null,"City, State Zip",null,null,null,"Phone"]
[null,null,{"$f":"Start_Here!$C$22","v":"Contact Name"}]
[null,null,"Contact Name",null,null,null,"Email"]
[]
["Bill-To",null,{"$f":"Start_Here!$H$19","v":"Company Name"},null,null,null,{"$f":"Start_Here!$H$20","v":"Address"}]
[null,null,"Billing Name (If Different from Sold-To)",null,null,null,"Billing Address (If Different from Sold-To)"]
[null,null,{"$f":"Start_Here!$H$21","v":"City, State Zip"},null,null,null,{"$f":"Start_Here!$H$23","v":"Contact Phone"}]
[null,null,"City, State Zip",null,null,null,"Billing Phone"]
[]
[null,null,{"$f":"Start_Here!$H$13 & \" \" &Start_Here!$H$14","v":"Address City, State Zip"}]
[null,null,"Equipment Location; Where is the Machine Being Used (If Different from Sold-To) "]

{"sheet":"AMR Autonomy Parts","index":7,"n_rows":59,"n_cols":9,"rows_kept":59,"cut":false,"hidden":true,"merged":[]}
["product","Term","Part Number","Price",null,"based","difference",null,"Discount %"]
["T7AMR","1 Year","T7AMRRENEW1",6000,null,null,null,null,1]
["T7AMR","2 Years","T7AMRRENEW2",12000,null,null,null,null,2]
["T7AMR","3 Years","T7AMRRENEW3",18000,null,null,null,null,3]
["T7AMR","4 Years","T7AMRRENEW4",24000,null,null,null,null,4]
["T7AMR","5 Years","T7AMRRENEW5",30000,null,null,null,null,5]
["T7AMR","Monthly","T7AMRMONTH",500,null,null,null,null,6]
["T380AMR","1 Year","T380AMRRENEW1",4800,null,null,null,null,7]
["T380AMR","2 Years","T380AMRRENEW2",9600,null,null,null,null,8]
["T380AMR","3 Years","T380AMRRENEW3",14400,null,null,null,null,9]
["T380AMR","4 Years","T380AMRRENEW4",19200,null,null,null,null,10]
["T380AMR","5 Years","T380AMRRENEW5",24000,null,null,null,null,11]
["T380AMR","Monthly","T380AMRMONTH",400,null,null,null,null,12]
["T16AMR","1 Year","T16AMRRENEW1",8640,null,null,null,null,13]
["T16AMR","2 Years","T16AMRRENEW2",17280,null,null,null,null,14]
["T16AMR","3 Years","T16AMRRENEW3",25920,null,null,null,null,15]
["T16AMR","4 Years","T16AMRRENEW4",34560,null,null,null,null,16]
["T16AMR","5 Years","T16AMRRENEW5",43200,null,null,null,null,17]
["T16AMR","Monthly","T16AMRMONTH",720,null,null,null,null,18]
["M_X4ROVR","A","X4ROVR5 1-4",15500,"5YR AUTONOMY SERVICES (Qty1-4)",15500,0,null,19]
["M_X4ROVR","B","X4ROVR5 5-49",14500,"5YR AUTONOMY SERVICES (Qty5-49)",15500,{"$f":"SUM(D$20-D21)","v":1000},null,20]
["M_X4ROVR","B","X4ROVR5 50-299",11500,"5YR AUTONOMY SERVICES (Qty50-299)",15500,{"$f":"SUM(D$20-D22)","v":4000},null,21]
["M_X4ROVR","C","X4ROVR5 300",8500,"5YR AUTONOMY SERVICES (Qty300+)",15500,7000,null,22]
["T16AMR","A","T16AMR3 1-4",25920,"3YR AUTONOMY SERVICES (Qty1-4)",25920,0,null,23]
["T16AMR","B","T16AMR3 5-9",25531,"3YR AUTONOMY SERVICES (Qty5-9)",25920,{"$f":"SUM(D$24-D25)","v":389},null,24]
["T16AMR","B","T16AMR3 10-19",24494,"3YR AUTONOMY SERVICES (Qty10-19)",25920,{"$f":"SUM(D$24-D26)","v":1426},null,25]
["T16AMR","C","T16AMR3 20",23717,"3YR AUTONOMY SERVICES (Qty20+)",25920,2203,null,26]
["T16AMR","A","T16AMR5 1-4",43200,"5YR AUTONOMY SERVICES (Qty1-4)",43200,0,null,27]
["T16AMR","B","T16AMR5 5-9",41904,"5YR AUTONOMY SERVICES (Qty5-9)",43200,{"$f":"SUM(D$28-D29)","v":1296},null,28]
["T16AMR","B","T16AMR5 10-19",38448,"5YR AUTONOMY SERVICES (Qty10-19)",43200,{"$f":"SUM(D$28-D30)","v":4752},null,29]
["T16AMR","C","T16AMR5 20",35856,"5YR AUTONOMY SERVICES (Qty20+)",43200,7344,null,30]
["T7AMR","A","T7AMR(3) ",18000,"3YR AUTONOMY SERVICES",18000,0,null,31]
["T7AMR","A","T7AMR(5) ",30000,"5YR AUTONOMY SERVICES",30000,0,null,32]
["T7AMR","A","T7AMREDU5 1-4",30000,"5YR AUTONOMY SERVICES ED&H(Qty1-4)",30000,0,null,33]
["T7AMR","B","T7AMREDU5 5-9",29100,"5YR AUTONOMY SERVICES ED&H(Qty5-9)",30000,{"$f":"SUM(D$34-D35)","v":900},null,34]
["T7AMR","B","T7AMREDU5 10-19",26700,"5YR AUTONOMY SERVICES ED&H(Qty10-19)",30000,{"$f":"SUM(D$34-D36)","v":3300},null,35]
["T7AMR","C","T7AMREDU5 20",24900,"5YR AUTONOMY SERVICES ED&H(Qty20+)",30000,5100,null,36]
["T7AMR","A","T7AMRBR5 1-9",30000,"5YR AUTONOMY SERVICES B&R(Qty1-9)",30000,0,null,37]
["T7AMR","B","T7AMRBR5 10-49",29100,"5YR AUTONOMY SERVICES B&R(Qty10-49)",30000,{"$f":"SUM(D$38-D39)","v":900},null,38]
["T7AMR","B","T7AMRBR5 50-99",26700,"5YR AUTONOMY SERVICES B&R(Qty50-99)",30000,{"$f":"SUM(D$38-D40)","v":3300},null,39]
["T7AMR","C","T7AMRBR5 100",24900,"5YR AUTONOMY SERVICES B&R(Qty100+)",30000,5100,null,40]
["T380AMR","A","T380AMR(3)",14400,"3YR AUTONOMY SERVICES",14400,0,null,41]
["T380AMR","A","T380AMR(5)",24000,"5YR AUTONOMY SERVICES",24000,0,null,42]
["T380AMR","A","T380AMREDU5 1-4",24000,"5YR AUTONOMY SERVICES ED&H(Qty1-4)",24000,0,null,43]
["T380AMR","B","T380AMREDU5 5-9",23280,"5YR AUTONOMY SERVICES ED&H(Qty5-9)",24000,{"$f":"SUM(D$44-D45)","v":720},null,44]
["T380AMR","B","T380AMREDU5 10-19",21360,"5YR AUTONOMY SERVICES ED&H(Qty10-19)",24000,{"$f":"SUM(D$44-D46)","v":2640},null,45]
["T380AMR","C","T380AMREDU5 20",19920,"5YR AUTONOMY SERVICES ED&H(Qty20+)",24000,{"$f":"SUM(D$44-D47)","v":4080},null,46]
["T380AMR","A","T380AMRBR5 1-9",24000,"5YR AUTONOMY SERVICES B&R(Qty1-9)",24000,0,null,47]
["T380AMR","B","T380AMRBR5 10-49",23280,"5YR AUTONOMY SERVICES B&R(Qty10-49)",24000,{"$f":"SUM(D$48-D49)","v":720},null,48]
["T380AMR","B","T380AMRBR5 50-99",21360,"5YR AUTONOMY SERVICES B&R(Qty50-99)",24000,{"$f":"SUM(D$48-D50)","v":2640},null,49]
["T380AMR","C","T380AMRBR5 100",19920,"5YR AUTONOMY SERVICES B&R(Qty100+)",24000,{"$f":"SUM(D$48-D51)","v":4080},null,50]
["M_X6ROVR","A","X6ROVR(3)",13680,"3YR AUTONOMY SERVICES",13680,0]
["M_X6ROVR","A","X6ROVR5 1-4",22800,"5YR AUTONOMY SERVICES (Qty1-4)",22800,0]
["M_X6ROVR","B","X6ROVR5 5-9",22230,"5YR AUTONOMY SERVICES (Qty5-9)",22800,{"$f":"SUM(D$53-D54)","v":570}]
["M_X6ROVR","B","X6ROVR5 10-24",21660,"5YR AUTONOMY SERVICES (Qty10-24)",22800,{"$f":"SUM(D$53-D55)","v":1140}]
["M_X6ROVR","B","X6ROVR5 25-74",20520,"5YR AUTONOMY SERVICES (Qty25-74)",22800,{"$f":"SUM(D$53-D56)","v":2280}]
["M_X6ROVR","B","X6ROVR5 75-149",19380,"5YR AUTONOMY SERVICES (Qty 75-149)",22800,3420]
["M_X6ROVR","B","X6ROVR5 150-299",17100,"5YR AUTONOMY SERVICES (Qty 150-299)",22800,{"$f":"SUM(D$53-D58)","v":5700}]
["M_X6ROVR","C","X6ROVR5 300",13680,"5YR AUTONOMY SERVICES (Qty300+)",22800,{"$f":"SUM(D$53-D59)","v":9120}]

{"sheet":"Specialty","index":8,"n_rows":205,"n_cols":16,"rows_kept":205,"cut":false,"hidden":false,"merged":[[133,3,133,4],[133,5,133,6],[184,2,184,5],[193,4,193,5],[176,2,176,5],[177,2,177,5],[178,2,178,5],[180,4,180,7],[172,2,172,5],[174,2,174,5],[175,2,175,5],[169,2,169,5],[170,2,170,5],[171,2,171,5],[143,3,144,6],[147,1,147,6],[168,2,168,5],[166,4,166,7],[122,3,122,6],[124,3,124,4],[125,3,125,4],[127,3,127,4],[127,5,127,6],[128,3,128,4],[128,5,128,6],[129,3,129,4],[129,5,129,6],[130,3,130,4],[130,5,130,6],[131,3,131,4],[131,5,131,6],[132,3,132,4],[81,3,81,4],[81,5,81,6],[93,3,93,4],[103,5,103,6],[110,3,110,4],[110,5,110,6],[93,5,93,6],[94,3,94,4],[94,5,94,6],[0,2,0,3],[1,2,1,3],[2,2,2,3],[3,2,3,3],[79,3,79,4],[76,3,76,6],[79,5,79,6],[28,2,28,3],[30,2,30,3],[120,4,120,8],[132,5,132,6],[102,3,102,4],[102,5,102,6],[103,3,103,4],[111,3,111,4],[111,5,111,6]]}
["Specialty",null,{"$f":"Start_Here!$C19","v":"Company Name"}]
[{"$f":"SUM(G72)","v":0},null,{"$f":"Start_Here!$C20","v":"Address"}]
[null,null,{"$f":"Start_Here!$C21","v":"City, State Zip"}]
[null,null,{"$f":"Start_Here!$C22","v":"Contact Name"}]
[null,null,{"$f":"Start_Here!$C$41","v":"Rep Name"}]
[null,null,{"$f":"Start_Here!$C$37","v":"Tennant Sales and Service Company"}]
[null,null,{"$f":"Start_Here!$C$38","v":"10400 Clean Street"}]
[null,null,{"$f":"Start_Here!$C$39","v":"Eden Prairie, MN 55344"}]
[null,null,{"$f":"Start_Here!$C$43","v":"800-553-8033"},null,"Quote Date :",null,{"$f":"Letter!$A$25","v":"2020-09-17"}]
[]
[null,null,{"$f":"Help!C2","v":"US Date Rev - 5/6/2025"}]
[]
[null,null,"EXCLUSIVE FACTORY-DIRECT WARRANTY"]
[null,null,"BLOWER"]
[null,null,"12 MONTHS ON PARTS / LABOR (Blower)"]
[null,null,"ASC15"]
[null,null,"36 MONTHS",null,"                Quote Request Information"]
[null,null,"36 MONTHS – LABOR",null,null,null,"Fax (quote only)"]
[null,null,"NO TRAVEL",null,null,null,"Mail (quote,lit, specs)"]
[null,null,null,null,null,null,"Fax + Mail"]
[]
[null,null,null,null,"                Primary Use"]
[null,null,null,null,null,null,"Inside"]
[null,null,null,null,null,null,"Outside"]
[null,null,"Description","Reference # ","US Price","Qty.","Extended Price"]
[null,null,"Cleaning Type",null,null,{"$f":"SUM(F38)","v":0}]
[null,null,null,null,null,null,null,{"$f":"IFERROR(IFERROR(VLOOKUP(D27,Surcharge!A:B,2,FALSE)*F27, VLOOKUP(D27 & \"\",Surcharge!A:B,2,FALSE)*F27), \"\")","v":""}]
[null,null,"Q12 Multi-Surface Cleaner",null,null,{"$f":"SUM(F34:F35)","v":0}]
[null,null,"15 gal (57 L) capacity, variable 400-1200 psi (27.6 to 83 bar),  Hard Surface Turbo Tool option, 25 ft (8 m) vacuum and solution hoses, and two 40 ft (12 m) hospital grade safety yellow electrical cords. ",null,null,{"$f":"SUM(F28)","v":0}]
[null,null,"ETL (US/C) certified to UL & CSA Standards. ",null,null,{"$f":"SUM(F29)","v":0}]
[null,null,"Boxed Dimensions:  28.5 in x 38 in x 55 in (724 mm x 965 mm x 1397 mm)",null,null,{"$f":"SUM(F30)","v":0}]
[null,null,"Shipping Weight: 205 lb (93 kg)",null,null,{"$f":"SUM(F31)","v":0}]
[]
[null,null,"Q12, 400-1200psi (27.6 to 83 bar) Multi-Surface Cleaner w/ vacuum and solution hoses.",1072856,11948,null,{"$f":"F34*E34","v":0},null,null,null,null,null,null,null,null,{"$f":"VLOOKUP(D34,'MPF SAP Download PreConfigured'!C:E,3,FALSE)","v":11166}]
[null,null,"Q12, 400-1200 psi (27.6 to 83 bar) Multi-Surface Cleaner w/ hard surface turbo tool, vacuum, and solution hoses.",9011458,14573,null,{"$f":"F35*E35","v":0},null,null,null,null,null,null,null,null,{"$f":"VLOOKUP(D35,'MPF SAP Download PreConfigured'!C:E,3,FALSE)","v":13619}]
[null,null,null,null,null,{"$f":"SUM(F35)","v":0}]
[]
[null,null,"ASC-15  All Surface Cleaner ",9007354,6929,null,{"$f":"F38*E38","v":0},{"$f":"IFERROR(IFERROR(VLOOKUP(D38,Surcharge!A:B,2,FALSE)*F38, VLOOKUP(D38 & \"\",Surcharge!A:B,2,FALSE)*F38), \"\")","v":""},null,null,null,null,null,null,null,{"$f":"VLOOKUP(D38,'MPF SAP Download PreConfigured'!C:E,3,FALSE)","v":6475}]
[null,null,"15-gal. (57L) solution capacity 19-gal. (72L) recovery capacity.  Includes double-bend telescopic aluminum wand, 25-ft. (7.6m) recovery hose, scrub brush, standard 6-ft. (1.8m) to 25-ft. (7.6m) expandable blower hose, 25-ft. (7.6m) high pressure hose with variable pressure gun, floor squeegee tool, hand squeegee tool, blower tool, gulper floor drain tool, fill hose and metering tip packet with 3 different dilution ratio tips.  ",null,null,{"$f":"SUM(F38)","v":0},null,{"$f":"IFERROR(IFERROR(VLOOKUP(D39,Surcharge!A:B,2,FALSE)*F39, VLOOKUP(D39 & \"\",Surcharge!A:B,2,FALSE)*F39), \"\")","v":""}]
[null,null,"Boxed dimensions:  45L x 22.25W x 42H (1143mm x 565mm x 1067mm)",null,null,{"$f":"SUM(F39)","v":0},null,{"$f":"IFERROR(IFERROR(VLOOKUP(D40,Surcharge!A:B,2,FALSE)*F40, VLOOKUP(D40 & \"\",Surcharge!A:B,2,FALSE)*F40), \"\")","v":""}]
[null,null,"Shipping Weight: 190 lbs. (86 kg) / Cu. Ft.: 19 (Cu.M. .54)",null,null,{"$f":"SUM(F40)","v":0},null,{"$f":"IFERROR(IFERROR(VLOOKUP(D41,Surcharge!A:B,2,FALSE)*F41, VLOOKUP(D41 & \"\",Surcharge!A:B,2,FALSE)*F41), \"\")","v":""}]
[null,null,null,null,null,null,null,{"$f":"IFERROR(IFERROR(VLOOKUP(D42,Surcharge!A:B,2,FALSE)*F42, VLOOKUP(D42 & \"\",Surcharge!A:B,2,FALSE)*F42), \"\")","v":""}]
[null,null,null,null,null,null,null,{"$f":"IFERROR(IFERROR(VLOOKUP(D43,Surcharge!A:B,2,FALSE)*F43, VLOOKUP(D43 & \"\",Surcharge!A:B,2,FALSE)*F43), \"\")","v":""}]
[null,null,null,null,null,null,null,{"$f":"IFERROR(IFERROR(VLOOKUP(D44,Surcharge!A:B,2,FALSE)*F44, VLOOKUP(D44 & \"\",Surcharge!A:B,2,FALSE)*F44), \"\")","v":""}]
[null,null,"Blower - Three-speed Air Mover",9014819,461,null,{"$f":"F45*E45","v":0},{"$f":"IFERROR(IFERROR(VLOOKUP(D45,Surcharge!A:B,2,FALSE)*F45, VLOOKUP(D45 & \"\",Surcharge!A:B,2,FALSE)*F45), \"\")","v":""},null,null,null,null,null,null,null,{"$f":"VLOOKUP(D45,'MPF SAP Download PreConfigured'!C:E,3,FALSE)","v":419}]
[null,null,"1/2 Horsepower, Three speeds, Stackable, Rotomolded durability.",null,null,{"$f":"SUM(F45)","v":0},null,{"$f":"IFERROR(IFERROR(VLOOKUP(D46,Surcharge!A:B,2,FALSE)*F46, VLOOKUP(D46 & \"\",Surcharge!A:B,2,FALSE)*F46), \"\")","v":""}]
[null,null,"ETL-certified to UL & CSA Standards. ",null,null,{"$f":"SUM(F46)","v":0},null,{"$f":"IFERROR(IFERROR(VLOOKUP(D47,Surcharge!A:B,2,FALSE)*F47, VLOOKUP(D47 & \"\",Surcharge!A:B,2,FALSE)*F47), \"\")","v":""}]
[null,null,"Boxed dimensions:  20.5L x 17.75W x 22.5H (521mm x 451mmx 572mm)  *",null,null,{"$f":"SUM(F47)","v":0},null,{"$f":"IFERROR(IFERROR(VLOOKUP(D48,Surcharge!A:B,2,FALSE)*F48, VLOOKUP(D48 & \"\",Surcharge!A:B,2,FALSE)*F48), \"\")","v":""}]
[null,null,"Shipping Weight: 37.3 lbs.",null,null,{"$f":"SUM(F48)","v":0},null,{"$f":"IFERROR(IFERROR(VLOOKUP(D49,Surcharge!A:B,2,FALSE)*F49, VLOOKUP(D49 & \"\",Surcharge!A:B,2,FALSE)*F49), \"\")","v":""}]
[null,null,null,null,null,{"$f":"SUM(#REF!)","v":{"$error":"#REF!"}}]
[]
[null,"Custom Solution--write in description, qty, price, and PN if applicable",null,null,null,{"$f":"SUM(F53)","v":0}]
[null,null,null,null,"Insert Prices Here",{"$f":"SUM(F54:F57)","v":0}]
[null,null,null,"Custom",null,{"$f":"IF(E54 <> \"\", 1, 0)","v":0},{"$f":"F54*E54","v":0}]
[null,null,null,"Custom",null,{"$f":"IF(E55 <> \"\", 1, 0)","v":0},{"$f":"F55*E55","v":0}]
[null,null,null,"Custom",null,{"$f":"IF(E56 <> \"\", 1, 0)","v":0},{"$f":"F56*E56","v":0}]
[null,null,null,"Custom",null,{"$f":"IF(E57 <> \"\", 1, 0)","v":0},{"$f":"F57*E57","v":0}]
[null,null,null,null,{"$f":"ROUND(SUM(G27:G57), 0)","v":0},{"$f":"SUM(E59)","v":0}]
[null,null,null,"Machine Subtotal ",{"$f":"ROUND(SUM(G27:G57), 0)","v":0},{"$f":"F58","v":0}]
[null,"Discounts",null,null,null,{"$f":"SUM(F61)","v":0}]
[null,null,null,null,null,{"$f":"SUM(F62:F65)","v":0}]
[null,null,null,"Discount %",null,{"$f":"IF(E62 <> \"\", 1, 0)","v":0},{"$f":"IF(F62*(E62*0.01)*E58 < 0, F62*(E62*0.01)*E58, -(F62*(E62*0.01)*E58))","v":0}]
[null,null,null,"Discount $",null,{"$f":"IF(E63 <> \"\", 1, 0)","v":0},{"$f":"IF(F63*E63 < 0, F63*E63, -(F63*E63))","v":0}]
[null,null,null,"Discount $",null,{"$f":"IF(E64 <> \"\", 1, 0)","v":0},{"$f":"IF(F64*E64 < 0, F64*E64, -(F64*E64))","v":0}]
[null,null,null,"Discount $",null,{"$f":"IF(E65 <> \"\", 1, 0)","v":0},{"$f":"IF(F65*E65 < 0, F65*E65, -(F65*E65))","v":0}]
[null,null,null,"Discount Total ",{"$f":"SUM(G62:G65)","v":0},{"$f":"SUM(E66)","v":0}]
[null,null,null,null,null,{"$f":"#REF!","v":{"$error":"#REF!"}}]
[null,null,null,null,null,{"$f":"F67","v":{"$error":"#REF!"}}]
[null,null,"Prepaid and Add","Freight",null,{"$f":"IF(E69 <> \"\", 1, 0)","v":0},{"$f":"F69*E69","v":0}]
[null,null,"Subject to all applicable taxes","Tax",null,{"$f":"IF(E70 <> \"\", 1, 0)","v":0},{"$f":"F70*E70","v":0}]
[null,null,null,null,null,{"$f":"SUM(F72)","v":0}]
[null,null,null,"MACHINE TOTAL*",null,{"$f":"SUM(G72)","v":0},{"$f":"SUM(G27:G70)","v":0},null,null,null,null,null,null,"This goes to \"My Documents\""]
[null,"Financing",null,null,null,null,{"$f":"G72","v":0}]
[]
[null,null,"Is customer interested in financing?","No"]
[]
[null,null,"If not, why?"]
[]
[]
[null,null,"First Western Equipment Finance - Leasing Calculation Option:","Option 1",null,"Option 2",null,null,null,{"$f":"Financing!A38","v":"Rates 2025 - Rev. 5/6/2025"}]
[null,null,null,"Monthly Payment","Cost Per Day","Monthly Payment","Cost Per Day",null,null,{"$f":"Financing!A39","v":"“Blank Payment Amounts Indicate The Financing Option Or Purchase Options Selected Are Not "}]
[null,null,"Purchase Option:","FWEF:  $1 Buyout Lease",null,"FWEF: Municipal Lease",null,null,null,{"$f":"Financing!A40","v":"Applicable Or The Machine Total Is Below The Minimum Amount For The Selected Vendor”"}]
[null,null,"24 Months",0,0,0,0,null,null,{"$f":"Financing!A41","v":"\"Quoted monthly payments are estimates only and are based on a certain level of credit rating."}]
[null,null,"30 Months",0,0,0,0,null,null,{"$f":"Financing!A42","v":"Actual monthly payments may be higher depending on your credit rating.\""}]
[null,null,"36 Months",0,0,0,0,null,null,{"$f":"Financing!A43","v":"“Financing rates do not include Pre-Paid Service”"}]
[null,null,"48 Months",0,0,0,0,null,{"$f":"Financing!A44","v":0}]
[]
[null,null,null,"Benefits of Equipment Financing:"]
[null,null,null,"• Spreads out investment over time.",null,"• Keep current with latest technology."]
[null,null,null,"• Preserve capital.",null,"• Service and parts bundling available."]
[null,null,null,"• Low monthly payment.",null,"• Pay for labor savings as you go."]
[]
[]
[null,null,"Bundled Offerings","Flexclean – Fair Market Value",null,"Flexclean - $1 Buyout"]
[null,null,"FlexClean: ","36 Month Term",null,"36 Month Term",null,null,"No","AB Brushes"]
[null,null,"Hours included per Month:","Gold","Silver","Gold","Silver","Check"]
[null,null,"< 30/mo. (Avg. 1hr./day)",null,null,null,null,null,{"$f":"FlexCleanCalc!$A21","v":"“FlexClean monthly rates include payment for both machine and service.”"}]
[null,null,"< 60/mo. (Avg. 2hrs./day)"]
[null,null,"< 90/mo. (Avg. 3hrs./day)"]
[null,null,"*This value assumes one service contract regardless of the number of UNITS included in the quote"]
[]
[]
[null,null,"Bundled Offerings","Flexclean – Fair Market Value",null,"Flexclean - $1 Buyout"]
[null,null,"FlexClean 2: ","48 Month Term",null,"48 Month Term"]
[null,null,"Hours included per Month:","Gold","Silver","Gold","Silver"]
[null,null,"< 30/mo. (Avg. 1hr./day)"]
[null,null,"< 60/mo. (Avg. 2hrs./day)"]
[null,null,"< 90/mo. (Avg. 3hrs./day)"]
[null,null,"*This value assumes one service contract regardless of the number of UNITS included in the quote"]
[]
[null,null,"Bundled Offerings","Flexclean – Fair Market Value",null,"Flexclean - $1 Buyout"]
[null,null,"FlexClean 3: ","60 Month Term",null,"60 Month Term"]
[null,null,"Hours included per Month:","Gold","Silver","Gold","Silver"]
[null,null,"< 30/mo. (Avg. 1hr./day)"]
[null,null,"< 60/mo. (Avg. 2hrs./day)"]
[null,null,"< 90/mo. (Avg. 3hrs./day)"]
[null,null,"*This value assumes one service contract regardless of the number of UNITS included in the quote"]
[]
[null,"  TennantTrue"]
[]
[null,null,"Is customer interested in service program?","Yes","*State/County selection required for TennantTrue service options"]
[]
[null,null,"If not, why?"]
[]
[null,null,"Term:",36,null,"AB Brushes","No"]
[null,null,"Monthly machine usage (hrs):","< 30/mo. (Avg. 1hr./day)"]
[]
[null,null,"TennantTrue: ","Gold Contract",null,"Silver Contract"]
[null,null,"Per Visit"]
[null,null,"Monthly"]
[null,null,"Annually"]
[null,null,"Pre-Pay Full Term"]
[null,null,"Hourly Labor Rate"]
[null,null,"Site Visit"]
[]
[null,null,"* Verify customer current pricing prior to quote. "]
[null,null,"**All rates and fees above reflect service for one (1) unit with the exception of Block of Time service."]
[null,null,"*Block of Time is available in 1 Year Term only and is priced as such no matter the term selection on this template."]
[]
[null,"Servicing"]
[]
[null,null,"Is customer interested in a service plan?","No"]
[]
[null,null,"If not, why?"]
[]
[]
[null,"Quote Special Instructions:"]
[]
[]
[null,null,{"$f":"Start_Here!E36","v":"Terms and Conditions"}]
[null,null,{"$f":"Start_Here!E37","v":"Ask your local sales rep for estimated lead times. Verify when placing order"}]
[null,null,{"$f":"Start_Here!E38","v":"All orders subject to acceptance by Tennant Sales and Service Company, Minneapolis, Minnesota"}]
[null,null,{"$f":"Start_Here!E39","v":"Prices subject to change without notice."}]
[null,null,{"$f":"Start_Here!E40","v":"Terms:  Net 30 days.  Subject to any applicable taxes."}]
[null,null,{"$f":"Start_Here!E41","v":"Freight: Machines and accessory orders delivered FOB shipping point Frt PPD & Add"}]
[null,null,{"$f":"Start_Here!E42","v":"Parts, supplies, detergents and floor treating material orders delivered FOB "}]
[null,null,{"$f":"Start_Here!E43","v":"shipping point Frt PPD"}]
[null,null,{"$f":"Start_Here!E44","v":"All orders are subject to Tennant’s General Terms and Conditions available at http://www.tennantco.com/terms."}]
[null,null,{"$f":"Start_Here!E45","v":"Printed General Terms and Conditions are also available upon request."}]
[null,null,{"$f":"Start_Here!E46","v":0}]
[]
[null,null,null,null,"Quote Date :",null,{"$f":"Letter!$A$25","v":"2020-09-17"}]
["Order Placement Information:  To place your order, fill in PO# and customer signatures,"]
["call or fax to the numbers listed below. Customer Purchase Order is required."]
["If information is missing, orders will be entered and held until all information is received."]
[null,null,"Customer Number",null,"Cust Grp 3"]
[null,null,{"$f":"Start_Here!$C$25","v":0},null,{"$f":"Start_Here!$C$29","v":0}]
[null,null,{"$f":"Start_Here!$B$18","v":"Who Owns the Machine? (Sold-To Info) (Please Verify)"}]
["Company",null,{"$f":"Start_Here!$C$19","v":"Company Name"}]
["Address",null,{"$f":"Start_Here!$C$20","v":"Address"}]
[null,null,{"$f":"Start_Here!$C$21","v":"City, State Zip"}]
["Name",null,{"$f":"Start_Here!$C$22","v":"Contact Name"}]
["Phone",null,{"$f":"Start_Here!$C$23","v":"Contact Phone"}]
[null,null,{"$f":"Start_Here!$B$11","v":"Where is the Machine Being Shipped? (Ship-To Info) (Please Verify)"}]
["Company",null,{"$f":"Start_Here!$C$12","v":"Company Name"}]
["Address",null,{"$f":"Start_Here!$C$13","v":"Address"}]
[null,null,{"$f":"Start_Here!$C$14","v":"City, State Zip"}]
["Name",null,{"$f":"Start_Here!$C$15","v":"Contact Name"}]
["Phone",null,{"$f":"Start_Here!$C$16","v":"Contact Phone"}]
[null,null,{"$f":"Start_Here!$B$31","v":"Shipping / Carrier Instructions:"},null,"Order Special Instructions:"]
[null,null,{"$f":"Start_Here!$C$32","v":0}]
[]
[null,null,"Customer Purchase Order No."]
[null,null,"(please attach copy)"]
[]
[]
[null,null,"Tax Exempt",null,"Yes"]
[null,null,null,null,"No"]
[null,null,"If Yes, attach a copy of your exemption certificate."]
[]
[null,null,"Requested Delivery Date"]
[null,null,{"$f":"Start_Here!$C$28","v":0}]
[]
[null,null,{"$f":"Start_Here!$C$26","v":0},null,{"$f":"Start_Here!$C$27","v":0}]
[null,0,"Authorized Buyer (please print)",null,"Phone Number"]
[]
[]
[null,0,"Authorized Buyer Signature"]
[]
[null,null,{"$f":"Start_Here!$C$41","v":"Rep Name"}]
[null,null,"Tennant Representative"]
[]
["Specialized Maintenance Equipment"]
[{"$f":"Start_Here!$C$48","v":"TENNANT · 10400 Clean Street · Eden Prairie, MN 55344 ·"}]
[{"$f":"Start_Here!$C$49","v":" PHONE:800-553-8033 · FAX:763-513-2116"}]

{"sheet":"CS5_CS16","index":9,"n_rows":191,"n_cols":16,"rows_kept":191,"cut":false,"hidden":false,"merged":[[61,3,61,6],[64,3,64,4],[64,5,64,6],[0,2,0,3],[1,2,1,3],[2,2,2,3],[3,2,3,3],[28,2,28,3],[29,2,29,3],[38,2,38,3],[39,2,39,3],[66,3,66,4],[66,5,66,6],[78,3,78,4],[78,5,78,6],[79,3,79,4],[79,5,79,6],[110,3,110,4],[87,3,87,4],[87,5,87,6],[88,3,88,4],[88,5,88,6],[95,3,95,4],[95,5,95,6],[96,3,96,4],[96,5,96,6],[105,4,105,8],[107,3,107,6],[109,3,109,4],[112,3,112,4],[112,5,112,6],[113,3,113,4],[113,5,113,6],[114,3,114,4],[114,5,114,6],[154,2,154,5],[115,3,115,4],[115,5,115,6],[116,3,116,4],[116,5,116,6],[117,3,117,4],[117,5,117,6],[118,3,118,4],[118,5,118,6],[129,3,130,6],[133,1,133,6],[152,4,152,7],[179,4,179,5],[155,2,155,5],[156,2,156,5],[157,2,157,5],[158,2,158,5],[160,2,160,5],[161,2,161,5],[162,2,162,5],[163,2,163,5],[164,2,164,5],[166,4,166,7],[170,2,170,5]]}
["CS5_CS16",null,{"$f":"Start_Here!$C19","v":"Company Name"}]
[{"$f":"SUM(G57)","v":0},null,{"$f":"Start_Here!$C20","v":"Address"}]
[null,null,{"$f":"Start_Here!$C21","v":"City, State Zip"}]
[null,null,{"$f":"Start_Here!$C22","v":"Contact Name"}]
[null,null,{"$f":"Start_Here!$C$41","v":"Rep Name"}]
[null,null,{"$f":"Start_Here!$C$37","v":"Tennant Sales and Service Company"}]
[null,null,{"$f":"Start_Here!$C$38","v":"10400 Clean Street"}]
[null,null,{"$f":"Start_Here!$C$39","v":"Eden Prairie, MN 55344"}]
[null,null,{"$f":"Start_Here!$C$43","v":"800-553-8033"},null,"Quote Date :",null,{"$f":"Letter!$A$25","v":"2020-09-17"}]
[]
[null,null,{"$f":"Help!C2","v":"US Date Rev - 5/6/2025"}]
[]
[]
[null,null,"EXCLUSIVE FACTORY-DIRECT WARRANTY -CS5"]
[null,null,"1 Year Parts"]
[null,null,"1 Year Battery",null,"                Quote Request Information"]
[null,null,null,null,null,null,"Fax (quote only)"]
[null,null,"EXCLUSIVE FACTORY-DIRECT WARRANTY -CS16",null,null,null,"Mail (quote,lit, specs)"]
[null,null,"12  MONTHS PARTS and LABOR",null,null,null,"Fax + Mail"]
[null,null,"90 DAYS TRAVEL "]
[null,null,"      12 MONTHS BATTERY",null,"                Primary Use"]
[null,null,"12 MONTHS ON Rotationally Molded Components",null,null,null,"Inside"]
[null,null,null,null,null,null,"Outside"]
[null,null,"Description","Reference # ","Price","Qty.","Extended Price"]
[]
[null,null,"CS5 Li-ON Battery Micro-scrubber ",1251580,2907,null,{"$f":"F26*E26","v":0},null,null,null,null,null,null,null,null,{"$f":"VLOOKUP(D26,'MPF SAP Download PreConfigured'!C:E,3,FALSE)","v":3017}]
[null,null,"11\" cleaning path.  Includes 5.5 AH Lithium ion battery, removable, fill and dump nearly anywhere 1.3 gallon (5 liter) solution & recovery tanks, forward and reverse dry system, foldable handle, medium polyproplylene brush, Linatex squeegees, charger with power cord and multi-language operator manual.",null,null,{"$f":"SUM(F26)","v":0}]
[null,null,null,null,null,{"$f":"SUM(F27)","v":0}]
[null,null,"Boxed Dimensions:  31.5\" L x 15.74\" W x 18.5\" H (800 mm x 400 mm x 470 mm)",null,null,{"$f":"SUM(F28)","v":0}]
[null,null,"Shipping Weight 48.62 lbs/ 22 kg",null,null,{"$f":"SUM(F29)","v":0}]
[]
[]
[null,null,"CS16 Sealed AGM Battery Micro-Scrubber","LPTB03328",4681,null,{"$f":"F33*E33","v":0},null,null,null,null,null,null,null,null,{"$f":"VLOOKUP(D33,'MPF SAP Download PreConfigured'!C:E,3,FALSE)","v":4246}]
[null,null,"14\" cleaning path. Includes 2 x12V Sealed AGM battery, foldable handle, removeable 3.9 gal (15 L) solution and 4.4 gal (16.5 L) recovery tank. Plus charger w/ power cord, medium bristle polypropylene brush, squeegee, and multi-language operator manual.",null,null,{"$f":"SUM(F33)","v":0}]
[]
[null,null,"CS16 Li-Ion Battery Micro-Scrubber","LPTB03794",4674,null,{"$f":"F36*E36","v":0}]
[null,null,"14\" cleaning path. Includes 1 x 24V Li-Ion battery, foldable handle, removeable 3.9 gal (15 L) solution and 4.4 gal (16.5 L) recovery tank. Plus onboard charger, medium bristle polypropylene brush, squeegee, and multi-language operator manual.",null,null,{"$f":"SUM(F36)","v":0}]
[null,null,null,null,null,{"$f":"SUM(F37)","v":0}]
[null,null,"Boxed Dimensions: 31.9\" L x 18.1\" W x 27.6\" H (810 mm x 460 mm x 700 mm)",null,null,{"$f":"SUM(F33,F36)","v":0}]
[null,null,"Shipping Weight: 125.7 lbs/ 57 kg",null,null,{"$f":"SUM(F39)","v":0}]
[]
[]
[null,null,null,null,null,{"$f":"SUM(#REF!)","v":{"$error":"#REF!"}}]
[null,null,null,null,{"$f":"ROUND(SUM(G26:G43), 0)","v":0},{"$f":"SUM(E45)","v":0}]
[null,null,null,"Machine Subtotal ",{"$f":"ROUND(SUM(G26:G43), 0)","v":0},{"$f":"F44","v":0}]
[null,"Discounts",null,null,null,{"$f":"SUM(F47)","v":0}]
[null,null,null,null,null,{"$f":"SUM(F48:F51)","v":0}]
[null,null,null,"Discount %",null,{"$f":"IF(E48 <> \"\", 1, 0)","v":0},{"$f":"IF(F48*(E48*0.01)*E44 < 0, F48*(E48*0.01)*E44, -(F48*(E48*0.01)*E44))","v":0}]
[null,null,null,"Discount $",null,{"$f":"IF(E49 <> \"\", 1, 0)","v":0},{"$f":"IF(F49*E49 < 0, F49*E49, -(F49*E49))","v":0}]
[null,null,null,"Discount $",null,{"$f":"IF(E50 <> \"\", 1, 0)","v":0},{"$f":"IF(F50*E50 < 0, F50*E50, -(F50*E50))","v":0}]
[null,null,null,"Discount $",null,{"$f":"IF(E51 <> \"\", 1, 0)","v":0},{"$f":"IF(F51*E51 < 0, F51*E51, -(F51*E51))","v":0}]
[null,null,null,"Discount Total ",{"$f":"SUM(G48:G51)","v":0},{"$f":"SUM(E52)","v":0}]
[null,null,null,null,null,{"$f":"#REF!","v":{"$error":"#REF!"}}]
[null,null,"Prepaid and Add","Freight",null,{"$f":"IF(E54 <> \"\", 1, 0)","v":0},{"$f":"F54*E54","v":0}]
[null,null,"Subject to all applicable taxes","Tax",null,{"$f":"IF(E55 <> \"\", 1, 0)","v":0},{"$f":"F55*E55","v":0}]
[null,null,null,null,null,{"$f":"SUM(F57)","v":0}]
[null,null,null,"MACHINE TOTAL*",null,{"$f":"SUM(G57)","v":0},{"$f":"SUM(G26:G55)","v":0},null,null,null,null,null,null,"This goes to \"My Documents\""]
[null,"Financing",null,null,null,null,{"$f":"G57","v":0}]
[]
[null,null,"Is customer interested in financing?","No"]
[]
[null,null,"If not, why?"]
[]
[]
[null,null,"First Western Equipment Finance - Leasing Calculation Option:","Option 1",null,"Option 2",null,null,null,{"$f":"Financing!A38","v":"Rates 2025 - Rev. 5/6/2025"}]
[null,null,null,"Monthly Payment","Cost Per Day","Monthly Payment","Cost Per Day",null,null,{"$f":"Financing!A39","v":"“Blank Payment Amounts Indicate The Financing Option Or Purchase Options Selected Are Not "}]
[null,null,"Purchase Option:","FWEF:  $1 Buyout Lease",null,"FWEF: Municipal Lease",null,null,null,{"$f":"Financing!A40","v":"Applicable Or The Machine Total Is Below The Minimum Amount For The Selected Vendor”"}]
[null,null,"24 Months",0,0,0,0,null,null,{"$f":"Financing!A41","v":"\"Quoted monthly payments are estimates only and are based on a certain level of credit rating."}]
[null,null,"30 Months",0,0,0,0,null,null,{"$f":"Financing!A42","v":"Actual monthly payments may be higher depending on your credit rating.\""}]
[null,null,"36 Months",0,0,0,0,null,null,{"$f":"Financing!A43","v":"“Financing rates do not include Pre-Paid Service”"}]
[null,null,"48 Months",0,0,0,0,null,{"$f":"Financing!A44","v":0}]
[]
[null,null,null,"Benefits of Equipment Financing:"]
[null,null,null,"• Spreads out investment over time.",null,"• Keep current with latest technology."]
[null,null,null,"• Preserve capital.",null,"• Service and parts bundling available."]
[null,null,null,"• Low monthly payment.",null,"• Pay for labor savings as you go."]
[]
[]
[null,null,"Bundled Offerings","Flexclean – Fair Market Value",null,"Flexclean - $1 Buyout"]
[null,null,"FlexClean: ","36 Month Term",null,"36 Month Term",null,null,"No","AB Brushes"]
[null,null,"Hours included per Month:","Gold","Silver","Gold","Silver","Check"]
[null,null,"< 30/mo. (Avg. 1hr./day)",null,null,null,null,null,{"$f":"FlexCleanCalc!$A21","v":"“FlexClean monthly rates include payment for both machine and service.”"}]
[null,null,"< 60/mo. (Avg. 2hrs./day)"]
[null,null,"< 90/mo. (Avg. 3hrs./day)"]
[null,null,"*This value assumes one service contract regardless of the number of UNITS included in the quote"]
[]
[]
[null,null,"Bundled Offerings","Flexclean – Fair Market Value",null,"Flexclean - $1 Buyout"]
[null,null,"FlexClean 2: ","48 Month Term",null,"48 Month Term"]
[null,null,"Hours included per Month:","Gold","Silver","Gold","Silver"]
[null,null,"< 30/mo. (Avg. 1hr./day)"]
[null,null,"< 60/mo. (Avg. 2hrs./day)"]
[null,null,"< 90/mo. (Avg. 3hrs./day)"]
[null,null,"*This value assumes one service contract regardless of the number of UNITS included in the quote"]
[]
[null,null,"Bundled Offerings","Flexclean – Fair Market Value",null,"Flexclean - $1 Buyout"]
[null,null,"FlexClean 3: ","60 Month Term",null,"60 Month Term"]
[null,null,"Hours included per Month:","Gold","Silver","Gold","Silver"]
[null,null,"< 30/mo. (Avg. 1hr./day)"]
[null,null,"< 60/mo. (Avg. 2hrs./day)"]
[null,null,"< 90/mo. (Avg. 3hrs./day)"]
[null,null,"*This value assumes one service contract regardless of the number of UNITS included in the quote"]
[]
[null,"  TennantTrue"]
[]
[null,null,"Is customer interested in service program?","Yes","*State/County selection required for TennantTrue service options"]
[]
[null,null,"If not, why?"]
[]
[null,null,"Term:",36,null,"AB Brushes","No"]
[null,null,"Monthly machine usage (hrs):","< 30/mo. (Avg. 1hr./day)"]
[]
[null,null,"TennantTrue: ","Gold Contract",null,"Silver Contract"]
[null,null,"Per Visit"]
[null,null,"Monthly"]
[null,null,"Annually"]
[null,null,"Pre-Pay Full Term"]
[null,null,"Hourly Labor Rate"]
[null,null,"Site Visit"]
[]
[null,null,"* Verify customer current pricing prior to quote. "]
[null,null,"**All rates and fees above reflect service for one (1) unit with the exception of Block of Time service."]
[null,null,"*Block of Time is available in 1 Year Term only and is priced as such no matter the term selection on this template."]
[]
[]
[null,"Servicing"]
[]
[null,null,"Is customer interested in a service plan?","No"]
[]
[null,null,"If not, why?"]
[]
[]
[null,"Quote Special Instructions:"]
[]
[]
[null,null,{"$f":"Start_Here!E36","v":"Terms and Conditions"}]
[null,null,{"$f":"Start_Here!E37","v":"Ask your local sales rep for estimated lead times. Verify when placing order"}]
[null,null,{"$f":"Start_Here!E38","v":"All orders subject to acceptance by Tennant Sales and Service Company, Minneapolis, Minnesota"}]
[null,null,{"$f":"Start_Here!E39","v":"Prices subject to change without notice."}]
[null,null,{"$f":"Start_Here!E40","v":"Terms:  Net 30 days.  Subject to any applicable taxes."}]
[null,null,{"$f":"Start_Here!E41","v":"Freight: Machines and accessory orders delivered FOB shipping point Frt PPD & Add"}]
[null,null,{"$f":"Start_Here!E42","v":"Parts, supplies, detergents and floor treating material orders delivered FOB "}]
[null,null,{"$f":"Start_Here!E43","v":"shipping point Frt PPD"}]
[null,null,{"$f":"Start_Here!E44","v":"All orders are subject to Tennant’s General Terms and Conditions available at http://www.tennantco.com/terms."}]
[null,null,{"$f":"Start_Here!E45","v":"Printed General Terms and Conditions are also available upon request."}]
[null,null,{"$f":"Start_Here!E46","v":0}]
[]
[null,null,null,null,"Quote Date :",null,{"$f":"Letter!$A$25","v":"2020-09-17"}]
["Order Placement Information:  To place your order, fill in PO# and customer signatures,"]
["call or fax to the numbers listed below. Customer Purchase Order is required."]
["If information is missing, orders will be entered and held until all information is received."]
[null,null,"Customer Number",null,"Cust Grp 3"]
[null,null,{"$f":"Start_Here!$C$25","v":0},null,{"$f":"Start_Here!$C$29","v":0}]
[null,null,{"$f":"Start_Here!$B$18","v":"Who Owns the Machine? (Sold-To Info) (Please Verify)"}]
["Company",null,{"$f":"Start_Here!$C$19","v":"Company Name"}]
["Address",null,{"$f":"Start_Here!$C$20","v":"Address"}]
[null,null,{"$f":"Start_Here!$C$21","v":"City, State Zip"}]
["Name",null,{"$f":"Start_Here!$C$22","v":"Contact Name"}]
["Phone",null,{"$f":"Start_Here!$C$23","v":"Contact Phone"}]
[null,null,{"$f":"Start_Here!$B$11","v":"Where is the Machine Being Shipped? (Ship-To Info) (Please Verify)"}]
["Company",null,{"$f":"Start_Here!$C$12","v":"Company Name"}]
["Address",null,{"$f":"Start_Here!$C$13","v":"Address"}]
[null,null,{"$f":"Start_Here!$C$14","v":"City, State Zip"}]
["Name",null,{"$f":"Start_Here!$C$15","v":"Contact Name"}]
["Phone",null,{"$f":"Start_Here!$C$16","v":"Contact Phone"}]
[null,null,{"$f":"Start_Here!$B$31","v":"Shipping / Carrier Instructions:"},null,"Order Special Instructions:"]
[null,null,{"$f":"Start_Here!$C$32","v":0}]
[]
[null,null,"Customer Purchase Order No."]
[null,null,"(please attach copy)"]
[]
[]
[null,null,"Tax Exempt",null,"Yes"]
[null,null,null,null,"No"]
[null,null,"If Yes, attach a copy of your exemption certificate."]
[]
[null,null,"Requested Delivery Date"]
[null,null,{"$f":"Start_Here!$C$28","v":0}]
[]
[null,null,{"$f":"Start_Here!$C$26","v":0},null,{"$f":"Start_Here!$C$27","v":0}]
[null,0,"Authorized Buyer (please print)",null,"Phone Number"]
[]
[]
[null,0,"Authorized Buyer Signature"]
[]
[null,null,{"$f":"Start_Here!$C$41","v":"Rep Name"}]
[null,null,"Tennant Representative"]
[]
["Specialized Maintenance Equipment"]
[{"$f":"Start_Here!$C$48","v":"TENNANT · 10400 Clean Street · Eden Prairie, MN 55344 ·"}]
[{"$f":"Start_Here!$C$49","v":" PHONE:800-553-8033 · FAX:763-513-2116"}]

{"sheet":"i_mop_Lite","index":10,"n_rows":194,"n_cols":14,"rows_kept":194,"cut":false,"hidden":false,"merged":[[0,2,0,3],[1,2,1,3],[2,2,2,3],[3,2,3,3],[64,3,64,6],[67,3,67,4],[67,5,67,6],[69,3,69,4],[69,5,69,6],[81,3,81,4],[81,5,81,6],[82,3,82,4],[82,5,82,6],[90,3,90,4],[90,5,90,6],[91,3,91,4],[91,5,91,6],[98,3,98,4],[98,5,98,6],[99,3,99,4],[99,5,99,6],[108,4,108,8],[110,3,110,6],[112,3,112,4],[113,3,113,4],[115,3,115,4],[115,5,115,6],[116,3,116,4],[116,5,116,6],[117,3,117,4],[117,5,117,6],[118,3,118,4],[118,5,118,6],[159,2,159,5],[119,3,119,4],[119,5,119,6],[120,3,120,4],[120,5,120,6],[121,3,121,4],[121,5,121,6],[132,3,133,6],[136,1,136,6],[155,4,155,7],[157,2,157,5],[158,2,158,5],[167,2,167,5],[169,4,169,7],[173,2,173,5],[182,4,182,5],[160,2,160,5],[161,2,161,5],[163,2,163,5],[164,2,164,5],[165,2,165,5],[166,2,166,5]]}
["i_mop_Lite",null,{"$f":"Start_Here!$C19","v":"Company Name"}]
[{"$f":"SUM(G60)","v":0},null,{"$f":"Start_Here!$C20","v":"Address"}]
[null,null,{"$f":"Start_Here!$C21","v":"City, State Zip"}]
[null,null,{"$f":"Start_Here!$C22","v":"Contact Name"}]
[null,null,{"$f":"Start_Here!$C$41","v":"Rep Name"}]
[null,null,{"$f":"Start_Here!$C$37","v":"Tennant Sales and Service Company"}]
[null,null,{"$f":"Start_Here!$C$38","v":"10400 Clean Street"}]
[null,null,{"$f":"Start_Here!$C$39","v":"Eden Prairie, MN 55344"}]
[null,null,{"$f":"Start_Here!$C$43","v":"800-553-8033"},null,"Quote Date :",null,{"$f":"Letter!$A$25","v":"2020-09-17"}]
[]
[null,null,{"$f":"Help!C2","v":"US Date Rev - 5/6/2025"}]
[]
[]
[null,null,"EXCLUSIVE FACTORY-DIRECT WARRANTY"]
[null,null,"1 Year Parts"]
[null,null,"1 Year Labor",null,"                Quote Request Information"]
[null,null,"1 Year Battery",null,null,null,"Fax (quote only)"]
[null,null,"90 Days Travel",null,null,null,"Mail (quote,lit, specs)"]
[null,null,null,null,null,null,"Fax + Mail"]
[]
[null,null,null,null,"                Primary Use"]
[null,null,null,null,null,null,"Inside"]
[null,null,null,null,null,null,"Outside"]
[null,null,"Description","Reference # ","Price","Qty.","Extended Price"]
[]
[null,null,"i-mop® Lite - Lithium-Ion Auto Disk Scrubber",1263271,5099,null,{"$f":"F26*E26","v":0}]
[null,null,"14.1\" (37 cm) cleaning path.  Includes battery pack, removable .79 gal (3 L)  solution and 1.0 gal (4 L) recovery tank with ball float, battery safe guard switch, angle switch, charger w/ power cord, 2 medium blue brushes, squeegee, and multi-language operator manual.",null,null,{"$f":"SUM(F26)","v":0}]
[null,null,null,null,null,{"$f":"SUM(F27)","v":0}]
[null,null,"Boxed Dimensions:  48\" H x 15.7\" W  x 15\" L (1220 mm x 400 mm x 380 mm)",null,null,0]
[null,null,"Shipping Weight with Batteries:  46.4 lbs (21.0 kg)",null,null,0]
[]
[]
[null,null,"i-mop® Lite - Lithium-Ion Auto Disk Scrubber + Extra Battery Pack",9022310,6176,null,{"$f":"F33*E33","v":0}]
[null,null,"14.1\" (37 cm) cleaning path.  Includes TWO battery packs, removable .79 gal (3 L)  solution and 1.0 gal (4 L) recovery tank with ball float, battery safe guard switch, angle switch, charger w/ power cord, 2 medium blue brushes, squeegee, and multi-language operator manual.",null,null,{"$f":"SUM(F33)","v":0}]
[null,null,null,null,null,{"$f":"SUM(F34)","v":0}]
[null,null,"Note: Batteries do not ship in machine box, but separately.",null,null,0]
[]
[]
[null,null,null,null,null,{"$f":"SUM(#REF!)","v":{"$error":"#REF!"}}]
[]
[null,"Custom Solution--write in description, qty, price, and PN if applicable",null,null,null,{"$f":"SUM(F42)","v":0}]
[null,null,null,null,"Insert Prices Here",{"$f":"SUM(F43:F46)","v":0}]
[null,null,null,"Custom",null,{"$f":"IF(E43 <> \"\", 1, 0)","v":0},{"$f":"F43*E43","v":0}]
[null,null,null,"Custom",null,{"$f":"IF(E44 <> \"\", 1, 0)","v":0},{"$f":"F44*E44","v":0}]
[null,null,null,"Custom",null,{"$f":"IF(E45 <> \"\", 1, 0)","v":0},{"$f":"F45*E45","v":0}]
[null,null,null,"Custom",null,{"$f":"IF(E46 <> \"\", 1, 0)","v":0},{"$f":"F46*E46","v":0}]
[null,null,null,null,{"$f":"ROUND(SUM(G26:G46), 0)","v":0},{"$f":"SUM(E48)","v":0}]
[null,null,null,"Machine Subtotal ",{"$f":"ROUND(SUM(G26:G46), 0)","v":0},{"$f":"F47","v":0}]
[null,"Discounts",null,null,null,{"$f":"SUM(F50)","v":0}]
[null,null,null,null,null,{"$f":"SUM(F51:F54)","v":0}]
[null,null,null,"Discount %",null,{"$f":"IF(E51 <> \"\", 1, 0)","v":0},{"$f":"IF(F51*(E51*0.01)*E47 < 0, F51*(E51*0.01)*E47, -(F51*(E51*0.01)*E47))","v":0}]
[null,null,null,"Discount $",null,{"$f":"IF(E52 <> \"\", 1, 0)","v":0},{"$f":"IF(F52*E52 < 0, F52*E52, -(F52*E52))","v":0}]
[null,null,null,"Discount $",null,{"$f":"IF(E53 <> \"\", 1, 0)","v":0},{"$f":"IF(F53*E53 < 0, F53*E53, -(F53*E53))","v":0}]
[null,null,null,"Discount $",null,{"$f":"IF(E54 <> \"\", 1, 0)","v":0},{"$f":"IF(F54*E54 < 0, F54*E54, -(F54*E54))","v":0}]
[null,null,null,"Discount Total ",{"$f":"SUM(G51:G54)","v":0},{"$f":"SUM(E55)","v":0}]
[null,null,null,null,null,{"$f":"#REF!","v":{"$error":"#REF!"}}]
[null,null,"Prepaid and Add","Freight",null,{"$f":"IF(E57 <> \"\", 1, 0)","v":0},{"$f":"F57*E57","v":0}]
[null,null,"Subject to all applicable taxes","Tax",null,{"$f":"IF(E58 <> \"\", 1, 0)","v":0},{"$f":"F58*E58","v":0}]
[null,null,null,null,null,{"$f":"SUM(F60)","v":0}]
[null,null,null,"MACHINE TOTAL*",null,{"$f":"SUM(G60)","v":0},{"$f":"SUM(G26:G58)","v":0},null,null,null,null,null,null,"This goes to \"My Documents\""]
[null,"Financing",null,null,null,null,{"$f":"G60","v":0}]
[]
[null,null,"Is customer interested in financing?","No"]
[]
[null,null,"If not, why?"]
[]
[]
[null,null,"First Western Equipment Finance - Leasing Calculation Option:","Option 1",null,"Option 2",null,null,null,{"$f":"Financing!A38","v":"Rates 2025 - Rev. 5/6/2025"}]
[null,null,null,"Monthly Payment","Cost Per Day","Monthly Payment","Cost Per Day",null,null,{"$f":"Financing!A39","v":"“Blank Payment Amounts Indicate The Financing Option Or Purchase Options Selected Are Not "}]
[null,null,"Purchase Option:","FWEF:  $1 Buyout Lease",null,"FWEF: Municipal Lease",null,null,null,{"$f":"Financing!A40","v":"Applicable Or The Machine Total Is Below The Minimum Amount For The Selected Vendor”"}]
[null,null,"24 Months",0,0,0,0,null,null,{"$f":"Financing!A41","v":"\"Quoted monthly payments are estimates only and are based on a certain level of credit rating."}]
[null,null,"30 Months",0,0,0,0,null,null,{"$f":"Financing!A42","v":"Actual monthly payments may be higher depending on your credit rating.\""}]
[null,null,"36 Months",0,0,0,0,null,null,{"$f":"Financing!A43","v":"“Financing rates do not include Pre-Paid Service”"}]
[null,null,"48 Months",0,0,0,0,null,{"$f":"Financing!A44","v":0}]
[]
[null,null,null,"Benefits of Equipment Financing:"]
[null,null,null,"• Spreads out investment over time.",null,"• Keep current with latest technology."]
[null,null,null,"• Preserve capital.",null,"• Service and parts bundling available."]
[null,null,null,"• Low monthly payment.",null,"• Pay for labor savings as you go."]
[]
[]
[null,null,"Bundled Offerings","Flexclean – Fair Market Value",null,"Flexclean - $1 Buyout"]
[null,null,"FlexClean: ","36 Month Term",null,"36 Month Term",null,null,"No","AB Brushes"]
[null,null,"Hours included per Month:","Gold","Silver","Gold","Silver","Check"]
[null,null,"< 30/mo. (Avg. 1hr./day)",null,null,null,null,null,{"$f":"FlexCleanCalc!$A21","v":"“FlexClean monthly rates include payment for both machine and service.”"}]
[null,null,"< 60/mo. (Avg. 2hrs./day)"]
[null,null,"< 90/mo. (Avg. 3hrs./day)"]
[null,null,"*This value assumes one service contract regardless of the number of UNITS included in the quote"]
[]
[]
[null,null,"Bundled Offerings","Flexclean – Fair Market Value",null,"Flexclean - $1 Buyout"]
[null,null,"FlexClean 2: ","48 Month Term",null,"48 Month Term"]
[null,null,"Hours included per Month:","Gold","Silver","Gold","Silver"]
[null,null,"< 30/mo. (Avg. 1hr./day)"]
[null,null,"< 60/mo. (Avg. 2hrs./day)"]
[null,null,"< 90/mo. (Avg. 3hrs./day)"]
[null,null,"*This value assumes one service contract regardless of the number of UNITS included in the quote"]
[]
[null,null,"Bundled Offerings","Flexclean – Fair Market Value",null,"Flexclean - $1 Buyout"]
[null,null,"FlexClean 3: ","60 Month Term",null,"60 Month Term"]
[null,null,"Hours included per Month:","Gold","Silver","Gold","Silver"]
[null,null,"< 30/mo. (Avg. 1hr./day)"]
[null,null,"< 60/mo. (Avg. 2hrs./day)"]
[null,null,"< 90/mo. (Avg. 3hrs./day)"]
[null,null,"*This value assumes one service contract regardless of the number of UNITS included in the quote"]
[]
[null,"  TennantTrue"]
[]
[null,null,"Is customer interested in service program?","Yes","*State/County selection required for TennantTrue service options"]
[]
[null,null,"If not, why?"]
[]
[null,null,"Term:",36,null,"AB Brushes","No"]
[null,null,"Monthly machine usage (hrs):","< 30/mo. (Avg. 1hr./day)"]
[]
[null,null,"TennantTrue: ","Gold Contract",null,"Silver Contract"]
[null,null,"Per Visit"]
[null,null,"Monthly"]
[null,null,"Annually"]
[null,null,"Pre-Pay Full Term"]
[null,null,"Hourly Labor Rate"]
[null,null,"Site Visit"]
[]
[null,null,"* Verify customer current pricing prior to quote. "]
[null,null,"**All rates and fees above reflect service for one (1) unit with the exception of Block of Time service."]
[null,null,"*Block of Time is available in 1 Year Term only and is priced as such no matter the term selection on this template."]
[]
[]
[null,"Servicing"]
[]
[null,null,"Is customer interested in a service plan?","No"]
[]
[null,null,"If not, why?"]
[]
[]
[null,"Quote Special Instructions:"]
[]
[]
[null,null,{"$f":"Start_Here!E36","v":"Terms and Conditions"}]
[null,null,{"$f":"Start_Here!E37","v":"Ask your local sales rep for estimated lead times. Verify when placing order"}]
[null,null,{"$f":"Start_Here!E38","v":"All orders subject to acceptance by Tennant Sales and Service Company, Minneapolis, Minnesota"}]
[null,null,{"$f":"Start_Here!E39","v":"Prices subject to change without notice."}]
[null,null,{"$f":"Start_Here!E40","v":"Terms:  Net 30 days.  Subject to any applicable taxes."}]
[null,null,{"$f":"Start_Here!E41","v":"Freight: Machines and accessory orders delivered FOB shipping point Frt PPD & Add"}]
[null,null,{"$f":"Start_Here!E42","v":"Parts, supplies, detergents and floor treating material orders delivered FOB "}]
[null,null,{"$f":"Start_Here!E43","v":"shipping point Frt PPD"}]
[null,null,{"$f":"Start_Here!E44","v":"All orders are subject to Tennant’s General Terms and Conditions available at http://www.tennantco.com/terms."}]
[null,null,{"$f":"Start_Here!E45","v":"Printed General Terms and Conditions are also available upon request."}]
[null,null,{"$f":"Start_Here!E46","v":0}]
[]
[null,null,null,null,"Quote Date :",null,{"$f":"Letter!$A$25","v":"2020-09-17"}]
["Order Placement Information:  To place your order, fill in PO# and customer signatures,"]
["call or fax to the numbers listed below. Customer Purchase Order is required."]
["If information is missing, orders will be entered and held until all information is received."]
[null,null,"Customer Number",null,"Cust Grp 3"]
[null,null,{"$f":"Start_Here!$C$25","v":0},null,{"$f":"Start_Here!$C$29","v":0}]
[null,null,{"$f":"Start_Here!$B$18","v":"Who Owns the Machine? (Sold-To Info) (Please Verify)"}]
["Company",null,{"$f":"Start_Here!$C$19","v":"Company Name"}]
["Address",null,{"$f":"Start_Here!$C$20","v":"Address"}]
[null,null,{"$f":"Start_Here!$C$21","v":"City, State Zip"}]
["Name",null,{"$f":"Start_Here!$C$22","v":"Contact Name"}]
["Phone",null,{"$f":"Start_Here!$C$23","v":"Contact Phone"}]
[null,null,{"$f":"Start_Here!$B$11","v":"Where is the Machine Being Shipped? (Ship-To Info) (Please Verify)"}]
["Company",null,{"$f":"Start_Here!$C$12","v":"Company Name"}]
["Address",null,{"$f":"Start_Here!$C$13","v":"Address"}]
[null,null,{"$f":"Start_Here!$C$14","v":"City, State Zip"}]
["Name",null,{"$f":"Start_Here!$C$15","v":"Contact Name"}]
["Phone",null,{"$f":"Start_Here!$C$16","v":"Contact Phone"}]
[null,null,{"$f":"Start_Here!$B$31","v":"Shipping / Carrier Instructions:"},null,"Order Special Instructions:"]
[null,null,{"$f":"Start_Here!$C$32","v":0}]
[]
[null,null,"Customer Purchase Order No."]
[null,null,"(please attach copy)"]
[]
[]
[null,null,"Tax Exempt",null,"Yes"]
[null,null,null,null,"No"]
[null,null,"If Yes, attach a copy of your exemption certificate."]
[]
[null,null,"Requested Delivery Date"]
[null,null,{"$f":"Start_Here!$C$28","v":0}]
[]
[null,null,{"$f":"Start_Here!$C$26","v":0},null,{"$f":"Start_Here!$C$27","v":0}]
[null,0,"Authorized Buyer (please print)",null,"Phone Number"]
[]
[]
[null,0,"Authorized Buyer Signature"]
[]
[null,null,{"$f":"Start_Here!$C$41","v":"Rep Name"}]
[null,null,"Tennant Representative"]
[]
["Specialized Maintenance Equipment"]
[{"$f":"Start_Here!$C$48","v":"TENNANT · 10400 Clean Street · Eden Prairie, MN 55344 ·"}]
[{"$f":"Start_Here!$C$49","v":" PHONE:800-553-8033 · FAX:763-513-2116"}]

{"sheet":"i_mop_XL","index":11,"n_rows":200,"n_cols":16,"rows_kept":200,"cut":false,"hidden":false,"merged":[[167,2,167,5],[169,2,169,5],[170,2,170,5],[138,3,139,6],[142,1,142,6],[163,2,163,5],[164,2,164,5],[165,2,165,5],[161,4,161,7],[166,2,166,5],[188,4,188,5],[171,2,171,5],[172,2,172,5],[173,2,173,5],[175,4,175,7],[179,2,179,5],[96,3,96,4],[122,3,122,4],[122,5,122,6],[123,3,123,4],[123,5,123,6],[96,5,96,6],[97,3,97,4],[97,5,97,6],[104,3,104,4],[104,5,104,6],[29,2,29,3],[0,2,0,3],[1,2,1,3],[2,2,2,3],[3,2,3,3],[28,2,28,3],[38,2,38,3],[39,2,39,3],[87,3,87,4],[87,5,87,6],[88,3,88,4],[88,5,88,6],[70,3,70,6],[73,3,73,4],[73,5,73,6],[75,3,75,4],[75,5,75,6],[126,3,126,4],[126,5,126,6],[127,3,127,4],[127,5,127,6],[105,5,105,6],[114,4,114,8],[116,3,116,6],[118,3,118,4],[121,3,121,4],[121,5,121,6],[105,3,105,4],[125,3,125,4],[125,5,125,6],[119,3,119,4],[124,3,124,4],[124,5,124,6]]}
["i_mop_XL",null,{"$f":"Start_Here!$C19","v":"Company Name"}]
[{"$f":"SUM(G66)","v":0},null,{"$f":"Start_Here!$C20","v":"Address"}]
[null,null,{"$f":"Start_Here!$C21","v":"City, State Zip"}]
[null,null,{"$f":"Start_Here!$C22","v":"Contact Name"}]
[null,null,{"$f":"Start_Here!$C$41","v":"Rep Name"}]
[null,null,{"$f":"Start_Here!$C$37","v":"Tennant Sales and Service Company"}]
[null,null,{"$f":"Start_Here!$C$38","v":"10400 Clean Street"}]
[null,null,{"$f":"Start_Here!$C$39","v":"Eden Prairie, MN 55344"}]
[null,null,{"$f":"Start_Here!$C$43","v":"800-553-8033"},null,"Quote Date :",null,{"$f":"Letter!$A$25","v":"2020-09-17"}]
[]
[null,null,{"$f":"Help!C2","v":"US Date Rev - 5/6/2025"}]
[]
[]
[null,null,"EXCLUSIVE FACTORY-DIRECT WARRANTY"]
[null,null,"1 Year Parts"]
[null,null,"1 Year Labor",null,"                Quote Request Information"]
[null,null,"1 Year Battery",null,null,null,"Fax (quote only)"]
[null,null,"90 Days Travel",null,null,null,"Mail (quote,lit, specs)"]
[null,null,null,null,null,null,"Fax + Mail"]
[]
[null,null,null,null,"                Primary Use"]
[null,null,null,null,null,null,"Inside"]
[null,null,null,null,null,null,"Outside"]
[null,null,"Description","Reference # ","Price","Qty.","Extended Price"]
[null,null,null,null,null,"*"]
[null,null,"i-mop XL Plus Lithium-Ion Auto Disk Scrubber",1264254,6861,null,{"$f":"F26*E26","v":0},{"$f":"IFERROR(IFERROR(VLOOKUP(D26,Surcharge!A:B,2,FALSE)*F26, VLOOKUP(D26 & \"\",Surcharge!A:B,2,FALSE)*F26), \"\")","v":""},null,null,null,null,null,null,null,{"$f":"VLOOKUP(D26,'MPF SAP Download PreConfigured'!C:E,3,FALSE)","v":{"$error":"#N/A"}}]
[null,null,"18.1\" (46 cm) cleaning path.  Includes white batteries, removable 1 gal (4 L)  solution and 1.5 gal (6 L) recovery tank with ball float, battery safe guard switch, angle switch & i-Balance lever, removable splash guards, XL Plus charger w/ power cord, 2 medium blue brushes, quick change squeegee assembly with Linatex blades, and multi-language operator manual.",null,null,{"$f":"SUM(F26)","v":0},null,{"$f":"IFERROR(IFERROR(VLOOKUP(D27,Surcharge!A:B,2,FALSE)*F27, VLOOKUP(D27 & \"\",Surcharge!A:B,2,FALSE)*F27), \"\")","v":""}]
[null,null,null,null,null,{"$f":"SUM(F27)","v":0},null,{"$f":"IFERROR(IFERROR(VLOOKUP(D28,Surcharge!A:B,2,FALSE)*F28, VLOOKUP(D28 & \"\",Surcharge!A:B,2,FALSE)*F28), \"\")","v":""}]
[null,null,"Boxed Dimensions:  48\" H x 20.5\" W  x 14.2\" L (1220 mm x 520 mm x 360 mm)",null,null,{"$f":"SUM(F28)","v":0},null,{"$f":"IFERROR(IFERROR(VLOOKUP(D29,Surcharge!A:B,2,FALSE)*F29, VLOOKUP(D29 & \"\",Surcharge!A:B,2,FALSE)*F29), \"\")","v":""}]
[null,null,"Shipping Weight with Batteries: 77.2 lbs (35 kg)",null,null,{"$f":"SUM(F29)","v":0},null,{"$f":"IFERROR(IFERROR(VLOOKUP(D30,Surcharge!A:B,2,FALSE)*F30, VLOOKUP(D30 & \"\",Surcharge!A:B,2,FALSE)*F30), \"\")","v":""}]
[null,null,null,null,null,{"$f":"SUM(F32:F34)","v":0},null,{"$f":"IFERROR(IFERROR(VLOOKUP(D31,Surcharge!A:B,2,FALSE)*F31, VLOOKUP(D31 & \"\",Surcharge!A:B,2,FALSE)*F31), \"\")","v":""}]
[null,null,"i-mop XL Plus Lithium-Ion Auto Disk Scrubber + 2 Sets of Batteries",9022386,8206,null,{"$f":"F32*E32","v":0},{"$f":"IFERROR(IFERROR(VLOOKUP(D32,Surcharge!A:B,2,FALSE)*F32, VLOOKUP(D32 & \"\",Surcharge!A:B,2,FALSE)*F32), \"\")","v":""},null,null,null,null,null,null,null,{"$f":"VLOOKUP(D32,'MPF SAP Download PreConfigured'!C:E,3,FALSE)","v":{"$error":"#N/A"}}]
[null,null,"18.1\" (46 cm) cleaning path.  Includes i-mop XL Plus (1264254) with white battery and charger, as well as a second set of spare white batteries (two sets in total).",null,null,{"$f":"SUM(F32)","v":0},null,{"$f":"IFERROR(IFERROR(VLOOKUP(D33,Surcharge!A:B,2,FALSE)*F33, VLOOKUP(D33 & \"\",Surcharge!A:B,2,FALSE)*F33), \"\")","v":""}]
[null,null,"Note: Batteries do not ship in the machine box, but separately",null,null,{"$f":"SUM(F33)","v":0},null,{"$f":"IFERROR(IFERROR(VLOOKUP(D34,Surcharge!A:B,2,FALSE)*F34, VLOOKUP(D34 & \"\",Surcharge!A:B,2,FALSE)*F34), \"\")","v":""}]
[null,null,null,null,null,{"$f":"SUM(F36:F40)","v":0},null,{"$f":"IFERROR(IFERROR(VLOOKUP(D35,Surcharge!A:B,2,FALSE)*F35, VLOOKUP(D35 & \"\",Surcharge!A:B,2,FALSE)*F35), \"\")","v":""}]
[null,null,"iCart L Integrated Work Cart",1232057,2149,null,{"$f":"F36*E36","v":0},{"$f":"IFERROR(IFERROR(VLOOKUP(D36,Surcharge!A:B,2,FALSE)*F36, VLOOKUP(D36 & \"\",Surcharge!A:B,2,FALSE)*F36), \"\")","v":""},null,null,null,null,null,null,null,{"$f":"VLOOKUP(D36,'MPF SAP Download PreConfigured'!C:E,3,FALSE)","v":1969}]
[null,null,"Transports the iMop, includes ramp, and has storage.",null,null,{"$f":"SUM(F36)","v":0},null,{"$f":"IFERROR(IFERROR(VLOOKUP(D37,Surcharge!A:B,2,FALSE)*F37, VLOOKUP(D37 & \"\",Surcharge!A:B,2,FALSE)*F37), \"\")","v":""}]
[null,null,null,null,null,{"$f":"SUM(F37)","v":0},null,{"$f":"IFERROR(IFERROR(VLOOKUP(D38,Surcharge!A:B,2,FALSE)*F38, VLOOKUP(D38 & \"\",Surcharge!A:B,2,FALSE)*F38), \"\")","v":""}]
[null,null,"Boxed Dimensions:  42.5\" x 34.6\" x 25.2\" (1080 mm x 880 mm x 640 mm)",null,null,{"$f":"SUM(F38)","v":0},null,{"$f":"IFERROR(IFERROR(VLOOKUP(D39,Surcharge!A:B,2,FALSE)*F39, VLOOKUP(D39 & \"\",Surcharge!A:B,2,FALSE)*F39), \"\")","v":""}]
[null,null,"Shipping Weight:   132.2 lbs (60 kg)",null,null,{"$f":"SUM(F39)","v":0},null,{"$f":"IFERROR(IFERROR(VLOOKUP(D40,Surcharge!A:B,2,FALSE)*F40, VLOOKUP(D40 & \"\",Surcharge!A:B,2,FALSE)*F40), \"\")","v":""}]
[null,null,null,null,null,null,null,{"$f":"IFERROR(IFERROR(VLOOKUP(D41,Surcharge!A:B,2,FALSE)*F41, VLOOKUP(D41 & \"\",Surcharge!A:B,2,FALSE)*F41), \"\")","v":""}]
[null,null,"Cabinet Assy, Storage (iMop)",1233400,1517,null,{"$f":"F42*E42","v":0},{"$f":"IFERROR(IFERROR(VLOOKUP(D42,Surcharge!A:B,2,FALSE)*F42, VLOOKUP(D42 & \"\",Surcharge!A:B,2,FALSE)*F42), \"\")","v":""},null,null,null,null,null,null,null,{"$f":"VLOOKUP(D42,'MPF SAP Download PreConfigured'!C:E,3,FALSE)","v":1338}]
[null,null,"iMop Storage Cabinet",null,null,{"$f":"SUM(F42)","v":0},null,{"$f":"IFERROR(IFERROR(VLOOKUP(D43,Surcharge!A:B,2,FALSE)*F43, VLOOKUP(D43 & \"\",Surcharge!A:B,2,FALSE)*F43), \"\")","v":""}]
[]
[null,null,null,null,null,{"$f":"SUM(#REF!)","v":{"$error":"#REF!"}}]
[]
[null,"Custom Solution--write in description, qty, price, and PN if applicable",null,null,null,{"$f":"SUM(F48)","v":0}]
[null,null,null,null,"Insert Prices Here",{"$f":"SUM(F49:F52)","v":0}]
[null,null,null,"Custom",null,{"$f":"IF(E49 <> \"\", 1, 0)","v":0},{"$f":"F49*E49","v":0}]
[null,null,null,"Custom",null,{"$f":"IF(E50 <> \"\", 1, 0)","v":0},{"$f":"F50*E50","v":0}]
[null,null,null,"Custom",null,{"$f":"IF(E51 <> \"\", 1, 0)","v":0},{"$f":"F51*E51","v":0}]
[null,null,null,"Custom",null,{"$f":"IF(E52 <> \"\", 1, 0)","v":0},{"$f":"F52*E52","v":0}]
[null,null,null,null,{"$f":"ROUND(SUM(G25:G52), 0)","v":0},{"$f":"SUM(E54)","v":0}]
[null,null,null,"Machine Subtotal ",{"$f":"ROUND(SUM(G25:G52), 0)","v":0},{"$f":"F53","v":0}]
[null,"Discounts",null,null,null,{"$f":"SUM(F56)","v":0}]
[null,null,null,null,null,{"$f":"SUM(F57:F60)","v":0}]
[null,null,null,"Discount %",null,{"$f":"IF(E57 <> \"\", 1, 0)","v":0},{"$f":"IF(F57*(E57*0.01)*E53 < 0, F57*(E57*0.01)*E53, -(F57*(E57*0.01)*E53))","v":0}]
[null,null,null,"Discount $",null,{"$f":"IF(E58 <> \"\", 1, 0)","v":0},{"$f":"IF(F58*E58 < 0, F58*E58, -(F58*E58))","v":0}]
[null,null,null,"Discount $",null,{"$f":"IF(E59 <> \"\", 1, 0)","v":0},{"$f":"IF(F59*E59 < 0, F59*E59, -(F59*E59))","v":0}]
[null,null,null,"Discount $",null,{"$f":"IF(E60 <> \"\", 1, 0)","v":0},{"$f":"IF(F60*E60 < 0, F60*E60, -(F60*E60))","v":0}]
[null,null,null,"Discount Total ",{"$f":"SUM(G57:G60)","v":0},{"$f":"SUM(E61)","v":0}]
[null,null,null,null,null,{"$f":"#REF!","v":{"$error":"#REF!"}}]
[null,null,"Prepaid and Add","Freight",null,{"$f":"IF(E63 <> \"\", 1, 0)","v":0},{"$f":"F63*E63","v":0}]
[null,null,"Subject to all applicable taxes","Tax",null,{"$f":"IF(E64 <> \"\", 1, 0)","v":0},{"$f":"F64*E64","v":0}]
[null,null,null,null,null,{"$f":"SUM(F66)","v":0}]
[null,null,null,"MACHINE TOTAL*",null,{"$f":"SUM(G66)","v":0},{"$f":"SUM(G25:G64)","v":0},null,null,null,null,null,null,"This goes to \"My Documents\""]
[null,"Financing",null,null,null,null,{"$f":"G66","v":0}]
[]
[null,null,"Is customer interested in financing?","No"]
[]
[null,null,"If not, why?"]
[]
[]
[null,null,"First Western Equipment Finance - Leasing Calculation Option:","Option 1",null,"Option 2",null,null,null,{"$f":"Financing!A38","v":"Rates 2025 - Rev. 5/6/2025"}]
[null,null,null,"Monthly Payment","Cost Per Day","Monthly Payment","Cost Per Day",null,null,{"$f":"Financing!A39","v":"“Blank Payment Amounts Indicate The Financing Option Or Purchase Options Selected Are Not "}]
[null,null,"Purchase Option:","FWEF:  $1 Buyout Lease",null,"FWEF: Municipal Lease",null,null,null,{"$f":"Financing!A40","v":"Applicable Or The Machine Total Is Below The Minimum Amount For The Selected Vendor”"}]
[null,null,"24 Months",0,0,0,0,null,null,{"$f":"Financing!A41","v":"\"Quoted monthly payments are estimates only and are based on a certain level of credit rating."}]
[null,null,"30 Months",0,0,0,0,null,null,{"$f":"Financing!A42","v":"Actual monthly payments may be higher depending on your credit rating.\""}]
[null,null,"36 Months",0,0,0,0,null,null,{"$f":"Financing!A43","v":"“Financing rates do not include Pre-Paid Service”"}]
[null,null,"48 Months",0,0,0,0,null,{"$f":"Financing!A44","v":0}]
[]
[null,null,null,"Benefits of Equipment Financing:"]
[null,null,null,"• Spreads out investment over time.",null,"• Keep current with latest technology."]
[null,null,null,"• Preserve capital.",null,"• Service and parts bundling available."]
[null,null,null,"• Low monthly payment.",null,"• Pay for labor savings as you go."]
[]
[]
[null,null,"Bundled Offerings","Flexclean – Fair Market Value",null,"Flexclean - $1 Buyout"]
[null,null,"FlexClean: ","36 Month Term",null,"36 Month Term",null,null,"No","AB Brushes"]
[null,null,"Hours included per Month:","Gold","Silver","Gold","Silver","Check"]
[null,null,"< 30/mo. (Avg. 1hr./day)",null,null,null,null,null,{"$f":"FlexCleanCalc!$A21","v":"“FlexClean monthly rates include payment for both machine and service.”"}]
[null,null,"< 60/mo. (Avg. 2hrs./day)"]
[null,null,"< 90/mo. (Avg. 3hrs./day)"]
[null,null,"*This value assumes one service contract regardless of the number of UNITS included in the quote"]
[]
[]
[null,null,"Bundled Offerings","Flexclean – Fair Market Value",null,"Flexclean - $1 Buyout"]
[null,null,"FlexClean 2: ","48 Month Term",null,"48 Month Term"]
[null,null,"Hours included per Month:","Gold","Silver","Gold","Silver"]
[null,null,"< 30/mo. (Avg. 1hr./day)"]
[null,null,"< 60/mo. (Avg. 2hrs./day)"]
[null,null,"< 90/mo. (Avg. 3hrs./day)"]
[null,null,"*This value assumes one service contract regardless of the number of UNITS included in the quote"]
[]
[null,null,"Bundled Offerings","Flexclean – Fair Market Value",null,"Flexclean - $1 Buyout"]
[null,null,"FlexClean 3: ","60 Month Term",null,"60 Month Term"]
[null,null,"Hours included per Month:","Gold","Silver","Gold","Silver"]
[null,null,"< 30/mo. (Avg. 1hr./day)"]
[null,null,"< 60/mo. (Avg. 2hrs./day)"]
[null,null,"< 90/mo. (Avg. 3hrs./day)"]
[null,null,"*This value assumes one service contract regardless of the number of UNITS included in the quote"]
[]
[null,"  TennantTrue"]
[]
[null,null,"Is customer interested in service program?","Yes","*State/County selection required for TennantTrue service options"]
[]
[null,null,"If not, why?"]
[]
[null,null,"Term:",36,null,"AB Brushes","No"]
[null,null,"Monthly machine usage (hrs):","< 30/mo. (Avg. 1hr./day)"]
[]
[null,null,"TennantTrue: ","Gold Contract",null,"Silver Contract"]
[null,null,"Per Visit"]
[null,null,"Monthly"]
[null,null,"Annually"]
[null,null,"Pre-Pay Full Term"]
[null,null,"Hourly Labor Rate"]
[null,null,"Site Visit"]
[]
[null,null,"* Verify customer current pricing prior to quote. "]
[null,null,"**All rates and fees above reflect service for one (1) unit with the exception of Block of Time service."]
[null,null,"*Block of Time is available in 1 Year Term only and is priced as such no matter the term selection on this template."]
[]
[]
[null,"Servicing"]
[]
[null,null,"Is customer interested in a service plan?","No"]
[]
[null,null,"If not, why?"]
[]
[]
[null,"Quote Special Instructions:"]
[]
[]
[null,null,{"$f":"Start_Here!E36","v":"Terms and Conditions"}]
[null,null,{"$f":"Start_Here!E37","v":"Ask your local sales rep for estimated lead times. Verify when placing order"}]
[null,null,{"$f":"Start_Here!E38","v":"All orders subject to acceptance by Tennant Sales and Service Company, Minneapolis, Minnesota"}]
[null,null,{"$f":"Start_Here!E39","v":"Prices subject to change without notice."}]
[null,null,{"$f":"Start_Here!E40","v":"Terms:  Net 30 days.  Subject to any applicable taxes."}]
[null,null,{"$f":"Start_Here!E41","v":"Freight: Machines and accessory orders delivered FOB shipping point Frt PPD & Add"}]
[null,null,{"$f":"Start_Here!E42","v":"Parts, supplies, detergents and floor treating material orders delivered FOB "}]
[null,null,{"$f":"Start_Here!E43","v":"shipping point Frt PPD"}]
[null,null,{"$f":"Start_Here!E44","v":"All orders are subject to Tennant’s General Terms and Conditions available at http://www.tennantco.com/terms."}]
[null,null,{"$f":"Start_Here!E45","v":"Printed General Terms and Conditions are also available upon request."}]
[null,null,{"$f":"Start_Here!E46","v":0}]
[]
[null,null,null,null,"Quote Date :",null,{"$f":"Letter!$A$25","v":"2020-09-17"}]
["Order Placement Information:  To place your order, fill in PO# and customer signatures,"]
["call or fax to the numbers listed below. Customer Purchase Order is required."]
["If information is missing, orders will be entered and held until all information is received."]
[null,null,"Customer Number",null,"Cust Grp 3"]
[null,null,{"$f":"Start_Here!$C$25","v":0},null,{"$f":"Start_Here!$C$29","v":0}]
[null,null,{"$f":"Start_Here!$B$18","v":"Who Owns the Machine? (Sold-To Info) (Please Verify)"}]
["Company",null,{"$f":"Start_Here!$C$19","v":"Company Name"}]
["Address",null,{"$f":"Start_Here!$C$20","v":"Address"}]
[null,null,{"$f":"Start_Here!$C$21","v":"City, State Zip"}]
["Name",null,{"$f":"Start_Here!$C$22","v":"Contact Name"}]
["Phone",null,{"$f":"Start_Here!$C$23","v":"Contact Phone"}]
[null,null,{"$f":"Start_Here!$B$11","v":"Where is the Machine Being Shipped? (Ship-To Info) (Please Verify)"}]
["Company",null,{"$f":"Start_Here!$C$12","v":"Company Name"}]
["Address",null,{"$f":"Start_Here!$C$13","v":"Address"}]
[null,null,{"$f":"Start_Here!$C$14","v":"City, State Zip"}]
["Name",null,{"$f":"Start_Here!$C$15","v":"Contact Name"}]
["Phone",null,{"$f":"Start_Here!$C$16","v":"Contact Phone"}]
[null,null,{"$f":"Start_Here!$B$31","v":"Shipping / Carrier Instructions:"},null,"Order Special Instructions:"]
[null,null,{"$f":"Start_Here!$C$32","v":0}]
[]
[null,null,"Customer Purchase Order No."]
[null,null,"(please attach copy)"]
[]
[]
[null,null,"Tax Exempt",null,"Yes"]
[null,null,null,null,"No"]
[null,null,"If Yes, attach a copy of your exemption certificate."]
[]
[null,null,"Requested Delivery Date"]
[null,null,{"$f":"Start_Here!$C$28","v":0}]
[]
[null,null,{"$f":"Start_Here!$C$26","v":0},null,{"$f":"Start_Here!$C$27","v":0}]
[null,0,"Authorized Buyer (please print)",null,"Phone Number"]
[]
[]
[null,0,"Authorized Buyer Signature"]
[]
[null,null,{"$f":"Start_Here!$C$41","v":"Rep Name"}]
[null,null,"Tennant Representative"]
[]
["Specialized Maintenance Equipment"]
[{"$f":"Start_Here!$C$48","v":"TENNANT · 10400 Clean Street · Eden Prairie, MN 55344 ·"}]
[{"$f":"Start_Here!$C$49","v":" PHONE:800-553-8033 · FAX:763-513-2116"}]

{"sheet":"i_mop_XXL","index":12,"n_rows":185,"n_cols":16,"rows_kept":185,"cut":false,"hidden":false,"merged":[[150,2,150,5],[159,4,159,7],[163,2,163,5],[172,4,172,5],[151,2,151,5],[153,2,153,5],[154,2,154,5],[155,2,155,5],[156,2,156,5],[157,2,157,5],[128,2,128,7],[145,4,145,7],[147,2,147,5],[148,2,148,5],[149,2,149,5],[111,3,111,4],[98,2,98,3],[99,2,99,3],[100,2,100,3],[101,2,101,3],[106,4,106,8],[108,3,108,6],[110,3,110,4],[97,2,97,3],[97,4,97,5],[97,6,97,7],[90,2,90,3],[91,2,91,3],[92,2,92,3],[93,2,93,3],[96,2,96,3],[96,4,96,5],[96,6,96,7],[88,4,88,5],[88,6,88,7],[89,2,89,3],[89,4,89,5],[89,6,89,7],[70,2,70,3],[71,2,71,3],[88,2,88,3],[81,2,81,3],[82,2,82,3],[83,2,83,3],[84,2,84,3],[79,2,79,3],[79,4,79,5],[79,6,79,7],[80,2,80,3],[80,4,80,5],[80,6,80,7],[69,2,69,3],[32,2,32,3],[62,3,62,6],[65,2,65,3],[65,4,65,5],[65,6,65,7],[67,2,67,3],[67,4,67,5],[67,6,67,7],[27,2,27,3],[68,2,68,3],[24,2,24,3],[66,2,66,3],[0,2,0,3],[1,2,1,3],[2,2,2,3],[3,2,3,3],[26,2,26,3],[118,3,118,4],[118,5,118,6],[119,3,119,4],[119,5,119,6],[113,3,113,4],[113,5,113,6],[114,3,114,4],[114,5,114,6],[115,3,115,4],[115,5,115,6],[116,3,116,4],[116,5,116,6],[117,3,117,4],[117,5,117,6]]}
["i_mop_XXL",null,{"$f":"Start_Here!$C19","v":"Company Name"}]
[{"$f":"SUM(H57)","v":0},null,{"$f":"Start_Here!$C20","v":"Address"}]
[null,null,{"$f":"Start_Here!$C21","v":"City, State Zip"}]
[null,null,{"$f":"Start_Here!$C22","v":"Contact Name"}]
[null,null,{"$f":"Start_Here!$C$41","v":"Rep Name"}]
[null,null,{"$f":"Start_Here!$C$37","v":"Tennant Sales and Service Company"}]
[null,null,{"$f":"Start_Here!$C$38","v":"10400 Clean Street"}]
[null,null,{"$f":"Start_Here!$C$39","v":"Eden Prairie, MN 55344"}]
[null,null,{"$f":"Start_Here!$C$43","v":"800-553-8033"},null,null,"Quote Date :",null,{"$f":"Letter!$A$25","v":"2020-09-17"}]
[]
[null,null,{"$f":"Help!C2","v":"US Date Rev - 5/6/2025"}]
[null,null,null,null,null,"Quote Request Information"]
[null,null,"New Machine Warranty",null,null,null,null,"Fax (quote only)"]
[null,null,"12 MONTHS ON PARTS ",null,null,null,null,"Mail (quote,lit, specs)"]
[null,null,"12 MONTHS – LABOR",null,null,null,null,"Fax + Mail"]
[null,null,"12 MONTHS BATTERY"]
[null,null,"90 DAYS – TRAVEL ",null,null,"                Primary Use"]
[null,null,null,null,null,null,null,"Inside"]
[null,null,null,null,null,null,null,"Outside"]
[]
[]
[null,null,"Description",null,"Reference  # ","Price Each","Qty","Extended Pr"]
[null,null,null,null,null,null,"*"]
[null,null,"i-mop XXL Plus Lithium-Ion Auto Disk Scrubber",null,1264255,9209,null,{"$f":"G24*F24","v":0},{"$f":"IFERROR(IFERROR(VLOOKUP(E24,Surcharge!A:B,2,FALSE)*G24, VLOOKUP(E24 & \"\",Surcharge!A:B,2,FALSE)*G24), \"\")","v":""},null,null,null,null,null,null,{"$f":"VLOOKUP(E24,'MPF SAP Download PreConfigured'!C:E,3,FALSE)","v":{"$error":"#N/A"}}]
[null,null,"24.4\" (62 cm) cleaning path.  Includes gray batteries, removable 1.25 gal (5 L)  solution and 2 gal (8 L) recovery tank with ball float, battery safe guard switch, angle switch & i-Balance lever, removable splash guards, XXL Plus charger w/ power cord, 2 medium blue brushes, quick change squeegee assembly with Linatex blades, and multi-language operator manual.",null,null,null,{"$f":"SUM(G24)","v":0},null,{"$f":"IFERROR(IFERROR(VLOOKUP(E25,Surcharge!A:B,2,FALSE)*G25, VLOOKUP(E25 & \"\",Surcharge!A:B,2,FALSE)*G25), \"\")","v":""}]
[null,null,null,null,null,null,{"$f":"SUM(G25)","v":0},null,{"$f":"IFERROR(IFERROR(VLOOKUP(E26,Surcharge!A:B,2,FALSE)*G26, VLOOKUP(E26 & \"\",Surcharge!A:B,2,FALSE)*G26), \"\")","v":""}]
[null,null,"Boxed Dimensions:  49\" H x 25\" W  x 13\" L (1240 mm x 640 mm x 330 mm)",null,null,null,{"$f":"SUM(G26)","v":0},null,{"$f":"IFERROR(IFERROR(VLOOKUP(E27,Surcharge!A:B,2,FALSE)*G27, VLOOKUP(E27 & \"\",Surcharge!A:B,2,FALSE)*G27), \"\")","v":""}]
[null,null,"Shipping Weight with Batteries:  90.2 lbs (40.9 kg)",null,null,null,{"$f":"SUM(G27)","v":0},null,{"$f":"IFERROR(IFERROR(VLOOKUP(E28,Surcharge!A:B,2,FALSE)*G28, VLOOKUP(E28 & \"\",Surcharge!A:B,2,FALSE)*G28), \"\")","v":""}]
[null,null,null,null,null,null,null,null,{"$f":"IFERROR(IFERROR(VLOOKUP(E29,Surcharge!A:B,2,FALSE)*G29, VLOOKUP(E29 & \"\",Surcharge!A:B,2,FALSE)*G29), \"\")","v":""}]
[null,null,null,null,null,null,null,null,{"$f":"IFERROR(IFERROR(VLOOKUP(E30,Surcharge!A:B,2,FALSE)*G30, VLOOKUP(E30 & \"\",Surcharge!A:B,2,FALSE)*G30), \"\")","v":""}]
[null,null,"i-mop XXL Plus Lithium-Ion Auto Disk Scrubber + 2 Sets of Batteries",null,9022387,10923,null,{"$f":"G31*F31","v":0},{"$f":"IFERROR(IFERROR(VLOOKUP(E31,Surcharge!A:B,2,FALSE)*G31, VLOOKUP(E31 & \"\",Surcharge!A:B,2,FALSE)*G31), \"\")","v":""},null,null,null,null,null,null,{"$f":"VLOOKUP(E31,'MPF SAP Download PreConfigured'!C:E,3,FALSE)","v":{"$error":"#N/A"}}]
[null,null,"24.4\" (62 cm) cleaning path.  Includes i-mop XXL Plus (1264255) with grey battery and charger, as well as a second set of spare grey batteries (two sets in total).",null,null,null,{"$f":"SUM(G31)","v":0},null,{"$f":"IFERROR(IFERROR(VLOOKUP(E32,Surcharge!A:B,2,FALSE)*G32, VLOOKUP(E32 & \"\",Surcharge!A:B,2,FALSE)*G32), \"\")","v":""}]
[null,null,"Note: Extra batteries do not ship in machine box, but separately.",null,null,null,{"$f":"SUM(G32)","v":0},null,{"$f":"IFERROR(IFERROR(VLOOKUP(E33,Surcharge!A:B,2,FALSE)*G33, VLOOKUP(E33 & \"\",Surcharge!A:B,2,FALSE)*G33), \"\")","v":""}]
[null,null,null,null,null,null,null,null,{"$f":"IFERROR(IFERROR(VLOOKUP(E34,Surcharge!A:B,2,FALSE)*G34, VLOOKUP(E34 & \"\",Surcharge!A:B,2,FALSE)*G34), \"\")","v":""}]
[null,null,null,null,null,null,{"$f":"SUM(#REF!)","v":{"$error":"#REF!"}}]
[]
[null,"Custom Solution--write in description, qty, price, and PN if applicable",null,null,null,{"$f":"SUM(G38)","v":0}]
[null,null,null,null,null,"Insert Prices Here",{"$f":"SUM(G39:G42)","v":0}]
[null,null,null,null,"Custom",null,{"$f":"IF(F39 <> \"\", 1, 0)","v":0},{"$f":"G39*F39","v":0}]
[null,null,null,null,"Custom",null,{"$f":"IF(F40 <> \"\", 1, 0)","v":0},{"$f":"G40*F40","v":0}]
[null,null,null,null,"Custom",null,{"$f":"IF(F41 <> \"\", 1, 0)","v":0},{"$f":"G41*F41","v":0}]
[null,null,null,null,"Custom",null,{"$f":"IF(F42 <> \"\", 1, 0)","v":0},{"$f":"G42*F42","v":0}]
[null,null,null,null,null,{"$f":"ROUND(SUM(H24:H42), 0)","v":0},{"$f":"SUM(F44)","v":0}]
[null,null,null,null,"Machine Subtotal ",{"$f":"ROUND(SUM(H24:H42), 0)","v":0},{"$f":"G43","v":0}]
[null,"Discounts",null,null,null,null,{"$f":"SUM(G46)","v":0}]
[null,null,null,null,null,null,{"$f":"SUM(G47:G50)","v":0}]
[null,null,null,null,"Discount %",null,{"$f":"IF(F47 <> \"\", 1, 0)","v":0},{"$f":"IF(G47*(F47*0.01)*F43 < 0, G47*(F47*0.01)*F43, -(G47*(F47*0.01)*F43))","v":0}]
[null,null,null,null,"Discount $",null,{"$f":"IF(F48 <> \"\", 1, 0)","v":0},{"$f":"IF(G48*F48 < 0, G48*F48, -(G48*F48))","v":0}]
[null,null,null,null,"Discount $",null,{"$f":"IF(F49 <> \"\", 1, 0)","v":0},{"$f":"IF(G49*F49 < 0, G49*F49, -(G49*F49))","v":0}]
[null,null,null,null,"Discount $",null,{"$f":"IF(F50 <> \"\", 1, 0)","v":0},{"$f":"IF(G50*F50 < 0, G50*F50, -(G50*F50))","v":0}]
[null,null,null,null,"Discount Total ",{"$f":"SUM(H47:H50)","v":0},{"$f":"SUM(F51)","v":0}]
[null,null,null,null,null,null,{"$f":"#REF!","v":{"$error":"#REF!"}}]
[null,null,null,null,null,null,{"$f":"G52","v":{"$error":"#REF!"}}]
[null,null,"Prepaid and Add",null,"Freight",null,{"$f":"IF(F54 <> \"\", 1, 0)","v":0},{"$f":"G54*F54","v":0}]
[null,null,"Subject to all applicable taxes",null,"Tax",null,{"$f":"IF(F55 <> \"\", 1, 0)","v":0},{"$f":"G55*F55","v":0}]
[null,null,null,null,null,null,{"$f":"SUM(G57)","v":0}]
[null,null,null,null,"MACHINE TOTAL*",null,{"$f":"SUM(H57)","v":0},{"$f":"SUM(H24:H55)","v":0},null,null,null,null,"This goes to \"My Documents\""]
[null,null,null,null,null,null,null,{"$f":"SUM(H57)","v":0}]
[null,"Financing"]
[]
[null,null,"Is customer interested in financing?","Yes"]
[]
[null,null,"If not, why?"]
[]
[]
[null,null,"First Western Equipment Finance - Leasing Calculation Option:",null,"Option 1",null,"Option 2",null,null,{"$f":"Financing!A38","v":"Rates 2025 - Rev. 5/6/2025"}]
[null,null,null,null,"Monthly Payment","Cost Per Day","Monthly Payment","Cost Per Day",null,{"$f":"Financing!A39","v":"“Blank Payment Amounts Indicate The Financing Option Or Purchase Options Selected Are Not "}]
[null,null,"Purchase Option:",null,"FWEF:  $1 Buyout Lease",null,"FWEF: Municipal Lease",null,null,{"$f":"Financing!A40","v":"Applicable Or The Machine Total Is Below The Minimum Amount For The Selected Vendor”"}]
[null,null,"24 Months",null,0,0,0,0,null,{"$f":"Financing!A41","v":"\"Quoted monthly payments are estimates only and are based on a certain level of credit rating."}]
[null,null,"30 Months",null,0,0,0,0,null,{"$f":"Financing!A42","v":"Actual monthly payments may be higher depending on your credit rating.\""}]
[null,null,"36 Months",null,0,0,0,0,null,{"$f":"Financing!A43","v":"“Financing rates do not include Pre-Paid Service”"}]
[null,null,"48 Months",null,0,0,0,0,null,{"$f":"Financing!A44","v":0}]
[]
[null,null,null,"Benefits of Equipment Financing:"]
[null,null,null,"• Spreads out investment over time.",null,"• Keep current with latest technology."]
[null,null,null,"• Preserve capital.",null,"• Service and parts bundling available."]
[null,null,null,"• Low monthly payment.",null,"• Pay for labor savings as you go."]
[]
[]
[null,null,"Bundled Offerings",null,"Flexclean – Fair Market Value",null,"Flexclean - $1 Buyout"]
[null,null,"FlexClean: ",null,"36 Month Term",null,"36 Month Term",null,null,"No","AB Brushes"]
[null,null,"Hours included per Month:",null,"Gold","Silver","Gold","Silver","Check"]
[null,null,"< 30/mo. (Avg. 1hr./day)",null,null,null,null,null,null,null,{"$f":"FlexCleanCalc!$A21","v":"“FlexClean monthly rates include payment for both machine and service.”"}]
[null,null,"< 60/mo. (Avg. 2hrs./day)"]
[null,null,"< 90/mo. (Avg. 3hrs./day)"]
[null,null,"*This value assumes one service contract regardless of the number of UNITS included in the quote"]
[]
[]
[null,null,"Bundled Offerings",null,"Flexclean – Fair Market Value",null,"Flexclean - $1 Buyout"]
[null,null,"FlexClean 2: ",null,"48 Month Term",null,"48 Month Term"]
[null,null,"Hours included per Month:",null,"Gold","Silver","Gold","Silver"]
[null,null,"< 30/mo. (Avg. 1hr./day)"]
[null,null,"< 60/mo. (Avg. 2hrs./day)"]
[null,null,"< 90/mo. (Avg. 3hrs./day)"]
[null,null,"*This value assumes one service contract regardless of the number of UNITS included in the quote"]
[]
[null,null,"Bundled Offerings",null,"Flexclean – Fair Market Value",null,"Flexclean - $1 Buyout"]
[null,null,"FlexClean 3: ",null,"60 Month Term",null,"60 Month Term"]
[null,null,"Hours included per Month:",null,"Gold","Silver","Gold","Silver"]
[null,null,"< 30/mo. (Avg. 1hr./day)"]
[null,null,"< 60/mo. (Avg. 2hrs./day)"]
[null,null,"< 90/mo. (Avg. 3hrs./day)"]
[null,null,"*This value assumes one service contract regardless of the number of UNITS included in the quote"]
[]
[null,"  TennantTrue",null,0]
[]
[null,null,"Is customer interested in service program?","Yes","*State/County selection required for TennantTrue service options"]
[]
[null,null,"If not, why?"]
[]
[null,null,"Term:",36,null,"AB Brushes","No"]
[null,null,"Monthly machine usage (hrs):","< 30/mo. (Avg. 1hr./day)"]
[]
[null,null,"TennantTrue: ","Gold Contract",null,"Silver Contract"]
[null,null,"Per Visit"]
[null,null,"Monthly"]
[null,null,"Annually"]
[null,null,"Pre-Pay Full Term"]
[null,null,"Hourly Labor Rate"]
[null,null,"Site Visit"]
[]
[null,null,"* Verify customer current pricing prior to quote. "]
[null,null,"**All rates and fees above reflect service for one (1) unit with the exception of Block of Time service."]
[null,null,"*Block of Time is available in 1 Year Term only and is priced as such no matter the term selection on this template."]
[]
[]
[]
[null,null,"Quote Special Instructions:"]
[]
[]
[null,null,{"$f":"Start_Here!E37","v":"Ask your local sales rep for estimated lead times. Verify when placing order"}]
[null,null,{"$f":"Start_Here!$E$38:$E$46","v":"All orders subject to acceptance by Tennant Sales and Service Company, Minneapolis, Minnesota"}]
[null,null,"Prices subject to change without notice."]
[null,null,"Terms:  Net 30 days.  Subject to any applicable taxes."]
[null,null,"Freight: Machines and accessory orders delivered FOB shipping point Frt PPD & Add"]
[null,null,"Parts, supplies, detergents and floor treating material orders delivered FOB "]
[null,null,"shipping point Frt PPD"]
[null,null,"All orders are subject to Tennant’s General Terms and Conditions available at http://www.tennantco.com/terms."]
[null,null,"Printed General Terms and Conditions are also available upon request."]
[null,null,0]
[null,null,null,null,null,"Quote Date :",null,{"$f":"Letter!$A$25","v":"2020-09-17"}]
[null,"Order Placement Information:  To place your order, fill in PO# and customer signatures,"]
[null,"call or fax to the numbers listed below. Customer Purchase Order is required."]
[null,"If information is missing, orders will be entered and held until all information is received."]
[null,null,"Customer Number",null,"Cust Grp 3"]
[null,null,{"$f":"Start_Here!$C$25","v":0},null,{"$f":"Start_Here!$C$29","v":0}]
[null,null,{"$f":"Start_Here!$B$18","v":"Who Owns the Machine? (Sold-To Info) (Please Verify)"}]
["Company",null,{"$f":"Start_Here!$C$19","v":"Company Name"}]
["Address",null,{"$f":"Start_Here!$C$20","v":"Address"}]
[null,null,{"$f":"Start_Here!$C$21","v":"City, State Zip"}]
["Name",null,{"$f":"Start_Here!$C$22","v":"Contact Name"}]
["Phone",null,{"$f":"Start_Here!$C$23","v":"Contact Phone"}]
[null,null,{"$f":"Start_Here!$B$11","v":"Where is the Machine Being Shipped? (Ship-To Info) (Please Verify)"}]
["Company",null,{"$f":"Start_Here!$C$12","v":"Company Name"}]
["Address",null,{"$f":"Start_Here!$C$13","v":"Address"}]
[null,null,{"$f":"Start_Here!$C$14","v":"City, State Zip"}]
["Name",null,{"$f":"Start_Here!$C$15","v":"Contact Name"}]
["Phone",null,{"$f":"Start_Here!$C$16","v":"Contact Phone"}]
[null,null,{"$f":"Start_Here!$B$31","v":"Shipping / Carrier Instructions:"},null,"Order Special Instructions:"]
[null,null,{"$f":"Start_Here!$C$32","v":0}]
[]
[null,null,"Customer Purchase Order No."]
[null,null,"(please attach copy)"]
[]
[]
[null,null,"Tax Exempt",null,"Yes"]
[null,null,null,null,"No"]
[null,null,"If Yes, attach a copy of your exemption certificate."]
[]
[null,null,"Requested Delivery Date"]
[null,null,{"$f":"Start_Here!$C$28","v":0}]
[]
[null,null,{"$f":"Start_Here!$C$26","v":0},null,{"$f":"Start_Here!$C$27","v":0}]
[null,0,"Authorized Buyer (please print)",null,"Phone Number"]
[]
[]
[null,0,"Authorized Buyer Signature"]
[]
[null,null,{"$f":"Start_Here!$C$41","v":"Rep Name"}]
[null,null,"Tennant Representative"]
[]
[]
["Specialized Maintenance Equipment"]
[{"$f":"Start_Here!$C$48","v":"TENNANT · 10400 Clean Street · Eden Prairie, MN 55344 ·"}]
[{"$f":"Start_Here!$C$49","v":" PHONE:800-553-8033 · FAX:763-513-2116"}]

{"sheet":"T1_T1B","index":13,"n_rows":198,"n_cols":16,"rows_kept":198,"cut":false,"hidden":false,"merged":[[27,2,27,3],[68,3,68,6],[0,2,0,3],[1,2,1,3],[2,2,2,3],[3,2,3,3],[114,3,114,6],[116,3,116,4],[117,3,117,4],[94,3,94,4],[94,5,94,6],[95,3,95,4],[85,3,85,4],[85,5,85,6],[86,3,86,4],[86,5,86,6],[112,4,112,8],[95,5,95,6],[102,3,102,4],[102,5,102,6],[103,3,103,4],[103,5,103,6],[159,4,159,7],[170,2,170,5],[161,2,161,5],[162,2,162,5],[163,2,163,5],[177,2,177,5],[186,4,186,5],[28,2,28,3],[169,2,169,5],[71,3,71,4],[71,5,71,6],[73,3,73,4],[73,5,73,6],[171,2,171,5],[165,2,165,5],[167,2,167,5],[168,2,168,5],[173,4,173,7],[164,2,164,5],[136,3,137,6],[140,1,140,6],[119,3,119,4],[119,5,119,6],[120,3,120,4],[120,5,120,6],[121,3,121,4],[121,5,121,6],[125,3,125,4],[125,5,125,6],[122,3,122,4],[122,5,122,6],[123,3,123,4],[123,5,123,6],[124,3,124,4],[124,5,124,6]]}
["T1_T1B",null,{"$f":"Start_Here!$C19","v":"Company Name"}]
[{"$f":"SUM(G64)","v":0},null,{"$f":"Start_Here!$C20","v":"Address"}]
[null,null,{"$f":"Start_Here!$C21","v":"City, State Zip"}]
[null,null,{"$f":"Start_Here!$C22","v":"Contact Name"}]
[null,null,{"$f":"Start_Here!$C$41","v":"Rep Name"}]
[null,null,{"$f":"Start_Here!$C$37","v":"Tennant Sales and Service Company"}]
[null,null,{"$f":"Start_Here!$C$38","v":"10400 Clean Street"}]
[null,null,{"$f":"Start_Here!$C$39","v":"Eden Prairie, MN 55344"}]
[null,null,{"$f":"Start_Here!$C$43","v":"800-553-8033"},null,"Quote Date :",null,{"$f":"Letter!$A$25","v":"2020-09-17"}]
[]
[null,null,{"$f":"Help!C2","v":"US Date Rev - 5/6/2025"}]
[]
[null,null,"EXCLUSIVE FACTORY-DIRECT WARRANTY"]
[null,null,"10 YEARS - ROTOMOLDED PARTS"]
[null,null,"36 MONTHS OR 2500 HOURS - PARTS"]
[null,null,"36 MONTHS LABOR",null,"                Quote Request Information"]
[null,null,"90 DAYS – TRAVEL T1B, No Travel on T1",null,null,null,"Fax (quote only)"]
[null,null,"BATTERIES AGM PRO-RATED 6 MONTHS",null,null,null,"Mail (quote,lit, specs)"]
[null,null,"LITHIUM ION 2 YEARS (Full Replacement)",null,null,null,"Fax + Mail"]
[]
[null,null,null,null,"                Primary Use"]
[null,null,null,null,null,null,"Inside"]
[null,null,null,null,null,null,"Outside"]
[null,null,"Description","Reference # ","Price","Qty.","Extended Price"]
[null,null,null,null,null,"*"]
[null,null,"T1 Cord-Electric Cylindrical Scrubber",9004191,5236,null,{"$f":"F26*E26","v":0},{"$f":"IFERROR(IFERROR(VLOOKUP(D26,Surcharge!A:B,2,FALSE)*F26, VLOOKUP(D26 & \"\",Surcharge!A:B,2,FALSE)*F26), \"\")","v":""},null,null,null,null,null,null,null,{"$f":"VLOOKUP(D26,'MPF SAP Download PreConfigured'!C:E,3,FALSE)","v":4760}]
[null,null,"15\" (380 mm) cleaning path.  Complete package includes removable, Hygenic® fully cleanable 3 gallon (11.4 liter) solution/ 4.5 gallon (17 liters) recovery tanks, Insta-AdjustTM handle, nylon brush, 50-ft (15-m) \"safety yellow\" power cord and multi-language operator manual.",null,null,{"$f":"SUM(F26)","v":0},null,{"$f":"IFERROR(IFERROR(VLOOKUP(D27,Surcharge!A:B,2,FALSE)*F27, VLOOKUP(D27 & \"\",Surcharge!A:B,2,FALSE)*F27), \"\")","v":""},null,null,null,{"$f":"SUM(F27)","v":0},"Surcharge Qty"]
[null,null,"Boxed Dimensions:  34\" L x 22\" W x 32\" H (864  mm x 559  mm x 813  mm). *",null,null,{"$f":"SUM(F27)","v":0},null,{"$f":"IFERROR(IFERROR(VLOOKUP(D28,Surcharge!A:B,2,FALSE)*F28, VLOOKUP(D28 & \"\",Surcharge!A:B,2,FALSE)*F28), \"\")","v":""},null,null,null,{"$f":"SUM(F28)","v":0},"Surcharge Qty"]
[null,null,"Shipping Weight / Volume:   125 lb (57 kg) / 13.9 ft3 (.39 m3)",null,null,{"$f":"SUM(F28)","v":0},null,{"$f":"IFERROR(IFERROR(VLOOKUP(D29,Surcharge!A:B,2,FALSE)*F29, VLOOKUP(D29 & \"\",Surcharge!A:B,2,FALSE)*F29), \"\")","v":""},null,null,null,{"$f":"SUM(F29)","v":0},"Surcharge Qty"]
[null,null,null,null,null,null,null,{"$f":"IFERROR(IFERROR(VLOOKUP(D30,Surcharge!A:B,2,FALSE)*F30, VLOOKUP(D30 & \"\",Surcharge!A:B,2,FALSE)*F30), \"\")","v":""}]
[null,null,null,null,null,null,null,{"$f":"IFERROR(IFERROR(VLOOKUP(D31,Surcharge!A:B,2,FALSE)*F31, VLOOKUP(D31 & \"\",Surcharge!A:B,2,FALSE)*F31), \"\")","v":""}]
[null,null,"T1B Battery Cylindrical Scrubber  - 15\" cleaning path.  Complete package includes removable, Hygenic® fully cleanable 2.5 gallon (9.5liter) solution/ 3.4 gallon (12.9 liters) recovery tanks, Insta-AdjustTM handle, nylon brush, appropriate off board world charger with power cord and multi-language operator manual.",null,null,{"$f":"SUM(F37,F40)","v":0},null,{"$f":"IFERROR(IFERROR(VLOOKUP(D32,Surcharge!A:B,2,FALSE)*F32, VLOOKUP(D32 & \"\",Surcharge!A:B,2,FALSE)*F32), \"\")","v":""}]
[null,null,"Boxed Dimensions:  32\" L x 24\" W x 37\" H (813 mm x 610 mm x 940 mm). *",null,null,{"$f":"SUM(F32)","v":0},null,{"$f":"IFERROR(IFERROR(VLOOKUP(D33,Surcharge!A:B,2,FALSE)*F33, VLOOKUP(D33 & \"\",Surcharge!A:B,2,FALSE)*F33), \"\")","v":""}]
[null,null,"Shipping Weight (see battery options below)",null,null,{"$f":"SUM(F33)","v":0},null,{"$f":"IFERROR(IFERROR(VLOOKUP(D34,Surcharge!A:B,2,FALSE)*F34, VLOOKUP(D34 & \"\",Surcharge!A:B,2,FALSE)*F34), \"\")","v":""}]
[null,null,null,null,null,null,null,{"$f":"IFERROR(IFERROR(VLOOKUP(D35,Surcharge!A:B,2,FALSE)*F35, VLOOKUP(D35 & \"\",Surcharge!A:B,2,FALSE)*F35), \"\")","v":""}]
[]
[null,null,"T1B Battery Cylindrical Scrubber (with AGM batteries)",9008635,6581,null,{"$f":"F37*E37","v":0},{"$f":"IFERROR(IFERROR(VLOOKUP(D37,Surcharge!A:B,2,FALSE)*F37, VLOOKUP(D37 & \"\",Surcharge!A:B,2,FALSE)*F37), \"\")","v":0},null,null,null,null,null,null,null,{"$f":"VLOOKUP(D37,'MPF SAP Download PreConfigured'!C:E,3,FALSE)","v":6150}]
[null,null,"Shipping Weight: 158 lbs/ 72 kg",null,null,{"$f":"SUM(F37)","v":0},null,{"$f":"IFERROR(IFERROR(VLOOKUP(D38,Surcharge!A:B,2,FALSE)*F38, VLOOKUP(D38 & \"\",Surcharge!A:B,2,FALSE)*F38), \"\")","v":""}]
[null,null,null,null,null,null,null,{"$f":"IFERROR(IFERROR(VLOOKUP(D39,Surcharge!A:B,2,FALSE)*F39, VLOOKUP(D39 & \"\",Surcharge!A:B,2,FALSE)*F39), \"\")","v":""}]
[null,null,"T1B Battery Cylindrical Scrubber (with Li-ion batteries)",9008638,8492,null,{"$f":"F40*E40","v":0},{"$f":"IFERROR(IFERROR(VLOOKUP(D40,Surcharge!A:B,2,FALSE)*F40, VLOOKUP(D40 & \"\",Surcharge!A:B,2,FALSE)*F40), \"\")","v":""},null,null,null,null,null,null,null,{"$f":"VLOOKUP(D40,'MPF SAP Download PreConfigured'!C:E,3,FALSE)","v":7936}]
[null,null,"Shipping Weight: 143 lbs/ 65 kg",null,null,{"$f":"SUM(F40)","v":0},null,{"$f":"IFERROR(IFERROR(VLOOKUP(D41,Surcharge!A:B,2,FALSE)*F41, VLOOKUP(D41 & \"\",Surcharge!A:B,2,FALSE)*F41), \"\")","v":""}]
[null,null,null,null,null,null,null,{"$f":"IFERROR(IFERROR(VLOOKUP(D42,Surcharge!A:B,2,FALSE)*F42, VLOOKUP(D42 & \"\",Surcharge!A:B,2,FALSE)*F42), \"\")","v":""}]
[null,null,null,null,null,{"$f":"SUM(#REF!)","v":{"$error":"#REF!"}}]
[]
[null,"Custom Solution--write in description, qty, price, and PN if applicable",null,null,null,{"$f":"SUM(F46)","v":0}]
[null,null,null,null,"Insert Prices Here",{"$f":"SUM(F47:F50)","v":0}]
[null,null,null,"Custom",null,{"$f":"IF(E47 <> \"\", 1, 0)","v":0},{"$f":"F47*E47","v":0}]
[null,null,null,"Custom",null,{"$f":"IF(E48 <> \"\", 1, 0)","v":0},{"$f":"F48*E48","v":0}]
[null,null,null,"Custom",null,{"$f":"IF(E49 <> \"\", 1, 0)","v":0},{"$f":"F49*E49","v":0}]
[null,null,null,"Custom",null,{"$f":"IF(E50 <> \"\", 1, 0)","v":0},{"$f":"F50*E50","v":0}]
[null,null,null,null,{"$f":"ROUND(SUM(G26:G50), 0)","v":0},{"$f":"SUM(E52)","v":0}]
[null,null,null,"Machine Subtotal ",{"$f":"ROUND(SUM(G26:G50), 0)","v":0},{"$f":"F51","v":0}]
[null,"Discounts",null,null,null,{"$f":"SUM(F54)","v":0}]
[null,null,null,null,null,{"$f":"SUM(F55:F58)","v":0}]
[null,null,null,"Discount %",null,{"$f":"IF(E55 <> \"\", 1, 0)","v":0},{"$f":"IF(F55*(E55*0.01)*E51 < 0, F55*(E55*0.01)*E51, -(F55*(E55*0.01)*E51))","v":0}]
[null,null,null,"Discount $",null,{"$f":"IF(E56 <> \"\", 1, 0)","v":0},{"$f":"IF(F56*E56 < 0, F56*E56, -(F56*E56))","v":0}]
[null,null,null,"Discount $",null,{"$f":"IF(E57 <> \"\", 1, 0)","v":0},{"$f":"IF(F57*E57 < 0, F57*E57, -(F57*E57))","v":0}]
[null,null,null,"Discount $",null,{"$f":"IF(E58 <> \"\", 1, 0)","v":0},{"$f":"IF(F58*E58 < 0, F58*E58, -(F58*E58))","v":0}]
[null,null,null,"Discount Total ",{"$f":"SUM(G55:G58)","v":0},{"$f":"SUM(E59)","v":0}]
[null,null,null,null,null,{"$f":"#REF!","v":{"$error":"#REF!"}}]
[null,null,"Prepaid and Add","Freight",null,{"$f":"IF(E61 <> \"\", 1, 0)","v":0},{"$f":"F61*E61","v":0}]
[null,null,"Subject to all applicable taxes","Tax",null,{"$f":"IF(E62 <> \"\", 1, 0)","v":0},{"$f":"F62*E62","v":0}]
[null,null,null,null,null,{"$f":"SUM(F64)","v":0}]
[null,null,null,"MACHINE TOTAL*",null,{"$f":"SUM(G64)","v":0},{"$f":"SUM(G26:G62)","v":0},null,null,null,null,null,null,"This goes to \"My Documents\""]
[null,"Financing",null,null,null,null,{"$f":"G64","v":0}]
[]
[null,null,"Is customer interested in financing?","No"]
[]
[null,null,"If not, why?"]
[]
[]
[null,null,"First Western Equipment Finance - Leasing Calculation Option:","Option 1",null,"Option 2",null,null,null,{"$f":"Financing!A38","v":"Rates 2025 - Rev. 5/6/2025"}]
[null,null,null,"Monthly Payment","Cost Per Day","Monthly Payment","Cost Per Day",null,null,{"$f":"Financing!A39","v":"“Blank Payment Amounts Indicate The Financing Option Or Purchase Options Selected Are Not "}]
[null,null,"Purchase Option:","FWEF:  $1 Buyout Lease",null,"FWEF: Municipal Lease",null,null,null,{"$f":"Financing!A40","v":"Applicable Or The Machine Total Is Below The Minimum Amount For The Selected Vendor”"}]
[null,null,"24 Months",0,0,0,0,null,null,{"$f":"Financing!A41","v":"\"Quoted monthly payments are estimates only and are based on a certain level of credit rating."}]
[null,null,"30 Months",0,0,0,0,null,null,{"$f":"Financing!A42","v":"Actual monthly payments may be higher depending on your credit rating.\""}]
[null,null,"36 Months",0,0,0,0,null,null,{"$f":"Financing!A43","v":"“Financing rates do not include Pre-Paid Service”"}]
[null,null,"48 Months",0,0,0,0]
[]
[null,null,null,"Benefits of Equipment Financing:"]
[null,null,null,"• Spreads out investment over time.",null,"• Keep current with latest technology."]
[null,null,null,"• Preserve capital.",null,"• Service and parts bundling available."]
[null,null,null,"• Low monthly payment.",null,"• Pay for labor savings as you go."]
[]
[]
[null,null,"Bundled Offerings","Flexclean – Fair Market Value",null,"Flexclean - $1 Buyout"]
[null,null,"FlexClean: ","36 Month Term",null,"36 Month Term",null,null,"No","AB Brushes"]
[null,null,"Hours included per Month:","Gold","Silver","Gold","Silver","Check"]
[null,null,"< 30/mo. (Avg. 1hr./day)",null,null,null,null,null,{"$f":"FlexCleanCalc!$A21","v":"“FlexClean monthly rates include payment for both machine and service.”"}]
[null,null,"< 60/mo. (Avg. 2hrs./day)"]
[null,null,"< 90/mo. (Avg. 3hrs./day)"]
[null,null,"*This value assumes one service contract regardless of the number of UNITS included in the quote"]
[]
[]
[null,null,"Bundled Offerings","Flexclean – Fair Market Value",null,"Flexclean - $1 Buyout"]
[null,null,"FlexClean 2: ","48 Month Term",null,"48 Month Term"]
[null,null,"Hours included per Month:","Gold","Silver","Gold","Silver"]
[null,null,"< 30/mo. (Avg. 1hr./day)"]
[null,null,"< 60/mo. (Avg. 2hrs./day)"]
[null,null,"< 90/mo. (Avg. 3hrs./day)"]
[null,null,"*This value assumes one service contract regardless of the number of UNITS included in the quote"]
[]
[null,null,"Bundled Offerings","Flexclean – Fair Market Value",null,"Flexclean - $1 Buyout"]
[null,null,"FlexClean 3: ","60 Month Term",null,"60 Month Term"]
[null,null,"Hours included per Month:","Gold","Silver","Gold","Silver"]
[null,null,"< 30/mo. (Avg. 1hr./day)"]
[null,null,"< 60/mo. (Avg. 2hrs./day)"]
[null,null,"< 90/mo. (Avg. 3hrs./day)"]
[null,null,"*This value assumes one service contract regardless of the number of UNITS included in the quote"]
[]
[null,"  TennantTrue"]
[]
[null,null,"Is customer interested in service program?","Yes","*State/County selection required for TennantTrue service options"]
[]
[null,null,"If not, why?"]
[]
[null,null,"Term:",36,null,"AB Brushes","No"]
[null,null,"Monthly machine usage (hrs):","< 30/mo. (Avg. 1hr./day)"]
[]
[null,null,"TennantTrue: ","Gold Contract",null,"Silver Contract"]
[null,null,"Per Visit"]
[null,null,"Monthly"]
[null,null,"Annually"]
[null,null,"Pre-Pay Full Term"]
[null,null,"Hourly Labor Rate"]
[null,null,"Site Visit"]
[]
[null,null,"* Verify customer current pricing prior to quote. "]
[null,null,"**All rates and fees above reflect service for one (1) unit with the exception of Block of Time service."]
[null,null,"*Block of Time is available in 1 Year Term only and is priced as such no matter the term selection on this template."]
[]
[]
[null,"Servicing"]
[]
[null,null,"Is customer interested in a service plan?","No"]
[]
[null,null,"If not, why?"]
[]
[]
[null,"Quote Special Instructions:"]
[]
[]
[null,null,{"$f":"Start_Here!E36","v":"Terms and Conditions"}]
[null,null,{"$f":"Start_Here!E37","v":"Ask your local sales rep for estimated lead times. Verify when placing order"}]
[null,null,{"$f":"Start_Here!E38","v":"All orders subject to acceptance by Tennant Sales and Service Company, Minneapolis, Minnesota"}]
[null,null,{"$f":"Start_Here!E39","v":"Prices subject to change without notice."}]
[null,null,{"$f":"Start_Here!E40","v":"Terms:  Net 30 days.  Subject to any applicable taxes."}]
[null,null,{"$f":"Start_Here!E41","v":"Freight: Machines and accessory orders delivered FOB shipping point Frt PPD & Add"}]
[null,null,{"$f":"Start_Here!E42","v":"Parts, supplies, detergents and floor treating material orders delivered FOB "}]
[null,null,{"$f":"Start_Here!E43","v":"shipping point Frt PPD"}]
[null,null,{"$f":"Start_Here!E44","v":"All orders are subject to Tennant’s General Terms and Conditions available at http://www.tennantco.com/terms."}]
[null,null,{"$f":"Start_Here!E45","v":"Printed General Terms and Conditions are also available upon request."}]
[null,null,{"$f":"Start_Here!E46","v":0}]
[]
[null,null,null,null,"Quote Date :",null,{"$f":"Letter!$A$25","v":"2020-09-17"}]
["Order Placement Information:  To place your order, fill in PO# and customer signatures,"]
["call or fax to the numbers listed below. Customer Purchase Order is required."]
["If information is missing, orders will be entered and held until all information is received."]
[null,null,"Customer Number",null,"Cust Grp 3"]
[null,null,{"$f":"Start_Here!$C$25","v":0},null,{"$f":"Start_Here!$C$29","v":0}]
[null,null,{"$f":"Start_Here!$B$18","v":"Who Owns the Machine? (Sold-To Info) (Please Verify)"}]
["Company",null,{"$f":"Start_Here!$C$19","v":"Company Name"}]
["Address",null,{"$f":"Start_Here!$C$20","v":"Address"}]
[null,null,{"$f":"Start_Here!$C$21","v":"City, State Zip"}]
["Name",null,{"$f":"Start_Here!$C$22","v":"Contact Name"}]
["Phone",null,{"$f":"Start_Here!$C$23","v":"Contact Phone"}]
[null,null,{"$f":"Start_Here!$B$11","v":"Where is the Machine Being Shipped? (Ship-To Info) (Please Verify)"}]
["Company",null,{"$f":"Start_Here!$C$12","v":"Company Name"}]
["Address",null,{"$f":"Start_Here!$C$13","v":"Address"}]
[null,null,{"$f":"Start_Here!$C$14","v":"City, State Zip"}]
["Name",null,{"$f":"Start_Here!$C$15","v":"Contact Name"}]
["Phone",null,{"$f":"Start_Here!$C$16","v":"Contact Phone"}]
[null,null,{"$f":"Start_Here!$B$31","v":"Shipping / Carrier Instructions:"},null,"Order Special Instructions:"]
[null,null,{"$f":"Start_Here!$C$32","v":0}]
[]
[null,null,"Customer Purchase Order No."]
[null,null,"(please attach copy)"]
[]
[]
[null,null,"Tax Exempt",null,"Yes"]
[null,null,null,null,"No"]
[null,null,"If Yes, attach a copy of your exemption certificate."]
[]
[null,null,"Requested Delivery Date"]
[null,null,{"$f":"Start_Here!$C$28","v":0}]
[]
[null,null,{"$f":"Start_Here!$C$26","v":0},null,{"$f":"Start_Here!$C$27","v":0}]
[null,0,"Authorized Buyer (please print)",null,"Phone Number"]
[]
[]
[null,0,"Authorized Buyer Signature"]
[]
[null,null,{"$f":"Start_Here!$C$41","v":"Rep Name"}]
[null,null,"Tennant Representative"]
[]
["Specialized Maintenance Equipment"]
[{"$f":"Start_Here!$C$48","v":"TENNANT · 10400 Clean Street · Eden Prairie, MN 55344 ·"}]
[{"$f":"Start_Here!$C$49","v":" PHONE:800-553-8033 · FAX:763-513-2116"}]

{"sheet":"T260","index":14,"n_rows":187,"n_cols":14,"rows_kept":187,"cut":false,"hidden":false,"merged":[[175,4,175,5],[151,2,151,5],[152,2,152,5],[153,2,153,5],[154,2,154,5],[156,2,156,5],[157,2,157,5],[158,2,158,5],[159,2,159,5],[160,2,160,5],[162,4,162,7],[166,2,166,5],[150,2,150,5],[111,3,111,4],[111,5,111,6],[112,3,112,4],[112,5,112,6],[113,3,113,4],[113,5,113,6],[114,3,114,4],[114,5,114,6],[125,3,126,6],[129,1,129,6],[148,4,148,7],[108,3,108,4],[108,5,108,6],[109,3,109,4],[109,5,109,6],[110,3,110,4],[110,5,110,6],[106,3,106,4],[83,3,83,4],[83,5,83,6],[84,3,84,4],[84,5,84,6],[91,3,91,4],[91,5,91,6],[92,3,92,4],[92,5,92,6],[101,4,101,8],[103,3,103,6],[105,3,105,4],[62,3,62,4],[62,5,62,6],[74,3,74,4],[74,5,74,6],[75,3,75,4],[75,5,75,6],[60,3,60,4],[60,5,60,6],[0,2,0,3],[1,2,1,3],[2,2,2,3],[3,2,3,3],[57,3,57,6]]}
["T260",null,{"$f":"Start_Here!$C19","v":"Company Name"}]
[{"$f":"SUM(G53)","v":0},null,{"$f":"Start_Here!$C20","v":"Address"}]
[null,null,{"$f":"Start_Here!$C21","v":"City, State Zip"}]
[null,null,{"$f":"Start_Here!$C22","v":"Contact Name"}]
[null,null,{"$f":"Start_Here!$C$41","v":"Rep Name"}]
[null,null,{"$f":"Start_Here!$C$37","v":"Tennant Sales and Service Company"}]
[null,null,{"$f":"Start_Here!$C$38","v":"10400 Clean Street"}]
[null,null,{"$f":"Start_Here!$C$39","v":"Eden Prairie, MN 55344"}]
[null,null,{"$f":"Start_Here!$C$43","v":"800-553-8033"},null,"Quote Date :",null,{"$f":"Letter!$A$25","v":"2020-09-17"}]
[]
[null,null,{"$f":"Help!C2","v":"US Date Rev - 5/6/2025"}]
[]
[null,null,"TENNANT COMPANY WARRANTY"]
[null,null,"1 YEAR BATTERY CHARGER "]
[null,null,"1 YEAR BATTERY PRO-RATED"]
[null,null,"10 YEARS ON DURAMERTM ROTOMOLD TANKS ALL MACHINES"]
[null,null,"3 YEARS or 1000 HRS PARTS"]
[null,null,"1 YEAR - LABOR, 3 MONTHS TRAVEL"]
[null,null,null,null,"                Quote Request Information"]
[null,null,null,null,null,null,"Fax (quote only)"]
[null,null,null,null,null,null,"Mail (quote,lit, specs)"]
[null,null,null,null,null,null,"Fax + Mail"]
[]
[null,null,null,null,"                Primary Use"]
[null,null,null,null,null,null,"Inside"]
[null,null,null,null,null,null,"Outside"]
[null,null,"Description","Reference # ","US Price","Qty.","Extended Price"]
[]
[null,null,"T260 Walk Behind Scrubber - Pad Assist - 135AH Sealed Gel Batteries","TN8001004",5405,null,{"$f":"F29*E29","v":0}]
[null,null,"20in (50cm) single disk cleaning path, Linatex squeegee blades. Includes off-board charger, 2-12V sealed gel batteries, nylon brush, pad driver, and 1 red pad.",null,null,{"$f":"SUM(F29)","v":0}]
[]
[null,null,"Shipped on skid.",null,null,{"$f":"SUM(F29)","v":0}]
[null,null,"T260 - Pad Assist - Shipping Weight and Dimensions","Skid w/Carton",null,{"$f":"SUM(F30)","v":0}]
[null,null,"Weight (w/ batteries)","364 lb ",null,0]
[null,null,"Length","54.3 in / 138 cm",null,0]
[null,null,"Width","24 in / 61cm",null,0]
[null,null,"Height","47.24 in / 120 cm",null,0]
[null,null,null,null,null,{"$f":"SUM(#REF!)","v":{"$error":"#REF!"}}]
[null,null,null,null,{"$f":"ROUND(SUM(G28:G38), 0)","v":0},{"$f":"SUM(E40)","v":0}]
[null,null,null,"Machine Subtotal ",{"$f":"ROUND(SUM(G28:G38), 0)","v":0},{"$f":"F39","v":0}]
[null,"Discounts",null,null,null,{"$f":"SUM(F42)","v":0}]
[null,null,null,null,null,{"$f":"SUM(F43:F46)","v":0}]
[null,null,null,"Discount %",null,{"$f":"IF(E43 <> \"\", 1, 0)","v":0},{"$f":"IF(F43*(E43*0.01)*E39 < 0, F43*(E43*0.01)*E39, -(F43*(E43*0.01)*E39))","v":0}]
[null,null,null,"Discount $",null,{"$f":"IF(E44 <> \"\", 1, 0)","v":0},{"$f":"IF(F44*E44 < 0, F44*E44, -(F44*E44))","v":0}]
[null,null,null,"Discount $",null,{"$f":"IF(E45 <> \"\", 1, 0)","v":0},{"$f":"IF(F45*E45 < 0, F45*E45, -(F45*E45))","v":0}]
[null,null,null,"Discount $",null,{"$f":"IF(E46 <> \"\", 1, 0)","v":0},{"$f":"IF(F46*E46 < 0, F46*E46, -(F46*E46))","v":0}]
[null,null,null,"Discount Total ",{"$f":"SUM(G43:G46)","v":0},{"$f":"SUM(E47)","v":0}]
[null,null,null,null,null,{"$f":"#REF!","v":{"$error":"#REF!"}}]
[null,null,null,null,null,{"$f":"F48","v":{"$error":"#REF!"}}]
[null,null,"Prepaid and Add","Freight",null,{"$f":"IF(E50 <> \"\", 1, 0)","v":0},{"$f":"F50*E50","v":0}]
[null,null,"Subject to all applicable taxes","Tax",null,{"$f":"IF(E51 <> \"\", 1, 0)","v":0},{"$f":"F51*E51","v":0}]
[null,null,null,null,null,{"$f":"SUM(F53)","v":0}]
[null,null,null,"MACHINE TOTAL*",null,{"$f":"SUM(G53)","v":0},{"$f":"SUM(G28:G51)","v":0},null,null,null,null,null,null,"This goes to \"My Documents\""]
[null,"Financing",null,null,null,null,{"$f":"G53","v":0}]
[]
[null,null,"Is customer interested in financing?","No"]
[]
[null,null,"If not, why?"]
[]
[]
[null,null,"First Western Equipment Finance - Leasing Calculation Option:","Option 1",null,"Option 2",null,null,null,{"$f":"Financing!A38","v":"Rates 2025 - Rev. 5/6/2025"}]
[null,null,null,"Monthly Payment","Cost Per Day","Monthly Payment","Cost Per Day",null,null,{"$f":"Financing!A39","v":"“Blank Payment Amounts Indicate The Financing Option Or Purchase Options Selected Are Not "}]
[null,null,"Purchase Option:","FWEF:  $1 Buyout Lease",null,"FWEF: Municipal Lease",null,null,null,{"$f":"Financing!A40","v":"Applicable Or The Machine Total Is Below The Minimum Amount For The Selected Vendor”"}]
[null,null,"24 Months",0,0,0,0,null,null,{"$f":"Financing!A41","v":"\"Quoted monthly payments are estimates only and are based on a certain level of credit rating."}]
[null,null,"30 Months",0,0,0,0,null,null,{"$f":"Financing!A42","v":"Actual monthly payments may be higher depending on your credit rating.\""}]
[null,null,"36 Months",0,0,0,0,null,null,{"$f":"Financing!A43","v":"“Financing rates do not include Pre-Paid Service”"}]
[null,null,"48 Months",0,0,0,0,null,{"$f":"Financing!A44","v":0}]
[]
[null,null,null,"Benefits of Equipment Financing:"]
[null,null,null,"• Spreads out investment over time.",null,"• Keep current with latest technology."]
[null,null,null,"• Preserve capital.",null,"• Service and parts bundling available."]
[null,null,null,"• Low monthly payment.",null,"• Pay for labor savings as you go."]
[]
[]
[null,null,"Bundled Offerings","Flexclean – Fair Market Value",null,"Flexclean - $1 Buyout"]
[null,null,"FlexClean: ","36 Month Term",null,"36 Month Term",null,null,"No","AB Brushes"]
[null,null,"Hours included per Month:","Gold","Silver","Gold","Silver","Check"]
[null,null,"< 30/mo. (Avg. 1hr./day)",null,null,null,null,null,{"$f":"FlexCleanCalc!$A21","v":"“FlexClean monthly rates include payment for both machine and service.”"}]
[null,null,"< 60/mo. (Avg. 2hrs./day)"]
[null,null,"< 90/mo. (Avg. 3hrs./day)"]
[null,null,"*This value assumes one service contract regardless of the number of UNITS included in the quote"]
[]
[]
[null,null,"Bundled Offerings","Flexclean – Fair Market Value",null,"Flexclean - $1 Buyout"]
[null,null,"FlexClean 2: ","48 Month Term",null,"48 Month Term"]
[null,null,"Hours included per Month:","Gold","Silver","Gold","Silver"]
[null,null,"< 30/mo. (Avg. 1hr./day)"]
[null,null,"< 60/mo. (Avg. 2hrs./day)"]
[null,null,"< 90/mo. (Avg. 3hrs./day)"]
[null,null,"*This value assumes one service contract regardless of the number of UNITS included in the quote"]
[]
[null,null,"Bundled Offerings","Flexclean – Fair Market Value",null,"Flexclean - $1 Buyout"]
[null,null,"FlexClean 3: ","60 Month Term",null,"60 Month Term"]
[null,null,"Hours included per Month:","Gold","Silver","Gold","Silver"]
[null,null,"< 30/mo. (Avg. 1hr./day)"]
[null,null,"< 60/mo. (Avg. 2hrs./day)"]
[null,null,"< 90/mo. (Avg. 3hrs./day)"]
[null,null,"*This value assumes one service contract regardless of the number of UNITS included in the quote"]
[]
[null,"  TennantTrue"]
[]
[null,null,"Is customer interested in service program?","Yes","*State/County selection required for TennantTrue service options"]
[]
[null,null,"If not, why?"]
[]
[null,null,"Term:",36,null,"AB Brushes","No"]
[null,null,"Monthly machine usage (hrs):","< 30/mo. (Avg. 1hr./day)"]
[]
[null,null,"TennantTrue: ","Gold Contract",null,"Silver Contract"]
[null,null,"Per Visit",null,null,425]
[null,null,"Monthly",null,null,69]
[null,null,"Annually",null,null,816]
[null,null,"Pre-Pay Full Term",null,null,2397]
[null,null,"Hourly Labor Rate"]
[null,null,"Site Visit"]
[]
[null,null,"* Verify customer current pricing prior to quote. "]
[null,null,"**All rates and fees above reflect service for one (1) unit with the exception of Block of Time service."]
[null,null,"*Block of Time is available in 1 Year Term only and is priced as such no matter the term selection on this template."]
[]
[]
[null,"Servicing"]
[]
[null,null,"Is customer interested in a service plan?","No"]
[]
[null,null,"If not, why?"]
[]
[]
[null,"Quote Special Instructions:"]
[]
[]
[null,null,{"$f":"Start_Here!E36","v":"Terms and Conditions"}]
[null,null,{"$f":"Start_Here!E37","v":"Ask your local sales rep for estimated lead times. Verify when placing order"}]
[null,null,{"$f":"Start_Here!E38","v":"All orders subject to acceptance by Tennant Sales and Service Company, Minneapolis, Minnesota"}]
[null,null,{"$f":"Start_Here!E39","v":"Prices subject to change without notice."}]
[null,null,{"$f":"Start_Here!E40","v":"Terms:  Net 30 days.  Subject to any applicable taxes."}]
[null,null,{"$f":"Start_Here!E41","v":"Freight: Machines and accessory orders delivered FOB shipping point Frt PPD & Add"}]
[null,null,{"$f":"Start_Here!E42","v":"Parts, supplies, detergents and floor treating material orders delivered FOB "}]
[null,null,{"$f":"Start_Here!E43","v":"shipping point Frt PPD"}]
[null,null,{"$f":"Start_Here!E44","v":"All orders are subject to Tennant’s General Terms and Conditions available at http://www.tennantco.com/terms."}]
[null,null,{"$f":"Start_Here!E45","v":"Printed General Terms and Conditions are also available upon request."}]
[null,null,{"$f":"Start_Here!E46","v":0}]
[]
[null,null,null,null,"Quote Date :",null,{"$f":"Letter!$A$25","v":"2020-09-17"}]
["Order Placement Information:  To place your order, fill in PO# and customer signatures,"]
["call or fax to the numbers listed below. Customer Purchase Order is required."]
["If information is missing, orders will be entered and held until all information is received."]
[null,null,"Customer Number",null,"Cust Grp 3"]
[null,null,{"$f":"Start_Here!$C$25","v":0},null,{"$f":"Start_Here!$C$29","v":0}]
[null,null,{"$f":"Start_Here!$B$18","v":"Who Owns the Machine? (Sold-To Info) (Please Verify)"}]
["Company",null,{"$f":"Start_Here!$C$19","v":"Company Name"}]
["Address",null,{"$f":"Start_Here!$C$20","v":"Address"}]
[null,null,{"$f":"Start_Here!$C$21","v":"City, State Zip"}]
["Name",null,{"$f":"Start_Here!$C$22","v":"Contact Name"}]
["Phone",null,{"$f":"Start_Here!$C$23","v":"Contact Phone"}]
[null,null,{"$f":"Start_Here!$B$11","v":"Where is the Machine Being Shipped? (Ship-To Info) (Please Verify)"}]
["Company",null,{"$f":"Start_Here!$C$12","v":"Company Name"}]
["Address",null,{"$f":"Start_Here!$C$13","v":"Address"}]
[null,null,{"$f":"Start_Here!$C$14","v":"City, State Zip"}]
["Name",null,{"$f":"Start_Here!$C$15","v":"Contact Name"}]
["Phone",null,{"$f":"Start_Here!$C$16","v":"Contact Phone"}]
[null,null,{"$f":"Start_Here!$B$31","v":"Shipping / Carrier Instructions:"},null,"Order Special Instructions:"]
[null,null,{"$f":"Start_Here!$C$32","v":0}]
[]
[null,null,"Customer Purchase Order No."]
[null,null,"(please attach copy)"]
[]
[]
[null,null,"Tax Exempt",null,"Yes"]
[null,null,null,null,"No"]
[null,null,"If Yes, attach a copy of your exemption certificate."]
[]
[null,null,"Requested Delivery Date"]
[null,null,{"$f":"Start_Here!$C$28","v":0}]
[]
[null,null,{"$f":"Start_Here!$C$26","v":0},null,{"$f":"Start_Here!$C$27","v":0}]
[null,0,"Authorized Buyer (please print)",null,"Phone Number"]
[]
[]
[null,0,"Authorized Buyer Signature"]
[]
[null,null,{"$f":"Start_Here!$C$41","v":"Rep Name"}]
[null,null,"Tennant Representative"]
[]
["Specialized Maintenance Equipment"]
[{"$f":"Start_Here!$C$48","v":"TENNANT · 10400 Clean Street · Eden Prairie, MN 55344 ·"}]
[{"$f":"Start_Here!$C$49","v":" PHONE:800-553-8033 · FAX:763-513-2116"}]

{"sheet":"T391_T291","index":15,"n_rows":271,"n_cols":14,"rows_kept":271,"cut":false,"hidden":false,"merged":[[144,3,144,4],[144,5,144,6],[0,2,0,3],[1,2,1,3],[2,2,2,3],[3,2,3,3],[141,3,141,6],[146,3,146,4],[146,5,146,6],[158,3,158,4],[158,5,158,6],[159,3,159,4],[159,5,159,6],[190,3,190,4],[167,3,167,4],[167,5,167,6],[168,3,168,4],[168,5,168,6],[175,3,175,4],[175,5,175,6],[176,3,176,4],[176,5,176,6],[185,4,185,8],[187,3,187,6],[189,3,189,4],[192,3,192,4],[192,5,192,6],[193,3,193,4],[193,5,193,6],[194,3,194,4],[194,5,194,6],[234,2,234,5],[195,3,195,4],[195,5,195,6],[196,3,196,4],[196,5,196,6],[197,3,197,4],[197,5,197,6],[198,3,198,4],[198,5,198,6],[209,3,210,6],[213,1,213,6],[232,4,232,7],[259,4,259,5],[235,2,235,5],[236,2,236,5],[237,2,237,5],[238,2,238,5],[240,2,240,5],[241,2,241,5],[242,2,242,5],[243,2,243,5],[244,2,244,5],[246,4,246,7],[250,2,250,5]]}
["T391_T291",null,{"$f":"Start_Here!$C19","v":"Company Name"}]
[{"$f":"SUM(G137)","v":0},null,{"$f":"Start_Here!$C20","v":"Address"}]
[null,null,{"$f":"Start_Here!$C21","v":"City, State Zip"}]
[null,null,{"$f":"Start_Here!$C22","v":"Contact Name"}]
[null,null,{"$f":"Start_Here!$C$41","v":"Rep Name"}]
[null,null,{"$f":"Start_Here!$C$37","v":"Tennant Sales and Service Company"}]
[null,null,{"$f":"Start_Here!$C$38","v":"10400 Clean Street"}]
[null,null,{"$f":"Start_Here!$C$39","v":"Eden Prairie, MN 55344"}]
[null,null,{"$f":"Start_Here!$C$43","v":"800-553-8033"},null,"Quote Date :",null,{"$f":"Letter!$A$25","v":"2020-09-17"}]
[]
[null,null,{"$f":"Help!C2","v":"US Date Rev - 5/6/2025"}]
[]
[null,null,"TENNANT COMPANY WARRANTY"]
[null,null,"1 YEAR BATTERY CHARGER"]
[null,null,"1 YEAR BATTERY PRO-RATED "]
[null,null,"10 YEARS ON DURAMERTM ROTOMOLD TANKS ALL MACHINES"]
[null,null,"3 YEARS or 1500 HRS PARTS"]
[null,null,"2 YEARS - LABOR, 6 MONTHS TRAVEL"]
[null,null,null,null,"                Quote Request Information"]
[null,null,null,null,null,null,"Fax (quote only)"]
[null,null,null,null,null,null,"Mail (quote,lit, specs)"]
[null,null,null,null,null,null,"Fax + Mail"]
[]
[null,null,null,null,"                Primary Use"]
[null,null,null,null,null,null,"Inside"]
[null,null,null,null,null,null,"Outside"]
[null,null,"Description","Reference # ","US Price","Qty.","Extended Price"]
[null,null,null,null,null,{"$f":"SUM(F30:F60)","v":0}]
[]
[null,null,"T391 - Walk Behind Scrubber 130AH Wet Batteries",9022790,11516,null,{"$f":"F30*E30","v":0}]
[null,null,"28in (70cm) dual disk cleaning path, conventional, pad driver, red pads, Linatex squeegee blades. Includes onboard charger, 2-12V batteries",null,null,{"$f":"SUM(F30)","v":0}]
[]
[null,null,"T391 - Walk Behind Scrubber 140AH Sealed AGM Batteries",9022789,12669,null,{"$f":"F33*E33","v":0}]
[null,null,"28in (70cm) dual disk cleaning path, conventional, pad driver, red pads, Linatex squeegee blades. Includes onboard charger, 2-12V batteries",null,null,{"$f":"SUM(F33)","v":0}]
[]
[null,null,"T391 - Walk Behind Scrubber 90 AH Li-Ion  Battery",9300496,13262,null,{"$f":"F36*E36","v":0}]
[null,null,"28in (70cm) dual disk cleaning path, conventional, pad driver, red pads, Linatex squeegee blades. Includes onboard charger, 1-24V battery",null,null,{"$f":"SUM(F36)","v":0}]
[]
[null,null,"T391 - Walk Behind Scrubber 130AH Wet Batteries w/ EcH2O nanoclean",9022792,14556,null,{"$f":"F39*E39","v":0}]
[null,null,"28in (70cm) dual disk cleaning path, ecH2O nanoclean with severe environment, pad driver, red pads, Linatex squeegee blades. Includes onboard charger, 2-12V batteries",null,null,{"$f":"SUM(F39)","v":0}]
[]
[null,null,"T391 - Walk Behind Scrubber 140AH Sealed AGM Batteries w/ EcH2O nanoclean",9022791,15709,null,{"$f":"F42*E42","v":0}]
[null,null,"28in (70cm) dual disk cleaning path, ecH2O nanoclean with severe environment, pad driver, red pads, Linatex squeegee blades. Includes onboard charger, 2-12V batteries",null,null,{"$f":"SUM(F42)","v":0}]
[]
[null,null,"T391 - Walk Behind Scrubber 90AH Li-Ion Battery w/ EcH2O nanoclean",9300497,16103,null,{"$f":"F45*E45","v":0}]
[null,null,"28in (70cm) dual disk cleaning path, ecH2O nanoclean with severe environment, pad driver, red pads, Linatex squeegee blades. Includes onboard charger, 1-24V battery",null,null,{"$f":"SUM(F45)","v":0}]
[]
[null,null,"T391 - Walk Behind Scrubber 130AH Wet Batteries",9022794,12404,null,{"$f":"F48*E48","v":0}]
[null,null,"32in (80cm) dual disk cleaning path, conventional, pad driver, red pads, Linatex squeegee blades. Includes onboard charger, 2-12V batteries",null,null,{"$f":"SUM(F48)","v":0}]
[]
[null,null,"T391 - Walk Behind Scrubber 140AH Sealed AGM Batteries",9022793,13557,null,{"$f":"F51*E51","v":0}]
[null,null,"32in (80cm) dual disk cleaning path, conventional, pad driver, red pads, Linatex squeegee blades. Includes onboard charger, 2-12V batteries",null,null,{"$f":"SUM(F51)","v":0}]
[]
[null,null,"T391 - Walk Behind Scrubber 90AH Li-Ion Battery",9300498,14092,null,{"$f":"F54*E54","v":0}]
[null,null,"32in (80cm) dual disk cleaning path, conventional, pad driver, red pads, Linatex squeegee blades. Includes onboard charger, 1-24V battery",null,null,{"$f":"SUM(F54)","v":0}]
[]
[null,null,"T391 - Walk Behind Scrubber 130AH Wet Batteries w/ EcH2O nanoclean",9022796,15444,null,{"$f":"F57*E57","v":0}]
[null,null,"32in (80cm) dual disk cleaning path, ecH2O nanoclean with severe environment, pad driver, red pads, Linatex squeegee blades. Includes onboard charger, 2-12V batteries",null,null,{"$f":"SUM(F57)","v":0}]
[]
[null,null,"T391 - Walk Behind Scrubber 140AH Sealed AGM Batteries w/ EcH2O nanoclean",9022795,16597,null,{"$f":"F60*E60","v":0}]
[null,null,"32in (80cm) dual disk cleaning path, ecH2O nanoclean with severe environment, pad driver, red pads, Linatex squeegee blades. Includes onboard charger, 2-12V batteries",null,null,{"$f":"SUM(F60)","v":0}]
[]
[null,null,"T391 - Walk Behind Scrubber 90AH Battery w/ EcH2O nanoclean",9300499,16933,null,{"$f":"F63*E63","v":0}]
[null,null,"32in (80cm) dual disk cleaning path, ecH2O nanoclean with severe environment, pad driver, red pads, Linatex squeegee blades. Includes onboard charger, 1-24V battery",null,null,{"$f":"SUM(F63)","v":0}]
[]
[null,null,"T391 - Shipping Weight and Dimensions",null,null,{"$f":"SUM(F28)","v":0}]
[null,null,"Weight (w/ heaviest batteries)",null,null,{"$f":"SUM(F29)","v":0}]
[null,null,"Length","422.8 lbs",null,{"$f":"SUM(F30)","v":0}]
[null,null,"Width","52.55 in / 134 cm",null,{"$f":"SUM(F31)","v":0}]
[null,null,"Height","30.70 in / 78 cm",null,{"$f":"SUM(F32)","v":0}]
[]
[]
[]
[null,null,"T291 - Walk Behind Scrubber - Pad Assist - 130AH Wet Batteries",9300480,6733,null,{"$f":"F74*E74","v":0}]
[null,null,"20in (50cm) single disk cleaning path, conventional cleaning,  Linatex squeegee blades. Includes on-board charger, splash guard, 2-12V batteries, pad driver, and 1 red pad.",null,null,{"$f":"SUM(F74)","v":0}]
[]
[null,null,"T291 - Walk Behind Scrubber - Pad Assist - 140AH Sealed AGM Batteries",9300484,7886,null,{"$f":"F77*E77","v":0}]
[]
[null,null,"T291 - Walk Behind Scrubber - Pad Assist - 90AH Li-Ion Battery",9300488,8792,null,{"$f":"F79*E79","v":0}]
[]
[null,null,"T291 - Walk Behind Scrubber - Pad Assist - No Battery",9300492,6251,null,{"$f":"F81*E81","v":0}]
[]
[]
[null,null,"T291 - Walk Behind Scrubber - Self Propel - 130AH Wet Batteries",9300482,8124,null,{"$f":"F84*E84","v":0}]
[null,null,"20in (50cm) single disk cleaning path, conventional cleaning, self-propel, Linatex squeegee blades. Includes on-board charger, splash guard, 2-12V batteries, pad driver, and 1 red pad.",null,null,{"$f":"SUM(F84)","v":0}]
[]
[null,null,"T291 - Walk Behind Scrubber - Self Propel - 140AH Sealed AGM Batteries",9300486,9277,null,{"$f":"F87*E87","v":0}]
[]
[null,null,"T291 - Walk Behind Scrubber - Self Propel - 90AH Li-Ion Battery",9300490,10092,null,{"$f":"F89*E89","v":0}]
[]
[]
[null,null,"T291 - Walk Behind Scrubber - Self Propel - No Battery",9300494,7642,null,{"$f":"F92*E92","v":0}]
[]
[]
[null,null,"T291 - Walk Behind Scrubber - Pad Assist - ec-H20 NanoClean w/ severe environment - 130AH Wet Batteries",9300481,8954,null,{"$f":"F95*E95","v":0}]
[null,null,"20in (50cm) single disk cleaning path, ec-H20 NanoClean w/ severe environment, pad-assist, Linatex squeegee blades. Includes on-board charger, splash guard, 2-12V batteries, pad driver, and 1 red pad.",null,null,{"$f":"SUM(F95)","v":0}]
[]
[null,null,"T291 - Walk Behind Scrubber - Pad Assist - ec-H20 NanoClean w/ severe environment - 140AH AGM Batteries",9300485,10108,null,{"$f":"F98*E98","v":0}]
[]
[null,null,"T291 - Walk Behind Scrubber - Pad Assist - ec-H20 NanoClean w/ severe environment - 90AH Li-Ion Battery",9300489,10868,null,{"$f":"F100*E100","v":0}]
[]
[]
[null,null,"T291 - Walk Behind Scrubber - Pad Assist - ec-H20 NanoClean w/ severe environment - No Battery",9300493,8473,null,{"$f":"F103*E103","v":0}]
[]
[null,null,"T291 - Walk Behind Scrubber - Self Propel - ec-H20 NanoClean w/ severe environment - 130AH Wet Batteries",9300483,10345,null,{"$f":"F105*E105","v":0}]
[null,null,"20in (50cm) single disk cleaning path, ec-H20 NanoClean w/ severe environment, self-propel, Linatex squeegee blades. Includes on-board charger, splash guard, 2-12V batteries, pad driver, and 1 red pad.",null,null,{"$f":"SUM(F105)","v":0}]
[]
[null,null,"T291 - Walk Behind Scrubber - Self Propel - ec-H20 NanoClean w/ severe environment - 140AH AGM Batteries",9300487,11499,null,{"$f":"F108*E108","v":0}]
[]
[null,null,"T291 - Walk Behind Scrubber - Self Propel - ec-H20 NanoClean w/ severe environment - 90AH Li-Ion Battery",9300491,12168,null,{"$f":"F110*E110","v":0}]
[null,null,null,null,null,{"$f":"SUM(F108)","v":0}]
[null,null,"T291 - Walk Behind Scrubber - Self Propel - ec-H20 NanoClean w/ severe environment - No Battery",9300495,9864,null,{"$f":"F112*E112","v":0}]
[]
[]
[null,null,"T291 - Shipping Weight and Dimensions",null,null,{"$f":"SUM(F74:F112)","v":0}]
[null,null,"Weight (w/ heaviest batteries)","390.22 lbs",null,{"$f":"SUM(F115)","v":0}]
[null,null,"Length","53.74 in / 137 cm",null,{"$f":"SUM(F116)","v":0}]
[null,null,"Width","27.36 in / 70 cm",null,0]
[null,null,"Height","45.11 in / 115 cm",null,0]
[]
[]
[null,null,null,null,null,{"$f":"SUM(#REF!)","v":{"$error":"#REF!"}}]
[null,null,null,null,{"$f":"ROUND(SUM(G29:G122), 0)","v":0},{"$f":"SUM(E124)","v":0}]
[null,null,null,"Machine Subtotal ",{"$f":"ROUND(SUM(G29:G122), 0)","v":0},{"$f":"F123","v":0}]
[null,"Discounts",null,null,null,{"$f":"SUM(F126)","v":0}]
[null,null,null,null,null,{"$f":"SUM(F127:F130)","v":0}]
[null,null,null,"Discount %",null,{"$f":"IF(E127 <> \"\", 1, 0)","v":0},{"$f":"IF(F127*(E127*0.01)*E123 < 0, F127*(E127*0.01)*E123, -(F127*(E127*0.01)*E123))","v":0}]
[null,null,null,"Discount $",null,{"$f":"IF(E128 <> \"\", 1, 0)","v":0},{"$f":"IF(F128*E128 < 0, F128*E128, -(F128*E128))","v":0}]
[null,null,null,"Discount $",null,{"$f":"IF(E129 <> \"\", 1, 0)","v":0},{"$f":"IF(F129*E129 < 0, F129*E129, -(F129*E129))","v":0}]
[null,null,null,"Discount $",null,{"$f":"IF(E130 <> \"\", 1, 0)","v":0},{"$f":"IF(F130*E130 < 0, F130*E130, -(F130*E130))","v":0}]
[null,null,null,"Discount Total ",{"$f":"SUM(G127:G130)","v":0},{"$f":"SUM(E131)","v":0}]
[null,null,null,null,null,{"$f":"#REF!","v":{"$error":"#REF!"}}]
[null,null,null,null,null,{"$f":"F132","v":{"$error":"#REF!"}}]
[null,null,"Prepaid and Add","Freight",null,{"$f":"IF(E134 <> \"\", 1, 0)","v":0},{"$f":"F134*E134","v":0}]
[null,null,"Subject to all applicable taxes","Tax",null,{"$f":"IF(E135 <> \"\", 1, 0)","v":0},{"$f":"F135*E135","v":0}]
[null,null,null,null,null,{"$f":"SUM(F137)","v":0}]
[null,null,null,"MACHINE TOTAL*",null,{"$f":"SUM(G137)","v":0},{"$f":"SUM(G29:G135)","v":0},null,null,null,null,null,null,"This goes to \"My Documents\""]
[null,"Financing",null,null,null,null,{"$f":"G137","v":0}]
[]
[null,null,"Is customer interested in financing?","No"]
[]
[null,null,"If not, why?"]
[]
[]
[null,null,"First Western Equipment Finance - Leasing Calculation Option:","Option 1",null,"Option 2",null,null,null,{"$f":"Financing!A38","v":"Rates 2025 - Rev. 5/6/2025"}]
[null,null,null,"Monthly Payment","Cost Per Day","Monthly Payment","Cost Per Day",null,null,{"$f":"Financing!A39","v":"“Blank Payment Amounts Indicate The Financing Option Or Purchase Options Selected Are Not "}]
[null,null,"Purchase Option:","FWEF:  $1 Buyout Lease",null,"FWEF: Municipal Lease",null,null,null,{"$f":"Financing!A40","v":"Applicable Or The Machine Total Is Below The Minimum Amount For The Selected Vendor”"}]
[null,null,"24 Months",0,0,0,0,null,null,{"$f":"Financing!A41","v":"\"Quoted monthly payments are estimates only and are based on a certain level of credit rating."}]
[null,null,"30 Months",0,0,0,0,null,null,{"$f":"Financing!A42","v":"Actual monthly payments may be higher depending on your credit rating.\""}]
[null,null,"36 Months",0,0,0,0,null,null,{"$f":"Financing!A43","v":"“Financing rates do not include Pre-Paid Service”"}]
[null,null,"48 Months",0,0,0,0,null,{"$f":"Financing!A44","v":0}]
[]
[null,null,null,"Benefits of Equipment Financing:"]
[null,null,null,"• Spreads out investment over time.",null,"• Keep current with latest technology."]
[null,null,null,"• Preserve capital.",null,"• Service and parts bundling available."]
[null,null,null,"• Low monthly payment.",null,"• Pay for labor savings as you go."]
[]
[]
[null,null,"Bundled Offerings","Flexclean – Fair Market Value",null,"Flexclean - $1 Buyout"]
[null,null,"FlexClean: ","36 Month Term",null,"36 Month Term",null,null,"No","AB Brushes"]
[null,null,"Hours included per Month:","Gold","Silver","Gold","Silver","Check"]
[null,null,"< 30/mo. (Avg. 1hr./day)",null,null,null,null,null,{"$f":"FlexCleanCalc!$A21","v":"“FlexClean monthly rates include payment for both machine and service.”"}]
[null,null,"< 60/mo. (Avg. 2hrs./day)"]
[null,null,"< 90/mo. (Avg. 3hrs./day)"]
[null,null,"*This value assumes one service contract regardless of the number of UNITS included in the quote"]
[]
[]
[null,null,"Bundled Offerings","Flexclean – Fair Market Value",null,"Flexclean - $1 Buyout"]
[null,null,"FlexClean 2: ","48 Month Term",null,"48 Month Term"]
[null,null,"Hours included per Month:","Gold","Silver","Gold","Silver"]
[null,null,"< 30/mo. (Avg. 1hr./day)"]
[null,null,"< 60/mo. (Avg. 2hrs./day)"]
[null,null,"< 90/mo. (Avg. 3hrs./day)"]
[null,null,"*This value assumes one service contract regardless of the number of UNITS included in the quote"]
[]
[null,null,"Bundled Offerings","Flexclean – Fair Market Value",null,"Flexclean - $1 Buyout"]
[null,null,"FlexClean 3: ","60 Month Term",null,"60 Month Term"]
[null,null,"Hours included per Month:","Gold","Silver","Gold","Silver"]
[null,null,"< 30/mo. (Avg. 1hr./day)"]
[null,null,"< 60/mo. (Avg. 2hrs./day)"]
[null,null,"< 90/mo. (Avg. 3hrs./day)"]
[null,null,"*This value assumes one service contract regardless of the number of UNITS included in the quote"]
[]
[null,"  TennantTrue"]
[]
[null,null,"Is customer interested in service program?","Yes","*State/County selection required for TennantTrue service options"]
[]
[null,null,"If not, why?"]
[]
[null,null,"Term:",36,null,"AB Brushes","No"]
[null,null,"Monthly machine usage (hrs):","< 30/mo. (Avg. 1hr./day)"]
[]
[null,null,"TennantTrue: ","Gold Contract",null,"Silver Contract"]
[null,null,"Per Visit",null,null,425]
[null,null,"Monthly",129,null,69]
[null,null,"Annually",null,null,816]
[null,null,"Pre-Pay Full Term",4444,null,2397]
[null,null,"Hourly Labor Rate"]
[null,null,"Site Visit"]
[]
[null,null,"* Verify customer current pricing prior to quote. "]
[null,null,"**All rates and fees above reflect service for one (1) unit with the exception of Block of Time service."]
[null,null,"*Block of Time is available in 1 Year Term only and is priced as such no matter the term selection on this template."]
[]
[]
[null,"Servicing"]
[]
[null,null,"Is customer interested in a service plan?","No"]
[]
[null,null,"If not, why?"]
[]
[]
[null,"Quote Special Instructions:"]
[]
[]
[null,null,{"$f":"Start_Here!E36","v":"Terms and Conditions"}]
[null,null,{"$f":"Start_Here!E37","v":"Ask your local sales rep for estimated lead times. Verify when placing order"}]
[null,null,{"$f":"Start_Here!E38","v":"All orders subject to acceptance by Tennant Sales and Service Company, Minneapolis, Minnesota"}]
[null,null,{"$f":"Start_Here!E39","v":"Prices subject to change without notice."}]
[null,null,{"$f":"Start_Here!E40","v":"Terms:  Net 30 days.  Subject to any applicable taxes."}]
[null,null,{"$f":"Start_Here!E41","v":"Freight: Machines and accessory orders delivered FOB shipping point Frt PPD & Add"}]
[null,null,{"$f":"Start_Here!E42","v":"Parts, supplies, detergents and floor treating material orders delivered FOB "}]
[null,null,{"$f":"Start_Here!E43","v":"shipping point Frt PPD"}]
[null,null,{"$f":"Start_Here!E44","v":"All orders are subject to Tennant’s General Terms and Conditions available at http://www.tennantco.com/terms."}]
[null,null,{"$f":"Start_Here!E45","v":"Printed General Terms and Conditions are also available upon request."}]
[null,null,{"$f":"Start_Here!E46","v":0}]
[]
[null,null,null,null,"Quote Date :",null,{"$f":"Letter!$A$25","v":"2020-09-17"}]
["Order Placement Information:  To place your order, fill in PO# and customer signatures,"]
["call or fax to the numbers listed below. Customer Purchase Order is required."]
["If information is missing, orders will be entered and held until all information is received."]
[null,null,"Customer Number",null,"Cust Grp 3"]
[null,null,{"$f":"Start_Here!$C$25","v":0},null,{"$f":"Start_Here!$C$29","v":0}]
[null,null,{"$f":"Start_Here!$B$18","v":"Who Owns the Machine? (Sold-To Info) (Please Verify)"}]
["Company",null,{"$f":"Start_Here!$C$19","v":"Company Name"}]
["Address",null,{"$f":"Start_Here!$C$20","v":"Address"}]
[null,null,{"$f":"Start_Here!$C$21","v":"City, State Zip"}]
["Name",null,{"$f":"Start_Here!$C$22","v":"Contact Name"}]
["Phone",null,{"$f":"Start_Here!$C$23","v":"Contact Phone"}]
[null,null,{"$f":"Start_Here!$B$11","v":"Where is the Machine Being Shipped? (Ship-To Info) (Please Verify)"}]
["Company",null,{"$f":"Start_Here!$C$12","v":"Company Name"}]
["Address",null,{"$f":"Start_Here!$C$13","v":"Address"}]
[null,null,{"$f":"Start_Here!$C$14","v":"City, State Zip"}]
["Name",null,{"$f":"Start_Here!$C$15","v":"Contact Name"}]
["Phone",null,{"$f":"Start_Here!$C$16","v":"Contact Phone"}]
[null,null,{"$f":"Start_Here!$B$31","v":"Shipping / Carrier Instructions:"},null,"Order Special Instructions:"]
[null,null,{"$f":"Start_Here!$C$32","v":0}]
[]
[null,null,"Customer Purchase Order No."]
[null,null,"(please attach copy)"]
[]
[]
[null,null,"Tax Exempt",null,"Yes"]
[null,null,null,null,"No"]
[null,null,"If Yes, attach a copy of your exemption certificate."]
[]
[null,null,"Requested Delivery Date"]
[null,null,{"$f":"Start_Here!$C$28","v":0}]
[]
[null,null,{"$f":"Start_Here!$C$26","v":0},null,{"$f":"Start_Here!$C$27","v":0}]
[null,0,"Authorized Buyer (please print)",null,"Phone Number"]
[]
[]
[null,0,"Authorized Buyer Signature"]
[]
[null,null,{"$f":"Start_Here!$C$41","v":"Rep Name"}]
[null,null,"Tennant Representative"]
[]
["Specialized Maintenance Equipment"]
[{"$f":"Start_Here!$C$48","v":"TENNANT · 10400 Clean Street · Eden Prairie, MN 55344 ·"}]
[{"$f":"Start_Here!$C$49","v":" PHONE:800-553-8033 · FAX:763-513-2116"}]

{"sheet":"T581_T390_T290","index":16,"n_rows":243,"n_cols":16,"rows_kept":243,"cut":false,"hidden":false,"merged":[[0,2,0,3],[1,2,1,3],[2,2,2,3],[3,2,3,3],[113,3,113,6],[116,3,116,4],[116,5,116,6],[118,3,118,4],[118,5,118,6],[130,3,130,4],[130,5,130,6],[131,3,131,4],[131,5,131,6],[139,3,139,4],[139,5,139,6],[140,3,140,4],[140,5,140,6],[147,3,147,4],[147,5,147,6],[148,3,148,4],[148,5,148,6],[157,4,157,8],[159,3,159,6],[161,3,161,4],[162,3,162,4],[164,3,164,4],[164,5,164,6],[165,3,165,4],[165,5,165,6],[166,3,166,4],[166,5,166,6],[167,3,167,4],[167,5,167,6],[208,2,208,5],[168,3,168,4],[168,5,168,6],[169,3,169,4],[169,5,169,6],[170,3,170,4],[170,5,170,6],[181,3,182,6],[185,1,185,6],[204,4,204,7],[206,2,206,5],[207,2,207,5],[216,2,216,5],[218,4,218,7],[222,2,222,5],[231,4,231,5],[209,2,209,5],[210,2,210,5],[212,2,212,5],[213,2,213,5],[214,2,214,5],[215,2,215,5]]}
["T581_T390_T290",null,{"$f":"Start_Here!$C19","v":"Company Name"}]
[{"$f":"SUM(G109)","v":0},null,{"$f":"Start_Here!$C20","v":"Address"}]
[null,null,{"$f":"Start_Here!$C21","v":"City, State Zip"}]
[null,null,{"$f":"Start_Here!$C22","v":"Contact Name"}]
[null,null,{"$f":"Start_Here!$C$41","v":"Rep Name"}]
[null,null,{"$f":"Start_Here!$C$37","v":"Tennant Sales and Service Company"}]
[null,null,{"$f":"Start_Here!$C$38","v":"10400 Clean Street"}]
[null,null,{"$f":"Start_Here!$C$39","v":"Eden Prairie, MN 55344"}]
[null,null,{"$f":"Start_Here!$C$43","v":"800-553-8033"},null,"Quote Date :",null,{"$f":"Letter!$A$25","v":"2020-09-17"}]
[]
[null,null,{"$f":"Help!C2","v":"US Date Rev - 5/6/2025"}]
[]
[null,null,"TENNANT COMPANY WARRANTY"]
[null,null,"3 YEARS OR 2000 HOURS - PARTS"]
[null,null,"2 YEARS - LABOR, 6 MONTHS TRAVEL"]
[null,null,"1 YEAR BATTERY CHARGER ",null,"                Quote Request Information"]
[null,null,"1 YEAR BATTERY PRO-RATED",null,null,null,"Fax (quote only)"]
[null,null,"10 YEARS ON DURAMERTM ROTOMOLD TANKS ALL MACHINES",null,null,null,"Mail (quote,lit, specs)"]
[null,null,null,null,null,null,"Fax + Mail"]
[]
[null,null,null,null,"                Primary Use"]
[null,null,null,null,null,null,"Inside"]
[null,null,null,null,null,null,"Outside"]
[null,null,"Description","Reference # ","US Price","Qty.","Extended Price"]
[]
[null,null,"T581 - Ride-On Micro-Scrubber - 150AH Wet Batteries",9022008,13363,null,{"$f":"F26*E26","v":0},null,null,null,null,null,null,null,null,{"$f":"VLOOKUP(D26,'MPF SAP Download PreConfigured'!C:E,3,FALSE)","v":12007}]
[null,null,"20in (50cm) single disk cleaning path, Linatex squeegee blades. Includes onboard charger, 2-12V batteries, pad driver, and 1 red pad.",null,null,{"$f":"SUM(F26)","v":0}]
[null,null,null,null,null,{"$f":"SUM(F29)","v":0}]
[null,null,"T581 - Ride-On Micro-Scrubber - 140AH Sealed AGM Batteries",9022009,14564,null,{"$f":"F29*E29","v":0},null,null,null,null,null,null,null,null,{"$f":"VLOOKUP(D29,'MPF SAP Download PreConfigured'!C:E,3,FALSE)","v":13087}]
[]
[null,null,"T581 -  Ride-On Micro-Scrubber - 90AH Li-Ion Battery",9300510,14988,null,{"$f":"F31*E31","v":0}]
[null,null,"20in (50cm) single disk cleaning path, Linatex squeegee blades. Includes onboard charger, 1-24V battery, pad driver, and 1 red pad.",null,null,{"$f":"SUM(F31)","v":0}]
[]
[null,null,"T581 -  Ride-On Micro-Scrubber - 180AH Li-Ion Batteries",9300511,17188,null,{"$f":"F34*E34","v":0}]
[null,null,"20in (50cm) single disk cleaning path, Linatex squeegee blades. Includes onboard charger, 2-24V batteries, pad driver, and 1 red pad.",null,null,{"$f":"SUM(F34)","v":0}]
[null,null,null,null,null,{"$f":"SUM(F37)","v":0}]
[null,null,"T581 - Ride-On Micro Scrubber  - NO Batteries",1255470,12066,null,{"$f":"F37*E37","v":0},null,null,null,null,null,null,null,null,{"$f":"VLOOKUP(D37,'MPF SAP Download PreConfigured'!C:E,3,FALSE)","v":11601}]
[null,null,null,null,null,{"$f":"SUM(F37)","v":0}]
[null,null,"Shipped on skid."]
[null,null,"T581 - Self-Propel - Shipping Weight and Dimensions","Skid w/Carton",null,{"$f":"SUM(F26:F37)","v":0}]
[null,null,"Weight (w/ heaviest batteries)","520 lb / 236 kg",null,{"$f":"SUM(F40)","v":0}]
[null,null,"Length","57 in / 145 cm",null,{"$f":"SUM(F41)","v":0}]
[null,null,"Width","32 in / 82cm",null,{"$f":"SUM(F42)","v":0}]
[null,null,"Height","45 in / 114.5 cm",null,{"$f":"SUM(F43)","v":0}]
[]
[]
[null,null,"T390 - Walk Behind Scrubber -Self-Propel - 150AH Wet Batteries",9022006,10806.6,null,{"$f":"F47*E47","v":0},null,null,null,null,null,null,null,null,{"$f":"VLOOKUP(D47,'MPF SAP Download PreConfigured'!C:E,3,FALSE)","v":10292}]
[null,null,"28in (70cm), dual disk cleaning path, Linatex squeegee blades. Includes onboard charger,  2-12V batteries, pad driver, and 1 red pad.",null,null,{"$f":"SUM(F47)","v":0}]
[null,null,null,null,null,{"$f":"SUM(F50)","v":0}]
[null,null,"T390 - Walk Behind Scrubber -Self-Propel - 140AH Sealed AGM Batteries",9022007,11938.5,null,{"$f":"F50*E50","v":0},null,null,null,null,null,null,null,null,{"$f":"VLOOKUP(D50,'MPF SAP Download PreConfigured'!C:E,3,FALSE)","v":11370}]
[null,null,null,null,null,{"$f":"SUM(F52)","v":0}]
[null,null,"T390 - Walk Behind Scrubber - Self-Propel - NO Batteries",1255469,10381.4,null,{"$f":"F52*E52","v":0},null,null,null,null,null,null,null,null,{"$f":"VLOOKUP(D52,'MPF SAP Download PreConfigured'!C:E,3,FALSE)","v":9887}]
[null,null,null,null,null,{"$f":"SUM(F50)","v":0}]
[null,null,"Shipped on skid."]
[null,null,"T390 - Self-Propel - Shipping Weight and Dimensions","Skid w/Carton",null,{"$f":"SUM(F47:F52)","v":0}]
[null,null,"Weight (w/ heaviest batteries)","438 lb / 199 kg",null,{"$f":"SUM(F55)","v":0}]
[null,null,"Length","50 in / 127 cm",null,{"$f":"SUM(F56)","v":0}]
[null,null,"Width","33 in / 84cm",null,{"$f":"SUM(F57)","v":0}]
[null,null,"Height","45 in / 114.5 cm",null,{"$f":"SUM(F58)","v":0}]
[]
[]
[null,null,"T290 - Walk Behind Scrubber - Pad Assist - 130AH Wet Batteries",9022000,6253,null,{"$f":"F62*E62","v":0},null,null,null,null,null,null,null,null,{"$f":"VLOOKUP(D62,'MPF SAP Download PreConfigured'!C:E,3,FALSE)","v":6070}]
[null,null,"20in (50cm) single disk cleaning path, Linatex squeegee blades. Includes on-board charger, 2-12V batteries, pad driver, and 1 red pad.",null,null,{"$f":"SUM(F62)","v":0}]
[null,null,null,null,null,{"$f":"SUM(F65)","v":0}]
[null,null,"T290 - Walk Behind Scrubber - Pad Assist - 150AH Wet Batteries",9022001,6385,null,{"$f":"F65*E65","v":0},null,null,null,null,null,null,null,null,{"$f":"VLOOKUP(D65,'MPF SAP Download PreConfigured'!C:E,3,FALSE)","v":6199}]
[null,null,null,null,null,{"$f":"SUM(F67)","v":0}]
[null,null,"T290 - Walk Behind Scrubber -Pad Assist - 140AH Sealed AGM Batteries",9022002,7497,null,{"$f":"F67*E67","v":0},null,null,null,null,null,null,null,null,{"$f":"VLOOKUP(D67,'MPF SAP Download PreConfigured'!C:E,3,FALSE)","v":7278}]
[null,null,null,null,null,{"$f":"SUM(F69)","v":0}]
[null,null,"T290 - Walk Behind Scrubber - Pad Assist - NO Batteries",1255467,5834,null,{"$f":"F69*E69","v":0},null,null,null,null,null,null,null,null,{"$f":"VLOOKUP(D69,'MPF SAP Download PreConfigured'!C:E,3,FALSE)","v":5664}]
[]
[null,null,null,null,null,{"$f":"SUM(F72)","v":0}]
[null,null,"T290 - Walk Behind Scrubber - Self-Propel - 130AH Wet Batteries",9022003,7655,null,{"$f":"F72*E72","v":0},null,null,null,null,null,null,null,null,{"$f":"VLOOKUP(D72,'MPF SAP Download PreConfigured'!C:E,3,FALSE)","v":7432}]
[null,null,"20in (50cm) single disk cleaning path, Linatex squeegee blades. Includes on-board charger, 2-12V batteries, pad driver, and 1 red pad.",null,null,{"$f":"SUM(F72)","v":0}]
[null,null,null,null,null,{"$f":"SUM(F75)","v":0}]
[null,null,"T290 - Walk Behind Scrubber - Self Propel - 150AH Wet Batteries",9022004,7788,null,{"$f":"F75*E75","v":0},null,null,null,null,null,null,null,null,{"$f":"VLOOKUP(D75,'MPF SAP Download PreConfigured'!C:E,3,FALSE)","v":7561}]
[null,null,null,null,null,{"$f":"SUM(F77)","v":0}]
[null,null,"T290 - Walk Behind Scrubber - Self Propel - 140AH Sealed AGM Batteries",9022005,8900,null,{"$f":"F77*E77","v":0},null,null,null,null,null,null,null,null,{"$f":"VLOOKUP(D77,'MPF SAP Download PreConfigured'!C:E,3,FALSE)","v":8640}]
[null,null,null,null,null,{"$f":"SUM(F79)","v":0}]
[null,null,"T290 - Walk Behind Scrubber - Self Propel - NO Batteries",1255468,7237,null,{"$f":"F79*E79","v":0},null,null,null,null,null,null,null,null,{"$f":"VLOOKUP(D79,'MPF SAP Download PreConfigured'!C:E,3,FALSE)","v":7026}]
[]
[null,null,"Shipped on skid.",null,null,{"$f":"SUM(F62:F69)","v":0},{"$f":"IFERROR(IFERROR(VLOOKUP(#REF!,Surcharge!A:B,2,FALSE)*E81, VLOOKUP(#REF! & \"\",Surcharge!A:B,2,FALSE)*E81), \"\")","v":""},null,null,null,null,{"$f":"SUM(E81)","v":0},"Surcharge Qty"]
[null,null,"T290 - Pad Assist - Shipping Weight and Dimensions","Skid w/Carton",null,{"$f":"SUM(F81)","v":0}]
[null,null,"Weight","390 lb / 177 kg",null,{"$f":"SUM(F82)","v":0}]
[null,null,"Length","50 in / 127 cm",null,{"$f":"SUM(F83)","v":0}]
[null,null,"Width","27 in / 69cm",null,{"$f":"SUM(F84)","v":0}]
[null,null,"Height","45 in / 114.5 cm",null,{"$f":"SUM(F85)","v":0}]
[]
[null,null,"T290 - Self-Propel - Shipping Weight and Dimensions",null,null,{"$f":"SUM(F72:F79)","v":0}]
[null,null,"Weight","401 lb / 182 kg",null,{"$f":"SUM(F88)","v":0}]
[null,null,"Length","50 in / 127 cm",null,{"$f":"SUM(F89)","v":0}]
[null,null,"Width","27 in / 69cm",null,{"$f":"SUM(F90)","v":0}]
[null,null,"Height","45 in / 114.5 cm",null,{"$f":"SUM(F91)","v":0}]
[]
[null,null,null,null,null,{"$f":"SUM(#REF!)","v":{"$error":"#REF!"}}]
[null,null,null,null,{"$f":"ROUND(SUM(G26:G94), 0)","v":0},{"$f":"SUM(E96)","v":0}]
[null,null,null,"Machine Subtotal ",{"$f":"ROUND(SUM(G26:G94), 0)","v":0},{"$f":"F95","v":0}]
[null,"Discounts",null,null,null,{"$f":"SUM(F98)","v":0}]
[null,null,null,null,null,{"$f":"SUM(F99:F102)","v":0}]
[null,null,null,"Discount %",null,{"$f":"IF(E99 <> \"\", 1, 0)","v":0},{"$f":"IF(F99*(E99*0.01)*E95 < 0, F99*(E99*0.01)*E95, -(F99*(E99*0.01)*E95))","v":0}]
[null,null,null,"Discount $",null,{"$f":"IF(E100 <> \"\", 1, 0)","v":0},{"$f":"IF(F100*E100 < 0, F100*E100, -(F100*E100))","v":0}]
[null,null,null,"Discount $",null,{"$f":"IF(E101 <> \"\", 1, 0)","v":0},{"$f":"IF(F101*E101 < 0, F101*E101, -(F101*E101))","v":0}]
[null,null,null,"Discount $",null,{"$f":"IF(E102 <> \"\", 1, 0)","v":0},{"$f":"IF(F102*E102 < 0, F102*E102, -(F102*E102))","v":0}]
[null,null,null,"Discount Total ",{"$f":"SUM(G99:G102)","v":0},{"$f":"SUM(E103)","v":0}]
[null,null,null,null,null,{"$f":"#REF!","v":{"$error":"#REF!"}}]
[null,null,null,null,null,{"$f":"F104","v":{"$error":"#REF!"}}]
[null,null,"Prepaid and Add","Freight",null,{"$f":"IF(E106 <> \"\", 1, 0)","v":0},{"$f":"F106*E106","v":0}]
[null,null,"Subject to all applicable taxes","Tax",null,{"$f":"IF(E107 <> \"\", 1, 0)","v":0},{"$f":"F107*E107","v":0}]
[null,null,null,null,null,{"$f":"SUM(F109)","v":0}]
[null,null,null,"MACHINE TOTAL*",null,{"$f":"SUM(G109)","v":0},{"$f":"SUM(G26:G107)","v":0},null,null,null,null,null,null,"This goes to \"My Documents\""]
[null,"Financing",null,null,null,null,{"$f":"G109","v":0}]
[]
[null,null,"Is customer interested in financing?","No"]
[]
[null,null,"If not, why?"]
[]
[]
[null,null,"First Western Equipment Finance - Leasing Calculation Option:","Option 1",null,"Option 2",null,null,null,{"$f":"Financing!A38","v":"Rates 2025 - Rev. 5/6/2025"}]
[null,null,null,"Monthly Payment","Cost Per Day","Monthly Payment","Cost Per Day",null,null,{"$f":"Financing!A39","v":"“Blank Payment Amounts Indicate The Financing Option Or Purchase Options Selected Are Not "}]
[null,null,"Purchase Option:","FWEF:  $1 Buyout Lease",null,"FWEF: Municipal Lease",null,null,null,{"$f":"Financing!A40","v":"Applicable Or The Machine Total Is Below The Minimum Amount For The Selected Vendor”"}]
[null,null,"24 Months",0,0,0,0,null,null,{"$f":"Financing!A41","v":"\"Quoted monthly payments are estimates only and are based on a certain level of credit rating."}]
[null,null,"30 Months",0,0,0,0,null,null,{"$f":"Financing!A42","v":"Actual monthly payments may be higher depending on your credit rating.\""}]
[null,null,"36 Months",0,0,0,0,null,null,{"$f":"Financing!A43","v":"“Financing rates do not include Pre-Paid Service”"}]
[null,null,"48 Months",0,0,0,0,null,{"$f":"Financing!A44","v":0}]
[]
[null,null,null,"Benefits of Equipment Financing:"]
[null,null,null,"• Spreads out investment over time.",null,"• Keep current with latest technology."]
[null,null,null,"• Preserve capital.",null,"• Service and parts bundling available."]
[null,null,null,"• Low monthly payment.",null,"• Pay for labor savings as you go."]
[]
[]
[null,null,"Bundled Offerings","Flexclean – Fair Market Value",null,"Flexclean - $1 Buyout"]
[null,null,"FlexClean: ","36 Month Term",null,"36 Month Term",null,null,"No","AB Brushes"]
[null,null,"Hours included per Month:","Gold","Silver","Gold","Silver","Check"]
[null,null,"< 30/mo. (Avg. 1hr./day)",null,null,null,null,null,{"$f":"FlexCleanCalc!$A21","v":"“FlexClean monthly rates include payment for both machine and service.”"}]
[null,null,"< 60/mo. (Avg. 2hrs./day)"]
[null,null,"< 90/mo. (Avg. 3hrs./day)"]
[null,null,"*This value assumes one service contract regardless of the number of UNITS included in the quote"]
[]
[]
[null,null,"Bundled Offerings","Flexclean – Fair Market Value",null,"Flexclean - $1 Buyout"]
[null,null,"FlexClean 2: ","48 Month Term",null,"48 Month Term"]
[null,null,"Hours included per Month:","Gold","Silver","Gold","Silver"]
[null,null,"< 30/mo. (Avg. 1hr./day)"]
[null,null,"< 60/mo. (Avg. 2hrs./day)"]
[null,null,"< 90/mo. (Avg. 3hrs./day)"]
[null,null,"*This value assumes one service contract regardless of the number of UNITS included in the quote"]
[]
[null,null,"Bundled Offerings","Flexclean – Fair Market Value",null,"Flexclean - $1 Buyout"]
[null,null,"FlexClean 3: ","60 Month Term",null,"60 Month Term"]
[null,null,"Hours included per Month:","Gold","Silver","Gold","Silver"]
[null,null,"< 30/mo. (Avg. 1hr./day)"]
[null,null,"< 60/mo. (Avg. 2hrs./day)"]
[null,null,"< 90/mo. (Avg. 3hrs./day)"]
[null,null,"*This value assumes one service contract regardless of the number of UNITS included in the quote"]
[]
[null,"  TennantTrue"]
[]
[null,null,"Is customer interested in service program?","Yes","*State/County selection required for TennantTrue service options"]
[]
[null,null,"If not, why?"]
[]
[null,null,"Term:",36,null,"AB Brushes","No"]
[null,null,"Monthly machine usage (hrs):","< 30/mo. (Avg. 1hr./day)"]
[]
[null,null,"TennantTrue: ","Gold Contract",null,"Silver Contract"]
[null,null,"Per Visit",null,null,425]
[null,null,"Monthly",129,null,69]
[null,null,"Annually",null,null,816]
[null,null,"Pre-Pay Full Term",4444,null,2397]
[null,null,"Hourly Labor Rate"]
[null,null,"Site Visit"]
[]
[null,null,"* Verify customer current pricing prior to quote. "]
[null,null,"**All rates and fees above reflect service for one (1) unit with the exception of Block of Time service."]
[null,null,"*Block of Time is available in 1 Year Term only and is priced as such no matter the term selection on this template."]
[]
[]
[null,"Servicing"]
[]
[null,null,"Is customer interested in a service plan?","No"]
[]
[null,null,"If not, why?"]
[]
[]
[null,"Quote Special Instructions:"]
[]
[]
[null,null,{"$f":"Start_Here!E36","v":"Terms and Conditions"}]
[null,null,{"$f":"Start_Here!E37","v":"Ask your local sales rep for estimated lead times. Verify when placing order"}]
[null,null,{"$f":"Start_Here!E38","v":"All orders subject to acceptance by Tennant Sales and Service Company, Minneapolis, Minnesota"}]
[null,null,{"$f":"Start_Here!E39","v":"Prices subject to change without notice."}]
[null,null,{"$f":"Start_Here!E40","v":"Terms:  Net 30 days.  Subject to any applicable taxes."}]
[null,null,{"$f":"Start_Here!E41","v":"Freight: Machines and accessory orders delivered FOB shipping point Frt PPD & Add"}]
[null,null,{"$f":"Start_Here!E42","v":"Parts, supplies, detergents and floor treating material orders delivered FOB "}]
[null,null,{"$f":"Start_Here!E43","v":"shipping point Frt PPD"}]
[null,null,{"$f":"Start_Here!E44","v":"All orders are subject to Tennant’s General Terms and Conditions available at http://www.tennantco.com/terms."}]
[null,null,{"$f":"Start_Here!E45","v":"Printed General Terms and Conditions are also available upon request."}]
[null,null,{"$f":"Start_Here!E46","v":0}]
[]
[null,null,null,null,"Quote Date :",null,{"$f":"Letter!$A$25","v":"2020-09-17"}]
["Order Placement Information:  To place your order, fill in PO# and customer signatures,"]
["call or fax to the numbers listed below. Customer Purchase Order is required."]
["If information is missing, orders will be entered and held until all information is received."]
[null,null,"Customer Number",null,"Cust Grp 3"]
[null,null,{"$f":"Start_Here!$C$25","v":0},null,{"$f":"Start_Here!$C$29","v":0}]
[null,null,{"$f":"Start_Here!$B$18","v":"Who Owns the Machine? (Sold-To Info) (Please Verify)"}]
["Company",null,{"$f":"Start_Here!$C$19","v":"Company Name"}]
["Address",null,{"$f":"Start_Here!$C$20","v":"Address"}]
[null,null,{"$f":"Start_Here!$C$21","v":"City, State Zip"}]
["Name",null,{"$f":"Start_Here!$C$22","v":"Contact Name"}]
["Phone",null,{"$f":"Start_Here!$C$23","v":"Contact Phone"}]
[null,null,{"$f":"Start_Here!$B$11","v":"Where is the Machine Being Shipped? (Ship-To Info) (Please Verify)"}]
["Company",null,{"$f":"Start_Here!$C$12","v":"Company Name"}]
["Address",null,{"$f":"Start_Here!$C$13","v":"Address"}]
[null,null,{"$f":"Start_Here!$C$14","v":"City, State Zip"}]
["Name",null,{"$f":"Start_Here!$C$15","v":"Contact Name"}]
["Phone",null,{"$f":"Start_Here!$C$16","v":"Contact Phone"}]
[null,null,{"$f":"Start_Here!$B$31","v":"Shipping / Carrier Instructions:"},null,"Order Special Instructions:"]
[null,null,{"$f":"Start_Here!$C$32","v":0}]
[]
[null,null,"Customer Purchase Order No."]
[null,null,"(please attach copy)"]
[]
[]
[null,null,"Tax Exempt",null,"Yes"]
[null,null,null,null,"No"]
[null,null,"If Yes, attach a copy of your exemption certificate."]
[]
[null,null,"Requested Delivery Date"]
[null,null,{"$f":"Start_Here!$C$28","v":0}]
[]
[null,null,{"$f":"Start_Here!$C$26","v":0},null,{"$f":"Start_Here!$C$27","v":0}]
[null,0,"Authorized Buyer (please print)",null,"Phone Number"]
[]
[]
[null,0,"Authorized Buyer Signature"]
[]
[null,null,{"$f":"Start_Here!$C$41","v":"Rep Name"}]
[null,null,"Tennant Representative"]
[]
["Specialized Maintenance Equipment"]
[{"$f":"Start_Here!$C$48","v":"TENNANT · 10400 Clean Street · Eden Prairie, MN 55344 ·"}]
[{"$f":"Start_Here!$C$49","v":" PHONE:800-553-8033 · FAX:763-513-2116"}]

{"sheet":"MPF SAP Download PreConfigured","index":17,"n_rows":430,"n_cols":5,"rows_kept":430,"cut":false,"hidden":true,"merged":[]}
["Master Price File (MPF) - PreConfigured Machines"]
[]
["Download Date:",null,"2022-11-01"]
["Price Adj Effective Date:",null,"2023-01-01"]
["Table name =",null,"MPF_Table_PreConfigured (Columns C, D & E)"]
[]
["Product Hierarchy","Description","Material","Material Description","2023 List"]
["300501","2180SR",9017914,"SCRUBBER [2180SR 50CM 140AH AGM NA/CCA]",10788]
["301003","CS5",1251580,"SCRUBBER [CS5 BATTERY  NAM]",3017]
["301004135","CS16","LPTB03328","SCRUBBER [CS16 BATTERY  NA]",4246]
["301006","iMOP Lite",9022310,"I-MOP LITE W/EXTRA BATTERY",5450]
["301006","iMOP Lite",1263271,"SCRUBBER, [I-MOP LITE W/BATT & CHRGR]",4500]
["302404","S8",9001401,"SWEEPER, 28INCH, 12VDC, GEL, TJ",5052]
["302508","S6",1251268,"SWEEPER [S6 NA EX W/ BATT, CORD]",3291]
["302509","Scout 6",1251270,"SWEEPER [SCOUT 6  W/ BATT, CORD]",3291]
["302509","Scout 6",1251271,"SWEEPER [SCOUT 6  W /IRIS]",3291]
["302510","S7",1251272,"SWEEPER [S7 NA W/ BATT, CORD]",6578]
["302511","Scout 7",1251274,"SWEEPER [SCOUT 7  W BATT, CORD]",6578]
["302601","SS10","9003573-G","SWEEPER, NA [S10]",15948]
["302601","SS10","MMS10E-007700","MODEL MS10 SWEEPER, ELECTRIC",10312]
["302601","SS10","MMS10E-008697","SWEEPER, NA, FI [S10]",10514]
["302601","SS10","MMS10E-008752","SWEEPER, NA, FI [S10]",10514]
["303050","6100","9006755-G","MODEL 6100 RIDER SWEEPER [FINAL ASSY]",17706]
["303050","6100","MV-6100-0005","MODEL 6100 RIDER SWEEPER",19224]
["303050","6100","MV-6100-0008","SWEEPER, 6100, 180AH, PW [ABM]",24725]
["304008","S16L - Low Dump","MS16L-1009","MODEL S16 SWEEPER-LOW DUMP",32751]
["304008","S16L - Low Dump","MS16L-1007","MODEL S16 SWEEPER-LOW DUMP",32751]
["304053","S20","MS20-1781","MODEL S20 SWEEPER",36101]
["304053","S20","MS20-6716","MODEL S20 SWEEPER",37962]
["304215","S30","MS30-1414","MODEL S30 RIDER SWEEPER",35465]
["304215","S30","MS30-1617","MODEL S30 RIDER SWEEPER",37268]
["304215","S30","MS30-3452","MODEL S30 RIDER SWEEPER",28852]
["304215","S30","MS30-5700","MODEL S30 RIDER SWEEPER",43958]
["304215","S30","MS30-1766","MODEL S30 RIDER SWEEPER",30897]
["306200","T1",9004195,"SCRUBBER, 38CM, 11L, 230VAC [T1]",4603]
["306200","T1",9008225,"SCRUBBER, 38CM, 11L, 120VAC [T1STLYSTMR]",4507]
["306200","T1",9004191,"SCRUBBER, 38CM, 11L, 120VAC [T1]",4760]
["306200","T1","9004191-H","SCRUBBER, 38CM, 11L, 120VAC [T1]",4760]
["306201","Speed Scrub 15\" (3gal, Cord Elec Cyli",9004200,"SCRUBBER, 38CM, 11L, 120VAC [SS-15]",4760]
["306201","Speed Scrub 15\" (3gal, Cord Elec Cyli","9004200-H","SCRUBBER, 38CM, 11L, 120VAC [SS-15\"]",4760]
["306202","T1B",9015201,"SCRUBBER, 38CM, 11L, 12VDC[T1B COST Li]",7896]
["306202","T1B",9008635,"SCRUBBER, 38CM, 11L, 12VDC [T1B NA, AGM]",6150]
["306202","T1B",9016537,"SCRUBBER, 38CM, 11L, 12VDC [T1B AGM IRIS",7269]
["306202","T1B",9016849,"SCRUBBER, 38CM, 11L, 12VDC [T1B AGMCASEY",6287]
["306202","T1B",9008638,"SCRUBBER, 38CM, 11L, 12VDC [T1B NA, Li]",7936]
["306202","T1B",9008636,"SCRUBBER, 38CM, 11L, 12VDC [T1B EX, AGM]",6150]
["306203","SPEEDSCRUB BATT 15\"",9008637,"SCRUBBER, 38CM, 11L, 12VDC [SS-15\", AGM]",6150]
["306203","SPEEDSCRUB BATT 15\"",9008640,"SCRUBBER, 2 GAL, Li BATT [NOB SS15]",7936]
["306300","T2",9008727,"SCRUBBER, 43CM, PUSH [T2, NA W/O CHRGR]",385]
["306300","T2","MV-T2-0008","SCRUBBER, 43CM, PUSH [T2, NA GEL W/BRSH]",7798]
["306300","T2","MV-T2-0001","SCRUBBER, 43CM, PUSH [T2, NA]",8300]
["306300","T2","MV-T2-0010","SCRUBBER, 430D, CNV, 105AH, OBC [US PW]",7991]
["306304","WB-20  20\" Autoscrub",9002791,"SCRUBBER, 20INCH, 24VDC[WB-20B CTX CMPT]",6939]
["306307","T300","MV-T300-0004","SCRUBBER, 500D, DR, MEM [T300D NA]",11158]
["306307","T300","MV-T300-0003","SCRUBBER, 500D, PUSH, MEM [T300D NA]",9532]
["306307","T300","MV-T300-0005","SCRUBBER, 500D, DR, MEM, ECNC [T300D NA]",13233]
["306307","T300","MV-T300-0001","SCRUBBER, 430D, PUSH, MEM [T300D NA]",8481]
["306307","T300","MV-T300-0006","SCRUBBER, 500D, DR, PRO [T300D NA]",11787]
["306307","T300","MV-T300-0008","SCRUBBER, 600D, DR, MEM [T300D NA]",12684]
["306307","T300","MV-T300-0007","SCRUBBER, 500D, DR, PRO, ECNC [T300D NA]",13862]
["306307","T300","MV-T300-0080","SCRUBBER, 500D, DR, MP, ECNC [US]",12958]
["306307","T300","MV-T300-0123","SCRUBBER, 500D, DR, ECNC [T300D,ARMK] PW",15557]
["306307","T300","MV-T300-0075","SCRUBBER, 500O, DR, MEM,ECNC,150A[US PW]",14296]
["306307","T300","MV-T300-0119","SCRUBBER,500O,DR,CNV,150AH,PW [T300 ABM]",11880]
["306307","T300","MV-T300-0074","SCRUBBER, 500O, DR, MEM,CNV,150AH[US PW]",11608]
["306307","T300","MV-T300-0118","SCRUBBER,500O,DR,ECNC,140AH,PW[T300 ABM]",14596]
["306307","T300","MV-T300-0046","SCRUBBER, 500D, DR, MEM, ECNC,AGM[T300D]",14316]
["306307","T300","MV-T300-0069","SCRUBBER, 500D, DR, MEM,ECNC,150A[US PW]",13517]
["306307","T300","MV-T300-0109","SCRUBBER,600D,DR,ECNC,150AH,PW[T300 ABM]",14908]
["306307","T300","MV-T300-0110","SCRUBBER,600D,DR,ECNC,140AH,PW[T300 ABM]",15389]
["306307","T300","MV-T300-0157","SCRUBBER, 430D, MEM, 130AH, OBC [US]",11710]
["306307","T300","MV-T300-0010","SCRUBBER, 500O, DR, MEM [T300 O NA]",11906]
["306307","T300","MV-T300-0077","SCRUBBER, 500D, P, MP, CNV,130AH[US PW]",8942]
["306307","T300","MV-T300-0120","SCRUBBER,500O,DR,CNV,140AH,PW [T300 ABM]",12440]
["306307","T300","MV-T300-0134","SCRUBBER,500D, DR, ECNC [T300D,ARMK]PW Y",15345]
["306307","T300","MV-T300-0011","SCRUBBER, 500O, DR, MEM, ECNC[T300 O NA]",13982]
["306307","T300","MV-T300-0068","SCRUBBER, 500D, DR, MEM,CNV,150AH[US PW]",10860]
["306307","T300","MV-T300-0091","SCRUBBER, 500D,DR, MEM, ECNC[T300D]US PW",13953]
["306307","T300","MV-T300-0114","SCRUBBER,500D,DR,ECNC,140AH,PW[T300 ABM]",13932]
["306307","T300","MV-T300-0115","SCRUBBER,500D,DR,CNV,150AH,PW [T300 ABM]",11215]
["306307","T300","MV-T300-0048","SCRUBBER, 500D, DR, ECNC[T300D, ARMKCB]",14586]
["306307","T300","MV-T300-0070","SCRUBBER, 500D, DR, PRO,CNV,150AH(US PW)",11488]
["306307","T300","MV-T300-0111","SCRUBBER,600D,DR,CNV,150AH,PW [T300 ABM]",12671]
["306307","T300","MV-T300-0067","SCRUBBER, 500D, P, MEM, CNV,130AH[US PW]",9234]
["306307","T300","MV-T300-0072","SCRUBBER, 600D, DR, MEM,CNV,150AH[US PW]",12385]
["306307","T300","MV-T300-0116","SCRUBBER,500D,DR,CNV,140AH,PW [T300 ABM]",11891]
["306307","T300","MV-T300-0066","SCRUBBER, 430D, P, MEM, CNV,130AH[US PW]",8184]
["306307","T300","MV-T300-0113","SCRUBBER,500D,DR,ECNC,150AH,PW[T300 ABM]",13371]
["306307","T300","MV-T300-0009","SCRUBBER, 600D, DR, PRO, ECNC [T300 NA]",15394]
["306307","T300","MV-T300-0079","SCRUBBER, 500D, P, MP, CNV, 130AH [US]",9241]
["306307","T300","MV-T300-0078","SCRUBBER, 500D, DR, MP,ECNC,150A[US PW]",12661]
["306307","T300","MV-T300-0135","SCRUBBER, 500D, DR, ECNC[T300D, ARMKCB]Y",15640]
["306307","T300","MV-T300-0073","SCRUBBER, 600D, DR, PRO,ECNC,150AH[USPW]",15677]
["306307","T300","MV-T300-0117","SCRUBBER,500O,DR,ECNC,150AH,PW[T300 ABM]",14035]
["306307","T300","MV-T300-0112","SCRUBBER,600D,DR,CNV,140AH,PW [T300 ABM]",13233]
["306308","T300e","MV-T300E-0006","SCRUBBER, 500D, DR, IC, ECNC[T300e D NA]",12087]
["306308","T300e","MV-T300E-0027","SCRUBBER, 500O, DR, ECNC [T300e O WM]",13719]
["306308","T300e","MV-T300E-0010","SCRUBBER, 500O, DR, ECNC [T300e O NA]",12323]
["306308","T300e","MV-T300E-0009","SCRUBBER, 500O, DR [T300e O NA]",10248]
["306308","T300e","MV-T300E-0002","SCRUBBER, 430D, PUSH [T300e D ECNC NA]",8950]
["306308","T300e","MV-T300E-0088","SCRUBBER,EX,500D,PUSH,CNV, AGM SKD [US]",9599]
["306308","T300e","MV-T300E-0007","SCRUBBER, 600D, DR [T300e D NA]",9998]
["306308","T300e","MV-T300E-0004","SCRUBBER, 500D, PUSH, IC,ECN[T300e D NA]",10250]
["306308","T300e","MV-T300E-0064","SCRUBBER 500D, DR,150AH,ECNC,SUNBELT[PW]",11446]
["306308","T300e","MV-T300E-0087","SCRUBBER,EX,500D,PUSH,CNV,130AH SKD [US]",8070]
["306308","T300e","MV-T300E-0089","SCRUBBER,EX,500D,PUSH,CNV,130AH PAD [US]",7773]
["306308","T300e","MV-T300E-0003","SCRUBBER, 500D, PUSH [T300e D NA]",7699]
["306308","T300e","MV-T300E-0090","SCRUBBER, EX,500D,PUSH,CNV, AGM PAD [US]",9001]
["306308","T300e","MV-T300E-0005","SCRUBBER, 500D,DR,IC,130AH [T300e D NA]",10011]
["306308","T300e","MV-T300E-0008","SCRUBBER, 600D, DR, IC, ECNC[T300e D NA]",12816]
["306308","T300e","MV-T300E-0065","SCRUBBER 500O, DR,150AH ECNC,SUNBELT[PW]",12014]
["306308","T300e","MV-T300E-0046","SCRUBBER, 500D, DR, IC,ECNC,130AH[US PW]",11793]
["306308","T300e","MV-T300E-0047","SCRUBBER, 600D, DR, CNV, 150AH [US PW]",9700]
["306308","T300e","MV-T300E-0043","SCRUBBER, 430D, PUSH, CNV, 130AH [US PW]",6577]
["306308","T300e","MV-T300E-0066","SCRUBBER,500D,PUSH,IC,150AH, ECNC, [PW]",10002]
["306308","T300e","MV-T300E-0070","SCRUBBER 500O, DR,150AH,CNV,SUNBELT",10435]
["306308","T300e","MV-T300E-0045","SCRUBBER, 500D, DR, IC, CNV,130AH[US PW]",9714]
["306308","T300e","MV-T300E-0048","SCRUBBER, 500O, DR, ECNC, 150AH [US PW]",12026]
["306308","T300e","MV-T300E-0083","SCRUBBER 500D, DR, 150AH, CNV, IRIS, SB",11192]
["306308","T300e","MV-T300E-0044","SCRUBBER, 500D, PUSH, CNV, 130AH [US PW]",7401]
["306309","SS300","MV-SS300-0003","SCRUBBER, 500D, PUSH, 130AH [SS300D]",7699]
["306309","SS300","MV-SS300-0006","SCRUBBER, 500D, DR, IC,ECN,130AH[SS300D]",12081]
["306309","SS300","MV-SS300-0005","SCRUBBER, 500D, DR, IC, 130AH [SS300D]",10005]
["306309","SS300","MV-SS300-0010","SCRUBBER, 500O, DR, ECNC, 150AH[SS300 O]",12316]
["306309","SS300","MV-SS300-0008","SCRUBBER, 600D, DR, IC,ECNC,150A[SS300D]",12816]
["306309","SS300","MV-SS300-0012","SCRUBBER, 430D, P, IC,ECNC,130AH[SS300D]",9284]
["306309","SS300","MV-SS300-0007","SCRUBBER, 600D, DR, 150AH [SS300D]",9998]
["306309","SS300","MV-SS300-0001","SCRUBBER, 430D, PUSH, 130AH [SS300D]",6876]
["306309","SS300","MV-SS300-0009","SCRUBBER, 500O, DR, 150AH [SS300 O]",10248]
["306309","SS300","MV-SS300-0002","SCRUBBER, 430D, PUSH, ECNC,130AH[SS300D]",8954]
["306309","SS300","MV-SS300-0020","SCRUBBER, 600D, DR, IC,ECNC,150AH[US PW]",12521]
["306309","SS300","MV-SS300-0015","SCRUBBER, 430D, PUSH, CNV, 130AH [US PW]",6579]
["306309","SS300","MV-SS300-0021","SCRUBBER, 500O, DR, ECNC, 150AH [US PW]",12026]
["306309","SS300","MV-SS300-0004","SCRUBBER, 500D, P, IC,ECNC,130AH[SS300D]",10215]
["306309","SS300","MV-SS300-0016","SCRUBBER, 500D, PUSH, CNV, 130AH [US PW]",7398]
["306309","SS300","MV-SS300-0024","SCRUBBER, 500D, PUSH, 130AH [SS300D]",7695]
["306309","SS300","MV-SS300-0018","SCRUBBER, 500D, DR, IC,ECNC,130AH[US PW]",11785]
["306309","SS300","MV-SS300-0025","SCRUBBER, 500D, DR, IC, 130AH [SS300D]",8094]
["306309","SS300","MV-SS300-0017","SCRUBBER, 500D, DR, IC, CNV,130AH[US PW]",9700]
["306312","A250 alfa",9018402,"SCRUBBER [A250 50CM PAD AST SA W/CHRGR]",6481]
["306327","T290",1255468,"SCRUBBER [T290 50CM, W/O BATT, NA]",7026]
["306327","T290",9022005,"SCRUBBER [T290 50CM, 140AH AGM, NA]",8640]
["306327","T290",9022002,"SCRUBBER [T290 50CM, PA, 140AH AGM, NA]",7278]
["306327","T290",9022004,"SCRUBBER [T290 50CM, 150AH WET, NA]",7561]
["306327","T290",9022000,"SCRUBBER [T290 50CM, PA, 130AH WET, NA]",6070]
["306327","T290",1255467,"SCRUBBER [T290 50CM, PA, W/O BATT, NA]",5664]
["306327","T290",9022001,"SCRUBBER [T290 50CM, PA, 150AH WET, NA]",6199]
["306327","T290",9022003,"SCRUBBER [T290 50CM, 130AH WET, NA]",7432]
["306401","SS5","9002587-G","SCRUBBER, 600MM, DISK, CHRGR [SS]",10926]
["306407","T500","MV-T500-0048","SCRUBBER,T500,700O,EC,260AH,SF,PW [ABM]",22329]
["306407","T500","MV-T500-0004","SCRUBBER,T500, 700O, MEM, 225AH, OBC, PW",18599]
["306407","T500","MV-T500-0009","SCRUBBER,T500,700O,MEM,ECNC,225AH,OBC,PW",21440]
["306407","T500","MV-T500-0049","SCRUBBER,T500,700O,EC,220AH,OBC,PW [ABM]",22531]
["306407","T500","MV-T500-0050","SCRUBBER,T500,700O,CNV,260AH,SF,PW [ABM]",19405]
["306407","T500","MV-T500-0045","SCRUBBER,T500,700D,EC,220AH,OBC,PW [ABM]",21724]
["306407","T500","MV-T500-0044","SCRUBBER,T500, 700D,EC,260AH,SF,PW [ABM]",21519]
["306407","T500","MV-T500-0005","SCRUBBER,T500, 700C, MEM, 225AH, OBC, PW",19070]
["306407","T500","MV-T500-0010","SCRUBBER,T500,700C,MEM,ECNC,225AH,OBC,PW",21911]
["306407","T500","MV-T500-0051","SCRUBBER,T500,700O,CNV,220AH,OBC,PW [ABM",19608]
["306407","T500","MV-T500-0060","SCRUBBER,T500,700D, MEM, CNV,220AH [SBT]",18910]
["306407","T500","MV-T500-0046","SCRUBBER,T500,700D,CNV,260AH,SF,PW [ABM]",18567]
["306407","T500","MV-T500-0001","SCRUBBER,T500, 650D, MEM, 225AH, OBC, PW",16562]
["306407","T500","MV-T500-0002","SCRUBBER,T500, 700D, MEM, 225AH, OBC, PW",17941]
["306407","T500","MV-T500-0006","SCRUBBER,T500,650D,MEM,ECNC,225AH,OBC,PW",19403]
["306407","T500","MV-T500-0011","SCRUBBER,T500, 700D, PPAN, 225AH, OBC,PW",21776]
["306407","T500","MV-T500-0061","SCRUBBER,T500,700O, MEM, CNV,220AH [SBT]",19775]
["306407","T500","MV-T500-0003","SCRUBBER,T500, 800D, MEM, 225AH, OBC, PW",18865]
["306407","T500","MV-T500-0008","SCRUBBER,T500,800D,MEM,ECNC,225AH,OBC,PW",21705]
["306407","T500","MV-T500-0012","SCRUBBER,T500, 800D, PPAN, 225AH, OBC,PW",22699]
["306407","T500","MV-T500-0007","SCRUBBER,T500,700D,MEM,ECNC,225AH,OBC,PW",20782]
["306407","T500","MV-T500-0047","SCRUBBER,T500,700D,CNV,220AH,OBC,PW [ABM",18774]
["306407","T500","MV-T500-0013","SCRUBBER,T500, 700O, PPAN, 225AH, OBC,PW",22301]
["306407","T500","MV-T500-0074","SCRUBBER,T500,700D,MEM,CNV,220AH,IRIS-SB",19056]
["306408","T500e","MV-T500E-0049","SCRUBBER, T500E 800D, CNV, 225AH,OBC,WM",18820]
["306408","T500e","MV-T500E-0051","SCRUBBER,T500E, 700D,CNV,225AH,OBC,PW,WM",17681]
["306408","T500e","MV-T500E-0050","SCRUBBER, T500E,800D,CNV,225AH,OBC,PW,WM",18515]
["306408","T500e","MV-T500E-0011","SCRUBBER,T500E,650D,ECNC,225AH,OBC,SF,PW",18266]
["306408","T500e","MV-T500E-0061","SCRUBBER, T500E, 800D, CNV, 225AH,OBC,SC",18151]
["306408","T500e","MV-T500E-0012","SCRUBBER,T500E,700D,ECNC,225AH,OBC,SF,PW",19023]
["306408","T500e","MV-T500E-0013","SCRUBBER,T500E,800D,ECNC,225AH,OBC,SF,PW",19853]
["306408","T500e","MV-T500E-0044","SCRUBBER,T500E,700D,EC,220AH,OBC,PW [ABM",19795]
["306408","T500e","MV-T500E-0008","SCRUBBER, T500E, 700D, 225AH, OBC, SF,PW",16183]
["306408","T500e","MV-T500E-0063","SCRUBBER, T500E, 800D, CNV, TPPL, PW, WM",19927]
["306408","T500e","MV-T500E-0007","SCRUBBER, T500E, 650D, 225AH, OBC, SF,PW",15426]
["306408","T500e","MV-T500E-0014","SCRUBBER,T500E,700O,ECNC,225AH,OBC,SF,PW",19716]
["306408","T500e","MV-T500E-0045","SCRUBBER,T500E,700D,CNV,260AH,SF,PW [ABM",16637]
["306408","T500e","MV-T500E-0009","SCRUBBER, T500E, 800D, 225AH, OBC, SF,PW",17012]
["306408","T500e","MV-T500E-0064","SCRUBBER, T500E, 800D, CNV, TPPL, WM",20362]
["306408","T500e","MV-T500E-0029","SCRUBBER,T500E,800D,CNV,225AH,OBC,PW,WLM",17203]
["306408","T500e","MV-T500E-0004","SCRUBBER, T500E, 700D, 225AH, OBC, PW",15267]
["306408","T500e","MV-T500E-0030","SCRUBBER,T500E,700D,CNV,225AH,OBC,PW,WLM",16404]
["306408","T500e","MV-T500E-0046","SCRUBBER,T500E, 700D, CNV,220AH,PW [ABM]",16843]
["306408","T500e","MV-T500E-0006","SCRUBBER, T500E, 700O, 225AH, OBC, PW",15960]
["306408","T500e","MV-T500E-0043","SCRUBBER,T500E,700D,EC,260AH,SF,PW [ABM]",19591]
["306408","T500e","MV-T500E-0003","SCRUBBER, T500E, 650D, 225AH, OBC, PW",14510]
["306408","T500e","MV-T500E-0010","SCRUBBER, T500E, 700O, 225AH, OBC, SF,PW",16875]
["306408","T500e","MV-T500E-0005","SCRUBBER, T500E, 800D, 225AH, OBC, PW",16097]
["306408","T500e","MV-T500E-0028","SCRUBBER, T500E, 700D,CNV,225AH,OBC,WLMT",16710]
["306409","SS500","MV-SS500-0010","SCRUBBER,SS500,700D,ECNC,225AH,OBC,SF,PW",19024]
["306409","SS500","MV-SS500-0012","SCRUBBER,SS500,700O,ECNC,225AH,OBC,SF,PW",19716]
["306409","SS500","MV-SS500-0011","SCRUBBER,SS500,800D,ECNC,225AH,OBC,SF,PW",19853]
["306409","SS500","MV-SS500-0001","SCRUBBER, SS500, 650D, 225AH, OBC, PW",14510]
["306409","SS500","MV-SS500-0031","SCRUBBER, SS500, 800D, EC, 225AH, OBC",19657]
["306409","SS500","MV-SS500-0002","SCRUBBER, SS500, 700D, 225AH, OBC, PW",15267]
["306409","SS500","MV-SS500-0032","SCRUBBER, SS500, 700C, CNV, 225AH, OBC",17394]
["306409","SS500","MV-SS500-0028","SCRUBBER, SS500, 700D, EC, 225AH, OBC",18827]
["306409","SS500","MV-SS500-0034","SCRUBBER, SS500, 700O, CNV, 225AH, OBC",16712]
["306409","SS500","MV-SS500-0025","SCRUBBER, SS500, 650D, CNV, 225AH, OBC",15117]
["306409","SS500","MV-SS500-0029","SCRUBBER, SS500, 800D, CNV, 225AH, OBC",17599]
["306409","SS500","MV-SS500-0006","SCRUBBER SS500, 700D, 225AH, OBC, SF,PW",16183]
["306409","SS500","MV-SS500-0003","SCRUBBER, SS500, 800D, 225AH, OBC, PW",16097]
["306409","SS500","MV-SS500-0033","SCRUBBER, SS500, 700C, EC, 225AH, OBC",20345]
["306409","SS500","MV-SS500-0008","SCRUBBER, SS500, 700O, 225AH, OBC, SF,PW",16875]
["306409","SS500","MV-SS500-0005","SCRUBBER, SS500, 650D, 225AH, OBC, SF,PW",15426]
["306409","SS500","MV-SS500-0035","SCRUBBER, SS500, 700O, EC, 225AH, OBC",19635]
["306409","SS500","MV-SS500-0027","SCRUBBER, SS500, 700D, CNV, 225AH, OBC",15876]
["306409","SS500","MV-SS500-0026","SCRUBBER, SS500, 650D, EC, 225AH, OBC",18070]
["306409","SS500","MV-SS500-0007","SCRUBBER, SS500, 800D, 225AH, OBC, SF,PW",17012]
["306409","SS500","MV-SS500-0009","SCRUBBER,SS500,650D,ECNC,225AH,OBC,SF,PW",18266]
["306409","SS500","MV-SS500-0004","SCRUBBER, SS500, 700O, 225AH, OBC, PW",15960]
["306413","T390",1255469,"SCRUBBER [T390, 70CM, W/O BATT, NA]",9887]
["306413","T390",9022007,"SCRUBBER [T390, 70CM, 140AH AGM, NA]",11370]
["306413","T390",9022006,"SCRUBBER [T390, 70CM, 150AH WET, NA]",10292]
["306504","T600","MV-T600-0002","SCRUBBER, T600, 800D, CNV, 240AH, OBC",22472]
["306504","T600","MV-T600-0001","SCRUBBER, T600, 800D, ECNC, 360AH,SF,OBC",27703]
["306505","T600e","MV-T600E-0002","SCRUBBER, T600E, 800D, CNV, 240AH [US PW",19361]
["306505","T600e","MV-T600E-0003","SCRUBBER,T600E,800D, ECNC, 360AH [US PW]",22932]
["306505","T600e","MV-T600E-0004","SCRUBBER, T600E, 800D, CNV, 360AH [WM]",22996]
["306505","T600e","MV-T600E-0005","SCRUBBER,T600E, 800D, CNV, 360AH [WM PW]",22699]
["306505","T600e","MV-T600E-0038","SCRUBBER,T600E, 800D, CNV, TPPL [WM]",23765]
["306505","T600e","MV-T600E-0036","SCRUBBER,T600E, 800D, CNV, 360AH [SC PW]",22699]
["306505","T600e","MV-T600E-0016","SCRUBBER, T600E, 700D, CNV, 240AH, OBC",18963]
["306505","T600e","MV-T600E-0037","SCRUBBER,T600E, 800D, CNV, TPPL [WM PW]",23340]
["306505","T600e","MV-T600E-0017","SCRUBBER, T600E, 800D, CNV, 240AH, OBC",19785]
["307001","T7AMR","MV-T7AMR-0003","SCRUBBER, T7AMR, 650D, CNV [WM]",60275]
["307001","T7AMR","MV-T7AMR-0005","SCRUBBER, T7AMR, 650D, CNV [KROGER]",59933]
["307001","T7AMR","MV-T7AMR-0014","SCRUBBER, T7AMR, 650D, CNV, PW [SAMS]",59950]
["307001","T7AMR","MV-T7AMR-0015","SCRUBBER, T7AMR, 650D, CNV [SAMS]",60277]
["307001","T7AMR","MV-T7AMR-0002","SCRUBBER, T7AMR, 650D, CNV, PW [WM]",59949]
["307200","2180SR",9017766,"SCRUBBER [2180SR 50CM NA AND EXPORT]",10210]
["307201","A670 alfa",9018751,"SCRUBBER [A670 70CM SA W/BATT & CHRGR]",23101]
["307202","T581",1255470,"SCRUBBER [T581, 50CM, W/O BATT, NA]",11601]
["307202","T581",9022009,"SCRUBBER [T581, 50CM, 140AH AGM, NA]",13087]
["307202","T581",9022008,"SCRUBBER [T581, 50CM, 150AH WET, NA]",12007]
["307500","T7","MV-T7-0045","SCRUBBER, 800MM, DISK, 360AH[T7 WALMART",27955]
["307500","T7","MV-T7-0078","SCRUBBER, 650MM, DISK, CNV [T7], [MX]",24899]
["307500","T7","MV-T7-0053","SCRUBBER, T7, 800D, ECNC, 240AH [US PW]",29434]
["307500","T7","MV-T7-0074","MV T7 SCRUBBER, 800 DISK [WM] PW",29006]
["307500","T7","MV-T7-0075","SCRUBBER, T7, 800D, CNV, 240AH, OBC[SBT]",29501]
["307500","T7","MV-T7-0054","SCRUBBER, 800MM, DISK, 360AH[WALMART] PW",26946]
["307500","T7","MV-T7-0073","MV T7 SCRUBBER, 800 DISK [WM]",29336]
["307500","T7","MV-T7-0064","SCRUBBER, T7, 800D,EC,220AH,OBC,PW [ABM]",31966]
["307500","T7","MV-T7-0065","SCRUBBER, T7,800D,CNV,360AH,OBC,PW [ABM]",28197]
["307500","T7","MV-T7-0051","SCRUBBER, T7, 650D, CNV, 240AH [US PW]",24437]
["307500","T7","MV-T7-0086","MV T7 SCRUBBER, 800 DISK [SC]",28481]
["307500","T7","MV-T7-0068","SCRUBBER, T7, 650D,EC,220AH,OBC,PW [ABM]",30148]
["307500","T7","MV-T7-0063","SCRUBBER, T7, 800D,EC,360AH,OBC,PW [ABM]",31542]
["307500","T7","MV-T7-0069","SCRUBBER, T7,650D,CNV,360AH,OBC,PW [ABM]",26380]
["307500","T7","MV-T7-0070","SCRUBBER, T7,650D,CNV,220AH,OBC,PW [ABM]",26804]
["307500","T7","MV-T7-0066","SCRUBBER, T7,800D,CNV,220AH,OBC,PW [ABM]",28621]
["307500","T7","MV-T7-0052","SCRUBBER, T7, 650D, ECNC, 240AH [US PW]",27626]
["307500","T7","MV-T7-0087","MV T7 SCRUBBER, 800 DISK [SC] PW",28161]
["307500","T7","MV-T7-0067","SCRUBBER, T7, 650D,EC,360AH,OBC,PW [ABM]",29725]
["307501","SpeedScrub Rider (Nobles)","9001972-G","SCRUBBER, 700MM, CYLRCL, 235AH [SSR]",22655]
["307501","SpeedScrub Rider (Nobles)","9001973-G","SCRUBBER, 700MM, CYLRCL, 235AH[SSR/FAST]",24255]
["307501","SpeedScrub Rider (Nobles)","9001974-G","SCRUBBER, 800MM, CYLRCL, 235AH [SSR]",24218]
["307501","SpeedScrub Rider (Nobles)","9001975-G","SCRUBBER, 800MM, CYLRCL, 235AH[SSR/FAST]",25817]
["307501","SpeedScrub Rider (Nobles)","MSSR-10208665","MODEL SCRUBBER, 650/800MM DISK",16613]
["307501","SpeedScrub Rider (Nobles)","MV-SSR-0035","SCRUBBER, 650MM, DISK, 235AH[SSR ECNC]",28588]
["307501","SpeedScrub Rider (Nobles)","MV-SSR-0013","SCRUBBER, 800MM, DISK, 235AH [SSR]",22655]
["307501","SpeedScrub Rider (Nobles)","MV-SSR-0011","SCRUBBER, 650MM, DISK, 235AH SSR",21092]
["307501","SpeedScrub Rider (Nobles)","MV-SSR-0036","SCRUBBER, 800MM, DISK, 235AH [SSR ECNC]",29282]
["307501","SpeedScrub Rider (Nobles)","MV-SSR-0044","SCRUBBER, SSR, 650D, CNV, 240AH [US PW]",24437]
["307600","T12","MV-T12-0011","SCRUBBER MODEL T12, DISK, GRAINGER [US]",28182]
["307600","T12","MV-T12-0029","SCRUBBER, T12XP,D,CNV,360AH,OBC,PW [ABM]",33320]
["307600","T12","MV-T12-0025","SCRUBBER, T12, D, CNV,360AH,OBC,PW [ABM]",30024]
["307600","T12","MV-T12-0024","SCRUBBER, T12, D, EC, 312AH, PW [ABM]",36547]
["307600","T12","MV-T12-0042","SCRUBBER, T12, C, EC, 360AH, PW [US]",40475]
["307600","T12","MV-T12-0026","SCRUBBER, T12, D, CNV, 312AH, PW [ABM]",32737]
["307600","T12","MV-T12-0030","SCRUBBER, T12XP, D, CNV, 312AH, PW [ABM]",36034]
["307600","T12","MV-T12-0041","SCRUBBER, T12XP, D, EC, 360AH, PW [US]",39807]
["307600","T12","MV-T12-0012","SCRUBBER MODEL T12, CYL, GRAINGER [US]",28946]
["307600","T12","MV-T12-0028","SCRUBBER, T12XP, D, EC, 312AH, PW [ABM]",39845]
["307600","T12","MV-T12-0027","SCRUBBER, T12XP, D,EC,360AH,OBC,PW [ABM]",37133]
["307600","T12","MV-T12-0023","SCRUBBER, T12, D, EC, 360AH, OBC,PW[ABM]",33836]
["309100","T350","MV-T350-0012","SCRUBBER,T350,600D,PPAN,ECNC,240AH[US PW",20510]
["309100","T350","MV-T350-0009","SCRUBBER,T350,500D,PPAN,ECNC,240AH[US PW",18892]
["309100","T350","MV-T350-0001","SCRUBBER,T350,500D,MEM,CNV,210AH,OBC[US]",14972]
["309100","T350","MV-T350-0010","SCRUBBER,T350,600D,MEM,CNV,210AH [US PW]",16108]
["309100","T350","MV-T350-0005","SCRUBBER, T350,600D,MEM,ECNC,240AH [US]",20024]
["309100","T350","MV-T350-0006","SCRUBBER, T350,600D,PPAN,ECNC,240AH [US]",20991]
["309100","T350","MV-T350-0002","SCRUBBER,T350,500D,MEM,ECNC,240AH,OBC[US",18591]
["309100","T350","MV-T350-0004","SCRUBBER,T350,600D,MEM,CNV,210AH,OBC[US]",16589]
["309100","T350","MV-T350-0007","SCRUBBER,T350,500D,MEM,CNV,210AH [US PW]",14492]
["309100","T350","MV-T350-0011","SCRUBBER,T350,600D,MEM,ECNC,240AH[US PW]",19544]
["309100","T350","MV-T350-0008","SCRUBBER,T350,500D,MEM,ECNC,240AH[US PW]",18110]
["309100","T350","MV-T350-0003","SCRUBBER, T350,500D,PPAN,ECNC,240AH [US]",19372]
["309200","SS350","MV-SS350-0008","SCRUBBER,SS350,600D,MEM,ECNC,240AH[US PW",19544]
["309200","SS350","MV-SS350-0003","SCRUBBER,SS350,600D,MEM,CNV,210AH,OBC[US",16589]
["309200","SS350","MV-SS350-0002","SCRUBBER, SS350,500D,MEM,ECNC,240AH [US]",18408]
["309200","SS350","MV-SS350-0007","SCRUBBER,SS350,600D,MEM,CNV,210AH[US PW]",16108]
["309200","SS350","MV-SS350-0004","SCRUBBER, SS350,600D,MEM,ECNC,240AH [US]",20024]
["309200","SS350","MV-SS350-0006","SCRUBBER,SS350,500D,MEM,ECNC,240AH[US PW",17927]
["309200","SS350","MV-SS350-0005","SCRUBBER,SS350,500D,MEM,CNV,210AH[US PW]",14488]
["309200","SS350","MV-SS350-0001","SCRUBBER,SS350,500D,MEM,CNV,210AH,OBC[US",14970]
["311103","M17","MM17-12067","M17 SWEEPER/SCRUBBER",78427]
["311302","M20","MM20-1234","MODEL M20 SCRUBBER/SWEEPER",4973]
["311302","M20","MM20-2141","MODEL M20 SCRUBBER/SWEEPER",36514]
["311302","M20","MM20-3248","MODEL M20 SCRUBBER/SWEEPER",56348]
["311302","M20","MM20-3965","MODEL M20 SCRUBBER/SWEEPER",44940]
["311302","M20","MM20-7157","M20 SCRUBBER/SWEEPER",59696]
["311302","M20","MM20-3250","MODEL M20 SCRUBBER/SWEEPER",11573]
["311302","M20","MM20-11036","M20 SCRUBBER/SWEEPER",68383]
["311302","M20","MM20-1191","MODEL M20 SCRUBBER/SWEEPER",8427]
["311302","M20","MV-M20-0032","M20, LP, MEM, CNV [BRAZIL]",78931]
["311302","M20","MM20-3461","MODEL M20 SCRUBBER/SWEEPER",47187]
["321019","V-BP-10",1068051,"VACUUM, BP, 10QT, 120V [SERVPRO 773]",647]
["321019","V-BP-10",1215368,"VACUUM, BP, 10QT, 120V [SERVPRO 773]",440]
["321020","V-BP-6",9013474,"VACUUM, BACKPACK, W/STD TOOLS [V-BP-6]",781]
["321020","V-BP-6",9013473,"VACUUM, BACKPACK, W/BASE TOOLS [V-BP-6]",756]
["321020","V-BP-6",9013475,"VACUUM, BACKPACK, W/PREM TOOLS [V-BP-6]",893]
["321020","V-BP-6",1060830,"VACUUM, V-BP-6, 120V",678]
["321020","V-BP-6",1215364,"VACUUM, BACKPACK, 120V [TENNANT V-BP-6]",572]
["321020","V-BP-6",1217839,"VACUUM, V-BP-6, 120V [TENNANT MEX]",614]
["321023","Aspen 6",1215365,"VACUUM, BACKPACK, 120V [NOBLES ASPEN 6]",594]
["321023","Aspen 6",9013478,"VACUUM, BACKPACK, W/PREM TOOLS [ASPEN 6]",893]
["321023","Aspen 6",9013477,"VACUUM, BACKPACK, W/STD TOOLS [ASPEN 6]",781]
["321023","Aspen 6",9013476,"VACUUM, BACKPACK, W/BASE TOOLS [ASPEN 6]",756]
["321025","V-BP-6B",1236569,"VACUUM, BATTERY [TENNANT, V-BP-6B]",1108]
["321025","V-BP-6B",9017567,"VACUUM, BACKPACK, W/BASIC TOOLS[V-BP-6B]",1944]
["321025","V-BP-6B",9017570,"VACUUM, BACKPACK, W/STD TOOLS [V-BP-6B]",2010]
["321025","V-BP-6B",9017571,"VACUUM, BACKPACK, W/PREM TOOLS[V-BP-6B]",2144]
["321026","Aspen 6B",9017572,"VACUUM, BACKPACK, W/PREM TOOLS[ASPEN 6B]",2144]
["321026","Aspen 6B",9017568,"VACUUM, BACKPACK, W/BASIC TOOLS[ASPEN6B]",1944]
["321026","Aspen 6B",9017569,"VACUUM, BACKPACK, W/STD TOOLS [ASPEN 6B]",2010]
["322050","V3-2012-Basic",1069903,"VACUUM, CANISTER, 220-240V EU [V3]",354]
["322075","V-CAN-10",1244292,"VACUUM, CANISTER, 120V [V-CAN-10, NA]",321]
["322076","V-CAN-12",1252616,"VACUUM, CANISTER, 120V [V-CAN-12,NA,STD]",443]
["322077","V-CAN-16",1252618,"VACUUM, CANISTER, 120V [V-CAN-16,NA,STD]",547]
["322078","Denali-10",1244294,"VACUUM, CANISTER, 120V [DENALI-10, NA]",321]
["322079","Denali-12",1252617,"VACUUM, CANISTER,120V [DENALI-12,NA,STD]",443]
["322080","Denali-16",1252619,"VACUUM, CANISTER,120V [DENALI-16,NA,STD]",547]
["323071","3110  15\" SMU Tennant","14100SM","VACUUM, 12VDC [15.0 SVCMASTER 3110, SMU]",635]
["323123","V-SMU-14",1060829,"VACUUM, V-SMU-14, 120V",619]
["323126","V-DMU-14",1068027,"VACUUM, V-DMU-14, 120V",808]
["323129","V-WA-30",1068029,"VACUUM, 120VAC [V-WA-30]",4032]
["323132","V-LWU-13B",1236914,"VACUUM, BATTERY [TENNANT, V-LWU-13B]",949]
["323133","Independence",1236915,"VACUUM, BATTERY [NOBLES,INDEPENDENCE]",949]
["324060","V10","MV102044","VACUUM, W/D, 16L, 230VAC 50HZ [V10]",362]
["324061","V12","MV122044","VACUUM, W/D, 25L, 230VAC 50HZ [V12]",417]
["324075","V-WD-9",1244345,"VACUUM, WET/DRY, 120V [V-WD-9, NA]",574]
["324076","V-WD-24P",9019349,"VACUUM, WET/DRY, 120V [V-WD-24P, W/SQGE]",2235]
["324076","V-WD-24P",1244346,"VACUUM, WET/DRY, 120V [V-WD-24P, NA]",1799]
["324077","V-WD-24",1245656,"VACUUM, WET/DRY, 120V [V-WD-24, NA]",909]
["324077","V-WD-24",9019348,"VACUUM, WET/DRY, 120V [V-WD-24, W/SQGE]",1344]
["326025","EX-CAN-10",9007483,"CANISTER, 10GAL [EX-CAN-10]PAC120VCSA-SI",2746]
["326036","EH5",9011454,"EXTRACTOR, FLOOR TOOL [TCO EH5 PAC]",8560]
["326036","EH5",1072858,"EXTRACTOR, 120V, 500PSI, HEAT [EH5]",7161]
["326038","EC2",9011638,"EXTRACTOR, FLOOR TOOL [TCO EC2 PAC]",5155]
["326038","EC2",9012278,"EXTRACTOR, FLOOR TOOL, TI [TCO EC2 PAC]",5548]
["326038","EC2",1072862,"EXTRACTOR, 120V, 200PSI, HEAT [EC2]",4150]
["327002","R3 ReadySpace (15\" Cord Electric)",9004192,"READYSPACE, 5 GAL, 120VAC, TCO [R3]",5843]
["327002","R3 ReadySpace (15\" Cord Electric)","9004192-H","READYSPACE, 5 GAL, 120VAC, TCO [R3]",5843]
["327003","1610 w/ ReadySpace (Tennant)",9001410,"READYSPACE, 21GAL [ARAMARK 1610]",14555]
["327003","1610 w/ ReadySpace (Tennant)","MV-1610-0008","READYSPACE WB, 240AH [US PW]",18730]
["327003","1610 w/ ReadySpace (Tennant)","MV-1610-0001","READYSPACE, 21GAL TCO [1610]",19173]
["327003","1610 w/ ReadySpace (Tennant)","MV-1610-0002","READYSPACE, 21GAL TCO [1610 AGM BAT]",19706]
["327004","Strive w/ ReadySpace (Nobles)","MV-STRV-0001","READYSPACE, 21GAL NOB [STRIVE]",19168]
["327004","Strive w/ ReadySpace (Nobles)",9000504,"READYSPACE, 21GAL [STRIVE]  W/O BAT",16565]
["327004","Strive w/ ReadySpace (Nobles)","MV-STRV-0002","READYSPACE, 21GAL NOB [STRIVE AGM BAT]",19706]
["327004","Strive w/ ReadySpace (Nobles)","MV-STRV-0005","STRIVE READYSPACE, AGM BTY [KOHLS]",20335]
["327004","Strive w/ ReadySpace (Nobles)","MV-STRV-0004","STRIVE WB, 240AH [US PW]",18730]
["327005","R14 Rider RS & Extractor (Tennant)","MR14-10426428","EXTRACTOR, READYSPACE, 32 GAL [TENNANT]",2290]
["327005","R14 Rider RS & Extractor (Tennant)","MR14-10426862","EXTRACTOR, READYSPACE, 32 GAL [TENNANT]",2290]
["327005","R14 Rider RS & Extractor (Tennant)","MV-R14-0005","READYSPACE, R14, 360AH, PW [ABM]",26982]
["327006","Strive Rider RS (Nobles)","MSTRVRD-10451888","READYSPACE, 32GAL, 335AH,NOB[STRIVE RDR]",18810]
["327006","Strive Rider RS (Nobles)","MV-STRVR-0002","READYSPACE, 32GAL, 335AH,NOB[STRIVE RDR]",26788]
["327007","Nobles ReadySpace (15\" Cord Electric)","9004202-H","READYSPACE, 5 GAL, NOB [STRIVE COMPACT]",5843]
["327007","Nobles ReadySpace (15\" Cord Electric)",9004202,"READYSPACE, 5 GAL, NOB [STRIVE COMPACT]",5843]
["327007","Nobles ReadySpace (15\" Cord Electric)",9016493,"READYSPACE, 5 GAL, NOB[STRVE COMP, IRIS]",7221]
["328033","EX-SC-1020",9007486,"EXTRACTOR, 10GAL 20W[120V UL EX-SC-1020]",4756]
["331018","Nobles E5 (5-Gal Cord)",9004201,"EXTRACTOR, 5GAL, NOB [SPEED EX-15]",4631]
["331018","Nobles E5 (5-Gal Cord)","9004201-H","EXTRACTOR, 5GAL, NOB [SPEED EX-15\"]",4631]
["331019","E5 (5-Gal Cord Electric)","9004194-H","EXTRACTOR, 5GAL, 120VAC, TCO [E5]]",4631]
["331019","E5 (5-Gal Cord Electric)",9004198,"EXTRACTOR, 5GAL, 230VAC, TCO [E5]",4513]
["331019","E5 (5-Gal Cord Electric)",9004194,"EXTRACTOR, 5GAL, 120VAC, TCO [E5]",4631]
["331021","Falcon 2800 Plus",609260,"EXTRACTOR, 28GAL [NOB 2800 PLS]CSA-SI",0]
["331021","Falcon 2800 Plus",608352,"EXTRACTOR, 28GAL [NOB FACN 2800 PLS]120V",13125]
["331022","Falcon Ultra B",608351,"EXTRACTOR, 17GAL [NOB FLCN ULTRA] PAC",14274]
["331022","Falcon Ultra B",608350,"EXTRACTOR, 17GAL [NOB FLCN ULTRA]24VDC",12659]
["331023","1510 Battery",614002,"EXTRACTOR, 21GAL 22W, 24V W/ BAT [1510]",16567]
["331024","1530 Cord Electric",614000,"EXTRACTOR, 30GAL 22W, 120V [1530]",13029]
["332003","2320, 20in, 1600rpm, NDC (Tennant)","SM17210","BURNISHER, 20\" [TCO 2320] 120V 1600H",2304]
["332007","2370, 20in, 2000rpm, DC (Tennant)","SM17001","BURNISHER, 2370, TCO 120 VOLT STANDALONE",1246]
["332106","BR-1600-NDC",9007347,"BURNISHER, 20\" [BR-1600-NDC] 120V 1600H",2822]
["332106","BR-1600-NDC",9007348,"BURNISHER, 20 [BR-1600-NDC] 230V 1600H",2822]
["332107","BR-2000-DC",9007349,"BURNISHER, 20INCH [BR-2000-DC] 120V",3690]
["333010","B5","MV-B5-0008","Was never released, reuse# for next",11405]
["333010","B5","MV-B5-0010","BURNISHER, 510MM, DR, ADC, 225AH [US PW]",14418]
["333010","B5","MV-B5-0011","BURNISHER, 510MM, PUSH, 185AH [US PW]",10032]
["333010","B5","MV-B5-0013","BURNISHER, ADP, 225AH, OBC, PW [B5 ABM]",14411]
["333010","B5","MV-B5-0014","BURNISHER, ADP, 234AH, OBC, PW [B5 ABM]",16641]
["333011","B7","MV-B7-0008","BURNISHER, 690MM, ADC, 330AH [US PW]",16727]
["333011","B7","MV-B7-0009","BURNISHER, 690MM, PDC, 330AH [US PW]",15781]
["333011","B7","MV-B7-0010","BURNISHER, 690MM, PROPEL, PDC [WLMRT] PW",18880]
["333011","B7","MV-B7-0011","BURNISHER,690, ADP, 360AH,OBC [B7 ABM]PW",16896]
["333011","B7","MV-B7-0012","BURNISHER, 690,ADP,312AH,OBC [B7 ABM] PW",19277]
["333012","Speed Gleam 5","MSG5-10700984","MODEL SPEED GLEAM 5 BURNISHER",24956]
["333012","Speed Gleam 5","MV-SG5-0002","BURNISHER, 20\", ASSIST, ADC, OBC [SG5]",11260]
["333012","Speed Gleam 5","MV-SG5-0003","BURNISHER, 20\", PROPEL, PDC, OBC [SG5]",12588]
["333012","Speed Gleam 5","MV-SG5-0006","BURNISHER, 510MM, PUSH, OBC [US PW]",10442]
["333012","Speed Gleam 5","MV-SG5-0001","BURNISHER, 20\", PROPEL, ADC, OBC [SG5]",14065]
["333013","Speed Gleam 7","MV-SG7-0002","BURNISHER, 690MM, PROPEL, ADC, OBC [SG7]",16135]
["333013","Speed Gleam 7","MV-SG7-0001","BURNISHER, 610MM, PROPEL, ADC, OBC [S",14657]
["333013","Speed Gleam 7","MV-SG7-0005","BURNISHER, 690MM, PROPEL, OBC [US PW]",16200]
["334002","B10","MV-B10-0005","BURNISHER, 69CM, 435AH,OBC,PW [B10 ABM]",31785]
["334002","B10","MV-B10-0006","BURNISHER, 69CM, 390AH,OBC,PW [B10 ABM]",32195]
["334003","SG Rider","MV-SGR-0006","BURNISHER, 69CM, CHRGR, PDC [SG RIDR NA]",28394]
["334003","SG Rider","MV-SGR-0008","BURNISHER, 69CM, CHRGR, ADC [SG RIDR NA]",29232]
["334003","SG Rider","MV-SGR-0007","BURNISHER, 61CM, CHRGR, ADC [SG RIDR NA]",28435]
["336233","FM-17-SS",9009505,"FLOOR MACH, 17\" HD[FM17SS SERVPRO]120/60",1371]
["336235","FM-20-SS",9007336,"FLOOR MACH, 20\" HD [FM-20-SS] 120/60",1706]
["336236","FM-20-DS",9007334,"FLOOR MACH, 20 DS [FM-20-DS] 120/60",2652]
["341076","ASC-15",9007354,"CANISTER, 15GAL [120V ASC-15]",6475]
["341081","Dryer (Generic)",9003569,"250 AIR MOVER,DRYER,3-SPEED,230 VOLT, EU",491]
["341081","Dryer (Generic)",9014819,"BLOWER, FLOOR, 3-SPEED, 120V",419]
["341141","Q12",1072856,"CLEANER, HARD SURF, 120V, 1200PSI [Q12]",11166]
["341141","Q12",9011458,"CLEANER, FLOOR TOOL [TCO Q12 PAC]",13619]
["341150","iCart",1232057,"MOP CART KIT [i-mop I-CART L]",1969]
["341151","I-mop Cabinet",1233400,"CABINET ASSY, STORAGE [IMOP]",1338]

{"sheet":"T681","index":18,"n_rows":214,"n_cols":16,"rows_kept":214,"cut":false,"hidden":false,"merged":[[202,4,202,5],[178,2,178,5],[179,2,179,5],[180,2,180,5],[181,2,181,5],[183,2,183,5],[184,2,184,5],[185,2,185,5],[186,2,186,5],[187,2,187,5],[189,4,189,7],[193,2,193,5],[177,2,177,5],[138,3,138,4],[138,5,138,6],[139,3,139,4],[139,5,139,6],[140,3,140,4],[140,5,140,6],[141,3,141,4],[141,5,141,6],[152,3,153,6],[156,1,156,6],[175,4,175,7],[135,3,135,4],[135,5,135,6],[136,3,136,4],[136,5,136,6],[137,3,137,4],[137,5,137,6],[133,3,133,4],[110,3,110,4],[110,5,110,6],[111,3,111,4],[111,5,111,6],[118,3,118,4],[118,5,118,6],[119,3,119,4],[119,5,119,6],[128,4,128,8],[130,3,130,6],[132,3,132,4],[89,3,89,4],[89,5,89,6],[101,3,101,4],[101,5,101,6],[102,3,102,4],[102,5,102,6],[87,3,87,4],[87,5,87,6],[0,2,0,3],[1,2,1,3],[2,2,2,3],[3,2,3,3],[84,3,84,6]]}
["T681",null,{"$f":"Start_Here!$C19","v":"Company Name"}]
[{"$f":"SUM(G80)","v":0},null,{"$f":"Start_Here!$C20","v":"Address"}]
[null,null,{"$f":"Start_Here!$C21","v":"City, State Zip"}]
[null,null,{"$f":"Start_Here!$C22","v":"Contact Name"}]
[null,null,{"$f":"Start_Here!$C$41","v":"Rep Name"}]
[null,null,{"$f":"Start_Here!$C$37","v":"Tennant Sales and Service Company"}]
[null,null,{"$f":"Start_Here!$C$38","v":"10400 Clean Street"}]
[null,null,{"$f":"Start_Here!$C$39","v":"Eden Prairie, MN 55344"}]
[null,null,{"$f":"Start_Here!$C$43","v":"800-553-8033"},null,"Quote Date :",null,{"$f":"Letter!$A$25","v":"2020-09-17"}]
[]
[null,null,{"$f":"Help!C2","v":"US Date Rev - 5/6/2025"}]
[]
[null,null,"TENNANT COMPANY WARRANTY"]
[null,null,"3 YEARS OR 2000 HOURS - PARTS"]
[null,null,"1 YEAR - BATTERY CHARGERS"]
[null,null,"2 YEARS - LABOR"]
[null,null,"6 MONTHS - TRAVEL"]
[null,null,"10 YEARS ON DURAMERTM ROTOMOLD TANKS",null,null,null,"Fax (quote only)"]
[null,null,null,null,null,null,"Mail (quote,lit, specs)"]
[null,null,null,null,null,null,"Fax + Mail"]
[]
[null,null,null,null,"                Primary Use"]
[null,null,null,null,null,null,"Inside"]
[null,null,null,null,null,null,"Outside"]
[null,null,"Description","Reference # ","US Price","Qty.","Extended Price"]
[]
[]
[null,null,"T681 - Small Ride-On Scrubber - 240AH Wet Batteries",9052040,25052,null,{"$f":"F28*E28","v":0},null,null,null,null,null,null,null,null,{"$f":"VLOOKUP(D28,'MPF SAP Download PreConfigured'!C:E,3,FALSE)","v":{"$error":"#N/A"}}]
[null,null,"32in (80cm) dual disk cleaning path, pad driver, Linatex squeegee blades. Includes onboard charger, 4-6V batteries",null,null,{"$f":"SUM(F28)","v":0}]
[null,null,null,null,null,{"$f":"SUM(F31)","v":0}]
[null,null,"T681 - Small Ride-On Scrubber - 240AH Wet Batteries",9052043,25052,null,{"$f":"F31*E31","v":0},null,null,null,null,null,null,null,null,{"$f":"VLOOKUP(D31,'MPF SAP Download PreConfigured'!C:E,3,FALSE)","v":{"$error":"#N/A"}}]
[null,null,"32in (80cm) dual disk cleaning path, brush driver, Linatex squeegee blades. Includes onboard charger, 4-6V batteries",null,null,{"$f":"SUM(F31)","v":0}]
[]
[null,null,"T681 - Small Ride-On Scrubber - 210AH Sealed AGM Batteries",9052041,26621,null,{"$f":"F34*E34","v":0},null,null,null,null,null,null,null,null,{"$f":"VLOOKUP(D34,'MPF SAP Download PreConfigured'!C:E,3,FALSE)","v":{"$error":"#N/A"}}]
[null,null,"32in (80cm) dual disk cleaning path, pad driver, Linatex squeegee blades. Includes onboard charger, 4-6V batteries",null,null,{"$f":"SUM(F34)","v":0}]
[]
[null,null,"T681 - Small Ride-On Scrubber - 210AH Sealed AGM Batteries",9052044,26621,null,{"$f":"F37*E37","v":0}]
[null,null,"32in (80cm) dual disk cleaning path, brush driver, Linatex squeegee blades. Includes onboard charger, 4-6V batteries",null,null,{"$f":"SUM(F37)","v":0}]
[]
[null,null,"T681 - Small Ride-On Scrubber - 90AH Li-Ion Battery",9023481,25913,null,{"$f":"F40*E40","v":0}]
[null,null,"32in (80cm) dual disk cleaning path, pad driver, Linatex squeegee blades. Includes onboard charger, 1-24V battery",null,null,{"$f":"SUM(F40)","v":0}]
[]
[null,null,"T681 - Small Ride-On Scrubber - 90AH Li-Ion Battery",9023483,25913,null,{"$f":"F43*E43","v":0}]
[null,null,"32in (80cm) dual disk cleaning path, brush driver, Linatex squeegee blades. Includes onboard charger, 1-24V battery",null,null,{"$f":"SUM(F43)","v":0}]
[]
[null,null,"T681 - Small Ride-On Scrubber - 180 AH Li-Ion Batteries",9023482,28113,null,{"$f":"F46*E46","v":0}]
[null,null,"32in (80cm) dual disk cleaning path, pad driver, Linatex squeegee blades. Includes onboard charger, 2-24V batteries",null,null,{"$f":"SUM(F46)","v":0}]
[]
[null,null,"T681 - Small Ride-On Scrubber - 180 AH Li-Ion Batteries",9023484,28113,null,{"$f":"F49*E49","v":0}]
[null,null,"32in (80cm) dual disk cleaning path, brush driver, Linatex squeegee blades. Includes onboard charger, 2-24V batteries",null,null,{"$f":"SUM(F49)","v":0}]
[]
[null,null,"T681 - Small Ride-On Scrubber - NO Batteries",9052042,22640,null,{"$f":"F52*E52","v":0}]
[null,null,"32in (80cm) dual disk cleaning path, pad driver, Linatex squeegee blades. Includes onboard charger",null,null,{"$f":"SUM(F52)","v":0}]
[]
[null,null,"T681 - Small Ride-On Scrubber - NO Batteries",9052045,22640,null,{"$f":"F55*E55","v":0}]
[null,null,"32in (80cm) dual disk cleaning path, brush driver, Linatex squeegee blades. Includes onboard charger",null,null,{"$f":"SUM(F55)","v":0}]
[null,null,null,null,null,null,null,null,null,null,null,null,null,null,null,{"$f":"VLOOKUP(D57,'MPF SAP Download PreConfigured'!C:E,3,FALSE)","v":{"$error":"#N/A"}}]
[null,null,"Shipping Weight and Dimensions","Pallet w/ ramp",null,{"$f":"SUM(F28:F55)","v":0}]
[null,null,"Weight (w/ heaviest batteries)","950 lb / 431 kg",null,{"$f":"SUM(F29:F56)","v":0},null,null,null,null,null,null,null,null,null,{"$f":"VLOOKUP(D59,'MPF SAP Download PreConfigured'!C:E,3,FALSE)","v":{"$error":"#N/A"}}]
[null,null,"Length","59.6 in / 151.5 cm",null,{"$f":"SUM(F30:F57)","v":0}]
[null,null,"Width","48.8 in / 124 cm",null,{"$f":"SUM(F31:F58)","v":0},null,null,null,null,null,null,null,null,null,{"$f":"VLOOKUP(D61,'MPF SAP Download PreConfigured'!C:E,3,FALSE)","v":{"$error":"#N/A"}}]
[null,null,"Height","42.9 in / 109 cm",null,{"$f":"SUM(F32:F59)","v":0}]
[]
[]
[null,null,null,null,null,{"$f":"SUM(#REF!)","v":{"$error":"#REF!"}}]
[null,null,null,null,{"$f":"ROUND(SUM(G28:G65), 0)","v":0},{"$f":"SUM(E67)","v":0}]
[null,null,null,"Machine Subtotal ",{"$f":"ROUND(SUM(G28:G65), 0)","v":0},{"$f":"F66","v":0}]
[null,"Discounts",null,null,null,{"$f":"SUM(F69)","v":0}]
[null,null,null,null,null,{"$f":"SUM(F70:F73)","v":0}]
[null,null,null,"Discount %",null,{"$f":"IF(E70 <> \"\", 1, 0)","v":0},{"$f":"IF(F70*(E70*0.01)*E66 < 0, F70*(E70*0.01)*E66, -(F70*(E70*0.01)*E66))","v":0}]
[null,null,null,"Discount $",null,{"$f":"IF(E71 <> \"\", 1, 0)","v":0},{"$f":"IF(F71*E71 < 0, F71*E71, -(F71*E71))","v":0}]
[null,null,null,"Discount $",null,{"$f":"IF(E72 <> \"\", 1, 0)","v":0},{"$f":"IF(F72*E72 < 0, F72*E72, -(F72*E72))","v":0}]
[null,null,null,"Discount $",null,{"$f":"IF(E73 <> \"\", 1, 0)","v":0},{"$f":"IF(F73*E73 < 0, F73*E73, -(F73*E73))","v":0}]
[null,null,null,"Discount Total ",{"$f":"SUM(G70:G73)","v":0},{"$f":"SUM(E74)","v":0}]
[null,null,null,null,null,{"$f":"#REF!","v":{"$error":"#REF!"}}]
[null,null,null,null,null,{"$f":"F75","v":{"$error":"#REF!"}}]
[null,null,"Prepaid and Add","Freight",null,{"$f":"IF(E77 <> \"\", 1, 0)","v":0},{"$f":"F77*E77","v":0}]
[null,null,"Subject to all applicable taxes","Tax",null,{"$f":"IF(E78 <> \"\", 1, 0)","v":0},{"$f":"F78*E78","v":0}]
[null,null,null,null,null,{"$f":"SUM(F80)","v":0}]
[null,null,null,"MACHINE TOTAL*",null,{"$f":"SUM(G80)","v":0},{"$f":"SUM(G28:G78)","v":0},null,null,null,null,null,null,"This goes to \"My Documents\""]
[null,"Financing",null,null,null,null,{"$f":"G80","v":0}]
[]
[null,null,"Is customer interested in financing?","No"]
[]
[null,null,"If not, why?"]
[]
[]
[null,null,"First Western Equipment Finance - Leasing Calculation Option:","Option 1",null,"Option 2",null,null,null,{"$f":"Financing!A38","v":"Rates 2025 - Rev. 5/6/2025"}]
[null,null,null,"Monthly Payment","Cost Per Day","Monthly Payment","Cost Per Day",null,null,{"$f":"Financing!A39","v":"“Blank Payment Amounts Indicate The Financing Option Or Purchase Options Selected Are Not "}]
[null,null,"Purchase Option:","FWEF:  $1 Buyout Lease",null,"FWEF: Municipal Lease",null,null,null,{"$f":"Financing!A40","v":"Applicable Or The Machine Total Is Below The Minimum Amount For The Selected Vendor”"}]
[null,null,"24 Months",0,0,0,0,null,null,{"$f":"Financing!A41","v":"\"Quoted monthly payments are estimates only and are based on a certain level of credit rating."}]
[null,null,"30 Months",0,0,0,0,null,null,{"$f":"Financing!A42","v":"Actual monthly payments may be higher depending on your credit rating.\""}]
[null,null,"36 Months",0,0,0,0,null,null,{"$f":"Financing!A43","v":"“Financing rates do not include Pre-Paid Service”"}]
[null,null,"48 Months",0,0,0,0,null,{"$f":"Financing!A44","v":0}]
[]
[null,null,null,"Benefits of Equipment Financing:"]
[null,null,null,"• Spreads out investment over time.",null,"• Keep current with latest technology."]
[null,null,null,"• Preserve capital.",null,"• Service and parts bundling available."]
[null,null,null,"• Low monthly payment.",null,"• Pay for labor savings as you go."]
[]
[]
[null,null,"Bundled Offerings","Flexclean – Fair Market Value",null,"Flexclean - $1 Buyout"]
[null,null,"FlexClean: ","36 Month Term",null,"36 Month Term",null,null,"No","AB Brushes"]
[null,null,"Hours included per Month:","Gold","Silver","Gold","Silver","Check"]
[null,null,"< 30/mo. (Avg. 1hr./day)",null,null,null,null,null,{"$f":"FlexCleanCalc!$A21","v":"“FlexClean monthly rates include payment for both machine and service.”"}]
[null,null,"< 60/mo. (Avg. 2hrs./day)"]
[null,null,"< 90/mo. (Avg. 3hrs./day)"]
[null,null,"*This value assumes one service contract regardless of the number of UNITS included in the quote"]
[]
[]
[null,null,"Bundled Offerings","Flexclean – Fair Market Value",null,"Flexclean - $1 Buyout"]
[null,null,"FlexClean 2: ","48 Month Term",null,"48 Month Term"]
[null,null,"Hours included per Month:","Gold","Silver","Gold","Silver"]
[null,null,"< 30/mo. (Avg. 1hr./day)"]
[null,null,"< 60/mo. (Avg. 2hrs./day)"]
[null,null,"< 90/mo. (Avg. 3hrs./day)"]
[null,null,"*This value assumes one service contract regardless of the number of UNITS included in the quote"]
[]
[null,null,"Bundled Offerings","Flexclean – Fair Market Value",null,"Flexclean - $1 Buyout"]
[null,null,"FlexClean 3: ","60 Month Term",null,"60 Month Term"]
[null,null,"Hours included per Month:","Gold","Silver","Gold","Silver"]
[null,null,"< 30/mo. (Avg. 1hr./day)"]
[null,null,"< 60/mo. (Avg. 2hrs./day)"]
[null,null,"< 90/mo. (Avg. 3hrs./day)"]
[null,null,"*This value assumes one service contract regardless of the number of UNITS included in the quote"]
[]
[null,"  TennantTrue"]
[]
[null,null,"Is customer interested in service program?","Yes","*State/County selection required for TennantTrue service options"]
[]
[null,null,"If not, why?"]
[]
[null,null,"Term:",36,null,"AB Brushes","No"]
[null,null,"Monthly machine usage (hrs):","< 30/mo. (Avg. 1hr./day)"]
[]
[null,null,"TennantTrue: ","Gold Contract",null,"Silver Contract"]
[null,null,"Per Visit",null,null,501]
[null,null,"Monthly",173,null,88]
[null,null,"Annually",null,null,1035]
[null,null,"Pre-Pay Full Term",5964,null,3042]
[null,null,"Hourly Labor Rate"]
[null,null,"Site Visit"]
[]
[null,null,"* Verify customer current pricing prior to quote. "]
[null,null,"**All rates and fees above reflect service for one (1) unit with the exception of Block of Time service."]
[null,null,"*Block of Time is available in 1 Year Term only and is priced as such no matter the term selection on this template."]
[]
[]
[null,"Servicing"]
[]
[null,null,"Is customer interested in a service plan?","No"]
[]
[null,null,"If not, why?"]
[]
[]
[null,"Quote Special Instructions:"]
[]
[]
[null,null,{"$f":"Start_Here!E36","v":"Terms and Conditions"}]
[null,null,{"$f":"Start_Here!E37","v":"Ask your local sales rep for estimated lead times. Verify when placing order"}]
[null,null,{"$f":"Start_Here!E38","v":"All orders subject to acceptance by Tennant Sales and Service Company, Minneapolis, Minnesota"}]
[null,null,{"$f":"Start_Here!E39","v":"Prices subject to change without notice."}]
[null,null,{"$f":"Start_Here!E40","v":"Terms:  Net 30 days.  Subject to any applicable taxes."}]
[null,null,{"$f":"Start_Here!E41","v":"Freight: Machines and accessory orders delivered FOB shipping point Frt PPD & Add"}]
[null,null,{"$f":"Start_Here!E42","v":"Parts, supplies, detergents and floor treating material orders delivered FOB "}]
[null,null,{"$f":"Start_Here!E43","v":"shipping point Frt PPD"}]
[null,null,{"$f":"Start_Here!E44","v":"All orders are subject to Tennant’s General Terms and Conditions available at http://www.tennantco.com/terms."}]
[null,null,{"$f":"Start_Here!E45","v":"Printed General Terms and Conditions are also available upon request."}]
[null,null,{"$f":"Start_Here!E46","v":0}]
[]
[null,null,null,null,"Quote Date :",null,{"$f":"Letter!$A$25","v":"2020-09-17"}]
["Order Placement Information:  To place your order, fill in PO# and customer signatures,"]
["call or fax to the numbers listed below. Customer Purchase Order is required."]
["If information is missing, orders will be entered and held until all information is received."]
[null,null,"Customer Number",null,"Cust Grp 3"]
[null,null,{"$f":"Start_Here!$C$25","v":0},null,{"$f":"Start_Here!$C$29","v":0}]
[null,null,{"$f":"Start_Here!$B$18","v":"Who Owns the Machine? (Sold-To Info) (Please Verify)"}]
["Company",null,{"$f":"Start_Here!$C$19","v":"Company Name"}]
["Address",null,{"$f":"Start_Here!$C$20","v":"Address"}]
[null,null,{"$f":"Start_Here!$C$21","v":"City, State Zip"}]
["Name",null,{"$f":"Start_Here!$C$22","v":"Contact Name"}]
["Phone",null,{"$f":"Start_Here!$C$23","v":"Contact Phone"}]
[null,null,{"$f":"Start_Here!$B$11","v":"Where is the Machine Being Shipped? (Ship-To Info) (Please Verify)"}]
["Company",null,{"$f":"Start_Here!$C$12","v":"Company Name"}]
["Address",null,{"$f":"Start_Here!$C$13","v":"Address"}]
[null,null,{"$f":"Start_Here!$C$14","v":"City, State Zip"}]
["Name",null,{"$f":"Start_Here!$C$15","v":"Contact Name"}]
["Phone",null,{"$f":"Start_Here!$C$16","v":"Contact Phone"}]
[null,null,{"$f":"Start_Here!$B$31","v":"Shipping / Carrier Instructions:"},null,"Order Special Instructions:"]
[null,null,{"$f":"Start_Here!$C$32","v":0}]
[]
[null,null,"Customer Purchase Order No."]
[null,null,"(please attach copy)"]
[]
[]
[null,null,"Tax Exempt",null,"Yes"]
[null,null,null,null,"No"]
[null,null,"If Yes, attach a copy of your exemption certificate."]
[]
[null,null,"Requested Delivery Date"]
[null,null,{"$f":"Start_Here!$C$28","v":0}]
[]
[null,null,{"$f":"Start_Here!$C$26","v":0},null,{"$f":"Start_Here!$C$27","v":0}]
[null,0,"Authorized Buyer (please print)",null,"Phone Number"]
[]
[]
[null,0,"Authorized Buyer Signature"]
[]
[null,null,{"$f":"Start_Here!$C$41","v":"Rep Name"}]
[null,null,"Tennant Representative"]
[]
["Specialized Maintenance Equipment"]
[{"$f":"Start_Here!$C$48","v":"TENNANT · 10400 Clean Street · Eden Prairie, MN 55344 ·"}]
[{"$f":"Start_Here!$C$49","v":" PHONE:800-553-8033 · FAX:763-513-2116"}]

{"sheet":"T981","index":19,"n_rows":242,"n_cols":18,"rows_kept":242,"cut":false,"hidden":false,"merged":[[202,2,202,5],[211,4,211,5],[192,2,192,5],[193,2,193,5],[194,2,194,5],[195,2,195,5],[196,2,196,5],[198,4,198,7],[190,2,190,5],[149,3,149,4],[149,5,149,6],[150,3,150,4],[150,5,150,6],[161,3,162,6],[165,1,165,6],[184,4,184,7],[186,2,186,5],[187,2,187,5],[188,2,188,5],[189,2,189,5],[146,3,146,4],[146,5,146,6],[147,3,147,4],[147,5,147,6],[148,3,148,4],[148,5,148,6],[141,3,141,4],[142,3,142,4],[144,3,144,4],[144,5,144,6],[145,3,145,4],[145,5,145,6],[139,3,139,6],[111,3,111,4],[111,5,111,6],[119,3,119,4],[119,5,119,6],[120,3,120,4],[120,5,120,6],[127,3,127,4],[127,5,127,6],[128,3,128,4],[128,5,128,6],[137,4,137,8],[110,3,110,4],[110,5,110,6],[30,1,30,5],[31,1,31,5],[32,1,32,5],[34,2,34,6],[93,3,93,6],[96,3,96,4],[96,5,96,6],[98,3,98,4],[98,5,98,6],[0,2,0,3],[1,2,1,3],[2,2,2,3],[3,2,3,3],[11,2,11,6]]}
["T981",null,{"$f":"Start_Here!$C19","v":"Company Name"}]
[{"$f":"SUM(G89)","v":0},null,{"$f":"Start_Here!$C20","v":"Address"}]
[null,null,{"$f":"Start_Here!$C21","v":"City, State Zip"}]
[null,null,{"$f":"Start_Here!$C22","v":"Contact Name"}]
[null,null,{"$f":"Start_Here!$C$41","v":"Rep Name"}]
[null,null,{"$f":"Start_Here!$C$37","v":"Tennant Sales and Service Company"}]
[null,null,{"$f":"Start_Here!$C$38","v":"10400 Clean Street"}]
[null,null,{"$f":"Start_Here!$C$39","v":"Eden Prairie, MN 55344"}]
[null,null,{"$f":"Start_Here!$C$43","v":"800-553-8033"},null,"Quote Date :",null,{"$f":"Letter!$A$25","v":"2020-09-17"}]
[]
[null,null,{"$f":"Help!C2","v":"US Date Rev - 5/6/2025"}]
[null,null,"BUILT-IN “TENNANT VALUE” INCLUDES:"]
[]
[null,"Wet, 360 AH C/20 Battery Pack",null,"No Tool Squeegee and Brush Change"]
[null,"36VDC, 21A 85-265 VAC 45/65 Hz Charger",null,"In-Line Vacuum Fan Air Filter"]
[null,"DC Propel Motor",null,"High Visibility Maintenance Touch Points"]
[null,"Disk Scrubbing - 36 in (900 mm) path",null,"Cup Holder"]
[null,"Cylindrical Scrubbing - 30 in (750 mm) path",null,"Multi-Language Operator Manual and Video"]
[null,"Standard Sweeping Side Brushes (Cylindrical model only)"]
[null,"Standard Cylindrical or Disk Scrubbing Brushes (Select One)",null,"T981 Controls:"]
[null,"Non-Corrosive Solution and Recovery Tanks",null,"3 Preset Scrub Operation Programs"]
[null,"33 gal (125 L) Solution Tank",null,"On Board Diagnostics"]
[null,"35.6 gal (135 L) Recovery Tank",null,"Spin on/spin off brush attachment (Disk model only)"]
[null,"Parabolic Rear Squeegee Breakaway System"]
[null,"Automatic Functions:"]
[null,"Parking Brake"]
[null,"Squeegee Lift"]
[]
[]
[]
[null,"TENNANT COMPANY WARRANTY"]
[null,"3 YEARS OR 2000 HOURS ON PARTS, 2 YEARS LABOR"]
[null,"90 DAYS TRAVEL, 10 YEARS ON DURAMERTM TANKS"]
[]
[]
[]
[null,null,null,null,"                Quote Request Information"]
[null,null,null,null,null,null,"Fax (quote only)"]
[null,null,null,null,null,null,"Mail (quote,lit, specs)"]
[null,null,null,null,null,null,"Fax + Mail"]
[]
[null,null,null,null,"                Primary Use"]
[null,null,null,null,null,null,"Inside"]
[null,null,null,null,null,null,"Outside"]
[null,null,"Description","Reference # ","US List Price","Qty.","Extended Price"]
[null,"Base Configuration",null,"Reference Number","Price",{"$f":"SUM(F47,F51,F56)","v":0},null,{"$f":"IFERROR(IFERROR(VLOOKUP(D46,Surcharge!A:B,2,FALSE)*F46, VLOOKUP(D46 & \"\",Surcharge!A:B,2,FALSE)*F46), \"\")","v":""}]
[null,null,"Cleaning Type",null,null,{"$f":"SUM(F48:F49)","v":0},null,{"$f":"IFERROR(IFERROR(VLOOKUP(D47,Surcharge!A:B,2,FALSE)*F47, VLOOKUP(D47 & \"\",Surcharge!A:B,2,FALSE)*F47), \"\")","v":""}]
[null,null,"T981 Ride-On Scrubber 750 mm/30\" - Cylindrical","T981-750-C",27486,null,{"$f":"F48*E48","v":0},{"$f":"IFERROR(IFERROR(VLOOKUP(D48,Surcharge!A:B,2,FALSE)*F48, VLOOKUP(D48 & \"\",Surcharge!A:B,2,FALSE)*F48), \"\")","v":""},null,null,null,null,null,null,{"$f":"VLOOKUP(P48,'MPF SAP Download'!A:E,5,FALSE)","v":14118},"M-T350VK_BASE_T350-500-D",null,"M-T350VK_BASE_T350-500-D"]
[null,null,"T981 Ride-On Scrubber 900 mm/36\" - Disk","T981-900-D",27430,null,{"$f":"F49*E49","v":0},{"$f":"IFERROR(IFERROR(VLOOKUP(D49,Surcharge!A:B,2,FALSE)*F49, VLOOKUP(D49 & \"\",Surcharge!A:B,2,FALSE)*F49), \"\")","v":""},null,null,null,null,null,null,{"$f":"VLOOKUP(P49,'MPF SAP Download'!A:E,5,FALSE)","v":15627},"M-T350VK_BASE_T350-600-D",null,"M-T350VK_BASE_T350-600-D"]
[null,null,null,null,null,null,null,{"$f":"IFERROR(IFERROR(VLOOKUP(D50,Surcharge!A:B,2,FALSE)*F50, VLOOKUP(D50 & \"\",Surcharge!A:B,2,FALSE)*F50), \"\")","v":""}]
[null,null,"Battery Type  (Note 1)",null,null,{"$f":"SUM(F52:F54)","v":0},null,{"$f":"IFERROR(IFERROR(VLOOKUP(D51,Surcharge!A:B,2,FALSE)*F51, VLOOKUP(D51 & \"\",Surcharge!A:B,2,FALSE)*F51), \"\")","v":""}]
[null,null,"Wet 360AH C/20  (Kit of 6 batteries)",9022562,"N/C",null,{"$f":"IF(F52=0,\" \",\"N/C\")","v":" "},{"$f":"IFERROR(IFERROR(VLOOKUP(D52,Surcharge!A:B,2,FALSE)*F52, VLOOKUP(D52 & \"\",Surcharge!A:B,2,FALSE)*F52), \"\")","v":""},null,null,null,null,null,null,{"$f":"VLOOKUP(P52,'MPF SAP Download'!A:E,5,FALSE)","v":{"$error":"#N/A"}},"M-T350",null,"M-T350VK_TRMLVL_PMEM"]
[null,null,"Sealed/MF AGM 350AH C/20  (Kit of 6 batteries)",9022563,1141,null,{"$f":"F53*E53","v":0},{"$f":"IFERROR(IFERROR(VLOOKUP(D53,Surcharge!A:B,2,FALSE)*F53, VLOOKUP(D53 & \"\",Surcharge!A:B,2,FALSE)*F53), \"\")","v":""},null,null,null,null,null,null,{"$f":"VLOOKUP(P53,'MPF SAP Download'!A:E,5,FALSE)","v":967},"M-T350VK_TRMLVL_PPAN",null,"M-T350VK_TRMLVL_PPAN"]
[null,null,"Less Battery, DEDUCT (Note 1)",null,-701,null,{"$f":"F54*E54","v":0},{"$f":"IFERROR(IFERROR(VLOOKUP(D54,Surcharge!A:B,2,FALSE)*F54, VLOOKUP(D54 & \"\",Surcharge!A:B,2,FALSE)*F54), \"\")","v":""}]
[null,null,null,null,null,{"$f":"SUM(F56:F59)","v":0},null,{"$f":"IFERROR(IFERROR(VLOOKUP(D55,Surcharge!A:B,2,FALSE)*F55, VLOOKUP(D55 & \"\",Surcharge!A:B,2,FALSE)*F55), \"\")","v":""}]
[null,null,"Charger",null,null,{"$f":"SUM(F57:F59)","v":0},null,{"$f":"IFERROR(IFERROR(VLOOKUP(D56,Surcharge!A:B,2,FALSE)*F56, VLOOKUP(D56 & \"\",Surcharge!A:B,2,FALSE)*F56), \"\")","v":""},null,null,null,null,null,null,{"$f":"VLOOKUP(P56,'MPF SAP Download'!A:E,5,FALSE)","v":2218},"M-T350VK_CLNTCH_ECH2ON",null,"M-T350VK_CLNTCH_ECH2ON"]
[null,null,"21A 85-265V AC 50/60Hz 1Ph - Off-Board",9022564,"N/C",null,{"$f":"IF(F57=0,\" \",\"N/C\")","v":" "},{"$f":"IFERROR(IFERROR(VLOOKUP(D57,Surcharge!A:B,2,FALSE)*F57, VLOOKUP(D57 & \"\",Surcharge!A:B,2,FALSE)*F57), \"\")","v":""},null,null,null,null,null,null,null,""]
[null,null,"Without Charger (Note 1)",null,-299,null,{"$f":"F58*E58","v":0},{"$f":"IFERROR(IFERROR(VLOOKUP(D58,Surcharge!A:B,2,FALSE)*F58, VLOOKUP(D58 & \"\",Surcharge!A:B,2,FALSE)*F58), \"\")","v":""},null,null,null,null,null,null,{"$f":"VLOOKUP(P58,'MPF SAP Download'!A:E,5,FALSE)","v":622},"M-T350VK_SVEEVMSWH",null,"M-T350VK_SVEEVMSWH"]
[null,null,"Charger Power Cord",1017079,"N/C",null,{"$f":"IF(F59=0,\" \",\"N/C\")","v":" "},null,null,null,null,null,null,null,{"$f":"VLOOKUP(P59,'MPF SAP Download'!A:E,5,FALSE)","v":65},"M-T350VK_SVEEVMSWHLKT",null,"M-T350VK_SVEEVMSWHLKT"]
[null,null,null,null,null,null,null,{"$f":"IFERROR(IFERROR(VLOOKUP(D60,Surcharge!A:B,2,FALSE)*F60, VLOOKUP(D60 & \"\",Surcharge!A:B,2,FALSE)*F60), \"\")","v":""}]
[null,"Brushes and Pads  (Note 2)",null,null,null,{"$f":"SUM(F62,F65)","v":0},null,{"$f":"IFERROR(IFERROR(VLOOKUP(D61,Surcharge!A:B,2,FALSE)*F61, VLOOKUP(D61 & \"\",Surcharge!A:B,2,FALSE)*F61), \"\")","v":""}]
[null,null,"750mm/30\" Cylindrical Scrubbing Brush",null,null,{"$f":"SUM(F63)","v":0},null,{"$f":"IFERROR(IFERROR(VLOOKUP(D62,Surcharge!A:B,2,FALSE)*F62, VLOOKUP(D62 & \"\",Surcharge!A:B,2,FALSE)*F62), \"\")","v":""},null,null,null,null,null,null,null,"M-T350",null,"M-T350VK_BTY_W210C20"]
[null,null,"Polypropylene",null,"N/C",null,{"$f":"IF(F63=0,\" \",\"N/C\")","v":" "},{"$f":"IFERROR(IFERROR(VLOOKUP(D63,Surcharge!A:B,2,FALSE)*F63, VLOOKUP(D63 & \"\",Surcharge!A:B,2,FALSE)*F63), \"\")","v":""},null,null,null,null,null,null,{"$f":"VLOOKUP(P63,'MPF SAP Download'!A:E,5,FALSE)","v":191},"M-T350VK_BTY_W240C20",null,"M-T350VK_BTY_W240C20"]
[null,null,null,null,null,null,null,{"$f":"IFERROR(IFERROR(VLOOKUP(D64,Surcharge!A:B,2,FALSE)*F64, VLOOKUP(D64 & \"\",Surcharge!A:B,2,FALSE)*F64), \"\")","v":""},null,null,null,null,null,null,{"$f":"VLOOKUP(P64,'MPF SAP Download'!A:E,5,FALSE)","v":1443},"M-T350VK_BTY_A220C20",null,"M-T350VK_BTY_A220C20"]
[null,null,"900mm/36\" Disk Scrubbing Brush/Pads (2 Required)",null,null,{"$f":"SUM(F66)","v":0},null,{"$f":"IFERROR(IFERROR(VLOOKUP(D65,Surcharge!A:B,2,FALSE)*F65, VLOOKUP(D65 & \"\",Surcharge!A:B,2,FALSE)*F65), \"\")","v":""},null,null,null,null,null,null,{"$f":"VLOOKUP(P65,'MPF SAP Download'!A:E,5,FALSE)","v":-450},"M-T350VK_BTY_WO",null,"M-T350VK_BTY_WO"]
[null,null,"Polypropylene",null,"N/C",null,{"$f":"IF(F66=0,\" \",\"N/C\")","v":" "},{"$f":"IFERROR(IFERROR(VLOOKUP(D66,Surcharge!A:B,2,FALSE)*F66, VLOOKUP(D66 & \"\",Surcharge!A:B,2,FALSE)*F66), \"\")","v":""}]
[null,null,null,null,null,null,null,{"$f":"IFERROR(IFERROR(VLOOKUP(D67,Surcharge!A:B,2,FALSE)*F67, VLOOKUP(D67 & \"\",Surcharge!A:B,2,FALSE)*F67), \"\")","v":""},null,null,null,null,null,null,{"$f":"VLOOKUP(P67,'MPF SAP Download'!A:E,5,FALSE)","v":1029},"M-T350VK_BTYWTRSYS_SF",null,"M-T350VK_BTYWTRSYS_SF"]
[null,"Support","Packaging  (Note 3)",null,null,{"$f":"SUM(F69:F70)","v":0},null,{"$f":"IFERROR(IFERROR(VLOOKUP(D68,Surcharge!A:B,2,FALSE)*F68, VLOOKUP(D68 & \"\",Surcharge!A:B,2,FALSE)*F68), \"\")","v":""},null,null,null,null,null,null,{"$f":"VLOOKUP(P68,'MPF SAP Download'!A:E,5,FALSE)","v":600},"M-T350VK_BTYWTRSYS_ML",null,"M-T350VK_BTYWTRSYS_ML"]
[null,null,"Pad Wrap",null,"N/C",null,{"$f":"IF(F69=0,\" \",\"N/C\")","v":" "},{"$f":"IFERROR(IFERROR(VLOOKUP(D69,Surcharge!A:B,2,FALSE)*F69, VLOOKUP(D69 & \"\",Surcharge!A:B,2,FALSE)*F69), \"\")","v":""}]
[null,null,"Skid w/Carton, Non-Stackable","T981-SKD",521,null,{"$f":"F70*E70","v":0},{"$f":"IFERROR(IFERROR(VLOOKUP(D70,Surcharge!A:B,2,FALSE)*F70, VLOOKUP(D70 & \"\",Surcharge!A:B,2,FALSE)*F70), \"\")","v":""},null,null,null,null,null,null,null,"M-T350",null,"M-T350VK_CHG_25A100V5060H1"]
[null,null,null,null,null,null,null,{"$f":"IFERROR(IFERROR(VLOOKUP(D71,Surcharge!A:B,2,FALSE)*F71, VLOOKUP(D71 & \"\",Surcharge!A:B,2,FALSE)*F71), \"\")","v":""}]
[null,null,null,null,null,"  "]
[null,null,null,null,null,{"$f":"SUM(#REF!)","v":{"$error":"#REF!"}}]
[]
[]
[null,null,null,null,{"$f":"ROUND(SUM(G46:G75), 0)","v":0},{"$f":"SUM(E77)","v":0}]
[null,null,null,"Machine Subtotal ",{"$f":"ROUND(SUM(G46:G75), 0)","v":0},{"$f":"F76","v":0}]
[null,"Discounts",null,null,null,{"$f":"SUM(F79)","v":0}]
[null,null,null,null,null,{"$f":"SUM(F80:F83)","v":0}]
[null,null,null,"Discount %",null,{"$f":"IF(E80 <> \"\", 1, 0)","v":0},{"$f":"IF(F80*(E80*0.01)*E76 < 0, F80*(E80*0.01)*E76, -(F80*(E80*0.01)*E76))","v":0}]
[null,null,null,"Discount $",null,{"$f":"IF(E81 <> \"\", 1, 0)","v":0},{"$f":"IF(F81*E81 < 0, F81*E81, -(F81*E81))","v":0}]
[null,null,null,"Discount $",null,{"$f":"IF(E82 <> \"\", 1, 0)","v":0},{"$f":"IF(F82*E82 < 0, F82*E82, -(F82*E82))","v":0}]
[null,null,null,"Discount $",null,{"$f":"IF(E83 <> \"\", 1, 0)","v":0},{"$f":"IF(F83*E83 < 0, F83*E83, -(F83*E83))","v":0}]
[null,null,null,"Discount Total ",{"$f":"SUM(G80:G83)","v":0},{"$f":"SUM(E84)","v":0}]
[null,null,null,null,null,{"$f":"#REF!","v":{"$error":"#REF!"}}]
[null,null,"Prepaid and Add","Freight",null,{"$f":"IF(E86 <> \"\", 1, 0)","v":0},{"$f":"F86*E86","v":0}]
[null,null,"Subject to all applicable taxes","Tax",null,{"$f":"IF(E87 <> \"\", 1, 0)","v":0},{"$f":"F87*E87","v":0}]
[null,null,null,null,null,{"$f":"SUM(F89)","v":0}]
[null,null,null,"MACHINE TOTAL*",null,{"$f":"SUM(G89)","v":0},{"$f":"SUM(G46:G87)","v":0},null,null,null,null,null,null,"This goes to \"My Documents\""]
[null,"Financing",null,null,null,null,{"$f":"G89","v":0}]
[]
[null,null,"Is customer interested in financing?","No"]
[]
[null,null,"If not, why?"]
[]
[]
[null,null,"First Western Equipment Finance - Leasing Calculation Option:","Option 1",null,"Option 2",null,null,null,{"$f":"Financing!A38","v":"Rates 2025 - Rev. 5/6/2025"}]
[null,null,null,"Monthly Payment","Cost Per Day","Monthly Payment","Cost Per Day",null,null,{"$f":"Financing!A39","v":"“Blank Payment Amounts Indicate The Financing Option Or Purchase Options Selected Are Not "}]
[null,null,"Purchase Option:","FWEF:  $1 Buyout Lease",null,"FWEF: Municipal Lease",null,null,null,{"$f":"Financing!A40","v":"Applicable Or The Machine Total Is Below The Minimum Amount For The Selected Vendor”"}]
[null,null,"24 Months",0,0,0,0,null,null,{"$f":"Financing!A41","v":"\"Quoted monthly payments are estimates only and are based on a certain level of credit rating."}]
[null,null,"30 Months",0,0,0,0,null,null,{"$f":"Financing!A42","v":"Actual monthly payments may be higher depending on your credit rating.\""}]
[null,null,"36 Months",0,0,0,0,null,null,{"$f":"Financing!A43","v":"“Financing rates do not include Pre-Paid Service”"}]
[null,null,"48 Months",0,0,0,0]
[]
[null,null,null,"Benefits of Equipment Financing:"]
[null,null,null,"• Spreads out investment over time.",null,"• Keep current with latest technology."]
[null,null,null,"• Preserve capital.",null,"• Service and parts bundling available."]
[null,null,null,"• Low monthly payment.",null,"• Pay for labor savings as you go."]
[]
[]
[null,null,"Bundled Offerings","Flexclean – Fair Market Value",null,"Flexclean - $1 Buyout"]
[null,null,"FlexClean: ","36 Month Term",null,"36 Month Term",null,null,"No","AB Brushes"]
[null,null,"Hours included per Month:","Gold","Silver","Gold","Silver","Check"]
[null,null,"< 30/mo. (Avg. 1hr./day)",null,null,null,null,null,{"$f":"FlexCleanCalc!$A21","v":"“FlexClean monthly rates include payment for both machine and service.”"}]
[null,null,"< 60/mo. (Avg. 2hrs./day)"]
[null,null,"< 90/mo. (Avg. 3hrs./day)"]
[null,null,"*This value assumes one service contract regardless of the number of UNITS included in the quote"]
[]
[]
[null,null,"Bundled Offerings","Flexclean – Fair Market Value",null,"Flexclean - $1 Buyout"]
[null,null,"FlexClean 2: ","48 Month Term",null,"48 Month Term"]
[null,null,"Hours included per Month:","Gold","Silver","Gold","Silver"]
[null,null,"< 30/mo. (Avg. 1hr./day)"]
[null,null,"< 60/mo. (Avg. 2hrs./day)"]
[null,null,"< 90/mo. (Avg. 3hrs./day)"]
[null,null,"*This value assumes one service contract regardless of the number of UNITS included in the quote"]
[]
[null,null,"Bundled Offerings","Flexclean – Fair Market Value",null,"Flexclean - $1 Buyout"]
[null,null,"FlexClean 3: ","60 Month Term",null,"60 Month Term"]
[null,null,"Hours included per Month:","Gold","Silver","Gold","Silver"]
[null,null,"< 30/mo. (Avg. 1hr./day)"]
[null,null,"< 60/mo. (Avg. 2hrs./day)"]
[null,null,"< 90/mo. (Avg. 3hrs./day)"]
[null,null,"*This value assumes one service contract regardless of the number of UNITS included in the quote"]
[]
[null,"  TennantTrue"]
[]
[null,null,"Is customer interested in service program?","Yes","*State/County selection required for TennantTrue service options"]
[]
[null,null,"If not, why?"]
[]
[null,null,"Term:",36,null,"AB Brushes","No"]
[null,null,"Monthly machine usage (hrs):","< 30/mo. (Avg. 1hr./day)"]
[]
[null,null,"TennantTrue: ","Gold Contract",null,"Silver Contract"]
[null,null,"Per Visit",null,null,501]
[null,null,"Monthly",189,null,88]
[null,null,"Annually",null,null,1035]
[null,null,"Pre-Pay Full Term",6526,null,3042]
[null,null,"Hourly Labor Rate"]
[null,null,"Site Visit"]
[]
[null,null,"* Verify customer current pricing prior to quote. "]
[null,null,"**All rates and fees above reflect service for one (1) unit with the exception of Block of Time service."]
[null,null,"*Block of Time is available in 1 Year Term only and is priced as such no matter the term selection on this template."]
[]
[]
[null,"Servicing"]
[]
[null,null,"Is customer interested in a service plan?","No"]
[]
[null,null,"If not, why?"]
[]
[]
[null,"Quote Special Instructions:"]
[]
[]
[null,null,{"$f":"Start_Here!E36","v":"Terms and Conditions"}]
[null,null,{"$f":"Start_Here!E37","v":"Ask your local sales rep for estimated lead times. Verify when placing order"}]
[null,null,{"$f":"Start_Here!E38","v":"All orders subject to acceptance by Tennant Sales and Service Company, Minneapolis, Minnesota"}]
[null,null,{"$f":"Start_Here!E39","v":"Prices subject to change without notice."}]
[null,null,{"$f":"Start_Here!E40","v":"Terms:  Net 30 days.  Subject to any applicable taxes."}]
[null,null,{"$f":"Start_Here!E41","v":"Freight: Machines and accessory orders delivered FOB shipping point Frt PPD & Add"}]
[null,null,{"$f":"Start_Here!E42","v":"Parts, supplies, detergents and floor treating material orders delivered FOB "}]
[null,null,{"$f":"Start_Here!E43","v":"shipping point Frt PPD"}]
[null,null,{"$f":"Start_Here!E44","v":"All orders are subject to Tennant’s General Terms and Conditions available at http://www.tennantco.com/terms."}]
[null,null,{"$f":"Start_Here!E45","v":"Printed General Terms and Conditions are also available upon request."}]
[null,null,{"$f":"Start_Here!E46","v":0}]
[]
[null,null,null,null,"Quote Date :",null,{"$f":"Letter!$A$25","v":"2020-09-17"}]
["Order Placement Information:  To place your order, fill in PO# and customer signatures,"]
["call or fax to the numbers listed below. Customer Purchase Order is required."]
["If information is missing, orders will be entered and held until all information is received."]
[null,null,"Customer Number",null,"Cust Grp 3"]
[null,null,{"$f":"Start_Here!$C$25","v":0},null,{"$f":"Start_Here!$C$29","v":0}]
[null,null,{"$f":"Start_Here!$B$18","v":"Who Owns the Machine? (Sold-To Info) (Please Verify)"}]
["Company",null,{"$f":"Start_Here!$C$19","v":"Company Name"}]
["Address",null,{"$f":"Start_Here!$C$20","v":"Address"}]
[null,null,{"$f":"Start_Here!$C$21","v":"City, State Zip"}]
["Name",null,{"$f":"Start_Here!$C$22","v":"Contact Name"}]
["Phone",null,{"$f":"Start_Here!$C$23","v":"Contact Phone"}]
[null,null,{"$f":"Start_Here!$B$11","v":"Where is the Machine Being Shipped? (Ship-To Info) (Please Verify)"}]
["Company",null,{"$f":"Start_Here!$C$12","v":"Company Name"}]
["Address",null,{"$f":"Start_Here!$C$13","v":"Address"}]
[null,null,{"$f":"Start_Here!$C$14","v":"City, State Zip"}]
["Name",null,{"$f":"Start_Here!$C$15","v":"Contact Name"}]
["Phone",null,{"$f":"Start_Here!$C$16","v":"Contact Phone"}]
[null,null,{"$f":"Start_Here!$B$31","v":"Shipping / Carrier Instructions:"},null,"Order Special Instructions:"]
[null,null,{"$f":"Start_Here!$C$32","v":0}]
[]
[null,null,"Customer Purchase Order No."]
[null,null,"(please attach copy)"]
[]
[]
[null,null,"Tax Exempt",null,"Yes"]
[null,null,null,null,"No"]
[null,null,"If Yes, attach a copy of your exemption certificate."]
[]
[null,null,"Requested Delivery Date"]
[null,null,{"$f":"Start_Here!$C$28","v":0}]
[]
[null,null,{"$f":"Start_Here!$C$26","v":0},null,{"$f":"Start_Here!$C$27","v":0}]
[null,0,"Authorized Buyer (please print)",null,"Phone Number"]
[]
[]
[null,0,"Authorized Buyer Signature"]
[]
[null,null,{"$f":"Start_Here!$C$41","v":"Rep Name"}]
[null,null,"Tennant Representative"]
[]
["Specialized Maintenance Equipment"]
[{"$f":"Start_Here!$C$48","v":"TENNANT · 10400 Clean Street · Eden Prairie, MN 55344 ·"}]
[{"$f":"Start_Here!$C$49","v":" PHONE:800-553-8033 · FAX:763-513-2116"}]
[]
[]
[null,"Notes"]
[null,1,"Customer MUST order Skid w/Carton, Non-Stackable if WITHOUT BATTERY is selected.  "]
[null,null,"Continental USA orders ONLY."]
[]
[null,2,"A Polypropylene Brush comes standard with a T981."]
[]
[null,3,"Pad wrap available only in the Continental US and is the default packaging method."]
[null,null,"Customer MUST order Skid w/Carton, Non-Stackable if WITHOUT BATTERY is selected."]
[null,null,"Skid w/Carton, Non-Stackable is mandatory when shipping to AK and HI."]
[]
[null,4,"Shipping Weights and Dimensions","Pad Wrap","Skid w/Carton"]
[]
[null,null,"Weight - 750 mm / 30\" Cylindrical",null,"836 lbs / 379 Kg"]
[null,null,"Weight - 900 mm / 36\" Disk",null,"748 lbs / 339 Kg"]
[null,null,"Length",null,"79 in / 2,000 mm"]
[null,null,"Width",null,"51 in / 1,280 mm"]
[null,null,"Height",null,"66 in / 1,670 mm"]

{"sheet":"T2_Std_Config","index":20,"n_rows":243,"n_cols":14,"rows_kept":243,"cut":false,"hidden":false,"merged":[[192,2,192,5],[194,4,194,7],[198,2,198,5],[207,4,207,5],[185,2,185,5],[186,2,186,5],[188,2,188,5],[189,2,189,5],[190,2,190,5],[191,2,191,5],[184,2,184,5],[157,3,158,6],[161,1,161,6],[180,4,180,7],[182,2,182,5],[183,2,183,5],[138,3,138,4],[115,3,115,4],[115,5,115,6],[116,3,116,4],[116,5,116,6],[123,3,123,4],[123,5,123,6],[124,3,124,4],[124,5,124,6],[133,4,133,8],[135,3,135,6],[137,3,137,4],[94,3,94,4],[94,5,94,6],[106,3,106,4],[106,5,106,6],[107,3,107,4],[107,5,107,6],[30,2,30,6],[31,2,31,6],[89,3,89,6],[92,3,92,4],[92,5,92,6],[60,2,60,3],[29,2,29,6],[0,2,0,3],[1,2,1,3],[2,2,2,3],[3,2,3,3],[11,2,11,6],[140,3,140,4],[140,5,140,6],[141,3,141,4],[141,5,141,6],[142,3,142,4],[142,5,142,6],[146,3,146,4],[146,5,146,6],[143,3,143,4],[143,5,143,6],[144,3,144,4],[144,5,144,6],[145,3,145,4],[145,5,145,6]]}
["T2_Std_Config",null,{"$f":"Start_Here!$C19","v":"Company Name"}]
[{"$f":"SUM(G85)","v":0},null,{"$f":"Start_Here!$C20","v":"Address"}]
[null,null,{"$f":"Start_Here!$C21","v":"City, State Zip"}]
[null,null,{"$f":"Start_Here!$C22","v":"Contact Name"}]
[null,null,{"$f":"Start_Here!$C$41","v":"Rep Name"}]
[null,null,{"$f":"Start_Here!$C$37","v":"Tennant Sales and Service Company"}]
[null,null,{"$f":"Start_Here!$C$38","v":"10400 Clean Street"}]
[null,null,{"$f":"Start_Here!$C$39","v":"Eden Prairie, MN 55344"}]
[null,null,{"$f":"Start_Here!$C$43","v":"800-553-8033"},null,"Quote Date :",null,{"$f":"Letter!$A$25","v":"2020-09-17"}]
[]
[null,null,{"$f":"Help!C2","v":"US Date Rev - 5/6/2025"}]
[null,null,"BUILT-IN “TENNANT VALUE” INCLUDES:"]
[]
[null,null,"26 l/6.9 gal Solution Tank  & 36 l/9.5 gal Recovery Tank",null,"Standard (2) 12V 105 AH Batteries "]
[null,null,"Rugged DuramerTM Tank Construction",null,"Battery Tray"]
[null,null,"Hygienic Recovery Tank",null,"On-board Charger"]
[null,null,"10 l/2.6 gal Demisting Chamber to Protect Vac Fan ",null,"Recovery Tank Debris Tray"]
[null,null,"Adjustable Solution Flow",null,"Unsurpassed Ergonomic Design"]
[null,null,"Extremely Low Noise Level  (≤68 dBa)",null,"Adjustable Console Height"]
[null,null,"Pad Assist - less than 2 kg/4.5 lbs of push force requried",null,"Trigger Design"]
[null,null,".75 kW/1 HP brush motor, 230 RPM",null,"Front Bucket Fill Port"]
[null,null,"Cast Aluminum Scrub Deck",null,"On-board Pad Driver Hanger"]
[null,null,"Cast Aluminum Squeegee Frame",null,"Gray Solid Urethane Tires"]
[null,null,"Breakaway Squeegee Design",null,"Automotive Triple-Sealed Electrical Connectors"]
[null,null,"Factory Set Squeegee Assembly for Maximium Recovery",null,"10cm /4\" Edge & Reach Under Cleaning"]
[null,null,"100% Recovery in 180º Point Turns",null,"Key Switch for Safety"]
[null,null,"Urethane Squeegee Blades",null,"No Tool Brush / Squegee Change"]
[null,null,"Squegee Hanger",null,"Includes Pad Driver"]
[]
[null,null,"TENNANT COMPANY WARRANTY"]
[null,null,"3 YEARS OR 2500 HOURS ON ALL COMPONENTS, 3 YEARS LABOR"]
[null,null,"90 DAYS TRAVEL, 10 YEARS ON DURAMERTM TANKS"]
[]
[]
[null,null,null,null,"                Quote Request Information"]
[null,null,null,null,null,null,"Fax (quote only)"]
[null,null,null,null,null,null,"Mail (quote,lit, specs)"]
[null,null,null,null,null,null,"Fax + Mail"]
[]
[null,null,null,null,"                Primary Use"]
[null,null,null,null,null,null,"Inside"]
[null,null,null,null,null,null,"Outside"]
[null,null,"Description","Reference # ","US Price","Qty.","Extended Price"]
[null,"Standard Configuration Machines",null,null,null,{"$f":"SUM(F45,F46)","v":0}]
[null,null,"T2 Walk-Behind - Disk Scrubber, 430mm / 17\", 105AH C/20 Battery, Conventional Cleaning, \n9A 100-240V AC 50/60Hz 1Ph On-Board Charger, Pad Assist Drive Type\n(Pad Driver and Pad Wrap Packaging will default unless otherwise specified)","T2-1001D",8551,null,{"$f":"F45*E45","v":0},{"$f":"IFERROR(IFERROR(VLOOKUP(D45,Surcharge!A:B,2,FALSE)*F45, VLOOKUP(D45 & \"\",Surcharge!A:B,2,FALSE)*F45), \"\")","v":""}]
[null,null,"T2 Walk-Behind - Disk Scrubber, 430mm / 17\", 102AH C/20 Gel Battery, Conventional Cleaning, 9A 100-240V AC 50/60Hz 1Ph On-Board Charger, Pad Assist Drive Type\n(Pad Driver and Pad Wrap Packaging will default unless otherwise specified)","T2-1002D",8925,null,{"$f":"F46*E46","v":0},{"$f":"IFERROR(IFERROR(VLOOKUP(D46,Surcharge!A:B,2,FALSE)*F46, VLOOKUP(D46 & \"\",Surcharge!A:B,2,FALSE)*F46), \"\")","v":""}]
[null,null,null,null,null,null,null,{"$f":"IFERROR(IFERROR(VLOOKUP(D47,Surcharge!A:B,2,FALSE)*F47, VLOOKUP(D47 & \"\",Surcharge!A:B,2,FALSE)*F47), \"\")","v":""}]
[null,"OPTIONAL","Brushes - in place of Pad Driver  (Note 1)",null,null,{"$f":"SUM(F49,F50)","v":0}]
[null,null,"430mm/17\" Polypropylene Brush",1016765,249,null,{"$f":"F49*E49","v":0},{"$f":"IFERROR(IFERROR(VLOOKUP(D49,Surcharge!A:B,2,FALSE)*F49, VLOOKUP(D49 & \"\",Surcharge!A:B,2,FALSE)*F49), \"\")","v":""}]
[null,null,"430mm/17\" Nylon Brush",1016764,305,null,{"$f":"F50*E50","v":0},{"$f":"IFERROR(IFERROR(VLOOKUP(D50,Surcharge!A:B,2,FALSE)*F50, VLOOKUP(D50 & \"\",Surcharge!A:B,2,FALSE)*F50), \"\")","v":""}]
[]
[null,"OPTIONAL","Manuals  ","Reference Number",null,{"$f":"SUM(F53)","v":0}]
[null,null,"Parts Manual",9008845,59,null,{"$f":"F53*E53","v":0},{"$f":"IFERROR(IFERROR(VLOOKUP(D53,Surcharge!A:B,2,FALSE)*F53, VLOOKUP(D53 & \"\",Surcharge!A:B,2,FALSE)*F53), \"\")","v":""}]
[]
[null,"OPTIONAL","Packaging  (Note 2)",null,null,{"$f":"SUM(F56)","v":0}]
[null,null,"Skid w/Carton, Stackable",9011134,332,null,{"$f":"F56*E56","v":0},{"$f":"IFERROR(IFERROR(VLOOKUP(D56,Surcharge!A:B,2,FALSE)*F56, VLOOKUP(D56 & \"\",Surcharge!A:B,2,FALSE)*F56), \"\")","v":""}]
[]
[null,"Notes",null,null,null,null,null,{"$f":"IFERROR(IFERROR(VLOOKUP(D58,Surcharge!A:B,2,FALSE)*F58, VLOOKUP(D58 & \"\",Surcharge!A:B,2,FALSE)*F58), \"\")","v":""}]
[null,1,"One set of pad drivers come standard. A different brush may be chosen as an option",null,null,null,null,{"$f":"IFERROR(IFERROR(VLOOKUP(D59,Surcharge!A:B,2,FALSE)*F59, VLOOKUP(D59 & \"\",Surcharge!A:B,2,FALSE)*F59), \"\")","v":""}]
[null,2,"All machines come standard with Pad Wrap packaging.  Skid with carton packaging may be chosen as an option",null,null,null,null,{"$f":"IFERROR(IFERROR(VLOOKUP(D60,Surcharge!A:B,2,FALSE)*F60, VLOOKUP(D60 & \"\",Surcharge!A:B,2,FALSE)*F60), \"\")","v":""},null,null,null,{"$f":"SUM(F60)","v":0},"Surcharge Qty"]
[null,null,"Pad wrap packaging is only available in the continental US. For shipments outside of the continental US, please select skid with carton packaging"]
[]
[null,null,null,null,null,{"$f":"SUM(#REF!)","v":{"$error":"#REF!"}}]
[]
[null,"Custom Solution--write in description, qty, price, and PN if applicable",null,null,null,{"$f":"SUM(F66)","v":0}]
[null,null,null,null,"Insert Prices Here",{"$f":"SUM(F67:F70)","v":0}]
[null,null,null,"Custom",null,{"$f":"IF(E67 <> \"\", 1, 0)","v":0},{"$f":"F67*E67","v":0}]
[null,null,null,"Custom",null,{"$f":"IF(E68 <> \"\", 1, 0)","v":0},{"$f":"F68*E68","v":0}]
[null,null,null,"Custom",null,{"$f":"IF(E69 <> \"\", 1, 0)","v":0},{"$f":"F69*E69","v":0}]
[null,null,null,"Custom",null,{"$f":"IF(E70 <> \"\", 1, 0)","v":0},{"$f":"F70*E70","v":0}]
[null,null,null,null,{"$f":"ROUND(SUM(G45:G70), 0)","v":0},{"$f":"SUM(E72)","v":0}]
[null,null,null,"Machine Subtotal ",{"$f":"ROUND(SUM(G45:G70), 0)","v":0},{"$f":"F71","v":0}]
[null,"Discounts",null,null,null,{"$f":"SUM(F74)","v":0}]
[null,null,null,null,null,{"$f":"SUM(F75:F78)","v":0}]
[null,null,null,"Discount %",null,{"$f":"IF(E75 <> \"\", 1, 0)","v":0},{"$f":"IF(F75*(E75*0.01)*E71 < 0, F75*(E75*0.01)*E71, -(F75*(E75*0.01)*E71))","v":0}]
[null,null,null,"Discount $",null,{"$f":"IF(E76 <> \"\", 1, 0)","v":0},{"$f":"IF(F76*E76 < 0, F76*E76, -(F76*E76))","v":0}]
[null,null,null,"Discount $",null,{"$f":"IF(E77 <> \"\", 1, 0)","v":0},{"$f":"IF(F77*E77 < 0, F77*E77, -(F77*E77))","v":0}]
[null,null,null,"Discount $",null,{"$f":"IF(E78 <> \"\", 1, 0)","v":0},{"$f":"IF(F78*E78 < 0, F78*E78, -(F78*E78))","v":0}]
[null,null,null,"Discount Total ",{"$f":"SUM(G75:G78)","v":0},{"$f":"SUM(E79)","v":0}]
[null,null,null,null,null,{"$f":"#REF!","v":{"$error":"#REF!"}}]
[null,null,null,null,null,{"$f":"F80","v":{"$error":"#REF!"}}]
[null,null,"Prepaid and Add","Freight",null,{"$f":"IF(E82 <> \"\", 1, 0)","v":0},{"$f":"F82*E82","v":0}]
[null,null,"Subject to all applicable taxes","Tax",null,{"$f":"IF(E83 <> \"\", 1, 0)","v":0},{"$f":"F83*E83","v":0}]
[null,null,null,null,null,{"$f":"SUM(F85)","v":0}]
[null,null,null,"MACHINE TOTAL*",null,{"$f":"SUM(G85)","v":0},{"$f":"SUM(G45:G83)","v":0},null,null,null,null,null,null,"This goes to \"My Documents\""]
[null,"Financing",null,null,null,null,{"$f":"G85","v":0}]
[]
[null,null,"Is customer interested in financing?","No"]
[]
[null,null,"If not, why?"]
[]
[]
[null,null,"First Western Equipment Finance - Leasing Calculation Option:","Option 1",null,"Option 2",null,null,null,{"$f":"Financing!A38","v":"Rates 2025 - Rev. 5/6/2025"}]
[null,null,null,"Monthly Payment","Cost Per Day","Monthly Payment","Cost Per Day",null,null,{"$f":"Financing!A39","v":"“Blank Payment Amounts Indicate The Financing Option Or Purchase Options Selected Are Not "}]
[null,null,"Purchase Option:","FWEF:  $1 Buyout Lease",null,"FWEF: Municipal Lease",null,null,null,{"$f":"Financing!A40","v":"Applicable Or The Machine Total Is Below The Minimum Amount For The Selected Vendor”"}]
[null,null,"24 Months",0,0,0,0,null,null,{"$f":"Financing!A41","v":"\"Quoted monthly payments are estimates only and are based on a certain level of credit rating."}]
[null,null,"30 Months",0,0,0,0,null,null,{"$f":"Financing!A42","v":"Actual monthly payments may be higher depending on your credit rating.\""}]
[null,null,"36 Months",0,0,0,0,null,null,{"$f":"Financing!A43","v":"“Financing rates do not include Pre-Paid Service”"}]
[null,null,"48 Months",0,0,0,0,null,{"$f":"Financing!A44","v":0}]
[]
[null,null,null,"Benefits of Equipment Financing:"]
[null,null,null,"• Spreads out investment over time.",null,"• Keep current with latest technology."]
[null,null,null,"• Preserve capital.",null,"• Service and parts bundling available."]
[null,null,null,"• Low monthly payment.",null,"• Pay for labor savings as you go."]
[]
[]
[null,null,"Bundled Offerings","Flexclean – Fair Market Value",null,"Flexclean - $1 Buyout"]
[null,null,"FlexClean: ","36 Month Term",null,"36 Month Term",null,null,"No","AB Brushes"]
[null,null,"Hours included per Month:","Gold","Silver","Gold","Silver","Check"]
[null,null,"< 30/mo. (Avg. 1hr./day)",null,null,null,null,null,{"$f":"FlexCleanCalc!$A21","v":"“FlexClean monthly rates include payment for both machine and service.”"}]
[null,null,"< 60/mo. (Avg. 2hrs./day)"]
[null,null,"< 90/mo. (Avg. 3hrs./day)"]
[null,null,"*This value assumes one service contract regardless of the number of UNITS included in the quote"]
[]
[]
[null,null,"Bundled Offerings","Flexclean – Fair Market Value",null,"Flexclean - $1 Buyout"]
[null,null,"FlexClean 2: ","48 Month Term",null,"48 Month Term"]
[null,null,"Hours included per Month:","Gold","Silver","Gold","Silver"]
[null,null,"< 30/mo. (Avg. 1hr./day)"]
[null,null,"< 60/mo. (Avg. 2hrs./day)"]
[null,null,"< 90/mo. (Avg. 3hrs./day)"]
[null,null,"*This value assumes one service contract regardless of the number of UNITS included in the quote"]
[]
[null,null,"Bundled Offerings","Flexclean – Fair Market Value",null,"Flexclean - $1 Buyout"]
[null,null,"FlexClean 3: ","60 Month Term",null,"60 Month Term"]
[null,null,"Hours included per Month:","Gold","Silver","Gold","Silver"]
[null,null,"< 30/mo. (Avg. 1hr./day)"]
[null,null,"< 60/mo. (Avg. 2hrs./day)"]
[null,null,"< 90/mo. (Avg. 3hrs./day)"]
[null,null,"*This value assumes one service contract regardless of the number of UNITS included in the quote"]
[]
[null,"  TennantTrue"]
[]
[null,null,"Is customer interested in service program?","Yes","*State/County selection required for TennantTrue service options"]
[]
[null,null,"If not, why?"]
[]
[null,null,"Term:",36,null,"AB Brushes","No"]
[null,null,"Monthly machine usage (hrs):","< 30/mo. (Avg. 1hr./day)"]
[]
[null,null,"TennantTrue: ","Gold Contract",null,"Silver Contract"]
[null,null,"Per Visit",null,null,425]
[null,null,"Monthly",120,null,69]
[null,null,"Annually",null,null,816]
[null,null,"Pre-Pay Full Term",4162,null,2397]
[null,null,"Hourly Labor Rate"]
[null,null,"Site Visit"]
[]
[null,null,"* Verify customer current pricing prior to quote. "]
[null,null,"**All rates and fees above reflect service for one (1) unit with the exception of Block of Time service."]
[null,null,"*Block of Time is available in 1 Year Term only and is priced as such no matter the term selection on this template."]
[]
[]
[null,"Servicing"]
[]
[null,null,"Is customer interested in a service plan?","No"]
[]
[null,null,"If not, why?"]
[]
[]
[null,"Quote Special Instructions:"]
[]
[]
[null,null,{"$f":"Start_Here!E36","v":"Terms and Conditions"}]
[null,null,{"$f":"Start_Here!E37","v":"Ask your local sales rep for estimated lead times. Verify when placing order"}]
[null,null,{"$f":"Start_Here!E38","v":"All orders subject to acceptance by Tennant Sales and Service Company, Minneapolis, Minnesota"}]
[null,null,{"$f":"Start_Here!E39","v":"Prices subject to change without notice."}]
[null,null,{"$f":"Start_Here!E40","v":"Terms:  Net 30 days.  Subject to any applicable taxes."}]
[null,null,{"$f":"Start_Here!E41","v":"Freight: Machines and accessory orders delivered FOB shipping point Frt PPD & Add"}]
[null,null,{"$f":"Start_Here!E42","v":"Parts, supplies, detergents and floor treating material orders delivered FOB "}]
[null,null,{"$f":"Start_Here!E43","v":"shipping point Frt PPD"}]
[null,null,{"$f":"Start_Here!E44","v":"All orders are subject to Tennant’s General Terms and Conditions available at http://www.tennantco.com/terms."}]
[null,null,{"$f":"Start_Here!E45","v":"Printed General Terms and Conditions are also available upon request."}]
[null,null,{"$f":"Start_Here!E46","v":0}]
[]
[null,null,null,null,"Quote Date :",null,{"$f":"Letter!$A$25","v":"2020-09-17"}]
["Order Placement Information:  To place your order, fill in PO# and customer signatures,"]
["call or fax to the numbers listed below. Customer Purchase Order is required."]
["If information is missing, orders will be entered and held until all information is received."]
[null,null,"Customer Number",null,"Cust Grp 3"]
[null,null,{"$f":"Start_Here!$C$25","v":0},null,{"$f":"Start_Here!$C$29","v":0}]
[null,null,{"$f":"Start_Here!$B$18","v":"Who Owns the Machine? (Sold-To Info) (Please Verify)"}]
["Company",null,{"$f":"Start_Here!$C$19","v":"Company Name"}]
["Address",null,{"$f":"Start_Here!$C$20","v":"Address"}]
[null,null,{"$f":"Start_Here!$C$21","v":"City, State Zip"}]
["Name",null,{"$f":"Start_Here!$C$22","v":"Contact Name"}]
["Phone",null,{"$f":"Start_Here!$C$23","v":"Contact Phone"}]
[null,null,{"$f":"Start_Here!$B$11","v":"Where is the Machine Being Shipped? (Ship-To Info) (Please Verify)"}]
["Company",null,{"$f":"Start_Here!$C$12","v":"Company Name"}]
["Address",null,{"$f":"Start_Here!$C$13","v":"Address"}]
[null,null,{"$f":"Start_Here!$C$14","v":"City, State Zip"}]
["Name",null,{"$f":"Start_Here!$C$15","v":"Contact Name"}]
["Phone",null,{"$f":"Start_Here!$C$16","v":"Contact Phone"}]
[null,null,{"$f":"Start_Here!$B$31","v":"Shipping / Carrier Instructions:"},null,"Order Special Instructions:"]
[null,null,{"$f":"Start_Here!$C$32","v":0}]
[]
[null,null,"Customer Purchase Order No."]
[null,null,"(please attach copy)"]
[]
[]
[null,null,"Tax Exempt",null,"Yes"]
[null,null,null,null,"No"]
[null,null,"If Yes, attach a copy of your exemption certificate."]
[]
[null,null,"Requested Delivery Date"]
[null,null,{"$f":"Start_Here!$C$28","v":0}]
[]
[null,null,{"$f":"Start_Here!$C$26","v":0},null,{"$f":"Start_Here!$C$27","v":0}]
[null,0,"Authorized Buyer (please print)",null,"Phone Number"]
[]
[]
[null,0,"Authorized Buyer Signature"]
[]
[null,null,{"$f":"Start_Here!$C$41","v":"Rep Name"}]
[null,null,"Tennant Representative"]
[]
["Specialized Maintenance Equipment"]
[{"$f":"Start_Here!$C$48","v":"TENNANT · 10400 Clean Street · Eden Prairie, MN 55344 ·"}]
[{"$f":"Start_Here!$C$49","v":" PHONE:800-553-8033 · FAX:763-513-2116"}]
[]
[]
[null,null,"Special Information "]
[null,"Notes"]
[]
[null,1,"Pre-Configured Machines cannot add or change options.  All units will be packaged and shipped as stated above."]
[null,null,"When ordering, provide the reference number listed above.  Price does not include freight or tax.  Availability of units "]
[null,null,"and lead time may vary."]
[]
[null,2,"Customer MUST order Skid w/Carton, Stackable if WITHOUT BATTERY is selected.  Continental USA orders ONLY. "]
[]
[null,3,"One pad driver comes standard with a T2."]
[]
[null,4,"Pad wrap available only in the Continental US and is the default packaging method."]
[null,null,"Customer MUST order Skid w/Carton, Stackable if WITHOUT BATTERY is selected."]
[null,null,"Skid w/Carton, Stackable is mandatory when shipping to AK and HI.  Packaging is added at No Charge when shipping"]
[null,null,"to these locations."]
[null,null,null," "]
[null,5,"Machine Weights and dimensions","Pad Wrap","Skid w/Carton"]
[]
[null,null,"Weight (w/105AH battery)","300 lbs / 136 Kg","331 lbs / 150 Kg"]
[null,null,"Length","44\" / 1120mm","47\" / 1200mm"]
[null,null,"Width","19\" / 478mm","30\" / 750mm"]
[null,null,"Height","37\" / 930mm","45\" / 1150mm"]

{"sheet":"T300_Series_Std_Config","index":21,"n_rows":243,"n_cols":14,"rows_kept":243,"cut":false,"hidden":false,"merged":[[223,4,223,5],[242,2,242,3],[205,2,205,5],[206,2,206,5],[207,2,207,5],[208,2,208,5],[210,4,210,7],[214,2,214,5],[204,2,204,5],[173,3,174,6],[177,1,177,6],[196,4,196,7],[198,2,198,5],[199,2,199,5],[200,2,200,5],[201,2,201,5],[202,2,202,5],[157,3,157,4],[157,5,157,6],[158,3,158,4],[158,5,158,6],[159,3,159,4],[159,5,159,6],[149,4,149,8],[151,3,151,6],[153,3,153,4],[154,3,154,4],[156,3,156,4],[156,5,156,6],[132,3,132,4],[132,5,132,6],[139,3,139,4],[139,5,139,6],[140,3,140,4],[140,5,140,6],[122,3,122,4],[122,5,122,6],[123,3,123,4],[123,5,123,6],[131,3,131,4],[131,5,131,6],[105,3,105,6],[108,3,108,4],[108,5,108,6],[110,3,110,4],[110,5,110,6],[39,2,39,6],[40,2,40,5],[41,2,41,5],[42,2,42,6],[38,2,38,6],[0,2,0,3],[1,2,1,3],[2,2,2,3],[3,2,3,3],[11,2,11,6],[37,2,37,6],[15,1,15,2],[20,1,20,2],[21,1,21,2],[22,1,22,2],[27,1,27,2],[160,5,160,6],[161,3,161,4],[161,5,161,6],[162,3,162,4],[162,5,162,6],[160,3,160,4]]}
["T300_Series_Std_Config",null,{"$f":"Start_Here!$C19","v":"Company Name"}]
[{"$f":"SUM(G101)","v":0},null,{"$f":"Start_Here!$C20","v":"Address"}]
[null,null,{"$f":"Start_Here!$C21","v":"City, State Zip"}]
[null,null,{"$f":"Start_Here!$C22","v":"Contact Name"}]
[null,null,{"$f":"Start_Here!$C$41","v":"Rep Name"}]
[null,null,{"$f":"Start_Here!$C$37","v":"Tennant Sales and Service Company"}]
[null,null,{"$f":"Start_Here!$C$38","v":"10400 Clean Street"}]
[null,null,{"$f":"Start_Here!$C$39","v":"Eden Prairie, MN 55344"}]
[null,null,{"$f":"Start_Here!$C$43","v":"800-553-8033"},null,"Quote Date :",null,{"$f":"Letter!$A$25","v":"2020-09-17"}]
[]
[null,null,{"$f":"Help!C2","v":"US Date Rev - 5/6/2025"}]
[null,null,"BUILT-IN “TENNANT VALUE” INCLUDES:"]
[]
[null,"42L/11 gal Solution Tank  & 53 L/14 gal Recovery Tank",null,"Emergency Stop  (standard on all drive units)"]
[null,"Rugged DuramerTM Rotomold Tank Construction",null,"Free Floating Head Skirt (disk machines)"]
[null,"Insta-ClickTM Pad Driver and Brush Attachment (Disk machines)"]
[null,"HygienicTM Recovery Tank",null,"Front Water Fill Port w/ Hose Hook"]
[null,"Multiple Setting Down Pressure",null,"Integrated Heat Sync for Electronics Protection"]
[null,"Adjustable Solution Flow",null,"Sealed Electrical Connectors"]
[null,"Variable Speed Control Bail",null,"Anti-Static Straps"]
[null,"MembraneTM Control Panel",null,"0.75 kW/1 HP brush motor, 230 RPM (disk)"]
[null,"Pro-MembraneTM Control Panel with Multiple Zone Settings™ Capability"]
[null,"Pro-PanelTM Controls with Full Color LCD Touch Screen (Option)",null,"0.45 kW/0.6 HP brush motor, 2200 RPM (orbital)"]
[null,"Supervisor QA ControlsTM settings (Lock Out Features)",null,"Recovery Tank Debris Tray with Deflector"]
[null,"On Board Diagnostics",null,"Unsurpassed Ergonomic Design"]
[null,"Extremely Low Noise Level  (≤65 dBa)",null,"Gray Non-Marking Tires"]
[null,"Quiet-Mode™ Standard",null,"10cm /4\" Edge & Reach Under Cleaning"]
[null,"Wet 130AH and Wet 150AH Battery options available.",null,"Key Switch for Safety"]
[null,"Quick Release Battery Harness",null,"Hour Meter"]
[null,"Drain hose with pinch-cuff to control water flow",null,"Operators manual"]
[null,"On-board Charger with 3m/15 ft power cord",null,"Jacking Points/Shipping Tie Downs"]
[null,"Closed Machine Venting for Battery Charging",null,"Yellow Maintenance Touch Points","Battery Tray"]
[null,"Cast Aluminum Squeegee Frame",null,"Integrated Accessory Rails w/Squeegee & Bag Hang "]
[null,"Breakaway Squeegee Design w/ Integrated P-Trap",null,"Composite Scrub Deck (Single Disk)"]
[null,"Factory Set Squeegee Assembly for Maximum Recovery",null,"Cast Aluminum Scrub Deck (Dual Disk)"]
[null,"Linatex Squeegee Blades with Tool-less Replacement",null,"11 Gauge Steel Scrub Deck (Orbital Only)"]
[]
[null,null,"TENNANT COMPANY WARRANTY"]
[null,null,"3 YEARS OR 2000 HOURS - PARTS"]
[null,null,"1 YEAR - BATTERY CHARGERS"]
[null,null,"                        2 YEARS - LABOR"]
[null,null,"                           6 MONTHS - TRAVEL"]
[null,null,"10 YEARS ON DURAMERTM ROTOMOLD TANKS"]
[]
[null,null,null,null,"                Quote Request Information"]
[null,null,null,null,null,null,"Fax (quote only)"]
[null,null,null,null,null,null,"Mail (quote,lit, specs)"]
[null,null,null,null,null,null,"Fax + Mail"]
[]
[null,null,null,null,"                Primary Use"]
[null,null,null,null,null,null,"Inside"]
[null,null,null,null,null,null,"Outside"]
[null,null,"Description","Reference # ","US List Price","Qty.","Extended Price"]
[null,"Standard Configuration Machines",null,null,null,{"$f":"SUM(F55,F68,F74,F83)","v":0}]
[null,null,null,null,null,{"$f":"SUM(F56:F66)","v":0}]
[null,null,"T300e Walk-Behind - Disk Scrubber, 500mm / 20\", Conventional 3-Lug Cleaning Tool Attachment, 130AH C/20 Battery, Conventional Cleaning, 13A 85-265V AC 50/60Hz 1Ph On-Board Charger, Pad Assist Drive Type, Single Down Pressure\n(Pad Driver and Pad Wrap Packaging will default unless otherwise specified)","T300E-1001D",7924,null,{"$f":"F56*E56","v":0},{"$f":"IFERROR(IFERROR(VLOOKUP(D56,Surcharge!A:B,2,FALSE)*F56, VLOOKUP(D56 & \"\",Surcharge!A:B,2,FALSE)*F56), \"\")","v":""},null,null,null,{"$f":"SUM(F56)","v":0},"Surcharge Qty"]
[]
[null,null,"T300e Walk-Behind - Disk Scrubber, 500mm / 20\", Insta-Click Cleaning Tool Attachment, \n130AH C/20 Battery, Conventional Cleaning, 13A 85-265V AC 50/60Hz 1Ph On-Board Charger, Self-Propel Drive Type, Multiple Down Pressure\n(Pad Driver and Pad Wrap Packaging will default unless otherwise specified)","T300E-2001D",10404,null,0,{"$f":"IFERROR(IFERROR(VLOOKUP(D58,Surcharge!A:B,2,FALSE)*F58, VLOOKUP(D58 & \"\",Surcharge!A:B,2,FALSE)*F58), \"\")","v":""},null,null,null,{"$f":"SUM(F58)","v":0},"Surcharge Qty"]
[]
[null,null,"T300e Walk-Behind - Disk Scrubber, 500mm / 20\", Insta-Click Cleaning Tool Attachment, \n130AH C/20 Battery, ec-H20 NanoClean, 13A 85-265V AC 50/60Hz 1Ph On-Board Charger, \nSelf-Propel Drive Type, Multiple Down Pressure\n(Pad Driver and Pad Wrap Packaging will default unless otherwise specified)","T300E-2002D",12626,null,0,{"$f":"IFERROR(IFERROR(VLOOKUP(D60,Surcharge!A:B,2,FALSE)*F60, VLOOKUP(D60 & \"\",Surcharge!A:B,2,FALSE)*F60), \"\")","v":""},null,null,null,{"$f":"SUM(F60)","v":0},"Surcharge Qty"]
[]
[null,null,"T300 Walk-Behind - Disk Scrubber, 500mm / 20\", Membrane Control Panel, Insta-Click Cleaning Tool Attachment, 150AH C/20 Battery, Conventional Cleaning, 13A 85-265V AC 50/60Hz 1Ph \nOn-Board Charger, Self-Propel Drive Type, Mechanical Down Pressure, Quiet Mode\n(Pad Driver and Pad Wrap Packaging will default unless otherwise specified)","T300-3001D",11330,null,0,{"$f":"IFERROR(IFERROR(VLOOKUP(D62,Surcharge!A:B,2,FALSE)*F62, VLOOKUP(D62 & \"\",Surcharge!A:B,2,FALSE)*F62), \"\")","v":""},null,null,null,{"$f":"SUM(F62)","v":0},"Surcharge Qty"]
[]
[null,null,"T300 Walk-Behind - Disk Scrubber, 500mm / 20\", Pro Membrane Control Panel, Insta-Click Cleaning Tool Attachment, 150AH C/20 Battery, Conventional Cleaning, 13A 85-265V AC 50/60Hz 1Ph On-Board Charger, Self-Propel Drive Type, Automated Down Pressure, Quiet Mode\n(Pad Driver and Pad Wrap Packaging will default unless otherwise specified)","T300-3002D",11625,null,0,{"$f":"IFERROR(IFERROR(VLOOKUP(D64,Surcharge!A:B,2,FALSE)*F64, VLOOKUP(D64 & \"\",Surcharge!A:B,2,FALSE)*F64), \"\")","v":""},null,null,null,{"$f":"SUM(F64)","v":0},"Surcharge Qty"]
[]
[null,null,"T300 Walk-Behind - Disk Scrubber, 500mm / 20\", Pro Membrane Control Panel, Insta-Click Cleaning Tool Attachment, 150AH C/20 Battery, Manual Battery Watering System, ec-H20 NanoClean, 13A 85-265V AC 50/60Hz 1Ph On-Board Charger, Self-Propel Drive Type, Automated Down Pressure, Quiet Mode\n(Pad Driver and Pad Wrap Packaging will default unless otherwise specified)","T300-3003D",14427,null,0,{"$f":"IFERROR(IFERROR(VLOOKUP(D66,Surcharge!A:B,2,FALSE)*F66, VLOOKUP(D66 & \"\",Surcharge!A:B,2,FALSE)*F66), \"\")","v":""}]
[null,null,null,null,null,{"$f":"SUM(F68:F85)","v":0},null,{"$f":"IFERROR(IFERROR(VLOOKUP(D67,Surcharge!A:B,2,FALSE)*F67, VLOOKUP(D67 & \"\",Surcharge!A:B,2,FALSE)*F67), \"\")","v":""}]
[null,"OPTIONAL","Brushes - in place of Pad Driver  (Note 1)",null,null,{"$f":"SUM(F69:F72)","v":0},null,{"$f":"IFERROR(IFERROR(VLOOKUP(D68,Surcharge!A:B,2,FALSE)*F68, VLOOKUP(D68 & \"\",Surcharge!A:B,2,FALSE)*F68), \"\")","v":""}]
[null,null,"3-lug head, 500mm/20\" Polypropylene Brush",1016811,"N/C     ",null,{"$f":"IF(F69=0,\" \",\"N/C\")","v":" "},{"$f":"IFERROR(IFERROR(VLOOKUP(D69,Surcharge!A:B,2,FALSE)*F69, VLOOKUP(D69 & \"\",Surcharge!A:B,2,FALSE)*F69), \"\")","v":""}]
[null,null,"3-lug head, 500mm/20\" Nylon Brush",1016810,"N/C     ",null,{"$f":"IF(F70=0,\" \",\"N/C\")","v":" "},{"$f":"IFERROR(IFERROR(VLOOKUP(D70,Surcharge!A:B,2,FALSE)*F70, VLOOKUP(D70 & \"\",Surcharge!A:B,2,FALSE)*F70), \"\")","v":""}]
[null,null,"Instaclick head, 500mm/20\" Polypropylene Brush",1213032,"N/C     ",null,{"$f":"IF(F71=0,\" \",\"N/C\")","v":" "},{"$f":"IFERROR(IFERROR(VLOOKUP(D71,Surcharge!A:B,2,FALSE)*F71, VLOOKUP(D71 & \"\",Surcharge!A:B,2,FALSE)*F71), \"\")","v":""}]
[null,null,"Instaclick head, 500mm/20\" Nylon Brush",1210386,"N/C     ",null,{"$f":"IF(F72=0,\" \",\"N/C\")","v":" "},{"$f":"IFERROR(IFERROR(VLOOKUP(D72,Surcharge!A:B,2,FALSE)*F72, VLOOKUP(D72 & \"\",Surcharge!A:B,2,FALSE)*F72), \"\")","v":""}]
[]
[null,"OPTIONAL","Manuals  (Note 2)","Reference Number",null,{"$f":"SUM(F77:F81)","v":0}]
[null,null,"T300e Operator Manual (Spanish) - in place of English manual",9014507,"N/C     ",null,{"$f":"IF(F75=0,\" \",\"N/C\")","v":" "},{"$f":"IFERROR(IFERROR(VLOOKUP(D75,Surcharge!A:B,2,FALSE)*F75, VLOOKUP(D75 & \"\",Surcharge!A:B,2,FALSE)*F75), \"\")","v":""}]
[null,null,"T300e Operator Manual (French) - in place of English manual",9014508,"N/C     ",null,{"$f":"IF(F76=0,\" \",\"N/C\")","v":" "},{"$f":"IFERROR(IFERROR(VLOOKUP(D76,Surcharge!A:B,2,FALSE)*F76, VLOOKUP(D76 & \"\",Surcharge!A:B,2,FALSE)*F76), \"\")","v":""}]
[null,null,"T300 Operator Manual (Spanish) - in place of English manual",9014502,"N/C     ",null,{"$f":"IF(F77=0,\" \",\"N/C\")","v":" "},{"$f":"IFERROR(IFERROR(VLOOKUP(D77,Surcharge!A:B,2,FALSE)*F77, VLOOKUP(D77 & \"\",Surcharge!A:B,2,FALSE)*F77), \"\")","v":""}]
[null,null,"T300 Operator Manual (French) - in place of English manual",9014503,"N/C     ",null,{"$f":"IF(F78=0,\" \",\"N/C\")","v":" "},{"$f":"IFERROR(IFERROR(VLOOKUP(D78,Surcharge!A:B,2,FALSE)*F78, VLOOKUP(D78 & \"\",Surcharge!A:B,2,FALSE)*F78), \"\")","v":""}]
[null,null,"   Additional Operator Manual","SEE ABOVE",137,null,{"$f":"F79*E79","v":0}]
[null,null,"T300e/T300 Parts Manual",9014500,56,null,{"$f":"F80*E80","v":0},{"$f":"IFERROR(IFERROR(VLOOKUP(D80,Surcharge!A:B,2,FALSE)*F80, VLOOKUP(D80 & \"\",Surcharge!A:B,2,FALSE)*F80), \"\")","v":""}]
[null,null,"T300e/T300 Service Manual",9014510,137,null,{"$f":"F81*E81","v":0},{"$f":"IFERROR(IFERROR(VLOOKUP(D81,Surcharge!A:B,2,FALSE)*F81, VLOOKUP(D81 & \"\",Surcharge!A:B,2,FALSE)*F81), \"\")","v":""}]
[]
[null,"OPTIONAL","Packaging  (Note 3)",null,null,{"$f":"SUM(F84)","v":0}]
[null,null,"Skid w/Carton, Stackable",9013859,320,null,{"$f":"F84*E84","v":0},{"$f":"IFERROR(IFERROR(VLOOKUP(D84,Surcharge!A:B,2,FALSE)*F84, VLOOKUP(D84 & \"\",Surcharge!A:B,2,FALSE)*F84), \"\")","v":""}]
[]
[null,null,null,null,null,{"$f":"SUM(#REF!)","v":{"$error":"#REF!"}}]
[]
[null,null,null,null,{"$f":"ROUND(SUM(G56:G87), 0)","v":0},{"$f":"SUM(E89)","v":0}]
[null,null,null,"Machine Subtotal ",{"$f":"ROUND(SUM(G56:G87), 0)","v":0},{"$f":"F88","v":0}]
[null,"Discounts",null,null,null,{"$f":"SUM(F91)","v":0}]
[null,null,null,null,null,{"$f":"SUM(F92:F95)","v":0}]
[null,null,null,"Discount %",null,{"$f":"IF(E92 <> \"\", 1, 0)","v":0},{"$f":"IF(F92*(E92*0.01)*E88 < 0, F92*(E92*0.01)*E88, -(F92*(E92*0.01)*E88))","v":0}]
[null,null,null,"Discount $",null,{"$f":"IF(E93 <> \"\", 1, 0)","v":0},{"$f":"IF(F93*E93 < 0, F93*E93, -(F93*E93))","v":0}]
[null,null,null,"Discount $",null,{"$f":"IF(E94 <> \"\", 1, 0)","v":0},{"$f":"IF(F94*E94 < 0, F94*E94, -(F94*E94))","v":0}]
[null,null,null,"Discount $",null,{"$f":"IF(E95 <> \"\", 1, 0)","v":0},{"$f":"IF(F95*E95 < 0, F95*E95, -(F95*E95))","v":0}]
[null,null,null,"Discount Total ",{"$f":"SUM(G92:G95)","v":0},{"$f":"SUM(E96)","v":0}]
[null,null,null,null,null,{"$f":"#REF!","v":{"$error":"#REF!"}}]
[null,null,"Prepaid and Add","Freight",null,{"$f":"IF(E98 <> \"\", 1, 0)","v":0},{"$f":"F98*E98","v":0}]
[null,null,"Subject to all applicable taxes","Tax",null,{"$f":"IF(E99 <> \"\", 1, 0)","v":0},{"$f":"F99*E99","v":0}]
[null,null,null,null,null,{"$f":"SUM(F101)","v":0}]
[null,null,null,"MACHINE TOTAL*",null,{"$f":"SUM(G101)","v":0},{"$f":"SUM(G56:G99)","v":0},null,null,null,null,null,null,"This goes to \"My Documents\""]
[null,"Financing",null,null,null,null,{"$f":"G101","v":0}]
[]
[null,null,"Is customer interested in financing?","No"]
[]
[null,null,"If not, why?"]
[]
[]
[null,null,"First Western Equipment Finance - Leasing Calculation Option:","Option 1",null,"Option 2",null,null,null,{"$f":"Financing!A38","v":"Rates 2025 - Rev. 5/6/2025"}]
[null,null,null,"Monthly Payment","Cost Per Day","Monthly Payment","Cost Per Day",null,null,{"$f":"Financing!A39","v":"“Blank Payment Amounts Indicate The Financing Option Or Purchase Options Selected Are Not "}]
[null,null,"Purchase Option:","FWEF:  $1 Buyout Lease",null,"FWEF: Municipal Lease",null,null,null,{"$f":"Financing!A40","v":"Applicable Or The Machine Total Is Below The Minimum Amount For The Selected Vendor”"}]
[null,null,"24 Months",0,0,0,0,null,null,{"$f":"Financing!A41","v":"\"Quoted monthly payments are estimates only and are based on a certain level of credit rating."}]
[null,null,"30 Months",0,0,0,0,null,null,{"$f":"Financing!A42","v":"Actual monthly payments may be higher depending on your credit rating.\""}]
[null,null,"36 Months",0,0,0,0,null,null,{"$f":"Financing!A43","v":"“Financing rates do not include Pre-Paid Service”"}]
[null,null,"48 Months",0,0,0,0]
[]
[null,null,null,"Benefits of Equipment Financing:"]
[null,null,null,"• Spreads out investment over time.",null,"• Keep current with latest technology."]
[null,null,null,"• Preserve capital.",null,"• Service and parts bundling available."]
[null,null,null,"• Low monthly payment.",null,"• Pay for labor savings as you go."]
[]
[]
[null,null,"Bundled Offerings","Flexclean – Fair Market Value",null,"Flexclean - $1 Buyout"]
[null,null,"FlexClean: ","36 Month Term",null,"36 Month Term",null,null,"No","AB Brushes"]
[null,null,"Hours included per Month:","Gold","Silver","Gold","Silver","Check"]
[null,null,"< 30/mo. (Avg. 1hr./day)",null,null,null,null,null,{"$f":"FlexCleanCalc!$A21","v":"“FlexClean monthly rates include payment for both machine and service.”"}]
[null,null,"< 60/mo. (Avg. 2hrs./day)"]
[null,null,"< 90/mo. (Avg. 3hrs./day)"]
[null,null,"*This value assumes one service contract regardless of the number of UNITS included in the quote"]
[]
[]
[null,null,"Bundled Offerings","Flexclean – Fair Market Value",null,"Flexclean - $1 Buyout"]
[null,null,"FlexClean 2: ","48 Month Term",null,"48 Month Term"]
[null,null,"Hours included per Month:","Gold","Silver","Gold","Silver"]
[null,null,"< 30/mo. (Avg. 1hr./day)"]
[null,null,"< 60/mo. (Avg. 2hrs./day)"]
[null,null,"< 90/mo. (Avg. 3hrs./day)"]
[null,null,"*This value assumes one service contract regardless of the number of UNITS included in the quote"]
[]
[null,null,"Bundled Offerings","Flexclean – Fair Market Value",null,"Flexclean - $1 Buyout"]
[null,null,"FlexClean 3: ","60 Month Term",null,"60 Month Term"]
[null,null,"Hours included per Month:","Gold","Silver","Gold","Silver"]
[null,null,"< 30/mo. (Avg. 1hr./day)"]
[null,null,"< 60/mo. (Avg. 2hrs./day)"]
[null,null,"< 90/mo. (Avg. 3hrs./day)"]
[null,null,"*This value assumes one service contract regardless of the number of UNITS included in the quote"]
[]
[null,"  TennantTrue"]
[]
[null,null,"Is customer interested in service program?","Yes","*State/County selection required for TennantTrue service options"]
[]
[null,null,"If not, why?"]
[]
[null,null,"Term:",36,null,"AB Brushes","No"]
[null,null,"Monthly machine usage (hrs):","< 30/mo. (Avg. 1hr./day)"]
[]
[null,null,"TennantTrue: ","Gold Contract",null,"Silver Contract"]
[null,null,"Per Visit",null,null,425]
[null,null,"Monthly",120,null,69]
[null,null,"Annually",null,null,816]
[null,null,"Pre-Pay Full Term",4162,null,2397]
[null,null,"Hourly Labor Rate"]
[null,null,"Site Visit"]
[]
[null,null,"* Verify customer current pricing prior to quote. "]
[null,null,"**All rates and fees above reflect service for one (1) unit with the exception of Block of Time service."]
[null,null,"*Block of Time is available in 1 Year Term only and is priced as such no matter the term selection on this template."]
[]
[]
[null,"Servicing"]
[]
[null,null,"Is customer interested in a service plan?","No"]
[]
[null,null,"If not, why?"]
[]
[]
[null,"Quote Special Instructions:"]
[]
[]
[null,null,{"$f":"Start_Here!E36","v":"Terms and Conditions"}]
[null,null,{"$f":"Start_Here!E37","v":"Ask your local sales rep for estimated lead times. Verify when placing order"}]
[null,null,{"$f":"Start_Here!E38","v":"All orders subject to acceptance by Tennant Sales and Service Company, Minneapolis, Minnesota"}]
[null,null,{"$f":"Start_Here!E39","v":"Prices subject to change without notice."}]
[null,null,{"$f":"Start_Here!E40","v":"Terms:  Net 30 days.  Subject to any applicable taxes."}]
[null,null,{"$f":"Start_Here!E41","v":"Freight: Machines and accessory orders delivered FOB shipping point Frt PPD & Add"}]
[null,null,{"$f":"Start_Here!E42","v":"Parts, supplies, detergents and floor treating material orders delivered FOB "}]
[null,null,{"$f":"Start_Here!E43","v":"shipping point Frt PPD"}]
[null,null,{"$f":"Start_Here!E44","v":"All orders are subject to Tennant’s General Terms and Conditions available at http://www.tennantco.com/terms."}]
[null,null,{"$f":"Start_Here!E45","v":"Printed General Terms and Conditions are also available upon request."}]
[null,null,{"$f":"Start_Here!E46","v":0}]
[]
[null,null,null,null,"Quote Date :",null,{"$f":"Letter!$A$25","v":"2020-09-17"}]
["Order Placement Information:  To place your order, fill in PO# and customer signatures,"]
["call or fax to the numbers listed below. Customer Purchase Order is required."]
["If information is missing, orders will be entered and held until all information is received."]
[null,null,"Customer Number",null,"Cust Grp 3"]
[null,null,{"$f":"Start_Here!$C$25","v":0},null,{"$f":"Start_Here!$C$29","v":0}]
[null,null,{"$f":"Start_Here!$B$18","v":"Who Owns the Machine? (Sold-To Info) (Please Verify)"}]
["Company",null,{"$f":"Start_Here!$C$19","v":"Company Name"}]
["Address",null,{"$f":"Start_Here!$C$20","v":"Address"}]
[null,null,{"$f":"Start_Here!$C$21","v":"City, State Zip"}]
["Name",null,{"$f":"Start_Here!$C$22","v":"Contact Name"}]
["Phone",null,{"$f":"Start_Here!$C$23","v":"Contact Phone"}]
[null,null,{"$f":"Start_Here!$B$11","v":"Where is the Machine Being Shipped? (Ship-To Info) (Please Verify)"}]
["Company",null,{"$f":"Start_Here!$C$12","v":"Company Name"}]
["Address",null,{"$f":"Start_Here!$C$13","v":"Address"}]
[null,null,{"$f":"Start_Here!$C$14","v":"City, State Zip"}]
["Name",null,{"$f":"Start_Here!$C$15","v":"Contact Name"}]
["Phone",null,{"$f":"Start_Here!$C$16","v":"Contact Phone"}]
[null,null,{"$f":"Start_Here!$B$31","v":"Shipping / Carrier Instructions:"},null,"Order Special Instructions:"]
[null,null,{"$f":"Start_Here!$C$32","v":0}]
[]
[null,null,"Customer Purchase Order No."]
[null,null,"(please attach copy)"]
[]
[]
[null,null,"Tax Exempt",null,"Yes"]
[null,null,null,null,"No"]
[null,null,"If Yes, attach a copy of your exemption certificate."]
[]
[null,null,"Requested Delivery Date"]
[null,null,{"$f":"Start_Here!$C$28","v":0}]
[]
[null,null,{"$f":"Start_Here!$C$26","v":0},null,{"$f":"Start_Here!$C$27","v":0}]
[null,0,"Authorized Buyer (please print)",null,"Phone Number"]
[]
[]
[null,0,"Authorized Buyer Signature"]
[]
[null,null,{"$f":"Start_Here!$C$41","v":"Rep Name"}]
[null,null,"Tennant Representative"]
[]
["Specialized Maintenance Equipment"]
[{"$f":"Start_Here!$C$48","v":"TENNANT · 10400 Clean Street · Eden Prairie, MN 55344 ·"}]
[{"$f":"Start_Here!$C$49","v":" PHONE:800-553-8033 · FAX:763-513-2116"}]
[]
[]
[null,null,"Special Information "]
[null,"Notes"]
[null,1,"One set of pad drivers come standard. A different brush may be chosen as an option at no additional charge."]
[null,2,"One English manual comes standard.  A manual in a different language may be chosen as an option."]
[null,3,"All machines come standard with Pad Wrap packaging.  Skid with carton packaging may be chosen as an option"]
[null,null,"Pad wrap packaging is only available in the continental US. For shipments outside of the continental US, please select skid with carton packaging"]

{"sheet":"T350_Std_Config","index":22,"n_rows":245,"n_cols":14,"rows_kept":245,"cut":false,"hidden":false,"merged":[[203,2,203,5],[205,4,205,7],[209,2,209,5],[218,4,218,5],[196,2,196,5],[197,2,197,5],[199,2,199,5],[200,2,200,5],[201,2,201,5],[202,2,202,5],[195,2,195,5],[168,3,169,6],[172,1,172,6],[191,4,191,7],[193,2,193,5],[194,2,194,5],[146,3,146,6],[148,3,148,4],[149,3,149,4],[151,3,151,4],[151,5,151,6],[134,3,134,4],[134,5,134,6],[135,3,135,4],[135,5,135,6],[144,4,144,8],[118,3,118,4],[118,5,118,6],[126,3,126,4],[126,5,126,6],[127,3,127,4],[127,5,127,6],[117,3,117,4],[117,5,117,6],[37,1,37,5],[38,1,38,5],[39,1,39,5],[41,2,41,6],[100,3,100,6],[103,3,103,4],[103,5,103,6],[105,3,105,4],[105,5,105,6],[15,1,15,2],[0,2,0,3],[1,2,1,3],[2,2,2,3],[3,2,3,3],[11,2,11,6],[152,3,152,4],[152,5,152,6],[153,3,153,4],[153,5,153,6],[154,3,154,4],[154,5,154,6],[155,3,155,4],[155,5,155,6],[156,3,156,4],[156,5,156,6],[157,3,157,4],[157,5,157,6]]}
["T350_Std_Config",null,{"$f":"Start_Here!$C19","v":"Company Name"}]
[{"$f":"SUM(G96)","v":0},null,{"$f":"Start_Here!$C20","v":"Address"}]
[null,null,{"$f":"Start_Here!$C21","v":"City, State Zip"}]
[null,null,{"$f":"Start_Here!$C22","v":"Contact Name"}]
[null,null,{"$f":"Start_Here!$C$41","v":"Rep Name"}]
[null,null,{"$f":"Start_Here!$C$37","v":"Tennant Sales and Service Company"}]
[null,null,{"$f":"Start_Here!$C$38","v":"10400 Clean Street"}]
[null,null,{"$f":"Start_Here!$C$39","v":"Eden Prairie, MN 55344"}]
[null,null,{"$f":"Start_Here!$C$43","v":"800-553-8033"},null,"Quote Date :",null,{"$f":"Letter!$A$25","v":"2020-09-17"}]
[]
[null,null,{"$f":"Help!C2","v":"US Date Rev - 5/6/2025"}]
[null,null,"BUILT-IN “TENNANT VALUE” INCLUDES:"]
[]
[null,"53L/14.1 gal Solution Tank  & 70 L/18.4 gal Recovery Tank",null,"Quick Release Squeegee Attachment/Removal"]
[null,"Rugged Duramer™ Rotomold Tank Construction",null,"Linatex Squeegee Blades With Tool-less Replacement"]
[null,"Insta-Click™ ",null,"Emergency Stop"]
[null,"Hygienic™ Recovery Tank",null,"Free Floating Head Skirt"]
[null,"Multiple Setting Down Pressure",null,"Fill Port w/ Hose Hook"]
[null,"Adjustable Solution Flow",null,"Integrated Heat Sync For Electronics Protection"]
[null,"Variable Speed Control Knob",null,"Sealed Electrical Connectors"]
[null,"Pro-Membrane™ Control Panel With Multiple Zone Settings™",null,"Anti-Static Straps"]
[null,"LCD Pro-Panel™  Full Color Touch Screen (Option)",null,"24 VDC, 0.87 HP / 0.65 kW brush motor"]
[null,"Supervisor QA Controls™ Settings (Lock Out Features)",null,"215 RPM (500 mm/20\") and 275 RPM (600 mm/24\") "]
[null,"On Board Diagnostics",null,"Recovery Tank Debris Tray"]
[null,"Extremely Low Noise Level  (as low as 63.7 dBa)",null,"Unsurpassed Ergonomic Design"]
[null,"Quiet-Mode™ Sound Reduction (Optional) ( as low as 59.7 dBa)",null,"Non-Marking Wheels"]
[null,"Wet 210AH, Wet 240AH, and Sealed 220AH AGM Available.",null,"2.5 cm /1\" Edge & Reach Under Cleaning"]
[null,"Quick Release Battery Harness",null,"Key Switch for Safety"]
[null,"Drain hose with pinch cuff to control water flow",null,"Hour Meter"]
[null,"On-board Charger With 3m/15 ft Power Cord",null,"Operators manual"]
[null,"Closed Machine Venting For Battery Charging",null,"Jacking Points/Shipping Tie Downs"]
[null,"Breakaway Squeegee Design",null,"Yellow Maintenance Touch Points"]
[null,"Factory Set Squeegee Assembly For Maximum Recovery",null,"Integrated Accessory Rail"]
[null,"Cast Aluminum Squeegee Frame",null,"Composite Scrub Deck (Single Disk)"]
[null,null,null,"Cast Aluminum Scrub Deck (Dual Disk)"]
[]
[]
[null,"TENNANT COMPANY WARRANTY"]
[null,"3 YEARS OR 2500 HOURS ON ALL COMPONENTS, 3 YEARS LABOR"]
[null,"90 DAYS TRAVEL, 10 YEARS ON DURAMERTM TANKS"]
[]
[]
[]
[null,null,null,null,"                Quote Request Information"]
[null,null,null,null,null,null,"Fax (quote only)"]
[null,null,null,null,null,null,"Mail (quote,lit, specs)"]
[null,null,null,null,null,null,"Fax + Mail"]
[]
[null,null,null,null,"                Primary Use"]
[null,null,null,null,null,null,"Inside"]
[null,null,null,null,null,null,"Outside"]
[null,null,"Description","Reference # ","US List Price","Qty.","Extended Price"]
[null,"Standard Configuration Machines ",null,null,null,{"$f":"SUM(F54,F63,F70,F77)","v":0}]
[null,null,null,null,null,{"$f":"SUM(F55:F61)","v":0}]
[null,null,"T350 Rider - Disk Scrubber, 500mm / 20\", 210AH C/20 Battery, Conventional Cleaning, 25A 100-240V AC 50/60Hz 1Ph On-Board Charger\n(Pad Driver and Pad Wrap Packaging will default unless otherwise specified)","T350-1001D",15509,null,{"$f":"F55*E55","v":0},{"$f":"IFERROR(IFERROR(VLOOKUP(D55,Surcharge!A:B,2,FALSE)*F55, VLOOKUP(D55 & \"\",Surcharge!A:B,2,FALSE)*F55), \"\")","v":""}]
[]
[null,null,"T350 Rider - Disk Scrubber, 600mm / 24\", 210AH C/20 Battery, Conventional Cleaning, 25A 100-240V AC 50/60Hz 1Ph On-Board Charger\n(Pad Driver and Pad Wrap Packaging will default unless otherwise specified)","T350-1002D",17237,null,{"$f":"F57*E57","v":0},{"$f":"IFERROR(IFERROR(VLOOKUP(D57,Surcharge!A:B,2,FALSE)*F57, VLOOKUP(D57 & \"\",Surcharge!A:B,2,FALSE)*F57), \"\")","v":""}]
[]
[null,null,"T350 Rider - Disk Scrubber, 500mm / 20\", 240AH C/20 Battery, Smart-Fill Battery Watering, ec-H20 NanoClean, 25A 100-240V AC 50/60Hz 1Ph On-Board Charger, Quiet Mode\n(Pad Driver and Pad Wrap Packaging will default unless otherwise specified)","T350-2001D",19390,null,{"$f":"F59*E59","v":0},{"$f":"IFERROR(IFERROR(VLOOKUP(D59,Surcharge!A:B,2,FALSE)*F59, VLOOKUP(D59 & \"\",Surcharge!A:B,2,FALSE)*F59), \"\")","v":""}]
[null,null,null,null,null,null,null,{"$f":"IFERROR(IFERROR(VLOOKUP(D60,Surcharge!A:B,2,FALSE)*F60, VLOOKUP(D60 & \"\",Surcharge!A:B,2,FALSE)*F60), \"\")","v":""}]
[null,null,"T350 Rider - Disk Scrubber, 600mm / 24\", 240AH C/20 Battery, Smart-Fill Battery Watering, ec-H20 NanoClean, 25A 100-240V AC 50/60Hz 1Ph On-Board Charger, Quiet Mode\n(Pad Driver and Pad Wrap Packaging will default unless otherwise specified)","T350-2002D",21118,null,{"$f":"F61*E61","v":0}]
[]
[null,"OPTIONAL","Brushes - in place of Pad Driver  (Note 1)",null,null,{"$f":"SUM(F64:F67)","v":0},null,{"$f":"IFERROR(IFERROR(VLOOKUP(D63,Surcharge!A:B,2,FALSE)*F63, VLOOKUP(D63 & \"\",Surcharge!A:B,2,FALSE)*F63), \"\")","v":""}]
[null,null,"500mm/20\" Polypropylene Brush",1213032,"N/C     ",null,{"$f":"IF(F64=0,\" \",\"N/C\")","v":" "},{"$f":"IFERROR(IFERROR(VLOOKUP(D64,Surcharge!A:B,2,FALSE)*F64, VLOOKUP(D64 & \"\",Surcharge!A:B,2,FALSE)*F64), \"\")","v":""}]
[null,null,"500mm/20\" Nylon Brush",1210386,"N/C     ",null,{"$f":"IF(F65=0,\" \",\"N/C\")","v":" "},{"$f":"IFERROR(IFERROR(VLOOKUP(D65,Surcharge!A:B,2,FALSE)*F65, VLOOKUP(D65 & \"\",Surcharge!A:B,2,FALSE)*F65), \"\")","v":""}]
[null,null,"600mm/24\" Polypropylene Brush  (2 Required)",1213040,"N/C     ",null,{"$f":"IF(F66=0,\" \",\"N/C\")","v":" "},{"$f":"IFERROR(IFERROR(VLOOKUP(D66,Surcharge!A:B,2,FALSE)*F66, VLOOKUP(D66 & \"\",Surcharge!A:B,2,FALSE)*F66), \"\")","v":""}]
[null,null,"600mm/24\" Nylon Brush  (2 Required)",1210136,"N/C     ",null,{"$f":"IF(F67=0,\" \",\"N/C\")","v":" "},{"$f":"IFERROR(IFERROR(VLOOKUP(D67,Surcharge!A:B,2,FALSE)*F67, VLOOKUP(D67 & \"\",Surcharge!A:B,2,FALSE)*F67), \"\")","v":""}]
[null,null,null,null," "]
[]
[null,"OPTIONAL","Manuals  (Note 2)","Reference Number",null,{"$f":"SUM(F71:F75)","v":0}]
[null,null,"Operator Manual (Spanish) - in place of English manual",9016418,"N/C     ",null,{"$f":"IF(F71=0,\" \",\"N/C\")","v":" "},{"$f":"IFERROR(IFERROR(VLOOKUP(D71,Surcharge!A:B,2,FALSE)*F71, VLOOKUP(D71 & \"\",Surcharge!A:B,2,FALSE)*F71), \"\")","v":""}]
[null,null,"Operator Manual (French) - in place of English manual",9016419,"N/C     ",null,{"$f":"IF(F72=0,\" \",\"N/C\")","v":" "},{"$f":"IFERROR(IFERROR(VLOOKUP(D72,Surcharge!A:B,2,FALSE)*F72, VLOOKUP(D72 & \"\",Surcharge!A:B,2,FALSE)*F72), \"\")","v":""}]
[null,null,"Additional Operator Manual","SEE ABOVE",146,null,{"$f":"F73*E73","v":0}]
[null,null,"Parts Manual",9016416,59,null,{"$f":"F74*E74","v":0},{"$f":"IFERROR(IFERROR(VLOOKUP(D74,Surcharge!A:B,2,FALSE)*F74, VLOOKUP(D74 & \"\",Surcharge!A:B,2,FALSE)*F74), \"\")","v":""}]
[null,null,"Service Manual",9016422,146,null,{"$f":"F75*E75","v":0},{"$f":"IFERROR(IFERROR(VLOOKUP(D75,Surcharge!A:B,2,FALSE)*F75, VLOOKUP(D75 & \"\",Surcharge!A:B,2,FALSE)*F75), \"\")","v":""}]
[]
[null,"OPTIONAL","Packaging  (Note 3)",null,null,{"$f":"SUM(F78)","v":0}]
[null,null,"Skid w/Carton, Stackable",9040253,515,null,{"$f":"F78*E78","v":0},{"$f":"IFERROR(IFERROR(VLOOKUP(D78,Surcharge!A:B,2,FALSE)*F78, VLOOKUP(D78 & \"\",Surcharge!A:B,2,FALSE)*F78), \"\")","v":""}]
[]
[null,null,null,null,null,{"$f":"SUM(#REF!)","v":{"$error":"#REF!"}}]
[]
[]
[null,null,null,null,{"$f":"ROUND(SUM(G55:G82), 0)","v":0},{"$f":"SUM(E84)","v":0}]
[null,null,null,"Machine Subtotal ",{"$f":"ROUND(SUM(G55:G82), 0)","v":0},{"$f":"F83","v":0}]
[null,"Discounts",null,null,null,{"$f":"SUM(F86)","v":0}]
[null,null,null,null,null,{"$f":"SUM(F87:F90)","v":0}]
[null,null,null,"Discount %",null,{"$f":"IF(E87 <> \"\", 1, 0)","v":0},{"$f":"IF(F87*(E87*0.01)*E83 < 0, F87*(E87*0.01)*E83, -(F87*(E87*0.01)*E83))","v":0}]
[null,null,null,"Discount $",null,{"$f":"IF(E88 <> \"\", 1, 0)","v":0},{"$f":"IF(F88*E88 < 0, F88*E88, -(F88*E88))","v":0}]
[null,null,null,"Discount $",null,{"$f":"IF(E89 <> \"\", 1, 0)","v":0},{"$f":"IF(F89*E89 < 0, F89*E89, -(F89*E89))","v":0}]
[null,null,null,"Discount $",null,{"$f":"IF(E90 <> \"\", 1, 0)","v":0},{"$f":"IF(F90*E90 < 0, F90*E90, -(F90*E90))","v":0}]
[null,null,null,"Discount Total ",{"$f":"SUM(G87:G90)","v":0},{"$f":"SUM(E91)","v":0}]
[null,null,null,null,null,{"$f":"#REF!","v":{"$error":"#REF!"}}]
[null,null,"Prepaid and Add","Freight",null,{"$f":"IF(E93 <> \"\", 1, 0)","v":0},{"$f":"F93*E93","v":0}]
[null,null,"Subject to all applicable taxes","Tax",null,{"$f":"IF(E94 <> \"\", 1, 0)","v":0},{"$f":"F94*E94","v":0}]
[null,null,null,null,null,{"$f":"SUM(F96)","v":0}]
[null,null,null,"MACHINE TOTAL*",null,{"$f":"SUM(G96)","v":0},{"$f":"SUM(G55:G94)","v":0},null,null,null,null,null,null,"This goes to \"My Documents\""]
[null,"Financing",null,null,null,null,{"$f":"G96","v":0}]
[]
[null,null,"Is customer interested in financing?","No"]
[]
[null,null,"If not, why?"]
[]
[]
[null,null,"First Western Equipment Finance - Leasing Calculation Option:","Option 1",null,"Option 2",null,null,null,{"$f":"Financing!A38","v":"Rates 2025 - Rev. 5/6/2025"}]
[null,null,null,"Monthly Payment","Cost Per Day","Monthly Payment","Cost Per Day",null,null,{"$f":"Financing!A39","v":"“Blank Payment Amounts Indicate The Financing Option Or Purchase Options Selected Are Not "}]
[null,null,"Purchase Option:","FWEF:  $1 Buyout Lease",null,"FWEF: Municipal Lease",null,null,null,{"$f":"Financing!A40","v":"Applicable Or The Machine Total Is Below The Minimum Amount For The Selected Vendor”"}]
[null,null,"24 Months",0,0,0,0,null,null,{"$f":"Financing!A41","v":"\"Quoted monthly payments are estimates only and are based on a certain level of credit rating."}]
[null,null,"30 Months",0,0,0,0,null,null,{"$f":"Financing!A42","v":"Actual monthly payments may be higher depending on your credit rating.\""}]
[null,null,"36 Months",0,0,0,0,null,null,{"$f":"Financing!A43","v":"“Financing rates do not include Pre-Paid Service”"}]
[null,null,"48 Months",0,0,0,0]
[]
[null,null,null,"Benefits of Equipment Financing:"]
[null,null,null,"• Spreads out investment over time.",null,"• Keep current with latest technology."]
[null,null,null,"• Preserve capital.",null,"• Service and parts bundling available."]
[null,null,null,"• Low monthly payment.",null,"• Pay for labor savings as you go."]
[]
[]
[null,null,"Bundled Offerings","Flexclean – Fair Market Value",null,"Flexclean - $1 Buyout"]
[null,null,"FlexClean: ","36 Month Term",null,"36 Month Term",null,null,"No","AB Brushes"]
[null,null,"Hours included per Month:","Gold","Silver","Gold","Silver","Check"]
[null,null,"< 30/mo. (Avg. 1hr./day)",null,null,null,null,null,{"$f":"FlexCleanCalc!$A21","v":"“FlexClean monthly rates include payment for both machine and service.”"}]
[null,null,"< 60/mo. (Avg. 2hrs./day)"]
[null,null,"< 90/mo. (Avg. 3hrs./day)"]
[null,null,"*This value assumes one service contract regardless of the number of UNITS included in the quote"]
[]
[]
[null,null,"Bundled Offerings","Flexclean – Fair Market Value",null,"Flexclean - $1 Buyout"]
[null,null,"FlexClean 2: ","48 Month Term",null,"48 Month Term"]
[null,null,"Hours included per Month:","Gold","Silver","Gold","Silver"]
[null,null,"< 30/mo. (Avg. 1hr./day)"]
[null,null,"< 60/mo. (Avg. 2hrs./day)"]
[null,null,"< 90/mo. (Avg. 3hrs./day)"]
[null,null,"*This value assumes one service contract regardless of the number of UNITS included in the quote"]
[]
[null,null,"Bundled Offerings","Flexclean – Fair Market Value",null,"Flexclean - $1 Buyout"]
[null,null,"FlexClean 3: ","60 Month Term",null,"60 Month Term"]
[null,null,"Hours included per Month:","Gold","Silver","Gold","Silver"]
[null,null,"< 30/mo. (Avg. 1hr./day)"]
[null,null,"< 60/mo. (Avg. 2hrs./day)"]
[null,null,"< 90/mo. (Avg. 3hrs./day)"]
[null,null,"*This value assumes one service contract regardless of the number of UNITS included in the quote"]
[]
[null,"  TennantTrue"]
[]
[null,null,"Is customer interested in service program?","Yes","*State/County selection required for TennantTrue service options"]
[]
[null,null,"If not, why?"]
[]
[null,null,"Term:",36,null,"AB Brushes","No"]
[null,null,"Monthly machine usage (hrs):","< 30/mo. (Avg. 1hr./day)"]
[]
[null,null,"TennantTrue: ","Gold Contract",null,"Silver Contract"]
[null,null,"Per Visit",null,null,425]
[null,null,"Monthly",129,null,69]
[null,null,"Annually",null,null,816]
[null,null,"Pre-Pay Full Term",4444,null,2397]
[null,null,"Hourly Labor Rate"]
[null,null,"Site Visit"]
[]
[null,null,"* Verify customer current pricing prior to quote. "]
[null,null,"**All rates and fees above reflect service for one (1) unit with the exception of Block of Time service."]
[null,null,"*Block of Time is available in 1 Year Term only and is priced as such no matter the term selection on this template."]
[]
[]
[null,"Servicing"]
[]
[null,null,"Is customer interested in a service plan?","No"]
[]
[null,null,"If not, why?"]
[]
[]
[null,"Quote Special Instructions:"]
[]
[]
[null,null,{"$f":"Start_Here!E36","v":"Terms and Conditions"}]
[null,null,{"$f":"Start_Here!E37","v":"Ask your local sales rep for estimated lead times. Verify when placing order"}]
[null,null,{"$f":"Start_Here!E38","v":"All orders subject to acceptance by Tennant Sales and Service Company, Minneapolis, Minnesota"}]
[null,null,{"$f":"Start_Here!E39","v":"Prices subject to change without notice."}]
[null,null,{"$f":"Start_Here!E40","v":"Terms:  Net 30 days.  Subject to any applicable taxes."}]
[null,null,{"$f":"Start_Here!E41","v":"Freight: Machines and accessory orders delivered FOB shipping point Frt PPD & Add"}]
[null,null,{"$f":"Start_Here!E42","v":"Parts, supplies, detergents and floor treating material orders delivered FOB "}]
[null,null,{"$f":"Start_Here!E43","v":"shipping point Frt PPD"}]
[null,null,{"$f":"Start_Here!E44","v":"All orders are subject to Tennant’s General Terms and Conditions available at http://www.tennantco.com/terms."}]
[null,null,{"$f":"Start_Here!E45","v":"Printed General Terms and Conditions are also available upon request."}]
[null,null,{"$f":"Start_Here!E46","v":0}]
[]
[null,null,null,null,"Quote Date :",null,{"$f":"Letter!$A$25","v":"2020-09-17"}]
["Order Placement Information:  To place your order, fill in PO# and customer signatures,"]
["call or fax to the numbers listed below. Customer Purchase Order is required."]
["If information is missing, orders will be entered and held until all information is received."]
[null,null,"Customer Number",null,"Cust Grp 3"]
[null,null,{"$f":"Start_Here!$C$25","v":0},null,{"$f":"Start_Here!$C$29","v":0}]
[null,null,{"$f":"Start_Here!$B$18","v":"Who Owns the Machine? (Sold-To Info) (Please Verify)"}]
["Company",null,{"$f":"Start_Here!$C$19","v":"Company Name"}]
["Address",null,{"$f":"Start_Here!$C$20","v":"Address"}]
[null,null,{"$f":"Start_Here!$C$21","v":"City, State Zip"}]
["Name",null,{"$f":"Start_Here!$C$22","v":"Contact Name"}]
["Phone",null,{"$f":"Start_Here!$C$23","v":"Contact Phone"}]
[null,null,{"$f":"Start_Here!$B$11","v":"Where is the Machine Being Shipped? (Ship-To Info) (Please Verify)"}]
["Company",null,{"$f":"Start_Here!$C$12","v":"Company Name"}]
["Address",null,{"$f":"Start_Here!$C$13","v":"Address"}]
[null,null,{"$f":"Start_Here!$C$14","v":"City, State Zip"}]
["Name",null,{"$f":"Start_Here!$C$15","v":"Contact Name"}]
["Phone",null,{"$f":"Start_Here!$C$16","v":"Contact Phone"}]
[null,null,{"$f":"Start_Here!$B$31","v":"Shipping / Carrier Instructions:"},null,"Order Special Instructions:"]
[null,null,{"$f":"Start_Here!$C$32","v":0}]
[]
[null,null,"Customer Purchase Order No."]
[null,null,"(please attach copy)"]
[]
[]
[null,null,"Tax Exempt",null,"Yes"]
[null,null,null,null,"No"]
[null,null,"If Yes, attach a copy of your exemption certificate."]
[]
[null,null,"Requested Delivery Date"]
[null,null,{"$f":"Start_Here!$C$28","v":0}]
[]
[null,null,{"$f":"Start_Here!$C$26","v":0},null,{"$f":"Start_Here!$C$27","v":0}]
[null,0,"Authorized Buyer (please print)",null,"Phone Number"]
[]
[]
[null,0,"Authorized Buyer Signature"]
[]
[null,null,{"$f":"Start_Here!$C$41","v":"Rep Name"}]
[null,null,"Tennant Representative"]
[]
["Specialized Maintenance Equipment"]
[{"$f":"Start_Here!$C$48","v":"TENNANT · 10400 Clean Street · Eden Prairie, MN 55344 ·"}]
[{"$f":"Start_Here!$C$49","v":" PHONE:800-553-8033 · FAX:763-513-2116"}]
[]
[]
[null,"Notes"]
[null,1,"One set of pad drivers come standard. A different brush may be chosen as an option"]
[null,2,"One English manual comes standard.  A manual in a different language may be chosen as an option."]
[null,3,"All machines come standard with Pad Wrap packaging.  Skid with carton packaging may be chosen as an option"]
[null,null,"Pad wrap packaging is only available in the continental US. For shipments outside of the continental US, please select skid with carton packaging"]
[]
[null,4,"Shipping Weights and Dimensions","Pad Wrap"]
[]
[null,null,"Weight: 500mm / 20\"","725 lbs / 329 Kg"]
[null,null,"Weight: 600mm / 24\"","730 lbs / 331 Kg"]
[null,null,"Length","55\" / 1397 mm"]
[null,null,"Width","26.5\" / 673 mm"]
[null,null,"Height","49\" / 1245 mm"]

{"sheet":"T500_Series_Std_Config","index":23,"n_rows":274,"n_cols":14,"rows_kept":274,"cut":false,"hidden":false,"merged":[[233,4,233,5],[215,2,215,5],[216,2,216,5],[217,2,217,5],[218,2,218,5],[220,4,220,7],[224,2,224,5],[214,2,214,5],[182,3,183,6],[187,2,187,6],[206,4,206,7],[208,2,208,5],[209,2,209,5],[210,2,210,5],[211,2,211,5],[212,2,212,5],[167,3,167,4],[167,5,167,6],[168,3,168,4],[168,5,168,6],[169,3,169,4],[169,5,169,6],[159,4,159,8],[161,3,161,6],[163,3,163,4],[164,3,164,4],[166,3,166,4],[166,5,166,6],[142,3,142,4],[142,5,142,6],[149,3,149,4],[149,5,149,6],[150,3,150,4],[150,5,150,6],[132,3,132,4],[132,5,132,6],[133,3,133,4],[133,5,133,6],[141,3,141,4],[141,5,141,6],[115,3,115,6],[118,3,118,4],[118,5,118,6],[120,3,120,4],[120,5,120,6],[39,2,39,5],[40,2,40,5],[41,2,41,5],[42,2,42,5],[43,2,43,5],[38,2,38,5],[0,2,0,3],[1,2,1,3],[2,2,2,3],[3,2,3,3],[11,2,11,6],[170,5,170,6],[171,3,171,4],[171,5,171,6],[172,3,172,4],[172,5,172,6],[170,3,170,4]]}
["T500_Series_Std_Config",null,{"$f":"Start_Here!$C19","v":"Company Name"}]
[{"$f":"SUM(G111)","v":0},null,{"$f":"Start_Here!$C20","v":"Address"}]
[null,null,{"$f":"Start_Here!$C21","v":"City, State Zip"}]
[null,null,{"$f":"Start_Here!$C22","v":"Contact Name"}]
[null,null,{"$f":"Start_Here!$C$41","v":"Rep Name"}]
[null,null,{"$f":"Start_Here!$C$37","v":"Tennant Sales and Service Company"}]
[null,null,{"$f":"Start_Here!$C$38","v":"10400 Clean Street"}]
[null,null,{"$f":"Start_Here!$C$39","v":"Eden Prairie, MN 55344"}]
[null,null,{"$f":"Start_Here!$C$43","v":"800-553-8033"},null,"Quote Date :",null,{"$f":"Letter!$A$25","v":"2020-09-17"}]
[]
[null,null,{"$f":"Help!C2","v":"US Date Rev - 5/6/2025"}]
[null,null,"BUILT-IN “TENNANT VALUE” INCLUDES:"]
[]
[null,null,"Fully Sprayable Hygenic® Recovery Tank",null,"Yellow Maintenance Touch Points"]
[null,null,"Tanks: 85 L/22.5 gal Solution & 100 L/26.5 gal Recovery",null,"Emergency Stop Kit"]
[null,null,"1-STEP™ Button Memory Controls",null,"Key Switch for Safety"]
[null,null,"Supervisor QA Controls™ settings (Lock Out Features)",null,"Rugged Duramer™ Tank Construction"]
[null,null,"Extremely Low Noise Levels Standard  (≤67 dBA)",null,"Gray Non-Marking Tires"]
[null,null,"Quiet-Mode™ (Lowers to 62 dBA and extends run-time)",null,"Standard (4) 6 V 225AH Battery Pack (Optional AGM Batteries)"]
[null,null,"On Board Diagnostics",null,"Battery Tray"]
[null,null,"Recovery Tank Debris Tray",null,"On-Board Charger with Power Cord"]
[null,null,"Cast Aluminum Squeegee Frame & Scrub Decks (D/C)",null,"Closed Machine Venting for Battery Charging"]
[null,null,"11 Gauge Steel Scrub Deck (Orbital Only)",null,"100% Water Recovery in 180º  Turns w/ Standard Squeegee"]
[null,null,"Three Selectable Down Pressures & Solution Flows",null,"Insta-Fit™ No-Tool Pad Driver and Brush Attachment (Disk machines)"]
[null,null,"Front Water Fill Port",null,"No-Tool Squeegee Change"]
[null,null,"Automatic: Water On / Off",null,"Breakaway Squeegee Design w/ Integrated P-Trap"]
[null,null,"      Brush On / Off",null,"Factory Set Squeegee Assembly for Maximum Recovery"]
[null,null,"      Brush Shutoff at 80% Discharge",null,"Linard Front/Linatex Rear Squeegee Blades with Tool-less Replacement"]
[null,null,"Integrated Accessory Rails with Bag Hang hooks",null,"Includes Standard Pad Drivers or Scrubbing Brushes (Select One)"]
[null,null,"Excellent Ergonomic Controls Design",null,"Free Floating Head Skirt (disk machines)"]
[null,null,"Pro-Membrane™ Control Panel w/ 3 Zone Settings™ (Standard)",null,"Hour Meter"]
[null,null,"Pro-Panel™ LCD Touch Screen Control Panel (Option)",null,"Operators manual"]
[null,null,"        On-Demand Tutorial Videos & 4 Customizable Zone Settings",null,"Jacking Points/Shipping Tie Downs"]
[null,null,"Integrated Heat Sync for Electronics Protection",null,"Sealed Electrical Connectors in key areas"]
[null,null,"Optional ec-H2O NanoClean™ Equipped Models Include:",null,"Drain hose with pinch cuff to control water flow"]
[null,null,"Electrically Converted Water Technology System"]
[null,null,"Two Scrubbing Modes: ec-H2O NanoCleanTM & Conventional Scrub"]
[null,null,null,null,null,null,"Same "]
[null,null,"TENNANT COMPANY WARRANTY"]
[null,null,"3 YEARS OR 2000 HOURS - PARTS"]
[null,null,"1 YEAR - BATTERY CHARGERS"]
[null,null,"3 YEARS OR 2000 HOURS ORBITAL SCRUB HEAD ISOLATORS"]
[null,null,"2 YEARS - LABOR, 6 MONTHS - TRAVEL"]
[null,null,"10 YEARS ON DURAMERTM ROTOMOLD TANKS"]
[]
[null,null,null,null,"                Quote Request Information"]
[null,null,null,null,null,null,"Fax (quote only)"]
[null,null,null,null,null,null,"Mail (quote,lit, specs)"]
[null,null,null,null,null,null,"Fax + Mail"]
[]
[null,null,null,null,"                Primary Use"]
[null,null,null,null,null,null,"Inside"]
[null,null,null,null,null,null,"Outside"]
[]
[null,null,"Description","Reference #","Price Each","Qty","Extended Price"]
[null,"Standard Configuration Machines:",null,null,null,{"$f":"SUM(F57:F73)","v":0}]
[null,null,"T500e Walk-Behind - Disk Scrubber, 650mm / 26\", 225AH C/20 Battery, Conventional Cleaning, \n25A 100-240V AC 50/60Hz 1Ph On-Board Charger\n(Pad Driver and Pad Wrap Packaging will default unless otherwise specified)","T500E-1001D",15526,null,{"$f":"F57*E57","v":0},{"$f":"IFERROR(IFERROR(VLOOKUP(D57,Surcharge!A:B,2,FALSE)*F57, VLOOKUP(D57 & \"\",Surcharge!A:B,2,FALSE)*F57), \"\")","v":""}]
[]
[null,null,"T500e Walk-Behind - Disk Scrubber, 700mm / 28\", 225AH C/20 Battery, Conventional Cleaning, \n25A 100-240V AC 50/60Hz 1Ph On-Board Charger\n(Pad Driver and Pad Wrap Packaging will default unless otherwise specified)","T500E-1002D",16336,null,{"$f":"F59*E59","v":0},{"$f":"IFERROR(IFERROR(VLOOKUP(D59,Surcharge!A:B,2,FALSE)*F59, VLOOKUP(D59 & \"\",Surcharge!A:B,2,FALSE)*F59), \"\")","v":""}]
[]
[null,null,"T500e Walk-Behind - Disk Scrubber, 800mm / 32\", 225AH C/20 Battery, Conventional Cleaning, \n25A 100-240V AC 50/60Hz 1Ph On-Board Charger\n(Pad Driver and Pad Wrap Packaging will default unless otherwise specified)","T500E-1003D",17224,null,{"$f":"F61*E61","v":0},{"$f":"IFERROR(IFERROR(VLOOKUP(D61,Surcharge!A:B,2,FALSE)*F61, VLOOKUP(D61 & \"\",Surcharge!A:B,2,FALSE)*F61), \"\")","v":""}]
[]
[null,null,"T500 Walk-Behind - Disk Scrubber, 650mm / 26\", Pro Membrane Control Panel, 225AH C/20 Battery, Smart-Fill Battery Watering System, Conventional Cleaning, 25A 100-240V AC 50/60Hz 1Ph On-Board Charger\n(Pad Driver and Pad Wrap Packaging will default unless otherwise specified)","T500-2001D",17723,null,{"$f":"F63*E63","v":0},{"$f":"IFERROR(IFERROR(VLOOKUP(D63,Surcharge!A:B,2,FALSE)*F63, VLOOKUP(D63 & \"\",Surcharge!A:B,2,FALSE)*F63), \"\")","v":""}]
[]
[null,null,"T500 Walk-Behind - Disk Scrubber, 700mm / 28\", Pro Membrane Control Panel, 225AH C/20 Battery, Smart-Fill Battery Watering System, Conventional Cleaning, 25A 100-240V AC 50/60Hz 1Ph On-Board Charger\n(Pad Driver and Pad Wrap Packaging will default unless otherwise specified)","T500-2002D",19198,null,0,{"$f":"IFERROR(IFERROR(VLOOKUP(D65,Surcharge!A:B,2,FALSE)*F65, VLOOKUP(D65 & \"\",Surcharge!A:B,2,FALSE)*F65), \"\")","v":""}]
[]
[null,null,"T500 Walk-Behind - Disk Scrubber, 800mm / 32\", Pro Membrane Control Panel, 225AH C/20 Battery, Smart-Fill Battery Watering System, Conventional Cleaning, 25A 100-240V AC 50/60Hz 1Ph On-Board Charger\n(Pad Driver and Pad Wrap Packaging will default unless otherwise specified)","T500-2003D",20187,null,0,{"$f":"IFERROR(IFERROR(VLOOKUP(D67,Surcharge!A:B,2,FALSE)*F67, VLOOKUP(D67 & \"\",Surcharge!A:B,2,FALSE)*F67), \"\")","v":""}]
[]
[null,null,"T500 Walk-Behind - Disk Scrubber, 650mm / 26\", Pro Membrane Control Panel, 225AH C/20 Battery, Smart-Fill Battery Watering System, ec-H20 cleaning, 25A 100-240V AC 50/60Hz 1Ph On-Board Charger\n(Pad Driver and Pad Wrap Packaging will default unless otherwise specified)","T500-3001D",20763,null,0,{"$f":"IFERROR(IFERROR(VLOOKUP(D69,Surcharge!A:B,2,FALSE)*F69, VLOOKUP(D69 & \"\",Surcharge!A:B,2,FALSE)*F69), \"\")","v":""}]
[]
[null,null,"T500 Walk-Behind - Disk Scrubber, 700mm / 28\", Pro Membrane Control Panel, 225AH C/20 Battery, Smart-Fill Battery Watering System, ec-H20 cleaning, 25A 100-240V AC 50/60Hz 1Ph On-Board Charger\n(Pad Driver and Pad Wrap Packaging will default unless otherwise specified)","T500-3002D",22238,null,0,{"$f":"IFERROR(IFERROR(VLOOKUP(D71,Surcharge!A:B,2,FALSE)*F71, VLOOKUP(D71 & \"\",Surcharge!A:B,2,FALSE)*F71), \"\")","v":""}]
[]
[null,null,"T500 Walk-Behind - Disk Scrubber, 800mm / 32\", Pro Membrane Control Panel, 225AH C/20 Battery, Smart-Fill Battery Watering System, ec-H20 cleaning, 25A 100-240V AC 50/60Hz 1Ph On-Board Charger\n(Pad Driver and Pad Wrap Packaging will default unless otherwise specified)","T500-3003D",22238,null,0,{"$f":"IFERROR(IFERROR(VLOOKUP(D73,Surcharge!A:B,2,FALSE)*F73, VLOOKUP(D73 & \"\",Surcharge!A:B,2,FALSE)*F73), \"\")","v":""}]
[]
[null,"OPTIONAL","Brushes - in place of Pad Driver (2 Required) (Note 1)",null,null,{"$f":"SUM(F76:F81)","v":0}]
[null,null,"650mm / 26\" Disk Polypropylene Brush",1223989,"N/C",null,{"$f":"IF(F76=0,\" \",\"N/C\")","v":" "},{"$f":"IFERROR(IFERROR(VLOOKUP(D76,Surcharge!A:B,2,FALSE)*F76, VLOOKUP(D76 & \"\",Surcharge!A:B,2,FALSE)*F76), \"\")","v":""}]
[null,null,"650mm / 26\" Disk Nylon Brush",1223991,"N/C",null," ",{"$f":"IFERROR(IFERROR(VLOOKUP(D77,Surcharge!A:B,2,FALSE)*F77, VLOOKUP(D77 & \"\",Surcharge!A:B,2,FALSE)*F77), \"\")","v":""}]
[null,null,"700mm / 28\" Disk Polypropylene Brush",1220218,"N/C",null," ",{"$f":"IFERROR(IFERROR(VLOOKUP(D78,Surcharge!A:B,2,FALSE)*F78, VLOOKUP(D78 & \"\",Surcharge!A:B,2,FALSE)*F78), \"\")","v":""}]
[null,null,"700mm / 28\" Disk Nylon Brush",1221541,"N/C",null," ",{"$f":"IFERROR(IFERROR(VLOOKUP(D79,Surcharge!A:B,2,FALSE)*F79, VLOOKUP(D79 & \"\",Surcharge!A:B,2,FALSE)*F79), \"\")","v":""}]
[null,null,"800mm / 32\" Disk Polypropylene Brush",1220216,"N/C",null," ",{"$f":"IFERROR(IFERROR(VLOOKUP(D80,Surcharge!A:B,2,FALSE)*F80, VLOOKUP(D80 & \"\",Surcharge!A:B,2,FALSE)*F80), \"\")","v":""}]
[null,null,"800mm / 32\" Disk Nylon Brush",1220215,"N/C",null," ",{"$f":"IFERROR(IFERROR(VLOOKUP(D81,Surcharge!A:B,2,FALSE)*F81, VLOOKUP(D81 & \"\",Surcharge!A:B,2,FALSE)*F81), \"\")","v":""}]
[null,"OPTIONAL","Manuals  (Note 2)",null,null,{"$f":"SUM(F83:F91)","v":0}]
[null,null,"T500e Operator Manual (Spanish) - in place of English manual",9015507,"N/C",null," "]
[null,null,"T500e Operator Manual (French) - in place of English manual",9015508,"N/C",null," "]
[null,null," Additional Operator Manual","SEE ABOVE",135,null,{"$f":"F85*E85","v":0}]
[null,null,"T500e Parts Manual",9015505,55,null,{"$f":"F86*E86","v":0}]
[null,null,"T500e Service Manual",9015511,135,null,{"$f":"F87*E87","v":0}]
[null,null,"T500 Operator Manual (Spanish) - in place of English manual",9015500,"N/C     ",null,{"$f":"IF(F88=0,\" \",\"N/C\")","v":" "},{"$f":"IFERROR(IFERROR(VLOOKUP(D88,Surcharge!A:B,2,FALSE)*F88, VLOOKUP(D88 & \"\",Surcharge!A:B,2,FALSE)*F88), \"\")","v":""}]
[null,null,"T500 Operator Manual (French) - in place of English manual",9015501,"N/C     ",null,{"$f":"IF(F89=0,\" \",\"N/C\")","v":" "},{"$f":"IFERROR(IFERROR(VLOOKUP(D89,Surcharge!A:B,2,FALSE)*F89, VLOOKUP(D89 & \"\",Surcharge!A:B,2,FALSE)*F89), \"\")","v":""}]
[null,null,"T500 Parts Manual",9015222,55,null,{"$f":"F90*E90","v":0},{"$f":"IFERROR(IFERROR(VLOOKUP(D90,Surcharge!A:B,2,FALSE)*F90, VLOOKUP(D90 & \"\",Surcharge!A:B,2,FALSE)*F90), \"\")","v":""}]
[null,null,"T500 Service Manual",9015504,135,null,{"$f":"F91*E91","v":0},{"$f":"IFERROR(IFERROR(VLOOKUP(D91,Surcharge!A:B,2,FALSE)*F91, VLOOKUP(D91 & \"\",Surcharge!A:B,2,FALSE)*F91), \"\")","v":""}]
[]
[null,"OPTIONAL","Packaging  (Note 3)",null,null,{"$f":"SUM(F94)","v":0}]
[null,null,"Skid w/Carton, Stackable",9015450,472,null,{"$f":"F94*E94","v":0},{"$f":"IFERROR(IFERROR(VLOOKUP(D94,Surcharge!A:B,2,FALSE)*F94, VLOOKUP(D94 & \"\",Surcharge!A:B,2,FALSE)*F94), \"\")","v":""}]
[]
[null,null,null,null,null,{"$f":"SUM(#REF!)","v":{"$error":"#REF!"}}]
[]
[null,null,null,null,{"$f":"ROUND(SUM(G57:G97), 0)","v":0},{"$f":"SUM(E99)","v":0}]
[null,null,null,"Machine Subtotal ",{"$f":"ROUND(SUM(G57:G97), 0)","v":0},{"$f":"F98","v":0}]
[null,"Discounts",null,null,null,{"$f":"SUM(F101)","v":0}]
[null,null,null,null,null,{"$f":"SUM(F102:F105)","v":0}]
[null,null,null,"Discount %",null,{"$f":"IF(E102 <> \"\", 1, 0)","v":0},{"$f":"IF(F102*(E102*0.01)*E98 < 0, F102*(E102*0.01)*E98, -(F102*(E102*0.01)*E98))","v":0}]
[null,null,null,"Discount $",null,{"$f":"IF(E103 <> \"\", 1, 0)","v":0},{"$f":"IF(F103*E103 < 0, F103*E103, -(F103*E103))","v":0}]
[null,null,null,"Discount $",null,{"$f":"IF(E104 <> \"\", 1, 0)","v":0},{"$f":"IF(F104*E104 < 0, F104*E104, -(F104*E104))","v":0}]
[null,null,null,"Discount $",null,{"$f":"IF(E105 <> \"\", 1, 0)","v":0},{"$f":"IF(F105*E105 < 0, F105*E105, -(F105*E105))","v":0}]
[null,null,null,"Discount Total ",{"$f":"SUM(G102:G105)","v":0},{"$f":"SUM(E106)","v":0}]
[null,null,null,null,null,{"$f":"#REF!","v":{"$error":"#REF!"}}]
[null,null,"Prepaid and Add","Freight",null,{"$f":"IF(E108 <> \"\", 1, 0)","v":0},{"$f":"F108*E108","v":0}]
[null,null,"Subject to all applicable taxes","Tax",null,{"$f":"IF(E109 <> \"\", 1, 0)","v":0},{"$f":"F109*E109","v":0}]
[null,null,null,null,null,{"$f":"SUM(F111)","v":0}]
[null,null,null,"            MACHINE TOTAL*",null,{"$f":"SUM(G111)","v":0},{"$f":"SUM(G57:G109)","v":0},null,null,null,null,null,null,"This goes to \"My Documents\""]
[null,"Financing",null,null,null,null,{"$f":"G111","v":0}]
[]
[null,null,"Is customer interested in financing?","Yes"]
[]
[null,null,"If not, why?"]
[]
[]
[null,null,"First Western Equipment Finance - Leasing Calculation Option:","Option 1",null,"Option 2",null,null,null,{"$f":"Financing!A38","v":"Rates 2025 - Rev. 5/6/2025"}]
[null,null,null,"Monthly Payment","Cost Per Day","Monthly Payment","Cost Per Day",null,null,{"$f":"Financing!A39","v":"“Blank Payment Amounts Indicate The Financing Option Or Purchase Options Selected Are Not "}]
[null,null,"Purchase Option:","FWEF:  $1 Buyout Lease",null,"FWEF: Municipal Lease",null,null,null,{"$f":"Financing!A40","v":"Applicable Or The Machine Total Is Below The Minimum Amount For The Selected Vendor”"}]
[null,null,"24 Months",0,0,0,0,null,null,{"$f":"Financing!A41","v":"\"Quoted monthly payments are estimates only and are based on a certain level of credit rating."}]
[null,null,"30 Months",0,0,0,0,null,null,{"$f":"Financing!A42","v":"Actual monthly payments may be higher depending on your credit rating.\""}]
[null,null,"36 Months",0,0,0,0,null,null,{"$f":"Financing!A43","v":"“Financing rates do not include Pre-Paid Service”"}]
[null,null,"48 Months",0,0,0,0,null,{"$f":"Financing!A44","v":0}]
[]
[null,null,null,"Benefits of Equipment Financing:"]
[null,null,null,"• Spreads out investment over time.",null,"• Keep current with latest technology."]
[null,null,null,"• Preserve capital.",null,"• Service and parts bundling available."]
[null,null,null,"• Low monthly payment.",null,"• Pay for labor savings as you go."]
[]
[]
[null,null,"Bundled Offerings","Flexclean – Fair Market Value",null,"Flexclean - $1 Buyout"]
[null,null,"FlexClean: ","36 Month Term",null,"36 Month Term",null,null,"No","AB Brushes"]
[null,null,"Hours included per Month:","Gold","Silver","Gold","Silver","Check"]
[null,null,"< 30/mo. (Avg. 1hr./day)",null,null,null,null,null,{"$f":"FlexCleanCalc!$A21","v":"“FlexClean monthly rates include payment for both machine and service.”"}]
[null,null,"< 60/mo. (Avg. 2hrs./day)"]
[null,null,"< 90/mo. (Avg. 3hrs./day)"]
[null,null,"*This value assumes one service contract regardless of the number of UNITS included in the quote"]
[]
[]
[null,null,"Bundled Offerings","Flexclean – Fair Market Value",null,"Flexclean - $1 Buyout"]
[null,null,"FlexClean 2: ","48 Month Term",null,"48 Month Term"]
[null,null,"Hours included per Month:","Gold","Silver","Gold","Silver"]
[null,null,"< 30/mo. (Avg. 1hr./day)"]
[null,null,"< 60/mo. (Avg. 2hrs./day)"]
[null,null,"< 90/mo. (Avg. 3hrs./day)"]
[null,null,"*This value assumes one service contract regardless of the number of UNITS included in the quote"]
[]
[null,null,"Bundled Offerings","Flexclean – Fair Market Value",null,"Flexclean - $1 Buyout"]
[null,null,"FlexClean 3: ","60 Month Term",null,"60 Month Term"]
[null,null,"Hours included per Month:","Gold","Silver","Gold","Silver"]
[null,null,"< 30/mo. (Avg. 1hr./day)"]
[null,null,"< 60/mo. (Avg. 2hrs./day)"]
[null,null,"< 90/mo. (Avg. 3hrs./day)"]
[null,null,"*This value assumes one service contract regardless of the number of UNITS included in the quote"]
[]
[null,"  TennantTrue",null,0,0]
[]
[null,null,"Is customer interested in service program?","Yes","*State/County selection required for TennantTrue service options"]
[]
[null,null,"If not, why?"]
[]
[null,null,"Term:",36,null,"AB Brushes","No"]
[null,null,"Monthly machine usage (hrs):","< 30/mo. (Avg. 1hr./day)"]
[]
[null,null,"TennantTrue: ","Gold Contract",null,"Silver Contract"]
[null,null,"Per Visit",null,null,425]
[null,null,"Monthly",129,null,69]
[null,null,"Annually",null,null,816]
[null,null,"Pre-Pay Full Term",4444,null,2397]
[null,null,"Hourly Labor Rate"]
[null,null,"Site Visit"]
[]
[null,null,"* Verify customer current pricing prior to quote. "]
[null,null,"**All rates and fees above reflect service for one (1) unit with the exception of Block of Time service."]
[null,null,"*Block of Time is available in 1 Year Term only and is priced as such no matter the term selection on this template."]
[]
[null,"Servicing"]
[]
[null,null,"Is customer interested in a service plan?","No"]
[]
[null,null,"If not, why?"]
[]
[]
[]
[null,null,"Quote Special Instructions:"]
[]
[]
[null,null,{"$f":"Start_Here!E36","v":"Terms and Conditions"}]
[null,null,{"$f":"Start_Here!E37","v":"Ask your local sales rep for estimated lead times. Verify when placing order"}]
[null,null,{"$f":"Start_Here!E38","v":"All orders subject to acceptance by Tennant Sales and Service Company, Minneapolis, Minnesota"}]
[null,null,{"$f":"Start_Here!E39","v":"Prices subject to change without notice."}]
[null,null,{"$f":"Start_Here!E40","v":"Terms:  Net 30 days.  Subject to any applicable taxes."}]
[null,null,{"$f":"Start_Here!E41","v":"Freight: Machines and accessory orders delivered FOB shipping point Frt PPD & Add"}]
[null,null,{"$f":"Start_Here!E42","v":"Parts, supplies, detergents and floor treating material orders delivered FOB "}]
[null,null,{"$f":"Start_Here!E43","v":"shipping point Frt PPD"}]
[null,null,{"$f":"Start_Here!E44","v":"All orders are subject to Tennant’s General Terms and Conditions available at http://www.tennantco.com/terms."}]
[null,null,{"$f":"Start_Here!E45","v":"Printed General Terms and Conditions are also available upon request."}]
[null,null,{"$f":"Start_Here!E46","v":0}]
[]
[null,null,null,null,"Quote Date :",null,{"$f":"Letter!$A$25","v":"2020-09-17"}]
["Order Placement Information:  To place your order, fill in PO# and customer signatures,"]
["call or fax to the numbers listed below. Customer Purchase Order is required."]
["If information is missing, orders will be entered and held until all information is received."]
[null,null,"Customer Number",null,"Cust Grp 3"]
[null,null,{"$f":"Start_Here!$C$25","v":0},null,{"$f":"Start_Here!$C$29","v":0}]
[null,null,{"$f":"Start_Here!$B$18","v":"Who Owns the Machine? (Sold-To Info) (Please Verify)"}]
["Company",null,{"$f":"Start_Here!$C$19","v":"Company Name"}]
["Address",null,{"$f":"Start_Here!$C$20","v":"Address"}]
[null,null,{"$f":"Start_Here!$C$21","v":"City, State Zip"}]
["Name",null,{"$f":"Start_Here!$C$22","v":"Contact Name"}]
["Phone",null,{"$f":"Start_Here!$C$23","v":"Contact Phone"}]
[null,null,{"$f":"Start_Here!$B$11","v":"Where is the Machine Being Shipped? (Ship-To Info) (Please Verify)"}]
["Company",null,{"$f":"Start_Here!$C$12","v":"Company Name"}]
["Address",null,{"$f":"Start_Here!$C$13","v":"Address"}]
[null,null,{"$f":"Start_Here!$C$14","v":"City, State Zip"}]
["Name",null,{"$f":"Start_Here!$C$15","v":"Contact Name"}]
["Phone",null,{"$f":"Start_Here!$C$16","v":"Contact Phone"}]
[null,null,{"$f":"Start_Here!$B$31","v":"Shipping / Carrier Instructions:"},null,"Order Special Instructions:"]
[null,null,{"$f":"Start_Here!$C$32","v":0}]
[]
[null,null,"Customer Purchase Order No."]
[null,null,"(please attach copy)"]
[]
[]
[null,null,"Tax Exempt",null,"Yes"]
[null,null,null,null,"No"]
[null,null,"If Yes, attach a copy of your exemption certificate."]
[]
[null,null,"Requested Delivery Date"]
[null,null,{"$f":"Start_Here!$C$28","v":0}]
[]
[null,null,{"$f":"Start_Here!$C$26","v":0},null,{"$f":"Start_Here!$C$27","v":0}]
[null,0,"Authorized Buyer (please print)",null,"Phone Number"]
[]
[]
[null,0,"Authorized Buyer Signature"]
[]
[null,null,{"$f":"Start_Here!$C$41","v":"Rep Name"}]
[null,null,"Tennant Representative"]
[]
["Specialized Maintenance Equipment"]
[{"$f":"Start_Here!$C$48","v":"TENNANT · 10400 Clean Street · Eden Prairie, MN 55344 ·"}]
[{"$f":"Start_Here!$C$49","v":" PHONE:800-553-8033 · FAX:763-513-2116"}]
[]
[]
[null,"Notes"]
[]
[null,"Notes:"]
[null,1,"One set of pad drivers come standard. A different brush may be chosen as an option"]
[null,2,"One English manual comes standard.  A manual in a different language may be chosen as an option."]
[null,3,"All machines come standard with Pad Wrap packaging.  Skid with carton packaging may be chosen as an option"]
[null,null,"Pad wrap packaging is only available in the continental US. For shipments outside of the continental US, please select skid with carton packaging"]
[]
[null,10,"Shipping Weights and Dimensions","Pad Wrap","Skid w/Carton"]
[]
[null,null,"26\" / 650mm Disk"]
[null,null,"Weight","570 lbs / 259 Kg","635 lbs / 289 Kg"]
[null,null,"Length","59\" / 1,499mm","73\" / 1,855mm"]
[null,null,"Width","28\" / 712mm","43\" / 1,093mm"]
[null,null,"Height","44\" / 1,118mm","52\" / 1,321mm"]
[]
[null,null,"28\" / 700mm Disk"]
[null,null,"Weight","580 lbs / 263 Kg","645 lbs / 293 Kg"]
[null,null,"Length","59\" / 1,499mm","73\" / 1,855mm"]
[null,null,"Width","30\" / 762mm","43\" / 1,093mm"]
[null,null,"Height","44\" / 1,118mm","52\" / 1,321mm"]
[]
[null,null,"32\" / 800mm Disk"]
[null,null,"Weight","705 lbs / 320 Kg","770 lbs / 350 Kg"]
[null,null,"Length","61\" / 1,550mm","73\" / 1,855mm"]
[null,null,"Width","34\" / 864mm","43\" / 1,093mm"]
[null,null,"Height","44\" / 1,118mm","52\" / 1,321mm"]

{"sheet":"T600_Series_Std_Config","index":24,"n_rows":265,"n_cols":14,"rows_kept":265,"cut":false,"hidden":false,"merged":[[232,4,232,5],[214,2,214,5],[215,2,215,5],[216,2,216,5],[217,2,217,5],[219,4,219,7],[223,2,223,5],[213,2,213,5],[181,3,182,6],[186,2,186,6],[205,4,205,7],[207,2,207,5],[208,2,208,5],[209,2,209,5],[210,2,210,5],[211,2,211,5],[166,3,166,4],[166,5,166,6],[167,3,167,4],[167,5,167,6],[168,3,168,4],[168,5,168,6],[158,4,158,8],[160,3,160,6],[162,3,162,4],[163,3,163,4],[165,3,165,4],[165,5,165,6],[141,3,141,4],[141,5,141,6],[148,3,148,4],[148,5,148,6],[149,3,149,4],[149,5,149,6],[131,3,131,4],[131,5,131,6],[132,3,132,4],[132,5,132,6],[140,3,140,4],[140,5,140,6],[114,3,114,6],[117,3,117,4],[117,5,117,6],[119,3,119,4],[119,5,119,6],[51,2,51,5],[0,2,0,3],[1,2,1,3],[2,2,2,3],[3,2,3,3],[11,2,11,6],[45,2,45,5],[46,2,46,5],[47,2,47,5],[48,2,48,5],[49,2,49,5],[50,2,50,5],[169,5,169,6],[170,3,170,4],[170,5,170,6],[171,3,171,4],[171,5,171,6],[169,3,169,4]]}
["T600_Series_Std_Config",null,{"$f":"Start_Here!$C19","v":"Company Name"}]
[{"$f":"SUM(G110)","v":0},null,{"$f":"Start_Here!$C20","v":"Address"}]
[null,null,{"$f":"Start_Here!$C21","v":"City, State Zip"}]
[null,null,{"$f":"Start_Here!$C22","v":"Contact Name"}]
[null,null,{"$f":"Start_Here!$C$41","v":"Rep Name"}]
[null,null,{"$f":"Start_Here!$C$37","v":"Tennant Sales and Service Company"}]
[null,null,{"$f":"Start_Here!$C$38","v":"10400 Clean Street"}]
[null,null,{"$f":"Start_Here!$C$39","v":"Eden Prairie, MN 55344"}]
[null,null,{"$f":"Start_Here!$C$43","v":"800-553-8033"},null,"Quote Date :",null,{"$f":"Letter!$A$25","v":"2020-09-17"}]
[]
[null,null,{"$f":"Help!C2","v":"US Date Rev - 5/6/2025"}]
[null,null,"BUILT-IN “TENNANT VALUE” INCLUDES:"]
[]
[null,null,"121L/32 gal Solution Tank  & 37 L/140 gal Recovery Tank",null,"Cast Aluminum Squeegee & Scrub Deck (Disk, Cylindrical)"]
[null,null,"Rugged Duramer™ Rotomold Tank Construction",null,"11 Gauge Steel Scrub Deck (Orbital Only)"]
[null,null,"Fully Sprayable Hygienic® Recovery Tank",null,"Automatic: Water On / Off"]
[null,null,"Three Down Pressure Settings- up to 200 lbs/90 kg ",null,"Brush On / Off"]
[null,null,"Adjustable Solution Flow",null,"Brush Shutoff at 80% Discharge"]
[null,null,"Variable Speed Control Knob",null,"Linatex/Linard Squeegee Blades with Tool-less Replacement"]
[null,null,"Pro-Membrane™ Control Panel w/ 3 Zone Settings™ (Standard)",null,"Emergency Stop "]
[null,null,"LCD Pro-Panel™ Touch Screen Control Panel (Option)",null,"Free Floating Head Skirt (disk machines)"]
[null,null,"       On-Demand Tutorial Videos & 4 Customizable Zone Settings",null,"Fill Port w/ Hose Fins"]
[null,null,"Supervisor QA ControlsTM settings (Lock Out Features)",null,"Integrated Heat Sink for Electronics Protection"]
[null,null,"On Board Diagnostics",null,"Sealed Electrical Connectors"]
[null,null,"Standard Low Noise Level  (≤70 dBa)",null,"Anti-Static Strap"]
[null,null,"Quiet-Mode™ Sound Reduction all models   (≤62.5dBa)",null,"1 HP brush motor/ 0.75 kW (disk)"]
[null,null,"Standard (6) 6v. 240AH battery pack",null,"300 RPM (disk) and 760 RPM (cylindrical) "]
[null,null,"      (Optional  360AH batteries available)",null,"2200 RPM orbital scrub head"]
[null,null,"      (Optional  Thin Plate Pure Lead Batteries available)",null,"Recovery Tank Debris Tray"]
[null,null,"Smart-Fill™ Automatic Battery Watering (Option)",null,"Excellent Ergonomic Controls Design"]
[null,null,"Auto Fill",null,"Non-Marking Polyurethane Tires"]
[null,null,"Quick Release Battery Harness",null,"Includes Standard Pad Drivers or Scrubbing Brushes (Select One)"]
[null,null,"Standard Controlled Battery Compartment Drain",null,"Key Switch for Safety"]
[null,null,"On-board Charger with 3m/15 ft power cord",null,"Hour Meter"]
[null,null,"Closed Machine Venting for Battery Charging",null,"Jacking Points/Shipping Tie Downs"]
[null,null,"Breakaway Squeegee Design",null,"Yellow Maintenance Touch Points"]
[null,null,"Factory Set Squeegee Assembly for Maximum Recovery",null,"Auto Fill for Solution Tank"]
[null,null,"Cast Aluminum Squeegee Frame",null,"Integrated Accessory Rails"]
[null,null,null,null,"Drain hose with pinch cuff to control water flow"]
[null,null,"Optional ec-H2O NanoClean™ Equipped Models Include:"]
[null,null,"Electrically Converted Water Technology System"]
[null,null,"Two Scrubbing Modes: ec-H2O NanoCleanTM & Conventional Scrub"]
[]
[]
[null,null,null,null,null,null,"Same "]
[null,null,"TENNANT COMPANY WARRANTY"]
[null,null,"3 YEARS OR 2000 HOURS - PARTS"]
[null,null,"1 YEAR - BATTERY CHARGERS"]
[null,null,"2 YEARS LABOR, 6 MONTHS TRAVEL"]
[null,null,"INCLUDING ORBITAL SCUB HEAD ISOLATORS"]
[null,null,"10 YEARS ON DURAMERTM ROTOMOLD TANKS"]
[]
[]
[null,null,null,null,"                Quote Request Information"]
[null,null,null,null,null,null,"Fax (quote only)"]
[null,null,null,null,null,null,"Mail (quote,lit, specs)"]
[null,null,null,null,null,null,"Fax + Mail"]
[]
[null,null,null,null,"                Primary Use"]
[null,null,null,null,null,null,"Inside"]
[null,null,null,null,null,null,"Outside"]
[]
[null,"Standard Configuration Machines:",null,"Reference #","Price Each","Qty","Extended Price"]
[null,null,"Descriptions ",null,null,{"$f":"SUM(F65:F75)","v":0}]
[null,null,"T600e Walk-Behind - Disk Scrubber, 800mm / 32\", 240AH C/20 Battery, Conventional Cleaning, \n25A 100-240V AC 50/60Hz 1Ph On-Board Charger, Standard Down Pressure, UL Type E, Black Pneumatic Tires\n(Pad Driver and Pad Wrap Packaging will default unless otherwise specified)","T600E-1001D",20717,null,{"$f":"F65*E65","v":0},{"$f":"IFERROR(IFERROR(VLOOKUP(D65,Surcharge!A:B,2,FALSE)*F65, VLOOKUP(D65 & \"\",Surcharge!A:B,2,FALSE)*F65), \"\")","v":""}]
[]
[null,null,"T600e Walk-Behind - Disk Scrubber, 800mm / 32\", 360AH C/20 Battery, Conventional Cleaning, \n25A 100-240V AC 50/60Hz 1Ph On-Board Charger, Standard Down Pressure, UL Type E, Black Pneumatic Tires\n(Pad Driver and Pad Wrap Packaging will default unless otherwise specified)","T600E-1002D",21499,null,{"$f":"F67*E67","v":0},{"$f":"IFERROR(IFERROR(VLOOKUP(D67,Surcharge!A:B,2,FALSE)*F67, VLOOKUP(D67 & \"\",Surcharge!A:B,2,FALSE)*F67), \"\")","v":""}]
[]
[null,null,"T600 Walk-Behind - Disk Scrubber, 800mm / 32\",  Pro Membrane Control Panel, 240AH C/20 Battery, Smart-Fill Battery Watering System, Conventional Cleaning, 25A 100-240V 50/60Hz 1Ph On-Board Charger, Standard Down Pressure, Auto Fill, Black Pneumatic Tires\n(Pad Driver and Pad Wrap Packaging will default unless otherwise specified)","T600-2001D",24773,null,{"$f":"F69*E69","v":0}]
[]
[null,null,"T600 Walk-Behind - Disk Scrubber, 900mm / 36\", Pro Membrane Control Panel, 240AH C/20 Battery, Smart-Fill Battery Watering System, Conventional Cleaning, 25A 100-240V 50/60Hz 1Ph On-Board Charger, Auto Fill, Black Pneumatic Tires\n(Pad Driver and Pad Wrap Packaging will default unless otherwise specified)","T600-2002D",28032,null,0]
[]
[null,null,"T600 Walk-Behind - Disk Scrubber, 800mm / 32\", Pro Membrane Control Panel, 360AH C/20 Battery, Smart-Fill Battery Watering System, ec-H20 NanoClean, 25A 100-240V 50/60Hz 1Ph On-Board Charger, Auto Fill, Black Pneumatic Tires\n(Pad Driver and Pad Wrap Packaging will default unless otherwise specified)","T600-3001D",28595,null,0]
[]
[null,null,"T600 Walk-Behind - Disk Scrubber, 900mm / 36\", Pro Membrane Control Panel, 360AH C/20 Battery, Smart-Fill Battery Watering System, ec-H20 NanoClean, 25A 100-240V 50/60Hz 1Ph On-Board Charger, Auto Fill, Black Pneumatic Tires\n(Pad Driver and Pad Wrap Packaging will default unless otherwise specified)","T600-3002D",31854,null,0]
[]
[null,"OPTIONAL","Brushes - in place of Pad Driver (2 Required) (Note 1)",null,null,{"$f":"SUM(F78:F81)","v":0}]
[null,null,"800mm / 32\" Disk Nylon Brush",1234523,"N/C",null,{"$f":"IF(F78=0,\" \",\"N/C\")","v":" "}]
[null,null,"800mm / 32\" Disk Polypropylene Brush",1234524,"N/C",null,{"$f":"IF(F79=0,\" \",\"N/C\")","v":" "}]
[null,null,"900mm / 36\" Disk Nylon Brush",1230858,"N/C",null,{"$f":"IF(F80=0,\" \",\"N/C\")","v":" "}]
[null,null,"900mm / 36\" Disk Polypropylene Brush",1230859,"N/C",null,{"$f":"IF(F81=0,\" \",\"N/C\")","v":" "}]
[]
[null,"OPTIONAL","Manuals  (Note 2)","Reference Number",null,{"$f":"SUM(F84:F88)","v":0}]
[null,null,"T600e/T600 Operator Manual (Spanish) - in place of English manual",9016600,"N/C",null,{"$f":"IF(F84=0,\" \",\"N/C\")","v":" "}]
[null,null,"T600e/T600 Operator Manual (French) - in place of English manual",9016601,"N/C",null,{"$f":"IF(F85=0,\" \",\"N/C\")","v":" "}]
[null,null,"Additional Operator Manual","SEE ABOVE",135,null,{"$f":"F86*E86","v":0}]
[null,null,"T600e/T600 Parts Manual",9016599,55,null,{"$f":"F87*E87","v":0}]
[null,null,"T600e/T600 Service Manual",9016605,135,null,{"$f":"F88*E88","v":0}]
[]
[null,"OPTIONAL","Packaging  (Note 3)",null,null,{"$f":"SUM(F91)","v":0}]
[null,null,"Skid w/Carton, Stackable",9001553,472,null,{"$f":"F91*E91","v":0}]
[]
[]
[]
[null,null,null,null,null,{"$f":"SUM(#REF!)","v":{"$error":"#REF!"}}]
[]
[null,null,null,null,{"$f":"ROUND(SUM(G65:G96), 0)","v":0},{"$f":"SUM(E98)","v":0}]
[null,null,null,"Machine Subtotal ",{"$f":"ROUND(SUM(G65:G96), 0)","v":0},{"$f":"F97","v":0}]
[null,"Discounts",null,null,null,{"$f":"SUM(F100)","v":0}]
[null,null,null,null,null,{"$f":"SUM(F101:F104)","v":0}]
[null,null,null,"Discount %",null,{"$f":"IF(E101 <> \"\", 1, 0)","v":0},{"$f":"IF(F101*(E101*0.01)*E97 < 0, F101*(E101*0.01)*E97, -(F101*(E101*0.01)*E97))","v":0}]
[null,null,null,"Discount $",null,{"$f":"IF(E102 <> \"\", 1, 0)","v":0},{"$f":"IF(F102*E102 < 0, F102*E102, -(F102*E102))","v":0}]
[null,null,null,"Discount $",null,{"$f":"IF(E103 <> \"\", 1, 0)","v":0},{"$f":"IF(F103*E103 < 0, F103*E103, -(F103*E103))","v":0}]
[null,null,null,"Discount $",null,{"$f":"IF(E104 <> \"\", 1, 0)","v":0},{"$f":"IF(F104*E104 < 0, F104*E104, -(F104*E104))","v":0}]
[null,null,null,"Discount Total ",{"$f":"SUM(G101:G104)","v":0},{"$f":"SUM(E105)","v":0}]
[null,null,null,null,null,{"$f":"#REF!","v":{"$error":"#REF!"}}]
[null,null,"Prepaid and Add","Freight",null,{"$f":"IF(E107 <> \"\", 1, 0)","v":0},{"$f":"F107*E107","v":0}]
[null,null,"Subject to all applicable taxes","Tax",null,{"$f":"IF(E108 <> \"\", 1, 0)","v":0},{"$f":"F108*E108","v":0}]
[null,null,null,null,null,{"$f":"SUM(F110)","v":0}]
[null,null,null,"            MACHINE TOTAL*",null,{"$f":"SUM(G110)","v":0},{"$f":"SUM(G65:G108)","v":0},null,null,null,null,null,null,"This goes to \"My Documents\""]
[null,"Financing",null,null,null,null,{"$f":"G110","v":0}]
[]
[null,null,"Is customer interested in financing?","Yes"]
[]
[null,null,"If not, why?"]
[]
[]
[null,null,"First Western Equipment Finance - Leasing Calculation Option:","Option 1",null,"Option 2",null,null,null,{"$f":"Financing!A38","v":"Rates 2025 - Rev. 5/6/2025"}]
[null,null,null,"Monthly Payment","Cost Per Day","Monthly Payment","Cost Per Day",null,null,{"$f":"Financing!A39","v":"“Blank Payment Amounts Indicate The Financing Option Or Purchase Options Selected Are Not "}]
[null,null,"Purchase Option:","FWEF:  $1 Buyout Lease",null,"FWEF: Municipal Lease",null,null,null,{"$f":"Financing!A40","v":"Applicable Or The Machine Total Is Below The Minimum Amount For The Selected Vendor”"}]
[null,null,"24 Months",0,0,0,0,null,null,{"$f":"Financing!A41","v":"\"Quoted monthly payments are estimates only and are based on a certain level of credit rating."}]
[null,null,"30 Months",0,0,0,0,null,null,{"$f":"Financing!A42","v":"Actual monthly payments may be higher depending on your credit rating.\""}]
[null,null,"36 Months",0,0,0,0,null,null,{"$f":"Financing!A43","v":"“Financing rates do not include Pre-Paid Service”"}]
[null,null,"48 Months",0,0,0,0,null,{"$f":"Financing!A44","v":0}]
[]
[null,null,null,"Benefits of Equipment Financing:"]
[null,null,null,"• Spreads out investment over time.",null,"• Keep current with latest technology."]
[null,null,null,"• Preserve capital.",null,"• Service and parts bundling available."]
[null,null,null,"• Low monthly payment.",null,"• Pay for labor savings as you go."]
[]
[]
[null,null,"Bundled Offerings","Flexclean – Fair Market Value",null,"Flexclean - $1 Buyout"]
[null,null,"FlexClean: ","36 Month Term",null,"36 Month Term",null,null,"No","AB Brushes"]
[null,null,"Hours included per Month:","Gold","Silver","Gold","Silver","Check"]
[null,null,"< 30/mo. (Avg. 1hr./day)",null,null,null,null,null,{"$f":"FlexCleanCalc!$A21","v":"“FlexClean monthly rates include payment for both machine and service.”"}]
[null,null,"< 60/mo. (Avg. 2hrs./day)"]
[null,null,"< 90/mo. (Avg. 3hrs./day)"]
[null,null,"*This value assumes one service contract regardless of the number of UNITS included in the quote"]
[]
[]
[null,null,"Bundled Offerings","Flexclean – Fair Market Value",null,"Flexclean - $1 Buyout"]
[null,null,"FlexClean 2: ","48 Month Term",null,"48 Month Term"]
[null,null,"Hours included per Month:","Gold","Silver","Gold","Silver"]
[null,null,"< 30/mo. (Avg. 1hr./day)"]
[null,null,"< 60/mo. (Avg. 2hrs./day)"]
[null,null,"< 90/mo. (Avg. 3hrs./day)"]
[null,null,"*This value assumes one service contract regardless of the number of UNITS included in the quote"]
[]
[null,null,"Bundled Offerings","Flexclean – Fair Market Value",null,"Flexclean - $1 Buyout"]
[null,null,"FlexClean 3: ","60 Month Term",null,"60 Month Term"]
[null,null,"Hours included per Month:","Gold","Silver","Gold","Silver"]
[null,null,"< 30/mo. (Avg. 1hr./day)"]
[null,null,"< 60/mo. (Avg. 2hrs./day)"]
[null,null,"< 90/mo. (Avg. 3hrs./day)"]
[null,null,"*This value assumes one service contract regardless of the number of UNITS included in the quote"]
[]
[null,"  TennantTrue",null,0,0]
[]
[null,null,"Is customer interested in service program?","Yes","*State/County selection required for TennantTrue service options"]
[]
[null,null,"If not, why?"]
[]
[null,null,"Term:",36,null,"AB Brushes","No"]
[null,null,"Monthly machine usage (hrs):","< 30/mo. (Avg. 1hr./day)"]
[]
[null,null,"TennantTrue: ","Gold Contract",null,"Silver Contract"]
[null,null,"Per Visit",null,null,481]
[null,null,"Monthly",141,null,83]
[null,null,"Annually",null,null,972]
[null,null,"Pre-Pay Full Term",4884,null,2858]
[null,null,"Hourly Labor Rate"]
[null,null,"Site Visit"]
[]
[null,null,"* Verify customer current pricing prior to quote. "]
[null,null,"**All rates and fees above reflect service for one (1) unit with the exception of Block of Time service."]
[null,null,"*Block of Time is available in 1 Year Term only and is priced as such no matter the term selection on this template."]
[]
[null,"Servicing"]
[]
[null,null,"Is customer interested in a service plan?","No"]
[]
[null,null,"If not, why?"]
[]
[]
[]
[null,null,"Quote Special Instructions:"]
[]
[]
[null,null,{"$f":"Start_Here!E36","v":"Terms and Conditions"}]
[null,null,{"$f":"Start_Here!E37","v":"Ask your local sales rep for estimated lead times. Verify when placing order"}]
[null,null,{"$f":"Start_Here!E38","v":"All orders subject to acceptance by Tennant Sales and Service Company, Minneapolis, Minnesota"}]
[null,null,{"$f":"Start_Here!E39","v":"Prices subject to change without notice."}]
[null,null,{"$f":"Start_Here!E40","v":"Terms:  Net 30 days.  Subject to any applicable taxes."}]
[null,null,{"$f":"Start_Here!E41","v":"Freight: Machines and accessory orders delivered FOB shipping point Frt PPD & Add"}]
[null,null,{"$f":"Start_Here!E42","v":"Parts, supplies, detergents and floor treating material orders delivered FOB "}]
[null,null,{"$f":"Start_Here!E43","v":"shipping point Frt PPD"}]
[null,null,{"$f":"Start_Here!E44","v":"All orders are subject to Tennant’s General Terms and Conditions available at http://www.tennantco.com/terms."}]
[null,null,{"$f":"Start_Here!E45","v":"Printed General Terms and Conditions are also available upon request."}]
[null,null,{"$f":"Start_Here!E46","v":0}]
[]
[null,null,null,null,"Quote Date :",null,{"$f":"Letter!$A$25","v":"2020-09-17"}]
["Order Placement Information:  To place your order, fill in PO# and customer signatures,"]
["call or fax to the numbers listed below. Customer Purchase Order is required."]
["If information is missing, orders will be entered and held until all information is received."]
[null,null,"Customer Number",null,"Cust Grp 3"]
[null,null,{"$f":"Start_Here!$C$25","v":0},null,{"$f":"Start_Here!$C$29","v":0}]
[null,null,{"$f":"Start_Here!$B$18","v":"Who Owns the Machine? (Sold-To Info) (Please Verify)"}]
["Company",null,{"$f":"Start_Here!$C$19","v":"Company Name"}]
["Address",null,{"$f":"Start_Here!$C$20","v":"Address"}]
[null,null,{"$f":"Start_Here!$C$21","v":"City, State Zip"}]
["Name",null,{"$f":"Start_Here!$C$22","v":"Contact Name"}]
["Phone",null,{"$f":"Start_Here!$C$23","v":"Contact Phone"}]
[null,null,{"$f":"Start_Here!$B$11","v":"Where is the Machine Being Shipped? (Ship-To Info) (Please Verify)"}]
["Company",null,{"$f":"Start_Here!$C$12","v":"Company Name"}]
["Address",null,{"$f":"Start_Here!$C$13","v":"Address"}]
[null,null,{"$f":"Start_Here!$C$14","v":"City, State Zip"}]
["Name",null,{"$f":"Start_Here!$C$15","v":"Contact Name"}]
["Phone",null,{"$f":"Start_Here!$C$16","v":"Contact Phone"}]
[null,null,{"$f":"Start_Here!$B$31","v":"Shipping / Carrier Instructions:"},null,"Order Special Instructions:"]
[null,null,{"$f":"Start_Here!$C$32","v":0}]
[]
[null,null,"Customer Purchase Order No."]
[null,null,"(please attach copy)"]
[]
[]
[null,null,"Tax Exempt",null,"Yes"]
[null,null,null,null,"No"]
[null,null,"If Yes, attach a copy of your exemption certificate."]
[]
[null,null,"Requested Delivery Date"]
[null,null,{"$f":"Start_Here!$C$28","v":0}]
[]
[null,null,{"$f":"Start_Here!$C$26","v":0},null,{"$f":"Start_Here!$C$27","v":0}]
[null,0,"Authorized Buyer (please print)",null,"Phone Number"]
[]
[]
[null,0,"Authorized Buyer Signature"]
[]
[null,null,{"$f":"Start_Here!$C$41","v":"Rep Name"}]
[null,null,"Tennant Representative"]
[]
["Specialized Maintenance Equipment"]
[{"$f":"Start_Here!$C$48","v":"TENNANT · 10400 Clean Street · Eden Prairie, MN 55344 ·"}]
[{"$f":"Start_Here!$C$49","v":" PHONE:800-553-8033 · FAX:763-513-2116"}]
[]
[]
[null,"Notes:"]
[null,1,"One set of pad drivers come standard. A different brush may be chosen as an option"]
[null,2,"One English manual comes standard.  A manual in a different language may be chosen as an option."]
[null,3,"All machines come standard with Pad Wrap packaging.  Skid with carton packaging may be chosen as an option"]
[null,null,"Pad wrap packaging is only available in the continental US. For shipments outside of the continental US, please select skid with carton packaging"]
[null,4,"Shipping Weights and Dimensions","Pad Wrap","Skid w/Carton"]
[]
[]
[null,null,"800 mm / 32\" Disk"]
[null,null,"Weight","466 lbs / 212 Kg","736 lbs / 334 Kg"]
[null,null,"Length","66 in / 1677 mm","75\" / 1905 mm"]
[null,null,"Width","34 in / 864 mm","45\" / 1143 mm"]
[null,null,"Height","44 in / 1118 mm","52\" / 1321 mm"]
[]
[null,null,"900 mm / 36\" Disk"]
[null,null,"Weight","470 lbs / 214 Kg","740 lbs / 336 Kg"]
[null,null,"Length","70 in / 1778 mm","75\" / 1905 mm"]
[null,null,"Width","38 in / 965 mm","45\" / 1143 mm"]
[null,null,"Height","44 in / 1118 mm","52\" / 1321 mm"]

{"sheet":"T7_Std_Config","index":25,"n_rows":234,"n_cols":14,"rows_kept":234,"cut":false,"hidden":false,"merged":[[194,2,194,5],[196,4,196,7],[200,2,200,5],[209,4,209,5],[187,2,187,5],[188,2,188,5],[190,2,190,5],[191,2,191,5],[192,2,192,5],[193,2,193,5],[186,2,186,5],[159,3,160,6],[163,2,163,6],[182,4,182,7],[184,2,184,5],[185,2,185,5],[136,3,136,6],[138,3,138,4],[139,3,139,4],[141,3,141,4],[141,5,141,6],[124,3,124,4],[124,5,124,6],[125,3,125,4],[125,5,125,6],[134,4,134,8],[108,3,108,4],[108,5,108,6],[116,3,116,4],[116,5,116,6],[117,3,117,4],[117,5,117,6],[107,3,107,4],[107,5,107,6],[25,2,25,6],[26,2,26,6],[27,2,27,6],[90,3,90,6],[93,3,93,4],[93,5,93,6],[95,3,95,4],[95,5,95,6],[23,2,23,3],[0,2,0,3],[1,2,1,3],[2,2,2,3],[3,2,3,3],[11,1,11,6],[142,3,142,4],[142,5,142,6],[143,3,143,4],[143,5,143,6],[144,3,144,4],[144,5,144,6],[145,3,145,4],[145,5,145,6],[146,3,146,4],[146,5,146,6],[147,3,147,4],[147,5,147,6]]}
["T7_Std_Config",null,{"$f":"Start_Here!$C19","v":"Company Name"}]
[{"$f":"SUM(G85)","v":0},null,{"$f":"Start_Here!$C20","v":"Address"}]
[null,null,{"$f":"Start_Here!$C21","v":"City, State Zip"}]
[null,null,{"$f":"Start_Here!$C22","v":"Contact Name"}]
[null,null,{"$f":"Start_Here!$C$41","v":"Rep Name"}]
[null,null,{"$f":"Start_Here!$C$37","v":"Tennant Sales and Service Company"}]
[null,null,{"$f":"Start_Here!$C$38","v":"10400 Clean Street"}]
[null,null,{"$f":"Start_Here!$C$39","v":"Eden Prairie, MN 55344"}]
[null,null,{"$f":"Start_Here!$C$43","v":"800-553-8033"},null,"Quote Date :",null,{"$f":"Letter!$A$25","v":"2020-09-17"}]
[]
[null,null,{"$f":"Help!C2","v":"US Date Rev - 5/6/2025"}]
[null,"BUILT-IN “TENNANT VALUE” INCLUDES:"]
[]
[null,null,"Fully Cleanable HygenicTM Tanks",null,"Unsurpassed Ergonomic Design"]
[null,null,"Extremely Low 67 dBa Noise Levels",null,"Standard 240 AH Battery Pack (Optional 360 AH)"]
[null,null,"Unmatched Solution Recovery",null,"Charger"]
[null,null,"One-Button Scrubbing Operation",null,"Edge & Reach Under Cleaning"]
[null,null,"Economy Mode (extends run time up to 4.5 hours)",null,"No Tool Brush / Squeegee Change"]
[null,null,"On Board Diagnostics",null,"Standard Scrubbing Brushes & Pad Drivers (Select One Type)"]
[null,null,"Touch Panel Controls",null,"Vacuum Fan In-Line Air Filter Cartridge"]
[null,null,"Automatic:",null,"Brush Shutoff When Idle"]
[null,null,"             Squeegee Lift",null,"Brush Shutoff at 80% Discharge"]
[null,null,"             Water Shutoff",null,"Audio Back Up Alarm"]
[]
[]
[null,null,"TENNANT COMPANY WARRANTY"]
[null,null,"3 YEARS OR 1500 HOURS ON ALL COMPONENTS, 3 YEARS LABOR"]
[null,null,"90 DAYS TRAVEL, 10 YEARS ON DURAMERTM TANKS"]
[]
[]
[null,null,null,null,"                Quote Request Information"]
[null,null,null,null,null,null,"Fax (quote only)"]
[null,null,null,null,null,null,"Mail (quote,lit, specs)"]
[null,null,null,null,null,null,"Fax + Mail"]
[]
[null,null,null,null,"                Primary Use"]
[null,null,null,null,null,null,"Inside"]
[null,null,null,null,null,null,"Outside"]
[]
[null,"Standard Configurations:",null,"Reference #","Price Each","Qty","Extended Price"]
[null,"Machine Descriptions",null,null,null,{"$f":"SUM(F42:F52)","v":0}]
[null,null,"T7 Rider - Disk Scrubber, 650mm / 26\", 240AH C/20 Battery, Conventional Cleaning, 25A 115V AC 60Hz 1Ph On-Board Charger  \n(Pad Driver and Pad Wrap Packaging will default unless otherwise specified)","T7-1001D",26871,null,{"$f":"F42*E42","v":0},{"$f":"IFERROR(IFERROR(VLOOKUP(D42,Surcharge!A:B,2,FALSE)*F42, VLOOKUP(D42 & \"\",Surcharge!A:B,2,FALSE)*F42), \"\")","v":""}]
[]
[null,null,"T7 Rider - Disk Scrubber, 800mm / 32\", 240AH C/20 Battery, Conventional Cleaning, 25A 115V AC 60Hz 1Ph On-Board Charger\n(Pad Driver and Pad Wrap Packaging will default unless otherwise specified)","T7-1002D",28806,null,0,{"$f":"IFERROR(IFERROR(VLOOKUP(D44,Surcharge!A:B,2,FALSE)*F44, VLOOKUP(D44 & \"\",Surcharge!A:B,2,FALSE)*F44), \"\")","v":""}]
[]
[null,null,"T7 Rider - Disk Scrubber, 650mm / 26\", 240AH C/20 Battery, ec-H20 NanoClean, 25A 115V AC 60Hz 1Ph On-Board Charger\n(Pad Driver and Pad Wrap Packaging will default unless otherwise specified)","T7-2001D",30284,null,0,{"$f":"IFERROR(IFERROR(VLOOKUP(D46,Surcharge!A:B,2,FALSE)*F46, VLOOKUP(D46 & \"\",Surcharge!A:B,2,FALSE)*F46), \"\")","v":""}]
[]
[null,null,"T7 Rider - Disk Scrubber, 800mm / 32\", 240AH C/20 Battery, ec-H20 NanoClean, 25A 115V AC 60Hz 1Ph On-Board Charger\n(Pad Driver and Pad Wrap Packaging will default unless otherwise specified)","T7-2002D",32219,null,0,{"$f":"IFERROR(IFERROR(VLOOKUP(D48,Surcharge!A:B,2,FALSE)*F48, VLOOKUP(D48 & \"\",Surcharge!A:B,2,FALSE)*F48), \"\")","v":""}]
[]
[null,null,"T7 Rider - Disk Scrubber, 650mm / 26\", 360AH C/20 Battery, Manual Battery Watering System, \nec-H20 NanoClean, 25A 115V AC 60Hz 1Ph On-Board Charger\n(Pad Driver and Pad Wrap Packaging will default unless otherwise specified)","T7-3001D",31616,null,0,{"$f":"IFERROR(IFERROR(VLOOKUP(D50,Surcharge!A:B,2,FALSE)*F50, VLOOKUP(D50 & \"\",Surcharge!A:B,2,FALSE)*F50), \"\")","v":""}]
[]
[null,null,"T7 Rider - Disk Scrubber, 800mm / 32\", 360AH C/20 Battery, Manual Battery Watering System, \nec-H20 NanoClean, 25A 115V AC 60Hz 1Ph On-Board Charger\n(Pad Driver and Pad Wrap Packaging will default unless otherwise specified)","T7-3002D",33551,null,0,{"$f":"IFERROR(IFERROR(VLOOKUP(D52,Surcharge!A:B,2,FALSE)*F52, VLOOKUP(D52 & \"\",Surcharge!A:B,2,FALSE)*F52), \"\")","v":""}]
[]
[null,"OPTIONAL","Brushes - in place of Pad Driver (2 Required)  (Note 1)","Reference Number",null,{"$f":"SUM(F55:F58)","v":0}]
[null,null,"650mm / 26\" Disk Nylon Brush",1220226,"N/C     ",null,{"$f":"IF(F55=0,\" \",\"N/C\")","v":" "},{"$f":"IFERROR(IFERROR(VLOOKUP(D55,Surcharge!A:B,2,FALSE)*F55, VLOOKUP(D55 & \"\",Surcharge!A:B,2,FALSE)*F55), \"\")","v":""}]
[null,null,"650mm / 26\" Disk Polypropylene Brush",1220223,"N/C     ",null,{"$f":"IF(F56=0,\" \",\"N/C\")","v":" "},{"$f":"IFERROR(IFERROR(VLOOKUP(D56,Surcharge!A:B,2,FALSE)*F56, VLOOKUP(D56 & \"\",Surcharge!A:B,2,FALSE)*F56), \"\")","v":""}]
[null,null,"800mm / 32\" Disk Nylon Brush",1220225,"N/C     ",null,{"$f":"IF(F57=0,\" \",\"N/C\")","v":" "},{"$f":"IFERROR(IFERROR(VLOOKUP(D57,Surcharge!A:B,2,FALSE)*F57, VLOOKUP(D57 & \"\",Surcharge!A:B,2,FALSE)*F57), \"\")","v":""}]
[null,null,"800mm / 32\" Disk Polypropylene Brush",1220224,"N/C     ",null,{"$f":"IF(F58=0,\" \",\"N/C\")","v":" "},{"$f":"IFERROR(IFERROR(VLOOKUP(D58,Surcharge!A:B,2,FALSE)*F58, VLOOKUP(D58 & \"\",Surcharge!A:B,2,FALSE)*F58), \"\")","v":""}]
[]
[null,"OPTIONAL","Manuals  (Note 2)",null,null,{"$f":"SUM(F61:F64)","v":0}]
[null,null,"T7 Operator Manual (Spanish) - in place of English manual",331042,"N/C     ",null,{"$f":"IF(F61=0,\" \",\"N/C\")","v":" "},{"$f":"IFERROR(IFERROR(VLOOKUP(D61,Surcharge!A:B,2,FALSE)*F61, VLOOKUP(D61 & \"\",Surcharge!A:B,2,FALSE)*F61), \"\")","v":""}]
[null,null,"T7 Operator Manual (French) - in place of English manual",331043,"N/C     ",null,{"$f":"IF(F62=0,\" \",\"N/C\")","v":" "},{"$f":"IFERROR(IFERROR(VLOOKUP(D62,Surcharge!A:B,2,FALSE)*F62, VLOOKUP(D62 & \"\",Surcharge!A:B,2,FALSE)*F62), \"\")","v":""}]
[null,null,"T7 Parts Manual",9013606,59,null,{"$f":"F63*E63","v":0},{"$f":"IFERROR(IFERROR(VLOOKUP(D63,Surcharge!A:B,2,FALSE)*F63, VLOOKUP(D63 & \"\",Surcharge!A:B,2,FALSE)*F63), \"\")","v":""}]
[null,null,"T7 Service Manual",331045,143,null,{"$f":"F64*E64","v":0},{"$f":"IFERROR(IFERROR(VLOOKUP(D64,Surcharge!A:B,2,FALSE)*F64, VLOOKUP(D64 & \"\",Surcharge!A:B,2,FALSE)*F64), \"\")","v":""}]
[]
[null,"OPTIONAL","Packaging  (Note 3)",null,null,{"$f":"SUM(F67)","v":0}]
[null,null,"Skid w/Carton, Stackable",9000550,500,null,{"$f":"F67*E67","v":0},{"$f":"IFERROR(IFERROR(VLOOKUP(D67,Surcharge!A:B,2,FALSE)*F67, VLOOKUP(D67 & \"\",Surcharge!A:B,2,FALSE)*F67), \"\")","v":""}]
[]
[]
[null,null,null,null,null,{"$f":"SUM(#REF!)","v":{"$error":"#REF!"}}]
[]
[null,null,null,null,{"$f":"ROUND(SUM(G42:G71), 0)","v":0},{"$f":"SUM(E73)","v":0}]
[null,null,null,"Machine Subtotal ",{"$f":"ROUND(SUM(G42:G71), 0)","v":0},{"$f":"F72","v":0}]
[null,"Discounts",null,null,null,{"$f":"SUM(F75)","v":0}]
[null,null,null,null,null,{"$f":"SUM(F76:F79)","v":0}]
[null,null,null,"Discount %",null,{"$f":"IF(E76 <> \"\", 1, 0)","v":0},{"$f":"IF(F76*(E76*0.01)*E72 < 0, F76*(E76*0.01)*E72, -(F76*(E76*0.01)*E72))","v":0}]
[null,null,null,"Discount $",null,{"$f":"IF(E77 <> \"\", 1, 0)","v":0},{"$f":"IF(F77*E77 < 0, F77*E77, -(F77*E77))","v":0}]
[null,null,null,"Discount $",null,{"$f":"IF(E78 <> \"\", 1, 0)","v":0},{"$f":"IF(F78*E78 < 0, F78*E78, -(F78*E78))","v":0}]
[null,null,null,"Discount $",null,{"$f":"IF(E79 <> \"\", 1, 0)","v":0},{"$f":"IF(F79*E79 < 0, F79*E79, -(F79*E79))","v":0}]
[null,null,null,"Discount Total ",{"$f":"SUM(G76:G79)","v":0},{"$f":"SUM(E80)","v":0}]
[null,null,null,null,null,{"$f":"#REF!","v":{"$error":"#REF!"}}]
[null,null,"Prepaid and Add","Freight",null,{"$f":"IF(E82 <> \"\", 1, 0)","v":0},{"$f":"F82*E82","v":0}]
[null,null,"Subject to all applicable taxes","Tax",null,{"$f":"IF(E83 <> \"\", 1, 0)","v":0},{"$f":"F83*E83","v":0}]
[null,null,null,null,null,{"$f":"SUM(F85)","v":0}]
[null,null,null,"            MACHINE TOTAL*",null,{"$f":"SUM(G85)","v":0},{"$f":"SUM(G42:G83)","v":0},null,null,null,null,null,null,"This goes to \"My Documents\""]
[null,null,null,null,null,null,{"$f":"G85","v":0}]
[null,"Financing"]
[]
[null,null,"Is customer interested in financing?","Yes"]
[]
[null,null,"If not, why?"]
[]
[]
[null,null,"First Western Equipment Finance - Leasing Calculation Option:","Option 1",null,"Option 2",null,null,null,{"$f":"Financing!A38","v":"Rates 2025 - Rev. 5/6/2025"}]
[null,null,null,"Monthly Payment","Cost Per Day","Monthly Payment","Cost Per Day",null,null,{"$f":"Financing!A39","v":"“Blank Payment Amounts Indicate The Financing Option Or Purchase Options Selected Are Not "}]
[null,null,"Purchase Option:","FWEF:  $1 Buyout Lease",null,"FWEF: Municipal Lease",null,null,null,{"$f":"Financing!A40","v":"Applicable Or The Machine Total Is Below The Minimum Amount For The Selected Vendor”"}]
[null,null,"24 Months",0,0,0,0,null,null,{"$f":"Financing!A41","v":"\"Quoted monthly payments are estimates only and are based on a certain level of credit rating."}]
[null,null,"30 Months",0,0,0,0,null,null,{"$f":"Financing!A42","v":"Actual monthly payments may be higher depending on your credit rating.\""}]
[null,null,"36 Months",0,0,0,0,null,null,{"$f":"Financing!A43","v":"“Financing rates do not include Pre-Paid Service”"}]
[null,null,"48 Months",0,0,0,0]
[]
[null,null,null,"Benefits of Equipment Financing:"]
[null,null,null,"• Spreads out investment over time.",null,"• Keep current with latest technology."]
[null,null,null,"• Preserve capital.",null,"• Service and parts bundling available."]
[null,null,null,"• Low monthly payment.",null,"• Pay for labor savings as you go."]
[]
[]
[null,null,"Bundled Offerings","Flexclean – Fair Market Value",null,"Flexclean - $1 Buyout"]
[null,null,"FlexClean: ","36 Month Term",null,"36 Month Term",null,null,"No","AB Brushes"]
[null,null,"Hours included per Month:","Gold","Silver","Gold","Silver","Check"]
[null,null,"< 30/mo. (Avg. 1hr./day)",null,null,null,null,null,{"$f":"FlexCleanCalc!$A21","v":"“FlexClean monthly rates include payment for both machine and service.”"}]
[null,null,"< 60/mo. (Avg. 2hrs./day)"]
[null,null,"< 90/mo. (Avg. 3hrs./day)"]
[null,null,"*This value assumes one service contract regardless of the number of UNITS included in the quote"]
[]
[]
[null,null,"Bundled Offerings","Flexclean – Fair Market Value",null,"Flexclean - $1 Buyout"]
[null,null,"FlexClean 2: ","48 Month Term",null,"48 Month Term"]
[null,null,"Hours included per Month:","Gold","Silver","Gold","Silver"]
[null,null,"< 30/mo. (Avg. 1hr./day)"]
[null,null,"< 60/mo. (Avg. 2hrs./day)"]
[null,null,"< 90/mo. (Avg. 3hrs./day)"]
[null,null,"*This value assumes one service contract regardless of the number of UNITS included in the quote"]
[]
[null,null,"Bundled Offerings","Flexclean – Fair Market Value",null,"Flexclean - $1 Buyout"]
[null,null,"FlexClean 3: ","60 Month Term",null,"60 Month Term"]
[null,null,"Hours included per Month:","Gold","Silver","Gold","Silver"]
[null,null,"< 30/mo. (Avg. 1hr./day)"]
[null,null,"< 60/mo. (Avg. 2hrs./day)"]
[null,null,"< 90/mo. (Avg. 3hrs./day)"]
[null,null,"*This value assumes one service contract regardless of the number of UNITS included in the quote"]
[]
[null,"  TennantTrue"]
[]
[null,null,"Is customer interested in service program?","Yes","*State/County selection required for TennantTrue service options"]
[]
[null,null,"If not, why?"]
[]
[null,null,"Term:",36,null,"AB Brushes","No"]
[null,null,"Monthly machine usage (hrs):","< 30/mo. (Avg. 1hr./day)"]
[]
[null,null,"TennantTrue: ","Gold Contract",null,"Silver Contract"]
[null,null,"Per Visit",null,null,501]
[null,null,"Monthly",173,null,88]
[null,null,"Annually",null,null,1035]
[null,null,"Pre-Pay Full Term",5964,null,3042]
[null,null,"Hourly Labor Rate"]
[null,null,"Site Visit"]
[]
[null,null,"* Verify customer current pricing prior to quote. "]
[null,null,"**All rates and fees above reflect service for one (1) unit with the exception of Block of Time service."]
[null,null,"*Block of Time is available in 1 Year Term only and is priced as such no matter the term selection on this template."]
[]
[]
[]
[null,"Servicing"]
[]
[null,null,"Is customer interested in a service plan?","No"]
[]
[null,null,"If not, why?"]
[]
[]
[null,null,"Quote Special Instructions:"]
[]
[]
[null,null,{"$f":"Start_Here!E36","v":"Terms and Conditions"}]
[null,null,{"$f":"Start_Here!E37","v":"Ask your local sales rep for estimated lead times. Verify when placing order"}]
[null,null,{"$f":"Start_Here!E38","v":"All orders subject to acceptance by Tennant Sales and Service Company, Minneapolis, Minnesota"}]
[null,null,{"$f":"Start_Here!E39","v":"Prices subject to change without notice."}]
[null,null,{"$f":"Start_Here!E40","v":"Terms:  Net 30 days.  Subject to any applicable taxes."}]
[null,null,{"$f":"Start_Here!E41","v":"Freight: Machines and accessory orders delivered FOB shipping point Frt PPD & Add"}]
[null,null,{"$f":"Start_Here!E42","v":"Parts, supplies, detergents and floor treating material orders delivered FOB "}]
[null,null,{"$f":"Start_Here!E43","v":"shipping point Frt PPD"}]
[null,null,{"$f":"Start_Here!E44","v":"All orders are subject to Tennant’s General Terms and Conditions available at http://www.tennantco.com/terms."}]
[null,null,{"$f":"Start_Here!E45","v":"Printed General Terms and Conditions are also available upon request."}]
[null,null,{"$f":"Start_Here!E46","v":0}]
[]
[null,null,null,null,"Quote Date :",null,{"$f":"Letter!$A$25","v":"2020-09-17"}]
["Order Placement Information:  To place your order, fill in PO# and customer signatures,"]
["call or fax to the numbers listed below. Customer Purchase Order is required."]
["If information is missing, orders will be entered and held until all information is received."]
[null,null,"Customer Number",null,"Cust Grp 3"]
[null,null,{"$f":"Start_Here!$C$25","v":0},null,{"$f":"Start_Here!$C$29","v":0}]
[null,null,{"$f":"Start_Here!$B$18","v":"Who Owns the Machine? (Sold-To Info) (Please Verify)"}]
["Company",null,{"$f":"Start_Here!$C$19","v":"Company Name"}]
["Address",null,{"$f":"Start_Here!$C$20","v":"Address"}]
[null,null,{"$f":"Start_Here!$C$21","v":"City, State Zip"}]
["Name",null,{"$f":"Start_Here!$C$22","v":"Contact Name"}]
["Phone",null,{"$f":"Start_Here!$C$23","v":"Contact Phone"}]
[null,null,{"$f":"Start_Here!$B$11","v":"Where is the Machine Being Shipped? (Ship-To Info) (Please Verify)"}]
["Company",null,{"$f":"Start_Here!$C$12","v":"Company Name"}]
["Address",null,{"$f":"Start_Here!$C$13","v":"Address"}]
[null,null,{"$f":"Start_Here!$C$14","v":"City, State Zip"}]
["Name",null,{"$f":"Start_Here!$C$15","v":"Contact Name"}]
["Phone",null,{"$f":"Start_Here!$C$16","v":"Contact Phone"}]
[null,null,{"$f":"Start_Here!$B$31","v":"Shipping / Carrier Instructions:"},null,"Order Special Instructions:"]
[null,null,{"$f":"Start_Here!$C$32","v":0}]
[]
[null,null,"Customer Purchase Order No."]
[null,null,"(please attach copy)"]
[]
[]
[null,null,"Tax Exempt",null,"Yes"]
[null,null,null,null,"No"]
[null,null,"If Yes, attach a copy of your exemption certificate."]
[]
[null,null,"Requested Delivery Date"]
[null,null,{"$f":"Start_Here!$C$28","v":0}]
[]
[null,null,{"$f":"Start_Here!$C$26","v":0},null,{"$f":"Start_Here!$C$27","v":0}]
[null,0,"Authorized Buyer (please print)",null,"Phone Number"]
[]
[]
[null,0,"Authorized Buyer Signature"]
[]
[null,null,{"$f":"Start_Here!$C$41","v":"Rep Name"}]
[null,null,"Tennant Representative"]
[]
["Specialized Maintenance Equipment"]
[{"$f":"Start_Here!$C$48","v":"TENNANT · 10400 Clean Street · Eden Prairie, MN 55344 ·"}]
[{"$f":"Start_Here!$C$49","v":" PHONE:800-553-8033 · FAX:763-513-2116"}]
[]
[null,"Notes:"]
[null,1,"One set of pad drivers come standard. A different brush may be chosen as an option"]
[null,2,"One English manual comes standard.  A manual in a different language may be chosen as an option."]
[null,3,"All machines come standard with Pad Wrap packaging.  Skid with carton packaging may be chosen as an option"]
[null,null,"Pad wrap packaging is only available in the continental US. For shipments outside of the continental US, please select skid with carton packaging"]
[]
[null,9,"Shipping Weights and Dimentions","Pad Wrap","Skid w/Carton"]
[]
[null,null,"Weight (with 235AH batteries)","975 lbs / 443 kg","1000 lbs / 454 kg"]
[null,null,"Length","60\" / 1,524mm","62\" / 1,574mm"]
[null,null,"Width","39\" / 991mm","33\" / 838mm"]
[null,null,"Height","50\" / 1,270","48\" / 1,219mm"]

{"sheet":"T12_Standard_Config","index":26,"n_rows":275,"n_cols":13,"rows_kept":275,"cut":false,"hidden":false,"merged":[[199,2,199,6],[218,4,218,7],[220,2,220,5],[221,2,221,5],[144,3,144,4],[144,5,144,6],[145,3,145,4],[145,5,145,6],[176,3,176,4],[153,3,153,4],[153,5,153,6],[162,3,162,4],[162,5,162,6],[171,4,171,8],[173,3,173,6],[175,3,175,4],[232,4,232,7],[236,2,236,5],[245,4,245,5],[223,2,223,5],[224,2,224,5],[226,2,226,5],[227,2,227,5],[228,2,228,5],[229,2,229,5],[230,2,230,5],[178,3,178,4],[178,5,178,6],[179,3,179,4],[179,5,179,6],[180,3,180,4],[180,5,180,6],[184,3,184,4],[184,5,184,6],[222,2,222,5],[195,3,196,6],[36,2,36,6],[37,2,37,6],[38,2,38,6],[161,3,161,4],[161,5,161,6],[64,2,64,3],[73,2,73,3],[76,2,76,3],[67,2,67,3],[154,3,154,4],[154,5,154,6],[127,3,127,6],[33,2,33,6],[0,2,0,3],[1,2,1,3],[2,2,2,3],[3,2,3,3],[11,2,11,3],[130,3,130,4],[130,5,130,6],[132,3,132,4],[132,5,132,6],[34,2,34,6],[35,2,35,6],[70,2,70,3],[181,3,181,4],[181,5,181,6],[182,3,182,4],[182,5,182,6],[183,3,183,4],[183,5,183,6]]}
["T12_Standard_Config",null,{"$f":"Start_Here!$C19","v":"Company Name"}]
[{"$f":"SUM(G122)","v":0},null,{"$f":"Start_Here!$C20","v":"Address"}]
[null,null,{"$f":"Start_Here!$C21","v":"City, State Zip"}]
[null,null,{"$f":"Start_Here!$C22","v":"Contact Name"}]
[null,null,{"$f":"Start_Here!$C$41","v":"Rep Name"}]
[null,null,{"$f":"Start_Here!$C$37","v":"Tennant Sales and Service Company"}]
[null,null,{"$f":"Start_Here!$C$38","v":"10400 Clean Street"}]
[null,null,{"$f":"Start_Here!$C$39","v":"Eden Prairie, MN 55344"}]
[null,null,{"$f":"Start_Here!$C$43","v":"800-553-8033"},null,"Quote Date :",null,{"$f":"Letter!$A$25","v":"2020-09-17"}]
[]
[null,null,{"$f":"Help!C2","v":"US Date Rev - 5/6/2025"}]
[null,null,"                     BUILT-IN \"TENNANT VALUE\" INCLUDES:"]
[]
[null,null,"Two Speed Electronic Transmission with AC Propel Motor","Cup Holder"]
[null,null,"Disk or Cylindrcial Scrubbing - 32 in (800 mm) path","Operator Manual and Video"]
[null,null,"Standard Cylindrical Brushes","Front and Rear Non-Marking Tires "]
[null,null,"Non-Corrosive Duramer™ Solution and Recovery Tanks"]
[null,null,"35 gal (132 L) Solution Tank","T12 Controls:"]
[null,null,"44 gal (166 L) Recovery Tank","   1-Step™ One-Button Scrub Operation"]
[null,null,"9 gal (34 L) Demisting Chamber","3 Down-Pressure Settings"]
[null,null,"Parabolic Rear Squeegee w/SmartRelease™ Breakaway System","On Board Diagnostics"]
[null,null,"Automatic Functions:","Water Shutoff Switch"]
[null,null,"     - Parking Brake"]
[null,null,"     - Squeegee Lift","T12 XP Only Controls and Features:"]
[null,null,"     - Water Shutoff","T12 Controls, plus"]
[null,null,"     - Brush Shutoff When Idle","Steering Wheel Mounted, Touch-N-GO Control Module (XP Only)"]
[null,null,"     - Brush Shutoff at 80% Battery Discharge","AV Back Up Alarm w/Strobe Light"]
[null,null,"No Tool Squeegee and Brush Change","Water Shutoff Thumb Switch on Control Module"]
[null,null,"In-Line Vacuum Fan Air Filter","Head and Tail Lights"]
[null,null,"High Visibility Maintenance Touch Points","Deluxe Seat with Arm Rests"]
[null,null,"Underwriters Laboratory (UL®) \"E\" Certification"]
[]
[]
[null,null,"TENNANT COMPANY WARRANTY"]
[null,null,"36 MONTHS OR 2000 HOURS - PARTS"]
[null,null,"24 MONTHS - LABOR"]
[null,null,"6 MONTHS - TRAVEL"]
[null,null,"10 YEARS ON DURAMERTM TANKS"]
[null,null,"CUSTOM options may add 1 week or more to standard lead times."]
[]
[]
[]
[]
[]
[null,null,null,null,"                Quote Request Information"]
[null,null,null,null,null,null,"Fax (quote only)"]
[null,null,null,null,null,null,"Mail (quote,lit, specs)"]
[null,null,null,null,null,null,"Fax + Mail"]
[]
[null,null,null,null,"                Primary Use"]
[null,null,null,null,null,null,"Inside"]
[null,null,null,null,null,null,"Outside"]
[]
[null,null,"Description","Reference #","Price Each","Qty","Extended Price"]
[null,"Standard Configurations  (Note 1 & 2)",null,null,null,{"$f":"SUM(F56)","v":0}]
[null,null,null,null,null,{"$f":"SUM(F57)","v":0},null,{"$f":"IFERROR(IFERROR(VLOOKUP(D56,Surcharge!A:B,2,FALSE)*F56, VLOOKUP(D56 & \"\",Surcharge!A:B,2,FALSE)*F56), \"\")","v":""},null,null,null,{"$f":"SUM(F56)","v":0},"Surcharge Qty"]
[null,"Quick Ship","T12 XP Rider - Disk Scrubber, ec-H2O™, Linatex Squeegee, Wet 360 AH C/20  (Kit of 6 batteries) (in lieu of standard), 21A 85-265V AC 50/60Hz 1Ph - 360AH Battery Off Board Charger, UL® Type E,  Side Brush- Right Hand Scrubbing, Heavy Duty Squeegee Protection, Polypropylene Brushes, Operator Manual - English, Parts Manual, Operator Video,  Pad Wrap Packaging ","MV-T12-0041",43837,null,{"$f":"F57*E57","v":0},{"$f":"IFERROR(IFERROR(VLOOKUP(D57,Surcharge!A:B,2,FALSE)*F57, VLOOKUP(D57 & \"\",Surcharge!A:B,2,FALSE)*F57), \"\")","v":""}]
[null,null,"The above listed configuration is a stock unit – Configuration cannot be altered, changed or added to.",null,null,{"$f":"SUM(F57)","v":0}]
[]
[null,"Quick Ship","T12 Rider - Cylindrical Scrubber, ec-H2O™, Linatex Squeegee, Wet 360AH C/20 (Kit of 6 batteries), Manual Battery Watering Kit, Off-Board 21A 85-265V AC 50/60Hz 1Ph, UL® Type E, Scrubbing Side Brush, Heavy Duty Squeegee Protection, Deluxe Seat w/Armrest, Headlight, AV BU Alarm-Strobe on Tank, Poly Main and Side Brushes, English Operator Manual, Operator Video, Parts Manual, Pad Wrap Packaging","MV-T12-0042",44583,null,{"$f":"F60*E60","v":0}]
[null,null,"The above listed configuration is a stock unit – Configuration cannot be altered, changed or added to.",null,null,{"$f":"SUM(F60)","v":0},null,{"$f":"IFERROR(IFERROR(VLOOKUP(D61,Surcharge!A:B,2,FALSE)*F61, VLOOKUP(D61 & \"\",Surcharge!A:B,2,FALSE)*F61), \"\")","v":""}]
[]
[]
[null,null,"T12 Rider - Disk Scrubber, Conventional Cleaning, Linatex Squeegee, Wet 360AH C/20 (Kit of 6 batteries),Manual Battery Watering Kit , On-Board 20A 85-130V AC 50/60Hz 1Ph Charger, UL® Type E","T12-1000D",33134,null,{"$f":"F64*E64","v":0}]
[null,null,"Choice of Fire Extinguisher, Brushes, Operator Manual and Shipment Packaging available.",null,null,{"$f":"SUM(F64)","v":0}]
[]
[null,null,"T12 Rider - Cylindrical Scrubber, Conventional Cleaning, Linatex Squeegee, Wet 360AH C/20 (Kit of 6 batteries), Manual Battery Watering Kit, Off-Board 21A 85-265V 50/60Hz 1Ph Charger, UL® Type E, Heavy Duty Squeegee Protection, Safety Light Package, Vacuum Wand, Spray Nozzle with Hose","T12-1001C",37067,null,{"$f":"F67*E67","v":0}]
[null,null,"Choice of Fire Extinguisher, Brushes, Operator Manual and Shipment Packaging available.",null,null,{"$f":"SUM(F67)","v":0}]
[]
[null,null,"T12 Rider - Cylindrical Scrubber, Conventional Cleaning, Wet 360AH C/20 (Kit of 6 batteries), Manual Battery Watering Kit, On-Board 20A 85-130V 50/60Hz 1Ph Charger, UL® Type E, Productivity Package (Side Scrubbing Brush, Vac Wand, Spray Hose), Safety Light Package (LED Head Light, AV Backup Alarm), Heavy Duty Squeegee Protection","T12-2002C",41449,null,{"$f":"F70*E70","v":0}]
[null,null,"Choice of Fire Extinguisher, Brushes, Operator Manual and Shipment Packaging available.",null,null,{"$f":"SUM(F70)","v":0}]
[]
[null,null,"T12 Rider - Cylindrical Scrubber, ec-H2O™, Linatex Squeegee, Wet 360AH C/20 (Kit of 6 batteries), Manual Battery Watering Kit, Off-Board 21A 85-265V AC 50/60 Hz 1Ph, Scrubbing Side Brush, Heavy Duty Squeegee Protection, Deluxe Seat w/Armrest, Headlights, AV BU Alarm w/Strobe Light on Tank","T12-2000C",44583,null,{"$f":"F73*E73","v":0}]
[null,null,"Choice of Fire Extinguisher, Brushes, Operator Manual and Shipment Packaging available.",null,null,{"$f":"SUM(F73)","v":0}]
[]
[null,null,"T12 XP Rider - Cylindrical Scrubber, ec-H2O™, Linatex Squeegee, Wet 360AH C/20 (Kit of 6 batteries), Manual Battery Watering Kit, On-Board 20A 85-130V 50/60Hz 1Ph Charger, UL® Type E, Productivity Package, Safety Light Package, Heavy Duty Squeegee Protection, Deluxe Seat","T12-3000C",47419,null,{"$f":"F76*E76","v":0}]
[null,null,"Choice of Fire Extinguisher, Brushes, Operator Manual and Shipment Packaging available.",null,null,{"$f":"SUM(F76)","v":0}]
[]
[null,"Machine Protection & Safety",null,null,null,{"$f":"SUM(F80)","v":0}]
[null,null,"Fire Extinguisher",9009878,368,null,{"$f":"F80*E80","v":0}]
[]
[null,"Brushes and Pads",null,"Reference Number",null,{"$f":"SUM(F83,F87,F91)","v":0},null,{"$f":"IFERROR(IFERROR(VLOOKUP(D82,Surcharge!A:B,2,FALSE)*F82, VLOOKUP(D82 & \"\",Surcharge!A:B,2,FALSE)*F82), \"\")","v":""}]
[null,null,"Disk Scrubbing Brushes/Pads (2 Required)",null,null,{"$f":"SUM(F84:F85)","v":0},null,{"$f":"IFERROR(IFERROR(VLOOKUP(D83,Surcharge!A:B,2,FALSE)*F83, VLOOKUP(D83 & \"\",Surcharge!A:B,2,FALSE)*F83), \"\")","v":""}]
[null,null,"Polypropylene Brush",1220241,"N/C",null,{"$f":"IF(F84=0,\" \",\"N/C\")","v":" "},{"$f":"IFERROR(IFERROR(VLOOKUP(D84,Surcharge!A:B,2,FALSE)*F84, VLOOKUP(D84 & \"\",Surcharge!A:B,2,FALSE)*F84), \"\")","v":""}]
[null,null,"Super Abrasive Brush",1221543,212,null,{"$f":"F85*E85","v":0},{"$f":"IFERROR(IFERROR(VLOOKUP(D85,Surcharge!A:B,2,FALSE)*F85, VLOOKUP(D85 & \"\",Surcharge!A:B,2,FALSE)*F85), \"\")","v":""}]
[null,null,null,null,null,null,null,{"$f":"IFERROR(IFERROR(VLOOKUP(D86,Surcharge!A:B,2,FALSE)*F86, VLOOKUP(D86 & \"\",Surcharge!A:B,2,FALSE)*F86), \"\")","v":""}]
[null,null,"Cylindrical Scrubbing Brushes (2 Required)",null,null,{"$f":"SUM(F88:F89)","v":0},null,{"$f":"IFERROR(IFERROR(VLOOKUP(D87,Surcharge!A:B,2,FALSE)*F87, VLOOKUP(D87 & \"\",Surcharge!A:B,2,FALSE)*F87), \"\")","v":""}]
[null,null,"Polypropylene Brush",1201572,"N/C",null,{"$f":"IF(F88=0,\" \",\"N/C\")","v":" "},{"$f":"IFERROR(IFERROR(VLOOKUP(D88,Surcharge!A:B,2,FALSE)*F88, VLOOKUP(D88 & \"\",Surcharge!A:B,2,FALSE)*F88), \"\")","v":""}]
[null,null,"Super Abrasive Brush",1201928,212,null,{"$f":"F89*E89","v":0},{"$f":"IFERROR(IFERROR(VLOOKUP(D89,Surcharge!A:B,2,FALSE)*F89, VLOOKUP(D89 & \"\",Surcharge!A:B,2,FALSE)*F89), \"\")","v":""}]
[null,null,null,null,null,null,null,{"$f":"IFERROR(IFERROR(VLOOKUP(D90,Surcharge!A:B,2,FALSE)*F90, VLOOKUP(D90 & \"\",Surcharge!A:B,2,FALSE)*F90), \"\")","v":""}]
[null,null,"Disk Scrubbing Brush/Pad and Sweeping Brush for Side Brush Option (1 Required)",null,null,{"$f":"SUM(F92:F94)","v":0},null,{"$f":"IFERROR(IFERROR(VLOOKUP(D91,Surcharge!A:B,2,FALSE)*F91, VLOOKUP(D91 & \"\",Surcharge!A:B,2,FALSE)*F91), \"\")","v":""}]
[null,null,"Polypropylene Brush",1220240,"N/C",null,{"$f":"IF(F92=0,\" \",\"N/C\")","v":" "},{"$f":"IFERROR(IFERROR(VLOOKUP(D92,Surcharge!A:B,2,FALSE)*F92, VLOOKUP(D92 & \"\",Surcharge!A:B,2,FALSE)*F92), \"\")","v":""}]
[null,null,"Heavy Duty Polypropylene",1220231,"N/C",null,{"$f":"IF(F93=0,\" \",\"N/C\")","v":" "},{"$f":"IFERROR(IFERROR(VLOOKUP(D93,Surcharge!A:B,2,FALSE)*F93, VLOOKUP(D93 & \"\",Surcharge!A:B,2,FALSE)*F93), \"\")","v":""}]
[null,null,"Super Abrasive Brush",1220232,212,null,{"$f":"F94*E94","v":0},{"$f":"IFERROR(IFERROR(VLOOKUP(D94,Surcharge!A:B,2,FALSE)*F94, VLOOKUP(D94 & \"\",Surcharge!A:B,2,FALSE)*F94), \"\")","v":""}]
[null,null,null,null,null,null,null,{"$f":"IFERROR(IFERROR(VLOOKUP(D95,Surcharge!A:B,2,FALSE)*F95, VLOOKUP(D95 & \"\",Surcharge!A:B,2,FALSE)*F95), \"\")","v":""}]
[null,"Support  ",null,"Reference Number",null,{"$f":"SUM(F97:F102)","v":0},null,{"$f":"IFERROR(IFERROR(VLOOKUP(D96,Surcharge!A:B,2,FALSE)*F96, VLOOKUP(D96 & \"\",Surcharge!A:B,2,FALSE)*F96), \"\")","v":""}]
[null,null,"Operator Manual (English)",9009910,"N/C",null,{"$f":"IF(F97=0,\" \",\"N/C\")","v":" "},{"$f":"IFERROR(IFERROR(VLOOKUP(D97,Surcharge!A:B,2,FALSE)*F97, VLOOKUP(D97 & \"\",Surcharge!A:B,2,FALSE)*F97), \"\")","v":""}]
[null,null,"Operator Manual (Spanish)",9009911,"N/C",null,{"$f":"IF(F98=0,\" \",\"N/C\")","v":" "},{"$f":"IFERROR(IFERROR(VLOOKUP(D98,Surcharge!A:B,2,FALSE)*F98, VLOOKUP(D98 & \"\",Surcharge!A:B,2,FALSE)*F98), \"\")","v":""}]
[null,null,"Operator Manual (French)",9009912,"N/C",null,{"$f":"IF(F99=0,\" \",\"N/C\")","v":" "},{"$f":"IFERROR(IFERROR(VLOOKUP(D99,Surcharge!A:B,2,FALSE)*F99, VLOOKUP(D99 & \"\",Surcharge!A:B,2,FALSE)*F99), \"\")","v":""}]
[null,null,"Parts Manual",9009916,"N/C",null,{"$f":"IF(F100=0,\" \",\"N/C\")","v":" "}]
[null,null,null,null,null,null,null,{"$f":"IFERROR(IFERROR(VLOOKUP(D101,Surcharge!A:B,2,FALSE)*F101, VLOOKUP(D101 & \"\",Surcharge!A:B,2,FALSE)*F101), \"\")","v":""}]
[null,null,"Packaging ",null,null,{"$f":"SUM(F103:F104)","v":0},null,{"$f":"IFERROR(IFERROR(VLOOKUP(D102,Surcharge!A:B,2,FALSE)*F102, VLOOKUP(D102 & \"\",Surcharge!A:B,2,FALSE)*F102), \"\")","v":""}]
[null,null,"Pad Wrap",null,"N/C",null,{"$f":"IF(F103=0,\" \",\"N/C\")","v":" "},{"$f":"IFERROR(IFERROR(VLOOKUP(D103,Surcharge!A:B,2,FALSE)*F103, VLOOKUP(D103 & \"\",Surcharge!A:B,2,FALSE)*F103), \"\")","v":""}]
[null,null,"Skid w/Carton, Non-Stackable",9009900,763,null,{"$f":"F104*E104","v":0},{"$f":"IFERROR(IFERROR(VLOOKUP(D104,Surcharge!A:B,2,FALSE)*F104, VLOOKUP(D104 & \"\",Surcharge!A:B,2,FALSE)*F104), \"\")","v":""}]
[]
[]
[null,null,null,null,null,{"$f":"SUM(#REF!)","v":{"$error":"#REF!"}}]
[]
[null,null,null,null,{"$f":"ROUND(SUM(G57:G108), 0)","v":0},{"$f":"SUM(E110)","v":0}]
[null,null,null,"Machine Subtotal ",{"$f":"ROUND(SUM(G57:G108), 0)","v":0},{"$f":"F109","v":0}]
[null,"Discounts",null,null,null,{"$f":"SUM(F112)","v":0}]
[null,null,null,null,null,{"$f":"SUM(F113:F116)","v":0}]
[null,null,null,"Discount %",null,{"$f":"IF(E113 <> \"\", 1, 0)","v":0},{"$f":"IF(F113*(E113*0.01)*E109 < 0, F113*(E113*0.01)*E109, -(F113*(E113*0.01)*E109))","v":0}]
[null,null,null,"Discount $",null,{"$f":"IF(E114 <> \"\", 1, 0)","v":0},{"$f":"IF(F114*E114 < 0, F114*E114, -(F114*E114))","v":0}]
[null,null,null,"Discount $",null,{"$f":"IF(E115 <> \"\", 1, 0)","v":0},{"$f":"IF(F115*E115 < 0, F115*E115, -(F115*E115))","v":0}]
[null,null,null,"Discount $",null,{"$f":"IF(E116 <> \"\", 1, 0)","v":0},{"$f":"IF(F116*E116 < 0, F116*E116, -(F116*E116))","v":0}]
[null,null,null,"Discount Total ",{"$f":"SUM(G113:G116)","v":0},{"$f":"SUM(E117)","v":0}]
[null,null,null,null,null,{"$f":"#REF!","v":{"$error":"#REF!"}}]
[null,null,"Prepaid and Add","Freight",null,{"$f":"IF(E119 <> \"\", 1, 0)","v":0},{"$f":"F119*E119","v":0}]
[null,null,"Subject to all applicable taxes","Tax",null,{"$f":"IF(E120 <> \"\", 1, 0)","v":0},{"$f":"F120*E120","v":0}]
[null,null,null,null,null,{"$f":"SUM(F122)","v":0}]
[null,null,null,"            MACHINE TOTAL*",null,{"$f":"SUM(G122)","v":0},{"$f":"SUM(G57:G120)","v":0},null,null,null,"This goes to \"My Documents\""]
[null,null,null,null,null,null,{"$f":"G122","v":0}]
[null,"Financing"]
[]
[null,null,"Is customer interested in financing?","Yes"]
[]
[null,null,"If not, why?"]
[]
[]
[null,null,"First Western Equipment Finance - Leasing Calculation Option:","Option 1",null,"Option 2",null,null,null,{"$f":"Financing!A38","v":"Rates 2025 - Rev. 5/6/2025"}]
[null,null,null,"Monthly Payment","Cost Per Day","Monthly Payment","Cost Per Day",null,null,{"$f":"Financing!A39","v":"“Blank Payment Amounts Indicate The Financing Option Or Purchase Options Selected Are Not "}]
[null,null,"Purchase Option:","FWEF:  $1 Buyout Lease",null,"FWEF: Municipal Lease",null,null,null,{"$f":"Financing!A40","v":"Applicable Or The Machine Total Is Below The Minimum Amount For The Selected Vendor”"}]
[null,null,"24 Months",0,0,0,0,null,null,{"$f":"Financing!A41","v":"\"Quoted monthly payments are estimates only and are based on a certain level of credit rating."}]
[null,null,"30 Months",0,0,0,0,null,null,{"$f":"Financing!A42","v":"Actual monthly payments may be higher depending on your credit rating.\""}]
[null,null,"36 Months",0,0,0,0,null,null,{"$f":"Financing!A43","v":"“Financing rates do not include Pre-Paid Service”"}]
[null,null,"48 Months",0,0,0,0,null,{"$f":"Financing!A44","v":0}]
[]
[null,null,null,"Benefits of Equipment Financing:"]
[null,null,null,"• Spreads out investment over time.",null,"• Keep current with latest technology."]
[null,null,null,"• Preserve capital.",null,"• Service and parts bundling available."]
[null,null,null,"• Low monthly payment.",null,"• Pay for labor savings as you go."]
[]
[]
[null,null,"Bundled Offerings","Flexclean – Fair Market Value",null,"Flexclean - $1 Buyout"]
[null,null,"FlexClean: ","36 Month Term",null,"36 Month Term",null,null,"No","AB Brushes"]
[null,null,"Hours included per Month:","Gold","Silver","Gold","Silver","Check"]
[null,null,"< 30/mo. (Avg. 1hr./day)",null,null,null,null,null,{"$f":"FlexCleanCalc!$A21","v":"“FlexClean monthly rates include payment for both machine and service.”"}]
[null,null,"< 60/mo. (Avg. 2hrs./day)"]
[null,null,"< 90/mo. (Avg. 3hrs./day)"]
[null,null,"*This value assumes one service contract regardless of the number of UNITS included in the quote"]
[]
[]
[null,null,"Bundled Offerings","Flexclean – Fair Market Value",null,"Flexclean - $1 Buyout"]
[null,null,"FlexClean 2: ","48 Month Term",null,"48 Month Term"]
[null,null,"Hours included per Month:","Gold","Silver","Gold","Silver"]
[null,null,"< 30/mo. (Avg. 1hr./day)"]
[null,null,"< 60/mo. (Avg. 2hrs./day)"]
[null,null,"< 90/mo. (Avg. 3hrs./day)"]
[null,null,"*This value assumes one service contract regardless of the number of UNITS included in the quote"]
[]
[null,null,"Bundled Offerings","Flexclean – Fair Market Value",null,"Flexclean - $1 Buyout"]
[null,null,"FlexClean 3: ","60 Month Term",null,"60 Month Term"]
[null,null,"Hours included per Month:","Gold","Silver","Gold","Silver"]
[null,null,"< 30/mo. (Avg. 1hr./day)"]
[null,null,"< 60/mo. (Avg. 2hrs./day)"]
[null,null,"< 90/mo. (Avg. 3hrs./day)"]
[null,null,"*This value assumes one service contract regardless of the number of UNITS included in the quote"]
[]
[null,"  TennantTrue"]
[]
[null,null,"Is customer interested in service program?","Yes","*State/County selection required for TennantTrue service options"]
[]
[null,null,"If not, why?"]
[]
[null,null,"Term:",36,null,"AB Brushes","No"]
[null,null,"Monthly machine usage (hrs):","< 30/mo. (Avg. 1hr./day)"]
[]
[null,null,"TennantTrue: ","Gold Contract",null,"Silver Contract"]
[null,null,"Per Visit",null,null,501]
[null,null,"Monthly",189,null,88]
[null,null,"Annually",null,null,1035]
[null,null,"Pre-Pay Full Term",6526,null,3042]
[null,null,"Hourly Labor Rate"]
[null,null,"Site Visit"]
[]
[null,null,"* Verify customer current pricing prior to quote. "]
[null,null,"**All rates and fees above reflect service for one (1) unit with the exception of Block of Time service."]
[null,null,"*Block of Time is available in 1 Year Term only and is priced as such no matter the term selection on this template."]
[]
[]
[null,"Servicing"]
[]
[null,null,"Is customer interested in a service plan?","No"]
[]
[null,null,"If not, why?"]
[]
[]
[null,null,"Quote Special Instructions:"]
[]
[]
[null,null,{"$f":"Start_Here!E36","v":"Terms and Conditions"}]
[null,null,{"$f":"Start_Here!E37","v":"Ask your local sales rep for estimated lead times. Verify when placing order"}]
[null,null,{"$f":"Start_Here!E38","v":"All orders subject to acceptance by Tennant Sales and Service Company, Minneapolis, Minnesota"}]
[null,null,{"$f":"Start_Here!E39","v":"Prices subject to change without notice."}]
[null,null,{"$f":"Start_Here!E40","v":"Terms:  Net 30 days.  Subject to any applicable taxes."}]
[null,null,{"$f":"Start_Here!E41","v":"Freight: Machines and accessory orders delivered FOB shipping point Frt PPD & Add"}]
[null,null,{"$f":"Start_Here!E42","v":"Parts, supplies, detergents and floor treating material orders delivered FOB "}]
[null,null,{"$f":"Start_Here!E43","v":"shipping point Frt PPD"}]
[null,null,{"$f":"Start_Here!E44","v":"All orders are subject to Tennant’s General Terms and Conditions available at http://www.tennantco.com/terms."}]
[null,null,{"$f":"Start_Here!E45","v":"Printed General Terms and Conditions are also available upon request."}]
[null,null,{"$f":"Start_Here!E46","v":0}]
[]
[null,null,null,null,"Quote Date :",null,{"$f":"Letter!$A$25","v":"2020-09-17"}]
["Order Placement Information:  To place your order, fill in PO# and customer signatures,"]
["call or fax to the numbers listed below. Customer Purchase Order is required."]
["If information is missing, orders will be entered and held until all information is received."]
[null,null,"Customer Number",null,"Cust Grp 3"]
[null,null,{"$f":"Start_Here!$C$25","v":0},null,{"$f":"Start_Here!$C$29","v":0}]
[null,null,{"$f":"Start_Here!$B$18","v":"Who Owns the Machine? (Sold-To Info) (Please Verify)"}]
["Company",null,{"$f":"Start_Here!$C$19","v":"Company Name"}]
["Address",null,{"$f":"Start_Here!$C$20","v":"Address"}]
[null,null,{"$f":"Start_Here!$C$21","v":"City, State Zip"}]
["Name",null,{"$f":"Start_Here!$C$22","v":"Contact Name"}]
["Phone",null,{"$f":"Start_Here!$C$23","v":"Contact Phone"}]
[null,null,{"$f":"Start_Here!$B$11","v":"Where is the Machine Being Shipped? (Ship-To Info) (Please Verify)"}]
["Company",null,{"$f":"Start_Here!$C$12","v":"Company Name"}]
["Address",null,{"$f":"Start_Here!$C$13","v":"Address"}]
[null,null,{"$f":"Start_Here!$C$14","v":"City, State Zip"}]
["Name",null,{"$f":"Start_Here!$C$15","v":"Contact Name"}]
["Phone",null,{"$f":"Start_Here!$C$16","v":"Contact Phone"}]
[null,null,{"$f":"Start_Here!$B$31","v":"Shipping / Carrier Instructions:"},null,"Order Special Instructions:"]
[null,null,{"$f":"Start_Here!$C$32","v":0}]
[]
[null,null,"Customer Purchase Order No."]
[null,null,"(please attach copy)"]
[]
[]
[null,null,"Tax Exempt",null,"Yes"]
[null,null,null,null,"No"]
[null,null,"If Yes, attach a copy of your exemption certificate."]
[]
[null,null,"Requested Delivery Date"]
[null,null,{"$f":"Start_Here!$C$28","v":0}]
[]
[null,null,{"$f":"Start_Here!$C$26","v":0},null,{"$f":"Start_Here!$C$27","v":0}]
[null,0,"Authorized Buyer (please print)",null,"Phone Number"]
[]
[]
[null,0,"Authorized Buyer Signature"]
[]
[null,null,{"$f":"Start_Here!$C$41","v":"Rep Name"}]
[null,null,"Tennant Representative"]
[]
["Specialized Maintenance Equipment"]
[{"$f":"Start_Here!$C$48","v":"TENNANT · 10400 Clean Street · Eden Prairie, MN 55344 ·"}]
[{"$f":"Start_Here!$C$49","v":" PHONE:800-553-8033 · FAX:763-513-2116"}]
[]
[]
[null,"Notes"]
[]
[null,1,"Quick Ships have a set configuration.  Options cannot be added, removed, or modified."]
[null,null,"Stock levels and lead times my vary, please contact Customer Service to confirm."]
[null,null,"Price listed is for the machine as configured ONLY.  Additional cost for freight, and applicable tax will be in addition to this price."]
[]
[null,2,"Standard Configurations are set configurations as listed and cannot be altered."]
[null,null,"However, these are partial configurations which require the selection of "]
[null,null,"Fire Extinguisher, Brushes, Operator Manuals, Service Manual, and Shipment Packaging."]
[]
[null,3,"Shipping Weights and Dimensions","Pad Wrap","Skid w/Carton"]
[]
[null,null,"Weight  (w/240AH Batteries)","1460 lbs / 664 Kg","2200 lbs / 998 Kg"]
[null,null,"Length","68\" / 1710 mm","85\" / 2159 mm"]
[null,null,"Width","42\" / 1065 mm","46\" / 1169 mm"]
[null,null,"Height","56\" / 1420 mm","63\" / 1600 mm"]

{"sheet":"T16_Standard_Config","index":27,"n_rows":272,"n_cols":13,"rows_kept":272,"cut":false,"hidden":false,"merged":[[64,2,64,3],[70,2,70,3],[0,2,0,3],[1,2,1,3],[2,2,2,3],[3,2,3,3],[11,2,11,6],[67,2,67,3],[145,5,145,6],[132,3,132,4],[132,5,132,6],[34,2,34,6],[127,3,127,6],[130,3,130,4],[130,5,130,6],[35,2,35,6],[36,2,36,6],[37,2,37,6],[38,2,38,6],[58,2,58,3],[61,2,61,3],[144,3,144,4],[144,5,144,6],[145,3,145,4],[176,3,176,4],[153,3,153,4],[153,5,153,6],[154,3,154,4],[154,5,154,6],[161,3,161,4],[161,5,161,6],[162,3,162,4],[162,5,162,6],[171,4,171,8],[173,3,173,6],[175,3,175,4],[245,4,245,5],[229,2,229,5],[195,3,196,6],[199,2,199,6],[218,4,218,7],[220,2,220,5],[230,2,230,5],[232,4,232,7],[236,2,236,5],[228,2,228,5],[224,2,224,5],[226,2,226,5],[227,2,227,5],[221,2,221,5],[222,2,222,5],[223,2,223,5],[178,3,178,4],[178,5,178,6],[179,3,179,4],[179,5,179,6],[180,3,180,4],[180,5,180,6],[184,3,184,4],[184,5,184,6],[181,3,181,4],[181,5,181,6],[182,3,182,4],[182,5,182,6],[183,3,183,4],[183,5,183,6]]}
["T16_Standard_Config",null,{"$f":"Start_Here!$C19","v":"Company Name"}]
[{"$f":"SUM(G122)","v":0},null,{"$f":"Start_Here!$C20","v":"Address"}]
[null,null,{"$f":"Start_Here!$C21","v":"City, State Zip"}]
[null,null,{"$f":"Start_Here!$C22","v":"Contact Name"}]
[null,null,{"$f":"Start_Here!$C$41","v":"Rep Name"}]
[null,null,{"$f":"Start_Here!$C$37","v":"Tennant Sales and Service Company"}]
[null,null,{"$f":"Start_Here!$C$38","v":"10400 Clean Street"}]
[null,null,{"$f":"Start_Here!$C$39","v":"Eden Prairie, MN 55344"}]
[null,null,{"$f":"Start_Here!$C$43","v":"800-553-8033"},null,"Quote Date :",null,{"$f":"Letter!$A$25","v":"2020-09-17"}]
[]
[null,null,{"$f":"Help!C2","v":"US Date Rev - 5/6/2025"}]
[null,null,"BUILT-IN “TENNANT VALUE” INCLUDES:"]
[]
[null,null,"36V, 235 AH Battery Pack",null,"Removable Tool Caddy and Large Cargo Net Storage Area"]
[null,null,"20 Amp, 115 Volt 60 Hz Charger",null,"Standard Cylindrical or Disk Scrubbing Brushes (Select One)"]
[null,null,"Two Speed Electronic Overdrive Transmission with",null,"Hygienic Non-Corrosive Duramer™ Solution and Recovery Tanks"]
[null,null,"AC Propel Motor",null,"50 gal (190 L) Solution Tank"]
[null,null,"Disk or Cylindrcial Scrubbing - 36 in (910 mm) path",null,"60 gal (225 L) Recovery Tank"]
[null,null,"Steering Wheel Mounted, Touch-N-GO Control Module ",null,"10 gal (38 L) Demisting Chamber"]
[null,null,"   1-Step™ One-Button Scrub Operation",null,"Parabolic Rear Squeegee"]
[null,null,"   3 Down-Pressure Settings",null,"SmartRelease™ Breakaway System"]
[null,null,"  Steering Wheel Mounted Horn",null,"Linatex Squeegee Blades"]
[null,null,"  On Board Diagnostics",null,"Cast Aluminum Rear Squeegee Frame"]
[null,null,"   Water Shutoff Thumb Switch",null,"No Tool Squeegee and Brush Change"]
[null,null,"Automatic:",null,"In-Line Vacuum Fan Air Filter"]
[null,null,"   Parking Brake",null,"High Visibility Maintenance Touch Points"]
[null,null,"   Squeegee Lift",null,"Underwriters Laboratory (UL®) \"E\" Certification"]
[null,null,"   Water Shutoff",null,"Cup Holder"]
[null,null,"   Brush Shutoff When Idle",null,"Operator Manual and Video"]
[null,null,"   Brush Shutoff at 80% Battery Discharge",null,"Front and Rear Non-Marking Tires "]
[null,null,"ec-H2OTM Cleaning Solution Includes:"]
[null,null,"Electrically Converted Water Technology System"]
[null,null,"Two Scrubbing Modes: ec-H2OTM& Conventional Scrubbing"]
[]
[null,null,"TENNANT COMPANY WARRANTY"]
[null,null,"36 MONTHS OR 2000 HOURS - PARTS"]
[null,null,"24 MONTHS - LABOR"]
[null,null,"6 MONTHS - TRAVEL"]
[null,null,"10 YEARS ON DURAMERTM TANKS"]
[]
[]
[null,null,null,null,"                Quote Request Information"]
[null,null,null,null,null,null,"Fax (quote only)"]
[null,null,null,null,null,null,"Mail (quote,lit, specs)"]
[null,null,null,null,null,null,"Fax + Mail"]
[]
[null,null,null,null,"                Primary Use"]
[null,null,null,null,null,null,"Inside"]
[null,null,null,null,null,null,"Outside"]
[]
[null,null,"Description","Reference Number","US Price Each","Qty","Extended Price"]
[null,"Standard Configurations  (Note 2)",null,null,null,null,null,{"$f":"IFERROR(IFERROR(VLOOKUP(D52,Surcharge!A:B,2,FALSE)*F52, VLOOKUP(D52 & \"\",Surcharge!A:B,2,FALSE)*F52), \"\")","v":""}]
[null,null,null,null,null,{"$f":"SUM(F54:F71)","v":0}]
[null,"Quick Ship","T16 Rider Scrubber, Cylindrical, Wet 360 AH batteries, Off Board Charger 36VDC 21A 85-265VAC 1PH 45/65HZ, UL Type E, Side Scrub, Light Kit, Deluxe seat w/armrest, Polypropylene main brush, Polypropylene side brush, English Operator manual, Parts Manual, Pad Wrap.","T16-0055",45062,null,{"$f":"F54*E54","v":0}]
[null,null,"The above listed configuration is a stock unit – Configuration cannot be altered, changed or added to.",null,null,{"$f":"SUM(F54)","v":0}]
[]
[]
[null,null,"T16 Rider - Disk Scrubber, Conventional Cleaning Technology, Wet 360AH C/20, HydroLink® Battery Watering System, On-Board 20A 85-130V AC 50/60Hz 1Ph Charger, UL® Type E, Standard Seat","T16-1000D",40500,null,{"$f":"F58*E58","v":0}]
[null,null,"Choice of HD Front Bumper, Overhead Guard, Fire Extinguisher, Brushes, Operator Manual, Service Manual, and Shipment Packaging available.",null,null,{"$f":"SUM(F58)","v":0}]
[]
[null,null,"T16 Rider - Cylindrical Scrubber, Conventional Cleaning Technology, Wet 240AH C/20 Battery, Off-Board 21A 85-265V AC 50/60Hz 1Ph Charger, UL® Type E, Standard Seat","T16-1001C",37638,null,{"$f":"F61*E61","v":0}]
[null,null,"Choice of HD Front Bumper, Overhead Guard, Fire Extinguisher, Brushes, Operator Manual, Service Manual, and Shipment Packaging available.",null,null,{"$f":"SUM(F61)","v":0}]
[]
[null,null,"T16 Rider - Cylindrical Scrubber, ec-H20 ®Cleaning Technology, Wet 360AH C/20 Battery, Off-Board 21A 85-265V AC 50/60Hz 1Ph Charger, UL® Type E, Safety Light Package, Spray Nozzle with Hose, Heavy Duty Squeegee Protection, Deluxe Seat w/Armrests","T16-2000C",46878,null,{"$f":"F64*E64","v":0}]
[null,null,"Choice of HD Front Bumper, Overhead Guard, Fire Extinguisher, Brushes, Operator Manual, Service Manual, and Shipment Packaging available.",null,null,{"$f":"SUM(F64)","v":0},null,{"$f":"IFERROR(IFERROR(VLOOKUP(D65,Surcharge!A:B,2,FALSE)*F65, VLOOKUP(D65 & \"\",Surcharge!A:B,2,FALSE)*F65), \"\")","v":""}]
[]
[null,null,"T16 Rider - Cylindrical Scrubber, Conventional Cleaning Technology, Wet 360AH C/20 Battery, Manual Battery Watering, On-Board 20A 85-130V AC 50/60Hz 1ph Charger, UL® Type E, Safety Light Package (LED Headlight and AV BU Alarm), Productivity Package (Scrubbing Side Brush, Spray Nozzle with Hose and Vacuum Wand), Heavy Duty Squeegee Protection","T16-2003C",47975,null,{"$f":"F67*E67","v":0}]
[null,null,"Choice of HD Front Bumper, Overhead Guard, Fire Extinguisher, Brushes, Operator Manual, Service Manual, and Shipment Packaging available.",null,null,{"$f":"SUM(F67)","v":0}]
[]
[null,null,"T16 Rider - Cylindrical Scrubber, ec-H20 ®Cleaning Technology, Wet 360AH C/20 Battery, On-Board 20A 85-130V AC 50/60Hz 1ph Charger, UL® Type E, Safety Light Package, Scrubbing Side Brush, Spray Nozzle with Hose, Heavy Duty Squeegee Protection, Deluxe Seat w/Armrest","T16-3000C",52474,null,{"$f":"F70*E70","v":0}]
[null,null,"Choice of HD Front Bumper, Overhead Guard, Fire Extinguisher, Brushes, Operator Manual, Service Manual, and Shipment Packaging available.",null,null,{"$f":"SUM(F70)","v":0}]
[]
[]
[null,"Brushes and Pads",null,"Reference Number",null,{"$f":"SUM(F75,F81,F85)","v":0},null,{"$f":"IFERROR(IFERROR(VLOOKUP(D74,Surcharge!A:B,2,FALSE)*F74, VLOOKUP(D74 & \"\",Surcharge!A:B,2,FALSE)*F74), \"\")","v":""}]
[null,null,"Disk Scrubbing Brushes/Pads (2 Required)",null,null,{"$f":"SUM(F76:F79)","v":0},null,{"$f":"IFERROR(IFERROR(VLOOKUP(D75,Surcharge!A:B,2,FALSE)*F75, VLOOKUP(D75 & \"\",Surcharge!A:B,2,FALSE)*F75), \"\")","v":""}]
[null,null,"Polypropylene Brush",1220188,"N/C",null,{"$f":"IF(F76=0,\" \",\"N/C\")","v":" "},{"$f":"IFERROR(IFERROR(VLOOKUP(D76,Surcharge!A:B,2,FALSE)*F76, VLOOKUP(D76 & \"\",Surcharge!A:B,2,FALSE)*F76), \"\")","v":""}]
[null,null,"Super Abrasive Brush",1220190,212,null,{"$f":"F77*E77","v":0},{"$f":"IFERROR(IFERROR(VLOOKUP(D77,Surcharge!A:B,2,FALSE)*F77, VLOOKUP(D77 & \"\",Surcharge!A:B,2,FALSE)*F77), \"\")","v":""}]
[null,null,null,null,null,null,null,{"$f":"IFERROR(IFERROR(VLOOKUP(D78,Surcharge!A:B,2,FALSE)*F78, VLOOKUP(D78 & \"\",Surcharge!A:B,2,FALSE)*F78), \"\")","v":""}]
[null,null,"Pad Driver",1220200,"N/C",null,{"$f":"IF(F79=0,\" \",\"N/C\")","v":" "},{"$f":"IFERROR(IFERROR(VLOOKUP(D79,Surcharge!A:B,2,FALSE)*F79, VLOOKUP(D79 & \"\",Surcharge!A:B,2,FALSE)*F79), \"\")","v":""}]
[null,null,null,null,null,null,null,{"$f":"IFERROR(IFERROR(VLOOKUP(D80,Surcharge!A:B,2,FALSE)*F80, VLOOKUP(D80 & \"\",Surcharge!A:B,2,FALSE)*F80), \"\")","v":""}]
[null,null,"Cylindrical Scrubbing Brushes (2 Required)",null,null,{"$f":"SUM(F82:F83)","v":0},null,{"$f":"IFERROR(IFERROR(VLOOKUP(D81,Surcharge!A:B,2,FALSE)*F81, VLOOKUP(D81 & \"\",Surcharge!A:B,2,FALSE)*F81), \"\")","v":""}]
[null,null,"Polypropylene Brush",1053893,"N/C",null,{"$f":"IF(F82=0,\" \",\"N/C\")","v":" "},{"$f":"IFERROR(IFERROR(VLOOKUP(D82,Surcharge!A:B,2,FALSE)*F82, VLOOKUP(D82 & \"\",Surcharge!A:B,2,FALSE)*F82), \"\")","v":""}]
[null,null,"Super Abrasive Brush",1062578,212,null,{"$f":"F83*E83","v":0},{"$f":"IFERROR(IFERROR(VLOOKUP(D83,Surcharge!A:B,2,FALSE)*F83, VLOOKUP(D83 & \"\",Surcharge!A:B,2,FALSE)*F83), \"\")","v":""}]
[null,null,null,null,null,null,null,{"$f":"IFERROR(IFERROR(VLOOKUP(D84,Surcharge!A:B,2,FALSE)*F84, VLOOKUP(D84 & \"\",Surcharge!A:B,2,FALSE)*F84), \"\")","v":""}]
[null,null,"Disk Scrubbing Brush/Pad and Sweeping Brush for Side Brush Option (1 Required)",null,null,{"$f":"SUM(F86:F89)","v":0},null,{"$f":"IFERROR(IFERROR(VLOOKUP(D85,Surcharge!A:B,2,FALSE)*F85, VLOOKUP(D85 & \"\",Surcharge!A:B,2,FALSE)*F85), \"\")","v":""}]
[null,null,"Polypropylene Scrubbing Brush",1220240,"N/C",null,{"$f":"IF(F86=0,\" \",\"N/C\")","v":" "},{"$f":"IFERROR(IFERROR(VLOOKUP(D86,Surcharge!A:B,2,FALSE)*F86, VLOOKUP(D86 & \"\",Surcharge!A:B,2,FALSE)*F86), \"\")","v":""}]
[null,null,"Super Abrasive Brush",1220232,212,null,{"$f":"F87*E87","v":0},{"$f":"IFERROR(IFERROR(VLOOKUP(D87,Surcharge!A:B,2,FALSE)*F87, VLOOKUP(D87 & \"\",Surcharge!A:B,2,FALSE)*F87), \"\")","v":""}]
[null,null,null,null,null,null,null,{"$f":"IFERROR(IFERROR(VLOOKUP(D88,Surcharge!A:B,2,FALSE)*F88, VLOOKUP(D88 & \"\",Surcharge!A:B,2,FALSE)*F88), \"\")","v":""}]
[null,null,"Pad Driver",1220243,"N/C",null,{"$f":"IF(F89=0,\" \",\"N/C\")","v":" "},{"$f":"IFERROR(IFERROR(VLOOKUP(D89,Surcharge!A:B,2,FALSE)*F89, VLOOKUP(D89 & \"\",Surcharge!A:B,2,FALSE)*F89), \"\")","v":""}]
[]
[null,"Machine Protection & Safety",null,null,null,{"$f":"SUM(F92:F96)","v":0}]
[null,null,"Heavy Duty Front Bumper (Note 21)",9006922,1007,null,{"$f":"F92*E92","v":0}]
[null,null,"Overhead Guard (order Heavy Duty Front Bumper also) (Note 22)",9008018,2179,null,{"$f":"F93*E93","v":0}]
[null,null,"Fire Extinguisher",9008079,368,null,{"$f":"F94*E94","v":0}]
[null,null,null,null,null,null,null,{"$f":"IFERROR(IFERROR(VLOOKUP(D95,Surcharge!A:B,2,FALSE)*F95, VLOOKUP(D95 & \"\",Surcharge!A:B,2,FALSE)*F95), \"\")","v":""}]
[null,"Support  ",null,"Reference Number",null,{"$f":"SUM(F97:F101)","v":0},null,{"$f":"IFERROR(IFERROR(VLOOKUP(D96,Surcharge!A:B,2,FALSE)*F96, VLOOKUP(D96 & \"\",Surcharge!A:B,2,FALSE)*F96), \"\")","v":""}]
[null,null,"Operator Manual (English)",9008142,"N/C",null,{"$f":"IF(F97=0,\" \",\"N/C\")","v":" "},{"$f":"IFERROR(IFERROR(VLOOKUP(D97,Surcharge!A:B,2,FALSE)*F97, VLOOKUP(D97 & \"\",Surcharge!A:B,2,FALSE)*F97), \"\")","v":""}]
[null,null,"Operator Manual (Spanish)",9008143,"N/C",null,{"$f":"IF(F98=0,\" \",\"N/C\")","v":" "},{"$f":"IFERROR(IFERROR(VLOOKUP(D98,Surcharge!A:B,2,FALSE)*F98, VLOOKUP(D98 & \"\",Surcharge!A:B,2,FALSE)*F98), \"\")","v":""}]
[null,null,"Operator Manual (French)",9008144,"N/C",null,{"$f":"IF(F99=0,\" \",\"N/C\")","v":" "},{"$f":"IFERROR(IFERROR(VLOOKUP(D99,Surcharge!A:B,2,FALSE)*F99, VLOOKUP(D99 & \"\",Surcharge!A:B,2,FALSE)*F99), \"\")","v":""}]
[null,null,null,null,null,null,null,{"$f":"IFERROR(IFERROR(VLOOKUP(D100,Surcharge!A:B,2,FALSE)*F100, VLOOKUP(D100 & \"\",Surcharge!A:B,2,FALSE)*F100), \"\")","v":""}]
[null,null,"Packaging  ",null,null,{"$f":"SUM(F102:F105)","v":0},null,{"$f":"IFERROR(IFERROR(VLOOKUP(D101,Surcharge!A:B,2,FALSE)*F101, VLOOKUP(D101 & \"\",Surcharge!A:B,2,FALSE)*F101), \"\")","v":""}]
[null,null,"Pad Wrap",null,"N/C",null,{"$f":"IF(F102=0,\" \",\"N/C\")","v":" "},{"$f":"IFERROR(IFERROR(VLOOKUP(D102,Surcharge!A:B,2,FALSE)*F102, VLOOKUP(D102 & \"\",Surcharge!A:B,2,FALSE)*F102), \"\")","v":""}]
[null,null,"Crate - Non-Pre-Sweep",9008063,1435,null,{"$f":"F103*E103","v":0},{"$f":"IFERROR(IFERROR(VLOOKUP(D103,Surcharge!A:B,2,FALSE)*F103, VLOOKUP(D103 & \"\",Surcharge!A:B,2,FALSE)*F103), \"\")","v":""}]
[null,null,"Crate - Pre-Sweep",9008056,1435,null,{"$f":"F104*E104","v":0},{"$f":"IFERROR(IFERROR(VLOOKUP(D104,Surcharge!A:B,2,FALSE)*F104, VLOOKUP(D104 & \"\",Surcharge!A:B,2,FALSE)*F104), \"\")","v":""}]
[null,null,"Skid",9008064,763,null,{"$f":"F105*E105","v":0},{"$f":"IFERROR(IFERROR(VLOOKUP(D105,Surcharge!A:B,2,FALSE)*F105, VLOOKUP(D105 & \"\",Surcharge!A:B,2,FALSE)*F105), \"\")","v":""}]
[null,null,null,null,null,null,null,{"$f":"IFERROR(IFERROR(VLOOKUP(D106,Surcharge!A:B,2,FALSE)*F106, VLOOKUP(D106 & \"\",Surcharge!A:B,2,FALSE)*F106), \"\")","v":""}]
[null,null,null,null,null,{"$f":"SUM(#REF!)","v":{"$error":"#REF!"}}]
[]
[null,null,null,null,{"$f":"ROUND(SUM(G53:G107), 0)","v":0},{"$f":"SUM(E110)","v":0}]
[null,null,null,"Machine Subtotal ",{"$f":"ROUND(SUM(G53:G107), 0)","v":0},{"$f":"F109","v":0}]
[null,"Discounts",null,null,null,{"$f":"SUM(F112)","v":0}]
[null,null,null,null,null,{"$f":"SUM(F113:F116)","v":0}]
[null,null,null,"Discount %",null,{"$f":"IF(E113 <> \"\", 1, 0)","v":0},{"$f":"IF(F113*(E113*0.01)*E109 < 0, F113*(E113*0.01)*E109, -(F113*(E113*0.01)*E109))","v":0}]
[null,null,null,"Discount $",null,{"$f":"IF(E114 <> \"\", 1, 0)","v":0},{"$f":"IF(F114*E114 < 0, F114*E114, -(F114*E114))","v":0}]
[null,null,null,"Discount $",null,{"$f":"IF(E115 <> \"\", 1, 0)","v":0},{"$f":"IF(F115*E115 < 0, F115*E115, -(F115*E115))","v":0}]
[null,null,null,"Discount $",null,{"$f":"IF(E116 <> \"\", 1, 0)","v":0},{"$f":"IF(F116*E116 < 0, F116*E116, -(F116*E116))","v":0}]
[null,null,null,"Discount Total ",{"$f":"SUM(G113:G116)","v":0},{"$f":"SUM(E117)","v":0}]
[null,null,null,null,null,{"$f":"#REF!","v":{"$error":"#REF!"}}]
[null,null,"Prepaid and Add","Freight",null,{"$f":"IF(E119 <> \"\", 1, 0)","v":0},{"$f":"F119*E119","v":0}]
[null,null,"Subject to all applicable taxes","Tax",null,{"$f":"IF(E120 <> \"\", 1, 0)","v":0},{"$f":"F120*E120","v":0}]
[null,null,null,null,null,{"$f":"SUM(F122)","v":0}]
[null,null,null,"            MACHINE TOTAL*",null,{"$f":"SUM(G122)","v":0},{"$f":"SUM(G53:G120)","v":0},null,null,null,"This goes to \"My Documents\"","This goes to \"My Documents\"","This goes to \"My Documents\""]
[null,null,null,null,null,null,{"$f":"G122","v":0}]
[null,"Financing"]
[]
[null,null,"Is customer interested in financing?","Yes"]
[]
[null,null,"If not, why?"]
[]
[]
[null,null,"First Western Equipment Finance - Leasing Calculation Option:","Option 1",null,"Option 2",null,null,null,{"$f":"Financing!A38","v":"Rates 2025 - Rev. 5/6/2025"}]
[null,null,null,"Monthly Payment","Cost Per Day","Monthly Payment","Cost Per Day",null,null,{"$f":"Financing!A39","v":"“Blank Payment Amounts Indicate The Financing Option Or Purchase Options Selected Are Not "}]
[null,null,"Purchase Option:","FWEF:  $1 Buyout Lease",null,"FWEF: Municipal Lease",null,null,null,{"$f":"Financing!A40","v":"Applicable Or The Machine Total Is Below The Minimum Amount For The Selected Vendor”"}]
[null,null,"24 Months",0,0,0,0,null,null,{"$f":"Financing!A41","v":"\"Quoted monthly payments are estimates only and are based on a certain level of credit rating."}]
[null,null,"30 Months",0,0,0,0,null,null,{"$f":"Financing!A42","v":"Actual monthly payments may be higher depending on your credit rating.\""}]
[null,null,"36 Months",0,0,0,0,null,null,{"$f":"Financing!A43","v":"“Financing rates do not include Pre-Paid Service”"}]
[null,null,"48 Months",0,0,0,0,null,{"$f":"Financing!A44","v":0}]
[]
[null,null,null,"Benefits of Equipment Financing:"]
[null,null,null,"• Spreads out investment over time.",null,"• Keep current with latest technology."]
[null,null,null,"• Preserve capital.",null,"• Service and parts bundling available."]
[null,null,null,"• Low monthly payment.",null,"• Pay for labor savings as you go."]
[]
[]
[null,null,"Bundled Offerings","Flexclean – Fair Market Value",null,"Flexclean - $1 Buyout"]
[null,null,"FlexClean: ","36 Month Term",null,"36 Month Term",null,null,"No","AB Brushes"]
[null,null,"Hours included per Month:","Gold","Silver","Gold","Silver","Check"]
[null,null,"< 30/mo. (Avg. 1hr./day)",null,null,null,null,null,{"$f":"FlexCleanCalc!$A21","v":"“FlexClean monthly rates include payment for both machine and service.”"}]
[null,null,"< 60/mo. (Avg. 2hrs./day)"]
[null,null,"< 90/mo. (Avg. 3hrs./day)"]
[null,null,"*This value assumes one service contract regardless of the number of UNITS included in the quote"]
[]
[]
[null,null,"Bundled Offerings","Flexclean – Fair Market Value",null,"Flexclean - $1 Buyout"]
[null,null,"FlexClean 2: ","48 Month Term",null,"48 Month Term"]
[null,null,"Hours included per Month:","Gold","Silver","Gold","Silver"]
[null,null,"< 30/mo. (Avg. 1hr./day)"]
[null,null,"< 60/mo. (Avg. 2hrs./day)"]
[null,null,"< 90/mo. (Avg. 3hrs./day)"]
[null,null,"*This value assumes one service contract regardless of the number of UNITS included in the quote"]
[]
[null,null,"Bundled Offerings","Flexclean – Fair Market Value",null,"Flexclean - $1 Buyout"]
[null,null,"FlexClean 3: ","60 Month Term",null,"60 Month Term"]
[null,null,"Hours included per Month:","Gold","Silver","Gold","Silver"]
[null,null,"< 30/mo. (Avg. 1hr./day)"]
[null,null,"< 60/mo. (Avg. 2hrs./day)"]
[null,null,"< 90/mo. (Avg. 3hrs./day)"]
[null,null,"*This value assumes one service contract regardless of the number of UNITS included in the quote"]
[]
[null,"  TennantTrue"]
[]
[null,null,"Is customer interested in service program?","Yes","*State/County selection required for TennantTrue service options"]
[]
[null,null,"If not, why?"]
[]
[null,null,"Term:",36,null,"AB Brushes","No"]
[null,null,"Monthly machine usage (hrs):","< 30/mo. (Avg. 1hr./day)"]
[]
[null,null,"TennantTrue: ","Gold Contract",null,"Silver Contract"]
[null,null,"Per Visit",null,null,611]
[null,null,"Monthly",231,null,127]
[null,null,"Annually",null,null,1490]
[null,null,"Pre-Pay Full Term",7977,null,4379]
[null,null,"Hourly Labor Rate"]
[null,null,"Site Visit"]
[]
[null,null,"* Verify customer current pricing prior to quote. "]
[null,null,"**All rates and fees above reflect service for one (1) unit with the exception of Block of Time service."]
[null,null,"*Block of Time is available in 1 Year Term only and is priced as such no matter the term selection on this template."]
[]
[]
[null,"Servicing"]
[]
[null,null,"Is customer interested in a service plan?","No"]
[]
[null,null,"If not, why?"]
[]
[]
[null,null,"Quote Special Instructions:"]
[]
[]
[null,null,{"$f":"Start_Here!E36","v":"Terms and Conditions"}]
[null,null,{"$f":"Start_Here!E37","v":"Ask your local sales rep for estimated lead times. Verify when placing order"}]
[null,null,{"$f":"Start_Here!E38","v":"All orders subject to acceptance by Tennant Sales and Service Company, Minneapolis, Minnesota"}]
[null,null,{"$f":"Start_Here!E39","v":"Prices subject to change without notice."}]
[null,null,{"$f":"Start_Here!E40","v":"Terms:  Net 30 days.  Subject to any applicable taxes."}]
[null,null,{"$f":"Start_Here!E41","v":"Freight: Machines and accessory orders delivered FOB shipping point Frt PPD & Add"}]
[null,null,{"$f":"Start_Here!E42","v":"Parts, supplies, detergents and floor treating material orders delivered FOB "}]
[null,null,{"$f":"Start_Here!E43","v":"shipping point Frt PPD"}]
[null,null,{"$f":"Start_Here!E44","v":"All orders are subject to Tennant’s General Terms and Conditions available at http://www.tennantco.com/terms."}]
[null,null,{"$f":"Start_Here!E45","v":"Printed General Terms and Conditions are also available upon request."}]
[null,null,{"$f":"Start_Here!E46","v":0}]
[]
[null,null,null,null,"Quote Date :",null,{"$f":"Letter!$A$25","v":"2020-09-17"}]
["Order Placement Information:  To place your order, fill in PO# and customer signatures,"]
["call or fax to the numbers listed below. Customer Purchase Order is required."]
["If information is missing, orders will be entered and held until all information is received."]
[null,null,"Customer Number",null,"Cust Grp 3"]
[null,null,{"$f":"Start_Here!$C$25","v":0},null,{"$f":"Start_Here!$C$29","v":0}]
[null,null,{"$f":"Start_Here!$B$18","v":"Who Owns the Machine? (Sold-To Info) (Please Verify)"}]
["Company",null,{"$f":"Start_Here!$C$19","v":"Company Name"}]
["Address",null,{"$f":"Start_Here!$C$20","v":"Address"}]
[null,null,{"$f":"Start_Here!$C$21","v":"City, State Zip"}]
["Name",null,{"$f":"Start_Here!$C$22","v":"Contact Name"}]
["Phone",null,{"$f":"Start_Here!$C$23","v":"Contact Phone"}]
[null,null,{"$f":"Start_Here!$B$11","v":"Where is the Machine Being Shipped? (Ship-To Info) (Please Verify)"}]
["Company",null,{"$f":"Start_Here!$C$12","v":"Company Name"}]
["Address",null,{"$f":"Start_Here!$C$13","v":"Address"}]
[null,null,{"$f":"Start_Here!$C$14","v":"City, State Zip"}]
["Name",null,{"$f":"Start_Here!$C$15","v":"Contact Name"}]
["Phone",null,{"$f":"Start_Here!$C$16","v":"Contact Phone"}]
[null,null,{"$f":"Start_Here!$B$31","v":"Shipping / Carrier Instructions:"},null,"Order Special Instructions:"]
[null,null,{"$f":"Start_Here!$C$32","v":0}]
[]
[null,null,"Customer Purchase Order No."]
[null,null,"(please attach copy)"]
[]
[]
[null,null,"Tax Exempt",null,"Yes"]
[null,null,null,null,"No"]
[null,null,"If Yes, attach a copy of your exemption certificate."]
[]
[null,null,"Requested Delivery Date"]
[null,null,{"$f":"Start_Here!$C$28","v":0}]
[]
[null,null,{"$f":"Start_Here!$C$26","v":0},null,{"$f":"Start_Here!$C$27","v":0}]
[null,0,"Authorized Buyer (please print)",null,"Phone Number"]
[]
[]
[null,0,"Authorized Buyer Signature"]
[]
[null,null,{"$f":"Start_Here!$C$41","v":"Rep Name"}]
[null,null,"Tennant Representative"]
[]
["Specialized Maintenance Equipment"]
[{"$f":"Start_Here!$C$48","v":"TENNANT · 10400 Clean Street · Eden Prairie, MN 55344 ·"}]
[{"$f":"Start_Here!$C$49","v":" PHONE:800-553-8033 · FAX:763-513-2116"}]
[]
[null,"SPECIAL INFORMATION"]
[null,2,"Standard Configurations are set configurations as listed and cannot be altered."]
[null,null,"However, these are partial configurations which require the selection of Heavy Duty Front Bumper, Overhead Guard,"]
[null,null,"Fire Extinguisher, Brushes, Operator Manuals, Service Manual, and Shipment Packaging."]
[]
[null,3,"Shipping Weight and Dimensions","Pad Wrap"]
[]
[null,null,"Weight (w/240AH Battery)","1900 lbs / 862 Kg"]
[null,null,"Length","74\" / 1,880 mm"]
[null,null,"Width","42\" / 1,067 mm"]
[null,null,"Height","58\" / 1,473 mm"]
[]
[null,21,"The 9006922 SE Front Bumper bolts directly to the Frame.  Front Corner Rollers are Removed.   "]
[null,22,"When ordering the Overhead Guard, the HD Bumper PN 9006922 must also be ordered.  "]

{"sheet":"T2","index":28,"n_rows":256,"n_cols":18,"rows_kept":256,"cut":false,"hidden":false,"merged":[[29,2,29,6],[0,2,0,3],[1,2,1,3],[2,2,2,3],[3,2,3,3],[11,2,11,6],[220,4,220,5],[150,3,150,4],[120,3,120,4],[120,5,120,6],[128,3,128,4],[128,5,128,6],[129,3,129,4],[129,5,129,6],[207,4,207,7],[204,2,204,5],[151,3,151,4],[148,3,148,6],[197,2,197,5],[211,2,211,5],[205,2,205,5],[195,2,195,5],[193,4,193,7],[201,2,201,5],[196,2,196,5],[198,2,198,5],[203,2,203,5],[202,2,202,5],[199,2,199,5],[174,1,174,6],[170,3,171,6],[146,4,146,8],[137,5,137,6],[136,3,136,4],[153,3,153,4],[153,5,153,6],[154,3,154,4],[154,5,154,6],[155,3,155,4],[155,5,155,6],[136,5,136,6],[137,3,137,4],[30,2,30,6],[31,2,31,6],[102,3,102,6],[105,3,105,4],[105,5,105,6],[107,3,107,4],[107,5,107,6],[159,3,159,4],[159,5,159,6],[156,3,156,4],[156,5,156,6],[157,3,157,4],[157,5,157,6],[158,3,158,4],[158,5,158,6],[119,3,119,4],[119,5,119,6]]}
["T2",null,{"$f":"Start_Here!$C19","v":"Company Name"}]
[{"$f":"SUM(G98)","v":0},null,{"$f":"Start_Here!$C20","v":"Address"}]
[null,null,{"$f":"Start_Here!$C21","v":"City, State Zip"}]
[null,null,{"$f":"Start_Here!$C22","v":"Contact Name"}]
[null,null,{"$f":"Start_Here!$C$41","v":"Rep Name"}]
[null,null,{"$f":"Start_Here!$C$37","v":"Tennant Sales and Service Company"}]
[null,null,{"$f":"Start_Here!$C$38","v":"10400 Clean Street"}]
[null,null,{"$f":"Start_Here!$C$39","v":"Eden Prairie, MN 55344"}]
[null,null,{"$f":"Start_Here!$C$43","v":"800-553-8033"},null,"Quote Date :",null,{"$f":"Letter!$A$25","v":"2020-09-17"}]
[]
[null,null,{"$f":"Help!C2","v":"US Date Rev - 5/6/2025"}]
[null,null,"BUILT-IN “TENNANT VALUE” INCLUDES:"]
[]
[null,null,"26 l/6.9 gal Solution Tank  & 36 l/9.5 gal Recovery Tank",null,"Standard (2) 12V 105 AH Batteries "]
[null,null,"Rugged DuramerTM Tank Construction",null,"Battery Tray"]
[null,null,"Hygienic Recovery Tank",null,"On-board Charger"]
[null,null,"10 l/2.6 gal Demisting Chamber to Protect Vac Fan ",null,"Recovery Tank Debris Tray"]
[null,null,"Adjustable Solution Flow",null,"Unsurpassed Ergonomic Design"]
[null,null,"Extremely Low Noise Level  (≤68 dBa)",null,"Adjustable Console Height"]
[null,null,"Pad Assist - less than 2 kg/4.5 lbs of push force requried",null,"Trigger Design"]
[null,null,".75 kW/1 HP brush motor, 230 RPM",null,"Front Bucket Fill Port"]
[null,null,"Cast Aluminum Scrub Deck",null,"On-board Pad Driver Hanger"]
[null,null,"Cast Aluminum Squeegee Frame",null,"Gray Solid Urethane Tires"]
[null,null,"Breakaway Squeegee Design",null,"Automotive Triple-Sealed Electrical Connectors"]
[null,null,"Factory Set Squeegee Assembly for Maximium Recovery",null,"10cm /4\" Edge & Reach Under Cleaning"]
[null,null,"100% Recovery in 180º Point Turns",null,"Key Switch for Safety"]
[null,null,"Urethane Squeegee Blades",null,"No Tool Brush / Squegee Change"]
[null,null,"Squegee Hanger",null,"Includes Pad Driver"]
[]
[null,null,"TENNANT COMPANY WARRANTY"]
[null,null,"3 YEARS OR 2500 HOURS ON ALL COMPONENTS, 3 YEARS LABOR"]
[null,null,"90 DAYS TRAVEL, 10 YEARS ON DURAMERTM TANKS"]
[]
[]
[null,null,null,null,"                Quote Request Information"]
[null,null,null,null,null,null,"Fax (quote only)"]
[null,null,null,null,null,null,"Mail (quote,lit, specs)"]
[null,null,null,null,null,null,"Fax + Mail"]
[]
[null,null,null,null,"                Primary Use"]
[null,null,null,null,null,null,"Inside"]
[null,null,null,null,null,null,"Outside"]
[null,null,"Description","Reference # ","US Price","Qty.","Extended Price"]
[null,"Base Configuration",null,null,null,{"$f":"SUM(F45,F48,F53)","v":0},null,{"$f":"IFERROR(IFERROR(VLOOKUP(D44,Surcharge!A:B,2,FALSE)*F44, VLOOKUP(D44 & \"\",Surcharge!A:B,2,FALSE)*F44), \"\")","v":""},null,null,null,{"$f":"SUM(F44)","v":0},"Surcharge Qty"]
[null,null,"Cleaning Type",null,null,{"$f":"SUM(F46)","v":0},null,{"$f":"IFERROR(IFERROR(VLOOKUP(D45,Surcharge!A:B,2,FALSE)*F45, VLOOKUP(D45 & \"\",Surcharge!A:B,2,FALSE)*F45), \"\")","v":""},null,null,null,{"$f":"SUM(F45)","v":0},"Surcharge Qty"]
[null,null,"T2 Walk-Behind Scrubber  430 mm/17\" - Disk","T2-430-D",8551,null,{"$f":"F46*E46","v":0},{"$f":"IFERROR(IFERROR(VLOOKUP(D46,Surcharge!A:B,2,FALSE)*F46, VLOOKUP(D46 & \"\",Surcharge!A:B,2,FALSE)*F46), \"\")","v":""},null,null,null,null,null,null,null,null,{"$f":"VLOOKUP(R46,#REF!,5,FALSE)","v":{"$error":"#REF!"}},"M-T2VK_BASE_T2-430-D"]
[null,null,null,null,null,null,null,{"$f":"IFERROR(IFERROR(VLOOKUP(D47,Surcharge!A:B,2,FALSE)*F47, VLOOKUP(D47 & \"\",Surcharge!A:B,2,FALSE)*F47), \"\")","v":""},null,null,null,{"$f":"SUM(F47)","v":0},"Surcharge Qty"]
[null,null,"Battery Type",null,null,{"$f":"SUM(F49:F51)","v":0},null,{"$f":"IFERROR(IFERROR(VLOOKUP(D48,Surcharge!A:B,2,FALSE)*F48, VLOOKUP(D48 & \"\",Surcharge!A:B,2,FALSE)*F48), \"\")","v":""}]
[null,null,"Wet 105AH C/20 ",1030291,"N/C     ",null,{"$f":"IF(F49=0,\" \",\"N/C\")","v":" "},{"$f":"IFERROR(IFERROR(VLOOKUP(D49,Surcharge!A:B,2,FALSE)*F49, VLOOKUP(D49 & \"\",Surcharge!A:B,2,FALSE)*F49), \"\")","v":""}]
[null,null,"Sealed/MF Gel 102AH C/20  (Kit of 2 batteries)",1071125,374,null,{"$f":"F50*E50","v":0},{"$f":"IFERROR(IFERROR(VLOOKUP(D50,Surcharge!A:B,2,FALSE)*F50, VLOOKUP(D50 & \"\",Surcharge!A:B,2,FALSE)*F50), \"\")","v":0}]
[null,null,"Without Battery   (Note 2)",null,-450,null,{"$f":"F51*E51","v":0},{"$f":"IFERROR(IFERROR(VLOOKUP(D51,Surcharge!A:B,2,FALSE)*F51, VLOOKUP(D51 & \"\",Surcharge!A:B,2,FALSE)*F51), \"\")","v":""}]
[null,null,null,null,null,null,null,{"$f":"IFERROR(IFERROR(VLOOKUP(D52,Surcharge!A:B,2,FALSE)*F52, VLOOKUP(D52 & \"\",Surcharge!A:B,2,FALSE)*F52), \"\")","v":""}]
[null,null,"Charger","Reference Number",null,{"$f":"SUM(F54:F54)","v":0},null,{"$f":"IFERROR(IFERROR(VLOOKUP(D53,Surcharge!A:B,2,FALSE)*F53, VLOOKUP(D53 & \"\",Surcharge!A:B,2,FALSE)*F53), \"\")","v":""}]
[null,null,"9A 100-240V AC 50/60Hz 1 Ph - on board",1066718,"N/C     ",null,{"$f":"IF(F54=0,\" \",\"N/C\")","v":" "},{"$f":"IFERROR(IFERROR(VLOOKUP(D54,Surcharge!A:B,2,FALSE)*F54, VLOOKUP(D54 & \"\",Surcharge!A:B,2,FALSE)*F54), \"\")","v":""}]
[null,null,null,null,null,null,null,{"$f":"IFERROR(IFERROR(VLOOKUP(D55,Surcharge!A:B,2,FALSE)*F55, VLOOKUP(D55 & \"\",Surcharge!A:B,2,FALSE)*F55), \"\")","v":""}]
[null,"Pad Driver and Pads (Note 3)",null,"Reference Number",null,{"$f":"SUM(F57)","v":0},null,{"$f":"IFERROR(IFERROR(VLOOKUP(D56,Surcharge!A:B,2,FALSE)*F56, VLOOKUP(D56 & \"\",Surcharge!A:B,2,FALSE)*F56), \"\")","v":""}]
[null,null,"430mm/17\" Disk Pad Driver/Pads (1 Required)",null,null,{"$f":"SUM(F58:F62)","v":0},null,{"$f":"IFERROR(IFERROR(VLOOKUP(D57,Surcharge!A:B,2,FALSE)*F57, VLOOKUP(D57 & \"\",Surcharge!A:B,2,FALSE)*F57), \"\")","v":""}]
[null,null,"Polypropylene",1016765,249,null,{"$f":"F58*E58","v":0},{"$f":"IFERROR(IFERROR(VLOOKUP(D58,Surcharge!A:B,2,FALSE)*F58, VLOOKUP(D58 & \"\",Surcharge!A:B,2,FALSE)*F58), \"\")","v":""}]
[null,null,"Nylon  ",1016764,305,null,{"$f":"F59*E59","v":0},{"$f":"IFERROR(IFERROR(VLOOKUP(D59,Surcharge!A:B,2,FALSE)*F59, VLOOKUP(D59 & \"\",Surcharge!A:B,2,FALSE)*F59), \"\")","v":""}]
[null,null,null,null," ",null,null,{"$f":"IFERROR(IFERROR(VLOOKUP(D60,Surcharge!A:B,2,FALSE)*F60, VLOOKUP(D60 & \"\",Surcharge!A:B,2,FALSE)*F60), \"\")","v":""}]
[null,null,"Pad Driver",1016813,"N/C     ",null,{"$f":"IF(F61=0,\" \",\"N/C\")","v":" "},{"$f":"IFERROR(IFERROR(VLOOKUP(D61,Surcharge!A:B,2,FALSE)*F61, VLOOKUP(D61 & \"\",Surcharge!A:B,2,FALSE)*F61), \"\")","v":""}]
[null,null,"Pads ",null,null,{"$f":"SUM(F63:F65)","v":0},null,{"$f":"IFERROR(IFERROR(VLOOKUP(D62,Surcharge!A:B,2,FALSE)*F62, VLOOKUP(D62 & \"\",Surcharge!A:B,2,FALSE)*F62), \"\")","v":""}]
[null,null,"Blue Scrubbing - 3M",1050270,21.4,null,{"$f":"F63*E64","v":0},{"$f":"IFERROR(IFERROR(VLOOKUP(D63,Surcharge!A:B,2,FALSE)*F63, VLOOKUP(D63 & \"\",Surcharge!A:B,2,FALSE)*F63), \"\")","v":""}]
[null,null,"Red Cleaning - 3M",1050271,21.4,null,{"$f":"F64*E64","v":0},{"$f":"IFERROR(IFERROR(VLOOKUP(D64,Surcharge!A:B,2,FALSE)*F64, VLOOKUP(D64 & \"\",Surcharge!A:B,2,FALSE)*F64), \"\")","v":""}]
[null,null,"White Polishing - 3M",1050273,21.4,null,{"$f":"F65*E65","v":0},{"$f":"IFERROR(IFERROR(VLOOKUP(D65,Surcharge!A:B,2,FALSE)*F65, VLOOKUP(D65 & \"\",Surcharge!A:B,2,FALSE)*F65), \"\")","v":""}]
[null,null,null,null,null,null,null,{"$f":"IFERROR(IFERROR(VLOOKUP(D66,Surcharge!A:B,2,FALSE)*F66, VLOOKUP(D66 & \"\",Surcharge!A:B,2,FALSE)*F66), \"\")","v":""}]
[null,"Support",null,"Reference Number",null,{"$f":"SUM(F68:F72)","v":0},null,{"$f":"IFERROR(IFERROR(VLOOKUP(D67,Surcharge!A:B,2,FALSE)*F67, VLOOKUP(D67 & \"\",Surcharge!A:B,2,FALSE)*F67), \"\")","v":""}]
[null,null,"T2 Operator Manual (English/Spanish/French)",9008844,"N/C     ",null,{"$f":"IF(F68=0,\" \",\"N/C\")","v":" "},{"$f":"IFERROR(IFERROR(VLOOKUP(D68,Surcharge!A:B,2,FALSE)*F68, VLOOKUP(D68 & \"\",Surcharge!A:B,2,FALSE)*F68), \"\")","v":""}]
[null,null,"T2 Parts Manual",9008845,59,null,{"$f":"F69*E69","v":0},{"$f":"IFERROR(IFERROR(VLOOKUP(D69,Surcharge!A:B,2,FALSE)*F69, VLOOKUP(D69 & \"\",Surcharge!A:B,2,FALSE)*F69), \"\")","v":""}]
[null,null,"Additional Operator Manual","see above",143,null,{"$f":"F70*E70","v":0},{"$f":"IFERROR(IFERROR(VLOOKUP(D70,Surcharge!A:B,2,FALSE)*F70, VLOOKUP(D70 & \"\",Surcharge!A:B,2,FALSE)*F70), \"\")","v":""}]
[null,null,null,null,null,null,null,{"$f":"IFERROR(IFERROR(VLOOKUP(D71,Surcharge!A:B,2,FALSE)*F71, VLOOKUP(D71 & \"\",Surcharge!A:B,2,FALSE)*F71), \"\")","v":""}]
[null,null,"Packaging  (Note 4)",null,null,{"$f":"SUM(F73:F74)","v":0},null,{"$f":"IFERROR(IFERROR(VLOOKUP(D72,Surcharge!A:B,2,FALSE)*F72, VLOOKUP(D72 & \"\",Surcharge!A:B,2,FALSE)*F72), \"\")","v":""}]
[null,null,"Pad Wrap",null,"N/C     ",null,{"$f":"IF(F73=0,\" \",\"N/C\")","v":" "},{"$f":"IFERROR(IFERROR(VLOOKUP(D73,Surcharge!A:B,2,FALSE)*F73, VLOOKUP(D73 & \"\",Surcharge!A:B,2,FALSE)*F73), \"\")","v":""}]
[null,null,"Skid w/Carton, Stackable ",9011134,332,null,{"$f":"F74*E74","v":0},{"$f":"IFERROR(IFERROR(VLOOKUP(D74,Surcharge!A:B,2,FALSE)*F74, VLOOKUP(D74 & \"\",Surcharge!A:B,2,FALSE)*F74), \"\")","v":""}]
[null,null,null,null,null,null,null,{"$f":"IFERROR(IFERROR(VLOOKUP(D75,Surcharge!A:B,2,FALSE)*F75, VLOOKUP(D75 & \"\",Surcharge!A:B,2,FALSE)*F75), \"\")","v":""}]
[null,null,null,null,null,{"$f":"SUM(#REF!)","v":{"$error":"#REF!"}}]
[]
[null,"Custom Solution--write in description, qty, price, and PN if applicable",null,null,null,{"$f":"SUM(F79)","v":0}]
[null,null,null,null,"Insert Prices Here",{"$f":"SUM(F80:F83)","v":0}]
[null,null,null,"Custom",null,{"$f":"IF(E80 <> \"\", 1, 0)","v":0},{"$f":"F80*E80","v":0}]
[null,null,null,"Custom",null,{"$f":"IF(E81 <> \"\", 1, 0)","v":0},{"$f":"F81*E81","v":0}]
[null,null,null,"Custom",null,{"$f":"IF(E82 <> \"\", 1, 0)","v":0},{"$f":"F82*E82","v":0}]
[null,null,null,"Custom",null,{"$f":"IF(E83 <> \"\", 1, 0)","v":0},{"$f":"F83*E83","v":0}]
[null,null,null,null,{"$f":"ROUND(SUM(G44:G83), 0)","v":0},{"$f":"SUM(E85)","v":0}]
[null,null,null,"Machine Subtotal ",{"$f":"ROUND(SUM(G44:G83), 0)","v":0},{"$f":"F84","v":0}]
[null,"Discounts",null,null,null,{"$f":"SUM(F87)","v":0}]
[null,null,null,null,null,{"$f":"SUM(F88:F91)","v":0}]
[null,null,null,"Discount %",null,{"$f":"IF(E88 <> \"\", 1, 0)","v":0},{"$f":"IF(F88*(E88*0.01)*E84 < 0, F88*(E88*0.01)*E84, -(F88*(E88*0.01)*E84))","v":0}]
[null,null,null,"Discount $",null,{"$f":"IF(E89 <> \"\", 1, 0)","v":0},{"$f":"IF(F89*E89 < 0, F89*E89, -(F89*E89))","v":0}]
[null,null,null,"Discount $",null,{"$f":"IF(E90 <> \"\", 1, 0)","v":0},{"$f":"IF(F90*E90 < 0, F90*E90, -(F90*E90))","v":0}]
[null,null,null,"Discount $",null,{"$f":"IF(E91 <> \"\", 1, 0)","v":0},{"$f":"IF(F91*E91 < 0, F91*E91, -(F91*E91))","v":0}]
[null,null,null,"Discount Total ",{"$f":"SUM(G88:G91)","v":0},{"$f":"SUM(E92)","v":0}]
[null,null,null,null,null,{"$f":"#REF!","v":{"$error":"#REF!"}}]
[null,null,null,null,null,{"$f":"F93","v":{"$error":"#REF!"}}]
[null,null,"Prepaid and Add","Freight",null,{"$f":"IF(E95 <> \"\", 1, 0)","v":0},{"$f":"F95*E95","v":0}]
[null,null,"Subject to all applicable taxes","Tax",null,{"$f":"IF(E96 <> \"\", 1, 0)","v":0},{"$f":"F96*E96","v":0}]
[null,null,null,null,null,{"$f":"SUM(F98)","v":0}]
[null,null,null,"MACHINE TOTAL*",null,{"$f":"SUM(G98)","v":0},{"$f":"SUM(G44:G96)","v":0},null,null,null,null,null,null,"This goes to \"My Documents\""]
[null,"Financing",null,null,null,null,{"$f":"G98","v":0}]
[]
[null,null,"Is customer interested in financing?","No"]
[]
[null,null,"If not, why?"]
[]
[]
[null,null,"First Western Equipment Finance - Leasing Calculation Option:","Option 1",null,"Option 2",null,null,null,{"$f":"Financing!A38","v":"Rates 2025 - Rev. 5/6/2025"}]
[null,null,null,"Monthly Payment","Cost Per Day","Monthly Payment","Cost Per Day",null,null,{"$f":"Financing!A39","v":"“Blank Payment Amounts Indicate The Financing Option Or Purchase Options Selected Are Not "}]
[null,null,"Purchase Option:","FWEF:  $1 Buyout Lease",null,"FWEF: Municipal Lease",null,null,null,{"$f":"Financing!A40","v":"Applicable Or The Machine Total Is Below The Minimum Amount For The Selected Vendor”"}]
[null,null,"24 Months",0,0,0,0,null,null,{"$f":"Financing!A41","v":"\"Quoted monthly payments are estimates only and are based on a certain level of credit rating."}]
[null,null,"30 Months",0,0,0,0,null,null,{"$f":"Financing!A42","v":"Actual monthly payments may be higher depending on your credit rating.\""}]
[null,null,"36 Months",0,0,0,0,null,null,{"$f":"Financing!A43","v":"“Financing rates do not include Pre-Paid Service”"}]
[null,null,"48 Months",0,0,0,0,null,{"$f":"Financing!A44","v":0}]
[]
[null,null,null,"Benefits of Equipment Financing:"]
[null,null,null,"• Spreads out investment over time.",null,"• Keep current with latest technology."]
[null,null,null,"• Preserve capital.",null,"• Service and parts bundling available."]
[null,null,null,"• Low monthly payment.",null,"• Pay for labor savings as you go."]
[]
[]
[null,null,"Bundled Offerings","Flexclean – Fair Market Value",null,"Flexclean - $1 Buyout"]
[null,null,"FlexClean: ","36 Month Term",null,"36 Month Term",null,null,"No","AB Brushes"]
[null,null,"Hours included per Month:","Gold","Silver","Gold","Silver","Check"]
[null,null,"< 30/mo. (Avg. 1hr./day)",null,null,null,null,null,{"$f":"FlexCleanCalc!$A21","v":"“FlexClean monthly rates include payment for both machine and service.”"}]
[null,null,"< 60/mo. (Avg. 2hrs./day)"]
[null,null,"< 90/mo. (Avg. 3hrs./day)"]
[null,null,"*This value assumes one service contract regardless of the number of UNITS included in the quote"]
[]
[]
[null,null,"Bundled Offerings","Flexclean – Fair Market Value",null,"Flexclean - $1 Buyout"]
[null,null,"FlexClean 2: ","48 Month Term",null,"48 Month Term"]
[null,null,"Hours included per Month:","Gold","Silver","Gold","Silver"]
[null,null,"< 30/mo. (Avg. 1hr./day)"]
[null,null,"< 60/mo. (Avg. 2hrs./day)"]
[null,null,"< 90/mo. (Avg. 3hrs./day)"]
[null,null,"*This value assumes one service contract regardless of the number of UNITS included in the quote"]
[]
[null,null,"Bundled Offerings","Flexclean – Fair Market Value",null,"Flexclean - $1 Buyout"]
[null,null,"FlexClean 3: ","60 Month Term",null,"60 Month Term"]
[null,null,"Hours included per Month:","Gold","Silver","Gold","Silver"]
[null,null,"< 30/mo. (Avg. 1hr./day)"]
[null,null,"< 60/mo. (Avg. 2hrs./day)"]
[null,null,"< 90/mo. (Avg. 3hrs./day)"]
[null,null,"*This value assumes one service contract regardless of the number of UNITS included in the quote"]
[]
[null,"  TennantTrue"]
[]
[null,null,"Is customer interested in service program?","Yes","*State/County selection required for TennantTrue service options"]
[]
[null,null,"If not, why?"]
[]
[null,null,"Term:",36,null,"AB Brushes","No"]
[null,null,"Monthly machine usage (hrs):","< 30/mo. (Avg. 1hr./day)"]
[]
[null,null,"TennantTrue: ","Gold Contract",null,"Silver Contract"]
[null,null,"Per Visit",null,null,425]
[null,null,"Monthly",120,null,69]
[null,null,"Annually",null,null,816]
[null,null,"Pre-Pay Full Term",4162,null,2397]
[null,null,"Hourly Labor Rate"]
[null,null,"Site Visit"]
[]
[null,null,"* Verify customer current pricing prior to quote. "]
[null,null,"**All rates and fees above reflect service for one (1) unit with the exception of Block of Time service."]
[null,null,"*Block of Time is available in 1 Year Term only and is priced as such no matter the term selection on this template."]
[]
[]
[null,"Servicing"]
[]
[null,null,"Is customer interested in a service plan?","No"]
[]
[null,null,"If not, why?"]
[]
[]
[null,"Quote Special Instructions:"]
[]
[]
[null,null,{"$f":"Start_Here!E36","v":"Terms and Conditions"}]
[null,null,{"$f":"Start_Here!E37","v":"Ask your local sales rep for estimated lead times. Verify when placing order"}]
[null,null,{"$f":"Start_Here!E38","v":"All orders subject to acceptance by Tennant Sales and Service Company, Minneapolis, Minnesota"}]
[null,null,{"$f":"Start_Here!E39","v":"Prices subject to change without notice."}]
[null,null,{"$f":"Start_Here!E40","v":"Terms:  Net 30 days.  Subject to any applicable taxes."}]
[null,null,{"$f":"Start_Here!E41","v":"Freight: Machines and accessory orders delivered FOB shipping point Frt PPD & Add"}]
[null,null,{"$f":"Start_Here!E42","v":"Parts, supplies, detergents and floor treating material orders delivered FOB "}]
[null,null,{"$f":"Start_Here!E43","v":"shipping point Frt PPD"}]
[null,null,{"$f":"Start_Here!E44","v":"All orders are subject to Tennant’s General Terms and Conditions available at http://www.tennantco.com/terms."}]
[null,null,{"$f":"Start_Here!E45","v":"Printed General Terms and Conditions are also available upon request."}]
[null,null,{"$f":"Start_Here!E46","v":0}]
[]
[null,null,null,null,"Quote Date :",null,{"$f":"Letter!$A$25","v":"2020-09-17"}]
["Order Placement Information:  To place your order, fill in PO# and customer signatures,"]
["call or fax to the numbers listed below. Customer Purchase Order is required."]
["If information is missing, orders will be entered and held until all information is received."]
[null,null,"Customer Number",null,"Cust Grp 3"]
[null,null,{"$f":"Start_Here!$C$25","v":0},null,{"$f":"Start_Here!$C$29","v":0}]
[null,null,{"$f":"Start_Here!$B$18","v":"Who Owns the Machine? (Sold-To Info) (Please Verify)"}]
["Company",null,{"$f":"Start_Here!$C$19","v":"Company Name"}]
["Address",null,{"$f":"Start_Here!$C$20","v":"Address"}]
[null,null,{"$f":"Start_Here!$C$21","v":"City, State Zip"}]
["Name",null,{"$f":"Start_Here!$C$22","v":"Contact Name"}]
["Phone",null,{"$f":"Start_Here!$C$23","v":"Contact Phone"}]
[null,null,{"$f":"Start_Here!$B$11","v":"Where is the Machine Being Shipped? (Ship-To Info) (Please Verify)"}]
["Company",null,{"$f":"Start_Here!$C$12","v":"Company Name"}]
["Address",null,{"$f":"Start_Here!$C$13","v":"Address"}]
[null,null,{"$f":"Start_Here!$C$14","v":"City, State Zip"}]
["Name",null,{"$f":"Start_Here!$C$15","v":"Contact Name"}]
["Phone",null,{"$f":"Start_Here!$C$16","v":"Contact Phone"}]
[null,null,{"$f":"Start_Here!$B$31","v":"Shipping / Carrier Instructions:"},null,"Order Special Instructions:"]
[null,null,{"$f":"Start_Here!$C$32","v":0}]
[]
[null,null,"Customer Purchase Order No."]
[null,null,"(please attach copy)"]
[]
[]
[null,null,"Tax Exempt",null,"Yes"]
[null,null,null,null,"No"]
[null,null,"If Yes, attach a copy of your exemption certificate."]
[]
[null,null,"Requested Delivery Date"]
[null,null,{"$f":"Start_Here!$C$28","v":0}]
[]
[null,null,{"$f":"Start_Here!$C$26","v":0},null,{"$f":"Start_Here!$C$27","v":0}]
[null,0,"Authorized Buyer (please print)",null,"Phone Number"]
[]
[]
[null,0,"Authorized Buyer Signature"]
[]
[null,null,{"$f":"Start_Here!$C$41","v":"Rep Name"}]
[null,null,"Tennant Representative"]
[]
["Specialized Maintenance Equipment"]
[{"$f":"Start_Here!$C$48","v":"TENNANT · 10400 Clean Street · Eden Prairie, MN 55344 ·"}]
[{"$f":"Start_Here!$C$49","v":" PHONE:800-553-8033 · FAX:763-513-2116"}]
[]
[]
[null,null,"Special Information "]
[null,"Notes"]
[]
[null,1,"Pre-Configured Machines cannot add or change options.  All units will be packaged and shipped as stated above."]
[null,null,"When ordering, provide the reference number listed above.  Price does not include freight or tax.  Availability of units "]
[null,null,"and lead time may vary."]
[]
[null,2,"Customer MUST order Skid w/Carton, Stackable if WITHOUT BATTERY is selected.  Continental USA orders ONLY. "]
[]
[null,3,"One pad driver comes standard with a T2."]
[]
[null,4,"Pad wrap available only in the Continental US and is the default packaging method."]
[null,null,"Customer MUST order Skid w/Carton, Stackable if WITHOUT BATTERY is selected."]
[null,null,"Skid w/Carton, Stackable is mandatory when shipping to AK and HI.  Packaging is added at No Charge when shipping"]
[null,null,"to these locations."]
[null,null,null," "]
[null,5,"Machine Weights and dimensions","Pad Wrap","Skid w/Carton"]
[]
[null,null,"Weight (w/105AH battery)","300 lbs / 136 Kg","331 lbs / 150 Kg"]
[null,null,"Length","44\" / 1120mm","47\" / 1200mm"]
[null,null,"Width","19\" / 478mm","30\" / 750mm"]
[null,null,"Height","37\" / 930mm","45\" / 1150mm"]

{"sheet":"T300","index":29,"n_rows":377,"n_cols":15,"rows_kept":377,"cut":false,"hidden":false,"merged":[[37,2,37,6],[39,2,39,6],[42,2,42,6],[172,5,172,6],[0,2,0,3],[1,2,1,3],[2,2,2,3],[3,2,3,3],[11,2,11,6],[174,3,174,4],[174,5,174,6],[186,3,186,4],[186,5,186,6],[15,1,15,2],[20,1,20,2],[21,1,21,2],[38,2,38,6],[172,3,172,4],[41,2,41,5],[40,2,40,5],[22,1,22,2],[27,1,27,2],[169,3,169,6],[187,5,187,6],[218,3,218,4],[187,3,187,4],[215,3,215,6],[195,3,195,4],[195,5,195,6],[196,3,196,4],[196,5,196,6],[203,3,203,4],[203,5,203,6],[204,3,204,4],[204,5,204,6],[213,4,213,8],[217,3,217,4],[360,4,361,4],[268,2,268,5],[266,2,266,5],[265,2,265,5],[264,2,264,5],[287,4,287,5],[270,2,270,5],[271,2,271,5],[353,4,354,4],[278,2,278,5],[274,4,274,7],[272,2,272,5],[269,2,269,5],[262,2,262,5],[263,2,263,5],[260,4,260,7],[237,3,238,6],[241,1,241,6],[220,3,220,4],[220,5,220,6],[221,3,221,4],[221,5,221,6],[222,3,222,4],[222,5,222,6],[226,3,226,4],[226,5,226,6],[223,3,223,4],[223,5,223,6],[224,3,224,4],[224,5,224,6],[225,3,225,4],[225,5,225,6]]}
["T300",null,{"$f":"Start_Here!$C19","v":"Company Name"}]
[{"$f":"SUM(G165)","v":0},null,{"$f":"Start_Here!$C20","v":"Address"}]
[null,null,{"$f":"Start_Here!$C21","v":"City, State Zip"}]
[null,null,{"$f":"Start_Here!$C22","v":"Contact Name"}]
[null,null,{"$f":"Start_Here!$C$41","v":"Rep Name"}]
[null,null,{"$f":"Start_Here!$C$37","v":"Tennant Sales and Service Company"}]
[null,null,{"$f":"Start_Here!$C$38","v":"10400 Clean Street"}]
[null,null,{"$f":"Start_Here!$C$39","v":"Eden Prairie, MN 55344"}]
[null,null,{"$f":"Start_Here!$C$43","v":"800-553-8033"},null,"Quote Date :",null,{"$f":"Letter!$A$25","v":"2020-09-17"}]
[]
[null,null,{"$f":"Help!C2","v":"US Date Rev - 5/6/2025"}]
[null,null,"BUILT-IN “TENNANT VALUE” INCLUDES:"]
[]
[null,"42L/11 gal Solution Tank  & 53 L/14 gal Recovery Tank",null,"Emergency Stop  (standard on all drive units)"]
[null,"Rugged DuramerTM Rotomold Tank Construction",null,"Free Floating Head Skirt (disk machines)"]
[null,"Pad Driver and Brush Attachment (Disk machines)",null,"Front Water Fill Port w/ Hose Hook"]
[null,"HygienicTM Recovery Tank",null,"Integrated Heat Sync for Electronics Protection"]
[null,"Multiple Setting Down Pressure",null,"Sealed Electrical Connectors"]
[null,"Adjustable Solution Flow",null,"Anti-Static Straps"]
[null,"Variable Speed Control Bail",null,"0.75 kW/1 HP brush motor, 230 RPM (disk)"]
[null,"MembraneTM Control Panel",null,"0.45 kW/0.6 HP brush motor, 2200 RPM (orbital)"]
[null,"Pro-MembraneTM Control Panel with Multiple Zone Settings™ Capability",null,"Recovery Tank Debris Tray with Deflector"]
[null,"Pro-PanelTM Controls with Full Color LCD Touch Screen (Option)",null,"Unsurpassed Ergonomic Design"]
[null,"Supervisor QA ControlsTM settings (Lock Out Features)",null,"Gray Non-Marking Tires"]
[null,"On Board Diagnostics",null,"10cm /4\" Edge & Reach Under Cleaning"]
[null,"Extremely Low Noise Level  (≤65 dBa)",null,"Key Switch for Safety"]
[null,"Quiet-Mode™ Standard",null,"Hour Meter"]
[null,"Wet 130AH and Wet 150AH Battery options available.",null,"Operators manual"]
[null,"Quick Release Battery Harness",null,"Jacking Points/Shipping Tie Downs"]
[null,"Drain hose with pinch-cuff to control water flow",null,"Yellow Maintenance Touch Points"]
[null,"On-board Charger with 3m/15 ft power cord",null,"Integrated Accessory Rails w/Squeegee & Bag Hang "]
[null,"Closed Machine Venting for Battery Charging",null,"Composite Scrub Deck (Single Disk)","Battery Tray"]
[null,"Cast Aluminum Squeegee Frame",null,"Cast Aluminum Scrub Deck (Dual Disk)"]
[null,"Breakaway Squeegee Design w/ Integrated P-Trap",null,"11 Gauge Steel Scrub Deck (Orbital Only)"]
[null,"Factory Set Squeegee Assembly for Maximum Recovery"]
[null,"Linatex Squeegee Blades with Tool-less Replacement"]
[]
[null,null,"TENNANT COMPANY WARRANTY"]
[null,null,"3 YEARS OR 2000 HOURS - PARTS"]
[null,null,"1 YEAR - BATTERY CHARGERS"]
[null,null,"                        2 YEARS - LABOR"]
[null,null,"                           6 MONTHS - TRAVEL"]
[null,null,"10 YEARS ON DURAMERTM ROTOMOLD TANKS"]
[]
[null,null,null,null,"                Quote Request Information"]
[null,null,null,null,null,null,"Fax (quote only)"]
[null,null,null,null,null,null,"Mail (quote,lit, specs)"]
[null,null,null,null,null,null,"Fax + Mail"]
[]
[null,null,null,null,"                Primary Use"]
[null,null,null,null,null,null,"Inside"]
[null,null,null,null,null,null,"Outside"]
[null,null,"Description","Reference # ","US List Price","Qty.","Extended Price"]
[null,"Base Configuration",null,"Reference Number","Price",{"$f":"SUM(F55,F61,F66,F72,F76,F85)","v":0},null,{"$f":"IFERROR(IFERROR(VLOOKUP(D54,Surcharge!A:B,2,FALSE)*F54, VLOOKUP(D54 & \"\",Surcharge!A:B,2,FALSE)*F54), \"\")","v":""}]
[null,null,"Cleaning Type",null,null,{"$f":"SUM(F56:F59)","v":0},null,{"$f":"IFERROR(IFERROR(VLOOKUP(D55,Surcharge!A:B,2,FALSE)*F55, VLOOKUP(D55 & \"\",Surcharge!A:B,2,FALSE)*F55), \"\")","v":""}]
[null,null,"T300 Walk-Behind Scrubber  430 mm/17\" - Disk","T300-430-D",7398,null,{"$f":"F56*E56","v":0},{"$f":"IFERROR(IFERROR(VLOOKUP(D56,Surcharge!A:B,2,FALSE)*F56, VLOOKUP(D56 & \"\",Surcharge!A:B,2,FALSE)*F56), \"\")","v":0},null,null,null,null,null,{"$f":"VLOOKUP(O56,'MPF SAP Download'!A:E,5,FALSE)","v":6914},"M-T300VK_BASE_T300-430-D"]
[null,null,"T300 Walk-Behind Scrubber  500 mm/20\" - Disk","T300-500-D",8504,null,{"$f":"F57*E57","v":0},{"$f":"IFERROR(IFERROR(VLOOKUP(D57,Surcharge!A:B,2,FALSE)*F57, VLOOKUP(D57 & \"\",Surcharge!A:B,2,FALSE)*F57), \"\")","v":0},null,null,null,null,null,{"$f":"VLOOKUP(O57,'MPF SAP Download'!A:E,5,FALSE)","v":7947},"M-T300VK_BASE_T300-500-D"]
[null,null,"T300 Walk-Behind Scrubber  600 mm/24\" - Dual Disk, Self Propel","T300-600-D",11641,null,{"$f":"F58*E58","v":0},{"$f":"IFERROR(IFERROR(VLOOKUP(D58,Surcharge!A:B,2,FALSE)*F58, VLOOKUP(D58 & \"\",Surcharge!A:B,2,FALSE)*F58), \"\")","v":0},null,null,null,null,null,{"$f":"VLOOKUP(O58,'MPF SAP Download'!A:E,5,FALSE)+O74","v":{"$error":"#VALUE!"}},"M-T300VK_BASE_T300-600-D"]
[null,null,"T300 Walk-Behind Scrubber  500 mm/20\" - Orbital, Self Propel","T300-500-O",11265,null,{"$f":"F59*E59","v":0},{"$f":"IFERROR(IFERROR(VLOOKUP(D59,Surcharge!A:B,2,FALSE)*F59, VLOOKUP(D59 & \"\",Surcharge!A:B,2,FALSE)*F59), \"\")","v":0},null,null,null,null,null,null,"M-T300VK_BASE_T300-500-O"]
[null,null,null,null,null,null,null,{"$f":"IFERROR(IFERROR(VLOOKUP(D60,Surcharge!A:B,2,FALSE)*F60, VLOOKUP(D60 & \"\",Surcharge!A:B,2,FALSE)*F60), \"\")","v":""}]
[null,null,"Trim Level (Note 2)",null,null,{"$f":"SUM(F62:F64)","v":0},null,{"$f":"IFERROR(IFERROR(VLOOKUP(D61,Surcharge!A:B,2,FALSE)*F61, VLOOKUP(D61 & \"\",Surcharge!A:B,2,FALSE)*F61), \"\")","v":""}]
[null,null,"Membrane™ Control Panel","MCP - T300","N/C     ",null,{"$f":"IF(F62=0,\" \",\"N/C\")","v":" "},{"$f":"IFERROR(IFERROR(VLOOKUP(D62,Surcharge!A:B,2,FALSE)*F62, VLOOKUP(D62 & \"\",Surcharge!A:B,2,FALSE)*F62), \"\")","v":""}]
[null,null,"Pro-Membrane™ Control Panel - With automated push button down pressure","PMC - T300",295,null,{"$f":"F63*E63","v":0},{"$f":"IFERROR(IFERROR(VLOOKUP(D63,Surcharge!A:B,2,FALSE)*F63, VLOOKUP(D63 & \"\",Surcharge!A:B,2,FALSE)*F63), \"\")","v":""},null,null,null,null,null,{"$f":"VLOOKUP(O63,'MPF SAP Download'!A:E,5,FALSE)","v":275},"M-T300VK_TRM_PMEM"]
[null,null,"Pro-Panel™ Control Panel","PPC- T300",969,null,{"$f":"F64*E64","v":0},{"$f":"IFERROR(IFERROR(VLOOKUP(D64,Surcharge!A:B,2,FALSE)*F64, VLOOKUP(D64 & \"\",Surcharge!A:B,2,FALSE)*F64), \"\")","v":""},null,null,null,null,null,{"$f":"VLOOKUP(O64,'MPF SAP Download'!A:E,5,FALSE)","v":905},"M-T300VK_TRM_PPAN"]
[null,null,null,null,null,null,null,{"$f":"IFERROR(IFERROR(VLOOKUP(D65,Surcharge!A:B,2,FALSE)*F65, VLOOKUP(D65 & \"\",Surcharge!A:B,2,FALSE)*F65), \"\")","v":""}]
[null,null,"Cleaning Technology: (conventional is standard,  ec-H2O NanoClean can also operate in conventional mode)",null,null,{"$f":"SUM(F67:F70)","v":0},null,{"$f":"IFERROR(IFERROR(VLOOKUP(D66,Surcharge!A:B,2,FALSE)*F66, VLOOKUP(D66 & \"\",Surcharge!A:B,2,FALSE)*F66), \"\")","v":""}]
[null,null,"ec-H2O NanoClean™ Technology ","ec-H2ONC-T300",2222,null,{"$f":"F67*E67","v":0},{"$f":"IFERROR(IFERROR(VLOOKUP(D67,Surcharge!A:B,2,FALSE)*F67, VLOOKUP(D67 & \"\",Surcharge!A:B,2,FALSE)*F67), \"\")","v":""},null,null,null,null,null,{"$f":"VLOOKUP(O67,'MPF SAP Download'!A:E,5,FALSE)","v":2076},"M-T300VK_CLNTCH_ECH2ON"]
[null,null,null,null,null,null,null,{"$f":"IFERROR(IFERROR(VLOOKUP(D68,Surcharge!A:B,2,FALSE)*F68, VLOOKUP(D68 & \"\",Surcharge!A:B,2,FALSE)*F68), \"\")","v":""}]
[null,null,"Severe Environment Switch - ec-H2O NanoClean only  (Note 3)",9013840,624,null,{"$f":"F69*E69","v":0},{"$f":"IFERROR(IFERROR(VLOOKUP(D69,Surcharge!A:B,2,FALSE)*F69, VLOOKUP(D69 & \"\",Surcharge!A:B,2,FALSE)*F69), \"\")","v":""},null,null,null,null,null,{"$f":"VLOOKUP(O69,'MPF SAP Download'!A:E,5,FALSE)","v":583},"M-T300VK_SVEEVMSWH"]
[null,null,"Severe Environment™ Switch Lockout  (Note 3)",9017886,65,null,{"$f":"F70*E70","v":0},null,null,null,null,null,null,{"$f":"VLOOKUP(O70,'MPF SAP Download'!A:E,5,FALSE)","v":60},"M-T300VK_SVEEVMSWHLKT"]
[null,null,null,null,null,null,null,{"$f":"IFERROR(IFERROR(VLOOKUP(D71,Surcharge!A:B,2,FALSE)*F71, VLOOKUP(D71 & \"\",Surcharge!A:B,2,FALSE)*F71), \"\")","v":""}]
[null,null,"Drive Type  (Note 4)",null,null,{"$f":"SUM(F73:F74)","v":0},null,{"$f":"IFERROR(IFERROR(VLOOKUP(D72,Surcharge!A:B,2,FALSE)*F72, VLOOKUP(D72 & \"\",Surcharge!A:B,2,FALSE)*F72), \"\")","v":""}]
[null,null,"Pad / Brush Assist","Pad-T300","N/C     ",null,{"$f":"IF(F73=0,\" \",\"N/C\")","v":" "},{"$f":"IFERROR(IFERROR(VLOOKUP(D73,Surcharge!A:B,2,FALSE)*F73, VLOOKUP(D73 & \"\",Surcharge!A:B,2,FALSE)*F73), \"\")","v":""}]
[null,null,"Self Propel","Self-T300",1601,null,{"$f":"F74*E74","v":0},{"$f":"IFERROR(IFERROR(VLOOKUP(D74,Surcharge!A:B,2,FALSE)*F74, VLOOKUP(D74 & \"\",Surcharge!A:B,2,FALSE)*F74), \"\")","v":""},null,null,null,null,null,{"$f":"VLOOKUP(O74,'MPF SAP Download'!A:E,5,FALSE)","v":1496},"M-T300VK_CLNDRT_SP"]
[null,null,null,null,null,null,null,{"$f":"IFERROR(IFERROR(VLOOKUP(D75,Surcharge!A:B,2,FALSE)*F75, VLOOKUP(D75 & \"\",Surcharge!A:B,2,FALSE)*F75), \"\")","v":""}]
[null,null,"Battery Type  (Note 5)",null,null,{"$f":"SUM(F77:F83)","v":0},null,{"$f":"IFERROR(IFERROR(VLOOKUP(D76,Surcharge!A:B,2,FALSE)*F76, VLOOKUP(D76 & \"\",Surcharge!A:B,2,FALSE)*F76), \"\")","v":""}]
[null,null,"Wet 130AH C/20  (Kit of 2 batteries)   ",9013852,725,null,{"$f":"F77*E77","v":0},{"$f":"IFERROR(IFERROR(VLOOKUP(D77,Surcharge!A:B,2,FALSE)*F77, VLOOKUP(D77 & \"\",Surcharge!A:B,2,FALSE)*F77), \"\")","v":""},null,null,null,null,null,{"$f":"VLOOKUP(O77,'MPF SAP Download'!A:E,5,FALSE)","v":677},"M-T300VK_BTY_W130C20"]
[null,null,"Wet 150AH C/20  (Kit of 2 batteries)",9013853,863,null,{"$f":"F78*E78","v":0},{"$f":"IFERROR(IFERROR(VLOOKUP(D78,Surcharge!A:B,2,FALSE)*F78, VLOOKUP(D78 & \"\",Surcharge!A:B,2,FALSE)*F78), \"\")","v":""},null,null,null,null,null,{"$f":"VLOOKUP(O78,'MPF SAP Download'!A:E,5,FALSE)","v":806},"M-T300VK_BTY_W150C20"]
[null,null,"Sealed/MF AGM 140AH C/20  (Kit of 2 batteries)",9013854,2040,null,{"$f":"F79*E79","v":0},{"$f":"IFERROR(IFERROR(VLOOKUP(D79,Surcharge!A:B,2,FALSE)*F79, VLOOKUP(D79 & \"\",Surcharge!A:B,2,FALSE)*F79), \"\")","v":""},null,null,null,null,null,{"$f":"VLOOKUP(O79,'MPF SAP Download'!A:E,5,FALSE)","v":1906},"M-T300VK_BTY_A140C20"]
[null,null,"Li-Ion 24v, 90AH  (Note 5a)",9022765,3029,null,{"$f":"F80*E80","v":0}]
[null,null,"Without",null,"N/C     ",null,{"$f":"IF(F81=0,\" \",\"N/C\")","v":" "},{"$f":"IFERROR(IFERROR(VLOOKUP(D81,Surcharge!A:B,2,FALSE)*F81, VLOOKUP(D81 & \"\",Surcharge!A:B,2,FALSE)*F81), \"\")","v":""}]
[null,null,null,null,null,null,null,{"$f":"IFERROR(IFERROR(VLOOKUP(D82,Surcharge!A:B,2,FALSE)*F82, VLOOKUP(D82 & \"\",Surcharge!A:B,2,FALSE)*F82), \"\")","v":""}]
[null,null,"Manual Battery Watering System - Wet 150AH Battery only (Note 6) ",9009619,580,null,{"$f":"F83*E83","v":0},{"$f":"IFERROR(IFERROR(VLOOKUP(D83,Surcharge!A:B,2,FALSE)*F83, VLOOKUP(D83 & \"\",Surcharge!A:B,2,FALSE)*F83), \"\")","v":""},null,null,null,null,null,{"$f":"VLOOKUP(O83,'MPF SAP Download'!A:E,5,FALSE)","v":542},"M-T300VK_BTYWTRSYS"]
[null,null,null,null,null,null,null,{"$f":"IFERROR(IFERROR(VLOOKUP(D84,Surcharge!A:B,2,FALSE)*F84, VLOOKUP(D84 & \"\",Surcharge!A:B,2,FALSE)*F84), \"\")","v":""}]
[null,null,"Charger  (Note 7)","Reference Number",null,{"$f":"SUM(F86:F88)","v":0},null,{"$f":"IFERROR(IFERROR(VLOOKUP(D85,Surcharge!A:B,2,FALSE)*F85, VLOOKUP(D85 & \"\",Surcharge!A:B,2,FALSE)*F85), \"\")","v":""}]
[null,null,"13A 85-265V AC 50/60Hz 1Ph - On Board\n     (IRIS Battery Metric Compatible)",9013847,"N/C     ",null,{"$f":"IF(F86=0,\" \",\"N/C\")","v":" "},{"$f":"IFERROR(IFERROR(VLOOKUP(D86,Surcharge!A:B,2,FALSE)*F86, VLOOKUP(D86 & \"\",Surcharge!A:B,2,FALSE)*F86), \"\")","v":""}]
[null,null,"27A 100-240V AC 50/60Hz 1Ph - Off-Board Charger (Li-Ion Batteries)",9052023,"N/C     ",null,{"$f":"IF(F87=0,\" \",\"N/C\")","v":" "}]
[null,null,"27A 100-240V AC 50/60Hz 1Ph - On-Board Charger (Li-Ion Batteries)",9022824,"N/C     ",null,{"$f":"IF(F88=0,\" \",\"N/C\")","v":" "}]
[null,null,null,null,null,null,null,{"$f":"IFERROR(IFERROR(VLOOKUP(D89,Surcharge!A:B,2,FALSE)*F89, VLOOKUP(D89 & \"\",Surcharge!A:B,2,FALSE)*F89), \"\")","v":""}]
[null,"Machine Protection & Safety",null,null,null,{"$f":"SUM(F91:F91)","v":0},null,{"$f":"IFERROR(IFERROR(VLOOKUP(D90,Surcharge!A:B,2,FALSE)*F90, VLOOKUP(D90 & \"\",Surcharge!A:B,2,FALSE)*F90), \"\")","v":""}]
[null,null,"Parking Brake",9013846,200,null,{"$f":"F91*E91","v":0},{"$f":"IFERROR(IFERROR(VLOOKUP(D91,Surcharge!A:B,2,FALSE)*F91, VLOOKUP(D91 & \"\",Surcharge!A:B,2,FALSE)*F91), \"\")","v":""},null,null,null,null,null,{"$f":"VLOOKUP(O91,'MPF SAP Download'!A:E,5,FALSE)","v":186},"M-T300VK_PRGBRK"]
[null,null,null,null,null,null,null,{"$f":"IFERROR(IFERROR(VLOOKUP(D92,Surcharge!A:B,2,FALSE)*F92, VLOOKUP(D92 & \"\",Surcharge!A:B,2,FALSE)*F92), \"\")","v":""}]
[null,"Brushes and Pads  (Note 8)",null,"Reference Number",null,{"$f":"SUM(F94,F104,F114,F121)","v":0},null,{"$f":"IFERROR(IFERROR(VLOOKUP(D93,Surcharge!A:B,2,FALSE)*F93, VLOOKUP(D93 & \"\",Surcharge!A:B,2,FALSE)*F93), \"\")","v":""}]
[null,null,"430mm/17\" Disk (1 Required)",null,null,{"$f":"SUM(F95:F102)","v":0},null,{"$f":"IFERROR(IFERROR(VLOOKUP(D94,Surcharge!A:B,2,FALSE)*F94, VLOOKUP(D94 & \"\",Surcharge!A:B,2,FALSE)*F94), \"\")","v":""}]
[null,null,"Polypropylene Brush",1213035,343,null,{"$f":"F95*E95","v":0},{"$f":"IFERROR(IFERROR(VLOOKUP(D95,Surcharge!A:B,2,FALSE)*F95, VLOOKUP(D95 & \"\",Surcharge!A:B,2,FALSE)*F95), \"\")","v":""},null,null,null,null,null,{"$f":"VLOOKUP(O95,'MPF SAP Download'!A:E,5,FALSE)","v":320},"M-T300VK_CLNTOL_D430PYP"]
[null,null,"Nylon Brush",1213034,343,null,{"$f":"F96*E96","v":0},{"$f":"IFERROR(IFERROR(VLOOKUP(D96,Surcharge!A:B,2,FALSE)*F96, VLOOKUP(D96 & \"\",Surcharge!A:B,2,FALSE)*F96), \"\")","v":""},null,null,null,null,null,{"$f":"VLOOKUP(O96,'MPF SAP Download'!A:E,5,FALSE)","v":320},"M-T300VK_CLNTOL_D430NYL"]
[null,null,null,null,null,null,null,{"$f":"IFERROR(IFERROR(VLOOKUP(D97,Surcharge!A:B,2,FALSE)*F97, VLOOKUP(D97 & \"\",Surcharge!A:B,2,FALSE)*F97), \"\")","v":""}]
[null,null,"Pad Driver",1211869,343,null,{"$f":"F98*E98","v":0},{"$f":"IFERROR(IFERROR(VLOOKUP(D98,Surcharge!A:B,2,FALSE)*F98, VLOOKUP(D98 & \"\",Surcharge!A:B,2,FALSE)*F98), \"\")","v":""},null,null,null,null,null,{"$f":"VLOOKUP(O98,'MPF SAP Download'!A:E,5,FALSE)","v":320},"M-T300VK_CLNTOL_D430PAD"]
[null,null,"Pads",null,null,{"$f":"SUM(F100:F102)","v":0},null,{"$f":"IFERROR(IFERROR(VLOOKUP(D99,Surcharge!A:B,2,FALSE)*F99, VLOOKUP(D99 & \"\",Surcharge!A:B,2,FALSE)*F99), \"\")","v":""}]
[null,null,"Blue Scrubbing - 3M",1050270,21.4,null,{"$f":"F100*E100","v":0},{"$f":"IFERROR(IFERROR(VLOOKUP(D100,Surcharge!A:B,2,FALSE)*F100, VLOOKUP(D100 & \"\",Surcharge!A:B,2,FALSE)*F100), \"\")","v":""},null,null,null,null,null,{"$f":"VLOOKUP(O100,'MPF SAP Download'!A:E,5,FALSE)","v":20},"M-T300VK_PADTYP_430BLU3"]
[null,null,"Red Cleaning - 3M",1050271,21.4,null,{"$f":"F101*E101","v":0},{"$f":"IFERROR(IFERROR(VLOOKUP(D101,Surcharge!A:B,2,FALSE)*F101, VLOOKUP(D101 & \"\",Surcharge!A:B,2,FALSE)*F101), \"\")","v":""},null,null,null,null,null,{"$f":"VLOOKUP(O101,'MPF SAP Download'!A:E,5,FALSE)","v":20},"M-T300VK_PADTYP_430RED3"]
[null,null,"White Polishing - 3M",1050273,21.4,null,{"$f":"F102*E102","v":0},{"$f":"IFERROR(IFERROR(VLOOKUP(D102,Surcharge!A:B,2,FALSE)*F102, VLOOKUP(D102 & \"\",Surcharge!A:B,2,FALSE)*F102), \"\")","v":""},null,null,null,null,null,{"$f":"VLOOKUP(O102,'MPF SAP Download'!A:E,5,FALSE)","v":20},"M-T300VK_PADTYP_430WHT3"]
[null,null,null,null,null,null,null,{"$f":"IFERROR(IFERROR(VLOOKUP(D103,Surcharge!A:B,2,FALSE)*F103, VLOOKUP(D103 & \"\",Surcharge!A:B,2,FALSE)*F103), \"\")","v":""}]
[null,null,"500mm/20\" Disk (1 Required)",null,null,{"$f":"SUM(F105:F112)","v":0},null,{"$f":"IFERROR(IFERROR(VLOOKUP(D104,Surcharge!A:B,2,FALSE)*F104, VLOOKUP(D104 & \"\",Surcharge!A:B,2,FALSE)*F104), \"\")","v":""}]
[null,null,"Polypropylene Brush",1213032,362,null,{"$f":"F105*E105","v":0},{"$f":"IFERROR(IFERROR(VLOOKUP(D105,Surcharge!A:B,2,FALSE)*F105, VLOOKUP(D105 & \"\",Surcharge!A:B,2,FALSE)*F105), \"\")","v":""},null,null,null,null,null,{"$f":"VLOOKUP(O105,'MPF SAP Download'!A:E,5,FALSE)","v":338},"M-T300VK_CLNTOL_D500PYP"]
[null,null,"Nylon Brush",1210386,362,null,{"$f":"F106*E106","v":0},{"$f":"IFERROR(IFERROR(VLOOKUP(D106,Surcharge!A:B,2,FALSE)*F106, VLOOKUP(D106 & \"\",Surcharge!A:B,2,FALSE)*F106), \"\")","v":""},null,null,null,null,null,{"$f":"VLOOKUP(O106,'MPF SAP Download'!A:E,5,FALSE)","v":338},"M-T300VK_CLNTOL_D500NYL"]
[null,null,null,null,null,null,null,{"$f":"IFERROR(IFERROR(VLOOKUP(D107,Surcharge!A:B,2,FALSE)*F107, VLOOKUP(D107 & \"\",Surcharge!A:B,2,FALSE)*F107), \"\")","v":""}]
[null,null,"Pad Driver",1209197,362,null,{"$f":"F108*E108","v":0},{"$f":"IFERROR(IFERROR(VLOOKUP(D108,Surcharge!A:B,2,FALSE)*F108, VLOOKUP(D108 & \"\",Surcharge!A:B,2,FALSE)*F108), \"\")","v":""},null,null,null,null,null,{"$f":"VLOOKUP(O108,'MPF SAP Download'!A:E,5,FALSE)","v":338},"M-T300VK_CLNTOL_D500PAD"]
[null,null,"Pads ",null,null,{"$f":"SUM(F110:F112)","v":0},null,{"$f":"IFERROR(IFERROR(VLOOKUP(D109,Surcharge!A:B,2,FALSE)*F109, VLOOKUP(D109 & \"\",Surcharge!A:B,2,FALSE)*F109), \"\")","v":""}]
[null,null,"Blue Scrubbing - 3M",17262,27.9,null,{"$f":"F110*E110","v":0},{"$f":"IFERROR(IFERROR(VLOOKUP(D110,Surcharge!A:B,2,FALSE)*F110, VLOOKUP(D110 & \"\",Surcharge!A:B,2,FALSE)*F110), \"\")","v":""},null,null,null,null,null,{"$f":"VLOOKUP(O110,'MPF SAP Download'!A:E,5,FALSE)","v":26},"M-T300VK_PADTYP_500BLU3"]
[null,null,"Red Cleaning - 3M",17261,27.9,null,{"$f":"F111*E111","v":0},{"$f":"IFERROR(IFERROR(VLOOKUP(D111,Surcharge!A:B,2,FALSE)*F111, VLOOKUP(D111 & \"\",Surcharge!A:B,2,FALSE)*F111), \"\")","v":""},null,null,null,null,null,{"$f":"VLOOKUP(O111,'MPF SAP Download'!A:E,5,FALSE)","v":26},"M-T300VK_PADTYP_500RED3"]
[null,null,"White Polishing - 3M",17260,27.9,null,{"$f":"F112*E112","v":0},{"$f":"IFERROR(IFERROR(VLOOKUP(D112,Surcharge!A:B,2,FALSE)*F112, VLOOKUP(D112 & \"\",Surcharge!A:B,2,FALSE)*F112), \"\")","v":""},null,null,null,null,null,{"$f":"VLOOKUP(O112,'MPF SAP Download'!A:E,5,FALSE)","v":26},"M-T300VK_PADTYP_500WHT3"]
[null,null,null,null,null,null,null,{"$f":"IFERROR(IFERROR(VLOOKUP(D113,Surcharge!A:B,2,FALSE)*F113, VLOOKUP(D113 & \"\",Surcharge!A:B,2,FALSE)*F113), \"\")","v":""}]
[null,null,"500mm/20\" Orbital (Standard)",null,null,{"$f":"SUM(F115:F119)","v":0},null,{"$f":"IFERROR(IFERROR(VLOOKUP(D114,Surcharge!A:B,2,FALSE)*F114, VLOOKUP(D114 & \"\",Surcharge!A:B,2,FALSE)*F114), \"\")","v":""}]
[null,null,"Pad Driver",null,"N/C     ",null,{"$f":"IF(F115=0,\" \",\"N/C\")","v":" "},{"$f":"IFERROR(IFERROR(VLOOKUP(D115,Surcharge!A:B,2,FALSE)*F115, VLOOKUP(D115 & \"\",Surcharge!A:B,2,FALSE)*F115), \"\")","v":""}]
[null,null,"Pads ",null,null,{"$f":"SUM(F117:F119)","v":0},null,{"$f":"IFERROR(IFERROR(VLOOKUP(D116,Surcharge!A:B,2,FALSE)*F116, VLOOKUP(D116 & \"\",Surcharge!A:B,2,FALSE)*F116), \"\")","v":""}]
[null,null,"Blue Scrubbing - 3M",1205514,27.9,null,{"$f":"F117*E117","v":0},{"$f":"IFERROR(IFERROR(VLOOKUP(D117,Surcharge!A:B,2,FALSE)*F117, VLOOKUP(D117 & \"\",Surcharge!A:B,2,FALSE)*F117), \"\")","v":""},null,null,null,null,null,{"$f":"VLOOKUP(O117,'MPF SAP Download'!A:E,5,FALSE)","v":26},"M-T300VK_PADTYP_O500BLU3"]
[null,null,"Red Cleaning - 3M",1205513,27.9,null,{"$f":"F118*E118","v":0},{"$f":"IFERROR(IFERROR(VLOOKUP(D118,Surcharge!A:B,2,FALSE)*F118, VLOOKUP(D118 & \"\",Surcharge!A:B,2,FALSE)*F118), \"\")","v":""},null,null,null,null,null,{"$f":"VLOOKUP(O118,'MPF SAP Download'!A:E,5,FALSE)","v":26},"M-T300VK_PADTYP_O500RED3"]
[null,null,"White Polishing - 3M",1205512,27.9,null,{"$f":"F119*E119","v":0},{"$f":"IFERROR(IFERROR(VLOOKUP(D119,Surcharge!A:B,2,FALSE)*F119, VLOOKUP(D119 & \"\",Surcharge!A:B,2,FALSE)*F119), \"\")","v":""},null,null,null,null,null,{"$f":"VLOOKUP(O119,'MPF SAP Download'!A:E,5,FALSE)","v":26},"M-T300VK_PADTYP_O500WHT3"]
[null,null,null,null,null,null,null,{"$f":"IFERROR(IFERROR(VLOOKUP(D120,Surcharge!A:B,2,FALSE)*F120, VLOOKUP(D120 & \"\",Surcharge!A:B,2,FALSE)*F120), \"\")","v":""}]
[null,null,"600mm/24\" Disk (2 Required)",null,null,{"$f":"SUM(F122:F129)","v":0},null,{"$f":"IFERROR(IFERROR(VLOOKUP(D121,Surcharge!A:B,2,FALSE)*F121, VLOOKUP(D121 & \"\",Surcharge!A:B,2,FALSE)*F121), \"\")","v":""}]
[null,null,"Polypropylene Brush",1213040,232,null,{"$f":"F122*E122","v":0},{"$f":"IFERROR(IFERROR(VLOOKUP(D122,Surcharge!A:B,2,FALSE)*F122, VLOOKUP(D122 & \"\",Surcharge!A:B,2,FALSE)*F122), \"\")","v":""},null,null,null,null,null,{"$f":"VLOOKUP(O122,'MPF SAP Download'!A:E,5,FALSE)","v":216},"M-T300VK_CLNTOL_D600PYP"]
[null,null,"Nylon Brush",1210136,232,null,{"$f":"F123*E123","v":0},{"$f":"IFERROR(IFERROR(VLOOKUP(D123,Surcharge!A:B,2,FALSE)*F123, VLOOKUP(D123 & \"\",Surcharge!A:B,2,FALSE)*F123), \"\")","v":""},null,null,null,null,null,{"$f":"VLOOKUP(O123,'MPF SAP Download'!A:E,5,FALSE)","v":216},"M-T300VK_CLNTOL_D600NYL"]
[null,null,null,null,null,null,null,{"$f":"IFERROR(IFERROR(VLOOKUP(D124,Surcharge!A:B,2,FALSE)*F124, VLOOKUP(D124 & \"\",Surcharge!A:B,2,FALSE)*F124), \"\")","v":""}]
[null,null,"Pad Driver",1209160,232,null,{"$f":"F125*E125","v":0},{"$f":"IFERROR(IFERROR(VLOOKUP(D125,Surcharge!A:B,2,FALSE)*F125, VLOOKUP(D125 & \"\",Surcharge!A:B,2,FALSE)*F125), \"\")","v":""},null,null,null,null,null,{"$f":"VLOOKUP(O125,'MPF SAP Download'!A:E,5,FALSE)","v":216},"M-T300VK_CLNTOL_D600PAD"]
[null,null,"Pads ",null,null,{"$f":"SUM(F127:F129)","v":0},null,{"$f":"IFERROR(IFERROR(VLOOKUP(D126,Surcharge!A:B,2,FALSE)*F126, VLOOKUP(D126 & \"\",Surcharge!A:B,2,FALSE)*F126), \"\")","v":""}]
[null,null,"Blue Scrubbing - 3M",385942,16.100000000000001,null,{"$f":"F127*E127","v":0},{"$f":"IFERROR(IFERROR(VLOOKUP(D127,Surcharge!A:B,2,FALSE)*F127, VLOOKUP(D127 & \"\",Surcharge!A:B,2,FALSE)*F127), \"\")","v":""},null,null,null,null,null,{"$f":"VLOOKUP(O127,'MPF SAP Download'!A:E,5,FALSE)","v":15},"M-T300VK_PADTYP_600BLU3"]
[null,null,"Red Cleaning - 3M",385941,16.100000000000001,null,{"$f":"F128*E128","v":0},{"$f":"IFERROR(IFERROR(VLOOKUP(D128,Surcharge!A:B,2,FALSE)*F128, VLOOKUP(D128 & \"\",Surcharge!A:B,2,FALSE)*F128), \"\")","v":""},null,null,null,null,null,{"$f":"VLOOKUP(O128,'MPF SAP Download'!A:E,5,FALSE)","v":15},"M-T300VK_PADTYP_600RED3"]
[null,null,"White Polishing - 3M",385940,16.100000000000001,null,{"$f":"F129*E129","v":0},{"$f":"IFERROR(IFERROR(VLOOKUP(D129,Surcharge!A:B,2,FALSE)*F129, VLOOKUP(D129 & \"\",Surcharge!A:B,2,FALSE)*F129), \"\")","v":""},null,null,null,null,null,{"$f":"VLOOKUP(O129,'MPF SAP Download'!A:E,5,FALSE)","v":15},"M-T300VK_PADTYP_600WHT3"]
[null,null,null,null,null,null,null,{"$f":"IFERROR(IFERROR(VLOOKUP(D130,Surcharge!A:B,2,FALSE)*F130, VLOOKUP(D130 & \"\",Surcharge!A:B,2,FALSE)*F130), \"\")","v":""}]
[null,"Support  (Note 9)",null,"Reference Number",null,{"$f":"SUM(F132:F139)","v":0},null,{"$f":"IFERROR(IFERROR(VLOOKUP(D131,Surcharge!A:B,2,FALSE)*F131, VLOOKUP(D131 & \"\",Surcharge!A:B,2,FALSE)*F131), \"\")","v":""}]
[null,null,"T300 Operator Manual  - English",9014501,"N/C     ",null,{"$f":"IF(F132=0,\" \",\"N/C\")","v":" "},{"$f":"IFERROR(IFERROR(VLOOKUP(D132,Surcharge!A:B,2,FALSE)*F132, VLOOKUP(D132 & \"\",Surcharge!A:B,2,FALSE)*F132), \"\")","v":""}]
[null,null,"T300 Operator Manual  - Spanish",9014502,"N/C     ",null,{"$f":"IF(F133=0,\" \",\"N/C\")","v":" "},{"$f":"IFERROR(IFERROR(VLOOKUP(D133,Surcharge!A:B,2,FALSE)*F133, VLOOKUP(D133 & \"\",Surcharge!A:B,2,FALSE)*F133), \"\")","v":""}]
[null,null,"T300 Operator Manual -  French",9014503,"N/C     ",null,{"$f":"IF(F134=0,\" \",\"N/C\")","v":" "},{"$f":"IFERROR(IFERROR(VLOOKUP(D134,Surcharge!A:B,2,FALSE)*F134, VLOOKUP(D134 & \"\",Surcharge!A:B,2,FALSE)*F134), \"\")","v":""}]
[null,null,"Additional Operator Manual","SEE ABOVE",137,null,{"$f":"F135*E135","v":0},{"$f":"IFERROR(IFERROR(VLOOKUP(D135,Surcharge!A:B,2,FALSE)*F135, VLOOKUP(D135 & \"\",Surcharge!A:B,2,FALSE)*F135), \"\")","v":""},null,null,null,null,null,{"$f":"VLOOKUP(O135,'MPF SAP Download'!A:E,5,FALSE)","v":128},"M-T300VK_ADLOPRMNL"]
[null,null,"T300 Parts Manual (Factory installed)",9014500,56,null,{"$f":"F136*E136","v":0},{"$f":"IFERROR(IFERROR(VLOOKUP(D136,Surcharge!A:B,2,FALSE)*F136, VLOOKUP(D136 & \"\",Surcharge!A:B,2,FALSE)*F136), \"\")","v":""},null,null,null,null,null,{"$f":"VLOOKUP(O136,'MPF SAP Download'!A:E,5,FALSE)","v":52},"M-T300VK_PARMNL"]
[null,null,"Service Manual",9014510,137,null,{"$f":"F137*E137","v":0},{"$f":"IFERROR(IFERROR(VLOOKUP(D137,Surcharge!A:B,2,FALSE)*F137, VLOOKUP(D137 & \"\",Surcharge!A:B,2,FALSE)*F137), \"\")","v":""},null,null,null,null,null,{"$f":"VLOOKUP(O137,'MPF SAP Download'!A:E,5,FALSE)","v":128},"M-T300VK_SRVMNL"]
[null,null,null,null,null,null,null,{"$f":"IFERROR(IFERROR(VLOOKUP(D138,Surcharge!A:B,2,FALSE)*F138, VLOOKUP(D138 & \"\",Surcharge!A:B,2,FALSE)*F138), \"\")","v":""}]
[null,null,"Packaging  (Note 11)",null,null,{"$f":"SUM(F140:F141)","v":0},null,{"$f":"IFERROR(IFERROR(VLOOKUP(D139,Surcharge!A:B,2,FALSE)*F139, VLOOKUP(D139 & \"\",Surcharge!A:B,2,FALSE)*F139), \"\")","v":""}]
[null,null,"Pad Wrap",null,"N/C     ",null,{"$f":"IF(F140=0,\" \",\"N/C\")","v":" "},{"$f":"IFERROR(IFERROR(VLOOKUP(D140,Surcharge!A:B,2,FALSE)*F140, VLOOKUP(D140 & \"\",Surcharge!A:B,2,FALSE)*F140), \"\")","v":""}]
[null,null,"Skid w/Carton, Stackable ",9013859,320,null,{"$f":"F141*E141","v":0},{"$f":"IFERROR(IFERROR(VLOOKUP(D141,Surcharge!A:B,2,FALSE)*F141, VLOOKUP(D141 & \"\",Surcharge!A:B,2,FALSE)*F141), \"\")","v":""},null,null,null,null,null,{"$f":"VLOOKUP(O141,'MPF SAP Download'!A:E,5,FALSE)","v":299},"M-T300VK_PKG_SSKD"]
[null,null,null,null,null,null,null,{"$f":"IFERROR(IFERROR(VLOOKUP(D142,Surcharge!A:B,2,FALSE)*F142, VLOOKUP(D142 & \"\",Surcharge!A:B,2,FALSE)*F142), \"\")","v":""}]
[null,null,null,null,null,{"$f":"SUM(#REF!)","v":{"$error":"#REF!"}}]
[]
[]
[null,"Custom Solution--write in description, qty, price, and PN if applicable",null,null,null,{"$f":"SUM(F147)","v":0}]
[null,null,null,null,"Insert Prices Here",{"$f":"SUM(F148:F151)","v":0}]
[null,null,null,"Custom",null,{"$f":"IF(E148 <> \"\", 1, 0)","v":0},{"$f":"F148*E148","v":0}]
[null,null,null,"Custom",null,{"$f":"IF(E149 <> \"\", 1, 0)","v":0},{"$f":"F149*E149","v":0}]
[null,null,null,"Custom",null,{"$f":"IF(E150 <> \"\", 1, 0)","v":0},{"$f":"F150*E150","v":0}]
[null,null,null,"Custom",null,{"$f":"IF(E151 <> \"\", 1, 0)","v":0},{"$f":"F151*E151","v":0}]
[null,null,null,null,{"$f":"ROUND(SUM(G54:G151), 0)","v":0},{"$f":"SUM(E153)","v":0}]
[null,null,null,"Machine Subtotal ",{"$f":"ROUND(SUM(G54:G151), 0)","v":0},{"$f":"F152","v":0}]
[null,"Discounts",null,null,null,{"$f":"SUM(F155)","v":0}]
[null,null,null,null,null,{"$f":"SUM(F156:F159)","v":0}]
[null,null,null,"Discount %",null,{"$f":"IF(E156 <> \"\", 1, 0)","v":0},{"$f":"IF(F156*(E156*0.01)*E152 < 0, F156*(E156*0.01)*E152, -(F156*(E156*0.01)*E152))","v":0}]
[null,null,null,"Discount $",null,{"$f":"IF(E157 <> \"\", 1, 0)","v":0},{"$f":"IF(F157*E157 < 0, F157*E157, -(F157*E157))","v":0}]
[null,null,null,"Discount $",null,{"$f":"IF(E158 <> \"\", 1, 0)","v":0},{"$f":"IF(F158*E158 < 0, F158*E158, -(F158*E158))","v":0}]
[null,null,null,"Discount $",null,{"$f":"IF(E159 <> \"\", 1, 0)","v":0},{"$f":"IF(F159*E159 < 0, F159*E159, -(F159*E159))","v":0}]
[null,null,null,"Discount Total ",{"$f":"SUM(G156:G159)","v":0},{"$f":"SUM(E160)","v":0}]
[null,null,null,null,null,{"$f":"#REF!","v":{"$error":"#REF!"}}]
[null,null,"Prepaid and Add","Freight",null,{"$f":"IF(E162 <> \"\", 1, 0)","v":0},{"$f":"F162*E162","v":0}]
[null,null,"Subject to all applicable taxes","Tax",null,{"$f":"IF(E163 <> \"\", 1, 0)","v":0},{"$f":"F163*E163","v":0}]
[null,null,null,null,null,{"$f":"SUM(F165)","v":0}]
[null,null,null,"MACHINE TOTAL*",null,{"$f":"SUM(G165)","v":0},{"$f":"SUM(G54:G163)","v":0},null,null,null,null,null,null,"This goes to \"My Documents\""]
[null,"Financing",null,null,null,null,{"$f":"G165","v":0}]
[]
[null,null,"Is customer interested in financing?","No"]
[]
[null,null,"If not, why?"]
[]
[]
[null,null,"First Western Equipment Finance - Leasing Calculation Option:","Option 1",null,"Option 2",null,null,null,{"$f":"Financing!A38","v":"Rates 2025 - Rev. 5/6/2025"}]
[null,null,null,"Monthly Payment","Cost Per Day","Monthly Payment","Cost Per Day",null,null,{"$f":"Financing!A39","v":"“Blank Payment Amounts Indicate The Financing Option Or Purchase Options Selected Are Not "}]
[null,null,"Purchase Option:","FWEF:  $1 Buyout Lease",null,"FWEF: Municipal Lease",null,null,null,{"$f":"Financing!A40","v":"Applicable Or The Machine Total Is Below The Minimum Amount For The Selected Vendor”"}]
[null,null,"24 Months",0,0,0,0,null,null,{"$f":"Financing!A41","v":"\"Quoted monthly payments are estimates only and are based on a certain level of credit rating."}]
[null,null,"30 Months",0,0,0,0,null,null,{"$f":"Financing!A42","v":"Actual monthly payments may be higher depending on your credit rating.\""}]
[null,null,"36 Months",0,0,0,0,null,null,{"$f":"Financing!A43","v":"“Financing rates do not include Pre-Paid Service”"}]
[null,null,"48 Months",0,0,0,0]
[]
[null,null,null,"Benefits of Equipment Financing:"]
[null,null,null,"• Spreads out investment over time.",null,"• Keep current with latest technology."]
[null,null,null,"• Preserve capital.",null,"• Service and parts bundling available."]
[null,null,null,"• Low monthly payment.",null,"• Pay for labor savings as you go."]
[]
[]
[null,null,"Bundled Offerings","Flexclean – Fair Market Value",null,"Flexclean - $1 Buyout"]
[null,null,"FlexClean: ","36 Month Term",null,"36 Month Term",null,null,"No","AB Brushes"]
[null,null,"Hours included per Month:","Gold","Silver","Gold","Silver","Check"]
[null,null,"< 30/mo. (Avg. 1hr./day)",null,null,null,null,null,{"$f":"FlexCleanCalc!$A21","v":"“FlexClean monthly rates include payment for both machine and service.”"}]
[null,null,"< 60/mo. (Avg. 2hrs./day)"]
[null,null,"< 90/mo. (Avg. 3hrs./day)"]
[null,null,"*This value assumes one service contract regardless of the number of UNITS included in the quote"]
[]
[]
[null,null,"Bundled Offerings","Flexclean – Fair Market Value",null,"Flexclean - $1 Buyout"]
[null,null,"FlexClean 2: ","48 Month Term",null,"48 Month Term"]
[null,null,"Hours included per Month:","Gold","Silver","Gold","Silver"]
[null,null,"< 30/mo. (Avg. 1hr./day)"]
[null,null,"< 60/mo. (Avg. 2hrs./day)"]
[null,null,"< 90/mo. (Avg. 3hrs./day)"]
[null,null,"*This value assumes one service contract regardless of the number of UNITS included in the quote"]
[]
[null,null,"Bundled Offerings","Flexclean – Fair Market Value",null,"Flexclean - $1 Buyout"]
[null,null,"FlexClean 3: ","60 Month Term",null,"60 Month Term"]
[null,null,"Hours included per Month:","Gold","Silver","Gold","Silver"]
[null,null,"< 30/mo. (Avg. 1hr./day)"]
[null,null,"< 60/mo. (Avg. 2hrs./day)"]
[null,null,"< 90/mo. (Avg. 3hrs./day)"]
[null,null,"*This value assumes one service contract regardless of the number of UNITS included in the quote"]
[]
[null,"  TennantTrue"]
[]
[null,null,"Is customer interested in service program?","Yes","*State/County selection required for TennantTrue service options"]
[]
[null,null,"If not, why?"]
[]
[null,null,"Term:",36,null,"AB Brushes","No"]
[null,null,"Monthly machine usage (hrs):","< 30/mo. (Avg. 1hr./day)"]
[]
[null,null,"TennantTrue: ","Gold Contract",null,"Silver Contract"]
[null,null,"Per Visit",null,null,425]
[null,null,"Monthly",120,null,69]
[null,null,"Annually",null,null,816]
[null,null,"Pre-Pay Full Term",4162,null,2397]
[null,null,"Hourly Labor Rate"]
[null,null,"Site Visit"]
[]
[null,null,"* Verify customer current pricing prior to quote. "]
[null,null,"**All rates and fees above reflect service for one (1) unit with the exception of Block of Time service."]
[null,null,"*Block of Time is available in 1 Year Term only and is priced as such no matter the term selection on this template."]
[]
[]
[null,"Servicing"]
[]
[null,null,"Is customer interested in a service plan?","No"]
[]
[null,null,"If not, why?"]
[]
[]
[null,"Quote Special Instructions:"]
[]
[]
[null,null,{"$f":"Start_Here!E36","v":"Terms and Conditions"}]
[null,null,{"$f":"Start_Here!E37","v":"Ask your local sales rep for estimated lead times. Verify when placing order"}]
[null,null,{"$f":"Start_Here!E38","v":"All orders subject to acceptance by Tennant Sales and Service Company, Minneapolis, Minnesota"}]
[null,null,{"$f":"Start_Here!E39","v":"Prices subject to change without notice."}]
[null,null,{"$f":"Start_Here!E40","v":"Terms:  Net 30 days.  Subject to any applicable taxes."}]
[null,null,{"$f":"Start_Here!E41","v":"Freight: Machines and accessory orders delivered FOB shipping point Frt PPD & Add"}]
[null,null,{"$f":"Start_Here!E42","v":"Parts, supplies, detergents and floor treating material orders delivered FOB "}]
[null,null,{"$f":"Start_Here!E43","v":"shipping point Frt PPD"}]
[null,null,{"$f":"Start_Here!E44","v":"All orders are subject to Tennant’s General Terms and Conditions available at http://www.tennantco.com/terms."}]
[null,null,{"$f":"Start_Here!E45","v":"Printed General Terms and Conditions are also available upon request."}]
[null,null,{"$f":"Start_Here!E46","v":0}]
[]
[null,null,null,null,"Quote Date :",null,{"$f":"Letter!$A$25","v":"2020-09-17"}]
["Order Placement Information:  To place your order, fill in PO# and customer signatures,"]
["call or fax to the numbers listed below. Customer Purchase Order is required."]
["If information is missing, orders will be entered and held until all information is received."]
[null,null,"Customer Number",null,"Cust Grp 3"]
[null,null,{"$f":"Start_Here!$C$25","v":0},null,{"$f":"Start_Here!$C$29","v":0}]
[null,null,{"$f":"Start_Here!$B$18","v":"Who Owns the Machine? (Sold-To Info) (Please Verify)"}]
["Company",null,{"$f":"Start_Here!$C$19","v":"Company Name"}]
["Address",null,{"$f":"Start_Here!$C$20","v":"Address"}]
[null,null,{"$f":"Start_Here!$C$21","v":"City, State Zip"}]
["Name",null,{"$f":"Start_Here!$C$22","v":"Contact Name"}]
["Phone",null,{"$f":"Start_Here!$C$23","v":"Contact Phone"}]
[null,null,{"$f":"Start_Here!$B$11","v":"Where is the Machine Being Shipped? (Ship-To Info) (Please Verify)"}]
["Company",null,{"$f":"Start_Here!$C$12","v":"Company Name"}]
["Address",null,{"$f":"Start_Here!$C$13","v":"Address"}]
[null,null,{"$f":"Start_Here!$C$14","v":"City, State Zip"}]
["Name",null,{"$f":"Start_Here!$C$15","v":"Contact Name"}]
["Phone",null,{"$f":"Start_Here!$C$16","v":"Contact Phone"}]
[null,null,{"$f":"Start_Here!$B$31","v":"Shipping / Carrier Instructions:"},null,"Order Special Instructions:"]
[null,null,{"$f":"Start_Here!$C$32","v":0}]
[]
[null,null,"Customer Purchase Order No."]
[null,null,"(please attach copy)"]
[]
[]
[null,null,"Tax Exempt",null,"Yes"]
[null,null,null,null,"No"]
[null,null,"If Yes, attach a copy of your exemption certificate."]
[]
[null,null,"Requested Delivery Date"]
[null,null,{"$f":"Start_Here!$C$28","v":0}]
[]
[null,null,{"$f":"Start_Here!$C$26","v":0},null,{"$f":"Start_Here!$C$27","v":0}]
[null,0,"Authorized Buyer (please print)",null,"Phone Number"]
[]
[]
[null,0,"Authorized Buyer Signature"]
[]
[null,null,{"$f":"Start_Here!$C$41","v":"Rep Name"}]
[null,null,"Tennant Representative"]
[]
["Specialized Maintenance Equipment"]
[{"$f":"Start_Here!$C$48","v":"TENNANT · 10400 Clean Street · Eden Prairie, MN 55344 ·"}]
[{"$f":"Start_Here!$C$49","v":" PHONE:800-553-8033 · FAX:763-513-2116"}]
[]
[]
[null,null,"Special Information "]
[null,"Notes"]
[null,2,"Machines with Membrane control panel have mechanical dual down pressure"]
[null,null,"Machines with Pro-Membrane and Pro-Panel control panels have actuated push button triple down pressure"]
[null,null,"Pro-Panel control panel is not available on pad / brush assist machines"]
[]
[null,3,"Severe Environment™ Switch Lockout is only available with ec-H2O NanoClean AND the Severe Environment Switch."]
[]
[null,4,"Pad Assist Drive Type is only available on the 430 mm/17\" and 500 mm/20\" units."]
[null,null,"Self Propel Drive Type is available on all machine types."]
[null,null,"The Self Propel price is included in the Cleaning Type section for Dual Disk and Orbital machines"]
[null,null,"Pad Assist Drive Type is not available with the Pro-Panel control panel."]
[]
[null,5,"Customer MUST order Skid w/Carton, Stackable WITHOUT BATTERY is selected.  "]
[null,null,"Continental USA orders ONLY."]
[null,null,"In order to obtain the IRIS Battery Metrics, one of the listed Tennant supplied batteries is required."]
[]
[null,null,"To maximize run time, it is recommend that the Wet 150AH Batteries are ordered."]
[null,null,"Sealed/MF AGM 140AH Battery available on all units."]
[]
[null,"5a","Li-Ion batteries require a compatible Li-Ion Charger."]
[null,null,"Li-Ion batteries are not compatible with Pro Panel or Machine Communication (IRIS)."]
[]
[null,6,"Manual Battery Watering System is only available Wet 150AH lead acid batteries.  "]
[]
[null,7,"13A 85-265V AC 50/60Hz 1Ph - On Board Charger is required to receive IRIS Battery Manager."]
[]
[null,8,"One Pad Driver or Brush can be selected with 430 mm/17\" and 500 mm/20\" Models"]
[null,null,"A Set of two Pad Drivers or Brushes can be selected for 24\" Models"]
[null,null,"Pad Driver is included in the base machine price of Orbital Models."]
[]
[null,9,"Additional hard copy Operator and Parts Manuals can be ordered or digital copies can be downloaded from www.Tennantco.com."]
[]
[null,"IRIS","Pre-Paid and Monthly Packages are available for the IRIS Information Service."]
[null,null,"IRIS Module is required and NOT included in the price of the IRIS Information Service:"]
[null,null,"   3 Year Pre-Paid IRIS Information Service …………………………………..",250]
[null,null,"   5 Year Pre-Paid IRIS Information Service ………………………………………………..",400]
[null,null,"A monthly contract can be set up at $10 per month w/ 12 month minimum commitment."]
[null,null,"IRIS Telemetry Module only covers the price of the hardware. "]
[null,null,"IRIS Telemetry requires an IRIS Telemetry Module and an IRIS Information Service Package."]
[null,null,"13A 85-265V AC 50/60Hz 1Ph - On Board Charger and a compatible Tennant supplied battery is required to receive IRIS Battery Manager."]
[null,null,"Availability of IRIS Battery Metrics is not guaranteed with third party supplied batteries."]
[null,null,"IRIS Telemetry is not available with units configured with Li-Ion Batteries."]
[]
[null,10,"Pad wrap available only in the Continental US and is the default packaging method."]
[null,null,"Customer MUST order Skid w/Carton, Stackable if WITHOUT BATTERY is selected."]
[null,null,"Skid w/Carton, Stackable is mandatory when shipping to AK and HI.  Packaging is added at No Charge when shipping"]
[null,null,"to these locations."]
[]
[null,12,"Shipping Weights and Dimensions","Pad Wrap","Skid w/Carton"]
[]
[null,null,"430 mm/17\" Single Model"]
[null,null,"Weight (w/105AH Battery Pad Drive)","319 lbs / 145 Kg","500 lbs / 227 Kg"]
[null,null,"Weight (w/130AH Battery Self Propel Drive)","320 lbs / 145 Kg"]
[null,null,"Length","48\" / 1219 mm","59\" / 1500 mm"]
[null,null,"Width","30\" / 762 mm","31\" / 787 mm"]
[null,null,"Height","43\" / 1092 mm","44\" / 1118 mm"]
[]
[null,null,"500 mm /20\" Single Disk Model"]
[null,null,"Weight (w/130AH Battery Pad Drive)","343 lbs / 156 Kg","500 lbs / 227 Kg"]
[null,null,"Weight (w/150AH Battery Self Propel)","391 lbs / 177 Kg"]
[null,null,"Length","51\" / 1296 mm","59\" / 1500 mm"]
[null,null,"Width","30\" / 762 mm","31\" / 787 mm"]
[null,null,"Height","43\" / 1092 mm","44\" / 1118 mm"]
[]
[null,null,"600 mm/24\" Dual Disk Model"]
[null,null,"Weight (w/150AH Battery)","391 lbs / 177 Kg","538 lbs / 244 Kg"]
[null,null,"Length","49\" / 1245 mm","59\" / 1500 mm"]
[null,null,"Width","30\" / 762 mm","31\" / 787 mm"]
[null,null,"Height","43\" / 1092 mm","44\" / 1118 mm"]
[]
[null,null,"500 mm /20\" Orbital Model"]
[null,null,"Weight (w/150AH Battery)","403 lbs / 183 Kg","526 lbs / 239 Kg"]
[null,null,"Length","48\" / 1219 mm","59\" / 1500 mm"]
[null,null,"Width","30\" / 762 mm","32\" / 800 mm"]
[null,null,"Height","43\" / 1092 mm","44\" / 1118 mm"]

{"sheet":"T300e","index":30,"n_rows":390,"n_cols":16,"rows_kept":390,"cut":false,"hidden":false,"merged":[[366,4,367,4],[373,4,374,4],[290,4,290,7],[37,2,37,6],[38,2,38,6],[236,3,236,4],[236,5,236,6],[237,3,237,4],[237,5,237,6],[238,3,238,4],[238,5,238,6],[294,2,294,5],[303,4,303,5],[229,4,229,8],[231,3,231,6],[211,3,211,4],[17,1,17,2],[36,2,36,6],[234,3,234,4],[202,3,202,4],[203,5,203,6],[39,2,39,5],[220,3,220,4],[40,2,40,5],[41,2,41,6],[188,3,188,4],[185,3,185,6],[188,5,188,6],[190,3,190,4],[190,5,190,6],[220,5,220,6],[233,3,233,4],[0,2,0,3],[1,2,1,3],[2,2,2,3],[3,2,3,3],[11,2,11,6],[211,5,211,6],[212,3,212,4],[212,5,212,6],[219,3,219,4],[202,5,202,6],[203,3,203,4],[219,5,219,6],[278,2,278,5],[279,2,279,5],[253,3,254,6],[257,1,257,6],[288,2,288,5],[282,2,282,5],[284,2,284,5],[285,2,285,5],[281,2,281,5],[287,2,287,5],[280,2,280,5],[286,2,286,5],[276,4,276,7],[242,3,242,4],[242,5,242,6],[239,3,239,4],[239,5,239,6],[240,3,240,4],[240,5,240,6],[241,3,241,4],[241,5,241,6]]}
["T300e",null,{"$f":"Start_Here!$C19","v":"Company Name"}]
[{"$f":"SUM(G181)","v":0},null,{"$f":"Start_Here!$C20","v":"Address"}]
[null,null,{"$f":"Start_Here!$C21","v":"City, State Zip"}]
[null,null,{"$f":"Start_Here!$C22","v":"Contact Name"}]
[null,null,{"$f":"Start_Here!$C$41","v":"Rep Name"}]
[null,null,{"$f":"Start_Here!$C$37","v":"Tennant Sales and Service Company"}]
[null,null,{"$f":"Start_Here!$C$38","v":"10400 Clean Street"}]
[null,null,{"$f":"Start_Here!$C$39","v":"Eden Prairie, MN 55344"}]
[null,null,{"$f":"Start_Here!$C$43","v":"800-553-8033"},null,"Quote Date :",null,{"$f":"Letter!$A$25","v":"2020-09-17"}]
[]
[null,null,{"$f":"Help!C2","v":"US Date Rev - 5/6/2025"}]
[null,null,"BUILT-IN “TENNANT VALUE” INCLUDES:"]
[]
[null,"42L/11 gal Solution Tank  & 53 L/14 gal Recovery Tank",null,"Wet 130AH and Wet 150AH Battery options available."]
[null,"Rugged DuramerTM Rotomold Tank Construction",null,"Emergency Stop  (standard on all drive units)"]
[null,"HygienicTM Recovery Tank",null,"Free Floating Head Skirt (disk machines)"]
[null,"Single Setting Down Pressure (Standard)"]
[null,"Multiple Setting Down Pressure (Optional)",null,"Front Water Fill Port w/ Hose Hook"]
[null,"Adjustable Solution Flow",null,"Integrated Heat Sync for Electronics Protection"]
[null,"Standard Low Noise Level  (≤65 dBa)",null,"Sealed Electrical Connectors"]
[null,"0.50kW/1 HP brush motor, 150 RPM (disk)",null,"Drain hose with pinch cuff to control water flow"]
[null,"0.45 kW/0.6 HP brush motor, 2200 RPM (orbital)",null,"On-board Charger with 3m/15 ft power cord"]
[null,"Composite Scrub Deck (Single Disk)",null,"Closed Machine Venting for Battery Charging"]
[null,"Cast Aluminum Scrub Deck (Dual Diskl)",null,"Recovery Tank Debris Tray with deflector "]
[null,"11 Gauge Steel Scrub Deck (Orbital Only)",null,"Unsurpassed Ergonomic Design"]
[null,"Three Lug Pad Driver System (Standard Disk Machine)",null,"Gray Non-Marking Tires"]
[null,"Pad Driver Attachment (Option Disk machines)",null,"10cm /4\" Edge & Reach Under Cleaning"]
[null,"Cast Aluminum Squeegee Frame",null,"Anti-Static Straps"]
[null,"Breakaway Squeegee Design w/ Integrated P-Trap",null,"Key Switch for Safety"]
[null,"Factory Set Squeegee Assembly for Maximum Recovery",null,"Hour Meter"]
[null,"Linatex Squeegee Blades with Tool-less Replacement",null,"Operators manual"]
[null,"Yellow Maintenance Touch Points",null,"Jacking Points/Shipping Tie Downs"]
[null,"Integrated Accessory Rails w/ Squeegee & Bag Hang ",null,"Available with Optional ec-H2O NanoClean™ Technology"]
[]
[]
[]
[null,null,"TENNANT COMPANY WARRANTY"]
[null,null,"3 YEARS OR 2000 HOURS - PARTS"]
[null,null,"1 YEAR - BATTERY CHARGERS"]
[null,null,"                        2 YEARS - LABOR"]
[null,null,"                           6 MONTHS - TRAVEL"]
[null,null,"10 YEARS ON DURAMERTM ROTOMOLD TANKS"]
[]
[null,null,null,null,"                Quote Request Information"]
[null,null,null,null,null,null,"Fax (quote only)"]
[null,null,null,null,null,null,"Mail (quote,lit, specs)"]
[null,null,null,null,null,null,"Fax + Mail"]
[]
[null,null,null,null,"                Primary Use"]
[null,null,null,null,null,null,"Inside"]
[null,null,null,null,null,null,"Outside"]
[null,null,"Description","Reference # ","US Price","Qty.","Extended Price"]
[null,"Base Configuration",null,null,null,{"$f":"SUM(F54,F60,F64,F67,F71,F80,F85)","v":0},null,{"$f":"IFERROR(IFERROR(VLOOKUP(D53,Surcharge!A:B,2,FALSE)*F53, VLOOKUP(D53 & \"\",Surcharge!A:B,2,FALSE)*F53), \"\")","v":""}]
[null,null,"Cleaning Type",null,null,{"$f":"SUM(F55:F58)","v":0},null,{"$f":"IFERROR(IFERROR(VLOOKUP(D54,Surcharge!A:B,2,FALSE)*F54, VLOOKUP(D54 & \"\",Surcharge!A:B,2,FALSE)*F54), \"\")","v":""}]
[null,null,"T300e Walk-Behind Scrubber  430 mm/17\" - Disk","T300e-430-D",6074,null,{"$f":"F55*E55","v":0},{"$f":"IFERROR(IFERROR(VLOOKUP(D55,Surcharge!A:B,2,FALSE)*F55, VLOOKUP(D55 & \"\",Surcharge!A:B,2,FALSE)*F55), \"\")","v":0},null,null,null,null,null,null,{"$f":"VLOOKUP(P55,'MPF SAP Download'!A:E,5,FALSE)","v":5676},"M-T300eVK_BASE_T300E-430-D"]
[null,null,"T300e Walk-Behind Scrubber  500 mm/20\" - Disk","T300e-500-D",6916,null,{"$f":"F56*E56","v":0},{"$f":"IFERROR(IFERROR(VLOOKUP(D56,Surcharge!A:B,2,FALSE)*F56, VLOOKUP(D56 & \"\",Surcharge!A:B,2,FALSE)*F56), \"\")","v":0},null,null,null,null,null,null,{"$f":"VLOOKUP(P56,'MPF SAP Download'!A:E,5,FALSE)","v":6463},"M-T300eVK_BASE_T300E-500-D"]
[null,null,"T300e Walk-Behind Scrubber  600 mm/24\" - Dual Disk, Self Propel","T300e-600-D",9057,null,{"$f":"F57*E57","v":0},{"$f":"IFERROR(IFERROR(VLOOKUP(D57,Surcharge!A:B,2,FALSE)*F57, VLOOKUP(D57 & \"\",Surcharge!A:B,2,FALSE)*F57), \"\")","v":0},null,null,null,null,null,null,{"$f":"VLOOKUP(P57,'MPF SAP Download'!A:E,5,FALSE)","v":6968},"M-T300eVK_BASE_T300E-600-D"]
[null,null,"T300e Walk-Behind Scrubber  500 mm/20\" - Orbital, Self Propel","T300e-500-O",9419,null,{"$f":"F58*E58","v":0},{"$f":"IFERROR(IFERROR(VLOOKUP(D58,Surcharge!A:B,2,FALSE)*F58, VLOOKUP(D58 & \"\",Surcharge!A:B,2,FALSE)*F58), \"\")","v":0},null,null,null,null,null,null,{"$f":"VLOOKUP(P58,'MPF SAP Download'!A:E,5,FALSE)","v":7306},"M-T300eVK_BASE_T300E-500-O"]
[null,null,null,null,null,null,null,{"$f":"IFERROR(IFERROR(VLOOKUP(D59,Surcharge!A:B,2,FALSE)*F59, VLOOKUP(D59 & \"\",Surcharge!A:B,2,FALSE)*F59), \"\")","v":""}]
[null,null,"Cleaning Tool Attachment",null,null,{"$f":"SUM(F61:F62)","v":0},null,{"$f":"IFERROR(IFERROR(VLOOKUP(D60,Surcharge!A:B,2,FALSE)*F60, VLOOKUP(D60 & \"\",Surcharge!A:B,2,FALSE)*F60), \"\")","v":""}]
[null,null,"Conventional - 3 Lug","CNV-T300e","N/C     ",null,{"$f":"IF(F61=0,\" \",\"N/C\")","v":" "},{"$f":"IFERROR(IFERROR(VLOOKUP(D61,Surcharge!A:B,2,FALSE)*F61, VLOOKUP(D61 & \"\",Surcharge!A:B,2,FALSE)*F61), \"\")","v":""}]
[null,null,"Insta-Click™","IC-T300e",432,null,{"$f":"F62*E62","v":0},{"$f":"IFERROR(IFERROR(VLOOKUP(D62,Surcharge!A:B,2,FALSE)*F62, VLOOKUP(D62 & \"\",Surcharge!A:B,2,FALSE)*F62), \"\")","v":""},null,null,null,null,null,null,{"$f":"VLOOKUP(P62,'MPF SAP Download'!A:E,5,FALSE)","v":403},"M-T300eVK_ATT_IC_T300E"]
[null,null,null,null,null,null,null,{"$f":"IFERROR(IFERROR(VLOOKUP(D63,Surcharge!A:B,2,FALSE)*F63, VLOOKUP(D63 & \"\",Surcharge!A:B,2,FALSE)*F63), \"\")","v":""}]
[null,null,"Cleaning Technology: (conventional is standard,  ec-H2O NanoClean can also operate in conventional mode)",null,null,{"$f":"SUM(F65)","v":0},null,{"$f":"IFERROR(IFERROR(VLOOKUP(D64,Surcharge!A:B,2,FALSE)*F64, VLOOKUP(D64 & \"\",Surcharge!A:B,2,FALSE)*F64), \"\")","v":""}]
[null,null,"ec-H2O NanoClean™ Technology ","ec-H2ONC-T300e",2222,null,{"$f":"F65*E65","v":0},{"$f":"IFERROR(IFERROR(VLOOKUP(D65,Surcharge!A:B,2,FALSE)*F65, VLOOKUP(D65 & \"\",Surcharge!A:B,2,FALSE)*F65), \"\")","v":""},null,null,null,null,null,null,{"$f":"VLOOKUP(P65,'MPF SAP Download'!A:E,5,FALSE)","v":2076},"M-T300eVK_CLNTCH_ECH2ON"]
[null,null,null,null,null,null,null,{"$f":"IFERROR(IFERROR(VLOOKUP(D66,Surcharge!A:B,2,FALSE)*F66, VLOOKUP(D66 & \"\",Surcharge!A:B,2,FALSE)*F66), \"\")","v":""}]
[null,null,"Drive Type  (Note 1)",null,null,{"$f":"SUM(F68:F69)","v":0},null,{"$f":"IFERROR(IFERROR(VLOOKUP(D67,Surcharge!A:B,2,FALSE)*F67, VLOOKUP(D67 & \"\",Surcharge!A:B,2,FALSE)*F67), \"\")","v":""}]
[null,null,"Pad / Brush Assist","Pad-T300e","N/C     ",null,{"$f":"IF(F68=0,\" \",\"N/C\")","v":" "},{"$f":"IFERROR(IFERROR(VLOOKUP(D68,Surcharge!A:B,2,FALSE)*F68, VLOOKUP(D68 & \"\",Surcharge!A:B,2,FALSE)*F68), \"\")","v":""}]
[null,null,"Self Propel","Self-T300e",1601,null,{"$f":"F69*E69","v":0},{"$f":"IFERROR(IFERROR(VLOOKUP(D69,Surcharge!A:B,2,FALSE)*F69, VLOOKUP(D69 & \"\",Surcharge!A:B,2,FALSE)*F69), \"\")","v":""},null,null,null,null,null,null,{"$f":"VLOOKUP(P69,'MPF SAP Download'!A:E,5,FALSE)","v":1496},"M-T300eVK_CLNDRT_SP"]
[null,null,null,null,null,null,null,{"$f":"IFERROR(IFERROR(VLOOKUP(D70,Surcharge!A:B,2,FALSE)*F70, VLOOKUP(D70 & \"\",Surcharge!A:B,2,FALSE)*F70), \"\")","v":""}]
[null,null,"Battery Type  (Note 2)",null,null,{"$f":"SUM(F72:F78)","v":0},null,{"$f":"IFERROR(IFERROR(VLOOKUP(D71,Surcharge!A:B,2,FALSE)*F71, VLOOKUP(D71 & \"\",Surcharge!A:B,2,FALSE)*F71), \"\")","v":""}]
[null,null,"Wet 130AH C/20  (Kit of 2 batteries)",9013852,725,null,{"$f":"F72*E72","v":0},{"$f":"IFERROR(IFERROR(VLOOKUP(D72,Surcharge!A:B,2,FALSE)*F72, VLOOKUP(D72 & \"\",Surcharge!A:B,2,FALSE)*F72), \"\")","v":""},null,null,null,null,null,null,{"$f":"VLOOKUP(P72,'MPF SAP Download'!A:E,5,FALSE)","v":677},"M-T300eVK_BTY_W130C20"]
[null,null,"Wet 150AH C/20  (Kit of 2 batteries)",9013853,863,null,{"$f":"F73*E73","v":0},{"$f":"IFERROR(IFERROR(VLOOKUP(D73,Surcharge!A:B,2,FALSE)*F73, VLOOKUP(D73 & \"\",Surcharge!A:B,2,FALSE)*F73), \"\")","v":""},null,null,null,null,null,null,{"$f":"VLOOKUP(P73,'MPF SAP Download'!A:E,5,FALSE)","v":806},"M-T300eVK_BTY_W150C20"]
[null,null,"Sealed/MF AGM 140AH C/20  (Kit of 2 batteries)",9013854,2040,null,{"$f":"F74*E74","v":0},{"$f":"IFERROR(IFERROR(VLOOKUP(D74,Surcharge!A:B,2,FALSE)*F74, VLOOKUP(D74 & \"\",Surcharge!A:B,2,FALSE)*F74), \"\")","v":""},null,null,null,null,null,null,{"$f":"VLOOKUP(P74,'MPF SAP Download'!A:E,5,FALSE)","v":1906},"M-T300eVK_BTY_A140C20"]
[null,null,"Li-Ion 24v, 90AH  (Note 2a)",9022766,3029,null,{"$f":"F75*E75","v":0}]
[null,null,"Without",null,"N/C     ",null,{"$f":"IF(F76=0,\" \",\"N/C\")","v":" "},{"$f":"IFERROR(IFERROR(VLOOKUP(D76,Surcharge!A:B,2,FALSE)*F76, VLOOKUP(D76 & \"\",Surcharge!A:B,2,FALSE)*F76), \"\")","v":""},null,null,null,null,null,null,{"$f":"VLOOKUP(P76,'MPF SAP Download'!A:E,5,FALSE)","v":{"$error":"#N/A"}},"M-T300e"]
[null,null,null,null,null,null,null,{"$f":"IFERROR(IFERROR(VLOOKUP(D77,Surcharge!A:B,2,FALSE)*F77, VLOOKUP(D77 & \"\",Surcharge!A:B,2,FALSE)*F77), \"\")","v":""}]
[null,null,"Manual Battery Watering System - Wet 150AH Battery only (Note 3) ",9009619,580,null,{"$f":"F78*E78","v":0},{"$f":"IFERROR(IFERROR(VLOOKUP(D78,Surcharge!A:B,2,FALSE)*F78, VLOOKUP(D78 & \"\",Surcharge!A:B,2,FALSE)*F78), \"\")","v":""},null,null,null,null,null,null,{"$f":"VLOOKUP(P78,'MPF SAP Download'!A:E,5,FALSE)","v":542},"M-T300eVK_BTYWTRSYS"]
[null,null,null,null,null,null,null,{"$f":"IFERROR(IFERROR(VLOOKUP(D79,Surcharge!A:B,2,FALSE)*F79, VLOOKUP(D79 & \"\",Surcharge!A:B,2,FALSE)*F79), \"\")","v":""}]
[null,null,"Charger","Reference Number",null,{"$f":"SUM(F81:F83)","v":0},null,{"$f":"IFERROR(IFERROR(VLOOKUP(D80,Surcharge!A:B,2,FALSE)*F80, VLOOKUP(D80 & \"\",Surcharge!A:B,2,FALSE)*F80), \"\")","v":""}]
[null,null,"13A 85-265V AC 50/60Hz 1Ph - On Board",9013847,"N/C     ",null,{"$f":"IF(F81=0,\" \",\"N/C\")","v":" "},{"$f":"IFERROR(IFERROR(VLOOKUP(D81,Surcharge!A:B,2,FALSE)*F81, VLOOKUP(D81 & \"\",Surcharge!A:B,2,FALSE)*F81), \"\")","v":""},null,null,null,null,null,null,null,"M-T300e"]
[null,null,"27A 100-240V AC 50/60Hz 1Ph - Off-Board Charger (Li-Ion Batteries)",9052023,"N/C     ",null,{"$f":"IF(F82=0,\" \",\"N/C\")","v":" "}]
[null,null,"27A 100-240V AC 50/60Hz 1Ph - On-Board Charger (Li-Ion Batteries)",9022824,"N/C     ",null," "]
[null,null,null,null,null,null,null,{"$f":"IFERROR(IFERROR(VLOOKUP(D84,Surcharge!A:B,2,FALSE)*F84, VLOOKUP(D84 & \"\",Surcharge!A:B,2,FALSE)*F84), \"\")","v":""}]
[null,null,"Down Pressure  (Note 4)","Reference Number",null,{"$f":"SUM(F86:F87)","v":0},null,{"$f":"IFERROR(IFERROR(VLOOKUP(D85,Surcharge!A:B,2,FALSE)*F85, VLOOKUP(D85 & \"\",Surcharge!A:B,2,FALSE)*F85), \"\")","v":""}]
[null,null,"Single",9013833,"N/C     ",null,{"$f":"IF(F86=0,\" \",\"N/C\")","v":" "},{"$f":"IFERROR(IFERROR(VLOOKUP(D86,Surcharge!A:B,2,FALSE)*F86, VLOOKUP(D86 & \"\",Surcharge!A:B,2,FALSE)*F86), \"\")","v":""},null,null,null,null,null,null,null,"M-T300e"]
[null,null,"Multiple (Dual Down Pressure) - Disk and Orbital",9013831,368,null,{"$f":"F87*E87","v":0},{"$f":"IFERROR(IFERROR(VLOOKUP(D87,Surcharge!A:B,2,FALSE)*F87, VLOOKUP(D87 & \"\",Surcharge!A:B,2,FALSE)*F87), \"\")","v":""},null,null,null,null,null,null,{"$f":"VLOOKUP(P87,'MPF SAP Download'!A:E,5,FALSE)","v":343},"M-T300eVK_DWN_PRS_MLT_DO"]
[null,null,null,null,null,null,null,{"$f":"IFERROR(IFERROR(VLOOKUP(D88,Surcharge!A:B,2,FALSE)*F88, VLOOKUP(D88 & \"\",Surcharge!A:B,2,FALSE)*F88), \"\")","v":""}]
[null,"Machine Protection & Safety",null,"Reference Number",null,{"$f":"SUM(F90:F90)","v":0},null,{"$f":"IFERROR(IFERROR(VLOOKUP(D89,Surcharge!A:B,2,FALSE)*F89, VLOOKUP(D89 & \"\",Surcharge!A:B,2,FALSE)*F89), \"\")","v":""}]
[null,null,"Parking Brake",9013846,200,null,{"$f":"F90*E90","v":0},{"$f":"IFERROR(IFERROR(VLOOKUP(D90,Surcharge!A:B,2,FALSE)*F90, VLOOKUP(D90 & \"\",Surcharge!A:B,2,FALSE)*F90), \"\")","v":""},null,null,null,null,null,null,{"$f":"VLOOKUP(P90,'MPF SAP Download'!A:E,5,FALSE)","v":186},"M-T300eVK_PRGBRK"]
[null,null,null,null,null,null,null,{"$f":"IFERROR(IFERROR(VLOOKUP(D91,Surcharge!A:B,2,FALSE)*F91, VLOOKUP(D91 & \"\",Surcharge!A:B,2,FALSE)*F91), \"\")","v":""}]
[null,"Brushes and Pads  (Note 5)",null,"Reference Number",null,{"$f":"SUM(F93:F94,F99,F109:F110,F115,F125,F132:F133,F138,F143)","v":0},null,{"$f":"IFERROR(IFERROR(VLOOKUP(D92,Surcharge!A:B,2,FALSE)*F92, VLOOKUP(D92 & \"\",Surcharge!A:B,2,FALSE)*F92), \"\")","v":""}]
[null,null,"430mm/17\" Disk (1 Required)",null,null,{"$f":"SUM(F94)","v":0},null,{"$f":"IFERROR(IFERROR(VLOOKUP(D93,Surcharge!A:B,2,FALSE)*F93, VLOOKUP(D93 & \"\",Surcharge!A:B,2,FALSE)*F93), \"\")","v":""}]
[null,null,"For Conventional Scrub Head:",null,null,{"$f":"SUM(F95:F97)","v":0},null,{"$f":"IFERROR(IFERROR(VLOOKUP(D94,Surcharge!A:B,2,FALSE)*F94, VLOOKUP(D94 & \"\",Surcharge!A:B,2,FALSE)*F94), \"\")","v":""}]
[null,null,"Polypropylene Brush",1016765,242,null,{"$f":"F95*E95","v":0},{"$f":"IFERROR(IFERROR(VLOOKUP(D95,Surcharge!A:B,2,FALSE)*F95, VLOOKUP(D95 & \"\",Surcharge!A:B,2,FALSE)*F95), \"\")","v":""},null,null,null,null,null,null,{"$f":"VLOOKUP(P95,'MPF SAP Download'!A:E,5,FALSE)","v":226},"M-T300eVK_CLNTOL_D430PYP"]
[null,null,"Nylon Brush",1016764,242,null,{"$f":"F96*E96","v":0},{"$f":"IFERROR(IFERROR(VLOOKUP(D96,Surcharge!A:B,2,FALSE)*F96, VLOOKUP(D96 & \"\",Surcharge!A:B,2,FALSE)*F96), \"\")","v":""},null,null,null,null,null,null,{"$f":"VLOOKUP(P96,'MPF SAP Download'!A:E,5,FALSE)","v":226},"M-T300eVK_CLNTOL_D430NYL"]
[null,null,"Pad Driver",1212965,242,null,{"$f":"F97*E97","v":0},{"$f":"IFERROR(IFERROR(VLOOKUP(D97,Surcharge!A:B,2,FALSE)*F97, VLOOKUP(D97 & \"\",Surcharge!A:B,2,FALSE)*F97), \"\")","v":""},null,null,null,null,null,null,{"$f":"VLOOKUP(P97,'MPF SAP Download'!A:E,5,FALSE)","v":226},"M-T300eVK_CLNTOL_D430PAD"]
[null,null,null,null,null,null,null,{"$f":"IFERROR(IFERROR(VLOOKUP(D98,Surcharge!A:B,2,FALSE)*F98, VLOOKUP(D98 & \"\",Surcharge!A:B,2,FALSE)*F98), \"\")","v":""}]
[null,null,"For Insta-Click™ Scrub Head:",null,null,{"$f":"SUM(F100:F107)","v":0},null,{"$f":"IFERROR(IFERROR(VLOOKUP(D99,Surcharge!A:B,2,FALSE)*F99, VLOOKUP(D99 & \"\",Surcharge!A:B,2,FALSE)*F99), \"\")","v":""}]
[null,null,"Polypropylene Brush",1213035,343,null,{"$f":"F100*E100","v":0},{"$f":"IFERROR(IFERROR(VLOOKUP(D100,Surcharge!A:B,2,FALSE)*F100, VLOOKUP(D100 & \"\",Surcharge!A:B,2,FALSE)*F100), \"\")","v":""},null,null,null,null,null,null,{"$f":"VLOOKUP(P100,'MPF SAP Download'!A:E,5,FALSE)","v":320},"M-T300eVK_CLNTOL_D430PYP_IC"]
[null,null,"Nylon Brush",1213034,343,null,{"$f":"F101*E101","v":0},{"$f":"IFERROR(IFERROR(VLOOKUP(D101,Surcharge!A:B,2,FALSE)*F101, VLOOKUP(D101 & \"\",Surcharge!A:B,2,FALSE)*F101), \"\")","v":""},null,null,null,null,null,null,{"$f":"VLOOKUP(P101,'MPF SAP Download'!A:E,5,FALSE)","v":320},"M-T300eVK_CLNTOL_D430NYL_IC"]
[null,null,"Pad Driver",1211869,null,null,{"$f":"F102*E102","v":0},{"$f":"IFERROR(IFERROR(VLOOKUP(D102,Surcharge!A:B,2,FALSE)*F102, VLOOKUP(D102 & \"\",Surcharge!A:B,2,FALSE)*F102), \"\")","v":""},null,null,null,null,null,null,null,"M-T300eVK_CLNTOL_D430PAD_IC"]
[null,null,null,null,343,null,null,{"$f":"IFERROR(IFERROR(VLOOKUP(D103,Surcharge!A:B,2,FALSE)*F103, VLOOKUP(D103 & \"\",Surcharge!A:B,2,FALSE)*F103), \"\")","v":""}]
[null,null,"Pads",null,null,{"$f":"SUM(F105:F107)","v":0},null,{"$f":"IFERROR(IFERROR(VLOOKUP(D104,Surcharge!A:B,2,FALSE)*F104, VLOOKUP(D104 & \"\",Surcharge!A:B,2,FALSE)*F104), \"\")","v":""}]
[null,null,"Blue Scrubbing - 3M",1050270,21.4,null,{"$f":"F105*E105","v":0},{"$f":"IFERROR(IFERROR(VLOOKUP(D105,Surcharge!A:B,2,FALSE)*F105, VLOOKUP(D105 & \"\",Surcharge!A:B,2,FALSE)*F105), \"\")","v":""},null,null,null,null,null,null,{"$f":"VLOOKUP(P105,'MPF SAP Download'!A:E,5,FALSE)","v":20},"M-T300eVK_PADTYP_430BLU3"]
[null,null,"Red Cleaning - 3M",1050271,21.4,null,{"$f":"F106*E106","v":0},{"$f":"IFERROR(IFERROR(VLOOKUP(D106,Surcharge!A:B,2,FALSE)*F106, VLOOKUP(D106 & \"\",Surcharge!A:B,2,FALSE)*F106), \"\")","v":""},null,null,null,null,null,null,{"$f":"VLOOKUP(P106,'MPF SAP Download'!A:E,5,FALSE)","v":20},"M-T300eVK_PADTYP_430RED3"]
[null,null,"White Polishing - 3M",1050273,21.4,null,{"$f":"F107*E107","v":0},{"$f":"IFERROR(IFERROR(VLOOKUP(D107,Surcharge!A:B,2,FALSE)*F107, VLOOKUP(D107 & \"\",Surcharge!A:B,2,FALSE)*F107), \"\")","v":""},null,null,null,null,null,null,{"$f":"VLOOKUP(P107,'MPF SAP Download'!A:E,5,FALSE)","v":20},"M-T300eVK_PADTYP_430WHT3"]
[null,null,null,null,null,{"$f":"SUM(F109:F115)","v":0},null,{"$f":"IFERROR(IFERROR(VLOOKUP(D108,Surcharge!A:B,2,FALSE)*F108, VLOOKUP(D108 & \"\",Surcharge!A:B,2,FALSE)*F108), \"\")","v":""}]
[null,null,"500mm/20\" Disk (1 Required)",null,null,{"$f":"SUM(F110)","v":0},null,{"$f":"IFERROR(IFERROR(VLOOKUP(D109,Surcharge!A:B,2,FALSE)*F109, VLOOKUP(D109 & \"\",Surcharge!A:B,2,FALSE)*F109), \"\")","v":""}]
[null,null,"For Conventional Scrub Head:",null,null,{"$f":"SUM(F111:F113)","v":0},null,{"$f":"IFERROR(IFERROR(VLOOKUP(D110,Surcharge!A:B,2,FALSE)*F110, VLOOKUP(D110 & \"\",Surcharge!A:B,2,FALSE)*F110), \"\")","v":""}]
[null,null,"Polypropylene Brush",1016811,283,null,{"$f":"F111*E111","v":0},{"$f":"IFERROR(IFERROR(VLOOKUP(D111,Surcharge!A:B,2,FALSE)*F111, VLOOKUP(D111 & \"\",Surcharge!A:B,2,FALSE)*F111), \"\")","v":""},null,null,null,null,null,null,null,"M-T300eVK_CLNTOL_D500PYP"]
[null,null,"Nylon Brush",1016810,283,null,{"$f":"F112*E112","v":0},{"$f":"IFERROR(IFERROR(VLOOKUP(D112,Surcharge!A:B,2,FALSE)*F112, VLOOKUP(D112 & \"\",Surcharge!A:B,2,FALSE)*F112), \"\")","v":""},null,null,null,null,null,null,null,"M-T300eVK_CLNTOL_D500NYL"]
[null,null,"Pad Driver",1212960,283,null,{"$f":"F113*E113","v":0},{"$f":"IFERROR(IFERROR(VLOOKUP(D113,Surcharge!A:B,2,FALSE)*F113, VLOOKUP(D113 & \"\",Surcharge!A:B,2,FALSE)*F113), \"\")","v":""},null,null,null,null,null,null,null,"M-T300eVK_CLNTOL_D500PAD"]
[null,null,null,null,null,null,null,{"$f":"IFERROR(IFERROR(VLOOKUP(D114,Surcharge!A:B,2,FALSE)*F114, VLOOKUP(D114 & \"\",Surcharge!A:B,2,FALSE)*F114), \"\")","v":""}]
[null,null,"For Insta-Click™ Scrub Head:",null,null,{"$f":"SUM(F116:F123)","v":0},null,{"$f":"IFERROR(IFERROR(VLOOKUP(D115,Surcharge!A:B,2,FALSE)*F115, VLOOKUP(D115 & \"\",Surcharge!A:B,2,FALSE)*F115), \"\")","v":""}]
[null,null,"Polypropylene Brush",1213032,362,null,{"$f":"F116*E116","v":0},{"$f":"IFERROR(IFERROR(VLOOKUP(D116,Surcharge!A:B,2,FALSE)*F116, VLOOKUP(D116 & \"\",Surcharge!A:B,2,FALSE)*F116), \"\")","v":""},null,null,null,null,null,null,null,"M-T300eVK_CLNTOL_D500PYP_IC"]
[null,null,"Nylon Brush",1210386,362,null,{"$f":"F117*E117","v":0},{"$f":"IFERROR(IFERROR(VLOOKUP(D117,Surcharge!A:B,2,FALSE)*F117, VLOOKUP(D117 & \"\",Surcharge!A:B,2,FALSE)*F117), \"\")","v":""},null,null,null,null,null,null,null,"M-T300eVK_CLNTOL_D500NYL_IC"]
[null,null,"Pad Driver",1209197,362,null,{"$f":"F118*E118","v":0},{"$f":"IFERROR(IFERROR(VLOOKUP(D118,Surcharge!A:B,2,FALSE)*F118, VLOOKUP(D118 & \"\",Surcharge!A:B,2,FALSE)*F118), \"\")","v":""},null,null,null,null,null,null,null,"M-T300eVK_CLNTOL_D500PAD_IC"]
[null,null,null,null,null,null,null,{"$f":"IFERROR(IFERROR(VLOOKUP(D119,Surcharge!A:B,2,FALSE)*F119, VLOOKUP(D119 & \"\",Surcharge!A:B,2,FALSE)*F119), \"\")","v":""}]
[null,null,"Pads ",null,null,{"$f":"SUM(F121:F123)","v":0},null,{"$f":"IFERROR(IFERROR(VLOOKUP(D120,Surcharge!A:B,2,FALSE)*F120, VLOOKUP(D120 & \"\",Surcharge!A:B,2,FALSE)*F120), \"\")","v":""}]
[null,null,"Blue Scrubbing - 3M",17262,27.9,null,{"$f":"F121*E121","v":0},{"$f":"IFERROR(IFERROR(VLOOKUP(D121,Surcharge!A:B,2,FALSE)*F121, VLOOKUP(D121 & \"\",Surcharge!A:B,2,FALSE)*F121), \"\")","v":""},null,null,null,null,null,null,null,"M-T300eVK_PADTYP_500BLU3"]
[null,null,"Red Cleaning - 3M",17261,27.9,null,{"$f":"F122*E122","v":0},{"$f":"IFERROR(IFERROR(VLOOKUP(D122,Surcharge!A:B,2,FALSE)*F122, VLOOKUP(D122 & \"\",Surcharge!A:B,2,FALSE)*F122), \"\")","v":""},null,null,null,null,null,null,null,"M-T300eVK_PADTYP_500RED3"]
[null,null,"White Polishing - 3M",17260,27.9,null,{"$f":"F123*E123","v":0},{"$f":"IFERROR(IFERROR(VLOOKUP(D123,Surcharge!A:B,2,FALSE)*F123, VLOOKUP(D123 & \"\",Surcharge!A:B,2,FALSE)*F123), \"\")","v":""},null,null,null,null,null,null,null,"M-T300eVK_PADTYP_500WHT3"]
[null,null,null,null,null,null,null,{"$f":"IFERROR(IFERROR(VLOOKUP(D124,Surcharge!A:B,2,FALSE)*F124, VLOOKUP(D124 & \"\",Surcharge!A:B,2,FALSE)*F124), \"\")","v":""}]
[null,null,"500mm/20\" Orbital (Standard)",null,null,{"$f":"SUM(F126:F130)","v":0},null,{"$f":"IFERROR(IFERROR(VLOOKUP(D125,Surcharge!A:B,2,FALSE)*F125, VLOOKUP(D125 & \"\",Surcharge!A:B,2,FALSE)*F125), \"\")","v":""}]
[null,null,"Pad Driver",null,"N/C     ",null,{"$f":"IF(F126=0,\" \",\"N/C\")","v":" "},{"$f":"IFERROR(IFERROR(VLOOKUP(D126,Surcharge!A:B,2,FALSE)*F126, VLOOKUP(D126 & \"\",Surcharge!A:B,2,FALSE)*F126), \"\")","v":""},null,null,null,null,null,null,null,"M-T300e"]
[null,null,"Pads ",null,null,{"$f":"SUM(F128:F159)","v":0},null,{"$f":"IFERROR(IFERROR(VLOOKUP(D127,Surcharge!A:B,2,FALSE)*F127, VLOOKUP(D127 & \"\",Surcharge!A:B,2,FALSE)*F127), \"\")","v":""}]
[null,null,"Blue Scrubbing - 3M",1205514,27.9,null,{"$f":"F128*E128","v":0},{"$f":"IFERROR(IFERROR(VLOOKUP(D128,Surcharge!A:B,2,FALSE)*F128, VLOOKUP(D128 & \"\",Surcharge!A:B,2,FALSE)*F128), \"\")","v":""},null,null,null,null,null,null,null,"M-T300eVK_PADTYP_O500BLU3"]
[null,null,"Red Cleaning - 3M",1205513,27.9,null,{"$f":"F129*E129","v":0},{"$f":"IFERROR(IFERROR(VLOOKUP(D129,Surcharge!A:B,2,FALSE)*F129, VLOOKUP(D129 & \"\",Surcharge!A:B,2,FALSE)*F129), \"\")","v":""},null,null,null,null,null,null,null,"M-T300eVK_PADTYP_O500RED3"]
[null,null,"White Polishing - 3M",1205512,27.9,null,{"$f":"F130*E130","v":0},{"$f":"IFERROR(IFERROR(VLOOKUP(D130,Surcharge!A:B,2,FALSE)*F130, VLOOKUP(D130 & \"\",Surcharge!A:B,2,FALSE)*F130), \"\")","v":""},null,null,null,null,null,null,null,"M-T300eVK_PADTYP_O500WHT3"]
[null,null,null,null," ",null,null,{"$f":"IFERROR(IFERROR(VLOOKUP(D131,Surcharge!A:B,2,FALSE)*F131, VLOOKUP(D131 & \"\",Surcharge!A:B,2,FALSE)*F131), \"\")","v":""}]
[null,null,"600mm/24\" Disk (2 Required)",null," ",{"$f":"SUM(F133)","v":0},null,{"$f":"IFERROR(IFERROR(VLOOKUP(D132,Surcharge!A:B,2,FALSE)*F132, VLOOKUP(D132 & \"\",Surcharge!A:B,2,FALSE)*F132), \"\")","v":""}]
[null,null,"For Conventional Scrub Head:",null," ",{"$f":"SUM(F134:F136)","v":0},null,{"$f":"IFERROR(IFERROR(VLOOKUP(D133,Surcharge!A:B,2,FALSE)*F133, VLOOKUP(D133 & \"\",Surcharge!A:B,2,FALSE)*F133), \"\")","v":""}]
[null,null,"Polypropylene Brush",1056313,232,null,{"$f":"F134*E134","v":0},{"$f":"IFERROR(IFERROR(VLOOKUP(D134,Surcharge!A:B,2,FALSE)*F134, VLOOKUP(D134 & \"\",Surcharge!A:B,2,FALSE)*F134), \"\")","v":""},null,null,null,null,null,null,null,"M-T300eVK_CLNTOL_D600PYP"]
[null,null,"Nylon Brush",1056306,232,null,{"$f":"F135*E135","v":0},{"$f":"IFERROR(IFERROR(VLOOKUP(D135,Surcharge!A:B,2,FALSE)*F135, VLOOKUP(D135 & \"\",Surcharge!A:B,2,FALSE)*F135), \"\")","v":""},null,null,null,null,null,null,null,"M-T300eVK_CLNTOL_D600NYL"]
[null,null,"Pad Driver",1213038,232,null,{"$f":"F136*E136","v":0},{"$f":"IFERROR(IFERROR(VLOOKUP(D136,Surcharge!A:B,2,FALSE)*F136, VLOOKUP(D136 & \"\",Surcharge!A:B,2,FALSE)*F136), \"\")","v":""},null,null,null,null,null,null,null,"M-T300eVK_CLNTOL_D600PAD"]
[null,null,null,null," ",null,null,{"$f":"IFERROR(IFERROR(VLOOKUP(D137,Surcharge!A:B,2,FALSE)*F137, VLOOKUP(D137 & \"\",Surcharge!A:B,2,FALSE)*F137), \"\")","v":""}]
[null,null,"For Insta-Click™ Scrub Head:",null," ",{"$f":"SUM(F139:F146)","v":0},null,{"$f":"IFERROR(IFERROR(VLOOKUP(D138,Surcharge!A:B,2,FALSE)*F138, VLOOKUP(D138 & \"\",Surcharge!A:B,2,FALSE)*F138), \"\")","v":""}]
[null,null,"Polypropylene Brush",1213040,232,null,{"$f":"F139*E139","v":0},{"$f":"IFERROR(IFERROR(VLOOKUP(D139,Surcharge!A:B,2,FALSE)*F139, VLOOKUP(D139 & \"\",Surcharge!A:B,2,FALSE)*F139), \"\")","v":""},null,null,null,null,null,null,null,"M-T300eVK_CLNTOL_D600PYP_IC"]
[null,null,"Nylon Brush",1210136,232,null,{"$f":"F140*E140","v":0},{"$f":"IFERROR(IFERROR(VLOOKUP(D140,Surcharge!A:B,2,FALSE)*F140, VLOOKUP(D140 & \"\",Surcharge!A:B,2,FALSE)*F140), \"\")","v":""},null,null,null,null,null,null,null,"M-T300eVK_CLNTOL_D600NYL_IC"]
[null,null,"Pad Driver",1209160,232,null,{"$f":"F141*E141","v":0},{"$f":"IFERROR(IFERROR(VLOOKUP(D141,Surcharge!A:B,2,FALSE)*F141, VLOOKUP(D141 & \"\",Surcharge!A:B,2,FALSE)*F141), \"\")","v":""},null,null,null,null,null,null,null,"M-T300eVK_CLNTOL_D600PAD_IC"]
[null,null,null,null," ",null,null,{"$f":"IFERROR(IFERROR(VLOOKUP(D142,Surcharge!A:B,2,FALSE)*F142, VLOOKUP(D142 & \"\",Surcharge!A:B,2,FALSE)*F142), \"\")","v":""}]
[null,null,"Pads ",null," ",{"$f":"SUM(F144:F146)","v":0},null,{"$f":"IFERROR(IFERROR(VLOOKUP(D143,Surcharge!A:B,2,FALSE)*F143, VLOOKUP(D143 & \"\",Surcharge!A:B,2,FALSE)*F143), \"\")","v":""}]
[null,null,"Blue Scrubbing - 3M",385942,16.100000000000001,null,{"$f":"F144*E144","v":0},{"$f":"IFERROR(IFERROR(VLOOKUP(D144,Surcharge!A:B,2,FALSE)*F144, VLOOKUP(D144 & \"\",Surcharge!A:B,2,FALSE)*F144), \"\")","v":""},null,null,null,null,null,null,null,"M-T300eVK_PADTYP_600BLU3"]
[null,null,"Red Cleaning - 3M",385941,16.100000000000001,null,{"$f":"F145*E145","v":0},{"$f":"IFERROR(IFERROR(VLOOKUP(D145,Surcharge!A:B,2,FALSE)*F145, VLOOKUP(D145 & \"\",Surcharge!A:B,2,FALSE)*F145), \"\")","v":""},null,null,null,null,null,null,null,"M-T300eVK_PADTYP_600RED3"]
[null,null,"White Polishing - 3M",385940,16.100000000000001,null,{"$f":"F146*E146","v":0},{"$f":"IFERROR(IFERROR(VLOOKUP(D146,Surcharge!A:B,2,FALSE)*F146, VLOOKUP(D146 & \"\",Surcharge!A:B,2,FALSE)*F146), \"\")","v":""},null,null,null,null,null,null,null,"M-T300eVK_PADTYP_600WHT3"]
[]
[null,"Support  (Note 6)",null,"Reference Number",null,{"$f":"SUM(F149:F156)","v":0},null,{"$f":"IFERROR(IFERROR(VLOOKUP(D148,Surcharge!A:B,2,FALSE)*F148, VLOOKUP(D148 & \"\",Surcharge!A:B,2,FALSE)*F148), \"\")","v":""}]
[null,null,"T300e Operator Manual  - English",9014506,"N/C     ",null,{"$f":"IF(F149=0,\" \",\"N/C\")","v":" "},{"$f":"IFERROR(IFERROR(VLOOKUP(D149,Surcharge!A:B,2,FALSE)*F149, VLOOKUP(D149 & \"\",Surcharge!A:B,2,FALSE)*F149), \"\")","v":""},null,null,null,null,null,null,null,"M-T300eVK_OPRMNL"]
[null,null,"T300e Operator Manual  - Spanish",9014507,"N/C     ",null,{"$f":"IF(F150=0,\" \",\"N/C\")","v":" "},{"$f":"IFERROR(IFERROR(VLOOKUP(D150,Surcharge!A:B,2,FALSE)*F150, VLOOKUP(D150 & \"\",Surcharge!A:B,2,FALSE)*F150), \"\")","v":""},null,null,null,null,null,null,null,"M-T300e"]
[null,null,"T300e Operator Manual -  French",9014508,"N/C     ",null,{"$f":"IF(F151=0,\" \",\"N/C\")","v":" "},{"$f":"IFERROR(IFERROR(VLOOKUP(D151,Surcharge!A:B,2,FALSE)*F151, VLOOKUP(D151 & \"\",Surcharge!A:B,2,FALSE)*F151), \"\")","v":""},null,null,null,null,null,null,null,"M-T300e"]
[null,null,"Additional Operator Manual","SEE ABOVE",137,null,{"$f":"F152*E152","v":0},{"$f":"IFERROR(IFERROR(VLOOKUP(D152,Surcharge!A:B,2,FALSE)*F152, VLOOKUP(D152 & \"\",Surcharge!A:B,2,FALSE)*F152), \"\")","v":""},null,null,null,null,null,null,null,"M-T300eVK_ADLOPRMNL"]
[null,null,"T300e Parts Manual (Factory installed)",9014500,56,null,{"$f":"F153*E153","v":0},{"$f":"IFERROR(IFERROR(VLOOKUP(D153,Surcharge!A:B,2,FALSE)*F153, VLOOKUP(D153 & \"\",Surcharge!A:B,2,FALSE)*F153), \"\")","v":""},null,null,null,null,null,null,null,"M-T300eVK_PARMNL"]
[null,null,"Service Manual",9014510,137,null,{"$f":"F154*E154","v":0},{"$f":"IFERROR(IFERROR(VLOOKUP(D154,Surcharge!A:B,2,FALSE)*F154, VLOOKUP(D154 & \"\",Surcharge!A:B,2,FALSE)*F154), \"\")","v":""},null,null,null,null,null,null,null,"M-T300eVK_SRVMNL"]
[null,null,null,null,null,null,null,{"$f":"IFERROR(IFERROR(VLOOKUP(D155,Surcharge!A:B,2,FALSE)*F155, VLOOKUP(D155 & \"\",Surcharge!A:B,2,FALSE)*F155), \"\")","v":""}]
[null,null,"Packaging  (Note 8)",null,null,{"$f":"SUM(F157:F158)","v":0},null,{"$f":"IFERROR(IFERROR(VLOOKUP(D156,Surcharge!A:B,2,FALSE)*F156, VLOOKUP(D156 & \"\",Surcharge!A:B,2,FALSE)*F156), \"\")","v":""}]
[null,null,"Pad Wrap",null,"N/C     ",null,{"$f":"IF(F157=0,\" \",\"N/C\")","v":" "},{"$f":"IFERROR(IFERROR(VLOOKUP(D157,Surcharge!A:B,2,FALSE)*F157, VLOOKUP(D157 & \"\",Surcharge!A:B,2,FALSE)*F157), \"\")","v":""},null,null,null,null,null,null,null,"M-T300eVK_PKG_PAD"]
[null,null,"Skid w/Carton, Stackable ",9013859,320,null,{"$f":"F158*E158","v":0},{"$f":"IFERROR(IFERROR(VLOOKUP(D158,Surcharge!A:B,2,FALSE)*F158, VLOOKUP(D158 & \"\",Surcharge!A:B,2,FALSE)*F158), \"\")","v":""},null,null,null,null,null,null,null,"M-T300eVK_PKG_SSKD"]
[null,null,null,null,null,null,null,{"$f":"IFERROR(IFERROR(VLOOKUP(D159,Surcharge!A:B,2,FALSE)*F159, VLOOKUP(D159 & \"\",Surcharge!A:B,2,FALSE)*F159), \"\")","v":""}]
[null,null,null,null,null,{"$f":"SUM(#REF!)","v":{"$error":"#REF!"}}]
[]
[null,"Custom Solution--write in description, qty, price, and PN if applicable",null,null,null,{"$f":"SUM(F163)","v":0}]
[null,null,null,null,"Insert Prices Here",{"$f":"SUM(F164:F167)","v":0}]
[null,null,null,"Custom",null,{"$f":"IF(E164 <> \"\", 1, 0)","v":0},{"$f":"F164*E164","v":0}]
[null,null,null,"Custom",null,{"$f":"IF(E165 <> \"\", 1, 0)","v":0},{"$f":"F165*E165","v":0}]
[null,null,null,"Custom",null,{"$f":"IF(E166 <> \"\", 1, 0)","v":0},{"$f":"F166*E166","v":0}]
[null,null,null,"Custom",null,{"$f":"IF(E167 <> \"\", 1, 0)","v":0},{"$f":"F167*E167","v":0}]
[null,null,null,null,{"$f":"ROUND(SUM(G53:G167), 0)","v":0},{"$f":"SUM(E169)","v":0}]
[null,null,null,"Machine Subtotal ",{"$f":"ROUND(SUM(G53:G167), 0)","v":0},{"$f":"F168","v":0}]
[null,"Discounts",null,null,null,{"$f":"SUM(F171)","v":0}]
[null,null,null,null,null,{"$f":"SUM(F172:F175)","v":0}]
[null,null,null,"Discount %",null,{"$f":"IF(E172 <> \"\", 1, 0)","v":0},{"$f":"IF(F172*(E172*0.01)*E168 < 0, F172*(E172*0.01)*E168, -(F172*(E172*0.01)*E168))","v":0}]
[null,null,null,"Discount $",null,{"$f":"IF(E173 <> \"\", 1, 0)","v":0},{"$f":"IF(F173*E173 < 0, F173*E173, -(F173*E173))","v":0}]
[null,null,null,"Discount $",null,{"$f":"IF(E174 <> \"\", 1, 0)","v":0},{"$f":"IF(F174*E174 < 0, F174*E174, -(F174*E174))","v":0}]
[null,null,null,"Discount $",null,{"$f":"IF(E175 <> \"\", 1, 0)","v":0},{"$f":"IF(F175*E175 < 0, F175*E175, -(F175*E175))","v":0}]
[null,null,null,"Discount Total ",{"$f":"SUM(G172:G175)","v":0},{"$f":"SUM(E176)","v":0}]
[null,null,null,null,null,{"$f":"#REF!","v":{"$error":"#REF!"}}]
[null,null,"Prepaid and Add","Freight",null,{"$f":"IF(E178 <> \"\", 1, 0)","v":0},{"$f":"F178*E178","v":0}]
[null,null,"Subject to all applicable taxes","Tax",null,{"$f":"IF(E179 <> \"\", 1, 0)","v":0},{"$f":"F179*E179","v":0}]
[null,null,null,null,null,{"$f":"SUM(F181)","v":0}]
[null,null,null,"MACHINE TOTAL*",null,{"$f":"SUM(G181)","v":0},{"$f":"SUM(G53:G179)","v":0},null,null,null,null,null,null,"This goes to \"My Documents\""]
[null,"Financing",null,null,null,null,{"$f":"G181","v":0}]
[]
[null,null,"Is customer interested in financing?","No"]
[]
[null,null,"If not, why?"]
[]
[]
[null,null,"First Western Equipment Finance - Leasing Calculation Option:","Option 1",null,"Option 2",null,null,null,{"$f":"Financing!A38","v":"Rates 2025 - Rev. 5/6/2025"}]
[null,null,null,"Monthly Payment","Cost Per Day","Monthly Payment","Cost Per Day",null,null,{"$f":"Financing!A39","v":"“Blank Payment Amounts Indicate The Financing Option Or Purchase Options Selected Are Not "}]
[null,null,"Purchase Option:","FWEF:  $1 Buyout Lease",null,"FWEF: Municipal Lease",null,null,null,{"$f":"Financing!A40","v":"Applicable Or The Machine Total Is Below The Minimum Amount For The Selected Vendor”"}]
[null,null,"24 Months",0,0,0,0,null,null,{"$f":"Financing!A41","v":"\"Quoted monthly payments are estimates only and are based on a certain level of credit rating."}]
[null,null,"30 Months",0,0,0,0,null,null,{"$f":"Financing!A42","v":"Actual monthly payments may be higher depending on your credit rating.\""}]
[null,null,"36 Months",0,0,0,0,null,null,{"$f":"Financing!A43","v":"“Financing rates do not include Pre-Paid Service”"}]
[null,null,"48 Months",0,0,0,0]
[]
[null,null,null,"Benefits of Equipment Financing:"]
[null,null,null,"• Spreads out investment over time.",null,"• Keep current with latest technology."]
[null,null,null,"• Preserve capital.",null,"• Service and parts bundling available."]
[null,null,null,"• Low monthly payment.",null,"• Pay for labor savings as you go."]
[]
[]
[null,null,"Bundled Offerings","Flexclean – Fair Market Value",null,"Flexclean - $1 Buyout"]
[null,null,"FlexClean: ","36 Month Term",null,"36 Month Term",null,null,"No","AB Brushes"]
[null,null,"Hours included per Month:","Gold","Silver","Gold","Silver","Check"]
[null,null,"< 30/mo. (Avg. 1hr./day)",null,null,null,null,null,{"$f":"FlexCleanCalc!$A21","v":"“FlexClean monthly rates include payment for both machine and service.”"}]
[null,null,"< 60/mo. (Avg. 2hrs./day)"]
[null,null,"< 90/mo. (Avg. 3hrs./day)"]
[null,null,"*This value assumes one service contract regardless of the number of UNITS included in the quote"]
[]
[]
[null,null,"Bundled Offerings","Flexclean – Fair Market Value",null,"Flexclean - $1 Buyout"]
[null,null,"FlexClean 2: ","48 Month Term",null,"48 Month Term"]
[null,null,"Hours included per Month:","Gold","Silver","Gold","Silver"]
[null,null,"< 30/mo. (Avg. 1hr./day)"]
[null,null,"< 60/mo. (Avg. 2hrs./day)"]
[null,null,"< 90/mo. (Avg. 3hrs./day)"]
[null,null,"*This value assumes one service contract regardless of the number of UNITS included in the quote"]
[]
[null,null,"Bundled Offerings","Flexclean – Fair Market Value",null,"Flexclean - $1 Buyout"]
[null,null,"FlexClean 3: ","60 Month Term",null,"60 Month Term"]
[null,null,"Hours included per Month:","Gold","Silver","Gold","Silver"]
[null,null,"< 30/mo. (Avg. 1hr./day)"]
[null,null,"< 60/mo. (Avg. 2hrs./day)"]
[null,null,"< 90/mo. (Avg. 3hrs./day)"]
[null,null,"*This value assumes one service contract regardless of the number of UNITS included in the quote"]
[]
[null,"  TennantTrue"]
[]
[null,null,"Is customer interested in service program?","Yes","*State/County selection required for TennantTrue service options"]
[]
[null,null,"If not, why?"]
[]
[null,null,"Term:",36,null,"AB Brushes","No"]
[null,null,"Monthly machine usage (hrs):","< 30/mo. (Avg. 1hr./day)"]
[]
[null,null,"TennantTrue: ","Gold Contract",null,"Silver Contract"]
[null,null,"Per Visit",null,null,425]
[null,null,"Monthly",120,null,69]
[null,null,"Annually",null,null,816]
[null,null,"Pre-Pay Full Term",4162,null,2397]
[null,null,"Hourly Labor Rate"]
[null,null,"Site Visit"]
[]
[null,null,"* Verify customer current pricing prior to quote. "]
[null,null,"**All rates and fees above reflect service for one (1) unit with the exception of Block of Time service."]
[null,null,"*Block of Time is available in 1 Year Term only and is priced as such no matter the term selection on this template."]
[]
[]
[null,"Servicing"]
[]
[null,null,"Is customer interested in a service plan?","No"]
[]
[null,null,"If not, why?"]
[]
[]
[null,"Quote Special Instructions:"]
[]
[]
[null,null,{"$f":"Start_Here!E36","v":"Terms and Conditions"}]
[null,null,{"$f":"Start_Here!E37","v":"Ask your local sales rep for estimated lead times. Verify when placing order"}]
[null,null,{"$f":"Start_Here!E38","v":"All orders subject to acceptance by Tennant Sales and Service Company, Minneapolis, Minnesota"}]
[null,null,{"$f":"Start_Here!E39","v":"Prices subject to change without notice."}]
[null,null,{"$f":"Start_Here!E40","v":"Terms:  Net 30 days.  Subject to any applicable taxes."}]
[null,null,{"$f":"Start_Here!E41","v":"Freight: Machines and accessory orders delivered FOB shipping point Frt PPD & Add"}]
[null,null,{"$f":"Start_Here!E42","v":"Parts, supplies, detergents and floor treating material orders delivered FOB "}]
[null,null,{"$f":"Start_Here!E43","v":"shipping point Frt PPD"}]
[null,null,{"$f":"Start_Here!E44","v":"All orders are subject to Tennant’s General Terms and Conditions available at http://www.tennantco.com/terms."}]
[null,null,{"$f":"Start_Here!E45","v":"Printed General Terms and Conditions are also available upon request."}]
[null,null,{"$f":"Start_Here!E46","v":0}]
[]
[null,null,null,null,"Quote Date :",null,{"$f":"Letter!$A$25","v":"2020-09-17"}]
["Order Placement Information:  To place your order, fill in PO# and customer signatures,"]
["call or fax to the numbers listed below. Customer Purchase Order is required."]
["If information is missing, orders will be entered and held until all information is received."]
[null,null,"Customer Number",null,"Cust Grp 3"]
[null,null,{"$f":"Start_Here!$C$25","v":0},null,{"$f":"Start_Here!$C$29","v":0}]
[null,null,{"$f":"Start_Here!$B$18","v":"Who Owns the Machine? (Sold-To Info) (Please Verify)"}]
["Company",null,{"$f":"Start_Here!$C$19","v":"Company Name"}]
["Address",null,{"$f":"Start_Here!$C$20","v":"Address"}]
[null,null,{"$f":"Start_Here!$C$21","v":"City, State Zip"}]
["Name",null,{"$f":"Start_Here!$C$22","v":"Contact Name"}]
["Phone",null,{"$f":"Start_Here!$C$23","v":"Contact Phone"}]
[null,null,{"$f":"Start_Here!$B$11","v":"Where is the Machine Being Shipped? (Ship-To Info) (Please Verify)"}]
["Company",null,{"$f":"Start_Here!$C$12","v":"Company Name"}]
["Address",null,{"$f":"Start_Here!$C$13","v":"Address"}]
[null,null,{"$f":"Start_Here!$C$14","v":"City, State Zip"}]
["Name",null,{"$f":"Start_Here!$C$15","v":"Contact Name"}]
["Phone",null,{"$f":"Start_Here!$C$16","v":"Contact Phone"}]
[null,null,{"$f":"Start_Here!$B$31","v":"Shipping / Carrier Instructions:"},null,"Order Special Instructions:"]
[null,null,{"$f":"Start_Here!$C$32","v":0}]
[]
[null,null,"Customer Purchase Order No."]
[null,null,"(please attach copy)"]
[]
[]
[null,null,"Tax Exempt",null,"Yes"]
[null,null,null,null,"No"]
[null,null,"If Yes, attach a copy of your exemption certificate."]
[]
[null,null,"Requested Delivery Date"]
[null,null,{"$f":"Start_Here!$C$28","v":0}]
[]
[null,null,{"$f":"Start_Here!$C$26","v":0},null,{"$f":"Start_Here!$C$27","v":0}]
[null,0,"Authorized Buyer (please print)",null,"Phone Number"]
[]
[]
[null,0,"Authorized Buyer Signature"]
[]
[null,null,{"$f":"Start_Here!$C$41","v":"Rep Name"}]
[null,null,"Tennant Representative"]
[]
["Specialized Maintenance Equipment"]
[{"$f":"Start_Here!$C$48","v":"TENNANT · 10400 Clean Street · Eden Prairie, MN 55344 ·"}]
[{"$f":"Start_Here!$C$49","v":" PHONE:800-553-8033 · FAX:763-513-2116"}]
[]
[]
[null,null,"Special Information "]
[null,"Notes"]
[null,1,"Pad Assist Drive Type is only available on the 430 mm/17\" and 500 mm/20\" units."]
[null,null,"Self Propel Drive Type is available on all machine types."]
[null,null,"The Self Propel price is included in the Cleaning Type section for Dual Disk and Orbital machines"]
[]
[null,2,"Customer MUST order Skid w/Carton, Stackable if WITHOUT BATTERY is selected.  "]
[null,null,"Continental USA orders ONLY."]
[]
[null,null,"To maximize run time, it is recommend that the Wet 150AH Batteries are ordered."]
[null,null,"Sealed/MF AGM 140AH Battery available on all units."]
[]
[null,"2a","Li-Ion batteries require a compatible Li-Ion Charger."]
[null,null,"Li-Ion batteries are not compatible with Machine Communication (IRIS)."]
[]
[null,3,"Manual Battery Watering System is only available Wet 150AH lead acid batteries.  "]
[]
[null,4,"Multiple Down Pressure (Dual Down Pressure)"]
[null,null,"430 mm / 17\" Single Disk - 21, 39 kg / 47, 86 lbs"]
[null,null,"500 mm / 20\" Single Disk - 23, 41 kg / 51, 90 lbs"]
[null,null,"600 mm / 24\" Dual Disk - 26, 44 kg / 57, 97 lbs"]
[null,null,"500 mm / 20\" Orbital - 29, 50 kg / 63, 109 lbs"]
[]
[null,5,"One Pad Driver or Brush can be selected with 430 mm/17\" and 500 mm/20\" Models"]
[null,null,"A Set of two Pad Drivers or Brushes can be selected for 600 mm/24\" Models"]
[null,null,"Pad Driver is included in the base machine price of Orbital Models."]
[null,null,"If Click-Quick Cleaning Tool Attachment is chosen, a Click-Quick pad driver or brush must be selected"]
[null,null,"If 3-Lug Cleaning Tool Attachment is chosen, a 3-lug pad driver or brush must be selected"]
[]
[null,6,"Additional hard copy Operator and Parts Manuals can be ordered or digital copies can be downloaded from www.Tennantco.com."]
[]
[null,7,"Pre-Paid and Monthly Packages are available for the IRIS Information Service."]
[null,null,"IRIS Module is required and NOT included in the price of the IRIS Information Service:"]
[null,null,"   3 Year Pre-Paid IRIS Information Service …………………………………..",250]
[null,null,"   5 Year Pre-Paid IRIS Information Service ………………………………………………..",400]
[null,null,"A monthly contract can be set up at $10 per month w/ 12 month minimum commitment."]
[null,null,"IRIS Telemetry Module only covers the price of the hardware. "]
[null,null,"IRIS Telemetry requires an IRIS Telemetry Module and an IRIS Information Service Package."]
[null,null,"13A 85-265V AC 50/60Hz 1Ph - On Board Charger and a compatible Tennant supplied battery is required to receive IRIS Battery Manager."]
[null,null,"Availability of IRIS Battery Metrics is not guaranteed with third party supplied batteries."]
[null,null,"IRIS Telemetry is not available with units configured with Li-Ion Batteries."]
[]
[null,8,"Pad wrap available only in the Continental US and is the default packaging method."]
[null,null,"Customer MUST order Skid w/Carton, Stackable if WITHOUT BATTERY is selected."]
[null,null,"Skid w/Carton, Stackable is mandatory when shipping to AK and HI.  Packaging is added at No Charge when shipping"]
[null,null,"to these locations."]
[]
[null,9,"Shipping Weights and Dimensions","Pad Wrap","Skid w/Carton"]
[null,null,"430 mm/17\" Single Model"]
[null,null,"Weight (w/105AH Battery Pad Drive)","319 lbs / 145 Kg","500 lbs / 227 Kg"]
[null,null,"Weight (w/130AH Battery Self Propel Drive)","320 lbs / 145 Kg"]
[null,null,"Length","48\" / 1219 mm","59\" / 1500 mm"]
[null,null,"Width","30\" / 762 mm","31\" / 787 mm"]
[null,null,"Height","43\" / 1092 mm","44\" / 1118 mm"]
[]
[null,null,"500 mm /20\" single Disk Model"]
[null,null,"Weight (w/130AH Battery Pad Drive)","343 lbs / 156 Kg","500 lbs / 227 Kg"]
[null,null,"Weight (w/150AH Battery Self Propel)","391 lbs / 177 Kg"]
[null,null,"Length","51\" / 1296 mm","59\" / 1500 mm"]
[null,null,"Width","30\" / 762 mm","31\" / 787 mm"]
[null,null,"Height","43\" / 1092 mm","44\" / 1118 mm"]
[]
[null,null,"600 mm/24\" Dual Disk Model"]
[null,null,"Weight (w/150AH Battery)","391 lbs / 177 Kg","538 lbs / 244 Kg"]
[null,null,"Length","49\" / 1245 mm","59\" / 1500 mm"]
[null,null,"Width","30\" / 762 mm","31\" / 787 mm"]
[null,null,"Height","43\" / 1092 mm","44\" / 1118 mm"]
[]
[null,null,"500 mm/20\" Orbital Model"]
[null,null,"Weight (w/150AH Battery)","403 lbs / 183 Kg","526 lbs / 239 Kg"]
[null,null,"Length","48\" / 1219 mm","59\" / 1500 mm"]
[null,null,"Width","30\" / 762 mm","32\" / 800 mm"]
[null,null,"Height","43\" / 1092 mm","44\" / 1118 mm"]

{"sheet":"T350","index":31,"n_rows":318,"n_cols":18,"rows_kept":318,"cut":false,"hidden":false,"merged":[[41,2,41,6],[39,1,39,5],[37,1,37,5],[38,1,38,5],[0,2,0,3],[1,2,1,3],[2,2,2,3],[3,2,3,3],[11,2,11,6],[15,1,15,2],[164,3,164,4],[164,5,164,6],[152,3,152,4],[152,5,152,6],[147,3,147,6],[150,3,150,4],[150,5,150,6],[165,3,165,4],[165,5,165,6],[173,3,173,4],[173,5,173,6],[174,3,174,4],[174,5,174,6],[193,3,193,6],[195,3,195,4],[196,3,196,4],[198,3,198,4],[198,5,198,6],[181,3,181,4],[181,5,181,6],[182,3,182,4],[182,5,182,6],[191,4,191,8],[242,2,242,5],[240,2,240,5],[241,2,241,5],[215,3,216,6],[219,1,219,6],[238,4,238,7],[250,2,250,5],[252,4,252,7],[256,2,256,5],[265,4,265,5],[243,2,243,5],[244,2,244,5],[246,2,246,5],[247,2,247,5],[248,2,248,5],[249,2,249,5],[199,3,199,4],[199,5,199,6],[200,3,200,4],[200,5,200,6],[201,3,201,4],[201,5,201,6],[202,3,202,4],[202,5,202,6],[203,3,203,4],[203,5,203,6],[204,3,204,4],[204,5,204,6]]}
["T350",null,{"$f":"Start_Here!$C19","v":"Company Name"}]
[{"$f":"SUM(G143)","v":0},null,{"$f":"Start_Here!$C20","v":"Address"}]
[null,null,{"$f":"Start_Here!$C21","v":"City, State Zip"}]
[null,null,{"$f":"Start_Here!$C22","v":"Contact Name"}]
[null,null,{"$f":"Start_Here!$C$41","v":"Rep Name"}]
[null,null,{"$f":"Start_Here!$C$37","v":"Tennant Sales and Service Company"}]
[null,null,{"$f":"Start_Here!$C$38","v":"10400 Clean Street"}]
[null,null,{"$f":"Start_Here!$C$39","v":"Eden Prairie, MN 55344"}]
[null,null,{"$f":"Start_Here!$C$43","v":"800-553-8033"},null,"Quote Date :",null,{"$f":"Letter!$A$25","v":"2020-09-17"}]
[]
[null,null,{"$f":"Help!C2","v":"US Date Rev - 5/6/2025"}]
[null,null,"BUILT-IN “TENNANT VALUE” INCLUDES:"]
[]
[null,"53L/14.1 gal Solution Tank  & 70 L/18.4 gal Recovery Tank",null,"Quick Release Squeegee Attachment/Removal"]
[null,"Rugged Duramer™ Rotomold Tank Construction",null,"Linatex Squeegee Blades With Tool-less Replacement"]
[null,"Insta-Click™ ",null,"Emergency Stop"]
[null,"Hygienic™ Recovery Tank",null,"Free Floating Head Skirt"]
[null,"Multiple Setting Down Pressure",null,"Fill Port w/ Hose Hook"]
[null,"Adjustable Solution Flow",null,"Integrated Heat Sync For Electronics Protection"]
[null,"Variable Speed Control Knob",null,"Sealed Electrical Connectors"]
[null,"Pro-Membrane™ Control Panel With Multiple Zone Settings™",null,"Anti-Static Straps"]
[null,"LCD Pro-Panel™  Full Color Touch Screen (Option)",null,"24 VDC, 0.87 HP / 0.65 kW brush motor"]
[null,"Supervisor QA Controls™ Settings (Lock Out Features)",null,"215 RPM (500 mm/20\") and 275 RPM (600 mm/24\") "]
[null,"On Board Diagnostics",null,"Recovery Tank Debris Tray"]
[null,"Extremely Low Noise Level  (as low as 63.7 dBa)",null,"Unsurpassed Ergonomic Design"]
[null,"Quiet-Mode™ Sound Reduction Optional  ( as low as 59.7 dBa)",null,"Non-Marking Wheels"]
[null,"Wet 210AH, Wet 240AH, and Sealed 220AH AGM Available.",null,"2.5 cm /1\" Edge & Reach Under Cleaning"]
[null,"Quick Release Battery Harness",null,"Key Switch for Safety"]
[null,"Drain hose with pinch cuff to control water flow",null,"Hour Meter"]
[null,"On-board Charger With 3m/15 ft Power Cord",null,"Operators manual"]
[null,"Closed Machine Venting For Battery Charging",null,"Jacking Points/Shipping Tie Downs"]
[null,"Breakaway Squeegee Design",null,"Yellow Maintenance Touch Points"]
[null,"Factory Set Squeegee Assembly For Maximum Recovery",null,"Integrated Accessory Rail"]
[null,"Cast Aluminum Squeegee Frame",null,"Composite Scrub Deck (Single Disk)"]
[null,null,null,"Cast Aluminum Scrub Deck (Dual Disk)"]
[]
[]
[null,"TENNANT COMPANY WARRANTY"]
[null,"3 YEARS OR 2500 HOURS ON ALL COMPONENTS, 3 YEARS LABOR"]
[null,"90 DAYS TRAVEL, 10 YEARS ON DURAMERTM TANKS"]
[]
[]
[]
[null,null,null,null,"                Quote Request Information"]
[null,null,null,null,null,null,"Fax (quote only)"]
[null,null,null,null,null,null,"Mail (quote,lit, specs)"]
[null,null,null,null,null,null,"Fax + Mail"]
[]
[null,null,null,null,"                Primary Use"]
[null,null,null,null,null,null,"Inside"]
[null,null,null,null,null,null,"Outside"]
[null,null,"Description","Reference # ","US List Price","Qty.","Extended Price"]
[null,"Base Configuration",null,null,null,{"$f":"SUM(F54,F58,F62,F68,F77)","v":0},null,{"$f":"IFERROR(IFERROR(VLOOKUP(D53,Surcharge!A:B,2,FALSE)*F53, VLOOKUP(D53 & \"\",Surcharge!A:B,2,FALSE)*F53), \"\")","v":""}]
[null,null,"Cleaning Type",null,null,{"$f":"SUM(F55:F56)","v":0},null,{"$f":"IFERROR(IFERROR(VLOOKUP(D54,Surcharge!A:B,2,FALSE)*F54, VLOOKUP(D54 & \"\",Surcharge!A:B,2,FALSE)*F54), \"\")","v":""}]
[null,null,"T350 Stand-On Scrubber 500mm / 20\" Disk","T350-500-D",15107,null,{"$f":"F55*E55","v":0},{"$f":"IFERROR(IFERROR(VLOOKUP(D55,Surcharge!A:B,2,FALSE)*F55, VLOOKUP(D55 & \"\",Surcharge!A:B,2,FALSE)*F55), \"\")","v":0},null,null,null,null,null,null,{"$f":"VLOOKUP(P55,'MPF SAP Download'!A:E,5,FALSE)","v":14118},"M-T350VK_BASE_T350-500-D",null,"M-T350VK_BASE_T350-500-D"]
[null,null,"T350 Stand-On Scrubber 600mm / 24\" Disk","T350-600-D",16721,null,{"$f":"F56*E56","v":0},{"$f":"IFERROR(IFERROR(VLOOKUP(D56,Surcharge!A:B,2,FALSE)*F56, VLOOKUP(D56 & \"\",Surcharge!A:B,2,FALSE)*F56), \"\")","v":0},null,null,null,null,null,null,{"$f":"VLOOKUP(P56,'MPF SAP Download'!A:E,5,FALSE)","v":15627},"M-T350VK_BASE_T350-600-D",null,"M-T350VK_BASE_T350-600-D"]
[null,null,null,null,null,null,null,{"$f":"IFERROR(IFERROR(VLOOKUP(D57,Surcharge!A:B,2,FALSE)*F57, VLOOKUP(D57 & \"\",Surcharge!A:B,2,FALSE)*F57), \"\")","v":""}]
[null,null,"Trim Level",null,null,{"$f":"SUM(F59:F60)","v":0},null,{"$f":"IFERROR(IFERROR(VLOOKUP(D58,Surcharge!A:B,2,FALSE)*F58, VLOOKUP(D58 & \"\",Surcharge!A:B,2,FALSE)*F58), \"\")","v":""}]
[null,null,"Pro-MembraneTM Control Panel","MCP-T350","N/C",null,{"$f":"IF(F59=0,\" \",\"N/C\")","v":" "},{"$f":"IFERROR(IFERROR(VLOOKUP(D59,Surcharge!A:B,2,FALSE)*F59, VLOOKUP(D59 & \"\",Surcharge!A:B,2,FALSE)*F59), \"\")","v":""},null,null,null,null,null,null,{"$f":"VLOOKUP(P59,'MPF SAP Download'!A:E,5,FALSE)","v":{"$error":"#N/A"}},"M-T350",null,"M-T350VK_TRMLVL_PMEM"]
[null,null,"Pro-PanelTM Control Panel","PPC-T350",1035,null,{"$f":"F60*E60","v":0},{"$f":"IFERROR(IFERROR(VLOOKUP(D60,Surcharge!A:B,2,FALSE)*F60, VLOOKUP(D60 & \"\",Surcharge!A:B,2,FALSE)*F60), \"\")","v":""},null,null,null,null,null,null,{"$f":"VLOOKUP(P60,'MPF SAP Download'!A:E,5,FALSE)","v":967},"M-T350VK_TRMLVL_PPAN",null,"M-T350VK_TRMLVL_PPAN"]
[null,null,null,null,null,null,null,{"$f":"IFERROR(IFERROR(VLOOKUP(D61,Surcharge!A:B,2,FALSE)*F61, VLOOKUP(D61 & \"\",Surcharge!A:B,2,FALSE)*F61), \"\")","v":""}]
[null,null,"Cleaning Technology: (conventional is standard, ec-H2O can also operate in conventional mode)",null,"Price",{"$f":"SUM(F63:F66)","v":0},null,{"$f":"IFERROR(IFERROR(VLOOKUP(D62,Surcharge!A:B,2,FALSE)*F62, VLOOKUP(D62 & \"\",Surcharge!A:B,2,FALSE)*F62), \"\")","v":""}]
[null,null,"ec-H2O NanoClean™","ec-H2ONC-T350",2374,null,{"$f":"F63*E63","v":0},{"$f":"IFERROR(IFERROR(VLOOKUP(D63,Surcharge!A:B,2,FALSE)*F63, VLOOKUP(D63 & \"\",Surcharge!A:B,2,FALSE)*F63), \"\")","v":""},null,null,null,null,null,null,{"$f":"VLOOKUP(P63,'MPF SAP Download'!A:E,5,FALSE)","v":2218},"M-T350VK_CLNTCH_ECH2ON",null,"M-T350VK_CLNTCH_ECH2ON"]
[null,null,null,null,null,null,null,{"$f":"IFERROR(IFERROR(VLOOKUP(D64,Surcharge!A:B,2,FALSE)*F64, VLOOKUP(D64 & \"\",Surcharge!A:B,2,FALSE)*F64), \"\")","v":""},null,null,null,null,null,null,null,""]
[null,null,"Severe Environment™ Switch  (Note 1)",9040107,666,null,{"$f":"F65*E65","v":0},{"$f":"IFERROR(IFERROR(VLOOKUP(D65,Surcharge!A:B,2,FALSE)*F65, VLOOKUP(D65 & \"\",Surcharge!A:B,2,FALSE)*F65), \"\")","v":""},null,null,null,null,null,null,{"$f":"VLOOKUP(P65,'MPF SAP Download'!A:E,5,FALSE)","v":622},"M-T350VK_SVEEVMSWH",null,"M-T350VK_SVEEVMSWH"]
[null,null,"Severe Environment™ Switch Lockout  (Note 2)",9017886,70,null,{"$f":"F66*E66","v":0},null,null,null,null,null,null,null,{"$f":"VLOOKUP(P66,'MPF SAP Download'!A:E,5,FALSE)","v":65},"M-T350VK_SVEEVMSWHLKT",null,"M-T350VK_SVEEVMSWHLKT"]
[null,null,null,null,null,null,null,{"$f":"IFERROR(IFERROR(VLOOKUP(D67,Surcharge!A:B,2,FALSE)*F67, VLOOKUP(D67 & \"\",Surcharge!A:B,2,FALSE)*F67), \"\")","v":""}]
[null,null,"Battery Type  (Note 3)",null,null,{"$f":"SUM(F69:F75)","v":0},null,{"$f":"IFERROR(IFERROR(VLOOKUP(D68,Surcharge!A:B,2,FALSE)*F68, VLOOKUP(D68 & \"\",Surcharge!A:B,2,FALSE)*F68), \"\")","v":""}]
[null,null,"Wet 210AH C/20",9040050,"N/C",null,{"$f":"IF(F69=0,\" \",\"N/C\")","v":" "},{"$f":"IFERROR(IFERROR(VLOOKUP(D69,Surcharge!A:B,2,FALSE)*F69, VLOOKUP(D69 & \"\",Surcharge!A:B,2,FALSE)*F69), \"\")","v":""},null,null,null,null,null,null,null,"M-T350",null,"M-T350VK_BTY_W210C20"]
[null,null,"Wet 240AH C/20",9040051,205,null,{"$f":"F70*E70","v":0},{"$f":"IFERROR(IFERROR(VLOOKUP(D70,Surcharge!A:B,2,FALSE)*F70, VLOOKUP(D70 & \"\",Surcharge!A:B,2,FALSE)*F70), \"\")","v":""},null,null,null,null,null,null,{"$f":"VLOOKUP(P70,'MPF SAP Download'!A:E,5,FALSE)","v":191},"M-T350VK_BTY_W240C20",null,"M-T350VK_BTY_W240C20"]
[null,null,"Sealed/MF AGM 220AH C/20",9040052,1545,null,{"$f":"F71*E71","v":0},{"$f":"IFERROR(IFERROR(VLOOKUP(D71,Surcharge!A:B,2,FALSE)*F71, VLOOKUP(D71 & \"\",Surcharge!A:B,2,FALSE)*F71), \"\")","v":""},null,null,null,null,null,null,{"$f":"VLOOKUP(P71,'MPF SAP Download'!A:E,5,FALSE)","v":1443},"M-T350VK_BTY_A220C20",null,"M-T350VK_BTY_A220C20"]
[null,null,"Without",9040058,-450,null,{"$f":"F72*E72","v":0},{"$f":"IFERROR(IFERROR(VLOOKUP(D72,Surcharge!A:B,2,FALSE)*F72, VLOOKUP(D72 & \"\",Surcharge!A:B,2,FALSE)*F72), \"\")","v":""},null,null,null,null,null,null,{"$f":"VLOOKUP(P72,'MPF SAP Download'!A:E,5,FALSE)","v":-450},"M-T350VK_BTY_WO",null,"M-T350VK_BTY_WO"]
[null,null,null,null,null,null,null,{"$f":"IFERROR(IFERROR(VLOOKUP(D73,Surcharge!A:B,2,FALSE)*F73, VLOOKUP(D73 & \"\",Surcharge!A:B,2,FALSE)*F73), \"\")","v":""}]
[null,null,"Smart-Fill™ Automatic Battery Watering  (Note 4)",9040152,1102,null,{"$f":"F74*E74","v":0},{"$f":"IFERROR(IFERROR(VLOOKUP(D74,Surcharge!A:B,2,FALSE)*F74, VLOOKUP(D74 & \"\",Surcharge!A:B,2,FALSE)*F74), \"\")","v":""},null,null,null,null,null,null,{"$f":"VLOOKUP(P74,'MPF SAP Download'!A:E,5,FALSE)","v":1029},"M-T350VK_BTYWTRSYS_SF",null,"M-T350VK_BTYWTRSYS_SF"]
[null,null,"Manual Battery Watering  (Note 4)",9040150,642,null,{"$f":"F75*E75","v":0},{"$f":"IFERROR(IFERROR(VLOOKUP(D75,Surcharge!A:B,2,FALSE)*F75, VLOOKUP(D75 & \"\",Surcharge!A:B,2,FALSE)*F75), \"\")","v":""},null,null,null,null,null,null,{"$f":"VLOOKUP(P75,'MPF SAP Download'!A:E,5,FALSE)","v":600},"M-T350VK_BTYWTRSYS_ML",null,"M-T350VK_BTYWTRSYS_ML"]
[null,null,null,null,null,null,null,{"$f":"IFERROR(IFERROR(VLOOKUP(D76,Surcharge!A:B,2,FALSE)*F76, VLOOKUP(D76 & \"\",Surcharge!A:B,2,FALSE)*F76), \"\")","v":""}]
[null,null,"Charger  (Note 5)",null,null,{"$f":"SUM(F78:F79)","v":0},null,{"$f":"IFERROR(IFERROR(VLOOKUP(D77,Surcharge!A:B,2,FALSE)*F77, VLOOKUP(D77 & \"\",Surcharge!A:B,2,FALSE)*F77), \"\")","v":""}]
[null,null,"25A 100-240V AC 50/60Hz 1Ph - On-Board",9040060,"N/C",null,{"$f":"IF(F78=0,\" \",\"N/C\")","v":" "},{"$f":"IFERROR(IFERROR(VLOOKUP(D78,Surcharge!A:B,2,FALSE)*F78, VLOOKUP(D78 & \"\",Surcharge!A:B,2,FALSE)*F78), \"\")","v":""},null,null,null,null,null,null,null,"M-T350",null,"M-T350VK_CHG_25A100V5060H1"]
[null,null,"30A 230V AC 50/60Hz 1Ph - Off-Board",1257204,"N/C",null,{"$f":"IF(F79=0,\" \",\"N/C\")","v":" "}]
[null,null,null,null,null,null,null,{"$f":"IFERROR(IFERROR(VLOOKUP(D80,Surcharge!A:B,2,FALSE)*F80, VLOOKUP(D80 & \"\",Surcharge!A:B,2,FALSE)*F80), \"\")","v":""}]
[null,"Cleaning Performance",null,"Reference Number",null,{"$f":"SUM(F82:F83)","v":0},null,{"$f":"IFERROR(IFERROR(VLOOKUP(D81,Surcharge!A:B,2,FALSE)*F81, VLOOKUP(D81 & \"\",Surcharge!A:B,2,FALSE)*F81), \"\")","v":""}]
[null,null,"Quiet-Mode™",9040154,200,null,{"$f":"F82*E82","v":0},{"$f":"IFERROR(IFERROR(VLOOKUP(D82,Surcharge!A:B,2,FALSE)*F82, VLOOKUP(D82 & \"\",Surcharge!A:B,2,FALSE)*F82), \"\")","v":""},null,null,null,null,null,null,{"$f":"VLOOKUP(P82,'MPF SAP Download'!A:E,5,FALSE)","v":186},"M-T350VK_QITMOD",null,"M-T350VK_QITMOD"]
[null,null,"Reduced Speed  (Note 6)","RPS-T350","N/C",null,{"$f":"IF(F83=0,\" \",\"N/C\")","v":" "},{"$f":"IFERROR(IFERROR(VLOOKUP(D83,Surcharge!A:B,2,FALSE)*F83, VLOOKUP(D83 & \"\",Surcharge!A:B,2,FALSE)*F83), \"\")","v":""},null,null,null,null,null,null,null,"M-T350",null,"M-T350VK_RDEPPLSPD"]
[null,null,null,null," ",null,null,{"$f":"IFERROR(IFERROR(VLOOKUP(D84,Surcharge!A:B,2,FALSE)*F84, VLOOKUP(D84 & \"\",Surcharge!A:B,2,FALSE)*F84), \"\")","v":""}]
[null,"Machine Protection & Safety",null,null,null,{"$f":"SUM(F86:F86)","v":0},null,{"$f":"IFERROR(IFERROR(VLOOKUP(D85,Surcharge!A:B,2,FALSE)*F85, VLOOKUP(D85 & \"\",Surcharge!A:B,2,FALSE)*F85), \"\")","v":""}]
[null,null,"Audio Back Up Alarm","BU-T350","N/C",null,{"$f":"IF(F86=0,\" \",\"N/C\")","v":" "},{"$f":"IFERROR(IFERROR(VLOOKUP(D86,Surcharge!A:B,2,FALSE)*F86, VLOOKUP(D86 & \"\",Surcharge!A:B,2,FALSE)*F86), \"\")","v":""},null,null,null,null,null,null,null,"M-T350",null,"M-T350VK_WRNLGTANDALM_AU"]
[null,null,null,null," ",null,null,{"$f":"IFERROR(IFERROR(VLOOKUP(D87,Surcharge!A:B,2,FALSE)*F87, VLOOKUP(D87 & \"\",Surcharge!A:B,2,FALSE)*F87), \"\")","v":""}]
[null,"Brushes and Pads",null,"Reference Number",null,{"$f":"SUM(F89,F94,F99,F104)","v":0},null,{"$f":"IFERROR(IFERROR(VLOOKUP(D88,Surcharge!A:B,2,FALSE)*F88, VLOOKUP(D88 & \"\",Surcharge!A:B,2,FALSE)*F88), \"\")","v":""}]
[null,null,"500mm / 20\" Disk Brushes (1 Required)",null," ",{"$f":"SUM(F90)","v":0},null,{"$f":"IFERROR(IFERROR(VLOOKUP(D89,Surcharge!A:B,2,FALSE)*F89, VLOOKUP(D89 & \"\",Surcharge!A:B,2,FALSE)*F89), \"\")","v":""}]
[null,null,"For Insta-Click™ Scrub Head:",null," ",{"$f":"SUM(F91:F93)","v":0},null,{"$f":"IFERROR(IFERROR(VLOOKUP(D90,Surcharge!A:B,2,FALSE)*F90, VLOOKUP(D90 & \"\",Surcharge!A:B,2,FALSE)*F90), \"\")","v":""}]
[null,null,"Polypropylene Brush",1213032,402,null,{"$f":"F91*E91","v":0},{"$f":"IFERROR(IFERROR(VLOOKUP(D91,Surcharge!A:B,2,FALSE)*F91, VLOOKUP(D91 & \"\",Surcharge!A:B,2,FALSE)*F91), \"\")","v":""},null,null,null,null,null,null,{"$f":"VLOOKUP(P91,'MPF SAP Download'!A:E,5,FALSE)","v":375},"M-T350VK_CLNTOL_500PYP_IC",null,"M-T350VK_CLNTOL_500PYP_IC"]
[null,null,"Nylon Brush",1210386,402,null,{"$f":"F92*E92","v":0},{"$f":"IFERROR(IFERROR(VLOOKUP(D92,Surcharge!A:B,2,FALSE)*F92, VLOOKUP(D92 & \"\",Surcharge!A:B,2,FALSE)*F92), \"\")","v":""},null,null,null,null,null,null,{"$f":"VLOOKUP(P92,'MPF SAP Download'!A:E,5,FALSE)","v":375},"M-T350VK_CLNTOL_500NYL_IC",null,"M-T350VK_CLNTOL_500NYL_IC"]
[null,null,"Pad Driver",1209197,402,null,{"$f":"F93*E93","v":0},{"$f":"IFERROR(IFERROR(VLOOKUP(D93,Surcharge!A:B,2,FALSE)*F93, VLOOKUP(D93 & \"\",Surcharge!A:B,2,FALSE)*F93), \"\")","v":""},null,null,null,null,null,null,{"$f":"VLOOKUP(P93,'MPF SAP Download'!A:E,5,FALSE)","v":375},"M-T350VK_CLNTOL_500PAD_IC",null,"M-T350VK_CLNTOL_500PAD_IC"]
[null,null,"Pads",null,null,{"$f":"SUM(F95:F97)","v":0},null,{"$f":"IFERROR(IFERROR(VLOOKUP(D94,Surcharge!A:B,2,FALSE)*F94, VLOOKUP(D94 & \"\",Surcharge!A:B,2,FALSE)*F94), \"\")","v":""},null,null,null,null,null,null,{"$f":"VLOOKUP(P94,'MPF SAP Download'!A:E,5,FALSE)","v":27},"M-T350VK_PADTYP_500BLU3"]
[null,null,"Blue Scrubbing - 3M",17262,28.9,null,{"$f":"F95*E95","v":0},{"$f":"IFERROR(IFERROR(VLOOKUP(D95,Surcharge!A:B,2,FALSE)*F95, VLOOKUP(D95 & \"\",Surcharge!A:B,2,FALSE)*F95), \"\")","v":""},null,null,null,null,null,null,{"$f":"VLOOKUP(P95,'MPF SAP Download'!A:E,5,FALSE)","v":27},"M-T350VK_PADTYP_500RED3",null,"M-T350VK_PADTYP_500BLU3"]
[null,null,"Red Cleaning - 3M",17261,28.9,null,{"$f":"F96*E96","v":0},{"$f":"IFERROR(IFERROR(VLOOKUP(D96,Surcharge!A:B,2,FALSE)*F96, VLOOKUP(D96 & \"\",Surcharge!A:B,2,FALSE)*F96), \"\")","v":""},null,null,null,null,null,null,{"$f":"VLOOKUP(P96,'MPF SAP Download'!A:E,5,FALSE)","v":27},"M-T350VK_PADTYP_500WHT3",null,"M-T350VK_PADTYP_500RED3"]
[null,null,"White Polishing - 3M",17260,28.9,null,{"$f":"F97*E97","v":0},{"$f":"IFERROR(IFERROR(VLOOKUP(D97,Surcharge!A:B,2,FALSE)*F97, VLOOKUP(D97 & \"\",Surcharge!A:B,2,FALSE)*F97), \"\")","v":""},null,null,null,null,null,null,null,null,null,"M-T350VK_PADTYP_500WHT3"]
[null,null,null,null,null,null,null,{"$f":"IFERROR(IFERROR(VLOOKUP(D98,Surcharge!A:B,2,FALSE)*F98, VLOOKUP(D98 & \"\",Surcharge!A:B,2,FALSE)*F98), \"\")","v":""}]
[null,null,"600mm / 24\" Disk Brushes (2 Required)",null,null,{"$f":"SUM(F100)","v":0},null,{"$f":"IFERROR(IFERROR(VLOOKUP(D99,Surcharge!A:B,2,FALSE)*F99, VLOOKUP(D99 & \"\",Surcharge!A:B,2,FALSE)*F99), \"\")","v":""}]
[null,null,"For Insta-Click™ Scrub Head:",null,null,{"$f":"SUM(F101:F103)","v":0},null,{"$f":"IFERROR(IFERROR(VLOOKUP(D100,Surcharge!A:B,2,FALSE)*F100, VLOOKUP(D100 & \"\",Surcharge!A:B,2,FALSE)*F100), \"\")","v":""}]
[null,null,"Polypropylene Brush",1213040,258,null,{"$f":"F101*E101","v":0},{"$f":"IFERROR(IFERROR(VLOOKUP(D101,Surcharge!A:B,2,FALSE)*F101, VLOOKUP(D101 & \"\",Surcharge!A:B,2,FALSE)*F101), \"\")","v":""},null,null,null,null,null,null,{"$f":"VLOOKUP(P101,'MPF SAP Download'!A:E,5,FALSE)","v":241},"M-T350VK_CLNTOL_600PYP_IC",null,"M-T350VK_CLNTOL_600PYP_IC"]
[null,null,"Nylon Brush",1210136,258,null,{"$f":"F102*E102","v":0},{"$f":"IFERROR(IFERROR(VLOOKUP(D102,Surcharge!A:B,2,FALSE)*F102, VLOOKUP(D102 & \"\",Surcharge!A:B,2,FALSE)*F102), \"\")","v":""},null,null,null,null,null,null,{"$f":"VLOOKUP(P102,'MPF SAP Download'!A:E,5,FALSE)","v":241},"M-T350VK_CLNTOL_600NYL_IC",null,"M-T350VK_CLNTOL_600NYL_IC"]
[null,null,"Pad Driver",1209160,258,null,{"$f":"F103*E103","v":0},{"$f":"IFERROR(IFERROR(VLOOKUP(D103,Surcharge!A:B,2,FALSE)*F103, VLOOKUP(D103 & \"\",Surcharge!A:B,2,FALSE)*F103), \"\")","v":""},null,null,null,null,null,null,{"$f":"VLOOKUP(P103,'MPF SAP Download'!A:E,5,FALSE)","v":241},"M-T350VK_CLNTOL_600PAD_IC",null,"M-T350VK_CLNTOL_600PAD_IC"]
[null,null,"Pads",null,null,{"$f":"SUM(F105:F107)","v":0},null,{"$f":"IFERROR(IFERROR(VLOOKUP(D104,Surcharge!A:B,2,FALSE)*F104, VLOOKUP(D104 & \"\",Surcharge!A:B,2,FALSE)*F104), \"\")","v":""}]
[null,null,"Blue Scrubbing - 3M",385942,16.100000000000001,null,{"$f":"F105*E105","v":0},{"$f":"IFERROR(IFERROR(VLOOKUP(D105,Surcharge!A:B,2,FALSE)*F105, VLOOKUP(D105 & \"\",Surcharge!A:B,2,FALSE)*F105), \"\")","v":""},null,null,null,null,null,null,{"$f":"VLOOKUP(P105,'MPF SAP Download'!A:E,5,FALSE)","v":15},"M-T350VK_PADTYP_600BLU3",null,"M-T350VK_PADTYP_600BLU3"]
[null,null,"Red Cleaning - 3M",385941,16.100000000000001,null,{"$f":"F106*E106","v":0},{"$f":"IFERROR(IFERROR(VLOOKUP(D106,Surcharge!A:B,2,FALSE)*F106, VLOOKUP(D106 & \"\",Surcharge!A:B,2,FALSE)*F106), \"\")","v":""},null,null,null,null,null,null,{"$f":"VLOOKUP(P106,'MPF SAP Download'!A:E,5,FALSE)","v":15},"M-T350VK_PADTYP_600RED3",null,"M-T350VK_PADTYP_600RED3"]
[null,null,"White Polishing - 3M",385940,16.100000000000001,null,{"$f":"F107*E107","v":0},{"$f":"IFERROR(IFERROR(VLOOKUP(D107,Surcharge!A:B,2,FALSE)*F107, VLOOKUP(D107 & \"\",Surcharge!A:B,2,FALSE)*F107), \"\")","v":""},null,null,null,null,null,null,{"$f":"VLOOKUP(P107,'MPF SAP Download'!A:E,5,FALSE)","v":15},"M-T350VK_PADTYP_600WHT3",null,"M-T350VK_PADTYP_600WHT3"]
[null,null,null,null,null,null,null,{"$f":"IFERROR(IFERROR(VLOOKUP(D108,Surcharge!A:B,2,FALSE)*F108, VLOOKUP(D108 & \"\",Surcharge!A:B,2,FALSE)*F108), \"\")","v":""}]
[null,"Support",null,"Reference Number",null,{"$f":"SUM(F110:F119)","v":0},null,{"$f":"IFERROR(IFERROR(VLOOKUP(D109,Surcharge!A:B,2,FALSE)*F109, VLOOKUP(D109 & \"\",Surcharge!A:B,2,FALSE)*F109), \"\")","v":""}]
[null,null,"Operator Manual - English",9016417,"N/C",null,{"$f":"IF(F110=0,\" \",\"N/C\")","v":" "},{"$f":"IFERROR(IFERROR(VLOOKUP(D110,Surcharge!A:B,2,FALSE)*F110, VLOOKUP(D110 & \"\",Surcharge!A:B,2,FALSE)*F110), \"\")","v":""},null,null,null,null,null,null,null,null,null,"M-T350"]
[null,null,"Operator Manual - Spanish",9016418,"N/C",null,{"$f":"IF(F111=0,\" \",\"N/C\")","v":" "},{"$f":"IFERROR(IFERROR(VLOOKUP(D111,Surcharge!A:B,2,FALSE)*F111, VLOOKUP(D111 & \"\",Surcharge!A:B,2,FALSE)*F111), \"\")","v":""},null,null,null,null,null,null,null,null,null,"M-T350"]
[null,null,"Operator Manual - French",9016419,"N/C",null,{"$f":"IF(F112=0,\" \",\"N/C\")","v":" "},{"$f":"IFERROR(IFERROR(VLOOKUP(D112,Surcharge!A:B,2,FALSE)*F112, VLOOKUP(D112 & \"\",Surcharge!A:B,2,FALSE)*F112), \"\")","v":""},null,null,null,null,null,null,null,null,null,"M-T350"]
[null,null,"Additional Operator Manual","SEE ABOVE",146,null,{"$f":"F113*E113","v":0},{"$f":"IFERROR(IFERROR(VLOOKUP(D113,Surcharge!A:B,2,FALSE)*F113, VLOOKUP(D113 & \"\",Surcharge!A:B,2,FALSE)*F113), \"\")","v":""},null,null,null,null,null,null,{"$f":"VLOOKUP(P113,'MPF SAP Download'!A:E,5,FALSE)","v":136},"M-T350VK_ADLOPRMNL",null,"M-T350VK_ADLOPRMNL"]
[null,null,"Parts Manual",9016416,59,null,{"$f":"F114*E114","v":0},{"$f":"IFERROR(IFERROR(VLOOKUP(D114,Surcharge!A:B,2,FALSE)*F114, VLOOKUP(D114 & \"\",Surcharge!A:B,2,FALSE)*F114), \"\")","v":""},null,null,null,null,null,null,{"$f":"VLOOKUP(P114,'MPF SAP Download'!A:E,5,FALSE)","v":55},"M-T350VK_PARMNL",null,"M-T350VK_PARMNL"]
[null,null,"Service Manual",9016422,146,null,{"$f":"F115*E115","v":0},{"$f":"IFERROR(IFERROR(VLOOKUP(D115,Surcharge!A:B,2,FALSE)*F115, VLOOKUP(D115 & \"\",Surcharge!A:B,2,FALSE)*F115), \"\")","v":""},null,null,null,null,null,null,{"$f":"VLOOKUP(P115,'MPF SAP Download'!A:E,5,FALSE)","v":136},"M-T350VK_SRVMNL",null,"M-T350VK_SRVMNL"]
[null,null,null,null,null,null,null,{"$f":"IFERROR(IFERROR(VLOOKUP(D116,Surcharge!A:B,2,FALSE)*F116, VLOOKUP(D116 & \"\",Surcharge!A:B,2,FALSE)*F116), \"\")","v":""}]
[null,null,"Packaging  (Note 8)",null,null,{"$f":"SUM(F118:F119)","v":0},null,{"$f":"IFERROR(IFERROR(VLOOKUP(D117,Surcharge!A:B,2,FALSE)*F117, VLOOKUP(D117 & \"\",Surcharge!A:B,2,FALSE)*F117), \"\")","v":""}]
[null,null,"Skid w/Carton, Stackable",9040253,515,null,{"$f":"F118*E118","v":0},{"$f":"IFERROR(IFERROR(VLOOKUP(D118,Surcharge!A:B,2,FALSE)*F118, VLOOKUP(D118 & \"\",Surcharge!A:B,2,FALSE)*F118), \"\")","v":""},null,null,null,null,null,null,{"$f":"VLOOKUP(P118,'MPF SAP Download'!A:E,5,FALSE)","v":481},"M-T350VK_PKG_SSKD",null,"M-T350VK_PKG_SSKD"]
[null,null,"Pad Wrap",9040255,"N/C",null,{"$f":"IF(F119=0,\" \",\"N/C\")","v":" "},{"$f":"IFERROR(IFERROR(VLOOKUP(D119,Surcharge!A:B,2,FALSE)*F119, VLOOKUP(D119 & \"\",Surcharge!A:B,2,FALSE)*F119), \"\")","v":""},null,null,null,null,null,null,null,"M-T350",null,"M-T350VK_PKG_PAD"]
[null,null,null,null,null,null,null,{"$f":"IFERROR(IFERROR(VLOOKUP(D120,Surcharge!A:B,2,FALSE)*F120, VLOOKUP(D120 & \"\",Surcharge!A:B,2,FALSE)*F120), \"\")","v":""}]
[null,null,null,null,null,{"$f":"SUM(#REF!)","v":{"$error":"#REF!"}}]
[]
[]
[null,"Custom Solution--write in description, qty, price, and PN if applicable",null,null,null,{"$f":"SUM(F125)","v":0}]
[null,null,null,null,"Insert Prices Here",{"$f":"SUM(F126:F129)","v":0}]
[null,null,null,"Custom",null,{"$f":"IF(E126 <> \"\", 1, 0)","v":0},{"$f":"F126*E126","v":0}]
[null,null,null,"Custom",null,{"$f":"IF(E127 <> \"\", 1, 0)","v":0},{"$f":"F127*E127","v":0}]
[null,null,null,"Custom",null,{"$f":"IF(E128 <> \"\", 1, 0)","v":0},{"$f":"F128*E128","v":0}]
[null,null,null,"Custom",null,{"$f":"IF(E129 <> \"\", 1, 0)","v":0},{"$f":"F129*E129","v":0}]
[null,null,null,null,{"$f":"ROUND(SUM(G53:G129), 0)","v":0},{"$f":"SUM(E131)","v":0}]
[null,null,null,"Machine Subtotal ",{"$f":"ROUND(SUM(G53:G129), 0)","v":0},{"$f":"F130","v":0}]
[null,"Discounts",null,null,null,{"$f":"SUM(F133)","v":0}]
[null,null,null,null,null,{"$f":"SUM(F134:F137)","v":0}]
[null,null,null,"Discount %",null,{"$f":"IF(E134 <> \"\", 1, 0)","v":0},{"$f":"IF(F134*(E134*0.01)*E130 < 0, F134*(E134*0.01)*E130, -(F134*(E134*0.01)*E130))","v":0}]
[null,null,null,"Discount $",null,{"$f":"IF(E135 <> \"\", 1, 0)","v":0},{"$f":"IF(F135*E135 < 0, F135*E135, -(F135*E135))","v":0}]
[null,null,null,"Discount $",null,{"$f":"IF(E136 <> \"\", 1, 0)","v":0},{"$f":"IF(F136*E136 < 0, F136*E136, -(F136*E136))","v":0}]
[null,null,null,"Discount $",null,{"$f":"IF(E137 <> \"\", 1, 0)","v":0},{"$f":"IF(F137*E137 < 0, F137*E137, -(F137*E137))","v":0}]
[null,null,null,"Discount Total ",{"$f":"SUM(G134:G137)","v":0},{"$f":"SUM(E138)","v":0}]
[null,null,null,null,null,{"$f":"#REF!","v":{"$error":"#REF!"}}]
[null,null,"Prepaid and Add","Freight",null,{"$f":"IF(E140 <> \"\", 1, 0)","v":0},{"$f":"F140*E140","v":0}]
[null,null,"Subject to all applicable taxes","Tax",null,{"$f":"IF(E141 <> \"\", 1, 0)","v":0},{"$f":"F141*E141","v":0}]
[null,null,null,null,null,{"$f":"SUM(F143)","v":0}]
[null,null,null,"MACHINE TOTAL*",null,{"$f":"SUM(G143)","v":0},{"$f":"SUM(G53:G141)","v":0},null,null,null,null,null,null,"This goes to \"My Documents\""]
[null,"Financing",null,null,null,null,{"$f":"G143","v":0}]
[]
[null,null,"Is customer interested in financing?","No"]
[]
[null,null,"If not, why?"]
[]
[]
[null,null,"First Western Equipment Finance - Leasing Calculation Option:","Option 1",null,"Option 2",null,null,null,{"$f":"Financing!A38","v":"Rates 2025 - Rev. 5/6/2025"}]
[null,null,null,"Monthly Payment","Cost Per Day","Monthly Payment","Cost Per Day",null,null,{"$f":"Financing!A39","v":"“Blank Payment Amounts Indicate The Financing Option Or Purchase Options Selected Are Not "}]
[null,null,"Purchase Option:","FWEF:  $1 Buyout Lease",null,"FWEF: Municipal Lease",null,null,null,{"$f":"Financing!A40","v":"Applicable Or The Machine Total Is Below The Minimum Amount For The Selected Vendor”"}]
[null,null,"24 Months",0,0,0,0,null,null,{"$f":"Financing!A41","v":"\"Quoted monthly payments are estimates only and are based on a certain level of credit rating."}]
[null,null,"30 Months",0,0,0,0,null,null,{"$f":"Financing!A42","v":"Actual monthly payments may be higher depending on your credit rating.\""}]
[null,null,"36 Months",0,0,0,0,null,null,{"$f":"Financing!A43","v":"“Financing rates do not include Pre-Paid Service”"}]
[null,null,"48 Months",0,0,0,0]
[]
[null,null,null,"Benefits of Equipment Financing:"]
[null,null,null,"• Spreads out investment over time.",null,"• Keep current with latest technology."]
[null,null,null,"• Preserve capital.",null,"• Service and parts bundling available."]
[null,null,null,"• Low monthly payment.",null,"• Pay for labor savings as you go."]
[]
[]
[null,null,"Bundled Offerings","Flexclean – Fair Market Value",null,"Flexclean - $1 Buyout"]
[null,null,"FlexClean: ","36 Month Term",null,"36 Month Term",null,null,"No","AB Brushes"]
[null,null,"Hours included per Month:","Gold","Silver","Gold","Silver","Check"]
[null,null,"< 30/mo. (Avg. 1hr./day)",null,null,null,null,null,{"$f":"FlexCleanCalc!$A21","v":"“FlexClean monthly rates include payment for both machine and service.”"}]
[null,null,"< 60/mo. (Avg. 2hrs./day)"]
[null,null,"< 90/mo. (Avg. 3hrs./day)"]
[null,null,"*This value assumes one service contract regardless of the number of UNITS included in the quote"]
[]
[]
[null,null,"Bundled Offerings","Flexclean – Fair Market Value",null,"Flexclean - $1 Buyout"]
[null,null,"FlexClean 2: ","48 Month Term",null,"48 Month Term"]
[null,null,"Hours included per Month:","Gold","Silver","Gold","Silver"]
[null,null,"< 30/mo. (Avg. 1hr./day)"]
[null,null,"< 60/mo. (Avg. 2hrs./day)"]
[null,null,"< 90/mo. (Avg. 3hrs./day)"]
[null,null,"*This value assumes one service contract regardless of the number of UNITS included in the quote"]
[]
[null,null,"Bundled Offerings","Flexclean – Fair Market Value",null,"Flexclean - $1 Buyout"]
[null,null,"FlexClean 3: ","60 Month Term",null,"60 Month Term"]
[null,null,"Hours included per Month:","Gold","Silver","Gold","Silver"]
[null,null,"< 30/mo. (Avg. 1hr./day)"]
[null,null,"< 60/mo. (Avg. 2hrs./day)"]
[null,null,"< 90/mo. (Avg. 3hrs./day)"]
[null,null,"*This value assumes one service contract regardless of the number of UNITS included in the quote"]
[]
[null,"  TennantTrue"]
[]
[null,null,"Is customer interested in service program?","Yes","*State/County selection required for TennantTrue service options"]
[]
[null,null,"If not, why?"]
[]
[null,null,"Term:",36,null,"AB Brushes","No"]
[null,null,"Monthly machine usage (hrs):","< 30/mo. (Avg. 1hr./day)"]
[]
[null,null,"TennantTrue: ","Gold Contract",null,"Silver Contract"]
[null,null,"Per Visit",null,null,425]
[null,null,"Monthly",129,null,69]
[null,null,"Annually",null,null,816]
[null,null,"Pre-Pay Full Term",4444,null,2397]
[null,null,"Hourly Labor Rate"]
[null,null,"Site Visit"]
[]
[null,null,"* Verify customer current pricing prior to quote. "]
[null,null,"**All rates and fees above reflect service for one (1) unit with the exception of Block of Time service."]
[null,null,"*Block of Time is available in 1 Year Term only and is priced as such no matter the term selection on this template."]
[]
[]
[null,"Servicing"]
[]
[null,null,"Is customer interested in a service plan?","No"]
[]
[null,null,"If not, why?"]
[]
[]
[null,"Quote Special Instructions:"]
[]
[]
[null,null,{"$f":"Start_Here!E36","v":"Terms and Conditions"}]
[null,null,{"$f":"Start_Here!E37","v":"Ask your local sales rep for estimated lead times. Verify when placing order"}]
[null,null,{"$f":"Start_Here!E38","v":"All orders subject to acceptance by Tennant Sales and Service Company, Minneapolis, Minnesota"}]
[null,null,{"$f":"Start_Here!E39","v":"Prices subject to change without notice."}]
[null,null,{"$f":"Start_Here!E40","v":"Terms:  Net 30 days.  Subject to any applicable taxes."}]
[null,null,{"$f":"Start_Here!E41","v":"Freight: Machines and accessory orders delivered FOB shipping point Frt PPD & Add"}]
[null,null,{"$f":"Start_Here!E42","v":"Parts, supplies, detergents and floor treating material orders delivered FOB "}]
[null,null,{"$f":"Start_Here!E43","v":"shipping point Frt PPD"}]
[null,null,{"$f":"Start_Here!E44","v":"All orders are subject to Tennant’s General Terms and Conditions available at http://www.tennantco.com/terms."}]
[null,null,{"$f":"Start_Here!E45","v":"Printed General Terms and Conditions are also available upon request."}]
[null,null,{"$f":"Start_Here!E46","v":0}]
[]
[null,null,null,null,"Quote Date :",null,{"$f":"Letter!$A$25","v":"2020-09-17"}]
["Order Placement Information:  To place your order, fill in PO# and customer signatures,"]
["call or fax to the numbers listed below. Customer Purchase Order is required."]
["If information is missing, orders will be entered and held until all information is received."]
[null,null,"Customer Number",null,"Cust Grp 3"]
[null,null,{"$f":"Start_Here!$C$25","v":0},null,{"$f":"Start_Here!$C$29","v":0}]
[null,null,{"$f":"Start_Here!$B$18","v":"Who Owns the Machine? (Sold-To Info) (Please Verify)"}]
["Company",null,{"$f":"Start_Here!$C$19","v":"Company Name"}]
["Address",null,{"$f":"Start_Here!$C$20","v":"Address"}]
[null,null,{"$f":"Start_Here!$C$21","v":"City, State Zip"}]
["Name",null,{"$f":"Start_Here!$C$22","v":"Contact Name"}]
["Phone",null,{"$f":"Start_Here!$C$23","v":"Contact Phone"}]
[null,null,{"$f":"Start_Here!$B$11","v":"Where is the Machine Being Shipped? (Ship-To Info) (Please Verify)"}]
["Company",null,{"$f":"Start_Here!$C$12","v":"Company Name"}]
["Address",null,{"$f":"Start_Here!$C$13","v":"Address"}]
[null,null,{"$f":"Start_Here!$C$14","v":"City, State Zip"}]
["Name",null,{"$f":"Start_Here!$C$15","v":"Contact Name"}]
["Phone",null,{"$f":"Start_Here!$C$16","v":"Contact Phone"}]
[null,null,{"$f":"Start_Here!$B$31","v":"Shipping / Carrier Instructions:"},null,"Order Special Instructions:"]
[null,null,{"$f":"Start_Here!$C$32","v":0}]
[]
[null,null,"Customer Purchase Order No."]
[null,null,"(please attach copy)"]
[]
[]
[null,null,"Tax Exempt",null,"Yes"]
[null,null,null,null,"No"]
[null,null,"If Yes, attach a copy of your exemption certificate."]
[]
[null,null,"Requested Delivery Date"]
[null,null,{"$f":"Start_Here!$C$28","v":0}]
[]
[null,null,{"$f":"Start_Here!$C$26","v":0},null,{"$f":"Start_Here!$C$27","v":0}]
[null,0,"Authorized Buyer (please print)",null,"Phone Number"]
[]
[]
[null,0,"Authorized Buyer Signature"]
[]
[null,null,{"$f":"Start_Here!$C$41","v":"Rep Name"}]
[null,null,"Tennant Representative"]
[]
["Specialized Maintenance Equipment"]
[{"$f":"Start_Here!$C$48","v":"TENNANT · 10400 Clean Street · Eden Prairie, MN 55344 ·"}]
[{"$f":"Start_Here!$C$49","v":" PHONE:800-553-8033 · FAX:763-513-2116"}]
[]
[]
[null,null,"Special Information "]
[null,1,"Severe Environment™ Switch is only available with ec-H2O NanoClean Cleaning Technology."]
[]
[null,2,"Severe Environment™ Switch Lockout is only available with ec-H2O NanoClean AND the Severe Environment Switch."]
[]
[null,3,"Customer MUST order Skid w/Carton, Stackable if WITHOUT BATTERY is selected."]
[null,null,"Continental USA orders ONLY. "]
[null,null,"In order to obtain the IRIS Battery Metrics, one of the listed Tennant supplied batteries is required."]
[]
[null,4,"Smart-Fill™ Automatic Battery Watering only available with on-board charger."]
[null,null,"Smart-Fill Automatic Battery Watering and Manual Battery Watering are not compatible with AGM Batteries."]
[]
[null,5,"25A 100-240V AC 50/60Hz 1Ph - On-Board Charger is required to receive IRIS Battery Manager."]
[null,null,"25A 100-240V AC 50/60Hz 1Ph - On-Board Charger is mandatory when ordering Smart-Fill Battery Watering."]
[]
[null,6,"Reduced Propel Speed will reduce the overall Max Scrubbing and Transport Speed from 3.6 mph/5.6 Kph to 2.8 mph/4.5 Kph"]
[]
[null,7,"Pre-Paid and Monthly Packages are available for the IRIS Information Service."]
[null,null,"IRIS Module is required and NOT included in the price of the IRIS Information Service:"]
[null,null,"   3 Year Pre-Paid IRIS Information Service ……………………………………..",250]
[null,null,"   5 Year Pre-Paid IRIS Information Service ………………………………",400]
[null,null,"A monthly contract can be set up at $10 per month w/ 12 month minimum commitment."]
[null,null,"IRIS Telemetry Module only covers the price of the hardware. "]
[null,null,"IRIS Telemetry requires an IRIS Telemetry Module and an IRIS Information Service Package."]
[null,null,"25A 100-240V AC 50/60Hz 1Ph - On-Board Charger and a compatible Tennant supplied battery is required to receive IRIS Battery Manager."]
[null,null,"IRIS Battery Metrics are not guaranteed with third party supplied batteries."]
[]
[null,8,"Pad wrap available only in the Continental US and is the default packaging method."]
[null,null,"Customer MUST order Skid w/Carton, Stackable if WITHOUT BATTERY is selected."]
[null,null,"Skid w/Carton, Stackable is mandatory when shipping to AK and HI.  Packaging is added at No Charge when shipping"]
[null,null,"to these locations."]
[]
[null,9,"Shipping Weights and Dimensions","Pad Wrap","Skid w/Carton"]
[]
[null,null,"Weight: 500mm / 20\"","725 lbs / 329 Kg"]
[null,null,"Weight: 600mm / 24\"","730 lbs / 331 Kg"]
[null,null,"Length","55\" / 1397 mm"]
[null,null,"Width","26.5\" / 673 mm"]
[null,null,"Height","49\" / 1245 mm"]

{"sheet":"T500","index":32,"n_rows":390,"n_cols":17,"rows_kept":390,"cut":false,"hidden":false,"merged":[[0,2,0,3],[1,2,1,3],[2,2,2,3],[3,2,3,3],[11,2,11,6],[184,3,184,4],[184,5,184,6],[38,2,38,5],[39,2,39,5],[41,2,41,5],[42,2,42,5],[43,2,43,5],[40,2,40,5],[179,3,179,6],[182,3,182,4],[182,5,182,6],[205,3,205,4],[205,5,205,6],[196,3,196,4],[196,5,196,6],[197,3,197,4],[197,5,197,6],[206,3,206,4],[206,5,206,6],[213,3,213,4],[213,5,213,6],[274,2,274,5],[246,3,247,6],[251,2,251,6],[272,2,272,5],[273,2,273,5],[270,4,270,7],[233,3,233,4],[233,5,233,6],[223,4,223,8],[225,3,225,6],[227,3,227,4],[230,3,230,4],[288,2,288,5],[297,4,297,5],[280,2,280,5],[214,3,214,4],[214,5,214,6],[284,4,284,7],[281,2,281,5],[282,2,282,5],[276,2,276,5],[278,2,278,5],[279,2,279,5],[275,2,275,5],[231,3,231,4],[231,5,231,6],[232,3,232,4],[232,5,232,6],[236,3,236,4],[236,5,236,6],[234,3,234,4],[230,5,230,6],[228,3,228,4],[234,5,234,6],[235,3,235,4],[235,5,235,6]]}
["T500",null,{"$f":"Start_Here!$C19","v":"Company Name"}]
[{"$f":"SUM(G175)","v":0},null,{"$f":"Start_Here!$C20","v":"Address"}]
[null,null,{"$f":"Start_Here!$C21","v":"City, State Zip"}]
[null,null,{"$f":"Start_Here!$C22","v":"Contact Name"}]
[null,null,{"$f":"Start_Here!$C$41","v":"Rep Name"}]
[null,null,{"$f":"Start_Here!$C$37","v":"Tennant Sales and Service Company"}]
[null,null,{"$f":"Start_Here!$C$38","v":"10400 Clean Street"}]
[null,null,{"$f":"Start_Here!$C$39","v":"Eden Prairie, MN 55344"}]
[null,null,{"$f":"Start_Here!$C$43","v":"800-553-8033"},null,"Quote Date :",null,{"$f":"Letter!$A$25","v":"2020-09-17"}]
[]
[null,null,{"$f":"Help!C2","v":"US Date Rev - 5/6/2025"}]
[null,null,"BUILT-IN “TENNANT VALUE” INCLUDES:"]
[]
[null,null,"Fully Sprayable Hygenic® Recovery Tank",null,"Yellow Maintenance Touch Points"]
[null,null,"Tanks: 85 L/22.5 gal Solution & 100 L/26.5 gal Recovery",null,"Emergency Stop Kit"]
[null,null,"1-STEP™ Button Memory Controls",null,"Key Switch for Safety"]
[null,null,"Supervisor QA Controls™ settings (Lock Out Features)",null,"Rugged Duramer™ Tank Construction"]
[null,null,"Extremely Low Noise Levels Standard  (≤67 dBA)",null,"Gray Non-Marking Tires"]
[null,null,"Quiet-Mode™ (Lowers to 62 dBA and extends run-time)",null,"Standard (4) 6 V 225AH Battery Pack (Optional AGM Batteries)"]
[null,null,"On Board Diagnostics",null,"Battery Tray"]
[null,null,"Recovery Tank Debris Tray",null,"On-Board Charger with Power Cord"]
[null,null,"Cast Aluminum Squeegee Frame & Scrub Decks (D/C)",null,"Closed Machine Venting for Battery Charging"]
[null,null,"11 Gauge Steel Scrub Deck (Orbital Only)",null,"100% Water Recovery in 180º  Turns w/ Standard Squeegee"]
[null,null,"Three Selectable Down Pressures & Solution Flows",null,"Insta-Fit™ No-Tool Pad Driver and Brush Attachment (Disk machines)"]
[null,null,"Front Water Fill Port",null,"No-Tool Squeegee Change"]
[null,null,"Automatic: Water On / Off",null,"Breakaway Squeegee Design w/ Integrated P-Trap"]
[null,null,"      Brush On / Off",null,"Factory Set Squeegee Assembly for Maximum Recovery"]
[null,null,"      Brush Shutoff at 80% Discharge",null,"Linard Front/Linatex Rear Squeegee Blades with Tool-less Replacement"]
[null,null,"Integrated Accessory Rails with Bag Hang hooks",null,"Includes Standard Pad Drivers or Scrubbing Brushes (Select One)"]
[null,null,"Excellent Ergonomic Controls Design",null,"Free Floating Head Skirt (disk machines)"]
[null,null,"Pro-Membrane™ Control Panel w/ 3 Zone Settings™ (Standard)",null,"Hour Meter"]
[null,null,"Pro-Panel™ LCD Touch Screen Control Panel (Option)",null,"Operators manual"]
[null,null,"        On-Demand Tutorial Videos & 4 Customizable Zone Settings",null,"Jacking Points/Shipping Tie Downs"]
[null,null,"Integrated Heat Sync for Electronics Protection",null,"Sealed Electrical Connectors in key areas"]
[null,null,"Optional ec-H2O NanoClean™ Equipped Models Include:",null,"Drain hose with pinch cuff to control water flow"]
[null,null,"Electrically Converted Water Technology System"]
[null,null,"Two Scrubbing Modes: ec-H2O NanoCleanTM & Conventional Scrub"]
[null,null,null,null,null,null,"Same "]
[null,null,"TENNANT COMPANY WARRANTY"]
[null,null,"3 YEARS OR 2000 HOURS - PARTS"]
[null,null,"1 YEAR - BATTERY CHARGERS"]
[null,null,"3 YEARS OR 2000 HOURS ORBITAL SCRUB HEAD ISOLATORS"]
[null,null,"2 YEARS - LABOR, 6 MONTHS - TRAVEL"]
[null,null,"10 YEARS ON DURAMERTM ROTOMOLD TANKS"]
[]
[null,null,null,null,"                Quote Request Information"]
[null,null,null,null,null,null,"Fax (quote only)"]
[null,null,null,null,null,null,"Mail (quote,lit, specs)"]
[null,null,null,null,null,null,"Fax + Mail"]
[]
[null,null,null,null,"                Primary Use"]
[null,null,null,null,null,null,"Inside"]
[null,null,null,null,null,null,"Outside"]
[]
[null,null,"Description","Reference #","Price Each","Qty","Extended Price"]
[null,"Base Configuration",null,null,null,{"$f":"SUM(F57,F64,F68,F74,F78,F90)","v":0},null,{"$f":"IFERROR(IFERROR(VLOOKUP(D56,Surcharge!A:B,2,FALSE)*F56, VLOOKUP(D56 & \"\",Surcharge!A:B,2,FALSE)*F56), \"\")","v":""}]
[null,null,"Cleaning Type",null,null,{"$f":"SUM(F58:F62)","v":0},null,{"$f":"IFERROR(IFERROR(VLOOKUP(D57,Surcharge!A:B,2,FALSE)*F57, VLOOKUP(D57 & \"\",Surcharge!A:B,2,FALSE)*F57), \"\")","v":""}]
[null,null,"T500 Walk-Behind Scrubber 650 mm / 26\" Disk","T500-650-D",16742,null,{"$f":"F58*E58","v":0},{"$f":"IFERROR(IFERROR(VLOOKUP(D58,Surcharge!A:B,2,FALSE)*F58, VLOOKUP(D58 & \"\",Surcharge!A:B,2,FALSE)*F58), \"\")","v":0},null,null,null,null,null,null,null,{"$f":"VLOOKUP(Q58,#REF!,5,FALSE)","v":{"$error":"#REF!"}},"M-T500VK_BASE_T500-650-D"]
[null,null,"T500 Walk-Behind Scrubber 700 mm / 28\" Disk","T500-700-D",18217,null,{"$f":"F59*E59","v":0},{"$f":"IFERROR(IFERROR(VLOOKUP(D59,Surcharge!A:B,2,FALSE)*F59, VLOOKUP(D59 & \"\",Surcharge!A:B,2,FALSE)*F59), \"\")","v":0},null,null,null,null,null,null,null,{"$f":"VLOOKUP(Q59,#REF!,5,FALSE)","v":{"$error":"#REF!"}},"M-T500VK_BASE_T500-700-D"]
[null,null,"T500 Walk-Behind Scrubber 800 mm / 32\" Disk","T500-800-D",19206,null,{"$f":"F60*E60","v":0},{"$f":"IFERROR(IFERROR(VLOOKUP(D60,Surcharge!A:B,2,FALSE)*F60, VLOOKUP(D60 & \"\",Surcharge!A:B,2,FALSE)*F60), \"\")","v":0},null,null,null,null,null,null,null,{"$f":"VLOOKUP(Q60,#REF!,5,FALSE)","v":{"$error":"#REF!"}},"M-T500VK_BASE_T500-800-D"]
[null,null,"T500 Walk-Behind Scrubber 700 mm / 28\" Cylindrical","T500-700-C",19425,null,{"$f":"F61*E61","v":0},{"$f":"IFERROR(IFERROR(VLOOKUP(D61,Surcharge!A:B,2,FALSE)*F61, VLOOKUP(D61 & \"\",Surcharge!A:B,2,FALSE)*F61), \"\")","v":0},null,null,null,null,null,null,null,{"$f":"VLOOKUP(Q61,#REF!,5,FALSE)","v":{"$error":"#REF!"}},"M-T500VK_BASE_T500-700-C"]
[null,null,"T500 Walk-Behind Scrubber 700 mm / 28\" Orbital","T500-700-O",18921,null,{"$f":"F62*E62","v":0},{"$f":"IFERROR(IFERROR(VLOOKUP(D62,Surcharge!A:B,2,FALSE)*F62, VLOOKUP(D62 & \"\",Surcharge!A:B,2,FALSE)*F62), \"\")","v":0},null,null,null,null,null,null,null,{"$f":"VLOOKUP(Q62,#REF!,5,FALSE)","v":{"$error":"#REF!"}},"M-T500VK_BASE_T500-700-O"]
[null,null,null,null,null,null,null,{"$f":"IFERROR(IFERROR(VLOOKUP(D63,Surcharge!A:B,2,FALSE)*F63, VLOOKUP(D63 & \"\",Surcharge!A:B,2,FALSE)*F63), \"\")","v":""},null,null,null,null,null,null,null,null,""]
[null,null,"Trim Level",null,"Price",{"$f":"SUM(F65:F66)","v":0},null,{"$f":"IFERROR(IFERROR(VLOOKUP(D64,Surcharge!A:B,2,FALSE)*F64, VLOOKUP(D64 & \"\",Surcharge!A:B,2,FALSE)*F64), \"\")","v":""},null,null,null,null,null,null,null,null,""]
[null,null,"Pro Membrane™ Control Panel","MCP-T500","N/C",null,{"$f":"IF(F65=0,\" \",\"N/C\")","v":" "},{"$f":"IFERROR(IFERROR(VLOOKUP(D65,Surcharge!A:B,2,FALSE)*F65, VLOOKUP(D65 & \"\",Surcharge!A:B,2,FALSE)*F65), \"\")","v":""},null,null,null,null,null,null,null,{"$f":"VLOOKUP(Q65,#REF!,5,FALSE)","v":{"$error":"#REF!"}},"M-T500VK_TRM_PMEM"]
[null,null,"Pro-Panel™ Control Panel","PPC-T500",951,null,{"$f":"F66*E66","v":0},{"$f":"IFERROR(IFERROR(VLOOKUP(D66,Surcharge!A:B,2,FALSE)*F66, VLOOKUP(D66 & \"\",Surcharge!A:B,2,FALSE)*F66), \"\")","v":""},null,null,null,null,null,null,null,{"$f":"VLOOKUP(Q66,#REF!,5,FALSE)","v":{"$error":"#REF!"}},"M-T500VK_TRM_PPAN"]
[null,null,null,null,null,null,null,{"$f":"IFERROR(IFERROR(VLOOKUP(D67,Surcharge!A:B,2,FALSE)*F67, VLOOKUP(D67 & \"\",Surcharge!A:B,2,FALSE)*F67), \"\")","v":""},null,null,null,null,null,null,null,null,""]
[null,null,"Cleaning Technology: (conventional is standard,  ec-H2O NanoClean can also operate in conventional mode)",null,null,{"$f":"SUM(F69:F72)","v":0},null,{"$f":"IFERROR(IFERROR(VLOOKUP(D68,Surcharge!A:B,2,FALSE)*F68, VLOOKUP(D68 & \"\",Surcharge!A:B,2,FALSE)*F68), \"\")","v":""},null,null,null,null,null,null,null,null,""]
[null,null,"ec-H2O NanoClean™","ec-H2ONC-T500",3040,null,{"$f":"F69*E69","v":0},{"$f":"IFERROR(IFERROR(VLOOKUP(D69,Surcharge!A:B,2,FALSE)*F69, VLOOKUP(D69 & \"\",Surcharge!A:B,2,FALSE)*F69), \"\")","v":""},null,null,null,{"$f":"SUM(F69)","v":0},"Surcharge Qty",null,null,{"$f":"VLOOKUP(Q69,#REF!,5,FALSE)","v":{"$error":"#REF!"}},"M-T500VK_CLNTCH_ECH2ON"]
[null,null,null,null,null,null,null,{"$f":"IFERROR(IFERROR(VLOOKUP(D70,Surcharge!A:B,2,FALSE)*F70, VLOOKUP(D70 & \"\",Surcharge!A:B,2,FALSE)*F70), \"\")","v":""},null,null,null,{"$f":"SUM(F70)","v":0},"Surcharge Qty"]
[null,null,"Severe Environment Switch  (Note 1)",9015322,613,0,{"$f":"F71*E71","v":0},{"$f":"IFERROR(IFERROR(VLOOKUP(D71,Surcharge!A:B,2,FALSE)*F71, VLOOKUP(D71 & \"\",Surcharge!A:B,2,FALSE)*F71), \"\")","v":""},null,null,null,null,null,null,null,{"$f":"VLOOKUP(Q71,#REF!,5,FALSE)","v":{"$error":"#REF!"}},"M-T500VK_SVEEVMSWH"]
[null,null,"Severe Environment™ Switch Lockout  (Note 2)",9017886,64,0,{"$f":"F72*E72","v":0},null,null,null,null,null,null,null,null,{"$f":"VLOOKUP(Q72,#REF!,5,FALSE)","v":{"$error":"#REF!"}},"M-T500VK_SVEEVMSWHLKT"]
[null,null,null,null,null,null,null,{"$f":"IFERROR(IFERROR(VLOOKUP(D73,Surcharge!A:B,2,FALSE)*F73, VLOOKUP(D73 & \"\",Surcharge!A:B,2,FALSE)*F73), \"\")","v":""},null,null,null,null,null,null,null,null,""]
[null,null,"Squeegee Width  (Note 3)",null,null,{"$f":"SUM(F75:F76)","v":0},null,{"$f":"IFERROR(IFERROR(VLOOKUP(D74,Surcharge!A:B,2,FALSE)*F74, VLOOKUP(D74 & \"\",Surcharge!A:B,2,FALSE)*F74), \"\")","v":""},null,null,null,0,"Surcharge Qty",null,null,null,""]
[null,null,"Standard","STD-T500","N/C",null,{"$f":"IF(F75=0,\" \",\"N/C\")","v":" "},{"$f":"IFERROR(IFERROR(VLOOKUP(D75,Surcharge!A:B,2,FALSE)*F75, VLOOKUP(D75 & \"\",Surcharge!A:B,2,FALSE)*F75), \"\")","v":""},null,null,null,0,"Surcharge Qty",null,null,{"$f":"VLOOKUP(Q75,#REF!,5,FALSE)","v":{"$error":"#REF!"}},"M-T500VK_SQEWDT_STD"]
[null,null,"Narrow Aisle","NR-T500","N/C",null,{"$f":"IF(F76=0,\" \",\"N/C\")","v":" "},{"$f":"IFERROR(IFERROR(VLOOKUP(D76,Surcharge!A:B,2,FALSE)*F76, VLOOKUP(D76 & \"\",Surcharge!A:B,2,FALSE)*F76), \"\")","v":""},null,null,null,0,"Surcharge Qty",null,null,{"$f":"VLOOKUP(Q76,#REF!,5,FALSE)","v":{"$error":"#REF!"}},"M-T500VK_SQEWDT_NWA"]
[null,null,null,null,null,null,null,{"$f":"IFERROR(IFERROR(VLOOKUP(D77,Surcharge!A:B,2,FALSE)*F77, VLOOKUP(D77 & \"\",Surcharge!A:B,2,FALSE)*F77), \"\")","v":""},null,null,null,0,"Surcharge Qty"]
[null,null,"Battery Type  (Note 4)",null,null,{"$f":"SUM(F79:F88)","v":0},null,{"$f":"IFERROR(IFERROR(VLOOKUP(D78,Surcharge!A:B,2,FALSE)*F78, VLOOKUP(D78 & \"\",Surcharge!A:B,2,FALSE)*F78), \"\")","v":""},null,null,null,0,"Surcharge Qty"]
[null,null,"Wet 225AH C/20",9015372,"N/C",null,{"$f":"IF(F79=0,\" \",\"N/C\")","v":" "},{"$f":"IFERROR(IFERROR(VLOOKUP(D79,Surcharge!A:B,2,FALSE)*F79, VLOOKUP(D79 & \"\",Surcharge!A:B,2,FALSE)*F79), \"\")","v":""},null,null,null,0,"Surcharge Qty",null,null,{"$f":"VLOOKUP(Q79,#REF!,5,FALSE)","v":{"$error":"#REF!"}},"M-T500VK_BTY_W225C20"]
[null,null,"Wet 260AH C/20",9015373,454,null,{"$f":"F80*E80","v":0},{"$f":"IFERROR(IFERROR(VLOOKUP(D80,Surcharge!A:B,2,FALSE)*F80, VLOOKUP(D80 & \"\",Surcharge!A:B,2,FALSE)*F80), \"\")","v":""},null,null,null,0,"Surcharge Qty",null,null,{"$f":"VLOOKUP(Q80,#REF!,5,FALSE)","v":{"$error":"#REF!"}},"M-T500VK_BTY_W260C20"]
[null,null,"Sealed/MF AGM 220AH C/20",9015374,1654,null,{"$f":"F81*E81","v":0},{"$f":"IFERROR(IFERROR(VLOOKUP(D81,Surcharge!A:B,2,FALSE)*F81, VLOOKUP(D81 & \"\",Surcharge!A:B,2,FALSE)*F81), \"\")","v":""},null,null,null,null,null,null,null,{"$f":"VLOOKUP(Q81,#REF!,5,FALSE)","v":{"$error":"#REF!"}},"M-T500VK_BTY_A220C20"]
[null,null,"Sealed/MF Fast Charge TPPL 183AH C/20",9021148,2117,null,{"$f":"F82*E82","v":0},null,null,null,null,null,null,null,null,{"$f":"VLOOKUP(Q82,#REF!,5,FALSE)","v":{"$error":"#REF!"}},"M-T500VK_BTY_F183C20"]
[null,null,"Li-Ion 24v, 90AH  (Note 4a)",9022774,3451,null,{"$f":"F83*E83","v":0}]
[null,null,"Li-Ion 24v, 180AH  (Note 4a)",9022775,6495,null,0]
[null,null,"Without",9015370,-450,null,{"$f":"F85*E85","v":0},{"$f":"IFERROR(IFERROR(VLOOKUP(D85,Surcharge!A:B,2,FALSE)*F85, VLOOKUP(D85 & \"\",Surcharge!A:B,2,FALSE)*F85), \"\")","v":""},null,null,null,null,null,null,null,{"$f":"VLOOKUP(Q85,#REF!,5,FALSE)","v":{"$error":"#REF!"}},"M-T500VK_BTY_WO"]
[null,null,null,null," ",null,null,{"$f":"IFERROR(IFERROR(VLOOKUP(D86,Surcharge!A:B,2,FALSE)*F86, VLOOKUP(D86 & \"\",Surcharge!A:B,2,FALSE)*F86), \"\")","v":""},null,null,null,{"$f":"SUM(F86)","v":0},"Surcharge Qty"]
[null,null,"Smart-Fill Automatic Battery Watering System  (Note 5)",9015383,981,null,{"$f":"F87*E87","v":0},{"$f":"IFERROR(IFERROR(VLOOKUP(D87,Surcharge!A:B,2,FALSE)*F87, VLOOKUP(D87 & \"\",Surcharge!A:B,2,FALSE)*F87), \"\")","v":""},null,null,null,null,null,null,null,{"$f":"VLOOKUP(Q87,#REF!,5,FALSE)","v":{"$error":"#REF!"}},"M-T500VK_BTYWTRSYS_SF"]
[null,null,"Manual Battery Watering System  (Note 5)",9009619,573,null,{"$f":"F88*E88","v":0},{"$f":"IFERROR(IFERROR(VLOOKUP(D88,Surcharge!A:B,2,FALSE)*F88, VLOOKUP(D88 & \"\",Surcharge!A:B,2,FALSE)*F88), \"\")","v":""},null,null,null,null,null,null,null,{"$f":"VLOOKUP(Q88,#REF!,5,FALSE)","v":{"$error":"#REF!"}},"M-T500VK_BTYWTRSYS_ML"]
[null,null,null,null," ",null,null,{"$f":"IFERROR(IFERROR(VLOOKUP(D89,Surcharge!A:B,2,FALSE)*F89, VLOOKUP(D89 & \"\",Surcharge!A:B,2,FALSE)*F89), \"\")","v":""}]
[null,null,"Charger  (Note 6)","Reference Number"," ",{"$f":"SUM(F91:F95)","v":0},null,{"$f":"IFERROR(IFERROR(VLOOKUP(D90,Surcharge!A:B,2,FALSE)*F90, VLOOKUP(D90 & \"\",Surcharge!A:B,2,FALSE)*F90), \"\")","v":""}]
[null,null,"25A 100-240V AC 50/60Hz 1Ph - On-Board  \n    (IRIS Battery Metric Compatible)",9015396,"N/C",null,{"$f":"IF(F91=0,\" \",\"N/C\")","v":" "},{"$f":"IFERROR(IFERROR(VLOOKUP(D91,Surcharge!A:B,2,FALSE)*F91, VLOOKUP(D91 & \"\",Surcharge!A:B,2,FALSE)*F91), \"\")","v":""},null,null,null,null,null,null,null,{"$f":"VLOOKUP(Q91,#REF!,5,FALSE)","v":{"$error":"#REF!"}},"M-T500VK_CHG_25A100V5060H1"]
[null,null,"27A 100-240V AC 50/60Hz 1Ph - Off-Board Charger (Li-Ion Batteries)",9052023,"N/C",null,{"$f":"IF(F92=0,\" \",\"N/C\")","v":" "},null,null,null,null,null,null,null,null,{"$f":"VLOOKUP(Q92,#REF!,5,FALSE)","v":{"$error":"#REF!"}},"M-T500VK_CHG_27A100240V5060H"]
[null,null,"27A 100-240V AC 50/60Hz 1Ph - On-Board Charger (Fast Charge TPPL 183AH Battery)",9021169,188,null,{"$f":"IF(F93=0,\" \",\"N/C\")","v":" "}]
[null,null,"27A 100-240V AC 50/60Hz 1Ph - On-Board Charger (Li-Ion Batteries)",9022824,"N/C",null," "]
[null,null,"41A 100-240V AC 50/60Hz 1Ph - On-Board Charger (Li-Ion Batteries)",9022827,418,null,{"$f":"F95*E95","v":0}]
[null,null,null,null,null,null,null,{"$f":"IFERROR(IFERROR(VLOOKUP(D96,Surcharge!A:B,2,FALSE)*F96, VLOOKUP(D96 & \"\",Surcharge!A:B,2,FALSE)*F96), \"\")","v":""}]
[null,"Machine Protection & Safety",null,null,null,{"$f":"SUM(F98:F98)","v":0},null,{"$f":"IFERROR(IFERROR(VLOOKUP(D97,Surcharge!A:B,2,FALSE)*F97, VLOOKUP(D97 & \"\",Surcharge!A:B,2,FALSE)*F97), \"\")","v":""}]
[null,null,"Parking Brake",9015224,195,null,{"$f":"F98*E98","v":0},{"$f":"IFERROR(IFERROR(VLOOKUP(D98,Surcharge!A:B,2,FALSE)*F98, VLOOKUP(D98 & \"\",Surcharge!A:B,2,FALSE)*F98), \"\")","v":""},null,null,null,null,null,null,null,{"$f":"VLOOKUP(Q98,#REF!,5,FALSE)","v":{"$error":"#REF!"}},"M-T500VK_PRGBRK"]
[null,null,null,null," ",null,null,{"$f":"IFERROR(IFERROR(VLOOKUP(D99,Surcharge!A:B,2,FALSE)*F99, VLOOKUP(D99 & \"\",Surcharge!A:B,2,FALSE)*F99), \"\")","v":""}]
[null,"Brushes and Pads  (Note 7)",null,null,null,{"$f":"SUM(F101,F111,F121,F131,F135)","v":0},null,{"$f":"IFERROR(IFERROR(VLOOKUP(D100,Surcharge!A:B,2,FALSE)*F100, VLOOKUP(D100 & \"\",Surcharge!A:B,2,FALSE)*F100), \"\")","v":""}]
[null,null,"650 mm / 26\" Disk Scrubbing Brushes / Pads (2 Required - 13\" each)",null," ",{"$f":"SUM(F102:F109)","v":0},null,{"$f":"IFERROR(IFERROR(VLOOKUP(D101,Surcharge!A:B,2,FALSE)*F101, VLOOKUP(D101 & \"\",Surcharge!A:B,2,FALSE)*F101), \"\")","v":""}]
[null,null,"Polypropylene Brush",1223989,"N/C",null,{"$f":"IF(F102=0,\" \",\"N/C\")","v":" "},{"$f":"IFERROR(IFERROR(VLOOKUP(D102,Surcharge!A:B,2,FALSE)*F102, VLOOKUP(D102 & \"\",Surcharge!A:B,2,FALSE)*F102), \"\")","v":""},null,null,null,null,null,null,null,{"$f":"VLOOKUP(Q102,#REF!,5,FALSE)","v":{"$error":"#REF!"}},"M-T500VK_CLNTOL_D650PYP"]
[null,null,"Nylon Brush",1223991,"N/C",null,{"$f":"IF(F103=0,\" \",\"N/C\")","v":" "},{"$f":"IFERROR(IFERROR(VLOOKUP(D103,Surcharge!A:B,2,FALSE)*F103, VLOOKUP(D103 & \"\",Surcharge!A:B,2,FALSE)*F103), \"\")","v":""},null,null,null,null,null,null,null,{"$f":"VLOOKUP(Q103,#REF!,5,FALSE)","v":{"$error":"#REF!"}},"M-T500VK_CLNTOL_D650NYL"]
[null,null,null,null," ",null,null,{"$f":"IFERROR(IFERROR(VLOOKUP(D104,Surcharge!A:B,2,FALSE)*F104, VLOOKUP(D104 & \"\",Surcharge!A:B,2,FALSE)*F104), \"\")","v":""}]
[null,null,"Pad Driver",1220220,"N/C",null,{"$f":"IF(F105=0,\" \",\"N/C\")","v":" "},{"$f":"IFERROR(IFERROR(VLOOKUP(D105,Surcharge!A:B,2,FALSE)*F105, VLOOKUP(D105 & \"\",Surcharge!A:B,2,FALSE)*F105), \"\")","v":""},null,null,null,null,null,null,null,{"$f":"VLOOKUP(Q105,#REF!,5,FALSE)","v":{"$error":"#REF!"}},"M-T500VK_CLNTOL_D650PAD"]
[null,null,"Pads ",null," ",{"$f":"SUM(F107:F109)","v":0},null,{"$f":"IFERROR(IFERROR(VLOOKUP(D106,Surcharge!A:B,2,FALSE)*F106, VLOOKUP(D106 & \"\",Surcharge!A:B,2,FALSE)*F106), \"\")","v":""}]
[null,null,"Blue Scrubbing - 3M",89047,17.2,null,{"$f":"F107*E107","v":0},{"$f":"IFERROR(IFERROR(VLOOKUP(D107,Surcharge!A:B,2,FALSE)*F107, VLOOKUP(D107 & \"\",Surcharge!A:B,2,FALSE)*F107), \"\")","v":""},null,null,null,null,null,null,null,{"$f":"VLOOKUP(Q107,#REF!,5,FALSE)","v":{"$error":"#REF!"}},"M-T500VK_PADTYP_650BLU3"]
[null,null,"Red Cleaning - 3M",89048,17.2,null,{"$f":"F108*E108","v":0},{"$f":"IFERROR(IFERROR(VLOOKUP(D108,Surcharge!A:B,2,FALSE)*F108, VLOOKUP(D108 & \"\",Surcharge!A:B,2,FALSE)*F108), \"\")","v":""},null,null,null,null,null,null,null,{"$f":"VLOOKUP(Q108,#REF!,5,FALSE)","v":{"$error":"#REF!"}},"M-T500VK_PADTYP_650RED3"]
[null,null,"White Polishing - 3M",89049,17.2,null,{"$f":"F109*E109","v":0},{"$f":"IFERROR(IFERROR(VLOOKUP(D109,Surcharge!A:B,2,FALSE)*F109, VLOOKUP(D109 & \"\",Surcharge!A:B,2,FALSE)*F109), \"\")","v":""},null,null,null,null,null,null,null,{"$f":"VLOOKUP(Q109,#REF!,5,FALSE)","v":{"$error":"#REF!"}},"M-T500VK_PADTYP_650WHT3"]
[null,null,null,null," ",null,null,{"$f":"IFERROR(IFERROR(VLOOKUP(D110,Surcharge!A:B,2,FALSE)*F110, VLOOKUP(D110 & \"\",Surcharge!A:B,2,FALSE)*F110), \"\")","v":""}]
[null,null,"700 mm / 28\" Disk Scrubbing Brushes / Pads (2 Required - 14\" each)",null," ",{"$f":"SUM(F112:F119)","v":0},null,{"$f":"IFERROR(IFERROR(VLOOKUP(D111,Surcharge!A:B,2,FALSE)*F111, VLOOKUP(D111 & \"\",Surcharge!A:B,2,FALSE)*F111), \"\")","v":""}]
[null,null,"Polypropylene",1220218,"N/C",null,{"$f":"IF(F112=0,\" \",\"N/C\")","v":" "},{"$f":"IFERROR(IFERROR(VLOOKUP(D112,Surcharge!A:B,2,FALSE)*F112, VLOOKUP(D112 & \"\",Surcharge!A:B,2,FALSE)*F112), \"\")","v":""},null,null,null,null,null,null,null,{"$f":"VLOOKUP(Q112,#REF!,5,FALSE)","v":{"$error":"#REF!"}},"M-T500VK_CLNTOL_D700PYP"]
[null,null,"Nylon",1221541,"N/C",null,{"$f":"IF(F113=0,\" \",\"N/C\")","v":" "},{"$f":"IFERROR(IFERROR(VLOOKUP(D113,Surcharge!A:B,2,FALSE)*F113, VLOOKUP(D113 & \"\",Surcharge!A:B,2,FALSE)*F113), \"\")","v":""},null,null,null,null,null,null,null,{"$f":"VLOOKUP(Q113,#REF!,5,FALSE)","v":{"$error":"#REF!"}},"M-T500VK_CLNTOL_D700NYL"]
[null,null,null,null," "]
[null,null,"Pad Driver",1220221,"N/C",null,{"$f":"IF(F115=0,\" \",\"N/C\")","v":" "},{"$f":"IFERROR(IFERROR(VLOOKUP(D115,Surcharge!A:B,2,FALSE)*F115, VLOOKUP(D115 & \"\",Surcharge!A:B,2,FALSE)*F115), \"\")","v":""},null,null,null,null,null,null,null,{"$f":"VLOOKUP(Q115,#REF!,5,FALSE)","v":{"$error":"#REF!"}},"M-T500VK_CLNTOL_D700PAD"]
[null,null,"Pads ",null," ",{"$f":"SUM(F117:F119)","v":0},null,{"$f":"IFERROR(IFERROR(VLOOKUP(D116,Surcharge!A:B,2,FALSE)*F116, VLOOKUP(D116 & \"\",Surcharge!A:B,2,FALSE)*F116), \"\")","v":""}]
[null,null,"Blue Scrubbing - 3M",222326,18.2,null,{"$f":"F117*E117","v":0},{"$f":"IFERROR(IFERROR(VLOOKUP(D117,Surcharge!A:B,2,FALSE)*F117, VLOOKUP(D117 & \"\",Surcharge!A:B,2,FALSE)*F117), \"\")","v":""},null,null,null,null,null,null,null,{"$f":"VLOOKUP(Q117,#REF!,5,FALSE)","v":{"$error":"#REF!"}},"M-T500VK_PADTYP_700BLU3"]
[null,null,"Red Cleaning - 3M",222325,18.2,null,{"$f":"F118*E118","v":0},{"$f":"IFERROR(IFERROR(VLOOKUP(D118,Surcharge!A:B,2,FALSE)*F118, VLOOKUP(D118 & \"\",Surcharge!A:B,2,FALSE)*F118), \"\")","v":""},null,null,null,null,null,null,null,{"$f":"VLOOKUP(Q118,#REF!,5,FALSE)","v":{"$error":"#REF!"}},"M-T500VK_PADTYP_700RED3"]
[null,null,"White Polishing - 3M",222324,18.2,null,{"$f":"F119*E119","v":0},{"$f":"IFERROR(IFERROR(VLOOKUP(D119,Surcharge!A:B,2,FALSE)*F119, VLOOKUP(D119 & \"\",Surcharge!A:B,2,FALSE)*F119), \"\")","v":""},null,null,null,null,null,null,null,{"$f":"VLOOKUP(Q119,#REF!,5,FALSE)","v":{"$error":"#REF!"}},"M-T500VK_PADTYP_700WHT3"]
[null,null,null,null," ",null,null,{"$f":"IFERROR(IFERROR(VLOOKUP(D120,Surcharge!A:B,2,FALSE)*F120, VLOOKUP(D120 & \"\",Surcharge!A:B,2,FALSE)*F120), \"\")","v":""}]
[null,null,"800 mm / 32\" Disk Scrubbing Brushes / Pads (2 Required - 16\" each)",null," ",{"$f":"SUM(F122:F129)","v":0},null,{"$f":"IFERROR(IFERROR(VLOOKUP(D121,Surcharge!A:B,2,FALSE)*F121, VLOOKUP(D121 & \"\",Surcharge!A:B,2,FALSE)*F121), \"\")","v":""}]
[null,null,"Polypropylene",1220216,"N/C",null,{"$f":"IF(F122=0,\" \",\"N/C\")","v":" "},{"$f":"IFERROR(IFERROR(VLOOKUP(D122,Surcharge!A:B,2,FALSE)*F122, VLOOKUP(D122 & \"\",Surcharge!A:B,2,FALSE)*F122), \"\")","v":""},null,null,null,null,null,null,null,{"$f":"VLOOKUP(Q122,#REF!,5,FALSE)","v":{"$error":"#REF!"}},"M-T500VK_CLNTOL_D800PYP"]
[null,null,"Nylon",1220215,"N/C",null,{"$f":"IF(F123=0,\" \",\"N/C\")","v":" "},{"$f":"IFERROR(IFERROR(VLOOKUP(D123,Surcharge!A:B,2,FALSE)*F123, VLOOKUP(D123 & \"\",Surcharge!A:B,2,FALSE)*F123), \"\")","v":""},null,null,null,null,null,null,null,{"$f":"VLOOKUP(Q123,#REF!,5,FALSE)","v":{"$error":"#REF!"}},"M-T500VK_CLNTOL_D800NYL"]
[null,null,null,null," "]
[null,null,"Pad Driver",1220222,"N/C",null,{"$f":"IF(F125=0,\" \",\"N/C\")","v":" "},{"$f":"IFERROR(IFERROR(VLOOKUP(D125,Surcharge!A:B,2,FALSE)*F125, VLOOKUP(D125 & \"\",Surcharge!A:B,2,FALSE)*F125), \"\")","v":""},null,null,null,null,null,null,null,{"$f":"VLOOKUP(Q125,#REF!,5,FALSE)","v":{"$error":"#REF!"}},"M-T500VK_CLNTOL_D800PAD"]
[null,null,"Pads ",null," ",{"$f":"SUM(F127:F129)","v":0},null,{"$f":"IFERROR(IFERROR(VLOOKUP(D126,Surcharge!A:B,2,FALSE)*F126, VLOOKUP(D126 & \"\",Surcharge!A:B,2,FALSE)*F126), \"\")","v":""}]
[null,null,"Blue Scrubbing - 3M","63248-2",20.399999999999999,null,{"$f":"F127*E127","v":0},{"$f":"IFERROR(IFERROR(VLOOKUP(D127,Surcharge!A:B,2,FALSE)*F127, VLOOKUP(D127 & \"\",Surcharge!A:B,2,FALSE)*F127), \"\")","v":""},null,null,null,null,null,null,null,{"$f":"VLOOKUP(Q127,#REF!,5,FALSE)","v":{"$error":"#REF!"}},"M-T500VK_PADTYP_800BLU3"]
[null,null,"Red Cleaning - 3M","63248-3",20.399999999999999,null,{"$f":"F128*E128","v":0},{"$f":"IFERROR(IFERROR(VLOOKUP(D128,Surcharge!A:B,2,FALSE)*F128, VLOOKUP(D128 & \"\",Surcharge!A:B,2,FALSE)*F128), \"\")","v":""},null,null,null,null,null,null,null,{"$f":"VLOOKUP(Q128,#REF!,5,FALSE)","v":{"$error":"#REF!"}},"M-T500VK_PADTYP_800RED3"]
[null,null,"White Polishing - 3M","63248-4",20.399999999999999,null,{"$f":"F129*E129","v":0},{"$f":"IFERROR(IFERROR(VLOOKUP(D129,Surcharge!A:B,2,FALSE)*F129, VLOOKUP(D129 & \"\",Surcharge!A:B,2,FALSE)*F129), \"\")","v":""},null,null,null,null,null,null,null,{"$f":"VLOOKUP(Q129,#REF!,5,FALSE)","v":{"$error":"#REF!"}},"M-T500VK_PADTYP_800WHT3"]
[null,null,null,null," ",null,null,{"$f":"IFERROR(IFERROR(VLOOKUP(D130,Surcharge!A:B,2,FALSE)*F130, VLOOKUP(D130 & \"\",Surcharge!A:B,2,FALSE)*F130), \"\")","v":""}]
[null,null,"700 mm / 28\" Cylindrical Scrubbing Brushes  (2 Required)",null,null,{"$f":"SUM(F132:F133)","v":0},null,{"$f":"IFERROR(IFERROR(VLOOKUP(D131,Surcharge!A:B,2,FALSE)*F131, VLOOKUP(D131 & \"\",Surcharge!A:B,2,FALSE)*F131), \"\")","v":""}]
[null,null,"Polypropylene",222304,"N/C",null,{"$f":"IF(F132=0,\" \",\"N/C\")","v":" "},{"$f":"IFERROR(IFERROR(VLOOKUP(D132,Surcharge!A:B,2,FALSE)*F132, VLOOKUP(D132 & \"\",Surcharge!A:B,2,FALSE)*F132), \"\")","v":""},null,null,null,null,null,null,null,{"$f":"VLOOKUP(Q132,#REF!,5,FALSE)","v":{"$error":"#REF!"}},"M-T500VK_CLNTOL_C700PYP"]
[null,null,"Nylon",222305,"N/C",null,{"$f":"IF(F133=0,\" \",\"N/C\")","v":" "},{"$f":"IFERROR(IFERROR(VLOOKUP(D133,Surcharge!A:B,2,FALSE)*F133, VLOOKUP(D133 & \"\",Surcharge!A:B,2,FALSE)*F133), \"\")","v":""},null,null,null,null,null,null,null,{"$f":"VLOOKUP(Q133,#REF!,5,FALSE)","v":{"$error":"#REF!"}},"M-T500VK_CLNTOL_C700NYL"]
[null,null,null,null," ",null,null,{"$f":"IFERROR(IFERROR(VLOOKUP(D134,Surcharge!A:B,2,FALSE)*F134, VLOOKUP(D134 & \"\",Surcharge!A:B,2,FALSE)*F134), \"\")","v":""}]
[null,null,"700 mm / 28\" Orbital Pad Driver / Pads (1 Required)",null," ",{"$f":"SUM(F136:F140)","v":0},null,{"$f":"IFERROR(IFERROR(VLOOKUP(D135,Surcharge!A:B,2,FALSE)*F135, VLOOKUP(D135 & \"\",Surcharge!A:B,2,FALSE)*F135), \"\")","v":""}]
[null,null,"Pad Driver - Red Backer Pad",1221839,"N/C",null,{"$f":"IF(F136=0,\" \",\"N/C\")","v":" "},{"$f":"IFERROR(IFERROR(VLOOKUP(D136,Surcharge!A:B,2,FALSE)*F136, VLOOKUP(D136 & \"\",Surcharge!A:B,2,FALSE)*F136), \"\")","v":""},null,null,null,null,null,null,null,{"$f":"VLOOKUP(Q136,#REF!,5,FALSE)","v":{"$error":"#REF!"}},"M-T500VK_CLNTOL_O700PAD"]
[null,null,"Pads ",null," ",{"$f":"SUM(F138:F140)","v":0},null,{"$f":"IFERROR(IFERROR(VLOOKUP(D137,Surcharge!A:B,2,FALSE)*F137, VLOOKUP(D137 & \"\",Surcharge!A:B,2,FALSE)*F137), \"\")","v":""}]
[null,null,"Blue Scrubbing - 3M",1223247,61,null,{"$f":"F138*E138","v":0},{"$f":"IFERROR(IFERROR(VLOOKUP(D138,Surcharge!A:B,2,FALSE)*F138, VLOOKUP(D138 & \"\",Surcharge!A:B,2,FALSE)*F138), \"\")","v":""},null,null,null,null,null,null,null,{"$f":"VLOOKUP(Q138,#REF!,5,FALSE)","v":{"$error":"#REF!"}},"M-T500VK_PADTYP_O700BLU3"]
[null,null,"Red Cleaning - 3M",1218157,61,null,{"$f":"F139*E139","v":0},{"$f":"IFERROR(IFERROR(VLOOKUP(D139,Surcharge!A:B,2,FALSE)*F139, VLOOKUP(D139 & \"\",Surcharge!A:B,2,FALSE)*F139), \"\")","v":""},null,null,null,null,null,null,null,{"$f":"VLOOKUP(Q139,#REF!,5,FALSE)","v":{"$error":"#REF!"}},"M-T500VK_PADTYP_O700RED3"]
[null,null,"White Polishing - 3M",1223246,61,null,{"$f":"F140*E140","v":0},{"$f":"IFERROR(IFERROR(VLOOKUP(D140,Surcharge!A:B,2,FALSE)*F140, VLOOKUP(D140 & \"\",Surcharge!A:B,2,FALSE)*F140), \"\")","v":""},null,null,null,null,null,null,null,{"$f":"VLOOKUP(Q140,#REF!,5,FALSE)","v":{"$error":"#REF!"}},"M-T500VK_PADTYP_O700WHT3"]
[null,null,null,null," ",null,null,{"$f":"IFERROR(IFERROR(VLOOKUP(D141,Surcharge!A:B,2,FALSE)*F141, VLOOKUP(D141 & \"\",Surcharge!A:B,2,FALSE)*F141), \"\")","v":""}]
[null,"Support  (Note 8)",null,"Reference Number","Price",{"$f":"SUM(F143:F150)","v":0},null,{"$f":"IFERROR(IFERROR(VLOOKUP(D142,Surcharge!A:B,2,FALSE)*F142, VLOOKUP(D142 & \"\",Surcharge!A:B,2,FALSE)*F142), \"\")","v":""}]
[null,null,"T500 Operator Manual (English)",9015223,"N/C",null,{"$f":"IF(F143=0,\" \",\"N/C\")","v":" "},{"$f":"IFERROR(IFERROR(VLOOKUP(D143,Surcharge!A:B,2,FALSE)*F143, VLOOKUP(D143 & \"\",Surcharge!A:B,2,FALSE)*F143), \"\")","v":""}]
[null,null,"T500 Operator Manual (Spanish)",9015500,"N/C",null,{"$f":"IF(F144=0,\" \",\"N/C\")","v":" "},{"$f":"IFERROR(IFERROR(VLOOKUP(D144,Surcharge!A:B,2,FALSE)*F144, VLOOKUP(D144 & \"\",Surcharge!A:B,2,FALSE)*F144), \"\")","v":""}]
[null,null,"T500 Operator Manual (French)",9015501,"N/C",null,{"$f":"IF(F145=0,\" \",\"N/C\")","v":" "},{"$f":"IFERROR(IFERROR(VLOOKUP(D145,Surcharge!A:B,2,FALSE)*F145, VLOOKUP(D145 & \"\",Surcharge!A:B,2,FALSE)*F145), \"\")","v":""}]
[null,null,"Additional Operator Manual","SEE ABOVE",135,null,{"$f":"F146*E146","v":0},{"$f":"IFERROR(IFERROR(VLOOKUP(D146,Surcharge!A:B,2,FALSE)*F146, VLOOKUP(D146 & \"\",Surcharge!A:B,2,FALSE)*F146), \"\")","v":""},null,null,null,null,null,null,null,{"$f":"VLOOKUP(Q146,#REF!,5,FALSE)","v":{"$error":"#REF!"}},"M-T500VK_ADLOPRMNL"]
[null,null,"T500 Parts Manual",9015222,55,null,{"$f":"F147*E147","v":0},{"$f":"IFERROR(IFERROR(VLOOKUP(D147,Surcharge!A:B,2,FALSE)*F147, VLOOKUP(D147 & \"\",Surcharge!A:B,2,FALSE)*F147), \"\")","v":""},null,null,null,null,null,null,null,{"$f":"VLOOKUP(Q147,#REF!,5,FALSE)","v":{"$error":"#REF!"}},"M-T500VK_PARMNL"]
[null,null,"T500 Service Manual",9015504,135,null,{"$f":"F148*E148","v":0},{"$f":"IFERROR(IFERROR(VLOOKUP(D148,Surcharge!A:B,2,FALSE)*F148, VLOOKUP(D148 & \"\",Surcharge!A:B,2,FALSE)*F148), \"\")","v":""},null,null,null,null,null,null,null,{"$f":"VLOOKUP(Q148,#REF!,5,FALSE)","v":{"$error":"#REF!"}},"M-T500VK_SRVMNL"]
[null,null,null,null," ",null,null,{"$f":"IFERROR(IFERROR(VLOOKUP(D149,Surcharge!A:B,2,FALSE)*F149, VLOOKUP(D149 & \"\",Surcharge!A:B,2,FALSE)*F149), \"\")","v":""}]
[null,null,"Packaging  (Note 9)",null," ",{"$f":"SUM(F151:F152)","v":0},null,{"$f":"IFERROR(IFERROR(VLOOKUP(D150,Surcharge!A:B,2,FALSE)*F150, VLOOKUP(D150 & \"\",Surcharge!A:B,2,FALSE)*F150), \"\")","v":""}]
[null,null,"Skid w/Carton, Stackable",9015450,472,null,{"$f":"F151*E151","v":0},{"$f":"IFERROR(IFERROR(VLOOKUP(D151,Surcharge!A:B,2,FALSE)*F151, VLOOKUP(D151 & \"\",Surcharge!A:B,2,FALSE)*F151), \"\")","v":""},null,null,null,null,null,null,null,{"$f":"VLOOKUP(Q151,#REF!,5,FALSE)","v":{"$error":"#REF!"}},"M-T500VK_PKG_SSKD"]
[null,null,"Pad Wrap",null,"N/C",null,{"$f":"IF(F152=0,\" \",\"N/C\")","v":" "},{"$f":"IFERROR(IFERROR(VLOOKUP(D152,Surcharge!A:B,2,FALSE)*F152, VLOOKUP(D152 & \"\",Surcharge!A:B,2,FALSE)*F152), \"\")","v":""},null,null,null,null,null,null,null,{"$f":"VLOOKUP(Q152,#REF!,5,FALSE)","v":{"$error":"#REF!"}},"M-T500"]
[null,null,null,null,null,null,null,{"$f":"IFERROR(IFERROR(VLOOKUP(D153,Surcharge!A:B,2,FALSE)*F153, VLOOKUP(D153 & \"\",Surcharge!A:B,2,FALSE)*F153), \"\")","v":""}]
[null,null,null,null,null,{"$f":"SUM(#REF!)","v":{"$error":"#REF!"}}]
[]
[null,"Custom Solution--write in description, qty, price, and PN if applicable",null,null,null,{"$f":"SUM(F157)","v":0}]
[null,null,null,null,"Insert Prices Here",{"$f":"SUM(F158:F161)","v":0}]
[null,null,null,"Custom",null,{"$f":"IF(E158 <> \"\", 1, 0)","v":0},{"$f":"F158*E158","v":0}]
[null,null,null,"Custom",null,{"$f":"IF(E159 <> \"\", 1, 0)","v":0},{"$f":"F159*E159","v":0}]
[null,null,null,"Custom",null,{"$f":"IF(E160 <> \"\", 1, 0)","v":0},{"$f":"F160*E160","v":0}]
[null,null,null,"Custom",null,{"$f":"IF(E161 <> \"\", 1, 0)","v":0},{"$f":"F161*E161","v":0}]
[null,null,null,null,{"$f":"ROUND(SUM(G56:G161), 0)","v":0},{"$f":"SUM(E163)","v":0}]
[null,null,null,"Machine Subtotal ",{"$f":"ROUND(SUM(G56:G161), 0)","v":0},{"$f":"F162","v":0}]
[null,"Discounts",null,null,null,{"$f":"SUM(F165)","v":0}]
[null,null,null,null,null,{"$f":"SUM(F166:F169)","v":0}]
[null,null,null,"Discount %",null,{"$f":"IF(E166 <> \"\", 1, 0)","v":0},{"$f":"IF(F166*(E166*0.01)*E162 < 0, F166*(E166*0.01)*E162, -(F166*(E166*0.01)*E162))","v":0}]
[null,null,null,"Discount $",null,{"$f":"IF(E167 <> \"\", 1, 0)","v":0},{"$f":"IF(F167*E167 < 0, F167*E167, -(F167*E167))","v":0}]
[null,null,null,"Discount $",null,{"$f":"IF(E168 <> \"\", 1, 0)","v":0},{"$f":"IF(F168*E168 < 0, F168*E168, -(F168*E168))","v":0}]
[null,null,null,"Discount $",null,{"$f":"IF(E169 <> \"\", 1, 0)","v":0},{"$f":"IF(F169*E169 < 0, F169*E169, -(F169*E169))","v":0}]
[null,null,null,"Discount Total ",{"$f":"SUM(G166:G169)","v":0},{"$f":"SUM(E170)","v":0}]
[null,null,null,null,null,{"$f":"#REF!","v":{"$error":"#REF!"}}]
[null,null,"Prepaid and Add","Freight",null,{"$f":"IF(E172 <> \"\", 1, 0)","v":0},{"$f":"F172*E172","v":0}]
[null,null,"Subject to all applicable taxes","Tax",null,{"$f":"IF(E173 <> \"\", 1, 0)","v":0},{"$f":"F173*E173","v":0}]
[null,null,null,null,null,{"$f":"SUM(F175)","v":0}]
[null,null,null,"            MACHINE TOTAL*",null,{"$f":"SUM(G175)","v":0},{"$f":"SUM(G56:G173)","v":0},null,null,null,null,null,null,"This goes to \"My Documents\""]
[null,"Financing",null,null,null,null,{"$f":"G175","v":0}]
[]
[null,null,"Is customer interested in financing?","Yes"]
[]
[null,null,"If not, why?"]
[]
[]
[null,null,"First Western Equipment Finance - Leasing Calculation Option:","Option 1",null,"Option 2",null,null,null,{"$f":"Financing!A38","v":"Rates 2025 - Rev. 5/6/2025"}]
[null,null,null,"Monthly Payment","Cost Per Day","Monthly Payment","Cost Per Day",null,null,{"$f":"Financing!A39","v":"“Blank Payment Amounts Indicate The Financing Option Or Purchase Options Selected Are Not "}]
[null,null,"Purchase Option:","FWEF:  $1 Buyout Lease",null,"FWEF: Municipal Lease",null,null,null,{"$f":"Financing!A40","v":"Applicable Or The Machine Total Is Below The Minimum Amount For The Selected Vendor”"}]
[null,null,"24 Months",0,0,0,0,null,null,{"$f":"Financing!A41","v":"\"Quoted monthly payments are estimates only and are based on a certain level of credit rating."}]
[null,null,"30 Months",0,0,0,0,null,null,{"$f":"Financing!A42","v":"Actual monthly payments may be higher depending on your credit rating.\""}]
[null,null,"36 Months",0,0,0,0,null,null,{"$f":"Financing!A43","v":"“Financing rates do not include Pre-Paid Service”"}]
[null,null,"48 Months",0,0,0,0,null,{"$f":"Financing!A44","v":0}]
[]
[null,null,null,"Benefits of Equipment Financing:"]
[null,null,null,"• Spreads out investment over time.",null,"• Keep current with latest technology."]
[null,null,null,"• Preserve capital.",null,"• Service and parts bundling available."]
[null,null,null,"• Low monthly payment.",null,"• Pay for labor savings as you go."]
[]
[]
[null,null,"Bundled Offerings","Flexclean – Fair Market Value",null,"Flexclean - $1 Buyout"]
[null,null,"FlexClean: ","36 Month Term",null,"36 Month Term",null,null,"No","AB Brushes"]
[null,null,"Hours included per Month:","Gold","Silver","Gold","Silver","Check"]
[null,null,"< 30/mo. (Avg. 1hr./day)",null,null,null,null,null,{"$f":"FlexCleanCalc!$A21","v":"“FlexClean monthly rates include payment for both machine and service.”"}]
[null,null,"< 60/mo. (Avg. 2hrs./day)"]
[null,null,"< 90/mo. (Avg. 3hrs./day)"]
[null,null,"*This value assumes one service contract regardless of the number of UNITS included in the quote"]
[]
[]
[null,null,"Bundled Offerings","Flexclean – Fair Market Value",null,"Flexclean - $1 Buyout"]
[null,null,"FlexClean 2: ","48 Month Term",null,"48 Month Term"]
[null,null,"Hours included per Month:","Gold","Silver","Gold","Silver"]
[null,null,"< 30/mo. (Avg. 1hr./day)"]
[null,null,"< 60/mo. (Avg. 2hrs./day)"]
[null,null,"< 90/mo. (Avg. 3hrs./day)"]
[null,null,"*This value assumes one service contract regardless of the number of UNITS included in the quote"]
[]
[null,null,"Bundled Offerings","Flexclean – Fair Market Value",null,"Flexclean - $1 Buyout"]
[null,null,"FlexClean 3: ","60 Month Term",null,"60 Month Term"]
[null,null,"Hours included per Month:","Gold","Silver","Gold","Silver"]
[null,null,"< 30/mo. (Avg. 1hr./day)"]
[null,null,"< 60/mo. (Avg. 2hrs./day)"]
[null,null,"< 90/mo. (Avg. 3hrs./day)"]
[null,null,"*This value assumes one service contract regardless of the number of UNITS included in the quote"]
[]
[null,"  TennantTrue",null,0,0]
[]
[null,null,"Is customer interested in service program?","Yes","*State/County selection required for TennantTrue service options"]
[]
[null,null,"If not, why?"]
[]
[null,null,"Term:",36,null,"AB Brushes","No"]
[null,null,"Monthly machine usage (hrs):","< 30/mo. (Avg. 1hr./day)"]
[]
[null,null,"TennantTrue: ","Gold Contract",null,"Silver Contract"]
[null,null,"Per Visit",null,null,425]
[null,null,"Monthly",129,null,69]
[null,null,"Annually",null,null,816]
[null,null,"Pre-Pay Full Term",4444,null,2397]
[null,null,"Hourly Labor Rate"]
[null,null,"Site Visit"]
[]
[null,null,"* Verify customer current pricing prior to quote. "]
[null,null,"**All rates and fees above reflect service for one (1) unit with the exception of Block of Time service."]
[null,null,"*Block of Time is available in 1 Year Term only and is priced as such no matter the term selection on this template."]
[]
[null,"Servicing"]
[]
[null,null,"Is customer interested in a service plan?","No"]
[]
[null,null,"If not, why?"]
[]
[]
[]
[null,null,"Quote Special Instructions:"]
[]
[]
[null,null,{"$f":"Start_Here!E36","v":"Terms and Conditions"}]
[null,null,{"$f":"Start_Here!E37","v":"Ask your local sales rep for estimated lead times. Verify when placing order"}]
[null,null,{"$f":"Start_Here!E38","v":"All orders subject to acceptance by Tennant Sales and Service Company, Minneapolis, Minnesota"}]
[null,null,{"$f":"Start_Here!E39","v":"Prices subject to change without notice."}]
[null,null,{"$f":"Start_Here!E40","v":"Terms:  Net 30 days.  Subject to any applicable taxes."}]
[null,null,{"$f":"Start_Here!E41","v":"Freight: Machines and accessory orders delivered FOB shipping point Frt PPD & Add"}]
[null,null,{"$f":"Start_Here!E42","v":"Parts, supplies, detergents and floor treating material orders delivered FOB "}]
[null,null,{"$f":"Start_Here!E43","v":"shipping point Frt PPD"}]
[null,null,{"$f":"Start_Here!E44","v":"All orders are subject to Tennant’s General Terms and Conditions available at http://www.tennantco.com/terms."}]
[null,null,{"$f":"Start_Here!E45","v":"Printed General Terms and Conditions are also available upon request."}]
[null,null,{"$f":"Start_Here!E46","v":0}]
[]
[null,null,null,null,"Quote Date :",null,{"$f":"Letter!$A$25","v":"2020-09-17"}]
["Order Placement Information:  To place your order, fill in PO# and customer signatures,"]
["call or fax to the numbers listed below. Customer Purchase Order is required."]
["If information is missing, orders will be entered and held until all information is received."]
[null,null,"Customer Number",null,"Cust Grp 3"]
[null,null,{"$f":"Start_Here!$C$25","v":0},null,{"$f":"Start_Here!$C$29","v":0}]
[null,null,{"$f":"Start_Here!$B$18","v":"Who Owns the Machine? (Sold-To Info) (Please Verify)"}]
["Company",null,{"$f":"Start_Here!$C$19","v":"Company Name"}]
["Address",null,{"$f":"Start_Here!$C$20","v":"Address"}]
[null,null,{"$f":"Start_Here!$C$21","v":"City, State Zip"}]
["Name",null,{"$f":"Start_Here!$C$22","v":"Contact Name"}]
["Phone",null,{"$f":"Start_Here!$C$23","v":"Contact Phone"}]
[null,null,{"$f":"Start_Here!$B$11","v":"Where is the Machine Being Shipped? (Ship-To Info) (Please Verify)"}]
["Company",null,{"$f":"Start_Here!$C$12","v":"Company Name"}]
["Address",null,{"$f":"Start_Here!$C$13","v":"Address"}]
[null,null,{"$f":"Start_Here!$C$14","v":"City, State Zip"}]
["Name",null,{"$f":"Start_Here!$C$15","v":"Contact Name"}]
["Phone",null,{"$f":"Start_Here!$C$16","v":"Contact Phone"}]
[null,null,{"$f":"Start_Here!$B$31","v":"Shipping / Carrier Instructions:"},null,"Order Special Instructions:"]
[null,null,{"$f":"Start_Here!$C$32","v":0}]
[]
[null,null,"Customer Purchase Order No."]
[null,null,"(please attach copy)"]
[]
[]
[null,null,"Tax Exempt",null,"Yes"]
[null,null,null,null,"No"]
[null,null,"If Yes, attach a copy of your exemption certificate."]
[]
[null,null,"Requested Delivery Date"]
[null,null,{"$f":"Start_Here!$C$28","v":0}]
[]
[null,null,{"$f":"Start_Here!$C$26","v":0},null,{"$f":"Start_Here!$C$27","v":0}]
[null,0,"Authorized Buyer (please print)",null,"Phone Number"]
[]
[]
[null,0,"Authorized Buyer Signature"]
[]
[null,null,{"$f":"Start_Here!$C$41","v":"Rep Name"}]
[null,null,"Tennant Representative"]
[]
["Specialized Maintenance Equipment"]
[{"$f":"Start_Here!$C$48","v":"TENNANT · 10400 Clean Street · Eden Prairie, MN 55344 ·"}]
[{"$f":"Start_Here!$C$49","v":" PHONE:800-553-8033 · FAX:763-513-2116"}]
[]
[]
[null,"Notes"]
[null,1,"Severe Environment Switch is only available on units equipped with ec-H2O NanoClean cleaning Technology."]
[]
[null,2,"Severe Environment™ Switch Lockout is only available with ec-H2O NanoClean AND the Severe Environment Switch."]
[]
[null,3,"Standard Squeegee recovers 100% of water in 180º point turns.  If customer has a narrow aisle, the machine can be"]
[null,null,"set-up for a narrow aisle squeegee.  The narrow-aisle squeegee is the squeegee that comes standard with the "]
[null,null,"next size smaller head and will not recover 100% of the solution in 180º point turns."]
[null,null,"Scrub Head Size","Standard","Narrow Aisle"]
[null,null,"650 mm / 26\" - Disk","9015301 = 38.3 in / 973 mm","9015490 = 30.0 in / 772 mm"]
[null,null,"700 mm / 28\" - Disk","9015302 = 41.3 in / 1049 mm","9015301 = 38.3 in / 973 mm"]
[null,null,"800 mm / 32\" - Disk","9015303 = 46.6 in / 1234 mm","9015302 = 41.3 in / 1049 mm"]
[null,null,"700 mm / 28\" - Cylindrical","9015303 = 46.6 in / 1234 mm","9015302 = 41.3 in / 1049 mm"]
[null,null,"700 mm / 28\" - Orbital","9015302 = 41.3 in / 1049 mm","9015301 = 38.3 in / 973 mm"]
[]
[null,4,"Customer MUST order Skid w/Carton, Stackable if WITHOUT BATTERY is selected."]
[null,null,"Continental USA orders ONLY. "]
[null,null,"In order to obtain the IRIS Battery Metrics, one of the listed Tennant supplied batteries is required."]
[]
[null,"4a","Li-Ion batteries require a compatible Li-Ion Charger."]
[null,null,"Li-Ion batteries are not compatible with Pro Panel or Machine Communication (IRIS)."]
[]
[null,5,"Smart-Fill Automatic Battery Watering only available with on-board charger."]
[null,null,"Smart-Fill Automatic Battery Watering and Manual Battery Watering are not compatible with AGM or Li-Ion Batteries."]
[]
[null,6,"25A 100-240V AC 50/60Hz 1Ph - On-Board Charger is required to receive IRIS Battery Manager."]
[]
[null,7,"One set of brushes or pad drivers come standard with a Disk or Cylindrical T500.  Orbital units will come standard with"]
[null,null,"a Pad Driver - Red Backer Pad."]
[]
[null,8,"Additional hard copy Operator and Parts Manuals can be ordered or digital copies can be downloaded from www.Tennantco.com."]
[]
[null,"IRIS","Pre-Paid and Monthly Packages are available for the IRIS Information Service."]
[null,null,"IRIS Module is required and NOT included in the price of the IRIS Information Service:"]
[null,null,"   3 Year Pre-Paid IRIS Information Service ……………………",250]
[null,null,"   5 Year Pre-Paid IRIS Information Service …………………………..",400]
[null,null,"A monthly contract can be set up at $10 per month w/ 12 month minimum commitment."]
[null,null,"IRIS Telemetry Module only covers the price of the hardware. "]
[null,null,"IRIS Telemetry requires an IRIS Telemetry Module and an IRIS Information Service Package."]
[null,null,"25A 100-240V AC 50/60Hz 1Ph - On-Board Charger and a compatible Tennant supplied battery is required to receive IRIS Battery Manager."]
[null,null,"IRIS Battery Metrics are not guaranteed with third party supplied batteries."]
[null,null,"IRIS Telemetry is not available with units configured with Li-Ion Batteries."]
[]
[null,9,"Pad wrap available only in the Continental US and is the default packaging method."]
[null,null,"Customer MUST order Skid w/Carton, Stackable if WITHOUT BATTERY is selected."]
[null,null,"Skid w/Carton, Stackable is mandatory when shipping to AK and HI.  Packaging is added at No Charge when shipping"]
[null,null,"to these locations."]
[]
[null,10,"Shipping Weights and Dimensions","Pad Wrap","Skid w/Carton"]
[]
[null,null,"26\" / 650mm Disk"]
[null,null,"Weight","570 lbs / 259 Kg","635 lbs / 289 Kg"]
[null,null,"Length","59\" / 1,499mm","73\" / 1,855mm"]
[null,null,"Width","28\" / 712mm","43\" / 1,093mm"]
[null,null,"Height","44\" / 1,118mm","52\" / 1,321mm"]
[]
[null,null,"28\" / 700mm Disk"]
[null,null,"Weight","580 lbs / 263 Kg","645 lbs / 293 Kg"]
[null,null,"Length","59\" / 1,499mm","73\" / 1,855mm"]
[null,null,"Width","30\" / 762mm","43\" / 1,093mm"]
[null,null,"Height","44\" / 1,118mm","52\" / 1,321mm"]
[]
[null,null,"32\" / 800mm Disk"]
[null,null,"Weight","705 lbs / 320 Kg","770 lbs / 350 Kg"]
[null,null,"Length","61\" / 1,550mm","73\" / 1,855mm"]
[null,null,"Width","34\" / 864mm","43\" / 1,093mm"]
[null,null,"Height","44\" / 1,118mm","52\" / 1,321mm"]
[]
[null,null,"28\" / 700m Cylindrical"]
[null,null,"Weight","620 lbs / 281 Kg","685 lbs / 311 Kg"]
[null,null,"Length","59\" / 1,499mm","73\" / 1,855mm"]
[null,null,"Width","31\" / 788mm","43\" / 1,093mm"]
[null,null,"Height","44\" / 1,118mm","52\" / 1,321mm"]
[]
[null,null,"28\" / 700mm Orbital"]
[null,null,"Weight","620 lbs / 281 Kg","685 lbs / 311 Kg"]
[null,null,"Length","59\" / 1,499mm","73\" / 1,855mm"]
[null,null,"Width","28\" / 712mm","43\" / 1,093mm"]
[null,null,"Height","44\" / 1,118mm","52\" / 1,321mm"]

{"sheet":"T500e","index":33,"n_rows":379,"n_cols":14,"rows_kept":379,"cut":false,"hidden":false,"merged":[[34,2,34,5],[35,2,35,5],[36,2,36,5],[312,5,312,6],[313,5,313,6],[308,3,308,4],[309,3,309,4],[310,3,310,4],[311,3,311,4],[312,3,312,4],[313,3,313,4],[175,3,175,4],[175,5,175,6],[309,5,309,6],[310,5,310,6],[311,5,311,6],[0,2,0,3],[1,2,1,3],[2,2,2,3],[3,2,3,3],[11,2,11,6],[288,4,288,5],[271,2,271,5],[272,2,272,5],[273,2,273,5],[261,4,261,7],[275,4,275,7],[267,2,267,5],[269,2,269,5],[270,2,270,5],[279,2,279,5],[266,2,266,5],[222,3,222,4],[222,5,222,6],[223,3,223,4],[223,5,223,6],[224,3,224,4],[224,5,224,6],[205,3,205,4],[205,5,205,6],[214,4,214,8],[221,3,221,4],[221,5,221,6],[216,3,216,6],[218,3,218,4],[219,3,219,4],[196,3,196,4],[196,5,196,6],[197,3,197,4],[197,5,197,6],[204,3,204,4],[204,5,204,6],[37,2,37,5],[187,3,187,4],[187,5,187,6],[188,3,188,4],[188,5,188,6],[173,3,173,4],[173,5,173,6],[38,2,38,5],[39,2,39,5],[40,2,40,5],[41,2,41,5],[42,2,42,5],[170,3,170,6],[237,3,238,6],[242,2,242,6],[263,2,263,5],[264,2,264,5],[265,2,265,5],[225,5,225,6],[226,3,226,4],[226,5,226,6],[227,3,227,4],[227,5,227,6],[225,3,225,4]]}
["T500e",null,{"$f":"Start_Here!$C19","v":"Company Name"}]
[{"$f":"SUM(G166)","v":0},null,{"$f":"Start_Here!$C20","v":"Address"}]
[null,null,{"$f":"Start_Here!$C21","v":"City, State Zip"}]
[null,null,{"$f":"Start_Here!$C22","v":"Contact Name"}]
[null,null,{"$f":"Start_Here!$C$41","v":"Rep Name"}]
[null,null,{"$f":"Start_Here!$C$37","v":"Tennant Sales and Service Company"}]
[null,null,{"$f":"Start_Here!$C$38","v":"10400 Clean Street"}]
[null,null,{"$f":"Start_Here!$C$39","v":"Eden Prairie, MN 55344"}]
[null,null,{"$f":"Start_Here!$C$43","v":"800-553-8033"},null,"Quote Date :",null,{"$f":"Letter!$A$25","v":"2020-09-17"}]
[]
[null,null,{"$f":"Help!C2","v":"US Date Rev - 5/6/2025"}]
[null,null,"BUILT-IN “TENNANT VALUE” INCLUDES:"]
[]
[null,null,"Tanks: 85 L/22.5 gal Solution & 102 L/27 gal Recovery",null,"Yellow maintenance touch points"]
[null,null,"1-STEP™ Button Memory Controls",null,"Emergency Stop Kit"]
[null,null,"Extremely Low Noise Levels Standard  (≤68.5 dBA)",null,"Key Switch for Safety"]
[null,null,"On Board Diagnostics",null,"Standard (4) 6 V 225AH Battery Pack (Optional AGM Batteries)"]
[null,null,"Cast Aluminum Squeegee Frame & Scrub Decks (D/C)",null,"Drain hose with pinch cuff to control water flow"]
[null,null,"11 Gauge Steel Scrub Deck (Orbital Only)",null,"On-board Charger with power cord"]
[null,null,"2 selectable down pressures",null,"Closed Machine Venting for Battery Charging"]
[null,null,"4 Selectable water flow settings",null,"100% Water recovery in 180º  turns w/ standard squeegee"]
[null,null,"Front Water Fill Port",null,"Insta-Fit™ No-Tool Pad Driver and Brush Attachment (Disk machines)"]
[null,null,"Automatic: Water On / Off ",null,"No-Tool Squeegee Change"]
[null,null,"      Brush On / Off",null,"Breakaway Squeegee Design w/ Integrated P-Trap"]
[null,null,"      Brush Shutoff at 80% Discharge",null,"Factory Set Squeegee Assembly for Maximum Recovery"]
[null,null,"Integrated Accessory Rails with Bag Hang hooks",null,"Linard Front/Linatex Rear Squeegee Blades with Tool-less Replacement"]
[null,null,"Excellent Ergonomic Controls Design",null,"Includes Standard Pad Drivers or Scrubbing Brushes (Select One)"]
[null,null,"Optional ec-H2O NanoClean™ Equipped Models Include:",null,"Free Floating Head Skirt (disk machines)"]
[null,null,"Electrically Converted Water Technology System",null,"Hour Meter"]
[null,null,"Two Scrubbing Modes: ec-H2O NanoCleanTM & Conventional Scrub",null,"Operators manual"]
[null,null,"Rugged Duramer™ Tank Construction",null,"Jacking Points/Shipping Tie Downs"]
[null,null,"Gray Non-Marking Tires",null,"Sealed Electrical Connectors in key areas"]
[]
[]
[null,null,"TENNANT COMPANY WARRANTY"]
[null,null,"3 YEARS OR 2000 HOURS - PARTS"]
[null,null,"1 YEAR - BATTERY CHARGERS"]
[null,null,"3 YEARS OR 2000 HOURS ORBITAL SCRUB HEAD ISOLATORS"]
[null,null,"2 YEARS - LABOR, 6 MONTHS - TRAVEL"]
[null,null,"10 YEARS ON DURAMERTM ROTOMOLD TANKS"]
[]
[]
[]
[null,null,null,null,"                Quote Request Information"]
[null,null,null,null,null,null,"Fax (quote only)"]
[null,null,null,null,null,null,"Mail (quote,lit, specs)"]
[null,null,null,null,null,null,"Fax + Mail"]
[]
[null,null,null,null,"                Primary Use"]
[null,null,null,null,null,null,"Inside"]
[null,null,null,null,null,null,"Outside"]
[]
[null,null,"Description","Reference #","Price US","Qty","Extended Price"]
[null,"Base Configuration",null,null,null,{"$f":"SUM(F55,F62,F65,F69,F81)","v":0},null,{"$f":"IFERROR(IFERROR(VLOOKUP(D54,Surcharge!A:B,2,FALSE)*F54, VLOOKUP(D54 & \"\",Surcharge!A:B,2,FALSE)*F54), \"\")","v":""}]
[null,null,"Cleaning Type",null,null,{"$f":"SUM(F56:F60)","v":0},null,{"$f":"IFERROR(IFERROR(VLOOKUP(D55,Surcharge!A:B,2,FALSE)*F55, VLOOKUP(D55 & \"\",Surcharge!A:B,2,FALSE)*F55), \"\")","v":""}]
[null,null,"T500e Walk-Behind Scrubber 650 mm / 26\" Disk","T500e-650-D",15526,null,{"$f":"F56*E56","v":0},{"$f":"IFERROR(IFERROR(VLOOKUP(D56,Surcharge!A:B,2,FALSE)*F56, VLOOKUP(D56 & \"\",Surcharge!A:B,2,FALSE)*F56), \"\")","v":0}]
[null,null,"T500e Walk-Behind Scrubber 700 mm / 28\" Disk","T500e-700-D",16336,null,{"$f":"F57*E57","v":0},{"$f":"IFERROR(IFERROR(VLOOKUP(D57,Surcharge!A:B,2,FALSE)*F57, VLOOKUP(D57 & \"\",Surcharge!A:B,2,FALSE)*F57), \"\")","v":0}]
[null,null,"T500e Walk-Behind Scrubber 800 mm / 32\" Disk","T500e-800-D",17224,null,{"$f":"F58*E58","v":0},{"$f":"IFERROR(IFERROR(VLOOKUP(D58,Surcharge!A:B,2,FALSE)*F58, VLOOKUP(D58 & \"\",Surcharge!A:B,2,FALSE)*F58), \"\")","v":0}]
[null,null,"T500e Walk-Behind Scrubber 700 mm / 28\" Cylindrical","T500e-700-C",17963,null,{"$f":"F59*E59","v":0},{"$f":"IFERROR(IFERROR(VLOOKUP(D59,Surcharge!A:B,2,FALSE)*F59, VLOOKUP(D59 & \"\",Surcharge!A:B,2,FALSE)*F59), \"\")","v":0}]
[null,null,"T500e Walk-Behind Scrubber 700 mm / 28\" Orbital","T500e-700-O",17078,null,{"$f":"F60*E60","v":0},{"$f":"IFERROR(IFERROR(VLOOKUP(D60,Surcharge!A:B,2,FALSE)*F60, VLOOKUP(D60 & \"\",Surcharge!A:B,2,FALSE)*F60), \"\")","v":0}]
[null,null,null,null,null,null,null,{"$f":"IFERROR(IFERROR(VLOOKUP(D61,Surcharge!A:B,2,FALSE)*F61, VLOOKUP(D61 & \"\",Surcharge!A:B,2,FALSE)*F61), \"\")","v":""}]
[null,null,"Cleaning Technology: (conventional is standard,  ec-H2O NanoClean can also operate in conventional mode)",null,null,{"$f":"SUM(F63)","v":0},null,{"$f":"IFERROR(IFERROR(VLOOKUP(D62,Surcharge!A:B,2,FALSE)*F62, VLOOKUP(D62 & \"\",Surcharge!A:B,2,FALSE)*F62), \"\")","v":""}]
[null,null,"ec-H2O NanoClean™","ec-H2ONC-T500",3040,null,{"$f":"F63*E63","v":0},{"$f":"IFERROR(IFERROR(VLOOKUP(D63,Surcharge!A:B,2,FALSE)*F63, VLOOKUP(D63 & \"\",Surcharge!A:B,2,FALSE)*F63), \"\")","v":""}]
[null,null,null,null,null,null,null,{"$f":"IFERROR(IFERROR(VLOOKUP(D64,Surcharge!A:B,2,FALSE)*F64, VLOOKUP(D64 & \"\",Surcharge!A:B,2,FALSE)*F64), \"\")","v":""}]
[null,null,"Squeegee Width  (Note 1)",null,null,{"$f":"SUM(F66:F67)","v":0},null,{"$f":"IFERROR(IFERROR(VLOOKUP(D65,Surcharge!A:B,2,FALSE)*F65, VLOOKUP(D65 & \"\",Surcharge!A:B,2,FALSE)*F65), \"\")","v":""},null,null,null,{"$f":"SUM(F65)","v":0},"Surcharge Qty"]
[null,null,"Standard","STD-T500e","N/C",null,{"$f":"IF(F66=0,\" \",\"N/C\")","v":" "},{"$f":"IFERROR(IFERROR(VLOOKUP(D66,Surcharge!A:B,2,FALSE)*F66, VLOOKUP(D66 & \"\",Surcharge!A:B,2,FALSE)*F66), \"\")","v":""},null,null,null,0,"Surcharge Qty"]
[null,null,"Narrow Aisle","NR-T500e","N/C",null,{"$f":"IF(F67=0,\" \",\"N/C\")","v":" "},{"$f":"IFERROR(IFERROR(VLOOKUP(D67,Surcharge!A:B,2,FALSE)*F67, VLOOKUP(D67 & \"\",Surcharge!A:B,2,FALSE)*F67), \"\")","v":""},null,null,null,0,"Surcharge Qty"]
[null,null,null,null,null,null,null,{"$f":"IFERROR(IFERROR(VLOOKUP(D68,Surcharge!A:B,2,FALSE)*F68, VLOOKUP(D68 & \"\",Surcharge!A:B,2,FALSE)*F68), \"\")","v":""},null,null,null,0,"Surcharge Qty"]
[null,null,"Battery Type  (Note 2)",null,null,{"$f":"SUM(F70:F79)","v":0},null,{"$f":"IFERROR(IFERROR(VLOOKUP(D69,Surcharge!A:B,2,FALSE)*F69, VLOOKUP(D69 & \"\",Surcharge!A:B,2,FALSE)*F69), \"\")","v":""},null,null,null,0,"Surcharge Qty"]
[null,null,"Wet 225AH C/20",9015372,"N/C",null,{"$f":"IF(F70=0,\" \",\"N/C\")","v":" "},{"$f":"IFERROR(IFERROR(VLOOKUP(D70,Surcharge!A:B,2,FALSE)*F70, VLOOKUP(D70 & \"\",Surcharge!A:B,2,FALSE)*F70), \"\")","v":""},null,null,null,0,"Surcharge Qty"]
[null,null,"Wet 260AH C/20",9015373,454,null,{"$f":"F71*E71","v":0},{"$f":"IFERROR(IFERROR(VLOOKUP(D71,Surcharge!A:B,2,FALSE)*F71, VLOOKUP(D71 & \"\",Surcharge!A:B,2,FALSE)*F71), \"\")","v":""},null,null,null,0,"Surcharge Qty"]
[null,null,"Sealed/MF AGM 220AH C/20",9015374,1654,null,0,{"$f":"IFERROR(IFERROR(VLOOKUP(D72,Surcharge!A:B,2,FALSE)*F72, VLOOKUP(D72 & \"\",Surcharge!A:B,2,FALSE)*F72), \"\")","v":""},null,null,null,0,"Surcharge Qty"]
[null,null,"Sealed/MF Fast Charge TPPL 183AH C/20",9021148,2117,null,0]
[null,null,"Li-Ion 24v, 90AH  (Note 2a)",9022774,3451,null,0]
[null,null,"Li-Ion 24v, 180AH  (Note 2a)",9022775,6495,null,0]
[null,null,"Without",9015370,-450,null,0,{"$f":"IFERROR(IFERROR(VLOOKUP(D76,Surcharge!A:B,2,FALSE)*F76, VLOOKUP(D76 & \"\",Surcharge!A:B,2,FALSE)*F76), \"\")","v":""},null,null,null,0,"Surcharge Qty"]
[null,null,null,null,null,null,null,{"$f":"IFERROR(IFERROR(VLOOKUP(D77,Surcharge!A:B,2,FALSE)*F77, VLOOKUP(D77 & \"\",Surcharge!A:B,2,FALSE)*F77), \"\")","v":""}]
[null,null,"Smart-Fill Automatic Battery Watering System  (Note 3)",9015383,981,null,{"$f":"F78*E78","v":0},{"$f":"IFERROR(IFERROR(VLOOKUP(D78,Surcharge!A:B,2,FALSE)*F78, VLOOKUP(D78 & \"\",Surcharge!A:B,2,FALSE)*F78), \"\")","v":""}]
[null,null,"Manual Battery Watering System  (Note 3)",9009619,573,null,{"$f":"F79*E79","v":0},{"$f":"IFERROR(IFERROR(VLOOKUP(D79,Surcharge!A:B,2,FALSE)*F79, VLOOKUP(D79 & \"\",Surcharge!A:B,2,FALSE)*F79), \"\")","v":""},null,null,null,{"$f":"SUM(F79)","v":0},"Surcharge Qty"]
[null,null,null,null,null,null,null,{"$f":"IFERROR(IFERROR(VLOOKUP(D80,Surcharge!A:B,2,FALSE)*F80, VLOOKUP(D80 & \"\",Surcharge!A:B,2,FALSE)*F80), \"\")","v":""}]
[null,null,"Charger  (Note 4)","Reference Number",null,{"$f":"SUM(F82:F86)","v":0},null,{"$f":"IFERROR(IFERROR(VLOOKUP(D81,Surcharge!A:B,2,FALSE)*F81, VLOOKUP(D81 & \"\",Surcharge!A:B,2,FALSE)*F81), \"\")","v":""}]
[null,null,"25A 100-240V AC 50/60Hz 1Ph - On-Board  \n    (IRIS Battery Metric Compatible)",9015396,"N/C",null,{"$f":"IF(F82=0,\" \",\"N/C\")","v":" "},{"$f":"IFERROR(IFERROR(VLOOKUP(D82,Surcharge!A:B,2,FALSE)*F82, VLOOKUP(D82 & \"\",Surcharge!A:B,2,FALSE)*F82), \"\")","v":""}]
[null,null,"27A 100-240V AC 50/60Hz 1Ph - On-Board Charger (Fast Charge TPPL 183AH Battery)",9021169,"N/C",null,{"$f":"IF(F83=0,\" \",\"N/C\")","v":" "}]
[null,null,"27A 100-240V AC 50/60Hz 1Ph - Off-Board Charger (Li-Ion Batteries)",9052023,188,null,{"$f":"IF(F84=0,\" \",\"N/C\")","v":" "}]
[null,null,"27A 100-240V AC 50/60Hz 1Ph - On-Board Charger (Li-Ion Batteries)",9022825,"N/C",null,{"$f":"IF(F85=0,\" \",\"N/C\")","v":" "}]
[null,null,"41A 100-240V AC 50/60Hz 1Ph - On-Board Charger (Li-Ion Batteries)",9022828,418,null,{"$f":"F86*E86","v":0}]
[null,null,null,null,null,null,null,{"$f":"IFERROR(IFERROR(VLOOKUP(D87,Surcharge!A:B,2,FALSE)*F87, VLOOKUP(D87 & \"\",Surcharge!A:B,2,FALSE)*F87), \"\")","v":""}]
[null,"Machine Protection & Safety",null,null,null,{"$f":"SUM(F89)","v":0},null,{"$f":"IFERROR(IFERROR(VLOOKUP(D88,Surcharge!A:B,2,FALSE)*F88, VLOOKUP(D88 & \"\",Surcharge!A:B,2,FALSE)*F88), \"\")","v":""}]
[null,null,"Parking Brake",9015224,195,null,{"$f":"F89*E89","v":0},{"$f":"IFERROR(IFERROR(VLOOKUP(D89,Surcharge!A:B,2,FALSE)*F89, VLOOKUP(D89 & \"\",Surcharge!A:B,2,FALSE)*F89), \"\")","v":""}]
[null,null,null,null,null,null,null,{"$f":"IFERROR(IFERROR(VLOOKUP(D90,Surcharge!A:B,2,FALSE)*F90, VLOOKUP(D90 & \"\",Surcharge!A:B,2,FALSE)*F90), \"\")","v":""}]
[null,"Brushes and Pads  (Note 5)",null,"Reference Number",null,{"$f":"SUM(F92,F102,F112,F122,F126)","v":0},null,{"$f":"IFERROR(IFERROR(VLOOKUP(D91,Surcharge!A:B,2,FALSE)*F91, VLOOKUP(D91 & \"\",Surcharge!A:B,2,FALSE)*F91), \"\")","v":""}]
[null,null,"650mm / 26\" Disk Scrubbing Brushes/Pads (2 Required)",null,null,{"$f":"SUM(F93:F100)","v":0},null,{"$f":"IFERROR(IFERROR(VLOOKUP(D92,Surcharge!A:B,2,FALSE)*F92, VLOOKUP(D92 & \"\",Surcharge!A:B,2,FALSE)*F92), \"\")","v":""}]
[null,null,"Polypropylene",1223989,"N/C",null,{"$f":"IF(F93=0,\" \",\"N/C\")","v":" "},{"$f":"IFERROR(IFERROR(VLOOKUP(D93,Surcharge!A:B,2,FALSE)*F93, VLOOKUP(D93 & \"\",Surcharge!A:B,2,FALSE)*F93), \"\")","v":""}]
[null,null,"Nylon",1223991,"N/C",null,{"$f":"IF(F94=0,\" \",\"N/C\")","v":" "},{"$f":"IFERROR(IFERROR(VLOOKUP(D94,Surcharge!A:B,2,FALSE)*F94, VLOOKUP(D94 & \"\",Surcharge!A:B,2,FALSE)*F94), \"\")","v":""}]
[null,null,null,null,null,null,null,{"$f":"IFERROR(IFERROR(VLOOKUP(D95,Surcharge!A:B,2,FALSE)*F95, VLOOKUP(D95 & \"\",Surcharge!A:B,2,FALSE)*F95), \"\")","v":""}]
[null,null,"Pad Driver",1220220,"N/C",null,{"$f":"IF(F96=0,\" \",\"N/C\")","v":" "},{"$f":"IFERROR(IFERROR(VLOOKUP(D96,Surcharge!A:B,2,FALSE)*F96, VLOOKUP(D96 & \"\",Surcharge!A:B,2,FALSE)*F96), \"\")","v":""}]
[null,null,"Pads ",null,null,{"$f":"SUM(F98:F100)","v":0},null,{"$f":"IFERROR(IFERROR(VLOOKUP(D97,Surcharge!A:B,2,FALSE)*F97, VLOOKUP(D97 & \"\",Surcharge!A:B,2,FALSE)*F97), \"\")","v":""}]
[null,null,"Blue Scrubbing - 3M",89047,17.2,null,{"$f":"F98*E98","v":0},{"$f":"IFERROR(IFERROR(VLOOKUP(D98,Surcharge!A:B,2,FALSE)*F98, VLOOKUP(D98 & \"\",Surcharge!A:B,2,FALSE)*F98), \"\")","v":""}]
[null,null,"Red Cleaning - 3M",89048,17.2,null,{"$f":"F99*E99","v":0},{"$f":"IFERROR(IFERROR(VLOOKUP(D99,Surcharge!A:B,2,FALSE)*F99, VLOOKUP(D99 & \"\",Surcharge!A:B,2,FALSE)*F99), \"\")","v":""}]
[null,null,"White Polishing - 3M",89049,17.2,null,{"$f":"F100*E100","v":0},{"$f":"IFERROR(IFERROR(VLOOKUP(D100,Surcharge!A:B,2,FALSE)*F100, VLOOKUP(D100 & \"\",Surcharge!A:B,2,FALSE)*F100), \"\")","v":""}]
[null,null,null,null,null,null,null,{"$f":"IFERROR(IFERROR(VLOOKUP(D101,Surcharge!A:B,2,FALSE)*F101, VLOOKUP(D101 & \"\",Surcharge!A:B,2,FALSE)*F101), \"\")","v":""}]
[null,null,"700 mm/28\" Disk Scrubbing Brushes/Pads (2 Required)",null,null,{"$f":"SUM(F103:F110)","v":0},null,{"$f":"IFERROR(IFERROR(VLOOKUP(D102,Surcharge!A:B,2,FALSE)*F102, VLOOKUP(D102 & \"\",Surcharge!A:B,2,FALSE)*F102), \"\")","v":""}]
[null,null,"Polypropylene",1220218,"N/C",null,{"$f":"IF(F103=0,\" \",\"N/C\")","v":" "},{"$f":"IFERROR(IFERROR(VLOOKUP(D103,Surcharge!A:B,2,FALSE)*F103, VLOOKUP(D103 & \"\",Surcharge!A:B,2,FALSE)*F103), \"\")","v":""}]
[null,null,"Nylon",1221541,"N/C",null,{"$f":"IF(F104=0,\" \",\"N/C\")","v":" "},{"$f":"IFERROR(IFERROR(VLOOKUP(D104,Surcharge!A:B,2,FALSE)*F104, VLOOKUP(D104 & \"\",Surcharge!A:B,2,FALSE)*F104), \"\")","v":""}]
[null,null,null,null," ",null,null,{"$f":"IFERROR(IFERROR(VLOOKUP(D105,Surcharge!A:B,2,FALSE)*F105, VLOOKUP(D105 & \"\",Surcharge!A:B,2,FALSE)*F105), \"\")","v":""}]
[null,null,"Pad Driver",1220221,"N/C",null,{"$f":"IF(F106=0,\" \",\"N/C\")","v":" "},{"$f":"IFERROR(IFERROR(VLOOKUP(D106,Surcharge!A:B,2,FALSE)*F106, VLOOKUP(D106 & \"\",Surcharge!A:B,2,FALSE)*F106), \"\")","v":""}]
[null,null,"Pads ",null," ",{"$f":"SUM(F108:F110)","v":0},null,{"$f":"IFERROR(IFERROR(VLOOKUP(D107,Surcharge!A:B,2,FALSE)*F107, VLOOKUP(D107 & \"\",Surcharge!A:B,2,FALSE)*F107), \"\")","v":""}]
[null,null,"Blue Scrubbing - 3M",222326,18.2,null,{"$f":"F108*E108","v":0},{"$f":"IFERROR(IFERROR(VLOOKUP(D108,Surcharge!A:B,2,FALSE)*F108, VLOOKUP(D108 & \"\",Surcharge!A:B,2,FALSE)*F108), \"\")","v":""}]
[null,null,"Red Cleaning - 3M",222325,18.2,null,{"$f":"F109*E109","v":0},{"$f":"IFERROR(IFERROR(VLOOKUP(D109,Surcharge!A:B,2,FALSE)*F109, VLOOKUP(D109 & \"\",Surcharge!A:B,2,FALSE)*F109), \"\")","v":""}]
[null,null,"White Polishing - 3M",222324,18.2,null,{"$f":"F110*E110","v":0},{"$f":"IFERROR(IFERROR(VLOOKUP(D110,Surcharge!A:B,2,FALSE)*F110, VLOOKUP(D110 & \"\",Surcharge!A:B,2,FALSE)*F110), \"\")","v":""}]
[null,null,null,null,null,null,null,{"$f":"IFERROR(IFERROR(VLOOKUP(D111,Surcharge!A:B,2,FALSE)*F111, VLOOKUP(D111 & \"\",Surcharge!A:B,2,FALSE)*F111), \"\")","v":""}]
[null,null,"800 mm/32\" Disk Scrubbing Brushes/Pads (2 Required)",null,null,{"$f":"SUM(F113:F120)","v":0},null,{"$f":"IFERROR(IFERROR(VLOOKUP(D112,Surcharge!A:B,2,FALSE)*F112, VLOOKUP(D112 & \"\",Surcharge!A:B,2,FALSE)*F112), \"\")","v":""}]
[null,null,"Polypropylene",1220216,"N/C",null,{"$f":"IF(F113=0,\" \",\"N/C\")","v":" "},{"$f":"IFERROR(IFERROR(VLOOKUP(D113,Surcharge!A:B,2,FALSE)*F113, VLOOKUP(D113 & \"\",Surcharge!A:B,2,FALSE)*F113), \"\")","v":""}]
[null,null,"Nylon",1220215,"N/C",null,{"$f":"IF(F114=0,\" \",\"N/C\")","v":" "},{"$f":"IFERROR(IFERROR(VLOOKUP(D114,Surcharge!A:B,2,FALSE)*F114, VLOOKUP(D114 & \"\",Surcharge!A:B,2,FALSE)*F114), \"\")","v":""}]
[null,null,null,null," ",null,null,{"$f":"IFERROR(IFERROR(VLOOKUP(D115,Surcharge!A:B,2,FALSE)*F115, VLOOKUP(D115 & \"\",Surcharge!A:B,2,FALSE)*F115), \"\")","v":""}]
[null,null,"Pad Driver",1220222,"N/C",null,{"$f":"IF(F116=0,\" \",\"N/C\")","v":" "},{"$f":"IFERROR(IFERROR(VLOOKUP(D116,Surcharge!A:B,2,FALSE)*F116, VLOOKUP(D116 & \"\",Surcharge!A:B,2,FALSE)*F116), \"\")","v":""}]
[null,null,"Pads ",null," ",{"$f":"SUM(F118:F120)","v":0},null,{"$f":"IFERROR(IFERROR(VLOOKUP(D117,Surcharge!A:B,2,FALSE)*F117, VLOOKUP(D117 & \"\",Surcharge!A:B,2,FALSE)*F117), \"\")","v":""}]
[null,null,"Blue Scrubbing - 3M","63248-2",20.399999999999999,null,{"$f":"F118*E118","v":0},{"$f":"IFERROR(IFERROR(VLOOKUP(D118,Surcharge!A:B,2,FALSE)*F118, VLOOKUP(D118 & \"\",Surcharge!A:B,2,FALSE)*F118), \"\")","v":""}]
[null,null,"Red Cleaning - 3M","63248-3",20.399999999999999,null,{"$f":"F119*E119","v":0},{"$f":"IFERROR(IFERROR(VLOOKUP(D119,Surcharge!A:B,2,FALSE)*F119, VLOOKUP(D119 & \"\",Surcharge!A:B,2,FALSE)*F119), \"\")","v":""}]
[null,null,"White Polishing - 3M","63248-4",20.399999999999999,null,{"$f":"F120*E120","v":0},{"$f":"IFERROR(IFERROR(VLOOKUP(D120,Surcharge!A:B,2,FALSE)*F120, VLOOKUP(D120 & \"\",Surcharge!A:B,2,FALSE)*F120), \"\")","v":""}]
[null,null,null,null," ",null,null,{"$f":"IFERROR(IFERROR(VLOOKUP(D121,Surcharge!A:B,2,FALSE)*F121, VLOOKUP(D121 & \"\",Surcharge!A:B,2,FALSE)*F121), \"\")","v":""}]
[null,null,"700mm / 28\" Cylindrical Scrubbing Brushes  (2 Required)",null," ",{"$f":"SUM(F123:F124)","v":0},null,{"$f":"IFERROR(IFERROR(VLOOKUP(D122,Surcharge!A:B,2,FALSE)*F122, VLOOKUP(D122 & \"\",Surcharge!A:B,2,FALSE)*F122), \"\")","v":""}]
[null,null,"Polypropylene",222304,"N/C",null,{"$f":"IF(F123=0,\" \",\"N/C\")","v":" "},{"$f":"IFERROR(IFERROR(VLOOKUP(D123,Surcharge!A:B,2,FALSE)*F123, VLOOKUP(D123 & \"\",Surcharge!A:B,2,FALSE)*F123), \"\")","v":""}]
[null,null,"Nylon",222305,"N/C",null,{"$f":"IF(F124=0,\" \",\"N/C\")","v":" "},{"$f":"IFERROR(IFERROR(VLOOKUP(D124,Surcharge!A:B,2,FALSE)*F124, VLOOKUP(D124 & \"\",Surcharge!A:B,2,FALSE)*F124), \"\")","v":""}]
[null,null,null,null," ",null,null,{"$f":"IFERROR(IFERROR(VLOOKUP(D125,Surcharge!A:B,2,FALSE)*F125, VLOOKUP(D125 & \"\",Surcharge!A:B,2,FALSE)*F125), \"\")","v":""}]
[null,null,"700mm / 28\" Orbital Pads",null," ",{"$f":"SUM(F127:F131)","v":0},null,{"$f":"IFERROR(IFERROR(VLOOKUP(D126,Surcharge!A:B,2,FALSE)*F126, VLOOKUP(D126 & \"\",Surcharge!A:B,2,FALSE)*F126), \"\")","v":""}]
[null,null,"Pad Driver",1221839,"N/C",null,{"$f":"IF(F127=0,\" \",\"N/C\")","v":" "},{"$f":"IFERROR(IFERROR(VLOOKUP(D127,Surcharge!A:B,2,FALSE)*F127, VLOOKUP(D127 & \"\",Surcharge!A:B,2,FALSE)*F127), \"\")","v":""}]
[null,null,"Pads ",null," ",{"$f":"SUM(F129:F131)","v":0},null,{"$f":"IFERROR(IFERROR(VLOOKUP(D128,Surcharge!A:B,2,FALSE)*F128, VLOOKUP(D128 & \"\",Surcharge!A:B,2,FALSE)*F128), \"\")","v":""}]
[null,null,"Blue Scrubbing - 3M",1223247,61,null,{"$f":"F129*E129","v":0},{"$f":"IFERROR(IFERROR(VLOOKUP(D129,Surcharge!A:B,2,FALSE)*F129, VLOOKUP(D129 & \"\",Surcharge!A:B,2,FALSE)*F129), \"\")","v":""}]
[null,null,"Red Cleaning - 3M",1218157,61,null,{"$f":"F130*E130","v":0},{"$f":"IFERROR(IFERROR(VLOOKUP(D130,Surcharge!A:B,2,FALSE)*F130, VLOOKUP(D130 & \"\",Surcharge!A:B,2,FALSE)*F130), \"\")","v":""}]
[null,null,"White Polishing - 3M",1223246,61,null,{"$f":"F131*E131","v":0},{"$f":"IFERROR(IFERROR(VLOOKUP(D131,Surcharge!A:B,2,FALSE)*F131, VLOOKUP(D131 & \"\",Surcharge!A:B,2,FALSE)*F131), \"\")","v":""}]
[null,null,null,null,null,null,null,{"$f":"IFERROR(IFERROR(VLOOKUP(D132,Surcharge!A:B,2,FALSE)*F132, VLOOKUP(D132 & \"\",Surcharge!A:B,2,FALSE)*F132), \"\")","v":""}]
[null,"Support  (Note 6)",null,"Reference Number",null,{"$f":"SUM(F134:F141)","v":0},null,{"$f":"IFERROR(IFERROR(VLOOKUP(D133,Surcharge!A:B,2,FALSE)*F133, VLOOKUP(D133 & \"\",Surcharge!A:B,2,FALSE)*F133), \"\")","v":""}]
[null,null,"T500e Operator Manual (English)",9015506,"N/C     ",null,{"$f":"IF(F134=0,\" \",\"N/C\")","v":" "},{"$f":"IFERROR(IFERROR(VLOOKUP(D134,Surcharge!A:B,2,FALSE)*F134, VLOOKUP(D134 & \"\",Surcharge!A:B,2,FALSE)*F134), \"\")","v":""}]
[null,null,"T500e Operator Manual (Spanish)",9015507,"N/C     ",null,{"$f":"IF(F135=0,\" \",\"N/C\")","v":" "},{"$f":"IFERROR(IFERROR(VLOOKUP(D135,Surcharge!A:B,2,FALSE)*F135, VLOOKUP(D135 & \"\",Surcharge!A:B,2,FALSE)*F135), \"\")","v":""}]
[null,null,"T500e Operator Manual (French)",9015508,"N/C     ",null,{"$f":"IF(F136=0,\" \",\"N/C\")","v":" "},{"$f":"IFERROR(IFERROR(VLOOKUP(D136,Surcharge!A:B,2,FALSE)*F136, VLOOKUP(D136 & \"\",Surcharge!A:B,2,FALSE)*F136), \"\")","v":""}]
[null,null,"Additional Operator Manual","SEE ABOVE",135,null,{"$f":"F137*E137","v":0},{"$f":"IFERROR(IFERROR(VLOOKUP(D137,Surcharge!A:B,2,FALSE)*F137, VLOOKUP(D137 & \"\",Surcharge!A:B,2,FALSE)*F137), \"\")","v":""}]
[null,null,"T500e Parts Manual",9015505,55,null,{"$f":"F138*E138","v":0},{"$f":"IFERROR(IFERROR(VLOOKUP(D138,Surcharge!A:B,2,FALSE)*F138, VLOOKUP(D138 & \"\",Surcharge!A:B,2,FALSE)*F138), \"\")","v":""}]
[null,null,"T500e Service Manual",9015511,135,null,{"$f":"F139*E139","v":0},{"$f":"IFERROR(IFERROR(VLOOKUP(D139,Surcharge!A:B,2,FALSE)*F139, VLOOKUP(D139 & \"\",Surcharge!A:B,2,FALSE)*F139), \"\")","v":""}]
[null,null,null,null,null,null,null,{"$f":"IFERROR(IFERROR(VLOOKUP(D140,Surcharge!A:B,2,FALSE)*F140, VLOOKUP(D140 & \"\",Surcharge!A:B,2,FALSE)*F140), \"\")","v":""}]
[null,null,"Packaging  (Note 8)",null,null,{"$f":"SUM(F142:F143)","v":0},null,{"$f":"IFERROR(IFERROR(VLOOKUP(D141,Surcharge!A:B,2,FALSE)*F141, VLOOKUP(D141 & \"\",Surcharge!A:B,2,FALSE)*F141), \"\")","v":""}]
[null,null,"Skid w/Carton, Stackable",9015450,472,null,{"$f":"F142*E142","v":0},{"$f":"IFERROR(IFERROR(VLOOKUP(D142,Surcharge!A:B,2,FALSE)*F142, VLOOKUP(D142 & \"\",Surcharge!A:B,2,FALSE)*F142), \"\")","v":""}]
[null,null,"Pad Wrap",null,"N/C     ",null,{"$f":"IF(F143=0,\" \",\"N/C\")","v":" "},{"$f":"IFERROR(IFERROR(VLOOKUP(D143,Surcharge!A:B,2,FALSE)*F143, VLOOKUP(D143 & \"\",Surcharge!A:B,2,FALSE)*F143), \"\")","v":""}]
[null,null,null,null,null,null,null,{"$f":"IFERROR(IFERROR(VLOOKUP(D144,Surcharge!A:B,2,FALSE)*F144, VLOOKUP(D144 & \"\",Surcharge!A:B,2,FALSE)*F144), \"\")","v":""}]
[null,null,null,null,null,{"$f":"SUM(#REF!)","v":{"$error":"#REF!"}}]
[]
[null,"Custom Solution--write in description, qty, price, and PN if applicable",null,null,null,{"$f":"SUM(F148)","v":0}]
[null,null,null,null,"Insert Prices Here",{"$f":"SUM(F149:F152)","v":0}]
[null,null,null,"Custom",null,{"$f":"IF(E149 <> \"\", 1, 0)","v":0},{"$f":"F149*E149","v":0}]
[null,null,null,"Custom",null,{"$f":"IF(E150 <> \"\", 1, 0)","v":0},{"$f":"F150*E150","v":0}]
[null,null,null,"Custom",null,{"$f":"IF(E151 <> \"\", 1, 0)","v":0},{"$f":"F151*E151","v":0}]
[null,null,null,"Custom",null,{"$f":"IF(E152 <> \"\", 1, 0)","v":0},{"$f":"F152*E152","v":0}]
[null,null,null,null,{"$f":"ROUND(SUM(G54:G152), 0)","v":0},{"$f":"SUM(E154)","v":0}]
[null,null,null,"Machine Subtotal ",{"$f":"ROUND(SUM(G54:G152), 0)","v":0},{"$f":"F153","v":0}]
[null,"Discounts",null,null,null,{"$f":"SUM(F156)","v":0}]
[null,null,null,null,null,{"$f":"SUM(F157:F160)","v":0}]
[null,null,null,"Discount %",null,{"$f":"IF(E157 <> \"\", 1, 0)","v":0},{"$f":"IF(F157*(E157*0.01)*E153 < 0, F157*(E157*0.01)*E153, -(F157*(E157*0.01)*E153))","v":0}]
[null,null,null,"Discount $",null,{"$f":"IF(E158 <> \"\", 1, 0)","v":0},{"$f":"IF(F158*E158 < 0, F158*E158, -(F158*E158))","v":0}]
[null,null,null,"Discount $",null,{"$f":"IF(E159 <> \"\", 1, 0)","v":0},{"$f":"IF(F159*E159 < 0, F159*E159, -(F159*E159))","v":0}]
[null,null,null,"Discount $",null,{"$f":"IF(E160 <> \"\", 1, 0)","v":0},{"$f":"IF(F160*E160 < 0, F160*E160, -(F160*E160))","v":0}]
[null,null,null,"Discount Total ",{"$f":"SUM(G157:G160)","v":0},{"$f":"SUM(E161)","v":0}]
[null,null,null,null,null,{"$f":"#REF!","v":{"$error":"#REF!"}}]
[null,null,"Prepaid and Add","Freight",null,{"$f":"IF(E163 <> \"\", 1, 0)","v":0},{"$f":"F163*E163","v":0}]
[null,null,"Subject to all applicable taxes","Tax",null,{"$f":"IF(E164 <> \"\", 1, 0)","v":0},{"$f":"F164*E164","v":0}]
[null,null,null,null,null,{"$f":"SUM(F166)","v":0}]
[null,null,null,"            MACHINE TOTAL*",null,{"$f":"SUM(G166)","v":0},{"$f":"SUM(G54:G164)","v":0},null,null,null,null,null,null,"This goes to \"My Documents\""]
[null,"Financing",null,null,null,null,{"$f":"G166","v":0}]
[]
[null,null,"Is customer interested in financing?","Yes"]
[]
[null,null,"If not, why?"]
[]
[]
[null,null,"First Western Equipment Finance - Leasing Calculation Option:","Option 1",null,"Option 2",null,null,null,{"$f":"Financing!A38","v":"Rates 2025 - Rev. 5/6/2025"}]
[null,null,null,"Monthly Payment","Cost Per Day","Monthly Payment","Cost Per Day",null,null,{"$f":"Financing!A39","v":"“Blank Payment Amounts Indicate The Financing Option Or Purchase Options Selected Are Not "}]
[null,null,"Purchase Option:","FWEF:  $1 Buyout Lease",null,"FWEF: Municipal Lease",null,null,null,{"$f":"Financing!A40","v":"Applicable Or The Machine Total Is Below The Minimum Amount For The Selected Vendor”"}]
[null,null,"24 Months",0,0,0,0,null,null,{"$f":"Financing!A41","v":"\"Quoted monthly payments are estimates only and are based on a certain level of credit rating."}]
[null,null,"30 Months",0,0,0,0,null,null,{"$f":"Financing!A42","v":"Actual monthly payments may be higher depending on your credit rating.\""}]
[null,null,"36 Months",0,0,0,0,null,null,{"$f":"Financing!A43","v":"“Financing rates do not include Pre-Paid Service”"}]
[null,null,"48 Months",0,0,0,0]
[]
[null,null,null,"Benefits of Equipment Financing:"]
[null,null,null,"• Spreads out investment over time.",null,"• Keep current with latest technology."]
[null,null,null,"• Preserve capital.",null,"• Service and parts bundling available."]
[null,null,null,"• Low monthly payment.",null,"• Pay for labor savings as you go."]
[]
[]
[null,null,"Bundled Offerings","Flexclean – Fair Market Value",null,"Flexclean - $1 Buyout"]
[null,null,"FlexClean: ","36 Month Term",null,"36 Month Term",null,null,"No","AB Brushes"]
[null,null,"Hours included per Month:","Gold","Silver","Gold","Silver","Check"]
[null,null,"< 30/mo. (Avg. 1hr./day)",null,null,null,null,null,{"$f":"FlexCleanCalc!$A21","v":"“FlexClean monthly rates include payment for both machine and service.”"}]
[null,null,"< 60/mo. (Avg. 2hrs./day)"]
[null,null,"< 90/mo. (Avg. 3hrs./day)"]
[null,null,"*This value assumes one service contract regardless of the number of UNITS included in the quote"]
[]
[]
[null,null,"Bundled Offerings","Flexclean – Fair Market Value",null,"Flexclean - $1 Buyout"]
[null,null,"FlexClean 2: ","48 Month Term",null,"48 Month Term"]
[null,null,"Hours included per Month:","Gold","Silver","Gold","Silver"]
[null,null,"< 30/mo. (Avg. 1hr./day)"]
[null,null,"< 60/mo. (Avg. 2hrs./day)"]
[null,null,"< 90/mo. (Avg. 3hrs./day)"]
[null,null,"*This value assumes one service contract regardless of the number of UNITS included in the quote"]
[]
[null,null,"Bundled Offerings","Flexclean – Fair Market Value",null,"Flexclean - $1 Buyout"]
[null,null,"FlexClean 3: ","60 Month Term",null,"60 Month Term"]
[null,null,"Hours included per Month:","Gold","Silver","Gold","Silver"]
[null,null,"< 30/mo. (Avg. 1hr./day)"]
[null,null,"< 60/mo. (Avg. 2hrs./day)"]
[null,null,"< 90/mo. (Avg. 3hrs./day)"]
[null,null,"*This value assumes one service contract regardless of the number of UNITS included in the quote"]
[]
[null,"  TennantTrue",null,0,0]
[]
[null,null,"Is customer interested in service program?","Yes","*State/County selection required for TennantTrue service options"]
[]
[null,null,"If not, why?"]
[]
[null,null,"Term:",36,null,"AB Brushes","No"]
[null,null,"Monthly machine usage (hrs):","< 30/mo. (Avg. 1hr./day)"]
[]
[null,null,"TennantTrue: ","Gold Contract",null,"Silver Contract"]
[null,null,"Per Visit",null,null,425]
[null,null,"Monthly",129,null,69]
[null,null,"Annually",null,null,816]
[null,null,"Pre-Pay Full Term",4444,null,2397]
[null,null,"Hourly Labor Rate"]
[null,null,"Site Visit"]
[]
[null,null,"* Verify customer current pricing prior to quote. "]
[null,null,"**All rates and fees above reflect service for one (1) unit with the exception of Block of Time service."]
[null,null,"*Block of Time is available in 1 Year Term only and is priced as such no matter the term selection on this template."]
[]
[null,"Servicing"]
[]
[null,null,"Is customer interested in a service plan?","No"]
[]
[null,null,"If not, why?"]
[]
[]
[]
[null,null,"Quote Special Instructions:"]
[]
[]
[null,null,{"$f":"Start_Here!E36","v":"Terms and Conditions"}]
[null,null,{"$f":"Start_Here!E37","v":"Ask your local sales rep for estimated lead times. Verify when placing order"}]
[null,null,{"$f":"Start_Here!E38","v":"All orders subject to acceptance by Tennant Sales and Service Company, Minneapolis, Minnesota"}]
[null,null,{"$f":"Start_Here!E39","v":"Prices subject to change without notice."}]
[null,null,{"$f":"Start_Here!E40","v":"Terms:  Net 30 days.  Subject to any applicable taxes."}]
[null,null,{"$f":"Start_Here!E41","v":"Freight: Machines and accessory orders delivered FOB shipping point Frt PPD & Add"}]
[null,null,{"$f":"Start_Here!E42","v":"Parts, supplies, detergents and floor treating material orders delivered FOB "}]
[null,null,{"$f":"Start_Here!E43","v":"shipping point Frt PPD"}]
[null,null,{"$f":"Start_Here!E44","v":"All orders are subject to Tennant’s General Terms and Conditions available at http://www.tennantco.com/terms."}]
[null,null,{"$f":"Start_Here!E45","v":"Printed General Terms and Conditions are also available upon request."}]
[null,null,{"$f":"Start_Here!E46","v":0}]
[]
[null,null,null,null,"Quote Date :",null,{"$f":"Letter!$A$25","v":"2020-09-17"}]
["Order Placement Information:  To place your order, fill in PO# and customer signatures,"]
["call or fax to the numbers listed below. Customer Purchase Order is required."]
["If information is missing, orders will be entered and held until all information is received."]
[null,null,"Customer Number",null,"Cust Grp 3"]
[null,null,{"$f":"Start_Here!$C$25","v":0},null,{"$f":"Start_Here!$C$29","v":0}]
[null,null,{"$f":"Start_Here!$B$18","v":"Who Owns the Machine? (Sold-To Info) (Please Verify)"}]
["Company",null,{"$f":"Start_Here!$C$19","v":"Company Name"}]
["Address",null,{"$f":"Start_Here!$C$20","v":"Address"}]
[null,null,{"$f":"Start_Here!$C$21","v":"City, State Zip"}]
["Name",null,{"$f":"Start_Here!$C$22","v":"Contact Name"}]
["Phone",null,{"$f":"Start_Here!$C$23","v":"Contact Phone"}]
[null,null,{"$f":"Start_Here!$B$11","v":"Where is the Machine Being Shipped? (Ship-To Info) (Please Verify)"}]
["Company",null,{"$f":"Start_Here!$C$12","v":"Company Name"}]
["Address",null,{"$f":"Start_Here!$C$13","v":"Address"}]
[null,null,{"$f":"Start_Here!$C$14","v":"City, State Zip"}]
["Name",null,{"$f":"Start_Here!$C$15","v":"Contact Name"}]
["Phone",null,{"$f":"Start_Here!$C$16","v":"Contact Phone"}]
[null,null,{"$f":"Start_Here!$B$31","v":"Shipping / Carrier Instructions:"},null,"Order Special Instructions:"]
[null,null,{"$f":"Start_Here!$C$32","v":0}]
[]
[null,null,"Customer Purchase Order No."]
[null,null,"(please attach copy)"]
[]
[]
[null,null,"Tax Exempt",null,"Yes"]
[null,null,null,null,"No"]
[null,null,"If Yes, attach a copy of your exemption certificate."]
[]
[null,null,"Requested Delivery Date"]
[null,null,{"$f":"Start_Here!$C$28","v":0}]
[]
[null,null,{"$f":"Start_Here!$C$26","v":0},null,{"$f":"Start_Here!$C$27","v":0}]
[null,0,"Authorized Buyer (please print)",null,"Phone Number"]
[]
[]
[null,0,"Authorized Buyer Signature"]
[]
[null,null,{"$f":"Start_Here!$C$41","v":"Rep Name"}]
[null,null,"Tennant Representative"]
[]
["Specialized Maintenance Equipment"]
[{"$f":"Start_Here!$C$48","v":"TENNANT · 10400 Clean Street · Eden Prairie, MN 55344 ·"}]
[{"$f":"Start_Here!$C$49","v":" PHONE:800-553-8033 · FAX:763-513-2116"}]
[]
[]
[null,"Notes"]
[]
[null,1,"Standard Squeegee recovers 100% of water in 180º point turns.  If customer has a narrow aisle, the machine can be"]
[null,null,"set-up for a narrow aisle squeegee.  The narrow-aisle squeegee is the squeegee that comes standard with the "]
[null,null,"next size smaller head and will not recover 100% of the solution in 180º point turns."]
[]
[null,null,"Scrub Head Size","Standard",null,"Narrow Aisle"]
[null,null,"650 mm / 26\" - Disk","9015301 = 38.3 in / 973 mm",null,"9015490 = 30.0 in / 772 mm"]
[null,null,"700 mm / 28\" - Disk","9015302 = 41.3 in / 1049 mm",null,"9015301 = 38.3 in / 973 mm"]
[null,null,"800 mm / 32\" - Disk","9015303 = 46.6 in / 1234 mm",null,"9015302 = 41.3 in / 1049 mm"]
[null,null,"700 mm / 28\" - Cylindrical","9015303 = 46.6 in / 1234 mm",null,"9015302 = 41.3 in / 1049 mm"]
[null,null,"700 mm / 28\" - Orbital","9015302 = 41.3 in / 1049 mm",null,"9015301 = 38.3 in / 973 mm"]
[]
[null,2,"Customer MUST order Skid w/Carton, Stackable if WITHOUT BATTERY is selected."]
[null,null,"Continental USA orders ONLY. "]
[null,null,"In order to obtain the IRIS Battery Metrics, one of the listed Tennant supplied batteries is required."]
[]
[null,"2a","Li-Ion batteries require a compatible Li-Ion Charger."]
[null,null,"Li-Ion batteries are not compatible with Machine Communication (IRIS)."]
[]
[null,3,"Smart-Fill Automatic Battery Watering only available with on-board charger."]
[null,null,"Smart-Fill Automatic Battery Watering and Manual Battery Watering are not compatible with AGM or Li-Ion Batteries."]
[]
[null,4,"25A 100-240V AC 50/60Hz 1Ph - On-Board Charger is required to receive IRIS Battery Manager."]
[]
[null,5,"One set of brushes or pad drivers come standard with a Disk or Cylindrical T500.  Orbital units will come standard with"]
[null,null,"a Pad Driver - Red Backer Pad."]
[]
[null,6,"Additional hard copy Operator and Parts Manuals can be ordered or digital copies can be downloaded from www.Tennantco.com."]
[]
[null,7,"Pre-Paid and Monthly Packages are available for the IRIS Information Service."]
[null,null,"IRIS Module is required and NOT included in the price of the IRIS Information Service:"]
[null,null,"3 Year Pre-Paid IRIS Information Service",250]
[null,null,"5 Year Pre-Paid IRIS Information Service",400]
[null,null,"A monthly contract can be set up at $10 per month w/ 12 month minimum commitment."]
[null,null,"IRIS Telemetry Module only covers the price of the hardware. "]
[null,null,"IRIS Telemetry requires an IRIS Telemetry Module and an IRIS Information Service Package."]
[null,null,"25A 100-240V AC 50/60Hz 1Ph - On-Board Charger and a compatible Tennant supplied battery is required to receive IRIS Battery Manager."]
[null,null,"Availability of IRIS Battery Metrics is not guaranteed with third party supplied batteries."]
[null,null,"IRIS Telemetry is not available with units configured with Li-Ion Batteries."]
[]
[null,8,"Pad wrap available only in the Continental US and is the default packaging method."]
[null,null,"Customer MUST order Skid w/Carton, Stackable if WITHOUT BATTERY is selected."]
[null,null,"Skid w/Carton, Stackable is mandatory when shipping to AK and HI.  Packaging is added at No Charge when shipping"]
[null,null,"to these locations."]
[]
[null,9,"Shipping Weights and Dimensions","Pad Wrap","Skid w/Carton"]
[null,null,null," "]
[null,null,"26\" / 650mm Disk"]
[null,null,"Weight","570 lbs / 259 Kg","635 lbs / 289 Kg"]
[null,null,"Length","59\" / 1,499mm","73\" / 1,855mm"]
[null,null,"Width","28\" / 712mm","43\" / 1,093mm"]
[null,null,"Height","44\" / 1,118mm","52\" / 1,321mm"]
[]
[null,null,"28\" / 700mm Disk"]
[null,null,"Weight","580 lbs / 263 Kg","645 lbs / 293 Kg"]
[null,null,"Length","59\" / 1,499mm","73\" / 1,855mm"]
[null,null,"Width","30\" / 762mm","43\" / 1,093mm"]
[null,null,"Height","44\" / 1,118mm","52\" / 1,321mm"]
[]
[null,null,"32\" / 800mm Disk"]
[null,null,"Weight","705 lbs / 320 Kg","770 lbs / 350 Kg"]
[null,null,"Length","61\" / 1,550mm","73\" / 1,855mm"]
[null,null,"Width","34\" / 864mm","43\" / 1,093mm"]
[null,null,"Height","44\" / 1,118mm","52\" / 1,321mm"]
[]
[null,null,"28\" / 700m Cylindrical"]
[null,null,"Weight","620 lbs / 281 Kg","685 lbs / 311 Kg"]
[null,null,"Length","59\" / 1,499mm","73\" / 1,855mm"]
[null,null,"Width","31\" / 788mm","43\" / 1,093mm"]
[null,null,"Height","44\" / 1,118mm","52\" / 1,321mm"]
[]
[null,null,"28\" / 700mm Orbital"]
[null,null,"Weight","620 lbs / 281 Kg","685 lbs / 311 Kg"]
[null,null,"Length","59\" / 1,499mm","73\" / 1,855mm"]
[null,null,"Width","28\" / 712mm","43\" / 1,093mm"]
[null,null,"Height","44\" / 1,118mm","52\" / 1,321mm"]

{"sheet":"T600","index":34,"n_rows":394,"n_cols":17,"rows_kept":394,"cut":false,"hidden":false,"merged":[[45,2,45,5],[46,2,46,5],[0,2,0,3],[1,2,1,3],[2,2,2,3],[3,2,3,3],[11,2,11,6],[47,2,47,5],[48,2,48,5],[49,2,49,5],[50,2,50,5],[205,3,205,4],[205,5,205,6],[193,3,193,4],[193,5,193,6],[188,3,188,6],[191,3,191,4],[191,5,191,6],[206,3,206,4],[206,5,206,6],[214,3,214,4],[214,5,214,6],[215,3,215,4],[215,5,215,6],[234,3,234,6],[236,3,236,4],[237,3,237,4],[239,3,239,4],[239,5,239,6],[222,3,222,4],[222,5,222,6],[223,3,223,4],[223,5,223,6],[232,4,232,8],[291,2,291,5],[293,4,293,7],[297,2,297,5],[306,4,306,5],[284,2,284,5],[285,2,285,5],[287,2,287,5],[288,2,288,5],[289,2,289,5],[290,2,290,5],[283,2,283,5],[255,3,256,6],[260,2,260,6],[279,4,279,7],[281,2,281,5],[282,2,282,5],[240,3,240,4],[240,5,240,6],[241,3,241,4],[241,5,241,6],[242,3,242,4],[242,5,242,6],[243,3,243,4],[243,5,243,6],[244,3,244,4],[244,5,244,6],[245,3,245,4],[245,5,245,6]]}
["T600",null,{"$f":"Start_Here!$C19","v":"Company Name"}]
[{"$f":"SUM(G184)","v":0},null,{"$f":"Start_Here!$C20","v":"Address"}]
[null,null,{"$f":"Start_Here!$C21","v":"City, State Zip"}]
[null,null,{"$f":"Start_Here!$C22","v":"Contact Name"}]
[null,null,{"$f":"Start_Here!$C$41","v":"Rep Name"}]
[null,null,{"$f":"Start_Here!$C$37","v":"Tennant Sales and Service Company"}]
[null,null,{"$f":"Start_Here!$C$38","v":"10400 Clean Street"}]
[null,null,{"$f":"Start_Here!$C$39","v":"Eden Prairie, MN 55344"}]
[null,null,{"$f":"Start_Here!$C$43","v":"800-553-8033"},null,"Quote Date :",null,{"$f":"Letter!$A$25","v":"2020-09-17"}]
[]
[null,null,{"$f":"Help!C2","v":"US Date Rev - 5/6/2025"}]
[null,null,"BUILT-IN “TENNANT VALUE” INCLUDES:"]
[]
[null,null,"121L/32 gal Solution Tank  & 37 L/140 gal Recovery Tank",null,"Cast Aluminum Squeegee & Scrub Deck (Disk, Cylindrical)"]
[null,null,"Rugged Duramer™ Rotomold Tank Construction",null,"Automatic: Water On / Off"]
[null,null,"Fully Sprayable Hygienic® Recovery Tank",null,"Brush On / Off"]
[null,null,"Three Down Pressure Settings- up to 200 lbs/90 kg ",null,"Brush Shutoff at 80% Discharge"]
[null,null,"Adjustable Solution Flow",null,"Linatex/Linard Squeegee Blades with Tool-less Replacement"]
[null,null,"Variable Speed Control Knob",null,"Emergency Stop "]
[null,null,"Pro-Membrane™ Control Panel w/ 3 Zone Settings™ (Standard)",null,"Free Floating Head Skirt (disk machines)"]
[null,null,"LCD Pro-Panel™ Touch Screen Control Panel (Option)",null,"Fill Port w/ Hose Fins"]
[null,null,"       On-Demand Tutorial Videos & 4 Customizable Zone Settings",null,"Integrated Heat Sink for Electronics Protection"]
[null,null,"Supervisor QA ControlsTM settings (Lock Out Features)",null,"Sealed Electrical Connectors"]
[null,null,"On Board Diagnostics",null,"Anti-Static Strap"]
[null,null,"Standard Low Noise Level  (≤70 dBa)",null,"1 HP brush motor/ 0.75 kW (disk)"]
[null,null,"Quiet-Mode™ Sound Reduction all models   (≤62.5dBa)",null,"300 RPM (disk) and 760 RPM (cylindrical) "]
[null,null,"Standard (6) 6v. 240AH battery pack",null,"Recovery Tank Debris Tray"]
[null,null,"      (Optional  360AH batteries available)",null,"Excellent Ergonomic Controls Design"]
[null,null,"      (Optional  Thin Plate Pure Lead Batteries available)",null,"Non-Marking Polyurethane Tires"]
[null,null,"Smart-Fill™ Automatic Battery Watering (Option)",null,"Includes Standard Pad Drivers or Scrubbing Brushes (Select One)"]
[null,null,"Auto Fill (Solution Tank)",null,"Key Switch for Safety"]
[null,null,"Quick Release Battery Harness",null,"Hour Meter"]
[null,null,"Standard Controlled Battery Compartment Drain",null,"Jacking Points/Shipping Tie Downs"]
[null,null,"On-board Charger with 3m/15 ft power cord",null,"Yellow Maintenance Touch Points"]
[null,null,"Closed Machine Venting for Battery Charging",null,"Auto Fill for Solution Tank"]
[null,null,"Breakaway Squeegee Design",null,"Integrated Accessory Rails"]
[null,null,"Factory Set Squeegee Assembly for Maximum Recovery",null,"Drain hose with pinch cuff to control water flow"]
[null,null,"Cast Aluminum Squeegee Frame"]
[]
[null,null,"Optional ec-H2O NanoClean™ Equipped Models Include:"]
[null,null,"Electrically Converted Water Technology System"]
[null,null,"Two Scrubbing Modes: ec-H2O NanoCleanTM & Conventional Scrub"]
[]
[]
[null,null,null,null,null,null,"Same "]
[null,null,"TENNANT COMPANY WARRANTY"]
[null,null,"3 YEARS OR 2000 HOURS - PARTS"]
[null,null,"1 YEAR - BATTERY CHARGERS"]
[null,null,"2 YEARS LABOR, 6 MONTHS TRAVEL"]
[null,null,"10 YEARS ON DURAMERTM ROTOMOLD TANKS"]
[]
[]
[null,null,null,null,"                Quote Request Information"]
[null,null,null,null,null,null,"Fax (quote only)"]
[null,null,null,null,null,null,"Mail (quote,lit, specs)"]
[null,null,null,null,null,null,"Fax + Mail"]
[]
[null,null,null,null,"                Primary Use"]
[null,null,null,null,null,null,"Inside"]
[null,null,null,null,null,null,"Outside"]
[]
[null,null,"Descriptions ","Reference #","Price Each","Qty","Extended Price"]
[null,"Base Configuration",null,null,null,{"$f":"SUM(F64,F71,F75,F81,F85,F94,#REF!,F99)","v":{"$error":"#REF!"}},null,{"$f":"IFERROR(IFERROR(VLOOKUP(D63,Surcharge!A:B,2,FALSE)*F63, VLOOKUP(D63 & \"\",Surcharge!A:B,2,FALSE)*F63), \"\")","v":""}]
[null,null,"Cleaning Type",null,null,{"$f":"SUM(F65:F69)","v":0},null,{"$f":"IFERROR(IFERROR(VLOOKUP(D64,Surcharge!A:B,2,FALSE)*F64, VLOOKUP(D64 & \"\",Surcharge!A:B,2,FALSE)*F64), \"\")","v":""}]
[null,null,"T600 Walk-Behind Scrubber 700 mm / 28\" Disk","T600-700D",22740,null,{"$f":"F65*E65","v":0},{"$f":"IFERROR(IFERROR(VLOOKUP(D65,Surcharge!A:B,2,FALSE)*F65, VLOOKUP(D65 & \"\",Surcharge!A:B,2,FALSE)*F65), \"\")","v":""},null,null,null,null,null,null,null,{"$f":"VLOOKUP(Q65,'MPF SAP Download'!A:E,5,FALSE)","v":21252},"M-T600VK_BASE_T600-700D"]
[null,null,"T600 Walk-Behind Scrubber 800 mm / 32\" Disk","T600-800D",23592,null,0,{"$f":"IFERROR(IFERROR(VLOOKUP(D66,Surcharge!A:B,2,FALSE)*F66, VLOOKUP(D66 & \"\",Surcharge!A:B,2,FALSE)*F66), \"\")","v":""},null,null,null,null,null,null,null,{"$f":"VLOOKUP(Q66,'MPF SAP Download'!A:E,5,FALSE)","v":22048},"M-T600VK_BASE_T600-800D"]
[null,null,"T600 Walk-Behind Scrubber 900 mm / 36\" Disk","T600-900D",26851,null,{"$f":"F67*E67","v":0},null,null,null,null,null,null,null,null,{"$f":"VLOOKUP(Q67,'MPF SAP Download'!A:E,5,FALSE)","v":25094},"M-T600VK_BASE_T600-900D"]
[null,null,"T600 Walk-Behind Scrubber 700 mm / 28\" Cylindrical","T600-700C",24443,null,0,{"$f":"IFERROR(IFERROR(VLOOKUP(D68,Surcharge!A:B,2,FALSE)*F68, VLOOKUP(D68 & \"\",Surcharge!A:B,2,FALSE)*F68), \"\")","v":""},null,null,null,null,null,null,null,{"$f":"VLOOKUP(Q68,'MPF SAP Download'!A:E,5,FALSE)","v":22843},"M-T600VK_BASE_T600-700C"]
[null,null,"T600 Walk-Behind Scrubber 800 mm / 32\" Cylindrical","T600-800C",25296,null,0,{"$f":"IFERROR(IFERROR(VLOOKUP(D69,Surcharge!A:B,2,FALSE)*F69, VLOOKUP(D69 & \"\",Surcharge!A:B,2,FALSE)*F69), \"\")","v":""},null,null,null,null,null,null,null,{"$f":"VLOOKUP(Q69,'MPF SAP Download'!A:E,5,FALSE)","v":23641},"M-T600VK_BASE_T600-800C"]
[null,null,null,null,null,null,null,{"$f":"IFERROR(IFERROR(VLOOKUP(D70,Surcharge!A:B,2,FALSE)*F70, VLOOKUP(D70 & \"\",Surcharge!A:B,2,FALSE)*F70), \"\")","v":""}]
[null,null,"Trim Level",null,null,{"$f":"SUM(F72:F73)","v":0},null,{"$f":"IFERROR(IFERROR(VLOOKUP(D71,Surcharge!A:B,2,FALSE)*F71, VLOOKUP(D71 & \"\",Surcharge!A:B,2,FALSE)*F71), \"\")","v":""}]
[null,null,"Pro Membrane™ Control Panel","MCP-T600","N/C",null,{"$f":"IF(F72=0,\" \",\"N/C\")","v":" "},{"$f":"IFERROR(IFERROR(VLOOKUP(D72,Surcharge!A:B,2,FALSE)*F72, VLOOKUP(D72 & \"\",Surcharge!A:B,2,FALSE)*F72), \"\")","v":""},null,null,null,null,null,null,null,{"$f":"VLOOKUP(Q72,'MPF SAP Download'!A:E,5,FALSE)","v":"N/C"},"M-T600VK_TRMLVL_PMEM"]
[null,null,"Pro-Panel™ Control Panel","PPC-T600",951,null,{"$f":"F73*E73","v":0},{"$f":"IFERROR(IFERROR(VLOOKUP(D73,Surcharge!A:B,2,FALSE)*F73, VLOOKUP(D73 & \"\",Surcharge!A:B,2,FALSE)*F73), \"\")","v":""},null,null,null,null,null,null,null,{"$f":"VLOOKUP(Q73,'MPF SAP Download'!A:E,5,FALSE)","v":888},"M-T600VK_TRMLVL_PPAN"]
[null,null,null,null," ",null,null,{"$f":"IFERROR(IFERROR(VLOOKUP(D74,Surcharge!A:B,2,FALSE)*F74, VLOOKUP(D74 & \"\",Surcharge!A:B,2,FALSE)*F74), \"\")","v":""},null,null,null,null,null,null,null,null,""]
[null,null,"Cleaning Technology: (conventional is standard,  ec-H2O NanoClean can also operate in conventional mode)",null," ",{"$f":"SUM(F76:F79)","v":0},null,{"$f":"IFERROR(IFERROR(VLOOKUP(D75,Surcharge!A:B,2,FALSE)*F75, VLOOKUP(D75 & \"\",Surcharge!A:B,2,FALSE)*F75), \"\")","v":""},null,null,null,null,null,null,null,null,""]
[null,null,"ec-H2O NanoClean™","ec-H2O-T600",3040,null,{"$f":"F76*E76","v":0},{"$f":"IFERROR(IFERROR(VLOOKUP(D76,Surcharge!A:B,2,FALSE)*F76, VLOOKUP(D76 & \"\",Surcharge!A:B,2,FALSE)*F76), \"\")","v":""},null,null,null,{"$f":"SUM(F76)","v":0},"Surcharge Qty",null,null,{"$f":"VLOOKUP(Q76,'MPF SAP Download'!A:E,5,FALSE)","v":2841},"M-T600VK_CLNTCH_ECH2ON"]
[null,null,null,null," ",null,null,{"$f":"IFERROR(IFERROR(VLOOKUP(D77,Surcharge!A:B,2,FALSE)*F77, VLOOKUP(D77 & \"\",Surcharge!A:B,2,FALSE)*F77), \"\")","v":""},null,null,null,{"$f":"SUM(F77)","v":0},"Surcharge Qty",null,null,null,""]
[null,null,"Severe Environment Switch  (Note 1)",9042152,613,0,{"$f":"F78*E78","v":0},{"$f":"IFERROR(IFERROR(VLOOKUP(D78,Surcharge!A:B,2,FALSE)*F78, VLOOKUP(D78 & \"\",Surcharge!A:B,2,FALSE)*F78), \"\")","v":""},null,null,null,null,null,null,null,{"$f":"VLOOKUP(Q78,'MPF SAP Download'!A:E,5,FALSE)","v":572},"M-T600VK_SVEEVMSWH"]
[null,null,"Severe Environment™ Switch Lockout  (Note 2)",9017886,64,0,{"$f":"F79*E79","v":0},null,null,null,null,null,null,null,null,{"$f":"VLOOKUP(Q79,'MPF SAP Download'!A:E,5,FALSE)","v":59},"M-T600VK_SVEEVMSWHLKT"]
[null,null,null,null," ",null,null,{"$f":"IFERROR(IFERROR(VLOOKUP(D80,Surcharge!A:B,2,FALSE)*F80, VLOOKUP(D80 & \"\",Surcharge!A:B,2,FALSE)*F80), \"\")","v":""},null,null,null,null,null,null,null,null,""]
[null,null,"Squeegee Width  (Note 3)",null," ",{"$f":"SUM(F82:F83)","v":0},null,{"$f":"IFERROR(IFERROR(VLOOKUP(D81,Surcharge!A:B,2,FALSE)*F81, VLOOKUP(D81 & \"\",Surcharge!A:B,2,FALSE)*F81), \"\")","v":""},null,null,null,0,"Surcharge Qty",null,null,null,""]
[null,null,"Standard","STD-T600","N/C",null,{"$f":"IF(F82=0,\" \",\"N/C\")","v":" "},{"$f":"IFERROR(IFERROR(VLOOKUP(D82,Surcharge!A:B,2,FALSE)*F82, VLOOKUP(D82 & \"\",Surcharge!A:B,2,FALSE)*F82), \"\")","v":""},null,null,null,0,"Surcharge Qty",null,null,{"$f":"VLOOKUP(Q82,'MPF SAP Download'!A:E,5,FALSE)","v":"N/C"},"M-T600VK_SQEWDT_STD"]
[null,null,"Narrow Aisle","NR-T600","N/C",null,{"$f":"IF(F83=0,\" \",\"N/C\")","v":" "},{"$f":"IFERROR(IFERROR(VLOOKUP(D83,Surcharge!A:B,2,FALSE)*F83, VLOOKUP(D83 & \"\",Surcharge!A:B,2,FALSE)*F83), \"\")","v":""},null,null,null,0,"Surcharge Qty",null,null,{"$f":"VLOOKUP(Q83,'MPF SAP Download'!A:E,5,FALSE)","v":{"$error":"#N/A"}},"M-T600"]
[null,null,null,null," ",null,null,{"$f":"IFERROR(IFERROR(VLOOKUP(D84,Surcharge!A:B,2,FALSE)*F84, VLOOKUP(D84 & \"\",Surcharge!A:B,2,FALSE)*F84), \"\")","v":""},null,null,null,0,"Surcharge Qty",null,null,null,""]
[null,null,"Battery Type  (Note 4)",null," ",{"$f":"SUM(F86:F92)","v":0},null,{"$f":"IFERROR(IFERROR(VLOOKUP(D85,Surcharge!A:B,2,FALSE)*F85, VLOOKUP(D85 & \"\",Surcharge!A:B,2,FALSE)*F85), \"\")","v":""},null,null,null,0,"Surcharge Qty",null,null,null,""]
[null,null,"Wet 240AH C/20",9042056,"N/C",null,{"$f":"IF(F86=0,\" \",\"N/C\")","v":" "},{"$f":"IFERROR(IFERROR(VLOOKUP(D86,Surcharge!A:B,2,FALSE)*F86, VLOOKUP(D86 & \"\",Surcharge!A:B,2,FALSE)*F86), \"\")","v":""},null,null,null,0,"Surcharge Qty",null,null,{"$f":"VLOOKUP(Q86,'MPF SAP Download'!A:E,5,FALSE)","v":"N/C"},"M-T600VK_BTY_W240C20"]
[null,null,"Wet 360AH C/20",9042058,782,null,{"$f":"F87*E87","v":0},{"$f":"IFERROR(IFERROR(VLOOKUP(D87,Surcharge!A:B,2,FALSE)*F87, VLOOKUP(D87 & \"\",Surcharge!A:B,2,FALSE)*F87), \"\")","v":""},null,null,null,0,"Surcharge Qty",null,null,{"$f":"VLOOKUP(Q87,'MPF SAP Download'!A:E,5,FALSE)","v":730},"M-T600VK_BTY_W360C20"]
[null,null,"Sealed/MF Fast Charge 210AH C/20 (TPPL Battery)  (Note 5)",9042061,2424,null,{"$f":"F88*E88","v":0},{"$f":"IFERROR(IFERROR(VLOOKUP(D88,Surcharge!A:B,2,FALSE)*F88, VLOOKUP(D88 & \"\",Surcharge!A:B,2,FALSE)*F88), \"\")","v":""},null,null,null,null,null,null,null,{"$f":"VLOOKUP(Q88,'MPF SAP Download'!A:E,5,FALSE)","v":2265},"M-T600VK_BTY_F186C6"]
[null,null,"Without",9041062,-750,null,{"$f":"F89*E89","v":0},{"$f":"IFERROR(IFERROR(VLOOKUP(D89,Surcharge!A:B,2,FALSE)*F89, VLOOKUP(D89 & \"\",Surcharge!A:B,2,FALSE)*F89), \"\")","v":""},null,null,null,null,null,null,null,{"$f":"VLOOKUP(Q89,'MPF SAP Download'!A:E,5,FALSE)","v":-750},"M-T600VK_BTY_WO"]
[null,null,null,null,null,null,null,{"$f":"IFERROR(IFERROR(VLOOKUP(D90,Surcharge!A:B,2,FALSE)*F90, VLOOKUP(D90 & \"\",Surcharge!A:B,2,FALSE)*F90), \"\")","v":""},null,null,null,{"$f":"SUM(F90)","v":0},"Surcharge Qty"]
[null,null,"Smart-Fill Automatic Battery Watering  (Note 6)",9042063,1181,null,{"$f":"F91*E91","v":0},{"$f":"IFERROR(IFERROR(VLOOKUP(D91,Surcharge!A:B,2,FALSE)*F91, VLOOKUP(D91 & \"\",Surcharge!A:B,2,FALSE)*F91), \"\")","v":""},null,null,null,null,null,null,null,{"$f":"VLOOKUP(Q91,'MPF SAP Download'!A:E,5,FALSE)","v":1103},"M-T600VK_BTYWTRSYS_SF"]
[null,null,"Manual Battery Watering  (Note 6)",9042064,761,null,{"$f":"F92*E92","v":0},{"$f":"IFERROR(IFERROR(VLOOKUP(D92,Surcharge!A:B,2,FALSE)*F92, VLOOKUP(D92 & \"\",Surcharge!A:B,2,FALSE)*F92), \"\")","v":""},null,null,null,null,null,null,null,{"$f":"VLOOKUP(Q92,'MPF SAP Download'!A:E,5,FALSE)","v":711},"M-T600VK_BTYWTRSYS_ML"]
[null,null,null,null,null,null,null,{"$f":"IFERROR(IFERROR(VLOOKUP(D93,Surcharge!A:B,2,FALSE)*F93, VLOOKUP(D93 & \"\",Surcharge!A:B,2,FALSE)*F93), \"\")","v":""}]
[null,null,"Charger  (Note 7)","Reference Number",null,{"$f":"SUM(F95:F97)","v":0},null,{"$f":"IFERROR(IFERROR(VLOOKUP(D94,Surcharge!A:B,2,FALSE)*F94, VLOOKUP(D94 & \"\",Surcharge!A:B,2,FALSE)*F94), \"\")","v":""}]
[null,null,"25A 100-240V AC 50/60Hz 1Ph - Off-Board Charger\n (for Wet / Lead Acid Batteries Only)",9042253,"N/C",null,{"$f":"IF(F95=0,\" \",\"N/C\")","v":" "},{"$f":"IFERROR(IFERROR(VLOOKUP(D95,Surcharge!A:B,2,FALSE)*F95, VLOOKUP(D95 & \"\",Surcharge!A:B,2,FALSE)*F95), \"\")","v":""},null,null,null,null,null,null,null,{"$f":"VLOOKUP(Q95,'MPF SAP Download'!A:E,5,FALSE)","v":"N/C"},"M-T600VK_CHG_25A100V5060H1_OFF"]
[null,null,"25A 100-240V AC 50/60Hz 1Ph - On-Board Charger (for Wet / Lead Acid Batteries Only)\n (IRIS Battery Metric Compatible)",9042250,"N/C",null,{"$f":"IF(F96=0,\" \",\"N/C\")","v":" "},{"$f":"IFERROR(IFERROR(VLOOKUP(D96,Surcharge!A:B,2,FALSE)*F96, VLOOKUP(D96 & \"\",Surcharge!A:B,2,FALSE)*F96), \"\")","v":""},null,null,null,null,null,null,null,{"$f":"VLOOKUP(Q96,'MPF SAP Download'!A:E,5,FALSE)","v":"N/C"},"M-T600VK_CHG_25A100V5060H1_ON"]
[null,null,"33A 100-240V AC 50/60Hz 1Ph - On-Board Charger (for Wet / Lead Acid Batteries Only)\n (Mandatory with 186AH TPPL Battery)",9042252,188,null,{"$f":"F97*E97","v":0},null,null,null,null,null,null,null,null,{"$f":"VLOOKUP(Q97,'MPF SAP Download'!A:E,5,FALSE)","v":175},"M-T600VK_CHG_33A100V5060H1P"]
[]
[null,null,"UL/ETL Rating",null,null,{"$f":"SUM(F100)","v":0}]
[null,null,"UL Type E  (Note 8)",null,"N/C",null,{"$f":"IF(F100=0,\" \",\"N/C\")","v":" "},null,null,null,null,null,null,null,null,{"$f":"VLOOKUP(Q100,'MPF SAP Download'!A:E,5,FALSE)","v":"N/C"},"M-T600VK_ULERTG_E"]
[null,null,null,null,null,null,null,{"$f":"IFERROR(IFERROR(VLOOKUP(D101,Surcharge!A:B,2,FALSE)*F101, VLOOKUP(D101 & \"\",Surcharge!A:B,2,FALSE)*F101), \"\")","v":""}]
[null,"Machine Protection & Safety",null,"Reference Number",null,{"$f":"SUM(F103:F106)","v":0},null,{"$f":"IFERROR(IFERROR(VLOOKUP(D102,Surcharge!A:B,2,FALSE)*F102, VLOOKUP(D102 & \"\",Surcharge!A:B,2,FALSE)*F102), \"\")","v":""}]
[null,null,"Black Foam Filled Rubber  (Non-Marking)",9042099,"N/C",null,{"$f":"IF(F103=0,\" \",\"N/C\")","v":" "},null,null,null,null,null,null,null,null,{"$f":"VLOOKUP(Q103,'MPF SAP Download'!A:E,5,FALSE)","v":"N/C"},"M-T600VK_NONMKTTRE_BFFR"]
[null,null,"Black Pneumatic Rubber  (Non-Marking)",9042071,"N/C",null,{"$f":"IF(F104=0,\" \",\"N/C\")","v":" "},null,null,null,null,null,null,null,null,{"$f":"VLOOKUP(Q104,'MPF SAP Download'!A:E,5,FALSE)","v":"N/C"},"M-T600VK_NONMKTTRE_BPR"]
["                                                                                                                                                                                                                                                                                                                                                                                                                                                                                                                                                                                                                                                                                                                                                                                                                                                                                                                                                                                                                                                                                                                                                                                                                                                                                                                                                                                                                                            ",null,"Parking Brake",9042068,195,null,{"$f":"F105*E105","v":0},{"$f":"IFERROR(IFERROR(VLOOKUP(D105,Surcharge!A:B,2,FALSE)*F105, VLOOKUP(D105 & \"\",Surcharge!A:B,2,FALSE)*F105), \"\")","v":""},null,null,null,null,null,null,null,{"$f":"VLOOKUP(Q105,'MPF SAP Download'!A:E,5,FALSE)","v":182},"M-T600VK_PRGBRK"]
[null,null,"Trailer Transport Kit",9042165,275,null,{"$f":"F106*E106","v":0},null,null,null,null,null,null,null,null,{"$f":"VLOOKUP(Q106,'MPF SAP Download'!A:E,5,FALSE)","v":257},"M-T600VK_TRLTRTKIT"]
[null,null,null,null,null,null,null,{"$f":"IFERROR(IFERROR(VLOOKUP(D107,Surcharge!A:B,2,FALSE)*F107, VLOOKUP(D107 & \"\",Surcharge!A:B,2,FALSE)*F107), \"\")","v":""}]
[null,"Brushes and Pads  (Note 9)",null,"Reference Number",null,{"$f":"SUM(F109,F119,F130,F140,F145,#REF!)","v":{"$error":"#REF!"}},null,{"$f":"IFERROR(IFERROR(VLOOKUP(D108,Surcharge!A:B,2,FALSE)*F108, VLOOKUP(D108 & \"\",Surcharge!A:B,2,FALSE)*F108), \"\")","v":""}]
[null,null,"700 mm / 28\" Disk Scrubbing Brushes/Pads (2 Required - 14\" each)",null,null,{"$f":"SUM(F110:F117)","v":0},null,{"$f":"IFERROR(IFERROR(VLOOKUP(D109,Surcharge!A:B,2,FALSE)*F109, VLOOKUP(D109 & \"\",Surcharge!A:B,2,FALSE)*F109), \"\")","v":""}]
[null,null,"Polypropylene Brush",1234464,"N/C",null,{"$f":"IF(F110=0,\" \",\"N/C\")","v":" "},{"$f":"IFERROR(IFERROR(VLOOKUP(D110,Surcharge!A:B,2,FALSE)*F110, VLOOKUP(D110 & \"\",Surcharge!A:B,2,FALSE)*F110), \"\")","v":""},null,null,null,null,null,null,null,{"$f":"VLOOKUP(Q110,'MPF SAP Download'!A:E,5,FALSE)","v":"N/C"},"M-T600VK_CLNTOL_D700PYP"]
[null,null,"Nylon Brush",1234463,"N/C",null,{"$f":"IF(F111=0,\" \",\"N/C\")","v":" "},{"$f":"IFERROR(IFERROR(VLOOKUP(D111,Surcharge!A:B,2,FALSE)*F111, VLOOKUP(D111 & \"\",Surcharge!A:B,2,FALSE)*F111), \"\")","v":""},null,null,null,null,null,null,null,{"$f":"VLOOKUP(Q111,'MPF SAP Download'!A:E,5,FALSE)","v":"N/C"},"M-T600VK_CLNTOL_D700NYL"]
[null,null,null,null,null,null,null,{"$f":"IFERROR(IFERROR(VLOOKUP(D112,Surcharge!A:B,2,FALSE)*F112, VLOOKUP(D112 & \"\",Surcharge!A:B,2,FALSE)*F112), \"\")","v":""}]
[null,null,"Pad Driver",1234467,"N/C",null,{"$f":"IF(F113=0,\" \",\"N/C\")","v":" "},{"$f":"IFERROR(IFERROR(VLOOKUP(D113,Surcharge!A:B,2,FALSE)*F113, VLOOKUP(D113 & \"\",Surcharge!A:B,2,FALSE)*F113), \"\")","v":""},null,null,null,null,null,null,null,{"$f":"VLOOKUP(Q113,'MPF SAP Download'!A:E,5,FALSE)","v":"N/C"},"M-T600VK_CLNTOL_D700PAD"]
[null,null,"Pads",null,null,{"$f":"SUM(F115:F117)","v":0},null,{"$f":"IFERROR(IFERROR(VLOOKUP(D114,Surcharge!A:B,2,FALSE)*F114, VLOOKUP(D114 & \"\",Surcharge!A:B,2,FALSE)*F114), \"\")","v":""}]
[null,null,"Blue Scrubbing - 3M",222326,18.2,null,{"$f":"F115*E115","v":0},{"$f":"IFERROR(IFERROR(VLOOKUP(D115,Surcharge!A:B,2,FALSE)*F115, VLOOKUP(D115 & \"\",Surcharge!A:B,2,FALSE)*F115), \"\")","v":""},null,null,null,null,null,null,null,{"$f":"VLOOKUP(Q115,'MPF SAP Download'!A:E,5,FALSE)","v":17},"M-T600VK_PADTYP_700BLU3"]
[null,null,"Red Cleaning - 3M",222325,18.2,null,{"$f":"F116*E116","v":0},{"$f":"IFERROR(IFERROR(VLOOKUP(D116,Surcharge!A:B,2,FALSE)*F116, VLOOKUP(D116 & \"\",Surcharge!A:B,2,FALSE)*F116), \"\")","v":""},null,null,null,null,null,null,null,{"$f":"VLOOKUP(Q116,'MPF SAP Download'!A:E,5,FALSE)","v":17},"M-T600VK_PADTYP_700RED3"]
[null,null,"White Polishing - 3M",222324,18.2,null,{"$f":"F117*E117","v":0},{"$f":"IFERROR(IFERROR(VLOOKUP(D117,Surcharge!A:B,2,FALSE)*F117, VLOOKUP(D117 & \"\",Surcharge!A:B,2,FALSE)*F117), \"\")","v":""},null,null,null,null,null,null,null,{"$f":"VLOOKUP(Q117,'MPF SAP Download'!A:E,5,FALSE)","v":17},"M-T600VK_PADTYP_700WHT3"]
[null,null,null,null,null,null,null,{"$f":"IFERROR(IFERROR(VLOOKUP(D118,Surcharge!A:B,2,FALSE)*F118, VLOOKUP(D118 & \"\",Surcharge!A:B,2,FALSE)*F118), \"\")","v":""}]
[null,null,"800 mm / 32\" Disk Scrubbing Brushes/Pads (2 Required - 16\" each)",null,null,{"$f":"SUM(F120:F128)","v":0},null,{"$f":"IFERROR(IFERROR(VLOOKUP(D119,Surcharge!A:B,2,FALSE)*F119, VLOOKUP(D119 & \"\",Surcharge!A:B,2,FALSE)*F119), \"\")","v":""}]
[null,null,"Polypropylene Brush",1234524,"N/C",null,{"$f":"IF(F120=0,\" \",\"N/C\")","v":" "},{"$f":"IFERROR(IFERROR(VLOOKUP(D120,Surcharge!A:B,2,FALSE)*F120, VLOOKUP(D120 & \"\",Surcharge!A:B,2,FALSE)*F120), \"\")","v":""},null,null,null,null,null,null,null,{"$f":"VLOOKUP(Q120,'MPF SAP Download'!A:E,5,FALSE)","v":"N/C"},"M-T600VK_CLNTOL_D800PYP"]
[null,null,"Heavy Duty Polypropylene Brush",1234525,"N/C",null,{"$f":"IF(F121=0,\" \",\"N/C\")","v":" "},{"$f":"IFERROR(IFERROR(VLOOKUP(D121,Surcharge!A:B,2,FALSE)*F121, VLOOKUP(D121 & \"\",Surcharge!A:B,2,FALSE)*F121), \"\")","v":""},null,null,null,null,null,null,null,{"$f":"VLOOKUP(Q121,'MPF SAP Download'!A:E,5,FALSE)","v":"N/C"},"M-T600VK_CLNTOL_D800HDPYP"]
[null,null,"Nylon Brush",1234523,"N/C",null,{"$f":"IF(F122=0,\" \",\"N/C\")","v":" "},{"$f":"IFERROR(IFERROR(VLOOKUP(D122,Surcharge!A:B,2,FALSE)*F122, VLOOKUP(D122 & \"\",Surcharge!A:B,2,FALSE)*F122), \"\")","v":""},null,null,null,null,null,null,null,{"$f":"VLOOKUP(Q122,'MPF SAP Download'!A:E,5,FALSE)","v":"N/C"},"M-T600VK_CLNTOL_D800NYL"]
[null,null,null,null,null,null,null,{"$f":"IFERROR(IFERROR(VLOOKUP(D123,Surcharge!A:B,2,FALSE)*F123, VLOOKUP(D123 & \"\",Surcharge!A:B,2,FALSE)*F123), \"\")","v":""}]
[null,null,"Pad Driver",1234527,"N/C",null,{"$f":"IF(F124=0,\" \",\"N/C\")","v":" "},{"$f":"IFERROR(IFERROR(VLOOKUP(D124,Surcharge!A:B,2,FALSE)*F124, VLOOKUP(D124 & \"\",Surcharge!A:B,2,FALSE)*F124), \"\")","v":""},null,null,null,null,null,null,null,{"$f":"VLOOKUP(Q124,'MPF SAP Download'!A:E,5,FALSE)","v":{"$error":"#N/A"}},"M-T600"]
[null,null,"Pads",null,null,{"$f":"SUM(F126:F128)","v":0},null,{"$f":"IFERROR(IFERROR(VLOOKUP(D125,Surcharge!A:B,2,FALSE)*F125, VLOOKUP(D125 & \"\",Surcharge!A:B,2,FALSE)*F125), \"\")","v":""}]
[null,null,"Blue Scrubbing - 3M","63248-2",21.4,null,{"$f":"F126*E126","v":0},{"$f":"IFERROR(IFERROR(VLOOKUP(D126,Surcharge!A:B,2,FALSE)*F126, VLOOKUP(D126 & \"\",Surcharge!A:B,2,FALSE)*F126), \"\")","v":""},null,null,null,null,null,null,null,{"$f":"VLOOKUP(Q126,'MPF SAP Download'!A:E,5,FALSE)","v":20},"M-T600VK_PADTYP_800BLU3"]
[null,null,"Red Cleaning - 3M","63248-3",21.4,null,{"$f":"F127*E127","v":0},{"$f":"IFERROR(IFERROR(VLOOKUP(D127,Surcharge!A:B,2,FALSE)*F127, VLOOKUP(D127 & \"\",Surcharge!A:B,2,FALSE)*F127), \"\")","v":""},null,null,null,null,null,null,null,{"$f":"VLOOKUP(Q127,'MPF SAP Download'!A:E,5,FALSE)","v":20},"M-T600VK_PADTYP_800RED3"]
[null,null,"White Polishing - 3M","63248-4",21.4,null,{"$f":"F128*E128","v":0},{"$f":"IFERROR(IFERROR(VLOOKUP(D128,Surcharge!A:B,2,FALSE)*F128, VLOOKUP(D128 & \"\",Surcharge!A:B,2,FALSE)*F128), \"\")","v":""},null,null,null,null,null,null,null,{"$f":"VLOOKUP(Q128,'MPF SAP Download'!A:E,5,FALSE)","v":20},"M-T600VK_PADTYP_800WHT3"]
[]
[null,null,"900 mm / 36\" Disk Scrubbing Brushes/Pads (2 Required - 18\" each)",null,null,{"$f":"SUM(F131:F138)","v":0}]
[null,null,"Polypropylene Brush",1230859,"N/C",null,{"$f":"IF(F131=0,\" \",\"N/C\")","v":" "},{"$f":"IFERROR(IFERROR(VLOOKUP(D131,Surcharge!A:B,2,FALSE)*F131, VLOOKUP(D131 & \"\",Surcharge!A:B,2,FALSE)*F131), \"\")","v":""},null,null,null,null,null,null,null,{"$f":"VLOOKUP(Q131,'MPF SAP Download'!A:E,5,FALSE)","v":"N/C"},"M-T600VK_CLNTOL_D900PYP"]
[null,null,"Nylon Brush",1230858,"N/C",null,{"$f":"IF(F132=0,\" \",\"N/C\")","v":" "},{"$f":"IFERROR(IFERROR(VLOOKUP(D132,Surcharge!A:B,2,FALSE)*F132, VLOOKUP(D132 & \"\",Surcharge!A:B,2,FALSE)*F132), \"\")","v":""},null,null,null,null,null,null,null,{"$f":"VLOOKUP(Q132,'MPF SAP Download'!A:E,5,FALSE)","v":"N/C"},"M-T600VK_CLNTOL_D900NYL"]
[]
[null,null,"Pad Driver",1230881,"N/C",null,{"$f":"IF(F134=0,\" \",\"N/C\")","v":" "},{"$f":"IFERROR(IFERROR(VLOOKUP(D134,Surcharge!A:B,2,FALSE)*F134, VLOOKUP(D134 & \"\",Surcharge!A:B,2,FALSE)*F134), \"\")","v":""},null,null,null,null,null,null,null,{"$f":"VLOOKUP(Q134,'MPF SAP Download'!A:E,5,FALSE)","v":"N/C"},"M-T600VK_CLNTOL_D900PAD"]
[null,null,"Pads",null,null,{"$f":"SUM(F136:F138)","v":0}]
[null,null,"Blue Scrubbing - 3M",11778,22.5,null,{"$f":"F136*E136","v":0},{"$f":"IFERROR(IFERROR(VLOOKUP(D136,Surcharge!A:B,2,FALSE)*F136, VLOOKUP(D136 & \"\",Surcharge!A:B,2,FALSE)*F136), \"\")","v":""},null,null,null,null,null,null,null,{"$f":"VLOOKUP(Q136,'MPF SAP Download'!A:E,5,FALSE)","v":21},"M-T600VK_PADTYP_900BLU3"]
[null,null,"Red Cleaning - 3M",11780,22.5,null,{"$f":"F137*E137","v":0},{"$f":"IFERROR(IFERROR(VLOOKUP(D137,Surcharge!A:B,2,FALSE)*F137, VLOOKUP(D137 & \"\",Surcharge!A:B,2,FALSE)*F137), \"\")","v":""},null,null,null,null,null,null,null,{"$f":"VLOOKUP(Q137,'MPF SAP Download'!A:E,5,FALSE)","v":21},"M-T600VK_PADTYP_900RED3"]
[null,null,"White Polishing - 3M",11781,22.5,null,{"$f":"F138*E138","v":0},{"$f":"IFERROR(IFERROR(VLOOKUP(D138,Surcharge!A:B,2,FALSE)*F138, VLOOKUP(D138 & \"\",Surcharge!A:B,2,FALSE)*F138), \"\")","v":""},null,null,null,null,null,null,null,{"$f":"VLOOKUP(Q138,'MPF SAP Download'!A:E,5,FALSE)","v":21},"M-T600VK_PADTYP_900WHT3"]
[]
[null,null,"700 mm / 28\" Cylindrical Scrubbing Brushes  (2 Required)",null,null,{"$f":"SUM(F141:F143)","v":0},null,{"$f":"IFERROR(IFERROR(VLOOKUP(D140,Surcharge!A:B,2,FALSE)*F140, VLOOKUP(D140 & \"\",Surcharge!A:B,2,FALSE)*F140), \"\")","v":""}]
[null,null,"Polypropylene Brush",222304,"N/C",null,{"$f":"IF(F141=0,\" \",\"N/C\")","v":" "},{"$f":"IFERROR(IFERROR(VLOOKUP(D141,Surcharge!A:B,2,FALSE)*F141, VLOOKUP(D141 & \"\",Surcharge!A:B,2,FALSE)*F141), \"\")","v":""},null,null,null,null,null,null,null,{"$f":"VLOOKUP(Q142,'MPF SAP Download'!A:E,5,FALSE)","v":"N/C"},"M-T600VK_CLNTOL_C700PYP"]
[null,null,"Heavy Duty Polypropylene Brush",374041,"N/C",null,{"$f":"IF(F142=0,\" \",\"N/C\")","v":" "},{"$f":"IFERROR(IFERROR(VLOOKUP(D142,Surcharge!A:B,2,FALSE)*F142, VLOOKUP(D142 & \"\",Surcharge!A:B,2,FALSE)*F142), \"\")","v":""},null,null,null,null,null,null,null,null,"M-T600VK_CLNTOL_C700HDPYP"]
[null,null,"Nylon Brush",222305,"N/C",null,{"$f":"IF(F143=0,\" \",\"N/C\")","v":" "},{"$f":"IFERROR(IFERROR(VLOOKUP(D143,Surcharge!A:B,2,FALSE)*F143, VLOOKUP(D143 & \"\",Surcharge!A:B,2,FALSE)*F143), \"\")","v":""},null,null,null,null,null,null,null,{"$f":"VLOOKUP(Q143,'MPF SAP Download'!A:E,5,FALSE)","v":"N/C"},"M-T600VK_CLNTOL_C700NYL"]
[]
[null,null,"800 mm / 32\" Cylindrical Scrubbing Brushes  (2 Required)",null,null,{"$f":"SUM(F146:F148)","v":0}]
[null,null,"Polypropylene Brush",222304,"N/C",null,{"$f":"IF(F146=0,\" \",\"N/C\")","v":" "},{"$f":"IFERROR(IFERROR(VLOOKUP(D146,Surcharge!A:B,2,FALSE)*F146, VLOOKUP(D146 & \"\",Surcharge!A:B,2,FALSE)*F146), \"\")","v":""},null,null,null,null,null,null,null,{"$f":"VLOOKUP(Q146,'MPF SAP Download'!A:E,5,FALSE)","v":"N/C"},"M-T600VK_CLNTOL_C800PYP"]
[null,null,"Heavy Duty Polypropylene Brush",374041,"N/C",null,{"$f":"IF(F147=0,\" \",\"N/C\")","v":" "},{"$f":"IFERROR(IFERROR(VLOOKUP(D147,Surcharge!A:B,2,FALSE)*F147, VLOOKUP(D147 & \"\",Surcharge!A:B,2,FALSE)*F147), \"\")","v":""},null,null,null,null,null,null,null,{"$f":"VLOOKUP(Q147,'MPF SAP Download'!A:E,5,FALSE)","v":"N/C"},"M-T600VK_CLNTOL_C800HDPYP"]
[null,null,"Nylon Brush",222305,"N/C",null,{"$f":"IF(F148=0,\" \",\"N/C\")","v":" "},{"$f":"IFERROR(IFERROR(VLOOKUP(D148,Surcharge!A:B,2,FALSE)*F148, VLOOKUP(D148 & \"\",Surcharge!A:B,2,FALSE)*F148), \"\")","v":""},null,null,null,null,null,null,null,{"$f":"VLOOKUP(Q148,'MPF SAP Download'!A:E,5,FALSE)","v":"N/C"},"M-T600VK_CLNTOL_C800NYL"]
[null,null,null,null,null,null,null,{"$f":"IFERROR(IFERROR(VLOOKUP(D149,Surcharge!A:B,2,FALSE)*F149, VLOOKUP(D149 & \"\",Surcharge!A:B,2,FALSE)*F149), \"\")","v":""}]
[null,"Support  (Note 10)",null,"Reference Number",null,{"$f":"SUM(F151:F157)","v":0},null,{"$f":"IFERROR(IFERROR(VLOOKUP(D150,Surcharge!A:B,2,FALSE)*F150, VLOOKUP(D150 & \"\",Surcharge!A:B,2,FALSE)*F150), \"\")","v":""}]
[null,null,"Warranty",null,"N/C",null,{"$f":"IF(F151=0,\" \",\"N/C\")","v":" "},{"$f":"IFERROR(IFERROR(VLOOKUP(D151,Surcharge!A:B,2,FALSE)*F151, VLOOKUP(D151 & \"\",Surcharge!A:B,2,FALSE)*F151), \"\")","v":""},null,null,null,null,null,null,null,"N/C","M-T600"]
[null,null,"Operator Manual - English",9016600,"N/C",null,{"$f":"IF(F152=0,\" \",\"N/C\")","v":" "},{"$f":"IFERROR(IFERROR(VLOOKUP(D152,Surcharge!A:B,2,FALSE)*F152, VLOOKUP(D152 & \"\",Surcharge!A:B,2,FALSE)*F152), \"\")","v":""},null,null,null,null,null,null,null,"N/C","M-T600"]
[null,null,"Operator Manual - Spanish",9016601,"N/C",null,{"$f":"IF(F153=0,\" \",\"N/C\")","v":" "},{"$f":"IFERROR(IFERROR(VLOOKUP(D153,Surcharge!A:B,2,FALSE)*F153, VLOOKUP(D153 & \"\",Surcharge!A:B,2,FALSE)*F153), \"\")","v":""},null,null,null,null,null,null,null,"N/C","M-T600"]
[null,null,"Operator Manual - French",9016602,"N/C",null,{"$f":"IF(F154=0,\" \",\"N/C\")","v":" "},{"$f":"IFERROR(IFERROR(VLOOKUP(D154,Surcharge!A:B,2,FALSE)*F154, VLOOKUP(D154 & \"\",Surcharge!A:B,2,FALSE)*F154), \"\")","v":""},null,null,null,null,null,null,null,"N/C","M-T600"]
[null,null,"Additional Operator Manual","SEE ABOVE",135,null,{"$f":"F155*E155","v":0},null,null,null,null,null,null,null,null,{"$f":"VLOOKUP(Q155,'MPF SAP Download'!A:E,5,FALSE)","v":126},"M-T600VK_ADLOPRMNL"]
[null,null,"Parts Manual",9016599,55,null,{"$f":"F156*E156","v":0},{"$f":"IFERROR(IFERROR(VLOOKUP(D156,Surcharge!A:B,2,FALSE)*F156, VLOOKUP(D156 & \"\",Surcharge!A:B,2,FALSE)*F156), \"\")","v":""},null,null,null,null,null,null,null,{"$f":"VLOOKUP(Q156,'MPF SAP Download'!A:E,5,FALSE)","v":51},"M-T600VK_PARMNL"]
[null,null,"Service Manual",9016605,135,null,{"$f":"F157*E157","v":0},{"$f":"IFERROR(IFERROR(VLOOKUP(D157,Surcharge!A:B,2,FALSE)*F157, VLOOKUP(D157 & \"\",Surcharge!A:B,2,FALSE)*F157), \"\")","v":""},null,null,null,null,null,null,null,{"$f":"VLOOKUP(Q157,'MPF SAP Download'!A:E,5,FALSE)","v":126},"M-T600VK_SRVMNL"]
[null,null,null,null,null,null,null,{"$f":"IFERROR(IFERROR(VLOOKUP(D158,Surcharge!A:B,2,FALSE)*F158, VLOOKUP(D158 & \"\",Surcharge!A:B,2,FALSE)*F158), \"\")","v":""}]
[null,null,"Packaging  (Note 11)",null,null,{"$f":"SUM(F160:F161)","v":0},null,{"$f":"IFERROR(IFERROR(VLOOKUP(D159,Surcharge!A:B,2,FALSE)*F159, VLOOKUP(D159 & \"\",Surcharge!A:B,2,FALSE)*F159), \"\")","v":""}]
[null,null,"Skid w/Carton, Stackable",null,472,null,{"$f":"F160*E160","v":0},{"$f":"IFERROR(IFERROR(VLOOKUP(D160,Surcharge!A:B,2,FALSE)*F160, VLOOKUP(D160 & \"\",Surcharge!A:B,2,FALSE)*F160), \"\")","v":""},null,null,null,null,null,null,null,{"$f":"VLOOKUP(Q160,'MPF SAP Download'!A:E,5,FALSE)","v":441},"M-T600VK_PKG_SSKD"]
[null,null,"Pad Wrap",null,"N/C",null,{"$f":"IF(F161=0,\" \",\"N/C\")","v":" "},{"$f":"IFERROR(IFERROR(VLOOKUP(D161,Surcharge!A:B,2,FALSE)*F161, VLOOKUP(D161 & \"\",Surcharge!A:B,2,FALSE)*F161), \"\")","v":""},null,null,null,null,null,null,null,"N/C","M-T600"]
[null,null,null,null,null,null,null,{"$f":"IFERROR(IFERROR(VLOOKUP(D162,Surcharge!A:B,2,FALSE)*F162, VLOOKUP(D162 & \"\",Surcharge!A:B,2,FALSE)*F162), \"\")","v":""}]
[null,null,null,null,null,{"$f":"SUM(#REF!)","v":{"$error":"#REF!"}}]
[]
[null,"Custom Solution--write in description, qty, price, and PN if applicable",null,null,null,{"$f":"SUM(F166)","v":0}]
[null,null,null,null,"Insert Prices Here",{"$f":"SUM(F167:F170)","v":0}]
[null,null,null,"Custom",null,{"$f":"IF(E167 <> \"\", 1, 0)","v":0},{"$f":"F167*E167","v":0}]
[null,null,null,"Custom",null,{"$f":"IF(E168 <> \"\", 1, 0)","v":0},{"$f":"F168*E168","v":0}]
[null,null,null,"Custom",null,{"$f":"IF(E169 <> \"\", 1, 0)","v":0},{"$f":"F169*E169","v":0}]
[null,null,null,"Custom",null,{"$f":"IF(E170 <> \"\", 1, 0)","v":0},{"$f":"F170*E170","v":0}]
[null,null,null,null,{"$f":"ROUND(SUM(G63:G170), 0)","v":0},{"$f":"SUM(E172)","v":0}]
[null,null,null,"Machine Subtotal ",{"$f":"ROUND(SUM(G63:G170), 0)","v":0},{"$f":"F171","v":0}]
[null,"Discounts",null,null,null,{"$f":"SUM(F174)","v":0}]
[null,null,null,null,null,{"$f":"SUM(F175:F178)","v":0}]
[null,null,null,"Discount %",null,{"$f":"IF(E175 <> \"\", 1, 0)","v":0},{"$f":"IF(F175*(E175*0.01)*E171 < 0, F175*(E175*0.01)*E171, -(F175*(E175*0.01)*E171))","v":0}]
[null,null,null,"Discount $",null,{"$f":"IF(E176 <> \"\", 1, 0)","v":0},{"$f":"IF(F176*E176 < 0, F176*E176, -(F176*E176))","v":0}]
[null,null,null,"Discount $",null,{"$f":"IF(E177 <> \"\", 1, 0)","v":0},{"$f":"IF(F177*E177 < 0, F177*E177, -(F177*E177))","v":0}]
[null,null,null,"Discount $",null,{"$f":"IF(E178 <> \"\", 1, 0)","v":0},{"$f":"IF(F178*E178 < 0, F178*E178, -(F178*E178))","v":0}]
[null,null,null,"Discount Total ",{"$f":"SUM(G175:G178)","v":0},{"$f":"SUM(E179)","v":0}]
[null,null,null,null,null,{"$f":"#REF!","v":{"$error":"#REF!"}}]
[null,null,"Prepaid and Add","Freight",null,{"$f":"IF(E181 <> \"\", 1, 0)","v":0},{"$f":"F181*E181","v":0}]
[null,null,"Subject to all applicable taxes","Tax",null,{"$f":"IF(E182 <> \"\", 1, 0)","v":0},{"$f":"F182*E182","v":0}]
[null,null,null,null,null,{"$f":"SUM(F184)","v":0}]
[null,null,null,"            MACHINE TOTAL*",null,{"$f":"SUM(G184)","v":0},{"$f":"SUM(G63:G182)","v":0},null,null,null,null,null,null,"This goes to \"My Documents\""]
[null,"Financing",null,null,null,null,{"$f":"G184","v":0}]
[]
[null,null,"Is customer interested in financing?","Yes"]
[]
[null,null,"If not, why?"]
[]
[]
[null,null,"First Western Equipment Finance - Leasing Calculation Option:","Option 1",null,"Option 2",null,null,null,{"$f":"Financing!A38","v":"Rates 2025 - Rev. 5/6/2025"}]
[null,null,null,"Monthly Payment","Cost Per Day","Monthly Payment","Cost Per Day",null,null,{"$f":"Financing!A39","v":"“Blank Payment Amounts Indicate The Financing Option Or Purchase Options Selected Are Not "}]
[null,null,"Purchase Option:","FWEF:  $1 Buyout Lease",null,"FWEF: Municipal Lease",null,null,null,{"$f":"Financing!A40","v":"Applicable Or The Machine Total Is Below The Minimum Amount For The Selected Vendor”"}]
[null,null,"24 Months",0,0,0,0,null,null,{"$f":"Financing!A41","v":"\"Quoted monthly payments are estimates only and are based on a certain level of credit rating."}]
[null,null,"30 Months",0,0,0,0,null,null,{"$f":"Financing!A42","v":"Actual monthly payments may be higher depending on your credit rating.\""}]
[null,null,"36 Months",0,0,0,0,null,null,{"$f":"Financing!A43","v":"“Financing rates do not include Pre-Paid Service”"}]
[null,null,"48 Months",0,0,0,0,null,{"$f":"Financing!A44","v":0}]
[]
[null,null,null,"Benefits of Equipment Financing:"]
[null,null,null,"• Spreads out investment over time.",null,"• Keep current with latest technology."]
[null,null,null,"• Preserve capital.",null,"• Service and parts bundling available."]
[null,null,null,"• Low monthly payment.",null,"• Pay for labor savings as you go."]
[]
[]
[null,null,"Bundled Offerings","Flexclean – Fair Market Value",null,"Flexclean - $1 Buyout"]
[null,null,"FlexClean: ","36 Month Term",null,"36 Month Term",null,null,"No","AB Brushes"]
[null,null,"Hours included per Month:","Gold","Silver","Gold","Silver","Check"]
[null,null,"< 30/mo. (Avg. 1hr./day)",null,null,null,null,null,{"$f":"FlexCleanCalc!$A21","v":"“FlexClean monthly rates include payment for both machine and service.”"}]
[null,null,"< 60/mo. (Avg. 2hrs./day)"]
[null,null,"< 90/mo. (Avg. 3hrs./day)"]
[null,null,"*This value assumes one service contract regardless of the number of UNITS included in the quote"]
[]
[]
[null,null,"Bundled Offerings","Flexclean – Fair Market Value",null,"Flexclean - $1 Buyout"]
[null,null,"FlexClean 2: ","48 Month Term",null,"48 Month Term"]
[null,null,"Hours included per Month:","Gold","Silver","Gold","Silver"]
[null,null,"< 30/mo. (Avg. 1hr./day)"]
[null,null,"< 60/mo. (Avg. 2hrs./day)"]
[null,null,"< 90/mo. (Avg. 3hrs./day)"]
[null,null,"*This value assumes one service contract regardless of the number of UNITS included in the quote"]
[]
[null,null,"Bundled Offerings","Flexclean – Fair Market Value",null,"Flexclean - $1 Buyout"]
[null,null,"FlexClean 3: ","60 Month Term",null,"60 Month Term"]
[null,null,"Hours included per Month:","Gold","Silver","Gold","Silver"]
[null,null,"< 30/mo. (Avg. 1hr./day)"]
[null,null,"< 60/mo. (Avg. 2hrs./day)"]
[null,null,"< 90/mo. (Avg. 3hrs./day)"]
[null,null,"*This value assumes one service contract regardless of the number of UNITS included in the quote"]
[]
[null,"  TennantTrue",null,0,0]
[]
[null,null,"Is customer interested in service program?","Yes","*State/County selection required for TennantTrue service options"]
[]
[null,null,"If not, why?"]
[]
[null,null,"Term:",36,null,"AB Brushes","No"]
[null,null,"Monthly machine usage (hrs):","< 30/mo. (Avg. 1hr./day)"]
[]
[null,null,"TennantTrue: ","Gold Contract",null,"Silver Contract"]
[null,null,"Per Visit",null,null,481]
[null,null,"Monthly",141,null,83]
[null,null,"Annually",null,null,972]
[null,null,"Pre-Pay Full Term",4884,null,2858]
[null,null,"Hourly Labor Rate"]
[null,null,"Site Visit"]
[]
[null,null,"* Verify customer current pricing prior to quote. "]
[null,null,"**All rates and fees above reflect service for one (1) unit with the exception of Block of Time service."]
[null,null,"*Block of Time is available in 1 Year Term only and is priced as such no matter the term selection on this template."]
[]
[null,"Servicing"]
[]
[null,null,"Is customer interested in a service plan?","No"]
[]
[null,null,"If not, why?"]
[]
[]
[]
[null,null,"Quote Special Instructions:"]
[]
[]
[null,null,{"$f":"Start_Here!E36","v":"Terms and Conditions"}]
[null,null,{"$f":"Start_Here!E37","v":"Ask your local sales rep for estimated lead times. Verify when placing order"}]
[null,null,{"$f":"Start_Here!E38","v":"All orders subject to acceptance by Tennant Sales and Service Company, Minneapolis, Minnesota"}]
[null,null,{"$f":"Start_Here!E39","v":"Prices subject to change without notice."}]
[null,null,{"$f":"Start_Here!E40","v":"Terms:  Net 30 days.  Subject to any applicable taxes."}]
[null,null,{"$f":"Start_Here!E41","v":"Freight: Machines and accessory orders delivered FOB shipping point Frt PPD & Add"}]
[null,null,{"$f":"Start_Here!E42","v":"Parts, supplies, detergents and floor treating material orders delivered FOB "}]
[null,null,{"$f":"Start_Here!E43","v":"shipping point Frt PPD"}]
[null,null,{"$f":"Start_Here!E44","v":"All orders are subject to Tennant’s General Terms and Conditions available at http://www.tennantco.com/terms."}]
[null,null,{"$f":"Start_Here!E45","v":"Printed General Terms and Conditions are also available upon request."}]
[null,null,{"$f":"Start_Here!E46","v":0}]
[]
[null,null,null,null,"Quote Date :",null,{"$f":"Letter!$A$25","v":"2020-09-17"}]
["Order Placement Information:  To place your order, fill in PO# and customer signatures,"]
["call or fax to the numbers listed below. Customer Purchase Order is required."]
["If information is missing, orders will be entered and held until all information is received."]
[null,null,"Customer Number",null,"Cust Grp 3"]
[null,null,{"$f":"Start_Here!$C$25","v":0},null,{"$f":"Start_Here!$C$29","v":0}]
[null,null,{"$f":"Start_Here!$B$18","v":"Who Owns the Machine? (Sold-To Info) (Please Verify)"}]
["Company",null,{"$f":"Start_Here!$C$19","v":"Company Name"}]
["Address",null,{"$f":"Start_Here!$C$20","v":"Address"}]
[null,null,{"$f":"Start_Here!$C$21","v":"City, State Zip"}]
["Name",null,{"$f":"Start_Here!$C$22","v":"Contact Name"}]
["Phone",null,{"$f":"Start_Here!$C$23","v":"Contact Phone"}]
[null,null,{"$f":"Start_Here!$B$11","v":"Where is the Machine Being Shipped? (Ship-To Info) (Please Verify)"}]
["Company",null,{"$f":"Start_Here!$C$12","v":"Company Name"}]
["Address",null,{"$f":"Start_Here!$C$13","v":"Address"}]
[null,null,{"$f":"Start_Here!$C$14","v":"City, State Zip"}]
["Name",null,{"$f":"Start_Here!$C$15","v":"Contact Name"}]
["Phone",null,{"$f":"Start_Here!$C$16","v":"Contact Phone"}]
[null,null,{"$f":"Start_Here!$B$31","v":"Shipping / Carrier Instructions:"},null,"Order Special Instructions:"]
[null,null,{"$f":"Start_Here!$C$32","v":0}]
[]
[null,null,"Customer Purchase Order No."]
[null,null,"(please attach copy)"]
[]
[]
[null,null,"Tax Exempt",null,"Yes"]
[null,null,null,null,"No"]
[null,null,"If Yes, attach a copy of your exemption certificate."]
[]
[null,null,"Requested Delivery Date"]
[null,null,{"$f":"Start_Here!$C$28","v":0}]
[]
[null,null,{"$f":"Start_Here!$C$26","v":0},null,{"$f":"Start_Here!$C$27","v":0}]
[null,0,"Authorized Buyer (please print)",null,"Phone Number"]
[]
[]
[null,0,"Authorized Buyer Signature"]
[]
[null,null,{"$f":"Start_Here!$C$41","v":"Rep Name"}]
[null,null,"Tennant Representative"]
[]
["Specialized Maintenance Equipment"]
[{"$f":"Start_Here!$C$48","v":"TENNANT · 10400 Clean Street · Eden Prairie, MN 55344 ·"}]
[{"$f":"Start_Here!$C$49","v":" PHONE:800-553-8033 · FAX:763-513-2116"}]
[]
[]
[null,"Notes"]
[null,1,"Severe Environment Switch is only available on units equipped with ec-H2O NanoClean cleaning Technology."]
[]
[null,2,"Severe Environment™ Switch Lockout is only available with ec-H2O NanoClean AND the Severe Environment Switch."]
[]
[null,3,"Narrow Aisle Squeegee is not available on 700mm/28\" units."]
[]
[null,4,"Customer MUST order Skid w/Carton, Stackable if WITHOUT BATTERY is selected."]
[null,null,"Continental USA orders ONLY. "]
[]
[null,5,"The Sealed/MF Fast Charge 210AH (TPPL) battery requires the 33A 100-240V AC 50/60Hz 1Ph on-board charger."]
[]
[null,6,"Manual Battery Watering is not available with Sealed/MF Fast Charge 186AH Battery or Li-Ion Battery options."]
[null,null,"Smart-Fill Automatic Battery Watering only available with on-board charger."]
[]
[null,7,"The 25A 100-240V AC 50/60Hz 1Ph On-Board Charger is required to receive IRIS Battery Metrics."]
[]
[null,8,"UL Type E is not available with  900mm/36\" units, ec-H2O NanoClean, or Smart-Fill."]
[]
[null,9,"One set of brushes or pad drivers come standard with Disk or Cylindrical units.  "]
[]
[null,10,"Additional hard copy Operator and Parts Manuals can be ordered or digital copies can be downloaded from www.Tennantco.com."]
[]
[null,"IRIS","Pre-Paid and Monthly Packages are available for the IRIS Information Service."]
[null,null,"IRIS Module is required and NOT included in the price of the IRIS Information Service:"]
[null,null,"3 Year Pre-Paid IRIS Information Service",250]
[null,null,"5 Year Pre-Paid IRIS Information Service",400]
[null,null,"A monthly contract can be set up at $11 per month w/ 12 month minimum commitment."]
[null,null,"IRIS Telemetry Module only covers the price of the hardware. "]
[null,null,"IRIS Telemetry requires an IRIS Telemetry Module and an IRIS Information Service Package."]
[null,null,"An On-Board Charger and a compatible Tennant supplied battery is required to receive IRIS Battery Manager."]
[null,null,"IRIS Battery Metrics are not guaranteed with third party supplied batteries."]
[]
[null,11,"Customer MUST order Skid w/Carton, Stackable if WITHOUT BATTERY is selected."]
[null,null,"Skid w/Carton, Stackable is mandatory when shipping to AK and HI.  Packaging is added at No Charge when shipping"]
[null,null,"to these locations."]
[]
[null,12,"Shipping Weights and Dimensions","Pad Wrap","Skid w/Carton"]
[]
[null,null,"700 mm / 28\" Disk"]
[null,null,"Weight","463 lbs / 210 Kg","733 lbs / 333 Kg"]
[null,null,"Length","64 in / 1626 mm","75\" / 1905 mm"]
[null,null,"Width","30 in / 762 mm","45\" / 1143 mm"]
[null,null,"Height","44 in / 1118 mm","52\" / 1321 mm"]
[]
[null,null,"800 mm / 32\" Disk"]
[null,null,"Weight","466 lbs / 212 Kg","736 lbs / 334 Kg"]
[null,null,"Length","66 in / 1677 mm","75\" / 1905 mm"]
[null,null,"Width","34 in / 864 mm","45\" / 1143 mm"]
[null,null,"Height","44 in / 1118 mm","52\" / 1321 mm"]
[]
[null,null,"900 mm / 36\" Disk"]
[null,null,"Weight","470 lbs / 214 Kg","740 lbs / 336 Kg"]
[null,null,"Length","70 in / 1778 mm","75\" / 1905 mm"]
[null,null,"Width","38 in / 965 mm","45\" / 1143 mm"]
[null,null,"Height","44 in / 1118 mm","52\" / 1321 mm"]
[]
[null,null,"700 mm / 28\" Cylindrical"]
[null,null,"Weight","479 lbs / 218 Kg","749 lbs / 340 Kg"]
[null,null,"Length","65 in / 1651 mm","75\" / 1905 mm"]
[null,null,"Width","31 in / 788 mm","45\" / 1143 mm"]
[null,null,"Height","44 in / 1118 mm","52\" / 1321 mm"]
[]
[null,null,"800 mm / 32\" Cylindrical"]
[null,null,"Weight","482 lbs / 219 Kg","752 lbs / 341 Kg"]
[null,null,"Length","64 in / 1626 mm","75\" / 1905 mm"]
[null,null,"Width","35 in / 889 mm","45\" / 1143 mm"]
[null,null,"Height","44 in / 1118 mm","52\" / 1321 mm"]
[]
[null,null,"700 mm / 28\" Orbital"]
[null,null,"Weight","489 lbs / 222 Kg","759 lbs / 345 Kg"]
[null,null,"Length","63 in / 1601 mm","75\" / 1905 mm"]
[null,null,"Width","30 in / 762 mm","45\" / 1143 mm"]
[null,null,"Height","44 in / 1118 mm","52\" / 1321 mm"]

{"sheet":"T600e","index":35,"n_rows":382,"n_cols":17,"rows_kept":382,"cut":false,"hidden":false,"merged":[[41,2,41,5],[47,2,47,5],[48,2,48,5],[0,2,0,3],[1,2,1,3],[2,2,2,3],[3,2,3,3],[11,2,11,6],[42,2,42,5],[43,2,43,5],[44,2,44,5],[45,2,45,5],[181,3,181,6],[184,3,184,4],[184,5,184,6],[186,3,186,4],[186,5,186,6],[198,3,198,4],[198,5,198,6],[199,3,199,4],[199,5,199,6],[207,3,207,4],[207,5,207,6],[208,3,208,4],[208,5,208,6],[215,3,215,4],[215,5,215,6],[216,3,216,4],[216,5,216,6],[233,3,233,4],[233,5,233,6],[234,3,234,4],[234,5,234,6],[235,3,235,4],[235,5,235,6],[225,4,225,8],[227,3,227,6],[229,3,229,4],[230,3,230,4],[232,3,232,4],[232,5,232,6],[280,2,280,5],[248,3,249,6],[253,2,253,6],[272,4,272,7],[274,2,274,5],[275,2,275,5],[276,2,276,5],[277,2,277,5],[278,2,278,5],[299,4,299,5],[281,2,281,5],[282,2,282,5],[283,2,283,5],[284,2,284,5],[286,4,286,7],[290,2,290,5],[236,5,236,6],[237,3,237,4],[237,5,237,6],[238,3,238,4],[238,5,238,6],[236,3,236,4]]}
["T600e",null,{"$f":"Start_Here!$C19","v":"Company Name"}]
[{"$f":"SUM(G177)","v":0},null,{"$f":"Start_Here!$C20","v":"Address"}]
[null,null,{"$f":"Start_Here!$C21","v":"City, State Zip"}]
[null,null,{"$f":"Start_Here!$C22","v":"Contact Name"}]
[null,null,{"$f":"Start_Here!$C$41","v":"Rep Name"}]
[null,null,{"$f":"Start_Here!$C$37","v":"Tennant Sales and Service Company"}]
[null,null,{"$f":"Start_Here!$C$38","v":"10400 Clean Street"}]
[null,null,{"$f":"Start_Here!$C$39","v":"Eden Prairie, MN 55344"}]
[null,null,{"$f":"Start_Here!$C$43","v":"800-553-8033"},null,"Quote Date :",null,{"$f":"Letter!$A$25","v":"2020-09-17"}]
[]
[null,null,{"$f":"Help!C2","v":"US Date Rev - 5/6/2025"}]
[null,null,"BUILT-IN “TENNANT VALUE” INCLUDES:"]
[]
[null,null,"121L/32 gal Solution Tank  & 37 L/140 gal Recovery Tank",null,"Cast Aluminum Squeegee & Scrub Deck (Disk, Cylindrical)"]
[null,null,"Rugged Duramer™ Rotomold Tank Construction",null,"Automatic: Water On / Off"]
[null,null,"Fully Sprayable Hygienic® Recovery Tank",null,"Brush On / Off"]
[null,null,"Two Down Pressure Settings- up to 200 lbs/90 kg ",null,"Brush Shutoff at 80% Discharge"]
[null,null,null,null,"Linatex/Linard Squeegee Blades with Tool-less Replacement"]
[null,null,"Adjustable Solution Flow",null,"Emergency Stop "]
[null,null,"Variable Speed Control Knob",null,"Free Floating Head Skirt (disk machines)"]
[null,null,"Membrane Control Panel ",null,"Fill Port w/ Hose Fins"]
[null,null,"Supervisor Limiting Controls (Lock Out Feature)",null,"Auto Fill for Solution Tank (option)"]
[null,null,"On Board Diagnostics",null,"Integrated Heat Sink for Electronics Protection"]
[null,null,"Standard Low Noise Level  (≤70 dBa)",null,"Sealed Electrical Connectors"]
[null,null,"Standard (6) 6v. 240AH battery pack",null,"Anti-Static Strap"]
[null,null,"      (Optional  360AH batteries available)",null," 3/4 HP brush motor/ .56 kW (disk)"]
[null,null,"      (Optional  Thin Plate Pure Lead Batteries available)",null,"200 RPM (disk) and 760 RPM (cylindrical) "]
[null,null,"Smart-Fill™ Automatic Battery Watering (Option)",null,"Recovery Tank Debris Tray"]
[null,null,"Quick Release Battery Harness",null,"Excellent Ergonomic Controls Design"]
[null,null,"Standard Controlled Battery Compartment Drain",null,"Non-Marking Polyurethane Tires"]
[null,null,"On-board Charger with 3m/15 ft power cord",null,"Includes Standard Pad Drivers or Scrubbing Brushes (Select One)"]
[null,null,"Closed Machine Venting for Battery Charging",null,"Key Switch for Safety"]
[null,null,"Breakaway Squeegee Design",null,"Hour Meter"]
[null,null,"Factory Set Squeegee Assembly for Maximum Recovery",null,"Jacking Points/Shipping Tie Downs"]
[null,null,"Cast Aluminum Squeegee Frame",null,"Yellow Maintenance Touch Points"]
[null,null,null,null,"Integrated Accessory Rails"]
[null,null,"Optional ec-H2O NanoClean™ Equipped Models Include:",null,"Drain hose with pinch cuff to control water flow"]
[null,null,"Electrically Converted Water Technology System"]
[null,null,"Two Scrubbing Modes: ec-H2O NanoCleanTM & Conventional Scrub"]
[]
[]
[null,null,"TENNANT COMPANY WARRANTY"]
[null,null,"3 YEARS OR 2000 HOURS - PARTS"]
[null,null,"1 YEAR - BATTERY CHARGERS"]
[null,null,"2 YEARS LABOR, 6 MONTHS TRAVEL"]
[null,null,"10 YEARS ON DURAMERTM ROTOMOLD TANKS"]
[]
[]
[]
[null,null,null,null,"                Quote Request Information"]
[null,null,null,null,null,null,"Fax (quote only)"]
[null,null,null,null,null,null,"Mail (quote,lit, specs)"]
[null,null,null,null,null,null,"Fax + Mail"]
[]
[null,null,null,null,"                Primary Use"]
[null,null,null,null,null,null,"Inside"]
[null,null,null,null,null,null,"Outside"]
[]
[null,null,"Description","Reference #","US List Price","Qty","Extended Price"]
[null,"Base Configuration",null,null,null,{"$f":"SUM(F61,F68,F71,F75,F84,F89)","v":0},null,{"$f":"IFERROR(IFERROR(VLOOKUP(D60,Surcharge!A:B,2,FALSE)*F60, VLOOKUP(D60 & \"\",Surcharge!A:B,2,FALSE)*F60), \"\")","v":""}]
[null,null,"Cleaning Type",null,null,{"$f":"SUM(F62:F66)","v":0},null,{"$f":"IFERROR(IFERROR(VLOOKUP(D61,Surcharge!A:B,2,FALSE)*F61, VLOOKUP(D61 & \"\",Surcharge!A:B,2,FALSE)*F61), \"\")","v":""}]
[null,null,"T600e Walk-Behind Scrubber 700 mm / 28\" Disk","T600e-700D",19838,null,{"$f":"F62*E62","v":0},{"$f":"IFERROR(IFERROR(VLOOKUP(D62,Surcharge!A:B,2,FALSE)*F62, VLOOKUP(D62 & \"\",Surcharge!A:B,2,FALSE)*F62), \"\")","v":""},null,null,null,null,null,null,null,{"$f":"VLOOKUP(Q62,#REF!,5,FALSE)","v":{"$error":"#REF!"}},"M-T600eVK_BASE_T600E-700D"]
[null,null,"T600e Walk-Behind Scrubber 800 mm / 32\" Disk","T600e-800D",20717,null,0,null,null,null,null,null,null,null,null,{"$f":"VLOOKUP(Q63,#REF!,5,FALSE)","v":{"$error":"#REF!"}},"M-T600eVK_BASE_T600E-800D"]
[null,null,"T600e Walk-Behind Scrubber 900 mm / 36\" Disk","T600e-900D",22472,null,0,null,null,null,null,null,null,null,null,{"$f":"VLOOKUP(Q64,#REF!,5,FALSE)","v":{"$error":"#REF!"}},"M-T600eVK_BASE_T600E-900D"]
[null,null,"T600e Walk-Behind Scrubber 700 mm / 28\" Cylindrical","T600e-700C",21595,null,0,null,null,null,null,null,null,null,null,{"$f":"VLOOKUP(Q65,#REF!,5,FALSE)","v":{"$error":"#REF!"}},"M-T600eVK_BASE_T600E-700C"]
[null,null,"T600e Walk-Behind Scrubber 800 mm / 32\" Cylindrical","T600e-800C",22469,null,0,null,null,null,null,null,null,null,null,{"$f":"VLOOKUP(Q66,#REF!,5,FALSE)","v":{"$error":"#REF!"}},"M-T600eVK_BASE_T600E-800C"]
[null,null,null,null,null,null,null,{"$f":"IFERROR(IFERROR(VLOOKUP(D67,Surcharge!A:B,2,FALSE)*F67, VLOOKUP(D67 & \"\",Surcharge!A:B,2,FALSE)*F67), \"\")","v":""}]
[null,null,"Cleaning Technology: (conventional is standard,  ec-H2O can also operate in conventional mode)",null,null,{"$f":"SUM(F69)","v":0},null,{"$f":"IFERROR(IFERROR(VLOOKUP(D68,Surcharge!A:B,2,FALSE)*F68, VLOOKUP(D68 & \"\",Surcharge!A:B,2,FALSE)*F68), \"\")","v":""}]
[null,null,"ec-H2O NanoClean™","ec-H2O-T600e",3040,null,{"$f":"F69*E69","v":0},{"$f":"IFERROR(IFERROR(VLOOKUP(D69,Surcharge!A:B,2,FALSE)*F69, VLOOKUP(D69 & \"\",Surcharge!A:B,2,FALSE)*F69), \"\")","v":""},null,null,null,null,null,null,null,{"$f":"VLOOKUP(Q69,#REF!,5,FALSE)","v":{"$error":"#REF!"}},"M-T600eVK_CLNTCH_ECH2ON"]
[null,null,null,null,null,null,null,{"$f":"IFERROR(IFERROR(VLOOKUP(D70,Surcharge!A:B,2,FALSE)*F70, VLOOKUP(D70 & \"\",Surcharge!A:B,2,FALSE)*F70), \"\")","v":""},null,null,null,null,null,null,null,null,""]
[null,null,"Squeegee Width  (Note 1)",null,null,{"$f":"SUM(F72:F73)","v":0},null,{"$f":"IFERROR(IFERROR(VLOOKUP(D71,Surcharge!A:B,2,FALSE)*F71, VLOOKUP(D71 & \"\",Surcharge!A:B,2,FALSE)*F71), \"\")","v":""},null,null,null,{"$f":"SUM(F71)","v":0},"Surcharge Qty",null,null,null,""]
[null,null,"Standard","STD-T600e","N/C",null,{"$f":"IF(F72=0,\" \",\"N/C\")","v":" "},{"$f":"IFERROR(IFERROR(VLOOKUP(D72,Surcharge!A:B,2,FALSE)*F72, VLOOKUP(D72 & \"\",Surcharge!A:B,2,FALSE)*F72), \"\")","v":""},null,null,null,0,"Surcharge Qty",null,null,{"$f":"VLOOKUP(Q72,#REF!,5,FALSE)","v":{"$error":"#REF!"}},"M-T600eVK_SQEWDT_STD"]
[null,null,"Narrow Aisle","NR-T600e","N/C",null,{"$f":"IF(F73=0,\" \",\"N/C\")","v":" "},{"$f":"IFERROR(IFERROR(VLOOKUP(D73,Surcharge!A:B,2,FALSE)*F73, VLOOKUP(D73 & \"\",Surcharge!A:B,2,FALSE)*F73), \"\")","v":""},null,null,null,0,"Surcharge Qty",null,null,{"$f":"VLOOKUP(Q73,#REF!,5,FALSE)","v":{"$error":"#REF!"}},"M-T600eVK_SQEWDT_NWA"]
[null,null,null,null,null,null,null,{"$f":"IFERROR(IFERROR(VLOOKUP(D74,Surcharge!A:B,2,FALSE)*F74, VLOOKUP(D74 & \"\",Surcharge!A:B,2,FALSE)*F74), \"\")","v":""},null,null,null,0,"Surcharge Qty",null,null,null,""]
[null,null,"Battery Type  (Note 2)",null,null,{"$f":"SUM(F76:F82)","v":0},null,{"$f":"IFERROR(IFERROR(VLOOKUP(D75,Surcharge!A:B,2,FALSE)*F75, VLOOKUP(D75 & \"\",Surcharge!A:B,2,FALSE)*F75), \"\")","v":""},null,null,null,0,"Surcharge Qty",null,null,null,""]
[null,null,"Wet 240AH C/20",9042056,"N/C",null,{"$f":"IF(F76=0,\" \",\"N/C\")","v":" "},{"$f":"IFERROR(IFERROR(VLOOKUP(D76,Surcharge!A:B,2,FALSE)*F76, VLOOKUP(D76 & \"\",Surcharge!A:B,2,FALSE)*F76), \"\")","v":""},null,null,null,0,"Surcharge Qty",null,null,{"$f":"VLOOKUP(Q76,#REF!,5,FALSE)","v":{"$error":"#REF!"}},"M-T600eVK_BTY_W240C20"]
[null,null,"Wet 360AH C/20",9042058,782,null,{"$f":"F77*E77","v":0},{"$f":"IFERROR(IFERROR(VLOOKUP(D77,Surcharge!A:B,2,FALSE)*F77, VLOOKUP(D77 & \"\",Surcharge!A:B,2,FALSE)*F77), \"\")","v":""},null,null,null,0,"Surcharge Qty",null,null,{"$f":"VLOOKUP(Q77,#REF!,5,FALSE)","v":{"$error":"#REF!"}},"M-T600eVK_BTY_W360C20"]
[null,null,"Sealed/MF Fast Charge 210AH C/20 (TPPL Battery)  (Note 3)",9042061,2424,null,{"$f":"F78*E78","v":0},{"$f":"IFERROR(IFERROR(VLOOKUP(D78,Surcharge!A:B,2,FALSE)*F78, VLOOKUP(D78 & \"\",Surcharge!A:B,2,FALSE)*F78), \"\")","v":""},null,null,null,0,"Surcharge Qty",null,null,{"$f":"VLOOKUP(Q78,#REF!,5,FALSE)","v":{"$error":"#REF!"}},"M-T600eVK_BTY_F210C20"]
[null,null,"Without",9042062,-750,null,{"$f":"F79*E79","v":0},{"$f":"IFERROR(IFERROR(VLOOKUP(D79,Surcharge!A:B,2,FALSE)*F79, VLOOKUP(D79 & \"\",Surcharge!A:B,2,FALSE)*F79), \"\")","v":""},null,null,null,{"$f":"SUM(F79)","v":0},"Surcharge Qty",null,null,{"$f":"VLOOKUP(Q79,#REF!,5,FALSE)","v":{"$error":"#REF!"}},"M-T600eVK_BTY_WO"]
[null,null,null,null,null,null,null,{"$f":"IFERROR(IFERROR(VLOOKUP(D80,Surcharge!A:B,2,FALSE)*F80, VLOOKUP(D80 & \"\",Surcharge!A:B,2,FALSE)*F80), \"\")","v":""}]
[null,null,"Smart-Fill Automatic Battery Watering  (Note 4)",9042063,1181,null,{"$f":"F81*E81","v":0},{"$f":"IFERROR(IFERROR(VLOOKUP(D81,Surcharge!A:B,2,FALSE)*F81, VLOOKUP(D81 & \"\",Surcharge!A:B,2,FALSE)*F81), \"\")","v":""},null,null,null,null,null,null,null,{"$f":"VLOOKUP(Q81,#REF!,5,FALSE)","v":{"$error":"#REF!"}},"M-T600eVK_BTYWTRSYS_SF"]
[null,null,"Manual Battery Watering  (Note 4)",9042064,761,null,{"$f":"F82*E82","v":0},{"$f":"IFERROR(IFERROR(VLOOKUP(D82,Surcharge!A:B,2,FALSE)*F82, VLOOKUP(D82 & \"\",Surcharge!A:B,2,FALSE)*F82), \"\")","v":""},null,null,null,{"$f":"SUM(F82)","v":0},"Surcharge Qty",null,null,{"$f":"VLOOKUP(Q82,#REF!,5,FALSE)","v":{"$error":"#REF!"}},"M-T600eVK_BTYWTRSYS_ML"]
[null,null,null,null,null,null,null,{"$f":"IFERROR(IFERROR(VLOOKUP(D83,Surcharge!A:B,2,FALSE)*F83, VLOOKUP(D83 & \"\",Surcharge!A:B,2,FALSE)*F83), \"\")","v":""},null,null,null,null,null,null,null,null,""]
[null,null,"Charger  (Note 5)",null,null,{"$f":"SUM(F85:F87)","v":0},null,{"$f":"IFERROR(IFERROR(VLOOKUP(D84,Surcharge!A:B,2,FALSE)*F84, VLOOKUP(D84 & \"\",Surcharge!A:B,2,FALSE)*F84), \"\")","v":""},null,null,null,null,null,null,null,null,""]
[null,null,"25A 100-240V AC 50/60Hz 1Ph - Off-Board Charger (for Wet / Lead Acid Batteries Only)",9042253,"N/C",null,{"$f":"IF(F85=0,\" \",\"N/C\")","v":" "},{"$f":"IFERROR(IFERROR(VLOOKUP(D85,Surcharge!A:B,2,FALSE)*F85, VLOOKUP(D85 & \"\",Surcharge!A:B,2,FALSE)*F85), \"\")","v":""},null,null,null,null,null,null,null,{"$f":"VLOOKUP(Q85,#REF!,5,FALSE)","v":{"$error":"#REF!"}},"M-T600eVK_CHG_25A100V5060H1_OFF"]
[null,null,"25A 100-240V AC 50/60Hz 1Ph - On-Board Charger (for Wet / Lead Acid Batteries Only)\n (IRIS Battery Metric Compatible)",9042250,"N/C",null,{"$f":"IF(F86=0,\" \",\"N/C\")","v":" "},{"$f":"IFERROR(IFERROR(VLOOKUP(D86,Surcharge!A:B,2,FALSE)*F86, VLOOKUP(D86 & \"\",Surcharge!A:B,2,FALSE)*F86), \"\")","v":""},null,null,null,null,null,null,null,{"$f":"VLOOKUP(Q86,#REF!,5,FALSE)","v":{"$error":"#REF!"}},"M-T600eVK_CHG_25A100V5060H1_ON"]
[null,null,"33A 100-240V AC 50/60Hz 1Ph - On-Board Charger (for Wet / Lead Acid Batteries Only)\n (Mandatory with 186AH TPPL Battery)",9042252,188,null,{"$f":"F87*E87","v":0},{"$f":"IFERROR(IFERROR(VLOOKUP(D87,Surcharge!A:B,2,FALSE)*F87, VLOOKUP(D87 & \"\",Surcharge!A:B,2,FALSE)*F87), \"\")","v":""},null,null,null,null,null,null,null,{"$f":"VLOOKUP(Q87,#REF!,5,FALSE)","v":{"$error":"#REF!"}},"M-T600eVK_CHG_33A100V5060H1P"]
[null,null,null,null,null,null,null,null,null,null,null,null,null,null,null,null,""]
[null,null,"UL/ETL Rating",null,null,{"$f":"SUM(F90)","v":0},null,null,null,null,null,null,null,null,null,null,""]
[null,null,"UL Type E  (Note 6)",null,"N/C",null,{"$f":"IF(F90=0,\" \",\"N/C\")","v":" "},null,null,null,null,null,null,null,null,{"$f":"VLOOKUP(Q90,#REF!,5,FALSE)","v":{"$error":"#REF!"}},"M-T600eVK_ULERTG_E"]
[null,null,null,null,null,null,null,{"$f":"IFERROR(IFERROR(VLOOKUP(D91,Surcharge!A:B,2,FALSE)*F91, VLOOKUP(D91 & \"\",Surcharge!A:B,2,FALSE)*F91), \"\")","v":""},null,null,null,null,null,null,null,null,""]
[null,"Cleaning Performance",null,"Reference Number",null,{"$f":"SUM(F93)","v":0},null,{"$f":"IFERROR(IFERROR(VLOOKUP(D92,Surcharge!A:B,2,FALSE)*F92, VLOOKUP(D92 & \"\",Surcharge!A:B,2,FALSE)*F92), \"\")","v":""},null,null,null,null,null,null,null,null,""]
[null,null,"Auto Fill",9042169,223,null,{"$f":"F93*E93","v":0},{"$f":"IFERROR(IFERROR(VLOOKUP(D93,Surcharge!A:B,2,FALSE)*F93, VLOOKUP(D93 & \"\",Surcharge!A:B,2,FALSE)*F93), \"\")","v":""},null,null,null,null,null,null,null,{"$f":"VLOOKUP(Q93,#REF!,5,FALSE)","v":{"$error":"#REF!"}},"M-T600eVK_AUTFIL"]
[null,null,null,null,null,null,null,{"$f":"IFERROR(IFERROR(VLOOKUP(D94,Surcharge!A:B,2,FALSE)*F94, VLOOKUP(D94 & \"\",Surcharge!A:B,2,FALSE)*F94), \"\")","v":""},null,null,null,null,null,null,null,null,""]
[null,"Machine Protection & Safety",null,null,null,{"$f":"SUM(F96:F99)","v":0},null,{"$f":"IFERROR(IFERROR(VLOOKUP(D95,Surcharge!A:B,2,FALSE)*F95, VLOOKUP(D95 & \"\",Surcharge!A:B,2,FALSE)*F95), \"\")","v":""},null,null,null,null,null,null,null,null,""]
[null,null,"Black Foam Filled Rubber  (Non-Marking)",9042099,"N/C",null,{"$f":"IF(F96=0,\" \",\"N/C\")","v":" "},null,null,null,null,null,null,null,null,{"$f":"VLOOKUP(Q96,#REF!,5,FALSE)","v":{"$error":"#REF!"}},"M-T600eVK_NONMKTTRE_BFFR"]
[null,null,"Black Pneumatic Rubber  (Non-Marking)",9042071,"N/C",null,{"$f":"IF(F97=0,\" \",\"N/C\")","v":" "},null,null,null,null,null,null,null,null,{"$f":"VLOOKUP(Q97,#REF!,5,FALSE)","v":{"$error":"#REF!"}},"M-T600eVK_NONMKTTRE_BPR"]
[null,null,"Parking Brake",9042068,195,null,{"$f":"F98*E98","v":0},{"$f":"IFERROR(IFERROR(VLOOKUP(D98,Surcharge!A:B,2,FALSE)*F98, VLOOKUP(D98 & \"\",Surcharge!A:B,2,FALSE)*F98), \"\")","v":""},null,null,null,null,null,null,null,{"$f":"VLOOKUP(Q98,#REF!,5,FALSE)","v":{"$error":"#REF!"}},"M-T600eVK_PRGBRK"]
[null,null,"Trailer Transport Kit",9042165,275,null,{"$f":"F99*E99","v":0},null,null,null,null,null,null,null,null,{"$f":"VLOOKUP(Q99,#REF!,5,FALSE)","v":{"$error":"#REF!"}},"M-T600eVK_TRLTRTKIT"]
[null,null,null,null,null,null,null,{"$f":"IFERROR(IFERROR(VLOOKUP(D100,Surcharge!A:B,2,FALSE)*F100, VLOOKUP(D100 & \"\",Surcharge!A:B,2,FALSE)*F100), \"\")","v":""},null,null,null,null,null,null,null,null,""]
[null,"Brushes and Pads  (Note 7)",null,"Reference Number",null,{"$f":"SUM(F102,F112,F123,F133,F138,#REF!)","v":{"$error":"#REF!"}},null,{"$f":"IFERROR(IFERROR(VLOOKUP(D101,Surcharge!A:B,2,FALSE)*F101, VLOOKUP(D101 & \"\",Surcharge!A:B,2,FALSE)*F101), \"\")","v":""},null,null,null,null,null,null,null,null,""]
[null,null,"700 mm / 28\" Disk Scrubbing Brushes/Pads (2 Required - 14\" each)",null,null,{"$f":"SUM(F103:F110)","v":0},null,{"$f":"IFERROR(IFERROR(VLOOKUP(D102,Surcharge!A:B,2,FALSE)*F102, VLOOKUP(D102 & \"\",Surcharge!A:B,2,FALSE)*F102), \"\")","v":""},null,null,null,null,null,null,null,null,""]
[null,null,"Polypropylene Brush",1234464,"N/C",null,{"$f":"IF(F103=0,\" \",\"N/C\")","v":" "},{"$f":"IFERROR(IFERROR(VLOOKUP(D103,Surcharge!A:B,2,FALSE)*F103, VLOOKUP(D103 & \"\",Surcharge!A:B,2,FALSE)*F103), \"\")","v":""},null,null,null,null,null,null,null,{"$f":"VLOOKUP(Q103,#REF!,5,FALSE)","v":{"$error":"#REF!"}},"M-T600eVK_CLNTOL_D700PYP"]
[null,null,"Nylon Brush",1234463,"N/C",null,{"$f":"IF(F104=0,\" \",\"N/C\")","v":" "},{"$f":"IFERROR(IFERROR(VLOOKUP(D104,Surcharge!A:B,2,FALSE)*F104, VLOOKUP(D104 & \"\",Surcharge!A:B,2,FALSE)*F104), \"\")","v":""},null,null,null,null,null,null,null,{"$f":"VLOOKUP(Q104,#REF!,5,FALSE)","v":{"$error":"#REF!"}},"M-T600eVK_CLNTOL_D700NYL"]
[null,null,null,null,null,null,null,{"$f":"IFERROR(IFERROR(VLOOKUP(D105,Surcharge!A:B,2,FALSE)*F105, VLOOKUP(D105 & \"\",Surcharge!A:B,2,FALSE)*F105), \"\")","v":""}]
[null,null,"Pad Driver",1234467,"N/C",null,{"$f":"IF(F106=0,\" \",\"N/C\")","v":" "},{"$f":"IFERROR(IFERROR(VLOOKUP(D106,Surcharge!A:B,2,FALSE)*F106, VLOOKUP(D106 & \"\",Surcharge!A:B,2,FALSE)*F106), \"\")","v":""},null,null,null,null,null,null,null,{"$f":"VLOOKUP(Q106,#REF!,5,FALSE)","v":{"$error":"#REF!"}},"M-T600eVK_CLNTOL_D700PAD"]
[null,null,"Pads",null,null,{"$f":"SUM(F108:F110)","v":0},null,{"$f":"IFERROR(IFERROR(VLOOKUP(D107,Surcharge!A:B,2,FALSE)*F107, VLOOKUP(D107 & \"\",Surcharge!A:B,2,FALSE)*F107), \"\")","v":""}]
[null,null,"Blue Scrubbing - 3M",222326,18.2,null,{"$f":"F108*E108","v":0},{"$f":"IFERROR(IFERROR(VLOOKUP(D108,Surcharge!A:B,2,FALSE)*F108, VLOOKUP(D108 & \"\",Surcharge!A:B,2,FALSE)*F108), \"\")","v":""},null,null,null,null,null,null,null,{"$f":"VLOOKUP(Q108,#REF!,5,FALSE)","v":{"$error":"#REF!"}},"M-T600eVK_PADTYP_700BLU3"]
[null,null,"Red Cleaning - 3M",222325,18.2,null,{"$f":"F109*E109","v":0},{"$f":"IFERROR(IFERROR(VLOOKUP(D109,Surcharge!A:B,2,FALSE)*F109, VLOOKUP(D109 & \"\",Surcharge!A:B,2,FALSE)*F109), \"\")","v":""},null,null,null,null,null,null,null,{"$f":"VLOOKUP(Q109,#REF!,5,FALSE)","v":{"$error":"#REF!"}},"M-T600eVK_PADTYP_700RED3"]
[null,null,"White Polishing - 3M",222324,18.2,null,{"$f":"F110*E110","v":0},{"$f":"IFERROR(IFERROR(VLOOKUP(D110,Surcharge!A:B,2,FALSE)*F110, VLOOKUP(D110 & \"\",Surcharge!A:B,2,FALSE)*F110), \"\")","v":""},null,null,null,null,null,null,null,{"$f":"VLOOKUP(Q110,#REF!,5,FALSE)","v":{"$error":"#REF!"}},"M-T600eVK_PADTYP_700WHT3"]
[null,null,null,null,null,null,null,{"$f":"IFERROR(IFERROR(VLOOKUP(D111,Surcharge!A:B,2,FALSE)*F111, VLOOKUP(D111 & \"\",Surcharge!A:B,2,FALSE)*F111), \"\")","v":""}]
[null,null,"800 mm / 32\" Disk Scrubbing Brushes/Pads (2 Required - 16\" each)",null,null,{"$f":"SUM(F113:F121)","v":0},null,{"$f":"IFERROR(IFERROR(VLOOKUP(D112,Surcharge!A:B,2,FALSE)*F112, VLOOKUP(D112 & \"\",Surcharge!A:B,2,FALSE)*F112), \"\")","v":""}]
[null,null,"Polypropylene Brush",1234524,"N/C",null,{"$f":"IF(F113=0,\" \",\"N/C\")","v":" "},{"$f":"IFERROR(IFERROR(VLOOKUP(D113,Surcharge!A:B,2,FALSE)*F113, VLOOKUP(D113 & \"\",Surcharge!A:B,2,FALSE)*F113), \"\")","v":""},null,null,null,null,null,null,null,{"$f":"VLOOKUP(Q113,#REF!,5,FALSE)","v":{"$error":"#REF!"}},"M-T600eVK_CLNTOL_D800PYP"]
[null,null,"Heavy Duty Polypropylene Brush",1234525,"N/C",null,{"$f":"IF(F114=0,\" \",\"N/C\")","v":" "},{"$f":"IFERROR(IFERROR(VLOOKUP(D114,Surcharge!A:B,2,FALSE)*F114, VLOOKUP(D114 & \"\",Surcharge!A:B,2,FALSE)*F114), \"\")","v":""},null,null,null,null,null,null,null,{"$f":"VLOOKUP(Q114,#REF!,5,FALSE)","v":{"$error":"#REF!"}},"M-T600eVK_CLNTOL_D800HDPYP"]
[null,null,"Nylon Brush",1234523,"N/C",null,{"$f":"IF(F115=0,\" \",\"N/C\")","v":" "},{"$f":"IFERROR(IFERROR(VLOOKUP(D115,Surcharge!A:B,2,FALSE)*F115, VLOOKUP(D115 & \"\",Surcharge!A:B,2,FALSE)*F115), \"\")","v":""},null,null,null,null,null,null,null,{"$f":"VLOOKUP(Q115,#REF!,5,FALSE)","v":{"$error":"#REF!"}},"M-T600eVK_CLNTOL_D800NYL"]
[null,null,null,null,null,null,null,{"$f":"IFERROR(IFERROR(VLOOKUP(D116,Surcharge!A:B,2,FALSE)*F116, VLOOKUP(D116 & \"\",Surcharge!A:B,2,FALSE)*F116), \"\")","v":""}]
[null,null,"Pad Driver",1234527,"N/C",null,{"$f":"IF(F117=0,\" \",\"N/C\")","v":" "},{"$f":"IFERROR(IFERROR(VLOOKUP(D117,Surcharge!A:B,2,FALSE)*F117, VLOOKUP(D117 & \"\",Surcharge!A:B,2,FALSE)*F117), \"\")","v":""},null,null,null,null,null,null,null,{"$f":"VLOOKUP(Q117,#REF!,5,FALSE)","v":{"$error":"#REF!"}},"M-T600eVK_CLNTOL_D800PAD"]
[null,null,"Pads",null,null,{"$f":"SUM(F119:F121)","v":0},null,{"$f":"IFERROR(IFERROR(VLOOKUP(D118,Surcharge!A:B,2,FALSE)*F118, VLOOKUP(D118 & \"\",Surcharge!A:B,2,FALSE)*F118), \"\")","v":""}]
[null,null,"Blue Scrubbing - 3M","63248-2",21.4,null,{"$f":"F119*E119","v":0},{"$f":"IFERROR(IFERROR(VLOOKUP(D119,Surcharge!A:B,2,FALSE)*F119, VLOOKUP(D119 & \"\",Surcharge!A:B,2,FALSE)*F119), \"\")","v":""},null,null,null,null,null,null,null,{"$f":"VLOOKUP(Q119,#REF!,5,FALSE)","v":{"$error":"#REF!"}},"M-T600eVK_PADTYP_800BLU3"]
[null,null,"Red Cleaning - 3M","63248-3",21.4,null,{"$f":"F120*E120","v":0},{"$f":"IFERROR(IFERROR(VLOOKUP(D120,Surcharge!A:B,2,FALSE)*F120, VLOOKUP(D120 & \"\",Surcharge!A:B,2,FALSE)*F120), \"\")","v":""},null,null,null,null,null,null,null,{"$f":"VLOOKUP(Q120,#REF!,5,FALSE)","v":{"$error":"#REF!"}},"M-T600eVK_PADTYP_800RED3"]
[null,null,"White Polishing - 3M","63248-4",21.4,null,{"$f":"F121*E121","v":0},{"$f":"IFERROR(IFERROR(VLOOKUP(D121,Surcharge!A:B,2,FALSE)*F121, VLOOKUP(D121 & \"\",Surcharge!A:B,2,FALSE)*F121), \"\")","v":""},null,null,null,null,null,null,null,{"$f":"VLOOKUP(Q121,#REF!,5,FALSE)","v":{"$error":"#REF!"}},"M-T600eVK_PADTYP_800WHT3"]
[null,null,null,null," ",null,null,{"$f":"IFERROR(IFERROR(VLOOKUP(D122,Surcharge!A:B,2,FALSE)*F122, VLOOKUP(D122 & \"\",Surcharge!A:B,2,FALSE)*F122), \"\")","v":""}]
[null,null,"900 mm / 36\" Disk Scrubbing Brushes/Pads (2 Required - 18\" each)",null," ",{"$f":"SUM(F124:F131)","v":0}]
[null,null,"Polypropylene Brush",1230859,"N/C",null,{"$f":"IF(F124=0,\" \",\"N/C\")","v":" "},null,null,null,null,null,null,null,null,{"$f":"VLOOKUP(Q124,#REF!,5,FALSE)","v":{"$error":"#REF!"}},"M-T600eVK_CLNTOL_D900PYP"]
[null,null,"Nylon Brush",1230858,"N/C",null,{"$f":"IF(F125=0,\" \",\"N/C\")","v":" "},null,null,null,null,null,null,null,null,{"$f":"VLOOKUP(Q125,#REF!,5,FALSE)","v":{"$error":"#REF!"}},"M-T600eVK_CLNTOL_D900NYL"]
[null,null,null,null," "]
[null,null,"Pad Driver",1230881,"N/C",null,{"$f":"IF(F127=0,\" \",\"N/C\")","v":" "},null,null,null,null,null,null,null,null,{"$f":"VLOOKUP(Q127,#REF!,5,FALSE)","v":{"$error":"#REF!"}},"M-T600eVK_CLNTOL_D900PAD"]
[null,null,"Pads",null," ",{"$f":"SUM(F129:F131)","v":0}]
[null,null,"Blue Scrubbing - 3M",11778,22.5,null,{"$f":"F129*E129","v":0},null,null,null,null,null,null,null,null,{"$f":"VLOOKUP(Q129,#REF!,5,FALSE)","v":{"$error":"#REF!"}},"M-T600eVK_PADTYP_900BLU3"]
[null,null,"Red Cleaning - 3M",11780,22.5,null,{"$f":"F130*E130","v":0},null,null,null,null,null,null,null,null,{"$f":"VLOOKUP(Q130,#REF!,5,FALSE)","v":{"$error":"#REF!"}},"M-T600eVK_PADTYP_900RED3"]
[null,null,"White Polishing - 3M",11781,22.5,null,{"$f":"F131*E131","v":0},null,null,null,null,null,null,null,null,{"$f":"VLOOKUP(Q131,#REF!,5,FALSE)","v":{"$error":"#REF!"}},"M-T600eVK_PADTYP_900WHT3"]
[null,null,null,null," "]
[null,null,"700 mm / 28\" Cylindrical Scrubbing Brushes  (2 Required)",null," ",{"$f":"SUM(F134:F136)","v":0},null,{"$f":"IFERROR(IFERROR(VLOOKUP(D133,Surcharge!A:B,2,FALSE)*F133, VLOOKUP(D133 & \"\",Surcharge!A:B,2,FALSE)*F133), \"\")","v":""}]
[null,null,"Polypropylene Brush",222304,"N/C",null,{"$f":"IF(F134=0,\" \",\"N/C\")","v":" "},{"$f":"IFERROR(IFERROR(VLOOKUP(D134,Surcharge!A:B,2,FALSE)*F134, VLOOKUP(D134 & \"\",Surcharge!A:B,2,FALSE)*F134), \"\")","v":""},null,null,null,null,null,null,null,{"$f":"VLOOKUP(Q134,#REF!,5,FALSE)","v":{"$error":"#REF!"}},"M-T600eVK_CLNTOL_C700PYP"]
[null,null,"Heavy Duty Polypropylene Brush",374041,"N/C",null,{"$f":"IF(F135=0,\" \",\"N/C\")","v":" "},{"$f":"IFERROR(IFERROR(VLOOKUP(D135,Surcharge!A:B,2,FALSE)*F135, VLOOKUP(D135 & \"\",Surcharge!A:B,2,FALSE)*F135), \"\")","v":""},null,null,null,null,null,null,null,{"$f":"VLOOKUP(Q135,#REF!,5,FALSE)","v":{"$error":"#REF!"}},"M-T600eVK_CLNTOL_C700HDPYP"]
[null,null,"Nylon Brush",222305,"N/C",null,{"$f":"IF(F136=0,\" \",\"N/C\")","v":" "},null,null,null,null,null,null,null,null,{"$f":"VLOOKUP(Q136,#REF!,5,FALSE)","v":{"$error":"#REF!"}},"M-T600eVK_CLNTOL_C700NYL"]
[null,null,null,null," ",null,null,{"$f":"IFERROR(IFERROR(VLOOKUP(D137,Surcharge!A:B,2,FALSE)*F137, VLOOKUP(D137 & \"\",Surcharge!A:B,2,FALSE)*F137), \"\")","v":""}]
[null,null,"800 mm / 32\" Cylindrical Scrubbing Brushes  (2 Required)",null," ",{"$f":"SUM(F139:F141)","v":0}]
[null,null,"Polypropylene Brush",222307,"N/C",null,{"$f":"IF(F139=0,\" \",\"N/C\")","v":" "},null,null,null,null,null,null,null,null,{"$f":"VLOOKUP(Q139,#REF!,5,FALSE)","v":{"$error":"#REF!"}},"M-T600eVK_CLNTOL_C800PYP"]
[null,null,"Heavy Duty Polypropylene Brush",374042,"N/C",null,{"$f":"IF(F140=0,\" \",\"N/C\")","v":" "},null,null,null,null,null,null,null,null,{"$f":"VLOOKUP(Q140,#REF!,5,FALSE)","v":{"$error":"#REF!"}},"M-T600eVK_CLNTOL_C800HDPYP"]
[null,null,"Nylon Brush",222308,"N/C",null,{"$f":"IF(F141=0,\" \",\"N/C\")","v":" "},null,null,null,null,null,null,null,null,{"$f":"VLOOKUP(Q141,#REF!,5,FALSE)","v":{"$error":"#REF!"}},"M-T600eVK_CLNTOL_C800NYL"]
[null,null,null,null," ",null,null,{"$f":"IFERROR(IFERROR(VLOOKUP(D142,Surcharge!A:B,2,FALSE)*F142, VLOOKUP(D142 & \"\",Surcharge!A:B,2,FALSE)*F142), \"\")","v":""}]
[null,"Support  (Note 8)",null,"Reference Number",null,{"$f":"SUM(F144:F150)","v":0},null,{"$f":"IFERROR(IFERROR(VLOOKUP(D143,Surcharge!A:B,2,FALSE)*F143, VLOOKUP(D143 & \"\",Surcharge!A:B,2,FALSE)*F143), \"\")","v":""}]
[null,null,"Warranty",null,"N/C",null,{"$f":"IF(F144=0,\" \",\"N/C\")","v":" "},{"$f":"IFERROR(IFERROR(VLOOKUP(D144,Surcharge!A:B,2,FALSE)*F144, VLOOKUP(D144 & \"\",Surcharge!A:B,2,FALSE)*F144), \"\")","v":""},null,null,null,null,null,null,null,{"$f":"VLOOKUP(Q144,#REF!,5,FALSE)","v":{"$error":"#REF!"}},"M-T600e"]
[null,null,"Operator Manual - English",9016600,"N/C",null,{"$f":"IF(F145=0,\" \",\"N/C\")","v":" "},{"$f":"IFERROR(IFERROR(VLOOKUP(D145,Surcharge!A:B,2,FALSE)*F145, VLOOKUP(D145 & \"\",Surcharge!A:B,2,FALSE)*F145), \"\")","v":""},null,null,null,null,null,null,null,{"$f":"VLOOKUP(Q145,#REF!,5,FALSE)","v":{"$error":"#REF!"}},"M-T600e"]
[null,null,"Operator Manual - Spanish",9016601,"N/C",null,{"$f":"IF(F146=0,\" \",\"N/C\")","v":" "},null,null,null,null,null,null,null,null,{"$f":"VLOOKUP(Q146,#REF!,5,FALSE)","v":{"$error":"#REF!"}},"M-T600e"]
[null,null,"Operator Manual - French",9016602,"N/C",null,{"$f":"IF(F147=0,\" \",\"N/C\")","v":" "},{"$f":"IFERROR(IFERROR(VLOOKUP(D147,Surcharge!A:B,2,FALSE)*F147, VLOOKUP(D147 & \"\",Surcharge!A:B,2,FALSE)*F147), \"\")","v":""},null,null,null,null,null,null,null,{"$f":"VLOOKUP(Q147,#REF!,5,FALSE)","v":{"$error":"#REF!"}},"M-T600e"]
[null,null,"Additional Operator Manual","SEE ABOVE",135,null,{"$f":"F148*E148","v":0},{"$f":"IFERROR(IFERROR(VLOOKUP(D148,Surcharge!A:B,2,FALSE)*F148, VLOOKUP(D148 & \"\",Surcharge!A:B,2,FALSE)*F148), \"\")","v":""},null,null,null,null,null,null,null,{"$f":"VLOOKUP(Q148,#REF!,5,FALSE)","v":{"$error":"#REF!"}},"M-T600eVK_ADLOPRMNL"]
[null,null,"Parts Manual",9016599,55,null,{"$f":"F149*E149","v":0},{"$f":"IFERROR(IFERROR(VLOOKUP(D149,Surcharge!A:B,2,FALSE)*F149, VLOOKUP(D149 & \"\",Surcharge!A:B,2,FALSE)*F149), \"\")","v":""},null,null,null,null,null,null,null,{"$f":"VLOOKUP(Q149,#REF!,5,FALSE)","v":{"$error":"#REF!"}},"M-T600eVK_PARMNL"]
[null,null,"Service Manual",9016605,135,null,{"$f":"F150*E150","v":0},{"$f":"IFERROR(IFERROR(VLOOKUP(D150,Surcharge!A:B,2,FALSE)*F150, VLOOKUP(D150 & \"\",Surcharge!A:B,2,FALSE)*F150), \"\")","v":""},null,null,null,null,null,null,null,{"$f":"VLOOKUP(Q150,#REF!,5,FALSE)","v":{"$error":"#REF!"}},"M-T600eVK_SRVMNL"]
[null,null,null,null," ",null,null,{"$f":"IFERROR(IFERROR(VLOOKUP(D151,Surcharge!A:B,2,FALSE)*F151, VLOOKUP(D151 & \"\",Surcharge!A:B,2,FALSE)*F151), \"\")","v":""}]
[null,null,"Packaging  (Note 9)",null," ",{"$f":"SUM(F153:F154)","v":0},null,{"$f":"IFERROR(IFERROR(VLOOKUP(D152,Surcharge!A:B,2,FALSE)*F152, VLOOKUP(D152 & \"\",Surcharge!A:B,2,FALSE)*F152), \"\")","v":""}]
[null,null,"Skid w/Carton, Stackable",null,472,null,{"$f":"F153*E153","v":0},{"$f":"IFERROR(IFERROR(VLOOKUP(D153,Surcharge!A:B,2,FALSE)*F153, VLOOKUP(D153 & \"\",Surcharge!A:B,2,FALSE)*F153), \"\")","v":""},null,null,null,null,null,null,null,{"$f":"VLOOKUP(Q153,#REF!,5,FALSE)","v":{"$error":"#REF!"}},"M-T600eVK_PKG_SSKD"]
[null,null,"Pad Wrap",null,"N/C",null,{"$f":"IF(F154=0,\" \",\"N/C\")","v":" "},{"$f":"IFERROR(IFERROR(VLOOKUP(D154,Surcharge!A:B,2,FALSE)*F154, VLOOKUP(D154 & \"\",Surcharge!A:B,2,FALSE)*F154), \"\")","v":""},null,null,null,null,null,null,null,{"$f":"VLOOKUP(Q154,#REF!,5,FALSE)","v":{"$error":"#REF!"}},"M-T600eVK_PKG_SSKD_NC"]
[null,null,null,null,null,null,null,{"$f":"IFERROR(IFERROR(VLOOKUP(D155,Surcharge!A:B,2,FALSE)*F155, VLOOKUP(D155 & \"\",Surcharge!A:B,2,FALSE)*F155), \"\")","v":""}]
[null,null,null,null,null,{"$f":"SUM(#REF!)","v":{"$error":"#REF!"}}]
[]
[null,"Custom Solution--write in description, qty, price, and PN if applicable",null,null,null,{"$f":"SUM(F159)","v":0}]
[null,null,null,null,"Insert Prices Here",{"$f":"SUM(F160:F163)","v":0}]
[null,null,null,"Custom",null,{"$f":"IF(E160 <> \"\", 1, 0)","v":0},{"$f":"F160*E160","v":0}]
[null,null,null,"Custom",null,{"$f":"IF(E161 <> \"\", 1, 0)","v":0},{"$f":"F161*E161","v":0}]
[null,null,null,"Custom",null,{"$f":"IF(E162 <> \"\", 1, 0)","v":0},{"$f":"F162*E162","v":0}]
[null,null,null,"Custom",null,{"$f":"IF(E163 <> \"\", 1, 0)","v":0},{"$f":"F163*E163","v":0}]
[null,null,null,null,{"$f":"ROUND(SUM(G60:G163), 0)","v":0},{"$f":"SUM(E165)","v":0}]
[null,null,null,"Machine Subtotal ",{"$f":"ROUND(SUM(G60:G163), 0)","v":0},{"$f":"F164","v":0}]
[null,"Discounts",null,null,null,{"$f":"SUM(F167)","v":0}]
[null,null,null,null,null,{"$f":"SUM(F168:F171)","v":0}]
[null,null,null,"Discount %",null,{"$f":"IF(E168 <> \"\", 1, 0)","v":0},{"$f":"IF(F168*(E168*0.01)*E164 < 0, F168*(E168*0.01)*E164, -(F168*(E168*0.01)*E164))","v":0}]
[null,null,null,"Discount $",null,{"$f":"IF(E169 <> \"\", 1, 0)","v":0},{"$f":"IF(F169*E169 < 0, F169*E169, -(F169*E169))","v":0}]
[null,null,null,"Discount $",null,{"$f":"IF(E170 <> \"\", 1, 0)","v":0},{"$f":"IF(F170*E170 < 0, F170*E170, -(F170*E170))","v":0}]
[null,null,null,"Discount $",null,{"$f":"IF(E171 <> \"\", 1, 0)","v":0},{"$f":"IF(F171*E171 < 0, F171*E171, -(F171*E171))","v":0}]
[null,null,null,"Discount Total ",{"$f":"SUM(G168:G171)","v":0},{"$f":"SUM(E172)","v":0}]
[null,null,null,null,null,{"$f":"#REF!","v":{"$error":"#REF!"}}]
[null,null,"Prepaid and Add","Freight",null,{"$f":"IF(E174 <> \"\", 1, 0)","v":0},{"$f":"F174*E174","v":0}]
[null,null,"Subject to all applicable taxes","Tax",null,{"$f":"IF(E175 <> \"\", 1, 0)","v":0},{"$f":"F175*E175","v":0}]
[null,null,null,null,null,{"$f":"SUM(F177)","v":0}]
[null,null,null,"            MACHINE TOTAL*",null,{"$f":"SUM(G177)","v":0},{"$f":"SUM(G60:G175)","v":0},null,null,null,null,null,null,"This goes to \"My Documents\""]
[null,"Financing",null,null,null,null,{"$f":"G177","v":0}]
[]
[null,null,"Is customer interested in financing?","Yes"]
[]
[null,null,"If not, why?"]
[]
[]
[null,null,"First Western Equipment Finance - Leasing Calculation Option:","Option 1",null,"Option 2",null,null,null,{"$f":"Financing!A38","v":"Rates 2025 - Rev. 5/6/2025"}]
[null,null,null,"Monthly Payment","Cost Per Day","Monthly Payment","Cost Per Day",null,null,{"$f":"Financing!A39","v":"“Blank Payment Amounts Indicate The Financing Option Or Purchase Options Selected Are Not "}]
[null,null,"Purchase Option:","FWEF:  $1 Buyout Lease",null,"FWEF: Municipal Lease",null,null,null,{"$f":"Financing!A40","v":"Applicable Or The Machine Total Is Below The Minimum Amount For The Selected Vendor”"}]
[null,null,"24 Months",0,0,0,0,null,null,{"$f":"Financing!A41","v":"\"Quoted monthly payments are estimates only and are based on a certain level of credit rating."}]
[null,null,"30 Months",0,0,0,0,null,null,{"$f":"Financing!A42","v":"Actual monthly payments may be higher depending on your credit rating.\""}]
[null,null,"36 Months",0,0,0,0,null,null,{"$f":"Financing!A43","v":"“Financing rates do not include Pre-Paid Service”"}]
[null,null,"48 Months",0,0,0,0]
[]
[null,null,null,"Benefits of Equipment Financing:"]
[null,null,null,"• Spreads out investment over time.",null,"• Keep current with latest technology."]
[null,null,null,"• Preserve capital.",null,"• Service and parts bundling available."]
[null,null,null,"• Low monthly payment.",null,"• Pay for labor savings as you go."]
[]
[]
[null,null,"Bundled Offerings","Flexclean – Fair Market Value",null,"Flexclean - $1 Buyout"]
[null,null,"FlexClean: ","36 Month Term",null,"36 Month Term",null,null,"No","AB Brushes"]
[null,null,"Hours included per Month:","Gold","Silver","Gold","Silver","Check"]
[null,null,"< 30/mo. (Avg. 1hr./day)",null,null,null,null,null,{"$f":"FlexCleanCalc!$A21","v":"“FlexClean monthly rates include payment for both machine and service.”"}]
[null,null,"< 60/mo. (Avg. 2hrs./day)"]
[null,null,"< 90/mo. (Avg. 3hrs./day)"]
[null,null,"*This value assumes one service contract regardless of the number of UNITS included in the quote"]
[]
[]
[null,null,"Bundled Offerings","Flexclean – Fair Market Value",null,"Flexclean - $1 Buyout"]
[null,null,"FlexClean 2: ","48 Month Term",null,"48 Month Term"]
[null,null,"Hours included per Month:","Gold","Silver","Gold","Silver"]
[null,null,"< 30/mo. (Avg. 1hr./day)"]
[null,null,"< 60/mo. (Avg. 2hrs./day)"]
[null,null,"< 90/mo. (Avg. 3hrs./day)"]
[null,null,"*This value assumes one service contract regardless of the number of UNITS included in the quote"]
[]
[null,null,"Bundled Offerings","Flexclean – Fair Market Value",null,"Flexclean - $1 Buyout"]
[null,null,"FlexClean 3: ","60 Month Term",null,"60 Month Term"]
[null,null,"Hours included per Month:","Gold","Silver","Gold","Silver"]
[null,null,"< 30/mo. (Avg. 1hr./day)"]
[null,null,"< 60/mo. (Avg. 2hrs./day)"]
[null,null,"< 90/mo. (Avg. 3hrs./day)"]
[null,null,"*This value assumes one service contract regardless of the number of UNITS included in the quote"]
[]
[null,"  TennantTrue",null,0,0]
[]
[null,null,"Is customer interested in service program?","Yes","*State/County selection required for TennantTrue service options"]
[]
[null,null,"If not, why?"]
[]
[null,null,"Term:",36,null,"AB Brushes","No"]
[null,null,"Monthly machine usage (hrs):","< 30/mo. (Avg. 1hr./day)"]
[]
[null,null,"TennantTrue: ","Gold Contract",null,"Silver Contract"]
[null,null,"Per Visit",null,null,481]
[null,null,"Monthly",141,null,83]
[null,null,"Annually",null,null,972]
[null,null,"Pre-Pay Full Term",4884,null,2858]
[null,null,"Hourly Labor Rate"]
[null,null,"Site Visit"]
[]
[null,null,"* Verify customer current pricing prior to quote. "]
[null,null,"**All rates and fees above reflect service for one (1) unit with the exception of Block of Time service."]
[null,null,"*Block of Time is available in 1 Year Term only and is priced as such no matter the term selection on this template."]
[]
[null,"Servicing"]
[]
[null,null,"Is customer interested in a service plan?","No"]
[]
[null,null,"If not, why?"]
[]
[]
[]
[null,null,"Quote Special Instructions:"]
[]
[]
[null,null,{"$f":"Start_Here!E36","v":"Terms and Conditions"}]
[null,null,{"$f":"Start_Here!E37","v":"Ask your local sales rep for estimated lead times. Verify when placing order"}]
[null,null,{"$f":"Start_Here!E38","v":"All orders subject to acceptance by Tennant Sales and Service Company, Minneapolis, Minnesota"}]
[null,null,{"$f":"Start_Here!E39","v":"Prices subject to change without notice."}]
[null,null,{"$f":"Start_Here!E40","v":"Terms:  Net 30 days.  Subject to any applicable taxes."}]
[null,null,{"$f":"Start_Here!E41","v":"Freight: Machines and accessory orders delivered FOB shipping point Frt PPD & Add"}]
[null,null,{"$f":"Start_Here!E42","v":"Parts, supplies, detergents and floor treating material orders delivered FOB "}]
[null,null,{"$f":"Start_Here!E43","v":"shipping point Frt PPD"}]
[null,null,{"$f":"Start_Here!E44","v":"All orders are subject to Tennant’s General Terms and Conditions available at http://www.tennantco.com/terms."}]
[null,null,{"$f":"Start_Here!E45","v":"Printed General Terms and Conditions are also available upon request."}]
[null,null,{"$f":"Start_Here!E46","v":0}]
[]
[null,null,null,null,"Quote Date :",null,{"$f":"Letter!$A$25","v":"2020-09-17"}]
["Order Placement Information:  To place your order, fill in PO# and customer signatures,"]
["call or fax to the numbers listed below. Customer Purchase Order is required."]
["If information is missing, orders will be entered and held until all information is received."]
[null,null,"Customer Number",null,"Cust Grp 3"]
[null,null,{"$f":"Start_Here!$C$25","v":0},null,{"$f":"Start_Here!$C$29","v":0}]
[null,null,{"$f":"Start_Here!$B$18","v":"Who Owns the Machine? (Sold-To Info) (Please Verify)"}]
["Company",null,{"$f":"Start_Here!$C$19","v":"Company Name"}]
["Address",null,{"$f":"Start_Here!$C$20","v":"Address"}]
[null,null,{"$f":"Start_Here!$C$21","v":"City, State Zip"}]
["Name",null,{"$f":"Start_Here!$C$22","v":"Contact Name"}]
["Phone",null,{"$f":"Start_Here!$C$23","v":"Contact Phone"}]
[null,null,{"$f":"Start_Here!$B$11","v":"Where is the Machine Being Shipped? (Ship-To Info) (Please Verify)"}]
["Company",null,{"$f":"Start_Here!$C$12","v":"Company Name"}]
["Address",null,{"$f":"Start_Here!$C$13","v":"Address"}]
[null,null,{"$f":"Start_Here!$C$14","v":"City, State Zip"}]
["Name",null,{"$f":"Start_Here!$C$15","v":"Contact Name"}]
["Phone",null,{"$f":"Start_Here!$C$16","v":"Contact Phone"}]
[null,null,{"$f":"Start_Here!$B$31","v":"Shipping / Carrier Instructions:"},null,"Order Special Instructions:"]
[null,null,{"$f":"Start_Here!$C$32","v":0}]
[]
[null,null,"Customer Purchase Order No."]
[null,null,"(please attach copy)"]
[]
[]
[null,null,"Tax Exempt",null,"Yes"]
[null,null,null,null,"No"]
[null,null,"If Yes, attach a copy of your exemption certificate."]
[]
[null,null,"Requested Delivery Date"]
[null,null,{"$f":"Start_Here!$C$28","v":0}]
[]
[null,null,{"$f":"Start_Here!$C$26","v":0},null,{"$f":"Start_Here!$C$27","v":0}]
[null,0,"Authorized Buyer (please print)",null,"Phone Number"]
[]
[]
[null,0,"Authorized Buyer Signature"]
[]
[null,null,{"$f":"Start_Here!$C$41","v":"Rep Name"}]
[null,null,"Tennant Representative"]
[]
["Specialized Maintenance Equipment"]
[{"$f":"Start_Here!$C$48","v":"TENNANT · 10400 Clean Street · Eden Prairie, MN 55344 ·"}]
[{"$f":"Start_Here!$C$49","v":" PHONE:800-553-8033 · FAX:763-513-2116"}]
[]
[]
[null,"Notes"]
[]
[null,1,"Narrow Aisle Squeegee is not available on 700mm/28\" units."]
[]
[null,2,"Customer MUST order Skid w/Carton, Stackable if WITHOUT BATTERY is selected."]
[null,null,"Continental USA orders ONLY. "]
[]
[null,3,"The Sealed/MF Fast Charge 210AH (TPPL) battery requires the 33A 100-240V AC 50/60Hz 1Ph on-board charger."]
[]
[null,4,"Manual Battery Watering is not available with Sealed/MF Fast Charge 186AH Battery."]
[null,null,"Smart-Fill Automatic Battery Watering only available with on-board charger."]
[]
[null,5,"The 25A 100-240V AC 50/60Hz 1Ph On-Board Charger is required to receive IRIS Battery Metrics."]
[]
[null,6,"UL Type E is not available with  900mm/36\" units, ec-H2O NanoClean, or Smart-Fill."]
[]
[null,7,"One set of brushes or pad drivers come standard with Disk or Cylindrical units.  "]
[]
[null,8,"Additional hard copy Operator and Parts Manuals can be ordered or digital copies can be downloaded from www.Tennantco.com."]
[]
[null,"IRIS","Pre-Paid and Monthly Packages are available for the IRIS Information Service."]
[null,null,"IRIS Module is required and NOT included in the price of the IRIS Information Service:"]
[null,null,"3 Year Pre-Paid IRIS Information Service",250]
[null,null,"5 Year Pre-Paid IRIS Information Service",400]
[null,null,"A monthly contract can be set up at $11 per month w/ 12 month minimum commitment."]
[null,null,"IRIS Telemetry Module only covers the price of the hardware. "]
[null,null,"IRIS Telemetry requires an IRIS Telemetry Module and an IRIS Information Service Package."]
[null,null,"An On-Board Charger and a compatible Tennant supplied battery is required to receive IRIS Battery Manager."]
[null,null,"IRIS Battery Metrics are not guaranteed with third party supplied batteries."]
[]
[null,9,"Customer MUST order Skid w/Carton, Stackable if WITHOUT BATTERY is selected."]
[null,null,"Skid w/Carton, Stackable is mandatory when shipping to AK and HI.  Packaging is added at No Charge when shipping"]
[null,null,"to these locations."]
[]
[null,10,"Shipping Weights and Dimensions","Pad Wrap","Skid w/Carton"]
[]
[null,null,"700 mm / 28\" Disk"]
[null,null,"Weight","463 lbs / 210 Kg","733 lbs / 333 Kg"]
[null,null,"Length","64 in / 1626 mm","75\" / 1905 mm"]
[null,null,"Width","30 in / 762 mm","45\" / 1143 mm"]
[null,null,"Height","44 in / 1118 mm","52\" / 1321 mm"]
[]
[null,null,"800 mm / 32\" Disk"]
[null,null,"Weight","466 lbs / 212 Kg","736 lbs / 334 Kg"]
[null,null,"Length","66 in / 1677 mm","75\" / 1905 mm"]
[null,null,"Width","34 in / 864 mm","45\" / 1143 mm"]
[null,null,"Height","44 in / 1118 mm","52\" / 1321 mm"]
[]
[null,null,"900 mm / 36\" Disk"]
[null,null,"Weight","470 lbs / 214 Kg","740 lbs / 336 Kg"]
[null,null,"Length","70 in / 1778 mm","75\" / 1905 mm"]
[null,null,"Width","38 in / 965 mm","45\" / 1143 mm"]
[null,null,"Height","44 in / 1118 mm","52\" / 1321 mm"]
[]
[null,null,"700 mm / 28\" Cylindrical"]
[null,null,"Weight","479 lbs / 218 Kg","749 lbs / 340 Kg"]
[null,null,"Length","65 in / 1651 mm","75\" / 1905 mm"]
[null,null,"Width","31 in / 788 mm","45\" / 1143 mm"]
[null,null,"Height","44 in / 1118 mm","52\" / 1321 mm"]
[]
[null,null,"800 mm / 32\" Cylindrical"]
[null,null,"Weight","482 lbs / 219 Kg","752 lbs / 341 Kg"]
[null,null,"Length","64 in / 1626 mm","75\" / 1905 mm"]
[null,null,"Width","35 in / 889 mm","45\" / 1143 mm"]
[null,null,"Height","44 in / 1118 mm","52\" / 1321 mm"]
[]
[null,null,"700 mm / 28\" Orbital"]
[null,null,"Weight","489 lbs / 222 Kg","759 lbs / 345 Kg"]
[null,null,"Length","63 in / 1601 mm","75\" / 1905 mm"]

{"sheet":"T600ee","index":36,"n_rows":275,"n_cols":17,"rows_kept":275,"cut":false,"hidden":false,"merged":[[0,2,0,3],[1,2,1,3],[2,2,2,3],[3,2,3,3],[11,2,11,6],[133,3,133,4],[133,5,133,6],[145,3,145,4],[145,5,145,6],[35,2,35,5],[42,2,42,5],[128,3,128,6],[131,3,131,4],[131,5,131,6],[36,2,36,5],[37,2,37,5],[38,2,38,5],[39,2,39,5],[41,2,41,5],[174,3,174,6],[146,3,146,4],[146,5,146,6],[154,3,154,4],[154,5,154,6],[155,3,155,4],[155,5,155,6],[162,3,162,4],[162,5,162,6],[163,3,163,4],[163,5,163,6],[172,4,172,8],[181,3,181,4],[181,5,181,6],[182,3,182,4],[182,5,182,6],[183,3,183,4],[183,5,183,6],[176,3,176,4],[177,3,177,4],[179,3,179,4],[179,5,179,6],[180,3,180,4],[180,5,180,6],[237,2,237,5],[246,4,246,5],[224,2,224,5],[225,2,225,5],[227,2,227,5],[228,2,228,5],[229,2,229,5],[230,2,230,5],[184,5,184,6],[185,3,185,4],[185,5,185,6],[231,2,231,5],[233,4,233,7],[223,2,223,5],[195,3,196,6],[200,2,200,6],[219,4,219,7],[221,2,221,5],[222,2,222,5],[184,3,184,4]]}
["T600ee",null,{"$f":"Start_Here!$C19","v":"Company Name"}]
[{"$f":"SUM(G124)","v":0},null,{"$f":"Start_Here!$C20","v":"Address"}]
[null,null,{"$f":"Start_Here!$C21","v":"City, State Zip"}]
[null,null,{"$f":"Start_Here!$C22","v":"Contact Name"}]
[null,null,{"$f":"Start_Here!$C$41","v":"Rep Name"}]
[null,null,{"$f":"Start_Here!$C$37","v":"Tennant Sales and Service Company"}]
[null,null,{"$f":"Start_Here!$C$38","v":"10400 Clean Street"}]
[null,null,{"$f":"Start_Here!$C$39","v":"Eden Prairie, MN 55344"}]
[null,null,{"$f":"Start_Here!$C$43","v":"800-553-8033"},null,"Quote Date :",null,{"$f":"Letter!$A$25","v":"2020-09-17"}]
[]
[null,null,{"$f":"Help!C2","v":"US Date Rev - 5/6/2025"}]
[null,null,"BUILT-IN “TENNANT VALUE” INCLUDES:"]
[]
[null,null,"121L/32 gal Solution Tank  & 37 L/140 gal Recovery Tank",null,"Automatic: Water On / Off"]
[null,null,"Rugged Duramer™ Rotomold Tank Construction",null,"      Brush On / Off"]
[null,null,"Fully Sprayable Hygienic® Recovery Tank",null,"      Brush Shutoff at 80% Discharge"]
[null,null,"Three Down Pressure Settings- up to 200 lbs/90 kg ",null,"Drain hose with pinch cuff to control water flow"]
[null,null,"Adjustable Solution Flow",null,"Emergency Stop "]
[null,null,"Variable Speed Control Knob",null,"Free Floating Head Skirt "]
[null,null,"Pro-Membrane™ Control Panel w/ 3 Zone Settings™",null,"Fill Port w/ Hose Fins"]
[null,null,"Supervisor QA ControlsTM settings (Lock Out Features)",null,"Integrated Heat Sync for Electronics Protection"]
[null,null,"On Board Diagnostics",null,"Sealed Electrical Connectors"]
[null,null,"Standard Low Noise Level  (≤70 dBa)",null,"Anti-Static Strap"]
[null,null,"Quiet-Mode™ Sound Reduction all models   (≤62.5dBa)",null,".6 HP brush motor/ 0.45 kW "]
[null,null,"Standard (6) 6v. 240AH battery pack",null,"300 RPM "]
[null,null,"Auto Fill (Solution Tank)",null,"Recovery Tank Debris Tray"]
[null,null,"Quick Release Battery Harness",null,"Excellent Ergonomic Controls Design"]
[null,null,"Standard Controlled Battery Compartment Drain",null,"Non-Marking Polyurethane Tires"]
[null,null,"Off Board Charger with 3m/15 ft power cord",null,"Includes Standard Pad Drivers or Scrubbing Brushes (Select One)"]
[null,null,"Closed Machine Venting for Battery Charging",null,"Key Switch for Safety"]
[null,null,"Breakaway Squeegee Design",null,"Hour Meter"]
[null,null,"Factory Set Squeegee Assembly for Maximum Recovery",null,"Jacking Points/Shipping Tie Downs"]
[null,null,"Cast Aluminum Squeegee Frame & Scrub Deck",null,"Yellow Maintenance Touch Points"]
[null,null,"Linatex/Linard Squeegee Blades with Tool-less Replacement",null,"Integrated Accessory Rails"]
[]
[null,null,"TENNANT COMPANY WARRANTY"]
[null,null,"3 YEARS OR 2000 HOURS - PARTS"]
[null,null,"1 YEAR - BATTERY CHARGERS"]
[null,null,"2 YEARS LABOR, 6 MONTHS TRAVEL"]
[null,null,"10 YEARS ON DURAMERTM ROTOMOLD TANKS"]
[]
[]
[]
[null,null,null,null,"                Quote Request Information"]
[null,null,null,null,null,null,"Fax (quote only)"]
[null,null,null,null,null,null,"Mail (quote,lit, specs)"]
[null,null,null,null,null,null,"Fax + Mail"]
[]
[null,null,null,null,"                Primary Use"]
[null,null,null,null,null,null,"Inside"]
[null,null,null,null,null,null,"Outside"]
[]
[null,null,"Description","Reference #","Price US","Qty","Extended Price"]
[null,"Base Configuration",null,null,null,{"$f":"SUM(F55,F58,F62,F67,F70)","v":0},null,{"$f":"IFERROR(IFERROR(VLOOKUP(D54,Surcharge!A:B,2,FALSE)*F54, VLOOKUP(D54 & \"\",Surcharge!A:B,2,FALSE)*F54), \"\")","v":""}]
[null,null,"Cleaning Type",null,null,{"$f":"SUM(F56:F56)","v":0},null,{"$f":"IFERROR(IFERROR(VLOOKUP(D55,Surcharge!A:B,2,FALSE)*F55, VLOOKUP(D55 & \"\",Surcharge!A:B,2,FALSE)*F55), \"\")","v":""}]
[null,null,"T600EE Walk-Behind Scrubber 800 mm / 32\" Disk","T600ee-800D",38815,null,{"$f":"F56*E56","v":0},null,null,null,null,null,null,null,null,{"$f":"VLOOKUP(Q56,#REF!,5,FALSE)","v":{"$error":"#REF!"}},"M-T600eeVK_BASE_T600EE-800D"]
[null,null,null,null,null,null,null,{"$f":"IFERROR(IFERROR(VLOOKUP(D57,Surcharge!A:B,2,FALSE)*F57, VLOOKUP(D57 & \"\",Surcharge!A:B,2,FALSE)*F57), \"\")","v":""},null,null,null,null,null,null,null,null,""]
[null,null,"Squeegee Width  ",null,null,{"$f":"SUM(F59:F60)","v":0},null,{"$f":"IFERROR(IFERROR(VLOOKUP(D58,Surcharge!A:B,2,FALSE)*F58, VLOOKUP(D58 & \"\",Surcharge!A:B,2,FALSE)*F58), \"\")","v":""},null,null,null,{"$f":"SUM(F58)","v":0},"Surcharge Qty",null,null,null,""]
[null,null,"Standard","STD-T600ee","N/C",null,{"$f":"IF(F59=0,\" \",\"N/C\")","v":" "},{"$f":"IFERROR(IFERROR(VLOOKUP(D59,Surcharge!A:B,2,FALSE)*F59, VLOOKUP(D59 & \"\",Surcharge!A:B,2,FALSE)*F59), \"\")","v":""},null,null,null,0,"Surcharge Qty",null,null,{"$f":"VLOOKUP(Q59,#REF!,5,FALSE)","v":{"$error":"#REF!"}},"M-T600eeVK_SQEWDT_STD"]
[null,null,"Narrow Aisle","NR-T600ee","N/C",null,{"$f":"IF(F60=0,\" \",\"N/C\")","v":" "},{"$f":"IFERROR(IFERROR(VLOOKUP(D60,Surcharge!A:B,2,FALSE)*F60, VLOOKUP(D60 & \"\",Surcharge!A:B,2,FALSE)*F60), \"\")","v":""},null,null,null,0,"Surcharge Qty",null,null,{"$f":"VLOOKUP(Q60,#REF!,5,FALSE)","v":{"$error":"#REF!"}},"M-T600eeVK_SQEWDT_NWA"]
[null,null,null,null," ",null,null,{"$f":"IFERROR(IFERROR(VLOOKUP(D61,Surcharge!A:B,2,FALSE)*F61, VLOOKUP(D61 & \"\",Surcharge!A:B,2,FALSE)*F61), \"\")","v":""},null,null,null,0,"Surcharge Qty",null,null,null,""]
[null,null,"Battery Type  ",null,null,{"$f":"SUM(F63:F65)","v":0},null,{"$f":"IFERROR(IFERROR(VLOOKUP(D62,Surcharge!A:B,2,FALSE)*F62, VLOOKUP(D62 & \"\",Surcharge!A:B,2,FALSE)*F62), \"\")","v":""},null,null,null,0,"Surcharge Qty",null,null,null,""]
[null,null,"Wet 240AH C/20",9042056,"N/C",null,{"$f":"IF(F63=0,\" \",\"N/C\")","v":" "},{"$f":"IFERROR(IFERROR(VLOOKUP(D63,Surcharge!A:B,2,FALSE)*F63, VLOOKUP(D63 & \"\",Surcharge!A:B,2,FALSE)*F63), \"\")","v":""},null,null,null,0,"Surcharge Qty",null,null,{"$f":"VLOOKUP(Q63,#REF!,5,FALSE)","v":{"$error":"#REF!"}},"M-T600eeVK_BTY_W240C20"]
[null,null,null,null," ",null,null,{"$f":"IFERROR(IFERROR(VLOOKUP(D64,Surcharge!A:B,2,FALSE)*F64, VLOOKUP(D64 & \"\",Surcharge!A:B,2,FALSE)*F64), \"\")","v":""},null,null,null,null,null,null,null,null,""]
[null,null,"Manual Battery Watering  ",9042064,978,null,{"$f":"F65*E65","v":0},{"$f":"IFERROR(IFERROR(VLOOKUP(D65,Surcharge!A:B,2,FALSE)*F65, VLOOKUP(D65 & \"\",Surcharge!A:B,2,FALSE)*F65), \"\")","v":""},null,null,null,{"$f":"SUM(F65)","v":0},"Surcharge Qty",null,null,{"$f":"VLOOKUP(Q65,#REF!,5,FALSE)","v":{"$error":"#REF!"}},"M-T600eeVK_BTYWTRSYS_ML"]
[null,null,null,null,null,null,null,{"$f":"IFERROR(IFERROR(VLOOKUP(D66,Surcharge!A:B,2,FALSE)*F66, VLOOKUP(D66 & \"\",Surcharge!A:B,2,FALSE)*F66), \"\")","v":""},null,null,null,null,null,null,null,null,""]
[null,null,"Charger","Reference Number",null,{"$f":"SUM(F68:F68)","v":0},null,{"$f":"IFERROR(IFERROR(VLOOKUP(D67,Surcharge!A:B,2,FALSE)*F67, VLOOKUP(D67 & \"\",Surcharge!A:B,2,FALSE)*F67), \"\")","v":""},null,null,null,null,null,null,null,null,""]
[null,null,"25A 100-240V AC 50/60Hz 1Ph - Off-Board Charger",9042253,"N/C",null,{"$f":"IF(F68=0,\" \",\"N/C\")","v":" "},{"$f":"IFERROR(IFERROR(VLOOKUP(D68,Surcharge!A:B,2,FALSE)*F68, VLOOKUP(D68 & \"\",Surcharge!A:B,2,FALSE)*F68), \"\")","v":""},null,null,null,null,null,null,null,{"$f":"VLOOKUP(Q68,#REF!,5,FALSE)","v":{"$error":"#REF!"}},"M-T600eeVK_CHG_25A100V5060H1_OFF"]
[null,null,null,null,null,null,null,null,null,null,null,null,null,null,null,null,""]
[null,null,"UL/ETL Rating",null,null,{"$f":"SUM(F71)","v":0},null,null,null,null,null,null,null,null,null,null,""]
[null,null,"UL Type EE",null,"N/C",null,{"$f":"IF(F71=0,\" \",\"N/C\")","v":" "},null,null,null,null,null,null,null,null,null,"M-T600ee"]
[null,null,null,null,null,null,null,{"$f":"IFERROR(IFERROR(VLOOKUP(D72,Surcharge!A:B,2,FALSE)*F72, VLOOKUP(D72 & \"\",Surcharge!A:B,2,FALSE)*F72), \"\")","v":""},null,null,null,null,null,null,null,null,""]
[null,"Machine Protection & Safety",null,"Reference Number",null,{"$f":"SUM(F74:F76)","v":0},null,{"$f":"IFERROR(IFERROR(VLOOKUP(D73,Surcharge!A:B,2,FALSE)*F73, VLOOKUP(D73 & \"\",Surcharge!A:B,2,FALSE)*F73), \"\")","v":""},null,null,null,null,null,null,null,null,""]
[null,null,"Black Foam Filled Rubber  (Non-Marking)",9042099,"N/C",null,{"$f":"IF(F74=0,\" \",\"N/C\")","v":" "},null,null,null,null,null,null,null,null,{"$f":"VLOOKUP(Q74,#REF!,5,FALSE)","v":{"$error":"#REF!"}},"M-T600eeVK_NONMKTTRE_BFFR"]
[null,null,"Black Pneumatic Rubber  (Non-Marking)",9042071,"N/C",null,{"$f":"IF(F75=0,\" \",\"N/C\")","v":" "},null,null,null,null,null,null,null,null,{"$f":"VLOOKUP(Q75,#REF!,5,FALSE)","v":{"$error":"#REF!"}},"M-T600eeVK_NONMKTTRE_BPR"]
[null,null,"Trailer Transport Kit",9042165,354,null,{"$f":"F76*E76","v":0},null,null,null,null,null,null,null,null,{"$f":"VLOOKUP(Q76,#REF!,5,FALSE)","v":{"$error":"#REF!"}},"M-T600eeVK_TRLTRTKIT"]
[null,null,null,null,null,null,null,{"$f":"IFERROR(IFERROR(VLOOKUP(D77,Surcharge!A:B,2,FALSE)*F77, VLOOKUP(D77 & \"\",Surcharge!A:B,2,FALSE)*F77), \"\")","v":""},null,null,null,null,null,null,null,null,""]
[null,"Brushes and Pads  (Note 1)",null,null,null,{"$f":"SUM(F79)","v":0},null,{"$f":"IFERROR(IFERROR(VLOOKUP(D78,Surcharge!A:B,2,FALSE)*F78, VLOOKUP(D78 & \"\",Surcharge!A:B,2,FALSE)*F78), \"\")","v":""},null,null,null,null,null,null,null,null,""]
[null,null,"800 mm / 32\" Disk Scrubbing Brushes/Pads (2 Required - 16\" each)",null," ",{"$f":"SUM(F80:F88)","v":0},null,{"$f":"IFERROR(IFERROR(VLOOKUP(D79,Surcharge!A:B,2,FALSE)*F79, VLOOKUP(D79 & \"\",Surcharge!A:B,2,FALSE)*F79), \"\")","v":""}]
[null,null,"Polypropylene Brush",1234524,"N/C",null,{"$f":"IF(F80=0,\" \",\"N/C\")","v":" "},{"$f":"IFERROR(IFERROR(VLOOKUP(D80,Surcharge!A:B,2,FALSE)*F80, VLOOKUP(D80 & \"\",Surcharge!A:B,2,FALSE)*F80), \"\")","v":""},null,null,null,null,null,null,null,{"$f":"VLOOKUP(Q80,#REF!,5,FALSE)","v":{"$error":"#REF!"}},"M-T600eeVK_CLNTOL_D800PYP"]
[null,null,"Heavy Duty Polypropylene Brush",1234525,"N/C",null,{"$f":"IF(F81=0,\" \",\"N/C\")","v":" "},{"$f":"IFERROR(IFERROR(VLOOKUP(D81,Surcharge!A:B,2,FALSE)*F81, VLOOKUP(D81 & \"\",Surcharge!A:B,2,FALSE)*F81), \"\")","v":""},null,null,null,null,null,null,null,{"$f":"VLOOKUP(Q81,#REF!,5,FALSE)","v":{"$error":"#REF!"}},"M-T600eeVK_CLNTOL_D800HDPYP"]
[null,null,"Nylon Brush",1234523,"N/C",null,{"$f":"IF(F82=0,\" \",\"N/C\")","v":" "},{"$f":"IFERROR(IFERROR(VLOOKUP(D82,Surcharge!A:B,2,FALSE)*F82, VLOOKUP(D82 & \"\",Surcharge!A:B,2,FALSE)*F82), \"\")","v":""},null,null,null,null,null,null,null,{"$f":"VLOOKUP(Q82,#REF!,5,FALSE)","v":{"$error":"#REF!"}},"M-T600eeVK_CLNTOL_D800NYL"]
[null,null,null,null," "]
[null,null,"Pad Driver",1234527,"N/C",null,{"$f":"IF(F84=0,\" \",\"N/C\")","v":" "},{"$f":"IFERROR(IFERROR(VLOOKUP(D84,Surcharge!A:B,2,FALSE)*F84, VLOOKUP(D84 & \"\",Surcharge!A:B,2,FALSE)*F84), \"\")","v":""},null,null,null,null,null,null,null,{"$f":"VLOOKUP(Q84,#REF!,5,FALSE)","v":{"$error":"#REF!"}},"M-T600eeVK_CLNTOL_D800PAD"]
[null,null,"Pads",null," ",{"$f":"SUM(F86:F88)","v":0},null,{"$f":"IFERROR(IFERROR(VLOOKUP(D85,Surcharge!A:B,2,FALSE)*F85, VLOOKUP(D85 & \"\",Surcharge!A:B,2,FALSE)*F85), \"\")","v":""}]
[null,null,"Blue Scrubbing - 3M","63248-2",22.5,null,{"$f":"F86*E86","v":0},{"$f":"IFERROR(IFERROR(VLOOKUP(D86,Surcharge!A:B,2,FALSE)*F86, VLOOKUP(D86 & \"\",Surcharge!A:B,2,FALSE)*F86), \"\")","v":""},null,null,null,null,null,null,null,{"$f":"VLOOKUP(Q86,#REF!,5,FALSE)","v":{"$error":"#REF!"}},"M-T600eeVK_PADTYP_800BLU3"]
[null,null,"Red Cleaning - 3M","63248-3",22.5,null,{"$f":"F87*E87","v":0},{"$f":"IFERROR(IFERROR(VLOOKUP(D87,Surcharge!A:B,2,FALSE)*F87, VLOOKUP(D87 & \"\",Surcharge!A:B,2,FALSE)*F87), \"\")","v":""},null,null,null,null,null,null,null,{"$f":"VLOOKUP(Q87,#REF!,5,FALSE)","v":{"$error":"#REF!"}},"M-T600eeVK_PADTYP_800RED3"]
[null,null,"White Polishing - 3M","63248-4",22.5,null,{"$f":"F88*E88","v":0},{"$f":"IFERROR(IFERROR(VLOOKUP(D88,Surcharge!A:B,2,FALSE)*F88, VLOOKUP(D88 & \"\",Surcharge!A:B,2,FALSE)*F88), \"\")","v":""},null,null,null,null,null,null,null,{"$f":"VLOOKUP(Q88,#REF!,5,FALSE)","v":{"$error":"#REF!"}},"M-T600eeVK_PADTYP_800WHT3"]
[null,null,null,null,null,null,null,{"$f":"IFERROR(IFERROR(VLOOKUP(D89,Surcharge!A:B,2,FALSE)*F89, VLOOKUP(D89 & \"\",Surcharge!A:B,2,FALSE)*F89), \"\")","v":""},null,null,null,null,null,null,null,null,""]
[null,"Support  (Note 2)",null,"Reference Number",null,{"$f":"SUM(F91:F99)","v":0},null,{"$f":"IFERROR(IFERROR(VLOOKUP(D90,Surcharge!A:B,2,FALSE)*F90, VLOOKUP(D90 & \"\",Surcharge!A:B,2,FALSE)*F90), \"\")","v":""}]
[null,null,"Warranty",null,"N/C",null,{"$f":"IF(F91=0,\" \",\"N/C\")","v":" "},{"$f":"IFERROR(IFERROR(VLOOKUP(D91,Surcharge!A:B,2,FALSE)*F91, VLOOKUP(D91 & \"\",Surcharge!A:B,2,FALSE)*F91), \"\")","v":""}]
[null,null,"Operator Manual - English",9016600,"N/C",null,{"$f":"IF(F92=0,\" \",\"N/C\")","v":" "},{"$f":"IFERROR(IFERROR(VLOOKUP(D92,Surcharge!A:B,2,FALSE)*F92, VLOOKUP(D92 & \"\",Surcharge!A:B,2,FALSE)*F92), \"\")","v":""},null,null,null,null,null,null,null,null,"M-T600ee"]
[null,null,"Operator Manual - Spanish",9016601,"N/C",null,{"$f":"IF(F93=0,\" \",\"N/C\")","v":" "},null,null,null,null,null,null,null,null,null,"M-T600ee"]
[null,null,"Operator Manual - French",9016602,"N/C",null,{"$f":"IF(F94=0,\" \",\"N/C\")","v":" "},{"$f":"IFERROR(IFERROR(VLOOKUP(D94,Surcharge!A:B,2,FALSE)*F94, VLOOKUP(D94 & \"\",Surcharge!A:B,2,FALSE)*F94), \"\")","v":""},null,null,null,null,null,null,null,null,"M-T600ee"]
[null,null,"Additional Operator Manual","SEE ABOVE",150,null,{"$f":"F95*E95","v":0},{"$f":"IFERROR(IFERROR(VLOOKUP(D95,Surcharge!A:B,2,FALSE)*F95, VLOOKUP(D95 & \"\",Surcharge!A:B,2,FALSE)*F95), \"\")","v":""},null,null,null,null,null,null,null,{"$f":"VLOOKUP(Q95,#REF!,5,FALSE)","v":{"$error":"#REF!"}},"M-T600eeVK_ADLOPRMNL"]
[null,null,"Parts Manual",9016599,61,null,{"$f":"F96*E96","v":0},{"$f":"IFERROR(IFERROR(VLOOKUP(D96,Surcharge!A:B,2,FALSE)*F96, VLOOKUP(D96 & \"\",Surcharge!A:B,2,FALSE)*F96), \"\")","v":""},null,null,null,null,null,null,null,{"$f":"VLOOKUP(Q96,#REF!,5,FALSE)","v":{"$error":"#REF!"}},"M-T600eeVK_PARMNL"]
[null,null,"Service Manual",9016605,150,null,{"$f":"F97*E97","v":0},{"$f":"IFERROR(IFERROR(VLOOKUP(D97,Surcharge!A:B,2,FALSE)*F97, VLOOKUP(D97 & \"\",Surcharge!A:B,2,FALSE)*F97), \"\")","v":""},null,null,null,null,null,null,null,{"$f":"VLOOKUP(Q97,#REF!,5,FALSE)","v":{"$error":"#REF!"}},"M-T600eeVK_SRVMNL"]
[null,null,null,null," ",null,null,{"$f":"IFERROR(IFERROR(VLOOKUP(D98,Surcharge!A:B,2,FALSE)*F98, VLOOKUP(D98 & \"\",Surcharge!A:B,2,FALSE)*F98), \"\")","v":""},null,null,null,null,null,null,null,null,""]
[null,null,"Packaging  (Note 3)",null," ",{"$f":"SUM(F100:F101)","v":0},null,{"$f":"IFERROR(IFERROR(VLOOKUP(D99,Surcharge!A:B,2,FALSE)*F99, VLOOKUP(D99 & \"\",Surcharge!A:B,2,FALSE)*F99), \"\")","v":""},null,null,null,null,null,null,null,{"$f":"VLOOKUP(Q99,#REF!,5,FALSE)","v":{"$error":"#REF!"}},"M-T600eeVK_PKG_PAD"]
[null,null,"Pad Wrap",null,"N/C",null,{"$f":"IF(F100=0,\" \",\"N/C\")","v":" "},{"$f":"IFERROR(IFERROR(VLOOKUP(D100,Surcharge!A:B,2,FALSE)*F100, VLOOKUP(D100 & \"\",Surcharge!A:B,2,FALSE)*F100), \"\")","v":""},null,null,null,null,null,null,null,{"$f":"VLOOKUP(Q100,#REF!,5,FALSE)","v":{"$error":"#REF!"}},"M-T600eeVK_PKG_SSKD"]
[null,null,"Skid w/Carton, Stackable",null,528,null,{"$f":"F101*E101","v":0},{"$f":"IFERROR(IFERROR(VLOOKUP(D101,Surcharge!A:B,2,FALSE)*F101, VLOOKUP(D101 & \"\",Surcharge!A:B,2,FALSE)*F101), \"\")","v":""}]
[null,null,null,null,null,null,null,{"$f":"IFERROR(IFERROR(VLOOKUP(D102,Surcharge!A:B,2,FALSE)*F102, VLOOKUP(D102 & \"\",Surcharge!A:B,2,FALSE)*F102), \"\")","v":""}]
[null,null,null,null,null,{"$f":"SUM(#REF!)","v":{"$error":"#REF!"}}]
[]
[null,"Custom Solution--write in description, qty, price, and PN if applicable",null,null,null,{"$f":"SUM(F106)","v":0}]
[null,null,null,null,"Insert Prices Here",{"$f":"SUM(F107:F110)","v":0}]
[null,null,null,"Custom",null,{"$f":"IF(E107 <> \"\", 1, 0)","v":0},{"$f":"F107*E107","v":0}]
[null,null,null,"Custom",null,{"$f":"IF(E108 <> \"\", 1, 0)","v":0},{"$f":"F108*E108","v":0}]
[null,null,null,"Custom",null,{"$f":"IF(E109 <> \"\", 1, 0)","v":0},{"$f":"F109*E109","v":0}]
[null,null,null,"Custom",null,{"$f":"IF(E110 <> \"\", 1, 0)","v":0},{"$f":"F110*E110","v":0}]
[null,null,null,null,{"$f":"ROUND(SUM(G54:G110), 0)","v":0},{"$f":"SUM(E112)","v":0}]
[null,null,null,"Machine Subtotal ",{"$f":"ROUND(SUM(G54:G110), 0)","v":0},{"$f":"F111","v":0}]
[null,"Discounts",null,null,null,{"$f":"SUM(F114)","v":0}]
[null,null,null,null,null,{"$f":"SUM(F115:F118)","v":0}]
[null,null,null,"Discount %",null,{"$f":"IF(E115 <> \"\", 1, 0)","v":0},{"$f":"IF(F115*(E115*0.01)*E111 < 0, F115*(E115*0.01)*E111, -(F115*(E115*0.01)*E111))","v":0}]
[null,null,null,"Discount $",null,{"$f":"IF(E116 <> \"\", 1, 0)","v":0},{"$f":"IF(F116*E116 < 0, F116*E116, -(F116*E116))","v":0}]
[null,null,null,"Discount $",null,{"$f":"IF(E117 <> \"\", 1, 0)","v":0},{"$f":"IF(F117*E117 < 0, F117*E117, -(F117*E117))","v":0}]
[null,null,null,"Discount $",null,{"$f":"IF(E118 <> \"\", 1, 0)","v":0},{"$f":"IF(F118*E118 < 0, F118*E118, -(F118*E118))","v":0}]
[null,null,null,"Discount Total ",{"$f":"SUM(G115:G118)","v":0},{"$f":"SUM(E119)","v":0}]
[null,null,null,null,null,{"$f":"#REF!","v":{"$error":"#REF!"}}]
[null,null,"Prepaid and Add","Freight",null,{"$f":"IF(E121 <> \"\", 1, 0)","v":0},{"$f":"F121*E121","v":0}]
[null,null,"Subject to all applicable taxes","Tax",null,{"$f":"IF(E122 <> \"\", 1, 0)","v":0},{"$f":"F122*E122","v":0}]
[null,null,null,null,null,{"$f":"SUM(F124)","v":0}]
[null,null,null,"            MACHINE TOTAL*",null,{"$f":"SUM(G124)","v":0},{"$f":"SUM(G54:G122)","v":0},null,null,null,null,null,null,"This goes to \"My Documents\""]
[null,"Financing",null,null,null,null,{"$f":"G124","v":0}]
[]
[null,null,"Is customer interested in financing?","Yes"]
[]
[null,null,"If not, why?"]
[]
[]
[null,null,"First Western Equipment Finance - Leasing Calculation Option:","Option 1",null,"Option 2",null,null,null,{"$f":"Financing!A38","v":"Rates 2025 - Rev. 5/6/2025"}]
[null,null,null,"Monthly Payment","Cost Per Day","Monthly Payment","Cost Per Day",null,null,{"$f":"Financing!A39","v":"“Blank Payment Amounts Indicate The Financing Option Or Purchase Options Selected Are Not "}]
[null,null,"Purchase Option:","FWEF:  $1 Buyout Lease",null,"FWEF: Municipal Lease",null,null,null,{"$f":"Financing!A40","v":"Applicable Or The Machine Total Is Below The Minimum Amount For The Selected Vendor”"}]
[null,null,"24 Months",0,0,0,0,null,null,{"$f":"Financing!A41","v":"\"Quoted monthly payments are estimates only and are based on a certain level of credit rating."}]
[null,null,"30 Months",0,0,0,0,null,null,{"$f":"Financing!A42","v":"Actual monthly payments may be higher depending on your credit rating.\""}]
[null,null,"36 Months",0,0,0,0,null,null,{"$f":"Financing!A43","v":"“Financing rates do not include Pre-Paid Service”"}]
[null,null,"48 Months",0,0,0,0,null,{"$f":"Financing!A44","v":0}]
[]
[null,null,null,"Benefits of Equipment Financing:"]
[null,null,null,"• Spreads out investment over time.",null,"• Keep current with latest technology."]
[null,null,null,"• Preserve capital.",null,"• Service and parts bundling available."]
[null,null,null,"• Low monthly payment.",null,"• Pay for labor savings as you go."]
[]
[]
[null,null,"Bundled Offerings","Flexclean – Fair Market Value",null,"Flexclean - $1 Buyout"]
[null,null,"FlexClean: ","36 Month Term",null,"36 Month Term",null,null,"No","AB Brushes"]
[null,null,"Hours included per Month:","Gold","Silver","Gold","Silver","Check"]
[null,null,"< 30/mo. (Avg. 1hr./day)",null,null,null,null,null,{"$f":"FlexCleanCalc!$A21","v":"“FlexClean monthly rates include payment for both machine and service.”"}]
[null,null,"< 60/mo. (Avg. 2hrs./day)"]
[null,null,"< 90/mo. (Avg. 3hrs./day)"]
[null,null,"*This value assumes one service contract regardless of the number of UNITS included in the quote"]
[]
[]
[null,null,"Bundled Offerings","Flexclean – Fair Market Value",null,"Flexclean - $1 Buyout"]
[null,null,"FlexClean 2: ","48 Month Term",null,"48 Month Term"]
[null,null,"Hours included per Month:","Gold","Silver","Gold","Silver"]
[null,null,"< 30/mo. (Avg. 1hr./day)"]
[null,null,"< 60/mo. (Avg. 2hrs./day)"]
[null,null,"< 90/mo. (Avg. 3hrs./day)"]
[null,null,"*This value assumes one service contract regardless of the number of UNITS included in the quote"]
[]
[null,null,"Bundled Offerings","Flexclean – Fair Market Value",null,"Flexclean - $1 Buyout"]
[null,null,"FlexClean 3: ","60 Month Term",null,"60 Month Term"]
[null,null,"Hours included per Month:","Gold","Silver","Gold","Silver"]
[null,null,"< 30/mo. (Avg. 1hr./day)"]
[null,null,"< 60/mo. (Avg. 2hrs./day)"]
[null,null,"< 90/mo. (Avg. 3hrs./day)"]
[null,null,"*This value assumes one service contract regardless of the number of UNITS included in the quote"]
[]
[null,"  TennantTrue",null,0,0]
[]
[null,null,"Is customer interested in service program?","Yes","*State/County selection required for TennantTrue service options"]
[]
[null,null,"If not, why?"]
[]
[null,null,"Term:",36,null,"AB Brushes","No"]
[null,null,"Monthly machine usage (hrs):","< 30/mo. (Avg. 1hr./day)"]
[]
[null,null,"TennantTrue: ","Gold Contract",null,"Silver Contract"]
[null,null,"Per Visit",null,null,481]
[null,null,"Monthly",141,null,83]
[null,null,"Annually",null,null,972]
[null,null,"Pre-Pay Full Term",4884,null,2858]
[null,null,"Hourly Labor Rate"]
[null,null,"Site Visit"]
[]
[null,null,"* Verify customer current pricing prior to quote. "]
[null,null,"**All rates and fees above reflect service for one (1) unit with the exception of Block of Time service."]
[null,null,"*Block of Time is available in 1 Year Term only and is priced as such no matter the term selection on this template."]
[]
[null,"Servicing"]
[]
[null,null,"Is customer interested in a service plan?","No"]
[]
[null,null,"If not, why?"]
[]
[]
[]
[null,null,"Quote Special Instructions:"]
[]
[]
[null,null,{"$f":"Start_Here!E36","v":"Terms and Conditions"}]
[null,null,{"$f":"Start_Here!E37","v":"Ask your local sales rep for estimated lead times. Verify when placing order"}]
[null,null,{"$f":"Start_Here!E38","v":"All orders subject to acceptance by Tennant Sales and Service Company, Minneapolis, Minnesota"}]
[null,null,{"$f":"Start_Here!E39","v":"Prices subject to change without notice."}]
[null,null,{"$f":"Start_Here!E40","v":"Terms:  Net 30 days.  Subject to any applicable taxes."}]
[null,null,{"$f":"Start_Here!E41","v":"Freight: Machines and accessory orders delivered FOB shipping point Frt PPD & Add"}]
[null,null,{"$f":"Start_Here!E42","v":"Parts, supplies, detergents and floor treating material orders delivered FOB "}]
[null,null,{"$f":"Start_Here!E43","v":"shipping point Frt PPD"}]
[null,null,{"$f":"Start_Here!E44","v":"All orders are subject to Tennant’s General Terms and Conditions available at http://www.tennantco.com/terms."}]
[null,null,{"$f":"Start_Here!E45","v":"Printed General Terms and Conditions are also available upon request."}]
[null,null,{"$f":"Start_Here!E46","v":0}]
[]
[null,null,null,null,"Quote Date :",null,{"$f":"Letter!$A$25","v":"2020-09-17"}]
["Order Placement Information:  To place your order, fill in PO# and customer signatures,"]
["call or fax to the numbers listed below. Customer Purchase Order is required."]
["If information is missing, orders will be entered and held until all information is received."]
[null,null,"Customer Number",null,"Cust Grp 3"]
[null,null,{"$f":"Start_Here!$C$25","v":0},null,{"$f":"Start_Here!$C$29","v":0}]
[null,null,{"$f":"Start_Here!$B$18","v":"Who Owns the Machine? (Sold-To Info) (Please Verify)"}]
["Company",null,{"$f":"Start_Here!$C$19","v":"Company Name"}]
["Address",null,{"$f":"Start_Here!$C$20","v":"Address"}]
[null,null,{"$f":"Start_Here!$C$21","v":"City, State Zip"}]
["Name",null,{"$f":"Start_Here!$C$22","v":"Contact Name"}]
["Phone",null,{"$f":"Start_Here!$C$23","v":"Contact Phone"}]
[null,null,{"$f":"Start_Here!$B$11","v":"Where is the Machine Being Shipped? (Ship-To Info) (Please Verify)"}]
["Company",null,{"$f":"Start_Here!$C$12","v":"Company Name"}]
["Address",null,{"$f":"Start_Here!$C$13","v":"Address"}]
[null,null,{"$f":"Start_Here!$C$14","v":"City, State Zip"}]
["Name",null,{"$f":"Start_Here!$C$15","v":"Contact Name"}]
["Phone",null,{"$f":"Start_Here!$C$16","v":"Contact Phone"}]
[null,null,{"$f":"Start_Here!$B$31","v":"Shipping / Carrier Instructions:"},null,"Order Special Instructions:"]
[null,null,{"$f":"Start_Here!$C$32","v":0}]
[]
[null,null,"Customer Purchase Order No."]
[null,null,"(please attach copy)"]
[]
[]
[null,null,"Tax Exempt",null,"Yes"]
[null,null,null,null,"No"]
[null,null,"If Yes, attach a copy of your exemption certificate."]
[]
[null,null,"Requested Delivery Date"]
[null,null,{"$f":"Start_Here!$C$28","v":0}]
[]
[null,null,{"$f":"Start_Here!$C$26","v":0},null,{"$f":"Start_Here!$C$27","v":0}]
[null,0,"Authorized Buyer (please print)",null,"Phone Number"]
[]
[]
[null,0,"Authorized Buyer Signature"]
[]
[null,null,{"$f":"Start_Here!$C$41","v":"Rep Name"}]
[null,null,"Tennant Representative"]
[]
["Specialized Maintenance Equipment"]
[{"$f":"Start_Here!$C$48","v":"TENNANT · 10400 Clean Street · Eden Prairie, MN 55344 ·"}]
[{"$f":"Start_Here!$C$49","v":" PHONE:800-553-8033 · FAX:763-513-2116"}]
[]
[]
[null,"Notes"]
[]
[null,1,"One set of brushes or pad drivers come standard with machine."]
[]
[null,2,"Additional hard copy Operator and Parts Manuals can be ordered or digital copies can be downloaded from www.Tennantco.com."]
[]
[null,3,"Skid w/Carton, Stackable is mandatory when shipping to AK and HI.  Packaging is added at No Charge when shipping"]
[null,null,"to these locations."]
[]
[null,4,"Shipping Weights and Dimensions","Pad Wrap","Skid w/Carton"]
[]
[null,null,"Weight","466 lbs / 212 Kg","736 lbs / 334 Kg"]
[null,null,"Length","66 in / 1677 mm","75\" / 1905 mm"]
[null,null,"Width","34 in / 864 mm","45\" / 1143 mm"]
[null,null,"Height","44 in / 1118 mm","52\" / 1321 mm"]

{"sheet":"T7","index":37,"n_rows":298,"n_cols":17,"rows_kept":298,"cut":false,"hidden":false,"merged":[[0,2,0,3],[1,2,1,3],[2,2,2,3],[3,2,3,3],[23,2,23,3],[11,1,11,6],[128,3,128,6],[131,3,131,4],[131,5,131,6],[25,2,25,6],[26,2,26,6],[27,2,27,6],[133,3,133,4],[133,5,133,6],[145,3,145,4],[145,5,145,6],[146,3,146,4],[146,5,146,6],[179,3,179,4],[179,5,179,6],[224,2,224,5],[197,3,198,6],[201,2,201,6],[222,2,222,5],[223,2,223,5],[220,4,220,7],[180,3,180,4],[180,5,180,6],[181,3,181,4],[181,5,181,6],[182,3,182,4],[182,5,182,6],[183,3,183,4],[183,5,183,6],[163,3,163,4],[163,5,163,6],[177,3,177,4],[172,4,172,8],[174,3,174,6],[176,3,176,4],[154,3,154,4],[154,5,154,6],[155,3,155,4],[155,5,155,6],[162,3,162,4],[162,5,162,6],[184,3,184,4],[184,5,184,6],[185,3,185,4],[185,5,185,6],[247,4,247,5],[230,2,230,5],[225,2,225,5],[228,2,228,5],[226,2,226,5],[238,2,238,5],[234,4,234,7],[232,2,232,5],[231,2,231,5],[229,2,229,5]]}
["T7",null,{"$f":"Start_Here!$C19","v":"Company Name"}]
[{"$f":"SUM(G123)","v":0},null,{"$f":"Start_Here!$C20","v":"Address"}]
[null,null,{"$f":"Start_Here!$C21","v":"City, State Zip"}]
[null,null,{"$f":"Start_Here!$C22","v":"Contact Name"}]
[null,null,{"$f":"Start_Here!$C$41","v":"Rep Name"}]
[null,null,{"$f":"Start_Here!$C$37","v":"Tennant Sales and Service Company"}]
[null,null,{"$f":"Start_Here!$C$38","v":"10400 Clean Street"}]
[null,null,{"$f":"Start_Here!$C$39","v":"Eden Prairie, MN 55344"}]
[null,null,{"$f":"Start_Here!$C$43","v":"800-553-8033"},null,"Quote Date :",null,{"$f":"Letter!$A$25","v":"2020-09-17"}]
[]
[null,null,{"$f":"Help!C2","v":"US Date Rev - 5/6/2025"}]
[null,"BUILT-IN “TENNANT VALUE” INCLUDES:"]
[]
[null,null,"Fully Cleanable HygenicTM Tanks",null,"Unsurpassed Ergonomic Design"]
[null,null,"Extremely Low 67 dBa Noise Levels",null,"Standard 240 AH Battery Pack (Optional 360 AH)"]
[null,null,"Unmatched Solution Recovery",null,"Charger"]
[null,null,"One-Button Scrubbing Operation",null,"Edge & Reach Under Cleaning"]
[null,null,"Economy Mode (extends run time up to 4.5 hours)",null,"No Tool Brush / Squeegee Change"]
[null,null,"On Board Diagnostics",null,"Standard Scrubbing Brushes & Pad Drivers (Select One Type)"]
[null,null,"Touch Panel Controls",null,"Vacuum Fan In-Line Air Filter Cartridge"]
[null,null,"Automatic:",null,"Brush Shutoff When Idle"]
[null,null,"             Squeegee Lift",null,"Brush Shutoff at 80% Discharge"]
[null,null,"             Water Shutoff",null,"Audio Back Up Alarm"]
[]
[]
[null,null,"TENNANT COMPANY WARRANTY"]
[null,null,"3 YEARS OR 1500 HOURS ON ALL COMPONENTS, 3 YEARS LABOR"]
[null,null,"90 DAYS TRAVEL, 10 YEARS ON DURAMERTM TANKS"]
[]
[]
[null,null,null,null,"                Quote Request Information"]
[null,null,null,null,null,null,"Fax (quote only)"]
[null,null,null,null,null,null,"Mail (quote,lit, specs)"]
[null,null,null,null,null,null,"Fax + Mail"]
[]
[null,null,null,null,"                Primary Use"]
[null,null,null,null,null,null,"Inside"]
[null,null,null,null,null,null,"Outside"]
[]
[null,null,"Description","Reference #","Price Each","Qty","Extended Price"]
[null,"Base Configuration",null,null,null,{"$f":"-SUM(F42,F46,F49,F57)","v":0},null,{"$f":"IFERROR(IFERROR(VLOOKUP(D41,Surcharge!A:B,2,FALSE)*F41, VLOOKUP(D41 & \"\",Surcharge!A:B,2,FALSE)*F41), \"\")","v":""}]
[null,null,"Cleaning Type",null,null,{"$f":"SUM(F43:F44)","v":0},null,{"$f":"IFERROR(IFERROR(VLOOKUP(D42,Surcharge!A:B,2,FALSE)*F42, VLOOKUP(D42 & \"\",Surcharge!A:B,2,FALSE)*F42), \"\")","v":""}]
[null,null,"T7 Ride-On Scrubber 650 mm/26\"  - Disk","T7-650-D",26148,null,{"$f":"F43*E43","v":0},{"$f":"IFERROR(IFERROR(VLOOKUP(D43,Surcharge!A:B,2,FALSE)*F43, VLOOKUP(D43 & \"\",Surcharge!A:B,2,FALSE)*F43), \"\")","v":0},null,null,null,null,null,null,null,{"$f":"VLOOKUP(Q43,#REF!,5,FALSE)","v":{"$error":"#REF!"}},"M-T7VK_BASE_T7-650-D"]
[null,null,"T7 Ride-On Scrubber 800 mm/32\"  - Disk","T7-800-D",28083,null,{"$f":"F44*E44","v":0},{"$f":"IFERROR(IFERROR(VLOOKUP(D44,Surcharge!A:B,2,FALSE)*F44, VLOOKUP(D44 & \"\",Surcharge!A:B,2,FALSE)*F44), \"\")","v":0},null,null,null,{"$f":"SUM(F44)","v":0},"Surcharge Qty",null,null,{"$f":"VLOOKUP(Q44,#REF!,5,FALSE)","v":{"$error":"#REF!"}},"M-T7VK_BASE_T7-800-D"]
[null,null,null,null,null,null,null,{"$f":"IFERROR(IFERROR(VLOOKUP(D45,Surcharge!A:B,2,FALSE)*F45, VLOOKUP(D45 & \"\",Surcharge!A:B,2,FALSE)*F45), \"\")","v":""},null,null,null,{"$f":"SUM(F45)","v":0},"Surcharge Qty",null,null,null,""]
[null,null,"Cleaning Technology: (conventional is standard, ec-H2O NanoClean™ (can also operate in conventional mode) Note 1A",null,null,{"$f":"SUM(F47:F47)","v":0},null,{"$f":"IFERROR(IFERROR(VLOOKUP(D46,Surcharge!A:B,2,FALSE)*F46, VLOOKUP(D46 & \"\",Surcharge!A:B,2,FALSE)*F46), \"\")","v":""},null,null,null,0,"Surcharge Qty",null,null,null,""]
[null,null,"ec-H2O NanoClean™","ec-H2ONC-T7",3413,null,{"$f":"F47*E47","v":0},{"$f":"IFERROR(IFERROR(VLOOKUP(D47,Surcharge!A:B,2,FALSE)*F47, VLOOKUP(D47 & \"\",Surcharge!A:B,2,FALSE)*F47), \"\")","v":""},null,null,null,null,null,null,null,{"$f":"VLOOKUP(Q47,#REF!,5,FALSE)","v":{"$error":"#REF!"}},"M-T7VK_CLNTCH_ECH2O"]
[null,null,null,null,null,null,null,{"$f":"IFERROR(IFERROR(VLOOKUP(D48,Surcharge!A:B,2,FALSE)*F48, VLOOKUP(D48 & \"\",Surcharge!A:B,2,FALSE)*F48), \"\")","v":""},null,null,null,0,"Surcharge Qty",null,null,null,""]
[null,null,"Battery Type (Note 2)",null,null,{"$f":"SUM(F50:F55)","v":0},null,{"$f":"IFERROR(IFERROR(VLOOKUP(D49,Surcharge!A:B,2,FALSE)*F49, VLOOKUP(D49 & \"\",Surcharge!A:B,2,FALSE)*F49), \"\")","v":""},null,null,null,0,"Surcharge Qty",null,null,null,""]
[null,null,"Wet 240AH C/20  (Kit of 4 batteries)",9000814,"N/C",null,{"$f":"IF(F50=0,\" \",\"N/C\")","v":" "},{"$f":"IFERROR(IFERROR(VLOOKUP(D50,Surcharge!A:B,2,FALSE)*F50, VLOOKUP(D50 & \"\",Surcharge!A:B,2,FALSE)*F50), \"\")","v":""},null,null,null,null,null,null,null,{"$f":"VLOOKUP(Q50,#REF!,5,FALSE)","v":{"$error":"#REF!"}},"M-T7VK_BTY_W240C20"]
[null,null,"Wet 360AH C/20  (Kit of 4 batteries)",9000815,716,null,{"$f":"F51*E51","v":0},{"$f":"IFERROR(IFERROR(VLOOKUP(D51,Surcharge!A:B,2,FALSE)*F51, VLOOKUP(D51 & \"\",Surcharge!A:B,2,FALSE)*F51), \"\")","v":""},null,null,null,0,"Surcharge Qty",null,null,{"$f":"VLOOKUP(Q51,#REF!,5,FALSE)","v":{"$error":"#REF!"}},"M-T7VK_BTY_W360C20"]
[null,null,"Sealed/MF AGM 220AH C/20  (Kit of 4 batteries)",9001915,1782,null,{"$f":"F52*E52","v":0},{"$f":"IFERROR(IFERROR(VLOOKUP(D52,Surcharge!A:B,2,FALSE)*F52, VLOOKUP(D52 & \"\",Surcharge!A:B,2,FALSE)*F52), \"\")","v":""},null,null,null,null,null,null,null,{"$f":"VLOOKUP(Q52,#REF!,5,FALSE)","v":{"$error":"#REF!"}},"M-T7VK_BTY_A220C20"]
[null,null,"Without Battery  ",null,-450,null,{"$f":"F53*E53","v":0},{"$f":"IFERROR(IFERROR(VLOOKUP(D53,Surcharge!A:B,2,FALSE)*F53, VLOOKUP(D53 & \"\",Surcharge!A:B,2,FALSE)*F53), \"\")","v":""},null,null,null,null,null,null,null,{"$f":"VLOOKUP(Q53,#REF!,5,FALSE)","v":{"$error":"#REF!"}},"M-T7VK_BTY_WO"]
[null,null,null,null,null,null,null,{"$f":"IFERROR(IFERROR(VLOOKUP(D54,Surcharge!A:B,2,FALSE)*F54, VLOOKUP(D54 & \"\",Surcharge!A:B,2,FALSE)*F54), \"\")","v":""},null,null,null,null,null,null,null,null,""]
[null,null,"Manual Battery Watering Kit  (Note 3)",9009619,616,null,{"$f":"F55*E55","v":0},{"$f":"IFERROR(IFERROR(VLOOKUP(D55,Surcharge!A:B,2,FALSE)*F55, VLOOKUP(D55 & \"\",Surcharge!A:B,2,FALSE)*F55), \"\")","v":""},null,null,null,null,null,null,null,{"$f":"VLOOKUP(Q55,#REF!,5,FALSE)","v":{"$error":"#REF!"}},"M-T7VK_BTYWTRSYS"]
[null,null,null,null,null,null,null,{"$f":"IFERROR(IFERROR(VLOOKUP(D56,Surcharge!A:B,2,FALSE)*F56, VLOOKUP(D56 & \"\",Surcharge!A:B,2,FALSE)*F56), \"\")","v":""},null,null,null,null,null,null,null,null,""]
[null,null,"Charger (Note 4)","Reference Number",null,{"$f":"SUM(F58:F62)","v":0},null,{"$f":"IFERROR(IFERROR(VLOOKUP(D57,Surcharge!A:B,2,FALSE)*F57, VLOOKUP(D57 & \"\",Surcharge!A:B,2,FALSE)*F57), \"\")","v":""},null,null,null,null,null,null,null,null,""]
[null,null,"19A 100-240V AC 50/60Hz 1Ph - standard Off-Board for 240AH and 360AH Batteries",1029256,"N/C",null,{"$f":"IF(F58=0,\" \",\"N/C\")","v":" "},{"$f":"IFERROR(IFERROR(VLOOKUP(D58,Surcharge!A:B,2,FALSE)*F58, VLOOKUP(D58 & \"\",Surcharge!A:B,2,FALSE)*F58), \"\")","v":""},null,null,null,null,null,null,null,{"$f":"VLOOKUP(Q58,#REF!,5,FALSE)","v":{"$error":"#REF!"}},"M-T7VK_CHG_19A100V5060H1"]
[null,null,"25A 100-240V AC 50/60Hz 1Ph, - Off-Board for  AGM 220AH Battery",9012519,233,null,{"$f":"F59*E59","v":0},{"$f":"IFERROR(IFERROR(VLOOKUP(D59,Surcharge!A:B,2,FALSE)*F59, VLOOKUP(D59 & \"\",Surcharge!A:B,2,FALSE)*F59), \"\")","v":""},null,null,null,null,null,null,null,{"$f":"VLOOKUP(Q59,#REF!,5,FALSE)","v":{"$error":"#REF!"}},"M-T7VK_CHG_25A100V5060H1"]
[null,null,"25A 100-240V AC 50/60Hz 1Ph, - Off-Board, in lieu of standard for 360AH Battery",9009486,233,null,{"$f":"F60*E60","v":0},{"$f":"IFERROR(IFERROR(VLOOKUP(D60,Surcharge!A:B,2,FALSE)*F60, VLOOKUP(D60 & \"\",Surcharge!A:B,2,FALSE)*F60), \"\")","v":""},null,null,null,null,null,null,null,{"$f":"VLOOKUP(Q60,#REF!,5,FALSE)","v":{"$error":"#REF!"}},"M-T7VK_CHG_25A100V5060H1"]
[null,null,"25A 115V AC  60Hz 1Ph  - On-Board Charger, in lieu of standard",9001993,723,null,{"$f":"F61*E61","v":0},{"$f":"IFERROR(IFERROR(VLOOKUP(D61,Surcharge!A:B,2,FALSE)*F61, VLOOKUP(D61 & \"\",Surcharge!A:B,2,FALSE)*F61), \"\")","v":""},null,null,null,null,null,null,null,{"$f":"VLOOKUP(Q61,#REF!,5,FALSE)","v":{"$error":"#REF!"}},"M-T7VK_CHG_25A115V60H1P"]
[null,null,"27A 100-240V AC 50/60Hz 1Ph - Off-Board for all Batteries (IRIS Battery Metric Compatible)",1230312,441,null,{"$f":"F62*E62","v":0},{"$f":"IFERROR(IFERROR(VLOOKUP(D62,Surcharge!A:B,2,FALSE)*F62, VLOOKUP(D62 & \"\",Surcharge!A:B,2,FALSE)*F62), \"\")","v":""},null,null,null,null,null,null,null,{"$f":"VLOOKUP(Q62,#REF!,5,FALSE)","v":{"$error":"#REF!"}},"M-T7VK_CHG_27A100V5060H1P"]
[null,null,null,null,null,null,null,{"$f":"IFERROR(IFERROR(VLOOKUP(D63,Surcharge!A:B,2,FALSE)*F63, VLOOKUP(D63 & \"\",Surcharge!A:B,2,FALSE)*F63), \"\")","v":""},null,null,null,null,null,null,null,null,""]
[null,"Machine Protection & Safety",null,"Reference Number",null,{"$f":"SUM(F65:F66)","v":0},null,{"$f":"IFERROR(IFERROR(VLOOKUP(D64,Surcharge!A:B,2,FALSE)*F64, VLOOKUP(D64 & \"\",Surcharge!A:B,2,FALSE)*F64), \"\")","v":""},null,null,null,null,null,null,null,null,""]
[null,null,"Seat Belt",9018587,94,null,{"$f":"F65*E65","v":0},null,null,null,null,null,null,null,null,{"$f":"VLOOKUP(Q65,#REF!,5,FALSE)","v":{"$error":"#REF!"}},"M-T7VK_SETBLT"]
[null,null,"Strobe Light On Tank",9000580,782,null,{"$f":"F66*E66","v":0},{"$f":"IFERROR(IFERROR(VLOOKUP(D66,Surcharge!A:B,2,FALSE)*F66, VLOOKUP(D66 & \"\",Surcharge!A:B,2,FALSE)*F66), \"\")","v":""},null,null,null,null,null,null,null,{"$f":"VLOOKUP(Q66,#REF!,5,FALSE)","v":{"$error":"#REF!"}},"M-T7VK_WRNLGTANDALM_ST"]
[null,null,null,null,null,null,null,{"$f":"IFERROR(IFERROR(VLOOKUP(D67,Surcharge!A:B,2,FALSE)*F67, VLOOKUP(D67 & \"\",Surcharge!A:B,2,FALSE)*F67), \"\")","v":""},null,null,null,null,null,null,null,null,""]
[null,"Brushes and Pads (Note 5)",null,"Reference Number",null,{"$f":"SUM(F69,F79)","v":0},null,{"$f":"IFERROR(IFERROR(VLOOKUP(D68,Surcharge!A:B,2,FALSE)*F68, VLOOKUP(D68 & \"\",Surcharge!A:B,2,FALSE)*F68), \"\")","v":""},null,null,null,null,null,null,null,null,""]
[null,null,"650mm/26\" Disk Scrubbing Brushes/Pads (2 Required)",null,null,{"$f":"SUM(F70:F77)","v":0},null,{"$f":"IFERROR(IFERROR(VLOOKUP(D69,Surcharge!A:B,2,FALSE)*F69, VLOOKUP(D69 & \"\",Surcharge!A:B,2,FALSE)*F69), \"\")","v":""},null,null,null,null,null,null,null,null,""]
[null,null,"Polypropylene",1220223,"N/C",null,{"$f":"IF(F70=0,\" \",\"N/C\")","v":" "},{"$f":"IFERROR(IFERROR(VLOOKUP(D70,Surcharge!A:B,2,FALSE)*F70, VLOOKUP(D70 & \"\",Surcharge!A:B,2,FALSE)*F70), \"\")","v":""},null,null,null,null,null,null,null,{"$f":"VLOOKUP(Q70,#REF!,5,FALSE)","v":{"$error":"#REF!"}},"M-T7VK_CLNTOL_D650PYP"]
[null,null,"Nylon",1220226,"N/C",null,{"$f":"IF(F71=0,\" \",\"N/C\")","v":" "},{"$f":"IFERROR(IFERROR(VLOOKUP(D71,Surcharge!A:B,2,FALSE)*F71, VLOOKUP(D71 & \"\",Surcharge!A:B,2,FALSE)*F71), \"\")","v":""},null,null,null,null,null,null,null,{"$f":"VLOOKUP(Q71,#REF!,5,FALSE)","v":{"$error":"#REF!"}},"M-T7VK_CLNTOL_D650NYL"]
[null,null,null,null,null,null,null,{"$f":"IFERROR(IFERROR(VLOOKUP(D72,Surcharge!A:B,2,FALSE)*F72, VLOOKUP(D72 & \"\",Surcharge!A:B,2,FALSE)*F72), \"\")","v":""}]
[null,null,"Pad Driver",1220243,"N/C",null,{"$f":"IF(F73=0,\" \",\"N/C\")","v":" "},{"$f":"IFERROR(IFERROR(VLOOKUP(D73,Surcharge!A:B,2,FALSE)*F73, VLOOKUP(D73 & \"\",Surcharge!A:B,2,FALSE)*F73), \"\")","v":""},null,null,null,null,null,null,null,{"$f":"VLOOKUP(Q73,#REF!,5,FALSE)","v":{"$error":"#REF!"}},"M-T7VK_CLNTOL_D650PAD"]
[null,null,"Pads ",null,null,{"$f":"SUM(F75:F77)","v":0},null,{"$f":"IFERROR(IFERROR(VLOOKUP(D74,Surcharge!A:B,2,FALSE)*F74, VLOOKUP(D74 & \"\",Surcharge!A:B,2,FALSE)*F74), \"\")","v":""},null,null,null,null,null,null,null,null,""]
[null,null,"Blue Scrubbing - 3M   ",89047,17.2,null,{"$f":"F75*E75","v":0},{"$f":"IFERROR(IFERROR(VLOOKUP(D75,Surcharge!A:B,2,FALSE)*F75, VLOOKUP(D75 & \"\",Surcharge!A:B,2,FALSE)*F75), \"\")","v":""},null,null,null,null,null,null,null,{"$f":"VLOOKUP(Q75,#REF!,5,FALSE)","v":{"$error":"#REF!"}},"M-T7VK_PADTYP_650BLU3"]
[null,null,"Red Cleaning - 3M         ",89048,17.2,null,{"$f":"F76*E76","v":0},{"$f":"IFERROR(IFERROR(VLOOKUP(D76,Surcharge!A:B,2,FALSE)*F76, VLOOKUP(D76 & \"\",Surcharge!A:B,2,FALSE)*F76), \"\")","v":""},null,null,null,null,null,null,null,{"$f":"VLOOKUP(Q76,#REF!,5,FALSE)","v":{"$error":"#REF!"}},"M-T7VK_PADTYP_650RED3"]
[null,null,"White Polishing  - 3M    ",89049,17.2,null,{"$f":"F77*E77","v":0},{"$f":"IFERROR(IFERROR(VLOOKUP(D77,Surcharge!A:B,2,FALSE)*F77, VLOOKUP(D77 & \"\",Surcharge!A:B,2,FALSE)*F77), \"\")","v":""},null,null,null,null,null,null,null,{"$f":"VLOOKUP(Q77,#REF!,5,FALSE)","v":{"$error":"#REF!"}},"M-T7VK_PADTYP_650WHT3"]
[null,null,null,null,null,null,null,{"$f":"IFERROR(IFERROR(VLOOKUP(D78,Surcharge!A:B,2,FALSE)*F78, VLOOKUP(D78 & \"\",Surcharge!A:B,2,FALSE)*F78), \"\")","v":""},null,null,null,null,null,null,null,null,""]
[null,null,"800mm/32\" Disk Scrubbing Brushes/Pads (2 Required)",null,null,{"$f":"SUM(F80:F87)","v":0},null,{"$f":"IFERROR(IFERROR(VLOOKUP(D79,Surcharge!A:B,2,FALSE)*F79, VLOOKUP(D79 & \"\",Surcharge!A:B,2,FALSE)*F79), \"\")","v":""},null,null,null,null,null,null,null,null,""]
[null,null,"Polypropylene",1220224,"N/C",null,{"$f":"IF(F80=0,\" \",\"N/C\")","v":" "},{"$f":"IFERROR(IFERROR(VLOOKUP(D80,Surcharge!A:B,2,FALSE)*F80, VLOOKUP(D80 & \"\",Surcharge!A:B,2,FALSE)*F80), \"\")","v":""},null,null,null,null,null,null,null,{"$f":"VLOOKUP(Q80,#REF!,5,FALSE)","v":{"$error":"#REF!"}},"M-T7VK_CLNTOL_D800PYP"]
[null,null,"Nylon",1220225,"N/C",null,{"$f":"IF(F81=0,\" \",\"N/C\")","v":" "},{"$f":"IFERROR(IFERROR(VLOOKUP(D81,Surcharge!A:B,2,FALSE)*F81, VLOOKUP(D81 & \"\",Surcharge!A:B,2,FALSE)*F81), \"\")","v":""},null,null,null,null,null,null,null,{"$f":"VLOOKUP(Q81,#REF!,5,FALSE)","v":{"$error":"#REF!"}},"M-T7VK_CLNTOL_D800NYL"]
[null,null,null,null,null,null,null,{"$f":"IFERROR(IFERROR(VLOOKUP(D82,Surcharge!A:B,2,FALSE)*F82, VLOOKUP(D82 & \"\",Surcharge!A:B,2,FALSE)*F82), \"\")","v":""},null,null,null,null,null,null,null,null,""]
[null,null,"Pad Driver",1220244,"N/C",null,{"$f":"IF(F83=0,\" \",\"N/C\")","v":" "},{"$f":"IFERROR(IFERROR(VLOOKUP(D83,Surcharge!A:B,2,FALSE)*F83, VLOOKUP(D83 & \"\",Surcharge!A:B,2,FALSE)*F83), \"\")","v":""},null,null,null,null,null,null,null,{"$f":"VLOOKUP(Q83,#REF!,5,FALSE)","v":{"$error":"#REF!"}},"M-T7VK_CLNTOL_D800PAD"]
[null,null,"Pads ",null,null,{"$f":"SUM(F85:F87)","v":0},null,{"$f":"IFERROR(IFERROR(VLOOKUP(D84,Surcharge!A:B,2,FALSE)*F84, VLOOKUP(D84 & \"\",Surcharge!A:B,2,FALSE)*F84), \"\")","v":""},null,null,null,null,null,null,null,null,""]
[null,null,"Blue Scrubbing - 3M   ","63248-2",21.4,null,{"$f":"F85*E85","v":0},{"$f":"IFERROR(IFERROR(VLOOKUP(D85,Surcharge!A:B,2,FALSE)*F85, VLOOKUP(D85 & \"\",Surcharge!A:B,2,FALSE)*F85), \"\")","v":""},null,null,null,null,null,null,null,{"$f":"VLOOKUP(Q85,#REF!,5,FALSE)","v":{"$error":"#REF!"}},"M-T7VK_PADTYP_800BLU3"]
[null,null,"Red Cleaning - 3M         ","63248-3",21.4,null,{"$f":"F86*E86","v":0},{"$f":"IFERROR(IFERROR(VLOOKUP(D86,Surcharge!A:B,2,FALSE)*F86, VLOOKUP(D86 & \"\",Surcharge!A:B,2,FALSE)*F86), \"\")","v":""},null,null,null,null,null,null,null,{"$f":"VLOOKUP(Q86,#REF!,5,FALSE)","v":{"$error":"#REF!"}},"M-T7VK_PADTYP_800RED3"]
[null,null,"White Polishing  - 3M    ","63248-4",21.4,null,{"$f":"F87*E87","v":0},{"$f":"IFERROR(IFERROR(VLOOKUP(D87,Surcharge!A:B,2,FALSE)*F87, VLOOKUP(D87 & \"\",Surcharge!A:B,2,FALSE)*F87), \"\")","v":""},null,null,null,null,null,null,null,{"$f":"VLOOKUP(Q87,#REF!,5,FALSE)","v":{"$error":"#REF!"}},"M-T7VK_PADTYP_800WHT3"]
[null,null,null,null,null,null,null,{"$f":"IFERROR(IFERROR(VLOOKUP(D88,Surcharge!A:B,2,FALSE)*F88, VLOOKUP(D88 & \"\",Surcharge!A:B,2,FALSE)*F88), \"\")","v":""},null,null,null,null,null,null,null,null,""]
[null,"Support (Note 6)",null,"Reference Number",null,{"$f":"SUM(F90:F98)","v":0},null,{"$f":"IFERROR(IFERROR(VLOOKUP(D89,Surcharge!A:B,2,FALSE)*F89, VLOOKUP(D89 & \"\",Surcharge!A:B,2,FALSE)*F89), \"\")","v":""},null,null,null,null,null,null,null,null,""]
[null,null,"Ultimate Performance Guarantee (UPG)",50619,"N/C",null,{"$f":"IF(F90=0,\" \",\"N/C\")","v":" "},{"$f":"IFERROR(IFERROR(VLOOKUP(D90,Surcharge!A:B,2,FALSE)*F90, VLOOKUP(D90 & \"\",Surcharge!A:B,2,FALSE)*F90), \"\")","v":""},null,null,null,null,null,null,null,null,"M-T7"]
[null,null,"T7 Operator Manual (English)",331040,"N/C",null,{"$f":"IF(F91=0,\" \",\"N/C\")","v":" "},{"$f":"IFERROR(IFERROR(VLOOKUP(D91,Surcharge!A:B,2,FALSE)*F91, VLOOKUP(D91 & \"\",Surcharge!A:B,2,FALSE)*F91), \"\")","v":""},null,null,null,null,null,null,null,null,"M-T7"]
[null,null,"T7 Operator Manual (Spanish)",331042,"N/C",null,{"$f":"IF(F92=0,\" \",\"N/C\")","v":" "},{"$f":"IFERROR(IFERROR(VLOOKUP(D92,Surcharge!A:B,2,FALSE)*F92, VLOOKUP(D92 & \"\",Surcharge!A:B,2,FALSE)*F92), \"\")","v":""},null,null,null,null,null,null,null,null,"M-T7"]
[null,null,"T7 Operator Manual (French)",331043,"N/C",null,{"$f":"IF(F93=0,\" \",\"N/C\")","v":" "},{"$f":"IFERROR(IFERROR(VLOOKUP(D93,Surcharge!A:B,2,FALSE)*F93, VLOOKUP(D93 & \"\",Surcharge!A:B,2,FALSE)*F93), \"\")","v":""},null,null,null,null,null,null,null,null,"M-T7"]
[null,null,"T7 Parts Manual",9013606,59,null,{"$f":"F94*E94","v":0},{"$f":"IFERROR(IFERROR(VLOOKUP(D94,Surcharge!A:B,2,FALSE)*F94, VLOOKUP(D94 & \"\",Surcharge!A:B,2,FALSE)*F94), \"\")","v":""},null,null,null,null,null,null,null,{"$f":"VLOOKUP(Q94,#REF!,5,FALSE)","v":{"$error":"#REF!"}},"M-T7VK_PARMNL"]
[null,null,"Additional Operator Manual","see above",143,null,{"$f":"F95*E95","v":0},{"$f":"IFERROR(IFERROR(VLOOKUP(D95,Surcharge!A:B,2,FALSE)*F95, VLOOKUP(D95 & \"\",Surcharge!A:B,2,FALSE)*F95), \"\")","v":""},null,null,null,null,null,null,null,{"$f":"VLOOKUP(Q95,#REF!,5,FALSE)","v":{"$error":"#REF!"}},"M-T7VK_ADLOPRMNL"]
[null,null,"Service Manual",331045,143,null,{"$f":"F96*E96","v":0},{"$f":"IFERROR(IFERROR(VLOOKUP(D96,Surcharge!A:B,2,FALSE)*F96, VLOOKUP(D96 & \"\",Surcharge!A:B,2,FALSE)*F96), \"\")","v":""},null,null,null,null,null,null,null,{"$f":"VLOOKUP(Q96,#REF!,5,FALSE)","v":{"$error":"#REF!"}},"M-T7VK_SRVMNL"]
[null,null,null,null,null,null,null,{"$f":"IFERROR(IFERROR(VLOOKUP(D97,Surcharge!A:B,2,FALSE)*F97, VLOOKUP(D97 & \"\",Surcharge!A:B,2,FALSE)*F97), \"\")","v":""},null,null,null,null,null,null,null,null,""]
[null,null,"Packaging  (Note 89)",null,null,{"$f":"SUM(F99:F100)","v":0},null,{"$f":"IFERROR(IFERROR(VLOOKUP(D98,Surcharge!A:B,2,FALSE)*F98, VLOOKUP(D98 & \"\",Surcharge!A:B,2,FALSE)*F98), \"\")","v":""},null,null,null,null,null,null,null,null,""]
[null,null,"Pad Wrap",null,"N/C",null,{"$f":"IF(F99=0,\" \",\"N/C\")","v":" "},{"$f":"IFERROR(IFERROR(VLOOKUP(D99,Surcharge!A:B,2,FALSE)*F99, VLOOKUP(D99 & \"\",Surcharge!A:B,2,FALSE)*F99), \"\")","v":""},null,null,null,null,null,null,null,null,"M-T7"]
[null,null,"Skid w/Carton, Non-Stackable",9000550,500,null,{"$f":"F100*E100","v":0},{"$f":"IFERROR(IFERROR(VLOOKUP(D100,Surcharge!A:B,2,FALSE)*F100, VLOOKUP(D100 & \"\",Surcharge!A:B,2,FALSE)*F100), \"\")","v":""},null,null,null,null,null,null,null,{"$f":"VLOOKUP(Q100,#REF!,5,FALSE)","v":{"$error":"#REF!"}},"M-T7VK_PKG_SCNS"]
[null,null,null,null,null,null,null,{"$f":"IFERROR(IFERROR(VLOOKUP(D101,Surcharge!A:B,2,FALSE)*F101, VLOOKUP(D101 & \"\",Surcharge!A:B,2,FALSE)*F101), \"\")","v":""}]
[null,null,null,null,null,{"$f":"SUM(#REF!)","v":{"$error":"#REF!"}}]
[]
[null,"Custom Solution--write in description, qty, price, and PN if applicable",null,null,null,{"$f":"SUM(F105)","v":0}]
[null,null,null,null,"Insert Prices Here",{"$f":"SUM(F106:F109)","v":0}]
[null,null,null,"Custom",null,{"$f":"IF(E106 <> \"\", 1, 0)","v":0},{"$f":"F106*E106","v":0}]
[null,null,null,"Custom",null,{"$f":"IF(E107 <> \"\", 1, 0)","v":0},{"$f":"F107*E107","v":0}]
[null,null,null,"Custom",null,{"$f":"IF(E108 <> \"\", 1, 0)","v":0},{"$f":"F108*E108","v":0}]
[null,null,null,"Custom",null,{"$f":"IF(E109 <> \"\", 1, 0)","v":0},{"$f":"F109*E109","v":0}]
[null,null,null,null,{"$f":"ROUND(SUM(G41:G109), 0)","v":0},{"$f":"SUM(E111)","v":0}]
[null,null,null,"Machine Subtotal ",{"$f":"ROUND(SUM(G41:G109), 0)","v":0},{"$f":"F110","v":0}]
[null,"Discounts",null,null,null,{"$f":"SUM(F113)","v":0}]
[null,null,null,null,null,{"$f":"SUM(F114:F117)","v":0}]
[null,null,null,"Discount %",null,{"$f":"IF(E114 <> \"\", 1, 0)","v":0},{"$f":"IF(F114*(E114*0.01)*E110 < 0, F114*(E114*0.01)*E110, -(F114*(E114*0.01)*E110))","v":0}]
[null,null,null,"Discount $",null,{"$f":"IF(E115 <> \"\", 1, 0)","v":0},{"$f":"IF(F115*E115 < 0, F115*E115, -(F115*E115))","v":0}]
[null,null,null,"Discount $",null,{"$f":"IF(E116 <> \"\", 1, 0)","v":0},{"$f":"IF(F116*E116 < 0, F116*E116, -(F116*E116))","v":0}]
[null,null,null,"Discount $",null,{"$f":"IF(E117 <> \"\", 1, 0)","v":0},{"$f":"IF(F117*E117 < 0, F117*E117, -(F117*E117))","v":0}]
[null,null,null,"Discount Total ",{"$f":"SUM(G114:G117)","v":0},{"$f":"SUM(E118)","v":0}]
[null,null,null,null,null,{"$f":"#REF!","v":{"$error":"#REF!"}}]
[null,null,"Prepaid and Add","Freight",null,{"$f":"IF(E120 <> \"\", 1, 0)","v":0},{"$f":"F120*E120","v":0}]
[null,null,"Subject to all applicable taxes","Tax",null,{"$f":"IF(E121 <> \"\", 1, 0)","v":0},{"$f":"F121*E121","v":0}]
[null,null,null,null,null,{"$f":"SUM(F123)","v":0}]
[null,null,null,"            MACHINE TOTAL*",null,{"$f":"SUM(G123)","v":0},{"$f":"SUM(G41:G121)","v":0},null,null,null,null,null,null,"This goes to \"My Documents\""]
[null,null,null,null,null,null,{"$f":"G123","v":0}]
[null,"Financing"]
[]
[null,null,"Is customer interested in financing?","Yes"]
[]
[null,null,"If not, why?"]
[]
[]
[null,null,"First Western Equipment Finance - Leasing Calculation Option:","Option 1",null,"Option 2",null,null,null,{"$f":"Financing!A38","v":"Rates 2025 - Rev. 5/6/2025"}]
[null,null,null,"Monthly Payment","Cost Per Day","Monthly Payment","Cost Per Day",null,null,{"$f":"Financing!A39","v":"“Blank Payment Amounts Indicate The Financing Option Or Purchase Options Selected Are Not "}]
[null,null,"Purchase Option:","FWEF:  $1 Buyout Lease",null,"FWEF: Municipal Lease",null,null,null,{"$f":"Financing!A40","v":"Applicable Or The Machine Total Is Below The Minimum Amount For The Selected Vendor”"}]
[null,null,"24 Months",0,0,0,0,null,null,{"$f":"Financing!A41","v":"\"Quoted monthly payments are estimates only and are based on a certain level of credit rating."}]
[null,null,"30 Months",0,0,0,0,null,null,{"$f":"Financing!A42","v":"Actual monthly payments may be higher depending on your credit rating.\""}]
[null,null,"36 Months",0,0,0,0,null,null,{"$f":"Financing!A43","v":"“Financing rates do not include Pre-Paid Service”"}]
[null,null,"48 Months",0,0,0,0]
[]
[null,null,null,"Benefits of Equipment Financing:"]
[null,null,null,"• Spreads out investment over time.",null,"• Keep current with latest technology."]
[null,null,null,"• Preserve capital.",null,"• Service and parts bundling available."]
[null,null,null,"• Low monthly payment.",null,"• Pay for labor savings as you go."]
[]
[]
[null,null,"Bundled Offerings","Flexclean – Fair Market Value",null,"Flexclean - $1 Buyout"]
[null,null,"FlexClean: ","36 Month Term",null,"36 Month Term",null,null,"No","AB Brushes"]
[null,null,"Hours included per Month:","Gold","Silver","Gold","Silver","Check"]
[null,null,"< 30/mo. (Avg. 1hr./day)",null,null,null,null,null,{"$f":"FlexCleanCalc!$A21","v":"“FlexClean monthly rates include payment for both machine and service.”"}]
[null,null,"< 60/mo. (Avg. 2hrs./day)"]
[null,null,"< 90/mo. (Avg. 3hrs./day)"]
[null,null,"*This value assumes one service contract regardless of the number of UNITS included in the quote"]
[]
[]
[null,null,"Bundled Offerings","Flexclean – Fair Market Value",null,"Flexclean - $1 Buyout"]
[null,null,"FlexClean 2: ","48 Month Term",null,"48 Month Term"]
[null,null,"Hours included per Month:","Gold","Silver","Gold","Silver"]
[null,null,"< 30/mo. (Avg. 1hr./day)"]
[null,null,"< 60/mo. (Avg. 2hrs./day)"]
[null,null,"< 90/mo. (Avg. 3hrs./day)"]
[null,null,"*This value assumes one service contract regardless of the number of UNITS included in the quote"]
[]
[null,null,"Bundled Offerings","Flexclean – Fair Market Value",null,"Flexclean - $1 Buyout"]
[null,null,"FlexClean 3: ","60 Month Term",null,"60 Month Term"]
[null,null,"Hours included per Month:","Gold","Silver","Gold","Silver"]
[null,null,"< 30/mo. (Avg. 1hr./day)"]
[null,null,"< 60/mo. (Avg. 2hrs./day)"]
[null,null,"< 90/mo. (Avg. 3hrs./day)"]
[null,null,"*This value assumes one service contract regardless of the number of UNITS included in the quote"]
[]
[null,"  TennantTrue"]
[]
[null,null,"Is customer interested in service program?","Yes","*State/County selection required for TennantTrue service options"]
[]
[null,null,"If not, why?"]
[]
[null,null,"Term:",36,null,"AB Brushes","No"]
[null,null,"Monthly machine usage (hrs):","< 30/mo. (Avg. 1hr./day)"]
[]
[null,null,"TennantTrue: ","Gold Contract",null,"Silver Contract"]
[null,null,"Per Visit",null,null,501]
[null,null,"Monthly",173,null,88]
[null,null,"Annually",null,null,1035]
[null,null,"Pre-Pay Full Term",5964,null,3042]
[null,null,"Hourly Labor Rate"]
[null,null,"Site Visit"]
[]
[null,null,"* Verify customer current pricing prior to quote. "]
[null,null,"**All rates and fees above reflect service for one (1) unit with the exception of Block of Time service."]
[null,null,"*Block of Time is available in 1 Year Term only and is priced as such no matter the term selection on this template."]
[]
[]
[]
[null,"Servicing"]
[]
[null,null,"Is customer interested in a service plan?","No"]
[]
[null,null,"If not, why?"]
[]
[]
[null,null,"Quote Special Instructions:"]
[]
[]
[null,null,{"$f":"Start_Here!E36","v":"Terms and Conditions"}]
[null,null,{"$f":"Start_Here!E37","v":"Ask your local sales rep for estimated lead times. Verify when placing order"}]
[null,null,{"$f":"Start_Here!E38","v":"All orders subject to acceptance by Tennant Sales and Service Company, Minneapolis, Minnesota"}]
[null,null,{"$f":"Start_Here!E39","v":"Prices subject to change without notice."}]
[null,null,{"$f":"Start_Here!E40","v":"Terms:  Net 30 days.  Subject to any applicable taxes."}]
[null,null,{"$f":"Start_Here!E41","v":"Freight: Machines and accessory orders delivered FOB shipping point Frt PPD & Add"}]
[null,null,{"$f":"Start_Here!E42","v":"Parts, supplies, detergents and floor treating material orders delivered FOB "}]
[null,null,{"$f":"Start_Here!E43","v":"shipping point Frt PPD"}]
[null,null,{"$f":"Start_Here!E44","v":"All orders are subject to Tennant’s General Terms and Conditions available at http://www.tennantco.com/terms."}]
[null,null,{"$f":"Start_Here!E45","v":"Printed General Terms and Conditions are also available upon request."}]
[null,null,{"$f":"Start_Here!E46","v":0}]
[]
[null,null,null,null,"Quote Date :",null,{"$f":"Letter!$A$25","v":"2020-09-17"}]
["Order Placement Information:  To place your order, fill in PO# and customer signatures,"]
["call or fax to the numbers listed below. Customer Purchase Order is required."]
["If information is missing, orders will be entered and held until all information is received."]
[null,null,"Customer Number",null,"Cust Grp 3"]
[null,null,{"$f":"Start_Here!$C$25","v":0},null,{"$f":"Start_Here!$C$29","v":0}]
[null,null,{"$f":"Start_Here!$B$18","v":"Who Owns the Machine? (Sold-To Info) (Please Verify)"}]
["Company",null,{"$f":"Start_Here!$C$19","v":"Company Name"}]
["Address",null,{"$f":"Start_Here!$C$20","v":"Address"}]
[null,null,{"$f":"Start_Here!$C$21","v":"City, State Zip"}]
["Name",null,{"$f":"Start_Here!$C$22","v":"Contact Name"}]
["Phone",null,{"$f":"Start_Here!$C$23","v":"Contact Phone"}]
[null,null,{"$f":"Start_Here!$B$11","v":"Where is the Machine Being Shipped? (Ship-To Info) (Please Verify)"}]
["Company",null,{"$f":"Start_Here!$C$12","v":"Company Name"}]
["Address",null,{"$f":"Start_Here!$C$13","v":"Address"}]
[null,null,{"$f":"Start_Here!$C$14","v":"City, State Zip"}]
["Name",null,{"$f":"Start_Here!$C$15","v":"Contact Name"}]
["Phone",null,{"$f":"Start_Here!$C$16","v":"Contact Phone"}]
[null,null,{"$f":"Start_Here!$B$31","v":"Shipping / Carrier Instructions:"},null,"Order Special Instructions:"]
[null,null,{"$f":"Start_Here!$C$32","v":0}]
[]
[null,null,"Customer Purchase Order No."]
[null,null,"(please attach copy)"]
[]
[]
[null,null,"Tax Exempt",null,"Yes"]
[null,null,null,null,"No"]
[null,null,"If Yes, attach a copy of your exemption certificate."]
[]
[null,null,"Requested Delivery Date"]
[null,null,{"$f":"Start_Here!$C$28","v":0}]
[]
[null,null,{"$f":"Start_Here!$C$26","v":0},null,{"$f":"Start_Here!$C$27","v":0}]
[null,0,"Authorized Buyer (please print)",null,"Phone Number"]
[]
[]
[null,0,"Authorized Buyer Signature"]
[]
[null,null,{"$f":"Start_Here!$C$41","v":"Rep Name"}]
[null,null,"Tennant Representative"]
[]
["Specialized Maintenance Equipment"]
[{"$f":"Start_Here!$C$48","v":"TENNANT · 10400 Clean Street · Eden Prairie, MN 55344 ·"}]
[{"$f":"Start_Here!$C$49","v":" PHONE:800-553-8033 · FAX:763-513-2116"}]
[]
["NOTES:"]
[null,"1A.","ec-H2O NanoCleanTM Equipped Models Include:"]
[null,null,"Electrically Converted Water Technology System"]
[null,null,"Two Scrubbing Modes: ec-H2O NanoCleanTM & Conventional Scrubbing"]
[]
[null,2,"Customer MUST order Skid w/Carton, Non-Stackable if WITHOUT BATTERY is selected.  Continental USA  "]
[null,null,"orders ONLY."]
[null,null,"In order to obtain the IRIS Battery Metrics, one of the listed Tennant supplied batteries is required."]
[]
[null,3,"Only available on wet batteries, not sealed."]
[]
[null,4,"27A 100-240V AC 50/60Hz 1Ph - Off-Board Charger is required to receive IRIS Battery Metrics."]
[]
[null,5,"One set of brushes or pad drivers come standard with a T7."]
[]
[null,6,"Additional hard copy Operator and Parts Manuals can be ordered or digital copies can be downloaded from www.Tennantco.com."]
[]
[null,7,"Pre-Paid and Monthly Packages are available for the IRIS Information Service."]
[null,null,"IRIS Module is required and NOT included in the price of the IRIS Information Service:"]
[null,null,"3 Year Pre-Paid IRIS Information Service",250]
[null,null,"5 Year Pre-Paid IRIS Information Service",400]
[null,null,"A monthly contract can be set up at $10 per month w/ 12 month minimum commitment."]
[null,null,"IRIS Telemetry Module only covers the price of the hardware. "]
[null,null,"IRIS Telemetry requires an IRIS Telemetry Module and an IRIS Information Service Package."]
[null,null,"27A 100-240V AC 50/60Hz 1Ph - Off-Board Charger and a compatible Tennant supplied battery is required to receive IRIS Battery Manager."]
[null,null,"Availability of IRIS Battery Metrics is not guaranteed with third party supplied batteries."]
[]
[null,8,"Pad wrap available only in the Continental US and is the default packaging method."]
[null,null,"Customer MUST order Skid w/Carton, Non-Stackable if WITHOUT BATTERY is selected."]
[null,null,"Skid w/Carton, Non-Stackable is mandatory when shipping to AK and HI.  Packaging is added at No Charge when shipping"]
[null,null,"to these locations."]
[]
[null,9,"Shipping Weights and Dimentions","Pad Wrap","Skid w/Carton"]
[]
[null,null,"Weight (with 235AH batteries)","975 lbs / 443 kg","1000 lbs / 454 kg"]
[null,null,"Length","60\" / 1,524mm","62\" / 1,574mm"]
[null,null,"Width","39\" / 991mm","33\" / 838mm"]
[null,null,"Height","50\" / 1,270","48\" / 1,219mm"]

{"sheet":"T12_Built_to_Order","index":38,"n_rows":371,"n_cols":17,"rows_kept":371,"cut":false,"hidden":false,"merged":[[192,3,192,4],[192,5,192,6],[175,3,175,6],[178,3,178,4],[178,5,178,6],[180,3,180,4],[180,5,180,6],[41,2,41,6],[36,2,36,6],[37,2,37,6],[38,2,38,6],[39,2,39,6],[40,2,40,6],[63,2,63,3],[0,2,0,3],[1,2,1,3],[2,2,2,3],[3,2,3,3],[11,2,11,3],[243,3,244,6],[247,2,247,6],[268,2,268,5],[219,4,219,8],[221,3,221,6],[223,3,223,4],[224,3,224,4],[230,3,230,4],[230,5,230,6],[266,4,266,7],[231,3,231,4],[231,5,231,6],[232,3,232,4],[232,5,232,6],[226,3,226,4],[226,5,226,6],[210,3,210,4],[210,5,210,6],[201,3,201,4],[201,5,201,6],[193,3,193,4],[202,3,202,4],[202,5,202,6],[209,3,209,4],[209,5,209,6],[193,5,193,6],[293,4,293,5],[276,2,276,5],[277,2,277,5],[278,2,278,5],[280,4,280,7],[274,2,274,5],[284,2,284,5],[275,2,275,5],[269,2,269,5],[271,2,271,5],[270,2,270,5],[272,2,272,5],[227,3,227,4],[227,5,227,6],[228,3,228,4],[228,5,228,6],[229,3,229,4],[229,5,229,6]]}
["T12_Built_to_Order",null,{"$f":"Start_Here!$C19","v":"Company Name"}]
[{"$f":"SUM(G170)","v":0},null,{"$f":"Start_Here!$C20","v":"Address"}]
[null,null,{"$f":"Start_Here!$C21","v":"City, State Zip"}]
[null,null,{"$f":"Start_Here!$C22","v":"Contact Name"}]
[null,null,{"$f":"Start_Here!$C$41","v":"Rep Name"}]
[null,null,{"$f":"Start_Here!$C$37","v":"Tennant Sales and Service Company"}]
[null,null,{"$f":"Start_Here!$C$38","v":"10400 Clean Street"}]
[null,null,{"$f":"Start_Here!$C$39","v":"Eden Prairie, MN 55344"}]
[null,null,{"$f":"Start_Here!$C$43","v":"800-553-8033"},null,"Quote Date :",null,{"$f":"Letter!$A$25","v":"2020-09-17"}]
[]
[null,null,{"$f":"Help!C2","v":"US Date Rev - 5/6/2025"}]
[null,null,"                     BUILT-IN \"TENNANT VALUE\" INCLUDES:"]
[]
[null,null,"Wet, 240 AH C/20 Battery Pack","No Tool Squeegee and Brush Change"]
[null,null,"20 Amp, 115 Volt 60 Hz Charger","In-Line Vacuum Fan Air Filter"]
[null,null,"Two Speed Electronic Transmission with AC Propel Motor","High Visibility Maintenance Touch Points"]
[null,null,"Disk or Cylindrcial Scrubbing - 32 in (800 mm) path","Underwriters Laboratory (UL®) \"E\" Certification"]
[null,null,"Standard Cylindrical or Disk Scrubbing Brushes (Select One)","Cup Holder"]
[null,null,"Non-Corrosive Duramer™ Solution and Recovery Tanks","Operator Manual and Video"]
[null,null,"35 gal (132 L) Solution Tank","Front and Rear Non-Marking Tires "]
[null,null,"44 gal (166 L) Recovery Tank"]
[null,null,"9 gal (34 L) Demisting Chamber","T12 Controls:"]
[null,null,"Parabolic Rear Squeegee w/SmartRelease™ Breakaway System","   1-Step™ One-Button Scrub Operation"]
[null,null,"Automatic Functions:","3 Down-Pressure Settings"]
[null,null,"     - Parking Brake","On Board Diagnostics"]
[null,null,"     - Squeegee Lift","Water Shutoff Switch"]
[null,null,"     - Water Shutoff"]
[null,null,"     - Brush Shutoff When Idle","T12 XP Only Controls and Features:"]
[null,null,"     - Brush Shutoff at 80% Battery Discharge","T12 Controls, plus"]
[null,null,null,"Steering Wheel Mounted, Touch-N-GO Control Module (XP Only)"]
[null,null,null,"AV Back Up Alarm w/Strobe Light"]
[null,null,null,"Water Shutoff Thumb Switch on Control Module"]
[null,null,null,"Head and Tail Lights"]
[null,null,null,"Deluxe Seat with Arm Rests"]
[]
[]
[null,null,"TENNANT COMPANY WARRANTY"]
[null,null,"36 MONTHS OR 2000 HOURS - PARTS"]
[null,null,"24 MONTHS - LABOR"]
[null,null,"6 MONTHS - TRAVEL"]
[null,null,"10 YEARS ON DURAMERTM TANKS"]
[null,null,"CUSTOM options may add 1 week or more to standard lead times."]
[]
[]
[]
[]
[]
[null,null,null,null,"                Quote Request Information"]
[null,null,null,null,null,null,"Fax (quote only)"]
[null,null,null,null,null,null,"Mail (quote,lit, specs)"]
[null,null,null,null,null,null,"Fax + Mail"]
[]
[null,null,null,null,"                Primary Use"]
[null,null,null,null,null,null,"Inside"]
[null,null,null,null,null,null,"Outside"]
[]
[null,"Base Configuration",null,"Reference #"," Price Each US","Qty","Extended Price"]
[null,null,"Cleaning Type",null,null,{"$f":"SUM(F59:F62)","v":0}]
[null,null,"T12 Rider - Conventional Disk Scrubbing","T12-D",30272,null,{"$f":"F59*E59","v":0},{"$f":"IFERROR(IFERROR(VLOOKUP(D59,Surcharge!A:B,2,FALSE)*F59, VLOOKUP(D59 & \"\",Surcharge!A:B,2,FALSE)*F59), \"\")","v":0},null,null,null,{"$f":"SUM(F59)","v":0},"Surcharge Qty",null,null,{"$f":"VLOOKUP(Q59,'MPF SAP Download'!A:E,5,FALSE)","v":27493},"M-T12VK_BASE_T12-D"]
[null,null,"T12 Rider - Conventional Cylindrical Scrubbing","T12-C",31112,null,{"$f":"F60*E60","v":0},{"$f":"IFERROR(IFERROR(VLOOKUP(D60,Surcharge!A:B,2,FALSE)*F60, VLOOKUP(D60 & \"\",Surcharge!A:B,2,FALSE)*F60), \"\")","v":0},null,null,null,null,null,null,null,{"$f":"VLOOKUP(Q60,'MPF SAP Download'!A:E,5,FALSE)","v":28256},"M-T12VK_BASE_T12-C"]
[null,null,"T12 XP Rider - Conventional Disk Scrubbing","T12-XP-D",32935,null,{"$f":"F61*E61","v":0},{"$f":"IFERROR(IFERROR(VLOOKUP(D61,Surcharge!A:B,2,FALSE)*F61, VLOOKUP(D61 & \"\",Surcharge!A:B,2,FALSE)*F61), \"\")","v":0},null,null,null,null,null,null,null,{"$f":"VLOOKUP(Q61,'MPF SAP Download'!A:E,5,FALSE)","v":29912},"M-T12VK_BASE_T12-XP-D"]
[null,null,"T12 XP Rider - Conventional Cylindrical Scrubbing","T12-XP-C",33778,null,{"$f":"F62*E62","v":0},{"$f":"IFERROR(IFERROR(VLOOKUP(D62,Surcharge!A:B,2,FALSE)*F62, VLOOKUP(D62 & \"\",Surcharge!A:B,2,FALSE)*F62), \"\")","v":0},null,null,null,{"$f":"SUM(F62)","v":0},"Surcharge Qty",null,null,{"$f":"VLOOKUP(Q62,'MPF SAP Download'!A:E,5,FALSE)","v":30678},"M-T12VK_BASE_T12-XP-C"]
[null,null,null,null,null,null,null,{"$f":"IFERROR(IFERROR(VLOOKUP(D63,Surcharge!A:B,2,FALSE)*F63, VLOOKUP(D63 & \"\",Surcharge!A:B,2,FALSE)*F63), \"\")","v":""}]
[null,null,"Cleaning Technology: (conventional is standard, ec-H2O can also operate in conventional mode) Note ",null,null,{"$f":"SUM(F65:F65)","v":0},null,{"$f":"IFERROR(IFERROR(VLOOKUP(D64,Surcharge!A:B,2,FALSE)*F64, VLOOKUP(D64 & \"\",Surcharge!A:B,2,FALSE)*F64), \"\")","v":""}]
[null,null,"ec-H2O™","ec-H2O-T12",4241,null,{"$f":"F65*E65","v":0},{"$f":"IFERROR(IFERROR(VLOOKUP(D65,Surcharge!A:B,2,FALSE)*F65, VLOOKUP(D65 & \"\",Surcharge!A:B,2,FALSE)*F65), \"\")","v":""},null,null,null,null,null,null,null,{"$f":"VLOOKUP(Q65,'MPF SAP Download'!A:E,5,FALSE)","v":3851},"M-T12VK_CLNTCH_ECH2O"]
[null,null,null,null,null,null,null,{"$f":"IFERROR(IFERROR(VLOOKUP(D66,Surcharge!A:B,2,FALSE)*F66, VLOOKUP(D66 & \"\",Surcharge!A:B,2,FALSE)*F66), \"\")","v":""}]
[null,null,"Squeegee Material ",null,null,{"$f":"SUM(F68:F70)","v":0},null,{"$f":"IFERROR(IFERROR(VLOOKUP(D67,Surcharge!A:B,2,FALSE)*F67, VLOOKUP(D67 & \"\",Surcharge!A:B,2,FALSE)*F67), \"\")","v":""}]
[null,null,"Linatex",9009818,"N/C",null,{"$f":"IF(F68=0,\" \",\"N/C\")","v":" "},{"$f":"IFERROR(IFERROR(VLOOKUP(D68,Surcharge!A:B,2,FALSE)*F68, VLOOKUP(D68 & \"\",Surcharge!A:B,2,FALSE)*F68), \"\")","v":""},null,null,null,{"$f":"SUM(F68)","v":0},"Surcharge Qty",null,null,{"$f":"VLOOKUP(Q68,'MPF SAP Download'!A:E,5,FALSE)","v":"N/C"},"M-T12VK_SQEMAT_L"]
[null,null,"Gum Rubber",9009822,"N/C",null,{"$f":"IF(F69=0,\" \",\"N/C\")","v":" "},{"$f":"IFERROR(IFERROR(VLOOKUP(D69,Surcharge!A:B,2,FALSE)*F69, VLOOKUP(D69 & \"\",Surcharge!A:B,2,FALSE)*F69), \"\")","v":""},null,null,null,null,null,null,null,{"$f":"VLOOKUP(Q69,'MPF SAP Download'!A:E,5,FALSE)","v":"N/C"},"M-T12VK_SQEMAT_G"]
[null,null,"Urethane",9009820,"N/C",null,{"$f":"IF(F70=0,\" \",\"N/C\")","v":" "},{"$f":"IFERROR(IFERROR(VLOOKUP(D70,Surcharge!A:B,2,FALSE)*F70, VLOOKUP(D70 & \"\",Surcharge!A:B,2,FALSE)*F70), \"\")","v":""},null,null,null,null,null,null,null,{"$f":"VLOOKUP(Q70,'MPF SAP Download'!A:E,5,FALSE)","v":"N/C"},"M-T12VK_SQEMAT_U"]
[null,null,null,null,null,null,null,{"$f":"IFERROR(IFERROR(VLOOKUP(D71,Surcharge!A:B,2,FALSE)*F71, VLOOKUP(D71 & \"\",Surcharge!A:B,2,FALSE)*F71), \"\")","v":""}]
[null,null,"Battery Type (Notes 1-5)",null,null,{"$f":"SUM(F73:F81)","v":0},null,{"$f":"IFERROR(IFERROR(VLOOKUP(D72,Surcharge!A:B,2,FALSE)*F72, VLOOKUP(D72 & \"\",Surcharge!A:B,2,FALSE)*F72), \"\")","v":""}]
[null,null,"Wet 240 AH C/20  (Kit of 6 batteries)",9009862,"N/C",null,{"$f":"IF(F73=0,\" \",\"N/C\")","v":" "},{"$f":"IFERROR(IFERROR(VLOOKUP(D73,Surcharge!A:B,2,FALSE)*F73, VLOOKUP(D73 & \"\",Surcharge!A:B,2,FALSE)*F73), \"\")","v":""},null,null,null,null,null,null,null,{"$f":"VLOOKUP(Q73,#REF!,5,FALSE)","v":{"$error":"#REF!"}},"M-T12VK_BTY_W240C20"]
[null,null,"Wet 360 AH C/20 (in lieu of standard)  (Kit of 6 batteries)",9009863,1167,null,{"$f":"F74*E74","v":0},{"$f":"IFERROR(IFERROR(VLOOKUP(D74,Surcharge!A:B,2,FALSE)*F74, VLOOKUP(D74 & \"\",Surcharge!A:B,2,FALSE)*F74), \"\")","v":""},null,null,null,null,null,null,null,{"$f":"VLOOKUP(Q74,'MPF SAP Download'!A:E,5,FALSE)","v":1059},"M-T12VK_BTY_W360C20"]
[null,null,"Sealed/MF AGM 350AH C/6  (Kit of 6 batteries)",325988,5029,null,{"$f":"F75*E75","v":0},{"$f":"IFERROR(IFERROR(VLOOKUP(D75,Surcharge!A:B,2,FALSE)*F75, VLOOKUP(D75 & \"\",Surcharge!A:B,2,FALSE)*F75), \"\")","v":""},null,null,null,null,null,null,null,{"$f":"VLOOKUP(Q75,'MPF SAP Download'!A:E,5,FALSE)","v":4567},"M-T12VK_BTY_A312C20"]
[null,null,"Li-Ion 160 AH (Kit of 2 batteries) (Note 6A)",9023273,4987,null,{"$f":"F76*E76","v":0}]
[null,null,"Li-Ion 240 AH (Kit of 3 batteries) (Note 6A)",9023274,7480,null,0]
[null,null,"Li-Ion 320 AH (Kit of 4 batteries) (Note 6A)",9023275,9973,null,0]
[null,null,"Less Battery, DEDUCT (Note 6) ",null,-495,null,{"$f":"F79*E79","v":0},{"$f":"IFERROR(IFERROR(VLOOKUP(D79,Surcharge!A:B,2,FALSE)*F79, VLOOKUP(D79 & \"\",Surcharge!A:B,2,FALSE)*F79), \"\")","v":""},null,null,null,null,null,null,null,{"$f":"VLOOKUP(Q79,'MPF SAP Download'!A:E,5,FALSE)","v":-495},"M-T12VK_BTY_WO"]
[null,null,null,null,null,null,null,{"$f":"IFERROR(IFERROR(VLOOKUP(D80,Surcharge!A:B,2,FALSE)*F80, VLOOKUP(D80 & \"\",Surcharge!A:B,2,FALSE)*F80), \"\")","v":""}]
[null,null,"Manual Battery Watering Kit  (Note 7)",9009620,805,null,{"$f":"F81*E81","v":0},{"$f":"IFERROR(IFERROR(VLOOKUP(D81,Surcharge!A:B,2,FALSE)*F81, VLOOKUP(D81 & \"\",Surcharge!A:B,2,FALSE)*F81), \"\")","v":""},null,null,null,null,null,null,null,{"$f":"VLOOKUP(Q81,'MPF SAP Download'!A:E,5,FALSE)","v":730},"M-T12VK_BTYWTRSYS"]
[null,null,null,null,null,null,null,{"$f":"IFERROR(IFERROR(VLOOKUP(D82,Surcharge!A:B,2,FALSE)*F82, VLOOKUP(D82 & \"\",Surcharge!A:B,2,FALSE)*F82), \"\")","v":""}]
[null,null,"Charger  (Note 8)","Reference Number",null,{"$f":"SUM(F84:F89)","v":0},null,{"$f":"IFERROR(IFERROR(VLOOKUP(D83,Surcharge!A:B,2,FALSE)*F83, VLOOKUP(D83 & \"\",Surcharge!A:B,2,FALSE)*F83), \"\")","v":""}]
[null,null,"21A 85-265V AC 50/60Hz 1Ph - Off-Board (for 240AH Battery)",9001051,"N/C",null,{"$f":"IF(F84=0,\" \",\"N/C\")","v":" "},{"$f":"IFERROR(IFERROR(VLOOKUP(D84,Surcharge!A:B,2,FALSE)*F84, VLOOKUP(D84 & \"\",Surcharge!A:B,2,FALSE)*F84), \"\")","v":""},null,null,null,null,null,null,null,{"$f":"VLOOKUP(Q84,'MPF SAP Download'!A:E,5,FALSE)","v":"N/C"},"M-T12VK_CHG_21A85V5060H1P"]
[null,null,"21A 85-265V AC 50/60Hz 1Ph - Off-Board (for 360AH Battery)",9004241,"N/C",null,{"$f":"IF(F85=0,\" \",\"N/C\")","v":" "},{"$f":"IFERROR(IFERROR(VLOOKUP(D85,Surcharge!A:B,2,FALSE)*F85, VLOOKUP(D85 & \"\",Surcharge!A:B,2,FALSE)*F85), \"\")","v":""},null,null,null,null,null,null,null,{"$f":"VLOOKUP(Q85,'MPF SAP Download'!A:E,5,FALSE)","v":"N/C"},"M-T12VK_CHG_21A85V5060H1P"]
[null,null,"20A 85-130V AC 50/60Hz 1Ph - On-Board (for all Lead Acid)",9009865,890,null,{"$f":"F86*E86","v":0},null,null,null,null,null,null,null,null,{"$f":"VLOOKUP(Q86,'MPF SAP Download'!A:E,5,FALSE)","v":807},"M-T12VK_CHG_20A85V5060H1P"]
[null,null,"21A 85-265V AC 50/60Hz 1Ph - Off-Board (for AGM 350AH Battery)",314787,807,null,{"$f":"F87*E87","v":0},{"$f":"IFERROR(IFERROR(VLOOKUP(D87,Surcharge!A:B,2,FALSE)*F87, VLOOKUP(D87 & \"\",Surcharge!A:B,2,FALSE)*F87), \"\")","v":""},null,null,null,null,null,null,null,{"$f":"VLOOKUP(Q87,'MPF SAP Download'!A:E,5,FALSE)","v":732},"M-T12VK_CHG_21A85V5060H1PA312"]
[null,null,"33A 100-240V AC 50/60Hz 1Ph- Off-board (for All Lithium-Ion)",9023334,525,null,{"$f":"F88*E88","v":0}]
[null,null,"Less Charger, DEDUCT",null,-323,null,{"$f":"F89*E89","v":0},{"$f":"IFERROR(IFERROR(VLOOKUP(D89,Surcharge!A:B,2,FALSE)*F89, VLOOKUP(D89 & \"\",Surcharge!A:B,2,FALSE)*F89), \"\")","v":""},null,null,null,null,null,null,null,{"$f":"VLOOKUP(Q89,'MPF SAP Download'!A:E,5,FALSE)","v":-323},"M-T12VK_CHG_WO"]
[null,null,null,null," ",null,null,{"$f":"IFERROR(IFERROR(VLOOKUP(D90,Surcharge!A:B,2,FALSE)*F90, VLOOKUP(D90 & \"\",Surcharge!A:B,2,FALSE)*F90), \"\")","v":""},null,null,null,null,null,null,null,null,""]
[null,null,"UL Rating ",null," ",{"$f":"SUM(F92:F93)","v":0},null,{"$f":"IFERROR(IFERROR(VLOOKUP(D91,Surcharge!A:B,2,FALSE)*F91, VLOOKUP(D91 & \"\",Surcharge!A:B,2,FALSE)*F91), \"\")","v":""},null,null,null,null,null,null,null,null,""]
[null,null,"UL® Type E",null,"N/C",null,{"$f":"IF(F92=0,\" \",\"N/C\")","v":" "},{"$f":"IFERROR(IFERROR(VLOOKUP(D92,Surcharge!A:B,2,FALSE)*F92, VLOOKUP(D92 & \"\",Surcharge!A:B,2,FALSE)*F92), \"\")","v":""},null,null,null,null,null,null,null,{"$f":"VLOOKUP(Q92,'MPF SAP Download'!A:E,5,FALSE)","v":{"$error":"#N/A"}},"M-T12"]
[null,null,"UL® Type ES",9009908,3084,null,{"$f":"F93*E93","v":0},{"$f":"IFERROR(IFERROR(VLOOKUP(D93,Surcharge!A:B,2,FALSE)*F93, VLOOKUP(D93 & \"\",Surcharge!A:B,2,FALSE)*F93), \"\")","v":""},null,null,null,null,null,null,null,{"$f":"VLOOKUP(Q93,'MPF SAP Download'!A:E,5,FALSE)","v":2800},"M-T12VK_ULERTG_ES"]
[null,"Packages",null,null," ",{"$f":"SUM(F95:F99)","v":0},null,{"$f":"IFERROR(IFERROR(VLOOKUP(D94,Surcharge!A:B,2,FALSE)*F94, VLOOKUP(D94 & \"\",Surcharge!A:B,2,FALSE)*F94), \"\")","v":""},null,null,null,null,null,null,null,null,""]
[null,null,"Heavy Duty Protection Package",9009854,1628,null,{"$f":"F95*E95","v":0},{"$f":"IFERROR(IFERROR(VLOOKUP(D95,Surcharge!A:B,2,FALSE)*F95, VLOOKUP(D95 & \"\",Surcharge!A:B,2,FALSE)*F95), \"\")","v":""},null,null,null,null,null,null,null,{"$f":"VLOOKUP(Q95,'MPF SAP Download'!A:E,5,FALSE)","v":1478},"M-T12VK_HVYDTYPRTPKG_Y"]
[null,null,"Includes:  Front Bumper & Rear Squeegee Protection",null,null,{"$f":"SUM(F95)","v":0},null,{"$f":"IFERROR(IFERROR(VLOOKUP(D96,Surcharge!A:B,2,FALSE)*F96, VLOOKUP(D96 & \"\",Surcharge!A:B,2,FALSE)*F96), \"\")","v":""},null,null,null,null,null,null,null,null,""]
[null,null,"Productivity Package",9009855,5750,null,{"$f":"F97*E97","v":0},{"$f":"IFERROR(IFERROR(VLOOKUP(D97,Surcharge!A:B,2,FALSE)*F97, VLOOKUP(D97 & \"\",Surcharge!A:B,2,FALSE)*F97), \"\")","v":""},null,null,null,null,null,null,null,{"$f":"VLOOKUP(Q97,'MPF SAP Download'!A:E,5,FALSE)","v":5221},"M-T12VK_PRDPKG_Y"]
[null,null,"Includes:  Scrubbing Side Brush, Vac Wand, Spray Hose",null,null,{"$f":"SUM(F97)","v":0},null,{"$f":"IFERROR(IFERROR(VLOOKUP(D98,Surcharge!A:B,2,FALSE)*F98, VLOOKUP(D98 & \"\",Surcharge!A:B,2,FALSE)*F98), \"\")","v":""},null,null,null,null,null,null,null,null,""]
[null,null,"Safety Light Package",9009909,937,null,{"$f":"F99*E99","v":0},{"$f":"IFERROR(IFERROR(VLOOKUP(D99,Surcharge!A:B,2,FALSE)*F99, VLOOKUP(D99 & \"\",Surcharge!A:B,2,FALSE)*F99), \"\")","v":""},null,null,null,null,null,null,null,{"$f":"VLOOKUP(Q99,'MPF SAP Download'!A:E,5,FALSE)","v":850},"M-T12VK_SFYLGTPKG_Y"]
[null,null,"Includes:  LED Head Light and AV Backup Alarm w/Strobe Light",null,null,{"$f":"SUM(F99)","v":0},null,{"$f":"IFERROR(IFERROR(VLOOKUP(D100,Surcharge!A:B,2,FALSE)*F100, VLOOKUP(D100 & \"\",Surcharge!A:B,2,FALSE)*F100), \"\")","v":""}]
[null,null,null,null," ",null,null,{"$f":"IFERROR(IFERROR(VLOOKUP(D101,Surcharge!A:B,2,FALSE)*F101, VLOOKUP(D101 & \"\",Surcharge!A:B,2,FALSE)*F101), \"\")","v":""},null,null,null,null,null,null,null,null,""]
[null,"Cleaning Performance",null,"Reference Number"," ",{"$f":"SUM(F103:F105)","v":0},null,{"$f":"IFERROR(IFERROR(VLOOKUP(D102,Surcharge!A:B,2,FALSE)*F102, VLOOKUP(D102 & \"\",Surcharge!A:B,2,FALSE)*F102), \"\")","v":""},null,null,null,null,null,null,null,null,""]
[null,null,"Side Brush, Right Hand Scrubbing",9009824,4706,null,{"$f":"F103*E103","v":0},{"$f":"IFERROR(IFERROR(VLOOKUP(D103,Surcharge!A:B,2,FALSE)*F103, VLOOKUP(D103 & \"\",Surcharge!A:B,2,FALSE)*F103), \"\")","v":""},null,null,null,null,null,null,null,{"$f":"VLOOKUP(Q103,'MPF SAP Download'!A:E,5,FALSE)","v":4274},"M-T12VK_SDEBRSTYP_SCB"]
[null,null,"Vacuum  Wand",9010355,932,null,{"$f":"F104*E104","v":0},{"$f":"IFERROR(IFERROR(VLOOKUP(D104,Surcharge!A:B,2,FALSE)*F104, VLOOKUP(D104 & \"\",Surcharge!A:B,2,FALSE)*F104), \"\")","v":""},null,null,null,null,null,null,null,{"$f":"VLOOKUP(Q104,'MPF SAP Download'!A:E,5,FALSE)","v":846},"M-T12VK_PWRVACWND_VACWND"]
[null,null,"Spray Nozzle with Hose",9009851,1326,null,{"$f":"F105*E105","v":0},{"$f":"IFERROR(IFERROR(VLOOKUP(D105,Surcharge!A:B,2,FALSE)*F105, VLOOKUP(D105 & \"\",Surcharge!A:B,2,FALSE)*F105), \"\")","v":""},null,null,null,null,null,null,null,{"$f":"VLOOKUP(Q105,'MPF SAP Download'!A:E,5,FALSE)","v":1204},"M-T12VK_SPYNOZHSE_Y"]
[null,null,null,null," ",null,null,{"$f":"IFERROR(IFERROR(VLOOKUP(D106,Surcharge!A:B,2,FALSE)*F106, VLOOKUP(D106 & \"\",Surcharge!A:B,2,FALSE)*F106), \"\")","v":""},null,null,null,null,null,null,null,null,""]
[null,"Machine Protection & Safety",null,null," ",{"$f":"SUM(F108:F115)","v":0},null,{"$f":"IFERROR(IFERROR(VLOOKUP(D107,Surcharge!A:B,2,FALSE)*F107, VLOOKUP(D107 & \"\",Surcharge!A:B,2,FALSE)*F107), \"\")","v":""},null,null,null,null,null,null,null,null,""]
[null,null,"Heavy Duty Front Bumper",9009856,1007,null,{"$f":"F108*E108","v":0},{"$f":"IFERROR(IFERROR(VLOOKUP(D108,Surcharge!A:B,2,FALSE)*F108, VLOOKUP(D108 & \"\",Surcharge!A:B,2,FALSE)*F108), \"\")","v":""},null,null,null,null,null,null,null,{"$f":"VLOOKUP(Q108,'MPF SAP Download'!A:E,5,FALSE)","v":{"$error":"#N/A"}}]
[null,null,"Heavy Duty Squeegee Protection",9009858,788,null,0,{"$f":"IFERROR(IFERROR(VLOOKUP(D109,Surcharge!A:B,2,FALSE)*F109, VLOOKUP(D109 & \"\",Surcharge!A:B,2,FALSE)*F109), \"\")","v":""},null,null,null,null,null,null,null,{"$f":"VLOOKUP(Q109,'MPF SAP Download'!A:E,5,FALSE)","v":715},"M-T12VK_HVYDTYSQEPRT_Y"]
[null,null,"Deluxe Seat (Standard on XP-includes Seat Belt)  (Note 9)",9009835,614,null,0,{"$f":"IFERROR(IFERROR(VLOOKUP(D110,Surcharge!A:B,2,FALSE)*F110, VLOOKUP(D110 & \"\",Surcharge!A:B,2,FALSE)*F110), \"\")","v":""},null,null,null,null,null,null,null,{"$f":"VLOOKUP(Q110,'MPF SAP Download'!A:E,5,FALSE)","v":556},"M-T12VK_SET_DLXW"]
[null,null,"Headlight(s) LED (Standard on XP)",9009849,428,null,0,{"$f":"IFERROR(IFERROR(VLOOKUP(D111,Surcharge!A:B,2,FALSE)*F111, VLOOKUP(D111 & \"\",Surcharge!A:B,2,FALSE)*F111), \"\")","v":""},null,null,null,null,null,null,null,{"$f":"VLOOKUP(Q111,'MPF SAP Download'!A:E,5,FALSE)","v":388},"M-T12VK_HLT_Y"]
[null,null,"AV BU Alarm - Strobe on Tank (Standard on XP)",9010352,722,null,0,{"$f":"IFERROR(IFERROR(VLOOKUP(D112,Surcharge!A:B,2,FALSE)*F112, VLOOKUP(D112 & \"\",Surcharge!A:B,2,FALSE)*F112), \"\")","v":""},null,null,null,null,null,null,null,{"$f":"VLOOKUP(Q112,'MPF SAP Download'!A:E,5,FALSE)","v":655},"M-T12VK_WRNLGTALM_AVST"]
[null,null,"Blue Light  (Note 10)",9020971,1075,null,{"$f":"F113*E113","v":0},null,null,null,null,null,null,null,null,{"$f":"VLOOKUP(Q113,'MPF SAP Download'!A:E,5,FALSE)","v":{"$error":"#N/A"}},"M-T12VK_BLUGT"]
[null,null,"Fire Extinguisher",9009878,368,null,{"$f":"F114*E114","v":0},{"$f":"IFERROR(IFERROR(VLOOKUP(D114,Surcharge!A:B,2,FALSE)*F114, VLOOKUP(D114 & \"\",Surcharge!A:B,2,FALSE)*F114), \"\")","v":""},null,null,null,null,null,null,null,{"$f":"VLOOKUP(Q114,'MPF SAP Download'!A:E,5,FALSE)","v":333},"M-T12VK_FREEXT_Y"]
[null,null,"Trailer Transport Kit (cover latches for trailering)",9009907,208,null,{"$f":"F115*E115","v":0},{"$f":"IFERROR(IFERROR(VLOOKUP(D115,Surcharge!A:B,2,FALSE)*F115, VLOOKUP(D115 & \"\",Surcharge!A:B,2,FALSE)*F115), \"\")","v":""},null,null,null,null,null,null,null,{"$f":"VLOOKUP(Q115,'MPF SAP Download'!A:E,5,FALSE)","v":188},"M-T12VK_TRLTRTKIT_Y"]
[null,null,null,null," ",null,null,{"$f":"IFERROR(IFERROR(VLOOKUP(D116,Surcharge!A:B,2,FALSE)*F116, VLOOKUP(D116 & \"\",Surcharge!A:B,2,FALSE)*F116), \"\")","v":""},null,null,null,null,null,null,null,null,""]
[null,"Brushes and Pads",null,null," ",{"$f":"SUM(F118,F124,F128)","v":0},null,{"$f":"IFERROR(IFERROR(VLOOKUP(D117,Surcharge!A:B,2,FALSE)*F117, VLOOKUP(D117 & \"\",Surcharge!A:B,2,FALSE)*F117), \"\")","v":""},null,null,null,null,null,null,null,null,""]
[null,null,"Disk Scrubbing Brushes/Pads (2 Required)",null," ",{"$f":"SUM(F119:F122)","v":0},null,{"$f":"IFERROR(IFERROR(VLOOKUP(D118,Surcharge!A:B,2,FALSE)*F118, VLOOKUP(D118 & \"\",Surcharge!A:B,2,FALSE)*F118), \"\")","v":""},null,null,null,null,null,null,null,null,""]
[null,null,"Polypropylene Brush",1220241,"N/C",null,{"$f":"IF(F119=0,\" \",\"N/C\")","v":" "},{"$f":"IFERROR(IFERROR(VLOOKUP(D119,Surcharge!A:B,2,FALSE)*F119, VLOOKUP(D119 & \"\",Surcharge!A:B,2,FALSE)*F119), \"\")","v":""},null,null,null,null,null,null,null,{"$f":"VLOOKUP(Q119,'MPF SAP Download'!A:E,5,FALSE)","v":"N/C"},"M-T12VK_DPYP"]
[null,null,"Super Abrasive Brush",1221543,212,null,{"$f":"F120*E120","v":0},{"$f":"IFERROR(IFERROR(VLOOKUP(D120,Surcharge!A:B,2,FALSE)*F120, VLOOKUP(D120 & \"\",Surcharge!A:B,2,FALSE)*F120), \"\")","v":""},null,null,null,null,null,null,null,{"$f":"VLOOKUP(Q120,'MPF SAP Download'!A:E,5,FALSE)","v":192},"M-T12VK_DSAB"]
[null,null,null,null," ",null,null,{"$f":"IFERROR(IFERROR(VLOOKUP(D121,Surcharge!A:B,2,FALSE)*F121, VLOOKUP(D121 & \"\",Surcharge!A:B,2,FALSE)*F121), \"\")","v":""},null,null,null,null,null,null,null,null,""]
[null,null,"Pad Driver",1220244,"N/C",null,{"$f":"IF(F122=0,\" \",\"N/C\")","v":" "},{"$f":"IFERROR(IFERROR(VLOOKUP(D122,Surcharge!A:B,2,FALSE)*F122, VLOOKUP(D122 & \"\",Surcharge!A:B,2,FALSE)*F122), \"\")","v":""},null,null,null,null,null,null,null,{"$f":"VLOOKUP(Q122,'MPF SAP Download'!A:E,5,FALSE)","v":{"$error":"#N/A"}},"M-T12"]
[null,null,null,null," "]
[null,null,"Cylindrical Scrubbing Brushes (2 Required)",null," ",{"$f":"SUM(F125:F126)","v":0},null,{"$f":"IFERROR(IFERROR(VLOOKUP(D124,Surcharge!A:B,2,FALSE)*F124, VLOOKUP(D124 & \"\",Surcharge!A:B,2,FALSE)*F124), \"\")","v":""},null,null,null,null,null,null,null,null,""]
[null,null,"Polypropylene Brush",1201572,"N/C",null,{"$f":"IF(F125=0,\" \",\"N/C\")","v":" "},{"$f":"IFERROR(IFERROR(VLOOKUP(D125,Surcharge!A:B,2,FALSE)*F125, VLOOKUP(D125 & \"\",Surcharge!A:B,2,FALSE)*F125), \"\")","v":""},null,null,null,null,null,null,null,{"$f":"VLOOKUP(Q125,'MPF SAP Download'!A:E,5,FALSE)","v":"N/C"},"M-T12VK_CPYP"]
[null,null,"Super Abrasive Brush",1201928,212,null,{"$f":"F126*E126","v":0},{"$f":"IFERROR(IFERROR(VLOOKUP(D126,Surcharge!A:B,2,FALSE)*F126, VLOOKUP(D126 & \"\",Surcharge!A:B,2,FALSE)*F126), \"\")","v":""},null,null,null,null,null,null,null,{"$f":"VLOOKUP(Q126,'MPF SAP Download'!A:E,5,FALSE)","v":192},"M-T12VK_CSAB"]
[null,null,null,null," ",null,null,{"$f":"IFERROR(IFERROR(VLOOKUP(D127,Surcharge!A:B,2,FALSE)*F127, VLOOKUP(D127 & \"\",Surcharge!A:B,2,FALSE)*F127), \"\")","v":""},null,null,null,null,null,null,null,null,""]
[null,null,"Disk Scrubbing Brush/Pad and Sweeping Brush for Side Brush Option (1 Required)",null," ",{"$f":"SUM(F129:F133)","v":0},null,{"$f":"IFERROR(IFERROR(VLOOKUP(D128,Surcharge!A:B,2,FALSE)*F128, VLOOKUP(D128 & \"\",Surcharge!A:B,2,FALSE)*F128), \"\")","v":""},null,null,null,null,null,null,null,null,""]
[null,null,"Polypropylene Brush",1220240,"N/C",null,{"$f":"IF(F129=0,\" \",\"N/C\")","v":" "},{"$f":"IFERROR(IFERROR(VLOOKUP(D129,Surcharge!A:B,2,FALSE)*F129, VLOOKUP(D129 & \"\",Surcharge!A:B,2,FALSE)*F129), \"\")","v":""},null,null,null,null,null,null,null,null,"M-T12VK_SDECLNTOL_SCBPYP"]
[null,null,"Heavy Duty Polypropylene",1220231,"N/C",null,{"$f":"IF(F130=0,\" \",\"N/C\")","v":" "},{"$f":"IFERROR(IFERROR(VLOOKUP(D130,Surcharge!A:B,2,FALSE)*F130, VLOOKUP(D130 & \"\",Surcharge!A:B,2,FALSE)*F130), \"\")","v":""},null,null,null,null,null,null,null,{"$f":"VLOOKUP(Q130,'MPF SAP Download'!A:E,5,FALSE)","v":"N/C"},"M-T12VK_SDECLNTOL_HDPYP"]
[null,null,"Super Abrasive Brush",1220232,212,null,{"$f":"F131*E131","v":0},{"$f":"IFERROR(IFERROR(VLOOKUP(D131,Surcharge!A:B,2,FALSE)*F131, VLOOKUP(D131 & \"\",Surcharge!A:B,2,FALSE)*F131), \"\")","v":""},null,null,null,null,null,null,null,{"$f":"VLOOKUP(Q131,'MPF SAP Download'!A:E,5,FALSE)","v":192},"M-T12VK_SDECLNTOL_SAB"]
[null,null,null,null," ",null,null,{"$f":"IFERROR(IFERROR(VLOOKUP(D132,Surcharge!A:B,2,FALSE)*F132, VLOOKUP(D132 & \"\",Surcharge!A:B,2,FALSE)*F132), \"\")","v":""},null,null,null,null,null,null,null,null,""]
[null,null,"Pad Driver",1220243,"N/C",null,{"$f":"IF(F133=0,\" \",\"N/C\")","v":" "},{"$f":"IFERROR(IFERROR(VLOOKUP(D133,Surcharge!A:B,2,FALSE)*F133, VLOOKUP(D133 & \"\",Surcharge!A:B,2,FALSE)*F133), \"\")","v":""},null,null,null,null,null,null,null,{"$f":"VLOOKUP(Q133,'MPF SAP Download'!A:E,5,FALSE)","v":"N/C"},"M-T12VK_SDECLNTOL_PAD"]
[null,null,null,null," ",null,null,{"$f":"IFERROR(IFERROR(VLOOKUP(D134,Surcharge!A:B,2,FALSE)*F134, VLOOKUP(D134 & \"\",Surcharge!A:B,2,FALSE)*F134), \"\")","v":""}]
[null,"Support  (Note 11)",null,"Reference Number"," ",{"$f":"SUM(F136:F145)","v":0},null,{"$f":"IFERROR(IFERROR(VLOOKUP(D135,Surcharge!A:B,2,FALSE)*F135, VLOOKUP(D135 & \"\",Surcharge!A:B,2,FALSE)*F135), \"\")","v":""}]
[null,null,"Standard Warranty",null,"N/C",null,{"$f":"IF(F136=0,\" \",\"N/C\")","v":" "},{"$f":"IFERROR(IFERROR(VLOOKUP(D136,Surcharge!A:B,2,FALSE)*F136, VLOOKUP(D136 & \"\",Surcharge!A:B,2,FALSE)*F136), \"\")","v":""},null,null,null,null,null,null,null,{"$f":"VLOOKUP(Q136,'MPF SAP Download'!A:E,5,FALSE)","v":{"$error":"#N/A"}},"M-T12"]
[null,null,"Ultimate Performance Guarantee",50619,"N/C",null,{"$f":"IF(F137=0,\" \",\"N/C\")","v":" "},{"$f":"IFERROR(IFERROR(VLOOKUP(D137,Surcharge!A:B,2,FALSE)*F137, VLOOKUP(D137 & \"\",Surcharge!A:B,2,FALSE)*F137), \"\")","v":""},null,null,null,null,null,null,null,{"$f":"VLOOKUP(Q137,'MPF SAP Download'!A:E,5,FALSE)","v":"N/C"},"M-T12VK_UPG_Y"]
[null,null,"Operator Manual (English)",9009910,"N/C",null,{"$f":"IF(F138=0,\" \",\"N/C\")","v":" "},{"$f":"IFERROR(IFERROR(VLOOKUP(D138,Surcharge!A:B,2,FALSE)*F138, VLOOKUP(D138 & \"\",Surcharge!A:B,2,FALSE)*F138), \"\")","v":""},null,null,null,null,null,null,null,{"$f":"VLOOKUP(Q138,'MPF SAP Download'!A:E,5,FALSE)","v":"N/C"},"M-T12VK_OPRMNL"]
[null,null,"Operator Manual (Spanish)",9009911,"N/C",null,{"$f":"IF(F139=0,\" \",\"N/C\")","v":" "},{"$f":"IFERROR(IFERROR(VLOOKUP(D139,Surcharge!A:B,2,FALSE)*F139, VLOOKUP(D139 & \"\",Surcharge!A:B,2,FALSE)*F139), \"\")","v":""},null,null,null,null,null,null,null,{"$f":"VLOOKUP(Q139,'MPF SAP Download'!A:E,5,FALSE)","v":{"$error":"#N/A"}},"M-T12"]
[null,null,"Operator Manual (French)",9009912,"N/C",null,{"$f":"IF(F140=0,\" \",\"N/C\")","v":" "},{"$f":"IFERROR(IFERROR(VLOOKUP(D140,Surcharge!A:B,2,FALSE)*F140, VLOOKUP(D140 & \"\",Surcharge!A:B,2,FALSE)*F140), \"\")","v":""},null,null,null,null,null,null,null,{"$f":"VLOOKUP(Q140,'MPF SAP Download'!A:E,5,FALSE)","v":{"$error":"#N/A"}},"M-T12"]
[null,null,"Additional Operator Manual","Select from Above",80,null,{"$f":"F141*E141","v":0},{"$f":"IFERROR(IFERROR(VLOOKUP(D141,Surcharge!A:B,2,FALSE)*F141, VLOOKUP(D141 & \"\",Surcharge!A:B,2,FALSE)*F141), \"\")","v":""},null,null,null,null,null,null,null,{"$f":"VLOOKUP(Q141,'MPF SAP Download'!A:E,5,FALSE)","v":71},"M-T12VK_ADLOPRMNL"]
[null,null,"Parts Manual",9009916,"N/C",null,{"$f":"IF(F142=0,\" \",\"N/C\")","v":" "},{"$f":"IFERROR(IFERROR(VLOOKUP(D142,Surcharge!A:B,2,FALSE)*F142, VLOOKUP(D142 & \"\",Surcharge!A:B,2,FALSE)*F142), \"\")","v":""},null,null,null,null,null,null,null,{"$f":"VLOOKUP(Q142,'MPF SAP Download'!A:E,5,FALSE)","v":{"$error":"#N/A"}},"M-T12"]
[null,null,"Service Manual",9009917,264,null,{"$f":"F143*E143","v":0},{"$f":"IFERROR(IFERROR(VLOOKUP(D143,Surcharge!A:B,2,FALSE)*F143, VLOOKUP(D143 & \"\",Surcharge!A:B,2,FALSE)*F143), \"\")","v":""},null,null,null,null,null,null,null,{"$f":"VLOOKUP(Q143,'MPF SAP Download'!A:E,5,FALSE)","v":239},"M-T12VK_SRVMNL"]
[null,null,null,null,null,null,null,{"$f":"IFERROR(IFERROR(VLOOKUP(D144,Surcharge!A:B,2,FALSE)*F144, VLOOKUP(D144 & \"\",Surcharge!A:B,2,FALSE)*F144), \"\")","v":""}]
[null,null,"Packaging  (Note 12)",null," ",{"$f":"SUM(F146:F147)","v":0},null,{"$f":"IFERROR(IFERROR(VLOOKUP(D145,Surcharge!A:B,2,FALSE)*F145, VLOOKUP(D145 & \"\",Surcharge!A:B,2,FALSE)*F145), \"\")","v":""},null,null,null,null,null,null,null,null,""]
[null,null,"Pad Wrap",null,"N/C",null,{"$f":"IF(F146=0,\" \",\"N/C\")","v":" "},{"$f":"IFERROR(IFERROR(VLOOKUP(D146,Surcharge!A:B,2,FALSE)*F146, VLOOKUP(D146 & \"\",Surcharge!A:B,2,FALSE)*F146), \"\")","v":""},null,null,null,null,null,null,null,{"$f":"VLOOKUP(Q146,'MPF SAP Download'!A:E,5,FALSE)","v":"N/C"},"M-T12VK_PKG_PAD"]
[null,null,"Skid w/Carton, Non-Stackable",9009900,713,null,{"$f":"F147*E147","v":0},{"$f":"IFERROR(IFERROR(VLOOKUP(D147,Surcharge!A:B,2,FALSE)*F147, VLOOKUP(D147 & \"\",Surcharge!A:B,2,FALSE)*F147), \"\")","v":""},null,null,null,null,null,null,null,{"$f":"VLOOKUP(Q147,'MPF SAP Download'!A:E,5,FALSE)","v":692},"M-T12VK_PKG_SCNS"]
[null,null,null,null,null,null,null,{"$f":"IFERROR(IFERROR(VLOOKUP(D148,Surcharge!A:B,2,FALSE)*F148, VLOOKUP(D148 & \"\",Surcharge!A:B,2,FALSE)*F148), \"\")","v":""}]
[null,null,null,null,null,{"$f":"SUM(#REF!)","v":{"$error":"#REF!"}}]
[]
[null,"Custom Solution--write in description, qty, price, and PN if applicable",null,null,null,{"$f":"SUM(F152)","v":0}]
[null,null,null,null,"Insert Prices Here",{"$f":"SUM(F153:F156)","v":0}]
[null,null,null,"Custom",null,{"$f":"IF(E153 <> \"\", 1, 0)","v":0},{"$f":"F153*E153","v":0}]
[null,null,null,"Custom",null,{"$f":"IF(E154 <> \"\", 1, 0)","v":0},{"$f":"F154*E154","v":0}]
[null,null,null,"Custom",null,{"$f":"IF(E155 <> \"\", 1, 0)","v":0},{"$f":"F155*E155","v":0}]
[null,null,null,"Custom",null,{"$f":"IF(E156 <> \"\", 1, 0)","v":0},{"$f":"F156*E156","v":0}]
[null,null,null,null,{"$f":"ROUND(SUM(G58:G156), 0)","v":0},{"$f":"SUM(E158)","v":0}]
[null,null,null,"Machine Subtotal ",{"$f":"ROUND(SUM(G58:G156), 0)","v":0},{"$f":"F157","v":0}]
[null,"Discounts",null,null,null,{"$f":"SUM(F160)","v":0}]
[null,null,null,null,null,{"$f":"SUM(F161:F164)","v":0}]
[null,null,null,"Discount %",null,{"$f":"IF(E161 <> \"\", 1, 0)","v":0},{"$f":"IF(F161*(E161*0.01)*E157 < 0, F161*(E161*0.01)*E157, -(F161*(E161*0.01)*E157))","v":0}]
[null,null,null,"Discount $",null,{"$f":"IF(E162 <> \"\", 1, 0)","v":0},{"$f":"IF(F162*E162 < 0, F162*E162, -(F162*E162))","v":0}]
[null,null,null,"Discount $",null,{"$f":"IF(E163 <> \"\", 1, 0)","v":0},{"$f":"IF(F163*E163 < 0, F163*E163, -(F163*E163))","v":0}]
[null,null,null,"Discount $",null,{"$f":"IF(E164 <> \"\", 1, 0)","v":0},{"$f":"IF(F164*E164 < 0, F164*E164, -(F164*E164))","v":0}]
[null,null,null,"Discount Total ",{"$f":"SUM(G161:G164)","v":0},{"$f":"SUM(E165)","v":0}]
[null,null,null,null,null,{"$f":"#REF!","v":{"$error":"#REF!"}}]
[null,null,"Prepaid and Add","Freight",null,{"$f":"IF(E167 <> \"\", 1, 0)","v":0},{"$f":"F167*E167","v":0}]
[null,null,"Subject to all applicable taxes","Tax",null,{"$f":"IF(E168 <> \"\", 1, 0)","v":0},{"$f":"F168*E168","v":0}]
[null,null,null,null,null,{"$f":"SUM(F170)","v":0}]
[null,null,null,"            MACHINE TOTAL*",null,{"$f":"SUM(G170)","v":0},{"$f":"SUM(G58:G168)","v":0},null,null,null,"This goes to \"My Documents\""]
[null,null,null,null,null,null,{"$f":"G170","v":0}]
[null,"Financing"]
[]
[null,null,"Is customer interested in financing?","Yes"]
[]
[null,null,"If not, why?"]
[]
[]
[null,null,"First Western Equipment Finance - Leasing Calculation Option:","Option 1",null,"Option 2",null,null,null,{"$f":"Financing!A38","v":"Rates 2025 - Rev. 5/6/2025"}]
[null,null,null,"Monthly Payment","Cost Per Day","Monthly Payment","Cost Per Day",null,null,{"$f":"Financing!A39","v":"“Blank Payment Amounts Indicate The Financing Option Or Purchase Options Selected Are Not "}]
[null,null,"Purchase Option:","FWEF:  $1 Buyout Lease",null,"FWEF: Municipal Lease",null,null,null,{"$f":"Financing!A40","v":"Applicable Or The Machine Total Is Below The Minimum Amount For The Selected Vendor”"}]
[null,null,"24 Months",0,0,0,0,null,null,{"$f":"Financing!A41","v":"\"Quoted monthly payments are estimates only and are based on a certain level of credit rating."}]
[null,null,"30 Months",0,0,0,0,null,null,{"$f":"Financing!A42","v":"Actual monthly payments may be higher depending on your credit rating.\""}]
[null,null,"36 Months",0,0,0,0,null,null,{"$f":"Financing!A43","v":"“Financing rates do not include Pre-Paid Service”"}]
[null,null,"48 Months",0,0,0,0]
[]
[null,null,null,"Benefits of Equipment Financing:"]
[null,null,null,"• Spreads out investment over time.",null,"• Keep current with latest technology."]
[null,null,null,"• Preserve capital.",null,"• Service and parts bundling available."]
[null,null,null,"• Low monthly payment.",null,"• Pay for labor savings as you go."]
[]
[]
[null,null,"Bundled Offerings","Flexclean – Fair Market Value",null,"Flexclean - $1 Buyout"]
[null,null,"FlexClean: ","36 Month Term",null,"36 Month Term",null,null,"No","AB Brushes"]
[null,null,"Hours included per Month:","Gold","Silver","Gold","Silver","Check"]
[null,null,"< 30/mo. (Avg. 1hr./day)",null,null,null,null,null,{"$f":"FlexCleanCalc!$A21","v":"“FlexClean monthly rates include payment for both machine and service.”"}]
[null,null,"< 60/mo. (Avg. 2hrs./day)"]
[null,null,"< 90/mo. (Avg. 3hrs./day)"]
[null,null,"*This value assumes one service contract regardless of the number of UNITS included in the quote"]
[]
[]
[null,null,"Bundled Offerings","Flexclean – Fair Market Value",null,"Flexclean - $1 Buyout"]
[null,null,"FlexClean 2: ","48 Month Term",null,"48 Month Term"]
[null,null,"Hours included per Month:","Gold","Silver","Gold","Silver"]
[null,null,"< 30/mo. (Avg. 1hr./day)"]
[null,null,"< 60/mo. (Avg. 2hrs./day)"]
[null,null,"< 90/mo. (Avg. 3hrs./day)"]
[null,null,"*This value assumes one service contract regardless of the number of UNITS included in the quote"]
[]
[null,null,"Bundled Offerings","Flexclean – Fair Market Value",null,"Flexclean - $1 Buyout"]
[null,null,"FlexClean 3: ","60 Month Term",null,"60 Month Term"]
[null,null,"Hours included per Month:","Gold","Silver","Gold","Silver"]
[null,null,"< 30/mo. (Avg. 1hr./day)"]
[null,null,"< 60/mo. (Avg. 2hrs./day)"]
[null,null,"< 90/mo. (Avg. 3hrs./day)"]
[null,null,"*This value assumes one service contract regardless of the number of UNITS included in the quote"]
[]
[null,"  TennantTrue"]
[]
[null,null,"Is customer interested in service program?","Yes","*State/County selection required for TennantTrue service options"]
[]
[null,null,"If not, why?"]
[]
[null,null,"Term:",36,null,"AB Brushes","No"]
[null,null,"Monthly machine usage (hrs):","< 30/mo. (Avg. 1hr./day)"]
[]
[null,null,"TennantTrue: ","Gold Contract",null,"Silver Contract"]
[null,null,"Per Visit",null,null,501]
[null,null,"Monthly",189,null,88]
[null,null,"Annually",null,null,1035]
[null,null,"Pre-Pay Full Term",6526,null,3042]
[null,null,"Hourly Labor Rate"]
[null,null,"Site Visit"]
[]
[null,null,"* Verify customer current pricing prior to quote. "]
[null,null,"**All rates and fees above reflect service for one (1) unit with the exception of Block of Time service."]
[null,null,"*Block of Time is available in 1 Year Term only and is priced as such no matter the term selection on this template."]
[]
[]
[null,"Servicing"]
[]
[null,null,"Is customer interested in a service plan?","No"]
[]
[null,null,"If not, why?"]
[]
[]
[null,null,"Quote Special Instructions:"]
[]
[]
[null,null,{"$f":"Start_Here!E36","v":"Terms and Conditions"}]
[null,null,{"$f":"Start_Here!E37","v":"Ask your local sales rep for estimated lead times. Verify when placing order"}]
[null,null,{"$f":"Start_Here!E38","v":"All orders subject to acceptance by Tennant Sales and Service Company, Minneapolis, Minnesota"}]
[null,null,{"$f":"Start_Here!E39","v":"Prices subject to change without notice."}]
[null,null,{"$f":"Start_Here!E40","v":"Terms:  Net 30 days.  Subject to any applicable taxes."}]
[null,null,{"$f":"Start_Here!E41","v":"Freight: Machines and accessory orders delivered FOB shipping point Frt PPD & Add"}]
[null,null,{"$f":"Start_Here!E42","v":"Parts, supplies, detergents and floor treating material orders delivered FOB "}]
[null,null,{"$f":"Start_Here!E43","v":"shipping point Frt PPD"}]
[null,null,{"$f":"Start_Here!E44","v":"All orders are subject to Tennant’s General Terms and Conditions available at http://www.tennantco.com/terms."}]
[null,null,{"$f":"Start_Here!E45","v":"Printed General Terms and Conditions are also available upon request."}]
[null,null,{"$f":"Start_Here!E46","v":0}]
[]
[null,null,null,null,"Quote Date :",null,{"$f":"Letter!$A$25","v":"2020-09-17"}]
["Order Placement Information:  To place your order, fill in PO# and customer signatures,"]
["call or fax to the numbers listed below. Customer Purchase Order is required."]
["If information is missing, orders will be entered and held until all information is received."]
[null,null,"Customer Number",null,"Cust Grp 3"]
[null,null,{"$f":"Start_Here!$C$25","v":0},null,{"$f":"Start_Here!$C$29","v":0}]
[null,null,{"$f":"Start_Here!$B$18","v":"Who Owns the Machine? (Sold-To Info) (Please Verify)"}]
["Company",null,{"$f":"Start_Here!$C$19","v":"Company Name"}]
["Address",null,{"$f":"Start_Here!$C$20","v":"Address"}]
[null,null,{"$f":"Start_Here!$C$21","v":"City, State Zip"}]
["Name",null,{"$f":"Start_Here!$C$22","v":"Contact Name"}]
["Phone",null,{"$f":"Start_Here!$C$23","v":"Contact Phone"}]
[null,null,{"$f":"Start_Here!$B$11","v":"Where is the Machine Being Shipped? (Ship-To Info) (Please Verify)"}]
["Company",null,{"$f":"Start_Here!$C$12","v":"Company Name"}]
["Address",null,{"$f":"Start_Here!$C$13","v":"Address"}]
[null,null,{"$f":"Start_Here!$C$14","v":"City, State Zip"}]
["Name",null,{"$f":"Start_Here!$C$15","v":"Contact Name"}]
["Phone",null,{"$f":"Start_Here!$C$16","v":"Contact Phone"}]
[null,null,{"$f":"Start_Here!$B$31","v":"Shipping / Carrier Instructions:"},null,"Order Special Instructions:"]
[null,null,{"$f":"Start_Here!$C$32","v":0}]
[]
[null,null,"Customer Purchase Order No."]
[null,null,"(please attach copy)"]
[]
[]
[null,null,"Tax Exempt",null,"Yes"]
[null,null,null,null,"No"]
[null,null,"If Yes, attach a copy of your exemption certificate."]
[]
[null,null,"Requested Delivery Date"]
[null,null,{"$f":"Start_Here!$C$28","v":0}]
[]
[null,null,{"$f":"Start_Here!$C$26","v":0},null,{"$f":"Start_Here!$C$27","v":0}]
[null,0,"Authorized Buyer (please print)",null,"Phone Number"]
[]
[]
[null,0,"Authorized Buyer Signature"]
[]
[null,null,{"$f":"Start_Here!$C$41","v":"Rep Name"}]
[null,null,"Tennant Representative"]
[]
["Specialized Maintenance Equipment"]
[{"$f":"Start_Here!$C$48","v":"TENNANT · 10400 Clean Street · Eden Prairie, MN 55344 ·"}]
[{"$f":"Start_Here!$C$49","v":" PHONE:800-553-8033 · FAX:763-513-2116"}]
[]
[]
[]
[null,"Notes"]
[]
[null,1,"The battery compartment will fit six 6-volt batteries of this size:",null,"Length       Width"]
[null,null,"Battery Size",null,"11.70 in      6.95 in"]
[null,null,null,null,"297 mm     177 mm"]
[]
[null,2,"Overall Battery Compartment Size:",null,"Length       Width"]
[null,null,"(these are the \"full compartment\" dimensions, allow space on top ",null,"21.5 in     23.89 in"]
[null,null,"of battery for watering system clearance, etc)",null,"545 mm      605 mm"]
[]
[null,5,"Model T12 Continuous Runtime Chart.",null,"Standard"]
[null,null,null,null,"Capacity"]
[null,null,null,null,"240AH"]
[null,null,"T12 Base Unit (economy mode, main scrub only)",null,"2.9 hours"]
[null,null,"T12 Base Unit with RH Sidebrush ( economy mode ) ",null,"2.4 hours"]
[null,null,"The above runtimes are guidelines.  Actual times will vary based on floor conditions, final machine configuration & usage"]
[]
[null,4,"To calculate weights with batteries add the following to the product “Net” or “Ship” weights:"]
[null,null,"240 AH Battery Pack = + 6 Batteries @ 67 lbs (30.4kg) each = 402 lbs (182.5 kg)"]
[null,null,"360 AH Battery Pack = + 6 Batteries @ 98 lbs (45 kg) each = 588 lbs (267 kg)"]
[]
[null,5,"Expected Cycle Life:  Cycle life is the number of charge cycles a battery is expected to last."]
[null,null,"240 AH Battery = 500 Cycles"]
[null,null,"360 AH Battery = 500 Cycles"]
[]
[null,"6A","Lithium-Ion batteries require the use of an approved Lithium-Ion compatible charger."]
[null,null,"Use of an unproved charger may damage battery and void warranty."]
[]
[null,6,"Customer MUST order Skid w/Carton, Non-Stackable if LESS BATTERY is selected.  Continental USA orders ONLY."]
[]
[null,7,"ONLY available with Wet (Lead Acid) batteries.  Cannot be used with Sealed Gel / AGM Batteries."]
[]
[null,8,"The battery charger connector is a 50 amp Anderson ( gray ). The battery connector is an Anderson 175 amp connector ( gray )."]
[]
[null,9,"A seatbelt is not offered with the basic seat, but the deluxe seat features a retractable seat belt standard."]
[null,null,"at an additional charge and will increase the lead time.  For pricing and lead time impact information "]
[null,null,"contact our Custom Engineering Group."]
[]
[null,1,"Blue Light requires that the AV BU Alarm - Strobe on Tank is also configured on the unit."]
[null,null,"The Blue Light is not available with the Strobe Light on Overhead Guard."]
[]
[null,11,"Additional hard copy Operator and Parts Manuals can be ordered or digital copies can be downloaded from www.Tennantco.com."]
[]
[null,"IRIS","Pre-Paid and Monthly Packages are available for the IRIS Information Service."]
[null,null,"IRIS Module is required and NOT included in the price of the IRIS Information Service:"]
[null,null,"3 Year Pre-Paid IRIS Information Service",250]
[null,null,"5 Year Pre-Paid IRIS Information Service",400]
[null,null,"A monthly contract can be set up at $10 per month w/ 12 month minimum commitment."]
[null,null,"IRIS Telemetry Module only covers the price of the hardware. "]
[null,null,"IRIS Telemetry requires an IRIS Telemetry Module and an IRIS Information Service Package."]
[]
[null,12,"Pad wrap available only in the Continental US and is the default packaging method."]
[null,null,"Customer MUST order Skid w/Carton, Non-Stackable if WITHOUT BATTERY is selected."]
[null,null,"Skid w/Carton, Non-Stackable is mandatory when shipping to AK and HI.  Packaging is added at No Charge when shipping"]
[null,null,"to these locations."]
[null,null,"The Skid w/Carton, Non-Stackable (PN 9009900) includes the crate and all bracketry for shipping."]
[]
[null,13,"Shipping Weights and Dimensions","Pad Wrap","Skid w/Carton"]
[]
[null,null,"Weight  (w/240AH Batteries)","1460 lbs / 664 Kg","2200 lbs / 998 Kg"]
[null,null,"Length","68\" / 1710 mm","85\" / 2159 mm"]
[null,null,"Width","42\" / 1065 mm","46\" / 1169 mm"]
[null,null,"Height","56\" / 1420 mm","63\" / 1600 mm"]

{"sheet":"T1581_Built_to_Order","index":39,"n_rows":259,"n_cols":17,"rows_kept":259,"cut":false,"hidden":false,"merged":[[30,2,30,6],[0,2,0,3],[1,2,1,3],[2,2,2,3],[3,2,3,3],[11,2,11,3],[109,3,109,4],[109,5,109,6],[31,2,31,6],[32,2,32,6],[33,2,33,6],[34,2,34,6],[35,2,35,6],[104,3,104,6],[107,3,107,4],[107,5,107,6],[121,3,121,4],[121,5,121,6],[122,3,122,4],[122,5,122,6],[130,3,130,4],[130,5,130,6],[131,3,131,4],[131,5,131,6],[138,3,138,4],[138,5,138,6],[139,3,139,4],[139,5,139,6],[148,4,148,8],[150,3,150,6],[152,3,152,4],[153,3,153,4],[155,3,155,4],[155,5,155,6],[156,3,156,4],[156,5,156,6],[157,3,157,4],[157,5,157,6],[158,3,158,4],[158,5,158,6],[199,2,199,5],[159,3,159,4],[159,5,159,6],[160,3,160,4],[160,5,160,6],[161,3,161,4],[161,5,161,6],[172,3,173,6],[176,2,176,6],[195,4,195,7],[197,2,197,5],[198,2,198,5],[207,2,207,5],[209,4,209,7],[213,2,213,5],[222,4,222,5],[200,2,200,5],[201,2,201,5],[203,2,203,5],[204,2,204,5],[205,2,205,5],[206,2,206,5]]}
["T1581_Built_to_Order",null,{"$f":"Start_Here!$C19","v":"Company Name"}]
[{"$f":"SUM(G99)","v":0},null,{"$f":"Start_Here!$C20","v":"Address"}]
[null,null,{"$f":"Start_Here!$C21","v":"City, State Zip"}]
[null,null,{"$f":"Start_Here!$C22","v":"Contact Name"}]
[null,null,{"$f":"Start_Here!$C$41","v":"Rep Name"}]
[null,null,{"$f":"Start_Here!$C$37","v":"Tennant Sales and Service Company"}]
[null,null,{"$f":"Start_Here!$C$38","v":"10400 Clean Street"}]
[null,null,{"$f":"Start_Here!$C$39","v":"Eden Prairie, MN 55344"}]
[null,null,{"$f":"Start_Here!$C$43","v":"800-553-8033"},null,"Quote Date :",null,{"$f":"Letter!$A$25","v":"2020-09-17"}]
[]
[null,null,{"$f":"Help!C2","v":"US Date Rev - 5/6/2025"}]
[null,null,"                     BUILT-IN \"TENNANT VALUE\" INCLUDES:"]
[]
[null,null,"Wet, 360 AH C/20 Battery Pack","No Tool Squeegee and Brush Change"]
[null,null,"36VDC, 21A 85-265 VAC 45/65 Hz Charger","High Visibility Maintenance Touch Points"]
[null,null,"DC Propel Motor","Multi-Language Operator Manual and Video"]
[null,null,"Disk Scrubbing - 41 in (1050 mm) path"]
[null,null,"Cylindrical Scrubbing - 39 in (1000 mm) path","T1581 Controls:"]
[null,null,"Standard Sweeping Side Brushes (Cylindrical model only)","3 Preset Scrub Operation Programs"]
[null,null,"Standard Cylindrical or Disk Scrubbing Brushes (Select One)","On Board Diagnostics"]
[null,null,"Non-Corrosive Solution and Recovery Tanks","Spin on/spin off brush attachment (Disk model only)"]
[null,null,"58 gal (218 L) Solution Tank"]
[null,null,"63 gal (237 L) Recovery Tank"]
[null,null,"V-shaped Rear Squeegee Breakaway System"]
[null,null,"Automatic Functions:"]
[null,null,"Parking Brake"]
[null,null,"Squeegee Lift"]
[null,null,"One Scrubbing Mode: Conventional Scrubbing"]
[]
[]
[null,null,"TENNANT COMPANY WARRANTY"]
[null,null,"36 MONTHS OR 1500 HOURS - PARTS"]
[null,null,"24 MONTHS - LABOR"]
[null,null,"6 MONTHS - TRAVEL"]
[null,null,"10 YEARS ON DURAMERTM TANKS"]
[null,null,"CUSTOM options may add 1 week or more to standard lead times."]
[]
[]
[]
[]
[]
[null,null,null,null,"                Quote Request Information"]
[null,null,null,null,null,null,"Fax (quote only)"]
[null,null,null,null,null,null,"Mail (quote,lit, specs)"]
[null,null,null,null,null,null,"Fax + Mail"]
[]
[null,null,null,null,"                Primary Use"]
[null,null,null,null,null,null,"Inside"]
[null,null,null,null,null,null,"Outside"]
[]
[null,"Base Configuration",null,"Reference #"," Price Each US","Qty","Extended Price"]
[null,null,"Cleaning Type",null,null,{"$f":"SUM(F53:F54)","v":0}]
[null,null,"T1581 Ride-On Scrubber 1000 mm / 39\" - Cylindrical","T1581-1000-C",34683,null,{"$f":"F53*E53","v":0},{"$f":"IFERROR(IFERROR(VLOOKUP(D53,Surcharge!A:B,2,FALSE)*F53, VLOOKUP(D53 & \"\",Surcharge!A:B,2,FALSE)*F53), \"\")","v":""},null,null,null,{"$f":"SUM(F53)","v":0},"Surcharge Qty",null,null,{"$f":"VLOOKUP(Q53,'MPF SAP Download'!A:E,5,FALSE)","v":27493},"M-T12VK_BASE_T12-D"]
[null,null,"T1581 Ride-On Scrubber 1050 mm / 41\" - Disk","T1581-1050-D",34683,null,{"$f":"F54*E54","v":0},{"$f":"IFERROR(IFERROR(VLOOKUP(D54,Surcharge!A:B,2,FALSE)*F54, VLOOKUP(D54 & \"\",Surcharge!A:B,2,FALSE)*F54), \"\")","v":""},null,null,null,null,null,null,null,{"$f":"VLOOKUP(Q54,'MPF SAP Download'!A:E,5,FALSE)","v":28256},"M-T12VK_BASE_T12-C"]
[null,null,null,null,null,null,null,{"$f":"IFERROR(IFERROR(VLOOKUP(D55,Surcharge!A:B,2,FALSE)*F55, VLOOKUP(D55 & \"\",Surcharge!A:B,2,FALSE)*F55), \"\")","v":""},null,null,null,null,null,null,null,{"$f":"VLOOKUP(Q55,'MPF SAP Download'!A:E,5,FALSE)","v":29912},"M-T12VK_BASE_T12-XP-D"]
[null,null,"Battery Type  (Note 1)",null,null,{"$f":"SUM(F57:F59)","v":0},null,{"$f":"IFERROR(IFERROR(VLOOKUP(D56,Surcharge!A:B,2,FALSE)*F56, VLOOKUP(D56 & \"\",Surcharge!A:B,2,FALSE)*F56), \"\")","v":""},null,null,null,{"$f":"SUM(F56)","v":0},"Surcharge Qty",null,null,{"$f":"VLOOKUP(Q56,'MPF SAP Download'!A:E,5,FALSE)","v":30678},"M-T12VK_BASE_T12-XP-C"]
[null,null,"Wet 360AH C/20  (Kit of 6 batteries)",9022562,"N/C",null,{"$f":"IF(F57=0,\" \",\"N/C\")","v":" "},{"$f":"IFERROR(IFERROR(VLOOKUP(D57,Surcharge!A:B,2,FALSE)*F57, VLOOKUP(D57 & \"\",Surcharge!A:B,2,FALSE)*F57), \"\")","v":""}]
[null,null,"Sealed/MF AGM 350AH C/20  (Kit of 6 batteries)",9022563,1305,null,{"$f":"F58*E58","v":0},{"$f":"IFERROR(IFERROR(VLOOKUP(D58,Surcharge!A:B,2,FALSE)*F58, VLOOKUP(D58 & \"\",Surcharge!A:B,2,FALSE)*F58), \"\")","v":""}]
[null,null,"Less Battery, DEDUCT (Note 1)",null,-702,null,{"$f":"F59*E59","v":0},{"$f":"IFERROR(IFERROR(VLOOKUP(D59,Surcharge!A:B,2,FALSE)*F59, VLOOKUP(D59 & \"\",Surcharge!A:B,2,FALSE)*F59), \"\")","v":""},null,null,null,null,null,null,null,{"$f":"VLOOKUP(Q59,'MPF SAP Download'!A:E,5,FALSE)","v":3851},"M-T12VK_CLNTCH_ECH2O"]
[null,null,null,null,null,null,null,{"$f":"IFERROR(IFERROR(VLOOKUP(D60,Surcharge!A:B,2,FALSE)*F60, VLOOKUP(D60 & \"\",Surcharge!A:B,2,FALSE)*F60), \"\")","v":""}]
[null,null,"Charger  (Note 2)",null,null,{"$f":"SUM(F62:F64)","v":0},null,{"$f":"IFERROR(IFERROR(VLOOKUP(D61,Surcharge!A:B,2,FALSE)*F61, VLOOKUP(D61 & \"\",Surcharge!A:B,2,FALSE)*F61), \"\")","v":""}]
[null,null,"21A 85-265V AC 50/60Hz 1Ph - Off-Board",9022564,"N/C",null,{"$f":"IF(F62=0,\" \",\"N/C\")","v":" "},{"$f":"IFERROR(IFERROR(VLOOKUP(D62,Surcharge!A:B,2,FALSE)*F62, VLOOKUP(D62 & \"\",Surcharge!A:B,2,FALSE)*F62), \"\")","v":""},null,null,null,{"$f":"SUM(F62)","v":0},"Surcharge Qty",null,null,{"$f":"VLOOKUP(Q62,'MPF SAP Download'!A:E,5,FALSE)","v":"N/C"},"M-T12VK_SQEMAT_L"]
[null,null,"Without Charger",null,-298,null,{"$f":"F63*E63","v":0},{"$f":"IFERROR(IFERROR(VLOOKUP(D63,Surcharge!A:B,2,FALSE)*F63, VLOOKUP(D63 & \"\",Surcharge!A:B,2,FALSE)*F63), \"\")","v":""},null,null,null,null,null,null,null,{"$f":"VLOOKUP(Q63,'MPF SAP Download'!A:E,5,FALSE)","v":"N/C"},"M-T12VK_SQEMAT_G"]
[null,null,"Charger Power Cord",9022565,"N/C",null,{"$f":"IF(F64=0,\" \",\"N/C\")","v":" "},{"$f":"IFERROR(IFERROR(VLOOKUP(D64,Surcharge!A:B,2,FALSE)*F64, VLOOKUP(D64 & \"\",Surcharge!A:B,2,FALSE)*F64), \"\")","v":""},null,null,null,null,null,null,null,{"$f":"VLOOKUP(Q64,'MPF SAP Download'!A:E,5,FALSE)","v":"N/C"},"M-T12VK_SQEMAT_U"]
[null,null,null,null,null,null,null,{"$f":"IFERROR(IFERROR(VLOOKUP(D65,Surcharge!A:B,2,FALSE)*F65, VLOOKUP(D65 & \"\",Surcharge!A:B,2,FALSE)*F65), \"\")","v":""}]
[null,"Brushes and Pads  (Note 3)",null,null,null,{"$f":"SUM(F67:F71)","v":0},null,{"$f":"IFERROR(IFERROR(VLOOKUP(D66,Surcharge!A:B,2,FALSE)*F66, VLOOKUP(D66 & \"\",Surcharge!A:B,2,FALSE)*F66), \"\")","v":""}]
[null,null,"1000mm/39\" Cylindrical Scrubbing Brush",null,null,{"$f":"SUM(F68)","v":0},null,{"$f":"IFERROR(IFERROR(VLOOKUP(D67,Surcharge!A:B,2,FALSE)*F67, VLOOKUP(D67 & \"\",Surcharge!A:B,2,FALSE)*F67), \"\")","v":""},null,null,null,null,null,null,null,{"$f":"VLOOKUP(Q67,#REF!,5,FALSE)","v":{"$error":"#REF!"}},"M-T12VK_BTY_W240C20"]
[null,null,"Polypropylene",null,"N/C",null,{"$f":"IF(F68=0,\" \",\"N/C\")","v":" "},{"$f":"IFERROR(IFERROR(VLOOKUP(D68,Surcharge!A:B,2,FALSE)*F68, VLOOKUP(D68 & \"\",Surcharge!A:B,2,FALSE)*F68), \"\")","v":""},null,null,null,null,null,null,null,{"$f":"VLOOKUP(Q68,'MPF SAP Download'!A:E,5,FALSE)","v":1059},"M-T12VK_BTY_W360C20"]
[null,null,null,null,null,null,null,{"$f":"IFERROR(IFERROR(VLOOKUP(D69,Surcharge!A:B,2,FALSE)*F69, VLOOKUP(D69 & \"\",Surcharge!A:B,2,FALSE)*F69), \"\")","v":""},null,null,null,null,null,null,null,{"$f":"VLOOKUP(Q69,'MPF SAP Download'!A:E,5,FALSE)","v":4567},"M-T12VK_BTY_A312C20"]
[null,null,"1050mm/41\" Disk Scrubbing Brush/Pads (2 Required)",null,null,{"$f":"SUM(F71)","v":0},null,{"$f":"IFERROR(IFERROR(VLOOKUP(D70,Surcharge!A:B,2,FALSE)*F70, VLOOKUP(D70 & \"\",Surcharge!A:B,2,FALSE)*F70), \"\")","v":""},null,null,null,null,null,null,null,{"$f":"VLOOKUP(Q70,'MPF SAP Download'!A:E,5,FALSE)","v":-495},"M-T12VK_BTY_WO"]
[null,null,"Polypropylene",null,"N/C",null,{"$f":"IF(F71=0,\" \",\"N/C\")","v":" "},{"$f":"IFERROR(IFERROR(VLOOKUP(D71,Surcharge!A:B,2,FALSE)*F71, VLOOKUP(D71 & \"\",Surcharge!A:B,2,FALSE)*F71), \"\")","v":""}]
[null,null,null,null,null,null,null,{"$f":"IFERROR(IFERROR(VLOOKUP(D72,Surcharge!A:B,2,FALSE)*F72, VLOOKUP(D72 & \"\",Surcharge!A:B,2,FALSE)*F72), \"\")","v":""},null,null,null,null,null,null,null,{"$f":"VLOOKUP(Q72,'MPF SAP Download'!A:E,5,FALSE)","v":730},"M-T12VK_BTYWTRSYS"]
[null,"Support",null,null,null,{"$f":"SUM(F74)","v":0},null,{"$f":"IFERROR(IFERROR(VLOOKUP(D73,Surcharge!A:B,2,FALSE)*F73, VLOOKUP(D73 & \"\",Surcharge!A:B,2,FALSE)*F73), \"\")","v":""}]
[null,null,"Packaging  (Note 4)",null,null,{"$f":"SUM(F75:F76)","v":0},null,{"$f":"IFERROR(IFERROR(VLOOKUP(D74,Surcharge!A:B,2,FALSE)*F74, VLOOKUP(D74 & \"\",Surcharge!A:B,2,FALSE)*F74), \"\")","v":""}]
[null,null,"Pad Wrap",null,"N/C",null,{"$f":"IF(F75=0,\" \",\"N/C\")","v":" "},{"$f":"IFERROR(IFERROR(VLOOKUP(D75,Surcharge!A:B,2,FALSE)*F75, VLOOKUP(D75 & \"\",Surcharge!A:B,2,FALSE)*F75), \"\")","v":""},null,null,null,null,null,null,null,{"$f":"VLOOKUP(Q75,'MPF SAP Download'!A:E,5,FALSE)","v":"N/C"},"M-T12VK_CHG_21A85V5060H1P"]
[null,null,"Skid w/Carton, Non-Stackable","T1581-SKD",595,null,{"$f":"F76*E76","v":0},{"$f":"IFERROR(IFERROR(VLOOKUP(D76,Surcharge!A:B,2,FALSE)*F76, VLOOKUP(D76 & \"\",Surcharge!A:B,2,FALSE)*F76), \"\")","v":""},null,null,null,null,null,null,null,{"$f":"VLOOKUP(Q76,'MPF SAP Download'!A:E,5,FALSE)","v":"N/C"},"M-T12VK_CHG_21A85V5060H1P"]
[]
[null,null,null,null,null,{"$f":"SUM(#REF!)","v":{"$error":"#REF!"}}]
[]
[null,"Custom Solution--write in description, qty, price, and PN if applicable",null,null,null,{"$f":"SUM(F81)","v":0}]
[null,null,null,null,"Insert Prices Here",{"$f":"SUM(F82:F85)","v":0}]
[null,null,null,"Custom",null,{"$f":"IF(E82 <> \"\", 1, 0)","v":0},{"$f":"F82*E82","v":0}]
[null,null,null,"Custom",null,{"$f":"IF(E83 <> \"\", 1, 0)","v":0},{"$f":"F83*E83","v":0}]
[null,null,null,"Custom",null,{"$f":"IF(E84 <> \"\", 1, 0)","v":0},{"$f":"F84*E84","v":0}]
[null,null,null,"Custom",null,{"$f":"IF(E85 <> \"\", 1, 0)","v":0},{"$f":"F85*E85","v":0}]
[null,null,null,null,{"$f":"ROUND(SUM(G52:G85), 0)","v":0},{"$f":"SUM(E87)","v":0}]
[null,null,null,"Machine Subtotal ",{"$f":"ROUND(SUM(G52:G85), 0)","v":0},{"$f":"F86","v":0}]
[null,"Discounts",null,null,null,{"$f":"SUM(F89)","v":0}]
[null,null,null,null,null,{"$f":"SUM(F90:F93)","v":0}]
[null,null,null,"Discount %",null,{"$f":"IF(E90 <> \"\", 1, 0)","v":0},{"$f":"IF(F90*(E90*0.01)*E86 < 0, F90*(E90*0.01)*E86, -(F90*(E90*0.01)*E86))","v":0}]
[null,null,null,"Discount $",null,{"$f":"IF(E91 <> \"\", 1, 0)","v":0},{"$f":"IF(F91*E91 < 0, F91*E91, -(F91*E91))","v":0}]
[null,null,null,"Discount $",null,{"$f":"IF(E92 <> \"\", 1, 0)","v":0},{"$f":"IF(F92*E92 < 0, F92*E92, -(F92*E92))","v":0}]
[null,null,null,"Discount $",null,{"$f":"IF(E93 <> \"\", 1, 0)","v":0},{"$f":"IF(F93*E93 < 0, F93*E93, -(F93*E93))","v":0}]
[null,null,null,"Discount Total ",{"$f":"SUM(G90:G93)","v":0},{"$f":"SUM(E94)","v":0}]
[null,null,null,null,null,{"$f":"#REF!","v":{"$error":"#REF!"}}]
[null,null,"Prepaid and Add","Freight",null,{"$f":"IF(E96 <> \"\", 1, 0)","v":0},{"$f":"F96*E96","v":0}]
[null,null,"Subject to all applicable taxes","Tax",null,{"$f":"IF(E97 <> \"\", 1, 0)","v":0},{"$f":"F97*E97","v":0}]
[null,null,null,null,null,{"$f":"SUM(F99)","v":0}]
[null,null,null,"            MACHINE TOTAL*",null,{"$f":"SUM(G99)","v":0},{"$f":"SUM(G52:G97)","v":0},null,null,null,"This goes to \"My Documents\""]
[null,null,null,null,null,null,{"$f":"G99","v":0}]
[null,"Financing"]
[]
[null,null,"Is customer interested in financing?","Yes"]
[]
[null,null,"If not, why?"]
[]
[]
[null,null,"First Western Equipment Finance - Leasing Calculation Option:","Option 1",null,"Option 2",null,null,null,{"$f":"Financing!A38","v":"Rates 2025 - Rev. 5/6/2025"}]
[null,null,null,"Monthly Payment","Cost Per Day","Monthly Payment","Cost Per Day",null,null,{"$f":"Financing!A39","v":"“Blank Payment Amounts Indicate The Financing Option Or Purchase Options Selected Are Not "}]
[null,null,"Purchase Option:","FWEF:  $1 Buyout Lease",null,"FWEF: Municipal Lease",null,null,null,{"$f":"Financing!A40","v":"Applicable Or The Machine Total Is Below The Minimum Amount For The Selected Vendor”"}]
[null,null,"24 Months",0,0,0,0,null,null,{"$f":"Financing!A41","v":"\"Quoted monthly payments are estimates only and are based on a certain level of credit rating."}]
[null,null,"30 Months",0,0,0,0,null,null,{"$f":"Financing!A42","v":"Actual monthly payments may be higher depending on your credit rating.\""}]
[null,null,"36 Months",0,0,0,0,null,null,{"$f":"Financing!A43","v":"“Financing rates do not include Pre-Paid Service”"}]
[null,null,"48 Months",0,0,0,0]
[]
[null,null,null,"Benefits of Equipment Financing:"]
[null,null,null,"• Spreads out investment over time.",null,"• Keep current with latest technology."]
[null,null,null,"• Preserve capital.",null,"• Service and parts bundling available."]
[null,null,null,"• Low monthly payment.",null,"• Pay for labor savings as you go."]
[]
[]
[null,null,"Bundled Offerings","Flexclean – Fair Market Value",null,"Flexclean - $1 Buyout"]
[null,null,"FlexClean: ","36 Month Term",null,"36 Month Term",null,null,"No","AB Brushes"]
[null,null,"Hours included per Month:","Gold","Silver","Gold","Silver","Check"]
[null,null,"< 30/mo. (Avg. 1hr./day)",null,null,null,null,null,{"$f":"FlexCleanCalc!$A21","v":"“FlexClean monthly rates include payment for both machine and service.”"}]
[null,null,"< 60/mo. (Avg. 2hrs./day)"]
[null,null,"< 90/mo. (Avg. 3hrs./day)"]
[null,null,"*This value assumes one service contract regardless of the number of UNITS included in the quote"]
[]
[]
[null,null,"Bundled Offerings","Flexclean – Fair Market Value",null,"Flexclean - $1 Buyout"]
[null,null,"FlexClean 2: ","48 Month Term",null,"48 Month Term"]
[null,null,"Hours included per Month:","Gold","Silver","Gold","Silver"]
[null,null,"< 30/mo. (Avg. 1hr./day)"]
[null,null,"< 60/mo. (Avg. 2hrs./day)"]
[null,null,"< 90/mo. (Avg. 3hrs./day)"]
[null,null,"*This value assumes one service contract regardless of the number of UNITS included in the quote"]
[]
[null,null,"Bundled Offerings","Flexclean – Fair Market Value",null,"Flexclean - $1 Buyout"]
[null,null,"FlexClean 3: ","60 Month Term",null,"60 Month Term"]
[null,null,"Hours included per Month:","Gold","Silver","Gold","Silver"]
[null,null,"< 30/mo. (Avg. 1hr./day)"]
[null,null,"< 60/mo. (Avg. 2hrs./day)"]
[null,null,"< 90/mo. (Avg. 3hrs./day)"]
[null,null,"*This value assumes one service contract regardless of the number of UNITS included in the quote"]
[]
[null,"  TennantTrue"]
[]
[null,null,"Is customer interested in service program?","Yes","*State/County selection required for TennantTrue service options"]
[]
[null,null,"If not, why?"]
[]
[null,null,"Term:",36,null,"AB Brushes","No"]
[null,null,"Monthly machine usage (hrs):","< 30/mo. (Avg. 1hr./day)"]
[]
[null,null,"TennantTrue: ","Gold Contract",null,"Silver Contract"]
[null,null,"Per Visit",null,null,611]
[null,null,"Monthly",231,null,127]
[null,null,"Annually",null,null,1490]
[null,null,"Pre-Pay Full Term",7977,null,4379]
[null,null,"Hourly Labor Rate"]
[null,null,"Site Visit"]
[]
[null,null,"* Verify customer current pricing prior to quote. "]
[null,null,"**All rates and fees above reflect service for one (1) unit with the exception of Block of Time service."]
[null,null,"*Block of Time is available in 1 Year Term only and is priced as such no matter the term selection on this template."]
[]
[]
[null,"Servicing"]
[]
[null,null,"Is customer interested in a service plan?","No"]
[]
[null,null,"If not, why?"]
[]
[]
[null,null,"Quote Special Instructions:"]
[]
[]
[null,null,{"$f":"Start_Here!E36","v":"Terms and Conditions"}]
[null,null,{"$f":"Start_Here!E37","v":"Ask your local sales rep for estimated lead times. Verify when placing order"}]
[null,null,{"$f":"Start_Here!E38","v":"All orders subject to acceptance by Tennant Sales and Service Company, Minneapolis, Minnesota"}]
[null,null,{"$f":"Start_Here!E39","v":"Prices subject to change without notice."}]
[null,null,{"$f":"Start_Here!E40","v":"Terms:  Net 30 days.  Subject to any applicable taxes."}]
[null,null,{"$f":"Start_Here!E41","v":"Freight: Machines and accessory orders delivered FOB shipping point Frt PPD & Add"}]
[null,null,{"$f":"Start_Here!E42","v":"Parts, supplies, detergents and floor treating material orders delivered FOB "}]
[null,null,{"$f":"Start_Here!E43","v":"shipping point Frt PPD"}]
[null,null,{"$f":"Start_Here!E44","v":"All orders are subject to Tennant’s General Terms and Conditions available at http://www.tennantco.com/terms."}]
[null,null,{"$f":"Start_Here!E45","v":"Printed General Terms and Conditions are also available upon request."}]
[null,null,{"$f":"Start_Here!E46","v":0}]
[]
[null,null,null,null,"Quote Date :",null,{"$f":"Letter!$A$25","v":"2020-09-17"}]
["Order Placement Information:  To place your order, fill in PO# and customer signatures,"]
["call or fax to the numbers listed below. Customer Purchase Order is required."]
["If information is missing, orders will be entered and held until all information is received."]
[null,null,"Customer Number",null,"Cust Grp 3"]
[null,null,{"$f":"Start_Here!$C$25","v":0},null,{"$f":"Start_Here!$C$29","v":0}]
[null,null,{"$f":"Start_Here!$B$18","v":"Who Owns the Machine? (Sold-To Info) (Please Verify)"}]
["Company",null,{"$f":"Start_Here!$C$19","v":"Company Name"}]
["Address",null,{"$f":"Start_Here!$C$20","v":"Address"}]
[null,null,{"$f":"Start_Here!$C$21","v":"City, State Zip"}]
["Name",null,{"$f":"Start_Here!$C$22","v":"Contact Name"}]
["Phone",null,{"$f":"Start_Here!$C$23","v":"Contact Phone"}]
[null,null,{"$f":"Start_Here!$B$11","v":"Where is the Machine Being Shipped? (Ship-To Info) (Please Verify)"}]
["Company",null,{"$f":"Start_Here!$C$12","v":"Company Name"}]
["Address",null,{"$f":"Start_Here!$C$13","v":"Address"}]
[null,null,{"$f":"Start_Here!$C$14","v":"City, State Zip"}]
["Name",null,{"$f":"Start_Here!$C$15","v":"Contact Name"}]
["Phone",null,{"$f":"Start_Here!$C$16","v":"Contact Phone"}]
[null,null,{"$f":"Start_Here!$B$31","v":"Shipping / Carrier Instructions:"},null,"Order Special Instructions:"]
[null,null,{"$f":"Start_Here!$C$32","v":0}]
[]
[null,null,"Customer Purchase Order No."]
[null,null,"(please attach copy)"]
[]
[]
[null,null,"Tax Exempt",null,"Yes"]
[null,null,null,null,"No"]
[null,null,"If Yes, attach a copy of your exemption certificate."]
[]
[null,null,"Requested Delivery Date"]
[null,null,{"$f":"Start_Here!$C$28","v":0}]
[]
[null,null,{"$f":"Start_Here!$C$26","v":0},null,{"$f":"Start_Here!$C$27","v":0}]
[null,0,"Authorized Buyer (please print)",null,"Phone Number"]
[]
[]
[null,0,"Authorized Buyer Signature"]
[]
[null,null,{"$f":"Start_Here!$C$41","v":"Rep Name"}]
[null,null,"Tennant Representative"]
[]
["Specialized Maintenance Equipment"]
[{"$f":"Start_Here!$C$48","v":"TENNANT · 10400 Clean Street · Eden Prairie, MN 55344 ·"}]
[{"$f":"Start_Here!$C$49","v":" PHONE:800-553-8033 · FAX:763-513-2116"}]
[]
[]
[]
[null,"Notes"]
[null,1,"A Charger is required when either the Wet 360AH C/20 or AGM 350AH C/20 battery is selected."]
[]
[null,2,"A Polypropylene Brush comes standard with a T1581."]
[]
[null,3,"Pad wrap available only in the Continental US and is the default packaging method."]
[null,null,"Skid w/Carton, Non-Stackable is mandatory when shipping to AK and HI."]
[]
[]
[null,4,"Shipping Weights and Dimensions (Cylindrical)","Pad Wrap","Skid w/Carton"]
[]
[null,null,"Weight - 1000 mm / 40\" Cylindrical (w/ Wet 360Ah)","1,590 lbs / 721 kg","1,239 lbs / 562 kg"]
[null,null,"Length","79 in / 2,010 mm","79 in / 2,010 mm"]
[null,null,"Width","50 in / 1,280 mm","50 in / 1,280 mm"]
[null,null,"Height","61 in / 1,549 mm","62 in / 1,580 mm"]
[]
[null,5,"Shipping Weights and Dimensions (Disk)","Pad Wrap","Skid w/Carton"]
[]
[null,null,"Weight - 1050 mm / 42\" Disk (w/ Wet 360Ah)","1,590 lbs / 721 kg","1,190 lbs / 540 kg"]
[null,null,"Length","79 in / 2,010 mm","79 in / 2,010 mm"]
[null,null,"Width","50 in / 1,280 mm","50 in / 1,280 mm"]
[null,null,"Height","61 in / 1,549 mm","62 in / 1,580 mm"]

{"sheet":"T16_Built_to_Order","index":40,"n_rows":430,"n_cols":13,"rows_kept":430,"cut":false,"hidden":false,"merged":[[186,3,186,6],[189,3,189,4],[189,5,189,6],[191,3,191,4],[258,2,258,6],[232,3,232,6],[212,3,212,4],[212,5,212,6],[213,3,213,4],[213,5,213,6],[220,3,220,4],[220,5,220,6],[191,5,191,6],[204,3,204,4],[204,5,204,6],[203,3,203,4],[101,3,102,3],[11,2,11,6],[34,2,34,6],[35,2,35,6],[36,2,36,6],[37,2,37,6],[38,2,38,6],[0,2,0,3],[1,2,1,3],[2,2,2,3],[3,2,3,3],[239,3,239,4],[239,5,239,6],[243,3,243,4],[243,5,243,6],[240,3,240,4],[240,5,240,6],[241,3,241,4],[234,3,234,4],[235,3,235,4],[237,3,237,4],[237,5,237,6],[238,3,238,4],[238,5,238,6],[203,5,203,6],[401,6,401,8],[291,4,291,7],[295,2,295,5],[304,4,304,5],[221,3,221,4],[221,5,221,6],[289,2,289,5],[287,2,287,5],[277,4,277,7],[280,2,280,5],[281,2,281,5],[288,2,288,5],[279,2,279,5],[254,3,255,6],[230,4,230,8],[286,2,286,5],[282,2,282,5],[283,2,283,5],[285,2,285,5],[241,5,241,6],[242,3,242,4],[242,5,242,6]]}
["T16_Built_to_Order",null,{"$f":"Start_Here!$C19","v":"Company Name"}]
[{"$f":"SUM(G181)","v":0},null,{"$f":"Start_Here!$C20","v":"Address"}]
[null,null,{"$f":"Start_Here!$C21","v":"City, State Zip"}]
[null,null,{"$f":"Start_Here!$C22","v":"Contact Name"}]
[null,null,{"$f":"Start_Here!$C$41","v":"Rep Name"}]
[null,null,{"$f":"Start_Here!$C$37","v":"Tennant Sales and Service Company"}]
[null,null,{"$f":"Start_Here!$C$38","v":"10400 Clean Street"}]
[null,null,{"$f":"Start_Here!$C$39","v":"Eden Prairie, MN 55344"}]
[null,null,{"$f":"Start_Here!$C$43","v":"800-553-8033"},null,"Quote Date :",null,{"$f":"Letter!$A$25","v":"2020-09-17"}]
[]
[null,null,{"$f":"Help!C2","v":"US Date Rev - 5/6/2025"}]
[null,null,"BUILT-IN “TENNANT VALUE” INCLUDES:"]
[]
[null,null,"36V, 235 AH Battery Pack",null,"Removable Tool Caddy and Large Cargo Net Storage Area"]
[null,null,"20 Amp, 115 Volt 60 Hz Charger",null,"Standard Cylindrical or Disk Scrubbing Brushes (Select One)"]
[null,null,"Two Speed Electronic Overdrive Transmission with",null,"Hygienic Non-Corrosive Duramer™ Solution and Recovery Tanks"]
[null,null,"AC Propel Motor",null,"50 gal (190 L) Solution Tank"]
[null,null,"Disk or Cylindrcial Scrubbing - 36 in (910 mm) path",null,"60 gal (225 L) Recovery Tank"]
[null,null,"Steering Wheel Mounted, Touch-N-GO Control Module ",null,"10 gal (38 L) Demisting Chamber"]
[null,null,"                1-Step™ One-Button Scrub Operation",null,"Parabolic Rear Squeegee"]
[null,null,"                3 Down-Pressure Settings",null,"SmartRelease™ Breakaway System"]
[null,null,"                Steering Wheel Mounted Horn",null,"Linatex Squeegee Blades"]
[null,null,"                On Board Diagnostics",null,"Cast Aluminum Rear Squeegee Frame"]
[null,null,"               Water Shutoff Thumb Switch",null,"No Tool Squeegee and Brush Change"]
[null,null,"Automatic:",null,"In-Line Vacuum Fan Air Filter"]
[null,null,"               Parking Brake",null,"High Visibility Maintenance Touch Points"]
[null,null,"               Squeegee Lift",null,"Underwriters Laboratory (UL®) \"E\" Certification"]
[null,null,"              Water Shutoff",null,"Cup Holder"]
[null,null,"              Brush Shutoff When Idle",null,"Operator Manual and Video"]
[null,null,"              Brush Shutoff at 80% Battery Discharge",null,"Front and Rear Non-Marking Tires "]
[null,null,"ec-H2OTM Cleaning Solution Includes:"]
[null,null,"Electrically Converted Water Technology System"]
[null,null,"Two Scrubbing Modes: ec-H2OTM& Conventional Scrubbing"]
[]
[null,null,"TENNANT COMPANY WARRANTY"]
[null,null,"36 MONTHS OR 2000 HOURS - PARTS"]
[null,null,"24 MONTHS - LABOR"]
[null,null,"6 MONTHS - TRAVEL"]
[null,null,"10 YEARS ON DURAMERTM TANKS"]
[]
[]
[null,null,null,null,"                Quote Request Information"]
[null,null,null,null,null,null,"Fax (quote only)"]
[null,null,null,null,null,null,"Mail (quote,lit, specs)"]
[null,null,null,null,null,null,"Fax + Mail"]
[]
[null,null,null,null,"                Primary Use"]
[null,null,null,null,null,null,"Inside"]
[null,null,null,null,null,null,"Outside"]
[]
[null,null,"Description","Reference #","US Price Each","Qty","Extended Price"]
[null,"Base Configuration",null,null,null,{"$f":"SUM(F53,F57,F64,F69,F79,F85,F95)","v":0},null,{"$f":"IFERROR(IFERROR(VLOOKUP(D52,Surcharge!A:B,2,FALSE)*F52, VLOOKUP(D52 & \"\",Surcharge!A:B,2,FALSE)*F52), \"\")","v":""}]
[null,null,"Cleaning Type",null,null,{"$f":"SUM(F54:F55)","v":0},null,{"$f":"IFERROR(IFERROR(VLOOKUP(D53,Surcharge!A:B,2,FALSE)*F53, VLOOKUP(D53 & \"\",Surcharge!A:B,2,FALSE)*F53), \"\")","v":""},null,null,null,{"$f":"SUM(F53)","v":0},"Surcharge Qty"]
[null,null,"T16 Rider - Conventional Disk Scrubbing","T16-910-D",37638,null,{"$f":"F54*E54","v":0},{"$f":"IFERROR(IFERROR(VLOOKUP(D54,Surcharge!A:B,2,FALSE)*F54, VLOOKUP(D54 & \"\",Surcharge!A:B,2,FALSE)*F54), \"\")","v":0},null,null,null,{"$f":"SUM(F54)","v":0},"Surcharge Qty"]
[null,null,"T16 Rider - Conventional Cylindrical Scrubbing","T16-910-C",37638,null,{"$f":"F55*E55","v":0},{"$f":"IFERROR(IFERROR(VLOOKUP(D55,Surcharge!A:B,2,FALSE)*F55, VLOOKUP(D55 & \"\",Surcharge!A:B,2,FALSE)*F55), \"\")","v":0}]
[null,null,null,null,null,null,null,{"$f":"IFERROR(IFERROR(VLOOKUP(D56,Surcharge!A:B,2,FALSE)*F56, VLOOKUP(D56 & \"\",Surcharge!A:B,2,FALSE)*F56), \"\")","v":""}]
[null,null,"Cleaning Technology: (conventional is standard,  ec-H2O  can also operate in conventional mode)  (Note 1)",null,null,{"$f":"SUM(F58:F62)","v":0},null,{"$f":"IFERROR(IFERROR(VLOOKUP(D57,Surcharge!A:B,2,FALSE)*F57, VLOOKUP(D57 & \"\",Surcharge!A:B,2,FALSE)*F57), \"\")","v":""}]
[null,null,"ec-H2O™ with S.E. Switch Capability","ec-H2O-T16",4835,null,{"$f":"F58*E58","v":0},{"$f":"IFERROR(IFERROR(VLOOKUP(D58,Surcharge!A:B,2,FALSE)*F58, VLOOKUP(D58 & \"\",Surcharge!A:B,2,FALSE)*F58), \"\")","v":""}]
[null,null,"ES® Extended Scrub (Note 2)","ES-T16",4830,null,{"$f":"F59*E59","v":0},{"$f":"IFERROR(IFERROR(VLOOKUP(D59,Surcharge!A:B,2,FALSE)*F59, VLOOKUP(D59 & \"\",Surcharge!A:B,2,FALSE)*F59), \"\")","v":""}]
[]
[null,null,"S.E. Switch Capability DEDUCT",null,-427,null,{"$f":"F61*E61","v":0}]
[null,null,"Detergent Metering  (Note 3)",9020977,3408,null,{"$f":"F62*E62","v":0}]
[null,null,null,null," ",null,null,{"$f":"IFERROR(IFERROR(VLOOKUP(D63,Surcharge!A:B,2,FALSE)*F63, VLOOKUP(D63 & \"\",Surcharge!A:B,2,FALSE)*F63), \"\")","v":""}]
[null,null,"Squeegee Material ",null," ",{"$f":"SUM(F65:F67)","v":0},null,{"$f":"IFERROR(IFERROR(VLOOKUP(D64,Surcharge!A:B,2,FALSE)*F64, VLOOKUP(D64 & \"\",Surcharge!A:B,2,FALSE)*F64), \"\")","v":""}]
[null,null,"Linatex",null,"N/C",null,{"$f":"IF(F65=0,\" \",\"N/C\")","v":" "},{"$f":"IFERROR(IFERROR(VLOOKUP(D65,Surcharge!A:B,2,FALSE)*F65, VLOOKUP(D65 & \"\",Surcharge!A:B,2,FALSE)*F65), \"\")","v":""}]
[null,null,"Gum Rubber",null,"N/C",null,{"$f":"IF(F66=0,\" \",\"N/C\")","v":" "},{"$f":"IFERROR(IFERROR(VLOOKUP(D66,Surcharge!A:B,2,FALSE)*F66, VLOOKUP(D66 & \"\",Surcharge!A:B,2,FALSE)*F66), \"\")","v":""}]
[null,null,"Urethane",null,"N/C",null,{"$f":"IF(F67=0,\" \",\"N/C\")","v":" "},{"$f":"IFERROR(IFERROR(VLOOKUP(D67,Surcharge!A:B,2,FALSE)*F67, VLOOKUP(D67 & \"\",Surcharge!A:B,2,FALSE)*F67), \"\")","v":""}]
[null,null,null,null," ",null,null,{"$f":"IFERROR(IFERROR(VLOOKUP(D68,Surcharge!A:B,2,FALSE)*F68, VLOOKUP(D68 & \"\",Surcharge!A:B,2,FALSE)*F68), \"\")","v":""}]
[null,null,"Battery Type  (Notes 4-8)",null," ",{"$f":"SUM(F70:F77)","v":0},null,{"$f":"IFERROR(IFERROR(VLOOKUP(D69,Surcharge!A:B,2,FALSE)*F69, VLOOKUP(D69 & \"\",Surcharge!A:B,2,FALSE)*F69), \"\")","v":""}]
[null,null,"Wet 240 AH",9008140,"N/C",null,{"$f":"IF(F70=0,\" \",\"N/C\")","v":" "},{"$f":"IFERROR(IFERROR(VLOOKUP(D70,Surcharge!A:B,2,FALSE)*F70, VLOOKUP(D70 & \"\",Surcharge!A:B,2,FALSE)*F70), \"\")","v":""}]
[null,null,"Wet 360 AH (in lieu of standard)",9008141,1167,null,{"$f":"F71*E71","v":0},{"$f":"IFERROR(IFERROR(VLOOKUP(D71,Surcharge!A:B,2,FALSE)*F71, VLOOKUP(D71 & \"\",Surcharge!A:B,2,FALSE)*F71), \"\")","v":""}]
[null,null,"Sealed/MF AGM 312AH C/6",325818,5029,null,{"$f":"F72*E72","v":0},{"$f":"IFERROR(IFERROR(VLOOKUP(D72,Surcharge!A:B,2,FALSE)*F72, VLOOKUP(D72 & \"\",Surcharge!A:B,2,FALSE)*F72), \"\")","v":""}]
[null,null,"Li-Ion 240 AH (Kit of 3 batteries) (Note 8)",9023271,6990,null,{"$f":"F73*E73","v":0}]
[null,null,"Li-Ion 320 AH (Kit of 4 batteries) (Note 8)",9023272,9320,null,{"$f":"F74*E74","v":0}]
[null,null,"Less Battery, DEDUCT (Note 9) ","LESS BATTERY",-495,null,{"$f":"F75*E75","v":0},{"$f":"IFERROR(IFERROR(VLOOKUP(D75,Surcharge!A:B,2,FALSE)*F75, VLOOKUP(D75 & \"\",Surcharge!A:B,2,FALSE)*F75), \"\")","v":""}]
[null,null,null,null," ",null,null,{"$f":"IFERROR(IFERROR(VLOOKUP(D76,Surcharge!A:B,2,FALSE)*F76, VLOOKUP(D76 & \"\",Surcharge!A:B,2,FALSE)*F76), \"\")","v":""}]
[null,null,"Manual Battery Watering System  (Note 10)",9009620,805,null,{"$f":"F77*E77","v":0},{"$f":"IFERROR(IFERROR(VLOOKUP(D77,Surcharge!A:B,2,FALSE)*F77, VLOOKUP(D77 & \"\",Surcharge!A:B,2,FALSE)*F77), \"\")","v":""}]
[null,null,null,null,null,null,null,{"$f":"IFERROR(IFERROR(VLOOKUP(D78,Surcharge!A:B,2,FALSE)*F78, VLOOKUP(D78 & \"\",Surcharge!A:B,2,FALSE)*F78), \"\")","v":""}]
[null,null,"Battery Exchange System  (Notes 11 & 12)",null,null,{"$f":"SUM(F80:F83)","v":0},null,{"$f":"IFERROR(IFERROR(VLOOKUP(D79,Surcharge!A:B,2,FALSE)*F79, VLOOKUP(D79 & \"\",Surcharge!A:B,2,FALSE)*F79), \"\")","v":""}]
[null,null,"Rollout Battery System (roll-out gear in machine & battery case (no batteries)\n  (Note 13a)",9008082,3728,null,{"$f":"F80*E80","v":0},{"$f":"IFERROR(IFERROR(VLOOKUP(D80,Surcharge!A:B,2,FALSE)*F80, VLOOKUP(D80 & \"\",Surcharge!A:B,2,FALSE)*F80), \"\")","v":""}]
[null,null,"Extra Battery, 360 AH Wet (Note 13a)",9008523,2487,null,{"$f":"F81*E81","v":0},{"$f":"IFERROR(IFERROR(VLOOKUP(D81,Surcharge!A:B,2,FALSE)*F81, VLOOKUP(D81 & \"\",Surcharge!A:B,2,FALSE)*F81), \"\")","v":""}]
[null,null,"Extra Rollout Steel Battery Case (no battery)",369483,636,null,{"$f":"F82*E82","v":0},{"$f":"IFERROR(IFERROR(VLOOKUP(D82,Surcharge!A:B,2,FALSE)*F82, VLOOKUP(D82 & \"\",Surcharge!A:B,2,FALSE)*F82), \"\")","v":""}]
[null,null,"EasyGlide™ Battery Cart (Note 13)",9007087,2655,null,{"$f":"F83*E83","v":0},{"$f":"IFERROR(IFERROR(VLOOKUP(D83,Surcharge!A:B,2,FALSE)*F83, VLOOKUP(D83 & \"\",Surcharge!A:B,2,FALSE)*F83), \"\")","v":""}]
[null,null,null,null,null,null,null,{"$f":"IFERROR(IFERROR(VLOOKUP(D84,Surcharge!A:B,2,FALSE)*F84, VLOOKUP(D84 & \"\",Surcharge!A:B,2,FALSE)*F84), \"\")","v":""}]
[null,null,"Charger  (Note 14)",null,null,{"$f":"SUM(F86:F93)","v":0},null,{"$f":"IFERROR(IFERROR(VLOOKUP(D85,Surcharge!A:B,2,FALSE)*F85, VLOOKUP(D85 & \"\",Surcharge!A:B,2,FALSE)*F85), \"\")","v":""}]
[null,null,"21A 85-265V AC 50/60Hz 1Ph - Off-Board (for Wet / Lead Acid Batteries)",9003372,"N/C",null,{"$f":"IF(F86=0,\" \",\"N/C\")","v":" "},{"$f":"IFERROR(IFERROR(VLOOKUP(D86,Surcharge!A:B,2,FALSE)*F86, VLOOKUP(D86 & \"\",Surcharge!A:B,2,FALSE)*F86), \"\")","v":""}]
[null,null,"21A 85-265V AC 50/60Hz 1Ph - Off-Board for Rollout System (for Wet / Lead Acid Batteries)",9003373,"N/C",null,{"$f":"IF(F87=0,\" \",\"N/C\")","v":" "},{"$f":"IFERROR(IFERROR(VLOOKUP(D87,Surcharge!A:B,2,FALSE)*F87, VLOOKUP(D87 & \"\",Surcharge!A:B,2,FALSE)*F87), \"\")","v":""}]
[null,null,"20A 85-130V AC 50/60Hz 1Ph - On-Board (for Wet / Lead Acid Batteries)",9008080,890,null,{"$f":"F88*E88","v":0},{"$f":"IFERROR(IFERROR(VLOOKUP(D88,Surcharge!A:B,2,FALSE)*F88, VLOOKUP(D88 & \"\",Surcharge!A:B,2,FALSE)*F88), \"\")","v":""}]
[null,null,"21A 85-265V AC 50/60Hz 1Ph - Off-Board (for AGM Battery)",314787,807,null,{"$f":"F89*E89","v":0},{"$f":"IFERROR(IFERROR(VLOOKUP(D89,Surcharge!A:B,2,FALSE)*F89, VLOOKUP(D89 & \"\",Surcharge!A:B,2,FALSE)*F89), \"\")","v":""}]
[null,null,"21A 85-265V AC 50/60Hz 1Ph - On-Board (for AGM Battery)  ",325824,2179,null,{"$f":"F90*E90","v":0},{"$f":"IFERROR(IFERROR(VLOOKUP(D90,Surcharge!A:B,2,FALSE)*F90, VLOOKUP(D90 & \"\",Surcharge!A:B,2,FALSE)*F90), \"\")","v":""}]
[null,null,"33A 100-240V AC 50/60Hz 1Ph- Off-board (for All Lithium-Ion) (Note 8)",9052019,525,null,{"$f":"F91*E91","v":0}]
[null,null,"90A 200-240V AC 50/60Hz 1Ph - Off-Board (for Li-Ion Batteries) (Note 8)",1253031,1225,null,0]
[null,null,"Less Charger, DEDUCT","LESS CHARGER",-323,null,{"$f":"F93*E93","v":0},{"$f":"IFERROR(IFERROR(VLOOKUP(D93,Surcharge!A:B,2,FALSE)*F93, VLOOKUP(D93 & \"\",Surcharge!A:B,2,FALSE)*F93), \"\")","v":""}]
[null,null,null,null," ",null,null,{"$f":"IFERROR(IFERROR(VLOOKUP(D94,Surcharge!A:B,2,FALSE)*F94, VLOOKUP(D94 & \"\",Surcharge!A:B,2,FALSE)*F94), \"\")","v":""}]
[null,null,"UL Rating ",null," ",{"$f":"SUM(F96:F97)","v":0},null,{"$f":"IFERROR(IFERROR(VLOOKUP(D95,Surcharge!A:B,2,FALSE)*F95, VLOOKUP(D95 & \"\",Surcharge!A:B,2,FALSE)*F95), \"\")","v":""}]
[null,null,"UL® Type E",null,"N/C",null,{"$f":"IF(F96=0,\" \",\"N/C\")","v":" "},{"$f":"IFERROR(IFERROR(VLOOKUP(D96,Surcharge!A:B,2,FALSE)*F96, VLOOKUP(D96 & \"\",Surcharge!A:B,2,FALSE)*F96), \"\")","v":""}]
[null,null,"UL® Type ES",325825,3084,null,{"$f":"F97*E97","v":0},{"$f":"IFERROR(IFERROR(VLOOKUP(D97,Surcharge!A:B,2,FALSE)*F97, VLOOKUP(D97 & \"\",Surcharge!A:B,2,FALSE)*F97), \"\")","v":""}]
[null,null,null,null," ",null,null,{"$f":"IFERROR(IFERROR(VLOOKUP(D98,Surcharge!A:B,2,FALSE)*F98, VLOOKUP(D98 & \"\",Surcharge!A:B,2,FALSE)*F98), \"\")","v":""}]
[null,"Packages  (Note 15)",null,null," ",{"$f":"SUM(F101:F105)","v":0},null,{"$f":"IFERROR(IFERROR(VLOOKUP(D99,Surcharge!A:B,2,FALSE)*F99, VLOOKUP(D99 & \"\",Surcharge!A:B,2,FALSE)*F99), \"\")","v":""}]
[null,null,"Heavy Duty Protection Package: ",null,3273,{"$f":"SUM(F101)","v":0},null,{"$f":"IFERROR(IFERROR(VLOOKUP(D100,Surcharge!A:B,2,FALSE)*F100, VLOOKUP(D100 & \"\",Surcharge!A:B,2,FALSE)*F100), \"\")","v":""}]
[null,null,"    OHG, Front Bumper, & Rear Squeegee Protection",9008530,null,0,{"$f":"F101*E101","v":0},{"$f":"IFERROR(IFERROR(VLOOKUP(D101,Surcharge!A:B,2,FALSE)*F101, VLOOKUP(D101 & \"\",Surcharge!A:B,2,FALSE)*F101), \"\")","v":""}]
[null,null,"Productivity Package - Scrubbing: ",9008531,5750,{"$f":"SUM(F103)","v":0},null,{"$f":"IFERROR(IFERROR(VLOOKUP(D102,Surcharge!A:B,2,FALSE)*F102, VLOOKUP(D102 & \"\",Surcharge!A:B,2,FALSE)*F102), \"\")","v":""}]
[null,null,"Side Scrub Brush, Vac Wand, Spray Hose",null,null,null,{"$f":"F103*E103","v":0},{"$f":"IFERROR(IFERROR(VLOOKUP(D103,Surcharge!A:B,2,FALSE)*F103, VLOOKUP(D103 & \"\",Surcharge!A:B,2,FALSE)*F103), \"\")","v":""}]
[null,null,"Safety Light Package: ",null,937,{"$f":"SUM(F105)","v":0},null,{"$f":"IFERROR(IFERROR(VLOOKUP(D104,Surcharge!A:B,2,FALSE)*F104, VLOOKUP(D104 & \"\",Surcharge!A:B,2,FALSE)*F104), \"\")","v":""}]
[null,null,"LED Head Light and AV Backup Alarm (strobe warning light)",9008529,null,null,{"$f":"F105*E105","v":0},{"$f":"IFERROR(IFERROR(VLOOKUP(D105,Surcharge!A:B,2,FALSE)*F105, VLOOKUP(D105 & \"\",Surcharge!A:B,2,FALSE)*F105), \"\")","v":""}]
[null,null,null,null,null,null,null,{"$f":"IFERROR(IFERROR(VLOOKUP(D106,Surcharge!A:B,2,FALSE)*F106, VLOOKUP(D106 & \"\",Surcharge!A:B,2,FALSE)*F106), \"\")","v":""}]
[null,"Cleaning Performance",null,"Reference Number",null,{"$f":"SUM(F108:F113)","v":0},null,{"$f":"IFERROR(IFERROR(VLOOKUP(D107,Surcharge!A:B,2,FALSE)*F107, VLOOKUP(D107 & \"\",Surcharge!A:B,2,FALSE)*F107), \"\")","v":""}]
[null,null,"Pre-Sweep with Dual Side Brush (Note 2, 15, & 16)"," 9008048 ",6698,null,{"$f":"F108*E108","v":0},{"$f":"IFERROR(IFERROR(VLOOKUP(D108,Surcharge!A:B,2,FALSE)*F108, VLOOKUP(D108 & \"\",Surcharge!A:B,2,FALSE)*F108), \"\")","v":""}]
[null,null,"Side Brush: RH Scrubbing",9008038,4706,null,0,{"$f":"IFERROR(IFERROR(VLOOKUP(D109,Surcharge!A:B,2,FALSE)*F109, VLOOKUP(D109 & \"\",Surcharge!A:B,2,FALSE)*F109), \"\")","v":""}]
[null,null,"Vacuum  Wand",9008046,932,null,0,{"$f":"IFERROR(IFERROR(VLOOKUP(D110,Surcharge!A:B,2,FALSE)*F110, VLOOKUP(D110 & \"\",Surcharge!A:B,2,FALSE)*F110), \"\")","v":""}]
[null,null,"Spray Nozzle with Hose",9008042,1326,null,0,{"$f":"IFERROR(IFERROR(VLOOKUP(D111,Surcharge!A:B,2,FALSE)*F111, VLOOKUP(D111 & \"\",Surcharge!A:B,2,FALSE)*F111), \"\")","v":""}]
[null,null,"Dual Vacuum Fans (Note 17)",9008036,928,null,0,{"$f":"IFERROR(IFERROR(VLOOKUP(D112,Surcharge!A:B,2,FALSE)*F112, VLOOKUP(D112 & \"\",Surcharge!A:B,2,FALSE)*F112), \"\")","v":""}]
[null,null,"Drain Control Valve - Solution and Recover  (Note 18)",9021383,1935,null,0,{"$f":"IFERROR(IFERROR(VLOOKUP(D113,Surcharge!A:B,2,FALSE)*F113, VLOOKUP(D113 & \"\",Surcharge!A:B,2,FALSE)*F113), \"\")","v":""}]
[null,null,null,null,null,null,null,{"$f":"IFERROR(IFERROR(VLOOKUP(D114,Surcharge!A:B,2,FALSE)*F114, VLOOKUP(D114 & \"\",Surcharge!A:B,2,FALSE)*F114), \"\")","v":""}]
[null,"Machine Protection & Safety",null,null,null,{"$f":"SUM(F116:F125)","v":0},null,{"$f":"IFERROR(IFERROR(VLOOKUP(D115,Surcharge!A:B,2,FALSE)*F115, VLOOKUP(D115 & \"\",Surcharge!A:B,2,FALSE)*F115), \"\")","v":""}]
[null,null,"Heavy Duty Front Bumper (Note 19)",9006922,1007,null,{"$f":"F116*E116","v":0},{"$f":"IFERROR(IFERROR(VLOOKUP(D116,Surcharge!A:B,2,FALSE)*F116, VLOOKUP(D116 & \"\",Surcharge!A:B,2,FALSE)*F116), \"\")","v":""}]
[null,null,"Heavy Duty Squeegee Protection",9008066,788,null,0,{"$f":"IFERROR(IFERROR(VLOOKUP(D117,Surcharge!A:B,2,FALSE)*F117, VLOOKUP(D117 & \"\",Surcharge!A:B,2,FALSE)*F117), \"\")","v":""}]
[null,null,"Overhead Guard (order Heavy Duty Front Bumper also) (Note 20)",9008018,2179,null,0,{"$f":"IFERROR(IFERROR(VLOOKUP(D118,Surcharge!A:B,2,FALSE)*F118, VLOOKUP(D118 & \"\",Surcharge!A:B,2,FALSE)*F118), \"\")","v":""}]
[null,null,"Deluxe Seat with Arm Rest (In Lieu of Standard)  (Note 21)",9008032,614,null,0,{"$f":"IFERROR(IFERROR(VLOOKUP(D119,Surcharge!A:B,2,FALSE)*F119, VLOOKUP(D119 & \"\",Surcharge!A:B,2,FALSE)*F119), \"\")","v":""}]
[null,null,"Headlight(s) LED",9008068,428,null,0,{"$f":"IFERROR(IFERROR(VLOOKUP(D120,Surcharge!A:B,2,FALSE)*F120, VLOOKUP(D120 & \"\",Surcharge!A:B,2,FALSE)*F120), \"\")","v":""}]
[null,null,"AV BU Alarm-Strobe on Tank",9008138,722,null,0,{"$f":"IFERROR(IFERROR(VLOOKUP(D121,Surcharge!A:B,2,FALSE)*F121, VLOOKUP(D121 & \"\",Surcharge!A:B,2,FALSE)*F121), \"\")","v":""}]
[null,null,"Strobe Light on OHG",9008134,722,null,0,{"$f":"IFERROR(IFERROR(VLOOKUP(D122,Surcharge!A:B,2,FALSE)*F122, VLOOKUP(D122 & \"\",Surcharge!A:B,2,FALSE)*F122), \"\")","v":""}]
[null,null,"Blue Light  (Note 22)",9020971,1075,null,{"$f":"F123*E123","v":0}]
[null,null,"Fire Extinguisher",9008079,368,null,{"$f":"F124*E124","v":0},{"$f":"IFERROR(IFERROR(VLOOKUP(D124,Surcharge!A:B,2,FALSE)*F124, VLOOKUP(D124 & \"\",Surcharge!A:B,2,FALSE)*F124), \"\")","v":""}]
[null,null,"Trailer Transport Kit (cover latches for trailering)",9008057,208,null,{"$f":"F125*E125","v":0},{"$f":"IFERROR(IFERROR(VLOOKUP(D125,Surcharge!A:B,2,FALSE)*F125, VLOOKUP(D125 & \"\",Surcharge!A:B,2,FALSE)*F125), \"\")","v":""}]
[null,null,null,null,null,null,null,{"$f":"IFERROR(IFERROR(VLOOKUP(D126,Surcharge!A:B,2,FALSE)*F126, VLOOKUP(D126 & \"\",Surcharge!A:B,2,FALSE)*F126), \"\")","v":""}]
[null,"Brushes and Pads",null,null,null,{"$f":"SUM(F128,F134,F138)","v":0},null,{"$f":"IFERROR(IFERROR(VLOOKUP(D127,Surcharge!A:B,2,FALSE)*F127, VLOOKUP(D127 & \"\",Surcharge!A:B,2,FALSE)*F127), \"\")","v":""}]
[null,null,"Disk Scrubbing Brushes/Pads (2 Required)",null,null,{"$f":"SUM(F129:F132)","v":0},null,{"$f":"IFERROR(IFERROR(VLOOKUP(D128,Surcharge!A:B,2,FALSE)*F128, VLOOKUP(D128 & \"\",Surcharge!A:B,2,FALSE)*F128), \"\")","v":""}]
[null,null,"Polypropylene Brush",1220188,"N/C",null,{"$f":"IF(F129=0,\" \",\"N/C\")","v":" "},{"$f":"IFERROR(IFERROR(VLOOKUP(D129,Surcharge!A:B,2,FALSE)*F129, VLOOKUP(D129 & \"\",Surcharge!A:B,2,FALSE)*F129), \"\")","v":""}]
[null,null,"Super Abrasive Brush",1220190,212,null,{"$f":"F130*E130","v":0},{"$f":"IFERROR(IFERROR(VLOOKUP(D130,Surcharge!A:B,2,FALSE)*F130, VLOOKUP(D130 & \"\",Surcharge!A:B,2,FALSE)*F130), \"\")","v":""}]
[null,null,null,null,null,null,null,{"$f":"IFERROR(IFERROR(VLOOKUP(D131,Surcharge!A:B,2,FALSE)*F131, VLOOKUP(D131 & \"\",Surcharge!A:B,2,FALSE)*F131), \"\")","v":""}]
[null,null,"Pad Driver",1220200,"N/C",null,{"$f":"IF(F132=0,\" \",\"N/C\")","v":" "},{"$f":"IFERROR(IFERROR(VLOOKUP(D132,Surcharge!A:B,2,FALSE)*F132, VLOOKUP(D132 & \"\",Surcharge!A:B,2,FALSE)*F132), \"\")","v":""}]
[null,null,null,null,null,null,null,{"$f":"IFERROR(IFERROR(VLOOKUP(D133,Surcharge!A:B,2,FALSE)*F133, VLOOKUP(D133 & \"\",Surcharge!A:B,2,FALSE)*F133), \"\")","v":""}]
[null,null,"Cylindrical Scrubbing Brushes (2 Required)",null,null,{"$f":"SUM(F135:F136)","v":0},null,{"$f":"IFERROR(IFERROR(VLOOKUP(D134,Surcharge!A:B,2,FALSE)*F134, VLOOKUP(D134 & \"\",Surcharge!A:B,2,FALSE)*F134), \"\")","v":""}]
[null,null,"Polypropylene Brush",1053893,"N/C",null,{"$f":"IF(F135=0,\" \",\"N/C\")","v":" "},{"$f":"IFERROR(IFERROR(VLOOKUP(D135,Surcharge!A:B,2,FALSE)*F135, VLOOKUP(D135 & \"\",Surcharge!A:B,2,FALSE)*F135), \"\")","v":""}]
[null,null,"Super Abrasive Brush",1062578,212,null,{"$f":"F136*E136","v":0},{"$f":"IFERROR(IFERROR(VLOOKUP(D136,Surcharge!A:B,2,FALSE)*F136, VLOOKUP(D136 & \"\",Surcharge!A:B,2,FALSE)*F136), \"\")","v":""}]
[null,null,null,null,null,null,null,{"$f":"IFERROR(IFERROR(VLOOKUP(D137,Surcharge!A:B,2,FALSE)*F137, VLOOKUP(D137 & \"\",Surcharge!A:B,2,FALSE)*F137), \"\")","v":""}]
[null,null,"Disk Scrubbing Brush/Pad and Sweeping Brush for Side Brush Option (1 Required)",null,null,{"$f":"SUM(F139:F142)","v":0},null,{"$f":"IFERROR(IFERROR(VLOOKUP(D138,Surcharge!A:B,2,FALSE)*F138, VLOOKUP(D138 & \"\",Surcharge!A:B,2,FALSE)*F138), \"\")","v":""}]
[null,null,"Polypropylene Scrubbing Brush",1220240,"N/C",null,{"$f":"IF(F139=0,\" \",\"N/C\")","v":" "},{"$f":"IFERROR(IFERROR(VLOOKUP(D139,Surcharge!A:B,2,FALSE)*F139, VLOOKUP(D139 & \"\",Surcharge!A:B,2,FALSE)*F139), \"\")","v":""}]
[null,null,"Super Abrasive Brush",1220232,212,null,{"$f":"F140*E140","v":0},{"$f":"IFERROR(IFERROR(VLOOKUP(D140,Surcharge!A:B,2,FALSE)*F140, VLOOKUP(D140 & \"\",Surcharge!A:B,2,FALSE)*F140), \"\")","v":""}]
[null,null,null,null,null,null,null,{"$f":"IFERROR(IFERROR(VLOOKUP(D141,Surcharge!A:B,2,FALSE)*F141, VLOOKUP(D141 & \"\",Surcharge!A:B,2,FALSE)*F141), \"\")","v":""}]
[null,null,"Pad Driver",1220243,"N/C",null,{"$f":"IF(F142=0,\" \",\"N/C\")","v":" "},{"$f":"IFERROR(IFERROR(VLOOKUP(D142,Surcharge!A:B,2,FALSE)*F142, VLOOKUP(D142 & \"\",Surcharge!A:B,2,FALSE)*F142), \"\")","v":""}]
[null,null,null,null,null,null,null,{"$f":"IFERROR(IFERROR(VLOOKUP(D143,Surcharge!A:B,2,FALSE)*F143, VLOOKUP(D143 & \"\",Surcharge!A:B,2,FALSE)*F143), \"\")","v":""}]
[null,"Support  (Note 23)",null,"Reference Number",null,{"$f":"SUM(F145:F154)","v":0},null,{"$f":"IFERROR(IFERROR(VLOOKUP(D144,Surcharge!A:B,2,FALSE)*F144, VLOOKUP(D144 & \"\",Surcharge!A:B,2,FALSE)*F144), \"\")","v":""}]
[null,null,"Standard Warranty",null,"N/C",null,{"$f":"IF(F145=0,\" \",\"N/C\")","v":" "},{"$f":"IFERROR(IFERROR(VLOOKUP(D145,Surcharge!A:B,2,FALSE)*F145, VLOOKUP(D145 & \"\",Surcharge!A:B,2,FALSE)*F145), \"\")","v":""}]
[null,null,"Ultimate Performance Guarantee",50619,"N/C",null,{"$f":"IF(F146=0,\" \",\"N/C\")","v":" "},{"$f":"IFERROR(IFERROR(VLOOKUP(D146,Surcharge!A:B,2,FALSE)*F146, VLOOKUP(D146 & \"\",Surcharge!A:B,2,FALSE)*F146), \"\")","v":""}]
[null,null,"Operator Manual (English)",9008142,"N/C",null,{"$f":"IF(F147=0,\" \",\"N/C\")","v":" "},{"$f":"IFERROR(IFERROR(VLOOKUP(D147,Surcharge!A:B,2,FALSE)*F147, VLOOKUP(D147 & \"\",Surcharge!A:B,2,FALSE)*F147), \"\")","v":""}]
[null,null,"Operator Manual (Spanish)",9008143,"N/C",null,{"$f":"IF(F148=0,\" \",\"N/C\")","v":" "},{"$f":"IFERROR(IFERROR(VLOOKUP(D148,Surcharge!A:B,2,FALSE)*F148, VLOOKUP(D148 & \"\",Surcharge!A:B,2,FALSE)*F148), \"\")","v":""}]
[null,null,"Operator Manual (French)",9008144,"N/C",null,{"$f":"IF(F149=0,\" \",\"N/C\")","v":" "},{"$f":"IFERROR(IFERROR(VLOOKUP(D149,Surcharge!A:B,2,FALSE)*F149, VLOOKUP(D149 & \"\",Surcharge!A:B,2,FALSE)*F149), \"\")","v":""}]
[null,null,"Additional Operator Manual","SEE ABOVE",80,null,{"$f":"F150*E150","v":0},{"$f":"IFERROR(IFERROR(VLOOKUP(D150,Surcharge!A:B,2,FALSE)*F150, VLOOKUP(D150 & \"\",Surcharge!A:B,2,FALSE)*F150), \"\")","v":""}]
[null,null,"T16 Parts Manual",9008148,"N/C",null,{"$f":"IF(F151=0,\" \",\"N/C\")","v":" "},{"$f":"IFERROR(IFERROR(VLOOKUP(D151,Surcharge!A:B,2,FALSE)*F151, VLOOKUP(D151 & \"\",Surcharge!A:B,2,FALSE)*F151), \"\")","v":""}]
[null,null,"Service Manual",9008149,264,null,{"$f":"F152*E152","v":0},{"$f":"IFERROR(IFERROR(VLOOKUP(D152,Surcharge!A:B,2,FALSE)*F152, VLOOKUP(D152 & \"\",Surcharge!A:B,2,FALSE)*F152), \"\")","v":""}]
[null,null,null,null,null,null,null,{"$f":"IFERROR(IFERROR(VLOOKUP(D153,Surcharge!A:B,2,FALSE)*F153, VLOOKUP(D153 & \"\",Surcharge!A:B,2,FALSE)*F153), \"\")","v":""}]
[null,null,"Packaging  (Note 24)",null,null,{"$f":"SUM(F155:F158)","v":0},null,{"$f":"IFERROR(IFERROR(VLOOKUP(D154,Surcharge!A:B,2,FALSE)*F154, VLOOKUP(D154 & \"\",Surcharge!A:B,2,FALSE)*F154), \"\")","v":""}]
[null,null,"Pad Wrap",null,"N/C",null,{"$f":"IF(F155=0,\" \",\"N/C\")","v":" "},{"$f":"IFERROR(IFERROR(VLOOKUP(D155,Surcharge!A:B,2,FALSE)*F155, VLOOKUP(D155 & \"\",Surcharge!A:B,2,FALSE)*F155), \"\")","v":""}]
[null,null,"Crate - Non-Pre-Sweep",9008063,1435,null,{"$f":"F156*E156","v":0},{"$f":"IFERROR(IFERROR(VLOOKUP(D156,Surcharge!A:B,2,FALSE)*F156, VLOOKUP(D156 & \"\",Surcharge!A:B,2,FALSE)*F156), \"\")","v":""}]
[null,null,"Crate - Pre-Sweep",9008056,1435,null,{"$f":"F157*E157","v":0},{"$f":"IFERROR(IFERROR(VLOOKUP(D157,Surcharge!A:B,2,FALSE)*F157, VLOOKUP(D157 & \"\",Surcharge!A:B,2,FALSE)*F157), \"\")","v":""}]
[null,null,"Skid",9008064,763,null,{"$f":"F158*E158","v":0},{"$f":"IFERROR(IFERROR(VLOOKUP(D158,Surcharge!A:B,2,FALSE)*F158, VLOOKUP(D158 & \"\",Surcharge!A:B,2,FALSE)*F158), \"\")","v":""}]
[null,null,null,null,null,null,null,{"$f":"IFERROR(IFERROR(VLOOKUP(D159,Surcharge!A:B,2,FALSE)*F159, VLOOKUP(D159 & \"\",Surcharge!A:B,2,FALSE)*F159), \"\")","v":""}]
[null,null,null,null,null,{"$f":"SUM(#REF!)","v":{"$error":"#REF!"}}]
[]
[null,"Custom Solution--write in description, qty, price, and PN if applicable",null,null,null,{"$f":"SUM(F163)","v":0}]
[null,null,null,null,"Insert Prices Here",{"$f":"SUM(F164:F167)","v":0}]
[null,null,null,"Custom",null,{"$f":"IF(E164 <> \"\", 1, 0)","v":0},{"$f":"F164*E164","v":0}]
[null,null,null,"Custom",null,{"$f":"IF(E165 <> \"\", 1, 0)","v":0},{"$f":"F165*E165","v":0}]
[null,null,null,"Custom",null,{"$f":"IF(E166 <> \"\", 1, 0)","v":0},{"$f":"F166*E166","v":0}]
[null,null,null,"Custom",null,{"$f":"IF(E167 <> \"\", 1, 0)","v":0},{"$f":"F167*E167","v":0}]
[null,null,null,null,{"$f":"ROUND(SUM(G52:G167), 0)","v":0},{"$f":"SUM(E169)","v":0}]
[null,null,null,"Machine Subtotal ",{"$f":"ROUND(SUM(G52:G167), 0)","v":0},{"$f":"F168","v":0}]
[null,"Discounts",null,null,null,{"$f":"SUM(F171)","v":0}]
[null,null,null,null,null,{"$f":"SUM(F172:F175)","v":0}]
[null,null,null,"Discount %",null,{"$f":"IF(E172 <> \"\", 1, 0)","v":0},{"$f":"IF(F172*(E172*0.01)*E168 < 0, F172*(E172*0.01)*E168, -(F172*(E172*0.01)*E168))","v":0}]
[null,null,null,"Discount $",null,{"$f":"IF(E173 <> \"\", 1, 0)","v":0},{"$f":"IF(F173*E173 < 0, F173*E173, -(F173*E173))","v":0}]
[null,null,null,"Discount $",null,{"$f":"IF(E174 <> \"\", 1, 0)","v":0},{"$f":"IF(F174*E174 < 0, F174*E174, -(F174*E174))","v":0}]
[null,null,null,"Discount $",null,{"$f":"IF(E175 <> \"\", 1, 0)","v":0},{"$f":"IF(F175*E175 < 0, F175*E175, -(F175*E175))","v":0}]
[null,null,null,"Discount Total ",{"$f":"SUM(G172:G175)","v":0},{"$f":"SUM(E176)","v":0}]
[null,null,null,null,null,{"$f":"#REF!","v":{"$error":"#REF!"}}]
[null,null,"Prepaid and Add","Freight",null,{"$f":"IF(E178 <> \"\", 1, 0)","v":0},{"$f":"F178*E178","v":0}]
[null,null,"Subject to all applicable taxes","Tax",null,{"$f":"IF(E179 <> \"\", 1, 0)","v":0},{"$f":"F179*E179","v":0}]
[null,null,null,null,null,{"$f":"SUM(F181)","v":0}]
[null,null,null,"            MACHINE TOTAL*",null,{"$f":"SUM(G181)","v":0},{"$f":"SUM(G52:G179)","v":0},null,null,null,"This goes to \"My Documents\"","This goes to \"My Documents\"","This goes to \"My Documents\""]
[null,null,null,null,null,null,{"$f":"G181","v":0}]
[null,"Financing"]
[]
[null,null,"Is customer interested in financing?","Yes"]
[]
[null,null,"If not, why?"]
[]
[]
[null,null,"First Western Equipment Finance - Leasing Calculation Option:","Option 1",null,"Option 2",null,null,null,{"$f":"Financing!A38","v":"Rates 2025 - Rev. 5/6/2025"}]
[null,null,null,"Monthly Payment","Cost Per Day","Monthly Payment","Cost Per Day",null,null,{"$f":"Financing!A39","v":"“Blank Payment Amounts Indicate The Financing Option Or Purchase Options Selected Are Not "}]
[null,null,"Purchase Option:","FWEF:  $1 Buyout Lease",null,"FWEF: Municipal Lease",null,null,null,{"$f":"Financing!A40","v":"Applicable Or The Machine Total Is Below The Minimum Amount For The Selected Vendor”"}]
[null,null,"24 Months",0,0,0,0,null,null,{"$f":"Financing!A41","v":"\"Quoted monthly payments are estimates only and are based on a certain level of credit rating."}]
[null,null,"30 Months",0,0,0,0,null,null,{"$f":"Financing!A42","v":"Actual monthly payments may be higher depending on your credit rating.\""}]
[null,null,"36 Months",0,0,0,0,null,null,{"$f":"Financing!A43","v":"“Financing rates do not include Pre-Paid Service”"}]
[null,null,"48 Months",0,0,0,0]
[]
[null,null,null,"Benefits of Equipment Financing:"]
[null,null,null,"• Spreads out investment over time.",null,"• Keep current with latest technology."]
[null,null,null,"• Preserve capital.",null,"• Service and parts bundling available."]
[null,null,null,"• Low monthly payment.",null,"• Pay for labor savings as you go."]
[]
[]
[null,null,"Bundled Offerings","Flexclean – Fair Market Value",null,"Flexclean - $1 Buyout"]
[null,null,"FlexClean: ","36 Month Term",null,"36 Month Term",null,null,"No","AB Brushes"]
[null,null,"Hours included per Month:","Gold","Silver","Gold","Silver","Check"]
[null,null,"< 30/mo. (Avg. 1hr./day)",null,null,null,null,null,{"$f":"FlexCleanCalc!$A21","v":"“FlexClean monthly rates include payment for both machine and service.”"}]
[null,null,"< 60/mo. (Avg. 2hrs./day)"]
[null,null,"< 90/mo. (Avg. 3hrs./day)"]
[null,null,"*This value assumes one service contract regardless of the number of UNITS included in the quote"]
[]
[]
[null,null,"Bundled Offerings","Flexclean – Fair Market Value",null,"Flexclean - $1 Buyout"]
[null,null,"FlexClean 2: ","48 Month Term",null,"48 Month Term"]
[null,null,"Hours included per Month:","Gold","Silver","Gold","Silver"]
[null,null,"< 30/mo. (Avg. 1hr./day)"]
[null,null,"< 60/mo. (Avg. 2hrs./day)"]
[null,null,"< 90/mo. (Avg. 3hrs./day)"]
[null,null,"*This value assumes one service contract regardless of the number of UNITS included in the quote"]
[]
[null,null,"Bundled Offerings","Flexclean – Fair Market Value",null,"Flexclean - $1 Buyout"]
[null,null,"FlexClean 3: ","60 Month Term",null,"60 Month Term"]
[null,null,"Hours included per Month:","Gold","Silver","Gold","Silver"]
[null,null,"< 30/mo. (Avg. 1hr./day)"]
[null,null,"< 60/mo. (Avg. 2hrs./day)"]
[null,null,"< 90/mo. (Avg. 3hrs./day)"]
[null,null,"*This value assumes one service contract regardless of the number of UNITS included in the quote"]
[]
[null,"  TennantTrue"]
[]
[null,null,"Is customer interested in service program?","Yes","*State/County selection required for TennantTrue service options"]
[]
[null,null,"If not, why?"]
[]
[null,null,"Term:",36,null,"AB Brushes","No"]
[null,null,"Monthly machine usage (hrs):","< 30/mo. (Avg. 1hr./day)"]
[]
[null,null,"TennantTrue: ","Gold Contract",null,"Silver Contract"]
[null,null,"Per Visit",null,null,611]
[null,null,"Monthly",231,null,127]
[null,null,"Annually",null,null,1490]
[null,null,"Pre-Pay Full Term",7977,null,4379]
[null,null,"Hourly Labor Rate"]
[null,null,"Site Visit"]
[]
[null,null,"* Verify customer current pricing prior to quote. "]
[null,null,"**All rates and fees above reflect service for one (1) unit with the exception of Block of Time service."]
[null,null,"*Block of Time is available in 1 Year Term only and is priced as such no matter the term selection on this template."]
[]
[]
[null,"Servicing"]
[]
[null,null,"Is customer interested in a service plan?","No"]
[]
[null,null,"If not, why?"]
[]
[]
[null,null,"Quote Special Instructions:"]
[]
[]
[null,null,{"$f":"Start_Here!E36","v":"Terms and Conditions"}]
[null,null,{"$f":"Start_Here!E37","v":"Ask your local sales rep for estimated lead times. Verify when placing order"}]
[null,null,{"$f":"Start_Here!E38","v":"All orders subject to acceptance by Tennant Sales and Service Company, Minneapolis, Minnesota"}]
[null,null,{"$f":"Start_Here!E39","v":"Prices subject to change without notice."}]
[null,null,{"$f":"Start_Here!E40","v":"Terms:  Net 30 days.  Subject to any applicable taxes."}]
[null,null,{"$f":"Start_Here!E41","v":"Freight: Machines and accessory orders delivered FOB shipping point Frt PPD & Add"}]
[null,null,{"$f":"Start_Here!E42","v":"Parts, supplies, detergents and floor treating material orders delivered FOB "}]
[null,null,{"$f":"Start_Here!E43","v":"shipping point Frt PPD"}]
[null,null,{"$f":"Start_Here!E44","v":"All orders are subject to Tennant’s General Terms and Conditions available at http://www.tennantco.com/terms."}]
[null,null,{"$f":"Start_Here!E45","v":"Printed General Terms and Conditions are also available upon request."}]
[null,null,{"$f":"Start_Here!E46","v":0}]
[]
[null,null,null,null,"Quote Date :",null,{"$f":"Letter!$A$25","v":"2020-09-17"}]
["Order Placement Information:  To place your order, fill in PO# and customer signatures,"]
["call or fax to the numbers listed below. Customer Purchase Order is required."]
["If information is missing, orders will be entered and held until all information is received."]
[null,null,"Customer Number",null,"Cust Grp 3"]
[null,null,{"$f":"Start_Here!$C$25","v":0},null,{"$f":"Start_Here!$C$29","v":0}]
[null,null,{"$f":"Start_Here!$B$18","v":"Who Owns the Machine? (Sold-To Info) (Please Verify)"}]
["Company",null,{"$f":"Start_Here!$C$19","v":"Company Name"}]
["Address",null,{"$f":"Start_Here!$C$20","v":"Address"}]
[null,null,{"$f":"Start_Here!$C$21","v":"City, State Zip"}]
["Name",null,{"$f":"Start_Here!$C$22","v":"Contact Name"}]
["Phone",null,{"$f":"Start_Here!$C$23","v":"Contact Phone"}]
[null,null,{"$f":"Start_Here!$B$11","v":"Where is the Machine Being Shipped? (Ship-To Info) (Please Verify)"}]
["Company",null,{"$f":"Start_Here!$C$12","v":"Company Name"}]
["Address",null,{"$f":"Start_Here!$C$13","v":"Address"}]
[null,null,{"$f":"Start_Here!$C$14","v":"City, State Zip"}]
["Name",null,{"$f":"Start_Here!$C$15","v":"Contact Name"}]
["Phone",null,{"$f":"Start_Here!$C$16","v":"Contact Phone"}]
[null,null,{"$f":"Start_Here!$B$31","v":"Shipping / Carrier Instructions:"},null,"Order Special Instructions:"]
[null,null,{"$f":"Start_Here!$C$32","v":0}]
[]
[null,null,"Customer Purchase Order No."]
[null,null,"(please attach copy)"]
[]
[]
[null,null,"Tax Exempt",null,"Yes"]
[null,null,null,null,"No"]
[null,null,"If Yes, attach a copy of your exemption certificate."]
[]
[null,null,"Requested Delivery Date"]
[null,null,{"$f":"Start_Here!$C$28","v":0}]
[]
[null,null,{"$f":"Start_Here!$C$26","v":0},null,{"$f":"Start_Here!$C$27","v":0}]
[null,0,"Authorized Buyer (please print)",null,"Phone Number"]
[]
[]
[null,0,"Authorized Buyer Signature"]
[]
[null,null,{"$f":"Start_Here!$C$41","v":"Rep Name"}]
[null,null,"Tennant Representative"]
[]
["Specialized Maintenance Equipment"]
[{"$f":"Start_Here!$C$48","v":"TENNANT · 10400 Clean Street · Eden Prairie, MN 55344 ·"}]
[{"$f":"Start_Here!$C$49","v":" PHONE:800-553-8033 · FAX:763-513-2116"}]
[]
[null,"Notes"]
[null,1,"Cleaning Solutions are available factory installed only; Select only one, none are available combined with another:"]
[null,null,"   ES Extended Scrubbing system"]
[null,null,"ec-H2O™ option (Disk)"]
[null,null,"ec-H2O™ option (Cylindrical)"]
[null,null,"T16 ES includes the continuous cleaning ES filter system and detergent dispensing."]
[]
[null,2,"ES Extended Scrubbing System is not available with the Pre-Sweep System."]
[]
[null,3,"Detergent Metering is only available with Conventional Cleaning Technology."]
[]
[null,4,"The battery compartment will fit six 6-volt batteries of this size:"]
[null,null,"Battery Size","Length          Width"]
[null,null,null,"11.66 in           6.94 in"]
[null,null,null,"295mm       175 mm"]
[]
[null,5,"Model T16 Continuous Runtime Chart.","Standard"]
[null,null,null,"Capacity"]
[null,null,null,"235AH"]
[null,null,"T16 Base Unit (economy mode, main scrub only)","2.75 hours"]
[null,null,"T16 Base Unit with RH Sidebrush","2.25 hours"]
[null,null,"T16 with Dual Vacuum Fans","2.0 hours"]
[null,null,"T16 with Pre-Sweep (dust control \"off\")","N/A "]
[null,null,"T16 with Pre-Sweep (dust control \"on\")","N/A "]
[null,null,"The above runtimes are guidelines.  Actual times will vary based on floor conditions, final machine configuration & usage"]
[null,null,"The battery charger connector is a 50 amp Anderson ( gray ). The battery connector is an Anderson 175 amp connector ( gray )."]
[]
[null,6,"To calculate weights with batteries add the following to the product “Net” or “Ship” weights:"]
[null,null,"235 AH Battery Pack = + 6 Batteries @ 67 lbs (30.4kg) each = 402 lbs (182.5 kg)"]
[null,null,"360 AH Battery Pack = + 6 Batteries @ 97 lbs (44 kg) each = 582 lbs (264.2 kg)"]
[]
[null,7,"Expected Cycle Life:  Cycle life is the number of charge cycles a battery is expected to last."]
[null,null,"235 AH Battery = 500 Cycles"]
[null,null,"360 AH Battery = 500 Cycles"]
[]
[null,8,"Lithium-Ion batteries require the use of an approved Lithium-Ion compatible charger."]
[null,null,"Use of an unproved charger may damage battery and void warranty."]
[null,null,"The 90A Charger for the Lithium Battery pack is a 90A DC output charger.  It requires single phase 220-240V AC "]
[null,null,"30 amp circuit and comes with a plug that fits a NEMA L6-30r twist lock recepticle. "]
[]
[null,9,"Customer MUST order SKID or CRATE if WITHOUT BATTERY is selected. "]
[null,null,"Continental USA orders ONLY."]
[]
[null,10,"ONLY available with Wet (Lead Acid) batteries.  Cannot be used with Sealed AGM or Lithium-Ion Batteries."]
[]
[null,11,"The Roll-Out Battery Exchange System is not available with Lithium-Ion Batteries."]
[null,null,"Only the 21A 85-265V AC 50/60Hz 1Ph charger (9003373 or 314787) is available with"]
[null,null,"the Roll-Out Battery Exchange System."]
[null,"11a","Rollout carts must be ordered separately. When ordering the Rollout Battery System, it is  "]
[null,null,"recommended that the customer upgrades to the 360 AH battery pack.  System does not include batteries."]
[null,null,"Should the customer wish to use their own battery supplier, they have 2 options:"]
[null,null,"a.  Buy batteries to fit in Tennant steel case - see below for internal dimensions."]
[null,null,"b.  Buy their own steel case battery (there is no deduction for this) - see below for external dimensions."]
[null,null,null,"Width          Length"]
[null,null,"External Dimensions:  ","19.56 in          29.13 in"]
[null,null,null,"495 mm          740 mm"]
[]
[null,null,"Internal Dimensions:  ","19.185 in         28.75 in"]
[null,null,null,"485 mm          730 mm"]
[null,null,"An extra steel case can be ordered without batteries; part number is 369483."]
[]
[null,12,"Recommend purchase of two (2) 9007087 carts if you do not have a station to roll off the batteries on to. "]
[null,"12a","9008523 Extra Battery Pack (360 AH) in Steel Case for Rollout, may also order two (2) additional with Machine. "]
[]
[null,13,"The battery charger connector is a 50 amp Anderson ( gray ). The battery connector is an Anderson 175 amp connector ( gray )."]
[null,null,"The On-Board Charger for AGM batteries is a Custom Solution only.  Custom Solutions may add to lead time of unit."]
[]
[null,14,"In order to receive the kit offer the kit part # MUST be ordered.  "]
[]
[null,15,"When ordering the Presweep, the customer can NOT order the RH Sidebrush, Head Light or SE Front Bumper"]
[null,null,"Due to the additional power consumption of the Presweep, it is recommended that the 360 AH batteries be purchased"]
[null,null,"Otherwise, the run-time will ONLY be 1 hour."]
[]
[null,16,"If unit is being sold for a Silica Dust application, only a Scrubbing Side Brush can be used.  "]
[null,null,"Pre-Sweep System is prohibited."]
[]
[null,17,"When ordering the dual fans please note that both fans operate and runtime is affected, see note 5."]
[]
[null,18,"Drain Control Valve - is available with dual drains only.  No deduction is available for a single drain."]
[null,null,"The length of hose for the Positive Drain control system is 10 ft (3 m)."]
[null,null,"Drain Control Valve is not compatible with the Heavy Duty Squeegee Guard."]
[]
[null,19,"The 9006922 SE Front Bumper bolts directly to the Frame.  Front Corner Rollers are Removed.   "]
[null,null,"If ordering OHG order 9008060 SE Front Bumper with OHG instead.  "]
[]
[null,20,"When ordering the Overhead Guard, the SE Bumper w/OHG PN 9008060 must also be ordered -Unless ordering Presweep.  "]
[]
[null,21,"A seatbelt is not offered with the basic seat, but the deluxe seat features a retractable seat belt standard."]
[]
[null,22,"Blue Light requires that the AV BU Alarm - Strobe on Tank is also configured on the unit."]
[null,null,"The Blue Light is not available with the Strobe Light on Overhead Guard."]
[]
[null,23,"Additional hard copy Operator and Parts Manuals can be ordered or digital copies can be downloaded from www.Tennantco.com."]
[]
[null,"IRIS","Pre-Paid and Monthly Packages are available for the IRIS Information Service."]
[null,null,"IRIS Module is required and NOT included in the price of the IRIS Information Service:"]
[null,null,"3 Year Pre-Paid IRIS Information Service",250]
[null,null,"5 Year Pre-Paid IRIS Information Service",400]
[null,null,"A monthly contract can be set up at $10 per month w/ 12 month minimum commitment."]
[null,null,"IRIS Telemetry Module only covers the price of the hardware. "]
[null,null,"IRIS Telemetry requires an IRIS Telemetry Module and an IRIS Information Service Package."]
[]
[null,24,"Pad wrap available only in the Continental US and is the default packaging method."]
[null,null,"Customer MUST order Crate or Skid if WITHOUT BATTERY is selected."]
[null,null,"Crate is mandatory when shipping to AK and HI.  Packaging is added at No Charge when shipping to these locations."]
[null,null,"The destination kit (PN 9008063) includes the crate and all bracketry for shipping."]
[]
[null,25,"Shipping Weight and Dimensions","Pad Wrap","Crate"]
[]
[null,null,"Weight (w/240AH Battery)","1900 lbs / 862 Kg","2100 lbs / 953 Kg"]
[null,null,"Length","74\" / 1,880 mm","90\" / 2,286 mm"]
[null,null,"Width","42\" / 1,067 mm","55\" / 1,397mm"]
[null,null,"Height","58\" / 1,473 mm","66\" / 1,677 mm"]

{"sheet":"Pricezones","index":41,"n_rows":58,"n_cols":13,"rows_kept":58,"cut":false,"hidden":true,"merged":[]}
["Sheetname","Green discount","Yellow","Red"," ","Product subcategories","PH2",null,"Discounts Dropdown",null,null,"US","2025-04-14"]
[null,"Level A","Level B","Level C","Level D",null,null,null,"Select a Trade-in","Select Tennant Program"]
["Specialty",0,0.3,0.45,null,"scrubber","341074",null,"Trade-in Scrap","Strategic Accts"]
["T2",0,0.2,0.4,null,"scrubber","306300",null,"Recon Trade-in","Strategic Alliance"]
[5700,0,0.2,0.4,null,"scrubber","306501",null,null,"Recon Sale"]
[5680,0,0.2,0.4,null,"scrubber","306500",null,null,"Recon Trade-in"]
["T1_T1B",0,0.2,0.4,null,"scrubber","306200",null,null,"Industrial Bundling"]
["CS5_CS16",0,0.2,0.35,null,"scrubber",null,null,null,"Demonstrator units, greater than 3 months, full warranty"]
["i_mop_Lite",0,0.2,0.35,null,"scrubber",null,null,null,"Distributor - Commercial or Industrial"]
["i_mop_XL",0,0.2,0.35,null,"scrubber",null,null,null,"Contracts (example GSA, Local Gov)"]
["i_mop_XXL",0,0.2,0.35,null,"scrubber","306301"]
["T3_plus_Orbital",0,0.2,0.4,null,"scrubber",null,null,null,"Contracts (example GSA, Local Gov)"]
["T260",0,0.1,0.3,null,"scrubber","306340"]
["T300",0,0.1,0.3,null,"scrubber"]
["T300e",0,0.1,0.3,null,"scrubber"]
["T300_Series_Std_Config",0,0.1,0.3,null,"scrubber"]
["T300_T300e_Quick_Ship",0,0.1,0.3,null,"scrubber"]
["T350_Std_Config",0,0.1,0.3,null,"scrubber"]
["T350",0,0.13,0.2,null,"scrubber"]
["T2_Std_Config",0,0.2,0.4,null,"scrubber"]
["T581_T390_T290",0,0.2,0.4,null,"scrubber","306400"]
["T5",0,0.2,0.4,null,"scrubber","306400"]
["T5e",0,0.2,0.4,null,"scrubber","306400"]
["T391_T291",0,0.2,0.4,null,"scrubber","306414"]
["T500",0,0.2,0.4,null,"scrubber","306400"]
["T500e",0,0.2,0.4,null,"scrubber","306400"]
["T500_Series_Std_Config",0,0.2,0.4,null,"scrubber","306400"]
["T500_T500e_Quick_Ship",0,0.2,0.4,null,"scrubber","306400"]
["T600_Series_Std_Config",0,0.15,0.3,null,"scrubber"]
["T600",0,0.15,0.3,null,"scrubber"]
["T600e",0,0.15,0.3,null,"scrubber"]
["T600ee",0,0.2,0.4,null,"scrubber","307500"]
["T7",0,0.1,0.24,null,"scrubber","307500"]
["T7AMR",0,0.05,0.1,null,"scrubber"]
["T380AMR",0,0.05,0.1,null,"scrubber"]
["T16AMR_Standard_Config",0,0.05,0.1,null,"scrubber"]
["T7_Std_Config",0,0.1,0.24,null,"scrubber","307600"]
["T12_Built_to_Order",0,0.1,0.15,null,"scrubber","308007"]
["T12_Standard_Config",0,0.1,0.15,null,"scrubber","308007"]
["T16_Built_to_Order",0,0.08,0.16,null,"scrubber","308007"]
["T16_Standard_Config",0,0.08,0.16,null,"scrubber","308400"]
["T17_Built_to_Order",0,0.08,0.16,null,"scrubber","308400"]
["T17_Standard_Config",0,0.08,0.16,null,"scrubber","311102"]
[8300,0,0.08,0.16,null,"scrubber","311102"]
["M17_Built_to_Order",0,0.08,0.16,null,"scrubber","311102"]
["M17_Standard_Config",0,0.08,0.16,null,"scrubber","308205"]
["T20_Built_to_Order",0,0.08,0.16,null,"scrubber","308007"]
["T20_Standard_Config",0,0.08,0.16,null,"scrubber","311302"]
["M20_Built_to_Order",0,0.08,0.16,null,"scrubber","308007"]
["M20_Standard_Config",0,0.08,0.16,null,"scrubber","311402"]
["M30_Built_to_Order",0,0.08,0.16,null,"scrubber","311402"]
["M30_Standard_Config",0,0.08,0.16,null,"scrubber","327005"]
["T681",0,0.1,0.24,null,"scrubber","306400"]
["T981",0,0.25,0.35,null,"scrubber","306400"]
["SC Detergent",0,0.15,0.3,null,"scrubber"]
["T1581_Built_to_Order",0,0.2,0.3,null,"scrubber","308500"]
["M_X4ROVR",0,0.05,0.1,null,"scrubber"]
["M_X6ROVR",0,0.05,0.1,null,"scrubber"]

{"sheet":"PricezonesUsers","index":42,"n_rows":21,"n_cols":11,"rows_kept":21,"cut":false,"hidden":true,"merged":[]}
["Green","Yellow","Red",null,"Level A name","Level B name","Level C name",null,null,"Governance"]
[null,"kbs6","p1g",null,null,"Boris, Kenneth","Gee, Paul",null,null,"cpn8","Peterson, Charlie"]
[null,"bcd","jws25",null,null,"Chatfield, Brant","Watters, Josh",null,null,"azn","Alicia Zahn"]
[null,"bpc","tjw",null,null,"Clifton, Brian","Watson, Terry",null,null,"lty","Lindsay Trickey"]
[null,"nck","cpn8",null,null,"Cork, William","Peterson, Charlie"]
[null,"sft2","azn",null,null,"Forrest, Stephen","Alicia Zahn"]
[null,"jhk5","lty",null,null,"Hamrick, James","Lindsay Trickey"]
[null,"kje","afd",null,null,"Josche, Kevin","Amanda Fristed"]
[null,"dek","pbn7",null,null,"Kortsha, Dennis","Bannon, Patrick"]
[null,"dlr4",null,null,null,"Lancaster, David"]
[null,"jdl",null,null,null,"Laubach, James"]
[null,"rdr3",null,null,null,"Demar, Ryan"]
[null,"mco5",null,null,null,"Cayado, Maria"]
[null,"ptn",null,null,null,"Thompson, Phil"]
[null,"jey2",null,null,null,"Emery, Josh"]
[null,"cgn13",null,null,null,"Groen, Caleb"]
[null,"msm4",null,null,null,"Satterstrom, Mike"]
[null,"jss24",null,null,null,"Stevens, Jonathan"]
[null,"rla7",null,null,null,"Lua, Raul"]
[null,"pls5",null,null,null,"Landis, Pat"]
[null,"jtt5",null,null,null,"Tolbert, Jeff"]

{"sheet":"MPF SAP Download","index":43,"n_rows":2550,"n_cols":6,"rows_kept":2550,"cut":false,"hidden":true,"merged":[]}
["Master Price File (MPF) - Products with Variant Numbers (VKs)"]
[]
["Download Date:",null,"2022-11-01"]
["Price Adj Effective Date:",null,"2023-01-01"]
["Table name =",null,"MPF_Table"]
[]
["Material + Variant Lookup Key","PL","Material","Variant","2023 List","Material Description"]
[{"$f":"C8&D8","v":"M-3640VK_DSTCTLFLR_PFB"},"01","M-3640","VK_DSTCTLFLR_PFB",-560,"Paper Filter Bag"]
[{"$f":"C9&D9","v":"M-3640VK_ULERTG_E"},"01","M-3640","VK_ULERTG_E","N/C","UL® Type E"]
[{"$f":"C10&D10","v":"M-3640VK_CARCLNEQUPKG_ERT"},"01","M-3640","VK_CARCLNEQUPKG_ERT",605,"Carp Clean Eqp Ext"]
["M-3640VK_BTY_WO","01","M-3640","VK_BTY_WO",-262,"Without Battery"]
["M-3640VK_BASE_3640-BTY","01","M-3640","VK_BASE_3640-BTY",16288,"3640-E"]
["M-3640VK_BTYWTRSYS","01","M-3640","VK_BTYWTRSYS",589,"Battery Watering Sys"]
["M-3640VK_UL TYPE EE","01","M-3640","VK_UL TYPE EE",2650,"UL® Type EE"]
["M-3640VK_UL TYPE E","01","M-3640","VK_UL TYPE E","N/C","UL® Type E"]
["M-3640VK_PWRVACWND_WO","01","M-3640","VK_PWRVACWND_WO","N/C","Pump w/o WandPump"]
["M-3640VK_PKG_SSKD_USCAMX","01","M-3640","VK_PKG_SSKD_USCAMX",463,"Skid-Cart,Stack"]
["M-3640VK_CLNTOL_PYP","01","M-3640","VK_CLNTOL_PYP","N/C","Poly Brush"]
["M-3640VK_CHG_19A100V5060H1","01","M-3640","VK_CHG_19A100V5060H1",173,"Ch19A 100V 5060H1P"]
["M-3640VK_ULERTG_EE","01","M-3640","VK_ULERTG_EE",2650,"UL® Type EE"]
["M-3640VK_PARMNL","01","M-3640","VK_PARMNL",23,"Parts Manual"]
["M-3640VK_PKG_SSKD","01","M-3640","VK_PKG_SSKD",463,"Stack Skid/Carton"]
["M-3640VK_PKG_PAD","01","M-3640","VK_PKG_PAD","N/C","Pad Wrap"]
["M-3640VK_NONMKTTRE_WTP","01","M-3640","VK_NONMKTTRE_WTP",631,"Trs,WideTrackPneum."]
["M-3640VK_NONMKTTRE_BSR","01","M-3640","VK_NONMKTTRE_BSR","N/C","Tire Blk Sld Rubber"]
["M-3640VK_HPRDMPAST","01","M-3640","VK_HPRDMPAST",195,"Hopper Dump Assist"]
["M-3640VK_HEPFLR","01","M-3640","VK_HEPFLR",6743,"HEPA Filter"]
["M-3640VK_EMYSTP","01","M-3640","VK_EMYSTP",323,"Emergency Stop"]
["M-3640VK_DSTCTLFLR_PFLR","01","M-3640","VK_DSTCTLFLR_PFLR","N/C","Panel Filter Kit"]
["M-3640VK_CLNTOL_UMB","01","M-3640","VK_CLNTOL_UMB","N/C","Union Mix Brush"]
["M-3640VK_CLNTOL_SWB","01","M-3640","VK_CLNTOL_SWB","N/C","Sand Wedge Brush"]
["M-3640VK_CLNTOL_PYPW","01","M-3640","VK_CLNTOL_PYPW","N/C","Poly & Wire Brush"]
["M-3640VK_CHG_WO","01","M-3640","VK_CHG_WO",-138,"Without Charger"]
["M-3640VK_CHG_11A100V5060H1","01","M-3640","VK_CHG_11A100V5060H1","N/C","Ch11A 100V 5060H1P"]
["M-3640VK_CARCLNEQUPKG_SRT","01","M-3640","VK_CARCLNEQUPKG_SRT",605,"Carp Clean Eqp Std"]
["M-3640VK_BTY_W225C20","01","M-3640","VK_BTY_W225C20",477,"Bty Wet 225AH C20"]
["M-3640VK_BTY_W130C20","01","M-3640","VK_BTY_W130C20","N/C","Bty Wet 130AH C20"]
["M-3640VK_ADLOPRMNL","01","M-3640","VK_ADLOPRMNL",94,"Add Operator Manual"]
["M-3640VK_SRVMNL","01","M-3640","VK_SRVMNL",214,"Service Manual"]
["M-3640VK_SDECLNTOL_PYP","01","M-3640","VK_SDECLNTOL_PYP","N/C","Side Poly Brush"]
["M-3640VK_SDEBRSLOC_RH","01","M-3640","VK_SDEBRSLOC_RH","N/C","Side Brush: RH"]
["M-3640VK_SDEBRSLOC_D","01","M-3640","VK_SDEBRSLOC_D",878,"Side Brush: Dual"]
["M-3640VK_PWRVACWND_LW","01","M-3640","VK_PWRVACWND_LW","N/C","Live Wand"]
["M-3640VK_PWRVACWND_AWK","01","M-3640","VK_PWRVACWND_AWK",309,"Accessory Wand Kit"]
["M-3640VK_PKG_WSKD","01","M-3640","VK_PKG_WSKD",314,"Skid w/Stretch Wrap"]
["M-S10VK_BTY_W130C20","01","M-S10","VK_BTY_W130C20",690,"Bty Wet 130AH C20"]
["M-S10VK_BTY_W150C20","01","M-S10","VK_BTY_W150C20",822,"Bty Wet 150AH C20"]
["M-S10VK_CLNTOL_D430NYL_IC","01","M-S10","VK_CLNTOL_D430NYL_IC",287,"D430/17 Nyl Brush IC"]
["M-S10VK_CLNTOL_UMB18","01","M-S10","VK_CLNTOL_UMB18",262,"Union Mix, 18-row"]
["M-S10VK_BTY_A140C20","01","M-S10","VK_BTY_A140C20",1944,"Bty AGM 140AH C20"]
["M-S10VK_CHG_13A85V5060H1P_OFF","01","M-S10","VK_CHG_13A85V5060H1P_OFF","N/C","Ch13A 85V 50/60H Off"]
["M-S10VK_CLNTOL_FBWB18","01","M-S10","VK_CLNTOL_FBWB18",303,"Fiber & Wire, 18-row"]
["M-S10VK_CHG_WO","01","M-S10","VK_CHG_WO","N/C","Without Charger"]
["M-S10VK_CHG_13A85V5060H1P_ON","01","M-S10","VK_CHG_13A85V5060H1P_ON","N/C","Ch13A 85V 50/60Hz On"]
["M-S10VK_BTY_WO","01","M-S10","VK_BTY_WO","N/C","Without Battery"]
["M-S10VK_BASE_S10-BTY_STD","01","M-S10","VK_BASE_S10-BTY_STD",14504,"S10 Bty Sweeper - STD"]
["M-S10VK_S10-B","01","M-S10","VK_S10-B",14504,"S10 Battery Swpr"]
["M-S10VK_FLRSYS_HEPA","01","M-S10","VK_FLRSYS_HEPA",4771,"HEPA Filter System"]
["M-S10VK_ADLOPRMNL","01","M-S10","VK_ADLOPRMNL",56,"Add Operator Manual"]
["M-S10VK_CLNTOL_FBWB","01","M-S10","VK_CLNTOL_FBWB","N/C","Fiber & Wire Brush"]
["M-S10VK_CLNTOL_PYP","01","M-S10","VK_CLNTOL_PYP","N/C","Poly Brush"]
["M-S10VK_CLNTOL_UMB","01","M-S10","VK_CLNTOL_UMB",202,"Union Mix Brush"]
["M-S10VK_OPRVID","01","M-S10","VK_OPRVID","N/C","Operator Video"]
["M-S10VK_PKG_PAD","01","M-S10","VK_PKG_PAD","N/C","Pad Wrap"]
["M-S10VK_PKG_SSKD","01","M-S10","VK_PKG_SSKD",391,"Stack Skid/Carton"]
["M-S10VK_SDECLNTOL_PYP","01","M-S10","VK_SDECLNTOL_PYP","N/C","Side Poly Brush"]
["M-S10VK_SRVMNL","01","M-S10","VK_SRVMNL",244,"Service Manual"]
["M-S10VK_BTY_W110C5","01","M-S10","VK_BTY_W110C5","N/C","Bty Wet 110AH C5"]
["M-S10VK_BASE_S10-BTY","01","M-S10","VK_BASE_S10-BTY",14504,"S10 BTY"]
["M-S10VK_SDECLNTOL_NYL","01","M-S10","VK_SDECLNTOL_NYL","N/C","Side Nylon Brush"]
["M-S10VK_CLNTOL_NYL","01","M-S10","VK_CLNTOL_NYL",218,"Nylon Brush"]
["M-6100VK_STLCSENOTBTY_Y","01","M-6100","VK_STLCSENOTBTY_Y",458,"Steel Case"]
["M-6100VK_BLULGT","01","M-6100","VK_BLULGT",1024,"Blue Light"]
[{"$f":"C74&D74","v":"M-6100VK_PKG_SKD_NO_CHG"},"01","M-6100","VK_PKG_SKD_NO_CHG","N/C","Skid"]
["M-6100VK_WAR_XTD","01","M-6100","VK_WAR_XTD",2189,"Warranty Plus"]
["M-6100VK_BASE_6100-B_STD","01","M-6100","VK_BASE_6100-B_STD",21952,"6100 Bty Standard Config"]
["M-6100VK_21A85V5060H1P_G180_ON","01","M-6100","VK_21A85V5060H1P_G180_ON",1773,"Ch21A 85V 5060H1P"]
["M-6100VK_CHG_21A85V5060H1_ONBD","01","M-6100","VK_CHG_21A85V5060H1_ONBD",2002,"Ch21A 85V 5060H1P"]
["M-6100VK_CSMSBTPARKIT","01","M-6100","VK_CSMSBTPARKIT",5792,"Sunbelt -Parts Kit"]
["M-6100VK_PKG_CRT_NO_CHG","01","M-6100","VK_PKG_CRT_NO_CHG","N/C","Crate No Charge"]
["M-6100VK_STLCSENOTBTY","01","M-6100","VK_STLCSENOTBTY",458,"Steel Case"]
["M-6100VK_PKG_CRT_NC","01","M-6100","VK_PKG_CRT_NC","N/C","Crate"]
["M-6100VK_PARMNL","01","M-6100","VK_PARMNL",25,"Parts Manual"]
["M-6100VK_SDEBRSDSTCTL_D_D_NC","01","M-6100","VK_SDEBRSDSTCTL_D_D_NC","N/C","SideBrshDustCntrl Dry D"]
["M-6100VK_MCHCOM","01","M-6100","VK_MCHCOM",1367,"IRIS Telemetry"]
["M-6100VK_21A85V5060H1P","01","M-6100","VK_21A85V5060H1P","N/C","Ch21A 85V 5060H1P"]
["M-6100VK_SDECLNTOL_PYP","01","M-6100","VK_SDECLNTOL_PYP","N/C","Side Poly Brush"]
["M-6100VK_BTY_WO","01","M-6100","VK_BTY_WO",-496,"Without Battery"]
["M-6100VK_OPRVID","01","M-6100","VK_OPRVID","N/C","Operator Video"]
["M-6100VK_SDECLNTOL_HDPYP","01","M-6100","VK_SDECLNTOL_HDPYP","N/C","Side HD Poly Brush"]
["M-6100VK_CLNTOL_PYPWIN","01","M-6100","VK_CLNTOL_PYPWIN","N/C","Poly Window Brush"]
["M-6100VK_SETBLT","01","M-6100","VK_SETBLT",158,"Seat Belt"]
["M-6100VK_BTYCRT_1","01","M-6100","VK_BTYCRT_1",2367,"Battery Cart"]
["M-6100VK_ALTSTBFLSLNS_R","01","M-6100","VK_ALTSTBFLSLNS_R","N/C","Alternate Lens-Red"]
["M-6100VK_MOPTYP_NWM","01","M-6100","VK_MOPTYP_NWM","N/C","White Mop"]
["M-6100VK_BTYWTRSYS","01","M-6100","VK_BTYWTRSYS",768,"Battery Watering Sys"]
["M-6100VK_CSMSLN_CC","01","M-6100","VK_CSMSLN_CC",3999,"Custom Color"]
["M-6100VK_PKG_CRT","01","M-6100","VK_PKG_CRT",618,"Crate"]
["M-6100VK_PKG_PAD","01","M-6100","VK_PKG_PAD","N/C","Pad Wrap"]
["M-6100VK_SRVMNL","01","M-6100","VK_SRVMNL",246,"Service Manual"]
["M-6100VK_UPG","01","M-6100","VK_UPG","N/C","UPG"]
["M-6100VK_WTY_XTD","01","M-6100","VK_WTY_XTD",2189,"Warranty Plus"]
["M-6100VK_WTY_STD","01","M-6100","VK_WTY_STD","N/C","Warranty STD"]
["M-6100VK_CLNTOL_SWB","01","M-6100","VK_CLNTOL_SWB",267,"Sand Wedge Brush"]
["M-6100VK_CLNTOL_UMB","01","M-6100","VK_CLNTOL_UMB",267,"Union Mix Brush"]
["M-6100VK_FREEXT","01","M-6100","VK_FREEXT",212,"Fire Extinguisher"]
["M-6100VK_WRKLGT","01","M-6100","VK_WRKLGT",394,"Work Light"]
["M-6100VK_WRNLGTANDALM_AU","01","M-6100","VK_WRNLGTANDALM_AU",523,"Audio BU Alarm"]
["M-6100VK_SDEBMP","01","M-6100","VK_SDEBMP",202,"Side Bumper"]
["M-6100VK_SDEBRSLOC_RH","01","M-6100","VK_SDEBRSLOC_RH","N/C","Side Brush: RH"]
["M-6100VK_SDEBRSLOC_D","01","M-6100","VK_SDEBRSLOC_D",1085,"Side Brush: Dual"]
["M-6100VK_BTYEXCSYS_RO","01","M-6100","VK_BTYEXCSYS_RO",993,"Bty Rollout Sys."]
["M-6100VK_BTY_G180C20","01","M-6100","VK_BTY_G180C20",2572,"Bty Gel 180AH C20"]
["M-6100VK_BTY_W225C20","01","M-6100","VK_BTY_W225C20","N/C","Bty Wet 225AH C20"]
["M-6100VK_PKG_SKD","01","M-6100","VK_PKG_SKD",323,"Skid"]
["M-6100VK_ADLOPRMNL","01","M-6100","VK_ADLOPRMNL",189,"Add Operator Manual"]
["M-6100VK_CLNTOL_PYP","01","M-6100","VK_CLNTOL_PYP","N/C","Poly Brush"]
["M-6100VK_ALTSTBFLSLNS_B","01","M-6100","VK_ALTSTBFLSLNS_B","N/C","Alternate Lens-Blue"]
["M-6100VK_WRNLGTANDALM_AUSL","01","M-6100","VK_WRNLGTANDALM_AUSL",716,"AV BU AlrmStrobe Lnl"]
["M-6100VK_RERTRE_SNM","01","M-6100","VK_RERTRE_SNM",336,"Trs Rear Solid NM"]
["M-6100VK_MOP","01","M-6100","VK_MOP",2224,"QuickMop"]
["M-6100VK_21A85V5060H1P_G180","01","M-6100","VK_21A85V5060H1P_G180",436,"Ch21A 85V 5060H1P"]
["M-6100VK_WRNLGTANDALM_SL","01","M-6100","VK_WRNLGTANDALM_SL",513,"Strobe Light Lintel"]
["M-6100VK_RERTRE_SR","01","M-6100","VK_RERTRE_SR","N/C","Trs Rear Solid Rbr"]
["M-6100VK_SET_ADJFB","01","M-6100","VK_SET_ADJFB",154,"Adjustable Seat"]
["M-6100VK_PWRVACWND_VACWND","01","M-6100","VK_PWRVACWND_VACWND",1831,"Vacuum Wand"]
["M-6100VK_PWRVACWND_VACWNDHP","01","M-6100","VK_PWRVACWND_VACWNDHP",2120,"Vacuum Wand HP"]
["M-6100VK_MOPTYP_BM","01","M-6100","VK_MOPTYP_BM","N/C","Blue Mop"]
["M-6100VK_CHG_WO","01","M-6100","VK_CHG_WO",-321,"Without Charger"]
["M-6100VK_BTYCRT_2","01","M-6100","VK_BTYCRT_2",4616,"Battery Cart 2"]
["M-6100VK_ADLBTY_1","01","M-6100","VK_ADLBTY_1",1644,"Add. Bty"]
["M-6100VK_SDEBRSLOC_D_NC","01","M-6100","VK_SDEBRSLOC_D_NC","N/C","Side Brush: Dual"]
["M-6100VK_SDEBRSDSTCTL_D_RH_NC","01","M-6100","VK_SDEBRSDSTCTL_D_RH_NC","N/C","SideBrshDustCntrl Dry RH"]
["M-6100VK_FLRSYS_HEPA_NC","01","M-6100","VK_FLRSYS_HEPA_NC","N/C","HEPA Filter System"]
["M-6100VK_SLADSTFLTPKG_RH","01","M-6100","VK_SLADSTFLTPKG_RH",7068,"HEPA Dust Filter Pkg: RH"]
["M-6100VK_SLADSTFLTPKG_D","01","M-6100","VK_SLADSTFLTPKG_D",7669,"HEPA Dust Filter Pkg: Dual"]
["M-6100VK_SDEBRSDSTCTL_D_RH","01","M-6100","VK_SDEBRSDSTCTL_D_RH",1131,"SideBrshDustCntrl Dry RH"]
[{"$f":"C138&D138","v":"M-6100VK_SDEBRSDSTCTL_D_D"},"01","M-6100","VK_SDEBRSDSTCTL_D_D",1733,"SideBrshDustCntrl Dry D"]
["M-6100VK_PWRVACWND_VACWND_ON","01","M-6100","VK_PWRVACWND_VACWND_ON",4555,"Vacuum Wand"]
["M-6100VK_PWRVACWND_VACWNDHP_ON","01","M-6100","VK_PWRVACWND_VACWNDHP_ON",4841,"Vacuum Wand HP"]
["M-6100VK_FLRSYS_HEPA","01","M-6100","VK_FLRSYS_HEPA",5941,"HEPA Filter System"]
["M-6100VK_21A85V5060H1P_W225_ON","01","M-6100","VK_21A85V5060H1P_W225_ON",2002,"Ch21A 85V 5060H1P"]
["M-6100VK_BASE_6100-BTY","01","M-6100","VK_BASE_6100-BTY",21952,"6100 Battery Sweeper"]
["M-S16HVK_CHG_33A100V5060H1PFLI","01","M-S16H","VK_CHG_33A100V5060H1PFLI",1064,"Ch33A 100V 50/60Hz 1Ph Off"]
["M-S16HVK_WRNLGTANDALM_AUSL","01","M-S16H","VK_WRNLGTANDALM_AUSL",667,"AV BU AlrmStrobe Lnl"]
["M-S16HVK_BLULGT_NC","01","M-S16H","VK_BLULGT_NC","N/C","Blue Light"]
["M-S16HVK_SLADSTFLTPKG_RH","01","M-S16H","VK_SLADSTFLTPKG_RH",7328,"HEPA Dust Filter Pkg: RH"]
["M-S16HVK_SRVMNL","01","M-S16H","VK_SRVMNL",243,"Service Manual"]
["M-S16HVK_MCHCOM_SBT","01","M-S16H","VK_MCHCOM_SBT",1367,"IRIS Telemetry"]
["M-S16HVK_BASE_S16H_STD","01","M-S16H","VK_BASE_S16H_STD",38006,"S16 High Dump - STD"]
["M-S16HVK_ADLOPRMNL","01","M-S16H","VK_ADLOPRMNL",189,"Add Operator Manual"]
["M-S16HVK_BASE_S16H","01","M-S16H","VK_BASE_S16H",38006,"Sweeper S16 High Dump"]
["M-S16HVK_BLULGT","01","M-S16H","VK_BLULGT",1024,"Blue Light"]
["M-S16HVK_BTYWTRSYS_ML","01","M-S16H","VK_BTYWTRSYS_ML",745,"Battery Watering Manual"]
["M-S16HVK_BTYWTRSYS_SF","01","M-S16H","VK_BTYWTRSYS_SF",1144,"Smart Fill"]
["M-S16HVK_BTY_L36V2M","01","M-S16H","VK_BTY_L36V2M",7694,"Bty Li-Ion 36v, 4.1kWh"]
["M-S16HVK_BTY_L36V4M","01","M-S16H","VK_BTY_L36V4M",15283,"Bty Li-Ion 36v, 8.2kWh"]
["M-S16HVK_BTY_L36V6M","01","M-S16H","VK_BTY_L36V6M",21200,"Bty Li-Ion 36v, 12.2kWh"]
["M-S16HVK_BTY_W240C20","01","M-S16H","VK_BTY_W240C20","N/C","Bty Wet 240AH C20"]
["M-S16HVK_BTY_W360C20","01","M-S16H","VK_BTY_W360C20",1078,"Bty Wet 360AH C20"]
["M-S16HVK_BTY_WO","01","M-S16H","VK_BTY_WO",-495,"Without Battery"]
["M-S16HVK_CARCREPKG","01","M-S16H","VK_CARCREPKG",644,"Carpet Care Pkg"]
["M-S16HVK_CHG_25A100V5060H1OFF","01","M-S16H","VK_CHG_25A100V5060H1OFF","N/C","Ch25A 100V 50/60Hz 1Ph Off"]
["M-S16HVK_CHG_25A100V5060H1ON","01","M-S16H","VK_CHG_25A100V5060H1ON",822,"Ch25A 100V 50/60Hz 1Ph On"]
["M-S16HVK_CHG_33A100V5060H1POFF","01","M-S16H","VK_CHG_33A100V5060H1POFF",244,"Ch33A 100V 50/60Hz 1Ph Off"]
["M-S16HVK_CHG_33A100V5060H1PON","01","M-S16H","VK_CHG_33A100V5060H1PON",1064,"Ch33A 100V 50/60Hz 1Ph On"]
["M-S16HVK_CHG_WO","01","M-S16H","VK_CHG_WO",-199,"Without Charger"]
["M-S16HVK_CLNTOL_NFB","01","M-S16H","VK_CLNTOL_NFB",228,"Natural Fiber Brush"]
["M-S16HVK_CLNTOL_PYP","01","M-S16H","VK_CLNTOL_PYP","N/C","Poly Brush"]
["M-S16HVK_CLNTOL_PYPW","01","M-S16H","VK_CLNTOL_PYPW","N/C","Poly & Wire Brush"]
["M-S16HVK_CLNTOL_PYPWIN","01","M-S16H","VK_CLNTOL_PYPWIN",228,"Poly Window Brush"]
["M-S16HVK_CLNTOL_SWB","01","M-S16H","VK_CLNTOL_SWB",228,"Sand Wedge Brush"]
["M-S16HVK_FLRSYS_HEPA","01","M-S16H","VK_FLRSYS_HEPA",6221,"HEPA Filter System"]
["M-S16HVK_FREEXT","01","M-S16H","VK_FREEXT",340,"Fire Extinguisher"]
["M-S16HVK_HLTANDTALLGT","01","M-S16H","VK_HLTANDTALLGT",595,"Headlghts/Tail Lghts"]
["M-S16HVK_MCHCOM","01","M-S16H","VK_MCHCOM",1367,"IRIS Telemetry"]
["M-S16HVK_OVHGRD","01","M-S16H","VK_OVHGRD",1634,"Overhead Guard"]
["M-S16HVK_PKG_PAD","01","M-S16H","VK_PKG_PAD","N/C","Pad Wrap"]
["M-S16HVK_PKG_SCNS","01","M-S16H","VK_PKG_SCNS",705,"NonStack Skid/Carton"]
["M-S16HVK_PKG_SKD","01","M-S16H","VK_PKG_SKD",461,"Skid"]
["M-S16HVK_PRDPKG","01","M-S16H","VK_PRDPKG",2769,"Productivity Package"]
["M-S16HVK_PWRVACWND_VACWND","01","M-S16H","VK_PWRVACWND_VACWND",1831,"Vacuum Wand"]
["M-S16HVK_SDEBRSDSTCTL_D_D","01","M-S16H","VK_SDEBRSDSTCTL_D_D",1688,"SideBrshDustCntrl Dry D"]
["M-S16HVK_SDEBRSDSTCTL_D_RH","01","M-S16H","VK_SDEBRSDSTCTL_D_RH",1109,"SideBrshDustCntrl Dry RH"]
["M-S16HVK_SDEBRSLOC_D","01","M-S16H","VK_SDEBRSLOC_D",1085,"Side Brush: Dual"]
["M-S16HVK_SDECLNTOL_PYP","01","M-S16H","VK_SDECLNTOL_PYP","N/C","Side Poly Brush"]
["M-S16HVK_SET_DLXW","01","M-S16H","VK_SET_DLXW",567,"Deluxe Seat w/Armr."]
["M-S16HVK_SFYLGTPKG","01","M-S16H","VK_SFYLGTPKG",2169,"Safety Light Package"]
["M-S16HVK_SLADSTFLTPKG_D","01","M-S16H","VK_SLADSTFLTPKG_D",7907,"HEPA Dust Filter Pkg: Dual"]
["M-S16HVK_ULERTG_ES","01","M-S16H","VK_ULERTG_ES",2853,"UL® Type ES"]
["M-S16LVK_PWRVACWND_VACWND","01","M-S16L","VK_PWRVACWND_VACWND",1831,"Vacuum Wand"]
["M-S16LVK_PKG_PAD","01","M-S16L","VK_PKG_PAD","N/C","Pad Wrap"]
["M-S16LVK_PRDPKG","01","M-S16L","VK_PRDPKG",2769,"Productivity Package"]
["M-S16LVK_CLNTOL_PYPWIN","01","M-S16L","VK_CLNTOL_PYPWIN",228,"Poly Window Brush"]
["M-S16LVK_CHG_WO","01","M-S16L","VK_CHG_WO",-199,"Without Charger"]
["M-S16LVK_SLADSTFLTPKG_RH","01","M-S16L","VK_SLADSTFLTPKG_RH",7328,"HEPA Dust Filter Pkg: RH"]
["M-S16LVK_HLTANDTALLGT","01","M-S16L","VK_HLTANDTALLGT",595,"Headlghts/Tail Lghts"]
["M-S16LVK_BTY_WO","01","M-S16L","VK_BTY_WO",-495,"Without Battery"]
["M-S16LVK_BTY_W240C20","01","M-S16L","VK_BTY_W240C20","N/C","Bty Wet 240AH C20"]
["M-S16LVK_RMVHPRBIN","01","M-S16L","VK_RMVHPRBIN",644,"Removable Hopper Bins"]
["M-S16LVK_SLADSTFLTPKG_D","01","M-S16L","VK_SLADSTFLTPKG_D",7907,"HEPA Dust Filter Pkg: Dual"]
[{"$f":"C202&D202","v":"M-S16LVK_BLULGT"},"01","M-S16L","VK_BLULGT",1024,"Blue Light"]
["M-S16LVK_SFYLGTPKG","01","M-S16L","VK_SFYLGTPKG",2169,"Safety Light Package"]
["M-S16LVK_BTY_L36V6M","01","M-S16L","VK_BTY_L36V6M",21200,"Bty Li-Ion 36v, 12.2kWh"]
["M-S16LVK_BTYWTRSYS_SF","01","M-S16L","VK_BTYWTRSYS_SF",1144,"Smart Fill"]
["M-S16LVK_WRNLGTANDALM_AUSL","01","M-S16L","VK_WRNLGTANDALM_AUSL",667,"AV BU AlrmStrobe Lnl"]
["M-S16LVK_ADLOPRMNL","01","M-S16L","VK_ADLOPRMNL",189,"Add Operator Manual"]
["M-S16LVK_BTY_W360C20","01","M-S16L","VK_BTY_W360C20",1078,"Bty Wet 360AH C20"]
["M-S16LVK_PKG_SKD","01","M-S16L","VK_PKG_SKD",461,"Skid"]
["M-S16LVK_SRVMNL","01","M-S16L","VK_SRVMNL",243,"Service Manual"]
["M-S16LVK_SDEBRSDSTCTL_D_D","01","M-S16L","VK_SDEBRSDSTCTL_D_D",1688,"SideBrshDustCntrl Dry D"]
["M-S16LVK_CHG_25A100V5060H1OFF","01","M-S16L","VK_CHG_25A100V5060H1OFF","N/C","Ch25A 100V 50/60Hz 1Ph Off"]
["M-S16LVK_OVHGRD","01","M-S16L","VK_OVHGRD",1634,"Overhead Guard"]
["M-S16LVK_BASE_S16L","01","M-S16L","VK_BASE_S16L",30456,"Sweeper S16 Low Dump"]
["M-S16LVK_CHG_33A100V5060H1PFLI","01","M-S16L","VK_CHG_33A100V5060H1PFLI",1064,"Ch33A 100V 50/60Hz 1Ph Off"]
["M-S16LVK_SDEBRSDSTCTL_D_RH","01","M-S16L","VK_SDEBRSDSTCTL_D_RH",1109,"SideBrshDustCntrl Dry RH"]
["M-S16LVK_FLRSYS_HEPA","01","M-S16L","VK_FLRSYS_HEPA",6221,"HEPA Filter System"]
["M-S16LVK_FREEXT","01","M-S16L","VK_FREEXT",340,"Fire Extinguisher"]
["M-S16LVK_CLNTOL_NFB","01","M-S16L","VK_CLNTOL_NFB",228,"Natural Fiber Brush"]
["M-S16LVK_SET_DLXW","01","M-S16L","VK_SET_DLXW",567,"Deluxe Seat w/Armr."]
["M-S16LVK_CLNTOL_PYPW","01","M-S16L","VK_CLNTOL_PYPW","N/C","Poly & Wire Brush"]
["M-S16LVK_BTY_L36V2M","01","M-S16L","VK_BTY_L36V2M",7694,"Bty Li-Ion 36v, 4.1kWh"]
["M-S16LVK_CHG_33A100V5060H1POFF","01","M-S16L","VK_CHG_33A100V5060H1POFF",244,"Ch33A 100V 50/60Hz 1Ph Off"]
["M-S16LVK_SDEBRSLOC_D","01","M-S16L","VK_SDEBRSLOC_D",1085,"Side Brush: Dual"]
["M-S16LVK_CHG_33A100V5060H1PON","01","M-S16L","VK_CHG_33A100V5060H1PON",1064,"Ch33A 100V 50/60Hz 1Ph On"]
["M-S16LVK_MCHCOM_SBT","01","M-S16L","VK_MCHCOM_SBT",1367,"IRIS Telemetry"]
["M-S16LVK_BASE_S16L_STD","01","M-S16L","VK_BASE_S16L_STD",30456,"S16 Low Dump - STD"]
["M-S16LVK_BLULGT_NC","01","M-S16L","VK_BLULGT_NC","N/C","Blue Light"]
["M-S16LVK_BTYWTRSYS_ML","01","M-S16L","VK_BTYWTRSYS_ML",745,"Battery Watering Manual"]
["M-S16LVK_BTY_L36V4M","01","M-S16L","VK_BTY_L36V4M",15283,"Bty Li-Ion 36v, 8.2kWh"]
["M-S16LVK_CARCREPKG","01","M-S16L","VK_CARCREPKG",644,"Carpet Care Pkg"]
["M-S16LVK_CHG_25A100V5060H1ON","01","M-S16L","VK_CHG_25A100V5060H1ON",822,"Ch25A 100V 50/60Hz 1Ph On"]
["M-S16LVK_CLNTOL_SWB","01","M-S16L","VK_CLNTOL_SWB",228,"Sand Wedge Brush"]
["M-S16LVK_PKG_SCNS","01","M-S16L","VK_PKG_SCNS",705,"NonStack Skid/Carton"]
["M-S16LVK_SDECLNTOL_PYP","01","M-S16L","VK_SDECLNTOL_PYP","N/C","Side Poly Brush"]
["M-S16LVK_ULERTG_ES","01","M-S16L","VK_ULERTG_ES",2853,"UL® Type ES"]
["M-S16LVK_CLNTOL_PYP","01","M-S16L","VK_CLNTOL_PYP","N/C","Poly Brush"]
["M-S20VK_CLNTOL_PYSFF","01","M-S20","VK_CLNTOL_PYSFF",250,"Poly Full Fill Brush"]
["M-S20VK_BASE_S20-LPG_STD","01","M-S20","VK_BASE_S20-LPG_STD",45686,"S20 LPG Std Config"]
["M-S20VK_HVYDTYFRTBMP","01","M-S20","VK_HVYDTYFRTBMP",883,"Hvy Dty Frnt Bumper"]
["M-S20VK_BASE_S20-GAS_STD","01","M-S20","VK_BASE_S20-GAS_STD",45686,"S20 Gasoline Std Config"]
["M-S20VK_CLMCTL_D","01","M-S20","VK_CLMCTL_D",3220,"Heater"]
["M-S20VK_LPGTNK_E","01","M-S20","VK_LPGTNK_E","N/C","LPG Tank Empty"]
["M-S20VK_BASE_S20-BTY_STD","01","M-S20","VK_BASE_S20-BTY_STD",49350,"S20 Battery Std Config"]
["M-S20VK_BASE_S20-DSL_STD","01","M-S20","VK_BASE_S20-DSL_STD",50682,"S20 Diesel Std Config"]
["M-S20VK_AVSO/C_GLD_YNSCWO","01","M-S20","VK_AVSO/C_GLD_YNSCWO",911,"AV BU AlarmStrobeOHG"]
["M-S20VK_CSMFRMLFTLUG_SD","01","M-S20","VK_CSMFRMLFTLUG_SD",1510,"Frame Lifting Lugs-Side"]
["M-S20VK_WPFMNLPCH","01","M-S20","VK_WPFMNLPCH",211,"Weatherproof Manual Pouch"]
["M-S20VK_WCHHOK","01","M-S20","VK_WCHHOK",572,"Winch Hook"]
["M-S20VK_FRMLFTLUG_SD","01","M-S20","VK_FRMLFTLUG_SD",1518,"Frame Lifting Lugs-Side"]
["M-S20VK_CHG_80A200V5060H3P","01","M-S20","VK_CHG_80A200V5060H3P",3928,"Ch80A 200V 5060H3P"]
["M-S20VK_CHG_80A200V5060H1P","01","M-S20","VK_CHG_80A200V5060H1P",3166,"Ch80A 200V 5060H1P"]
["M-S20VK_CHG_120A480V5060H3P","01","M-S20","VK_CHG_120A480V5060H3P",4241,"Ch120A 480V 5060H3P"]
["M-S20VK_CHG_100A200V5060H3","01","M-S20","VK_CHG_100A200V5060H3",3788,"Ch100A 200V 5060H3P"]
["M-S20VK_BTY_W360C20","01","M-S20","VK_BTY_W360C20","N/C","Bty Wet 360AH C20"]
["M-S20VK_PARMNL","01","M-S20","VK_PARMNL","N/C","Parts Manual"]
["M-S20VK_PKG_SCNS","01","M-S20","VK_PKG_SCNS",468,"NonStack Skid/Carton"]
["M-S20VK_ADLOPRMNL","01","M-S20","VK_ADLOPRMNL",158,"Add Operator Manual"]
["M-S20VK_SRVMNL","01","M-S20","VK_SRVMNL","N/C","Service Manual"]
["M-S20VK_BTYWTRSYS","01","M-S20","VK_BTYWTRSYS",575,"Battery Watering Sys"]
["M-S20VK_WRNLGTANDALM_ST","01","M-S20","VK_WRNLGTANDALM_ST",722,"Strobe Light Tank"]
["M-S20VK_PKG_WSKD","01","M-S20","VK_PKG_WSKD",321,"Skid w/Stretch Wrap"]
["M-S20VK_UTLBSK","01","M-S20","VK_UTLBSK",227,"Utility Basket"]
["M-S20VK_ULERTG_E","01","M-S20","VK_ULERTG_E","N/C","UL® Type E"]
["M-S20VK_CHG_25A100V5060H1","01","M-S20","VK_CHG_25A100V5060H1","N/C","Ch25A 100V 5060H1P"]
[{"$f":"C266&D266","v":"M-S20VK_SDEBRSDSTCTL_D_RH_NC"},"01","M-S20","VK_SDEBRSDSTCTL_D_RH_NC","N/C","SideBrshDustCntrl Dry RH"]
["M-S20VK_SDEBRSDSTCTL_D_D_NC","01","M-S20","VK_SDEBRSDSTCTL_D_D_NC","N/C","SideBrshDustCntrl Dry D"]
["M-S20VK_S20-G","01","M-S20","VK_S20-G",45686,"S20 Gasoline"]
["M-S20VK_SLADSTFLTPKG_RH","01","M-S20","VK_SLADSTFLTPKG_RH",7599,"HEPA Dust Filter Pkg: RH"]
["M-S20VK_SLADSTFLTPKG_D","01","M-S20","VK_SLADSTFLTPKG_D",8173,"HEPA Dust Filter Pkg: Dual"]
["M-S20VK_SETBLT","01","M-S20","VK_SETBLT",146,"Seat Belt"]
["M-S20VK_SDECLNTOL_PYP","01","M-S20","VK_SDECLNTOL_PYP","N/C","Side Poly Brush"]
["M-S20VK_SDECLNTOL_NYL","01","M-S20","VK_SDECLNTOL_NYL","N/C","Side Nylon Brush"]
["M-S20VK_SDEBRSLOC_D","01","M-S20","VK_SDEBRSLOC_D",3037,"Side Brush: Dual"]
["M-S20VK_MCHCOM_GLD_Y_INTL","01","M-S20","VK_MCHCOM_GLD_Y_INTL",1367,"IRIS Telemetry"]
["M-S20VK_WTY_XTD","01","M-S20","VK_WTY_XTD","N/C","Warranty Plus"]
["M-S20VK_WTY_STD","01","M-S20","VK_WTY_STD","N/C","Warranty STD"]
["M-S20VK_ULERTG_LP","01","M-S20","VK_ULERTG_LP","N/C","UL® Type LP"]
["M-S20VK_ULERTG_ES","01","M-S20","VK_ULERTG_ES",4272,"UL® Type ES"]
["M-S20VK_ULERTG_D","01","M-S20","VK_ULERTG_D","N/C","UL® Type D"]
["M-S20VK_TRNSIG","01","M-S20","VK_TRNSIG",1899,"Turn Signal"]
["M-S20VK_STBFLSLNS_R","01","M-S20","VK_STBFLSLNS_R","N/C","Alt.StrobeLns Red"]
["M-S20VK_SRVMNL_NOBAT","01","M-S20","VK_SRVMNL_NOBAT",243,"Service Manual"]
["M-S20VK_SLMVGVEHSGN","01","M-S20","VK_SLMVGVEHSGN",388,"Slow Moving Sign"]
["M-S20VK_S20-B","01","M-S20","VK_S20-B",49350,"S20 Battery"]
["M-S20VK_SDEBRSDSTCTL_W_RH","01","M-S20","VK_SDEBRSDSTCTL_W_RH",3289,"SideBrshDustCntrl Wet RH"]
["M-S20VK_SDEBRSDSTCTL_W_D","01","M-S20","VK_SDEBRSDSTCTL_W_D",3878,"SideBrshDustCntrl Wet D"]
["M-S20VK_SDEBRSDSTCTL_D_D","01","M-S20","VK_SDEBRSDSTCTL_D_D",1688,"SideBrshDustCntrl Dry D"]
["M-S20VK_S20-LP","01","M-S20","VK_S20-LP",45686,"S20 LPG"]
["M-S20VK_BTY_W315C6","01","M-S20","VK_BTY_W315C6",2082,"Bty Wet 315AHC6"]
["M-S20VK_SET_DLXW","01","M-S20","VK_SET_DLXW",667,"Deluxe Seat w/Armr."]
["M-S20VK_PKG_SKD_NO_CHG","01","M-S20","VK_PKG_SKD_NO_CHG","N/C","Skid"]
["M-S20VK_PKG_CRT_NO_CHG","01","M-S20","VK_PKG_CRT_NO_CHG","N/C","Crate No Charge"]
["M-S20VK_ALTMUF_P","01","M-S20","VK_ALTMUF_P",2039,"Purifying Muffler"]
["M-S20VK_SBTPARKIT","01","M-S20","VK_SBTPARKIT",1335,"Sunbelt Parts Kit"]
["M-S20VK_S20-DSL","01","M-S20","VK_S20-DSL",50682,"S20 Diesel"]
["M-S20VK_DATPKG_HO","01","M-S20","VK_DATPKG_HO",1412,"Hardware Only"]
["M-S20VK_RERTRE_SNM","01","M-S20","VK_RERTRE_SNM","N/C","Trs Rear Solid NM"]
["M-S20VK_OPRVID","01","M-S20","VK_OPRVID","N/C","Operator Video"]
["M-S20VK_OTDEQU_PKG","01","M-S20","VK_OTDEQU_PKG",2179,"Outdoor Equipm.Pkg"]
["M-S20VK_OVHGRD","01","M-S20","VK_OVHGRD",1631,"Overhead Guard"]
["M-S20VK_PKG_PAD","01","M-S20","VK_PKG_PAD","N/C","Pad Wrap"]
["M-S20VK_PKG_SKD","01","M-S20","VK_PKG_SKD",461,"Skid"]
["M-S20VK_PRDPKG_BAT","01","M-S20","VK_PRDPKG_BAT",3667,"Productivity Pkg"]
["M-S20VK_PRDPKG_NOBAT","01","M-S20","VK_PRDPKG_NOBAT",3667,"Productivity Pkg"]
["M-S20VK_RERTRE_SRSNM","01","M-S20","VK_RERTRE_SRSNM",246,"Trs Rear SftSolid NM"]
["M-S20VK_RERTRE_SRST","01","M-S20","VK_RERTRE_SRST",318,"Trs Rear Solid Soft"]
["M-S20VK_CHG_160A480V5060H3P","01","M-S20","VK_CHG_160A480V5060H3P",5359,"Ch160A 480V 5060H3P"]
["M-S20VK_CHG_160A280V5060H3P","01","M-S20","VK_CHG_160A280V5060H3P",5567,"Ch160A 208V 5060H3P"]
["M-S20VK_CHG_144A208V5060H1P","01","M-S20","VK_CHG_144A208V5060H1P",4668,"Ch144A 208V 5060H1P"]
["M-S20VK_BTY_W420C20","01","M-S20","VK_BTY_W420C20",2082,"Bty Wet 420AHC20"]
["M-S20VK_CSMSBTDCL_GT","01","M-S20","VK_CSMSBTDCL_GT",151,"Sunbelt-GenTool Dcl"]
["M-S20VK_CSMSBTDCL_FC","01","M-S20","VK_CSMSBTDCL_FC",141,"Sunbelt-FloorCareDcl"]
["M-S20VK_CHG_60A240V5060H3","01","M-S20","VK_CHG_60A240V5060H3",2727,"Ch60A 240V 5060H3P"]
["M-S20VK_CHG_60A240V5060H1","01","M-S20","VK_CHG_60A240V5060H1",2362,"Ch60A 240V 5060H1P"]
["M-S20VK_FLRSYS_HEPA_NC","01","M-S20","VK_FLRSYS_HEPA_NC","N/C","HEPA Filter System"]
["M-S20VK_FLRSYS_HEPA","01","M-S20","VK_FLRSYS_HEPA",6504,"HEPA Filter System"]
["M-S20VK_BASE_S20-BTY","01","M-S20","VK_BASE_S20-BTY",49350,"S20-BTY"]
["M-S20VK_BASE_S20-DSL","01","M-S20","VK_BASE_S20-DSL",50682,"S20-DSL"]
["M-S20VK_BASE_S20-GAS","01","M-S20","VK_BASE_S20-GAS",45686,"S20-GAS"]
["M-S20VK_BASE_S20-LPG","01","M-S20","VK_BASE_S20-LPG",45686,"S20-LPG"]
["M-S20VK_CAB_SC_IC_N_WO","01","M-S20","VK_CAB_SC_IC_N_WO",5845,"Cab Assy Soft Side"]
["M-S20VK_BLULGT","01","M-S20","VK_BLULGT",1077,"Blue Light"]
["M-S20VK_MCHCOM","01","M-S20","VK_MCHCOM",1367,"IRIS Telemetry"]
["M-S20VK_ULERTG_LPS","01","M-S20","VK_ULERTG_LPS",5086,"UL® Type LPS"]
["M-S20VK_RERVIWMIR","01","M-S20","VK_RERVIWMIR",436,"Rear View Mirror"]
["M-S20VK_CLMCTL_G_L","01","M-S20","VK_CLMCTL_G_L",3220,"Heater"]
["M-S20VK_AVFE_B_YNWO","01","M-S20","VK_AVFE_B_YNWO",911,"AV BU AlarmFlash Eng"]
["M-S20VK_CSMSLN_RTR","01","M-S20","VK_CSMSLN_RTR",574,"Rear Tow Ring"]
[{"$f":"C330&D330","v":"M-S20VK_SDECLNTOL_FWB"},"01","M-S20","VK_SDECLNTOL_FWB","N/C","Side Flat Wire"]
["M-S20VK_OTDSFY_PKG_WOOHG","01","M-S20","VK_OTDSFY_PKG_WOOHG",3120,"Outdoor Safety Pkg"]
["M-S20VK_HVYDTYPRT_PKG","01","M-S20","VK_HVYDTYPRT_PKG",3667,"Hvy Dty Protect Pkg"]
["M-S20VK_CLNTOL_PYS","01","M-S20","VK_CLNTOL_PYS","N/C","Polyester Brush"]
["M-S20VK_CHG_WO","01","M-S20","VK_CHG_WO",-375,"Without Charger"]
["M-S20VK_CAB_SC_B_N_ALM","01","M-S20","VK_CAB_SC_B_N_ALM",5845,"Cab Assy Soft Side"]
["M-S20VK_AVSE_GLD_YNWO","01","M-S20","VK_AVSE_GLD_YNWO",911,"AV BU AlarmStrobeENG"]
["M-S20VK_PKG_CRT","01","M-S20","VK_PKG_CRT",895,"Crate"]
["M-S20VK_FRTTRE_SRSNM","01","M-S20","VK_FRTTRE_SRSNM",638,"Frt Tire Solid NM"]
["M-S20VK_CAB_SC_IC_N_ALM","01","M-S20","VK_CAB_SC_IC_N_ALM",5845,"Cab Assy Soft Side"]
["M-S20VK_PWRVACWND_VACWND","01","M-S20","VK_PWRVACWND_VACWND",1177,"Vacuum Wand"]
["M-S20VK_CLNTOL_UMB","01","M-S20","VK_CLNTOL_UMB",250,"Union Mix Brush"]
["M-S20VK_CLNTOL_PYPW","01","M-S20","VK_CLNTOL_PYPW","N/C","Poly & Wire Brush"]
["M-S20VK_BTY_W340C6","01","M-S20","VK_BTY_W340C6",4161,"Bty Wet 340AH C6"]
["M-S20VK_ULERTG_G","01","M-S20","VK_ULERTG_G","N/C","UL® Type G"]
["M-S20VK_STBFLSLNS_B","01","M-S20","VK_STBFLSLNS_B","N/C","Alt.StrobeLns Blue"]
["M-S20VK_HVYDTYRERBMP","01","M-S20","VK_HVYDTYRERBMP",705,"Hvy Dty RearBmpr"]
["M-S20VK_FRTTRE_SRST","01","M-S20","VK_FRTTRE_SRST",540,"Frt Tire SolidSoft"]
["M-S20VK_CHG_50A240V60H1","01","M-S20","VK_CHG_50A240V60H1",1899,"Ch50A 240V 60H1P"]
["M-S20VK_CAB_SC_B_N_WO","01","M-S20","VK_CAB_SC_B_N_WO",5845,"Cab Assy Soft Side"]
["M-S20VK_AVFC/O_GLD_YNSCWO","01","M-S20","VK_AVFC/O_GLD_YNSCWO",911,"AV BU AlarmFlash Cab"]
["M-S20VK_CSMSLN_WPMP","01","M-S20","VK_CSMSLN_WPMP",211,"Weatherproof pouch"]
["M-S20VK_STLHPR","01","M-S20","VK_STLHPR",3429,"Steel Hopper"]
["M-S20VK_SRVMNL_BAT","01","M-S20","VK_SRVMNL_BAT",243,"Service Manual"]
["M-S20VK_SDEBRSLOC_D_BAT","01","M-S20","VK_SDEBRSLOC_D_BAT",3037,"Side Brush: Dual"]
["M-S20VK_RERTRE_PNER","01","M-S20","VK_RERTRE_PNER",381,"Trs Rear Pnmtc Rdl"]
["M-S20VK_OTDSFY_PKG","01","M-S20","VK_OTDSFY_PKG",3120,"Outdoor Safety Pkg"]
["M-S20VK_LPGTNK_F","01","M-S20","VK_LPGTNK_F","N/C","LPG Tank Full"]
["M-S20VK_HGHRISAIRITK","01","M-S20","VK_HGHRISAIRITK",962,"High Rise Air Intake"]
["M-S20VK_FRTTRE_PNER","01","M-S20","VK_FRTTRE_PNER",730,"Trs Frnt Pnmtc Rdl"]
["M-S20VK_FREEXT","01","M-S20","VK_FREEXT",151,"Fire Extinguisher"]
["M-S20VK_CSMSLN_CC","01","M-S20","VK_CSMSLN_CC",4457,"Custom Color"]
["M-S20VK_CLNTOL_SWB","01","M-S20","VK_CLNTOL_SWB",250,"Sand Wedge Brush"]
["M-S20VK_CLNTOL_PYPWIN","01","M-S20","VK_CLNTOL_PYPWIN",250,"Poly Window Brush"]
["M-S20VK_CLNTOL_PYP","01","M-S20","VK_CLNTOL_PYP","N/C","Poly Brush"]
["M-S20VK_CHG_75A208V60H3P","01","M-S20","VK_CHG_75A208V60H3P",2727,"Ch75A 208V 60H3P"]
["M-S20VK_CHG_75A208V60H1P","01","M-S20","VK_CHG_75A208V60H1P",2362,"Ch75A 208V 60H1P"]
["M-S20VK_BTY_WO","01","M-S20","VK_BTY_WO","N/C","Without Battery"]
["M-S20VK_BTY_W440C6","01","M-S20","VK_BTY_W440C6",5451,"Bty Wet 440 C6"]
["M-S20VK_AVSO/C_B_YNSCWO","01","M-S20","VK_AVSO/C_B_YNSCWO",911,"AV BU AlarmStrobeOHG"]
["M-S20VK_AVSE_B_YNWO","01","M-S20","VK_AVSE_B_YNWO",911,"AV BU AlarmStrobeENG"]
["M-S20VK_AVFO/C_B_YNSCWO","01","M-S20","VK_AVFO/C_B_YNSCWO",911,"AV BU AlarmFlash OHG"]
["M-S20VK_AVFE_GLD_YNWO","01","M-S20","VK_AVFE_GLD_YNWO",911,"AV BU AlarmFlash Eng"]
["M-S20VK_ADOPRMNL","01","M-S20","VK_ADOPRMNL",73,"Add. Opr Mnl"]
["M-S20VK_SDEBRSDSTCTL_D_RH","01","M-S20","VK_SDEBRSDSTCTL_D_RH",1097,"SideBrshDustCntrl Dry RH"]
["M-S30VK_CLNTOL_FWFF","01","M-S30","VK_CLNTOL_FWFF",299,"Fiber & Wire Brush"]
["M-S30VK_BLWWND_D","01","M-S30","VK_BLWWND_D",2025,"Blower Wand Dsl"]
["M-S30VK_PWRVACWND_VAC_WND","01","M-S30","VK_PWRVACWND_VAC_WND",1520,"Vacuum Wand"]
["M-S30VK_CLNTOL_SWB","01","M-S30","VK_CLNTOL_SWB",299,"Sand Wedge Brush"]
["M-S30VK_BASE_S30-GAS_STD","01","M-S30","VK_BASE_S30-GAS_STD",55204,"S30 Gas Std Config"]
["M-S30VK_LPGTNK_F","01","M-S30","VK_LPGTNK_F","N/C","LPG Tank Full"]
["M-S30VK_CAB_G_HP","01","M-S30","VK_CAB_G_HP",8693,"Cab Climate cntrl HT"]
["M-S30VK_SDEBRSLOC_RH_NC","01","M-S30","VK_SDEBRSLOC_RH_NC","N/C","Side Brush: RH"]
["M-S30VK_CAB_G_ACHP","01","M-S30","VK_CAB_G_ACHP",13887,"Cab Climate cntrl AC"]
["M-S30VK_FRTTRE_PB","01","M-S30","VK_FRTTRE_PB",540,"Trs Front Pnmtc Bias"]
["M-S30VK_SDEBRSDSTCTL_RH","01","M-S30","VK_SDEBRSDSTCTL_RH",2558,"SideBrshDustCntrl R"]
["M-S30VK_SDEBRSLOC_RH","01","M-S30","VK_SDEBRSLOC_RH","N/C","Side Brush: RH"]
["M-S30VK_TRMLVL_X4","01","M-S30","VK_TRMLVL_X4",9774,"Trim Level, X4"]
["M-S30VK_BASE_S30-LPG_STD","01","M-S30","VK_BASE_S30-LPG_STD",55204,"S30 LPG Std Config"]
["M-S30VK_CLNTOL_PYPWIN","01","M-S30","VK_CLNTOL_PYPWIN",299,"Poly Window Brush"]
["M-S30VK_TRMLVL_XP","01","M-S30","VK_TRMLVL_XP",5675,"Trim Level, XP"]
["M-S30VK_CLNTOL_NYLFF","01","M-S30","VK_CLNTOL_NYLFF",299,"Nylon Full Fill Brsh"]
["M-S30VK_CAB_D_ACHP","01","M-S30","VK_CAB_D_ACHP",13887,"Cab Climate cntrl AC"]
["M-S30VK_SFYLGTPKG_OTD","01","M-S30","VK_SFYLGTPKG_OTD",1464,"Sfty Lght Pkg Outd"]
[{"$f":"C394&D394","v":"M-S30VK_CABFLR_HF"},"01","M-S30","VK_CABFLR_HF",13774,"Cab Filter HEPA"]
["M-S30VK_HVYDTYPRTPKG","01","M-S30","VK_HVYDTYPRTPKG",7248,"Hvy Duty Protect Pkg"]
["M-S30VK_RERTRE_FF","01","M-S30","VK_RERTRE_FF",201,"Trs Rear Foam Flld"]
["M-S30VK_CAB_D_ACHP_NC","01","M-S30","VK_CAB_D_ACHP_NC","N/C","Cab Climate cntrl AC"]
["M-S30VK_BASE_S30-DSL_STD","01","M-S30","VK_BASE_S30-DSL_STD",60132,"S30 DSL Std Config"]
["M-S30VK_CAB_G_ACHP_NC","01","M-S30","VK_CAB_G_ACHP_NC","N/C","Cab Climate cntrl AC"]
["M-S30VK_FLRSYS_HEPA_NC","01","M-S30","VK_FLRSYS_HEPA_NC","N/C","HEPA Filter System"]
["M-S30VK_FREEXT","01","M-S30","VK_FREEXT",151,"Fire Extinguisher"]
["M-S30VK_RERTRE_SR","01","M-S30","VK_RERTRE_SR","N/C","Trs Rear Solid Rbr"]
["M-S30VK_CLNTOL_PYP","01","M-S30","VK_CLNTOL_PYP","N/C","Poly Brush"]
["M-S30VK_RERTRE_SNM_NC","01","M-S30","VK_RERTRE_SNM_NC","N/C","Trs Rear Solid NM"]
["M-S30VK_CSMSLN_WPMP","01","M-S30","VK_CSMSLN_WPMP",144,"Weatherproof pouch"]
["M-S30VK_CSMSLN_RTR","01","M-S30","VK_CSMSLN_RTR",573,"Rear Tow Ring"]
["M-S30VK_CSMSLN_RHC","01","M-S30","VK_CSMSLN_RHC",15059,"Reduced Height Cab"]
["M-S30VK_CSMSLN_LLRTR","01","M-S30","VK_CSMSLN_LLRTR",1518,"Liftigugs&RearTwRing"]
["M-S30VK_HVYDTYFRTBMP","01","M-S30","VK_HVYDTYFRTBMP",813,"Hvy Dty Frnt Bumper"]
["M-S30VK_BLULGT","01","M-S30","VK_BLULGT",1077,"Blue Light"]
["M-S30VK_CAB_RHC","01","M-S30","VK_CAB_RHC",15059,"Reduced Height Cab"]
["M-S30VK_FRMLFTLUG_SD","01","M-S30","VK_FRMLFTLUG_SD",1518,"Frame Lifting Lugs-Side"]
["M-S30VK_LFTLUGRERTOWRNG","01","M-S30","VK_LFTLUGRERTOWRNG",1324,"Lifting Lug / Rear Tow Ring"]
["M-S30VK_WCHHOK","01","M-S30","VK_WCHHOK",572,"Winch Hook"]
["M-S30VK_WPFMNLPCH","01","M-S30","VK_WPFMNLPCH",211,"Weatherproof Manual Pouch"]
["M-S30VK_PKG_PAD","01","M-S30","VK_PKG_PAD","N/C","Pad Wrap"]
["M-S30VK_SDECLNTOL_PYP","01","M-S30","VK_SDECLNTOL_PYP","N/C","Side Poly Brush"]
["M-S30VK_SDECLNTOL_NYL","01","M-S30","VK_SDECLNTOL_NYL","N/C","Side Nylon Brush"]
["M-S30VK_CLNTOL_PYPW","01","M-S30","VK_CLNTOL_PYPW","N/C","Poly & Wire Brush"]
["M-S30VK_SLADSTFLTPKG_D","01","M-S30","VK_SLADSTFLTPKG_D",10223,"HEPA Dust Filter Pkg: Dual"]
["M-S30VK_SLADSTFLTPKG_RH","01","M-S30","VK_SLADSTFLTPKG_RH",9494,"HEPA Dust Filter Pkg: RH"]
["M-S30VK_HVYDTYRERBMP","01","M-S30","VK_HVYDTYRERBMP",797,"Hvy Dty RearBmpr"]
["M-S30VK_SDEBRSLOC_D","01","M-S30","VK_SDEBRSLOC_D",2025,"Side Brush: Dual"]
["M-S30VK_LPGTNK_E","01","M-S30","VK_LPGTNK_E","N/C","LPG Tank Empty"]
["M-S30VK_SETBLT","01","M-S30","VK_SETBLT",659,"Seat Belt"]
["M-S30VK_FRTTRE_PNER","01","M-S30","VK_FRTTRE_PNER",540,"Trs Frnt Pnmtc Rdl"]
["M-S30VK_SBTPARKIT","01","M-S30","VK_SBTPARKIT",1429,"Sunbelt Parts Kit"]
["M-S30VK_S30-G","01","M-S30","VK_S30-G",55204,"S30 Gas Rider Swpr"]
["M-S30VK_PKG_SKD_NO_CHG","01","M-S30","VK_PKG_SKD_NO_CHG","N/C","Skid"]
["M-S30VK_WAR_XTD","01","M-S30","VK_WAR_XTD",2123,"Warranty Plus"]
["M-S30VK_DATPKG_HO","01","M-S30","VK_DATPKG_HO",1384,"Hardware Only"]
["M-S30VK_SDEBRSSPL","01","M-S30","VK_SDEBRSSPL",502,"Side Brush Spotlight"]
["M-S30VK_S30-LP","01","M-S30","VK_S30-LP",55204,"S30 LPG Rider Swpr"]
["M-S30VK_S30-DSL","01","M-S30","VK_S30-DSL",60132,"S30 Dsl Rider Swpr"]
["M-S30VK_RERTRE_PB","01","M-S30","VK_RERTRE_PB","N/C","Trs Rear Pneumatic-Bias"]
["M-S30VK_SDEBRSDSTCTL_D_NC","01","M-S30","VK_SDEBRSDSTCTL_D_NC","N/C","SideBrshDustCntrl D"]
["M-S30VK_CSMFRMLFTLUG_SD","01","M-S30","VK_CSMFRMLFTLUG_SD",1510,"Frame Lifting Lugs-Side"]
["M-S30VK_SDEBRSDSTCTL_RH_NC","01","M-S30","VK_SDEBRSDSTCTL_RH_NC","N/C","SideBrshDustCntrl R"]
["M-S30VK_FLRSYS_HEPA","01","M-S30","VK_FLRSYS_HEPA",6937,"HEPA Filter System"]
["M-S30VK_CABFLR_HF_NC","01","M-S30","VK_CABFLR_HF_NC","N/C","Cab Filter HEPA"]
["M-S30VK_SDEBRSDSTCTL_D","01","M-S30","VK_SDEBRSDSTCTL_D",3289,"SideBrshDustCntrl D"]
["M-S30VK_HEPFLRCABPKG","01","M-S30","VK_HEPFLRCABPKG",27379,"HEPA Filter Cab Pkg"]
["M-S30VK_SDEBRSLOC_D_NC","01","M-S30","VK_SDEBRSLOC_D_NC","N/C","Side Brush: Dual"]
["M-S30VK_SDEBRSSPL_RH","01","M-S30","VK_SDEBRSSPL_RH",502,"SideBrushSpotL.RH"]
["M-S30VK_PKG_SKD_NC","01","M-S30","VK_PKG_SKD_NC","N/C","Skid"]
["M-S30VK_CSMSBTPARKIT","01","M-S30","VK_CSMSBTPARKIT",1373,"Sunbelt -Parts Kit"]
["M-S30VK_PRDPKG","01","M-S30","VK_PRDPKG",2306,"Productivity Package"]
["M-S30VK_ALTMUF_P","01","M-S30","VK_ALTMUF_P",2291,"Purifying Muffler"]
["M-S30VK_SDEBRSDSTCTL_WET_RH","01","M-S30","VK_SDEBRSDSTCTL_WET_RH",3583,"SideBrshDustCntrl R"]
["M-S30VK_SDEBRSDSTCTL_WET_D","01","M-S30","VK_SDEBRSDSTCTL_WET_D",4161,"SideBrshDustCntrl D"]
["M-S30VK_WTY_XTD","01","M-S30","VK_WTY_XTD",2123,"Warranty Plus"]
["M-S30VK_BASE_S30-DSL","01","M-S30","VK_BASE_S30-DSL",60132,"S30-DSL"]
["M-S30VK_BASE_S30-GAS","01","M-S30","VK_BASE_S30-GAS",55204,"S30-GAS"]
["M-S30VK_BASE_S30-LPG","01","M-S30","VK_BASE_S30-LPG",55204,"S30-LPG"]
["M-S30VK_CSMSLN_SCW","01","M-S30","VK_CSMSLN_SCW",1391,"Solid Cab Window"]
["M-S30VK_CSMSLN_HFK","01","M-S30","VK_CSMSLN_HFK",11503,"HEPA Filter Kit"]
["M-S30VK_MCHCOM","01","M-S30","VK_MCHCOM",1367,"IRIS Telemetry"]
[{"$f":"C458&D458","v":"M-S30VK_RERTRE_PR"},"01","M-S30","VK_RERTRE_PR","N/C","Trs Rear Pnmtc Rdl"]
["M-S30VK_CAB_L_ACHP","01","M-S30","VK_CAB_L_ACHP",13887,"Cab Climate cntrl AC"]
["M-S30VK_OVHGRD","01","M-S30","VK_OVHGRD",1370,"Overhead Guard"]
["M-S30VK_ULERTG_LPS","01","M-S30","VK_ULERTG_LPS",4734,"UL® Type LPS"]
["M-S30VK_UPG","01","M-S30","VK_UPG","N/C","UPG"]
["M-S30VK_CLNTOL_NYLP","01","M-S30","VK_CLNTOL_NYLP","N/C","Nylon Patrol Brush"]
["M-S30VK_CAB_L_HP","01","M-S30","VK_CAB_L_HP",8693,"Cab Climate cntrl HT"]
["M-S30VK_CAB_D_HP","01","M-S30","VK_CAB_D_HP",8693,"Cab Climate cntrl HT"]
["M-S30VK_BLWWND_GL","01","M-S30","VK_BLWWND_GL",2657,"Blower Wand Gas/LPG"]
["M-S30VK_AIRITK","01","M-S30","VK_AIRITK",2039,"Hgh Rise Air Intake"]
["M-S30VK_ADLOPRMNL","01","M-S30","VK_ADLOPRMNL",73,"Add Operator Manual"]
["M-S30VK_CLNTOL_CWB","01","M-S30","VK_CLNTOL_CWB",299,"Crinkle Wire Brush"]
["M-S30VK_RERTRE_SNM","01","M-S30","VK_RERTRE_SNM",377,"Trs Rear Solid NM"]
["M-S30VK_PKG_SKD","01","M-S30","VK_PKG_SKD",891,"Skid"]
["M-S30VK_SRVMNL","01","M-S30","VK_SRVMNL",243,"Service Manual"]
["M-S30VK_SDECLNTOL_FWB","01","M-S30","VK_SDECLNTOL_FWB","N/C","Side Flat Wire"]
["M-S30VK_CLNTOL_NYL","01","M-S30","VK_CLNTOL_NYL","N/C","Nylon Brush"]
["M-S30VK_STLHPR","01","M-S30","VK_STLHPR",6082,"Steel Hopper"]
["M-S30VK_SFYLGTPKG_IDR","01","M-S30","VK_SFYLGTPKG_IDR",874,"Sfty Lght Pkg Ind"]
["M-S30VK_SET_DLXW","01","M-S30","VK_SET_DLXW",730,"Deluxe Seat w/Armr."]
["M-800VK_SELOPRSTN","01","M-800","VK_SELOPRSTN",1958,"Sealed Oper Station"]
["M-800VK_CLNTOL_NYLFF","01","M-800","VK_CLNTOL_NYLFF",440,"Nylon Full Fill Brsh"]
["M-800VK_SOLCABWDW","01","M-800","VK_SOLCABWDW",1180,"Solid Cab Windows"]
["M-800VK_SDEBRSDSTCTL_D_NC","01","M-800","VK_SDEBRSDSTCTL_D_NC","N/C","SideBrshDustCntrl D"]
["M-800VK_SLADSTFLTPKG_RH","01","M-800","VK_SLADSTFLTPKG_RH",10740,"HEPA Dust Filter Pkg: RH"]
["M-800VK_SDEBRSLOC_RH_NC","01","M-800","VK_SDEBRSLOC_RH_NC","N/C","Side Brush: RH"]
["M-800VK_ENGMNL","01","M-800","VK_ENGMNL",88,"Engine Manual"]
["M-800VK_SELOPRSTN_NC","01","M-800","VK_SELOPRSTN_NC","N/C","Sealed Oper Station"]
["M-800VK_SLADSTFLTPKG_D","01","M-800","VK_SLADSTFLTPKG_D",13014,"HEPA Dust Filter Pkg: Dual"]
["M-800VK_SDEBRSLOC_D_NC","01","M-800","VK_SDEBRSLOC_D_NC","N/C","Side Brush: Dual"]
["M-800VK_BASE_800-LPG","01","M-800","VK_BASE_800-LPG",96055,"Sweeper 800 LPG"]
["M-800VK_CSMLFTLUG_SD","01","M-800","VK_CSMLFTLUG_SD",2510,"Frame Lift Lugs - Side"]
["M-800VK_CSMHSESLV","01","M-800","VK_CSMHSESLV",1935,"Hyd Hose Sleeve Protection"]
["M-800VK_CAB_RHC","01","M-800","VK_CAB_RHC",15043,"Reduced Height Cab"]
["M-800VK_SDEVIWMIR_WCM_CAB","01","M-800","VK_SDEVIWMIR_WCM_CAB",1377,"West Coast Mirror"]
["M-800VK_SDEVIWMIR_WCM_OHG","01","M-800","VK_SDEVIWMIR_WCM_OHG",1377,"West Coast Mirror"]
["M-800VK_ALM_AVFC","01","M-800","VK_ALM_AVFC",1797,"AV BU AlarmFlash Cab"]
["M-800VK_ALM_AVFE","01","M-800","VK_ALM_AVFE",1797,"AV BU AlarmFlash Eng"]
["M-800VK_RERVIWMIR_WCM_CAB","01","M-800","VK_RERVIWMIR_WCM_CAB",1377,"West Coast Mirror"]
["M-800VK_ALM_FO","01","M-800","VK_ALM_FO",619,"Flashing Light OHG"]
["M-800VK_ALM_AVSC","01","M-800","VK_ALM_AVSC",2163,"AV BU AlarmStrobeCab"]
["M-800VK_RERVIWMIR_WCM_OHG","01","M-800","VK_RERVIWMIR_WCM_OHG",1377,"West Coast Mirror"]
["M-800VK_ALM_AVSO","01","M-800","VK_ALM_AVSO",2163,"AV BU AlarmStrobeOHG"]
["M-800VK_ALM_AVFO","01","M-800","VK_ALM_AVFO",1797,"AV BU AlarmFlash OHG"]
["M-800VK_ALM_SE","01","M-800","VK_ALM_SE",986,"Strobe Light Eng"]
["M-800VK_ALM_SO","01","M-800","VK_ALM_SO",986,"Strobe Light OHG"]
["M-800VK_ALM_AVE","01","M-800","VK_ALM_AVE",1186,"Audio BU Alarm Eng"]
["M-800VK_ALM_AVSE","01","M-800","VK_ALM_AVSE",2163,"AV BU AlarmStrobeEng"]
["M-800VK_ALM_FE","01","M-800","VK_ALM_FE",619,"Flashing Light Eng"]
["M-800VK_LPGTNK_F","01","M-800","VK_LPGTNK_F","N/C","LPG Tank Full"]
["M-800VK_LPGTNK_E","01","M-800","VK_LPGTNK_E","N/C","LPG Tank Empty"]
["M-800VK_ALM_FC","01","M-800","VK_ALM_FC",619,"Flashing Light Cab"]
["M-800VK_ALM_SC","01","M-800","VK_ALM_SC",986,"Strobe Light Cab"]
["M-800VK_WTY_XTD","01","M-800","VK_WTY_XTD",2236,"Warranty Plus"]
["M-800VK_WTY_STD","01","M-800","VK_WTY_STD","N/C","Warranty STD"]
["M-800VK_WRNLGTANDALM_SO","01","M-800","VK_WRNLGTANDALM_SO",986,"Strobe Light OHG"]
["M-800VK_WRNLGTANDALM_SE","01","M-800","VK_WRNLGTANDALM_SE",986,"Strobe Light Eng"]
["M-800VK_WRNLGTANDALM_SC","01","M-800","VK_WRNLGTANDALM_SC",986,"Strobe Light Cab"]
["M-800VK_WRNLGTANDALM_FO","01","M-800","VK_WRNLGTANDALM_FO",619,"Flashing Light OHG"]
["M-800VK_WRNLGTANDALM_FE","01","M-800","VK_WRNLGTANDALM_FE",619,"Flashing Light on EngCover"]
["M-800VK_WRNLGTANDALM_FC","01","M-800","VK_WRNLGTANDALM_FC",619,"Flashing Light Cab"]
["M-800VK_WRNLGTANDALM_AVSO","01","M-800","VK_WRNLGTANDALM_AVSO",2163,"AV BU AlrmStrobe OHG"]
["M-800VK_WRNLGTANDALM_AVSE","01","M-800","VK_WRNLGTANDALM_AVSE",2163,"AV BU AlarmStrobeEng"]
["M-800VK_WRNLGTANDALM_AVSC","01","M-800","VK_WRNLGTANDALM_AVSC",2163,"AV BU AlarmStrobeCab"]
[{"$f":"C522&D522","v":"M-800VK_WRNLGTANDALM_AVFO"},"01","M-800","VK_WRNLGTANDALM_AVFO",1797,"AV BU AlarmFlash OHG"]
["M-800VK_WRNLGTANDALM_AVFE","01","M-800","VK_WRNLGTANDALM_AVFE",1797,"AV BU AlarmFlash Eng"]
["M-800VK_WRNLGTANDALM_AVFC","01","M-800","VK_WRNLGTANDALM_AVFC",1797,"AV BU AlarmFlash Cab"]
["M-800VK_WRNLGTANDALM_AVE","01","M-800","VK_WRNLGTANDALM_AVE",1186,"Audio BU Alarm Eng"]
["M-800VK_RERVIWMIR_RVM_OHG","01","M-800","VK_RERVIWMIR_RVM_OHG",423,"Rearview Mirror"]
["M-800VK_RERVIWMIR_RVM_CAB","01","M-800","VK_RERVIWMIR_RVM_CAB",423,"Rearview Mirror"]
["M-800VK_PKG_SKD_NC","01","M-800","VK_PKG_SKD_NC","N/C","Skid"]
["M-800VK_RVM_RVM_CAB","01","M-800","VK_RVM_RVM_CAB",423,"Rearview Mirror"]
["M-800VK_PKG_SKD_NO_CHG","01","M-800","VK_PKG_SKD_NO_CHG","N/C","Skid"]
["M-800VK_RVM_RVM_OHG","01","M-800","VK_RVM_RVM_OHG",423,"Rearview Mirror"]
["M-800VK_HEPFLRCABPKG","01","M-800","VK_HEPFLRCABPKG",33479,"HEPA Filter Cab Pkg"]
["M-800VK_WAR_STD","01","M-800","VK_WAR_STD","N/C","Warranty STD"]
["M-800VK_RVM_WCM_CAB","01","M-800","VK_RVM_WCM_CAB",1377,"West Coast Mirror"]
["M-800VK_CSMSBTPARKIT","01","M-800","VK_CSMSBTPARKIT",3854,"Sunbelt -Parts Kit"]
["M-800VK_CABFLR_HF","01","M-800","VK_CABFLR_HF",13787,"Cab Filter HEPA"]
["M-800VK_CABFLR_HF_NC","01","M-800","VK_CABFLR_HF_NC","N/C","Cab Filter HEPA"]
["M-800VK_CAB_STDC_NC","01","M-800","VK_CAB_STDC_NC","N/C","Cab"]
["M-800VK_CLMCTL_ACHP_D_NC","01","M-800","VK_CLMCTL_ACHP_D_NC","N/C","Air Cond./Heater/Pre"]
["M-800VK_CLMCTL_ACHP_GL_NC","01","M-800","VK_CLMCTL_ACHP_GL_NC","N/C","Air Cond./Heater/Pre"]
["M-800VK_FLRSYS_HEPA_NC","01","M-800","VK_FLRSYS_HEPA_NC","N/C","HEPA Filter System"]
["M-800VK_SDEBRSDSTCTL_RH_NC","01","M-800","VK_SDEBRSDSTCTL_RH_NC","N/C","SideBrshDustCntrl R"]
["M-800VK_SOLCABWDW_NC","01","M-800","VK_SOLCABWDW_NC","N/C","Solid Cab Windows"]
["M-800VK_CLNTOL_SWB","01","M-800","VK_CLNTOL_SWB",440,"Sand Wedge Brush"]
["M-800VK_SDEBRSLOC_D","01","M-800","VK_SDEBRSLOC_D",5416,"Side Brush: Dual"]
["M-800VK_SDEBRSMIR_D","01","M-800","VK_SDEBRSMIR_D",1007,"SideBrushMirror Dual"]
["M-800VK_SDEBRSMIR_RH","01","M-800","VK_SDEBRSMIR_RH",329,"SideBrushMirror RH"]
["M-800VK_SDEBRSSPL_DUL","01","M-800","VK_SDEBRSSPL_DUL",1082,"SideBrushSpotL.Dual"]
["M-800VK_SDEBRSSPL_RH","01","M-800","VK_SDEBRSSPL_RH",203,"SideBrushSpotL.RH"]
["M-800VK_SDECLNTOL_NYL","01","M-800","VK_SDECLNTOL_NYL","N/C","Side Nylon Brush"]
["M-800VK_SDECLNTOL_PYP","01","M-800","VK_SDECLNTOL_PYP","N/C","Side Poly Brush"]
["M-800VK_SRVMNL","01","M-800","VK_SRVMNL",250,"Service Manual"]
["M-800VK_CLNTOL_NYL","01","M-800","VK_CLNTOL_NYL","N/C","Nylon Brush"]
["M-800VK_SDEBRSDSTCTL_RH","01","M-800","VK_SDEBRSDSTCTL_RH",2805,"SideBrshDustCntrl R"]
["M-800VK_SDEBRSDSTCTL_D","01","M-800","VK_SDEBRSDSTCTL_D",5094,"SideBrshDustCntrl D"]
["M-800VK_HVYDTYBMP","01","M-800","VK_HVYDTYBMP",3081,"Hvy Dty Frnt/Rear Bumper"]
["M-800VK_BASE_800-DSL4F","01","M-800","VK_BASE_800-DSL4F",112878,"Sweeper 800 Diesel 4F"]
["M-800VK_WAR_XTD","01","M-800","VK_WAR_XTD",2236,"Warranty Plus"]
["M-800VK_RVM_WCM_OHG","01","M-800","VK_RVM_WCM_OHG",1377,"West Coast Mirror"]
["M-800VK_BASE_800-GAS","01","M-800","VK_BASE_800-GAS",93269,"Sweeper 800 Gasoline"]
["M-800VK_BLULGT","01","M-800","VK_BLULGT",1343,"Blue Light"]
["M-800VK_SDEBRSSPL_RH_NC","01","M-800","VK_SDEBRSSPL_RH_NC","N/C","SideBrushSpotL.RH No Chg"]
["M-800VK_SDEBRSSPL_DUL_NC","01","M-800","VK_SDEBRSSPL_DUL_NC","N/C","SideBrushSpotL.Dual No Chg"]
["M-800VK_RODPKG_DUL","01","M-800","VK_RODPKG_DUL",1680,"Road Package Dual"]
["M-800VK_FLRSYS_HEPA","01","M-800","VK_FLRSYS_HEPA",8040,"HEPA Filter System"]
["M-800VK_FREEXT","01","M-800","VK_FREEXT",163,"Fire Extinguisher"]
["M-800VK_FWDSPDCTL","01","M-800","VK_FWDSPDCTL",94,"ForwardSpeedControl"]
["M-800VK_ADOPRMNL","01","M-800","VK_ADOPRMNL",188,"Add. Opr Mnl"]
["M-800VK_ENGSDN_LHTS","01","M-800","VK_ENGSDN_LHTS",1043,"LowOil/WaterShutdwn"]
["M-800VK_ALTSTBFLSLNS_B","01","M-800","VK_ALTSTBFLSLNS_B","N/C","Alternate Lens-Blue"]
["M-800VK_SETBLT","01","M-800","VK_SETBLT",154,"Seat Belt"]
["M-800VK_CLMCTL_ACHP_GL","01","M-800","VK_CLMCTL_ACHP_GL",5605,"Air Cond./Heater/Pre"]
["M-800VK_DSTCTLFLR_EFFM","01","M-800","VK_DSTCTLFLR_EFFM",761,"Fine Media Cannister"]
["M-800VK_PWRVACWND","01","M-800","VK_PWRVACWND",1638,"Vacuum  Wand"]
["M-800VK_OPRVID","01","M-800","VK_OPRVID","N/C","Operator Video"]
["M-800VK_STLHPRFLR","01","M-800","VK_STLHPRFLR",1236,"StainlessHopperFloor"]
["M-800VK_FLRSYS_RFS","01","M-800","VK_FLRSYS_RFS",2542,"Regenerative F./Syst"]
["M-800VK_PKG_PAD","01","M-800","VK_PKG_PAD","N/C","Pad Wrap"]
["M-800VK_CLNTOL_OPYP","01","M-800","VK_CLNTOL_OPYP","N/C","Poly Brush Outdoor"]
["M-800VK_RERTRE_SR","01","M-800","VK_RERTRE_SR",519,"Trs Rear Solid Rbr"]
["M-800VK_CLMCTL_HP_GL","01","M-800","VK_CLMCTL_HP_GL",2410,"Heater/Pressurizer"]
["M-800VK_OVHGRD","01","M-800","VK_OVHGRD",2556,"Overhead Guard"]
["M-800VK_RODPKG","01","M-800","VK_RODPKG",834,"Road package"]
["M-800VK_PKG_SKD","01","M-800","VK_PKG_SKD",935,"Skid"]
["M-800VK_ADOPRMNL_D","01","M-800","VK_ADOPRMNL_D",188,"Add. Opr Mnl"]
[{"$f":"C586&D586","v":"M-800VK_CLNTOL_NYLP"},"01","M-800","VK_CLNTOL_NYLP","N/C","Nylon Patrol Brush"]
["M-800VK_FUECAP_PSFC","01","M-800","VK_FUECAP_PSFC",517,"Protecto-SealFuelCap"]
["M-800VK_UPG","01","M-800","VK_UPG","N/C","UPG"]
["M-800VK_CLNTOL_CWB","01","M-800","VK_CLNTOL_CWB",440,"Crinkle Wire Brush"]
["M-800VK_CLNTOL_PYP","01","M-800","VK_CLNTOL_PYP","N/C","Poly Brush"]
["M-800VK_FRTTRE_SR","01","M-800","VK_FRTTRE_SR",1036,"Frt Tire Solid Rbr"]
["M-800VK_CLMCTL_ACHP_D","01","M-800","VK_CLMCTL_ACHP_D",5605,"Air Cond./Heater/Pre"]
["M-800VK_BLWWND","01","M-800","VK_BLWWND",3007,"Blower Wand"]
["M-800VK_NTLSTT","01","M-800","VK_NTLSTT",253,"Neutral Start"]
["M-800VK_CLNTOL_PYPW","01","M-800","VK_CLNTOL_PYPW","N/C","Poly & Wire Brush"]
["M-800VK_ALTSTBFLSLNS_R","01","M-800","VK_ALTSTBFLSLNS_R","N/C","Alternate Lens-Red"]
["M-800VK_HPRDOROPNLGT","01","M-800","VK_HPRDOROPNLGT",210,"HopperDoorOpenLight"]
["M-800VK_CLMCTL_HP_D","01","M-800","VK_CLMCTL_HP_D",2410,"Heater/Pressurizer"]
["M-800VK_CAB_STDC","01","M-800","VK_CAB_STDC",11293,"Cab"]
["M-T2VK_BASE_T2-430-D_STD","01","M-T2","VK_BASE_T2-430-D_STD",7991,"T2 WB Scrbbr 430/17 STD"]
["M-T2VK_CSMFODCORLBL","01","M-T2","VK_CSMFODCORLBL",44,"Food Court Label"]
["M-T2VK_CSMDRTWTRLBL","01","M-T2","VK_CSMDRTWTRLBL",44,"Dirty Water Label"]
["M-T2VK_PADTYP_YLW3","01","M-T2","VK_PADTYP_YLW3",75,"Ylw Polish 3M"]
["M-T2VK_BTY_WO","01","M-T2","VK_BTY_WO",-450,"Without Battery"]
["M-T2VK_ADLOPRMNL","01","M-T2","VK_ADLOPRMNL",133,"Add Operator Manual"]
["M-T2VK_PADTYP_BLKH3","01","M-T2","VK_PADTYP_BLKH3",30,"Blk Strip (HiPRO) 3M"]
["M-T2VK_PADTYP_BLU3","01","M-T2","VK_PADTYP_BLU3",20,"Blu Scrub - 3M"]
["M-T2VK_PADTYP_BWN3","01","M-T2","VK_PADTYP_BWN3",20,"Br Stripping - 3M"]
["M-T2VK_PADTYP_MAR3","01","M-T2","VK_PADTYP_MAR3",29,"Mar Surf Prep 3M"]
["M-T2VK_PADTYP_RED3","01","M-T2","VK_PADTYP_RED3",20,"Red Clean 3M"]
["M-T2VK_PADTYP_WHT3","01","M-T2","VK_PADTYP_WHT3",20,"Wh Polish 3M"]
["M-T2VK_PARMNL","01","M-T2","VK_PARMNL",55,"Parts Manual"]
["M-T2VK_CLNTOL_PYP","01","M-T2","VK_CLNTOL_PYP",232,"Poly Brush"]
["M-T2VK_CLNTOL_NYL","01","M-T2","VK_CLNTOL_NYL",285,"Nylon Brush"]
["M-T2VK_CLNTOL_ABB","01","M-T2","VK_CLNTOL_ABB",388,"Abrasive Brush"]
["M-T2VK_BTY_G102C20","01","M-T2","VK_BTY_G102C20",349,"Bty Gel 102AH C20"]
["M-T2VK_BASE_T2-430-D","01","M-T2","VK_BASE_T2-430-D",7991,"T2-430-D"]
["M-T2VK_CHG_9A100V5060H1P","01","M-T2","VK_CHG_9A100V5060H1P","N/C","Ch9A 100V 5060H1P"]
["M-T2VK_CHG_11A100V5060H1","01","M-T2","VK_CHG_11A100V5060H1","N/C","Ch11A 100V 5060H1P"]
["M-T2VK_BTY_W105C20","01","M-T2","VK_BTY_W105C20","N/C","Bty Wet 105AH C20"]
["M-T2VK_PKG_WSKD","01","M-T2","VK_PKG_WSKD",186,"Skid w/Stretch Wrap"]
["M-T2VK_PKG_SSKD","01","M-T2","VK_PKG_SSKD",310,"Stack Skid/Carton"]
["M-T2VK_PKG_PAD","01","M-T2","VK_PKG_PAD","N/C","Pad Wrap"]
["M-T2VK_CLNTOL_PAD","01","M-T2","VK_CLNTOL_PAD","N/C","Pad Driver"]
["M-T3EVK_CLNTOL_D600PAD","01","M-T3E","VK_CLNTOL_D600PAD",181,"D600/24 Pad Driver"]
["M-T300VK_BASE_T300-500-C_STD","01","M-T300","VK_BASE_T300-500-C_STD",10271,"T300 500mm C Std Config"]
["M-T300VK_BASE_T300-500-O_STD","01","M-T300","VK_BASE_T300-500-O_STD",9031,"T300 500mm O Std Config"]
["M-T300VK_CLNTOL_D600PYP_IC","01","M-T300","VK_CLNTOL_D600PYP_IC",216,"D600/24 PolyBrush-IC"]
["M-T300VK_HRCLBLKIT","01","M-T300","VK_HRCLBLKIT",112,"Herc Label Kit"]
["M-T300VK_RECHSE_PYPOR_PC","01","M-T300","VK_RECHSE_PYPOR_PC","N/C","Poly Mat w/Pinch Cuff"]
["M-T300VK_CLNTOL_D600NYL_IC","01","M-T300","VK_CLNTOL_D600NYL_IC",216,"D600/24 Nyl Brush-IC"]
["M-T300VK_PKG_PAD","01","M-T300","VK_PKG_PAD","N/C","Pad Wrap"]
["M-T300VK_BASE_T300-430-D_STD","01","M-T300","VK_BASE_T300-430-D_STD",6914,"T300 430mm D Std Config"]
["M-T300VK_BASE_T300-500-D_STD","01","M-T300","VK_BASE_T300-500-D_STD",7947,"T300 500mm D Std Config"]
["M-T300VK_CLNTOL_D500PYP_IC","01","M-T300","VK_CLNTOL_D500PYP_IC",338,"D500/20 PolyBrush-IC"]
["M-T300VK_CLNTOL_D500PAD_IC","01","M-T300","VK_CLNTOL_D500PAD_IC",338,"D500/20 PadDriver-IC"]
["M-T300VK_DWN_PRS_SGL","01","M-T300","VK_DWN_PRS_SGL","N/C","Single D Pressure"]
["M-T300VK_CLNTOL_D430ABB_IC","01","M-T300","VK_CLNTOL_D430ABB_IC",377,"D430/17 Abr Brush IC"]
["M-T300VK_BASE_T300-600-D_STD","01","M-T300","VK_BASE_T300-600-D_STD",9383,"T300 600mm D Std Config"]
["M-T300VK_DWN_PRS_MLT_C","01","M-T300","VK_DWN_PRS_MLT_C",343,"Multi DD Press-Cyl"]
["M-T300VK_CLNTOL_D500NYL_IC","01","M-T300","VK_CLNTOL_D500NYL_IC",338,"D500/20 Nyl Brush-IC"]
["M-T300VK_SRVMNL","01","M-T300","VK_SRVMNL",128,"Service Manual"]
["M-T300VK_FREEXT","01","M-T300","VK_FREEXT",149,"Fire Extinguisher"]
["M-T300VK_CSMSBTRERSQE","01","M-T300","VK_CSMSBTRERSQE",527,"Sunbelt - Sqe Guard"]
["M-T300VK_CLNTOL_D500ABB_IC","01","M-T300","VK_CLNTOL_D500ABB_IC",514,"D500/20 Abr Brush-IC"]
["M-T300VK_CLNTOL_DPYP","01","M-T300","VK_CLNTOL_DPYP","N/C","Disk Brush Poly"]
["M-T300VK_CSMSBTPARKIT","01","M-T300","VK_CSMSBTPARKIT",1473,"Sunbelt -Parts Kit"]
["M-T300VK_CLNTOL_D600ABB_IC","01","M-T300","VK_CLNTOL_D600ABB_IC",380,"D600/24 Abr Brush-IC"]
["M-T300VK_CLNTOL_D600PAD_IC","01","M-T300","VK_CLNTOL_D600PAD_IC",216,"D600/24 PadDriver-IC"]
[{"$f":"C650&D650","v":"M-T300VK_PADTYP_430BLKH3"},"01","M-T300","VK_PADTYP_430BLKH3",29,"430/17 Blk HiPro 3M"]
["M-T300VK_PADTYP_430BLU3","01","M-T300","VK_PADTYP_430BLU3",20,"430/17 Bl Scrub 3M"]
["M-T300VK_PADTYP_430BWN3","01","M-T300","VK_PADTYP_430BWN3",20,"430/17 Br Strip 3M"]
["M-T300VK_PADTYP_430MAR3","01","M-T300","VK_PADTYP_430MAR3",28,"430/17 MarSur 3M"]
["M-T300VK_PADTYP_430RED3","01","M-T300","VK_PADTYP_430RED3",20,"430/17 Red Clean 3M"]
["M-T300VK_PADTYP_430WHT3","01","M-T300","VK_PADTYP_430WHT3",20,"430/17 Wh Polish 3M"]
["M-T300VK_PADTYP_500BLKH3","01","M-T300","VK_PADTYP_500BLKH3",29,"500/20 Blk HiPro 3M"]
["M-T300VK_PADTYP_500BLU3","01","M-T300","VK_PADTYP_500BLU3",26,"500/20 Bl Scrub 3M"]
["M-T300VK_BTY_W150C20","01","M-T300","VK_BTY_W150C20",806,"Bty Wet 150AH C20"]
["M-T300VK_SVEEVMSWHLKT","01","M-T300","VK_SVEEVMSWHLKT",60,"SE Switch Lockout"]
["M-T300VK_PARMNL","01","M-T300","VK_PARMNL",52,"Parts Manual"]
["M-T300VK_PADTYP_500BWN3","01","M-T300","VK_PADTYP_500BWN3",27,"500/20 Br Strip 3M"]
["M-T300VK_PADTYP_500MAR3","01","M-T300","VK_PADTYP_500MAR3",30,"500/20 MarSur 3M"]
["M-T300VK_PADTYP_500RED3","01","M-T300","VK_PADTYP_500RED3",26,"500/20 Red Clean 3M"]
["M-T300VK_PADTYP_500WHT3","01","M-T300","VK_PADTYP_500WHT3",26,"500/20 Wh Polish 3M"]
["M-T300VK_PADTYP_600BLKH3","01","M-T300","VK_PADTYP_600BLKH3",17,"600/24 Blk HiPro 3M"]
["M-T300VK_PADTYP_600BLU3","01","M-T300","VK_PADTYP_600BLU3",15,"600/24 Bl Scrub 3M"]
["M-T300VK_PADTYP_600BWN3","01","M-T300","VK_PADTYP_600BWN3",15,"600/24 Br Strip 3M"]
["M-T300VK_PADTYP_600MAR3","01","M-T300","VK_PADTYP_600MAR3",17,"600/24 MarSur 3M"]
["M-T300VK_PADTYP_600RED3","01","M-T300","VK_PADTYP_600RED3",15,"600/24 Red Clean 3M"]
["M-T300VK_PADTYP_600WHT3","01","M-T300","VK_PADTYP_600WHT3",15,"600/24 Wh Polish 3M"]
["M-T300VK_PADTYP_O500BLU3","01","M-T300","VK_PADTYP_O500BLU3",26,"Orb 500/20 Blu 3M"]
["M-T300VK_PADTYP_O500MAR3","01","M-T300","VK_PADTYP_O500MAR3",62,"Orb 500/20 Mar 3M"]
["M-T300VK_PADTYP_O500RED3","01","M-T300","VK_PADTYP_O500RED3",26,"Orb 500/20 Red 3M"]
["M-T300VK_PADTYP_O500WHT3","01","M-T300","VK_PADTYP_O500WHT3",26,"Orb 500/20 Wht 3M"]
["M-T300VK_TRM_PMEM","01","M-T300","VK_TRM_PMEM",275,"Pro Membrane Panel"]
["M-T300VK_DWNPRS_MEC","01","M-T300","VK_DWNPRS_MEC","N/C","Mech Down Pressure"]
["M-T300VK_DWNPRS_AUT","01","M-T300","VK_DWNPRS_AUT","N/C","Auto Down Pressure"]
["M-T300VK_MCHCOM","01","M-T300","VK_MCHCOM",1367,"IRIS Telemetry"]
["M-T300VK_CHG_13A85V5060H1P_OFF","01","M-T300","VK_CHG_13A85V5060H1P_OFF","N/C","Ch13A 85V 50/60H Off"]
["M-T300VK_BTY_WO","01","M-T300","VK_BTY_WO","N/C","Without Battery"]
["M-T300VK_BTY_W130C20","01","M-T300","VK_BTY_W130C20",677,"Bty Wet 130AH C20"]
["M-T300VK_BTY_W105C20","01","M-T300","VK_BTY_W105C20",602,"Bty Wet 105AH C20"]
["M-T300VK_BTY_A140C20","01","M-T300","VK_BTY_A140C20",1906,"Bty AGM 140AH C20"]
["M-T300VK_BTYWTRSYS","01","M-T300","VK_BTYWTRSYS",542,"Battery Watering Sys"]
["M-T300VK_BTYLFTBOX","01","M-T300","VK_BTYLFTBOX",173,"Battery Lift Box"]
["M-T300VK_BASE_T300-600-D","01","M-T300","VK_BASE_T300-600-D",9383,"T300-600-D"]
["M-T300VK_BASE_T300-500-O","01","M-T300","VK_BASE_T300-500-O",9031,"T300-500-O"]
["M-T300VK_BASE_T300-500-D","01","M-T300","VK_BASE_T300-500-D",7947,"T300-500-D"]
["M-T300VK_BASE_T300-430-D","01","M-T300","VK_BASE_T300-430-D",6914,"T300-430-D"]
["M-T300VK_ADLOPRMNL","01","M-T300","VK_ADLOPRMNL",128,"Add Operator Manual"]
["M-T300VK_CHG_13A85V5060H1P_ON","01","M-T300","VK_CHG_13A85V5060H1P_ON","N/C","Ch13A 85V 50/60Hz On"]
["M-T300VK_TRM_PPAN","01","M-T300","VK_TRM_PPAN",905,"ProPanel Ctrls"]
["M-T300VK_TRM_MPAN","01","M-T300","VK_TRM_MPAN","N/C","Membrane Ctrl Panel"]
["M-T300VK_SVEEVMSWH","01","M-T300","VK_SVEEVMSWH",583,"SE Switch Capability"]
["M-T300VK_RECHSE_PYPOR_DCO","01","M-T300","VK_RECHSE_PYPOR_DCO",34,"Poly Mat w/Drain Cap"]
["M-T300VK_RECHSE_PVC","01","M-T300","VK_RECHSE_PVC","N/C","PVC Matl w/Drain Cap"]
["M-T300VK_QITMOD","01","M-T300","VK_QITMOD","N/C","Quiet Mode"]
["M-T300VK_PRGBRK","01","M-T300","VK_PRGBRK",186,"Parking Brake"]
["M-T300VK_PKG_WSKD","01","M-T300","VK_PKG_WSKD",176,"Skid w/Stretch Wrap"]
["M-T300VK_PKG_SSKD","01","M-T300","VK_PKG_SSKD",299,"Stack Skid/Carton"]
["M-T300VK_OPRMNL","01","M-T300","VK_OPRMNL","N/C","Oper Manual"]
["M-T300VK_CLNTOL_D600PYP","01","M-T300","VK_CLNTOL_D600PYP",216,"D600/24 Poly Brush"]
["M-T300VK_CLNTOL_D600PAD","01","M-T300","VK_CLNTOL_D600PAD",216,"D600/24 Pad Driver"]
["M-T300VK_CLNTOL_D600NYL","01","M-T300","VK_CLNTOL_D600NYL",216,"D600/24 Nylon Brush"]
["M-T300VK_CLNTOL_D600ABB","01","M-T300","VK_CLNTOL_D600ABB",380,"D600/24 Abr Brush"]
["M-T300VK_CLNTOL_D500PYP","01","M-T300","VK_CLNTOL_D500PYP",338,"D500/20 Poly Brush"]
["M-T300VK_CLNTOL_D500PAD","01","M-T300","VK_CLNTOL_D500PAD",338,"D500/20 Pad Driver"]
["M-T300VK_CLNTOL_D500NYL","01","M-T300","VK_CLNTOL_D500NYL",338,"D500/20 Nylon Brush"]
["M-T300VK_CLNTOL_D500ABB","01","M-T300","VK_CLNTOL_D500ABB",514,"D500/20 Abr Brush"]
["M-T300VK_CLNTOL_D430PYP","01","M-T300","VK_CLNTOL_D430PYP",320,"D430/17 Poly Brush"]
["M-T300VK_CLNTOL_D430PAD","01","M-T300","VK_CLNTOL_D430PAD",320,"D430/17 Pad Driver"]
["M-T300VK_CLNTOL_D430NYL","01","M-T300","VK_CLNTOL_D430NYL",320,"D430/17 Nylon Brush"]
["M-T300VK_CLNTOL_D430ABB","01","M-T300","VK_CLNTOL_D430ABB",377,"D430/17 Abr Brush"]
[{"$f":"C714&D714","v":"M-T300VK_CLNTOL_C500PYP"},"01","M-T300","VK_CLNTOL_C500PYP",131,"C500/20 Poly Brush"]
["M-T300VK_CLNTOL_C500NYL","01","M-T300","VK_CLNTOL_C500NYL",213,"C500/20 Nylon Brush"]
["M-T300VK_CLNTCH_ECH2ON","01","M-T300","VK_CLNTCH_ECH2ON",2076,"ec-H2O™ NanoClean"]
["M-T300VK_CLNDRT_SP","01","M-T300","VK_CLNDRT_SP",1496,"Self Propel"]
["M-T300VK_CLNDRT_PBA","01","M-T300","VK_CLNDRT_PBA","N/C","Pad / Brush Assist"]
["M-T300VK_CHG_WO","01","M-T300","VK_CHG_WO","N/C","Without Charger"]
["M-T300VK_BASE_T300-500-C","01","M-T300","VK_BASE_T300-500-C",10271,"T300-500-C"]
["M-T300EVK_PADTYP_600BWN3","01","M-T300E","VK_PADTYP_600BWN3",15,"600/24 Br Strip 3M"]
["M-T300EVK_PADTYP_500WHT3","01","M-T300E","VK_PADTYP_500WHT3",26,"500/20 Wh Polish 3M"]
["M-T300EVK_BASE_T300E-430-D_STD","01","M-T300E","VK_BASE_T300E-430-D_STD",5676,"T300E 430mm Disk Std"]
["M-T300EVK_PADTYP_O500WHT3","01","M-T300E","VK_PADTYP_O500WHT3",26,"Orb 500/20 Wht 3M"]
["M-T300EVK_PADTYP_600WHT3","01","M-T300E","VK_PADTYP_600WHT3",15,"600/24 Wh Polish 3M"]
["M-T300EVK_PADTYP_600RED3","01","M-T300E","VK_PADTYP_600RED3",15,"600/24 Red Clean 3M"]
["M-T300EVK_PADTYP_600BLU3","01","M-T300E","VK_PADTYP_600BLU3",15,"600/24 Bl Scrub 3M"]
["M-T300EVK_PADTYP_O500RED3","01","M-T300E","VK_PADTYP_O500RED3",26,"Orb 500/20 Red 3M"]
["M-T300EVK_PADTYP_O500BLU3","01","M-T300E","VK_PADTYP_O500BLU3",26,"Orb 500/20 Blu 3M"]
["M-T300EVK_PADTYP_600BLKH3","01","M-T300E","VK_PADTYP_600BLKH3",17,"600/24 Blk HiPro 3M"]
["M-T300EVK_PADTYP_O500MAR3","01","M-T300E","VK_PADTYP_O500MAR3",62,"Orb 500/20 Mar 3M"]
["M-T300EVK_PADTYP_500RED3","01","M-T300E","VK_PADTYP_500RED3",26,"500/20 Red Clean 3M"]
["M-T300EVK_MCHCOM_SBT","01","M-T300E","VK_MCHCOM_SBT",1367,"IRIS Telemetry"]
["M-T300EVK_BASE_T300E-500-D_STD","01","M-T300E","VK_BASE_T300E-500-D_STD",6463,"T300E 500mm Disk Std"]
["M-T300EVK_BASE_T300E-500-O_STD","01","M-T300E","VK_BASE_T300E-500-O_STD",7306,"T300E 500mm Orb Std"]
["M-T300EVK_BASE_T300E-600-D_STD","01","M-T300E","VK_BASE_T300E-600-D_STD",6968,"T300E 600mm Disk Std"]
["M-T300EVK_BASE_T300E-500-C_STD","01","M-T300E","VK_BASE_T300E-500-C_STD",8847,"T300E 500mm Cyl Std"]
["M-T300EVK_SRVMNL","01","M-T300E","VK_SRVMNL",128,"Service Manual"]
["M-T300EVK_DWNPRS_MEC","01","M-T300E","VK_DWNPRS_MEC","N/C","Mech Down Pressure"]
["M-T300EVK_SVEEVMSWHLKT","01","M-T300E","VK_SVEEVMSWHLKT",60,"SE Switch Lockout"]
["M-T300EVK_SVEEVMSWH","01","M-T300E","VK_SVEEVMSWH",583,"SE Switch Capability"]
["M-T300EVK_RECHSE_PYPOR_PC","01","M-T300E","VK_RECHSE_PYPOR_PC","N/C","Poly Mat w/Pinch Cuff"]
["M-T300EVK_TRM_PMEM","01","M-T300E","VK_TRM_PMEM",275,"Pro Membrane Panel"]
["M-T300EVK_TRM_PPAN","01","M-T300E","VK_TRM_PPAN",905,"ProPanel Ctrls"]
["M-T300EVK_PADTYP_O500YLW3","01","M-T300E","VK_PADTYP_O500YLW3",136,"Orb 500/20 Ylw 3M"]
["M-T300EVK_PADTYP_600YLW3","01","M-T300E","VK_PADTYP_600YLW3",45,"600/24 Ylw Polish 3M"]
["M-T300EVK_PADTYP_500YLW3","01","M-T300E","VK_PADTYP_500YLW3",83,"500/20 Ylw Polish 3M"]
["M-T300EVK_PADTYP_430YLW3","01","M-T300E","VK_PADTYP_430YLW3",71,"430/17 Ylw Polish 3M"]
["M-T300EVK_CLNTOL_D600PYP_IC","01","M-T300E","VK_CLNTOL_D600PYP_IC",216,"D600/24 PolyBrush-IC"]
["M-T300EVK_CLNTOL_D600PAD_IC","01","M-T300E","VK_CLNTOL_D600PAD_IC",216,"D600/24 PadDriver-IC"]
["M-T300EVK_CLNTOL_D600NYL_IC","01","M-T300E","VK_CLNTOL_D600NYL_IC",216,"D600/24 Nyl Brush-IC"]
["M-T300EVK_CLNTOL_D600ABB_IC","01","M-T300E","VK_CLNTOL_D600ABB_IC",380,"D600/24 Abr Brush-IC"]
["M-T300EVK_CLNTOL_D500PYP_IC","01","M-T300E","VK_CLNTOL_D500PYP_IC",338,"D500/20 PolyBrush-IC"]
["M-T300EVK_CLNTOL_D500PAD_IC","01","M-T300E","VK_CLNTOL_D500PAD_IC",338,"D500/20 PadDriver-IC"]
["M-T300EVK_CLNTOL_D500NYL_IC","01","M-T300E","VK_CLNTOL_D500NYL_IC",338,"D500/20 Nyl Brush-IC"]
["M-T300EVK_CLNTOL_D500ABB_IC","01","M-T300E","VK_CLNTOL_D500ABB_IC",514,"D500/20 Abr Brush-IC"]
["M-T300EVK_CLNTOL_D430PYP_IC","01","M-T300E","VK_CLNTOL_D430PYP_IC",320,"D430/17 PolyBrush-IC"]
["M-T300EVK_CLNTOL_D430PAD_IC","01","M-T300E","VK_CLNTOL_D430PAD_IC",320,"D430/17 PadDriver-IC"]
["M-T300EVK_CLNTOL_D430NYL_IC","01","M-T300E","VK_CLNTOL_D430NYL_IC",320,"D430/17 Nyl Brush IC"]
["M-T300EVK_CLNTOL_D430ABB_IC","01","M-T300E","VK_CLNTOL_D430ABB_IC",377,"D430/17 Abr Brush IC"]
["M-T300EVK_ATT_IC_T300E","01","M-T300E","VK_ATT_IC_T300E",403,"Insta-Click™"]
["M-T300EVK_MCHCOM","01","M-T300E","VK_MCHCOM",1367,"IRIS Telemetry"]
["M-T300EVK_CSMSBTPARKIT","01","M-T300E","VK_CSMSBTPARKIT",1473,"Sunbelt -Parts Kit"]
["M-T300EVK_PKG_SSKD_NC","01","M-T300E","VK_PKG_SSKD_NC","N/C","Stack Skid/Carton"]
["M-T300EVK_CLNTCH_ECH2ON","01","M-T300E","VK_CLNTCH_ECH2ON",2076,"ec-H2O™ NanoClean"]
["M-T300EVK_CLNTCH_CNV","01","M-T300E","VK_CLNTCH_CNV","N/C","Conventional"]
["M-T300EVK_CLNDRT_SP","01","M-T300E","VK_CLNDRT_SP",1496,"Self Propel"]
["M-T300EVK_CLNDRT_PBA","01","M-T300E","VK_CLNDRT_PBA","N/C","Pad / Brush Assist"]
["M-T300EVK_CHG_WO","01","M-T300E","VK_CHG_WO","N/C","Without Charger"]
["M-T300EVK_CHG_13A85V5060H1P_ON","01","M-T300E","VK_CHG_13A85V5060H1P_ON","N/C","Ch13A 85V 50/60Hz On"]
["M-T300EVK_CHG_13A85V5060H1P_OFF","01","M-T300E","VK_CHG_13A85V5060H1P_OFF","N/C","Ch13A 85V 50/60H Off"]
["M-T300EVK_BTY_WO","01","M-T300E","VK_BTY_WO","N/C","Without Battery"]
["M-T300EVK_BTY_W150C20","01","M-T300E","VK_BTY_W150C20",806,"Bty Wet 150AH C20"]
["M-T300EVK_BTY_W130C20","01","M-T300E","VK_BTY_W130C20",677,"Bty Wet 130AH C20"]
["M-T300EVK_BTY_W105C20","01","M-T300E","VK_BTY_W105C20",602,"Bty Wet 105AH C20"]
["M-T300EVK_BTY_A140C20","01","M-T300E","VK_BTY_A140C20",1906,"Bty AGM 140AH C20"]
["M-T300EVK_BTYWTRSYS","01","M-T300E","VK_BTYWTRSYS",542,"Battery Watering Sys"]
[{"$f":"C778&D778","v":"M-T300EVK_BTYLFTBOX"},"01","M-T300E","VK_BTYLFTBOX",173,"Battery Lift Box"]
["M-T300EVK_BASE_T300E-600-D","01","M-T300E","VK_BASE_T300E-600-D",6968,"T300E-600-D"]
["M-T300EVK_BASE_T300E-500-O","01","M-T300E","VK_BASE_T300E-500-O",7306,"T300E-500-O"]
["M-T300EVK_BASE_T300E-500-D","01","M-T300E","VK_BASE_T300E-500-D",6463,"T300E-500-D"]
["M-T300EVK_BASE_T300E-500-C","01","M-T300E","VK_BASE_T300E-500-C",8855,"T300E-500-C"]
["M-T300EVK_BASE_T300E-430-D","01","M-T300E","VK_BASE_T300E-430-D",5676,"T300E-430-D"]
["M-T300EVK_ATT_CNV_T300E","01","M-T300E","VK_ATT_CNV_T300E","N/C","Conventional - 3 Lug"]
["M-T300EVK_ADLOPRMNL","01","M-T300E","VK_ADLOPRMNL",128,"Add Operator Manual"]
["M-T300EVK_CLNTOL_D600PAD","01","M-T300E","VK_CLNTOL_D600PAD",216,"D600/24 Pad Driver"]
["M-T300EVK_CLNTOL_D600NYL","01","M-T300E","VK_CLNTOL_D600NYL",216,"D600/24 Nylon Brush"]
["M-T300EVK_CLNTOL_D600ABB","01","M-T300E","VK_CLNTOL_D600ABB",299,"D600/24 Abr Brush"]
["M-T300EVK_CLNTOL_D500PYP","01","M-T300E","VK_CLNTOL_D500PYP",264,"D500/20 Poly Brush"]
["M-T300EVK_CLNTOL_D500PAD","01","M-T300E","VK_CLNTOL_D500PAD",264,"D500/20 Pad Driver"]
["M-T300EVK_CLNTOL_D500NYL","01","M-T300E","VK_CLNTOL_D500NYL",264,"D500/20 Nylon Brush"]
["M-T300EVK_CLNTOL_D500ABB","01","M-T300E","VK_CLNTOL_D500ABB",483,"D500/20 Abr Brush"]
["M-T300EVK_CLNTOL_D430PYP","01","M-T300E","VK_CLNTOL_D430PYP",226,"D430/17 Poly Brush"]
["M-T300EVK_CLNTOL_D430PAD","01","M-T300E","VK_CLNTOL_D430PAD",226,"D430/17 Pad Driver"]
["M-T300EVK_CLNTOL_D430NYL","01","M-T300E","VK_CLNTOL_D430NYL",226,"D430/17 Nylon Brush"]
["M-T300EVK_CLNTOL_D430ABB","01","M-T300E","VK_CLNTOL_D430ABB",365,"D430/17 Abr Brush"]
["M-T300EVK_CLNTOL_C500PYP","01","M-T300E","VK_CLNTOL_C500PYP",131,"C500/20 Poly Brush"]
["M-T300EVK_CLNTOL_C500NYL","01","M-T300E","VK_CLNTOL_C500NYL",213,"C500/20 Nylon Brush"]
["M-T300EVK_PARMNL","01","M-T300E","VK_PARMNL",52,"Parts Manual"]
["M-T300EVK_PKG_PAD","01","M-T300E","VK_PKG_PAD","N/C","Pad Wrap"]
["M-T300EVK_RECHSE_PYPOR_DCO","01","M-T300E","VK_RECHSE_PYPOR_DCO",34,"Poly Mat w/Drain Cap"]
["M-T300EVK_RECHSE_PVC","01","M-T300E","VK_RECHSE_PVC","N/C","PVC Matl w/Drain Cap"]
["M-T300EVK_PRGBRK","01","M-T300E","VK_PRGBRK",186,"Parking Brake"]
["M-T300EVK_PKG_WSKD","01","M-T300E","VK_PKG_WSKD",176,"Skid w/Stretch Wrap"]
["M-T300EVK_PKG_SSKD","01","M-T300E","VK_PKG_SSKD",299,"Stack Skid/Carton"]
["M-T300EVK_OPRMNL","01","M-T300E","VK_OPRMNL","N/C","Oper Manual"]
["M-T300EVK_DWN_PRS_SGL","01","M-T300E","VK_DWN_PRS_SGL","N/C","Single D Pressure"]
["M-T300EVK_DWN_PRS_MLT_DO","01","M-T300E","VK_DWN_PRS_MLT_DO",343,"Multi DD Press-D/O"]
["M-T300EVK_DWN_PRS_MLT_C","01","M-T300E","VK_DWN_PRS_MLT_C",343,"Multi DD Press-Cyl"]
["M-T300EVK_CLNTOL_D600PYP","01","M-T300E","VK_CLNTOL_D600PYP",216,"D600/24 Poly Brush"]
["M-T300EVK_PADTYP_430BLKH3","01","M-T300E","VK_PADTYP_430BLKH3",29,"430/17 Blk HiPro 3M"]
["M-T300EVK_PADTYP_430BLU3","01","M-T300E","VK_PADTYP_430BLU3",20,"430/17 Bl Scrub 3M"]
["M-T300EVK_PADTYP_430BWN3","01","M-T300E","VK_PADTYP_430BWN3",20,"430/17 Br Strip 3M"]
["M-T300EVK_PADTYP_430MAR3","01","M-T300E","VK_PADTYP_430MAR3",28,"430/17 MarSur 3M"]
["M-T300EVK_PADTYP_430RED3","01","M-T300E","VK_PADTYP_430RED3",20,"430/17 Red Clean 3M"]
["M-T300EVK_PADTYP_430WHT3","01","M-T300E","VK_PADTYP_430WHT3",20,"430/17 Wh Polish 3M"]
["M-T300EVK_PADTYP_500BLKH3","01","M-T300E","VK_PADTYP_500BLKH3",29,"500/20 Blk HiPro 3M"]
["M-T300EVK_PADTYP_500BLU3","01","M-T300E","VK_PADTYP_500BLU3",26,"500/20 Bl Scrub 3M"]
["M-T300EVK_PADTYP_500BWN3","01","M-T300E","VK_PADTYP_500BWN3",27,"500/20 Br Strip 3M"]
["M-T300EVK_PADTYP_500MAR3","01","M-T300E","VK_PADTYP_500MAR3",30,"500/20 MarSur 3M"]
["M-T300EVK_PADTYP_600MAR3","01","M-T300E","VK_PADTYP_600MAR3",17,"600/24 MarSur 3M"]
["M-SS300VK_BASE_SS300-500-D_STD","01","M-SS300","VK_BASE_SS300-500-D_STD",6463,"500 SS300 Disk STD"]
["M-SS300VK_PADTYP_600WHT3","01","M-SS300","VK_PADTYP_600WHT3",15,"600/24 Wh Polish 3M"]
["M-SS300VK_BASE_SS300-500-C_STD","01","M-SS300","VK_BASE_SS300-500-C_STD",8843,"500 SS300 Cyl STD"]
["M-SS300VK_ATT_IC_SS300","01","M-SS300","VK_ATT_IC_SS300",403,"Insta-Click™"]
["M-SS300VK_PADTYP_600RED3","01","M-SS300","VK_PADTYP_600RED3",15,"600/24 Red Clean 3M"]
["M-SS300VK_PADTYP_430BWN3","01","M-SS300","VK_PADTYP_430BWN3",20,"430/17 Br Strip 3M"]
["M-SS300VK_BASE_SS300-500-O_STD","01","M-SS300","VK_BASE_SS300-500-O_STD",7306,"500 SS300 Orbital STD"]
["M-SS300VK_BASE_SS300-430-D_STD","01","M-SS300","VK_BASE_SS300-430-D_STD",5676,"430 SS300 Disk STD"]
["M-SS300VK_PADTYP_O500BLU3","01","M-SS300","VK_PADTYP_O500BLU3",26,"Orb 500/20 Blu 3M"]
["M-SS300VK_CLNTOL_D500ABB_IC","01","M-SS300","VK_CLNTOL_D500ABB_IC",514,"D500/20 Abr Brush-IC"]
["M-SS300VK_PADTYP_600BLU3","01","M-SS300","VK_PADTYP_600BLU3",15,"600/24 Bl Scrub 3M"]
["M-SS300VK_BASE_SS300-600-D_STD","01","M-SS300","VK_BASE_SS300-600-D_STD",6968,"600 SS300 Disk STD"]
["M-SS300VK_PADTYP_O500MAR3","01","M-SS300","VK_PADTYP_O500MAR3",62,"Orb 500/20 Mar 3M"]
["M-SS300VK_PADTYP_500MAR3","01","M-SS300","VK_PADTYP_500MAR3",30,"500/20 MarSur 3M"]
["M-SS300VK_PADTYP_O500RED3","01","M-SS300","VK_PADTYP_O500RED3",26,"Orb 500/20 Red 3M"]
["M-SS300VK_CLNDRT_SP","01","M-SS300","VK_CLNDRT_SP",1496,"Self Propel"]
["M-SS300VK_CLNTOL_D430PAD_IC","01","M-SS300","VK_CLNTOL_D430PAD_IC",320,"D430/17 PadDriver-IC"]
["M-SS300VK_PADTYP_600BLKH3","01","M-SS300","VK_PADTYP_600BLKH3",17,"600/24 Blk HiPro 3M"]
["M-SS300VK_PADTYP_500BWN3","01","M-SS300","VK_PADTYP_500BWN3",27,"500/20 Br Strip 3M"]
["M-SS300VK_PADTYP_500WHT3","01","M-SS300","VK_PADTYP_500WHT3",26,"500/20 Wh Polish 3M"]
[{"$f":"C842&D842","v":"M-SS300VK_PADTYP_500RED3"},"01","M-SS300","VK_PADTYP_500RED3",26,"500/20 Red Clean 3M"]
["M-SS300VK_CLNTOL_D500PAD","01","M-SS300","VK_CLNTOL_D500PAD",264,"D500/20 Pad Driver"]
["M-SS300VK_CLNTCH_CNV","01","M-SS300","VK_CLNTCH_CNV","N/C","Conventional"]
["M-SS300VK_PADTYP_O500WHT3","01","M-SS300","VK_PADTYP_O500WHT3",26,"Orb 500/20 Wht 3M"]
["M-SS300VK_CLNTOL_D600ABB_IC","01","M-SS300","VK_CLNTOL_D600ABB_IC",393,"D600/24 Abr Brush-IC"]
["M-SS300VK_CLNTOL_D600PAD_IC","01","M-SS300","VK_CLNTOL_D600PAD_IC",216,"D600/24 PadDriver-IC"]
["M-SS300VK_PADTYP_430WHT3","01","M-SS300","VK_PADTYP_430WHT3",20,"430/17 Wh Polish 3M"]
["M-SS300VK_PADTYP_430RED3","01","M-SS300","VK_PADTYP_430RED3",20,"430/17 Red Clean 3M"]
["M-SS300VK_PADTYP_430MAR3","01","M-SS300","VK_PADTYP_430MAR3",28,"430/17 MarSur 3M"]
["M-SS300VK_PADTYP_430BLKH3","01","M-SS300","VK_PADTYP_430BLKH3",29,"430/17 Blk HiPro 3M"]
["M-SS300VK_DWNPRS_SGL","01","M-SS300","VK_DWNPRS_SGL","N/C","Single Down Pressure"]
["M-SS300VK_CLNTOL_D600PYP_IC","01","M-SS300","VK_CLNTOL_D600PYP_IC",216,"D600/24 PolyBrush-IC"]
["M-SS300VK_RECHSE_PYPOR_PC","01","M-SS300","VK_RECHSE_PYPOR_PC","N/C","Poly Mat w/Pinch Cuff"]
["M-SS300VK_PADTYP_O500YLW3","01","M-SS300","VK_PADTYP_O500YLW3",49,"Orb 500/20 Ylw 3M"]
["M-SS300VK_PADTYP_600YLW3","01","M-SS300","VK_PADTYP_600YLW3",45,"600/24 Ylw Polish 3M"]
["M-SS300VK_PADTYP_500YLW3","01","M-SS300","VK_PADTYP_500YLW3",83,"500/20 Ylw Polish 3M"]
["M-SS300VK_PADTYP_430YLW3","01","M-SS300","VK_PADTYP_430YLW3",71,"430/17 Ylw Polish 3M"]
["M-SS300VK_PADTYP_430BLU3","01","M-SS300","VK_PADTYP_430BLU3",20,"430/17 Bl Scrub 3M"]
["M-SS300VK_PADTYP_500BLKH3","01","M-SS300","VK_PADTYP_500BLKH3",29,"500/20 Blk HiPro 3M"]
["M-SS300VK_PADTYP_500BLU3","01","M-SS300","VK_PADTYP_500BLU3",26,"500/20 Bl Scrub 3M"]
["M-SS300VK_PADTYP_600BWN3","01","M-SS300","VK_PADTYP_600BWN3",15,"600/24 Br Strip 3M"]
["M-SS300VK_PADTYP_600MAR3","01","M-SS300","VK_PADTYP_600MAR3",17,"600/24 MarSur 3M"]
["M-SS300VK_DWNPRS_MLT_C","01","M-SS300","VK_DWNPRS_MLT_C",343,"Multi DD Press-Cyl"]
["M-SS300VK_DWNPRS_MLT_DO","01","M-SS300","VK_DWNPRS_MLT_DO",343,"Multi DD Press-D/O"]
["M-SS300VK_MCHCOM","01","M-SS300","VK_MCHCOM",1367,"IRIS Telemetry"]
["M-SS300VK_ATT_QC_SS300","01","M-SS300","VK_ATT_QC_SS300",403,"Insta-Click™"]
["M-SS300VK_BTY_W130C20","01","M-SS300","VK_BTY_W130C20",677,"Bty Wet 130AH C20"]
["M-SS300VK_BTY_W150C20","01","M-SS300","VK_BTY_W150C20",806,"Bty Wet 150AH C20"]
["M-SS300VK_BTY_WO","01","M-SS300","VK_BTY_WO","N/C","Without Battery"]
["M-SS300VK_CHG_13A85V5060H1P_OFF","01","M-SS300","VK_CHG_13A85V5060H1P_OFF","N/C","Ch13A 85V 50/60H Off"]
["M-SS300VK_CHG_13A85V5060H1P_ON","01","M-SS300","VK_CHG_13A85V5060H1P_ON","N/C","Ch13A 85V 50/60Hz On"]
["M-SS300VK_CHG_WO","01","M-SS300","VK_CHG_WO","N/C","Without Charger"]
["M-SS300VK_CLNTCH_ECH2ON","01","M-SS300","VK_CLNTCH_ECH2ON",2076,"ec-H2O™ NanoClean"]
["M-SS300VK_CLNTOL_C500NYL","01","M-SS300","VK_CLNTOL_C500NYL",213,"C500/20 Nylon Brush"]
["M-SS300VK_CLNTOL_D430ABB","01","M-SS300","VK_CLNTOL_D430ABB",377,"D430/17 Abr Brush"]
["M-SS300VK_BTY_A140C20","01","M-SS300","VK_BTY_A140C20",1906,"Bty AGM 140AH C20"]
["M-SS300VK_ADLOPRMNL","01","M-SS300","VK_ADLOPRMNL",128,"Add Operator Manual"]
["M-SS300VK_BASE_SS300-500-C","01","M-SS300","VK_BASE_SS300-500-C",8843,"SS300-500-C"]
["M-SS300VK_BASE_SS300-500-D","01","M-SS300","VK_BASE_SS300-500-D",6463,"SS300-500-D"]
["M-SS300VK_BASE_SS300-600-D","01","M-SS300","VK_BASE_SS300-600-D",6968,"SS300-600-D"]
["M-SS300VK_BTYLFTBOX","01","M-SS300","VK_BTYLFTBOX",173,"Battery Lift Box"]
["M-SS300VK_OPRMNL","01","M-SS300","VK_OPRMNL","N/C","Oper Manual"]
["M-SS300VK_PKG_SSKD_NC","01","M-SS300","VK_PKG_SSKD_NC","N/C","Stack Skid/Carton"]
["M-SS300VK_PKG_WSKD","01","M-SS300","VK_PKG_WSKD",176,"Skid w/Stretch Wrap"]
["M-SS300VK_RECHSE_PVC","01","M-SS300","VK_RECHSE_PVC","N/C","PVC Matl w/Drain Cap"]
["M-SS300VK_RECHSE_PYPOR_DCO","01","M-SS300","VK_RECHSE_PYPOR_DCO",34,"Poly Mat w/Drain Cap"]
["M-SS300VK_CLNTOL_D430PYP","01","M-SS300","VK_CLNTOL_D430PYP",231,"D430/17 Poly Brush"]
["M-SS300VK_CLNTOL_D500NYL","01","M-SS300","VK_CLNTOL_D500NYL",264,"D500/20 Nylon Brush"]
["M-SS300VK_REC_TNK_DEB_TRY","01","M-SS300","VK_REC_TNK_DEB_TRY",28,"Rec.Tank Debris Tray"]
["M-SS300VK_CLNTOL_D500PYP_QC","01","M-SS300","VK_CLNTOL_D500PYP_QC",330,"D500/20 PolyBrush-QC"]
["M-SS300VK_CLNTOL_D500PAD_QC","01","M-SS300","VK_CLNTOL_D500PAD_QC",330,"D500/20 PadDriver-QC"]
["M-SS300VK_CLNTOL_D500NYL_QC","01","M-SS300","VK_CLNTOL_D500NYL_QC",330,"D500/20 Nyl Brush-QC"]
["M-SS300VK_CLNTOL_D500ABB_QC","01","M-SS300","VK_CLNTOL_D500ABB_QC",514,"D500/20 Abr Brush-QC"]
["M-SS300VK_CLNTOL_D430PYP_QC","01","M-SS300","VK_CLNTOL_D430PYP_QC",320,"D430/17 PolyBrush-QC"]
["M-SS300VK_CLNTOL_D430PAD_QC","01","M-SS300","VK_CLNTOL_D430PAD_QC",320,"D430/17 PadDriver-QC"]
["M-SS300VK_CLNTOL_D430NYL_QC","01","M-SS300","VK_CLNTOL_D430NYL_QC",320,"D430/17 Nyl Brush QC"]
["M-SS300VK_CLNTOL_D430ABB_QC","01","M-SS300","VK_CLNTOL_D430ABB_QC",377,"D430/17 Abr Brush QC"]
["M-SS300VK_ACCCLP","01","M-SS300","VK_ACCCLP","N/C","Accessory Clip"]
["M-SS300VK_PKG_SSKD","01","M-SS300","VK_PKG_SSKD",299,"Stack Skid/Carton"]
["M-SS300VK_PARMNL","01","M-SS300","VK_PARMNL",52,"Parts Manual"]
["M-SS300VK_CLNDRT_PBA","01","M-SS300","VK_CLNDRT_PBA","N/C","Pad / Brush Assist"]
["M-SS300VK_BTY_W105C20","01","M-SS300","VK_BTY_W105C20",602,"Bty Wet 105AH C20"]
["M-SS300VK_BTYWTRSYS","01","M-SS300","VK_BTYWTRSYS",542,"Battery Watering Sys"]
["M-SS300VK_BASE_SS300-500-O","01","M-SS300","VK_BASE_SS300-500-O",7306,"SS300-500-O"]
[{"$f":"C906&D906","v":"M-SS300VK_BASE_SS300-430-D"},"01","M-SS300","VK_BASE_SS300-430-D",5676,"SS300-430-D"]
["M-SS300VK_ATT_CNV_SS300","01","M-SS300","VK_ATT_CNV_SS300","N/C","Conventional - 3 Lug"]
["M-SS300VK_PRGBRK","01","M-SS300","VK_PRGBRK",186,"Parking Brake"]
["M-SS300VK_PKG_PAD","01","M-SS300","VK_PKG_PAD","N/C","Pad Wrap"]
["M-SS300VK_CLNTOL_D600PYP","01","M-SS300","VK_CLNTOL_D600PYP",216,"D600/24 Poly Brush"]
["M-SS300VK_CLNTOL_D600PAD","01","M-SS300","VK_CLNTOL_D600PAD",216,"D600/24 Pad Driver"]
["M-SS300VK_CLNTOL_D600NYL","01","M-SS300","VK_CLNTOL_D600NYL",216,"D600/24 Nylon Brush"]
["M-SS300VK_CLNTOL_D600ABB","01","M-SS300","VK_CLNTOL_D600ABB",311,"D600/24 Abr Brush"]
["M-SS300VK_CLNTOL_D500PYP","01","M-SS300","VK_CLNTOL_D500PYP",264,"D500/20 Poly Brush"]
["M-SS300VK_CLNTOL_D500ABB","01","M-SS300","VK_CLNTOL_D500ABB",483,"D500/20 Abr Brush"]
["M-SS300VK_CLNTOL_D430PAD","01","M-SS300","VK_CLNTOL_D430PAD",231,"D430/17 Pad Driver"]
["M-SS300VK_CLNTOL_D430NYL","01","M-SS300","VK_CLNTOL_D430NYL",231,"D430/17 Nylon Brush"]
["M-SS300VK_CLNTOL_C500PYP","01","M-SS300","VK_CLNTOL_C500PYP",131,"C500/20 Poly Brush"]
["M-SS300VK_SRVMNL","01","M-SS300","VK_SRVMNL",128,"Service Manual"]
["M-SS300VK_CLNTOL_D430NYL_IC","01","M-SS300","VK_CLNTOL_D430NYL_IC",320,"D430/17 Nyl Brush IC"]
["M-SS300VK_CLNTOL_D430PYP_IC","01","M-SS300","VK_CLNTOL_D430PYP_IC",320,"D430/17 PolyBrush-IC"]
["M-SS300VK_CLNTOL_D500NYL_IC","01","M-SS300","VK_CLNTOL_D500NYL_IC",330,"D500/20 Nyl Brush-IC"]
["M-SS300VK_CLNTOL_D500PAD_IC","01","M-SS300","VK_CLNTOL_D500PAD_IC",330,"D500/20 PadDriver-IC"]
["M-SS300VK_CLNTOL_D500PYP_IC","01","M-SS300","VK_CLNTOL_D500PYP_IC",330,"D500/20 PolyBrush-IC"]
["M-SS300VK_CLNTOL_D600NYL_IC","01","M-SS300","VK_CLNTOL_D600NYL_IC",216,"D600/24 Nyl Brush-IC"]
["M-SS300VK_CLNTOL_D430ABB_IC","01","M-SS300","VK_CLNTOL_D430ABB_IC",377,"D430/17 Abr Brush IC"]
["M-T500VK_BASE_T500-700-C","01","M-T500","VK_BASE_T500-700-C",18154,"T500-700-C"]
["M-T500VK_SVEEVMSWHLKT","01","M-T500","VK_SVEEVMSWHLKT",59,"SE Switch Lockout"]
["M-T500VK_CLNTOL_D700NYL","01","M-T500","VK_CLNTOL_D700NYL","N/C","D700/28 Nylon Brush"]
["M-T500VK_MCHCOM","01","M-T500","VK_MCHCOM",1367,"IRIS Telemetry"]
["M-T500VK_MCHCOM_SBT","01","M-T500","VK_MCHCOM_SBT",1367,"IRIS Telemetry"]
["M-T500VK_BASE_T500-650-D_STD","01","M-T500","VK_BASE_T500-650-D_STD",15646,"T500 650mm Disk Std Config"]
["M-T500VK_BASE_T500-700-C_STD","01","M-T500","VK_BASE_T500-700-C_STD",18154,"T500 700mm Cyl Std Config"]
["M-T500VK_BASE_T500-700-D_STD","01","M-T500","VK_BASE_T500-700-D_STD",17025,"T500 700mm Disk Std Config"]
["M-T500VK_BASE_T500-700-O_STD","01","M-T500","VK_BASE_T500-700-O_STD",17683,"T500 700mm Orb Std Config"]
["M-T500VK_BASE_T500-800-D_STD","01","M-T500","VK_BASE_T500-800-D_STD",17949,"T500 800mm Disk Std Config"]
["M-T500VK_CLNTOL_C700PYP","01","M-T500","VK_CLNTOL_C700PYP","N/C","C700/28 Poly Brush"]
["M-T500VK_CLNTOL_D650NYL","01","M-T500","VK_CLNTOL_D650NYL","N/C","D650/26 Nylon Brush"]
["M-T500VK_CLNTOL_D800PAD","01","M-T500","VK_CLNTOL_D800PAD","N/C","D800/32 Pad Driver"]
["M-T500VK_CLNTOL_O700PAD","01","M-T500","VK_CLNTOL_O700PAD","N/C","O700/28 Pad Driver"]
["M-T500VK_ADLOPRMNL","01","M-T500","VK_ADLOPRMNL",126,"Add Operator Manual"]
["M-T500VK_BASE_T500-700-D","01","M-T500","VK_BASE_T500-700-D",17025,"T500-700-D"]
["M-T500VK_BASE_T500-700-O","01","M-T500","VK_BASE_T500-700-O",17683,"T500-700-O"]
["M-T500VK_BTYWTRSYS_SF","01","M-T500","VK_BTYWTRSYS_SF",916,"Smart Fill"]
["M-T500VK_BTY_A220C20","01","M-T500","VK_BTY_A220C20",1545,"Bty AGM 220AH C20"]
["M-T500VK_BTY_W225C20","01","M-T500","VK_BTY_W225C20","N/C","Bty Wet 225AH C20"]
["M-T500VK_BTY_W260C20","01","M-T500","VK_BTY_W260C20",424,"Bty Wet 260AH C20"]
["M-T500VK_BTY_WO","01","M-T500","VK_BTY_WO",-450,"Without Battery"]
["M-T500VK_CHG_25A100V5060H1","01","M-T500","VK_CHG_25A100V5060H1","N/C","Ch25A 100V 5060H1P"]
["M-T500VK_PKG_SSKD","01","M-T500","VK_PKG_SSKD",441,"Stack Skid/Carton"]
["M-T500VK_PKG_WSKD","01","M-T500","VK_PKG_WSKD",309,"Skid w/Stretch Wrap"]
["M-T500VK_PRGBRK","01","M-T500","VK_PRGBRK",182,"Parking Brake"]
["M-T500VK_SPYNOZWTHHSE","01","M-T500","VK_SPYNOZWTHHSE",707,"Spray Nozzel w/Hose"]
["M-T500VK_SQEWDT_NWA","01","M-T500","VK_SQEWDT_NWA","N/C","NarrowAisle Squeegee"]
["M-T500VK_SQEWDT_STD","01","M-T500","VK_SQEWDT_STD","N/C","Standard Squeegee"]
["M-T500VK_SRVMNL","01","M-T500","VK_SRVMNL",126,"Service Manual"]
["M-T500VK_SVEEVMSWH","01","M-T500","VK_SVEEVMSWH",572,"SE Switch Capability"]
["M-T500VK_TRM_PMEM","01","M-T500","VK_TRM_PMEM","N/C","Pro Membrane Panel"]
["M-T500VK_TRM_PPAN","01","M-T500","VK_TRM_PPAN",888,"ProPanel Ctrls"]
["M-T500VK_CLNTOL_D650PAD","01","M-T500","VK_CLNTOL_D650PAD","N/C","D650/26 Pad Driver"]
["M-T500VK_BTY_F183C20","01","M-T500","VK_BTY_F183C20",1978,"Sealed/MF FastCharge 183AH C20"]
["M-T500VK_CHG_27A100240V5060H","01","M-T500","VK_CHG_27A100240V5060H",175,"Chg 27A 100-240V 5060Hz 1Ph"]
["M-T500VK_RECHSE_PYPOR_PC","01","M-T500","VK_RECHSE_PYPOR_PC","N/C","Poly Mat w/Pinch Cuff"]
["M-T500VK_BASE_T500-800-D","01","M-T500","VK_BASE_T500-800-D",17949,"T500-800-D"]
["M-T500VK_BTYWTRSYS_ML","01","M-T500","VK_BTYWTRSYS_ML",535,"Battery Watering Manual"]
["M-T500VK_CHG_27A85V5060H1P","01","M-T500","VK_CHG_27A85V5060H1P","N/C","CH27A 85-270V 5060H1P"]
["M-T500VK_RECHSE_PVC_DCO","01","M-T500","VK_RECHSE_PVC_DCO","N/C","PVC Matl w/Drain Cap"]
["M-T500VK_PARMNL","01","M-T500","VK_PARMNL",51,"Parts Manual"]
["M-T500VK_CLNTCH_ECH2ON","01","M-T500","VK_CLNTCH_ECH2ON",2841,"ec-H2O™ NanoClean"]
[{"$f":"C970&D970","v":"M-T500VK_CLNTCH_CNV"},"01","M-T500","VK_CLNTCH_CNV","N/C","Conventional"]
["M-T500VK_CHG_WO","01","M-T500","VK_CHG_WO",-450,"Without Charger"]
["M-T500VK_BASE_T500-650-D","01","M-T500","VK_BASE_T500-650-D",15646,"T500-650-D"]
["M-T500VK_CLNTOL_D800PYP","01","M-T500","VK_CLNTOL_D800PYP","N/C","D800/32 Poly Brush"]
["M-T500VK_CLNTOL_D800NYL","01","M-T500","VK_CLNTOL_D800NYL","N/C","D800/32 Nylon Brush"]
["M-T500VK_CLNTOL_D800ABB","01","M-T500","VK_CLNTOL_D800ABB",332,"D800/32 Abr Brush"]
["M-T500VK_CLNTOL_D700PAD","01","M-T500","VK_CLNTOL_D700PAD","N/C","D700/28 Pad Driver"]
["M-T500VK_CLNTOL_D700ABB","01","M-T500","VK_CLNTOL_D700ABB",332,"D700/28 Abr Brush"]
["M-T500VK_CLNTOL_D650PYP","01","M-T500","VK_CLNTOL_D650PYP","N/C","D650/26 Poly Brush"]
["M-T500VK_CLNTOL_D650ABB","01","M-T500","VK_CLNTOL_D650ABB",332,"D650/26 Abr Brush"]
["M-T500VK_CLNTOL_C700NYL","01","M-T500","VK_CLNTOL_C700NYL","N/C","C700/28 Nylon Brush"]
["M-T500VK_CLNTOL_C700ABB","01","M-T500","VK_CLNTOL_C700ABB",332,"C700/28 Abr Brush"]
["M-T500VK_PADTYP_650RED3","01","M-T500","VK_PADTYP_650RED3",16,"650/26 Red Clean 3M"]
["M-T500VK_PADTYP_650WHT3","01","M-T500","VK_PADTYP_650WHT3",16,"650/26 Wh Polish 3M"]
["M-T500VK_PADTYP_700BLKH3","01","M-T500","VK_PADTYP_700BLKH3",19,"700/28 Blk HiPro 3M"]
["M-T500VK_PADTYP_700BLU3","01","M-T500","VK_PADTYP_700BLU3",17,"700/28 Blu Scrub 3M"]
["M-T500VK_PADTYP_700BWN3","01","M-T500","VK_PADTYP_700BWN3",17,"700/28 Bwn Strip 3M"]
["M-T500VK_PADTYP_700MAR3","01","M-T500","VK_PADTYP_700MAR3",19,"700/28 MarSur Pad 3M"]
["M-T500VK_PADTYP_700RED3","01","M-T500","VK_PADTYP_700RED3",17,"700/28 Red Clean 3M"]
["M-T500VK_PADTYP_700WHT3","01","M-T500","VK_PADTYP_700WHT3",17,"700/28 Wht Polish 3M"]
["M-T500VK_PADTYP_800BLU3","01","M-T500","VK_PADTYP_800BLU3",19,"800/32 Blu Scrub 3M"]
["M-T500VK_PADTYP_800RED3","01","M-T500","VK_PADTYP_800RED3",19,"800/32 Red Clean 3M"]
["M-T500VK_PADTYP_800WHT3","01","M-T500","VK_PADTYP_800WHT3",19,"800/32 Wht Polish 3M"]
["M-T500VK_PADTYP_O700BLU3","01","M-T500","VK_PADTYP_O700BLU3",57,"Orb 700/28 Blu 3M"]
["M-T500VK_PADTYP_O700MAR3","01","M-T500","VK_PADTYP_O700MAR3",113,"Orb 700/28 Mar 3M"]
["M-T500VK_PADTYP_O700RED3","01","M-T500","VK_PADTYP_O700RED3",57,"Orb 700/28 Red 3M"]
["M-T500VK_PADTYP_O700WHT3","01","M-T500","VK_PADTYP_O700WHT3",57,"Orb 700/28 Wht 3M"]
["M-T500VK_AUTFIL","01","M-T500","VK_AUTFIL",213,"Auto Fill"]
["M-T500VK_PADTYP_650MAR3","01","M-T500","VK_PADTYP_650MAR3",18,"650/26 MarSur Pad 3M"]
["M-T500VK_CLNTOL_D700PYP","01","M-T500","VK_CLNTOL_D700PYP","N/C","D700/28 Poly Brush"]
["M-T500VK_PADTYP_650BLU3","01","M-T500","VK_PADTYP_650BLU3",16,"650/26 Bl Scrub 3M"]
["M-T500VK_PADTYP_650BWN3","01","M-T500","VK_PADTYP_650BWN3",16,"650/26 Br Strip 3M"]
["M-T500VK_CSMSBTPARKIT","01","M-T500","VK_CSMSBTPARKIT",1409,"Sunbelt -Parts Kit"]
["M-T500EVK_PADTYP_800BLU3","01","M-T500E","VK_PADTYP_800BLU3",19,"800/32 Blu Scrub 3M"]
["M-T500EVK_CLNTOL_D800PAD","01","M-T500E","VK_CLNTOL_D800PAD","N/C","D800/32 Pad Driver"]
["M-T500EVK_CLNTOL_D700ABB","01","M-T500E","VK_CLNTOL_D700ABB",332,"D700/28 Abr Brush"]
["M-T500EVK_CLNTOL_D650ABB","01","M-T500E","VK_CLNTOL_D650ABB",332,"D650/26 Abr Brush"]
["M-T500EVK_CLNTOL_D700PAD","01","M-T500E","VK_CLNTOL_D700PAD","N/C","D700/28 Pad Driver"]
["M-T500EVK_CLNTOL_D700PYP","01","M-T500E","VK_CLNTOL_D700PYP","N/C","D700/28 Poly Brush"]
["M-T500EVK_CLNTOL_D650NYL","01","M-T500E","VK_CLNTOL_D650NYL","N/C","D650/26 Nylon Brush"]
["M-T500EVK_CLNTOL_D800ABB","01","M-T500E","VK_CLNTOL_D800ABB",332,"D800/32 Abr Brush"]
["M-T500EVK_CLNTOL_D800PYP","01","M-T500E","VK_CLNTOL_D800PYP","N/C","D800/32 Poly Brush"]
["M-T500EVK_PADTYP_700RED3","01","M-T500E","VK_PADTYP_700RED3",17,"700/28 Red Clean 3M"]
["M-T500EVK_SQEWDT_NWA","01","M-T500E","VK_SQEWDT_NWA","N/C","NarrowAisle Squeegee"]
["M-T500EVK_CHG_27A100240V5060H","01","M-T500E","VK_CHG_27A100240V5060H",175,"Chg 27A 100-240V 5060Hz 1Ph"]
["M-T500EVK_BASE_T500E-650-D_STD","01","M-T500E","VK_BASE_T500E-650-D_STD",14510,"T500E 650mm Disk Std Config"]
["M-T500EVK_BASE_T500E-700-C_STD","01","M-T500E","VK_BASE_T500E-700-C_STD",16787,"T500E 700mm Cyl Std Config"]
["M-T500EVK_BASE_T500E-700-D_STD","01","M-T500E","VK_BASE_T500E-700-D_STD",15267,"T500E 700mm Disk Std Config"]
["M-T500EVK_BASE_T500E-700-O_STD","01","M-T500E","VK_BASE_T500E-700-O_STD",15960,"T500E 700mm Orb Std Config"]
["M-T500EVK_BASE_T500E-800-D_STD","01","M-T500E","VK_BASE_T500E-800-D_STD",16097,"T500E 800mm Disk Std Config"]
["M-T500EVK_BTY_F183C20","01","M-T500E","VK_BTY_F183C20",1978,"Sealed/MF FastCharge 183AH C20"]
["M-T500EVK_RECHSE_PYPOR_DCV","01","M-T500E","VK_RECHSE_PYPOR_DCV","N/C","Poly Mat w/DCV"]
["M-T500EVK_RECHSE_PYPOR_PC","01","M-T500E","VK_RECHSE_PYPOR_PC","N/C","Poly Mat w/Pinch Cuff"]
["M-T500EVK_CLNTOL_C700NYL","01","M-T500E","VK_CLNTOL_C700NYL","N/C","C700/28 Nylon Brush"]
["M-T500EVK_SPYNOZWTHHSE","01","M-T500E","VK_SPYNOZWTHHSE",707,"Spray Nozzel w/Hose"]
["M-T500EVK_PADTYP_O700YLW3","01","M-T500E","VK_PADTYP_O700YLW3",123,"Orb 700/28 Ylw 3M"]
["M-T500EVK_PADTYP_800YLW3","01","M-T500E","VK_PADTYP_800YLW3",63,"800/32 Ylw Polish 3M"]
["M-T500EVK_PADTYP_700YLW3","01","M-T500E","VK_PADTYP_700YLW3",55,"700/28 Ylw Polish 3M"]
["M-T500EVK_PADTYP_650YLW3","01","M-T500E","VK_PADTYP_650YLW3",48,"650/26 Ylw Polish 3M"]
["M-T500EVK_CLNTOL_C700ABB","01","M-T500E","VK_CLNTOL_C700ABB",332,"C700/28 Abr Brush"]
["M-T500EVK_CLNTOL_C700PYP","01","M-T500E","VK_CLNTOL_C700PYP","N/C","C700/28 Poly Brush"]
["M-T500EVK_CLNTOL_D650PAD","01","M-T500E","VK_CLNTOL_D650PAD","N/C","D650/26 Pad Driver"]
["M-T500EVK_CLNTOL_D650PYP","01","M-T500E","VK_CLNTOL_D650PYP","N/C","D650/26 Poly Brush"]
["M-T500EVK_CLNTOL_D700NYL","01","M-T500E","VK_CLNTOL_D700NYL","N/C","D700/28 Nylon Brush"]
[{"$f":"C1034&D1034","v":"M-T500EVK_CLNTOL_D800NYL"},"01","M-T500E","VK_CLNTOL_D800NYL","N/C","D800/32 Nylon Brush"]
["M-T500EVK_CLNTOL_O700PAD","01","M-T500E","VK_CLNTOL_O700PAD","N/C","O700/28 Pad Driver"]
["M-T500EVK_PRGBRK","01","M-T500E","VK_PRGBRK",182,"Parking Brake"]
["M-T500EVK_PADTYP_650BLU3","01","M-T500E","VK_PADTYP_650BLU3",16,"650/26 Bl Scrub 3M"]
["M-T500EVK_PADTYP_O700WHT3","01","M-T500E","VK_PADTYP_O700WHT3",57,"Orb 700/28 Wht 3M"]
["M-T500EVK_PADTYP_O700RED3","01","M-T500E","VK_PADTYP_O700RED3",57,"Orb 700/28 Red 3M"]
["M-T500EVK_PADTYP_O700MAR3","01","M-T500E","VK_PADTYP_O700MAR3",113,"Orb 700/28 Mar 3M"]
["M-T500EVK_PADTYP_O700BLU3","01","M-T500E","VK_PADTYP_O700BLU3",57,"Orb 700/28 Blu 3M"]
["M-T500EVK_PADTYP_800WHT3","01","M-T500E","VK_PADTYP_800WHT3",19,"800/32 Wht Polish 3M"]
["M-T500EVK_PADTYP_800RED3","01","M-T500E","VK_PADTYP_800RED3",19,"800/32 Red Clean 3M"]
["M-T500EVK_BTY_WO","01","M-T500E","VK_BTY_WO",-450,"Without Battery"]
["M-T500EVK_BTY_W260C20","01","M-T500E","VK_BTY_W260C20",424,"Bty Wet 260AH C20"]
["M-T500EVK_BTY_W225C20","01","M-T500E","VK_BTY_W225C20","N/C","Bty Wet 225AH C20"]
["M-T500EVK_BTY_A220C20","01","M-T500E","VK_BTY_A220C20",1545,"Bty AGM 220AH C20"]
["M-T500EVK_BTYWTRSYS_SF","01","M-T500E","VK_BTYWTRSYS_SF",916,"Smart Fill"]
["M-T500EVK_BTYWTRSYS_ML","01","M-T500E","VK_BTYWTRSYS_ML",535,"Battery Watering Manual"]
["M-T500EVK_BASE_T500E-800-D","01","M-T500E","VK_BASE_T500E-800-D",16097,"T500E-800-D"]
["M-T500EVK_BASE_T500E-700-O","01","M-T500E","VK_BASE_T500E-700-O",15960,"T500E-700-O"]
["M-T500EVK_BASE_T500E-700-D","01","M-T500E","VK_BASE_T500E-700-D",15267,"T500E-700-D"]
["M-T500EVK_BASE_T500E-700-C","01","M-T500E","VK_BASE_T500E-700-C",16787,"T500E-700-C"]
["M-T500EVK_BASE_T500E-650-D","01","M-T500E","VK_BASE_T500E-650-D",14510,"T500E-650-D"]
["M-T500EVK_PADTYP_700WHT3","01","M-T500E","VK_PADTYP_700WHT3",17,"700/28 Wht Polish 3M"]
["M-T500EVK_PADTYP_700MAR3","01","M-T500E","VK_PADTYP_700MAR3",19,"700/28 MarSur Pad 3M"]
["M-T500EVK_PADTYP_700BWN3","01","M-T500E","VK_PADTYP_700BWN3",17,"700/28 Bwn Strip 3M"]
["M-T500EVK_PADTYP_700BLU3","01","M-T500E","VK_PADTYP_700BLU3",17,"700/28 Blu Scrub 3M"]
["M-T500EVK_PADTYP_700BLKH3","01","M-T500E","VK_PADTYP_700BLKH3",19,"700/28 Blk HiPro 3M"]
["M-T500EVK_PADTYP_650WHT3","01","M-T500E","VK_PADTYP_650WHT3",16,"650/26 Wh Polish 3M"]
["M-T500EVK_PADTYP_650RED3","01","M-T500E","VK_PADTYP_650RED3",16,"650/26 Red Clean 3M"]
["M-T500EVK_PADTYP_650MAR3","01","M-T500E","VK_PADTYP_650MAR3",18,"650/26 MarSur Pad 3M"]
["M-T500EVK_PADTYP_650BWN3","01","M-T500E","VK_PADTYP_650BWN3",16,"650/26 Br Strip 3M"]
["M-T500EVK_ADLOPRMNL","01","M-T500E","VK_ADLOPRMNL",126,"Add Operator Manual"]
["M-T500EVK_SRVMNL","01","M-T500E","VK_SRVMNL",126,"Service Manual"]
["M-T500EVK_SQEWDT_STD","01","M-T500E","VK_SQEWDT_STD","N/C","Standard Squeegee"]
["M-T500EVK_RECHSE_PVC_DCO","01","M-T500E","VK_RECHSE_PVC_DCO","N/C","PVC Matl w/Drain Cap"]
["M-T500EVK_PKG_WSKD","01","M-T500E","VK_PKG_WSKD",309,"Skid w/Stretch Wrap"]
["M-T500EVK_PKG_SSKD","01","M-T500E","VK_PKG_SSKD",441,"Stack Skid/Carton"]
["M-T500EVK_PARMNL","01","M-T500E","VK_PARMNL",51,"Parts Manual"]
["M-T500EVK_MCHCOM","01","M-T500E","VK_MCHCOM",1367,"IRIS Telemetry"]
["M-T500EVK_CLNTCH_ECH2ON","01","M-T500E","VK_CLNTCH_ECH2ON",2841,"ec-H2O™ NanoClean"]
["M-T500EVK_CLNTCH_CNV","01","M-T500E","VK_CLNTCH_CNV","N/C","Conventional"]
["M-T500EVK_CHG_WO","01","M-T500E","VK_CHG_WO",-450,"Without Charger"]
["M-T500EVK_CHG_27A85V5060H1P","01","M-T500E","VK_CHG_27A85V5060H1P","N/C","CH27A 85-270V 5060H1P"]
["M-T500EVK_CHG_25A100V5060H1","01","M-T500E","VK_CHG_25A100V5060H1","N/C","Ch25A 100V 5060H1P"]
["M-SS500VK_PADTYP_700MAR3","01","M-SS500","VK_PADTYP_700MAR3",19,"700/28 MarSur Pad 3M"]
["M-SS500VK_BTY_W260C20","01","M-SS500","VK_BTY_W260C20",424,"Bty Wet 260AH C20"]
["M-SS500VK_PADTYP_O700WHT3","01","M-SS500","VK_PADTYP_O700WHT3",57,"Orb 700/28 Wht 3M"]
["M-SS500VK_CLNTOL_D650ABB","01","M-SS500","VK_CLNTOL_D650ABB",332,"D650/26 Abr Brush"]
["M-SS500VK_CLNTOL_D700NYL","01","M-SS500","VK_CLNTOL_D700NYL","N/C","D700/28 Nylon Brush"]
["M-SS500VK_CLNTOL_D800ABB","01","M-SS500","VK_CLNTOL_D800ABB",332,"D800/32 Abr Brush"]
["M-SS500VK_PADTYP_700BLKH3","01","M-SS500","VK_PADTYP_700BLKH3",19,"700/28 Blk HiPro 3M"]
["M-SS500VK_CLNTOL_D650PAD","01","M-SS500","VK_CLNTOL_D650PAD","N/C","D650/26 Pad Driver"]
["M-SS500VK_SRVMNL","01","M-SS500","VK_SRVMNL",126,"Service Manual"]
["M-SS500VK_CHG_WO","01","M-SS500","VK_CHG_WO",-450,"Without Charger"]
["M-SS500VK_BTY_WO","01","M-SS500","VK_BTY_WO",-450,"Without Battery"]
["M-SS500VK_CLNTOL_O700PAD","01","M-SS500","VK_CLNTOL_O700PAD","N/C","O700/28 Pad Driver"]
["M-SS500VK_CHG_25A100V5060H1","01","M-SS500","VK_CHG_25A100V5060H1","N/C","Ch25A 100V 5060H1P"]
["M-SS500VK_BTY_W225C20","01","M-SS500","VK_BTY_W225C20","N/C","Bty Wet 225AH C20"]
["M-SS500VK_PADTYP_700WHT3","01","M-SS500","VK_PADTYP_700WHT3",17,"700/28 Wht Polish 3M"]
["M-SS500VK_PARMNL","01","M-SS500","VK_PARMNL",51,"Parts Manual"]
["M-SS500VK_PADTYP_650WHT3","01","M-SS500","VK_PADTYP_650WHT3",16,"650/26 Wh Polish 3M"]
["M-SS500VK_PRGBRK","01","M-SS500","VK_PRGBRK",182,"Parking Brake"]
["M-SS500VK_CHG_27A85V5060H1P","01","M-SS500","VK_CHG_27A85V5060H1P","N/C","CH27A 85-270V 5060H1P"]
["M-SS500VK_ADLOPRMNL","01","M-SS500","VK_ADLOPRMNL",126,"Add Operator Manual"]
["M-SS500VK_CLNTOL_D700PYP","01","M-SS500","VK_CLNTOL_D700PYP","N/C","D700/28 Poly Brush"]
[{"$f":"C1098&D1098","v":"M-SS500VK_PADTYP_800RED3"},"01","M-SS500","VK_PADTYP_800RED3",19,"800/32 Red Clean 3M"]
["M-SS500VK_CLNTOL_C700PYP","01","M-SS500","VK_CLNTOL_C700PYP","N/C","C700/28 Poly Brush"]
["M-SS500VK_PADTYP_700BLU3","01","M-SS500","VK_PADTYP_700BLU3",17,"700/28 Blu Scrub 3M"]
["M-SS500VK_PADTYP_O700RED3","01","M-SS500","VK_PADTYP_O700RED3",57,"Orb 700/28 Red 3M"]
["M-SS500VK_PADTYP_650BLU3","01","M-SS500","VK_PADTYP_650BLU3",16,"650/26 Bl Scrub 3M"]
["M-SS500VK_CLNTOL_D700ABB","01","M-SS500","VK_CLNTOL_D700ABB",332,"D700/28 Abr Brush"]
["M-SS500VK_PADTYP_700RED3","01","M-SS500","VK_PADTYP_700RED3",17,"700/28 Red Clean 3M"]
["M-SS500VK_CLNTOL_D650NYL","01","M-SS500","VK_CLNTOL_D650NYL","N/C","D650/26 Nylon Brush"]
["M-SS500VK_CLNTOL_D650PYP","01","M-SS500","VK_CLNTOL_D650PYP","N/C","D650/26 Poly Brush"]
["M-SS500VK_PADTYP_800BLU3","01","M-SS500","VK_PADTYP_800BLU3",19,"800/32 Blu Scrub 3M"]
["M-SS500VK_PADTYP_O700MAR3","01","M-SS500","VK_PADTYP_O700MAR3",113,"Orb 700/28 Mar 3M"]
["M-SS500VK_PKG_SSKD","01","M-SS500","VK_PKG_SSKD",441,"Stack Skid/Carton"]
["M-SS500VK_PADTYP_650RED3","01","M-SS500","VK_PADTYP_650RED3",16,"650/26 Red Clean 3M"]
["M-SS500VK_MCHCOM","01","M-SS500","VK_MCHCOM",1367,"IRIS Telemetry"]
["M-SS500VK_CLNTOL_D700PAD","01","M-SS500","VK_CLNTOL_D700PAD","N/C","D700/28 Pad Driver"]
["M-SS500VK_RECHSE_PVC_DCO","01","M-SS500","VK_RECHSE_PVC_DCO","N/C","PVC Matl w/Drain Cap"]
["M-SS500VK_CLNTOL_D800NYL","01","M-SS500","VK_CLNTOL_D800NYL","N/C","D800/32 Nylon Brush"]
["M-SS500VK_PADTYP_650MAR3","01","M-SS500","VK_PADTYP_650MAR3",18,"650/26 MarSur Pad 3M"]
["M-SS500VK_PKG_WSKD","01","M-SS500","VK_PKG_WSKD",309,"Skid w/Stretch Wrap"]
["M-SS500VK_SQEWDT_NWA","01","M-SS500","VK_SQEWDT_NWA","N/C","NarrowAisle Squeegee"]
["M-SS500VK_PADTYP_800WHT3","01","M-SS500","VK_PADTYP_800WHT3",19,"800/32 Wht Polish 3M"]
["M-SS500VK_BTY_A220C20","01","M-SS500","VK_BTY_A220C20",1545,"Bty AGM 220AH C20"]
["M-SS500VK_SQEWDT_STD","01","M-SS500","VK_SQEWDT_STD","N/C","Standard Squeegee"]
["M-SS500VK_BTYWTRSYS_ML","01","M-SS500","VK_BTYWTRSYS_ML",535,"Battery Watering Manual"]
["M-SS500VK_PADTYP_700BWN3","01","M-SS500","VK_PADTYP_700BWN3",17,"700/28 Bwn Strip 3M"]
["M-SS500VK_CLNTOL_C700NYL","01","M-SS500","VK_CLNTOL_C700NYL","N/C","C700/28 Nylon Brush"]
["M-SS500VK_BASE_SS500-650-D_STD","01","M-SS500","VK_BASE_SS500-650-D_STD",14510,"SS500 650mm Disk Std Config"]
["M-SS500VK_BASE_SS500-700-C_STD","01","M-SS500","VK_BASE_SS500-700-C_STD",16787,"SS500 700mm Cyl Std Config"]
["M-SS500VK_BASE_SS500-700-D_STD","01","M-SS500","VK_BASE_SS500-700-D_STD",15267,"SS500 700mm Disk Std Config"]
["M-SS500VK_BASE_SS500-700-O_STD","01","M-SS500","VK_BASE_SS500-700-O_STD",15960,"SS500 700mm Orb Std Config"]
["M-SS500VK_BASE_SS500-800-D_STD","01","M-SS500","VK_BASE_SS500-800-D_STD",16097,"SS500 800mm Disk Std Config"]
["M-SS500VK_OPRMNL","01","M-SS500","VK_OPRMNL","N/C","Oper Manual"]
["M-SS500VK_PKG_PAD","01","M-SS500","VK_PKG_PAD","N/C","Pad Wrap"]
["M-SS500VK_RECHSE_PYPOR_DCV","01","M-SS500","VK_RECHSE_PYPOR_DCV","N/C","Poly Mat w/DCV"]
["M-SS500VK_RECHSE_PYPOR_PC","01","M-SS500","VK_RECHSE_PYPOR_PC","N/C","Poly Mat w/Pinch Cuff"]
["M-SS500VK_CLNTOL_D800PAD","01","M-SS500","VK_CLNTOL_D800PAD","N/C","D800/32 Pad Driver"]
["M-SS500VK_PADTYP_650BWN3","01","M-SS500","VK_PADTYP_650BWN3",16,"650/26 Br Strip 3M"]
["M-SS500VK_CLNTOL_D800PYP","01","M-SS500","VK_CLNTOL_D800PYP","N/C","D800/32 Poly Brush"]
["M-SS500VK_CLNTOL_C700ABB","01","M-SS500","VK_CLNTOL_C700ABB",332,"C700/28 Abr Brush"]
["M-SS500VK_BTYWTRSYS_SF","01","M-SS500","VK_BTYWTRSYS_SF",916,"Smart Fill"]
["M-SS500VK_PADTYP_O700BLU3","01","M-SS500","VK_PADTYP_O700BLU3",57,"Orb 700/28 Blu 3M"]
["M-SS500VK_CLNTCH_ECH2ON","01","M-SS500","VK_CLNTCH_ECH2ON",2841,"ec-H2O™ NanoClean"]
["M-SS500VK_CLNTCH_CNV","01","M-SS500","VK_CLNTCH_CNV","N/C","Conventional"]
["M-SS500VK_BASE_SS500-800-D","01","M-SS500","VK_BASE_SS500-800-D",16097,"SS500-800-D"]
["M-SS500VK_BASE_SS500-700-O","01","M-SS500","VK_BASE_SS500-700-O",15960,"SS500-700-O"]
["M-SS500VK_BASE_SS500-700-D","01","M-SS500","VK_BASE_SS500-700-D",15267,"SS500-700-D"]
["M-SS500VK_BASE_SS500-700-C","01","M-SS500","VK_BASE_SS500-700-C",16787,"SS500-700-C"]
["M-SS500VK_BASE_SS500-650-D","01","M-SS500","VK_BASE_SS500-650-D",14510,"SS500-650-D"]
["M-T600VK_SVEEVMSWHLKT","01","M-T600","VK_SVEEVMSWHLKT",59,"SE Switch Lockout"]
["M-T600VK_CHG_33A100V5060H1P","01","M-T600","VK_CHG_33A100V5060H1P",175,"Ch33A 100V 5060H1P"]
["M-T600VK_CLNTOL_D800PAD","01","M-T600","VK_CLNTOL_D800PAD","N/C","D800/32 Pad Driver"]
["M-T600VK_BASE_T600-700C_STD","01","M-T600","VK_BASE_T600-700C_STD",22843,"T600 700mm Cyl Std Config"]
["M-T600VK_BASE_T600-700D_STD","01","M-T600","VK_BASE_T600-700D_STD",21252,"T600 700mm Disk Std Config"]
["M-T600VK_BASE_T600-700O_STD","01","M-T600","VK_BASE_T600-700O_STD",22234,"T600 700mm Orb Std Config"]
["M-T600VK_BASE_T600-800C_STD","01","M-T600","VK_BASE_T600-800C_STD",23641,"T600 800mm Cyl Std Config"]
["M-T600VK_BASE_T600-800D_STD","01","M-T600","VK_BASE_T600-800D_STD",22048,"T600 800mm Disk Std Config"]
["M-T600VK_BASE_T600-900D_STD","01","M-T600","VK_BASE_T600-900D_STD",25094,"T600 900mm Disk Std Config"]
["M-T600VK_CLNTOL_C700NYL","01","M-T600","VK_CLNTOL_C700NYL","N/C","C700/28 Nylon Brush"]
["M-T600VK_CLNTOL_D800SAB","01","M-T600","VK_CLNTOL_D800SAB",326,"D800/32 Sup Abr Brsh"]
["M-T600VK_CLNTOL_C700HDPYP","01","M-T600","VK_CLNTOL_C700HDPYP","N/C","C700/28 HD Poly Brsh"]
["M-T600VK_BTY_L36V4M","01","M-T600","VK_BTY_L36V4M",14194,"Bty Li-Ion 36v, 8.2kWh"]
["M-T600VK_BTY_W210C20","01","M-T600","VK_BTY_W210C20","N/C","Bty Wet 210AH C5"]
["M-T600VK_BASE_T600EE-800D","01","M-T600","VK_BASE_T600EE-800D",32426,"T600EE-800-D"]
["M-T600VK_CLNTOL_C800PYP","01","M-T600","VK_CLNTOL_C800PYP","N/C","C800/32 Poly Brush"]
[{"$f":"C1162&D1162","v":"M-T600VK_CLNTOL_C800ABB"},"01","M-T600","VK_CLNTOL_C800ABB",326,"C800/32 Abr Brush"]
["M-T600VK_DWNPRS_HD","01","M-T600","VK_DWNPRS_HD",1571,"Down Pressure - Heavy Duty"]
["M-T600VK_CLNTOL_D900SAB","01","M-T600","VK_CLNTOL_D900SAB",393,"D900/36 Sup Abr Brsh"]
["M-T600VK_CLNTOL_D700SAB","01","M-T600","VK_CLNTOL_D700SAB",326,"D700/28 Sup Abr Brsh"]
["M-T600VK_BTY_F186C6","01","M-T600","VK_BTY_F186C6",2265,"Bty Fast 186AH C/6"]
["M-T600VK_BASE_T600-800D","01","M-T600","VK_BASE_T600-800D",22048,"800 T600 Disk"]
["M-T600VK_BASE_T600-700O","01","M-T600","VK_BASE_T600-700O",22234,"700 T600 Orb"]
["M-T600VK_CHG_33A100V5060H1PLIN","01","M-T600","VK_CHG_33A100V5060H1PLIN",572,"Ch33A 100V 50/60Hz 1Ph On"]
["M-T600VK_CHG_33A100V5060H1PLIF","01","M-T600","VK_CHG_33A100V5060H1PLIF",572,"Ch33A 100V 50/60Hz 1Ph Off"]
["M-T600VK_CHG_25A100V5060H1LION","01","M-T600","VK_CHG_25A100V5060H1LION",411,"Ch25A 100V 50/60Hz 1Ph On"]
["M-T600VK_CHG_25A100V5060H1LIOF","01","M-T600","VK_CHG_25A100V5060H1LIOF",411,"Ch25A 100V 50/60Hz 1Ph Off"]
["M-T600VK_BTY_W360C20","01","M-T600","VK_BTY_W360C20",730,"Bty Wet 360AH C20"]
["M-T600VK_BTY_L36V5M","01","M-T600","VK_BTY_L36V5M",17041,"Bty Li-Ion 36v, 10.2kWh"]
["M-T600VK_BTY_L36V2M","01","M-T600","VK_BTY_L36V2M",6887,"Bty Li-Ion 36v, 4.1kWh"]
["M-T600VK_PADTYP_700YLW3","01","M-T600","VK_PADTYP_700YLW3",52,"700/28 Ylw Polish 3M"]
["M-T600VK_PADTYP_900YLW3","01","M-T600","VK_PADTYP_900YLW3",67,"900/36 Ylw Polish 3M"]
["M-T600VK_PADTYP_800YLW3","01","M-T600","VK_PADTYP_800YLW3",58,"800/32 Ylw Polish 3M"]
["M-T600VK_CLNTOL_D650ABB","01","M-T600","VK_CLNTOL_D650ABB",332,"D650/26 Abr Brush"]
["M-T600VK_BASE_T600E-700C","01","M-T600","VK_BASE_T600E-700C",20182,"T600E-700-C"]
["M-T600VK_RECHSE_PYPOR_DCV","01","M-T600","VK_RECHSE_PYPOR_DCV","N/C","Poly Mat w/DCV"]
["M-T600VK_RECHSE_PYPOR_PC","01","M-T600","VK_RECHSE_PYPOR_PC","N/C","Poly Mat w/Pinch Cuff"]
["M-T600VK_CLNTOL_C800HDPYP","01","M-T600","VK_CLNTOL_C800HDPYP","N/C","C800/32 HD Poly Brsh"]
["M-T600VK_CLNTOL_D900PYP","01","M-T600","VK_CLNTOL_D900PYP","N/C","D900/36 Poly Brush"]
["M-T600VK_CLNTOL_C800HCPYP","01","M-T600","VK_CLNTOL_C800HCPYP","N/C","not used"]
["M-T600VK_BASE_T600E-800D","01","M-T600","VK_BASE_T600E-800D",19361,"T600E-800-D"]
["M-T600VK_BASE_T600E-700O","01","M-T600","VK_BASE_T600E-700O",19524,"T600E-700-O"]
["M-T600VK_PADTYP_O700YLW3","01","M-T600","VK_PADTYP_O700YLW3",121,"Orb 700/28 Ylw 3M"]
["M-T600VK_BTY_F210C20","01","M-T600","VK_BTY_F210C20",2265,"Bty Fast 210AH C20"]
["M-T600VK_PKG_SSKD_NC","01","M-T600","VK_PKG_SSKD_NC","N/C","Stack Skid/Carton"]
["M-T600VK_CLNTOL_O700PAD","01","M-T600","VK_CLNTOL_O700PAD","N/C","O700/28 Pad Driver"]
["M-T600VK_CLNTOL_D900NYL","01","M-T600","VK_CLNTOL_D900NYL","N/C","D900/36 Nylon Brush"]
["M-T600VK_CLNTOL_D800PYP","01","M-T600","VK_CLNTOL_D800PYP","N/C","D800/32 Poly Brush"]
["M-T600VK_CLNTOL_D800NYL","01","M-T600","VK_CLNTOL_D800NYL","N/C","D800/32 Nylon Brush"]
["M-T600VK_CLNTOL_D800HDPYP","01","M-T600","VK_CLNTOL_D800HDPYP","N/C","D800/32 HD Poly Brsh"]
["M-T600VK_CLNTOL_D700PYP","01","M-T600","VK_CLNTOL_D700PYP","N/C","D700/28 Poly Brush"]
["M-T600VK_CLNTOL_D700PAD","01","M-T600","VK_CLNTOL_D700PAD","N/C","D700/28 Pad Driver"]
["M-T600VK_CLNTOL_D700NYL","01","M-T600","VK_CLNTOL_D700NYL","N/C","D700/28 Nylon Brush"]
["M-T600VK_CLNTOL_C800NYL","01","M-T600","VK_CLNTOL_C800NYL","N/C","C800/32 Nylon Brush"]
["M-T600VK_CLNTOL_C700PYP","01","M-T600","VK_CLNTOL_C700PYP","N/C","C700/28 Poly Brush"]
["M-T600VK_CLNTOL_C700ABB","01","M-T600","VK_CLNTOL_C700ABB",326,"C700/28 Abr Brush"]
["M-T600VK_CLNTCH_ECH2ON","01","M-T600","VK_CLNTCH_ECH2ON",2841,"ec-H2O™ NanoClean"]
["M-T600VK_CHG_WO","01","M-T600","VK_CHG_WO",-675,"Without Charger"]
["M-T600VK_CHG_25A100V5060H1_ON","01","M-T600","VK_CHG_25A100V5060H1_ON","N/C","Ch25A 100V 5060H1P On"]
["M-T600VK_CHG_25A100V5060H1_OFF","01","M-T600","VK_CHG_25A100V5060H1_OFF","N/C","Ch25A 100V 5060H1P Off"]
["M-T600VK_BTY_WO","01","M-T600","VK_BTY_WO",-750,"Without Battery"]
["M-T600VK_BTY_W240C20","01","M-T600","VK_BTY_W240C20","N/C","Bty Wet 240AH C20"]
["M-T600VK_BTYWTRSYS_SF","01","M-T600","VK_BTYWTRSYS_SF",1103,"Smart Fill"]
["M-T600VK_BTYWTRSYS_ML","01","M-T600","VK_BTYWTRSYS_ML",711,"Battery Watering Manual"]
["M-T600VK_BASE_T600-900D","01","M-T600","VK_BASE_T600-900D",25094,"900 T600 Disk"]
["M-T600VK_BASE_T600-800C","01","M-T600","VK_BASE_T600-800C",23641,"800 T600 Cyl"]
["M-T600VK_BASE_T600-700D","01","M-T600","VK_BASE_T600-700D",21252,"700 T600 Disk"]
["M-T600VK_BASE_T600-700C","01","M-T600","VK_BASE_T600-700C",22843,"700 T600 Cyl"]
["M-T600VK_ADLOPRMNL","01","M-T600","VK_ADLOPRMNL",126,"Add Operator Manual"]
["M-T600VK_MCHCOM","01","M-T600","VK_MCHCOM",1367,"IRIS Telemetry"]
["M-T600VK_WTY_STD","01","M-T600","VK_WTY_STD","N/C","Warranty STD"]
["M-T600VK_ULERTG_E","01","M-T600","VK_ULERTG_E","N/C","UL® Type E"]
["M-T600VK_TRMLVL_PPAN","01","M-T600","VK_TRMLVL_PPAN",888,"ProPanel Ctrls"]
["M-T600VK_PADTYP_900RED3","01","M-T600","VK_PADTYP_900RED3",21,"900/36 Red Clean 3M"]
["M-T600VK_PADTYP_700BLU3","01","M-T600","VK_PADTYP_700BLU3",17,"700/28 Blu Scrub 3M"]
["M-T600VK_NONMKTTRE_BPR","01","M-T600","VK_NONMKTTRE_BPR","N/C","Tire Blk Pneu Rubber"]
["M-T600VK_NONMKTTRE_BFFR","01","M-T600","VK_NONMKTTRE_BFFR","N/C","Tire Blk Foam Filled"]
["M-T600VK_PADTYP_900BLU3","01","M-T600","VK_PADTYP_900BLU3",21,"900/36 Blu Scrub 3M"]
["M-T600VK_PADTYP_800WHT3","01","M-T600","VK_PADTYP_800WHT3",20,"800/32 Wht Polish 3M"]
["M-T600VK_PADTYP_800RED3","01","M-T600","VK_PADTYP_800RED3",20,"800/32 Red Clean 3M"]
[{"$f":"C1226&D1226","v":"M-T600VK_PADTYP_800BLU3"},"01","M-T600","VK_PADTYP_800BLU3",20,"800/32 Blu Scrub 3M"]
["M-T600VK_PADTYP_700WHT3","01","M-T600","VK_PADTYP_700WHT3",17,"700/28 Wht Polish 3M"]
["M-T600VK_PADTYP_700RED3","01","M-T600","VK_PADTYP_700RED3",17,"700/28 Red Clean 3M"]
["M-T600VK_PADTYP_700BWN3","01","M-T600","VK_PADTYP_700BWN3",17,"700/28 Bwn Strip 3M"]
["M-T600VK_TRMLVL_PMEM","01","M-T600","VK_TRMLVL_PMEM","N/C","Pro Membrane Panel"]
["M-T600VK_TRLTRTKIT","01","M-T600","VK_TRLTRTKIT",257,"Transport Kit"]
["M-T600VK_SVEEVMSWH","01","M-T600","VK_SVEEVMSWH",572,"SE Switch Capability"]
["M-T600VK_SRVMNL","01","M-T600","VK_SRVMNL",126,"Service Manual"]
["M-T600VK_SQEWDT_STD","01","M-T600","VK_SQEWDT_STD","N/C","Standard Squeegee"]
["M-T600VK_SQEWDT_NWA","01","M-T600","VK_SQEWDT_NWA","N/C","NarrowAisle Squeegee"]
["M-T600VK_SPYNOZWTHHSE","01","M-T600","VK_SPYNOZWTHHSE",707,"Spray Nozzel w/Hose"]
["M-T600VK_RECHSE_PVC_DCO","01","M-T600","VK_RECHSE_PVC_DCO","N/C","PVC Matl w/Drain Cap"]
["M-T600VK_PRGBRK","01","M-T600","VK_PRGBRK",182,"Parking Brake"]
["M-T600VK_PKG_WSKD","01","M-T600","VK_PKG_WSKD",299,"Skid w/Stretch Wrap"]
["M-T600VK_PKG_SSKD","01","M-T600","VK_PKG_SSKD",441,"Stack Skid/Carton"]
["M-T600VK_PKG_PAD","01","M-T600","VK_PKG_PAD","N/C","Pad Wrap"]
["M-T600VK_PARMNL","01","M-T600","VK_PARMNL",51,"Parts Manual"]
["M-T600VK_PADTYP_O700WHT3","01","M-T600","VK_PADTYP_O700WHT3",56,"Orb 700/28 Wht 3M"]
["M-T600VK_PADTYP_O700RED3","01","M-T600","VK_PADTYP_O700RED3",56,"Orb 700/28 Red 3M"]
["M-T600VK_PADTYP_O700BLU3","01","M-T600","VK_PADTYP_O700BLU3",56,"Orb 700/28 Blu 3M"]
["M-T600VK_PADTYP_900WHT3","01","M-T600","VK_PADTYP_900WHT3",21,"900/36 Wht Polish 3M"]
["M-T600VK_PADTYP_900BLKH3","01","M-T600","VK_PADTYP_900BLKH3",24,"900/36 Blk HiPro 3M"]
["M-T600VK_CLNTOL_D900PAD","01","M-T600","VK_CLNTOL_D900PAD","N/C","D900/36 Pad Driver"]
["M-T600VK_CSMDRTWTRLBL","01","M-T600","VK_CSMDRTWTRLBL",40,"Dirty Water Label"]
["M-T600EVK_CLNTOL_D900PAD","01","M-T600E","VK_CLNTOL_D900PAD","N/C","D900/36 Pad Driver"]
["M-T600EVK_CLNTOL_D900SAB","01","M-T600E","VK_CLNTOL_D900SAB",393,"D900/36 Sup Abr Brsh"]
["M-T600EVK_CLNTOL_D700SAB","01","M-T600E","VK_CLNTOL_D700SAB",326,"D700/28 Sup Abr Brsh"]
["M-T600EVK_CLNTOL_D700PAD","01","M-T600E","VK_CLNTOL_D700PAD","N/C","D700/28 Pad Driver"]
["M-T600EVK_PADTYP_700MAR3","01","M-T600E","VK_PADTYP_700MAR3",19,"700/28 MarSur Pad 3M"]
["M-T600EVK_CLNTOL_D800NYL","01","M-T600E","VK_CLNTOL_D800NYL","N/C","D800/32 Nylon Brush"]
["M-T600EVK_RECHSE_PYPOR_DCV","01","M-T600E","VK_RECHSE_PYPOR_DCV","N/C","Poly Mat w/DCV"]
["M-T600EVK_HRCLBLKIT","01","M-T600E","VK_HRCLBLKIT",112,"Herc Label Kit"]
["M-T600EVK_NONMKTTRE_BPR","01","M-T600E","VK_NONMKTTRE_BPR","N/C","Tire Blk Pneu Rubber"]
["M-T600EVK_MCHCOM_SBT","01","M-T600E","VK_MCHCOM_SBT",1367,"IRIS Telemetry"]
["M-T600EVK_CLNTOL_D800ABB","01","M-T600E","VK_CLNTOL_D800ABB",332,"D800/32 Abr Brush"]
["M-T600EVK_BASE_T600E-700C_STD","01","M-T600E","VK_BASE_T600E-700C_STD",20182,"T600E 700mm Cyl Std Config"]
["M-T600EVK_BASE_T600E-700D_STD","01","M-T600E","VK_BASE_T600E-700D_STD",18540,"T600E 700mm Disk Std Config"]
["M-T600EVK_BASE_T600E-700O_STD","01","M-T600E","VK_BASE_T600E-700O_STD",19524,"T600E 700mm Orb Std Config"]
["M-T600EVK_BASE_T600E-800C_STD","01","M-T600E","VK_BASE_T600E-800C_STD",20999,"T600E 800mm Cyl Std Config"]
["M-T600EVK_BASE_T600E-800D_STD","01","M-T600E","VK_BASE_T600E-800D_STD",19361,"T600E 800mm Disk Std Config"]
["M-T600EVK_BASE_T600E-900D_STD","01","M-T600E","VK_BASE_T600E-900D_STD",21001,"T600E 900mm Disk Std Config"]
["M-T600EVK_MCHCOM","01","M-T600E","VK_MCHCOM",1367,"IRIS Telemetry"]
["M-T600EVK_CHG_33A100V5060H1PLIN","01","M-T600E","VK_CHG_33A100V5060H1PLIN",572,"Ch33A 100V 50/60Hz 1Ph On"]
["M-T600EVK_CHG_33A100V5060H1PLIF","01","M-T600E","VK_CHG_33A100V5060H1PLIF",572,"Ch33A 100V 50/60Hz 1Ph Off"]
["M-T600EVK_CHG_25A100V5060H1LION","01","M-T600E","VK_CHG_25A100V5060H1LION",411,"Ch25A 100V 50/60Hz 1Ph On"]
["M-T600EVK_CHG_25A100V5060H1LIOF","01","M-T600E","VK_CHG_25A100V5060H1LIOF",411,"Ch25A 100V 50/60Hz 1Ph Off"]
["M-T600EVK_BTY_L36V5M","01","M-T600E","VK_BTY_L36V5M",17041,"Bty Li-Ion 36v, 10.2kWh"]
["M-T600EVK_BTY_L36V4M","01","M-T600E","VK_BTY_L36V4M",14194,"Bty Li-Ion 36v, 8.2kWh"]
["M-T600EVK_CLNTOL_D800PYP","01","M-T600E","VK_CLNTOL_D800PYP","N/C","D800/32 Poly Brush"]
["M-T600EVK_BTY_L36V2M","01","M-T600E","VK_BTY_L36V2M",6887,"Bty Li-Ion 36v, 4.1kWh"]
["M-T600EVK_PADTYP_O700YLW3","01","M-T600E","VK_PADTYP_O700YLW3",121,"Orb 700/28 Ylw 3M"]
["M-T600EVK_PADTYP_900YLW3","01","M-T600E","VK_PADTYP_900YLW3",72,"900/36 Ylw Polish 3M"]
["M-T600EVK_PADTYP_900BLU3","01","M-T600E","VK_PADTYP_900BLU3",21,"900/36 Blu Scrub 3M"]
["M-T600EVK_PADTYP_700BWN3","01","M-T600E","VK_PADTYP_700BWN3",17,"700/28 Bwn Strip 3M"]
["M-T600EVK_PADTYP_700BLU3","01","M-T600E","VK_PADTYP_700BLU3",17,"700/28 Blu Scrub 3M"]
["M-T600EVK_PADTYP_700BLKH3","01","M-T600E","VK_PADTYP_700BLKH3",19,"700/28 Blk HiPro 3M"]
["M-T600EVK_PADTYP_900BLKH3","01","M-T600E","VK_PADTYP_900BLKH3",24,"900/36 Blk HiPro 3M"]
["M-T600EVK_PADTYP_800YLW3","01","M-T600E","VK_PADTYP_800YLW3",62,"800/32 Ylw Polish 3M"]
["M-T600EVK_PADTYP_800RED3","01","M-T600E","VK_PADTYP_800RED3",20,"800/32 Red Clean 3M"]
["M-T600EVK_PADTYP_800BLU3","01","M-T600E","VK_PADTYP_800BLU3",20,"800/32 Blu Scrub 3M"]
["M-T600EVK_PADTYP_700YLW3","01","M-T600E","VK_PADTYP_700YLW3",52,"700/28 Ylw Polish 3M"]
["M-T600EVK_PADTYP_700WHT3","01","M-T600E","VK_PADTYP_700WHT3",17,"700/28 Wht Polish 3M"]
["M-T600EVK_TRMLVL_PMEM","01","M-T600E","VK_TRMLVL_PMEM","N/C","Pro Membrane Panel"]
["M-T600EVK_RECHSE_PYPOR_PC","01","M-T600E","VK_RECHSE_PYPOR_PC","N/C","Poly Mat w/Pinch Cuff"]
[{"$f":"C1290&D1290","v":"M-T600EVK_CLNTOL_D900NYL"},"01","M-T600E","VK_CLNTOL_D900NYL","N/C","D900/36 Nylon Brush"]
["M-T600EVK_PADTYP_700RED3","01","M-T600E","VK_PADTYP_700RED3",17,"700/28 Red Clean 3M"]
["M-T600EVK_PADTYP_800WHT3","01","M-T600E","VK_PADTYP_800WHT3",20,"800/32 Wht Polish 3M"]
["M-T600EVK_CLNTOL_D700NYL","01","M-T600E","VK_CLNTOL_D700NYL","N/C","D700/28 Nylon Brush"]
["M-T600EVK_CLNTOL_C800HDPYP","01","M-T600E","VK_CLNTOL_C800HDPYP","N/C","C800/32 HD Poly Brsh"]
["M-T600EVK_CLNTOL_C700HDPYP","01","M-T600E","VK_CLNTOL_C700HDPYP","N/C","C700/28 HD Poly Brsh"]
["M-T600EVK_CLNTOL_D800PAD","01","M-T600E","VK_CLNTOL_D800PAD","N/C","D800/32 Pad Driver"]
["M-T600EVK_BTY_F210C20","01","M-T600E","VK_BTY_F210C20",2265,"Bty Fast 210AH C20"]
["M-T600EVK_CLNTOL_C800HCPYP","01","M-T600E","VK_CLNTOL_C800HCPYP","N/C","not used"]
["M-T600EVK_NONMKTTRE_BFFR","01","M-T600E","VK_NONMKTTRE_BFFR","N/C","Tire Blk Foam Filled"]
["M-T600EVK_IRSSRVRPT_3YP","01","M-T600E","VK_IRSSRVRPT_3YP",157,"Svc Rpt 3 Yr Pre-Paid"]
["M-T600EVK_CLNTOL_D900PYP","01","M-T600E","VK_CLNTOL_D900PYP","N/C","D900/36 Poly Brush"]
["M-T600EVK_CLNTOL_D800SAB","01","M-T600E","VK_CLNTOL_D800SAB",326,"D800/32 Sup Abr Brsh"]
["M-T600EVK_BTY_W210C20","01","M-T600E","VK_BTY_W210C20","N/C","Bty Wet 210AH C5"]
["M-T600EVK_OPRMNL","01","M-T600E","VK_OPRMNL","N/C","Oper Manual"]
["M-T600EVK_CLNTOL_D800HDPYP","01","M-T600E","VK_CLNTOL_D800HDPYP","N/C","D800/32 HD Poly Brsh"]
["M-T600EVK_CLNTOL_D700PYP","01","M-T600E","VK_CLNTOL_D700PYP","N/C","D700/28 Poly Brush"]
["M-T600EVK_CLNTOL_C800PYP","01","M-T600E","VK_CLNTOL_C800PYP","N/C","C800/32 Poly Brush"]
["M-T600EVK_CLNTOL_C800NYL","01","M-T600E","VK_CLNTOL_C800NYL","N/C","C800/32 Nylon Brush"]
["M-T600EVK_CLNTOL_C800ABB","01","M-T600E","VK_CLNTOL_C800ABB",326,"C800/32 Abr Brush"]
["M-T600EVK_CLNTOL_C700PYP","01","M-T600E","VK_CLNTOL_C700PYP","N/C","C700/28 Poly Brush"]
["M-T600EVK_CLNTOL_C700NYL","01","M-T600E","VK_CLNTOL_C700NYL","N/C","C700/28 Nylon Brush"]
["M-T600EVK_DWNPRS_HD","01","M-T600E","VK_DWNPRS_HD",1571,"Down Pressure - Heavy Duty"]
["M-T600EVK_CLNTOL_C700ABB","01","M-T600E","VK_CLNTOL_C700ABB",326,"C700/28 Abr Brush"]
["M-T600EVK_CLNTCH_ECH2ON","01","M-T600E","VK_CLNTCH_ECH2ON",2841,"ec-H2O™ NanoClean"]
["M-T600EVK_CHG_WO","01","M-T600E","VK_CHG_WO",-675,"Without Charger"]
["M-T600EVK_CHG_33A100V5060H1P","01","M-T600E","VK_CHG_33A100V5060H1P",175,"Ch33A 100V 5060H1P"]
["M-T600EVK_CHG_25A100V5060H1_ON","01","M-T600E","VK_CHG_25A100V5060H1_ON","N/C","Ch25A 100V 5060H1P On"]
["M-T600EVK_CHG_25A100V5060H1_OFF","01","M-T600E","VK_CHG_25A100V5060H1_OFF","N/C","Ch25A 100V 5060H1P Off"]
["M-T600EVK_BTY_WO","01","M-T600E","VK_BTY_WO",-750,"Without Battery"]
["M-T600EVK_BTY_W360C20","01","M-T600E","VK_BTY_W360C20",730,"Bty Wet 360AH C20"]
["M-T600EVK_BTY_W240C20","01","M-T600E","VK_BTY_W240C20","N/C","Bty Wet 240AH C20"]
["M-T600EVK_BTY_F186C6","01","M-T600E","VK_BTY_F186C6",2265,"Bty Fast 186AH C/6"]
["M-T600EVK_BTYWTRSYS_SF","01","M-T600E","VK_BTYWTRSYS_SF",1103,"Smart Fill"]
["M-T600EVK_BTYWTRSYS_ML","01","M-T600E","VK_BTYWTRSYS_ML",711,"Battery Watering Manual"]
["M-T600EVK_BASE_T600E-900D","01","M-T600E","VK_BASE_T600E-900D",21001,"T600E-900-D"]
["M-T600EVK_BASE_T600E-800D","01","M-T600E","VK_BASE_T600E-800D",19361,"T600E-800-D"]
["M-T600EVK_BASE_T600E-800C","01","M-T600E","VK_BASE_T600E-800C",20999,"T600E-800-C"]
["M-T600EVK_BASE_T600E-700O","01","M-T600E","VK_BASE_T600E-700O",19524,"T600E-700-O"]
["M-T600EVK_BASE_T600E-700D","01","M-T600E","VK_BASE_T600E-700D",18540,"T600E-700-D"]
["M-T600EVK_BASE_T600E-700C","01","M-T600E","VK_BASE_T600E-700C",20182,"T600E-700-C"]
["M-T600EVK_AUTFIL","01","M-T600E","VK_AUTFIL",208,"Auto Fill"]
["M-T600EVK_ADLOPRMNL","01","M-T600E","VK_ADLOPRMNL",126,"Add Operator Manual"]
["M-T600EVK_CLNTOL_O700PAD","01","M-T600E","VK_CLNTOL_O700PAD","N/C","O700/28 Pad Driver"]
["M-T600EVK_ULERTG_E","01","M-T600E","VK_ULERTG_E","N/C","UL® Type E"]
["M-T600EVK_PRGBRK","01","M-T600E","VK_PRGBRK",182,"Parking Brake"]
["M-T600EVK_PKG_WSKD","01","M-T600E","VK_PKG_WSKD",299,"Skid w/Stretch Wrap"]
["M-T600EVK_PKG_SSKD_NC","01","M-T600E","VK_PKG_SSKD_NC","N/C","Stack Skid/Carton"]
["M-T600EVK_PKG_SSKD","01","M-T600E","VK_PKG_SSKD",441,"Stack Skid/Carton"]
["M-T600EVK_PKG_PAD","01","M-T600E","VK_PKG_PAD","N/C","Pad Wrap"]
["M-T600EVK_PARMNL","01","M-T600E","VK_PARMNL",51,"Parts Manual"]
["M-T600EVK_PADTYP_O700WHT3","01","M-T600E","VK_PADTYP_O700WHT3",56,"Orb 700/28 Wht 3M"]
["M-T600EVK_PADTYP_O700RED3","01","M-T600E","VK_PADTYP_O700RED3",56,"Orb 700/28 Red 3M"]
["M-T600EVK_PADTYP_O700MAR3","01","M-T600E","VK_PADTYP_O700MAR3",111,"Orb 700/28 Mar 3M"]
["M-T600EVK_PADTYP_O700BLU3","01","M-T600E","VK_PADTYP_O700BLU3",56,"Orb 700/28 Blu 3M"]
["M-T600EVK_PADTYP_900WHT3","01","M-T600E","VK_PADTYP_900WHT3",21,"900/36 Wht Polish 3M"]
["M-T600EVK_PADTYP_900RED3","01","M-T600E","VK_PADTYP_900RED3",21,"900/36 Red Clean 3M"]
["M-T600EVK_TRLTRTKIT","01","M-T600E","VK_TRLTRTKIT",257,"Transport Kit"]
["M-T600EVK_SRVMNL","01","M-T600E","VK_SRVMNL",126,"Service Manual"]
["M-T600EVK_SQEWDT_STD","01","M-T600E","VK_SQEWDT_STD","N/C","Standard Squeegee"]
["M-T600EVK_SQEWDT_NWA","01","M-T600E","VK_SQEWDT_NWA","N/C","NarrowAisle Squeegee"]
["M-T600EVK_RECHSE_PVC_DCO","01","M-T600E","VK_RECHSE_PVC_DCO","N/C","PVC Matl w/Drain Cap"]
["M-T600EEVK_ACCCLP","01","M-T600EE","VK_ACCCLP","N/C","Accessory Clip"]
["M-T600EEVK_ADLOPRMNL","01","M-T600EE","VK_ADLOPRMNL",140,"Add Operator Manual"]
[{"$f":"C1354&D1354","v":"M-T600EEVK_PADTYP_800BLU3"},"01","M-T600EE","VK_PADTYP_800BLU3",21,"800/32 Blu Scrub 3M"]
["M-T600EEVK_SQEWDT_NWA","01","M-T600EE","VK_SQEWDT_NWA","N/C","NarrowAisle Squeegee"]
["M-T600EEVK_BTY_W240C20","01","M-T600EE","VK_BTY_W240C20","N/C","Bty Wet 240AH C20"]
["M-T600EEVK_PKG_PAD","01","M-T600EE","VK_PKG_PAD","N/C","Pad Wrap"]
["M-T600EEVK_PRGBRK","01","M-T600EE","VK_PRGBRK",204,"Parking Brake"]
["M-T600EEVK_CLNTOL_D800PYP","01","M-T600EE","VK_CLNTOL_D800PYP","N/C","D800/32 Poly Brush"]
["M-T600EEVK_CLNTOL_D800HDPYP","01","M-T600EE","VK_CLNTOL_D800HDPYP","N/C","D800/32 HD Poly Brsh"]
["M-T600EEVK_PARMNL","01","M-T600EE","VK_PARMNL",57,"Parts Manual"]
["M-T600EEVK_CLNTOL_D800SAB","01","M-T600EE","VK_CLNTOL_D800SAB",420,"D800/32 Sup Abr Brsh"]
["M-T600EEVK_CHG_WO","01","M-T600EE","VK_CHG_WO",-675,"Without Charger"]
["M-T600EEVK_PKG_WSKD","01","M-T600EE","VK_PKG_WSKD",385,"Skid w/Stretch Wrap"]
["M-T600EEVK_BTYWTRSYS_ML","01","M-T600EE","VK_BTYWTRSYS_ML",914,"Battery Watering Manual"]
["M-T600EEVK_RECHSE_PVC_DCO","01","M-T600EE","VK_RECHSE_PVC_DCO","N/C","PVC Matl w/Drain Cap"]
["M-T600EEVK_TRMLVL_PMEM","01","M-T600EE","VK_TRMLVL_PMEM","N/C","Pro Membrane Panel"]
["M-T600EEVK_RECHSE_PYPOR_DCV","01","M-T600EE","VK_RECHSE_PYPOR_DCV","N/C","Poly Mat w/DCV"]
["M-T600EEVK_RECHSE_PYPOR_PC","01","M-T600EE","VK_RECHSE_PYPOR_PC","N/C","Poly Mat w/Pinch Cuff"]
["M-T600EEVK_NONMKTTRE_BFFR","01","M-T600EE","VK_NONMKTTRE_BFFR","N/C","Tire Blk Foam Filled"]
["M-T600EEVK_BASE_T600EE-800D","01","M-T600EE","VK_BASE_T600EE-800D",36275,"T600EE-800-D"]
["M-T600EEVK_CHG_25A100V5060H1_OFF","01","M-T600EE","VK_CHG_25A100V5060H1_OFF","N/C","Ch25A 100V 5060H1P Off"]
["M-T600EEVK_CLNTOL_D800NYL","01","M-T600EE","VK_CLNTOL_D800NYL","N/C","D800/32 Nylon Brush"]
["M-T600EEVK_CLNTOL_D800PAD","01","M-T600EE","VK_CLNTOL_D800PAD","N/C","D800/32 Pad Driver"]
["M-T600EEVK_PADTYP_800RED3","01","M-T600EE","VK_PADTYP_800RED3",21,"800/32 Red Clean 3M"]
["M-T600EEVK_PADTYP_800WHT3","01","M-T600EE","VK_PADTYP_800WHT3",21,"800/32 Wht Polish 3M"]
["M-T600EEVK_PKG_SSKD","01","M-T600EE","VK_PKG_SSKD",493,"Stack Skid/Carton"]
["M-T600EEVK_SQEWDT_STD","01","M-T600EE","VK_SQEWDT_STD","N/C","Standard Squeegee"]
["M-T600EEVK_SRVMNL","01","M-T600EE","VK_SRVMNL",140,"Service Manual"]
["M-T600EEVK_TRLTRTKIT","01","M-T600EE","VK_TRLTRTKIT",330,"Transport Kit"]
["M-T600EEVK_NONMKTTRE_BPR","01","M-T600EE","VK_NONMKTTRE_BPR","N/C","Tire Blk Pneu Rubber"]
["M-T7AMRVK_BLULGT","01","M-T7AMR","VK_BLULGT",433,"Blue Light"]
["M-T7AMRVK_BTY_L24V92K","01","M-T7AMR","VK_BTY_L24V92K",10165,"Bty Li-Ion 24v, 9.2kWh"]
["M-T7AMRVK_BTY_F128C20","01","M-T7AMR","VK_BTY_F128C20",2591,"Bty FastCharge 128AH C20"]
["M-T7AMRVK_CSMSBTPARKIT","01","M-T7AMR","VK_CSMSBTPARKIT",1474,"Sunbelt -Parts Kit"]
["M-T7AMRVK_ADLOPRMNL","01","M-T7AMR","VK_ADLOPRMNL",131,"Add Operator Manual"]
["M-T7AMRVK_BASE_T7AMR-650D","01","M-T7AMR","VK_BASE_T7AMR-650D",59933,"T7AMR 650/26 Disc"]
["M-T7AMRVK_BTYWTRSYS","01","M-T7AMR","VK_BTYWTRSYS","N/C","Battery Watering Sys"]
["M-T7AMRVK_BTY_W360C20","01","M-T7AMR","VK_BTY_W360C20","N/C","Bty Wet 360AH C20"]
["M-T7AMRVK_CHG_41A100V5060H1P","01","M-T7AMR","VK_CHG_41A100V5060H1P","N/C","Ch41A 100V 5060H1P"]
["M-T7AMRVK_CLNTCH_ECH2ON","01","M-T7AMR","VK_CLNTCH_ECH2ON",3151,"ec-H2O™ NanoClean"]
["M-T7AMRVK_CLNTOL_650NYL","01","M-T7AMR","VK_CLNTOL_650NYL","N/C","650/24 Nylon Brush"]
["M-T7AMRVK_CLNTOL_650PAD","01","M-T7AMR","VK_CLNTOL_650PAD","N/C","650/24 Pad Driver"]
["M-T7AMRVK_CLNTOL_650PYP","01","M-T7AMR","VK_CLNTOL_650PYP","N/C","650/24 Poly Brush"]
["M-T7AMRVK_CLNTOL_650SAB","01","M-T7AMR","VK_CLNTOL_650SAB",353,"650/24 Sup Abr Brsh"]
["M-T7AMRVK_OPRMNL","01","M-T7AMR","VK_OPRMNL","N/C","Oper Manual"]
["M-T7AMRVK_PADTYP_650BLU3","01","M-T7AMR","VK_PADTYP_650BLU3",16,"650/26 Bl Scrub 3M"]
["M-T7AMRVK_PADTYP_650BWN3","01","M-T7AMR","VK_PADTYP_650BWN3",16,"650/26 Br Strip 3M"]
["M-T7AMRVK_PADTYP_650MAR3","01","M-T7AMR","VK_PADTYP_650MAR3",19,"650/26 MarSur Pad 3M"]
["M-T7AMRVK_PADTYP_650RED3","01","M-T7AMR","VK_PADTYP_650RED3",16,"650/26 Red Clean 3M"]
["M-T7AMRVK_PADTYP_650WHT3","01","M-T7AMR","VK_PADTYP_650WHT3",16,"650/26 Wh Polish 3M"]
["M-T7AMRVK_PARMNL","01","M-T7AMR","VK_PARMNL",54,"Parts Manual"]
["M-T7AMRVK_PKG_PAD","01","M-T7AMR","VK_PKG_PAD","N/C","Pad Wrap"]
["M-T7AMRVK_PKG_SCNS","01","M-T7AMR","VK_PKG_SCNS",467,"NonStack Skid/Carton"]
["M-T7AMRVK_PKG_SCNS_NC","01","M-T7AMR","VK_PKG_SCNS_NC","N/C","NonStack Skid/Carton"]
["M-T7AMRVK_PKG_WSKD","01","M-T7AMR","VK_PKG_WSKD",328,"Skid w/Stretch Wrap"]
["M-T7AMRVK_SRVMNL","01","M-T7AMR","VK_SRVMNL",131,"Service Manual"]
["M-T380AMRVK_PADTYP_500WHT3","01","M-T380AMR","VK_PADTYP_500WHT3",26,"500/20 Wh Polish 3M"]
["M-T380AMRVK_PADTYP_500MAR3","01","M-T380AMR","VK_PADTYP_500MAR3",30,"500/20 MarSur 3M"]
["M-T380AMRVK_PARMNL","01","M-T380AMR","VK_PARMNL",54,"Parts Manual"]
["M-T380AMRVK_BTY_W225C20","01","M-T380AMR","VK_BTY_W225C20","N/C","Bty Wet 225AH C20"]
["M-T380AMRVK_BTYWTRSYS","01","M-T380AMR","VK_BTYWTRSYS","N/C","Battery Watering Sys"]
["M-T380AMRVK_CLNTCH_ECH2ON","01","M-T380AMR","VK_CLNTCH_ECH2ON",2200,"ec-H2O™ NanoClean"]
["M-T380AMRVK_PADTYP_500RED3","01","M-T380AMR","VK_PADTYP_500RED3",26,"500/20 Red Clean 3M"]
["M-T380AMRVK_CLNTOL_500NYL","01","M-T380AMR","VK_CLNTOL_500NYL","N/C","500/20 Nylon Brush"]
["M-T380AMRVK_ADLOPRMNL","01","M-T380AMR","VK_ADLOPRMNL",131,"Add Operator Manual"]
["M-T380AMRVK_PADTYP_500BWN3","01","M-T380AMR","VK_PADTYP_500BWN3",27,"500/20 Br Strip 3M"]
[{"$f":"C1418&D1418","v":"M-T380AMRVK_CLNTOL_500PAD"},"01","M-T380AMR","VK_CLNTOL_500PAD","N/C","500/20 Pad Driver"]
["M-T380AMRVK_BTY_L24V46K","01","M-T380AMR","VK_BTY_L24V46K",5084,"Bty Li-Ion 24v, 4.6kWh"]
["M-T380AMRVK_PADTYP_500BLU3","01","M-T380AMR","VK_PADTYP_500BLU3",26,"500/20 Bl Scrub 3M"]
["M-T380AMRVK_SRVMNL","01","M-T380AMR","VK_SRVMNL",131,"Service Manual"]
["M-T380AMRVK_REF_T380AMR-500D","01","M-T380AMR","VK_REF_T380AMR-500D",59040,"T380AMR-500 DISK"]
["M-T380AMRVK_PKG_SCNS","01","M-T380AMR","VK_PKG_SCNS",467,"NonStack Skid/Carton"]
["M-T380AMRVK_PKG_PAD","01","M-T380AMR","VK_PKG_PAD","N/C","Pad Wrap"]
["M-T380AMRVK_CLNTOL_500PYP","01","M-T380AMR","VK_CLNTOL_500PYP","N/C","500/20 Poly Brush"]
["M-T380AMRVK_CHG_27A85V5060H1P","01","M-T380AMR","VK_CHG_27A85V5060H1P","N/C","CH27A 85-270V 5060H1P"]
["M-T380AMRVK_PADTYP_500BLK3","01","M-T380AMR","VK_PADTYP_500BLK3",29,"500/20 Blk Strip 3M"]
["M-T7VK_PADTYP_800WHT3","01","M-T7","VK_PADTYP_800WHT3",20,"800/32 Wht Polish 3M"]
["M-T7VK_CLNTOL_650SAB","01","M-T7","VK_CLNTOL_650SAB",357,"650/24 Sup Abr Brsh"]
["M-T7VK_BASE_T7-650-D_STD","01","M-T7","VK_BASE_T7-650-D_STD",24437,"T7 650mm Disk Std Config"]
["M-T7VK_BASE_T7-700-C_STD","01","M-T7","VK_BASE_T7-700-C_STD",26245,"T7 700mm Cyl Std Config"]
["M-T7VK_BASE_T7-800-C_STD","01","M-T7","VK_BASE_T7-800-C_STD",28057,"T7 800mm Cyl Std Config"]
["M-T7VK_BASE_T7-800-D_STD","01","M-T7","VK_BASE_T7-800-D_STD",26245,"T7 800mm Disk Std Config"]
["M-T7VK_CLNTCH_ECH2ON","01","M-T7","VK_CLNTCH_ECH2ON",3189,"ec-H2O™ NanoClean"]
["M-T7VK_BASE_T7-800-D","01","M-T7","VK_BASE_T7-800-D",26245,"T7 800/32 Disc"]
["M-T7VK_BASE_T7-700-C","01","M-T7","VK_BASE_T7-700-C",26245,"T7 700/28 Cyl"]
["M-T7VK_SETBLT","01","M-T7","VK_SETBLT",87,"Seat Belt"]
["M-T7VK_DTG_FAST365","01","M-T7","VK_DTG_FAST365","N/C","FaST 365 Neutral Cln"]
["M-T7VK_D800SAB","01","M-T7","VK_D800SAB",357,"D800/32 Sup Abr Brsh"]
["M-T7VK_C800ABB","01","M-T7","VK_C800ABB",357,"C800/32 Abr Brush"]
["M-T7VK_800MAR3","01","M-T7","VK_800MAR3",26,"800/32 MarSur Pad 3M"]
["M-T7VK_650WHT3","01","M-T7","VK_650WHT3",17,"650/26 Wh Polish 3M"]
["M-T7VK_D800PAD","01","M-T7","VK_D800PAD","N/C","D800/32 Pad Driver"]
["M-T7VK_800BLU3","01","M-T7","VK_800BLU3",22,"800/32 Bl Scrub 3M"]
["M-T7VK_650MAR3","01","M-T7","VK_650MAR3",21,"650/26 MarSur Pad 3M"]
["M-T7VK_DTG_FAST665","01","M-T7","VK_DTG_FAST665","N/C","FaST 665 Degreaser"]
["M-T7VK_D650PAD","01","M-T7","VK_D650PAD","N/C","D650/26 Pad Driver"]
["M-T7VK_C800NYL","01","M-T7","VK_C800NYL","N/C","C800/32 Nylon Brush"]
["M-T7VK_C700PYP","01","M-T7","VK_C700PYP","N/C","C700/28 Poly Brush"]
["M-T7VK_BTY_WTR_SYS","01","M-T7","VK_BTY_WTR_SYS",575,"HydroLink Bty WatKit"]
["M-T7VK_C700NYL","01","M-T7","VK_C700NYL","N/C","C700/28 Nylon Brush"]
["M-T7VK_800RED3","01","M-T7","VK_800RED3",22,"800/32 Red Clean 3M"]
["M-T7VK_WRNLGTALM_ST","01","M-T7","VK_WRNLGTALM_ST",730,"Strobe Light Tank"]
["M-T7VK_D800PYP","01","M-T7","VK_D800PYP","N/C","D800/32 Poly Brush"]
["M-T7VK_D650NYL","01","M-T7","VK_D650NYL","N/C","D650/26 Nylon Brush"]
["M-T7VK_C800PYP","01","M-T7","VK_C800PYP","N/C","C800/32 Poly Brush"]
["M-T7VK_C800HDPYP","01","M-T7","VK_C800HDPYP","N/C","C800/32 HD Poly Brsh"]
["M-T7VK_C700HDPYP","01","M-T7","VK_C700HDPYP","N/C","C700/28 HD Poly Brsh"]
["M-T7VK_800BWN3","01","M-T7","VK_800BWN3",22,"800/32 Br Strip 3M"]
["M-T7VK_800BLKH3","01","M-T7","VK_800BLKH3",35,"800/32 Blk HiPro 3M"]
["M-T7VK_650RED3","01","M-T7","VK_650RED3",17,"650/26 Red Clean 3M"]
["M-T7VK_650BWN3","01","M-T7","VK_650BWN3",17,"650/26 Br Strip 3M"]
["M-T7VK_800WHT3","01","M-T7","VK_800WHT3",22,"800/32 Wh Polish 3M"]
["M-T7VK_DTG_FAST965","01","M-T7","VK_DTG_FAST965","N/C","FaST 965 HDDegreaser"]
["M-T7VK_C700ABB","01","M-T7","VK_C700ABB",357,"C700/28 Abr Brush"]
["M-T7VK_650BLU3","01","M-T7","VK_650BLU3",17,"650/26 Bl Scrub 3M"]
["M-T7VK_D800NYL","01","M-T7","VK_D800NYL","N/C","D800/32 Nylon Brush"]
["M-T7VK_D650PYP","01","M-T7","VK_D650PYP","N/C","D650/26 Poly Brush"]
["M-T7VK_WRNLGTANDALM_ST","01","M-T7","VK_WRNLGTANDALM_ST",730,"Strobe Light Tank"]
["M-T7VK_PADTYP_800RED3","01","M-T7","VK_PADTYP_800RED3",20,"800/32 Red Clean 3M"]
["M-T7VK_D650SAB","01","M-T7","VK_D650SAB",357,"D650/26 Spr Abr Brsh"]
["M-T7VK_BTY_A220C20","01","M-T7","VK_BTY_A220C20",1665,"Bty AGM 220AH C20"]
["M-T7VK_CHG_27A100V5060H1P","01","M-T7","VK_CHG_27A100V5060H1P",412,"Ch27A 100-240V 5060H1P"]
["M-T7VK_PARMNL","01","M-T7","VK_PARMNL",55,"Parts Manual"]
["M-T7VK_BTYWTRSYS","01","M-T7","VK_BTYWTRSYS",575,"Battery Watering Sys"]
["M-T7VK_CLNTOL_C700ABB","01","M-T7","VK_CLNTOL_C700ABB",357,"C700/28 Abr Brush"]
["M-T7VK_CLNTOL_C700HDPYP","01","M-T7","VK_CLNTOL_C700HDPYP","N/C","C700/28 HD Poly Brsh"]
["M-T7VK_CLNTOL_C700NYL","01","M-T7","VK_CLNTOL_C700NYL","N/C","C700/28 Nylon Brush"]
["M-T7VK_CLNTOL_C700PYP","01","M-T7","VK_CLNTOL_C700PYP","N/C","C700/28 Poly Brush"]
["M-T7VK_CLNTOL_C800ABB","01","M-T7","VK_CLNTOL_C800ABB",357,"C800/32 Abr Brush"]
["M-T7VK_CLNTOL_C800HDPYP","01","M-T7","VK_CLNTOL_C800HDPYP","N/C","C800/32 HD Poly Brsh"]
[{"$f":"C1482&D1482","v":"M-T7VK_CLNTOL_C800NYL"},"01","M-T7","VK_CLNTOL_C800NYL","N/C","C800/32 Nylon Brush"]
["M-T7VK_CLNTOL_C800PYP","01","M-T7","VK_CLNTOL_C800PYP","N/C","C800/32 Poly Brush"]
["M-T7VK_CLNTOL_D650NYL","01","M-T7","VK_CLNTOL_D650NYL","N/C","D650/26 Nylon Brush"]
["M-T7VK_CLNTOL_D650PAD","01","M-T7","VK_CLNTOL_D650PAD","N/C","D650/26 Pad Driver"]
["M-T7VK_CLNTOL_D650PYP","01","M-T7","VK_CLNTOL_D650PYP","N/C","D650/26 Poly Brush"]
["M-T7VK_MCHCOM","01","M-T7","VK_MCHCOM",1367,"IRIS Telemetry"]
["M-T7VK_BTY_W360C20","01","M-T7","VK_BTY_W360C20",669,"Bty Wet 360AH C20"]
["M-T7VK_BTY_WO","01","M-T7","VK_BTY_WO",-450,"Without Battery"]
["M-T7VK_BASE_T7-800-C","01","M-T7","VK_BASE_T7-800-C",28057,"T7 800/32 Cyl"]
["M-T7VK_BASE_T7-650-D","01","M-T7","VK_BASE_T7-650-D",24437,"T7 650/26 Disc"]
["M-T7VK_CSMSBTPARKIT","01","M-T7","VK_CSMSBTPARKIT",1493,"Sunbelt -Parts Kit"]
["M-T7VK_CLNTOL_D800NYL","01","M-T7","VK_CLNTOL_D800NYL","N/C","D800/32 Nylon Brush"]
["M-T7VK_CLNTOL_D800PAD","01","M-T7","VK_CLNTOL_D800PAD","N/C","D800/32 Pad Driver"]
["M-T7VK_CLNTOL_D800PYP","01","M-T7","VK_CLNTOL_D800PYP","N/C","D800/32 Poly Brush"]
["M-T7VK_CLNTOL_D800SAB","01","M-T7","VK_CLNTOL_D800SAB",357,"D800/32 Sup Abr Brsh"]
["M-T7VK_DTG_F365","01","M-T7","VK_DTG_F365","N/C","FaST 365 Neutral Cln"]
["M-T7VK_DTG_F665","01","M-T7","VK_DTG_F665","N/C","FaST 665 Degreaser"]
["M-T7VK_DTG_F965","01","M-T7","VK_DTG_F965","N/C","FaST 965 HDDegreaser"]
["M-T7VK_PADTYP_650BLU3","01","M-T7","VK_PADTYP_650BLU3",16,"650/26 Bl Scrub 3M"]
["M-T7VK_PADTYP_650BWN3","01","M-T7","VK_PADTYP_650BWN3",16,"650/26 Br Strip 3M"]
["M-T7VK_PADTYP_650MAR3","01","M-T7","VK_PADTYP_650MAR3",20,"650/26 MarSur Pad 3M"]
["M-T7VK_PADTYP_650RED3","01","M-T7","VK_PADTYP_650RED3",16,"650/26 Red Clean 3M"]
["M-T7VK_PADTYP_650WHT3","01","M-T7","VK_PADTYP_650WHT3",16,"650/26 Wh Polish 3M"]
["M-T7VK_PADTYP_800BLU3","01","M-T7","VK_PADTYP_800BLU3",20,"800/32 Blu Scrub 3M"]
["M-T7VK_PKG_SCNS","01","M-T7","VK_PKG_SCNS",467,"NonStack Skid/Carton"]
["M-T7VK_PKG_WSKD","01","M-T7","VK_PKG_WSKD",332,"Skid w/Stretch Wrap"]
["M-T7VK_SRVMNL","01","M-T7","VK_SRVMNL",133,"Service Manual"]
["M-T7VK_ADLOPRMNL","01","M-T7","VK_ADLOPRMNL",133,"Add Operator Manual"]
["M-T7VK_BTY_G180C20","01","M-T7","VK_BTY_G180C20",1112,"Bty Gel 180AH C20"]
["M-T7VK_BTY_W240C20","01","M-T7","VK_BTY_W240C20","N/C","Bty Wet 240AH C20"]
["M-T7VK_CHG_19A100V5060H1","01","M-T7","VK_CHG_19A100V5060H1","N/C","Ch19A 100V 5060H1P"]
["M-T7VK_CHG_25A100V5060H1","01","M-T7","VK_CHG_25A100V5060H1",217,"Ch25A 100V 5060H1P"]
["M-T7VK_CHG_25A115V60H1P","01","M-T7","VK_CHG_25A115V60H1P",675,"Ch25A 115V 60H1P"]
["M-T7VK_CHG_WO","01","M-T7","VK_CHG_WO",-522,"Without Charger"]
["M-T7VK_CLNTCH_ECH2O","01","M-T7","VK_CLNTCH_ECH2O",3189,"ec-H2O™"]
["M-T7VK_CLNTCH_FAST","01","M-T7","VK_CLNTCH_FAST",2936,"FaST®"]
["M-T7VK_UTLBSK","01","M-T7","VK_UTLBSK",229,"Utility Basket"]
["M-SSRVK_ADLOPRMNL","01","M-SSR","VK_ADLOPRMNL",133,"Add Operator Manual"]
["M-SSRVK_BASE_SSR-800-C_STD","01","M-SSR","VK_BASE_SSR-800-C_STD",28057,"SSR 800mm Cyl Std Config"]
["M-SSRVK_BASE_SSR-800-D_STD","01","M-SSR","VK_BASE_SSR-800-D_STD",26245,"SSR 800mm Disk Std Config"]
["M-SSRVK_BASE_SSR-650-D_STD","01","M-SSR","VK_BASE_SSR-650-D_STD",24437,"SSR 650mm Disk Std Config"]
["M-SSRVK_BASE_SSR-700-C_STD","01","M-SSR","VK_BASE_SSR-700-C_STD",26245,"SSR 700mm Cyl Std Config"]
["M-SSRVK_BTY_A220C20","01","M-SSR","VK_BTY_A220C20",1665,"Bty AGM 220AH C20"]
["M-SSRVK_BTY_G180C20","01","M-SSR","VK_BTY_G180C20",1112,"Bty Gel 180AH C20"]
["M-SSRVK_BTY_W360C20","01","M-SSR","VK_BTY_W360C20",669,"Bty Wet 360AH C20"]
["M-SSRVK_BTY_WO","01","M-SSR","VK_BTY_WO",-450,"Without Battery"]
["M-SSRVK_PADTYP_650YLW3","01","M-SSR","VK_PADTYP_650YLW3",50,"650/26 Ylw Polish 3M"]
["M-SSRVK_PKG_PAD","01","M-SSR","VK_PKG_PAD","N/C","Pad Wrap"]
["M-SSRVK_CLNTOL_D800SAB","01","M-SSR","VK_CLNTOL_D800SAB",357,"D800/32 Sup Abr Brsh"]
["M-SSRVK_CLNTOL_D800PYP","01","M-SSR","VK_CLNTOL_D800PYP","N/C","D800/32 Poly Brush"]
["M-SSRVK_CLNTOL_D800PAD","01","M-SSR","VK_CLNTOL_D800PAD","N/C","D800/32 Pad Driver"]
["M-SSRVK_CLNTOL_D800NYL","01","M-SSR","VK_CLNTOL_D800NYL","N/C","D800/32 Nylon Brush"]
["M-SSRVK_CLNTOL_D650PYP","01","M-SSR","VK_CLNTOL_D650PYP","N/C","D650/26 Poly Brush"]
["M-SSRVK_CLNTOL_D650PAD","01","M-SSR","VK_CLNTOL_D650PAD","N/C","D650/26 Pad Driver"]
["M-SSRVK_CLNTOL_D650NYL","01","M-SSR","VK_CLNTOL_D650NYL","N/C","D650/26 Nylon Brush"]
["M-SSRVK_OPRVID","01","M-SSR","VK_OPRVID","N/C","Operator Video"]
["M-SSRVK_SETBLT","01","M-SSR","VK_SETBLT",87,"Seat Belt"]
["M-SSRVK_PADTYP_800YLW3","01","M-SSR","VK_PADTYP_800YLW3",67,"800/32 Ylw Polish 3M"]
["M-SSRVK_BASE_SSR-800-D","01","M-SSR","VK_BASE_SSR-800-D",26245,"SSR 800/32 Disc"]
["M-SSRVK_BASE_SSR-800-C","01","M-SSR","VK_BASE_SSR-800-C",28057,"SSR 800/32 Cyl"]
["M-SSRVK_BASE_SSR-700-C","01","M-SSR","VK_BASE_SSR-700-C",26245,"SSR 700/28 Cyl"]
["M-SSRVK_BASE_SSR-650-D","01","M-SSR","VK_BASE_SSR-650-D",24437,"SSR 650/26 Disc"]
["M-SSRVK_CHG_20A120V5060H1","01","M-SSR","VK_CHG_20A120V5060H1","N/C","Ch20A 120V 5060H1"]
["M-SSRVK_DATPKG_HO","01","M-SSR","VK_DATPKG_HO",1409,"Hardware Only"]
[{"$f":"C1546&D1546","v":"M-SSRVK_CLNTOL_C700ABB"},"01","M-SSR","VK_CLNTOL_C700ABB",357,"C700/28 Abr Brush"]
["M-SSRVK_CLNTOL_C700HDPYP","01","M-SSR","VK_CLNTOL_C700HDPYP","N/C","C700/28 HD Poly Brsh"]
["M-SSRVK_CLNTOL_C700NYL","01","M-SSR","VK_CLNTOL_C700NYL","N/C","C700/28 Nylon Brush"]
["M-SSRVK_CLNTOL_C700PYP","01","M-SSR","VK_CLNTOL_C700PYP","N/C","C700/28 Poly Brush"]
["M-SSRVK_CLNTOL_C800ABB","01","M-SSR","VK_CLNTOL_C800ABB",357,"C800/32 Abr Brush"]
["M-SSRVK_CLNTOL_C800HDPYP","01","M-SSR","VK_CLNTOL_C800HDPYP","N/C","C800/32 HD Poly Brsh"]
["M-SSRVK_PADTYP_650BLU3","01","M-SSR","VK_PADTYP_650BLU3",16,"650/26 Bl Scrub 3M"]
["M-SSRVK_PADTYP_650BWN3","01","M-SSR","VK_PADTYP_650BWN3",16,"650/26 Br Strip 3M"]
["M-SSRVK_PADTYP_650MAR3","01","M-SSR","VK_PADTYP_650MAR3",20,"650/26 MarSur Pad 3M"]
["M-SSRVK_PADTYP_650RED3","01","M-SSR","VK_PADTYP_650RED3",16,"650/26 Red Clean 3M"]
["M-SSRVK_PADTYP_650WHT3","01","M-SSR","VK_PADTYP_650WHT3",16,"650/26 Wh Polish 3M"]
["M-SSRVK_PADTYP_800BLU3","01","M-SSR","VK_PADTYP_800BLU3",20,"800/32 Blu Scrub 3M"]
["M-SSRVK_PADTYP_800RED3","01","M-SSR","VK_PADTYP_800RED3",20,"800/32 Red Clean 3M"]
["M-SSRVK_PADTYP_800WHT3","01","M-SSR","VK_PADTYP_800WHT3",20,"800/32 Wht Polish 3M"]
["M-SSRVK_WRNLGTANDALM_ST","01","M-SSR","VK_WRNLGTANDALM_ST",730,"Strobe Light Tank"]
["M-SSRVK_CHG_27A100V5060H1P","01","M-SSR","VK_CHG_27A100V5060H1P",412,"Ch27A 100-240V 5060H1P"]
["M-SSRVK_PKG_SCNS_NC","01","M-SSR","VK_PKG_SCNS_NC","N/C","NonStack Skid/Carton"]
["M-SSRVK_PARMNL","01","M-SSR","VK_PARMNL",55,"Parts Manual"]
["M-SSRVK_SRVMNL","01","M-SSR","VK_SRVMNL",133,"Service Manual"]
["M-SSRVK_CHG_25A100V5060H1_A","01","M-SSR","VK_CHG_25A100V5060H1_A",217,"CH25A 100V5060H1 AGM"]
["M-SSRVK_MCHCOM","01","M-SSR","VK_MCHCOM",1367,"IRIS Telemetry"]
["M-SSRVK_CLNTCH_DECH2ON","01","M-SSR","VK_CLNTCH_DECH2ON",3189,"ec-H2O NanoClean"]
["M-SSRVK_CLNTCH_CECH2ON","01","M-SSR","VK_CLNTCH_CECH2ON",3189,"ec-H2O NanoClean"]
["M-SSRVK_CLNTCH_DFAST","01","M-SSR","VK_CLNTCH_DFAST",2936,"FaST®"]
["M-SSRVK_CLNTCH_DECH2O","01","M-SSR","VK_CLNTCH_DECH2O",3189,"ec-H2O™"]
["M-SSRVK_DTG_FMP","01","M-SSR","VK_DTG_FMP","N/C","Dtrgnt Cleaner"]
["M-SSRVK_DTG_FMPD","01","M-SSR","VK_DTG_FMPD","N/C","Dtrgnt Degreaser"]
["M-SSRVK_OPRMNL","01","M-SSR","VK_OPRMNL","N/C","Oper Manual"]
["M-SSRVK_PKG_SCNS","01","M-SSR","VK_PKG_SCNS",467,"NonStack Skid/Carton"]
["M-SSRVK_PKG_WSKD","01","M-SSR","VK_PKG_WSKD",332,"Skid w/Stretch Wrap"]
["M-SSRVK_UTLBSK","01","M-SSR","VK_UTLBSK",229,"Utility Basket"]
["M-SSRVK_BTYWTRSYS","01","M-SSR","VK_BTYWTRSYS",575,"Battery Watering Sys"]
["M-SSRVK_BTY_W240C20","01","M-SSR","VK_BTY_W240C20","N/C","Bty Wet 240AH C20"]
["M-SSRVK_CHG_19A100V5060H1","01","M-SSR","VK_CHG_19A100V5060H1","N/C","Ch19A 100V 5060H1P"]
["M-SSRVK_CHG_25A100V5060H1","01","M-SSR","VK_CHG_25A100V5060H1",217,"Ch25A 100V 5060H1P"]
["M-SSRVK_CHG_25A115V60H1P","01","M-SSR","VK_CHG_25A115V60H1P",675,"Ch25A 115V 60H1P"]
["M-SSRVK_CHG_WO","01","M-SSR","VK_CHG_WO",-522,"Without Charger"]
["M-SSRVK_CLNTCH_CECH2O","01","M-SSR","VK_CLNTCH_CECH2O",3189,"ec-H2O™"]
["M-SSRVK_CLNTCH_CFAST","01","M-SSR","VK_CLNTCH_CFAST",2936,"FaST®"]
["M-T12VK_HVYDTYPRTPKG_Y","01","M-T12","VK_HVYDTYPRTPKG_Y",1478,"Hvy Duty Protect Pkg"]
["M-T12VK_SET_DLXW","01","M-T12","VK_SET_DLXW",556,"Deluxe Seat w/Armr."]
["M-T12VK_DPAD","01","M-T12","VK_DPAD","N/C","Disk Pad Driver"]
["M-T12VK_BTY_L36V4M","01","M-T12","VK_BTY_L36V4M",14859,"Bty Li-Ion 36v, 8.2kWh"]
["M-T12VK_SRVMNL","01","M-T12","VK_SRVMNL",239,"Service Manual"]
["M-T12VK_SQEMAT_L","01","M-T12","VK_SQEMAT_L","N/C","Squeegee Linatex"]
["M-T12VK_SFYLGTPKG_Y","01","M-T12","VK_SFYLGTPKG_Y",850,"Safety Light Package"]
["M-T12VK_DSAB","01","M-T12","VK_DSAB",192,"Dsk Spr Abr Brush"]
["M-T12VK_OVHGRD_Y","01","M-T12","VK_OVHGRD_Y",1464,"Overhead Guard"]
["M-T12VK_ULERTG_ES","01","M-T12","VK_ULERTG_ES",2800,"UL® Type ES"]
["M-T12VK_BTY_L36V2M","01","M-T12","VK_BTY_L36V2M",7411,"Bty Li-Ion 36v, 4.1kWh"]
["M-T12VK_CPYS","01","M-T12","VK_CPYS","N/C","Polyester Brush Cyl"]
["M-T12VK_BLULGT","01","M-T12","VK_BLULGT",975,"Blue Light"]
["M-T12VK_CHG_21A85V5060H1P_360","01","M-T12","VK_CHG_21A85V5060H1P_360","N/C","Ch21A 85V 5060H1P"]
["M-T12VK_PKG_PAD","01","M-T12","VK_PKG_PAD","N/C","Pad Wrap"]
["M-T12VK_CHG_33A100V5060H1PLIF","01","M-T12","VK_CHG_33A100V5060H1PLIF",798,"Ch33A 100V 50/60Hz 1Ph Off"]
["M-T12VK_TRLTRTKIT_Y","01","M-T12","VK_TRLTRTKIT_Y",188,"Transport Kit"]
["M-T12VK_BASE_T12-C_STD","01","M-T12","VK_BASE_T12-C_STD",28256,"T12 Rider Cly Std Config"]
["M-T12VK_BASE_T12-D_STD","01","M-T12","VK_BASE_T12-D_STD",27493,"T12 Rider Disk Std Config"]
["M-T12VK_BASE_T12-XP-C_STD","01","M-T12","VK_BASE_T12-XP-C_STD",30678,"T12 XP Rider Cyl Std Config"]
["M-T12VK_BASE_T12-XP-D_STD","01","M-T12","VK_BASE_T12-XP-D_STD",29912,"T12 XP Rider Disk Std Config"]
["M-T12VK_PARMNL","01","M-T12","VK_PARMNL","N/C","Parts Manual"]
["M-T12VK_CHG_25A100V5060H1LIOF","01","M-T12","VK_CHG_25A100V5060H1LIOF",633,"Ch25A 100V 50/60Hz 1Ph Off"]
["M-T12VK_BTY_L36V5M","01","M-T12","VK_BTY_L36V5M",17761,"Bty Li-Ion 36v, 10.2kWh"]
["M-T12VK_PKG_WSKD","01","M-T12","VK_PKG_WSKD",324,"Skid w/Stretch Wrap"]
[{"$f":"C1610&D1610","v":"M-T12VK_CSAB"},"01","M-T12","VK_CSAB",192,"Abr. Brush Cyl"]
["M-T12VK_DNYL","01","M-T12","VK_DNYL","N/C","Disk Nylon Brush"]
["M-T12VK_SDEBRSTYP_SCB","01","M-T12","VK_SDEBRSTYP_SCB",4274,"Side Brush Scrubber"]
["M-T12VK_SDETYPPAD_WHT3","01","M-T12","VK_SDETYPPAD_WHT3",17,"Side Wh Polish 3M"]
["M-T12VK_SDECLNTOL_SAB","01","M-T12","VK_SDECLNTOL_SAB",192,"Side Sup Abr Brush"]
["M-T12VK_SDECLNTOL_HDPYP","01","M-T12","VK_SDECLNTOL_HDPYP","N/C","Side HD Poly Brush"]
["M-T12VK_SDETYPPAD_RED3","01","M-T12","VK_SDETYPPAD_RED3",17,"Side Red Clean 3M"]
["M-T12VK_SDECLNTOL_SCBPYP","01","M-T12","VK_SDECLNTOL_SCBPYP","N/C","Side Cln Polypr Scrb"]
["M-T12VK_WRNLGTALM_SO","01","M-T12","VK_WRNLGTALM_SO",655,"Strobe Light OHG"]
["M-T12VK_WRNLGTALM_AVST","01","M-T12","VK_WRNLGTALM_AVST",655,"AV BU AlarmStrobeTnk"]
["M-T12VK_DHDPYP","01","M-T12","VK_DHDPYP","N/C","Disk HD Poly Brush"]
["M-T12VK_CPYP","01","M-T12","VK_CPYP","N/C","Cyl Poly Brush"]
["M-T12VK_SDETYPPAD_BLU3","01","M-T12","VK_SDETYPPAD_BLU3",17,"Side Bl Scrub 3M"]
["M-T12VK_PKG_SCNS","01","M-T12","VK_PKG_SCNS",692,"NonStack Skid/Carton"]
["M-T12VK_MCHCOM","01","M-T12","VK_MCHCOM",1367,"IRIS Telemetry"]
["M-T12VK_FREEXT_Y","01","M-T12","VK_FREEXT_Y",333,"Fire Extinquisher"]
["M-T12VK_HVYDTYFRTBMP_Y","01","M-T12","VK_HVYDTYFRTBMP_Y",914,"Hvy Dty Frnt Bumper"]
["M-T12VK_HVYDTYSQEPRT_Y","01","M-T12","VK_HVYDTYSQEPRT_Y",715,"Hvy Dty Sque Protect"]
["M-T12VK_OPRMNL","01","M-T12","VK_OPRMNL","N/C","Oper Manual"]
["M-T12VK_OPRVID","01","M-T12","VK_OPRVID","N/C","Operator Video"]
["M-T12VK_SQEMAT_U","01","M-T12","VK_SQEMAT_U","N/C","Squeegee Urethane"]
["M-T12VK_BASE_T12-XP-D","01","M-T12","VK_BASE_T12-XP-D",29912,"T12 XP ScrubRider D"]
["M-T12VK_BASE_T12-XP-C","01","M-T12","VK_BASE_T12-XP-C",30678,"T12 XP ScrubRider C"]
["M-T12VK_BASE_T12-D","01","M-T12","VK_BASE_T12-D",27493,"T12 ScrubRider Disk"]
["M-T12VK_BASE_T12-C","01","M-T12","VK_BASE_T12-C",28256,"T12 ScrubRider Cyl"]
["M-T12VK_CHDPYP","01","M-T12","VK_CHDPYP","N/C","Cyl. HD Poly Brush"]
["M-T12VK_BWN3","01","M-T12","VK_BWN3",21,"Br Stripping - 3M"]
["M-T12VK_BTY_WO","01","M-T12","VK_BTY_WO",-495,"Without Battery"]
["M-T12VK_BTY_W360C20","01","M-T12","VK_BTY_W360C20",1059,"Bty Wet 360AH C20"]
["M-T12VK_BTY_W240C20","01","M-T12","VK_BTY_W240C20","N/C","Bty Wet 240AH C20"]
["M-T12VK_BTY_A312C20","01","M-T12","VK_BTY_A312C20",4567,"Bty AGM 312AH C20"]
["M-T12VK_BTYWTRSYS","01","M-T12","VK_BTYWTRSYS",730,"Battery Watering Sys"]
["M-T12VK_BLU3","01","M-T12","VK_BLU3",21,"Blu Scrub - 3M"]
["M-T12VK_BLKH3","01","M-T12","VK_BLKH3",34,"Blk Strip (HiPRO) 3M"]
["M-T12VK_ALTSTBFLSLNS_R","01","M-T12","VK_ALTSTBFLSLNS_R","N/C","Alternate Lens-Red"]
["M-T12VK_ALTSTBFLSLNS_B","01","M-T12","VK_ALTSTBFLSLNS_B","N/C","Alternate Lens-Blue"]
["M-T12VK_ADLOPRMNL","01","M-T12","VK_ADLOPRMNL",71,"Add Operator Manual"]
["M-T12VK_RED3","01","M-T12","VK_RED3",21,"Red Clean 3M"]
["M-T12VK_PWRVACWND_VACWND","01","M-T12","VK_PWRVACWND_VACWND",846,"Vacuum Wand"]
["M-T12VK_PRDPKG_Y","01","M-T12","VK_PRDPKG_Y",5221,"Productivity Package"]
["M-T12VK_HLT_Y","01","M-T12","VK_HLT_Y",388,"Headlight"]
["M-T12VK_DPYP","01","M-T12","VK_DPYP","N/C","Disk Poly Brush"]
["M-T12VK_CLNTCH_ECH2O","01","M-T12","VK_CLNTCH_ECH2O",3851,"ec-H2O™"]
["M-T12VK_CHG_WO","01","M-T12","VK_CHG_WO",-323,"Without Charger"]
["M-T12VK_CHG_21A85V5060H1PA312","01","M-T12","VK_CHG_21A85V5060H1PA312",732,"Ch21A 85V 5060H1P"]
["M-T12VK_CHG_21A85V5060H1P","01","M-T12","VK_CHG_21A85V5060H1P","N/C","Ch21A 85V 5060H1P"]
["M-T12VK_CHG_20A85V5060H1P","01","M-T12","VK_CHG_20A85V5060H1P",807,"Ch20A 85V 5060H1P"]
["M-T12VK_WHT3","01","M-T12","VK_WHT3",21,"Wh Polish 3M"]
["M-T12VK_UPG_Y","01","M-T12","VK_UPG_Y","N/C","UPG"]
["M-T12VK_SQEMAT_G","01","M-T12","VK_SQEMAT_G","N/C","Squeegee Gum Rubber"]
["M-T12VK_SPYNOZHSE_Y","01","M-T12","VK_SPYNOZHSE_Y",1204,"Spray Nozzel Hose"]
["M-T12VK_SDECLNTOL_PAD","01","M-T12","VK_SDECLNTOL_PAD","N/C","Side Pad Driver"]
["M-T16AMRVK_CHG_33A100V5060H1P","01","M-T16AMR","VK_CHG_33A100V5060H1P",-250,"Ch33A 100V 5060H1P"]
["M-T16AMRVK_SRVMNL","01","M-T16AMR","VK_SRVMNL",244,"Service Manual"]
["M-T16AMRVK_PKG_SKD","01","M-T16AMR","VK_PKG_SKD",710,"Skid"]
["M-T16AMRVK_PKG_CRT","01","M-T16AMR","VK_PKG_CRT",1336,"Crate"]
["M-T16AMRVK_PARMNL","01","M-T16AMR","VK_PARMNL","N/C","Parts Manual"]
["M-T16AMRVK_CLNTOL_SAB","01","M-T16AMR","VK_CLNTOL_SAB",414,"Sup Abr Brush"]
["M-T16AMRVK_CLNTOL_PYP","01","M-T16AMR","VK_CLNTOL_PYP","N/C","Poly Brush"]
["M-T16AMRVK_CHG_WO_NOLI","01","M-T16AMR","VK_CHG_WO_NOLI",-323,"Without Charger, FLA"]
["M-T16AMRVK_CHG_WO_LI","01","M-T16AMR","VK_CHG_WO_LI",-750,"Without Charger, Li-Ion"]
["M-T16AMRVK_CHG_21A85V5060H1P","01","M-T16AMR","VK_CHG_21A85V5060H1P","N/C","Ch21A 85V 5060H1P"]
["M-T16AMRVK_BASE_T16AMR-STD-W360","01","M-T16AMR","VK_BASE_T16AMR-STD-W360",99177,"T16AMR CYL STD W360"]
["M-T16AMRVK_BASE_T16AMR-STD-LI","01","M-T16AMR","VK_BASE_T16AMR-STD-LI",110052,"T16AMR CYL STD LI-ION"]
[{"$f":"C1674&D1674","v":"M-T16AMRVK_ADLOPRMNL"},"01","M-T16AMR","VK_ADLOPRMNL",73,"Add Operator Manual"]
["M-T16AMRVK_CSMSBTDCL_FC","01","M-T16AMR","VK_CSMSBTDCL_FC",216,"Sunbelt-FloorCareDcl"]
["M-T16AMRVK_CHG_90A200V5060H1P","01","M-T16AMR","VK_CHG_90A200V5060H1P","N/C","90A 200-240V AC 50/60Hz 1Ph"]
["M-T16VK_PADTYP_BWN3","01","M-T16","VK_PADTYP_BWN3",22,"Br Stripping - 3M"]
["M-T16VK_PRESWPSYS","01","M-T16","VK_PRESWPSYS",6082,"Presweep System"]
["M-T16VK_PADTYP_WHT3","01","M-T16","VK_PADTYP_WHT3",22,"Wh Polish 3M"]
["M-T16VK_HVYDTYPRTPKG","01","M-T16","VK_HVYDTYPRTPKG",2971,"Hvy Duty Protect Pkg"]
["M-T16VK_ALTSTBFLSLNS_R","01","M-T16","VK_ALTSTBFLSLNS_R","N/C","Alternate Lens-Red"]
["M-T16VK_SRVMNL","01","M-T16","VK_SRVMNL",239,"Service Manual"]
["M-T16VK_SDECLNTOL_PAD","01","M-T16","VK_SDECLNTOL_PAD","N/C","Side Pad Driver"]
["M-T16VK_PKG_CRT_NC","01","M-T16","VK_PKG_CRT_NC","N/C","Crate"]
["M-T16VK_BLULGT","01","M-T16","VK_BLULGT",975,"Blue Light"]
["M-T16VK_CLNTOL_HDPYP","01","M-T16","VK_CLNTOL_HDPYP","N/C","HD Poly Brush"]
["M-T16VK_BASE_T16-910-C_STD","01","M-T16","VK_BASE_T16-910-C_STD",34183,"T16 Rider - Cyl Std Config"]
["M-T16VK_BASE_T16-910-D_STD","01","M-T16","VK_BASE_T16-910-D_STD",34183,"T16 Rider - Disk Std Config"]
["M-T16VK_CHG_21A85V5060H1P_AGM","01","M-T16","VK_CHG_21A85V5060H1P_AGM",732,"Ch21A 85V 5060H1P"]
["M-T16VK_CLNTCH_ECH2O","01","M-T16","VK_CLNTCH_ECH2O",4390,"ec-H2O™"]
["M-T16VK_CLNTCH_ES","01","M-T16","VK_CLNTCH_ES",4386,"ES® Extended Scrub"]
["M-T16VK_CLNTOL_CPYP","01","M-T16","VK_CLNTOL_CPYP","N/C","Cyl Brush Poly"]
["M-T16VK_CLNTOL_CSAB","01","M-T16","VK_CLNTOL_CSAB",192,"Cyl Brush Spr Abr."]
["M-T16VK_CLNTOL_NYL","01","M-T16","VK_CLNTOL_NYL","N/C","Nylon Brush"]
["M-T16VK_CLNTOL_PAD","01","M-T16","VK_CLNTOL_PAD","N/C","Pad Driver"]
["M-T16VK_DULVACFAN","01","M-T16","VK_DULVACFAN",842,"Dual Vacuum Fans"]
["M-T16VK_FREEXT","01","M-T16","VK_FREEXT",333,"Fire Extinguisher"]
["M-T16VK_ADLOPRMNL","01","M-T16","VK_ADLOPRMNL",71,"Add Operator Manual"]
["M-T16VK_BTYCRT","01","M-T16","VK_BTYCRT",2411,"Battery Cart"]
["M-T16VK_BTYEXCSYS_RO","01","M-T16","VK_BTYEXCSYS_RO",3385,"Bty Rollout Sys."]
["M-T16VK_BTYWTRSYS","01","M-T16","VK_BTYWTRSYS",730,"Battery Watering Sys"]
["M-T16VK_SDEPADTYP_BLU3","01","M-T16","VK_SDEPADTYP_BLU3",17,"Side Blu Scrub 3M"]
["M-T16VK_SDEPADTYP_RED3","01","M-T16","VK_SDEPADTYP_RED3",17,"Side Red Clean 3M"]
["M-T16VK_SDEPADTYP_WHT3","01","M-T16","VK_SDEPADTYP_WHT3",17,"Side Wh Polish 3M"]
["M-T16VK_SET_DLXW","01","M-T16","VK_SET_DLXW",556,"Deluxe Seat w/Armr."]
["M-T16VK_SPYNOZWTHHSE","01","M-T16","VK_SPYNOZWTHHSE",1204,"Spray Nozzel w/Hose"]
["M-T16VK_SQEMAT_G","01","M-T16","VK_SQEMAT_G","N/C","Squeegee Gum Rubber"]
["M-T16VK_SQEMAT_L","01","M-T16","VK_SQEMAT_L","N/C","Squeegee Linatex"]
["M-T16VK_SQEMAT_U_RER","01","M-T16","VK_SQEMAT_U_RER","N/C","Squegee Urethane R"]
["M-T16VK_STLCSE","01","M-T16","VK_STLCSE",577,"Steel Case"]
["M-T16VK_TRLTRTKIT","01","M-T16","VK_TRLTRTKIT",188,"Transport Kit"]
["M-T16VK_ULERTG_E","01","M-T16","VK_ULERTG_E","N/C","UL® Type E"]
["M-T16VK_WRNLGTANDALM_AVST","01","M-T16","VK_WRNLGTANDALM_AVST",655,"AV BU AlrmStrobe Tnk"]
["M-T16VK_HVYDTYSQEPRT","01","M-T16","VK_HVYDTYSQEPRT",715,"Hvy Dty Sque Protect"]
["M-T16VK_OPRVID","01","M-T16","VK_OPRVID","N/C","Operator Video"]
["M-T16VK_OVHGRD","01","M-T16","VK_OVHGRD",1978,"Overhead Guard"]
["M-T16VK_PADTYP_BLKH3","01","M-T16","VK_PADTYP_BLKH3",26,"Blk Strip (HiPRO) 3M"]
["M-T16VK_PADTYP_BLU3","01","M-T16","VK_PADTYP_BLU3",22,"Blu Scrub - 3M"]
["M-T16VK_PADTYP_RED3","01","M-T16","VK_PADTYP_RED3",22,"Red Clean 3M"]
["M-T16VK_PKG_CRT","01","M-T16","VK_PKG_CRT",1303,"Crate"]
["M-T16VK_PKG_SKD","01","M-T16","VK_PKG_SKD",692,"Skid"]
["M-T16VK_SDEBRSTYP_SCB","01","M-T16","VK_SDEBRSTYP_SCB",4274,"Side Brush Scrubber"]
["M-T16VK_SDECLNTOL_NYL","01","M-T16","VK_SDECLNTOL_NYL","N/C","Side Nylon Brush"]
["M-T16VK_SFYLGTPKG","01","M-T16","VK_SFYLGTPKG",850,"Safety Light Package"]
["M-T16VK_SVEEVMSWH_N","01","M-T16","VK_SVEEVMSWH_N",-427,"No SE Switch Caplty"]
["M-T16VK_DTGMTG","01","M-T16","VK_DTGMTG",3095,"Detergent Metering"]
["M-T16VK_CHG_33A100V5060H1PLIF","01","M-T16","VK_CHG_33A100V5060H1PLIF",847,"Ch33A 100V 50/60Hz 1Ph Off"]
["M-T16VK_CHG_25A100V5060H1LIOF","01","M-T16","VK_CHG_25A100V5060H1LIOF",696,"Ch25A 100V 50/60Hz 1Ph Off"]
["M-T16VK_CHG_20A115V5060H1_LI","01","M-T16","VK_CHG_20A115V5060H1_LI","N/C","Ch20A 115V 50/60Hz 1Ph On"]
["M-T16VK_BTY_L36V6M","01","M-T16","VK_BTY_L36V6M",20803,"Bty Li-Ion 36v, 12.2kWh"]
["M-T16VK_BTY_L36V4M","01","M-T16","VK_BTY_L36V4M",14998,"Bty Li-Ion 36v, 8.2kWh"]
["M-T16VK_BTY_L36V2M","01","M-T16","VK_BTY_L36V2M",7549,"Bty Li-Ion 36v, 4.1kWh"]
["M-T16VK_CPYS","01","M-T16","VK_CPYS","N/C","Polyester Brush Cyl"]
["M-T16VK_SDECLNTOL_HDPYP","01","M-T16","VK_SDECLNTOL_HDPYP","N/C","Side HD Poly Brush"]
["M-T16VK_CHG_WO","01","M-T16","VK_CHG_WO",-323,"Without Charger"]
["M-T16VK_BTY_W360C20","01","M-T16","VK_BTY_W360C20",1059,"Bty Wet 360AH C20"]
["M-T16VK_SDEPADTYP_BWN3","01","M-T16","VK_SDEPADTYP_BWN3",17,"Side Br Strip 3M"]
[{"$f":"C1738&D1738","v":"M-T16VK_ALTSTBFLSLNS_B"},"01","M-T16","VK_ALTSTBFLSLNS_B","N/C","Alternate Lens-Blue"]
["M-T16VK_SDECLNTOL_SCBPYP","01","M-T16","VK_SDECLNTOL_SCBPYP","N/C","Side Cln Polypr Scrb"]
["M-T16VK_CHG_20A85V5060H1P","01","M-T16","VK_CHG_20A85V5060H1P",807,"Ch20A 85V 5060H1P"]
["M-T16VK_WRNLGTANDALM_SO","01","M-T16","VK_WRNLGTANDALM_SO",655,"Strobe Light OHG"]
["M-T16VK_CLNTOL_DSAB","01","M-T16","VK_CLNTOL_DSAB",192,"Disk Brush Spr Abr."]
["M-T16VK_CLNTOL_DPYP","01","M-T16","VK_CLNTOL_DPYP","N/C","Disk Brush Poly"]
["M-T16VK_DTG_FSBD","01","M-T16","VK_DTG_FSBD","N/C","Solvent Degreaser"]
["M-T16VK_CHG_OVH_GRD","01","M-T16","VK_CHG_OVH_GRD",1978,"Overhead Guard"]
["M-T16VK_CHG_21A85V5060H1P_RO","01","M-T16","VK_CHG_21A85V5060H1P_RO","N/C","Ch21A 85V 5060H1P"]
["M-T16VK_DATPKG_HO","01","M-T16","VK_DATPKG_HO",1369,"Hardware Only"]
["M-T16VK_PRDPKG","01","M-T16","VK_PRDPKG",5221,"Productivity Package"]
["M-T16VK_BTY_W240C20","01","M-T16","VK_BTY_W240C20","N/C","Bty Wet 240AH C20"]
["M-T16VK_ADLBTY_W360C20","01","M-T16","VK_ADLBTY_W360C20",2258,"Ext.Bty Wet 360 C20"]
["M-T16VK_MCHCOM","01","M-T16","VK_MCHCOM",1367,"IRIS Telemetry"]
["M-T16VK_SLNRECTNKDRN","01","M-T16","VK_SLNRECTNKDRN",1757,"Sol/Rec Tank Drain"]
["M-T16VK_CSMSBTDCL_GT","01","M-T16","VK_CSMSBTDCL_GT",2036,"Sunbelt-GenTool Dcl"]
["M-T16VK_CSMSBTDCL_FC","01","M-T16","VK_CSMSBTDCL_FC",2036,"Sunbelt-FloorCareDcl"]
["M-T16VK_CSMSBTDCLECH","01","M-T16","VK_CSMSBTDCLECH",192,"Sunbelt-ecH2O Decal"]
["M-T16VK_HVYDTYFRTBMP_OVHGRD","01","M-T16","VK_HVYDTYFRTBMP_OVHGRD",914,"Hvy Dty Frnt Bumper"]
["M-T16VK_DTG_SBD","01","M-T16","VK_DTG_SBD","N/C","Solvent Degreaser"]
["M-T16VK_ULERTG_ES","01","M-T16","VK_ULERTG_ES",2800,"UL® Type ES"]
["M-T16VK_BASE_T16-910-D","01","M-T16","VK_BASE_T16-910-D",34183,"T16 Rider - Disk"]
["M-T16VK_BASE_T16-910-C","01","M-T16","VK_BASE_T16-910-C",34183,"T16 Rider - Cyl"]
["M-T16VK_HVYDTYFRTBMP","01","M-T16","VK_HVYDTYFRTBMP",914,"Hvy Dty Frnt Bumper"]
["M-T16VK_SDECLNTOL_SAB","01","M-T16","VK_SDECLNTOL_SAB",192,"Side Sup Abr Brush"]
["M-T16VK_SDEBRSTYP_SWP","01","M-T16","VK_SDEBRSTYP_SWP",3036,"Side Brush Sweeper"]
["M-T16VK_PWRVACWND_VACWND","01","M-T16","VK_PWRVACWND_VACWND",846,"Vacuum Wand"]
["M-T16VK_HLT","01","M-T16","VK_HLT",388,"Headlight"]
["M-T16VK_SQEMAT_U","01","M-T16","VK_SQEMAT_U","N/C","Squeegee Urethane"]
["M-T16VK_CHG_21A85V5060H1P","01","M-T16","VK_CHG_21A85V5060H1P","N/C","Ch21A 85V 5060H1P"]
["M-T16VK_BTY_WO","01","M-T16","VK_BTY_WO",-495,"Without Battery"]
["M-T16VK_BTY_A312C20","01","M-T16","VK_BTY_A312C20",4567,"Bty AGM 312AH C20"]
["M-T20VK_HVYDTYRERBMP","01","M-T20","VK_HVYDTYRERBMP",892,"Hvy Dty RearBmpr"]
["M-T20VK_BASE_T20-D-DSL_STD","01","M-T20","VK_BASE_T20-D-DSL_STD",70551,"T20 Diesel Disk Std Config"]
["M-T20VK_BASE_T20-D-LPG_STD","01","M-T20","VK_BASE_T20-D-LPG_STD",65895,"T20 LP Disk Std Config"]
["M-T20VK_SQEMAT_L","01","M-T20","VK_SQEMAT_L","N/C","Squeegee Linatex"]
["M-T20VK_PWRVACWND_PWRWND_NOZ","01","M-T20","VK_PWRVACWND_PWRWND_NOZ",3048,"PowerWand w/Nozzle"]
["M-T20VK_BASE_T20-C-GAS_STD","01","M-T20","VK_BASE_T20-C-GAS_STD",65895,"T20 Gas Cyl Std Config"]
["M-T20VK_CLNTCH_ECH2O","01","M-T20","VK_CLNTCH_ECH2O",5194,"ec-H2O™"]
["M-T20VK_CSMFRTCVRLTHKIT","01","M-T20","VK_CSMFRTCVRLTHKIT",621,"Front Cover Latch Kit"]
["M-T20VK_CSMFRMLFTLUG_SD","01","M-T20","VK_CSMFRMLFTLUG_SD",1958,"Frame Lifting Lugs-Side"]
["M-T20VK_WPFMNLPCH","01","M-T20","VK_WPFMNLPCH",176,"Weatherproof Manual Pouch"]
["M-T20VK_FRTSDETIETOWKIT","01","M-T20","VK_FRTSDETIETOWKIT",1573,"Front / Side Tiedown Tow Kit"]
["M-T20VK_BLULGT","01","M-T20","VK_BLULGT",1077,"Blue Light"]
["M-T20VK_MCHCOM_SBT","01","M-T20","VK_MCHCOM_SBT",1367,"IRIS Telemetry"]
["M-T20VK_BASE_T20-C-DSL_STD","01","M-T20","VK_BASE_T20-C-DSL_STD",70551,"T20 Diesel Cyl Std Config"]
["M-T20VK_BASE_T20-C-LPG_STD","01","M-T20","VK_BASE_T20-C-LPG_STD",65895,"T20 LP Cyl Std Config"]
["M-T20VK_BASE_T20-D-GAS_STD","01","M-T20","VK_BASE_T20-D-GAS_STD",65895,"T20 Gas Disk Std Config"]
["M-T20VK_WTY_STD","01","M-T20","VK_WTY_STD","N/C","Warranty STD"]
["M-T20VK_FREEXT","01","M-T20","VK_FREEXT",149,"Fire Extinguisher"]
["M-T20VK_PARMNL","01","M-T20","VK_PARMNL","N/C","Parts Manual"]
["M-T20VK_CSMSBTRERSQE","01","M-T20","VK_CSMSBTRERSQE",528,"Sunbelt - Sqe Guard"]
["M-T20VK_CLNTOL_DSAB","01","M-T20","VK_CLNTOL_DSAB",192,"Disk Brush Spr Abr."]
["M-T20VK_CLNTOL_DPYP","01","M-T20","VK_CLNTOL_DPYP","N/C","Disk Brush Poly"]
["M-T20VK_CLNTOL_DPADPYP","01","M-T20","VK_CLNTOL_DPADPYP","N/C","Disk Poly Pad Driver"]
["M-T20VK_CLNTOL_DPAD","01","M-T20","VK_CLNTOL_DPAD","N/C","Disk Pad Driver"]
["M-T20VK_CLNTOL_CPYP","01","M-T20","VK_CLNTOL_CPYP","N/C","Cyl Brush Poly"]
["M-T20VK_CLNTOL_CHDPYP","01","M-T20","VK_CLNTOL_CHDPYP","N/C","Cyl. HD Poly Brush"]
["M-T20VK_WRNLGTANDALM_ST","01","M-T20","VK_WRNLGTANDALM_ST",478,"Strobe Light Tank"]
["M-T20VK_WRNLGTANDALM_SO","01","M-T20","VK_WRNLGTANDALM_SO",478,"Strobe Light OHG"]
["M-T20VK_WRNLGTANDALM_FT","01","M-T20","VK_WRNLGTANDALM_FT",478,"Flashing Light Tank"]
["M-T20VK_WRNLGTANDALM_FO","01","M-T20","VK_WRNLGTANDALM_FO",478,"Flashing Light OHG"]
["M-T20VK_WRNLGTANDALM_AVST","01","M-T20","VK_WRNLGTANDALM_AVST",697,"AV BU AlrmStrobe Tnk"]
["M-T20VK_WRNLGTANDALM_AVSO","01","M-T20","VK_WRNLGTANDALM_AVSO",697,"AV BU AlrmStrobe OHG"]
[{"$f":"C1802&D1802","v":"M-T20VK_WRNLGTANDALM_AVFT"},"01","M-T20","VK_WRNLGTANDALM_AVFT",697,"AV BU AlarmFlash Tnk"]
["M-T20VK_WRNLGTANDALM_AVFO","01","M-T20","VK_WRNLGTANDALM_AVFO",697,"AV BU AlarmFlash OHG"]
["M-T20VK_WRNLGTANDALM_AU","01","M-T20","VK_WRNLGTANDALM_AU",326,"Audio BU Alarm"]
["M-T20VK_CLNTOL_CSASB","01","M-T20","VK_CLNTOL_CSASB",192,"Cyl Super Abrasive, Stiff Bristle"]
["M-T20VK_CLNTOL_SASB","01","M-T20","VK_CLNTOL_SASB",192,"Super Abrasive, Stiff Bristle"]
["M-T20VK_T20-D-LP","01","M-T20","VK_T20-D-LP",65895,"T20 LP Disk Scrbbr"]
["M-T20VK_T20-C-G","01","M-T20","VK_T20-C-G",65895,"T20 Gas Cyl Scrbbr"]
["M-T20VK_TRLTRTKIT","01","M-T20","VK_TRLTRTKIT",187,"Transport Kit"]
["M-T20VK_T20-D-DSL","01","M-T20","VK_T20-D-DSL",70551,"T20 Dsl Disk Scrbbr"]
["M-T20VK_T20-C-LP","01","M-T20","VK_T20-C-LP",65895,"T20 LP Cyl Scrbbr"]
["M-T20VK_SRVMNL","01","M-T20","VK_SRVMNL",239,"Service Manual"]
["M-T20VK_PWRVACWND_VACWND","01","M-T20","VK_PWRVACWND_VACWND",952,"Vacuum Wand"]
["M-T20VK_MCHCOM_Y_D_US","01","M-T20","VK_MCHCOM_Y_D_US","N/C","Machine Comm"]
["M-T20VK_SBTPARKIT","01","M-T20","VK_SBTPARKIT",2603,"Sunbelt Parts Kit"]
["M-T20VK_PRDPKG","01","M-T20","VK_PRDPKG",5982,"Productivity Package"]
["M-T20VK_DTGMTG","01","M-T20","VK_DTGMTG",3095,"Detergent Metering"]
["M-T20VK_SQEMAT_U","01","M-T20","VK_SQEMAT_U",813,"Squeegee Urethane"]
["M-T20VK_UPG","01","M-T20","VK_UPG","N/C","UPG"]
["M-T20VK_ULERTG_LPS","01","M-T20","VK_ULERTG_LPS",4991,"UL® Type LPS"]
["M-T20VK_PKG_SKD","01","M-T20","VK_PKG_SKD",809,"Skid"]
["M-T20VK_PKG_PAD","01","M-T20","VK_PKG_PAD","N/C","Pad Wrap"]
["M-T20VK_SPYNOZWTHHSE","01","M-T20","VK_SPYNOZWTHHSE",1214,"Spray Nozzel w/Hose"]
["M-T20VK_SDECLNTOL_SWPPYP","01","M-T20","VK_SDECLNTOL_SWPPYP","N/C","Side Poly Sweep Brh"]
["M-T20VK_SDECLNTOL_SCBPYP","01","M-T20","VK_SDECLNTOL_SCBPYP","N/C","Side Cln Polypr Scrb"]
["M-T20VK_SDEBRSTYP_D","01","M-T20","VK_SDEBRSTYP_D",5156,"Side Brush Disk"]
["M-T20VK_SDEBRSTYP_C","01","M-T20","VK_SDEBRSTYP_C",5156,"Side Brush Cyl"]
["M-T20VK_RERTRE_HT","01","M-T20","VK_RERTRE_HT",843,"Trs Rear High Track"]
["M-T20VK_T20-D-G","01","M-T20","VK_T20-D-G",65895,"T20 Gas Disk Scrbbr"]
["M-T20VK_T20-C-DSL","01","M-T20","VK_T20-C-DSL",70551,"T20 Dsll Cyl Scrbbr"]
["M-T20VK_PWRVACWND_WO_NOZ","01","M-T20","VK_PWRVACWND_WO_NOZ",1214,"PowerWand w/o Nozzle"]
["M-T20VK_MCHCOM_Y_US","01","M-T20","VK_MCHCOM_Y_US","N/C","Machine Comm"]
["M-T20VK_DATPKG_HO","01","M-T20","VK_DATPKG_HO",1385,"Hardware Only"]
["M-T20VK_CSMSLN_FLLS","01","M-T20","VK_CSMSLN_FLLS",1976,"Frame Lift Lugs Side"]
["M-T20VK_BASE_T20-D-LPG","01","M-T20","VK_BASE_T20-D-LPG",65895,"T20 LP Disk Scrbbr"]
["M-T20VK_BASE_T20-D-GAS","01","M-T20","VK_BASE_T20-D-GAS",65895,"T20 Gas Disk Scrbbr"]
["M-T20VK_BASE_T20-D-DSL","01","M-T20","VK_BASE_T20-D-DSL",70551,"T20 Dsl Disk Scrbbr"]
["M-T20VK_PKG_CRT_NC","01","M-T20","VK_PKG_CRT_NC","N/C","Crate"]
["M-T20VK_DTG_SBD","01","M-T20","VK_DTG_SBD","N/C","Solvent Degreaser"]
["M-T20VK_CSMSBTDCL_GT","01","M-T20","VK_CSMSBTDCL_GT",247,"Sunbelt-GenTool Dcl"]
["M-T20VK_CSMSBTDCL_FC","01","M-T20","VK_CSMSBTDCL_FC",232,"Sunbelt-FloorCareDcl"]
["M-T20VK_HGHPRSSPY","01","M-T20","VK_HGHPRSSPY",4674,"High Pressure Spray"]
["M-T20VK_HVYDTYPRTPKG","01","M-T20","VK_HVYDTYPRTPKG",2111,"Hvy Duty Protect Pkg"]
["M-T20VK_TRM_MPAN","01","M-T20","VK_TRM_MPAN","N/C","Membrane Ctrl Panel"]
["M-T20VK_TRM_PPAN","01","M-T20","VK_TRM_PPAN",2854,"ProPanel Ctrls"]
["M-T20VK_BASE_T20-C-LPG","01","M-T20","VK_BASE_T20-C-LPG",65895,"T20 LP Cyl Scrbbr"]
["M-T20VK_BASE_T20-C-GAS","01","M-T20","VK_BASE_T20-C-GAS",65895,"T20 Gas Cyl Scrbbr"]
["M-T20VK_BASE_T20-C-DSL","01","M-T20","VK_BASE_T20-C-DSL",70551,"T20 Dsll Cyl Scrbbr"]
["M-T20VK_MCHCOM","01","M-T20","VK_MCHCOM",1367,"IRIS Telemetry"]
["M-T20VK_SPYNOZWTHHSE_ES","01","M-T20","VK_SPYNOZWTHHSE_ES",6106,"Spray Nozzle Hose ES"]
["M-T20VK_PWRVACWND_PWRWND_ES","01","M-T20","VK_PWRVACWND_PWRWND_ES",6725,"PwrWnd PrpKit ES"]
["M-T20VK_PWRVACWND_PWND_ES_NOZ","01","M-T20","VK_PWRVACWND_PWND_ES_NOZ",7925,"PwrWnd PrpKit ES Noz"]
["M-T20VK_PWRVACWND_PWRWND","01","M-T20","VK_PWRVACWND_PWRWND",1836,"Power Wand"]
["M-T20VK_SDECLNTOL_SCBSAB","01","M-T20","VK_SDECLNTOL_SCBSAB",192,"Side Cln Spr AbrBrsh"]
["M-T20VK_ADLOPRMNL","01","M-T20","VK_ADLOPRMNL",71,"Add Operator Manual"]
["M-T20VK_CLNTCH_ES","01","M-T20","VK_CLNTCH_ES",4840,"ES® Extended Scrub"]
["M-T20VK_FRTTRE_HT","01","M-T20","VK_FRTTRE_HT","N/C","Trs Frnt HighTrack"]
["M-T20VK_HVYDTYSQEPRT","01","M-T20","VK_HVYDTYSQEPRT",892,"Hvy Dty Sque Protect"]
["M-T20VK_LPGTNK_E","01","M-T20","VK_LPGTNK_E","N/C","LPG Tank Empty"]
["M-T20VK_LPGTNK_F","01","M-T20","VK_LPGTNK_F","N/C","LPG Tank Full"]
["M-T20VK_OPRVID","01","M-T20","VK_OPRVID","N/C","Operator Video"]
["M-T20VK_OVHGRD","01","M-T20","VK_OVHGRD",1699,"Overhead Guard"]
["M-T20VK_PKG_CRT","01","M-T20","VK_PKG_CRT",1525,"Crate"]
["M-T20VK_CSMSLN_WPMP","01","M-T20","VK_CSMSLN_WPMP",186,"Weatherproof pouch"]
["M-T20VK_CSMSLN_FSTTK","01","M-T20","VK_CSMSLN_FSTTK",1653,"Front/Side Tie Down"]
[{"$f":"C1866&D1866","v":"M-T20VK_CSMSLN_FCLK"},"01","M-T20","VK_CSMSLN_FCLK",621,"Front Cover Latch"]
["M-T20VK_CSMSLN_CC","01","M-T20","VK_CSMSLN_CC","N/C","Custom Color"]
["M-T17VK_BASE_T17-D_STD","01","M-T17","VK_BASE_T17-D_STD",41320,"T17-D Std Config"]
["M-T17VK_BLULGT","01","M-T17","VK_BLULGT",1077,"Blue Light"]
["M-T17VK_PWRVACWND_VACWND","01","M-T17","VK_PWRVACWND_VACWND",641,"Vacuum Wand"]
["M-T17VK_BASE_T17-C_STD","01","M-T17","VK_BASE_T17-C_STD",42085,"T17-C Std Config"]
["M-T17VK_CHG_80A200V5060H3P_LI","01","M-T17","VK_CHG_80A200V5060H3P_LI",4207,"Ch80A 200V 50/60Hz 3Ph"]
["M-T17VK_CHG_80A200V5060H1P_LI","01","M-T17","VK_CHG_80A200V5060H1P_LI",2488,"Ch80A 200V 50/60Hz 1Ph"]
["M-T17VK_CHG_300A480V5060H3P","01","M-T17","VK_CHG_300A480V5060H3P",6414,"Ch300A 480V 50/60Hz 3Ph"]
["M-T17VK_CHG_120A480V5060H3PLI","01","M-T17","VK_CHG_120A480V5060H3PLI",3852,"Ch120A 480V 50/60Hz 3Ph"]
["M-T17VK_BTY_L36V9M","01","M-T17","VK_BTY_L36V9M",30927,"Bty Li-Ion 36V, 18.4kWh"]
["M-T17VK_BTY_L36V19M","01","M-T17","VK_BTY_L36V19M",65134,"Bty Li-Ion 36v, 38.8kWh"]
["M-T17VK_CLNTCH_ES","01","M-T17","VK_CLNTCH_ES",4065,"ES® Extended Scrub"]
["M-T17VK_OPRVID","01","M-T17","VK_OPRVID","N/C","Operator Video"]
["M-T17VK_FREEXT","01","M-T17","VK_FREEXT",333,"Fire Extinguisher"]
["M-T17VK_ADLBTY_W750C6","01","M-T17","VK_ADLBTY_W750C6",8715,"Ext.Bty Wet 750 C6"]
["M-T17VK_BTY_T930C6","01","M-T17","VK_BTY_T930C6",10283,"Bty Tub 930AH C6"]
["M-T17VK_PKG_CRT","01","M-T17","VK_PKG_CRT",1083,"Crate"]
["M-T17VK_TRMLVL_PPAN","01","M-T17","VK_TRMLVL_PPAN",2883,"ProPanel Ctrls"]
["M-T17VK_BTY_F700C6","01","M-T17","VK_BTY_F700C6",19382,"Sealed/MF FastCharge 700AH C/6"]
["M-T17VK_BTYCOTAST","01","M-T17","VK_BTYCOTAST",360,"Bty Connection Assist"]
["M-T17VK_FUECEL","01","M-T17","VK_FUECEL",1952,"Fuel Cell"]
["M-T17VK_HGHPRSSPY","01","M-T17","VK_HGHPRSSPY",6308,"High Pressure Spray"]
["M-T17VK_PWRVACWND_LW","01","M-T17","VK_PWRVACWND_LW",4356,"Live Wand"]
["M-T17VK_DTGMTG","01","M-T17","VK_DTGMTG",3095,"Detergent Metering"]
["M-T17VK_BTYWTRSYS_NC","01","M-T17","VK_BTYWTRSYS_NC","N/C","Battery Watering NC"]
["M-T17VK_CSMDRTWTRLBL","01","M-T17","VK_CSMDRTWTRLBL",37,"Dirty Water Label"]
["M-T17VK_CHG_160A480V5060H3P","01","M-T17","VK_CHG_160A480V5060H3P",5556,"Ch160A 480V 5060H3P"]
["M-T17VK_CLNTOL_DSAB","01","M-T17","VK_CLNTOL_DSAB",192,"Disk Brush Spr Abr."]
["M-T17VK_CLNTOL_DPYP","01","M-T17","VK_CLNTOL_DPYP","N/C","Disk Brush Poly"]
["M-T17VK_CLNTOL_DNYL","01","M-T17","VK_CLNTOL_DNYL","N/C","Disk Brush Nylon"]
["M-T17VK_CLNTOL_CSAB","01","M-T17","VK_CLNTOL_CSAB",192,"Cyl Brush Spr Abr."]
["M-T17VK_CLNTOL_CPYP","01","M-T17","VK_CLNTOL_CPYP","N/C","Cyl Brush Poly"]
["M-T17VK_PKG_SKD_NC","01","M-T17","VK_PKG_SKD_NC","N/C","Skid"]
["M-T17VK_PKG_CRT_NC","01","M-T17","VK_PKG_CRT_NC","N/C","Crate"]
["M-T17VK_PRDPKG","01","M-T17","VK_PRDPKG",5040,"Productivity Package"]
["M-T17VK_DATPKG_HO","01","M-T17","VK_DATPKG_HO",1319,"Hardware Only"]
["M-T17VK_DTG_SBD","01","M-T17","VK_DTG_SBD","N/C","Solvent Degreaser"]
["M-T17VK_SDEBRSTYP_SWP_D","01","M-T17","VK_SDEBRSTYP_SWP_D",4844,"Side Brush Sweep D"]
["M-T17VK_CHG_100A200V5060H3","01","M-T17","VK_CHG_100A200V5060H3",3718,"Ch100A 200V 5060H3P"]
["M-T17VK_CHG_240A480V5060H3P","01","M-T17","VK_CHG_240A480V5060H3P",5833,"Ch240A 480V 5060H3"]
["M-T17VK_BTY_T930C6_OCC","01","M-T17","VK_BTY_T930C6_OCC",11270,"Bty Tub 930AH C6 OCC"]
["M-T17VK_SDEBRSTYP_SCB_RH","01","M-T17","VK_SDEBRSTYP_SCB_RH",4274,"Side Brush: RH"]
["M-T17VK_BASE_T17-D","01","M-T17","VK_BASE_T17-D",41320,"T17 Scrubber Disk"]
["M-T17VK_BASE_T17-C","01","M-T17","VK_BASE_T17-C",42085,"T17 Scrubber Cyl."]
["M-T17VK_MCHCOM","01","M-T17","VK_MCHCOM",1367,"IRIS Telemetry"]
["M-T17VK_PKG_SKD","01","M-T17","VK_PKG_SKD",730,"Skid"]
["M-T17VK_PKG_PAD","01","M-T17","VK_PKG_PAD","N/C","Pad Wrap"]
["M-T17VK_SRVMNL","01","M-T17","VK_SRVMNL",239,"Service Manual"]
["M-T17VK_ADLOPRMNL","01","M-T17","VK_ADLOPRMNL",180,"Add Operator Manual"]
["M-T17VK_WTY_STD","01","M-T17","VK_WTY_STD","N/C","Warranty STD"]
["M-T17VK_SDECLNTOL_PYP_SWP","01","M-T17","VK_SDECLNTOL_PYP_SWP","N/C","Side Poly Sweeper"]
["M-T17VK_SDECLNTOL_PYP_SCB","01","M-T17","VK_SDECLNTOL_PYP_SCB","N/C","Side Poly Scrubber"]
["M-T17VK_TRLTRTKIT","01","M-T17","VK_TRLTRTKIT",188,"Transport Kit"]
["M-T17VK_ALTSTBFLSLNS_B","01","M-T17","VK_ALTSTBFLSLNS_B","N/C","Alternate Lens-Blue"]
["M-T17VK_SDEBRSTYP_SCB","01","M-T17","VK_SDEBRSTYP_SCB",4274,"Side Brush Scrubber"]
["M-T17VK_ULERTG_ES","01","M-T17","VK_ULERTG_ES",3814,"UL® Type ES"]
["M-T17VK_BTY_WO","01","M-T17","VK_BTY_WO","N/C","Without Battery"]
["M-T17VK_BTY_W510C6","01","M-T17","VK_BTY_W510C6",5636,"Bty Wet 510AH C6"]
["M-T17VK_SQEMAT_L","01","M-T17","VK_SQEMAT_L","N/C","Squeegee Linatex"]
["M-T17VK_CLNTCH_ECH2O","01","M-T17","VK_CLNTCH_ECH2O",4443,"ec-H2O™"]
["M-T17VK_UPG","01","M-T17","VK_UPG","N/C","UPG"]
["M-T17VK_WRNLGTANDALM_AVST","01","M-T17","VK_WRNLGTANDALM_AVST",655,"AV BU AlrmStrobe Tnk"]
["M-T17VK_HLT","01","M-T17","VK_HLT",391,"Headlight"]
[{"$f":"C1930&D1930","v":"M-T17VK_RERTRE_HTNM"},"01","M-T17","VK_RERTRE_HTNM",343,"Trs Rear HighTractNonMk"]
["M-T17VK_PWRSTR","01","M-T17","VK_PWRSTR",3550,"Power Steering"]
["M-T17VK_RMPCLB","01","M-T17","VK_RMPCLB",2048,"Ramp Climb Kit"]
["M-T17VK_SVEEVMSWH","01","M-T17","VK_SVEEVMSWH","N/C","SE Switch Capability"]
["M-T17VK_RECTNKDRN_TEL","01","M-T17","VK_RECTNKDRN_TEL","N/C","Telescopic"]
["M-T17VK_PRESWPSYS","01","M-T17","VK_PRESWPSYS",6445,"Presweep System"]
["M-T17VK_ULERTG_E","01","M-T17","VK_ULERTG_E","N/C","UL® Type E"]
["M-T17VK_CHG_120A480V5060H3P","01","M-T17","VK_CHG_120A480V5060H3P",4163,"Ch120A 480V 5060H3P"]
["M-T17VK_CHG_80A200V5060H3P","01","M-T17","VK_CHG_80A200V5060H3P",3856,"Ch80A 200V 5060H3P"]
["M-T17VK_ADLBTY_W750C6_WTR","01","M-T17","VK_ADLBTY_W750C6_WTR",9301,"Ext.Bty Wet 750 C6 W"]
["M-T17VK_ADLBTY_T930C6","01","M-T17","VK_ADLBTY_T930C6",12674,"Ext.Bty Tub 930 C6"]
["M-T17VK_BTY_W750C6","01","M-T17","VK_BTY_W750C6",6783,"Bty Wet 750AH C6"]
["M-T17VK_HVYDTYSQEPRT","01","M-T17","VK_HVYDTYSQEPRT",723,"Hvy Dty Sque Protect"]
["M-T17VK_SVEEVMSWH_N","01","M-T17","VK_SVEEVMSWH_N",-427,"No SE Switch Caplty"]
["M-T17VK_SPYNOZWTHHSE","01","M-T17","VK_SPYNOZWTHHSE",1219,"Spray Nozzel w/Hose"]
["M-T17VK_SFYLGTPKG","01","M-T17","VK_SFYLGTPKG",854,"Safety Light Package"]
["M-T17VK_ADLBTY_T930C6_WTR","01","M-T17","VK_ADLBTY_T930C6_WTR",13240,"Ext.Bty Tub 930 C6 W"]
["M-T17VK_BTYEXCSYS_SO","01","M-T17","VK_BTYEXCSYS_SO",1140,"Bty Slide Out System"]
["M-T17VK_SQEMAT_G","01","M-T17","VK_SQEMAT_G","N/C","Squeegee Gum Rubber"]
["M-T17VK_SDECLNTOL_PAD","01","M-T17","VK_SDECLNTOL_PAD","N/C","Side Pad Driver"]
["M-T17VK_CLNTOL_PAD","01","M-T17","VK_CLNTOL_PAD","N/C","Pad Driver"]
["M-T17VK_ALTSTBFLSLNS_R","01","M-T17","VK_ALTSTBFLSLNS_R","N/C","Alternate Lens-Red"]
["M-T17VK_FRTTRE_HTNM","01","M-T17","VK_FRTTRE_HTNM",723,"Trs Frnt HighTrack"]
["M-T17VK_OVHGRD","01","M-T17","VK_OVHGRD",2076,"Overhead Guard"]
["M-T17VK_RECTNKDRN_DCV","01","M-T17","VK_RECTNKDRN_DCV",770,"Drain Control Valve"]
["M-T17VK_AUTFIL","01","M-T17","VK_AUTFIL",573,"Auto Fill"]
["M-T17VK_SDEBRSTYP_SWP_RH","01","M-T17","VK_SDEBRSTYP_SWP_RH",2591,"Side Brush Sweep RH"]
["M-T17VK_BTYWTRSYS","01","M-T17","VK_BTYWTRSYS",723,"Battery Watering Sys"]
["M-T17VK_SDECLNTOL_SAB","01","M-T17","VK_SDECLNTOL_SAB",192,"Side Sup Abr Brush"]
["M-T17VK_WRNLGTANDALM_SO","01","M-T17","VK_WRNLGTANDALM_SO",460,"Strobe Light OHG"]
["M-T17VK_SET_DLXW","01","M-T17","VK_SET_DLXW",561,"Deluxe Seat w/Armr."]
["M-T17VK_CHG_80A200V5060H1P","01","M-T17","VK_CHG_80A200V5060H1P",3107,"Ch80A 200V 5060H1P"]
["M-T17VK_ADLBTY_W510C6_WTR","01","M-T17","VK_ADLBTY_W510C6_WTR",7499,"Ext.Bty Wet 510 C6 W"]
["M-T17VK_ADLBTY_W510C6","01","M-T17","VK_ADLBTY_W510C6",7206,"Ext.Bty Wet 510 C6"]
["M-T17VK_SQEMAT_U","01","M-T17","VK_SQEMAT_U","N/C","Squeegee Urethane"]
["M-T350VK_BASE_T350-600-D","01","M-T350","VK_BASE_T350-600-D",15627,"T350-600-D"]
["M-T350VK_WRNLGTANDALM_AU","01","M-T350","VK_WRNLGTANDALM_AU","N/C","Audio BU Alarm"]
["M-T350VK_SVEEVMSWHLKT","01","M-T350","VK_SVEEVMSWHLKT",65,"SE Switch Lockout"]
["M-T350VK_PARMNL","01","M-T350","VK_PARMNL",55,"Parts Manual"]
["M-T350VK_BASE_T350-500-D_STD","01","M-T350","VK_BASE_T350-500-D_STD",14118,"T350 500mm Disk Std Config"]
["M-T350VK_BASE_T350-600-D_STD","01","M-T350","VK_BASE_T350-600-D_STD",15627,"T350 600mm Disk Std Config"]
["M-T350VK_PKG_WSKD","01","M-T350","VK_PKG_WSKD",347,"Skid w/Stretch Wrap"]
["M-T350VK_QITMOD","01","M-T350","VK_QITMOD",186,"Quiet Mode"]
["M-T350VK_PADTYP_600BLU3","01","M-T350","VK_PADTYP_600BLU3",15,"600/24 Bl Scrub 3M"]
["M-T350VK_PADTYP_600RED3","01","M-T350","VK_PADTYP_600RED3",15,"600/24 Red Clean 3M"]
["M-T350VK_CHG_27A85V5060H1P","01","M-T350","VK_CHG_27A85V5060H1P","N/C","CH27A 85-270V 5060H1P"]
["M-T350VK_PKG_PAD","01","M-T350","VK_PKG_PAD","N/C","Pad Wrap"]
["M-T350VK_PADTYP_600YLW3","01","M-T350","VK_PADTYP_600YLW3",49,"600/24 Ylw Polish 3M"]
["M-T350VK_PADTYP_500YLW3","01","M-T350","VK_PADTYP_500YLW3",92,"500/20 Ylw Polish 3M"]
["M-T350VK_CLNTOL_500NYL_IC","01","M-T350","VK_CLNTOL_500NYL_IC",375,"500/20 Nylon Brush-IC"]
["M-T350VK_TRMLVL_PMEM","01","M-T350","VK_TRMLVL_PMEM","N/C","Pro Membrane Panel"]
["M-T350VK_RECHSEMAT_PYPOR","01","M-T350","VK_RECHSEMAT_PYPOR",131,"Polyurethane (Oil Resistant)"]
["M-T350VK_PADTYP_600BWN3","01","M-T350","VK_PADTYP_600BWN3",15,"600/24 Br Strip 3M"]
["M-T350VK_CLNTOLATT_IC","01","M-T350","VK_CLNTOLATT_IC","N/C","Clean Tool Attach IC"]
["M-T350VK_RECHSEMAT_PVC","01","M-T350","VK_RECHSEMAT_PVC","N/C","PVC (Standard)"]
["M-T350VK_PADTYP_500BLKH3","01","M-T350","VK_PADTYP_500BLKH3",31,"500/20 Blk HiPro 3M"]
["M-T350VK_CLNTOL_600PAD_IC","01","M-T350","VK_CLNTOL_600PAD_IC",241,"600/24 Pad Driver-IC"]
["M-T350VK_CLNTOL_600NYL_IC","01","M-T350","VK_CLNTOL_600NYL_IC",241,"600/24 Nylon Brush-IC"]
["M-T350VK_PADTYP_500WHT3","01","M-T350","VK_PADTYP_500WHT3",27,"500/20 Wh Polish 3M"]
["M-T350VK_PADTYP_500MAR3","01","M-T350","VK_PADTYP_500MAR3",32,"500/20 MarSur 3M"]
["M-T350VK_PADTYP_500BWN3","01","M-T350","VK_PADTYP_500BWN3",28,"500/20 Br Strip 3M"]
["M-T350VK_TRMLVL_PPAN","01","M-T350","VK_TRMLVL_PPAN",967,"ProPanel Ctrls"]
["M-T350VK_SVEEVMSWH","01","M-T350","VK_SVEEVMSWH",622,"SE Switch Capability"]
["M-T350VK_PKG_SSKD","01","M-T350","VK_PKG_SSKD",481,"Stack Skid/Carton"]
[{"$f":"C1994&D1994","v":"M-T350VK_CLNTOL_600ABB_IC"},"01","M-T350","VK_CLNTOL_600ABB_IC",420,"600/24 Abr Brush-IC"]
["M-T350VK_CLNTOL_500PYP_IC","01","M-T350","VK_CLNTOL_500PYP_IC",375,"500/20 Poly Brush-IC"]
["M-T350VK_CLNTOL_500PAD_IC","01","M-T350","VK_CLNTOL_500PAD_IC",375,"500/20 Pad Driver-IC"]
["M-T350VK_MCHCOM","01","M-T350","VK_MCHCOM",1367,"IRIS Telemetry"]
["M-T350VK_IRSSRVRPT_3YP","01","M-T350","VK_IRSSRVRPT_3YP",186,"Svc Rpt 3 Yr Pre-Paid"]
["M-T350VK_CLNTOL_600PYP_IC","01","M-T350","VK_CLNTOL_600PYP_IC",241,"600/24 Poly Brush-IC"]
["M-T350VK_CLNTOL_500ABB_IC","01","M-T350","VK_CLNTOL_500ABB_IC",568,"500/20 Abr Brush-IC"]
["M-T350VK_CLNTCH_ECH2ON","01","M-T350","VK_CLNTCH_ECH2ON",2218,"ec-H2O™ NanoClean"]
["M-T350VK_CHG_25A100V5060H1","01","M-T350","VK_CHG_25A100V5060H1","N/C","Ch25A 100V 5060H1P"]
["M-T350VK_BTY_WO","01","M-T350","VK_BTY_WO",-450,"Without Battery"]
["M-T350VK_BTY_W240C20","01","M-T350","VK_BTY_W240C20",191,"Bty Wet 240AH C20"]
["M-T350VK_BTY_W210C20","01","M-T350","VK_BTY_W210C20","N/C","Bty Wet 210AH C5"]
["M-T350VK_BTY_A220C20","01","M-T350","VK_BTY_A220C20",1443,"Bty AGM 220AH C20"]
["M-T350VK_BTYWTRSYS_SF","01","M-T350","VK_BTYWTRSYS_SF",1029,"Smart Fill"]
["M-T350VK_BTYWTRSYS_ML","01","M-T350","VK_BTYWTRSYS_ML",600,"Battery Watering Manual"]
["M-T350VK_BASE_T350-500-D","01","M-T350","VK_BASE_T350-500-D",14118,"T350-500-D"]
["M-T350VK_ADLOPRMNL","01","M-T350","VK_ADLOPRMNL",136,"Add Operator Manual"]
["M-T350VK_SRVMNL","01","M-T350","VK_SRVMNL",136,"Service Manual"]
["M-T350VK_RDEPPLSPD","01","M-T350","VK_RDEPPLSPD","N/C","Reduced Propel Speed"]
["M-T350VK_PADTYP_600WHT3","01","M-T350","VK_PADTYP_600WHT3",15,"600/24 Wh Polish 3M"]
["M-T350VK_PADTYP_600MAR3","01","M-T350","VK_PADTYP_600MAR3",18,"600/24 MarSur 3M"]
["M-T350VK_PADTYP_600BLKH3","01","M-T350","VK_PADTYP_600BLKH3",18,"600/24 Blk HiPro 3M"]
["M-T350VK_PADTYP_500RED3","01","M-T350","VK_PADTYP_500RED3",27,"500/20 Red Clean 3M"]
["M-T350VK_PADTYP_500BLU3","01","M-T350","VK_PADTYP_500BLU3",27,"500/20 Bl Scrub 3M"]
["M-SS350VK_PADTYP_600YLW3","01","M-SS350","VK_PADTYP_600YLW3",49,"600/24 Ylw Polish 3M"]
["M-SS350VK_BASE_SS350-600-D_STD","01","M-SS350","VK_BASE_SS350-600-D_STD",15627,"SS350 600mm Disk Std Config"]
["M-SS350VK_BASE_SS350-500-D_STD","01","M-SS350","VK_BASE_SS350-500-D_STD",14118,"SS350 500mm Disk Std Config"]
["M-SS350VK_BTY_W260C20","01","M-SS350","VK_BTY_W260C20",462,"Bty Wet 260AH C20"]
["M-SS350VK_ACCCLP","01","M-SS350","VK_ACCCLP","N/C","Accessory Clip"]
["M-SS350VK_PADTYP_500YLW3","01","M-SS350","VK_PADTYP_500YLW3",92,"500/20 Ylw Polish 3M"]
["M-SS350VK_TRMLVL_PPAN","01","M-SS350","VK_TRMLVL_PPAN",967,"ProPanel Ctrls"]
["M-SS350VK_CLNTOL_600PAD_IC","01","M-SS350","VK_CLNTOL_600PAD_IC",241,"600/24 Pad Driver-IC"]
["M-SS350VK_CLNTOL_600NYL_IC","01","M-SS350","VK_CLNTOL_600NYL_IC",241,"600/24 Nylon Brush-IC"]
["M-SS350VK_CLNTOL_600ABB_IC","01","M-SS350","VK_CLNTOL_600ABB_IC",420,"600/24 Abr Brush-IC"]
["M-SS350VK_CLNTOL_500PYP_IC","01","M-SS350","VK_CLNTOL_500PYP_IC",374,"500/20 Poly Brush-IC"]
["M-SS350VK_CLNTOL_500PAD_IC","01","M-SS350","VK_CLNTOL_500PAD_IC",374,"500/20 Pad Driver-IC"]
["M-SS350VK_CLNTOL_500NYL_IC","01","M-SS350","VK_CLNTOL_500NYL_IC",374,"500/20 Nylon Brush-IC"]
["M-SS350VK_CLNTOL_500ABB_IC","01","M-SS350","VK_CLNTOL_500ABB_IC",568,"500/20 Abr Brush-IC"]
["M-SS350VK_CLNTOLATT_IC","01","M-SS350","VK_CLNTOLATT_IC","N/C","Clean Tool Attach IC"]
["M-SS350VK_CLNTCH_ECH2ON","01","M-SS350","VK_CLNTCH_ECH2ON",2218,"ec-H2O™ NanoClean"]
["M-SS350VK_CHG_27A85V5060H1P","01","M-SS350","VK_CHG_27A85V5060H1P","N/C","CH27A 85-270V 5060H1P"]
["M-SS350VK_CHG_25A100V5060H1","01","M-SS350","VK_CHG_25A100V5060H1","N/C","Ch25A 100V 5060H1P"]
["M-SS350VK_BTY_WO","01","M-SS350","VK_BTY_WO",-450,"Without Battery"]
["M-SS350VK_BTY_W210C20","01","M-SS350","VK_BTY_W210C20","N/C","Bty Wet 210AH C5"]
["M-SS350VK_BTY_A220C20","01","M-SS350","VK_BTY_A220C20",1443,"Bty AGM 220AH C20"]
["M-SS350VK_BTYWTRSYS_SF","01","M-SS350","VK_BTYWTRSYS_SF",1029,"Smart Fill"]
["M-SS350VK_BTYWTRSYS_ML","01","M-SS350","VK_BTYWTRSYS_ML",600,"Battery Watering Manual"]
["M-SS350VK_BASE_SS350-600-D","01","M-SS350","VK_BASE_SS350-600-D",15627,"SS350-600-D"]
["M-SS350VK_BASE_SS350-500-D","01","M-SS350","VK_BASE_SS350-500-D",14118,"SS350-500-D"]
["M-SS350VK_ADLOPRMNL","01","M-SS350","VK_ADLOPRMNL",136,"Add Operator Manual"]
["M-SS350VK_WRNLGTANDALM_AU","01","M-SS350","VK_WRNLGTANDALM_AU","N/C","Audio BU Alarm"]
["M-SS350VK_TRMLVL_PMEM","01","M-SS350","VK_TRMLVL_PMEM","N/C","Pro Membrane Panel"]
["M-SS350VK_SVEEVMSWH","01","M-SS350","VK_SVEEVMSWH",622,"SE Switch Capability"]
["M-SS350VK_SRVMNL","01","M-SS350","VK_SRVMNL",136,"Service Manual"]
["M-SS350VK_RECHSEMAT_PYPOR","01","M-SS350","VK_RECHSEMAT_PYPOR",131,"Polyurethane (Oil Resistant)"]
["M-SS350VK_RECHSEMAT_PVC","01","M-SS350","VK_RECHSEMAT_PVC","N/C","PVC (Standard)"]
["M-SS350VK_RDEPPLSPD","01","M-SS350","VK_RDEPPLSPD","N/C","Reduced Propel Speed"]
["M-SS350VK_QITMOD","01","M-SS350","VK_QITMOD",186,"Quiet Mode"]
["M-SS350VK_PKG_WSKD","01","M-SS350","VK_PKG_WSKD",347,"Skid w/Stretch Wrap"]
["M-SS350VK_PKG_PAD","01","M-SS350","VK_PKG_PAD","N/C","Pad Wrap"]
["M-SS350VK_PARMNL","01","M-SS350","VK_PARMNL",55,"Parts Manual"]
["M-SS350VK_PADTYP_600WHT3","01","M-SS350","VK_PADTYP_600WHT3",15,"600/24 Wh Polish 3M"]
["M-SS350VK_PADTYP_600RED3","01","M-SS350","VK_PADTYP_600RED3",15,"600/24 Red Clean 3M"]
["M-SS350VK_PADTYP_600MAR3","01","M-SS350","VK_PADTYP_600MAR3",18,"600/24 MarSur 3M"]
[{"$f":"C2058&D2058","v":"M-SS350VK_PADTYP_600BWN3"},"01","M-SS350","VK_PADTYP_600BWN3",15,"600/24 Br Strip 3M"]
["M-SS350VK_PADTYP_600BLU3","01","M-SS350","VK_PADTYP_600BLU3",15,"600/24 Bl Scrub 3M"]
["M-SS350VK_PADTYP_600BLKH3","01","M-SS350","VK_PADTYP_600BLKH3",18,"600/24 Blk HiPro 3M"]
["M-SS350VK_PADTYP_500WHT3","01","M-SS350","VK_PADTYP_500WHT3",27,"500/20 Wh Polish 3M"]
["M-SS350VK_PADTYP_500RED3","01","M-SS350","VK_PADTYP_500RED3",27,"500/20 Red Clean 3M"]
["M-SS350VK_PADTYP_500MAR3","01","M-SS350","VK_PADTYP_500MAR3",32,"500/20 MarSur 3M"]
["M-SS350VK_PADTYP_500BWN3","01","M-SS350","VK_PADTYP_500BWN3",28,"500/20 Br Strip 3M"]
["M-SS350VK_PADTYP_500BLU3","01","M-SS350","VK_PADTYP_500BLU3",27,"500/20 Bl Scrub 3M"]
["M-SS350VK_PADTYP_500BLKH3","01","M-SS350","VK_PADTYP_500BLKH3",32,"500/20 Blk HiPro 3M"]
["M-SS350VK_MCHCOM","01","M-SS350","VK_MCHCOM",1367,"IRIS Telemetry"]
["M-SS350VK_IRSSRVRPT_3YP","01","M-SS350","VK_IRSSRVRPT_3YP",186,"Svc Rpt 3 Yr Pre-Paid"]
["M-SS350VK_CLNTOL_600PYP_IC","01","M-SS350","VK_CLNTOL_600PYP_IC",241,"600/24 Poly Brush-IC"]
["M-SS350VK_BTY_W240C20","01","M-SS350","VK_BTY_W240C20",191,"Bty Wet 240AH C20"]
["M-SS350VK_SVEEVMSWHLKT","01","M-SS350","VK_SVEEVMSWHLKT",65,"SE Switch Lockout"]
["M-SS350VK_PKG_SSKD","01","M-SS350","VK_PKG_SSKD",481,"Stack Skid/Carton"]
["M-M17VK_FREEXT","01","M-M17","VK_FREEXT",335,"Fire Extinguisher"]
["M-M17VK_RERTRE_NM","01","M-M17","VK_RERTRE_NM","N/C","Trs Rear HighTract"]
["M-M17VK_ADLBTY_W510C6","01","M-M17","VK_ADLBTY_W510C6",7206,"Ext.Bty Wet 510 C6"]
["M-M17VK_SDEBRSTYP_PRP","01","M-M17","VK_SDEBRSTYP_PRP","N/C","Side Brush: Prep Kit"]
["M-M17VK_ADLBTY_W510C6_WTR","01","M-M17","VK_ADLBTY_W510C6_WTR",7499,"Ext.Bty Wet 510 C6 W"]
["M-M17VK_BLULGT","01","M-M17","VK_BLULGT",1077,"Blue Light"]
["M-M17VK_TRM_PPAN","01","M-M17","VK_TRM_PPAN",2883,"ProPanel Ctrls"]
["M-M17VK_TRM_MPAN","01","M-M17","VK_TRM_MPAN","N/C","Membrane Ctrl Panel"]
["M-M17VK_SDEPADTYP_RED3","01","M-M17","VK_SDEPADTYP_RED3",17,"Side Red Clean 3M"]
["M-M17VK_CHG_80A200V5060H3P_LI","01","M-M17","VK_CHG_80A200V5060H3P_LI",4207,"Ch80A 200V 50/60Hz 3Ph"]
["M-M17VK_CHG_80A200V5060H1P_LI","01","M-M17","VK_CHG_80A200V5060H1P_LI",2488,"Ch80A 200V 50/60Hz 1Ph"]
["M-M17VK_CHG_300A480V5060H3P","01","M-M17","VK_CHG_300A480V5060H3P",6414,"Ch300A 480V 50/60Hz 3Ph"]
["M-M17VK_CHG_120A480V5060H3PLI","01","M-M17","VK_CHG_120A480V5060H3PLI",3852,"Ch120A 480V 50/60Hz 3Ph"]
["M-M17VK_BTY_L36V19M","01","M-M17","VK_BTY_L36V19M",65134,"Bty Li-Ion 36v, 38.8kWh"]
["M-M17VK_BASE_M17-D_STD","01","M-M17","VK_BASE_M17-D_STD",62508,"M17 Disk Std Config"]
["M-M17VK_BASE_M17-C_STD","01","M-M17","VK_BASE_M17-C_STD",63256,"M17 Cyl Std Config"]
["M-M17VK_BTYCOTAST","01","M-M17","VK_BTYCOTAST",360,"Bty Connection Assist"]
["M-M17VK_EXNOPRSTN","01","M-M17","VK_EXNOPRSTN",717,"Extended Ops Station"]
["M-M17VK_FUECEL","01","M-M17","VK_FUECEL",1952,"Fuel Cell"]
["M-M17VK_HGHPRSSPY","01","M-M17","VK_HGHPRSSPY",6308,"High Pressure Spray"]
["M-M17VK_MANSWPSYS_DF","01","M-M17","VK_MANSWPSYS_DF","N/C","Swp Sys-Dual Force"]
["M-M17VK_MANSWPSYS_DT","01","M-M17","VK_MANSWPSYS_DT","N/C","Swp Sys-Direct Throw"]
["M-M17VK_RERTRE_WHT","01","M-M17","VK_RERTRE_WHT","N/C","Trs Rear Wide HT"]
["M-M17VK_DTGMTG","01","M-M17","VK_DTGMTG",3095,"Detergent Metering"]
["M-M17VK_CHG_160A600V5060H3P","01","M-M17","VK_CHG_160A600V5060H3P",6612,"Ch160A 600V 5060H3P"]
["M-M17VK_CHG_WO","01","M-M17","VK_CHG_WO","N/C","Without Charger"]
["M-M17VK_MANPADTYP_BLKH3","01","M-M17","VK_MANPADTYP_BLKH3",30,"Bl Strip Hi Pro 3M"]
["M-M17VK_HLT","01","M-M17","VK_HLT",391,"Headlight"]
["M-M17VK_CHG_160A480V5060H3P","01","M-M17","VK_CHG_160A480V5060H3P",5556,"Ch160A 480V 5060H3P"]
["M-M17VK_DTG_SBD","01","M-M17","VK_DTG_SBD","N/C","Solvent Degreaser"]
["M-M17VK_CSMDRTWTRLBL","01","M-M17","VK_CSMDRTWTRLBL","N/C","Dirty Water Label"]
["M-M17VK_BTY_F700C6","01","M-M17","VK_BTY_F700C6",19381,"Sealed/MF FastCharge 700AH C/6"]
["M-M17VK_BTYWTRSYS_NC","01","M-M17","VK_BTYWTRSYS_NC","N/C","Battery Watering NC"]
["M-M17VK_CLNTOL_CNYL","01","M-M17","VK_CLNTOL_CNYL","N/C","Cyl Brush Nylon"]
["M-M17VK_CLNTOL_CPYP","01","M-M17","VK_CLNTOL_CPYP","N/C","Cyl Brush Poly"]
["M-M17VK_CLNTOL_CSAB","01","M-M17","VK_CLNTOL_CSAB",192,"Cyl Brush Spr Abr."]
["M-M17VK_CLNTOL_DNYL","01","M-M17","VK_CLNTOL_DNYL","N/C","Disk Brush Nylon"]
["M-M17VK_CLNTOL_DPYP","01","M-M17","VK_CLNTOL_DPYP","N/C","Disk Brush Poly"]
["M-M17VK_CLNTOL_DSAB","01","M-M17","VK_CLNTOL_DSAB",192,"Disk Brush Spr Abr."]
["M-M17VK_WRNLGTANDALM_AVST","01","M-M17","VK_WRNLGTANDALM_AVST",655,"AV BU AlrmStrobe Tnk"]
["M-M17VK_WRNLGTANDALM_SO","01","M-M17","VK_WRNLGTANDALM_SO",460,"Strobe Light OHG"]
["M-M17VK_CLGFLTIND_NC","01","M-M17","VK_CLGFLTIND_NC","N/C","Clogged Filter Ind. NC"]
["M-M17VK_BTY_T930C6_OCC","01","M-M17","VK_BTY_T930C6_OCC",11270,"Bty Tub 930AH C6 OCC"]
["M-M17VK_CHG_240A480V5060H3","01","M-M17","VK_CHG_240A480V5060H3",5833,"Ch240A 480V 5060H3P"]
["M-M17VK_CHG_120A480V5060H3P","01","M-M17","VK_CHG_120A480V5060H3P",4163,"Ch120A 480V 5060H3P"]
["M-M17VK_FRTTRE_NM","01","M-M17","VK_FRTTRE_NM","N/C","Trs Frt HighTractNonMk"]
["M-M17VK_SDEBRSTYP_WO","01","M-M17","VK_SDEBRSTYP_WO","N/C","Side Brush - Without"]
["M-M17VK_WTY_STD","01","M-M17","VK_WTY_STD","N/C","Warranty STD"]
["M-M17VK_HVYDTYSQEPRT","01","M-M17","VK_HVYDTYSQEPRT",723,"Hvy Dty Sque Protect"]
[{"$f":"C2122&D2122","v":"M-M17VK_CLNTOL_PAD"},"01","M-M17","VK_CLNTOL_PAD","N/C","Pad Driver"]
["M-M17VK_CLNTCH_ECH2O","01","M-M17","VK_CLNTCH_ECH2O",4443,"ec-H2O™"]
["M-M17VK_CHG_80A200V5060H3P","01","M-M17","VK_CHG_80A200V5060H3P",3856,"Ch80A 200V 5060H3P"]
["M-M17VK_CHG_80A200V5060H1P","01","M-M17","VK_CHG_80A200V5060H1P",3107,"Ch80A 200V 5060H1P"]
["M-M17VK_CHG_100A200V5060H3","01","M-M17","VK_CHG_100A200V5060H3",3718,"Ch100A 200V 5060H3P"]
["M-M17VK_BTY_WO","01","M-M17","VK_BTY_WO","N/C","Without Battery"]
["M-M17VK_BTYWTRSYS","01","M-M17","VK_BTYWTRSYS",723,"Battery Watering Sys"]
["M-M17VK_AUTFIL","01","M-M17","VK_AUTFIL",573,"Auto Fill"]
["M-M17VK_ALTSTBFLSLNS_R","01","M-M17","VK_ALTSTBFLSLNS_R","N/C","Alternate Lens-Red"]
["M-M17VK_ALTSTBFLSLNS_B","01","M-M17","VK_ALTSTBFLSLNS_B","N/C","Alternate Lens-Blue"]
["M-M17VK_ADLOPRMNL","01","M-M17","VK_ADLOPRMNL",180,"Add Operator Manual"]
["M-M17VK_ADLBTY_W750C6_WTR","01","M-M17","VK_ADLBTY_W750C6_WTR",9301,"Ext.Bty Wet 750 C6 W"]
["M-M17VK_ADLBTY_W750C6","01","M-M17","VK_ADLBTY_W750C6",8715,"Ext.Bty Wet 750 C6"]
["M-M17VK_ADLBTY_T930C6_WTR","01","M-M17","VK_ADLBTY_T930C6_WTR",13240,"Ext.Bty Tub 930 C6 W"]
["M-M17VK_ADLBTY_T930C6","01","M-M17","VK_ADLBTY_T930C6",12674,"Ext.Bty Tub 930 C6"]
["M-M17VK_MANPADTYP_BLU3","01","M-M17","VK_MANPADTYP_BLU3",28,"Bl Scrub 3M"]
["M-M17VK_SET_DLXW","01","M-M17","VK_SET_DLXW",561,"Deluxe Seat w/Armr."]
["M-M17VK_SDEPADTYP_WHT3","01","M-M17","VK_SDEPADTYP_WHT3",17,"Side Wh Polish 3M"]
["M-M17VK_SDEPADTYP_BWN3","01","M-M17","VK_SDEPADTYP_BWN3",17,"Side Br Strip 3M"]
["M-M17VK_SDEPADTYP_BLU3","01","M-M17","VK_SDEPADTYP_BLU3",17,"Side Blu Scrub 3M"]
["M-M17VK_SDECLNTOL_SAB","01","M-M17","VK_SDECLNTOL_SAB",192,"Side Sup Abr Brush"]
["M-M17VK_SDECLNTOL_PYP","01","M-M17","VK_SDECLNTOL_PYP","N/C","Side Poly Brush"]
["M-M17VK_SDECLNTOL_PAD","01","M-M17","VK_SDECLNTOL_PAD","N/C","Side Pad Driver"]
["M-M17VK_SDECLNTOL_NYL","01","M-M17","VK_SDECLNTOL_NYL","N/C","Side Nylon Brush"]
["M-M17VK_SDEBRSTYP_SCB","01","M-M17","VK_SDEBRSTYP_SCB",4274,"Side Brush Scrubber"]
["M-M17VK_SDEBRSDSTCTL","01","M-M17","VK_SDEBRSDSTCTL",3704,"Side Brs Dust Control"]
["M-M17VK_RERTRE_HTNM","01","M-M17","VK_RERTRE_HTNM",343,"Trs Rear HighTractNonMk"]
["M-M17VK_RECTNKDRN_TEL","01","M-M17","VK_RECTNKDRN_TEL","N/C","Telescopic"]
["M-M17VK_RECTNKDRN_DCV","01","M-M17","VK_RECTNKDRN_DCV",770,"Drain Control Valve"]
["M-M17VK_PWRVACWND_VACWND","01","M-M17","VK_PWRVACWND_VACWND",641,"Vacuum Wand"]
["M-M17VK_PWRVACWND_LW","01","M-M17","VK_PWRVACWND_LW",4356,"Live Wand"]
["M-M17VK_PRDPKG_VACWND","01","M-M17","VK_PRDPKG_VACWND",5040,"Prod Package- Vac Wand"]
["M-M17VK_PRDPKG_LW","01","M-M17","VK_PRDPKG_LW",5040,"Prod Package- Live Wand"]
["M-M17VK_PKG_SKD","01","M-M17","VK_PKG_SKD",550,"Skid"]
["M-M17VK_PKG_PAD","01","M-M17","VK_PKG_PAD","N/C","Pad Wrap"]
["M-M17VK_OVHGRD","01","M-M17","VK_OVHGRD",2076,"Overhead Guard"]
["M-M17VK_OPRVID","01","M-M17","VK_OPRVID","N/C","Operator Video"]
["M-M17VK_OPRMNL","01","M-M17","VK_OPRMNL","N/C","Oper Manual"]
["M-M17VK_MCHCOM","01","M-M17","VK_MCHCOM",1367,"IRIS Telemetry"]
["M-M17VK_MANPADTYP_WHT3","01","M-M17","VK_MANPADTYP_WHT3",28,"Wh Polish 3M"]
["M-M17VK_MANPADTYP_RED3","01","M-M17","VK_MANPADTYP_RED3",28,"Red Clean 3M"]
["M-M17VK_MANPADTYP_BWN3","01","M-M17","VK_MANPADTYP_BWN3",28,"Br Scrub 3M"]
["M-M17VK_BTY_W750C6","01","M-M17","VK_BTY_W750C6",6783,"Bty Wet 750AH C6"]
["M-M17VK_BTY_W510C6","01","M-M17","VK_BTY_W510C6",5636,"Bty Wet 510AH C6"]
["M-M17VK_BTY_T930C6","01","M-M17","VK_BTY_T930C6",10283,"Bty Tub 930AH C6"]
["M-M17VK_AUTFIL_NC","01","M-M17","VK_AUTFIL_NC","N/C","Auto Fill"]
["M-M17VK_ADLBTY_T930C6_WTR_OCC","01","M-M17","VK_ADLBTY_T930C6_WTR_OCC",13240,"Ext.Bty T930C6 W OCC"]
["M-M17VK_CLNTCH_ES","01","M-M17","VK_CLNTCH_ES",4065,"ES® Extended Scrub"]
["M-M17VK_CLNTCH_CNV","01","M-M17","VK_CLNTCH_CNV","N/C","Conventional"]
["M-M17VK_CLGFLTIND","01","M-M17","VK_CLGFLTIND",517,"Clogged Filter Indicator"]
["M-M17VK_BTYEXCSYS_SO","01","M-M17","VK_BTYEXCSYS_SO",1140,"Bty Slide Out System"]
["M-M17VK_BASE_M17-D","01","M-M17","VK_BASE_M17-D",62508,"M17 Scrubber Disk"]
["M-M17VK_BASE_M17-C","01","M-M17","VK_BASE_M17-C",63256,"M17 Scrubber Cyl."]
["M-M17VK_SQEMAT_L","01","M-M17","VK_SQEMAT_L","N/C","Squeegee Linatex"]
["M-M17VK_SQEMAT_G","01","M-M17","VK_SQEMAT_G","N/C","Squeegee Gum Rubber"]
["M-M17VK_SPYNOZWTHHSE","01","M-M17","VK_SPYNOZWTHHSE",1219,"Spray Nozzel w/Hose"]
["M-M17VK_SFYLGTPKG","01","M-M17","VK_SFYLGTPKG",854,"Safety Light Package"]
["M-M17VK_UPG","01","M-M17","VK_UPG","N/C","UPG"]
["M-M17VK_ULERTG_ES","01","M-M17","VK_ULERTG_ES",3814,"UL® Type ES"]
["M-M17VK_ULERTG_E","01","M-M17","VK_ULERTG_E","N/C","UL® Type E"]
["M-M17VK_TRLTRTKIT","01","M-M17","VK_TRLTRTKIT",194,"Transport Kit"]
["M-M17VK_SVEEVMSWH_N","01","M-M17","VK_SVEEVMSWH_N",-427,"No SE Switch Caplty"]
["M-M17VK_SRVMNL","01","M-M17","VK_SRVMNL",239,"Service Manual"]
["M-M17VK_SQEMAT_U","01","M-M17","VK_SQEMAT_U","N/C","Squeegee Urethane"]
[{"$f":"C2186&D2186","v":"M-M17VK_PKG_SKD_NC"},"01","M-M17","VK_PKG_SKD_NC","N/C","Skid"]
["M-M20VK_DATPKG_BSVC","01","M-M20","VK_DATPKG_BSVC","N/C","Data Pkg w/Service"]
["M-M20VK_CLNTOL_HDPYP","01","M-M20","VK_CLNTOL_HDPYP","N/C","HD Poly Brush"]
["M-M20VK_DATPKG_5YR","01","M-M20","VK_DATPKG_5YR",1397,"Data Package 5 Year"]
["M-M20VK_DATPKG_3YR","01","M-M20","VK_DATPKG_3YR",1397,"Data Package 3 Year"]
["M-M20VK_DTGMTG","01","M-M20","VK_DTGMTG",3095,"Detergent Metering"]
["M-M20VK_PRDPKG","01","M-M20","VK_PRDPKG",5982,"Productivity Package"]
["M-M20VK_CSMSLN_FLLS","01","M-M20","VK_CSMSLN_FLLS",1958,"Frame Lift Lugs Side"]
["M-M20VK_CSMSLN_WPMP","01","M-M20","VK_CSMSLN_WPMP",186,"Weatherproof pouch"]
["M-M20VK_CSMSLN_FSTTK","01","M-M20","VK_CSMSLN_FSTTK",1653,"Front/Side Tie Down"]
["M-M20VK_BLULGT","01","M-M20","VK_BLULGT",1077,"Blue Light"]
["M-M20VK_WPFMNLPCH","01","M-M20","VK_WPFMNLPCH",186,"Weatherproof Manual Pouch"]
["M-M20VK_FRTSDETIETOWKIT","01","M-M20","VK_FRTSDETIETOWKIT",1653,"Front / Side Tiedown Tow Kit"]
["M-M20VK_CSMFRTCVRLTHKIT","01","M-M20","VK_CSMFRTCVRLTHKIT",621,"Front Cover Latch Kit"]
["M-M20VK_CSMFRMLFTLUG_SD","01","M-M20","VK_CSMFRMLFTLUG_SD",1958,"Frame Lifting Lugs-Side"]
["M-M20VK_CSMSLN_FCLK","01","M-M20","VK_CSMSLN_FCLK",621,"Front Cover Latch"]
["M-M20VK_CLNTOL_PYP","01","M-M20","VK_CLNTOL_PYP","N/C","Poly Brush"]
["M-M20VK_MCHCOM_SBT","01","M-M20","VK_MCHCOM_SBT",1367,"IRIS Telemetry"]
["M-M20VK_PARMNL","01","M-M20","VK_PARMNL","N/C","Parts Manual"]
["M-M20VK_BASE_M20-LPG_STD","01","M-M20","VK_BASE_M20-LPG_STD",75221,"M20 LPG Std Config"]
["M-M20VK_BASE_M20-GAS_STD","01","M-M20","VK_BASE_M20-GAS_STD",75221,"M20 GAS Std Config"]
["M-M20VK_BASE_M20-DSL_STD","01","M-M20","VK_BASE_M20-DSL_STD",80097,"M20 DSL Std Config"]
["M-M20VK_CLNTOL_SASB","01","M-M20","VK_CLNTOL_SASB",192,"Super Abrasive, Stiff Bristle"]
["M-M20VK_DATPKG_HO","01","M-M20","VK_DATPKG_HO",1332,"Hardware Only"]
["M-M20VK_TRMLVL_WOP","01","M-M20","VK_TRMLVL_WOP",1381,"ProPanel w/ WOC"]
["M-M20VK_BASE_M20-DSL","01","M-M20","VK_BASE_M20-DSL",80097,"M20 DSL"]
["M-M20VK_BASE_M20-GAS","01","M-M20","VK_BASE_M20-GAS",75221,"M20 GAS"]
["M-M20VK_BASE_M20-LPG","01","M-M20","VK_BASE_M20-LPG",75221,"M20 LPG"]
["M-M20VK_UPG","01","M-M20","VK_UPG","N/C","UPG"]
["M-M20VK_SDECLNTOL_PYP_SWP","01","M-M20","VK_SDECLNTOL_PYP_SWP","N/C","Side Poly Sweeper"]
["M-M20VK_SDECLNTOL_PYP_SCB","01","M-M20","VK_SDECLNTOL_PYP_SCB","N/C","Side Poly Scrubber"]
["M-M20VK_CSMSBTRERSQE","01","M-M20","VK_CSMSBTRERSQE",523,"Sunbelt - Sqe Guard"]
["M-M20VK_HGHPRSSPY","01","M-M20","VK_HGHPRSSPY",4674,"High Pressure Spray"]
["M-M20VK_HVYDTYPRTPKG","01","M-M20","VK_HVYDTYPRTPKG",2111,"Hvy Duty Protect Pkg"]
["M-M20VK_TRM_MPAN","01","M-M20","VK_TRM_MPAN","N/C","Membrane Ctrl Panel"]
["M-M20VK_TRM_PPAN","01","M-M20","VK_TRM_PPAN",2854,"ProPanel Ctrls"]
["M-M20VK_MCHCOM","01","M-M20","VK_MCHCOM",1367,"IRIS Telemetry"]
["M-M20VK_CSMSBTDCL_GT","01","M-M20","VK_CSMSBTDCL_GT",141,"Sunbelt-GenTool Dcl"]
["M-M20VK_CSMSBTDCL_FC","01","M-M20","VK_CSMSBTDCL_FC",244,"Sunbelt-FloorCareDcl"]
["M-M20VK_CSMSBTDCLECH","01","M-M20","VK_CSMSBTDCLECH",231,"Sunbelt-ecH2O Decal"]
["M-M20VK_ULERTG_D","01","M-M20","VK_ULERTG_D","N/C","UL® Type D"]
["M-M20VK_ULERTG_LPS","01","M-M20","VK_ULERTG_LPS",4991,"UL® Type LPS"]
["M-M20VK_WRNLGTANDALM_AU","01","M-M20","VK_WRNLGTANDALM_AU",326,"Audio BU Alarm"]
["M-M20VK_WRNLGTANDALM_AVFO","01","M-M20","VK_WRNLGTANDALM_AVFO",697,"AV BU AlarmFlash OHG"]
["M-M20VK_WRNLGTANDALM_AVFT","01","M-M20","VK_WRNLGTANDALM_AVFT",697,"AV BU AlarmFlash Tnk"]
["M-M20VK_WRNLGTANDALM_AVSO","01","M-M20","VK_WRNLGTANDALM_AVSO",697,"AV BU AlrmStrobe OHG"]
["M-M20VK_WRNLGTANDALM_AVST","01","M-M20","VK_WRNLGTANDALM_AVST",697,"AV BU AlrmStrobe Tnk"]
["M-M20VK_WTY_STD","01","M-M20","VK_WTY_STD","N/C","Warranty STD"]
["M-M20VK_TRLTRTKIT","01","M-M20","VK_TRLTRTKIT",187,"Transport Kit"]
["M-M20VK_ADLOPRMNL","01","M-M20","VK_ADLOPRMNL",71,"Add Operator Manual"]
["M-M20VK_ALTSTBFLSLNS_B","01","M-M20","VK_ALTSTBFLSLNS_B",32,"Alternate Lens-Blue"]
["M-M20VK_ALTSTBFLSLNS_R","01","M-M20","VK_ALTSTBFLSLNS_R",32,"Alternate Lens-Red"]
["M-M20VK_CLNTCH_ECH2O","01","M-M20","VK_CLNTCH_ECH2O",5194,"ec-H2O™"]
["M-M20VK_CLNTCH_ES","01","M-M20","VK_CLNTCH_ES",4840,"ES® Extended Scrub"]
["M-M20VK_FREEXT","01","M-M20","VK_FREEXT",149,"Fire Extinguisher"]
["M-M20VK_HVYDTYSQEPRT","01","M-M20","VK_HVYDTYSQEPRT",892,"Hvy Dty Sque Protect"]
["M-M20VK_LPGTNK_E","01","M-M20","VK_LPGTNK_E","N/C","LPG Tank Empty"]
["M-M20VK_LPGTNK_F","01","M-M20","VK_LPGTNK_F","N/C","LPG Tank Full"]
["M-M20VK_OPRVID","01","M-M20","VK_OPRVID","N/C","Operator Video"]
["M-M20VK_OVHGRD","01","M-M20","VK_OVHGRD",1699,"Overhead Guard"]
["M-M20VK_PKG_CRT","01","M-M20","VK_PKG_CRT",1525,"Crate"]
["M-M20VK_PKG_SKD","01","M-M20","VK_PKG_SKD",809,"Skid"]
["M-M20VK_PWRVACWND_VACWND","01","M-M20","VK_PWRVACWND_VACWND",952,"Vacuum Wand"]
["M-M20VK_RERTRE_HT","01","M-M20","VK_RERTRE_HT",843,"Trs Rear High Track"]
[{"$f":"C2250&D2250","v":"M-M20VK_SDEBRSTYP"},"01","M-M20","VK_SDEBRSTYP",5156,"Side Brush"]
["M-M20VK_SDECLNTOL_SAB","01","M-M20","VK_SDECLNTOL_SAB",192,"Side Sup Abr Brush"]
["M-M20VK_SPYNOZWTHHSE","01","M-M20","VK_SPYNOZWTHHSE",1214,"Spray Nozzel w/Hose"]
["M-M20VK_SQEMAT_L","01","M-M20","VK_SQEMAT_L","N/C","Squeegee Linatex"]
["M-M20VK_SQEMAT_U","01","M-M20","VK_SQEMAT_U",813,"Squeegee Urethane"]
["M-M20VK_SRVMNL","01","M-M20","VK_SRVMNL",239,"Service Manual"]
["M-M20VK_CSMSBTPARKIT","01","M-M20","VK_CSMSBTPARKIT",2703,"Sunbelt -Parts Kit"]
["M-M30VK_DATPKG_5YR","01","M-M30","VK_DATPKG_5YR",1397,"Data Package 5 Year"]
["M-M30VK_DTGMTG","01","M-M30","VK_DTGMTG",3095,"Detergent Metering"]
["M-M30VK_CSM_SBT_KIT","01","M-M30","VK_CSM_SBT_KIT",2135,"Sunbelt Parts Kit"]
["M-M30VK_DATPKG_BSVC","01","M-M30","VK_DATPKG_BSVC","N/C","Data Pkg w/Service"]
["M-M30VK_DATPKG_3YR","01","M-M30","VK_DATPKG_3YR",1397,"Data Package 3 Year"]
["M-M30VK_BASE_M30-LPG_STD","01","M-M30","VK_BASE_M30-LPG_STD",87428,"M30 LPG Std Config"]
["M-M30VK_BASE_M30-DSL_S5_STD","01","M-M30","VK_BASE_M30-DSL_S5_STD",107125,"M30 DSL s5 Std Config"]
["M-M30VK_BASE_M30-DSL_3A_STD","01","M-M30","VK_BASE_M30-DSL_3A_STD",87428,"M30 DSL 3a Std Config"]
["M-M30VK_BLULGT","01","M-M30","VK_BLULGT",1077,"Blue Light"]
["M-M30VK_WPFMNLPCH","01","M-M30","VK_WPFMNLPCH",186,"Weatherproof Manual Pouch"]
["M-M30VK_CSMWCHHOKKIT","01","M-M30","VK_CSMWCHHOKKIT",1015,"Winch Hook Frame Kit"]
["M-M30VK_CSMSELKITDRWLTH","01","M-M30","VK_CSMSELKITDRWLTH",932,"Seal Kit w/Draw Latch"]
["M-M30VK_CSMHEDLGTCVR","01","M-M30","VK_CSMHEDLGTCVR",232,"Head Light Cover"]
["M-M30VK_CSMDWTSYS","01","M-M30","VK_CSMDWTSYS",3421,"Dewatering System"]
["M-M30VK_MCHCOM_SBT","01","M-M30","VK_MCHCOM_SBT",1367,"IRIS Telemetry"]
["M-M30VK_CLNTOL_SASB","01","M-M30","VK_CLNTOL_SASB",192,"Super Abrasive, Stiff Bristle"]
["M-M30VK_CSMSLN_WHFK","01","M-M30","VK_CSMSLN_WHFK",1015,"Winch Hook Frame Kit"]
["M-M30VK_BASE_M30-DSL_S5","01","M-M30","VK_BASE_M30-DSL_S5",107125,"M30 DSL S5"]
["M-M30VK_BASE_M30-DSL_3A","01","M-M30","VK_BASE_M30-DSL_3A",87428,"M30 DSL 3A"]
["M-M30VK_PARMNL","01","M-M30","VK_PARMNL","N/C","Parts Manual"]
["M-M30VK_BASE_M30-GAS_STD","01","M-M30","VK_BASE_M30-GAS_STD",87428,"M30 GAS Std Config"]
["M-M30VK_CSM_SBT_DCL","01","M-M30","VK_CSM_SBT_DCL",137,"Sunbelt Decal Kit"]
["M-M30VK_CSMSLN_WPMP","01","M-M30","VK_CSMSLN_WPMP",186,"Weatherproof pouch"]
["M-M30VK_CSMSLN_FSTTK","01","M-M30","VK_CSMSLN_FSTTK",1653,"Front/Side Tie Down"]
["M-M30VK_CSMSLN_FCLK","01","M-M30","VK_CSMSLN_FCLK",621,"Front Cover Latch"]
["M-M30VK_FREEXT","01","M-M30","VK_FREEXT",149,"Fire Extinguisher"]
["M-M30VK_HGHPRSSPY","01","M-M30","VK_HGHPRSSPY",4027,"High Pressure Spray"]
["M-M30VK_CAB_SC","01","M-M30","VK_CAB_SC",7635,"Soft Cab"]
["M-M30VK_CLNTCH_ECH2O","01","M-M30","VK_CLNTCH_ECH2O",5194,"ec-H2O™"]
["M-M30VK_WRNLGTANDALM_AVST","01","M-M30","VK_WRNLGTANDALM_AVST",697,"AV BU AlrmStrobe Tnk"]
["M-M30VK_SPYNOZWTHHSE","01","M-M30","VK_SPYNOZWTHHSE",1214,"Spray Nozzel w/Hose"]
["M-M30VK_PWRVACWND_VACWND","01","M-M30","VK_PWRVACWND_VACWND",952,"Vacuum Wand"]
["M-M30VK_PKG_SKD_NC","01","M-M30","VK_PKG_SKD_NC","N/C","Skid"]
["M-M30VK_DTG_SBD","01","M-M30","VK_DTG_SBD","N/C","Solvent Degreaser"]
["M-M30VK_PRDPKG","01","M-M30","VK_PRDPKG",5982,"Productivity Package"]
["M-M30VK_PKG_SKD_NO_CHG","01","M-M30","VK_PKG_SKD_NO_CHG","N/C","Skid"]
["M-M30VK_TRMLVL_WOP","01","M-M30","VK_TRMLVL_WOP",1381,"ProPanel w/ WOC"]
["M-M30VK_CLMCTL_ACHP_GL","01","M-M30","VK_CLMCTL_ACHP_GL",8089,"Air Cond./Heater/Pre"]
["M-M30VK_CLMCTL_ACHP_D","01","M-M30","VK_CLMCTL_ACHP_D",8089,"Air Cond./Heater/Pre"]
["M-M30VK_BASE_M30-GAS","01","M-M30","VK_BASE_M30-GAS",87428,"M30 GAS"]
["M-M30VK_BASE_M30-LPG","01","M-M30","VK_BASE_M30-LPG",87428,"M30 LPG"]
["M-M30VK_HVYDTYPRTPKG","01","M-M30","VK_HVYDTYPRTPKG",2111,"Hvy Duty Protect Pkg"]
["M-M30VK_TRM_MPAN","01","M-M30","VK_TRM_MPAN","N/C","Membrane Ctrl Panel"]
["M-M30VK_TRM_PPAN","01","M-M30","VK_TRM_PPAN",2854,"ProPanel Ctrls"]
["M-M30VK_MCHCOM","01","M-M30","VK_MCHCOM",1367,"IRIS Telemetry"]
["M-M30VK_CSMSLN_SKDL","01","M-M30","VK_CSMSLN_SKDL",932,"Seal Kit w/DrawLatch"]
["M-M30VK_CSMSLN_HLC","01","M-M30","VK_CSMSLN_HLC",232,"Head Light Cover"]
["M-M30VK_LPGTNK_E","01","M-M30","VK_LPGTNK_E","N/C","LPG Tank Empty"]
["M-M30VK_LPGTNK_F","01","M-M30","VK_LPGTNK_F","N/C","LPG Tank Full"]
["M-M30VK_OVHGRD","01","M-M30","VK_OVHGRD",1699,"Overhead Guard"]
["M-M30VK_PKG_SKD","01","M-M30","VK_PKG_SKD",874,"Skid"]
["M-M30VK_ADLOPRMNL","01","M-M30","VK_ADLOPRMNL",71,"Add Operator Manual"]
["M-M30VK_ULERTG_G","01","M-M30","VK_ULERTG_G","N/C","UL® Type G"]
["M-M30VK_PKG_PAD","01","M-M30","VK_PKG_PAD","N/C","Pad Wrap"]
["M-M30VK_SDECLNTOL_SAB","01","M-M30","VK_SDECLNTOL_SAB",192,"Side Sup Abr Brush"]
["M-M30VK_WRNLGTANDALM_AVFO","01","M-M30","VK_WRNLGTANDALM_AVFO",697,"AV BU AlarmFlash OHG"]
["M-M30VK_SQEMAT_U","01","M-M30","VK_SQEMAT_U",813,"Squeegee Urethane"]
[{"$f":"C2314&D2314","v":"M-M30VK_SDECLNTOL_PYSB"},"01","M-M30","VK_SDECLNTOL_PYSB","N/C","Side Poly Sweep Brh"]
["M-M30VK_TRLTRTKIT","01","M-M30","VK_TRLTRTKIT",187,"Transport Kit"]
["M-M30VK_SDEBRSTYP_SCB","01","M-M30","VK_SDEBRSTYP_SCB",5156,"Side Brush Scrubber"]
["M-M30VK_SRVMNL","01","M-M30","VK_SRVMNL",239,"Service Manual"]
["M-M30VK_ADLOPRMNL_D","01","M-M30","VK_ADLOPRMNL_D",71,"Add Operator Manual"]
["M-M30VK_UPG","01","M-M30","VK_UPG","N/C","UPG"]
["M-M30VK_WTY_STD","01","M-M30","VK_WTY_STD","N/C","Warranty STD"]
["M-M30VK_CLNTOL_HDPYP","01","M-M30","VK_CLNTOL_HDPYP","N/C","HD Poly Brush"]
["M-M30VK_WRNLGTANDALM_AVFT","01","M-M30","VK_WRNLGTANDALM_AVFT",697,"AV BU AlarmFlash Tnk"]
["M-M30VK_RERTRE_HT","01","M-M30","VK_RERTRE_HT",825,"Trs Rear High Track"]
["M-M30VK_HVYDTYSQEPRT","01","M-M30","VK_HVYDTYSQEPRT",892,"Hvy Dty Sque Protect"]
["M-M30VK_SDEBRSTYP_SWP","01","M-M30","VK_SDEBRSTYP_SWP",5156,"Side Brush Sweeper"]
["M-M30VK_ULERTG_LPS","01","M-M30","VK_ULERTG_LPS",4894,"UL® Type LPS"]
["M-M30VK_ULERTG_LP","01","M-M30","VK_ULERTG_LP","N/C","UL® Type LP"]
["M-M30VK_SQEMAT_L","01","M-M30","VK_SQEMAT_L","N/C","Squeegee Linatex"]
["M-M30VK_OPRVID","01","M-M30","VK_OPRVID","N/C","Operator Video"]
["M-M30VK_SDECLNTOL_PYP","01","M-M30","VK_SDECLNTOL_PYP","N/C","Side Poly Brush"]
["M-M30VK_WRNLGTANDALM_AVSO","01","M-M30","VK_WRNLGTANDALM_AVSO",697,"AV BU AlrmStrobe OHG"]
["M-M30VK_ULERTG_D","01","M-M30","VK_ULERTG_D","N/C","UL® Type D"]
["M-M30VK_CLNTCH_ES","01","M-M30","VK_CLNTCH_ES",4840,"ES® Extended Scrub"]
["M-M30VK_CSMSLN_DWS","01","M-M30","VK_CSMSLN_DWS",3421,"Dewatering System"]
["M-1610VK_BASE_1610","01","M-1610","VK_BASE_1610",18730,"1610 ReadySpace"]
["M-1610VK_PARMNL","01","M-1610","VK_PARMNL",21,"Parts Manual"]
["M-1610VK_PKG_WSKD","01","M-1610","VK_PKG_WSKD",336,"Skid w/Stretch Wrap"]
["M-1610VK_PKG_SSKD","01","M-1610","VK_PKG_SSKD",443,"Stack Skid/Carton"]
["M-1610VK_CHG_WO","01","M-1610","VK_CHG_WO",-718,"Without Charger"]
["M-1610VK_CHG_19A120V5060H1","01","M-1610","VK_CHG_19A120V5060H1","N/C","Ch19A 120V 5060H1"]
["M-1610VK_BTY_WO","01","M-1610","VK_BTY_WO",-952,"Without Battery"]
["M-1610VK_BTY_W240C20","01","M-1610","VK_BTY_W240C20","N/C","Bty Wet 240AH C20"]
["M-1610VK_BTY_A200C20","01","M-1610","VK_BTY_A200C20",533,"Bty AGM 200AH C20"]
["M-1610VK_ADLOPRMNL","01","M-1610","VK_ADLOPRMNL",47,"Add Operator Manual"]
["M-STRIVEVK_BASE_STRIVE-560","01","M-STRIVE","VK_BASE_STRIVE-560",18730,"Strive 560/22"]
["M-STRIVEVK_OPRMNL","01","M-STRIVE","VK_OPRMNL","N/C","Oper Manual"]
["M-STRIVEVK_CHG_WO","01","M-STRIVE","VK_CHG_WO",-717,"Without Charger"]
["M-STRIVEVK_CHG_19A100V5060H1","01","M-STRIVE","VK_CHG_19A100V5060H1","N/C","Ch19A 100V 5060H1P"]
["M-STRIVEVK_BTY_WO","01","M-STRIVE","VK_BTY_WO",-952,"Without Battery"]
["M-STRIVEVK_BTY_W240C20","01","M-STRIVE","VK_BTY_W240C20","N/C","Bty Wet 240AH C20"]
["M-STRIVEVK_ADLOPRMNL","01","M-STRIVE","VK_ADLOPRMNL",47,"Add Operator Manual"]
["M-STRIVEVK_PKG_WSKD","01","M-STRIVE","VK_PKG_WSKD",336,"Skid w/Stretch Wrap"]
["M-STRIVEVK_PARMNL","01","M-STRIVE","VK_PARMNL",20,"Parts Manual"]
["M-STRIVEVK_PKG_SSKD","01","M-STRIVE","VK_PKG_SSKD",443,"Stack Skid/Carton"]
["M-STRIVEVK_BTY_A200C20","01","M-STRIVE","VK_BTY_A200C20",533,"Bty AGM 200AH C20"]
["M-R14VK_UTLBSK","01","M-R14","VK_UTLBSK",231,"Utility Basket"]
["M-R14VK_CLNTOL_C800PYP","01","M-R14","VK_CLNTOL_C800PYP","N/C","C800/32 Poly Brush"]
["M-R14VK_CLNTOL_C800NYL","01","M-R14","VK_CLNTOL_C800NYL","N/C","C800/32 Nylon Brush"]
["M-R14VK_SETBLT","01","M-R14","VK_SETBLT",90,"Seat Belt"]
["M-R14VK_BASE_R14-700","01","M-R14","VK_BASE_R14-700",26982,"R14 700/28"]
["M-R14VK_CHG_25A100V5060H1","01","M-R14","VK_CHG_25A100V5060H1","N/C","Ch25A 100V 5060H1P"]
["M-R14VK_PARMNL","01","M-R14","VK_PARMNL",21,"Parts Manual"]
["M-R14VK_WRNLGTANDALM_ST","01","M-R14","VK_WRNLGTANDALM_ST",735,"Strobe Light Tank"]
["M-R14VK_ADLOPRMNL","01","M-R14","VK_ADLOPRMNL",161,"Add Operator Manual"]
["M-R14VK_BTYWTRSYS","01","M-R14","VK_BTYWTRSYS",586,"Battery Watering Sys"]
["M-R14VK_BTY_W360C20","01","M-R14","VK_BTY_W360C20","N/C","Bty Wet 360AH C20"]
["M-R14VK_BTY_WO","01","M-R14","VK_BTY_WO",-658,"Without Battery"]
["M-R14VK_CHG_WO","01","M-R14","VK_CHG_WO",-375,"Without Charger"]
["M-R14VK_PKG_SCNS","01","M-R14","VK_PKG_SCNS",478,"NonStack Skid/Carton"]
["M-R14VK_PKG_WSKD","01","M-R14","VK_PKG_WSKD",327,"Skid w/Stretch Wrap"]
["M-R14VK_SRVMNL","01","M-R14","VK_SRVMNL","N/C","Service Manual"]
["M-STRIVERIDERVK_SETBLT","01","M-STRIVERIDER","VK_SETBLT",90,"Seat Belt"]
["M-STRIVERIDERVK_PKG_SCNS_NC","01","M-STRIVERIDER","VK_PKG_SCNS_NC",327,"NonStack Skid/Carton"]
["M-STRIVERIDERVK_PKG_SCNS_NO_CHG","01","M-STRIVERIDER","VK_PKG_SCNS_NO_CHG","N/C","NonStack Skid/Carton"]
["M-STRIVERIDERVK_CHG_30A120V5060H1","01","M-STRIVERIDER","VK_CHG_30A120V5060H1","N/C","Ch30A 120V 5060H1P"]
["M-STRIVERIDERVK_ADLOPRMNL","01","M-STRIVERIDER","VK_ADLOPRMNL",160,"Add Operator Manual"]
["M-STRIVERIDERVK_BTY_W360C20","01","M-STRIVERIDER","VK_BTY_W360C20","N/C","Bty Wet 360AH C20"]
[{"$f":"C2378&D2378","v":"M-STRIVERIDERVK_CHG_WO"},"01","M-STRIVERIDER","VK_CHG_WO",-375,"Without Charger"]
["M-STRIVERIDERVK_OPRMNL","01","M-STRIVERIDER","VK_OPRMNL","N/C","Oper Manual"]
["M-STRIVERIDERVK_PKG_WSKD","01","M-STRIVERIDER","VK_PKG_WSKD",327,"Skid w/Stretch Wrap"]
["M-STRIVERIDERVK_SRVMNL","01","M-STRIVERIDER","VK_SRVMNL","N/C","Service Manual"]
["M-STRIVERIDERVK_WRNLGTANDALM_ST","01","M-STRIVERIDER","VK_WRNLGTANDALM_ST",735,"Strobe Light Tank"]
["M-STRIVERIDERVK_BTYWTRSYS","01","M-STRIVERIDER","VK_BTYWTRSYS",586,"Battery Watering Sys"]
["M-STRIVERIDERVK_BASE_STRIVERIDER","01","M-STRIVERIDER","VK_BASE_STRIVERIDER",26982,"Strive Rider"]
["M-STRIVERIDERVK_CHG_25A100V5060H1","01","M-STRIVERIDER","VK_CHG_25A100V5060H1","N/C","Ch25A 100V 5060H1P"]
["M-STRIVERIDERVK_PARMNL","01","M-STRIVERIDER","VK_PARMNL",21,"Parts Manual"]
["M-STRIVERIDERVK_PKG_WSKD_NO_CHG","01","M-STRIVERIDER","VK_PKG_WSKD_NO_CHG","N/C","Skid w/Stretch Wrap"]
["M-STRIVERIDERVK_BTY_WO","01","M-STRIVERIDER","VK_BTY_WO",-658,"Without Battery"]
["M-STRIVERIDERVK_PKG_SCNS","01","M-STRIVERIDER","VK_PKG_SCNS",478,"NonStack Skid/Carton"]
["M-STRIVERIDERVK_UTLBSK","01","M-STRIVERIDER","VK_UTLBSK",232,"Utility Basket"]
["M-B5VK_CHG_WO","01","M-B5","VK_CHG_WO",-345,"Without Charger"]
["M-B5VK_BTY_A140C20","01","M-B5","VK_BTY_A140C20",2131,"Bty AGM 140AH C20"]
["M-B5VK_BASE_B5-510","01","M-B5","VK_BASE_B5-510",10978,"B5-510"]
["M-B5VK_PARMNL","01","M-B5","VK_PARMNL",21,"Parts Manual"]
["M-B5VK_MCHCOM","01","M-B5","VK_MCHCOM",1367,"IRIS Telemetry"]
["M-B5VK_ADLOPRMNL","01","M-B5","VK_ADLOPRMNL",48,"Add Operator Manual"]
["M-B5VK_SRVMNL","01","M-B5","VK_SRVMNL",210,"Service Manual"]
["M-B5VK_PRGBRK","01","M-B5","VK_PRGBRK",80,"Parking Brake"]
["M-B5VK_PKG_WSKD","01","M-B5","VK_PKG_WSKD",161,"Skid w/Stretch Wrap"]
["M-B5VK_PKG_SSKD","01","M-B5","VK_PKG_SSKD",258,"Stack Skid/Carton"]
["M-B5VK_PKG_PAD","01","M-B5","VK_PKG_PAD","N/C","Pad Wrap"]
["M-B5VK_DWNPRS_MEC_NC","01","M-B5","VK_DWNPRS_MEC_NC","N/C","Mech Down Pressure"]
["M-B5VK_DWNPRS_MEC","01","M-B5","VK_DWNPRS_MEC",-470,"Mech Down Pressure"]
["M-B5VK_DWNPRS_AUT","01","M-B5","VK_DWNPRS_AUT","N/C","Auto Down Pressure"]
["M-B5VK_DSTCTLSYS_PAS","01","M-B5","VK_DSTCTLSYS_PAS",-414,"Passive Dust Control"]
["M-B5VK_DSTCTLSYS_ACT","01","M-B5","VK_DSTCTLSYS_ACT","N/C","Active Dust Control"]
["M-B5VK_DSTCTLFLR_PFB","01","M-B5","VK_DSTCTLFLR_PFB","N/C","Paper Filter Bag"]
["M-B5VK_DSTCTLFLR_DFLTB","01","M-B5","VK_DSTCTLFLR_DFLTB",47,"Dust Filter Bag"]
["M-B5VK_CLNDRT_SP","01","M-B5","VK_CLNDRT_SP",3028,"Self Propel"]
["M-B5VK_CLNDRT_PBA","01","M-B5","VK_CLNDRT_PBA","N/C","Pad / Brush Assist"]
["M-B5VK_CHG_25A85V5060H1P_WET","01","M-B5","VK_CHG_25A85V5060H1P_WET","N/C","Ch25A 85V 5060H1P"]
["M-B5VK_CHG_25A85V5060H1P_ON","01","M-B5","VK_CHG_25A85V5060H1P_ON","N/C","Ch25A 85V 5060Hz On"]
["M-B5VK_CHG_25A85V5060H1P_AGM","01","M-B5","VK_CHG_25A85V5060H1P_AGM","N/C","Ch25A 85V 5060H1P"]
["M-B5VK_BTY_WO","01","M-B5","VK_BTY_WO",-371,"Without Battery"]
["M-B5VK_BTY_W225C20_NC","01","M-B5","VK_BTY_W225C20_NC","N/C","Bty Wet 225AH C20"]
["M-B5VK_BTY_W225C20","01","M-B5","VK_BTY_W225C20",414,"Bty Wet 225AH C20"]
["M-B5VK_BTY_W185C20","01","M-B5","VK_BTY_W185C20","N/C","Bty Wet 185AH C20"]
["M-B5VK_BTY_A234C20","01","M-B5","VK_BTY_A234C20",2646,"Bty AGM 234AH C20"]
["M-B5VK_BTYWTRSYS","01","M-B5","VK_BTYWTRSYS",797,"Battery Watering Sys"]
["M-B7VK_MCHCOM","01","M-B7","VK_MCHCOM",1367,"IRIS Telemetry"]
["M-B7VK_PARMNL","01","M-B7","VK_PARMNL",21,"Parts Manual"]
["M-B7VK_BASE_B7-690","01","M-B7","VK_BASE_B7-690",15877,"B7-690"]
["M-B7VK_BASE_B7-610","01","M-B7","VK_BASE_B7-610",14455,"B7-610"]
["M-B7VK_SRVMNL","01","M-B7","VK_SRVMNL",210,"Service Manual"]
["M-B7VK_PRGBRK","01","M-B7","VK_PRGBRK",80,"Parking Brake"]
["M-B7VK_PKG_WSKD","01","M-B7","VK_PKG_WSKD",202,"Skid w/Stretch Wrap"]
["M-B7VK_PKG_SSKD","01","M-B7","VK_PKG_SSKD",356,"Stack Skid/Carton"]
["M-B7VK_PKG_PAD","01","M-B7","VK_PKG_PAD","N/C","Pad Wrap"]
["M-B7VK_DWNPRS_MEC","01","M-B7","VK_DWNPRS_MEC",-470,"Mech Down Pressure"]
["M-B7VK_DWNPRS_AUT","01","M-B7","VK_DWNPRS_AUT","N/C","Auto Down Pressure"]
["M-B7VK_DSTCTLSYS_PAS","01","M-B7","VK_DSTCTLSYS_PAS",-414,"Passive Dust Control"]
["M-B7VK_DSTCTLSYS_ACT","01","M-B7","VK_DSTCTLSYS_ACT","N/C","Active Dust Control"]
["M-B7VK_DSTCTLFLR_PFB","01","M-B7","VK_DSTCTLFLR_PFB","N/C","Paper Filter Bag"]
["M-B7VK_DSTCTLFLR_DFLTB","01","M-B7","VK_DSTCTLFLR_DFLTB",47,"Dust Filter Bag"]
["M-B7VK_CHG_WO","01","M-B7","VK_CHG_WO",-345,"Without Charger"]
["M-B7VK_CHG_25A85V5060H1P_ON","01","M-B7","VK_CHG_25A85V5060H1P_ON","N/C","Ch25A 85V 5060Hz On"]
["M-B7VK_CHG_25A85V5060H1P_OFF","01","M-B7","VK_CHG_25A85V5060H1P_OFF","N/C","Ch25A 85V 5060Hz Off"]
["M-B7VK_BTY_WO","01","M-B7","VK_BTY_WO","N/C","Without Battery"]
["M-B7VK_BTY_W360C20","01","M-B7","VK_BTY_W360C20",1023,"Bty Wet 360AH C20"]
["M-B7VK_BTY_W330C20","01","M-B7","VK_BTY_W330C20",850,"Bty Wet 330AH C20"]
["M-B7VK_BTY_W240C20","01","M-B7","VK_BTY_W240C20",764,"Bty Wet 240AH C20"]
[{"$f":"C2442&D2442","v":"M-B7VK_BTY_A312C20"},"01","M-B7","VK_BTY_A312C20",3401,"Bty AGM 312AH C20"]
["M-B7VK_BTYWTRSYS","01","M-B7","VK_BTYWTRSYS",797,"Battery Watering Sys"]
["M-B7VK_ADLOPRMNL","01","M-B7","VK_ADLOPRMNL",48,"Add Operator Manual"]
["M-SG5VK_BTY_W225C20","01","M-SG5","VK_BTY_W225C20",414,"Bty Wet 225AH C20"]
["M-SG5VK_CLNDRT_SP","01","M-SG5","VK_CLNDRT_SP",2414,"Self Propel"]
["M-SG5VK_CLNDRT_PBA","01","M-SG5","VK_CLNDRT_PBA","N/C","Pad / Brush Assist"]
["M-SG5VK_BTY_WO","01","M-SG5","VK_BTY_WO",-371,"Without Battery"]
["M-SG5VK_BTY_W185C20","01","M-SG5","VK_BTY_W185C20","N/C","Bty Wet 185AH C20"]
["M-SG5VK_DSTCTLFLR_DFLTB","01","M-SG5","VK_DSTCTLFLR_DFLTB",47,"Dust Filter Bag"]
["M-SG5VK_PRGBRK","01","M-SG5","VK_PRGBRK",80,"Parking Brake"]
["M-SG5VK_PKG_SSKD","01","M-SG5","VK_PKG_SSKD",258,"Stack Skid/Carton"]
["M-SG5VK_PKG_PAD","01","M-SG5","VK_PKG_PAD","N/C","Pad Wrap"]
["M-SG5VK_PARMNL","01","M-SG5","VK_PARMNL",21,"Parts Manual"]
["M-SG5VK_DWNPRS_MEC","01","M-SG5","VK_DWNPRS_MEC","N/C","Mech Down Pressure"]
["M-SG5VK_DWNPRS_AUT","01","M-SG5","VK_DWNPRS_AUT",633,"Auto Down Pressure"]
["M-SG5VK_DSTCTLSYS_ACT","01","M-SG5","VK_DSTCTLSYS_ACT",545,"Active Dust Control"]
["M-SG5VK_BTY_A234C20","01","M-SG5","VK_BTY_A234C20",2646,"Bty AGM 234AH C20"]
["M-SG5VK_BTYWTRSYS","01","M-SG5","VK_BTYWTRSYS",797,"Battery Watering Sys"]
["M-SG5VK_BASE_SG5-510","01","M-SG5","VK_BASE_SG5-510",10442,"SG5-510"]
["M-SG5VK_SRVMNL","01","M-SG5","VK_SRVMNL",210,"Service Manual"]
["M-SG5VK_ADLOPRMNL","01","M-SG5","VK_ADLOPRMNL",48,"Add Operator Manual"]
["M-SG5VK_BTY_W225C20_NC","01","M-SG5","VK_BTY_W225C20_NC","N/C","Bty Wet 225AH C20"]
["M-SG5VK_CHG_WO","01","M-SG5","VK_CHG_WO",-345,"Without Charger"]
["M-SG5VK_DSTCTLFLR_PFB","01","M-SG5","VK_DSTCTLFLR_PFB","N/C","Paper Filter Bag"]
["M-SG5VK_DSTCTLSYS_PAS","01","M-SG5","VK_DSTCTLSYS_PAS","N/C","Passive Dust Control"]
["M-SG5VK_PKG_WSKD","01","M-SG5","VK_PKG_WSKD",161,"Skid w/Stretch Wrap"]
["M-SG7VK_DSTCTLFLR_DFLTB","01","M-SG7","VK_DSTCTLFLR_DFLTB",47,"Dust Filter Bag"]
["M-SG7VK_BASE_SSR-650-D","01","M-SG7","VK_BASE_SSR-650-D",24437,"SSR 650/26 Disc"]
["M-SG7VK_D800NYL","01","M-SG7","VK_D800NYL","N/C","D800/32 Nylon Brush"]
["M-SG7VK_CLNTOL_C800ABB","01","M-SG7","VK_CLNTOL_C800ABB",357,"C800/32 Abr Brush"]
["M-SG7VK_D800SAB","01","M-SG7","VK_D800SAB",357,"D800/32 Sup Abr Brsh"]
["M-SG7VK_D800PAD","01","M-SG7","VK_D800PAD","N/C","D800/32 Pad Driver"]
["M-SG7VK_PADTYP_650YLW3","01","M-SG7","VK_PADTYP_650YLW3",50,"650/26 Ylw Polish 3M"]
["M-SG7VK_CLNTOL_C700ABB","01","M-SG7","VK_CLNTOL_C700ABB",357,"C700/28 Abr Brush"]
["M-SG7VK_PADTYP_800YLW3","01","M-SG7","VK_PADTYP_800YLW3",67,"800/32 Ylw Polish 3M"]
["M-SG7VK_DATPKG_HO","01","M-SG7","VK_DATPKG_HO",1409,"Hardware Only"]
["M-SG7VK_D800PYP","01","M-SG7","VK_D800PYP","N/C","D800/32 Poly Brush"]
["M-SG7VK_CHG_WO","01","M-SG7","VK_CHG_WO",-345,"Without Charger"]
["M-SG7VK_BASE_SSR-700-C","01","M-SG7","VK_BASE_SSR-700-C",26245,"SSR 700/28 Cyl"]
["M-SG7VK_CLNTOL_C700PYP","01","M-SG7","VK_CLNTOL_C700PYP","N/C","C700/28 Poly Brush"]
["M-SG7VK_SETBLT","01","M-SG7","VK_SETBLT",87,"Seat Belt"]
["M-SG7VK_CHG_20A120V5060H1","01","M-SG7","VK_CHG_20A120V5060H1","N/C","Ch20A 120V 5060H1"]
["M-SG7VK_BTY_G180C20","01","M-SG7","VK_BTY_G180C20",1112,"Bty Gel 180AH C20"]
["M-SG7VK_BASE_SSR-800-C","01","M-SG7","VK_BASE_SSR-800-C",28057,"SSR 800/32 Cyl"]
["M-SG7VK_CLNTOL_C700NYL","01","M-SG7","VK_CLNTOL_C700NYL","N/C","C700/28 Nylon Brush"]
["M-SG7VK_BTY_A220C20","01","M-SG7","VK_BTY_A220C20",1665,"Bty AGM 220AH C20"]
["M-SG7VK_BASE_SSR-800-D","01","M-SG7","VK_BASE_SSR-800-D",26245,"SSR 800/32 Disc"]
["M-SG7VK_CLNTOL_C700HDPYP","01","M-SG7","VK_CLNTOL_C700HDPYP","N/C","C700/28 HD Poly Brsh"]
["M-SG7VK_PKG_WSKD","01","M-SG7","VK_PKG_WSKD",202,"Skid w/Stretch Wrap"]
["M-SG7VK_PKG_SSKD","01","M-SG7","VK_PKG_SSKD",356,"Stack Skid/Carton"]
["M-SG7VK_PKG_PAD","01","M-SG7","VK_PKG_PAD","N/C","Pad Wrap"]
["M-SG7VK_PARMNL","01","M-SG7","VK_PARMNL",21,"Parts Manual"]
["M-SG7VK_DWNPRS_MEC","01","M-SG7","VK_DWNPRS_MEC","N/C","Mech Down Pressure"]
["M-SG7VK_DWNPRS_AUT","01","M-SG7","VK_DWNPRS_AUT",618,"Auto Down Pressure"]
["M-SG7VK_DSTCTLSYS_PAS","01","M-SG7","VK_DSTCTLSYS_PAS","N/C","Passive Dust Control"]
["M-SG7VK_MCHCOM","01","M-SG7","VK_MCHCOM",1367,"IRIS Telemetry"]
["M-SG7VK_BASE_SG7-BTY-690","01","M-SG7","VK_BASE_SG7-BTY-690",14733,"SG7-B-690"]
["M-SG7VK_BASE_SG7-BTY-610","01","M-SG7","VK_BASE_SG7-BTY-610",13310,"SG7-B-610"]
["M-SG7VK_ADLOPRMNL","01","M-SG7","VK_ADLOPRMNL",48,"Add Operator Manual"]
["M-SG7VK_BTYWTRSYS","01","M-SG7","VK_BTYWTRSYS",797,"Battery Watering Sys"]
["M-SG7VK_BTY_A312C20","01","M-SG7","VK_BTY_A312C20",3401,"Bty AGM 312AH C20"]
["M-SG7VK_BTY_W240C20","01","M-SG7","VK_BTY_W240C20",764,"Bty Wet 240AH C20"]
["M-SG7VK_BTY_W330C20","01","M-SG7","VK_BTY_W330C20",850,"Bty Wet 330AH C20"]
["M-SG7VK_BTY_W360C20","01","M-SG7","VK_BTY_W360C20",1023,"Bty Wet 360AH C20"]
[{"$f":"C2506&D2506","v":"M-SG7VK_BTY_WO"},"01","M-SG7","VK_BTY_WO","N/C","Without Battery"]
["M-SG7VK_DSTCTLFLR_PFB","01","M-SG7","VK_DSTCTLFLR_PFB","N/C","Paper Filter Bag"]
["M-SG7VK_DSTCTLSYS_ACT","01","M-SG7","VK_DSTCTLSYS_ACT",545,"Active Dust Control"]
["M-SG7VK_PRGBRK","01","M-SG7","VK_PRGBRK",80,"Parking Brake"]
["M-SG7VK_SRVMNL","01","M-SG7","VK_SRVMNL",210,"Service Manual"]
["M-B10VK_PKG_SCNS_NC","01","M-B10","VK_PKG_SCNS_NC","N/C","NonStack Skid/Carton"]
["M-B10VK_PARMNL","01","M-B10","VK_PARMNL",21,"Parts Manual"]
["M-B10VK_BASE_B10-690","01","M-B10","VK_BASE_B10-690",30711,"B10-690"]
["M-B10VK_BASE_B10-610","01","M-B10","VK_BASE_B10-610",29874,"B10-610"]
["M-B10VK_ADLOPRMNL","01","M-B10","VK_ADLOPRMNL",162,"Add Operator Manual"]
["M-B10VK_BTYWTRSYS","01","M-B10","VK_BTYWTRSYS",797,"Battery Watering Sys"]
["M-B10VK_BTY_A390C20","01","M-B10","VK_BTY_A390C20",1206,"Bty AGM 390AH C20"]
["M-B10VK_BTY_W435C20","01","M-B10","VK_BTY_W435C20","N/C","Bty Wet 435AH C20"]
["M-B10VK_BTY_WO","01","M-B10","VK_BTY_WO",-759,"Without Battery"]
["M-B10VK_CHG_25A120A5060H1_OFF","01","M-B10","VK_CHG_25A120A5060H1_OFF",604,"Ch25A 120V 5060H Off"]
["M-B10VK_CHG_25A120A5060H1_ON","01","M-B10","VK_CHG_25A120A5060H1_ON","N/C","Ch25A 120V 5060Hz On"]
["M-B10VK_CHG_WO","01","M-B10","VK_CHG_WO",-230,"Without Charger"]
["M-B10VK_PKG_SCNS","01","M-B10","VK_PKG_SCNS",502,"NonStack Skid/Carton"]
["M-B10VK_PKG_WSKD","01","M-B10","VK_PKG_WSKD","N/C","Skid w/Stretch Wrap"]
["M-B10VK_SRVMNL","01","M-B10","VK_SRVMNL",210,"Service Manual"]
["M-B10VK_WLLPROROL","01","M-B10","VK_WLLPROROL",283,"Wall Protect Rollers"]
["M-B10VK_WRNLGTANDALM_ST","01","M-B10","VK_WRNLGTANDALM_ST",744,"Strobe Light Tank"]
["M-SGRVK_SGR-690","01","M-SGR","VK_SGR-690",28413,"SGR 690/27"]
["M-SGRVK_BASE_SGR-690","01","M-SGR","VK_BASE_SGR-690",29831,"SGR 690/27"]
["M-SGRVK_BASE_SGR-610","01","M-SGR","VK_BASE_SGR-610",28996,"SGR 610/24"]
["M-SGRVK_SGR-610","01","M-SGR","VK_SGR-610",27615,"SGR 610/24"]
["M-SGRVK_PARMNL","01","M-SGR","VK_PARMNL",21,"Parts Manual"]
["M-SGRVK_WRNLGTALM_ST","01","M-SGR","VK_WRNLGTALM_ST",744,"Strobe Light Tank"]
["M-SGRVK_WRNLGTANDALM_ST","01","M-SGR","VK_WRNLGTANDALM_ST",744,"Strobe Light Tank"]
["M-SGRVK_ADLOPRMNL","01","M-SGR","VK_ADLOPRMNL",162,"Add Operator Manual"]
["M-SGRVK_BTYWTRSYS","01","M-SGR","VK_BTYWTRSYS",797,"Battery Watering Sys"]
["M-SGRVK_BTY_A390C20","01","M-SGR","VK_BTY_A390C20",1206,"Bty AGM 390AH C20"]
["M-SGRVK_BTY_W435C20","01","M-SGR","VK_BTY_W435C20","N/C","Bty Wet 435AH C20"]
["M-SGRVK_BTY_WO","01","M-SGR","VK_BTY_WO",-759,"Without Battery"]
["M-SGRVK_CHG_25A120A5060H1_OFF","01","M-SGR","VK_CHG_25A120A5060H1_OFF",604,"Ch25A 120V 5060H Off"]
["M-SGRVK_CHG_25A120A5060H1_ON","01","M-SGR","VK_CHG_25A120A5060H1_ON","N/C","Ch25A 120V 5060Hz On"]
["M-SGRVK_CHG_WO","01","M-SGR","VK_CHG_WO",-230,"Without Charger"]
["M-SGRVK_DSTCTLSYS_ACT","01","M-SGR","VK_DSTCTLSYS_ACT",880,"Active Dust Control"]
["M-SGRVK_DSTCTLSYS_PAS","01","M-SGR","VK_DSTCTLSYS_PAS","N/C","Passive Dust Control"]
["M-SGRVK_OPRMNL","01","M-SGR","VK_OPRMNL","N/C","Oper Manual"]
["M-SGRVK_PKG_SCNS","01","M-SGR","VK_PKG_SCNS",502,"NonStack Skid/Carton"]
["M-SGRVK_PKG_WSKD","01","M-SGR","VK_PKG_WSKD","N/C","Skid w/Stretch Wrap"]
["M-SGRVK_SRVMNL","01","M-SGR","VK_SRVMNL",210,"Service Manual"]
["M-SGRVK_WLLPROROL","01","M-SGR","VK_WLLPROROL",283,"Wall Protect Rollers"]
["M-T300eVK_TRMLVL_TRD","01","M-T300e","VK_TRMLVL_TRD",370,"Trim Level"]

{"sheet":"Contact","index":44,"n_rows":43,"n_cols":6,"rows_kept":43,"cut":false,"hidden":false,"merged":[[39,0,39,5],[18,5,19,5],[16,3,16,4],[6,4,7,4],[15,3,15,4],[16,0,16,2],[18,0,19,0],[18,1,19,1],[18,2,19,2],[18,4,19,4],[18,3,19,3],[37,0,37,5]]}
["Wells Fargo Capital Solutions"]
["Equipment Finance",null,null,"Client Services:  (800) 535-1480"]
["300 E. John Carpenter Freeway, Irving, TX 75062",null,null,"Sales & Operations:  (800) 233-5103"]
["Name","Location","Function","Phone Number","Fax Number","E-Mail Address"]
["Levi Wessel","Rosemount, IL","Relationship Manager","800-258-6649 x-69235",null,"TennantSales@wellsfargo.com"]
["Pedro Hernandez","Rosemount, IL","Manufacturer Services Group","847-607-6355","888-375-3288","Pedro.Hernandez2@wellsfargo.com"]
["Customer Support Center -\nJoe Sims","Cedar Rapids, IA","Existing leases – Questions re: billing, payoffs, taxes, insurance, returns, etc.","(319) 841-7325","Please help save time & have the Account Schedule Number (Lease Number) when calling.","joseph.sims@ge.com"]
["Asset Management - \nJohn Rasmussen","Danbury, CT","Expiring leases - Questions re: Buyout to Return invoices, Payoff invoices, etc.","(203) 749-2120",null,"john.rasmussen@ge.com"]
["Canada",null,null,"Main Phone:  905-288-3689"]
["2300 Meadowvale Boulevard, Suite 200; Mississauga, ON  L5N 5P9"]
["Name","Location","Function","Phone Number","Fax Number","E-Mail Address"]
["Trevor Lee","Toronto",null,"905-288-3689",null,"trevor.lee@wellsfargo.com"]
["* All inquires for existing leases (i.e. buy out quotes, billing questions, etc.) should be directed to the Customer Support Center."]
[]
["U.S. Bank"]
["U.S.A.",null,null,"Main Phone:  (800) 934-7444"]
["1310 Madrid Street, Ste. 101, Marshall, MN 56258",null,null,"Fax to Credit:  (800) 328-9092"]
["Name","Location","Function","Phone Number","Fax Number","E-Mail Address"]
["Mark Maltese","Carol Stream, IL","Relationship Manager","(224) 363-1558",null,"mark.maltese@usbank.com"]
[]
["Kirk Grannes","Marshall, MN","Program Manager","(507) 532-1695",null,"kirk.grannes@usbank.com"]
["Brandon Pingeon","Marshall, MN","FMV end of lease buyout, off lease equipment","507-532-8535",null,"brandon.pingeon@usbank.com"]
["Josh Coil","Marshall, MN","Existing leases - All questions: billing, payoffs, taxes, insurance, returns, etc.","507-532-8495",null,"josh.coil@usbank.com"]
[]
["First Western Equipment Finance"]
["U.S.A.",null,null,"Main Phone:  (800) 477-5855 or (952) 516-7360"]
["100 Prairie Center Drive, Eden Prairie, MN 55344",null,null,"Fax to Credit:  (800) 288-4959 or (952) 516-7321"]
["Name","Location","Function","Phone Number","Fax Number","E-Mail Address"]
["Duncan Leighton","Eden Prairie, MN","Relationship Manager","952-516-7331 (office)\n612-272-1790 (cell)","(800) 288-4959\n(952) 516-7321","Duncan.Leighton@firstwesternef.com"]
[]
["National Leasing"]
["Canada",null,null,"Main Phone:  (866) 208 4540"]
["1525 Buffalo Place,Winnipeg, Manitoba, R3T 1L9",null,null,"Fax to Credit:  (877) 871-2199"]
["Name","Location","Function","Phone Number","Fax Number","E-Mail Address"]
["John Tersigni","Markham, Ontario","District Manager","(866) 208-4540","(877) 871-2199","john.tersigni@nationalleasing.com"]
["Karen Mckerracher","Winnipeg","Sales Coordinator","(877) 599-4966","(877) 871-2199","karen.mckerracher@nationalleasing.com"]
[]
["Tennant"]
["U.S.A.",null,null,"Main Phone:  (763) 540-1200"]
["P. O. Box 1452\nMinneapolis, MN 55440-1452"]
["Name","Location","Function","Phone Number","Fax Number","E-Mail Address"]
["Chris Lund","Minneapolis (Plant 1)","Product Manager, Service","(763) 513-1879","(763) 513-2112","chris.lund@tennantco.com"]
["Jodie Cooke","Minneapolis (Plant 1)","End of Lease Administrator (inspections, returns, etc.)","(763) 540-2507","(763) 513-1725","jodie.cooke@tennantco.com"]

{"sheet":"Help","index":45,"n_rows":120,"n_cols":3,"rows_kept":120,"cut":false,"hidden":false,"merged":[]}
[null,"Instructions For The Use Of The Quote/Order Spreadsheet","05/19/2025 Prices"]
[null,null,"US Date Rev - 5/6/2025"]
[null,"TO CUSTOMIZE your cover letter with your own name and region phone number, do the following:"]
[null,"1.  Change the template (adding your name and region office address/phone number to the Start Here Tab (Seller Info)"]
[null,"2.  Click on FILE , click on SAVE AS"]
[null,"3.  In the \"Save as type\" box, select Template from the drop down list"]
[null,"4.  In the \"File Name\" box, enter the name you want to use for this file"]
[null,"5.  File name should be QT25ScrubberUSMay.xltm"]
[null,"6.  Click Save"]
[]
[null,"When SAVING the template after working on it, always make sure it is save as: "]
[null,"** Excel Macro-Enabled Workbook (*.xlsm)"]
[null,"This ensure that all macros remain and the template functions properly."]
[null,"Example:"]
[]
[]
[]
[]
[]
[]
[]
[]
[]
[]
[]
[null,"TennantTrue:"]
[null,"1. On ‘Start Here’ Sheet"]
[null,"a. Select both State and County information from drop down"]
[null,"b. If customer is a National Account, select ‘Yes’"]
[null,"c. If you choose to discount, enter a percent in the TennantTrue Discount area"]
[null,"2. After completing a machine quote, select ‘Yes’ next to “Is customer interested in service program?” NOTE: if ‘Yes’ is not an option, make sure Step 1 above has been completed."]
[null,"3. Select anticipated Monthly machine usage"]
[null,"4. Click ‘Add to Summary’ to add data to TennantTrue Summary"]
[null,"5. When emailing to a customer:"]
[null,"a. First delete all worksheets you do not want to include.  To do this, while holding down "]
[null,"the SHIFT key, select the worksheets you wish to delete."]
[null,"b. Right Click while still pointing to one of the selected worksheets"]
[null,"c. Select 'Delete'"]
[null,"d. When the message \"Data may exist in the sheet(s) selected for deletion.  To "]
[null,"permanently delete the data, press Delete.\" appears, select 'Delete' "]
[null,"e. Go to File -> Save As -> and save as a separate file"]
[]
[null,"TO USE THE QUOTE/ORDER FORM:"]
[null,"1.  Enter all pertinent information on the Start Here sheet.  This information will be carried over to the Cover Letter and Quotation sheets.  Get as much information as you can regarding ordering information—this will save a lot of time later (and be easier to read if it is typed)."]
[null,"2 If you have access to the Tennant Intranet, you can verify leadtimes from this address:"]
[null,"Machine availablility Minneapolis, MN"]
[null,"Machine availablility Holland, MI"]
[]
[null,"3.  You may edit and customize the letter where/when appropriate."]
[null,"4.  Click on the tab of the machine you want to quote.  Scroll down the list of machine power sources and options and enter the number desired in the Quantity box.  "]
[null,"5.  Use the arrows on the bottom left to scroll to machine family tabs not visible (back and forth)."]
[null,"6.  Use the Specials area for  Freight and Tax. You may also use this space to add Trade-In, Special promotional discounts, Additional product lines being included in the quote.   Fill in the description, price, and quantity. Note: You may enter a negative amount for discounts or trade-in allowances for example"]
[null,"7.  After all items you want to quote have a quantity entered, click on Tools on your menu bar.  Click on \"Hide Blank Qty\".  The list will automatically shorten to only the items you selected to quote.  To see the entire list again, click on Tools again, click on \"Show All Qty\"."]
[]
[null,"QUOTING"]
[null,"1.  To the customer:"]
[null,"**Print or fax quote (see Fax information below)"]
[null,"2.  To Minneapolis for a formal SAP quote. "]
[null,"**Email or fax to your quote coordinator (See Fax or Email information below)"]
[null,"**Sales Support fax for Quotes (763) 513-2116"]
[]
[null,"ORDERING"]
[null,"1.  Fill in the information under Order Placement Information. "]
[null,"      "]
[null,"The following information is required to place the order:"]
[null,"   1  Order info (one of the following is attached):"]
[null,"       - Hard copy purchase order (complete)"]
[null,"       - Sales order form (complete) and signed by customer"]
[null,"   2.  Full company name and billing address (sold-to)"]
[null,"   3.  Complete Ship-to information"]
[null,"   4.  Ship-to contact name and phone number"]
[null,"   5.  Buyer’s name and phone number"]
[null,"   6.  Requested delivery date for the machine"]
[null,"   7  Complete configuration with part numbers (including brushes and detergent)"]
[null,"   8.  Credit Info: "]
[null,"       - New account or location: Completed credit application"]
[null,"       - Existing account: Updated credit info included (or not required per _______ in Credit)"]
[null,"   9.   Tax exemption certificate for ship-to state if customer wants exemption"]
[null,"   10.  SAP quotation number, if applicable, and quote is consistent with PO"]
[]
[null,"2.  Fax the form, PO, tax exemption certificate, etc. to: (763) 513-2116"]
[]
[null,"FAX"]
[null,"1.  Fax by selecting Winfax as your printer.  "]
[null,"2.  Only one excel TAB will fax at a time.  If you have multiple tabs, you must send each tab individually."]
[]
[null,"EMAIL"]
[null,"1. EMail one tab or several tabs.  When you have completed your quote, click on Option, Hide Blank Qty."]
[null,"2.  Select the tab(s) to be deleted (hold the control button down to select multiple tabs)"]
[null,"   - Note: do not select Start_Here page. If you keep this sheet, your links to your company name, contact, etc will be preserved on your quote when the customer or Customer Service gets it. You will be able to change the quote later as well because the hide/show quantities will stay in tact."]
[null,"3.  Click on Edit, click on \"Delete Sheet\", click OK."]
[null,"4.  If you intend to email the quote and do not want the Special Information at the bottom of the machine to be transmitted to your customer, delete the Special Information.  These cells have been left unprotected for this purpose."]
[null,"5.  Click File, Send and address your EMail"]
[]
[null,"FAQ"]
[null,"Q: How to I add price in the Specials area (discounts, freight, tax, etc)?  It wants a password.:"]
[null,"A. Fill in the description, price (under the heading “insert price here”), and quantity.  The extended price will calculate automatically."]
[]
[null,"Q: Who do I call for questions?"]
[null,"A. If you have any questions regarding the use of this template, please contact your local Tennant Rep or Customer Service @ (800) 553-8033 and ask for extension 2180."]
[null,"A. If you have questions regarding pricing, contact Customer Service @ (800) 553-8033 and ask for extension 2177."]
[null,"A. If you have questions regarding quotes or machine orders, contact Customer Service @ (800) 553-8033 to speak with your Quote Coordinator or Machine Specialist."]
[]
[null,"Q: I tried to take an item off the machine and the price column says --  #Value!  -- .  How do I get rid of it?"]
[null,"A: Move your cursor to the quantity column and press the delete key on your keyboard.  To avoid it in the future, do not use the space bar in the quantity column."]
[]
[null,"Finance Quote Templates Cheat Sheet"]
[]
[null,"1. Payments are calculated based on Machines Total, Purchase Options, and Terms. Any changes made to these will be calculated automatically."]
[null,"2. The Machine Total must be a minimum of $2000 for All-Lines Leasing and $5000 for GE and US bank or the payment amount will be blank."]
[null,"3. To change \"Purchase Options\" or \"Terms\", simply click on the cell. The drop down arrow will show up on the right. Click on the drop down arrow to select a value."]
[null,"4. \"Rent To Own\" is only available for 9, 12, or 18 months. Those terms AND \"Rent To Own\" option MUST be selected together to show payment, otherwise, the cell will be blank."]
[null,"5. To change vendor (All-Lines Leasing, GE, or US Bank), go to the \"Start_Here\" tab, and scroll down to \"Leasing Options\" at the end of the sheet. Select the vendor via the drop down, and then click the \"Apply Change\" button. (US Only)"]
[null,"6. Rates are updated quarterly (or more frequently if necessary). Since it is built-in the quote templates, the downloaded templates always contain the current rates. CAUTION: Make sure any version you've saved to your hard drive are the most current version."]
[null,"7. For the contract document, please contact All-Lines Leasing at 800-477-5855, GE at 800-876-6015, or US Bank at 800-934-7444."]
[]
[null,"Note: Macros – If you encounter a pop-up box bout macros when opening the file you should select “Enable Macros”. You can also go to “Tools>Macros>Security” on your menu bar and change the setting to medium to allow macros. Macros must be enabled for the worksheet to function properly."]
[]
[null,"LOGO:"]
[null,"The “Cover_Letter” tab is not protected and therefore the distributor can put their logos on it. The tennant logo itself on all the machine tabs is not protected, and can be removed if choose to. To remove the logo, just do a single left click on it and press delete.\n"]

{"sheet":"Surcharge","index":46,"n_rows":318,"n_cols":9,"rows_kept":318,"cut":false,"hidden":true,"merged":[[0,4,0,5]]}
["Material","Surcharge","PH Category*","Prod Hier 1 - nav","ProdHier*",null,"Material","Description","Surcharge"]
["1070589",{"$f":"12.5","v":12.5},"Consumables","Batteries","515010","6V Battery","1070589","BATTERY, WET, 06V 360A, HLREP.BYNONE[TR]",{"$f":"12.5","v":12.5}]
["1204144",12.5,"Consumables","Batteries","515010","6V Battery","1204144","BATTERY, WET, 06VDC 435AH, HL, W/BOX[TR]",12.5]
["1205632",12.5,"Consumables","Batteries","515010","6V Battery","1205632","BATTERY, WET, 6VDC 330AH C/20, W/CA [TR]",12.5]
["1031914",12.5,"Consumables","Batteries","515010010","6V AGM Battery","1031914","BATTERY, AGM, 06VDC 0312AH [DISCOVER]",12.5]
["1021446",12.5,"Consumables","Batteries","515010010030","6V AGM 151-200 AH Battery","1021446","BATTERY, 06VDC 0200AH [AGM]",12.5]
["1074042",12.5,"Consumables","Batteries","515010010040","6V AGM 201-300 AH Battery","1074042","BATTERY, AGM, 06VDC 0220AH [DISCOVER]",12.5]
["1038630",12.5,"Consumables","Batteries","515010020030","6V Wet 151-200 AH Battery","1038630","BATTERY, WET, 06VDC 0185AH [TR]",12.5]
["10155",12.5,"Consumables","Batteries","515010020040","6V Wet 201-300 AH Battery","10155","BATTERY, WET, 06VDC, 225AH [TR]",12.5]
["1027944",12.5,"Consumables","Batteries","515010020040","6V Wet 201-300 AH Battery","1027944","BATTERY, WET, 06VDC 0240AH, W/O CARTON",12.5]
["1028282",12.5,"Consumables","Batteries","515010020040","6V Wet 201-300 AH Battery","1028282","BATTERY, 06VDC 0220AH",12.5]
["1028600",12.5,"Consumables","Batteries","515010020040","6V Wet 201-300 AH Battery","1028600","BATTERY, WET, 06VDC 0244AH [LOC SOURCE]",12.5]
["130986",12.5,"Consumables","Batteries","515010020040","6V Wet 201-300 AH Battery","130986","BATTERY, 06VDC 0250AH [9C11]",12.5]
["222280",12.5,"Consumables","Batteries","515010020040","6V Wet 201-300 AH Battery","222280","BATTERY, WET, 06VDC 0240AH",12.5]
["222778",12.5,"Consumables","Batteries","515010020040","6V Wet 201-300 AH Battery","222778","BATTERY KIT, WET, 06VDC 0240AH, CI",12.5]
["223373",12.5,"Consumables","Batteries","515010020040","6V Wet 201-300 AH Battery","223373","BATTERY KIT, WET, 06VDC 0240AH, CI",12.5]
["390825",12.5,"Consumables","Batteries","515010020040","6V Wet 201-300 AH Battery","390825","BATTERY, WET, 06VDC 0260AH [TR]",12.5]
["10138",12.5,"Consumables","Batteries","515010020050","6V Wet 301-400 AH Battery","10138","BATTERY, WET, 06VDC 0330AH [TR]",12.5]
["1028597",12.5,"Consumables","Batteries","515010020050","6V Wet 301-400 AH Battery","1028597","BATTERY, WET, 06VDC 0335AH [LOC SOURCE]",12.5]
["1028611",12.5,"Consumables","Batteries","515010020050","6V Wet 301-400 AH Battery","1028611","BATTERY, WET, 06VDC 0350AH [LOC SOURCE]",12.5]
["1028612",12.5,"Consumables","Batteries","515010020050","6V Wet 301-400 AH Battery","1028612","BATTERY, WET, 06VDC 0305AH [LOC SOURCE]",12.5]
["1070586",12.5,"Consumables","Batteries","515010020050","6V Wet 301-400 AH Battery","1070586","BATTERY, WET, 06VDC 0360AH, W/O CARTON",12.5]
["1070587",12.5,"Consumables","Batteries","515010020050","6V Wet 301-400 AH Battery","1070587","BATTERY, WET, 06VDC 0360AH, W/ CART [TR]",12.5]
["222777",12.5,"Consumables","Batteries","515010020050","6V Wet 301-400 AH Battery","222777","BATTERY KIT, WET, 06VDC 0360AH, CI",12.5]
["222852",12.5,"Consumables","Batteries","515010020050","6V Wet 301-400 AH Battery","222852","BATTERY KIT, WET, 06VDC 0360AH, REPLMT",12.5]
["10157",12.5,"Consumables","Batteries","515010020060","6V Wet 401-500 AH Battery","10157","BATTERY, WET, 06VDC 420AH [TR]",12.5]
["1204146",12.5,"Consumables","Batteries","515010020060","6V Wet 401-500 AH Battery","1204146","BATTERY, WET, 06VDC 435AH, W/ BOX [TR]",12.5]
["390764",12.5,"Consumables","Batteries","515010030030","6V Gel 151-200 AH Battery","390764","BATTERY, GEL, 06V 0180AH [MAINT FREE TR]",12.5]
["1028279",12.5,"Consumables","Batteries","515020","12V Battery","1028279","BATTERY, 12VDC 0260CCA",12.5]
["1028284",12.5,"Consumables","Batteries","515020","12V Battery","1028284","BATTERY, 12VDC 0530CCA",12.5]
["1028285",12.5,"Consumables","Batteries","515020","12V Battery","1028285","BATTERY, 12VDC 0700CCA",12.5]
["1070603",12.5,"Consumables","Batteries","515020","12V Battery","1070603","BATTERY, WET, 12V 225A, HLREP.BYNONE[TR]",12.5]
["1206317",12.5,"Consumables","Batteries","515020","12V Battery","1206317","BATTERY, WET, 12VDC 185AH C/20, W/CA[TR]",12.5]
["9008732",{"$f":"12.5","v":12.5},"Consumables","Batteries","515020","12V Battery","9008732","BATTERY KIT, 12VDC 0040AH, CI [LI-ION]",{"$f":"12.5","v":12.5}]
["1016203",12.5,"Consumables","Batteries","515020010010","12V AGM Less than 100 AH Battery","1016203","BATTERY, AGM, 12VDC 0042AH [3610 AM, MK]",12.5]
["1065086",12.5,"Consumables","Batteries","515020010010","12V AGM Less than 100 AH Battery","1065086","BATTERY, AGM, 12VDC 0050AH [T1B, S5, MK]",12.5]
["1068827",12.5,"Consumables","Batteries","515020010010","12V AGM Less than 100 AH Battery","1068827","BATTERY, AGM, 12VDC 0026AH  [S3B, MK]",12.5]
["1053408",12.5,"Consumables","Batteries","515020010020","12V AGM 101-150 AH Battery","1053408","BATTERY, 12VDC 0140AH [AGM]",12.5]
["1053427",12.5,"Consumables","Batteries","515020010040","12V AGM 201-300 AH Battery","1053427","BATTERY, 12VDC EV185A 234AH DISCOVER AGM",12.5]
["10134",12.5,"Consumables","Batteries","515020020","12V Wet Battery","10134","BATTERY, WET, 12VDC 0260CCA",12.5]
["10137",12.5,"Consumables","Batteries","515020020","12V Wet Battery","10137","BATTERY, WET, 12VDC 0475CCA [TR]",12.5]
["10143",12.5,"Consumables","Batteries","515020020","12V Wet Battery","10143","BATTERY, WET, 12VDC 0600CCA [TR]",12.5]
["77602",12.5,"Consumables","Batteries","515020020","12V Wet Battery","77602","BATTERY, WET, 12VDC 0700CCA [TR]",12.5]
["EM011",12.5,"Consumables","Batteries","515020020010","12V Wet Less than 100 AH Battery","EM011","BATTERY  70 AMP HR DIN 570 144 064",12.5]
["1028287",12.5,"Consumables","Batteries","515020020020","12V Wet 101-150 AH Battery","1028287","BATTERY, 12VDC 0130AH",12.5]
["1073553",12.5,"Consumables","Batteries","515020020020","12V Wet 101-150 AH Battery","1073553","BATTERY, WET, 12VDC 1000CCA",12.5]
["130869",12.5,"Consumables","Batteries","515020020020","12V Wet 101-150 AH Battery","130869","BATTERY, WET, 12VDC 0130AH[30XHS-WNT TR]",12.5]
["578426",12.5,"Consumables","Batteries","515020020020","12V Wet 101-150 AH Battery","578426","BATTERY, WET, 12V 0105AH [S8, 27TMX TR]",12.5]
["602240",12.5,"Consumables","Batteries","515020020020","12V Wet 101-150 AH Battery","602240","BATTERY, 06VDC 0350AH [L16G-LT TR]",12.5]
["61355",12.5,"Consumables","Batteries","515020020020","12V Wet 101-150 AH Battery","61355","BATTERY, WET, 12VDC 0105AH 0530CCA [TR]",12.5]
["80063",12.5,"Consumables","Batteries","515020020020","12V Wet 101-150 AH Battery","80063","BATTERY, WET, 12VDC 0130AH [TR]",12.5]
["1015046",12.5,"Consumables","Batteries","515020020030","12V Wet 151-200 AH Battery","1015046","BATTERY, WET, 12VDC 0150AH",12.5]
["1028286",12.5,"Consumables","Batteries","515020020040","12V Wet 201-300 AH Battery","1028286","BATTERY, 12VDC 0215AH",12.5]
["1070591",12.5,"Consumables","Batteries","515020020040","12V Wet 201-300 AH Battery","1070591","BATTERY, WET, 12VDC 0225AH, W/ CART [TR]",12.5]
["600394",12.5,"Consumables","Batteries","515020020040","12V Wet 201-300 AH Battery","600394","BATTERY, WET, 12V 225AH, DUAL POST [TR]",12.5]
["61384",12.5,"Consumables","Batteries","515020020040","12V Wet 201-300 AH Battery","61384","BATTERY KIT, WET, F/10146, REPLMT",12.5]
["80031",12.5,"Consumables","Batteries","515020020040","12V Wet 201-300 AH Battery","80031","BATTERY, WET, 12VDC 0225AH [TR]",12.5]
["611867",12.5,"Consumables","Batteries","515020030010","12V Gel Less than 100 AH Battery","611867","BATTERY, GEL, 12VDC 0100AH [S8, CROWN]",12.5]
["994200",12.5,"Consumables","Batteries","515020030010","12V Gel Less than 100 AH Battery","994200","BATTERY, GEL, 12VDC 0076AH [GF12076V]",12.5]
["1071125",12.5,"Consumables","Batteries","515020030020","12V Gel 101-150 AH Battery","1071125","BATTERY, GEL, 12V 102AH [TRJN 31-GEL TR]",12.5]
["386334",25,"Consumables","Batteries","515030","18V Battery","386334","BATTERY, 36VDC 0600AH, SEALED",25]
["386939",25,"Consumables","Batteries","515030","18V Battery","386939","BATTERY KIT, 36VDC 1000AH, WET, CI",25]
["1049972",25,"Consumables","Batteries","515030020050","18V Wet 301-400 AH Battery","1049972","BATTERY, WET, 18VDC 0340AH",25]
["1049973",25,"Consumables","Batteries","515030020060","18V Wet 401-500 AH Battery","1049973","BATTERY, WET, 18VDC 0440AH",25]
["06564",25,"Consumables","Batteries","515030020070","18V Wet 501-600 AH Battery","06564","BATTERY SET [(2)-18VDC TYPE E]",25]
["33520",25,"Consumables","Batteries","515030020070","18V Wet 501-600 AH Battery","33520","BATTERY SET [(2)-18VDC TYPE EE]",25]
["80232",25,"Consumables","Batteries","515040020020","24V Wet 101-150 AH Battery","80232","BATTERY KIT, 24VDC, 130AH, WET, CI[3640]",25]
["383951",50,"Consumables","Batteries","515050020040","36V Wet 201-300 AH Battery","383951","BATTERY KIT, WET, 36VDC 0235AH, CI",50]
["390829",50,"Consumables","Batteries","515050020040","36V Wet 201-300 AH Battery","390829","BATTERY KIT, 36VDC, 244AH, WET, CI",50]
["83255",50,"Consumables","Batteries","515050020040","36V Wet 201-300 AH Battery","83255","BATTERY KIT, WET, 36VDC 0220AH, CI[6100]",50]
["223377",50,"Consumables","Batteries","515050020050","36V Wet 301-400 AH Battery","223377","BATTERY KIT, WET, 36VDC 0360AH, CI",50]
["383955",50,"Consumables","Batteries","515050020050","36V Wet 301-400 AH Battery","383955","BATTERY KIT, WET, 36VDC 0360AH, CI",50]
["387322",50,"Consumables","Batteries","515050020050","36V Wet 301-400 AH Battery","387322","BATTERY, WET, 36VDC 0380AH [TR]",50]
["387324",50,"Consumables","Batteries","515050020050","36V Wet 301-400 AH Battery","387324","BATTERY KIT, WET, 36VDC 0380AH, CI",50]
["386335",50,"Consumables","Batteries","515050020060","36V Wet 401-500 AH Battery","386335","BATTERY, WET, 36VDC 0500AH",50]
["386932",50,"Consumables","Batteries","515050020060","36V Wet 401-500 AH Battery","386932","BATTERY KIT, WET, 36VDC 0500AH, CI",50]
["1207937",50,"Consumables","Batteries","515050020070","36V Wet 501-600 AH Battery","1207937","BATTERY, WET, 36VDC, 510AH",50]
["1018515",50,"Consumables","Batteries","515050020090","36V Wet 701-800 AH Battery","1018515","BATTERY, WET, 36VDC 0750AH",50]
["1210315",50,"Consumables","Batteries","515050020090","36V Wet 701-800 AH Battery","1210315","BATTERY, WET, 36VDC, 750AH [W/WATERING]",50]
["386936",50,"Consumables","Batteries","515050020090","36V Wet 701-800 AH Battery","386936","BATTERY KIT, WET, 36VDC 0750AH, CI",50]
["386337",50,"Consumables","Batteries","515050020110","36V Wet 900 or higher AH Battery","386337","BATTERY, WET, 36VDC 1000AH",50]
["1028283",12.5,"Consumables","Batteries","515070","Batteries - Other","1028283","BATTERY, 06VDC 0360AH",12.5]
["1204248",12.5,"Consumables","Batteries","515070","Batteries - Other","1204248","BATTERY, 06VDC EVL16A 390AH DISCOVER AGM",12.5]
["1213281","N/A","Consumables","Batteries","515070","Batteries - Other","1213281","HOSE KIT, WATERING, BATTERY, 20FT","N/A"]
["387043","N/A","Consumables","Batteries","515070","Batteries - Other","387043","BATTERY KIT, R/O, CI","N/A"]
["9008688","N/A","Consumables","Batteries","515070","Batteries - Other","9008688","BATTERY KIT, CONV. [LI TO AGM]","N/A"]
["9008689","N/A","Consumables","Batteries","515070","Batteries - Other","9008689"," BATTERY KIT, CONV. W/O BAT [AGM TO Li+]","N/A"]
["9008690","N/A","Consumables","Batteries","515070","Batteries - Other","9008690","BATTERY REPLMT KIT, [Li+]","N/A"]
["T17-D",150,"T17"]
["T17-C",150,"T17"]
["M17-D",150,"M17"]
["M17-C",150,"M17"]
["T12-D",100,"T12"]
["T12-C",100,"T12"]
["T12-XP-D",100,"T12"]
["T12-XP-C",100,"T12"]
["T16-910-D",100,"T16"]
["T16-910-C",100,"T16"]
["6100-B",100,6100]
["6200-B",100,6200]
["S20-B",100,"S20EV"]
["MV-B5-0010",100,"B5"]
["MV-B5-0011",100,"B5"]
["MV-SG5-0006",100,"SpeedGleam5"]
["MV-B7-0008",100,"B7"]
["MV-B7-0009",100,"B7"]
["MV-SG7-0005",100,"SpeedGleam7"]
["B10-610",100,"B10"]
["B10-690",100,"B10"]
["SGR-610",100,"SpeedGleam_Rider"]
["SGR-690",100,"SpeedGleam_Rider"]
["MV-5680-0030",100,5680]
["MV-5680-0031",100,5680]
["MV-5680-0032",100,5680]
["MV-5680-0033",100,5680]
["MV-5680-0034",100,5680]
["MV-5680-0035",100,5680]
["5680-700-D",100,5680]
["5680-800-D",100,5680]
["5680-900-D",100,5680]
["5680-700-C",100,5680]
["5680-800-C",100,5680]
["5680-900-C",100,5680]
["5700-700-D",100,5700]
["5700-800-D",100,5700]
["5700-900-D",100,5700]
["5700-700-C",100,5700]
["5700-800-C",100,5700]
["5700-900-C",100,5700]
["MV-1610-0001",50,"Dual_Tech_ReadySpace_1610"]
["MV-1610-0002",50,"Dual_Tech_ReadySpace_1610"]
["MV-1610-0008",50,"Dual_Tech_ReadySpace_1610"]
["1610-560",50,"Dual_Tech_ReadySpace_1610"]
["R14-700",50,"Dual_Tech_ReadySpace_R14"]
["MV-STRV-0001",50,"DualTech_ReadySpace_Strive"]
["MV-STRV-0002",50,"DualTech_ReadySpace_Strive"]
["MV-STRV-0004",50,"DualTech_ReadySpace_Strive"]
["Strive-560",50,"DualTech_ReadySpace_Strive"]
["Strive-700",50,"DualTech_ReadySpace_StriveRider"]
["MV-SS350-0001",50,"SS350"]
["MV-SS350-0002",50,"SS350"]
["MV-SS350-0003",50,"SS350"]
["MV-SS350-0004",50,"SS350"]
["MV-SS350-0005",50,"SS350"]
["MV-SS350-0006",50,"SS350"]
["MV-SS350-0007",50,"SS350"]
["MV-SS350-0008",50,"SS350"]
["SS350-500-D",50,"SS350"]
["SS350-600-D",50,"SS350"]
["MV-SSR-0044",50,"SSR"]
["MV-SSR-0045",50,"SSR"]
["SSR-650-D",50,"SSR"]
["SSR-800-D",50,"SSR"]
["SSR-700-C",50,"SSR"]
["SSR-800-C",50,"SSR"]
["MV-T350-0001",50,"T350"]
["MV-T350-0002",50,"T350"]
["MV-T350-0003",50,"T350"]
["MV-T350-0004",50,"T350"]
["MV-T350-0005",50,"T350"]
["MV-T350-0006",50,"T350"]
["MV-T350-0007",50,"T350"]
["MV-T350-0008",50,"T350"]
["MV-T350-0009",50,"T350"]
["MV-T350-0010",50,"T350"]
["MV-T350-0011",50,"T350"]
["MV-T350-0012",50,"T350"]
["T350-500-D",50,"T350"]
["T350-600-D",50,"T350"]
["MV-T7-0051",50,"T7"]
["MV-T7-0052",50,"T7"]
["MV-T7-0053",50,"T7"]
["T7-650-D",50,"T7"]
["T7-800-D",50,"T7"]
["T7-700-C",50,"T7"]
["T7-800-C",50,"T7"]
["MV-SS300-0001",50,"SS300"]
["MV-SS300-0002",50,"SS300"]
["MV-SS300-0003",50,"SS300"]
["MV-SS300-0004",50,"SS300"]
["MV-SS300-0005",50,"SS300"]
["MV-SS300-0006",50,"SS300"]
["MV-SS300-0007",50,"SS300"]
["MV-SS300-0008",50,"SS300"]
["MV-SS300-0015",50,"SS300"]
["MV-SS300-0016",50,"SS300"]
["MV-SS300-0017",50,"SS300"]
["MV-SS300-0018",50,"SS300"]
["MV-SS300-0019",50,"SS300"]
["MV-SS300-0020",50,"SS300"]
["MV-SS300-0011",50,"SS300"]
["MV-SS300-0009",50,"SS300"]
["MV-SS300-0010",50,"SS300"]
["MV-SS300-0021",50,"SS300"]
["SS300-430-D",50,"SS300"]
["SS300-500-D",50,"SS300"]
["SS300-600-D",50,"SS300"]
["SS300-500-C",50,"SS300"]
["SS300-500-O",50,"SS300"]
["MV-SS500-0001",50,"SS500"]
["MV-SS500-0005",50,"SS500"]
["MV-SS500-0009",50,"SS500"]
["MV-SS500-0002",50,"SS500"]
["MV-SS500-0006",50,"SS500"]
["MV-SS500-0010",50,"SS500"]
["MV-SS500-0003",50,"SS500"]
["MV-SS500-0007",50,"SS500"]
["MV-SS500-0011",50,"SS500"]
["MV-SS500-0004",50,"SS500"]
["MV-SS500-0008",50,"SS500"]
["MV-SS500-0012",50,"SS500"]
["SS500-650-D",50,"SS500"]
["SS500-700-D",50,"SS500"]
["SS500-800-D",50,"SS500"]
["SS500-700-C",50,"SS500"]
["SS500-700-O",50,"SS500"]
["T12-D",50,"T12"]
["T12-C",50,"T12"]
["T12-XP-D",50,"T12"]
["T12-XP-C",50,"T12"]
["MV-T300-0001",50,"T300"]
["MV-T300-0079",50,"T300"]
["MV-T300-0080",50,"T300"]
["MV-T300-0003",50,"T300"]
["MV-T300-0004",50,"T300"]
["MV-T300-0005",50,"T300"]
["MV-T300-0006",50,"T300"]
["MV-T300-0007",50,"T300"]
["MV-T300-0008",50,"T300"]
["MV-T300-0009",50,"T300"]
["MV-T300-0066",50,"T300"]
["MV-T300-0077",50,"T300"]
["MV-T300-0078",50,"T300"]
["MV-T300-0067",50,"T300"]
["MV-T300-0068",50,"T300"]
["MV-T300-0069",50,"T300"]
["MV-T300-0070",50,"T300"]
["MV-T300-0071",50,"T300"]
["MV-T300-0072",50,"T300"]
["MV-T300-0073",50,"T300"]
["MV-T300-0012",50,"T300"]
["MV-T300-0010",50,"T300"]
["MV-T300-0011",50,"T300"]
["MV-T300-0074",50,"T300"]
["MV-T300-0075",50,"T300"]
["T300-430-D",50,"T300"]
["T300-500-D",50,"T300"]
["T300-600-D",50,"T300"]
["T300-500-C",50,"T300"]
["T300-500-O",50,"T300"]
["MV-T300e-0001",50,"T300e"]
["MV-T300e-0002",50,"T300e"]
["MV-T300e-0003",50,"T300e"]
["MV-T300e-0004",50,"T300e"]
["MV-T300e-0005",50,"T300e"]
["MV-T300e-0006",50,"T300e"]
["MV-T300e-0007",50,"T300e"]
["MV-T300e-0008",50,"T300e"]
["MV-T300e-0043",50,"T300e"]
["MV-T300e-0044",50,"T300e"]
["MV-T300e-0045",50,"T300e"]
["MV-T300e-0046",50,"T300e"]
["MV-T300e-0047",50,"T300e"]
["MV-T300e-0011",50,"T300e"]
["MV-T300e-0009",50,"T300e"]
["MV-T300e-0010",50,"T300e"]
["MV-T300e-0048",50,"T300e"]
["T300e-430-D",50,"T300e"]
["T300e-500-D",50,"T300e"]
["T300e-600-D",50,"T300e"]
["T300e-500-C",50,"T300e"]
["T300e-500-O",50,"T300e"]
["MV-T500-0001",50,"T500"]
["MV-T500-0006",50,"T500"]
["MV-T500-0002",50,"T500"]
["MV-T500-0007",50,"T500"]
["MV-T500-0011",50,"T500"]
["MV-T500-0003",50,"T500"]
["MV-T500-0008",50,"T500"]
["MV-T500-0012",50,"T500"]
["MV-T500-0004",50,"T500"]
["MV-T500-0009",50,"T500"]
["MV-T500-0013",50,"T500"]
["MV-T500-0005",50,"T500"]
["MV-T500-0010",50,"T500"]
["T500-650-D",50,"T500"]
["T500-700-D",50,"T500"]
["T500-800-D",50,"T500"]
["T500-700-C",50,"T500"]
["T500-700-O",50,"T500"]
["MV-T500e-0003",50,"T500e"]
["MV-T500e-0007",50,"T500e"]
["MV-T500e-0011",50,"T500e"]
["MV-T500e-0004",50,"T500e"]
["MV-T500e-0008",50,"T500e"]
["MV-T500e-0012",50,"T500e"]
["MV-T500e-0005",50,"T500e"]
["MV-T500e-0009",50,"T500e"]
["MV-T500e-0013",50,"T500e"]
["MV-T500e-0006",50,"T500e"]
["MV-T500e-0010",50,"T500e"]
["MV-T500e-0014",50,"T500e"]
["T500e-650-D",50,"T500e"]
["T500e-700-D",50,"T500e"]
["T500e-800-D",50,"T500e"]
["T500e-700-C",50,"T500e"]
["T500e-700-O",50,"T500e"]
["3640-E",50,3640]
["S10-B",50,"S10"]
[9008635,50,"T1b"]
[9008637,50,"SS15b"]
[1071366,50,"S9"]
[9010139,50,"Scout 9"]
[1069647,50,"S5"]
[1071118,50,"Scout 5"]
[9007471,50,"V-WD- 16B"]
[614002,50,1510]
[608351,50,"Falcon Ultra"]

{"sheet":"County Tier","index":47,"n_rows":146,"n_cols":6,"rows_kept":146,"cut":false,"hidden":true,"merged":[]}
["State","Code","County","PM","Reg","Trip"]
["Alberta",null,"ALL OTHER COUNTIES",133,171,127]
["Alaska",null,"ALL OTHER COUNTIES",148,175,138]
["Alabama",null,"ALL OTHER COUNTIES",121,150,122]
["Arkansas",null,"ALL OTHER COUNTIES",128,152,122]
["Arizona",null,"ALL OTHER COUNTIES",130,151,127]
["British Columbia",null,"ALL OTHER COUNTIES",133,171,127]
["California",1,"Alameda",145,173,138]
["California",13,"Contra Costa",145,173,138]
["California",41,"Marin",145,173,138]
["California",51,"Mono",136,166,127]
["California",53,"Monterey",145,173,138]
["California",55,"Napa",145,173,138]
["California",69,"San Benito",145,173,138]
["California",75,"San Francisco",145,173,138]
["California",81,"San Mateo",145,173,138]
["California",85,"Santa Clara",145,173,138]
["California",87,"Santa Cruz",145,173,138]
["California",95,"Solano",145,173,138]
["California",97,"Sonoma",145,173,138]
["California",null,"ALL OTHER COUNTIES",136,166,135]
["Colorado",7,"Archuleta",129,157,126]
["Colorado",null,"ALL OTHER COUNTIES",129,157,126]
["Connecticut",null,"ALL OTHER COUNTIES",135,169,130]
["District of Columbia",null,"ALL OTHER COUNTIES",133,163,129]
["Delaware",null,"ALL OTHER COUNTIES",135,169,130]
["Florida",111,"St Lucie",128,150,122]
["Florida",null,"ALL OTHER COUNTIES",128,150,122]
["Georgia",127,"Glynn",128,155,122]
["Georgia",null,"ALL OTHER COUNTIES",128,155,122]
["Hawaii",null,"ALL OTHER COUNTIES",148,175,138]
["Iowa",149,"Plymouth",128,145,122]
["Iowa",null,"ALL OTHER COUNTIES",128,145,122]
["Idaho",1,"Ada",128,140,122]
["Idaho",null,"ALL OTHER COUNTIES",128,140,122]
["Illinois",5,"Bond",132,166,136]
["Illinois",null,"ALL OTHER COUNTIES",132,166,136]
["Indiana",5,"Bartholomew",134,168,136]
["Indiana",7,"Benton",128,152,122]
["Indiana",9,"Blackford",134,168,136]
["Indiana",11,"Boone",134,168,136]
["Indiana",15,"Carroll",134,168,136]
["Indiana",33,"De Kalb",134,168,136]
["Indiana",47,"Franklin",134,168,136]
["Indiana",59,"Hancock",134,168,136]
["Indiana",61,"Harrison",134,168,136]
["Indiana",73,"Jasper",134,168,136]
["Indiana",91,"La Porte",134,168,136]
["Indiana",89,"Lake",134,168,136]
["Indiana",111,"Newton",134,168,136]
["Indiana",127,"Porter",134,168,136]
["Indiana",131,"Pulaski",134,168,136]
["Indiana",149,"Starke",134,168,136]
["Indiana",null,"ALL OTHER COUNTIES",128,152,122]
["Kansas",81,"Haskell",128,158,128]
["Kansas",null,"ALL OTHER COUNTIES",128,158,128]
["Kentucky",85,"Grayson",128,150,122]
["Kentucky",null,"ALL OTHER COUNTIES",128,150,122]
["Louisiana",103,"St Tammany",128,144,122]
["Louisiana",null,"ALL OTHER COUNTIES",128,144,122]
["Massachusetts",13,"Hampden",137,169,138]
["Massachusetts",null,"ALL OTHER COUNTIES",137,169,138]
["Manitoba",null,"ALL OTHER COUNTIES",133,171,127]
["Maryland",null,"ALL OTHER COUNTIES",133,163,129]
["Maine",null,"ALL OTHER COUNTIES",129,157,126]
["Michigan",153,"Schoolcraft",128,156,128]
["Michigan",null,"ALL OTHER COUNTIES",128,156,128]
["Minnesota",null,"ALL OTHER COUNTIES",128,162,129]
["Missouri",510,"St Louis City",128,157,127]
["Missouri",null,"ALL OTHER COUNTIES",128,157,127]
["Mississippi",null,"ALL OTHER COUNTIES",128,152,122]
["Montana",null,"ALL OTHER COUNTIES",148,175,138]
["New Brunswick",null,"ALL OTHER COUNTIES",133,171,127]
["North Carolina",1,"Alamance",128,152,126]
["North Carolina",null,"ALL OTHER COUNTIES",128,152,126]
["North Dakota",13,"Burke",128,145,122]
["North Dakota",null,"ALL OTHER COUNTIES",128,145,122]
["Nebraska",41,"Custer",128,145,122]
["Nebraska",null,"ALL OTHER COUNTIES",128,145,122]
["New Hampshire",null,"ALL OTHER COUNTIES",140,169,138]
["New Jersey",1,"Atlantic",137,172,132]
["New Jersey",5,"Burlington",137,172,132]
["New Jersey",7,"Camden",137,172,132]
["New Jersey",9,"Cape May",137,172,132]
["New Jersey",11,"Cumberland",137,172,132]
["New Jersey",15,"Gloucester",137,172,132]
["New Jersey",33,"Salem",137,172,132]
["New Jersey",null,"ALL OTHER COUNTIES",144,172,137]
["Newfoundland and Labrador",null,"ALL OTHER COUNTIES",133,171,127]
["New Mexico",null,"ALL OTHER COUNTIES",128,150,122]
["Nova Scotia",null,"ALL OTHER COUNTIES",133,171,127]
["Nevada",7,"Elko",132,164,129]
["Nevada",null,"ALL OTHER COUNTIES",132,164,129]
["New York",1,"Albany",144,172,137]
["New York",5,"Bronx",144,172,137]
["New York",47,"Kings",144,172,137]
["New York",59,"Nassau",144,172,137]
["New York",61,"New York",144,172,137]
["New York",73,"Orleans",134,168,129]
["New York",81,"Queens",144,172,137]
["New York",85,"Richmond",144,172,137]
["New York",91,"Saratoga",144,172,137]
["New York",89,"St Lawrence",144,172,137]
["New York",103,"Suffolk",144,172,137]
["New York",111,"Ulster",144,172,137]
["New York",null,"ALL OTHER COUNTIES",134,168,129]
["Ohio",5,"Ashland",128,158,128]
["Ohio",null,"ALL OTHER COUNTIES",128,158,128]
["Oklahoma",7,"Beaver",128,145,122]
["Oklahoma",null,"ALL OTHER COUNTIES",128,145,122]
["Ontario",null,"ALL OTHER COUNTIES",133,171,127]
["Oregon",9,"Columbia",128,157,127]
["Oregon",null,"ALL OTHER COUNTIES",128,157,127]
["Pennsylvania",11,"Berks",132,166,128]
["Pennsylvania",null,"ALL OTHER COUNTIES",132,166,128]
["Prince Edward Island",null,"ALL OTHER COUNTIES",133,171,127]
["Quebec",null,"ALL OTHER COUNTIES",133,171,127]
["Rhode Island",null,"ALL OTHER COUNTIES",135,169,130]
["South Carolina",33,"Dillon",128,156,128]
["South Carolina",null,"ALL OTHER COUNTIES",128,156,128]
["South Dakota",5,"Beadle",128,145,122]
["South Dakota",null,"ALL OTHER COUNTIES",128,145,122]
["Saskatchewan",null,"ALL OTHER COUNTIES",133,171,127]
["Tennessee",47,"Fayette",128,152,122]
["Tennessee",null,"ALL OTHER COUNTIES",128,152,122]
["Texas",59,"Callahan",128,156,128]
["Texas",null,"ALL OTHER COUNTIES",128,156,128]
["Utah",null,"ALL OTHER COUNTIES",128,150,122]
["Virginia",510,"Alexandria City",126,152,120]
["Virginia",13,"Arlington",134,164,128]
["Virginia",59,"Fairfax",134,164,128]
["Virginia",600,"Fairfax City",126,152,120]
["Virginia",81,"Greensville",128,149,122]
["Virginia",85,"Hanover",134,164,128]
["Virginia",103,"Lancaster",134,164,128]
["Virginia",107,"Loudoun",126,152,120]
["Virginia",683,"Manassas City",126,152,120]
["Virginia",153,"Prince William",126,152,120]
["Virginia",179,"Stafford",126,152,120]
["Virginia",null,"ALL OTHER COUNTIES",128,149,122]
["Vermont",null,"ALL OTHER COUNTIES",135,168,130]
["Washington",null,"ALL OTHER COUNTIES",132,158,128]
["Wisconsin",null,"ALL OTHER COUNTIES",129,157,126]
["West Virginia",null,"ALL OTHER COUNTIES",128,158,128]
["Wyoming",null,"ALL OTHER COUNTIES",129,157,126]
["Yukon",null,"ALL OTHER COUNTIES",133,171,127]

{"sheet":"TennantTrue Rate","index":48,"n_rows":246,"n_cols":62,"rows_kept":246,"cut":false,"hidden":true,"merged":[[2,26,2,28],[3,26,3,28],[3,2,3,4],[3,22,3,24],[2,2,2,4],[3,6,3,8],[2,22,2,24],[2,6,2,8],[2,18,2,20],[3,14,3,16],[3,18,3,20],[2,14,2,16],[3,10,3,12],[2,10,2,13],[2,30,2,32],[2,34,2,36],[3,30,3,32],[3,34,3,36],[2,50,2,53],[2,54,2,57],[2,58,2,61],[2,38,2,41],[2,42,2,45],[2,46,2,49]]}
["TennantTrue Service Rates","2025-04-22"]
["2025 Service Pricing_v5.2"]
[null,null,"GOLD",null,null,null,"GOLD  36 PRE PAY",null,null,null,"Federal Gov't Only\nPREPAY",null,null,null,"GOLD w/AB Brushes",null,null,null,"GOLD w/AB Brushes PrePay",null,null,null,"SILVER",null,null,null,"SILVER  ANNUALLY",null,null,null,"SILVER  PRE PAY",null,null,null,"SILVER  PER VISIT",null,null,null,"Block of Time  Commercial; Weekly\nWeekly Visits",null,null,null,"Block of Time  Commercial; BiWeekly\nBiWeekly Visits",null,null,null,"Block of Time  Industrial; Weekly\nWeekly Visits",null,null,null,"Block of Time  Industrial; BiWeekly\nBiweekly visits",null,null,null,"AMR Core  Prepay",null,null,null,"AMR Core Monthly"]
[null,null,"Term",null,null,null,"Term",null,null,null,"Term",null,null,null,"Term",null,null,null,"Term",null,null,null,"Term",null,null,null,"Term",null,null,null,"Term",null,null,null,"Term",null,null,null,null,null,null,"Term",null,null,null,"Term",null,null,null,"Term ",null,null,null,"Term",null,null,null,"Term",null,null,null,"Term"]
["Model","Hours",36,48,60,null,36,48,60,null,36,48,60,12,36,48,60,null,36,48,60,null,36,48,60,null,36,48,60,null,36,48,60,12,36,48,60,null,36,48,60,12,36,48,60,12,36,48,60,12,36,48,60,12,36,48,60,12,36,48,60,12]
[5680,"30/mo or  <1/day",null,null,null,null,null,null,null,null,null,null,null,null,null,null,null,null,null,null,null,null,82.689143496632752,85.356535222330564,88.023926948028404,null,972.43261456265554,1003.5090230173876,1034.5854314721196,null,2857.7347274830631,3892.3201589551836,4964.4562506434368,972.43261456265554,481.46420648845827,493.46746925409866,509.47181960828556,null,null,null,null,2814.0982706112104,null,null,null,1459.0632739567129,null,null,null,3160.8591949519291,null,null,null,1632.443736127072,0,0,0,0,0,0,0,0]
[5680,"60/mo or <2/day",null,null,null,null,null,null,null,null,null,null,null,null,null,null,null,null,null,null,null,null,184.05002907315034,189.38481252454591,194.71959597594164,null,2164.9897890129964,2227.1426059224605,2289.2954228319236,null,6360.3049304018177,8635.356999358657,10981.625837690919,2164.9897890129964,481.46420648845827,493.46746925409866,509.47181960828556,null,null,null,null,2814.0982706112104,null,null,null,1459.0632739567129,null,null,null,3160.8591949519291,null,null,null,1632.443736127072,0,0,0,0,0,0,0,0]
[5680,"90/mo or <3/day",null,null,null,null,null,null,null,null,null,null,null,null,null,null,null,null,null,null,null,null,308.08374431809943,318.75331122089074,329.4228781236821,null,3622.9912856808387,3748.591769852047,3874.1922540232563,null,10647.554446802553,14534.695204348613,18579.807704872896,3622.9912856808387,481.46420648845827,493.46746925409866,509.47181960828556,null,null,null,null,2814.0982706112104,null,null,null,1459.0632739567129,null,null,null,3160.8591949519291,null,null,null,1632.443736127072,0,0,0,0,0,0,0,0]
["Specialty","30/mo or  <1/day",0,null,null,null,0,null,null,null,null,null,null,null,null,null,null,null,null,null,null,null,0,null,null,null,0,null,null,null,0,null,null,null,0,null,null,null,null,null,null,2814.0982706112104,null,null,null,1459.0632739567129,null,null,null,3160.8591949519291,null,null,null,1632.443736127072,0,0,0,0,0,0,0,0]
["Specialty","60/mo or <2/day",null,null,null,null,null,null,null,null,null,null,null,null,null,null,null,null,null,null,null,null,null,null,null,null,null,null,null,null,null,null,null,null,null,null,null,null,null,null,null,2814.0982706112104,null,null,null,1459.0632739567129,null,null,null,3160.8591949519291,null,null,null,1632.443736127072,0,0,0,0,0,0,0,0]
["Specialty","90/mo or <3/day",null,null,null,null,null,null,null,null,null,null,null,null,null,null,null,null,null,null,null,null,null,null,null,null,null,null,null,null,null,null,null,null,null,null,null,null,null,null,null,2814.0982706112104,null,null,null,1459.0632739567129,null,null,null,3160.8591949519291,null,null,null,1632.443736127072,0,0,0,0,0,0,0,0]
[5700,"30/mo or  <1/day",null,null,null,null,null,null,null,null,null,null,null,null,230.80974670856085,248.70229608904739,257.64077876063055,null,7976.5295973007514,11340.626240701349,14529.980943357301,null,82.689143496632752,85.356535222330564,88.023926948028404,null,972.43261456265554,1003.5090230173876,1034.5854314721196,null,2857.7347274830631,3892.3201589551836,4964.4562506434368,972.43261456265554,481.46420648845827,493.46746925409866,509.47181960828556,null,null,null,null,2814.0982706112104,null,null,null,1459.0632739567129,null,null,null,3160.8591949519291,null,null,null,1632.443736127072,0,0,0,0,0,0,0,0]
[5700,"60/mo or <2/day",null,null,null,null,null,null,null,null,null,null,null,null,407.92758070761255,445.49167525805552,456.25466859946238,null,14097.526068420901,20314.064895631651,25731.065058715798,null,184.05002907315034,189.38481252454591,194.71959597594164,null,2164.9897890129964,2227.1426059224605,2289.2954228319236,null,6360.3049304018177,8635.356999358657,10981.625837690919,2164.9897890129964,481.46420648845827,493.46746925409866,509.47181960828556,null,null,null,null,2814.0982706112104,null,null,null,1459.0632739567129,null,null,null,3160.8591949519291,null,null,null,1632.443736127072,0,0,0,0,0,0,0,0]
[5700,"90/mo or <3/day",null,null,null,null,null,null,null,null,null,null,null,null,694.21169522240746,null,null,null,23991.188468855402,null,null,null,308.08374431809943,318.75331122089074,329.4228781236821,null,3622.9912856808387,3748.591769852047,3874.1922540232563,null,10647.554446802553,14534.695204348613,18579.807704872896,3622.9912856808387,481.46420648845827,493.46746925409866,509.47181960828556,null,null,null,null,2814.0982706112104,null,null,null,1459.0632739567129,null,null,null,3160.8591949519291,null,null,null,1632.443736127072,0,0,0,0,0,0,0,0]
["T1_T1B","30/mo or  <1/day",0,null,null,null,0,null,null,null,null,null,null,null,null,null,null,null,null,null,null,null,0,null,null,null,0,null,null,null,0,null,null,null,0,null,null,null,null,null,null,2814.0982706112104,null,null,null,1459.0632739567129,null,null,null,3160.8591949519291,null,null,null,1632.443736127072,0,0,0,0,0,0,0,0]
["T1_T1B","60/mo or <2/day",null,null,null,null,null,null,null,null,null,null,null,null,null,null,null,null,null,null,null,null,null,null,null,null,null,null,null,null,null,null,null,null,null,null,null,null,null,null,null,2814.0982706112104,null,null,null,1459.0632739567129,null,null,null,3160.8591949519291,null,null,null,1632.443736127072,0,0,0,0,0,0,0,0]
["T1_T1B","90/mo or <3/day",null,null,null,null,null,null,null,null,null,null,null,null,null,null,null,null,null,null,null,null,null,null,null,null,null,null,null,null,null,null,null,null,null,null,null,null,null,null,null,2814.0982706112104,null,null,null,1459.0632739567129,null,null,null,3160.8591949519291,null,null,null,1632.443736127072,0,0,0,0,0,0,0,0]
["CS5_CS16","30/mo or  <1/day",0,null,null,null,0,null,null,null,null,null,null,null,null,null,null,null,null,null,null,null,0,null,null,null,0,null,null,null,0,null,null,null,0,null,null,null,null,null,null,2814.0982706112104,null,null,null,1459.0632739567129,null,null,null,3160.8591949519291,null,null,null,1632.443736127072,0,0,0,0,0,0,0,0]
["CS5_CS16","60/mo or <2/day",null,null,null,null,null,null,null,null,null,null,null,null,null,null,null,null,null,null,null,null,null,null,null,null,null,null,null,null,null,null,null,null,null,null,null,null,null,null,null,2814.0982706112104,null,null,null,1459.0632739567129,null,null,null,3160.8591949519291,null,null,null,1632.443736127072,0,0,0,0,0,0,0,0]
["CS5_CS16","90/mo or <3/day",null,null,null,null,null,null,null,null,null,null,null,null,null,null,null,null,null,null,null,null,null,null,null,null,null,null,null,null,null,null,null,null,null,null,null,null,null,null,null,2814.0982706112104,null,null,null,1459.0632739567129,null,null,null,3160.8591949519291,null,null,null,1632.443736127072,0,0,0,0,0,0,0,0]
["i_mop_Lite","30/mo or  <1/day",0,null,null,null,0,null,null,null,null,null,null,null,null,null,null,null,null,null,null,null,0,null,null,null,0,null,null,null,0,null,null,null,0,null,null,null,null,null,null,2814.0982706112104,null,null,null,1459.0632739567129,null,null,null,3160.8591949519291,null,null,null,1632.443736127072,0,0,0,0,0,0,0,0]
["i_mop_Lite","60/mo or <2/day",null,null,null,null,null,null,null,null,null,null,null,null,null,null,null,null,null,null,null,null,null,null,null,null,null,null,null,null,null,null,null,null,null,null,null,null,null,null,null,2814.0982706112104,null,null,null,1459.0632739567129,null,null,null,3160.8591949519291,null,null,null,1632.443736127072,0,0,0,0,0,0,0,0]
["i_mop_Lite","90/mo or <3/day",null,null,null,null,null,null,null,null,null,null,null,null,null,null,null,null,null,null,null,null,null,null,null,null,null,null,null,null,null,null,null,null,null,null,null,null,null,null,null,2814.0982706112104,null,null,null,1459.0632739567129,null,null,null,3160.8591949519291,null,null,null,1632.443736127072,0,0,0,0,0,0,0,0]
["i_mop_XL","30/mo or  <1/day",0,null,null,null,0,null,null,null,null,null,null,null,null,null,null,null,null,null,null,null,0,null,null,null,0,null,null,null,0,null,null,null,0,null,null,null,null,null,null,2814.0982706112104,null,null,null,1459.0632739567129,null,null,null,3160.8591949519291,null,null,null,1632.443736127072,0,0,0,0,0,0,0,0]
["i_mop_XL","60/mo or <2/day",null,null,null,null,null,null,null,null,null,null,null,null,null,null,null,null,null,null,null,null,null,null,null,null,null,null,null,null,null,null,null,null,null,null,null,null,null,null,null,2814.0982706112104,null,null,null,1459.0632739567129,null,null,null,3160.8591949519291,null,null,null,1632.443736127072,0,0,0,0,0,0,0,0]
["i_mop_XL","90/mo or <3/day",null,null,null,null,null,null,null,null,null,null,null,null,null,null,null,null,null,null,null,null,null,null,null,null,null,null,null,null,null,null,null,null,null,null,null,null,null,null,null,2814.0982706112104,null,null,null,1459.0632739567129,null,null,null,3160.8591949519291,null,null,null,1632.443736127072,0,0,0,0,0,0,0,0]
["i_mop_XXL","30/mo or  <1/day",0,null,null,null,0,null,null,null,null,null,null,null,null,null,null,null,null,null,null,null,0,null,null,null,0,null,null,null,0,null,null,null,0,null,null,null,null,null,null,2814.0982706112104,null,null,null,1459.0632739567129,null,null,null,3160.8591949519291,null,null,null,1632.443736127072,0,0,0,0,0,0,0,0]
["i_mop_XXL","60/mo or <2/day",null,null,null,null,null,null,null,null,null,null,null,null,null,null,null,null,null,null,null,null,null,null,null,null,null,null,null,null,null,null,null,null,null,null,null,null,null,null,null,2814.0982706112104,null,null,null,1459.0632739567129,null,null,null,3160.8591949519291,null,null,null,1632.443736127072,0,0,0,0,0,0,0,0]
["i_mop_XXL","90/mo or <3/day",null,null,null,null,null,null,null,null,null,null,null,null,null,null,null,null,null,null,null,null,null,null,null,null,null,null,null,null,null,null,null,null,null,null,null,null,null,null,null,2814.0982706112104,null,null,null,1459.0632739567129,null,null,null,3160.8591949519291,null,null,null,1632.443736127072,0,0,0,0,0,0,0,0]
["T2","30/mo or  <1/day",120.44303725012531,128.61059874242395,136.73373740419689,null,4162.3781712628506,5864.5406731927496,7711.2738455229,null,null,null,null,2146.7464470015034,190.46805890717491,201.8345537820548,209.98236164778851,null,6582.3654801365992,9203.4945913063511,11842.223610177001,null,69.352184868143581,72.019576593841421,74.686968319539247,null,815.75572193671496,846.83213039144698,877.908538846179,null,2396.7680020712055,3283.7404933833482,4212.148195968467,815.75572193671496,425.44898024880393,440.11963474014198,453.45659336863116,null,null,null,null,2814.0982706112104,null,null,null,1459.0632739567129,null,null,null,3160.8591949519291,null,null,null,1632.443736127072,0,0,0,0,0,0,0,0]
["T2","60/mo or <2/day",252.30833777314081,276.71266443252074,296.24900066869526,null,8719.4971295316009,12617.876685280951,16707.3409532115,null,null,null,null,null,328.80840039380337,353.21736143364103,371.12487675945124,null,11363.25469345965,16106.429818852201,20930.06166516315,null,162.71089526756759,168.0456787189633,173.38046217035892,null,1913.7888206705793,1975.9416375800429,2039.3893048417876,null,5623.5350799542111,7662.9243847959997,9778.7098604223374,1913.7888206705793,425.44898024880393,440.11963474014198,453.45659336863116,null,null,null,null,2814.0982706112104,null,null,null,1459.0632739567129,null,null,null,3160.8591949519291,null,null,null,1632.443736127072,0,0,0,0,0,0,0,0]
["T2","90/mo or <3/day",421.60519532737914,null,null,null,14570.2093038165,null,null,null,null,null,null,null,553.43411921576762,null,null,null,19126.071125820901,null,null,null,274.7413477468765,282.74352292397003,290.74569810106345,null,3230.6516289398473,3325.1757046563243,3419.6997803728009,null,9495.1376332729069,12892.82495765694,16397.984861280253,3230.6516289398473,425.44898024880393,440.11963474014198,453.45659336863116,null,null,null,null,2814.0982706112104,null,null,null,1459.0632739567129,null,null,null,3160.8591949519291,null,null,null,1632.443736127072,0,0,0,0,0,0,0,0]
["T2_Std_Config","30/mo or  <1/day",120.44303725012531,128.61059874242395,136.73373740419689,null,4162.3781712628506,5864.5406731927496,7711.2738455229,null,null,null,null,2146.7464470015034,190.46805890717491,201.8345537820548,209.98236164778851,null,6582.3654801365992,9203.4945913063511,11842.223610177001,null,69.352184868143581,72.019576593841421,74.686968319539247,null,815.75572193671496,846.83213039144698,877.908538846179,null,2396.7680020712055,3283.7404933833482,4212.148195968467,815.75572193671496,425.44898024880393,440.11963474014198,453.45659336863116,null,null,null,null,2814.0982706112104,null,null,null,1459.0632739567129,null,null,null,3160.8591949519291,null,null,null,1632.443736127072,0,0,0,0,0,0,0,0]
["T2_Std_Config","60/mo or <2/day",252.30833777314081,276.71266443252074,296.24900066869526,null,8719.4971295316009,12617.876685280951,16707.3409532115,null,null,null,null,null,328.80840039380337,353.21736143364103,371.12487675945124,null,11363.25469345965,16106.429818852201,20930.06166516315,null,162.71089526756759,168.0456787189633,173.38046217035892,null,1913.7888206705793,1975.9416375800429,2039.3893048417876,null,5623.5350799542111,7662.9243847959997,9778.7098604223374,1913.7888206705793,425.44898024880393,440.11963474014198,453.45659336863116,null,null,null,null,2814.0982706112104,null,null,null,1459.0632739567129,null,null,null,3160.8591949519291,null,null,null,1632.443736127072,0,0,0,0,0,0,0,0]
["T2_Std_Config","90/mo or <3/day",421.60519532737914,null,null,null,14570.2093038165,null,null,null,null,null,null,null,553.43411921576762,null,null,null,19126.071125820901,null,null,null,274.7413477468765,282.74352292397003,290.74569810106345,null,3230.6516289398473,3325.1757046563243,3419.6997803728009,null,9495.1376332729069,12892.82495765694,16397.984861280253,3230.6516289398473,425.44898024880393,440.11963474014198,453.45659336863116,null,null,null,null,2814.0982706112104,null,null,null,1459.0632739567129,null,null,null,3160.8591949519291,null,null,null,1632.443736127072,0,0,0,0,0,0,0,0]
["T3","30/mo or  <1/day",null,null,null,null,null,null,null,null,null,null,null,null,null,null,null,null,null,null,null,null,69.352184868143581,72.019576593841421,74.686968319539247,null,815.75572193671496,846.83213039144698,877.908538846179,null,2396.7680020712055,3283.7404933833482,4212.148195968467,815.75572193671496,425.44898024880393,440.11963474014198,453.45659336863116,null,null,null,null,2814.0982706112104,null,null,null,1459.0632739567129,null,null,null,3160.8591949519291,null,null,null,1632.443736127072,0,0,0,0,0,0,0,0]
["T3","60/mo or <2/day",null,null,null,null,null,null,null,null,null,null,null,null,null,null,null,null,null,null,null,null,162.71089526756759,168.0456787189633,173.38046217035892,null,1913.7888206705793,1975.9416375800429,2039.3893048417876,null,5623.5350799542111,7662.9243847959997,9778.7098604223374,1913.7888206705793,425.44898024880393,440.11963474014198,453.45659336863116,null,null,null,null,2814.0982706112104,null,null,null,1459.0632739567129,null,null,null,3160.8591949519291,null,null,null,1632.443736127072,0,0,0,0,0,0,0,0]
["T3","90/mo or <3/day",null,null,null,null,null,null,null,null,null,null,null,null,null,null,null,null,null,null,null,null,274.7413477468765,282.74352292397003,290.74569810106345,null,3230.6516289398473,3325.1757046563243,3419.6997803728009,null,9495.1376332729069,12892.82495765694,16397.984861280253,3230.6516289398473,425.44898024880393,440.11963474014198,453.45659336863116,null,null,null,null,2814.0982706112104,null,null,null,1459.0632739567129,null,null,null,3160.8591949519291,null,null,null,1632.443736127072,0,0,0,0,0,0,0,0]
["T3_plus_Orbital","30/mo or  <1/day",null,null,null,null,null,null,null,null,null,null,null,null,null,null,null,null,null,null,null,null,69.352184868143581,72.019576593841421,74.686968319539247,null,815.75572193671496,846.83213039144698,877.908538846179,null,2396.7680020712055,3283.7404933833482,4212.148195968467,815.75572193671496,425.44898024880393,440.11963474014198,453.45659336863116,null,null,null,null,2814.0982706112104,null,null,null,1459.0632739567129,null,null,null,3160.8591949519291,null,null,null,1632.443736127072,0,0,0,0,0,0,0,0]
["T3_plus_Orbital","60/mo or <2/day",null,null,null,null,null,null,null,null,null,null,null,null,null,null,null,null,null,null,null,null,162.71089526756759,168.0456787189633,173.38046217035892,null,1913.7888206705793,1975.9416375800429,2039.3893048417876,null,5623.5350799542111,7662.9243847959997,9778.7098604223374,1913.7888206705793,425.44898024880393,440.11963474014198,453.45659336863116,null,null,null,null,2814.0982706112104,null,null,null,1459.0632739567129,null,null,null,3160.8591949519291,null,null,null,1632.443736127072,0,0,0,0,0,0,0,0]
["T3_plus_Orbital","90/mo or <3/day",null,null,null,null,null,null,null,null,null,null,null,null,null,null,null,null,null,null,null,null,274.7413477468765,282.74352292397003,290.74569810106345,null,3230.6516289398473,3325.1757046563243,3419.6997803728009,null,9495.1376332729069,12892.82495765694,16397.984861280253,3230.6516289398473,425.44898024880393,440.11963474014198,453.45659336863116,null,null,null,null,2814.0982706112104,null,null,null,1459.0632739567129,null,null,null,3160.8591949519291,null,null,null,1632.443736127072,0,0,0,0,0,0,0,0]
["T300","30/mo or  <1/day",120.44303725012531,128.61059874242395,136.73373740419689,null,4162.3781712628506,5864.5406731927496,7711.2738455229,null,null,null,null,2146.7464470015034,190.46805890717491,201.8345537820548,209.98236164778851,null,6582.3654801365992,9203.4945913063511,11842.223610177001,null,69.352184868143581,72.019576593841421,74.686968319539247,null,815.75572193671496,846.83213039144698,877.908538846179,null,2396.7680020712055,3283.7404933833482,4212.148195968467,815.75572193671496,425.44898024880393,440.11963474014198,453.45659336863116,null,null,null,null,2814.0982706112104,null,null,null,1459.0632739567129,null,null,null,3160.8591949519291,null,null,null,1632.443736127072,0,0,0,0,0,0,0,0]
["T300","60/mo or <2/day",252.30833777314081,276.71266443252074,296.24900066869526,null,8719.4971295316009,12617.876685280951,16707.3409532115,null,null,null,null,null,328.80840039380337,353.21736143364103,371.12487675945124,null,11363.25469345965,16106.429818852201,20930.06166516315,null,162.71089526756759,168.0456787189633,173.38046217035892,null,1913.7888206705793,1975.9416375800429,2039.3893048417876,null,5623.5350799542111,7662.9243847959997,9778.7098604223374,1913.7888206705793,425.44898024880393,440.11963474014198,453.45659336863116,null,null,null,null,2814.0982706112104,null,null,null,1459.0632739567129,null,null,null,3160.8591949519291,null,null,null,1632.443736127072,0,0,0,0,0,0,0,0]
["T300","90/mo or <3/day",421.60519532737914,null,null,null,14570.2093038165,null,null,null,null,null,null,null,553.43411921576762,null,null,null,19126.071125820901,null,null,null,274.7413477468765,282.74352292397003,290.74569810106345,null,3230.6516289398473,3325.1757046563243,3419.6997803728009,null,9495.1376332729069,12892.82495765694,16397.984861280253,3230.6516289398473,425.44898024880393,440.11963474014198,453.45659336863116,null,null,null,null,2814.0982706112104,null,null,null,1459.0632739567129,null,null,null,3160.8591949519291,null,null,null,1632.443736127072,0,0,0,0,0,0,0,0]
["T300e","30/mo or  <1/day",120.44303725012531,128.61059874242395,136.73373740419689,null,4162.3781712628506,5864.5406731927496,7711.2738455229,null,null,null,null,2146.7464470015034,190.46805890717491,201.8345537820548,209.98236164778851,null,6582.3654801365992,9203.4945913063511,11842.223610177001,null,69.352184868143581,72.019576593841421,74.686968319539247,null,815.75572193671496,846.83213039144698,877.908538846179,null,2396.7680020712055,3283.7404933833482,4212.148195968467,815.75572193671496,425.44898024880393,440.11963474014198,453.45659336863116,null,null,null,null,2814.0982706112104,null,null,null,1459.0632739567129,null,null,null,3160.8591949519291,null,null,null,1632.443736127072,0,0,0,0,0,0,0,0]
["T300e","60/mo or <2/day",252.30833777314081,276.71266443252074,296.24900066869526,null,8719.4971295316009,12617.876685280951,16707.3409532115,null,null,null,null,null,328.80840039380337,353.21736143364103,371.12487675945124,null,11363.25469345965,16106.429818852201,20930.06166516315,null,162.71089526756759,168.0456787189633,173.38046217035892,null,1913.7888206705793,1975.9416375800429,2039.3893048417876,null,5623.5350799542111,7662.9243847959997,9778.7098604223374,1913.7888206705793,425.44898024880393,440.11963474014198,453.45659336863116,null,null,null,null,2814.0982706112104,null,null,null,1459.0632739567129,null,null,null,3160.8591949519291,null,null,null,1632.443736127072,0,0,0,0,0,0,0,0]
["T300e","90/mo or <3/day",421.60519532737914,null,null,null,14570.2093038165,null,null,null,null,null,null,null,553.43411921576762,null,null,null,19126.071125820901,null,null,null,274.7413477468765,282.74352292397003,290.74569810106345,null,3230.6516289398473,3325.1757046563243,3419.6997803728009,null,9495.1376332729069,12892.82495765694,16397.984861280253,3230.6516289398473,425.44898024880393,440.11963474014198,453.45659336863116,null,null,null,null,2814.0982706112104,null,null,null,1459.0632739567129,null,null,null,3160.8591949519291,null,null,null,1632.443736127072,0,0,0,0,0,0,0,0]
["T300_Series_Std_Config","30/mo or  <1/day",120.44303725012531,128.61059874242395,136.73373740419689,null,4162.3781712628506,5864.5406731927496,7711.2738455229,null,null,null,null,2146.7464470015034,190.46805890717491,201.8345537820548,209.98236164778851,null,6582.3654801365992,9203.4945913063511,11842.223610177001,null,69.352184868143581,72.019576593841421,74.686968319539247,null,815.75572193671496,846.83213039144698,877.908538846179,null,2396.7680020712055,3283.7404933833482,4212.148195968467,815.75572193671496,425.44898024880393,440.11963474014198,453.45659336863116,null,null,null,null,2814.0982706112104,null,null,null,1459.0632739567129,null,null,null,3160.8591949519291,null,null,null,1632.443736127072,0,0,0,0,0,0,0,0]
["T300_Series_Std_Config","60/mo or <2/day",252.30833777314081,276.71266443252074,296.24900066869526,null,8719.4971295316009,12617.876685280951,16707.3409532115,null,null,null,null,null,328.80840039380337,353.21736143364103,371.12487675945124,null,11363.25469345965,16106.429818852201,20930.06166516315,null,162.71089526756759,168.0456787189633,173.38046217035892,null,1913.7888206705793,1975.9416375800429,2039.3893048417876,null,5623.5350799542111,7662.9243847959997,9778.7098604223374,1913.7888206705793,425.44898024880393,440.11963474014198,453.45659336863116,null,null,null,null,2814.0982706112104,null,null,null,1459.0632739567129,null,null,null,3160.8591949519291,null,null,null,1632.443736127072,0,0,0,0,0,0,0,0]
["T300_Series_Std_Config","90/mo or <3/day",421.60519532737914,null,null,null,14570.2093038165,null,null,null,null,null,null,null,553.43411921576762,null,null,null,19126.071125820901,null,null,null,274.7413477468765,282.74352292397003,290.74569810106345,null,3230.6516289398473,3325.1757046563243,3419.6997803728009,null,9495.1376332729069,12892.82495765694,16397.984861280253,3230.6516289398473,425.44898024880393,440.11963474014198,453.45659336863116,null,null,null,null,2814.0982706112104,null,null,null,1459.0632739567129,null,null,null,3160.8591949519291,null,null,null,1632.443736127072,0,0,0,0,0,0,0,0]
["T300_T300e_Quick_Ship","30/mo or  <1/day",120.44303725012531,128.61059874242395,136.73373740419689,null,4162.3781712628506,5864.5406731927496,7711.2738455229,null,null,null,null,2146.7464470015034,190.46805890717491,201.8345537820548,209.98236164778851,null,6582.3654801365992,9203.4945913063511,11842.223610177001,null,69.352184868143581,72.019576593841421,74.686968319539247,null,815.75572193671496,846.83213039144698,877.908538846179,null,2396.7680020712055,3283.7404933833482,4212.148195968467,815.75572193671496,425.44898024880393,440.11963474014198,453.45659336863116,null,null,null,null,2814.0982706112104,null,null,null,1459.0632739567129,null,null,null,3160.8591949519291,null,null,null,1632.443736127072,0,0,0,0,0,0,0,0]
["T300_T300e_Quick_Ship","60/mo or <2/day",252.30833777314081,276.71266443252074,296.24900066869526,null,8719.4971295316009,12617.876685280951,16707.3409532115,null,null,null,null,null,328.80840039380337,353.21736143364103,371.12487675945124,null,11363.25469345965,16106.429818852201,20930.06166516315,null,162.71089526756759,168.0456787189633,173.38046217035892,null,1913.7888206705793,1975.9416375800429,2039.3893048417876,null,5623.5350799542111,7662.9243847959997,9778.7098604223374,1913.7888206705793,425.44898024880393,440.11963474014198,453.45659336863116,null,null,null,null,2814.0982706112104,null,null,null,1459.0632739567129,null,null,null,3160.8591949519291,null,null,null,1632.443736127072,0,0,0,0,0,0,0,0]
["T300_T300e_Quick_Ship","90/mo or <3/day",421.60519532737914,null,null,null,14570.2093038165,null,null,null,null,null,null,null,553.43411921576762,null,null,null,19126.071125820901,null,null,null,274.7413477468765,282.74352292397003,290.74569810106345,null,3230.6516289398473,3325.1757046563243,3419.6997803728009,null,9495.1376332729069,12892.82495765694,16397.984861280253,3230.6516289398473,425.44898024880393,440.11963474014198,453.45659336863116,null,null,null,null,2814.0982706112104,null,null,null,1459.0632739567129,null,null,null,3160.8591949519291,null,null,null,1632.443736127072,0,0,0,0,0,0,0,0]
["T581_T390_T290","30/mo or  <1/day",128.591403406582,148.12963495027734,156.2607595701696,null,4443.97669447725,6754.593148352551,8812.5252130935005,null,null,null,null,2244.5268408789843,201.81756891081099,218.10041728859932,226.25488011943247,null,6974.5919946138001,9945.2049872728494,12759.933083152502,null,69.352184868143581,72.019576593841421,74.686968319539247,null,815.75572193671496,846.83213039144698,877.908538846179,null,2396.7680020712055,3283.7404933833482,4212.148195968467,815.75572193671496,425.44898024880393,440.11963474014198,453.45659336863116,null,null,null,null,2814.0982706112104,null,null,null,1459.0632739567129,null,null,null,3160.8591949519291,null,null,null,1632.443736127072,0,0,0,0,0,0,0,0]
["T581_T390_T290","60/mo or <2/day",268.60507008605418,296.23170064037413,312.54381026153328,null,9282.6941759604015,13507.92916044075,17626.307562451351,null,null,null,null,null,345.10513270671669,371.13738055102067,389.02464707825959,null,11926.451739888451,16923.568390679698,21939.542085436206,null,162.71089526756759,168.0456787189633,173.38046217035892,null,1913.7888206705793,1975.9416375800429,2039.3893048417876,null,5623.5350799542111,7662.9243847959997,9778.7098604223374,1913.7888206705793,425.44898024880393,440.11963474014198,453.45659336863116,null,null,null,null,2814.0982706112104,null,null,null,1459.0632739567129,null,null,null,3160.8591949519291,null,null,null,1632.443736127072,0,0,0,0,0,0,0,0]
["T581_T390_T290","90/mo or <3/day",472.05958755508192,null,null,null,16313.857302469951,null,null,null,null,null,null,null,603.8521348088434,null,null,null,20868.461988210005,null,null,null,274.7413477468765,282.74352292397003,290.74569810106345,null,3230.6516289398473,3325.1757046563243,3419.6997803728009,null,9495.1376332729069,12892.82495765694,16397.984861280253,3230.6516289398473,425.44898024880393,440.11963474014198,453.45659336863116,null,null,null,null,2814.0982706112104,null,null,null,1459.0632739567129,null,null,null,3160.8591949519291,null,null,null,1632.443736127072,0,0,0,0,0,0,0,0]
["T350","30/mo or  <1/day",128.591403406582,148.12963495027734,156.2607595701696,null,4443.97669447725,6754.593148352551,8812.5252130935005,null,null,null,null,2244.5268408789843,201.81756891081099,218.10041728859932,226.25488011943247,null,6974.5919946138001,9945.2049872728494,12759.933083152502,null,69.352184868143581,72.019576593841421,74.686968319539247,null,815.75572193671496,846.83213039144698,877.908538846179,null,2396.7680020712055,3283.7404933833482,4212.148195968467,815.75572193671496,425.44898024880393,440.11963474014198,453.45659336863116,null,null,null,null,2814.0982706112104,null,null,null,1459.0632739567129,null,null,null,3160.8591949519291,null,null,null,1632.443736127072,0,0,0,0,0,0,0,0]
["T350","60/mo or <2/day",268.60507008605418,296.23170064037413,312.54381026153328,null,9282.6941759604015,13507.92916044075,17626.307562451351,null,null,null,null,null,345.10513270671669,371.13738055102067,389.02464707825959,null,11926.451739888451,16923.568390679698,21939.542085436206,null,162.71089526756759,168.0456787189633,173.38046217035892,null,1913.7888206705793,1975.9416375800429,2039.3893048417876,null,5623.5350799542111,7662.9243847959997,9778.7098604223374,1913.7888206705793,425.44898024880393,440.11963474014198,453.45659336863116,null,null,null,null,2814.0982706112104,null,null,null,1459.0632739567129,null,null,null,3160.8591949519291,null,null,null,1632.443736127072,0,0,0,0,0,0,0,0]
["T350","90/mo or <3/day",472.05958755508192,null,null,null,16313.857302469951,null,null,null,null,null,null,null,603.8521348088434,null,null,null,20868.461988210005,null,null,null,274.7413477468765,282.74352292397003,290.74569810106345,null,3230.6516289398473,3325.1757046563243,3419.6997803728009,null,9495.1376332729069,12892.82495765694,16397.984861280253,3230.6516289398473,425.44898024880393,440.11963474014198,453.45659336863116,null,null,null,null,2814.0982706112104,null,null,null,1459.0632739567129,null,null,null,3160.8591949519291,null,null,null,1632.443736127072,0,0,0,0,0,0,0,0]
["T350_Std_Config","30/mo or  <1/day",128.591403406582,148.12963495027734,156.2607595701696,null,4443.97669447725,6754.593148352551,8812.5252130935005,null,null,null,null,2244.5268408789843,201.81756891081099,218.10041728859932,226.25488011943247,null,6974.5919946138001,9945.2049872728494,12759.933083152502,null,69.352184868143581,72.019576593841421,74.686968319539247,null,815.75572193671496,846.83213039144698,877.908538846179,null,2396.7680020712055,3283.7404933833482,4212.148195968467,815.75572193671496,425.44898024880393,440.11963474014198,453.45659336863116,null,null,null,null,2814.0982706112104,null,null,null,1459.0632739567129,null,null,null,3160.8591949519291,null,null,null,1632.443736127072,0,0,0,0,0,0,0,0]
["T350_Std_Config","60/mo or <2/day",268.60507008605418,296.23170064037413,312.54381026153328,null,9282.6941759604015,13507.92916044075,17626.307562451351,null,null,null,null,null,345.10513270671669,371.13738055102067,389.02464707825959,null,11926.451739888451,16923.568390679698,21939.542085436206,null,162.71089526756759,168.0456787189633,173.38046217035892,null,1913.7888206705793,1975.9416375800429,2039.3893048417876,null,5623.5350799542111,7662.9243847959997,9778.7098604223374,1913.7888206705793,425.44898024880393,440.11963474014198,453.45659336863116,null,null,null,null,2814.0982706112104,null,null,null,1459.0632739567129,null,null,null,3160.8591949519291,null,null,null,1632.443736127072,0,0,0,0,0,0,0,0]
["T350_Std_Config","90/mo or <3/day",472.05958755508192,null,null,null,16313.857302469951,null,null,null,null,null,null,null,603.8521348088434,null,null,null,20868.461988210005,null,null,null,274.7413477468765,282.74352292397003,290.74569810106345,null,3230.6516289398473,3325.1757046563243,3419.6997803728009,null,9495.1376332729069,12892.82495765694,16397.984861280253,3230.6516289398473,425.44898024880393,440.11963474014198,453.45659336863116,null,null,null,null,2814.0982706112104,null,null,null,1459.0632739567129,null,null,null,3160.8591949519291,null,null,null,1632.443736127072,0,0,0,0,0,0,0,0]
["T5","30/mo or  <1/day",null,null,null,null,null,null,null,null,null,null,null,null,null,null,null,null,null,null,null,null,69.352184868143581,72.019576593841421,74.686968319539247,null,815.75572193671496,846.83213039144698,877.908538846179,null,2396.7680020712055,3283.7404933833482,4212.148195968467,815.75572193671496,425.44898024880393,440.11963474014198,453.45659336863116,null,null,null,null,2814.0982706112104,null,null,null,1459.0632739567129,null,null,null,3160.8591949519291,null,null,null,1632.443736127072,0,0,0,0,0,0,0,0]
["T5","60/mo or <2/day",null,null,null,null,null,null,null,null,null,null,null,null,null,null,null,null,null,null,null,null,162.71089526756759,168.0456787189633,173.38046217035892,null,1913.7888206705793,1975.9416375800429,2039.3893048417876,null,5623.5350799542111,7662.9243847959997,9778.7098604223374,1913.7888206705793,425.44898024880393,440.11963474014198,453.45659336863116,null,null,null,null,2814.0982706112104,null,null,null,1459.0632739567129,null,null,null,3160.8591949519291,null,null,null,1632.443736127072,0,0,0,0,0,0,0,0]
["T5","90/mo or <3/day",null,null,null,null,null,null,null,null,null,null,null,null,null,null,null,null,null,null,null,null,274.7413477468765,282.74352292397003,290.74569810106345,null,3230.6516289398473,3325.1757046563243,3419.6997803728009,null,9495.1376332729069,12892.82495765694,16397.984861280253,3230.6516289398473,425.44898024880393,440.11963474014198,453.45659336863116,null,null,null,null,2814.0982706112104,null,null,null,1459.0632739567129,null,null,null,3160.8591949519291,null,null,null,1632.443736127072,0,0,0,0,0,0,0,0]
["T5e","30/mo or  <1/day",null,null,null,null,null,null,null,null,null,null,null,null,null,null,null,null,null,null,null,null,69.352184868143581,72.019576593841421,74.686968319539247,null,815.75572193671496,846.83213039144698,877.908538846179,null,2396.7680020712055,3283.7404933833482,4212.148195968467,815.75572193671496,425.44898024880393,440.11963474014198,453.45659336863116,null,null,null,null,2814.0982706112104,null,null,null,1459.0632739567129,null,null,null,3160.8591949519291,null,null,null,1632.443736127072,0,0,0,0,0,0,0,0]
["T5e","60/mo or <2/day",null,null,null,null,null,null,null,null,null,null,null,null,null,null,null,null,null,null,null,null,162.71089526756759,168.0456787189633,173.38046217035892,null,1913.7888206705793,1975.9416375800429,2039.3893048417876,null,5623.5350799542111,7662.9243847959997,9778.7098604223374,1913.7888206705793,425.44898024880393,440.11963474014198,453.45659336863116,null,null,null,null,2814.0982706112104,null,null,null,1459.0632739567129,null,null,null,3160.8591949519291,null,null,null,1632.443736127072,0,0,0,0,0,0,0,0]
["T5e","90/mo or <3/day",null,null,null,null,null,null,null,null,null,null,null,null,null,null,null,null,null,null,null,null,274.7413477468765,282.74352292397003,290.74569810106345,null,3230.6516289398473,3325.1757046563243,3419.6997803728009,null,9495.1376332729069,12892.82495765694,16397.984861280253,3230.6516289398473,425.44898024880393,440.11963474014198,453.45659336863116,null,null,null,null,2814.0982706112104,null,null,null,1459.0632739567129,null,null,null,3160.8591949519291,null,null,null,1632.443736127072,0,0,0,0,0,0,0,0]
["T500","30/mo or  <1/day",128.591403406582,148.12963495027734,156.2607595701696,null,4443.97669447725,6754.593148352551,8812.5252130935005,null,null,null,null,2244.5268408789843,201.81756891081099,218.10041728859932,226.25488011943247,null,6974.5919946138001,9945.2049872728494,12759.933083152502,null,69.352184868143581,72.019576593841421,74.686968319539247,null,815.75572193671496,846.83213039144698,877.908538846179,null,2396.7680020712055,3283.7404933833482,4212.148195968467,815.75572193671496,425.44898024880393,440.11963474014198,453.45659336863116,null,null,null,null,2814.0982706112104,null,null,null,1459.0632739567129,null,null,null,3160.8591949519291,null,null,null,1632.443736127072,0,0,0,0,0,0,0,0]
["T500","60/mo or <2/day",268.60507008605418,296.23170064037413,312.54381026153328,null,9282.6941759604015,13507.92916044075,17626.307562451351,null,null,null,null,null,345.10513270671669,371.13738055102067,389.02464707825959,null,11926.451739888451,16923.568390679698,21939.542085436206,null,162.71089526756759,168.0456787189633,173.38046217035892,null,1913.7888206705793,1975.9416375800429,2039.3893048417876,null,5623.5350799542111,7662.9243847959997,9778.7098604223374,1913.7888206705793,425.44898024880393,440.11963474014198,453.45659336863116,null,null,null,null,2814.0982706112104,null,null,null,1459.0632739567129,null,null,null,3160.8591949519291,null,null,null,1632.443736127072,0,0,0,0,0,0,0,0]
["T500","90/mo or <3/day",472.05958755508192,null,null,null,16313.857302469951,null,null,null,null,null,null,null,603.8521348088434,null,null,null,20868.461988210005,null,null,null,274.7413477468765,282.74352292397003,290.74569810106345,null,3230.6516289398473,3325.1757046563243,3419.6997803728009,null,9495.1376332729069,12892.82495765694,16397.984861280253,3230.6516289398473,425.44898024880393,440.11963474014198,453.45659336863116,null,null,null,null,2814.0982706112104,null,null,null,1459.0632739567129,null,null,null,3160.8591949519291,null,null,null,1632.443736127072,0,0,0,0,0,0,0,0]
["T500e","30/mo or  <1/day",128.591403406582,148.12963495027734,156.2607595701696,null,4443.97669447725,6754.593148352551,8812.5252130935005,null,null,null,null,2244.5268408789843,201.81756891081099,218.10041728859932,226.25488011943247,null,6974.5919946138001,9945.2049872728494,12759.933083152502,null,69.352184868143581,72.019576593841421,74.686968319539247,null,815.75572193671496,846.83213039144698,877.908538846179,null,2396.7680020712055,3283.7404933833482,4212.148195968467,815.75572193671496,425.44898024880393,440.11963474014198,453.45659336863116,null,null,null,null,2814.0982706112104,null,null,null,1459.0632739567129,null,null,null,3160.8591949519291,null,null,null,1632.443736127072,0,0,0,0,0,0,0,0]
["T500e","60/mo or <2/day",268.60507008605418,296.23170064037413,312.54381026153328,null,9282.6941759604015,13507.92916044075,17626.307562451351,null,null,null,null,null,345.10513270671669,371.13738055102067,389.02464707825959,null,11926.451739888451,16923.568390679698,21939.542085436206,null,162.71089526756759,168.0456787189633,173.38046217035892,null,1913.7888206705793,1975.9416375800429,2039.3893048417876,null,5623.5350799542111,7662.9243847959997,9778.7098604223374,1913.7888206705793,425.44898024880393,440.11963474014198,453.45659336863116,null,null,null,null,2814.0982706112104,null,null,null,1459.0632739567129,null,null,null,3160.8591949519291,null,null,null,1632.443736127072,0,0,0,0,0,0,0,0]
["T500e","90/mo or <3/day",472.05958755508192,null,null,null,16313.857302469951,null,null,null,null,null,null,null,603.8521348088434,null,null,null,20868.461988210005,null,null,null,274.7413477468765,282.74352292397003,290.74569810106345,null,3230.6516289398473,3325.1757046563243,3419.6997803728009,null,9495.1376332729069,12892.82495765694,16397.984861280253,3230.6516289398473,425.44898024880393,440.11963474014198,453.45659336863116,null,null,null,null,2814.0982706112104,null,null,null,1459.0632739567129,null,null,null,3160.8591949519291,null,null,null,1632.443736127072,0,0,0,0,0,0,0,0]
["T500_Series_Std_Config","30/mo or  <1/day",128.591403406582,148.12963495027734,156.2607595701696,null,4443.97669447725,6754.593148352551,8812.5252130935005,null,null,null,null,2244.5268408789843,201.81756891081099,218.10041728859932,226.25488011943247,null,6974.5919946138001,9945.2049872728494,12759.933083152502,null,69.352184868143581,72.019576593841421,74.686968319539247,null,815.75572193671496,846.83213039144698,877.908538846179,null,2396.7680020712055,3283.7404933833482,4212.148195968467,815.75572193671496,425.44898024880393,440.11963474014198,453.45659336863116,null,null,null,null,2814.0982706112104,null,null,null,1459.0632739567129,null,null,null,3160.8591949519291,null,null,null,1632.443736127072,0,0,0,0,0,0,0,0]
["T500_Series_Std_Config","60/mo or <2/day",268.60507008605418,296.23170064037413,312.54381026153328,null,9282.6941759604015,13507.92916044075,17626.307562451351,null,null,null,null,null,345.10513270671669,371.13738055102067,389.02464707825959,null,11926.451739888451,16923.568390679698,21939.542085436206,null,162.71089526756759,168.0456787189633,173.38046217035892,null,1913.7888206705793,1975.9416375800429,2039.3893048417876,null,5623.5350799542111,7662.9243847959997,9778.7098604223374,1913.7888206705793,425.44898024880393,440.11963474014198,453.45659336863116,null,null,null,null,2814.0982706112104,null,null,null,1459.0632739567129,null,null,null,3160.8591949519291,null,null,null,1632.443736127072,0,0,0,0,0,0,0,0]
["T500_Series_Std_Config","90/mo or <3/day",472.05958755508192,null,null,null,16313.857302469951,null,null,null,null,null,null,null,603.8521348088434,null,null,null,20868.461988210005,null,null,null,274.7413477468765,282.74352292397003,290.74569810106345,null,3230.6516289398473,3325.1757046563243,3419.6997803728009,null,9495.1376332729069,12892.82495765694,16397.984861280253,3230.6516289398473,425.44898024880393,440.11963474014198,453.45659336863116,null,null,null,null,2814.0982706112104,null,null,null,1459.0632739567129,null,null,null,3160.8591949519291,null,null,null,1632.443736127072,0,0,0,0,0,0,0,0]
["T500_T500e_Quick_Ship","30/mo or  <1/day",128.591403406582,148.12963495027734,156.2607595701696,null,4443.97669447725,6754.593148352551,8812.5252130935005,null,null,null,null,2244.5268408789843,201.81756891081099,218.10041728859932,226.25488011943247,null,6974.5919946138001,9945.2049872728494,12759.933083152502,null,69.352184868143581,72.019576593841421,74.686968319539247,null,815.75572193671496,846.83213039144698,877.908538846179,null,2396.7680020712055,3283.7404933833482,4212.148195968467,815.75572193671496,425.44898024880393,440.11963474014198,453.45659336863116,null,null,null,null,2814.0982706112104,null,null,null,1459.0632739567129,null,null,null,3160.8591949519291,null,null,null,1632.443736127072,0,0,0,0,0,0,0,0]
["T500_T500e_Quick_Ship","60/mo or <2/day",268.60507008605418,296.23170064037413,312.54381026153328,null,9282.6941759604015,13507.92916044075,17626.307562451351,null,null,null,null,null,345.10513270671669,371.13738055102067,389.02464707825959,null,11926.451739888451,16923.568390679698,21939.542085436206,null,162.71089526756759,168.0456787189633,173.38046217035892,null,1913.7888206705793,1975.9416375800429,2039.3893048417876,null,5623.5350799542111,7662.9243847959997,9778.7098604223374,1913.7888206705793,425.44898024880393,440.11963474014198,453.45659336863116,null,null,null,null,2814.0982706112104,null,null,null,1459.0632739567129,null,null,null,3160.8591949519291,null,null,null,1632.443736127072,0,0,0,0,0,0,0,0]
["T500_T500e_Quick_Ship","90/mo or <3/day",472.05958755508192,null,null,null,16313.857302469951,null,null,null,null,null,null,null,603.8521348088434,null,null,null,20868.461988210005,null,null,null,274.7413477468765,282.74352292397003,290.74569810106345,null,3230.6516289398473,3325.1757046563243,3419.6997803728009,null,9495.1376332729069,12892.82495765694,16397.984861280253,3230.6516289398473,425.44898024880393,440.11963474014198,453.45659336863116,null,null,null,null,2814.0982706112104,null,null,null,1459.0632739567129,null,null,null,3160.8591949519291,null,null,null,1632.443736127072,0,0,0,0,0,0,0,0]
["T7","30/mo or  <1/day",172.57075467067185,188.82186297681923,198.59159871763782,null,5963.8544380764006,8610.1262745331514,11199.82697909415,null,null,null,null,2772.2790560480621,278.31763153147352,296.23170064037413,304.38525990451723,null,9618.3495585418514,13507.92916044075,17166.195689699252,null,88.023926948028404,90.691318673726244,93.358710399424069,null,1034.5854314721196,1066.9566902791321,1098.0330987338641,null,3041.6034775068952,4135.7520251839169,5264.8615323725135,1034.5854314721196,501.46964443119214,516.14029892253018,529.47725755101931,null,null,null,null,2814.0982706112104,null,null,null,1459.0632739567129,null,null,null,3160.8591949519291,null,null,null,1632.443736127072,0,0,0,0,0,0,0,0]
["T7","60/mo or <2/day",353.21712222854637,387.37567479738453,405.3194566710975,null,12206.7931268385,17664.021650381848,22858.508694676053,null,null,null,null,null,467.14874188043177,501.3194271237378,517.64441636782863,null,16144.1439067827,22859.765830940403,29193.218330735697,null,210.7239463301286,217.39242564437319,224.06090495861773,null,2478.3435742648771,2556.0345954017066,2635.0204668908182,null,7282.238381225533,9913.3742970595085,12636.4445879054,2478.3435742648771,501.46964443119214,516.14029892253018,529.47725755101931,null,null,null,null,2814.0982706112104,null,null,null,1459.0632739567129,null,null,null,3160.8591949519291,null,null,null,1632.443736127072,0,0,0,0,0,0,0,0]
["T7","90/mo or <3/day",605.48908336705995,null,null,null,20925.033120105752,null,null,null,null,null,null,null,828.47785363080777,null,null,null,28631.278420571249,null,null,null,330.75657398653101,340.0924450264734,349.42831606641579,null,3889.7304582506222,3999.7927381944646,4109.8550181383071,null,11430.938909932252,15508.422669263548,19707.622361709211,3889.7304582506222,501.46964443119214,516.14029892253018,529.47725755101931,null,null,null,null,2814.0982706112104,null,null,null,1459.0632739567129,null,null,null,3160.8591949519291,null,null,null,1632.443736127072,0,0,0,0,0,0,0,0]
["T7_Std_Config","30/mo or  <1/day",172.57075467067185,188.82186297681923,198.59159871763782,null,5963.8544380764006,8610.1262745331514,11199.82697909415,null,null,null,null,2772.2790560480621,278.31763153147352,296.23170064037413,304.38525990451723,null,9618.3495585418514,13507.92916044075,17166.195689699252,null,88.023926948028404,90.691318673726244,93.358710399424069,null,1034.5854314721196,1066.9566902791321,1098.0330987338641,null,3041.6034775068952,4135.7520251839169,5264.8615323725135,1034.5854314721196,501.46964443119214,516.14029892253018,529.47725755101931,null,null,null,null,2814.0982706112104,null,null,null,1459.0632739567129,null,null,null,3160.8591949519291,null,null,null,1632.443736127072,0,0,0,0,0,0,0,0]
["T7_Std_Config","60/mo or <2/day",353.21712222854637,387.37567479738453,405.3194566710975,null,12206.7931268385,17664.021650381848,22858.508694676053,null,null,null,null,null,467.14874188043177,501.3194271237378,517.64441636782863,null,16144.1439067827,22859.765830940403,29193.218330735697,null,210.7239463301286,217.39242564437319,224.06090495861773,null,2478.3435742648771,2556.0345954017066,2635.0204668908182,null,7282.238381225533,9913.3742970595085,12636.4445879054,2478.3435742648771,501.46964443119214,516.14029892253018,529.47725755101931,null,null,null,null,2814.0982706112104,null,null,null,1459.0632739567129,null,null,null,3160.8591949519291,null,null,null,1632.443736127072,0,0,0,0,0,0,0,0]
["T7_Std_Config","90/mo or <3/day",605.48908336705995,null,null,null,20925.033120105752,null,null,null,null,null,null,null,828.47785363080777,null,null,null,28631.278420571249,null,null,null,330.75657398653101,340.0924450264734,349.42831606641579,null,3889.7304582506222,3999.7927381944646,4109.8550181383071,null,11430.938909932252,15508.422669263548,19707.622361709211,3889.7304582506222,501.46964443119214,516.14029892253018,529.47725755101931,null,null,null,null,2814.0982706112104,null,null,null,1459.0632739567129,null,null,null,3160.8591949519291,null,null,null,1632.443736127072,0,0,0,0,0,0,0,0]
["T7AMR","30/mo or  <1/day",197,229,259,null,7092,10996,15527,2364,null,null,null,null,null,null,null,null,null,null,null,null,69,79,85,null,825,944,1023,null,2475,3777,5116,825,545,572,601,null,null,null,null,2814,null,null,null,1459,null,null,null,3161,null,null,null,1632]
["T7AMR","60/mo or <2/day",336,389,438,null,12082,18695,26257,4032,null,null,null,null,null,null,null,null,null,null,null,null,146,167,181,null,1756,2009,2178,null,5268,8038,10888,1756,545,572,601,null,null,null,null,2814,null,null,null,1459,null,null,null,3161,null,null,null,1632]
["T7AMR","90/mo or <3/day",484,560,625,null,17433,26902,37529,5808,null,null,null,null,null,null,null,null,null,null,null,null,263,301,327,null,3161,3617,3920,null,9482,14468,19598,3161,545,572,601,null,null,null,null,2814,null,null,null,1459,null,null,null,3161,null,null,null,1632]
["T7AMR","120/mo or <4/day",604,698,777,null,21729,33501,46623,7248,null,null,null,null,null,null,null,null,null,null,null,null,351,402,436,null,4214,4823,5226,null,12643,19291,26131,4214,545,572,601,null,null,null,null,2814,null,null,null,1459,null,null,null,3161,null,null,null,1632]
["T380AMR","30/mo or  <1/day",177,191,210,null,6355,9160,12614,2124,null,null,null,null,null,null,null,null,null,null,null,null,71,77,86,null,855,929,1028,null,2564,3714,5140,855,545,572,601,null,null,null,null,2814,null,null,null,1459,null,null,null,3161,null,null,null,1632]
["T380AMR","60/mo or <2/day",284,307,338,null,10218,14733,20297,3408,null,null,null,null,null,null,null,null,null,null,null,null,127,138,153,null,1525,1657,1835,null,4576,6629,9174,1525,545,572,601,null,null,null,null,2814,null,null,null,1459,null,null,null,3161,null,null,null,1632]
["T380AMR","90/mo or <3/day",412,446,491,null,14819,21388,29490,4944,null,null,null,null,null,null,null,null,null,null,null,null,229,249,275,null,2745,2983,3303,null,8236,11933,16513,2745,545,572,601,null,null,null,null,2814,null,null,null,1459,null,null,null,3161,null,null,null,1632]
["T380AMR","120/mo or <4/day",514,557,614,null,18505,26716,36848,6168,null,null,null,null,null,null,null,null,null,null,null,null,305,331,367,null,3661,3978,4403,null,10982,15911,22017,3661,545,572,601,null,null,null,null,2814,null,null,null,1459,null,null,null,3161,null,null,null,1632]
["T16AMR_Standard_Config","30/mo or  <1/day",239,267,294,null,8606,12821,17621,2868,null,null,null,null,null,null,null,null,null,null,null,null,127,132,135,null,1522,1581,1623,null,4565,6325,8115,1522,677,711,746,null,null,null,null,2814,null,null,null,1459,null,null,null,3161,null,null,null,1632]
["T16AMR_Standard_Config","60/mo or <2/day",297,331,363,null,10674,15875,21786,3564,null,null,null,null,null,null,null,null,null,null,null,null,161,167,171,null,1926,2002,2055,null,5779,8008,10274,1926,677,711,746,null,null,null,null,2814,null,null,null,1459,null,null,null,3161,null,null,null,1632]
["T16AMR_Standard_Config","90/mo or <3/day",549,598,643,null,19757,28719,38603,6588,null,null,null,null,null,null,null,null,null,null,null,null,380,395,406,null,4565,4744,4869,null,13694,18975,24344,4565,677,711,746,null,null,null,null,2814,null,null,null,1459,null,null,null,3161,null,null,null,1632]
["T16AMR_Standard_Config","120/mo or <4/day",704,764,818,null,25332,36668,49094,8448,null,null,null,null,null,null,null,null,null,null,null,null,507,527,541,null,6086,6325,6492,null,18258,25300,32459,6086,677,711,746,null,null,null,null,2814,null,null,null,1459,null,null,null,3161,null,null,null,1632]
["T16AMR_Standard_Config","150/mo or <5/day",816,886,948,null,29385,42509,56881,9792,null,null,null,null,null,null,null,null,null,null,null,null,592,615,631,null,7100,7379,7574,null,21301,29517,37869,7100,677,711,746,null,null,null,null,2814,null,null,null,1459,null,null,null,3161,null,null,null,1632]
[7100,"30/mo or  <1/day",null,null,null,null,null,null,null,null,null,null,null,null,null,null,null,null,null,null,null,null,88.023926948028404,90.691318673726244,93.358710399424069,null,1034.5854314721196,1066.9566902791321,1098.0330987338641,null,3041.6034775068952,4135.7520251839169,5264.8615323725135,1034.5854314721196,501.46964443119214,516.14029892253018,529.47725755101931,null,null,null,null,2814.0982706112104,null,null,null,1459.0632739567129,null,null,null,3160.8591949519291,null,null,null,1632.443736127072,0,0,0,0,0,0,0,0]
[7100,"60/mo or <2/day",null,null,null,null,null,null,null,null,null,null,null,null,null,null,null,null,null,null,null,null,210.7239463301286,217.39242564437319,224.06090495861773,null,2478.3435742648771,2556.0345954017066,2635.0204668908182,null,7282.238381225533,9913.3742970595085,12636.4445879054,2478.3435742648771,501.46964443119214,516.14029892253018,529.47725755101931,null,null,null,null,2814.0982706112104,null,null,null,1459.0632739567129,null,null,null,3160.8591949519291,null,null,null,1632.443736127072,0,0,0,0,0,0,0,0]
[7100,"90/mo or <3/day",null,null,null,null,null,null,null,null,null,null,null,null,null,null,null,null,null,null,null,null,330.75657398653101,340.0924450264734,349.42831606641579,null,3889.7304582506222,3999.7927381944646,4109.8550181383071,null,11430.938909932252,15508.422669263548,19707.622361709211,3889.7304582506222,501.46964443119214,516.14029892253018,529.47725755101931,null,null,null,null,2814.0982706112104,null,null,null,1459.0632739567129,null,null,null,3160.8591949519291,null,null,null,1632.443736127072,0,0,0,0,0,0,0,0]
["T12","30/mo or  <1/day",188.83111034895819,208.34089918467262,216.49136903644612,null,6525.79434824085,9500.1787496929519,12209.307399367201,null,null,null,null,2967.4033241874981,296.25131240260362,314.1517197577536,322.30732134451955,null,10238.117736866401,14325.067732268248,18176.933246236651,null,88.023926948028404,90.691318673726244,93.358710399424069,null,1034.5854314721196,1066.9566902791321,1098.0330987338641,null,3041.6034775068952,4135.7520251839169,5264.8615323725135,1034.5854314721196,501.46964443119214,516.14029892253018,529.47725755101931,null,null,null,null,2814.0982706112104,null,null,null,1459.0632739567129,null,null,null,3160.8591949519291,null,null,null,1632.443736127072,0,0,0,0,0,0,0,0]
["T12","60/mo or <2/day",429.75356148383582,472.04087281195774,496.46785123349753,null,14851.807827030902,21524.687118200702,27998.9388796032,null,null,null,null,null,545.28575305931088,587.58364222878481,612.0473146245572,null,18844.472602606504,26793.34520209155,34517.19041025795,null,210.7239463301286,217.39242564437319,224.06090495861773,null,2478.3435742648771,2556.0345954017066,2635.0204668908182,null,7282.238381225533,9913.3742970595085,12636.4445879054,2478.3435742648771,501.46964443119214,516.14029892253018,529.47725755101931,null,null,null,null,2814.0982706112104,null,null,null,1459.0632739567129,null,null,null,3160.8591949519291,null,null,null,1632.443736127072,0,0,0,0,0,0,0,0]
["T12","90/mo or <3/day",681.9891459877224,750.35255433495217,782.93104969801232,null,23568.790684033804,34215.477706813952,44154.397012765054,null,null,null,null,null,906.61486480968676,976.58590337682404,1009.2082209386389,null,31331.607116395047,44531.53789207006,56915.587232181897,null,330.75657398653101,340.0924450264734,349.42831606641579,null,3889.7304582506222,3999.7927381944646,4109.8550181383071,null,11430.938909932252,15508.422669263548,19707.622361709211,3889.7304582506222,501.46964443119214,516.14029892253018,529.47725755101931,null,null,null,null,2814.0982706112104,null,null,null,1459.0632739567129,null,null,null,3160.8591949519291,null,null,null,1632.443736127072,0,0,0,0,0,0,0,0]
["T12_Built_to_Order","30/mo or  <1/day",188.83111034895819,208.34089918467262,216.49136903644612,null,6525.79434824085,9500.1787496929519,12209.307399367201,null,null,null,null,2967.4033241874981,296.25131240260362,314.1517197577536,322.30732134451955,null,10238.117736866401,14325.067732268248,18176.933246236651,null,88.023926948028404,90.691318673726244,93.358710399424069,null,1034.5854314721196,1066.9566902791321,1098.0330987338641,null,3041.6034775068952,4135.7520251839169,5264.8615323725135,1034.5854314721196,501.46964443119214,516.14029892253018,529.47725755101931,null,null,null,null,2814.0982706112104,null,null,null,1459.0632739567129,null,null,null,3160.8591949519291,null,null,null,1632.443736127072,0,0,0,0,0,0,0,0]
["T12_Built_to_Order","60/mo or <2/day",429.75356148383582,472.04087281195774,496.46785123349753,null,14851.807827030902,21524.687118200702,27998.9388796032,null,null,null,null,null,545.28575305931088,587.58364222878481,612.0473146245572,null,18844.472602606504,26793.34520209155,34517.19041025795,null,210.7239463301286,217.39242564437319,224.06090495861773,null,2478.3435742648771,2556.0345954017066,2635.0204668908182,null,7282.238381225533,9913.3742970595085,12636.4445879054,2478.3435742648771,501.46964443119214,516.14029892253018,529.47725755101931,null,null,null,null,2814.0982706112104,null,null,null,1459.0632739567129,null,null,null,3160.8591949519291,null,null,null,1632.443736127072,0,0,0,0,0,0,0,0]
["T12_Built_to_Order","90/mo or <3/day",681.9891459877224,750.35255433495217,782.93104969801232,null,23568.790684033804,34215.477706813952,44154.397012765054,null,null,null,null,null,906.61486480968676,976.58590337682404,1009.2082209386389,null,31331.607116395047,44531.53789207006,56915.587232181897,null,330.75657398653101,340.0924450264734,349.42831606641579,null,3889.7304582506222,3999.7927381944646,4109.8550181383071,null,11430.938909932252,15508.422669263548,19707.622361709211,3889.7304582506222,501.46964443119214,516.14029892253018,529.47725755101931,null,null,null,null,2814.0982706112104,null,null,null,1459.0632739567129,null,null,null,3160.8591949519291,null,null,null,1632.443736127072,0,0,0,0,0,0,0,0]
["T12_Standard_Config","30/mo or  <1/day",188.83111034895819,208.34089918467262,216.49136903644612,null,6525.79434824085,9500.1787496929519,12209.307399367201,null,null,null,null,2967.4033241874981,296.25131240260362,314.1517197577536,322.30732134451955,null,10238.117736866401,14325.067732268248,18176.933246236651,null,88.023926948028404,90.691318673726244,93.358710399424069,null,1034.5854314721196,1066.9566902791321,1098.0330987338641,null,3041.6034775068952,4135.7520251839169,5264.8615323725135,1034.5854314721196,501.46964443119214,516.14029892253018,529.47725755101931,null,null,null,null,2814.0982706112104,null,null,null,1459.0632739567129,null,null,null,3160.8591949519291,null,null,null,1632.443736127072,0,0,0,0,0,0,0,0]
["T12_Standard_Config","60/mo or <2/day",429.75356148383582,472.04087281195774,496.46785123349753,null,14851.807827030902,21524.687118200702,27998.9388796032,null,null,null,null,null,545.28575305931088,587.58364222878481,612.0473146245572,null,18844.472602606504,26793.34520209155,34517.19041025795,null,210.7239463301286,217.39242564437319,224.06090495861773,null,2478.3435742648771,2556.0345954017066,2635.0204668908182,null,7282.238381225533,9913.3742970595085,12636.4445879054,2478.3435742648771,501.46964443119214,516.14029892253018,529.47725755101931,null,null,null,null,2814.0982706112104,null,null,null,1459.0632739567129,null,null,null,3160.8591949519291,null,null,null,1632.443736127072,0,0,0,0,0,0,0,0]
["T12_Standard_Config","90/mo or <3/day",681.9891459877224,750.35255433495217,782.93104969801232,null,23568.790684033804,34215.477706813952,44154.397012765054,null,null,null,null,null,906.61486480968676,976.58590337682404,1009.2082209386389,null,31331.607116395047,44531.53789207006,56915.587232181897,null,330.75657398653101,340.0924450264734,349.42831606641579,null,3889.7304582506222,3999.7927381944646,4109.8550181383071,null,11430.938909932252,15508.422669263548,19707.622361709211,3889.7304582506222,501.46964443119214,516.14029892253018,529.47725755101931,null,null,null,null,2814.0982706112104,null,null,null,1459.0632739567129,null,null,null,3160.8591949519291,null,null,null,1632.443736127072,0,0,0,0,0,0,0,0]
["T15","30/mo or  <1/day",null,null,null,null,null,null,null,null,null,null,null,null,null,null,null,null,null,null,null,null,126.70110697064693,130.70219455919369,136.03697801058934,null,1490.3727554748555,1536.9873681569538,1600.4350354186979,null,4379.1838914126511,5960.1961715471425,7671.9883372619634,1490.3727554748555,610.83270518480322,632.17183899038594,652.17727693311974,null,null,null,null,2814.0982706112104,null,null,null,1459.0632739567129,null,null,null,3160.8591949519291,null,null,null,1632.443736127072,0,0,0,0,0,0,0,0]
["T15","60/mo or <2/day",null,null,null,null,null,null,null,null,null,null,null,null,null,null,null,null,null,null,null,null,294.74678568961025,302.74896086670373,312.08483190664612,null,3466.3143930548986,3560.8384687713751,3669.6058983629373,null,10186.587721390693,13805.694456014691,17602.195688901116,3466.3143930548986,610.83270518480322,632.17183899038594,652.17727693311974,null,null,null,null,2814.0982706112104,null,null,null,1459.0632739567129,null,null,null,3160.8591949519291,null,null,null,1632.443736127072,0,0,0,0,0,0,0,0]
["T15","90/mo or <3/day",null,null,null,null,null,null,null,null,null,null,null,null,null,null,null,null,null,null,null,null,493.46746925409866,510.80551547113447,525.47616996247245,null,5803.5192789212006,6006.8107842292384,6179.0258810825462,null,17054.473989886468,23293.062987173922,29636.534862996083,5803.5192789212006,610.83270518480322,632.17183899038594,652.17727693311974,null,null,null,null,2814.0982706112104,null,null,null,1459.0632739567129,null,null,null,3160.8591949519291,null,null,null,1632.443736127072,0,0,0,0,0,0,0,0]
["T16_Built_to_Order","30/mo or  <1/day",230.80974670856085,256.83522784231968,265.5095445421241,null,7976.5295973007514,11711.481438684599,14973.75004467285,null,null,null,null,3471.1469605027305,343.6136906870081,371.33036537228469,380.04132523706437,null,11874.909153050099,16932.36834453015,21432.91617090315,null,126.70110697064693,130.70219455919369,136.03697801058934,null,1490.3727554748555,1536.9873681569538,1600.4350354186979,null,4379.1838914126511,5960.1961715471425,7671.9883372619634,1490.3727554748555,610.83270518480322,632.17183899038594,652.17727693311974,null,null,null,null,2814.0982706112104,null,null,null,1459.0632739567129,null,null,null,3160.8591949519291,null,null,null,1632.443736127072,0,0,0,0,0,0,0,0]
["T16_Built_to_Order","60/mo or <2/day",503.2343634304541,557.00933268851725,576.1586095021645,null,17391.223081017903,25399.181084927397,32493.201024654449,null,null,null,null,null,626.44202491223439,681.9532198269236,699.33934522038953,null,21649.143608371345,31096.522634961602,39440.136021452548,null,294.74678568961025,302.74896086670373,312.08483190664612,null,3466.3143930548986,3560.8384687713751,3669.6058983629373,null,10186.587721390693,13805.694456014691,17602.195688901116,3466.3143930548986,610.83270518480322,632.17183899038594,652.17727693311974,null,null,null,null,2814.0982706112104,null,null,null,1459.0632739567129,null,null,null,3160.8591949519291,null,null,null,1632.443736127072,0,0,0,0,0,0,0,0]
["T16_Built_to_Order","90/mo or <3/day",817.31022680030662,898.8681589277578,944.02898256728702,null,28245.337587415797,40987.670762867398,53239.720795222507,null,null,null,null,null,1058.5236910122007,1141.8084796390631,1186.9799124610499,null,36581.408156320656,52065.555524319607,66941.24894037316,null,493.46746925409866,510.80551547113447,525.47616996247245,null,5803.5192789212006,6006.8107842292384,6179.0258810825462,null,17054.473989886468,23293.062987173922,29636.534862996083,5803.5192789212006,610.83270518480322,632.17183899038594,652.17727693311974,null,null,null,null,2814.0982706112104,null,null,null,1459.0632739567129,null,null,null,3160.8591949519291,null,null,null,1632.443736127072,0,0,0,0,0,0,0,0]
["T16_Standard_Config","30/mo or  <1/day",230.80974670856085,256.83522784231968,265.5095445421241,null,7976.5295973007514,11711.481438684599,14973.75004467285,null,null,null,null,3471.1469605027305,343.6136906870081,371.33036537228469,380.04132523706437,null,11874.909153050099,16932.36834453015,21432.91617090315,null,126.70110697064693,130.70219455919369,136.03697801058934,null,1490.3727554748555,1536.9873681569538,1600.4350354186979,null,4379.1838914126511,5960.1961715471425,7671.9883372619634,1490.3727554748555,610.83270518480322,632.17183899038594,652.17727693311974,null,null,null,null,2814.0982706112104,null,null,null,1459.0632739567129,null,null,null,3160.8591949519291,null,null,null,1632.443736127072,0,0,0,0,0,0,0,0]
["T16_Standard_Config","60/mo or <2/day",503.2343634304541,557.00933268851725,576.1586095021645,null,17391.223081017903,25399.181084927397,32493.201024654449,null,null,null,null,null,626.44202491223439,681.9532198269236,699.33934522038953,null,21649.143608371345,31096.522634961602,39440.136021452548,null,294.74678568961025,302.74896086670373,312.08483190664612,null,3466.3143930548986,3560.8384687713751,3669.6058983629373,null,10186.587721390693,13805.694456014691,17602.195688901116,3466.3143930548986,610.83270518480322,632.17183899038594,652.17727693311974,null,null,null,null,2814.0982706112104,null,null,null,1459.0632739567129,null,null,null,3160.8591949519291,null,null,null,1632.443736127072,0,0,0,0,0,0,0,0]
["T16_Standard_Config","90/mo or <3/day",817.31022680030662,898.8681589277578,944.02898256728702,null,28245.337587415797,40987.670762867398,53239.720795222507,null,null,null,null,null,1058.5236910122007,1141.8084796390631,1186.9799124610499,null,36581.408156320656,52065.555524319607,66941.24894037316,null,493.46746925409866,510.80551547113447,525.47616996247245,null,5803.5192789212006,6006.8107842292384,6179.0258810825462,null,17054.473989886468,23293.062987173922,29636.534862996083,5803.5192789212006,610.83270518480322,632.17183899038594,652.17727693311974,null,null,null,null,2814.0982706112104,null,null,null,1459.0632739567129,null,null,null,3160.8591949519291,null,null,null,1632.443736127072,0,0,0,0,0,0,0,0]
["T17_Built_to_Order","30/mo or  <1/day",258.0558460442129,286.08621289391925,299.19142866630756,null,8918.124659298901,13045.303015159951,16873.282940105702,null,null,null,null,3798.1001525305551,381.48176733375539,409.48622146221282,420.72262141617409,null,13183.588004238451,18672.244934390554,23727.189853341904,null,145.37284905053173,149.37393663907849,153.37502422762526,null,1709.2024650102601,1757.1119280446387,1803.7265407267364,null,5024.0193668483398,6810.9128529954305,8650.895203586022,1709.2024650102601,673.51641073870212,694.85554454428461,714.86098248701853,null,null,null,null,2814.0982706112104,null,null,null,1459.0632739567129,null,null,null,3160.8591949519291,null,null,null,1632.443736127072,0,0,0,0,0,0,0,0]
["T17_Built_to_Order","60/mo or <2/day",600.21447134613948,658.18851755126025,686.25445707949245,null,20742.748361775,30012.871175091899,38702.197034279096,null,null,null,null,null,734.84439610080983,792.80921501305158,824.61544633085373,null,25395.40967613435,36151.467553912946,46505.241827099555,null,330.75657398653101,340.0924450264734,349.42831606641579,null,3889.7304582506222,3999.7927381944646,4109.8550181383071,null,11430.938909932252,15508.422669263548,19707.622361709211,3889.7304582506222,673.51641073870212,694.85554454428461,714.86098248701853,null,null,null,null,2814.0982706112104,null,null,null,1459.0632739567129,null,null,null,3160.8591949519291,null,null,null,1632.443736127072,0,0,0,0,0,0,0,0]
["T17_Built_to_Order","90/mo or <3/day",968.56427357953385,1073.2712988301316,1142.5091256789547,null,33472.510174583098,48940.314771145502,64433.262092994904,null,null,null,null,null,1230.3305363557051,1338.7632743691545,1408.0186702210788,null,42518.862732845708,61046.53699683601,79407.012137667742,null,542.81421617950843,558.8185665336955,574.82291688788234,null,6383.6122367428661,6571.3655378235389,6760.4136892564902,null,18759.791903839887,25482.654932880243,32420.463120399163,6383.6122367428661,673.51641073870212,694.85554454428461,714.86098248701853,null,null,null,null,2814.0982706112104,null,null,null,1459.0632739567129,null,null,null,3160.8591949519291,null,null,null,1632.443736127072,0,0,0,0,0,0,0,0]
["T17_Standard_Config","30/mo or  <1/day",258.0558460442129,286.08621289391925,299.19142866630756,null,8918.124659298901,13045.303015159951,16873.282940105702,null,null,null,null,3798.1001525305551,381.48176733375539,409.48622146221282,420.72262141617409,null,13183.588004238451,18672.244934390554,23727.189853341904,null,145.37284905053173,149.37393663907849,153.37502422762526,null,1709.2024650102601,1757.1119280446387,1803.7265407267364,null,5024.0193668483398,6810.9128529954305,8650.895203586022,1709.2024650102601,673.51641073870212,694.85554454428461,714.86098248701853,null,null,null,null,2814.0982706112104,null,null,null,1459.0632739567129,null,null,null,3160.8591949519291,null,null,null,1632.443736127072,0,0,0,0,0,0,0,0]
["T17_Standard_Config","60/mo or <2/day",600.21447134613948,658.18851755126025,686.25445707949245,null,20742.748361775,30012.871175091899,38702.197034279096,null,null,null,null,null,734.84439610080983,792.80921501305158,824.61544633085373,null,25395.40967613435,36151.467553912946,46505.241827099555,null,330.75657398653101,340.0924450264734,349.42831606641579,null,3889.7304582506222,3999.7927381944646,4109.8550181383071,null,11430.938909932252,15508.422669263548,19707.622361709211,3889.7304582506222,673.51641073870212,694.85554454428461,714.86098248701853,null,null,null,null,2814.0982706112104,null,null,null,1459.0632739567129,null,null,null,3160.8591949519291,null,null,null,1632.443736127072,0,0,0,0,0,0,0,0]
["T17_Standard_Config","90/mo or <3/day",968.56427357953385,1073.2712988301316,1142.5091256789547,null,33472.510174583098,48940.314771145502,64433.262092994904,null,null,null,null,null,1230.3305363557051,1338.7632743691545,1408.0186702210788,null,42518.862732845708,61046.53699683601,79407.012137667742,null,542.81421617950843,558.8185665336955,574.82291688788234,null,6383.6122367428661,6571.3655378235389,6760.4136892564902,null,18759.791903839887,25482.654932880243,32420.463120399163,6383.6122367428661,673.51641073870212,694.85554454428461,714.86098248701853,null,null,null,null,2814.0982706112104,null,null,null,1459.0632739567129,null,null,null,3160.8591949519291,null,null,null,1632.443736127072,0,0,0,0,0,0,0,0]
[7300,"30/mo or  <1/day",null,null,null,null,null,null,null,null,null,null,null,null,null,null,null,null,null,null,null,null,150.70763250192741,154.70872009047412,158.70980767902091,null,1772.6501322720044,1819.2647449541028,1865.8793576362009,null,5207.8881168721709,7054.3447192241638,8951.3004853150978,1772.6501322720044,708.19250317277397,728.19794111550766,748.20337905824147,null,null,null,null,2814.0982706112104,null,null,null,1459.0632739567129,null,null,null,3160.8591949519291,null,null,null,1632.443736127072,0,0,0,0,0,0,0,0]
[7300,"60/mo or <2/day",null,null,null,null,null,null,null,null,null,null,null,null,null,null,null,null,null,null,null,null,344.09353261502008,354.76309951781138,365.4326664206028,null,4046.4073508765628,4172.0078350477716,4297.6083192189799,null,11891.90563534411,16176.565451040287,20610.13305724872,4046.4073508765628,708.19250317277397,728.19794111550766,748.20337905824147,null,null,null,null,2814.0982706112104,null,null,null,1459.0632739567129,null,null,null,3160.8591949519291,null,null,null,1632.443736127072,0,0,0,0,0,0,0,0]
[7300,"90/mo or <3/day",null,null,null,null,null,null,null,null,null,null,null,null,null,null,null,null,null,null,null,null,569.48813343648669,585.49248379067376,605.49792173340745,null,6696.9660219947455,6886.0141734276995,7120.3820871904718,null,19681.725354663602,26698.519413671631,34150.383191045905,6696.9660219947455,708.19250317277397,728.19794111550766,748.20337905824147,null,null,null,null,2814.0982706112104,null,null,null,1459.0632739567129,null,null,null,3160.8591949519291,null,null,null,1632.443736127072,0,0,0,0,0,0,0,0]
[7400,"30/mo or  <1/day",null,null,null,null,null,null,null,null,null,null,null,null,null,null,null,null,null,null,null,null,165.3782869932655,170.71307044466113,176.04785389605681,null,1944.8652291253111,2007.0180460347751,2070.4657132965199,null,5715.4694549661262,7784.6403179103672,9928.9125012868735,1944.8652291253111,782.87947149231331,804.21860529789581,824.22404324062961,null,null,null,null,2814.0982706112104,null,null,null,1459.0632739567129,null,null,null,3160.8591949519291,null,null,null,1632.443736127072,0,0,0,0,0,0,0,0]
[7400,"60/mo or <2/day",null,null,null,null,null,null,null,null,null,null,null,null,null,null,null,null,null,null,null,null,382.77071263763867,393.44027954042997,406.77723816891915,null,4500.8998245270177,4626.5003086982269,4783.1772013241671,null,13228.19119889759,17941.446481198611,22942.1585417059,4500.8998245270177,782.87947149231331,804.21860529789581,824.22404324062961,null,null,null,null,2814.0982706112104,null,null,null,1459.0632739567129,null,null,null,3160.8591949519291,null,null,null,1632.443736127072,0,0,0,0,0,0,0,0]
[7400,"90/mo or <3/day",null,null,null,null,null,null,null,null,null,null,null,null,null,null,null,null,null,null,null,null,632.17183899038594,650.84358107027037,669.51532315015538,null,7433.735872442352,7653.860432330036,7873.9849922177209,null,21848.009994028875,29677.970074269069,37760.42597320395,7433.735872442352,782.87947149231331,804.21860529789581,824.22404324062961,null,null,null,null,2814.0982706112104,null,null,null,1459.0632739567129,null,null,null,3160.8591949519291,null,null,null,1632.443736127072,0,0,0,0,0,0,0,0]
[8200,"30/mo or  <1/day",null,null,null,null,null,null,null,null,null,null,null,null,null,null,null,null,null,null,null,null,169.37937458181224,174.71415803320789,180.04894148460357,null,1991.4798418074097,2054.9275090691535,2117.0803259786176,null,5854.0184426601409,7967.2142175819172,10154.216462583683,1991.4798418074097,797.55012598365124,817.55556392638482,837.56100186911885,null,null,null,null,2814.0982706112104,null,null,null,1459.0632739567129,null,null,null,3160.8591949519291,null,null,null,1632.443736127072,0,0,0,0,0,0,0,0]
[8200,"60/mo or <2/day",null,null,null,null,null,null,null,null,null,null,null,null,null,null,null,null,null,null,null,null,384.10440850048752,394.77397540327888,408.11093403176801,null,4516.4380287543845,4642.0385129255928,4800.0102559038141,null,13274.805811579685,18002.304447755796,23017.259862138169,4516.4380287543845,797.55012598365124,817.55556392638482,837.56100186911885,null,null,null,null,2814.0982706112104,null,null,null,1459.0632739567129,null,null,null,3160.8591949519291,null,null,null,1632.443736127072,0,0,0,0,0,0,0,0]
[8200,"90/mo or <3/day",null,null,null,null,null,null,null,null,null,null,null,null,null,null,null,null,null,null,null,null,645.50879761887495,664.18053969875973,685.51967350434222,null,7591.7076154205724,7810.5373249559761,8061.7382932983937,null,22308.976719440736,30286.549739840899,38662.936668743452,7591.7076154205724,797.55012598365124,817.55556392638482,837.56100186911885,null,null,null,null,2814.0982706112104,null,null,null,1459.0632739567129,null,null,null,3160.8591949519291,null,null,null,1632.443736127072,0,0,0,0,0,0,0,0]
[8210,"30/mo or  <1/day",null,null,null,null,null,null,null,null,null,null,null,null,null,null,null,null,null,null,null,null,169.37937458181224,174.71415803320789,180.04894148460357,null,1991.4798418074097,2054.9275090691535,2117.0803259786176,null,5854.0184426601409,7967.2142175819172,10154.216462583683,1991.4798418074097,797.55012598365124,817.55556392638482,837.56100186911885,null,null,null,null,2814.0982706112104,null,null,null,1459.0632739567129,null,null,null,3160.8591949519291,null,null,null,1632.443736127072,0,0,0,0,0,0,0,0]
[8210,"60/mo or <2/day",null,null,null,null,null,null,null,null,null,null,null,null,null,null,null,null,null,null,null,null,384.10440850048752,394.77397540327888,408.11093403176801,null,4516.4380287543845,4642.0385129255928,4800.0102559038141,null,13274.805811579685,18002.304447755796,23017.259862138169,4516.4380287543845,797.55012598365124,817.55556392638482,837.56100186911885,null,null,null,null,2814.0982706112104,null,null,null,1459.0632739567129,null,null,null,3160.8591949519291,null,null,null,1632.443736127072,0,0,0,0,0,0,0,0]
[8210,"90/mo or <3/day",null,null,null,null,null,null,null,null,null,null,null,null,null,null,null,null,null,null,null,null,645.50879761887495,664.18053969875973,685.51967350434222,null,7591.7076154205724,7810.5373249559761,8061.7382932983937,null,22308.976719440736,30286.549739840899,38662.936668743452,7591.7076154205724,797.55012598365124,817.55556392638482,837.56100186911885,null,null,null,null,2814.0982706112104,null,null,null,1459.0632739567129,null,null,null,3160.8591949519291,null,null,null,1632.443736127072,0,0,0,0,0,0,0,0]
[8300,"30/mo or  <1/day",null,null,null,null,null,null,null,null,null,null,null,null,null,null,null,null,null,null,null,null,165.3782869932655,170.71307044466113,176.04785389605681,null,1944.8652291253111,2007.0180460347751,2070.4657132965199,null,5715.4694549661262,7784.6403179103672,9928.9125012868735,1944.8652291253111,782.87947149231331,804.21860529789581,824.22404324062961,null,null,null,null,2814.0982706112104,null,null,null,1459.0632739567129,null,null,null,3160.8591949519291,null,null,null,1632.443736127072,0,0,0,0,0,0,0,0]
[8300,"60/mo or <2/day",null,null,null,null,null,null,null,null,null,null,null,null,null,null,null,null,null,null,null,null,382.77071263763867,393.44027954042997,406.77723816891915,null,4500.8998245270177,4626.5003086982269,4783.1772013241671,null,13228.19119889759,17941.446481198611,22942.1585417059,4500.8998245270177,782.87947149231331,804.21860529789581,824.22404324062961,null,null,null,null,2814.0982706112104,null,null,null,1459.0632739567129,null,null,null,3160.8591949519291,null,null,null,1632.443736127072,0,0,0,0,0,0,0,0]
[8300,"90/mo or <3/day",null,null,null,null,null,null,null,null,null,null,null,null,null,null,null,null,null,null,null,null,632.17183899038594,650.84358107027037,669.51532315015538,null,7433.735872442352,7653.860432330036,7873.9849922177209,null,21848.009994028875,29677.970074269069,37760.42597320395,7433.735872442352,782.87947149231331,804.21860529789581,824.22404324062961,null,null,null,null,2814.0982706112104,null,null,null,1459.0632739567129,null,null,null,3160.8591949519291,null,null,null,1632.443736127072,0,0,0,0,0,0,0,0]
[8400,"30/mo or  <1/day",null,null,null,null,null,null,null,null,null,null,null,null,null,null,null,null,null,null,null,null,169.37937458181224,174.71415803320789,180.04894148460357,null,1991.4798418074097,2054.9275090691535,2117.0803259786176,null,5854.0184426601409,7967.2142175819172,10154.216462583683,1991.4798418074097,797.55012598365124,817.55556392638482,837.56100186911885,null,null,null,null,2814.0982706112104,null,null,null,1459.0632739567129,null,null,null,3160.8591949519291,null,null,null,1632.443736127072,0,0,0,0,0,0,0,0]
[8400,"60/mo or <2/day",null,null,null,null,null,null,null,null,null,null,null,null,null,null,null,null,null,null,null,null,384.10440850048752,394.77397540327888,408.11093403176801,null,4516.4380287543845,4642.0385129255928,4800.0102559038141,null,13274.805811579685,18002.304447755796,23017.259862138169,4516.4380287543845,797.55012598365124,817.55556392638482,837.56100186911885,null,null,null,null,2814.0982706112104,null,null,null,1459.0632739567129,null,null,null,3160.8591949519291,null,null,null,1632.443736127072,0,0,0,0,0,0,0,0]
[8400,"90/mo or <3/day",null,null,null,null,null,null,null,null,null,null,null,null,null,null,null,null,null,null,null,null,645.50879761887495,664.18053969875973,685.51967350434222,null,7591.7076154205724,7810.5373249559761,8061.7382932983937,null,22308.976719440736,30286.549739840899,38662.936668743452,7591.7076154205724,797.55012598365124,817.55556392638482,837.56100186911885,null,null,null,null,2814.0982706112104,null,null,null,1459.0632739567129,null,null,null,3160.8591949519291,null,null,null,1632.443736127072,0,0,0,0,0,0,0,0]
[8410,"30/mo or  <1/day",null,null,null,null,null,null,null,null,null,null,null,null,null,null,null,null,null,null,null,null,169.37937458181224,174.71415803320789,180.04894148460357,null,1991.4798418074097,2054.9275090691535,2117.0803259786176,null,5854.0184426601409,7967.2142175819172,10154.216462583683,1991.4798418074097,797.55012598365124,817.55556392638482,837.56100186911885,null,null,null,null,2814.0982706112104,null,null,null,1459.0632739567129,null,null,null,3160.8591949519291,null,null,null,1632.443736127072,0,0,0,0,0,0,0,0]
[8410,"60/mo or <2/day",null,null,null,null,null,null,null,null,null,null,null,null,null,null,null,null,null,null,null,null,384.10440850048752,394.77397540327888,408.11093403176801,null,4516.4380287543845,4642.0385129255928,4800.0102559038141,null,13274.805811579685,18002.304447755796,23017.259862138169,4516.4380287543845,797.55012598365124,817.55556392638482,837.56100186911885,null,null,null,null,2814.0982706112104,null,null,null,1459.0632739567129,null,null,null,3160.8591949519291,null,null,null,1632.443736127072,0,0,0,0,0,0,0,0]
[8410,"90/mo or <3/day",null,null,null,null,null,null,null,null,null,null,null,null,null,null,null,null,null,null,null,null,645.50879761887495,664.18053969875973,685.51967350434222,null,7591.7076154205724,7810.5373249559761,8061.7382932983937,null,22308.976719440736,30286.549739840899,38662.936668743452,7591.7076154205724,797.55012598365124,817.55556392638482,837.56100186911885,null,null,null,null,2814.0982706112104,null,null,null,1459.0632739567129,null,null,null,3160.8591949519291,null,null,null,1632.443736127072,0,0,0,0,0,0,0,0]
["M17_Built_to_Order","30/mo or  <1/day",268.60507008605418,293.00609719924574,310.89426729317478,null,9282.6941759604015,13360.844217511802,17533.279478889453,null,null,null,null,3924.6908410326505,375.98889550507261,400.41593486280073,419.96472329557702,null,12993.760428321601,18258.6471034194,23684.447220354003,null,165.3782869932655,170.71307044466113,176.04785389605681,null,1944.8652291253111,2007.0180460347751,2070.4657132965199,null,5715.4694549661262,7784.6403179103672,9928.9125012868735,1944.8652291253111,782.87947149231331,804.21860529789581,824.22404324062961,null,null,null,null,2814.0982706112104,null,null,null,1459.0632739567129,null,null,null,3160.8591949519291,null,null,null,1632.443736127072,0,0,0,0,0,0,0,0]
["M17_Built_to_Order","60/mo or <2/day",613.63744952351669,673.84785733383194,708.05517360725639,null,21206.63164332015,30726.924573242701,39931.6763008134,null,null,null,null,null,734.1168634082693,794.29795506280288,828.51639253980932,null,25370.266950847352,36219.352912187853,46725.2406733608,null,382.77071263763867,393.44027954042997,406.77723816891915,null,4500.8998245270177,4626.5003086982269,4783.1772013241671,null,13228.19119889759,17941.446481198611,22942.1585417059,4500.8998245270177,782.87947149231331,804.21860529789581,824.22404324062961,null,null,null,null,2814.0982706112104,null,null,null,1459.0632739567129,null,null,null,3160.8591949519291,null,null,null,1632.443736127072,0,0,0,0,0,0,0,0]
["M17_Built_to_Order","90/mo or <3/day",1018.9459125379825,1121.4623656257922,1170.3284449291077,null,35213.643900707852,51137.788961229307,66002.168150903701,null,null,null,null,null,1251.6836208817767,1354.2020600702817,1407.9963790998845,null,43256.801720019146,61750.533304872006,79405.755001403391,null,632.17183899038594,650.84358107027037,669.51532315015538,null,7433.735872442352,7653.860432330036,7873.9849922177209,null,21848.009994028875,29677.970074269069,37760.42597320395,7433.735872442352,782.87947149231331,804.21860529789581,824.22404324062961,null,null,null,null,2814.0982706112104,null,null,null,1459.0632739567129,null,null,null,3160.8591949519291,null,null,null,1632.443736127072,0,0,0,0,0,0,0,0]
["M17_Standard_Config","30/mo or  <1/day",268.60507008605418,293.00609719924574,310.89426729317478,null,9282.6941759604015,13360.844217511802,17533.279478889453,null,null,null,null,3924.6908410326505,375.98889550507261,400.41593486280073,419.96472329557702,null,12993.760428321601,18258.6471034194,23684.447220354003,null,165.3782869932655,170.71307044466113,176.04785389605681,null,1944.8652291253111,2007.0180460347751,2070.4657132965199,null,5715.4694549661262,7784.6403179103672,9928.9125012868735,1944.8652291253111,782.87947149231331,804.21860529789581,824.22404324062961,null,null,null,null,2814.0982706112104,null,null,null,1459.0632739567129,null,null,null,3160.8591949519291,null,null,null,1632.443736127072,0,0,0,0,0,0,0,0]
["M17_Standard_Config","60/mo or <2/day",613.63744952351669,673.84785733383194,708.05517360725639,null,21206.63164332015,30726.924573242701,39931.6763008134,null,null,null,null,null,734.1168634082693,794.29795506280288,828.51639253980932,null,25370.266950847352,36219.352912187853,46725.2406733608,null,382.77071263763867,393.44027954042997,406.77723816891915,null,4500.8998245270177,4626.5003086982269,4783.1772013241671,null,13228.19119889759,17941.446481198611,22942.1585417059,4500.8998245270177,782.87947149231331,804.21860529789581,824.22404324062961,null,null,null,null,2814.0982706112104,null,null,null,1459.0632739567129,null,null,null,3160.8591949519291,null,null,null,1632.443736127072,0,0,0,0,0,0,0,0]
["M17_Standard_Config","90/mo or <3/day",1018.9459125379825,1121.4623656257922,1170.3284449291077,null,35213.643900707852,51137.788961229307,66002.168150903701,null,null,null,null,null,1251.6836208817767,1354.2020600702817,1407.9963790998845,null,43256.801720019146,61750.533304872006,79405.755001403391,null,632.17183899038594,650.84358107027037,669.51532315015538,null,7433.735872442352,7653.860432330036,7873.9849922177209,null,21848.009994028875,29677.970074269069,37760.42597320395,7433.735872442352,782.87947149231331,804.21860529789581,824.22404324062961,null,null,null,null,2814.0982706112104,null,null,null,1459.0632739567129,null,null,null,3160.8591949519291,null,null,null,1632.443736127072,0,0,0,0,0,0,0,0]
["M20_Built_to_Order","30/mo or  <1/day",356.49101934497969,393.46848129729364,410.3126678185609,null,12319.93539063,17941.848764803195,23140.107217890447,null,null,null,null,4979.3222321397561,467.43975495744797,504.46232278432444,522.94970321200844,null,16154.200996897498,23003.079365076301,29492.416761650999,null,165.3782869932655,170.71307044466113,176.04785389605681,null,1944.8652291253111,2007.0180460347751,2070.4657132965199,null,5715.4694549661262,7784.6403179103672,9928.9125012868735,1944.8652291253111,782.87947149231331,804.21860529789581,824.22404324062961,null,null,null,null,2814.0982706112104,null,null,null,1459.0632739567129,null,null,null,3160.8591949519291,null,null,null,1632.443736127072,0,0,0,0,0,0,0,0]
["M20_Built_to_Order","60/mo or <2/day",827.31380132274239,914.72048353159357,948.37575120012343,null,28591.050060112051,41710.524114868655,53484.862366770743,null,null,null,null,null,953.39521694005873,1042.5040044686,1079.5367083058122,null,32948.284352349154,47537.350700130912,60881.852146206162,null,382.77071263763867,393.44027954042997,406.77723816891915,null,4500.8998245270177,4626.5003086982269,4783.1772013241671,null,13228.19119889759,17941.446481198611,22942.1585417059,4500.8998245270177,782.87947149231331,804.21860529789581,824.22404324062961,null,null,null,null,2814.0982706112104,null,null,null,1459.0632739567129,null,null,null,3160.8591949519291,null,null,null,1632.443736127072,0,0,0,0,0,0,0,0]
["M20_Built_to_Order","90/mo or <3/day",1350.2279240864243,1488.1059567673778,1548.7202271978135,null,46662.383860143302,67856.444140819949,87342.056238244972,null,null,null,null,null,1597.4071563771524,1738.6278240283436,1800.9442635082944,null,55204.62477640155,79280.041374968408,101566.55306936521,null,632.17183899038594,650.84358107027037,669.51532315015538,null,7433.735872442352,7653.860432330036,7873.9849922177209,null,21848.009994028875,29677.970074269069,37760.42597320395,7433.735872442352,782.87947149231331,804.21860529789581,824.22404324062961,null,null,null,null,2814.0982706112104,null,null,null,1459.0632739567129,null,null,null,3160.8591949519291,null,null,null,1632.443736127072,0,0,0,0,0,0,0,0]
["M20_Standard_Config","30/mo or  <1/day",356.49101934497969,393.46848129729364,410.3126678185609,null,12319.93539063,17941.848764803195,23140.107217890447,null,null,null,null,4979.3222321397561,467.43975495744797,504.46232278432444,522.94970321200844,null,16154.200996897498,23003.079365076301,29492.416761650999,null,165.3782869932655,170.71307044466113,176.04785389605681,null,1944.8652291253111,2007.0180460347751,2070.4657132965199,null,5715.4694549661262,7784.6403179103672,9928.9125012868735,1944.8652291253111,782.87947149231331,804.21860529789581,824.22404324062961,null,null,null,null,2814.0982706112104,null,null,null,1459.0632739567129,null,null,null,3160.8591949519291,null,null,null,1632.443736127072,0,0,0,0,0,0,0,0]
["M20_Standard_Config","60/mo or <2/day",827.31380132274239,914.72048353159357,948.37575120012343,null,28591.050060112051,41710.524114868655,53484.862366770743,null,null,null,null,null,953.39521694005873,1042.5040044686,1079.5367083058122,null,32948.284352349154,47537.350700130912,60881.852146206162,null,382.77071263763867,393.44027954042997,406.77723816891915,null,4500.8998245270177,4626.5003086982269,4783.1772013241671,null,13228.19119889759,17941.446481198611,22942.1585417059,4500.8998245270177,782.87947149231331,804.21860529789581,824.22404324062961,null,null,null,null,2814.0982706112104,null,null,null,1459.0632739567129,null,null,null,3160.8591949519291,null,null,null,1632.443736127072,0,0,0,0,0,0,0,0]
["M20_Standard_Config","90/mo or <3/day",1350.2279240864243,1488.1059567673778,1548.7202271978135,null,46662.383860143302,67856.444140819949,87342.056238244972,null,null,null,null,null,1597.4071563771524,1738.6278240283436,1800.9442635082944,null,55204.62477640155,79280.041374968408,101566.55306936521,null,632.17183899038594,650.84358107027037,669.51532315015538,null,7433.735872442352,7653.860432330036,7873.9849922177209,null,21848.009994028875,29677.970074269069,37760.42597320395,7433.735872442352,782.87947149231331,804.21860529789581,824.22404324062961,null,null,null,null,2814.0982706112104,null,null,null,1459.0632739567129,null,null,null,3160.8591949519291,null,null,null,1632.443736127072,0,0,0,0,0,0,0,0]
["T20_Built_to_Order","30/mo or  <1/day",285.33832201449195,313.57276529396131,330.53274506511769,null,9860.9768575613998,14298.667870716899,18640.816527781801,null,null,null,null,4125.4898641739037,378.53525992896522,408.2180354939058,423.75421389856268,null,13081.759966826099,18614.416666230452,23898.160385293497,null,165.3782869932655,170.71307044466113,176.04785389605681,null,1944.8652291253111,2007.0180460347751,2070.4657132965199,null,5715.4694549661262,7784.6403179103672,9928.9125012868735,1944.8652291253111,782.87947149231331,804.21860529789581,824.22404324062961,null,null,null,null,2814.0982706112104,null,null,null,1459.0632739567129,null,null,null,3160.8591949519291,null,null,null,1632.443736127072,0,0,0,0,0,0,0,0]
["T20_Built_to_Order","60/mo or <2/day",665.25589405928451,731.63302667233575,768.39723867950306,null,22990.508002432798,33361.882183320296,43334.744168408855,null,null,null,null,null,772.63971947830305,838.98772581552953,875.75127834996454,null,26701.574254793999,38257.170796699203,49389.112417518452,null,382.77071263763867,393.44027954042997,406.77723816891915,null,4500.8998245270177,4626.5003086982269,4783.1772013241671,null,13228.19119889759,17941.446481198611,22942.1585417059,4500.8998245270177,782.87947149231331,804.21860529789581,824.22404324062961,null,null,null,null,2814.0982706112104,null,null,null,1459.0632739567129,null,null,null,3160.8591949519291,null,null,null,1632.443736127072,0,0,0,0,0,0,0,0]
["T20_Built_to_Order","90/mo or <3/day",1089.0073108296594,1199.1525408146779,1250.0637854401627,null,37634.888345845946,54680.398954167598,70498.944568483654,null,null,null,null,null,1296.645141280796,1409.5887037730747,1460.5142606330257,null,44810.622142755754,64276.120059951158,82367.568040212005,null,632.17183899038594,650.84358107027037,669.51532315015538,null,7433.735872442352,7653.860432330036,7873.9849922177209,null,21848.009994028875,29677.970074269069,37760.42597320395,7433.735872442352,782.87947149231331,804.21860529789581,824.22404324062961,null,null,null,null,2814.0982706112104,null,null,null,1459.0632739567129,null,null,null,3160.8591949519291,null,null,null,1632.443736127072,0,0,0,0,0,0,0,0]
["T20_Standard_Config","30/mo or  <1/day",285.33832201449195,313.57276529396131,330.53274506511769,null,9860.9768575613998,14298.667870716899,18640.816527781801,null,null,null,null,4125.4898641739037,378.53525992896522,408.2180354939058,423.75421389856268,null,13081.759966826099,18614.416666230452,23898.160385293497,null,165.3782869932655,170.71307044466113,176.04785389605681,null,1944.8652291253111,2007.0180460347751,2070.4657132965199,null,5715.4694549661262,7784.6403179103672,9928.9125012868735,1944.8652291253111,782.87947149231331,804.21860529789581,824.22404324062961,null,null,null,null,2814.0982706112104,null,null,null,1459.0632739567129,null,null,null,3160.8591949519291,null,null,null,1632.443736127072,0,0,0,0,0,0,0,0]
["T20_Standard_Config","60/mo or <2/day",665.25589405928451,731.63302667233575,768.39723867950306,null,22990.508002432798,33361.882183320296,43334.744168408855,null,null,null,null,null,772.63971947830305,838.98772581552953,875.75127834996454,null,26701.574254793999,38257.170796699203,49389.112417518452,null,382.77071263763867,393.44027954042997,406.77723816891915,null,4500.8998245270177,4626.5003086982269,4783.1772013241671,null,13228.19119889759,17941.446481198611,22942.1585417059,4500.8998245270177,782.87947149231331,804.21860529789581,824.22404324062961,null,null,null,null,2814.0982706112104,null,null,null,1459.0632739567129,null,null,null,3160.8591949519291,null,null,null,1632.443736127072,0,0,0,0,0,0,0,0]
["T20_Standard_Config","90/mo or <3/day",1089.0073108296594,1199.1525408146779,1250.0637854401627,null,37634.888345845946,54680.398954167598,70498.944568483654,null,null,null,null,null,1296.645141280796,1409.5887037730747,1460.5142606330257,null,44810.622142755754,64276.120059951158,82367.568040212005,null,632.17183899038594,650.84358107027037,669.51532315015538,null,7433.735872442352,7653.860432330036,7873.9849922177209,null,21848.009994028875,29677.970074269069,37760.42597320395,7433.735872442352,782.87947149231331,804.21860529789581,824.22404324062961,null,null,null,null,2814.0982706112104,null,null,null,1459.0632739567129,null,null,null,3160.8591949519291,null,null,null,1632.443736127072,0,0,0,0,0,0,0,0]
["M30_Built_to_Order","30/mo or  <1/day",356.49101934497969,393.46848129729364,410.3126678185609,null,12319.93539063,17941.848764803195,23140.107217890447,null,null,null,null,4979.3222321397561,467.43975495744797,504.46232278432444,522.94970321200844,null,16154.200996897498,23003.079365076301,29492.416761650999,null,165.3782869932655,170.71307044466113,176.04785389605681,null,1944.8652291253111,2007.0180460347751,2070.4657132965199,null,5715.4694549661262,7784.6403179103672,9928.9125012868735,1944.8652291253111,782.87947149231331,804.21860529789581,824.22404324062961,null,null,null,null,2814.0982706112104,null,null,null,1459.0632739567129,null,null,null,3160.8591949519291,null,null,null,1632.443736127072,0,0,0,0,0,0,0,0]
["M30_Built_to_Order","60/mo or <2/day",827.31380132274239,914.72048353159357,948.37575120012343,null,28591.050060112051,41710.524114868655,53484.862366770743,null,null,null,null,null,953.39521694005873,1042.5040044686,1079.5367083058122,null,32948.284352349154,47537.350700130912,60881.852146206162,null,382.77071263763867,393.44027954042997,406.77723816891915,null,4500.8998245270177,4626.5003086982269,4783.1772013241671,null,13228.19119889759,17941.446481198611,22942.1585417059,4500.8998245270177,782.87947149231331,804.21860529789581,824.22404324062961,null,null,null,null,2814.0982706112104,null,null,null,1459.0632739567129,null,null,null,3160.8591949519291,null,null,null,1632.443736127072,0,0,0,0,0,0,0,0]
["M30_Built_to_Order","90/mo or <3/day",1350.2279240864243,1488.1059567673778,1548.7202271978135,null,46662.383860143302,67856.444140819949,87342.056238244972,null,null,null,null,null,1597.4071563771524,1738.6278240283436,1800.9442635082944,null,55204.62477640155,79280.041374968408,101566.55306936521,null,632.17183899038594,650.84358107027037,669.51532315015538,null,7433.735872442352,7653.860432330036,7873.9849922177209,null,21848.009994028875,29677.970074269069,37760.42597320395,7433.735872442352,782.87947149231331,804.21860529789581,824.22404324062961,null,null,null,null,2814.0982706112104,null,null,null,1459.0632739567129,null,null,null,3160.8591949519291,null,null,null,1632.443736127072,0,0,0,0,0,0,0,0]
["M30_Standard_Config","30/mo or  <1/day",356.49101934497969,393.46848129729364,410.3126678185609,null,12319.93539063,17941.848764803195,23140.107217890447,null,null,null,null,4979.3222321397561,467.43975495744797,504.46232278432444,522.94970321200844,null,16154.200996897498,23003.079365076301,29492.416761650999,null,165.3782869932655,170.71307044466113,176.04785389605681,null,1944.8652291253111,2007.0180460347751,2070.4657132965199,null,5715.4694549661262,7784.6403179103672,9928.9125012868735,1944.8652291253111,782.87947149231331,804.21860529789581,824.22404324062961,null,null,null,null,2814.0982706112104,null,null,null,1459.0632739567129,null,null,null,3160.8591949519291,null,null,null,1632.443736127072,0,0,0,0,0,0,0,0]
["M30_Standard_Config","60/mo or <2/day",827.31380132274239,914.72048353159357,948.37575120012343,null,28591.050060112051,41710.524114868655,53484.862366770743,null,null,null,null,null,953.39521694005873,1042.5040044686,1079.5367083058122,null,32948.284352349154,47537.350700130912,60881.852146206162,null,382.77071263763867,393.44027954042997,406.77723816891915,null,4500.8998245270177,4626.5003086982269,4783.1772013241671,null,13228.19119889759,17941.446481198611,22942.1585417059,4500.8998245270177,782.87947149231331,804.21860529789581,824.22404324062961,null,null,null,null,2814.0982706112104,null,null,null,1459.0632739567129,null,null,null,3160.8591949519291,null,null,null,1632.443736127072,0,0,0,0,0,0,0,0]
["M30_Standard_Config","90/mo or <3/day",1350.2279240864243,1488.1059567673778,1548.7202271978135,null,46662.383860143302,67856.444140819949,87342.056238244972,null,null,null,null,null,1597.4071563771524,1738.6278240283436,1800.9442635082944,null,55204.62477640155,79280.041374968408,101566.55306936521,null,632.17183899038594,650.84358107027037,669.51532315015538,null,7433.735872442352,7653.860432330036,7873.9849922177209,null,21848.009994028875,29677.970074269069,37760.42597320395,7433.735872442352,782.87947149231331,804.21860529789581,824.22404324062961,null,null,null,null,2814.0982706112104,null,null,null,1459.0632739567129,null,null,null,3160.8591949519291,null,null,null,1632.443736127072,0,0,0,0,0,0,0,0]
[550,"30/mo or  <1/day",null,null,null,null,null,null,null,null,null,null,null,null,null,null,null,null,null,null,null,null,170.71307044466113,176.04785389605681,181.38263734745249,null,2007.0180460347751,2070.4657132965199,2132.6185302059839,null,5899.3382049899583,8028.0721841391005,10230.61263336823,2007.0180460347751,804.21860529789581,830.89252255487418,850.89796049760787,null,null,null,null,2814.0982706112104,null,null,null,1459.0632739567129,null,null,null,3160.8591949519291,null,null,null,1632.443736127072,0,0,0,0,0,0,0,0]
[550,"60/mo or <2/day",null,null,null,null,null,null,null,null,null,null,null,null,null,null,null,null,null,null,null,null,389.43919195188329,401.44245471752356,416.11310920886149,null,4579.8856960161283,4721.0243844147035,4893.2394812680086,null,13458.674561603517,18305.299430189432,23469.162635084067,4579.8856960161283,804.21860529789581,830.89252255487418,850.89796049760787,null,null,null,null,2814.0982706112104,null,null,null,1459.0632739567129,null,null,null,3160.8591949519291,null,null,null,1632.443736127072,0,0,0,0,0,0,0,0]
[550,"90/mo or <3/day",null,null,null,null,null,null,null,null,null,null,null,null,null,null,null,null,null,null,null,null,652.17727693311974,670.84901901300418,693.5218486814357,null,7669.3986365574019,7889.5231964450859,8156.2623690148712,null,22539.460082146663,30590.839572626817,39114.83944168935,7669.3986365574019,804.21860529789581,830.89252255487418,850.89796049760787,null,null,null,null,2814.0982706112104,null,null,null,1459.0632739567129,null,null,null,3160.8591949519291,null,null,null,1632.443736127072,0,0,0,0,0,0,0,0]
[1550,"30/mo or  <1/day",null,null,null,null,null,null,null,null,null,null,null,null,null,null,null,null,null,null,null,null,170.71307044466113,176.04785389605681,181.38263734745249,null,2007.0180460347751,2070.4657132965199,2132.6185302059839,null,5899.3382049899583,8028.0721841391005,10230.61263336823,2007.0180460347751,804.21860529789581,830.89252255487418,850.89796049760787,null,null,null,null,2814.0982706112104,null,null,null,1459.0632739567129,null,null,null,3160.8591949519291,null,null,null,1632.443736127072,0,0,0,0,0,0,0,0]
[1550,"60/mo or <2/day",null,null,null,null,null,null,null,null,null,null,null,null,null,null,null,null,null,null,null,null,389.43919195188329,401.44245471752356,416.11310920886149,null,4579.8856960161283,4721.0243844147035,4893.2394812680086,null,13458.674561603517,18305.299430189432,23469.162635084067,4579.8856960161283,804.21860529789581,830.89252255487418,850.89796049760787,null,null,null,null,2814.0982706112104,null,null,null,1459.0632739567129,null,null,null,3160.8591949519291,null,null,null,1632.443736127072,0,0,0,0,0,0,0,0]
[1550,"90/mo or <3/day",null,null,null,null,null,null,null,null,null,null,null,null,null,null,null,null,null,null,null,null,652.17727693311974,670.84901901300418,693.5218486814357,null,7669.3986365574019,7889.5231964450859,8156.2623690148712,null,22539.460082146663,30590.839572626817,39114.83944168935,7669.3986365574019,804.21860529789581,830.89252255487418,850.89796049760787,null,null,null,null,2814.0982706112104,null,null,null,1459.0632739567129,null,null,null,3160.8591949519291,null,null,null,1632.443736127072,0,0,0,0,0,0,0,0]
["510E","30/mo or  <1/day",null,null,null,null,null,null,null,null,null,null,null,null,null,null,null,null,null,null,null,null,150.70763250192741,154.70872009047412,158.70980767902091,null,1772.6501322720044,1819.2647449541028,1865.8793576362009,null,5207.8881168721709,7054.3447192241638,8951.3004853150978,1772.6501322720044,708.19250317277397,728.19794111550766,748.20337905824147,null,null,null,null,2814.0982706112104,null,null,null,1459.0632739567129,null,null,null,3160.8591949519291,null,null,null,1632.443736127072,0,0,0,0,0,0,0,0]
["510E","60/mo or <2/day",null,null,null,null,null,null,null,null,null,null,null,null,null,null,null,null,null,null,null,null,344.09353261502008,354.76309951781138,365.4326664206028,null,4046.4073508765628,4172.0078350477716,4297.6083192189799,null,11891.90563534411,16176.565451040287,20610.13305724872,4046.4073508765628,708.19250317277397,728.19794111550766,748.20337905824147,null,null,null,null,2814.0982706112104,null,null,null,1459.0632739567129,null,null,null,3160.8591949519291,null,null,null,1632.443736127072,0,0,0,0,0,0,0,0]
["510E","90/mo or <3/day",null,null,null,null,null,null,null,null,null,null,null,null,null,null,null,null,null,null,null,null,569.48813343648669,585.49248379067376,605.49792173340745,null,6696.9660219947455,6886.0141734276995,7120.3820871904718,null,19681.725354663602,26698.519413671631,34150.383191045905,6696.9660219947455,708.19250317277397,728.19794111550766,748.20337905824147,null,null,null,null,2814.0982706112104,null,null,null,1459.0632739567129,null,null,null,3160.8591949519291,null,null,null,1632.443736127072,0,0,0,0,0,0,0,0]
[7200,"30/mo or  <1/day",null,null,null,null,null,null,null,null,null,null,null,null,null,null,null,null,null,null,null,null,126.70110697064693,130.70219455919369,136.03697801058934,null,1490.3727554748555,1536.9873681569538,1600.4350354186979,null,4379.1838914126511,5960.1961715471425,7671.9883372619634,1490.3727554748555,610.83270518480322,632.17183899038594,652.17727693311974,null,null,null,null,2814.0982706112104,null,null,null,1459.0632739567129,null,null,null,3160.8591949519291,null,null,null,1632.443736127072,0,0,0,0,0,0,0,0]
[7200,"60/mo or <2/day",null,null,null,null,null,null,null,null,null,null,null,null,null,null,null,null,null,null,null,null,294.74678568961025,302.74896086670373,312.08483190664612,null,3466.3143930548986,3560.8384687713751,3669.6058983629373,null,10186.587721390693,13805.694456014691,17602.195688901116,3466.3143930548986,610.83270518480322,632.17183899038594,652.17727693311974,null,null,null,null,2814.0982706112104,null,null,null,1459.0632739567129,null,null,null,3160.8591949519291,null,null,null,1632.443736127072,0,0,0,0,0,0,0,0]
[7200,"90/mo or <3/day",null,null,null,null,null,null,null,null,null,null,null,null,null,null,null,null,null,null,null,null,493.46746925409866,510.80551547113447,525.47616996247245,null,5803.5192789212006,6006.8107842292384,6179.0258810825462,null,17054.473989886468,23293.062987173922,29636.534862996083,5803.5192789212006,610.83270518480322,632.17183899038594,652.17727693311974,null,null,null,null,2814.0982706112104,null,null,null,1459.0632739567129,null,null,null,3160.8591949519291,null,null,null,1632.443736127072,0,0,0,0,0,0,0,0]
[5100,"30/mo or  <1/day",null,null,null,null,null,null,null,null,null,null,null,null,null,null,null,null,null,null,null,null,69.352184868143581,72.019576593841421,74.686968319539247,null,815.75572193671496,846.83213039144698,877.908538846179,null,2396.7680020712055,3283.7404933833482,4212.148195968467,815.75572193671496,425.44898024880393,440.11963474014198,453.45659336863116,null,null,null,null,2814.0982706112104,null,null,null,1459.0632739567129,null,null,null,3160.8591949519291,null,null,null,1632.443736127072,0,0,0,0,0,0,0,0]
[5100,"60/mo or <2/day",null,null,null,null,null,null,null,null,null,null,null,null,null,null,null,null,null,null,null,null,162.71089526756759,168.0456787189633,173.38046217035892,null,1913.7888206705793,1975.9416375800429,2039.3893048417876,null,5623.5350799542111,7662.9243847959997,9778.7098604223374,1913.7888206705793,425.44898024880393,440.11963474014198,453.45659336863116,null,null,null,null,2814.0982706112104,null,null,null,1459.0632739567129,null,null,null,3160.8591949519291,null,null,null,1632.443736127072,0,0,0,0,0,0,0,0]
[5100,"90/mo or <3/day",null,null,null,null,null,null,null,null,null,null,null,null,null,null,null,null,null,null,null,null,274.7413477468765,282.74352292397003,290.74569810106345,null,3230.6516289398473,3325.1757046563243,3419.6997803728009,null,9495.1376332729069,12892.82495765694,16397.984861280253,3230.6516289398473,425.44898024880393,440.11963474014198,453.45659336863116,null,null,null,null,2814.0982706112104,null,null,null,1459.0632739567129,null,null,null,3160.8591949519291,null,null,null,1632.443736127072,0,0,0,0,0,0,0,0]
[5200,"30/mo or  <1/day",null,null,null,null,null,null,null,null,null,null,null,null,null,null,null,null,null,null,null,null,69.352184868143581,72.019576593841421,74.686968319539247,null,815.75572193671496,846.83213039144698,877.908538846179,null,2396.7680020712055,3283.7404933833482,4212.148195968467,815.75572193671496,425.44898024880393,440.11963474014198,453.45659336863116,null,null,null,null,2814.0982706112104,null,null,null,1459.0632739567129,null,null,null,3160.8591949519291,null,null,null,1632.443736127072,0,0,0,0,0,0,0,0]
[5200,"60/mo or <2/day",null,null,null,null,null,null,null,null,null,null,null,null,null,null,null,null,null,null,null,null,162.71089526756759,168.0456787189633,173.38046217035892,null,1913.7888206705793,1975.9416375800429,2039.3893048417876,null,5623.5350799542111,7662.9243847959997,9778.7098604223374,1913.7888206705793,425.44898024880393,440.11963474014198,453.45659336863116,null,null,null,null,2814.0982706112104,null,null,null,1459.0632739567129,null,null,null,3160.8591949519291,null,null,null,1632.443736127072,0,0,0,0,0,0,0,0]
[5200,"90/mo or <3/day",null,null,null,null,null,null,null,null,null,null,null,null,null,null,null,null,null,null,null,null,274.7413477468765,282.74352292397003,290.74569810106345,null,3230.6516289398473,3325.1757046563243,3419.6997803728009,null,9495.1376332729069,12892.82495765694,16397.984861280253,3230.6516289398473,425.44898024880393,440.11963474014198,453.45659336863116,null,null,null,null,2814.0982706112104,null,null,null,1459.0632739567129,null,null,null,3160.8591949519291,null,null,null,1632.443736127072,0,0,0,0,0,0,0,0]
[5280,"30/mo or  <1/day",null,null,null,null,null,null,null,null,null,null,null,null,null,null,null,null,null,null,null,null,69.352184868143581,72.019576593841421,74.686968319539247,null,815.75572193671496,846.83213039144698,877.908538846179,null,2396.7680020712055,3283.7404933833482,4212.148195968467,815.75572193671496,425.44898024880393,440.11963474014198,453.45659336863116,null,null,null,null,2814.0982706112104,null,null,null,1459.0632739567129,null,null,null,3160.8591949519291,null,null,null,1632.443736127072,0,0,0,0,0,0,0,0]
[5280,"60/mo or <2/day",null,null,null,null,null,null,null,null,null,null,null,null,null,null,null,null,null,null,null,null,162.71089526756759,168.0456787189633,173.38046217035892,null,1913.7888206705793,1975.9416375800429,2039.3893048417876,null,5623.5350799542111,7662.9243847959997,9778.7098604223374,1913.7888206705793,425.44898024880393,440.11963474014198,453.45659336863116,null,null,null,null,2814.0982706112104,null,null,null,1459.0632739567129,null,null,null,3160.8591949519291,null,null,null,1632.443736127072,0,0,0,0,0,0,0,0]
[5280,"90/mo or <3/day",null,null,null,null,null,null,null,null,null,null,null,null,null,null,null,null,null,null,null,null,274.7413477468765,282.74352292397003,290.74569810106345,null,3230.6516289398473,3325.1757046563243,3419.6997803728009,null,9495.1376332729069,12892.82495765694,16397.984861280253,3230.6516289398473,425.44898024880393,440.11963474014198,453.45659336863116,null,null,null,null,2814.0982706112104,null,null,null,1459.0632739567129,null,null,null,3160.8591949519291,null,null,null,1632.443736127072,0,0,0,0,0,0,0,0]
[5300,"30/mo or  <1/day",null,null,null,null,null,null,null,null,null,null,null,null,null,null,null,null,null,null,null,null,69.352184868143581,72.019576593841421,74.686968319539247,null,815.75572193671496,846.83213039144698,877.908538846179,null,2396.7680020712055,3283.7404933833482,4212.148195968467,815.75572193671496,425.44898024880393,440.11963474014198,453.45659336863116,null,null,null,null,2814.0982706112104,null,null,null,1459.0632739567129,null,null,null,3160.8591949519291,null,null,null,1632.443736127072,0,0,0,0,0,0,0,0]
[5300,"60/mo or <2/day",null,null,null,null,null,null,null,null,null,null,null,null,null,null,null,null,null,null,null,null,162.71089526756759,168.0456787189633,173.38046217035892,null,1913.7888206705793,1975.9416375800429,2039.3893048417876,null,5623.5350799542111,7662.9243847959997,9778.7098604223374,1913.7888206705793,425.44898024880393,440.11963474014198,453.45659336863116,null,null,null,null,2814.0982706112104,null,null,null,1459.0632739567129,null,null,null,3160.8591949519291,null,null,null,1632.443736127072,0,0,0,0,0,0,0,0]
[5300,"90/mo or <3/day",null,null,null,null,null,null,null,null,null,null,null,null,null,null,null,null,null,null,null,null,274.7413477468765,282.74352292397003,290.74569810106345,null,3230.6516289398473,3325.1757046563243,3419.6997803728009,null,9495.1376332729069,12892.82495765694,16397.984861280253,3230.6516289398473,425.44898024880393,440.11963474014198,453.45659336863116,null,null,null,null,2814.0982706112104,null,null,null,1459.0632739567129,null,null,null,3160.8591949519291,null,null,null,1632.443736127072,0,0,0,0,0,0,0,0]
[5400,"30/mo or  <1/day",null,null,null,null,null,null,null,null,null,null,null,null,null,null,null,null,null,null,null,null,69.352184868143581,72.019576593841421,74.686968319539247,null,815.75572193671496,846.83213039144698,877.908538846179,null,2396.7680020712055,3283.7404933833482,4212.148195968467,815.75572193671496,425.44898024880393,440.11963474014198,453.45659336863116,null,null,null,null,2814.0982706112104,null,null,null,1459.0632739567129,null,null,null,3160.8591949519291,null,null,null,1632.443736127072,0,0,0,0,0,0,0,0]
[5400,"60/mo or <2/day",null,null,null,null,null,null,null,null,null,null,null,null,null,null,null,null,null,null,null,null,162.71089526756759,168.0456787189633,173.38046217035892,null,1913.7888206705793,1975.9416375800429,2039.3893048417876,null,5623.5350799542111,7662.9243847959997,9778.7098604223374,1913.7888206705793,425.44898024880393,440.11963474014198,453.45659336863116,null,null,null,null,2814.0982706112104,null,null,null,1459.0632739567129,null,null,null,3160.8591949519291,null,null,null,1632.443736127072,0,0,0,0,0,0,0,0]
[5400,"90/mo or <3/day",null,null,null,null,null,null,null,null,null,null,null,null,null,null,null,null,null,null,null,null,274.7413477468765,282.74352292397003,290.74569810106345,null,3230.6516289398473,3325.1757046563243,3419.6997803728009,null,9495.1376332729069,12892.82495765694,16397.984861280253,3230.6516289398473,425.44898024880393,440.11963474014198,453.45659336863116,null,null,null,null,2814.0982706112104,null,null,null,1459.0632739567129,null,null,null,3160.8591949519291,null,null,null,1632.443736127072,0,0,0,0,0,0,0,0]
[5500,"30/mo or  <1/day",null,null,null,null,null,null,null,null,null,null,null,null,null,null,null,null,null,null,null,null,69.352184868143581,72.019576593841421,74.686968319539247,null,815.75572193671496,846.83213039144698,877.908538846179,null,2396.7680020712055,3283.7404933833482,4212.148195968467,815.75572193671496,425.44898024880393,440.11963474014198,453.45659336863116,null,null,null,null,2814.0982706112104,null,null,null,1459.0632739567129,null,null,null,3160.8591949519291,null,null,null,1632.443736127072,0,0,0,0,0,0,0,0]
[5500,"60/mo or <2/day",null,null,null,null,null,null,null,null,null,null,null,null,null,null,null,null,null,null,null,null,162.71089526756759,168.0456787189633,173.38046217035892,null,1913.7888206705793,1975.9416375800429,2039.3893048417876,null,5623.5350799542111,7662.9243847959997,9778.7098604223374,1913.7888206705793,425.44898024880393,440.11963474014198,453.45659336863116,null,null,null,null,2814.0982706112104,null,null,null,1459.0632739567129,null,null,null,3160.8591949519291,null,null,null,1632.443736127072,0,0,0,0,0,0,0,0]
[5500,"90/mo or <3/day",null,null,null,null,null,null,null,null,null,null,null,null,null,null,null,null,null,null,null,null,274.7413477468765,282.74352292397003,290.74569810106345,null,3230.6516289398473,3325.1757046563243,3419.6997803728009,null,9495.1376332729069,12892.82495765694,16397.984861280253,3230.6516289398473,425.44898024880393,440.11963474014198,453.45659336863116,null,null,null,null,2814.0982706112104,null,null,null,1459.0632739567129,null,null,null,3160.8591949519291,null,null,null,1632.443736127072,0,0,0,0,0,0,0,0]
[5520,"30/mo or  <1/day",null,null,null,null,null,null,null,null,null,null,null,null,null,null,null,null,null,null,null,null,69.352184868143581,72.019576593841421,74.686968319539247,null,815.75572193671496,846.83213039144698,877.908538846179,null,2396.7680020712055,3283.7404933833482,4212.148195968467,815.75572193671496,425.44898024880393,440.11963474014198,453.45659336863116,null,null,null,null,2814.0982706112104,null,null,null,1459.0632739567129,null,null,null,3160.8591949519291,null,null,null,1632.443736127072,0,0,0,0,0,0,0,0]
[5520,"60/mo or <2/day",null,null,null,null,null,null,null,null,null,null,null,null,null,null,null,null,null,null,null,null,162.71089526756759,168.0456787189633,173.38046217035892,null,1913.7888206705793,1975.9416375800429,2039.3893048417876,null,5623.5350799542111,7662.9243847959997,9778.7098604223374,1913.7888206705793,425.44898024880393,440.11963474014198,453.45659336863116,null,null,null,null,2814.0982706112104,null,null,null,1459.0632739567129,null,null,null,3160.8591949519291,null,null,null,1632.443736127072,0,0,0,0,0,0,0,0]
[5520,"90/mo or <3/day",null,null,null,null,null,null,null,null,null,null,null,null,null,null,null,null,null,null,null,null,274.7413477468765,282.74352292397003,290.74569810106345,null,3230.6516289398473,3325.1757046563243,3419.6997803728009,null,9495.1376332729069,12892.82495765694,16397.984861280253,3230.6516289398473,425.44898024880393,440.11963474014198,453.45659336863116,null,null,null,null,2814.0982706112104,null,null,null,1459.0632739567129,null,null,null,3160.8591949519291,null,null,null,1632.443736127072,0,0,0,0,0,0,0,0]
[5540,"30/mo or  <1/day",null,null,null,null,null,null,null,null,null,null,null,null,null,null,null,null,null,null,null,null,69.352184868143581,72.019576593841421,74.686968319539247,null,815.75572193671496,846.83213039144698,877.908538846179,null,2396.7680020712055,3283.7404933833482,4212.148195968467,815.75572193671496,425.44898024880393,440.11963474014198,453.45659336863116,null,null,null,null,2814.0982706112104,null,null,null,1459.0632739567129,null,null,null,3160.8591949519291,null,null,null,1632.443736127072,0,0,0,0,0,0,0,0]
[5540,"60/mo or <2/day",null,null,null,null,null,null,null,null,null,null,null,null,null,null,null,null,null,null,null,null,162.71089526756759,168.0456787189633,173.38046217035892,null,1913.7888206705793,1975.9416375800429,2039.3893048417876,null,5623.5350799542111,7662.9243847959997,9778.7098604223374,1913.7888206705793,425.44898024880393,440.11963474014198,453.45659336863116,null,null,null,null,2814.0982706112104,null,null,null,1459.0632739567129,null,null,null,3160.8591949519291,null,null,null,1632.443736127072,0,0,0,0,0,0,0,0]
[5540,"90/mo or <3/day",null,null,null,null,null,null,null,null,null,null,null,null,null,null,null,null,null,null,null,null,274.7413477468765,282.74352292397003,290.74569810106345,null,3230.6516289398473,3325.1757046563243,3419.6997803728009,null,9495.1376332729069,12892.82495765694,16397.984861280253,3230.6516289398473,425.44898024880393,440.11963474014198,453.45659336863116,null,null,null,null,2814.0982706112104,null,null,null,1459.0632739567129,null,null,null,3160.8591949519291,null,null,null,1632.443736127072,0,0,0,0,0,0,0,0]
[5560,"30/mo or  <1/day",null,null,null,null,null,null,null,null,null,null,null,null,null,null,null,null,null,null,null,null,69.352184868143581,72.019576593841421,74.686968319539247,null,815.75572193671496,846.83213039144698,877.908538846179,null,2396.7680020712055,3283.7404933833482,4212.148195968467,815.75572193671496,425.44898024880393,440.11963474014198,453.45659336863116,null,null,null,null,2814.0982706112104,null,null,null,1459.0632739567129,null,null,null,3160.8591949519291,null,null,null,1632.443736127072,0,0,0,0,0,0,0,0]
[5560,"60/mo or <2/day",null,null,null,null,null,null,null,null,null,null,null,null,null,null,null,null,null,null,null,null,162.71089526756759,168.0456787189633,173.38046217035892,null,1913.7888206705793,1975.9416375800429,2039.3893048417876,null,5623.5350799542111,7662.9243847959997,9778.7098604223374,1913.7888206705793,425.44898024880393,440.11963474014198,453.45659336863116,null,null,null,null,2814.0982706112104,null,null,null,1459.0632739567129,null,null,null,3160.8591949519291,null,null,null,1632.443736127072,0,0,0,0,0,0,0,0]
[5560,"90/mo or <3/day",null,null,null,null,null,null,null,null,null,null,null,null,null,null,null,null,null,null,null,null,274.7413477468765,282.74352292397003,290.74569810106345,null,3230.6516289398473,3325.1757046563243,3419.6997803728009,null,9495.1376332729069,12892.82495765694,16397.984861280253,3230.6516289398473,425.44898024880393,440.11963474014198,453.45659336863116,null,null,null,null,2814.0982706112104,null,null,null,1459.0632739567129,null,null,null,3160.8591949519291,null,null,null,1632.443736127072,0,0,0,0,0,0,0,0]
["T600","30/mo or  <1/day",141.32322552604558,162.82405062652856,171.75308880002234,null,4883.974386999751,7424.6467772510996,9686.2349168167511,null,null,null,null,2397.3087063125467,221.86109459030936,239.74228653035769,248.70203916182339,null,7667.2740762706499,10932.056954787598,14025.86930135295,null,82.689143496632752,85.356535222330564,88.023926948028404,null,972.43261456265554,1003.5090230173876,1034.5854314721196,null,2857.7347274830631,3892.3201589551836,4964.4562506434368,972.43261456265554,481.46420648845827,493.46746925409866,509.47181960828556,null,null,null,null,2814.0982706112104,null,null,null,1459.0632739567129,null,null,null,3160.8591949519291,null,null,null,1632.443736127072,0,0,0,0,0,0,0,0]
["T600","60/mo or <2/day",314.87614933164741,343.51298185007556,361.40594791885303,null,10881.771504213602,15663.917853801,20381.950253906551,null,null,null,null,null,397.19647349263624,427.59922540085637,445.53263930513265,null,13726.670870437652,19498.183460068503,25126.382515563451,null,184.05002907315034,189.38481252454591,194.71959597594164,null,2164.9897890129964,2227.1426059224605,2289.2954228319236,null,6360.3049304018177,8635.356999358657,10981.625837690919,2164.9897890129964,481.46420648845827,493.46746925409866,509.47181960828556,null,null,null,null,2814.0982706112104,null,null,null,1459.0632739567129,null,null,null,3160.8591949519291,null,null,null,1632.443736127072,0,0,0,0,0,0,0,0]
["T600","90/mo or <3/day",536.77362055658398,null,null,null,18550.3027167486,null,null,null,null,null,null,null,681.66175627607936,null,null,null,23557.476457654651,null,null,null,308.08374431809943,318.75331122089074,329.4228781236821,null,3622.9912856808387,3748.591769852047,3874.1922540232563,null,10647.554446802553,14534.695204348613,18579.807704872896,3622.9912856808387,481.46420648845827,493.46746925409866,509.47181960828556,null,null,null,null,2814.0982706112104,null,null,null,1459.0632739567129,null,null,null,3160.8591949519291,null,null,null,1632.443736127072,0,0,0,0,0,0,0,0]
["T600e","30/mo or  <1/day",141.32322552604558,162.82405062652856,171.75308880002234,null,4883.974386999751,7424.6467772510996,9686.2349168167511,null,null,null,null,2397.3087063125467,221.86109459030936,239.74228653035769,248.70203916182339,null,7667.2740762706499,10932.056954787598,14025.86930135295,null,82.689143496632752,85.356535222330564,88.023926948028404,null,972.43261456265554,1003.5090230173876,1034.5854314721196,null,2857.7347274830631,3892.3201589551836,4964.4562506434368,972.43261456265554,481.46420648845827,493.46746925409866,509.47181960828556,null,null,null,null,2814.0982706112104,null,null,null,1459.0632739567129,null,null,null,3160.8591949519291,null,null,null,1632.443736127072,0,0,0,0,0,0,0,0]
["T600e","60/mo or <2/day",314.87614933164741,343.51298185007556,361.40594791885303,null,10881.771504213602,15663.917853801,20381.950253906551,null,null,null,null,null,397.19647349263624,427.59922540085637,445.53263930513265,null,13726.670870437652,19498.183460068503,25126.382515563451,null,184.05002907315034,189.38481252454591,194.71959597594164,null,2164.9897890129964,2227.1426059224605,2289.2954228319236,null,6360.3049304018177,8635.356999358657,10981.625837690919,2164.9897890129964,481.46420648845827,493.46746925409866,509.47181960828556,null,null,null,null,2814.0982706112104,null,null,null,1459.0632739567129,null,null,null,3160.8591949519291,null,null,null,1632.443736127072,0,0,0,0,0,0,0,0]
["T600e","90/mo or <3/day",536.77362055658398,null,null,null,18550.3027167486,null,null,null,null,null,null,null,681.66175627607936,null,null,null,23557.476457654651,null,null,null,308.08374431809943,318.75331122089074,329.4228781236821,null,3622.9912856808387,3748.591769852047,3874.1922540232563,null,10647.554446802553,14534.695204348613,18579.807704872896,3622.9912856808387,481.46420648845827,493.46746925409866,509.47181960828556,null,null,null,null,2814.0982706112104,null,null,null,1459.0632739567129,null,null,null,3160.8591949519291,null,null,null,1632.443736127072,0,0,0,0,0,0,0,0]
["T600ee","30/mo or  <1/day",141.32322552604558,162.82405062652856,171.75308880002234,null,4883.974386999751,7424.6467772510996,9686.2349168167511,null,null,null,null,2397.3087063125467,221.86109459030936,239.74228653035769,248.70203916182339,null,7667.2740762706499,10932.056954787598,14025.86930135295,null,82.689143496632752,85.356535222330564,88.023926948028404,null,972.43261456265554,1003.5090230173876,1034.5854314721196,null,2857.7347274830631,3892.3201589551836,4964.4562506434368,972.43261456265554,481.46420648845827,493.46746925409866,509.47181960828556,null,null,null,null,2814.0982706112104,null,null,null,1459.0632739567129,null,null,null,3160.8591949519291,null,null,null,1632.443736127072,0,0,0,0,0,0,0,0]
["T600ee","60/mo or <2/day",314.87614933164741,343.51298185007556,361.40594791885303,null,10881.771504213602,15663.917853801,20381.950253906551,null,null,null,null,null,397.19647349263624,427.59922540085637,445.53263930513265,null,13726.670870437652,19498.183460068503,25126.382515563451,null,184.05002907315034,189.38481252454591,194.71959597594164,null,2164.9897890129964,2227.1426059224605,2289.2954228319236,null,6360.3049304018177,8635.356999358657,10981.625837690919,2164.9897890129964,481.46420648845827,493.46746925409866,509.47181960828556,null,null,null,null,2814.0982706112104,null,null,null,1459.0632739567129,null,null,null,3160.8591949519291,null,null,null,1632.443736127072,0,0,0,0,0,0,0,0]
["T600ee","90/mo or <3/day",536.77362055658398,null,null,null,18550.3027167486,null,null,null,null,null,null,null,681.66175627607936,null,null,null,23557.476457654651,null,null,null,308.08374431809943,318.75331122089074,329.4228781236821,null,3622.9912856808387,3748.591769852047,3874.1922540232563,null,10647.554446802553,14534.695204348613,18579.807704872896,3622.9912856808387,481.46420648845827,493.46746925409866,509.47181960828556,null,null,null,null,2814.0982706112104,null,null,null,1459.0632739567129,null,null,null,3160.8591949519291,null,null,null,1632.443736127072,0,0,0,0,0,0,0,0]
["T600_Series_Std_Config","30/mo or  <1/day",141.32322552604558,162.82405062652856,171.75308880002234,null,4883.974386999751,7424.6467772510996,9686.2349168167511,null,null,null,null,2397.3087063125467,221.86109459030936,239.74228653035769,248.70203916182339,null,7667.2740762706499,10932.056954787598,14025.86930135295,null,82.689143496632752,85.356535222330564,88.023926948028404,null,972.43261456265554,1003.5090230173876,1034.5854314721196,null,2857.7347274830631,3892.3201589551836,4964.4562506434368,972.43261456265554,481.46420648845827,493.46746925409866,509.47181960828556,null,null,null,null,2814.0982706112104,null,null,null,1459.0632739567129,null,null,null,3160.8591949519291,null,null,null,1632.443736127072,0,0,0,0,0,0,0,0]
["T600_Series_Std_Config","60/mo or <2/day",314.87614933164741,343.51298185007556,361.40594791885303,null,10881.771504213602,15663.917853801,20381.950253906551,null,null,null,null,null,397.19647349263624,427.59922540085637,445.53263930513265,null,13726.670870437652,19498.183460068503,25126.382515563451,null,184.05002907315034,189.38481252454591,194.71959597594164,null,2164.9897890129964,2227.1426059224605,2289.2954228319236,null,6360.3049304018177,8635.356999358657,10981.625837690919,2164.9897890129964,481.46420648845827,493.46746925409866,509.47181960828556,null,null,null,null,2814.0982706112104,null,null,null,1459.0632739567129,null,null,null,3160.8591949519291,null,null,null,1632.443736127072,0,0,0,0,0,0,0,0]
["T600_Series_Std_Config","90/mo or <3/day",536.77362055658398,null,null,null,18550.3027167486,null,null,null,null,null,null,null,681.66175627607936,null,null,null,23557.476457654651,null,null,null,308.08374431809943,318.75331122089074,329.4228781236821,null,3622.9912856808387,3748.591769852047,3874.1922540232563,null,10647.554446802553,14534.695204348613,18579.807704872896,3622.9912856808387,481.46420648845827,493.46746925409866,509.47181960828556,null,null,null,null,2814.0982706112104,null,null,null,1459.0632739567129,null,null,null,3160.8591949519291,null,null,null,1632.443736127072,0,0,0,0,0,0,0,0]
["T681","30/mo or  <1/day",172.57075467067185,188.82186297681923,198.59159871763782,null,5963.8544380764006,8610.1262745331514,11199.82697909415,null,null,null,null,2772.2790560480621,278.31763153147352,296.23170064037413,304.38525990451723,null,9618.3495585418514,13507.92916044075,17166.195689699252,null,88.023926948028404,90.691318673726244,93.358710399424069,null,1034.5854314721196,1066.9566902791321,1098.0330987338641,null,3041.6034775068952,4135.7520251839169,5264.8615323725135,1034.5854314721196,501.46964443119214,516.14029892253018,529.47725755101931,null,null,null,null,2814.0982706112104,null,null,null,1459.0632739567129,null,null,null,3160.8591949519291,null,null,null,1632.443736127072]
["T681","60/mo or <2/day",353.21712222854637,387.37567479738453,405.3194566710975,null,12206.7931268385,17664.021650381848,22858.508694676053,null,null,null,null,null,467.14874188043177,501.3194271237378,517.64441636782863,null,16144.1439067827,22859.765830940403,29193.218330735697,null,210.7239463301286,217.39242564437319,224.06090495861773,null,2478.3435742648771,2556.0345954017066,2635.0204668908182,null,7282.238381225533,9913.3742970595085,12636.4445879054,2478.3435742648771,501.46964443119214,516.14029892253018,529.47725755101931,null,null,null,null,2814.0982706112104,null,null,null,1459.0632739567129,null,null,null,3160.8591949519291,null,null,null,1632.443736127072]
["T681","90/mo or <3/day",605.48908336705995,null,null,null,20925.033120105752,null,null,null,null,null,null,null,828.47785363080777,null,null,null,28631.278420571249,null,null,null,330.75657398653101,340.0924450264734,349.42831606641579,null,3889.7304582506222,3999.7927381944646,4109.8550181383071,null,11430.938909932252,15508.422669263548,19707.622361709211,3889.7304582506222,501.46964443119214,516.14029892253018,529.47725755101931,null,null,null,null,2814.0982706112104,null,null,null,1459.0632739567129,null,null,null,3160.8591949519291,null,null,null,1632.443736127072]
["T981","30/mo or  <1/day",188.83111034895819,208.34089918467262,216.49136903644612,null,6525.79434824085,9500.1787496929519,12209.307399367201,null,null,null,null,2967.4033241874981,296.25131240260362,314.1517197577536,322.30732134451955,null,10238.117736866401,14325.067732268248,18176.933246236651,null,88.023926948028404,90.691318673726244,93.358710399424069,null,1034.5854314721196,1066.9566902791321,1098.0330987338641,null,3041.6034775068952,4135.7520251839169,5264.8615323725135,1034.5854314721196,501.46964443119214,516.14029892253018,529.47725755101931,null,null,null,null,2814.0982706112104,null,null,null,1459.0632739567129,null,null,null,3160.8591949519291,null,null,null,1632.443736127072]
["T981","60/mo or <2/day",429.75356148383582,472.04087281195774,496.46785123349753,null,14851.807827030902,21524.687118200702,27998.9388796032,null,null,null,null,null,545.28575305931088,587.58364222878481,612.0473146245572,null,18844.472602606504,26793.34520209155,34517.19041025795,null,210.7239463301286,217.39242564437319,224.06090495861773,null,2478.3435742648771,2556.0345954017066,2635.0204668908182,null,7282.238381225533,9913.3742970595085,12636.4445879054,2478.3435742648771,501.46964443119214,516.14029892253018,529.47725755101931,null,null,null,null,2814.0982706112104,null,null,null,1459.0632739567129,null,null,null,3160.8591949519291,null,null,null,1632.443736127072]
["T981","90/mo or <3/day",681.9891459877224,750.35255433495217,782.93104969801232,null,23568.790684033804,34215.477706813952,44154.397012765054,null,null,null,null,null,906.61486480968676,976.58590337682404,1009.2082209386389,null,31331.607116395047,44531.53789207006,56915.587232181897,null,330.75657398653101,340.0924450264734,349.42831606641579,null,3889.7304582506222,3999.7927381944646,4109.8550181383071,null,11430.938909932252,15508.422669263548,19707.622361709211,3889.7304582506222,501.46964443119214,516.14029892253018,529.47725755101931,null,null,null,null,2814.0982706112104,null,null,null,1459.0632739567129,null,null,null,3160.8591949519291,null,null,null,1632.443736127072]
["T260","30/mo or  <1/day",0,null,null,null,0,null,null,null,null,null,null,null,null,null,null,null,null,null,null,null,69.352184868143581,72.019576593841421,74.686968319539247,null,815.75572193671496,846.83213039144698,877.908538846179,null,2396.7680020712055,3283.7404933833482,4212.148195968467,815.75572193671496,425.44898024880393,440.11963474014198,453.45659336863116,null,null,null,null,2814.0982706112104,null,null,null,1459.0632739567129,null,null,null,3160.8591949519291,null,null,null,1632.443736127072]
["T260","60/mo or <2/day",null,null,null,null,null,null,null,null,null,null,null,null,null,null,null,null,null,null,null,null,162.71089526756759,168.0456787189633,173.38046217035892,null,1913.7888206705793,1975.9416375800429,2039.3893048417876,null,5623.5350799542111,7662.9243847959997,9778.7098604223374,1913.7888206705793,425.44898024880393,440.11963474014198,453.45659336863116,null,null,null,null,2814.0982706112104,null,null,null,1459.0632739567129,null,null,null,3160.8591949519291,null,null,null,1632.443736127072]
["T260","90/mo or <3/day",null,null,null,null,null,null,null,null,null,null,null,null,null,null,null,null,null,null,null,null,274.7413477468765,282.74352292397003,290.74569810106345,null,3230.6516289398473,3325.1757046563243,3419.6997803728009,null,9495.1376332729069,12892.82495765694,16397.984861280253,3230.6516289398473,425.44898024880393,440.11963474014198,453.45659336863116,null,null,null,null,2814.0982706112104,null,null,null,1459.0632739567129,null,null,null,3160.8591949519291,null,null,null,1632.443736127072]
["T391_T291","30/mo or  <1/day",128.591403406582,null,null,null,4443.97669447725,null,null,null,null,null,null,null,201.81756891081099,null,null,null,6974.5919946138001,null,null,null,69.352184868143581,72.019576593841421,74.686968319539247,null,815.75572193671496,846.83213039144698,877.908538846179,null,2396.7680020712055,3283.7404933833482,4212.148195968467,815.75572193671496,425.44898024880393,440.11963474014198,453.45659336863116,null,null,null,null,2814.0982706112104,null,null,null,1459.0632739567129,null,null,null,3160.8591949519291,null,null,null,1632.443736127072]
["T391_T291","60/mo or <2/day",268.60507008605418,null,null,null,9282.6941759604015,null,null,null,null,null,null,null,345.10513270671669,null,null,null,11926.451739888451,null,null,null,162.71089526756759,168.0456787189633,173.38046217035892,null,1913.7888206705793,1975.9416375800429,2039.3893048417876,null,5623.5350799542111,7662.9243847959997,9778.7098604223374,1913.7888206705793,425.44898024880393,440.11963474014198,453.45659336863116,null,null,null,null,2814.0982706112104,null,null,null,1459.0632739567129,null,null,null,3160.8591949519291,null,null,null,1632.443736127072]
["T391_T291","90/mo or <3/day",472.05958755508192,null,null,null,16313.857302469951,null,null,null,null,null,null,null,603.8521348088434,null,null,null,20868.461988210005,null,null,null,274.7413477468765,282.74352292397003,290.74569810106345,null,3230.6516289398473,3325.1757046563243,3419.6997803728009,null,9495.1376332729069,12892.82495765694,16397.984861280253,3230.6516289398473,425.44898024880393,440.11963474014198,453.45659336863116,null,null,null,null,2814.0982706112104,null,null,null,1459.0632739567129,null,null,null,3160.8591949519291,null,null,null,1632.443736127072]
["T1581_Built_to_Order","30/mo or  <1/day",230.80974670856085,256.83522784231968,265.5095445421241,null,7976.5295973007514,11711.481438684599,14973.75004467285,null,null,null,null,3471.1469605027305,343.6136906870081,371.33036537228469,380.04132523706437,null,11874.909153050099,16932.36834453015,21432.91617090315,null,126.70110697064693,130.70219455919369,136.03697801058934,null,1490.3727554748555,1536.9873681569538,1600.4350354186979,null,4379.1838914126511,5960.1961715471425,7671.9883372619634,1490.3727554748555,610.83270518480322,632.17183899038594,652.17727693311974,null,null,null,null,2814.0982706112104,null,null,null,1459.0632739567129,null,null,null,3160.8591949519291,null,null,null,1632.443736127072]
["T1581_Built_to_Order","60/mo or <2/day",503.2343634304541,557.00933268851725,576.1586095021645,null,17391.223081017903,25399.181084927397,32493.201024654449,null,null,null,null,null,626.44202491223439,681.9532198269236,699.33934522038953,null,21649.143608371345,31096.522634961602,39440.136021452548,null,294.74678568961025,302.74896086670373,312.08483190664612,null,3466.3143930548986,3560.8384687713751,3669.6058983629373,null,10186.587721390693,13805.694456014691,17602.195688901116,3466.3143930548986,610.83270518480322,632.17183899038594,652.17727693311974,null,null,null,null,2814.0982706112104,null,null,null,1459.0632739567129,null,null,null,3160.8591949519291,null,null,null,1632.443736127072]
["T1581_Built_to_Order","90/mo or <3/day",817.31022680030662,null,null,null,28245.337587415797,null,null,null,null,null,null,null,1058.5236910122007,null,null,null,36581.408156320656,null,null,null,493.46746925409866,510.80551547113447,525.47616996247245,null,5803.5192789212006,6006.8107842292384,6179.0258810825462,null,17054.473989886468,23293.062987173922,29636.534862996083,5803.5192789212006,610.83270518480322,632.17183899038594,652.17727693311974,null,null,null,null,2814.0982706112104,null,null,null,1459.0632739567129,null,null,null,3160.8591949519291,null,null,null,1632.443736127072]
["M_X4ROVR","30/mo or  <1/day",216,216,216,null,7776,10368,12960,2592,null,null,null,null,null,null,null,null,null,null,null,null,110,120,135,null,1320,1440,1620,null,3960,5760,8100,1320,0,null,null,null,null,null,null,2814,null,null,null,1459,null,null,null,3161,null,null,null,1632]
["M_X4ROVR","60/mo or <2/day",232,232,232,null,8352,11136,13920,2784,null,null,null,null,null,null,null,null,null,null,null,null,120,130,145,null,1440,1560,1740,null,4320,6240,8700,1440,null,null,null,null,null,null,null,2814,null,null,null,1459,null,null,null,3161,null,null,null,1632]
["M_X4ROVR","90/mo or <3/day",289,289,289,null,10404,13872,17340,3468,null,null,null,null,null,null,null,null,null,null,null,null,190,210,230,null,2280,2520,2760,null,6840,10080,13800,2280,null,null,null,null,null,null,null,2814,null,null,null,1459,null,null,null,3161,null,null,null,1632]
["M_X4ROVR","120/mo or <4/day",427,427,427,null,15372,20496,25620,5124,null,null,null,null,null,null,null,null,null,null,null,null,290,320,350,null,3480,3840,4200,null,10440,15360,21000,3480,null,null,null,null,null,null,null,2814,null,null,null,1459,null,null,null,3161,null,null,null,1632]
["M_X6ROVR","30/mo or  <1/day",230,230,230,null,8280,11040,13800,2760,null,null,null,null,null,null,null,null,null,null,null,null,115,130,145,null,1380,1560,1740,null,4140,6240,8700,1380,0,null,null,null,null,null,null,2814,null,null,null,1459,null,null,null,3161,null,null,null,1632]
["M_X6ROVR","60/mo or <2/day",250,250,250,null,9000,12000,15000,3000,null,null,null,null,null,null,null,null,null,null,null,null,130,145,160,null,1560,1740,1920,null,4680,6960,9600,1560,null,null,null,null,null,null,null,2814,null,null,null,1459,null,null,null,3161,null,null,null,1632]
["M_X6ROVR","90/mo or <3/day",310,310,310,null,11160,14880,18600,3720,null,null,null,null,null,null,null,null,null,null,null,null,205,225,250,null,2460,2700,3000,null,7380,10800,15000,2460,null,null,null,null,null,null,null,2814,null,null,null,1459,null,null,null,3161,null,null,null,1632]
["M_X6ROVR","120/mo or <4/day",460,460,460,null,16560,22080,27600,5520,null,null,null,null,null,null,null,null,null,null,null,null,315,350,385,null,3780,4200,4620,null,11340,16800,23100,3780,null,null,null,null,null,null,null,2814,null,null,null,1459,null,null,null,3161,null,null,null,1632]
[0]

{"sheet":"Financing","index":49,"n_rows":79,"n_cols":102,"rows_kept":79,"cut":false,"hidden":true,"merged":[[41,95,41,101],[41,67,41,69],[41,71,41,77],[41,3,41,9],[41,11,41,17],[41,19,41,25],[41,27,41,33],[41,43,41,49],[22,35,22,41],[22,43,22,49],[41,79,41,85],[41,87,41,93],[1,59,1,65],[22,71,22,77],[22,79,22,85],[41,59,41,65],[41,51,41,57],[22,59,22,65],[1,67,1,69],[22,67,22,69],[1,95,1,101],[22,87,22,93],[1,71,1,77],[1,79,1,85],[1,87,1,93],[22,95,22,101],[58,3,58,4],[1,35,1,41],[1,43,1,49],[1,51,1,57],[1,3,1,9],[1,11,1,17],[1,19,1,25],[1,27,1,33],[37,3,37,4],[41,35,41,41],[16,3,16,4],[22,51,22,57],[22,3,22,9],[22,11,22,17],[22,19,22,25],[22,27,22,33]]}
["Finance Partner","First Western Equipment Finance",null,{"$f":"C8","v":"US Bank"},null,"2025-05-06"]
["Equipment Cost",0,null,{"$f":"B8","v":"$1 Buyout Lease"},null,null,null,null,null,null,null,{"$f":"B9","v":"Fair Market Value Sweeper Lease"},null,null,null,null,null,null,null,{"$f":"B10","v":"Fair Market Value Scrubber Lease"},null,null,null,null,null,null,null,{"$f":"B11","v":"Fair Market Value Robotic Lease"},null,null,null,null,null,null,null,{"$f":"B12","v":"Municipal $1 Buyout Lease - Monthly Pmt"},null,null,null,null,null,null,null,{"$f":"B13","v":0},null,null,null,null,null,null,null,{"$f":"B14","v":0},null,null,null,null,null,null,null,{"$f":"B15","v":"Municipal $1 Buyout Lease - Annual Pmt"},null,null,null,null,null,null,null,{"$f":"B16","v":"Rent To Own"},null,null,null,{"$f":"B17","v":0},null,null,null,null,null,null,null,{"$f":"B18","v":"$1 Buyout Lease - 90 days no pmt"},null,null,null,null,null,null,null,{"$f":"B19","v":"Fair Market Value Sweeper Lease - 90 days no pmt"},null,null,null,null,null,null,null,{"$f":"B20","v":"Fair Market Value Scrubber Lease - 90 days no pmt"}]
["Term:",48,null,null,null,3000,10000,25000,50000,100000,null,null,null,3000,10000,25000,50000,100000,null,null,null,3000,10000,25000,50000,100000,null,null,null,3000,10000,25000,50000,100000,null,null,null,3000,10000,25000,50000,100000,null,null,null,3000,10000,25000,50000,100000,null,null,null,3000,10000,25000,50000,100000,null,null,null,3000,10000,25000,50000,100000,null,null,null,1,null,null,null,3000,10000,25000,50000,100000,null,null,null,3000,10000,25000,50000,100000,null,null,null,3000,10000,25000,50000,100000,null,null,null,3000,10000,25000,50000,100000]
["Purchase Option:","FWEF: Municipal Lease",null,null,null,"to","to","to","to","to",null,null,null,"to","to","to","to","to",null,null,null,"to","to","to","to","to",null,null,null,"to","to","to","to","to",null,null,null,"to","to","to","to","to",null,null,null,"to","to","to","to","to",null,null,null,"to","to","to","to","to",null,null,null,"to","to","to","to","to",null,null,null,"to",null,null,null,"to","to","to","to","to",null,null,null,"to","to","to","to","to",null,null,null,"to","to","to","to","to",null,null,null,"to","to","to","to","to"]
["No money down and payments of:",{"$f":"IF(B1=C8,D17, IF(B1=C9,D38, IF(B1=C10,D59)))","v":0},null,"Term","Adv",9999,24999,49999,99999,249999,null,"Term","Adv",9999,24999,49999,99999,249999,null,"Term","Adv",9999,24999,49999,99999,249999,null,"Term","Adv",9999,24999,49999,99999,249999,null,"Term","Adv",9999,24999,49999,99999,249999,null,"Term","Adv",9999,24999,49999,99999,null,null,"Term","Adv",9999,24999,49999,99999,null,null,"Term","Adv",9999,24999,49999,99999,null,null,"Term","Adv",249999,null,"Term","Adv",9999,24999,49999,99999,249999,null,"Term","Adv",9999,24999,49999,99999,null,null,"Term","Adv",9999,24999,49999,99999,null,null,"Term","Adv",9999,24999,49999,99999]
["For Calculation",null,null,12,0,null,null,null,null,null,null,12,0,null,null,null,null,null,null,12,0,null,null,null,null,null,null,12,0,null,null,null,null,null,null,12,0,null,null,null,null,null,null,12,0,null,null,null,null,null,null,12,0,null,null,null,null,null,null,12,0,null,null,null,null,null,null,9,0,null,null,12,0,null,null,null,null,null,null,12,0,null,null,null,null,null,null,12,0,null,null,null,null,null,null,12,0]
["Term","Purchase Opt","Select a Finance Partner",24,0,4.6560947672325E-2,4.6327410679636E-2,4.6094571447160997E-2,4.5862430632944998E-2,4.5700347968129003E-2,null,24,0,3.5860815059763997E-2,3.5574719594499003E-2,3.5289130347070999E-2,3.5004047795350997E-2,3.4804791744382002E-2,null,24,0,3.5860815059763997E-2,3.5574719594499003E-2,3.5289130347070999E-2,3.5004047795350997E-2,3.4804791744382002E-2,null,24,0,4.1975176553826002E-2,4.1719114500799001E-2,4.1463668118653998E-2,4.1208837988233001E-2,4.1030823872214003E-2,null,24,0,null,null,null,null,null,null,24,0,null,null,null,null,null,null,24,0,null,null,null,null,null,null,24,0,null,null,null,null,null,null,12,0,null,null,24,0,null,null,null,null,null,null,24,0,null,null,null,null,null,null,24,0,null,null,null,null,null,null,24,0]
[12,"$1 Buyout Lease","US Bank",36,0,3.2092520658132999E-2,3.1857195981401999E-2,3.1622917240480997E-2,3.1506170325181999E-2,3.1445565447330001E-2,null,36,0,2.6687637323342998E-2,2.6411402201262001E-2,2.6135987322889E-2,2.5998587805807001E-2,2.5927221244108001E-2,null,36,0,2.7178990400973001E-2,2.6906474390777001E-2,2.6634799133987998E-2,2.6499277126816E-2,2.6428888900181E-2,null,36,0,2.9635755410761001E-2,2.9381835352522E-2,2.9128858192624001E-2,2.9002723732087E-2,2.8937227179773001E-2,null,36,0,null,null,null,null,null,null,36,0,null,null,null,null,null,null,36,0,null,null,null,null,null,null,36,0,null,null,null,null,null,null,18,0,null,null,36,0,null,null,null,null,null,null,36,0,null,null,null,null,null,null,36,0,null,null,null,null,null,null,36,0]
[24,"Fair Market Value Sweeper Lease","OnPoint Capital",48,0,2.4864410646046001E-2,2.4625923323644001E-2,2.4507201048186E-2,2.4436134705613E-2,2.4403013305115E-2,null,48,0,2.2020533305850999E-2,2.1752789092867E-2,2.1619356586115E-2,2.1539437905125001E-2,2.1502178685097E-2,null,48,0,2.2198275639611E-2,2.1932359982290001E-2,2.1799846864994001E-2,2.1720481455155E-2,2.1683480848848E-2,null,48,0,2.3442471975939998E-2,2.3189356208252E-2,2.3063278817148002E-2,2.2987786305366999E-2,2.2952595995105001E-2,null,48,0,null,null,null,null,null,null,48,0,null,null,null,null,null,null,48,0,null,null,null,null,null,null,48,0,null,null,null,null,null,null,null,null,null,null,48,0,null,null,null,null,null,null,48,0,null,null,null,null,null,null,48,0,null,null,null,null,null,null,48,0]
[36,"Fair Market Value Scrubber Lease","First Western Equipment Finance",60,0,2.0582678677938001E-2,2.0461207099860001E-2,2.0340167813078E-2,2.0219561348443001E-2,2.0209931544801E-2,null,60,0,1.9077648404985E-2,1.8946360036496999E-2,1.8815457339624E-2,1.8684940787974998E-2,1.8674516159245001E-2,null,60,0,1.9214469338863002E-2,1.9084073405875E-2,1.8954067382651998E-2,1.8824451748009001E-2,1.8814099376104999E-2,null,60,0,1.9761753074417999E-2,1.9634926883416001E-2,1.9508507554786999E-2,1.9382495588159E-2,1.937243224356E-2,null,60,0,null,null,null,null,null,null,60,0,null,null,null,null,null,null,60,0,null,null,null,null,null,null,60,0,null,null,null,null,null,null,null,null,null,null,60,0,null,null,null,null,null,null,60,0,null,null,null,null,null,null,60,0,null,null,null,null,null,null,60,0]
[48,"Fair Market Value Robotic Lease"]
[60,"Municipal $1 Buyout Lease - Monthly Pmt",null,12,0,{"$f":"IF(AND(F$3<=$B$2,$B$2<G$3,$B$3=$A$8,$B$4=D2),F6*$B$2,0)","v":0},{"$f":"IF(AND(G$3<=$B$2,$B$2<H$3,$B$3=$A$8,$B$4=D2),G6*$B$2,0)","v":0},{"$f":"IF(AND(H$3<=$B$2,$B$2<I$3,$B$3=$A$8,$B$4=D2),H6*$B$2,0)","v":0},{"$f":"IF(AND(I$3<=$B$2,$B$2<J$3,$B$3=$A$8,$B$4=D2),I6*$B$2,0)","v":0},{"$f":"IF(AND(J$3<=$B$2,$B$3=$A$8,$B$4=D2),J6*$B$2,0)","v":0},null,12,0,{"$f":"IF(AND(N$3<=$B$2,$B$2<O$3,$B$3=$A$8,$B$4=L2),N6*$B$2,0)","v":0},{"$f":"IF(AND(O$3<=$B$2,$B$2<P$3,$B$3=$A$8,$B$4=L2),O6*$B$2,0)","v":0},{"$f":"IF(AND(P$3<=$B$2,$B$2<Q$3,$B$3=$A$8,$B$4=L2),P6*$B$2,0)","v":0},{"$f":"IF(AND(Q$3<=$B$2,$B$2<R$3,$B$3=$A$8,$B$4=L2),Q6*$B$2,0)","v":0},{"$f":"IF(AND(R$3<=$B$2,$B$3=$A$8,$B$4=L2),R6*$B$2,0)","v":0},null,12,0,{"$f":"IF(AND(V$3<=$B$2,$B$2<W$3,$B$3=$A$8,$B$4=T2),V6*$B$2,0)","v":0},{"$f":"IF(AND(W$3<=$B$2,$B$2<X$3,$B$3=$A$8,$B$4=T2),W6*$B$2,0)","v":0},{"$f":"IF(AND(X$3<=$B$2,$B$2<Y$3,$B$3=$A$8,$B$4=T2),X6*$B$2,0)","v":0},{"$f":"IF(AND(Y$3<=$B$2,$B$2<Z$3,$B$3=$A$8,$B$4=T2),Y6*$B$2,0)","v":0},{"$f":"IF(AND(Z$3<=$B$2,$B$3=$A$8,$B$4=T2),Z6*$B$2,0)","v":0},null,12,0,{"$f":"IF(AND(AD$3<=$B$2,$B$2<AE$3,$B$3=$A$8,$B$4=AB2),AD6*$B$2,0)","v":0},{"$f":"IF(AND(AE$3<=$B$2,$B$2<AF$3,$B$3=$A$8,$B$4=AB2),AE6*$B$2,0)","v":0},{"$f":"IF(AND(AF$3<=$B$2,$B$2<AG$3,$B$3=$A$8,$B$4=AB2),AF6*$B$2,0)","v":0},{"$f":"IF(AND(AG$3<=$B$2,$B$2<AH$3,$B$3=$A$8,$B$4=AB2),AG6*$B$2,0)","v":0},{"$f":"IF(AND(AH$3<=$B$2,$B$3=$A$8,$B$4=AB2),AH6*$B$2,0)","v":0},null,12,0,{"$f":"IF(AND(AL$3<=$B$2,$B$2<AM$3,$B$3=$A$8,$B$4=AJ2),AL6*$B$2,0)","v":0},{"$f":"IF(AND(AM$3<=$B$2,$B$2<AN$3,$B$3=$A$8,$B$4=AJ2),AM6*$B$2,0)","v":0},{"$f":"IF(AND(AN$3<=$B$2,$B$2<AO$3,$B$3=$A$8,$B$4=AJ2),AN6*$B$2,0)","v":0},{"$f":"IF(AND(AO$3<=$B$2,$B$2<AP$3,$B$3=$A$8,$B$4=AJ2),AO6*$B$2,0)","v":0},{"$f":"IF(AND(AP$3<=$B$2,$B$3=$A$8,$B$4=AJ2),AP6*$B$2,0)","v":0},null,12,0,{"$f":"IF(AND(AT$3<=$B$2,$B$2<AU$3,$B$3=$A$8,$B$4=AR2),AT6*$B$2,0)","v":0},{"$f":"IF(AND(AU$3<=$B$2,$B$2<AV$3,$B$3=$A$8,$B$4=AR2),AU6*$B$2,0)","v":0},{"$f":"IF(AND(AV$3<=$B$2,$B$2<AW$3,$B$3=$A$8,$B$4=AR2),AV6*$B$2,0)","v":0},{"$f":"IF(AND(AW$3<=$B$2,$B$2<AX$3,$B$3=$A$8,$B$4=AR2),AW6*$B$2,0)","v":0},{"$f":"IF(AND(AX$3<=$B$2,$B$3=$A$8,$B$4=AR2),AX6*$B$2,0)","v":0},null,12,0,{"$f":"IF(AND(BB$3<=$B$2,$B$2<BC$3,$B$3=$A$8,$B$4=AZ2),BB6*$B$2,0)","v":0},{"$f":"IF(AND(BC$3<=$B$2,$B$2<BD$3,$B$3=$A$8,$B$4=AZ2),BC6*$B$2,0)","v":0},{"$f":"IF(AND(BD$3<=$B$2,$B$2<BE$3,$B$3=$A$8,$B$4=AZ2),BD6*$B$2,0)","v":0},{"$f":"IF(AND(BE$3<=$B$2,$B$2<BF$3,$B$3=$A$8,$B$4=AZ2),BE6*$B$2,0)","v":0},{"$f":"IF(AND(BF$3<=$B$2,$B$3=$A$8,$B$4=AZ2),BF6*$B$2,0)","v":0},null,12,0,{"$f":"IF(AND(BJ$3<=$B$2,$B$2<BK$3,$B$3=$A$8,$B$4=BH2),BJ6*$B$2,0)","v":0},{"$f":"IF(AND(BK$3<=$B$2,$B$2<BL$3,$B$3=$A$8,$B$4=BH2),BK6*$B$2,0)","v":0},{"$f":"IF(AND(BL$3<=$B$2,$B$2<BM$3,$B$3=$A$8,$B$4=BH2),BL6*$B$2,0)","v":0},{"$f":"IF(AND(BM$3<=$B$2,$B$2<BN$3,$B$3=$A$8,$B$4=BH2),BM6*$B$2,0)","v":0},{"$f":"IF(AND(BN$3<=$B$2,$B$3=$A$8,$B$4=BH2),BN6*$B$2,0)","v":0},null,9,0,{"$f":"IF(AND(BR$3<=$B$2,$B$3=$A$13,$B$4=BP2),BR6*$B$2,0)","v":0},null,12,0,{"$f":"IF(AND(BV$3<=$B$2,$B$2<BW$3,$B$3=$A$8,$B$4=BT2),BV6*$B$2,0)","v":0},{"$f":"IF(AND(BW$3<=$B$2,$B$2<BX$3,$B$3=$A$8,$B$4=BT2),BW6*$B$2,0)","v":0},{"$f":"IF(AND(BX$3<=$B$2,$B$2<BY$3,$B$3=$A$8,$B$4=BT2),BX6*$B$2,0)","v":0},{"$f":"IF(AND(BY$3<=$B$2,$B$2<BZ$3,$B$3=$A$8,$B$4=BT2),BY6*$B$2,0)","v":0},{"$f":"IF(AND(BZ$3<=$B$2,$B$3=$A$8,$B$4=BT2),BZ6*$B$2,0)","v":0},null,12,0,{"$f":"IF(AND(CD$3<=$B$2,$B$2<CE$3,$B$3=$A$8,$B$4=CB2),CD6*$B$2,0)","v":0},{"$f":"IF(AND(CE$3<=$B$2,$B$2<CF$3,$B$3=$A$8,$B$4=CB2),CE6*$B$2,0)","v":0},{"$f":"IF(AND(CF$3<=$B$2,$B$2<CG$3,$B$3=$A$8,$B$4=CB2),CF6*$B$2,0)","v":0},{"$f":"IF(AND(CG$3<=$B$2,$B$2<CH$3,$B$3=$A$8,$B$4=CB2),CG6*$B$2,0)","v":0},{"$f":"IF(AND(CH$3<=$B$2,$B$3=$A$8,$B$4=CB2),CH6*$B$2,0)","v":0},null,12,0,{"$f":"IF(AND(CL$3<=$B$2,$B$2<CM$3,$B$3=$A$8,$B$4=CJ2),CL6*$B$2,0)","v":0},{"$f":"IF(AND(CM$3<=$B$2,$B$2<CN$3,$B$3=$A$8,$B$4=CJ2),CM6*$B$2,0)","v":0},{"$f":"IF(AND(CN$3<=$B$2,$B$2<CO$3,$B$3=$A$8,$B$4=CJ2),CN6*$B$2,0)","v":0},{"$f":"IF(AND(CO$3<=$B$2,$B$2<CP$3,$B$3=$A$8,$B$4=CJ2),CO6*$B$2,0)","v":0},{"$f":"IF(AND(CP$3<=$B$2,$B$3=$A$8,$B$4=CJ2),CP6*$B$2,0)","v":0},null,12,0,{"$f":"IF(AND(CT$3<=$B$2,$B$2<CU$3,$B$3=$A$8,$B$4=CR2),CT6*$B$2,0)","v":0},{"$f":"IF(AND(CU$3<=$B$2,$B$2<CV$3,$B$3=$A$8,$B$4=CR2),CU6*$B$2,0)","v":0},{"$f":"IF(AND(CV$3<=$B$2,$B$2<CW$3,$B$3=$A$8,$B$4=CR2),CV6*$B$2,0)","v":0},{"$f":"IF(AND(CW$3<=$B$2,$B$2<CX$3,$B$3=$A$8,$B$4=CR2),CW6*$B$2,0)","v":0},{"$f":"IF(AND(CX$3<=$B$2,$B$3=$A$8,$B$4=CR2),CX6*$B$2,0)","v":0}]
[9,null,null,24,0,{"$f":"IF(AND(F$3<=$B$2,$B$2<G$3,$B$3=$A$9,$B$4=D2),F7*$B$2,0)","v":0},{"$f":"IF(AND(G$3<=$B$2,$B$2<H$3,$B$3=$A$9,$B$4=D2),G7*$B$2,0)","v":0},{"$f":"IF(AND(H$3<=$B$2,$B$2<I$3,$B$3=$A$9,$B$4=D2),H7*$B$2,0)","v":0},{"$f":"IF(AND(I$3<=$B$2,$B$2<J$3,$B$3=$A$9,$B$4=D2),I7*$B$2,0)","v":0},{"$f":"IF(AND(J$3<=$B$2,$B$3=$A$9,$B$4=D2),J7*$B$2,0)","v":0},null,24,0,{"$f":"IF(AND(N$3<=$B$2,$B$2<O$3,$B$3=$A$9,$B$4=L2),N7*$B$2,0)","v":0},{"$f":"IF(AND(O$3<=$B$2,$B$2<P$3,$B$3=$A$9,$B$4=L2),O7*$B$2,0)","v":0},{"$f":"IF(AND(P$3<=$B$2,$B$2<Q$3,$B$3=$A$9,$B$4=L2),P7*$B$2,0)","v":0},{"$f":"IF(AND(Q$3<=$B$2,$B$2<R$3,$B$3=$A$9,$B$4=L2),Q7*$B$2,0)","v":0},{"$f":"IF(AND(R$3<=$B$2,$B$3=$A$9,$B$4=L2),R7*$B$2,0)","v":0},null,24,0,{"$f":"IF(AND(V$3<=$B$2,$B$2<W$3,$B$3=$A$9,$B$4=T2),V7*$B$2,0)","v":0},{"$f":"IF(AND(W$3<=$B$2,$B$2<X$3,$B$3=$A$9,$B$4=T2),W7*$B$2,0)","v":0},{"$f":"IF(AND(X$3<=$B$2,$B$2<Y$3,$B$3=$A$9,$B$4=T2),X7*$B$2,0)","v":0},{"$f":"IF(AND(Y$3<=$B$2,$B$2<Z$3,$B$3=$A$9,$B$4=T2),Y7*$B$2,0)","v":0},{"$f":"IF(AND(Z$3<=$B$2,$B$3=$A$9,$B$4=T2),Z7*$B$2,0)","v":0},null,24,0,{"$f":"IF(AND(AD$3<=$B$2,$B$2<AE$3,$B$3=$A$9,$B$4=AB2),AD7*$B$2,0)","v":0},{"$f":"IF(AND(AE$3<=$B$2,$B$2<AF$3,$B$3=$A$9,$B$4=AB2),AE7*$B$2,0)","v":0},{"$f":"IF(AND(AF$3<=$B$2,$B$2<AG$3,$B$3=$A$9,$B$4=AB2),AF7*$B$2,0)","v":0},{"$f":"IF(AND(AG$3<=$B$2,$B$2<AH$3,$B$3=$A$9,$B$4=AB2),AG7*$B$2,0)","v":0},{"$f":"IF(AND(AH$3<=$B$2,$B$3=$A$9,$B$4=AB2),AH7*$B$2,0)","v":0},null,24,0,{"$f":"IF(AND(AL$3<=$B$2,$B$2<AM$3,$B$3=$A$9,$B$4=AJ2),AL7*$B$2,0)","v":0},{"$f":"IF(AND(AM$3<=$B$2,$B$2<AN$3,$B$3=$A$9,$B$4=AJ2),AM7*$B$2,0)","v":0},{"$f":"IF(AND(AN$3<=$B$2,$B$2<AO$3,$B$3=$A$9,$B$4=AJ2),AN7*$B$2,0)","v":0},{"$f":"IF(AND(AO$3<=$B$2,$B$2<AP$3,$B$3=$A$9,$B$4=AJ2),AO7*$B$2,0)","v":0},{"$f":"IF(AND(AP$3<=$B$2,$B$3=$A$9,$B$4=AJ2),AP7*$B$2,0)","v":0},null,24,0,{"$f":"IF(AND(AT$3<=$B$2,$B$2<AU$3,$B$3=$A$9,$B$4=AR2),AT7*$B$2,0)","v":0},{"$f":"IF(AND(AU$3<=$B$2,$B$2<AV$3,$B$3=$A$9,$B$4=AR2),AU7*$B$2,0)","v":0},{"$f":"IF(AND(AV$3<=$B$2,$B$2<AW$3,$B$3=$A$9,$B$4=AR2),AV7*$B$2,0)","v":0},{"$f":"IF(AND(AW$3<=$B$2,$B$2<AX$3,$B$3=$A$9,$B$4=AR2),AW7*$B$2,0)","v":0},{"$f":"IF(AND(AX$3<=$B$2,$B$3=$A$9,$B$4=AR2),AX7*$B$2,0)","v":0},null,24,0,{"$f":"IF(AND(BB$3<=$B$2,$B$2<BC$3,$B$3=$A$9,$B$4=AZ2),BB7*$B$2,0)","v":0},{"$f":"IF(AND(BC$3<=$B$2,$B$2<BD$3,$B$3=$A$9,$B$4=AZ2),BC7*$B$2,0)","v":0},{"$f":"IF(AND(BD$3<=$B$2,$B$2<BE$3,$B$3=$A$9,$B$4=AZ2),BD7*$B$2,0)","v":0},{"$f":"IF(AND(BE$3<=$B$2,$B$2<BF$3,$B$3=$A$9,$B$4=AZ2),BE7*$B$2,0)","v":0},{"$f":"IF(AND(BF$3<=$B$2,$B$3=$A$9,$B$4=AZ2),BF7*$B$2,0)","v":0},null,24,0,{"$f":"IF(AND(BJ$3<=$B$2,$B$2<BK$3,$B$3=$A$9,$B$4=BH2),BJ7*$B$2,0)","v":0},{"$f":"IF(AND(BK$3<=$B$2,$B$2<BL$3,$B$3=$A$9,$B$4=BH2),BK7*$B$2,0)","v":0},{"$f":"IF(AND(BL$3<=$B$2,$B$2<BM$3,$B$3=$A$9,$B$4=BH2),BL7*$B$2,0)","v":0},{"$f":"IF(AND(BM$3<=$B$2,$B$2<BN$3,$B$3=$A$9,$B$4=BH2),BM7*$B$2,0)","v":0},{"$f":"IF(AND(BN$3<=$B$2,$B$3=$A$9,$B$4=BH2),BN7*$B$2,0)","v":0},null,12,0,{"$f":"IF(AND(BR$3<=$B$2,$B$3=$A$8,$B$4=BP2),BR7*$B$2,0)","v":0},null,24,0,{"$f":"IF(AND(BV$3<=$B$2,$B$2<BW$3,$B$3=$A$9,$B$4=BT2),BV7*$B$2,0)","v":0},{"$f":"IF(AND(BW$3<=$B$2,$B$2<BX$3,$B$3=$A$9,$B$4=BT2),BW7*$B$2,0)","v":0},{"$f":"IF(AND(BX$3<=$B$2,$B$2<BY$3,$B$3=$A$9,$B$4=BT2),BX7*$B$2,0)","v":0},{"$f":"IF(AND(BY$3<=$B$2,$B$2<BZ$3,$B$3=$A$9,$B$4=BT2),BY7*$B$2,0)","v":0},{"$f":"IF(AND(BZ$3<=$B$2,$B$3=$A$9,$B$4=BT2),BZ7*$B$2,0)","v":0},null,24,0,{"$f":"IF(AND(CD$3<=$B$2,$B$2<CE$3,$B$3=$A$9,$B$4=CB2),CD7*$B$2,0)","v":0},{"$f":"IF(AND(CE$3<=$B$2,$B$2<CF$3,$B$3=$A$9,$B$4=CB2),CE7*$B$2,0)","v":0},{"$f":"IF(AND(CF$3<=$B$2,$B$2<CG$3,$B$3=$A$9,$B$4=CB2),CF7*$B$2,0)","v":0},{"$f":"IF(AND(CG$3<=$B$2,$B$2<CH$3,$B$3=$A$9,$B$4=CB2),CG7*$B$2,0)","v":0},{"$f":"IF(AND(CH$3<=$B$2,$B$3=$A$9,$B$4=CB2),CH7*$B$2,0)","v":0},null,24,0,{"$f":"IF(AND(CL$3<=$B$2,$B$2<CM$3,$B$3=$A$9,$B$4=CJ2),CL7*$B$2,0)","v":0},{"$f":"IF(AND(CM$3<=$B$2,$B$2<CN$3,$B$3=$A$9,$B$4=CJ2),CM7*$B$2,0)","v":0},{"$f":"IF(AND(CN$3<=$B$2,$B$2<CO$3,$B$3=$A$9,$B$4=CJ2),CN7*$B$2,0)","v":0},{"$f":"IF(AND(CO$3<=$B$2,$B$2<CP$3,$B$3=$A$9,$B$4=CJ2),CO7*$B$2,0)","v":0},{"$f":"IF(AND(CP$3<=$B$2,$B$3=$A$9,$B$4=CJ2),CP7*$B$2,0)","v":0},null,24,0,{"$f":"IF(AND(CT$3<=$B$2,$B$2<CU$3,$B$3=$A$9,$B$4=CR2),CT7*$B$2,0)","v":0},{"$f":"IF(AND(CU$3<=$B$2,$B$2<CV$3,$B$3=$A$9,$B$4=CR2),CU7*$B$2,0)","v":0},{"$f":"IF(AND(CV$3<=$B$2,$B$2<CW$3,$B$3=$A$9,$B$4=CR2),CV7*$B$2,0)","v":0},{"$f":"IF(AND(CW$3<=$B$2,$B$2<CX$3,$B$3=$A$9,$B$4=CR2),CW7*$B$2,0)","v":0},{"$f":"IF(AND(CX$3<=$B$2,$B$3=$A$9,$B$4=CR2),CX7*$B$2,0)","v":0}]
[18,null,null,36,0,{"$f":"IF(AND(F$3<=$B$2,$B$2<G$3,$B$3=$A$10,$B$4=D2),F8*$B$2,0)","v":0},{"$f":"IF(AND(G$3<=$B$2,$B$2<H$3,$B$3=$A$10,$B$4=D2),G8*$B$2,0)","v":0},{"$f":"IF(AND(H$3<=$B$2,$B$2<I$3,$B$3=$A$10,$B$4=D2),H8*$B$2,0)","v":0},{"$f":"IF(AND(I$3<=$B$2,$B$2<J$3,$B$3=$A$10,$B$4=D2),I8*$B$2,0)","v":0},{"$f":"IF(AND(J$3<=$B$2,$B$3=$A$10,$B$4=D2),J8*$B$2,0)","v":0},null,36,0,{"$f":"IF(AND(N$3<=$B$2,$B$2<O$3,$B$3=$A$10,$B$4=L2),N8*$B$2,0)","v":0},{"$f":"IF(AND(O$3<=$B$2,$B$2<P$3,$B$3=$A$10,$B$4=L2),O8*$B$2,0)","v":0},{"$f":"IF(AND(P$3<=$B$2,$B$2<Q$3,$B$3=$A$10,$B$4=L2),P8*$B$2,0)","v":0},{"$f":"IF(AND(Q$3<=$B$2,$B$2<R$3,$B$3=$A$10,$B$4=L2),Q8*$B$2,0)","v":0},{"$f":"IF(AND(R$3<=$B$2,$B$3=$A$10,$B$4=L2),R8*$B$2,0)","v":0},null,36,0,{"$f":"IF(AND(V$3<=$B$2,$B$2<W$3,$B$3=$A$10,$B$4=T2),V8*$B$2,0)","v":0},{"$f":"IF(AND(W$3<=$B$2,$B$2<X$3,$B$3=$A$10,$B$4=T2),W8*$B$2,0)","v":0},{"$f":"IF(AND(X$3<=$B$2,$B$2<Y$3,$B$3=$A$10,$B$4=T2),X8*$B$2,0)","v":0},{"$f":"IF(AND(Y$3<=$B$2,$B$2<Z$3,$B$3=$A$10,$B$4=T2),Y8*$B$2,0)","v":0},{"$f":"IF(AND(Z$3<=$B$2,$B$3=$A$10,$B$4=T2),Z8*$B$2,0)","v":0},null,36,0,{"$f":"IF(AND(AD$3<=$B$2,$B$2<AE$3,$B$3=$A$10,$B$4=AB2),AD8*$B$2,0)","v":0},{"$f":"IF(AND(AE$3<=$B$2,$B$2<AF$3,$B$3=$A$10,$B$4=AB2),AE8*$B$2,0)","v":0},{"$f":"IF(AND(AF$3<=$B$2,$B$2<AG$3,$B$3=$A$10,$B$4=AB2),AF8*$B$2,0)","v":0},{"$f":"IF(AND(AG$3<=$B$2,$B$2<AH$3,$B$3=$A$10,$B$4=AB2),AG8*$B$2,0)","v":0},{"$f":"IF(AND(AH$3<=$B$2,$B$3=$A$10,$B$4=AB2),AH8*$B$2,0)","v":0},null,36,0,{"$f":"IF(AND(AL$3<=$B$2,$B$2<AM$3,$B$3=$A$10,$B$4=AJ2),AL8*$B$2,0)","v":0},{"$f":"IF(AND(AM$3<=$B$2,$B$2<AN$3,$B$3=$A$10,$B$4=AJ2),AM8*$B$2,0)","v":0},{"$f":"IF(AND(AN$3<=$B$2,$B$2<AO$3,$B$3=$A$10,$B$4=AJ2),AN8*$B$2,0)","v":0},{"$f":"IF(AND(AO$3<=$B$2,$B$2<AP$3,$B$3=$A$10,$B$4=AJ2),AO8*$B$2,0)","v":0},{"$f":"IF(AND(AP$3<=$B$2,$B$3=$A$10,$B$4=AJ2),AP8*$B$2,0)","v":0},null,36,0,{"$f":"IF(AND(AT$3<=$B$2,$B$2<AU$3,$B$3=$A$10,$B$4=AR2),AT8*$B$2,0)","v":0},{"$f":"IF(AND(AU$3<=$B$2,$B$2<AV$3,$B$3=$A$10,$B$4=AR2),AU8*$B$2,0)","v":0},{"$f":"IF(AND(AV$3<=$B$2,$B$2<AW$3,$B$3=$A$10,$B$4=AR2),AV8*$B$2,0)","v":0},{"$f":"IF(AND(AW$3<=$B$2,$B$2<AX$3,$B$3=$A$10,$B$4=AR2),AW8*$B$2,0)","v":0},{"$f":"IF(AND(AX$3<=$B$2,$B$3=$A$10,$B$4=AR2),AX8*$B$2,0)","v":0},null,36,0,{"$f":"IF(AND(BB$3<=$B$2,$B$2<BC$3,$B$3=$A$10,$B$4=AZ2),BB8*$B$2,0)","v":0},{"$f":"IF(AND(BC$3<=$B$2,$B$2<BD$3,$B$3=$A$10,$B$4=AZ2),BC8*$B$2,0)","v":0},{"$f":"IF(AND(BD$3<=$B$2,$B$2<BE$3,$B$3=$A$10,$B$4=AZ2),BD8*$B$2,0)","v":0},{"$f":"IF(AND(BE$3<=$B$2,$B$2<BF$3,$B$3=$A$10,$B$4=AZ2),BE8*$B$2,0)","v":0},{"$f":"IF(AND(BF$3<=$B$2,$B$3=$A$10,$B$4=AZ2),BF8*$B$2,0)","v":0},null,36,0,{"$f":"IF(AND(BJ$3<=$B$2,$B$2<BK$3,$B$3=$A$10,$B$4=BH2),BJ8*$B$2,0)","v":0},{"$f":"IF(AND(BK$3<=$B$2,$B$2<BL$3,$B$3=$A$10,$B$4=BH2),BK8*$B$2,0)","v":0},{"$f":"IF(AND(BL$3<=$B$2,$B$2<BM$3,$B$3=$A$10,$B$4=BH2),BL8*$B$2,0)","v":0},{"$f":"IF(AND(BM$3<=$B$2,$B$2<BN$3,$B$3=$A$10,$B$4=BH2),BM8*$B$2,0)","v":0},{"$f":"IF(AND(BN$3<=$B$2,$B$3=$A$10,$B$4=BH2),BN8*$B$2,0)","v":0},null,18,0,{"$f":"IF(AND(BR$3<=$B$2,$B$3=$A$14,$B$4=BP2),BR8*$B$2,0)","v":0},null,36,0,{"$f":"IF(AND(BV$3<=$B$2,$B$2<BW$3,$B$3=$A$10,$B$4=BT2),BV8*$B$2,0)","v":0},{"$f":"IF(AND(BW$3<=$B$2,$B$2<BX$3,$B$3=$A$10,$B$4=BT2),BW8*$B$2,0)","v":0},{"$f":"IF(AND(BX$3<=$B$2,$B$2<BY$3,$B$3=$A$10,$B$4=BT2),BX8*$B$2,0)","v":0},{"$f":"IF(AND(BY$3<=$B$2,$B$2<BZ$3,$B$3=$A$10,$B$4=BT2),BY8*$B$2,0)","v":0},{"$f":"IF(AND(BZ$3<=$B$2,$B$3=$A$10,$B$4=BT2),BZ8*$B$2,0)","v":0},null,36,0,{"$f":"IF(AND(CD$3<=$B$2,$B$2<CE$3,$B$3=$A$10,$B$4=CB2),CD8*$B$2,0)","v":0},{"$f":"IF(AND(CE$3<=$B$2,$B$2<CF$3,$B$3=$A$10,$B$4=CB2),CE8*$B$2,0)","v":0},{"$f":"IF(AND(CF$3<=$B$2,$B$2<CG$3,$B$3=$A$10,$B$4=CB2),CF8*$B$2,0)","v":0},{"$f":"IF(AND(CG$3<=$B$2,$B$2<CH$3,$B$3=$A$10,$B$4=CB2),CG8*$B$2,0)","v":0},{"$f":"IF(AND(CH$3<=$B$2,$B$3=$A$10,$B$4=CB2),CH8*$B$2,0)","v":0},null,36,0,{"$f":"IF(AND(CL$3<=$B$2,$B$2<CM$3,$B$3=$A$10,$B$4=CJ2),CL8*$B$2,0)","v":0},{"$f":"IF(AND(CM$3<=$B$2,$B$2<CN$3,$B$3=$A$10,$B$4=CJ2),CM8*$B$2,0)","v":0},{"$f":"IF(AND(CN$3<=$B$2,$B$2<CO$3,$B$3=$A$10,$B$4=CJ2),CN8*$B$2,0)","v":0},{"$f":"IF(AND(CO$3<=$B$2,$B$2<CP$3,$B$3=$A$10,$B$4=CJ2),CO8*$B$2,0)","v":0},{"$f":"IF(AND(CP$3<=$B$2,$B$3=$A$10,$B$4=CJ2),CP8*$B$2,0)","v":0},null,36,0,{"$f":"IF(AND(CT$3<=$B$2,$B$2<CU$3,$B$3=$A$10,$B$4=CR2),CT8*$B$2,0)","v":0},{"$f":"IF(AND(CU$3<=$B$2,$B$2<CV$3,$B$3=$A$10,$B$4=CR2),CU8*$B$2,0)","v":0},{"$f":"IF(AND(CV$3<=$B$2,$B$2<CW$3,$B$3=$A$10,$B$4=CR2),CV8*$B$2,0)","v":0},{"$f":"IF(AND(CW$3<=$B$2,$B$2<CX$3,$B$3=$A$10,$B$4=CR2),CW8*$B$2,0)","v":0},{"$f":"IF(AND(CX$3<=$B$2,$B$3=$A$10,$B$4=CR2),CX8*$B$2,0)","v":0}]
[30,"Municipal $1 Buyout Lease - Annual Pmt",null,48,0,{"$f":"IF(AND(F$3<=$B$2,$B$2<G$3,$B$3=$A$11,$B$4=D2),F9*$B$2,0)","v":0},{"$f":"IF(AND(G$3<=$B$2,$B$2<H$3,$B$3=$A$11,$B$4=D2),G9*$B$2,0)","v":0},{"$f":"IF(AND(H$3<=$B$2,$B$2<I$3,$B$3=$A$11,$B$4=D2),H9*$B$2,0)","v":0},{"$f":"IF(AND(I$3<=$B$2,$B$2<J$3,$B$3=$A$11,$B$4=D2),I9*$B$2,0)","v":0},{"$f":"IF(AND(J$3<=$B$2,$B$3=$A$11,$B$4=D2),J9*$B$2,0)","v":0},null,48,0,{"$f":"IF(AND(N$3<=$B$2,$B$2<O$3,$B$3=$A$11,$B$4=L2),N9*$B$2,0)","v":0},{"$f":"IF(AND(O$3<=$B$2,$B$2<P$3,$B$3=$A$11,$B$4=L2),O9*$B$2,0)","v":0},{"$f":"IF(AND(P$3<=$B$2,$B$2<Q$3,$B$3=$A$11,$B$4=L2),P9*$B$2,0)","v":0},{"$f":"IF(AND(Q$3<=$B$2,$B$2<R$3,$B$3=$A$11,$B$4=L2),Q9*$B$2,0)","v":0},{"$f":"IF(AND(R$3<=$B$2,$B$3=$A$11,$B$4=L2),R9*$B$2,0)","v":0},null,48,0,{"$f":"IF(AND(V$3<=$B$2,$B$2<W$3,$B$3=$A$11,$B$4=T2),V9*$B$2,0)","v":0},{"$f":"IF(AND(W$3<=$B$2,$B$2<X$3,$B$3=$A$11,$B$4=T2),W9*$B$2,0)","v":0},{"$f":"IF(AND(X$3<=$B$2,$B$2<Y$3,$B$3=$A$11,$B$4=T2),X9*$B$2,0)","v":0},{"$f":"IF(AND(Y$3<=$B$2,$B$2<Z$3,$B$3=$A$11,$B$4=T2),Y9*$B$2,0)","v":0},{"$f":"IF(AND(Z$3<=$B$2,$B$3=$A$11,$B$4=T2),Z9*$B$2,0)","v":0},null,48,0,{"$f":"IF(AND(AD$3<=$B$2,$B$2<AE$3,$B$3=$A$11,$B$4=AB2),AD9*$B$2,0)","v":0},{"$f":"IF(AND(AE$3<=$B$2,$B$2<AF$3,$B$3=$A$11,$B$4=AB2),AE9*$B$2,0)","v":0},{"$f":"IF(AND(AF$3<=$B$2,$B$2<AG$3,$B$3=$A$11,$B$4=AB2),AF9*$B$2,0)","v":0},{"$f":"IF(AND(AG$3<=$B$2,$B$2<AH$3,$B$3=$A$11,$B$4=AB2),AG9*$B$2,0)","v":0},{"$f":"IF(AND(AH$3<=$B$2,$B$3=$A$11,$B$4=AB2),AH9*$B$2,0)","v":0},null,48,0,{"$f":"IF(AND(AL$3<=$B$2,$B$2<AM$3,$B$3=$A$11,$B$4=AJ2),AL9*$B$2,0)","v":0},{"$f":"IF(AND(AM$3<=$B$2,$B$2<AN$3,$B$3=$A$11,$B$4=AJ2),AM9*$B$2,0)","v":0},{"$f":"IF(AND(AN$3<=$B$2,$B$2<AO$3,$B$3=$A$11,$B$4=AJ2),AN9*$B$2,0)","v":0},{"$f":"IF(AND(AO$3<=$B$2,$B$2<AP$3,$B$3=$A$11,$B$4=AJ2),AO9*$B$2,0)","v":0},{"$f":"IF(AND(AP$3<=$B$2,$B$3=$A$11,$B$4=AJ2),AP9*$B$2,0)","v":0},null,48,0,{"$f":"IF(AND(AT$3<=$B$2,$B$2<AU$3,$B$3=$A$11,$B$4=AR2),AT9*$B$2,0)","v":0},{"$f":"IF(AND(AU$3<=$B$2,$B$2<AV$3,$B$3=$A$11,$B$4=AR2),AU9*$B$2,0)","v":0},{"$f":"IF(AND(AV$3<=$B$2,$B$2<AW$3,$B$3=$A$11,$B$4=AR2),AV9*$B$2,0)","v":0},{"$f":"IF(AND(AW$3<=$B$2,$B$2<AX$3,$B$3=$A$11,$B$4=AR2),AW9*$B$2,0)","v":0},{"$f":"IF(AND(AX$3<=$B$2,$B$3=$A$11,$B$4=AR2),AX9*$B$2,0)","v":0},null,48,0,{"$f":"IF(AND(BB$3<=$B$2,$B$2<BC$3,$B$3=$A$11,$B$4=AZ2),BB9*$B$2,0)","v":0},{"$f":"IF(AND(BC$3<=$B$2,$B$2<BD$3,$B$3=$A$11,$B$4=AZ2),BC9*$B$2,0)","v":0},{"$f":"IF(AND(BD$3<=$B$2,$B$2<BE$3,$B$3=$A$11,$B$4=AZ2),BD9*$B$2,0)","v":0},{"$f":"IF(AND(BE$3<=$B$2,$B$2<BF$3,$B$3=$A$11,$B$4=AZ2),BE9*$B$2,0)","v":0},{"$f":"IF(AND(BF$3<=$B$2,$B$3=$A$11,$B$4=AZ2),BF9*$B$2,0)","v":0},null,48,0,{"$f":"IF(AND(BJ$3<=$B$2,$B$2<BK$3,$B$3=$A$11,$B$4=BH2),BJ9*$B$2,0)","v":0},{"$f":"IF(AND(BK$3<=$B$2,$B$2<BL$3,$B$3=$A$11,$B$4=BH2),BK9*$B$2,0)","v":0},{"$f":"IF(AND(BL$3<=$B$2,$B$2<BM$3,$B$3=$A$11,$B$4=BH2),BL9*$B$2,0)","v":0},{"$f":"IF(AND(BM$3<=$B$2,$B$2<BN$3,$B$3=$A$11,$B$4=BH2),BM9*$B$2,0)","v":0},{"$f":"IF(AND(BN$3<=$B$2,$B$3=$A$11,$B$4=BH2),BN9*$B$2,0)","v":0},null,null,null,null,null,48,0,{"$f":"IF(AND(BV$3<=$B$2,$B$2<BW$3,$B$3=$A$11,$B$4=BT2),BV9*$B$2,0)","v":0},{"$f":"IF(AND(BW$3<=$B$2,$B$2<BX$3,$B$3=$A$11,$B$4=BT2),BW9*$B$2,0)","v":0},{"$f":"IF(AND(BX$3<=$B$2,$B$2<BY$3,$B$3=$A$11,$B$4=BT2),BX9*$B$2,0)","v":0},{"$f":"IF(AND(BY$3<=$B$2,$B$2<BZ$3,$B$3=$A$11,$B$4=BT2),BY9*$B$2,0)","v":0},{"$f":"IF(AND(BZ$3<=$B$2,$B$3=$A$11,$B$4=BT2),BZ9*$B$2,0)","v":0},null,48,0,{"$f":"IF(AND(CD$3<=$B$2,$B$2<CE$3,$B$3=$A$11,$B$4=CB2),CD9*$B$2,0)","v":0},{"$f":"IF(AND(CE$3<=$B$2,$B$2<CF$3,$B$3=$A$11,$B$4=CB2),CE9*$B$2,0)","v":0},{"$f":"IF(AND(CF$3<=$B$2,$B$2<CG$3,$B$3=$A$11,$B$4=CB2),CF9*$B$2,0)","v":0},{"$f":"IF(AND(CG$3<=$B$2,$B$2<CH$3,$B$3=$A$11,$B$4=CB2),CG9*$B$2,0)","v":0},{"$f":"IF(AND(CH$3<=$B$2,$B$3=$A$11,$B$4=CB2),CH9*$B$2,0)","v":0},null,48,0,{"$f":"IF(AND(CL$3<=$B$2,$B$2<CM$3,$B$3=$A$11,$B$4=CJ2),CL9*$B$2,0)","v":0},{"$f":"IF(AND(CM$3<=$B$2,$B$2<CN$3,$B$3=$A$11,$B$4=CJ2),CM9*$B$2,0)","v":0},{"$f":"IF(AND(CN$3<=$B$2,$B$2<CO$3,$B$3=$A$11,$B$4=CJ2),CN9*$B$2,0)","v":0},{"$f":"IF(AND(CO$3<=$B$2,$B$2<CP$3,$B$3=$A$11,$B$4=CJ2),CO9*$B$2,0)","v":0},{"$f":"IF(AND(CP$3<=$B$2,$B$3=$A$11,$B$4=CJ2),CP9*$B$2,0)","v":0},null,48,0,{"$f":"IF(AND(CT$3<=$B$2,$B$2<CU$3,$B$3=$A$11,$B$4=CR2),CT9*$B$2,0)","v":0},{"$f":"IF(AND(CU$3<=$B$2,$B$2<CV$3,$B$3=$A$11,$B$4=CR2),CU9*$B$2,0)","v":0},{"$f":"IF(AND(CV$3<=$B$2,$B$2<CW$3,$B$3=$A$11,$B$4=CR2),CV9*$B$2,0)","v":0},{"$f":"IF(AND(CW$3<=$B$2,$B$2<CX$3,$B$3=$A$11,$B$4=CR2),CW9*$B$2,0)","v":0},{"$f":"IF(AND(CX$3<=$B$2,$B$3=$A$11,$B$4=CR2),CX9*$B$2,0)","v":0}]
[null,"Rent To Own",null,60,0,{"$f":"IF(AND(F$3<=$B$2,$B$2<G$3,$B$3=$A$12,$B$4=D2),F10*$B$2,0)","v":0},{"$f":"IF(AND(G$3<=$B$2,$B$2<H$3,$B$3=$A$12,$B$4=D2),G10*$B$2,0)","v":0},{"$f":"IF(AND(H$3<=$B$2,$B$2<I$3,$B$3=$A$12,$B$4=D2),H10*$B$2,0)","v":0},{"$f":"IF(AND(I$3<=$B$2,$B$2<J$3,$B$3=$A$12,$B$4=D2),I10*$B$2,0)","v":0},{"$f":"IF(AND(J$3<=$B$2,$B$3=$A$12,$B$4=D2),J10*$B$2,0)","v":0},null,60,0,{"$f":"IF(AND(N$3<=$B$2,$B$2<O$3,$B$3=$A$12,$B$4=L2),N10*$B$2,0)","v":0},{"$f":"IF(AND(O$3<=$B$2,$B$2<P$3,$B$3=$A$12,$B$4=L2),O10*$B$2,0)","v":0},{"$f":"IF(AND(P$3<=$B$2,$B$2<Q$3,$B$3=$A$12,$B$4=L2),P10*$B$2,0)","v":0},{"$f":"IF(AND(Q$3<=$B$2,$B$2<R$3,$B$3=$A$12,$B$4=L2),Q10*$B$2,0)","v":0},{"$f":"IF(AND(R$3<=$B$2,$B$3=$A$12,$B$4=L2),R10*$B$2,0)","v":0},null,60,0,{"$f":"IF(AND(V$3<=$B$2,$B$2<W$3,$B$3=$A$12,$B$4=T2),V10*$B$2,0)","v":0},{"$f":"IF(AND(W$3<=$B$2,$B$2<X$3,$B$3=$A$12,$B$4=T2),W10*$B$2,0)","v":0},{"$f":"IF(AND(X$3<=$B$2,$B$2<Y$3,$B$3=$A$12,$B$4=T2),X10*$B$2,0)","v":0},{"$f":"IF(AND(Y$3<=$B$2,$B$2<Z$3,$B$3=$A$12,$B$4=T2),Y10*$B$2,0)","v":0},{"$f":"IF(AND(Z$3<=$B$2,$B$3=$A$12,$B$4=T2),Z10*$B$2,0)","v":0},null,60,0,{"$f":"IF(AND(AD$3<=$B$2,$B$2<AE$3,$B$3=$A$12,$B$4=AB2),AD10*$B$2,0)","v":0},{"$f":"IF(AND(AE$3<=$B$2,$B$2<AF$3,$B$3=$A$12,$B$4=AB2),AE10*$B$2,0)","v":0},{"$f":"IF(AND(AF$3<=$B$2,$B$2<AG$3,$B$3=$A$12,$B$4=AB2),AF10*$B$2,0)","v":0},{"$f":"IF(AND(AG$3<=$B$2,$B$2<AH$3,$B$3=$A$12,$B$4=AB2),AG10*$B$2,0)","v":0},{"$f":"IF(AND(AH$3<=$B$2,$B$3=$A$12,$B$4=AB2),AH10*$B$2,0)","v":0},null,60,0,{"$f":"IF(AND(AL$3<=$B$2,$B$2<AM$3,$B$3=$A$12,$B$4=AJ2),AL10*$B$2,0)","v":0},{"$f":"IF(AND(AM$3<=$B$2,$B$2<AN$3,$B$3=$A$12,$B$4=AJ2),AM10*$B$2,0)","v":0},{"$f":"IF(AND(AN$3<=$B$2,$B$2<AO$3,$B$3=$A$12,$B$4=AJ2),AN10*$B$2,0)","v":0},{"$f":"IF(AND(AO$3<=$B$2,$B$2<AP$3,$B$3=$A$12,$B$4=AJ2),AO10*$B$2,0)","v":0},{"$f":"IF(AND(AP$3<=$B$2,$B$3=$A$12,$B$4=AJ2),AP10*$B$2,0)","v":0},null,60,0,{"$f":"IF(AND(AT$3<=$B$2,$B$2<AU$3,$B$3=$A$12,$B$4=AR2),AT10*$B$2,0)","v":0},{"$f":"IF(AND(AU$3<=$B$2,$B$2<AV$3,$B$3=$A$12,$B$4=AR2),AU10*$B$2,0)","v":0},{"$f":"IF(AND(AV$3<=$B$2,$B$2<AW$3,$B$3=$A$12,$B$4=AR2),AV10*$B$2,0)","v":0},{"$f":"IF(AND(AW$3<=$B$2,$B$2<AX$3,$B$3=$A$12,$B$4=AR2),AW10*$B$2,0)","v":0},{"$f":"IF(AND(AX$3<=$B$2,$B$3=$A$12,$B$4=AR2),AX10*$B$2,0)","v":0},null,60,0,{"$f":"IF(AND(BB$3<=$B$2,$B$2<BC$3,$B$3=$A$12,$B$4=AZ2),BB10*$B$2,0)","v":0},{"$f":"IF(AND(BC$3<=$B$2,$B$2<BD$3,$B$3=$A$12,$B$4=AZ2),BC10*$B$2,0)","v":0},{"$f":"IF(AND(BD$3<=$B$2,$B$2<BE$3,$B$3=$A$12,$B$4=AZ2),BD10*$B$2,0)","v":0},{"$f":"IF(AND(BE$3<=$B$2,$B$2<BF$3,$B$3=$A$12,$B$4=AZ2),BE10*$B$2,0)","v":0},{"$f":"IF(AND(BF$3<=$B$2,$B$3=$A$12,$B$4=AZ2),BF10*$B$2,0)","v":0},null,60,0,{"$f":"IF(AND(BJ$3<=$B$2,$B$2<BK$3,$B$3=$A$12,$B$4=BH2),BJ10*$B$2,0)","v":0},{"$f":"IF(AND(BK$3<=$B$2,$B$2<BL$3,$B$3=$A$12,$B$4=BH2),BK10*$B$2,0)","v":0},{"$f":"IF(AND(BL$3<=$B$2,$B$2<BM$3,$B$3=$A$12,$B$4=BH2),BL10*$B$2,0)","v":0},{"$f":"IF(AND(BM$3<=$B$2,$B$2<BN$3,$B$3=$A$12,$B$4=BH2),BM10*$B$2,0)","v":0},{"$f":"IF(AND(BN$3<=$B$2,$B$3=$A$12,$B$4=BH2),BN10*$B$2,0)","v":0},null,null,null,null,null,60,0,{"$f":"IF(AND(BV$3<=$B$2,$B$2<BW$3,$B$3=$A$12,$B$4=BT2),BV10*$B$2,0)","v":0},{"$f":"IF(AND(BW$3<=$B$2,$B$2<BX$3,$B$3=$A$12,$B$4=BT2),BW10*$B$2,0)","v":0},{"$f":"IF(AND(BX$3<=$B$2,$B$2<BY$3,$B$3=$A$12,$B$4=BT2),BX10*$B$2,0)","v":0},{"$f":"IF(AND(BY$3<=$B$2,$B$2<BZ$3,$B$3=$A$12,$B$4=BT2),BY10*$B$2,0)","v":0},{"$f":"IF(AND(BZ$3<=$B$2,$B$3=$A$12,$B$4=BT2),BZ10*$B$2,0)","v":0},null,60,0,{"$f":"IF(AND(CD$3<=$B$2,$B$2<CE$3,$B$3=$A$12,$B$4=CB2),CD10*$B$2,0)","v":0},{"$f":"IF(AND(CE$3<=$B$2,$B$2<CF$3,$B$3=$A$12,$B$4=CB2),CE10*$B$2,0)","v":0},{"$f":"IF(AND(CF$3<=$B$2,$B$2<CG$3,$B$3=$A$12,$B$4=CB2),CF10*$B$2,0)","v":0},{"$f":"IF(AND(CG$3<=$B$2,$B$2<CH$3,$B$3=$A$12,$B$4=CB2),CG10*$B$2,0)","v":0},{"$f":"IF(AND(CH$3<=$B$2,$B$3=$A$12,$B$4=CB2),CH10*$B$2,0)","v":0},null,60,0,{"$f":"IF(AND(CL$3<=$B$2,$B$2<CM$3,$B$3=$A$12,$B$4=CJ2),CL10*$B$2,0)","v":0},{"$f":"IF(AND(CM$3<=$B$2,$B$2<CN$3,$B$3=$A$12,$B$4=CJ2),CM10*$B$2,0)","v":0},{"$f":"IF(AND(CN$3<=$B$2,$B$2<CO$3,$B$3=$A$12,$B$4=CJ2),CN10*$B$2,0)","v":0},{"$f":"IF(AND(CO$3<=$B$2,$B$2<CP$3,$B$3=$A$12,$B$4=CJ2),CO10*$B$2,0)","v":0},{"$f":"IF(AND(CP$3<=$B$2,$B$3=$A$12,$B$4=CJ2),CP10*$B$2,0)","v":0},null,60,0,{"$f":"IF(AND(CT$3<=$B$2,$B$2<CU$3,$B$3=$A$12,$B$4=CR2),CT10*$B$2,0)","v":0},{"$f":"IF(AND(CU$3<=$B$2,$B$2<CV$3,$B$3=$A$12,$B$4=CR2),CU10*$B$2,0)","v":0},{"$f":"IF(AND(CV$3<=$B$2,$B$2<CW$3,$B$3=$A$12,$B$4=CR2),CV10*$B$2,0)","v":0},{"$f":"IF(AND(CW$3<=$B$2,$B$2<CX$3,$B$3=$A$12,$B$4=CR2),CW10*$B$2,0)","v":0},{"$f":"IF(AND(CX$3<=$B$2,$B$3=$A$12,$B$4=CR2),CX10*$B$2,0)","v":0}]
[null,null,null,{"$f":"SUM(F17:CX17)","v":0},null,{"$f":"SUM(F12:F16)","v":0},{"$f":"SUM(G12:G16)","v":0},{"$f":"SUM(H12:H16)","v":0},{"$f":"SUM(I12:I16)","v":0},{"$f":"SUM(J12:J16)","v":0},null,null,null,{"$f":"SUM(N12:N16)","v":0},{"$f":"SUM(O12:O16)","v":0},{"$f":"SUM(P12:P16)","v":0},{"$f":"SUM(Q12:Q16)","v":0},{"$f":"SUM(R12:R16)","v":0},null,null,null,{"$f":"SUM(V12:V16)","v":0},{"$f":"SUM(W12:W16)","v":0},{"$f":"SUM(X12:X16)","v":0},{"$f":"SUM(Y12:Y16)","v":0},{"$f":"SUM(Z12:Z16)","v":0},null,null,null,{"$f":"SUM(AD12:AD16)","v":0},{"$f":"SUM(AE12:AE16)","v":0},{"$f":"SUM(AF12:AF16)","v":0},{"$f":"SUM(AG12:AG16)","v":0},{"$f":"SUM(AH12:AH16)","v":0},null,null,null,{"$f":"SUM(AL12:AL16)","v":0},{"$f":"SUM(AM12:AM16)","v":0},{"$f":"SUM(AN12:AN16)","v":0},{"$f":"SUM(AO12:AO16)","v":0},{"$f":"SUM(AP12:AP16)","v":0},null,null,null,{"$f":"SUM(AT12:AT16)","v":0},{"$f":"SUM(AU12:AU16)","v":0},{"$f":"SUM(AV12:AV16)","v":0},{"$f":"SUM(AW12:AW16)","v":0},{"$f":"SUM(AX12:AX16)","v":0},null,null,null,{"$f":"SUM(BB12:BB16)","v":0},{"$f":"SUM(BC12:BC16)","v":0},{"$f":"SUM(BD12:BD16)","v":0},{"$f":"SUM(BE12:BE16)","v":0},{"$f":"SUM(BF12:BF16)","v":0},null,null,null,{"$f":"SUM(BJ12:BJ16)","v":0},{"$f":"SUM(BK12:BK16)","v":0},{"$f":"SUM(BL12:BL16)","v":0},{"$f":"SUM(BM12:BM16)","v":0},{"$f":"SUM(BN12:BN16)","v":0},null,null,null,{"$f":"SUM(BR12:BR16)","v":0},null,null,null,{"$f":"SUM(BV12:BV16)","v":0},{"$f":"SUM(BW12:BW16)","v":0},{"$f":"SUM(BX12:BX16)","v":0},{"$f":"SUM(BY12:BY16)","v":0},{"$f":"SUM(BZ12:BZ16)","v":0},null,null,null,{"$f":"SUM(CD12:CD16)","v":0},{"$f":"SUM(CE12:CE16)","v":0},{"$f":"SUM(CF12:CF16)","v":0},{"$f":"SUM(CG12:CG16)","v":0},{"$f":"SUM(CH12:CH16)","v":0},null,null,null,{"$f":"SUM(CL12:CL16)","v":0},{"$f":"SUM(CM12:CM16)","v":0},{"$f":"SUM(CN12:CN16)","v":0},{"$f":"SUM(CO12:CO16)","v":0},{"$f":"SUM(CP12:CP16)","v":0},null,null,null,{"$f":"SUM(CT12:CT16)","v":0},{"$f":"SUM(CU12:CU16)","v":0},{"$f":"SUM(CV12:CV16)","v":0},{"$f":"SUM(CW12:CW16)","v":0},{"$f":"SUM(CX12:CX16)","v":0}]
[null,"$1 Buyout Lease - 90 days no pmt"]
[null,"Fair Market Value Sweeper Lease - 90 days no pmt"]
[null,"Fair Market Value Scrubber Lease - 90 days no pmt"]
[null,"All-Lines:  60-days no pmt"]
[null,"All-Lines:  Municipal Lease",null,{"$f":"C9","v":"OnPoint Capital"},null,"2025-04-09"]
[null,null,null,{"$f":"B8","v":"$1 Buyout Lease"},null,null,null,null,null,null,null,{"$f":"B9","v":"Fair Market Value Sweeper Lease"},null,null,null,null,null,null,null,{"$f":"B10","v":"Fair Market Value Scrubber Lease"},null,null,null,null,null,null,null,{"$f":"B11","v":"Fair Market Value Robotic Lease"},null,null,null,null,null,null,null,{"$f":"B12","v":"Municipal $1 Buyout Lease - Monthly Pmt"},null,null,null,null,null,null,null,{"$f":"B13","v":0},null,null,null,null,null,null,null,{"$f":"B14","v":0},null,null,null,null,null,null,null,{"$f":"B15","v":"Municipal $1 Buyout Lease - Annual Pmt"},null,null,null,null,null,null,null,{"$f":"B16","v":"Rent To Own"},null,null,null,{"$f":"B17","v":0},null,null,null,null,null,null,null,{"$f":"B18","v":"$1 Buyout Lease - 90 days no pmt"},null,null,null,null,null,null,null,{"$f":"B19","v":"Fair Market Value Sweeper Lease - 90 days no pmt"},null,null,null,null,null,null,null,{"$f":"B20","v":"Fair Market Value Scrubber Lease - 90 days no pmt"}]
["For Drop Down","PurchaseOptTCS","PurchaseOptTFS",null,null,3000,10000,25000,50000,100000,null,null,null,3000,10000,25000,50000,100000,null,null,null,3000,10000,25000,50000,100000,null,null,null,3000,10000,25000,50000,100000,null,null,null,3000,10000,25000,50000,100000,null,null,null,3000,10000,25000,50000,100000,null,null,null,3000,10000,25000,50000,100000,null,null,null,3000,10000,25000,50000,100000,null,null,null,1,null,null,null,3000,10000,25000,50000,100000,null,null,null,3000,10000,25000,50000,100000,null,null,null,3000,10000,25000,50000,100000,null,null,null,3000,10000,25000,50000,100000]
["Term","Purchase Opt - TCS","Purchase Opt - TFS",null,null,"to","to","to","to","to",null,null,null,"to","to","to","to","to",null,null,null,"to","to","to","to","to",null,null,null,"to","to","to","to","to",null,null,null,"to","to","to","to","to",null,null,null,"to","to","to","to","to",null,null,null,"to","to","to","to","to",null,null,null,"to","to","to","to","to",null,null,null,"to",null,null,null,"to","to","to","to","to",null,null,null,"to","to","to","to","to",null,null,null,"to","to","to","to","to",null,null,null,"to","to","to","to","to"]
["None","None","None","Term","Adv",9999,24999,49999,99999,249999,null,"Term","Adv",9999,24999,49999,99999,249999,null,"Term","Adv",9999,24999,49999,99999,249999,null,"Term","Adv",9999,24999,49999,99999,249999,null,"Term","Adv",9999,24999,49999,99999,249999,null,"Term","Adv",9999,24999,49999,99999,249999,null,"Term","Adv",9999,24999,49999,99999,249999,null,"Term","Adv",9999,24999,49999,99999,249999,null,"Term","Adv",null,null,"Term","Adv",9999,24999,49999,99999,249999,null,"Term","Adv",9999,24999,49999,99999,249999,null,"Term","Adv",9999,24999,49999,99999,249999,null,"Term","Adv",9999,24999,49999,99999,249999]
["12 Months","$1 Buyout Lease - 90 days no pmt","$1 Buyout Lease - 90 days no pmt",12,0,null,null,null,null,null,null,12,0,null,null,null,null,null,null,12,0,null,null,null,null,null,null,12,0,null,null,null,null,null,null,12,0,null,null,null,null,null,null,12,0,null,null,null,null,null,null,12,0,null,null,null,null,null,null,12,0,null,null,null,null,null,null,9,0,null,null,12,0,null,null,null,null,null,null,12,0,null,null,null,null,null,null,12,0,null,null,null,null,null,null,12,0]
["18 Months","$1.00 - 90 days deferred","$1.00 - 90 days deferred",24,0,4.7960000000000003E-2,4.7509999999999997E-2,4.6679999999999999E-2,4.6679999999999999E-2,4.6440000000000002E-2,null,24,0,4.0669999999999998E-2,4.0210000000000003E-2,null,null,null,null,24,0,4.0669999999999998E-2,4.0210000000000003E-2,null,null,null,null,24,0,null,null,null,null,null,null,24,0,null,null,null,null,null,null,24,0,null,null,null,null,null,null,24,0,null,null,null,null,null,null,24,0,null,null,null,null,null,null,12,0,null,null,24,0,null,null,null,null,null,null,24,0,null,null,null,null,null,null,24,0,null,null,null,null,null,null,24,0]
["24 Months","Fair Market Value Sweeper Lease","Fair Market Value Sweeper Lease",36,0,3.3149999999999999E-2,3.2829999999999998E-2,3.2230000000000002E-2,3.2230000000000002E-2,3.2230000000000002E-2,null,36,0,2.9530000000000001E-2,2.921E-2,2.768E-2,2.768E-2,2.768E-2,null,36,0,2.9530000000000001E-2,2.921E-2,2.768E-2,2.768E-2,2.768E-2,null,36,0,0.29559999999999997,0.29559999999999997,0.29559999999999997,0.29559999999999997,0.29559999999999997,null,36,0,null,null,null,null,null,null,36,0,null,null,null,null,null,null,36,0,null,null,null,null,null,null,36,0,null,null,null,null,null,null,18,0,null,null,36,0,null,null,null,null,null,null,36,0,null,null,null,null,null,null,36,0,null,null,null,null,null,null,36,0]
["30 Months","Fair Market Value Sweeper Lease - 90 days no pmt","Fair Market Value Sweeper Lease - 90 days no pmt",48,0,2.5870000000000001E-2,2.563E-2,2.5020000000000001E-2,2.5020000000000001E-2,2.5020000000000001E-2,null,48,0,2.4049999999999998E-2,2.3800000000000002E-2,2.1930000000000002E-2,2.1930000000000002E-2,2.1860000000000001E-2,null,48,0,2.4049999999999998E-2,2.3800000000000002E-2,2.1930000000000002E-2,2.1930000000000002E-2,2.1860000000000001E-2,null,48,0,2.3220000000000001E-2,2.3220000000000001E-2,2.3220000000000001E-2,2.3220000000000001E-2,2.3220000000000001E-2,null,48,0,null,null,null,null,null,null,48,0,null,null,null,null,null,null,48,0,null,null,null,null,null,null,48,0,null,null,null,null,null,null,null,null,null,null,48,0,null,null,null,null,null,null,48,0,null,null,null,null,null,null,48,0,null,null,null,null,null,null,48,0]
["36 Months","Fair Market Value Scrubber Lease","Fair Market Value Scrubber Lease",60,0,2.1559999999999999E-2,2.1350000000000001E-2,2.0709999999999999E-2,2.0709999999999999E-2,2.0709999999999999E-2,null,60,0,2.1000000000000001E-2,2.0789999999999999E-2,1.847E-2,1.847E-2,1.8380000000000001E-2,null,60,0,2.1000000000000001E-2,2.0789999999999999E-2,1.847E-2,1.847E-2,1.8380000000000001E-2,null,60,0,1.951E-2,1.951E-2,1.951E-2,1.951E-2,1.951E-2,null,60,0,null,null,null,null,null,null,60,0,null,null,null,null,null,null,60,0,null,null,null,null,null,null,60,0,null,null,null,null,null,null,null,null,null,null,60,0,null,null,null,null,null,null,60,0,null,null,null,null,null,null,60,0,null,null,null,null,null,null,60,0]
["48 Months","Fair Market Value Scrubber Lease - 90 days no pmt","Fair Market Value Scrubber Lease - 90 days no pmt"]
["60 Months","Fair Market Value Robotic Lease","Fair Market Value Robotic Lease",12,0,{"$f":"IF(AND(F$24<=$B$2,$B$2<G$24,$B$3=$A$8,$B$4=D23),F27*$B$2,0)","v":0},{"$f":"IF(AND(G$24<=$B$2,$B$2<H$24,$B$3=$A$8,$B$4=D23),G27*$B$2,0)","v":0},{"$f":"IF(AND(H$24<=$B$2,$B$2<I$24,$B$3=$A$8,$B$4=D23),H27*$B$2,0)","v":0},{"$f":"IF(AND(I$24<=$B$2,$B$2<J$24,$B$3=$A$8,$B$4=D23),I27*$B$2,0)","v":0},{"$f":"IF(AND(J$24<=$B$2,$B$3=$A$8,$B$4=D23),J27*$B$2,0)","v":0},null,12,0,{"$f":"IF(AND(N$24<=$B$2,$B$2<O$24,$B$3=$A$8,$B$4=L23),N27*$B$2,0)","v":0},{"$f":"IF(AND(O$24<=$B$2,$B$2<P$24,$B$3=$A$8,$B$4=L23),O27*$B$2,0)","v":0},{"$f":"IF(AND(P$24<=$B$2,$B$2<Q$24,$B$3=$A$8,$B$4=L23),P27*$B$2,0)","v":0},{"$f":"IF(AND(Q$24<=$B$2,$B$2<R$24,$B$3=$A$8,$B$4=L23),Q27*$B$2,0)","v":0},{"$f":"IF(AND(R$24<=$B$2,$B$3=$A$8,$B$4=L23),R27*$B$2,0)","v":0},null,12,0,{"$f":"IF(AND(V$24<=$B$2,$B$2<W$24,$B$3=$A$8,$B$4=T23),V27*$B$2,0)","v":0},{"$f":"IF(AND(W$24<=$B$2,$B$2<X$24,$B$3=$A$8,$B$4=T23),W27*$B$2,0)","v":0},{"$f":"IF(AND(X$24<=$B$2,$B$2<Y$24,$B$3=$A$8,$B$4=T23),X27*$B$2,0)","v":0},{"$f":"IF(AND(Y$24<=$B$2,$B$2<Z$24,$B$3=$A$8,$B$4=T23),Y27*$B$2,0)","v":0},{"$f":"IF(AND(Z$24<=$B$2,$B$3=$A$8,$B$4=T23),Z27*$B$2,0)","v":0},null,12,0,{"$f":"IF(AND(AD$24<=$B$2,$B$2<AE$24,$B$3=$A$8,$B$4=AB23),AD27*$B$2,0)","v":0},{"$f":"IF(AND(AE$24<=$B$2,$B$2<AF$24,$B$3=$A$8,$B$4=AB23),AE27*$B$2,0)","v":0},{"$f":"IF(AND(AF$24<=$B$2,$B$2<AG$24,$B$3=$A$8,$B$4=AB23),AF27*$B$2,0)","v":0},{"$f":"IF(AND(AG$24<=$B$2,$B$2<AH$24,$B$3=$A$8,$B$4=AB23),AG27*$B$2,0)","v":0},{"$f":"IF(AND(AH$24<=$B$2,$B$3=$A$8,$B$4=AB23),AH27*$B$2,0)","v":0},null,12,0,{"$f":"IF(AND(AL$24<=$B$2,$B$2<AM$24,$B$3=$A$8,$B$4=AJ23),AL27*$B$2,0)","v":0},{"$f":"IF(AND(AM$24<=$B$2,$B$2<AN$24,$B$3=$A$8,$B$4=AJ23),AM27*$B$2,0)","v":0},{"$f":"IF(AND(AN$24<=$B$2,$B$2<AO$24,$B$3=$A$8,$B$4=AJ23),AN27*$B$2,0)","v":0},{"$f":"IF(AND(AO$24<=$B$2,$B$2<AP$24,$B$3=$A$8,$B$4=AJ23),AO27*$B$2,0)","v":0},{"$f":"IF(AND(AP$24<=$B$2,$B$3=$A$8,$B$4=AJ23),AP27*$B$2,0)","v":0},null,12,0,{"$f":"IF(AND(AT$24<=$B$2,$B$2<AU$24,$B$3=$A$8,$B$4=AR23),AT27*$B$2,0)","v":0},{"$f":"IF(AND(AU$24<=$B$2,$B$2<AV$24,$B$3=$A$8,$B$4=AR23),AU27*$B$2,0)","v":0},{"$f":"IF(AND(AV$24<=$B$2,$B$2<AW$24,$B$3=$A$8,$B$4=AR23),AV27*$B$2,0)","v":0},{"$f":"IF(AND(AW$24<=$B$2,$B$2<AX$24,$B$3=$A$8,$B$4=AR23),AW27*$B$2,0)","v":0},{"$f":"IF(AND(AX$24<=$B$2,$B$3=$A$8,$B$4=AR23),AX27*$B$2,0)","v":0},null,12,0,{"$f":"IF(AND(BB$24<=$B$2,$B$2<BC$24,$B$3=$A$8,$B$4=AZ23),BB27*$B$2,0)","v":0},{"$f":"IF(AND(BC$24<=$B$2,$B$2<BD$24,$B$3=$A$8,$B$4=AZ23),BC27*$B$2,0)","v":0},{"$f":"IF(AND(BD$24<=$B$2,$B$2<BE$24,$B$3=$A$8,$B$4=AZ23),BD27*$B$2,0)","v":0},{"$f":"IF(AND(BE$24<=$B$2,$B$2<BF$24,$B$3=$A$8,$B$4=AZ23),BE27*$B$2,0)","v":0},{"$f":"IF(AND(BF$24<=$B$2,$B$3=$A$8,$B$4=AZ23),BF27*$B$2,0)","v":0},null,12,0,{"$f":"IF(AND(BJ$24<=$B$2,$B$2<BK$24,$B$3=$A$8,$B$4=BH23),BJ27*$B$2,0)","v":0},{"$f":"IF(AND(BK$24<=$B$2,$B$2<BL$24,$B$3=$A$8,$B$4=BH23),BK27*$B$2,0)","v":0},{"$f":"IF(AND(BL$24<=$B$2,$B$2<BM$24,$B$3=$A$8,$B$4=BH23),BL27*$B$2,0)","v":0},{"$f":"IF(AND(BM$24<=$B$2,$B$2<BN$24,$B$3=$A$8,$B$4=BH23),BM27*$B$2,0)","v":0},{"$f":"IF(AND(BN$24<=$B$2,$B$3=$A$8,$B$4=BH23),BN27*$B$2,0)","v":0},null,9,0,{"$f":"IF(AND(BR$3<=$B$2,$B$3=$A$13,$B$4=BP23),BR27*$B$2,0)","v":0},null,12,0,{"$f":"IF(AND(BV$24<=$B$2,$B$2<BW$24,$B$3=$A$8,$B$4=BT23),BV27*$B$2,0)","v":0},{"$f":"IF(AND(BW$24<=$B$2,$B$2<BX$24,$B$3=$A$8,$B$4=BT23),BW27*$B$2,0)","v":0},{"$f":"IF(AND(BX$24<=$B$2,$B$2<BY$24,$B$3=$A$8,$B$4=BT23),BX27*$B$2,0)","v":0},{"$f":"IF(AND(BY$24<=$B$2,$B$2<BZ$24,$B$3=$A$8,$B$4=BT23),BY27*$B$2,0)","v":0},{"$f":"IF(AND(BZ$24<=$B$2,$B$3=$A$8,$B$4=BT23),BZ27*$B$2,0)","v":0},null,12,0,{"$f":"IF(AND(CD$24<=$B$2,$B$2<CE$24,$B$3=$A$8,$B$4=CB23),CD27*$B$2,0)","v":0},{"$f":"IF(AND(CE$24<=$B$2,$B$2<CF$24,$B$3=$A$8,$B$4=CB23),CE27*$B$2,0)","v":0},{"$f":"IF(AND(CF$24<=$B$2,$B$2<CG$24,$B$3=$A$8,$B$4=CB23),CF27*$B$2,0)","v":0},{"$f":"IF(AND(CG$24<=$B$2,$B$2<CH$24,$B$3=$A$8,$B$4=CB23),CG27*$B$2,0)","v":0},{"$f":"IF(AND(CH$24<=$B$2,$B$3=$A$8,$B$4=CB23),CH27*$B$2,0)","v":0},null,12,0,{"$f":"IF(AND(CL$24<=$B$2,$B$2<CM$24,$B$3=$A$8,$B$4=CJ23),CL27*$B$2,0)","v":0},{"$f":"IF(AND(CM$24<=$B$2,$B$2<CN$24,$B$3=$A$8,$B$4=CJ23),CM27*$B$2,0)","v":0},{"$f":"IF(AND(CN$24<=$B$2,$B$2<CO$24,$B$3=$A$8,$B$4=CJ23),CN27*$B$2,0)","v":0},{"$f":"IF(AND(CO$24<=$B$2,$B$2<CP$24,$B$3=$A$8,$B$4=CJ23),CO27*$B$2,0)","v":0},{"$f":"IF(AND(CP$24<=$B$2,$B$3=$A$8,$B$4=CJ23),CP27*$B$2,0)","v":0},null,12,0,{"$f":"IF(AND(CT$24<=$B$2,$B$2<CU$24,$B$3=$A$8,$B$4=CR23),CT27*$B$2,0)","v":0},{"$f":"IF(AND(CU$24<=$B$2,$B$2<CV$24,$B$3=$A$8,$B$4=CR23),CU27*$B$2,0)","v":0},{"$f":"IF(AND(CV$24<=$B$2,$B$2<CW$24,$B$3=$A$8,$B$4=CR23),CV27*$B$2,0)","v":0},{"$f":"IF(AND(CW$24<=$B$2,$B$2<CX$24,$B$3=$A$8,$B$4=CR23),CW27*$B$2,0)","v":0},{"$f":"IF(AND(CX$24<=$B$2,$B$3=$A$8,$B$4=CR23),CX27*$B$2,0)","v":0}]
[null,"Municipal $1 Buyout Lease - Monthly Pmt","Municipal $1 Buyout Lease - Monthly Pmt",24,0,{"$f":"IF(AND(F$24<=$B$2,$B$2<G$24,$B$3=$A$9,$B$4=D23),F28*$B$2,0)","v":0},{"$f":"IF(AND(G$24<=$B$2,$B$2<H$24,$B$3=$A$9,$B$4=D23),G28*$B$2,0)","v":0},{"$f":"IF(AND(H$24<=$B$2,$B$2<I$24,$B$3=$A$9,$B$4=D23),H28*$B$2,0)","v":0},{"$f":"IF(AND(I$24<=$B$2,$B$2<J$24,$B$3=$A$9,$B$4=D23),I28*$B$2,0)","v":0},{"$f":"IF(AND(J$24<=$B$2,$B$3=$A$9,$B$4=D23),J28*$B$2,0)","v":0},null,24,0,{"$f":"IF(AND(N$24<=$B$2,$B$2<O$24,$B$3=$A$9,$B$4=L23),N28*$B$2,0)","v":0},{"$f":"IF(AND(O$24<=$B$2,$B$2<P$24,$B$3=$A$9,$B$4=L23),O28*$B$2,0)","v":0},{"$f":"IF(AND(P$24<=$B$2,$B$2<Q$24,$B$3=$A$9,$B$4=L23),P28*$B$2,0)","v":0},{"$f":"IF(AND(Q$24<=$B$2,$B$2<R$24,$B$3=$A$9,$B$4=L23),Q28*$B$2,0)","v":0},{"$f":"IF(AND(R$24<=$B$2,$B$3=$A$9,$B$4=L23),R28*$B$2,0)","v":0},null,24,0,{"$f":"IF(AND(V$24<=$B$2,$B$2<W$24,$B$3=$A$9,$B$4=T23),V28*$B$2,0)","v":0},{"$f":"IF(AND(W$24<=$B$2,$B$2<X$24,$B$3=$A$9,$B$4=T23),W28*$B$2,0)","v":0},{"$f":"IF(AND(X$24<=$B$2,$B$2<Y$24,$B$3=$A$9,$B$4=T23),X28*$B$2,0)","v":0},{"$f":"IF(AND(Y$24<=$B$2,$B$2<Z$24,$B$3=$A$9,$B$4=T23),Y28*$B$2,0)","v":0},{"$f":"IF(AND(Z$24<=$B$2,$B$3=$A$9,$B$4=T23),Z28*$B$2,0)","v":0},null,24,0,{"$f":"IF(AND(AD$24<=$B$2,$B$2<AE$24,$B$3=$A$9,$B$4=AB23),AD28*$B$2,0)","v":0},{"$f":"IF(AND(AE$24<=$B$2,$B$2<AF$24,$B$3=$A$9,$B$4=AB23),AE28*$B$2,0)","v":0},{"$f":"IF(AND(AF$24<=$B$2,$B$2<AG$24,$B$3=$A$9,$B$4=AB23),AF28*$B$2,0)","v":0},{"$f":"IF(AND(AG$24<=$B$2,$B$2<AH$24,$B$3=$A$9,$B$4=AB23),AG28*$B$2,0)","v":0},{"$f":"IF(AND(AH$24<=$B$2,$B$3=$A$9,$B$4=AB23),AH28*$B$2,0)","v":0},null,24,0,{"$f":"IF(AND(AL$24<=$B$2,$B$2<AM$24,$B$3=$A$9,$B$4=AJ23),AL28*$B$2,0)","v":0},{"$f":"IF(AND(AM$24<=$B$2,$B$2<AN$24,$B$3=$A$9,$B$4=AJ23),AM28*$B$2,0)","v":0},{"$f":"IF(AND(AN$24<=$B$2,$B$2<AO$24,$B$3=$A$9,$B$4=AJ23),AN28*$B$2,0)","v":0},{"$f":"IF(AND(AO$24<=$B$2,$B$2<AP$24,$B$3=$A$9,$B$4=AJ23),AO28*$B$2,0)","v":0},{"$f":"IF(AND(AP$24<=$B$2,$B$3=$A$9,$B$4=AJ23),AP28*$B$2,0)","v":0},null,24,0,{"$f":"IF(AND(AT$24<=$B$2,$B$2<AU$24,$B$3=$A$9,$B$4=AR23),AT28*$B$2,0)","v":0},{"$f":"IF(AND(AU$24<=$B$2,$B$2<AV$24,$B$3=$A$9,$B$4=AR23),AU28*$B$2,0)","v":0},{"$f":"IF(AND(AV$24<=$B$2,$B$2<AW$24,$B$3=$A$9,$B$4=AR23),AV28*$B$2,0)","v":0},{"$f":"IF(AND(AW$24<=$B$2,$B$2<AX$24,$B$3=$A$9,$B$4=AR23),AW28*$B$2,0)","v":0},{"$f":"IF(AND(AX$24<=$B$2,$B$3=$A$9,$B$4=AR23),AX28*$B$2,0)","v":0},null,24,0,{"$f":"IF(AND(BB$24<=$B$2,$B$2<BC$24,$B$3=$A$9,$B$4=AZ23),BB28*$B$2,0)","v":0},{"$f":"IF(AND(BC$24<=$B$2,$B$2<BD$24,$B$3=$A$9,$B$4=AZ23),BC28*$B$2,0)","v":0},{"$f":"IF(AND(BD$24<=$B$2,$B$2<BE$24,$B$3=$A$9,$B$4=AZ23),BD28*$B$2,0)","v":0},{"$f":"IF(AND(BE$24<=$B$2,$B$2<BF$24,$B$3=$A$9,$B$4=AZ23),BE28*$B$2,0)","v":0},{"$f":"IF(AND(BF$24<=$B$2,$B$3=$A$9,$B$4=AZ23),BF28*$B$2,0)","v":0},null,24,0,{"$f":"IF(AND(BJ$24<=$B$2,$B$2<BK$24,$B$3=$A$9,$B$4=BH23),BJ28*$B$2,0)","v":0},{"$f":"IF(AND(BK$24<=$B$2,$B$2<BL$24,$B$3=$A$9,$B$4=BH23),BK28*$B$2,0)","v":0},{"$f":"IF(AND(BL$24<=$B$2,$B$2<BM$24,$B$3=$A$9,$B$4=BH23),BL28*$B$2,0)","v":0},{"$f":"IF(AND(BM$24<=$B$2,$B$2<BN$24,$B$3=$A$9,$B$4=BH23),BM28*$B$2,0)","v":0},{"$f":"IF(AND(BN$24<=$B$2,$B$3=$A$9,$B$4=BH23),BN28*$B$2,0)","v":0},null,12,0,{"$f":"IF(AND(BR$3<=$B$2,$B$3=$A$8,$B$4=BP23),BR28*$B$2,0)","v":0},null,24,0,{"$f":"IF(AND(BV$24<=$B$2,$B$2<BW$24,$B$3=$A$9,$B$4=BT23),BV28*$B$2,0)","v":0},{"$f":"IF(AND(BW$24<=$B$2,$B$2<BX$24,$B$3=$A$9,$B$4=BT23),BW28*$B$2,0)","v":0},{"$f":"IF(AND(BX$24<=$B$2,$B$2<BY$24,$B$3=$A$9,$B$4=BT23),BX28*$B$2,0)","v":0},{"$f":"IF(AND(BY$24<=$B$2,$B$2<BZ$24,$B$3=$A$9,$B$4=BT23),BY28*$B$2,0)","v":0},{"$f":"IF(AND(BZ$24<=$B$2,$B$3=$A$9,$B$4=BT23),BZ28*$B$2,0)","v":0},null,24,0,{"$f":"IF(AND(CD$24<=$B$2,$B$2<CE$24,$B$3=$A$9,$B$4=CB23),CD28*$B$2,0)","v":0},{"$f":"IF(AND(CE$24<=$B$2,$B$2<CF$24,$B$3=$A$9,$B$4=CB23),CE28*$B$2,0)","v":0},{"$f":"IF(AND(CF$24<=$B$2,$B$2<CG$24,$B$3=$A$9,$B$4=CB23),CF28*$B$2,0)","v":0},{"$f":"IF(AND(CG$24<=$B$2,$B$2<CH$24,$B$3=$A$9,$B$4=CB23),CG28*$B$2,0)","v":0},{"$f":"IF(AND(CH$24<=$B$2,$B$3=$A$9,$B$4=CB23),CH28*$B$2,0)","v":0},null,24,0,{"$f":"IF(AND(CL$24<=$B$2,$B$2<CM$24,$B$3=$A$9,$B$4=CJ23),CL28*$B$2,0)","v":0},{"$f":"IF(AND(CM$24<=$B$2,$B$2<CN$24,$B$3=$A$9,$B$4=CJ23),CM28*$B$2,0)","v":0},{"$f":"IF(AND(CN$24<=$B$2,$B$2<CO$24,$B$3=$A$9,$B$4=CJ23),CN28*$B$2,0)","v":0},{"$f":"IF(AND(CO$24<=$B$2,$B$2<CP$24,$B$3=$A$9,$B$4=CJ23),CO28*$B$2,0)","v":0},{"$f":"IF(AND(CP$24<=$B$2,$B$3=$A$9,$B$4=CJ23),CP28*$B$2,0)","v":0},null,24,0,{"$f":"IF(AND(CT$24<=$B$2,$B$2<CU$24,$B$3=$A$9,$B$4=CR23),CT28*$B$2,0)","v":0},{"$f":"IF(AND(CU$24<=$B$2,$B$2<CV$24,$B$3=$A$9,$B$4=CR23),CU28*$B$2,0)","v":0},{"$f":"IF(AND(CV$24<=$B$2,$B$2<CW$24,$B$3=$A$9,$B$4=CR23),CV28*$B$2,0)","v":0},{"$f":"IF(AND(CW$24<=$B$2,$B$2<CX$24,$B$3=$A$9,$B$4=CR23),CW28*$B$2,0)","v":0},{"$f":"IF(AND(CX$24<=$B$2,$B$3=$A$9,$B$4=CR23),CX28*$B$2,0)","v":0}]
[null,"Municipal $1 Buyout Lease - Annual Pmt","Municipal $1 Buyout Lease - Annual Pmt",36,0,{"$f":"IF(AND(F$24<=$B$2,$B$2<G$24,$B$3=$A$10,$B$4=D23),F29*$B$2,0)","v":0},{"$f":"IF(AND(G$24<=$B$2,$B$2<H$24,$B$3=$A$10,$B$4=D23),G29*$B$2,0)","v":0},{"$f":"IF(AND(H$24<=$B$2,$B$2<I$24,$B$3=$A$10,$B$4=D23),H29*$B$2,0)","v":0},{"$f":"IF(AND(I$24<=$B$2,$B$2<J$24,$B$3=$A$10,$B$4=D23),I29*$B$2,0)","v":0},{"$f":"IF(AND(J$24<=$B$2,$B$3=$A$10,$B$4=D23),J29*$B$2,0)","v":0},null,36,0,{"$f":"IF(AND(N$24<=$B$2,$B$2<O$24,$B$3=$A$10,$B$4=L23),N29*$B$2,0)","v":0},{"$f":"IF(AND(O$24<=$B$2,$B$2<P$24,$B$3=$A$10,$B$4=L23),O29*$B$2,0)","v":0},{"$f":"IF(AND(P$24<=$B$2,$B$2<Q$24,$B$3=$A$10,$B$4=L23),P29*$B$2,0)","v":0},{"$f":"IF(AND(Q$24<=$B$2,$B$2<R$24,$B$3=$A$10,$B$4=L23),Q29*$B$2,0)","v":0},{"$f":"IF(AND(R$24<=$B$2,$B$3=$A$10,$B$4=L23),R29*$B$2,0)","v":0},null,36,0,{"$f":"IF(AND(V$24<=$B$2,$B$2<W$24,$B$3=$A$10,$B$4=T23),V29*$B$2,0)","v":0},{"$f":"IF(AND(W$24<=$B$2,$B$2<X$24,$B$3=$A$10,$B$4=T23),W29*$B$2,0)","v":0},{"$f":"IF(AND(X$24<=$B$2,$B$2<Y$24,$B$3=$A$10,$B$4=T23),X29*$B$2,0)","v":0},{"$f":"IF(AND(Y$24<=$B$2,$B$2<Z$24,$B$3=$A$10,$B$4=T23),Y29*$B$2,0)","v":0},{"$f":"IF(AND(Z$24<=$B$2,$B$3=$A$10,$B$4=T23),Z29*$B$2,0)","v":0},null,36,0,{"$f":"IF(AND(AD$24<=$B$2,$B$2<AE$24,$B$3=$A$10,$B$4=AB23),AD29*$B$2,0)","v":0},{"$f":"IF(AND(AE$24<=$B$2,$B$2<AF$24,$B$3=$A$10,$B$4=AB23),AE29*$B$2,0)","v":0},{"$f":"IF(AND(AF$24<=$B$2,$B$2<AG$24,$B$3=$A$10,$B$4=AB23),AF29*$B$2,0)","v":0},{"$f":"IF(AND(AG$24<=$B$2,$B$2<AH$24,$B$3=$A$10,$B$4=AB23),AG29*$B$2,0)","v":0},{"$f":"IF(AND(AH$24<=$B$2,$B$3=$A$10,$B$4=AB23),AH29*$B$2,0)","v":0},null,36,0,{"$f":"IF(AND(AL$24<=$B$2,$B$2<AM$24,$B$3=$A$10,$B$4=AJ23),AL29*$B$2,0)","v":0},{"$f":"IF(AND(AM$24<=$B$2,$B$2<AN$24,$B$3=$A$10,$B$4=AJ23),AM29*$B$2,0)","v":0},{"$f":"IF(AND(AN$24<=$B$2,$B$2<AO$24,$B$3=$A$10,$B$4=AJ23),AN29*$B$2,0)","v":0},{"$f":"IF(AND(AO$24<=$B$2,$B$2<AP$24,$B$3=$A$10,$B$4=AJ23),AO29*$B$2,0)","v":0},{"$f":"IF(AND(AP$24<=$B$2,$B$3=$A$10,$B$4=AJ23),AP29*$B$2,0)","v":0},null,36,0,{"$f":"IF(AND(AT$24<=$B$2,$B$2<AU$24,$B$3=$A$10,$B$4=AR23),AT29*$B$2,0)","v":0},{"$f":"IF(AND(AU$24<=$B$2,$B$2<AV$24,$B$3=$A$10,$B$4=AR23),AU29*$B$2,0)","v":0},{"$f":"IF(AND(AV$24<=$B$2,$B$2<AW$24,$B$3=$A$10,$B$4=AR23),AV29*$B$2,0)","v":0},{"$f":"IF(AND(AW$24<=$B$2,$B$2<AX$24,$B$3=$A$10,$B$4=AR23),AW29*$B$2,0)","v":0},{"$f":"IF(AND(AX$24<=$B$2,$B$3=$A$10,$B$4=AR23),AX29*$B$2,0)","v":0},null,36,0,{"$f":"IF(AND(BB$24<=$B$2,$B$2<BC$24,$B$3=$A$10,$B$4=AZ23),BB29*$B$2,0)","v":0},{"$f":"IF(AND(BC$24<=$B$2,$B$2<BD$24,$B$3=$A$10,$B$4=AZ23),BC29*$B$2,0)","v":0},{"$f":"IF(AND(BD$24<=$B$2,$B$2<BE$24,$B$3=$A$10,$B$4=AZ23),BD29*$B$2,0)","v":0},{"$f":"IF(AND(BE$24<=$B$2,$B$2<BF$24,$B$3=$A$10,$B$4=AZ23),BE29*$B$2,0)","v":0},{"$f":"IF(AND(BF$24<=$B$2,$B$3=$A$10,$B$4=AZ23),BF29*$B$2,0)","v":0},null,36,0,{"$f":"IF(AND(BJ$24<=$B$2,$B$2<BK$24,$B$3=$A$10,$B$4=BH23),BJ29*$B$2,0)","v":0},{"$f":"IF(AND(BK$24<=$B$2,$B$2<BL$24,$B$3=$A$10,$B$4=BH23),BK29*$B$2,0)","v":0},{"$f":"IF(AND(BL$24<=$B$2,$B$2<BM$24,$B$3=$A$10,$B$4=BH23),BL29*$B$2,0)","v":0},{"$f":"IF(AND(BM$24<=$B$2,$B$2<BN$24,$B$3=$A$10,$B$4=BH23),BM29*$B$2,0)","v":0},{"$f":"IF(AND(BN$24<=$B$2,$B$3=$A$10,$B$4=BH23),BN29*$B$2,0)","v":0},null,18,0,{"$f":"IF(AND(BR$3<=$B$2,$B$3=$A$14,$B$4=BP23),BR29*$B$2,0)","v":0},null,36,0,{"$f":"IF(AND(BV$24<=$B$2,$B$2<BW$24,$B$3=$A$10,$B$4=BT23),BV29*$B$2,0)","v":0},{"$f":"IF(AND(BW$24<=$B$2,$B$2<BX$24,$B$3=$A$10,$B$4=BT23),BW29*$B$2,0)","v":0},{"$f":"IF(AND(BX$24<=$B$2,$B$2<BY$24,$B$3=$A$10,$B$4=BT23),BX29*$B$2,0)","v":0},{"$f":"IF(AND(BY$24<=$B$2,$B$2<BZ$24,$B$3=$A$10,$B$4=BT23),BY29*$B$2,0)","v":0},{"$f":"IF(AND(BZ$24<=$B$2,$B$3=$A$10,$B$4=BT23),BZ29*$B$2,0)","v":0},null,36,0,{"$f":"IF(AND(CD$24<=$B$2,$B$2<CE$24,$B$3=$A$10,$B$4=CB23),CD29*$B$2,0)","v":0},{"$f":"IF(AND(CE$24<=$B$2,$B$2<CF$24,$B$3=$A$10,$B$4=CB23),CE29*$B$2,0)","v":0},{"$f":"IF(AND(CF$24<=$B$2,$B$2<CG$24,$B$3=$A$10,$B$4=CB23),CF29*$B$2,0)","v":0},{"$f":"IF(AND(CG$24<=$B$2,$B$2<CH$24,$B$3=$A$10,$B$4=CB23),CG29*$B$2,0)","v":0},{"$f":"IF(AND(CH$24<=$B$2,$B$3=$A$10,$B$4=CB23),CH29*$B$2,0)","v":0},null,36,0,{"$f":"IF(AND(CL$24<=$B$2,$B$2<CM$24,$B$3=$A$10,$B$4=CJ23),CL29*$B$2,0)","v":0},{"$f":"IF(AND(CM$24<=$B$2,$B$2<CN$24,$B$3=$A$10,$B$4=CJ23),CM29*$B$2,0)","v":0},{"$f":"IF(AND(CN$24<=$B$2,$B$2<CO$24,$B$3=$A$10,$B$4=CJ23),CN29*$B$2,0)","v":0},{"$f":"IF(AND(CO$24<=$B$2,$B$2<CP$24,$B$3=$A$10,$B$4=CJ23),CO29*$B$2,0)","v":0},{"$f":"IF(AND(CP$24<=$B$2,$B$3=$A$10,$B$4=CJ23),CP29*$B$2,0)","v":0},null,36,0,{"$f":"IF(AND(CT$24<=$B$2,$B$2<CU$24,$B$3=$A$10,$B$4=CR23),CT29*$B$2,0)","v":0},{"$f":"IF(AND(CU$24<=$B$2,$B$2<CV$24,$B$3=$A$10,$B$4=CR23),CU29*$B$2,0)","v":0},{"$f":"IF(AND(CV$24<=$B$2,$B$2<CW$24,$B$3=$A$10,$B$4=CR23),CV29*$B$2,0)","v":0},{"$f":"IF(AND(CW$24<=$B$2,$B$2<CX$24,$B$3=$A$10,$B$4=CR23),CW29*$B$2,0)","v":0},{"$f":"IF(AND(CX$24<=$B$2,$B$3=$A$10,$B$4=CR23),CX29*$B$2,0)","v":0}]
[null,null,null,48,0,{"$f":"IF(AND(F$24<=$B$2,$B$2<G$24,$B$3=$A$11,$B$4=D23),F30*$B$2,0)","v":0},{"$f":"IF(AND(G$24<=$B$2,$B$2<H$24,$B$3=$A$11,$B$4=D23),G30*$B$2,0)","v":0},{"$f":"IF(AND(H$24<=$B$2,$B$2<I$24,$B$3=$A$11,$B$4=D23),H30*$B$2,0)","v":0},{"$f":"IF(AND(I$24<=$B$2,$B$2<J$24,$B$3=$A$11,$B$4=D23),I30*$B$2,0)","v":0},{"$f":"IF(AND(J$24<=$B$2,$B$3=$A$11,$B$4=D23),J30*$B$2,0)","v":0},null,48,0,{"$f":"IF(AND(N$24<=$B$2,$B$2<O$24,$B$3=$A$11,$B$4=L23),N30*$B$2,0)","v":0},{"$f":"IF(AND(O$24<=$B$2,$B$2<P$24,$B$3=$A$11,$B$4=L23),O30*$B$2,0)","v":0},{"$f":"IF(AND(P$24<=$B$2,$B$2<Q$24,$B$3=$A$11,$B$4=L23),P30*$B$2,0)","v":0},{"$f":"IF(AND(Q$24<=$B$2,$B$2<R$24,$B$3=$A$11,$B$4=L23),Q30*$B$2,0)","v":0},{"$f":"IF(AND(R$24<=$B$2,$B$3=$A$11,$B$4=L23),R30*$B$2,0)","v":0},null,48,0,{"$f":"IF(AND(V$24<=$B$2,$B$2<W$24,$B$3=$A$11,$B$4=T23),V30*$B$2,0)","v":0},{"$f":"IF(AND(W$24<=$B$2,$B$2<X$24,$B$3=$A$11,$B$4=T23),W30*$B$2,0)","v":0},{"$f":"IF(AND(X$24<=$B$2,$B$2<Y$24,$B$3=$A$11,$B$4=T23),X30*$B$2,0)","v":0},{"$f":"IF(AND(Y$24<=$B$2,$B$2<Z$24,$B$3=$A$11,$B$4=T23),Y30*$B$2,0)","v":0},{"$f":"IF(AND(Z$24<=$B$2,$B$3=$A$11,$B$4=T23),Z30*$B$2,0)","v":0},null,48,0,{"$f":"IF(AND(AD$24<=$B$2,$B$2<AE$24,$B$3=$A$11,$B$4=AB23),AD30*$B$2,0)","v":0},{"$f":"IF(AND(AE$24<=$B$2,$B$2<AF$24,$B$3=$A$11,$B$4=AB23),AE30*$B$2,0)","v":0},{"$f":"IF(AND(AF$24<=$B$2,$B$2<AG$24,$B$3=$A$11,$B$4=AB23),AF30*$B$2,0)","v":0},{"$f":"IF(AND(AG$24<=$B$2,$B$2<AH$24,$B$3=$A$11,$B$4=AB23),AG30*$B$2,0)","v":0},{"$f":"IF(AND(AH$24<=$B$2,$B$3=$A$11,$B$4=AB23),AH30*$B$2,0)","v":0},null,48,0,{"$f":"IF(AND(AL$24<=$B$2,$B$2<AM$24,$B$3=$A$11,$B$4=AJ23),AL30*$B$2,0)","v":0},{"$f":"IF(AND(AM$24<=$B$2,$B$2<AN$24,$B$3=$A$11,$B$4=AJ23),AM30*$B$2,0)","v":0},{"$f":"IF(AND(AN$24<=$B$2,$B$2<AO$24,$B$3=$A$11,$B$4=AJ23),AN30*$B$2,0)","v":0},{"$f":"IF(AND(AO$24<=$B$2,$B$2<AP$24,$B$3=$A$11,$B$4=AJ23),AO30*$B$2,0)","v":0},{"$f":"IF(AND(AP$24<=$B$2,$B$3=$A$11,$B$4=AJ23),AP30*$B$2,0)","v":0},null,48,0,{"$f":"IF(AND(AT$24<=$B$2,$B$2<AU$24,$B$3=$A$11,$B$4=AR23),AT30*$B$2,0)","v":0},{"$f":"IF(AND(AU$24<=$B$2,$B$2<AV$24,$B$3=$A$11,$B$4=AR23),AU30*$B$2,0)","v":0},{"$f":"IF(AND(AV$24<=$B$2,$B$2<AW$24,$B$3=$A$11,$B$4=AR23),AV30*$B$2,0)","v":0},{"$f":"IF(AND(AW$24<=$B$2,$B$2<AX$24,$B$3=$A$11,$B$4=AR23),AW30*$B$2,0)","v":0},{"$f":"IF(AND(AX$24<=$B$2,$B$3=$A$11,$B$4=AR23),AX30*$B$2,0)","v":0},null,48,0,{"$f":"IF(AND(BB$24<=$B$2,$B$2<BC$24,$B$3=$A$11,$B$4=AZ23),BB30*$B$2,0)","v":0},{"$f":"IF(AND(BC$24<=$B$2,$B$2<BD$24,$B$3=$A$11,$B$4=AZ23),BC30*$B$2,0)","v":0},{"$f":"IF(AND(BD$24<=$B$2,$B$2<BE$24,$B$3=$A$11,$B$4=AZ23),BD30*$B$2,0)","v":0},{"$f":"IF(AND(BE$24<=$B$2,$B$2<BF$24,$B$3=$A$11,$B$4=AZ23),BE30*$B$2,0)","v":0},{"$f":"IF(AND(BF$24<=$B$2,$B$3=$A$11,$B$4=AZ23),BF30*$B$2,0)","v":0},null,48,0,{"$f":"IF(AND(BJ$24<=$B$2,$B$2<BK$24,$B$3=$A$11,$B$4=BH23),BJ30*$B$2,0)","v":0},{"$f":"IF(AND(BK$24<=$B$2,$B$2<BL$24,$B$3=$A$11,$B$4=BH23),BK30*$B$2,0)","v":0},{"$f":"IF(AND(BL$24<=$B$2,$B$2<BM$24,$B$3=$A$11,$B$4=BH23),BL30*$B$2,0)","v":0},{"$f":"IF(AND(BM$24<=$B$2,$B$2<BN$24,$B$3=$A$11,$B$4=BH23),BM30*$B$2,0)","v":0},{"$f":"IF(AND(BN$24<=$B$2,$B$3=$A$11,$B$4=BH23),BN30*$B$2,0)","v":0},null,null,null,null,null,48,0,{"$f":"IF(AND(BV$24<=$B$2,$B$2<BW$24,$B$3=$A$11,$B$4=BT23),BV30*$B$2,0)","v":0},{"$f":"IF(AND(BW$24<=$B$2,$B$2<BX$24,$B$3=$A$11,$B$4=BT23),BW30*$B$2,0)","v":0},{"$f":"IF(AND(BX$24<=$B$2,$B$2<BY$24,$B$3=$A$11,$B$4=BT23),BX30*$B$2,0)","v":0},{"$f":"IF(AND(BY$24<=$B$2,$B$2<BZ$24,$B$3=$A$11,$B$4=BT23),BY30*$B$2,0)","v":0},{"$f":"IF(AND(BZ$24<=$B$2,$B$3=$A$11,$B$4=BT23),BZ30*$B$2,0)","v":0},null,48,0,{"$f":"IF(AND(CD$24<=$B$2,$B$2<CE$24,$B$3=$A$11,$B$4=CB23),CD30*$B$2,0)","v":0},{"$f":"IF(AND(CE$24<=$B$2,$B$2<CF$24,$B$3=$A$11,$B$4=CB23),CE30*$B$2,0)","v":0},{"$f":"IF(AND(CF$24<=$B$2,$B$2<CG$24,$B$3=$A$11,$B$4=CB23),CF30*$B$2,0)","v":0},{"$f":"IF(AND(CG$24<=$B$2,$B$2<CH$24,$B$3=$A$11,$B$4=CB23),CG30*$B$2,0)","v":0},{"$f":"IF(AND(CH$24<=$B$2,$B$3=$A$11,$B$4=CB23),CH30*$B$2,0)","v":0},null,48,0,{"$f":"IF(AND(CL$24<=$B$2,$B$2<CM$24,$B$3=$A$11,$B$4=CJ23),CL30*$B$2,0)","v":0},{"$f":"IF(AND(CM$24<=$B$2,$B$2<CN$24,$B$3=$A$11,$B$4=CJ23),CM30*$B$2,0)","v":0},{"$f":"IF(AND(CN$24<=$B$2,$B$2<CO$24,$B$3=$A$11,$B$4=CJ23),CN30*$B$2,0)","v":0},{"$f":"IF(AND(CO$24<=$B$2,$B$2<CP$24,$B$3=$A$11,$B$4=CJ23),CO30*$B$2,0)","v":0},{"$f":"IF(AND(CP$24<=$B$2,$B$3=$A$11,$B$4=CJ23),CP30*$B$2,0)","v":0},null,48,0,{"$f":"IF(AND(CT$24<=$B$2,$B$2<CU$24,$B$3=$A$11,$B$4=CR23),CT30*$B$2,0)","v":0},{"$f":"IF(AND(CU$24<=$B$2,$B$2<CV$24,$B$3=$A$11,$B$4=CR23),CU30*$B$2,0)","v":0},{"$f":"IF(AND(CV$24<=$B$2,$B$2<CW$24,$B$3=$A$11,$B$4=CR23),CV30*$B$2,0)","v":0},{"$f":"IF(AND(CW$24<=$B$2,$B$2<CX$24,$B$3=$A$11,$B$4=CR23),CW30*$B$2,0)","v":0},{"$f":"IF(AND(CX$24<=$B$2,$B$3=$A$11,$B$4=CR23),CX30*$B$2,0)","v":0}]
["Change this Quarter when have new rates.",null,null,60,0,{"$f":"IF(AND(F$24<=$B$2,$B$2<G$24,$B$3=$A$12,$B$4=D23),F31*$B$2,0)","v":0},{"$f":"IF(AND(G$24<=$B$2,$B$2<H$24,$B$3=$A$12,$B$4=D23),G31*$B$2,0)","v":0},{"$f":"IF(AND(H$24<=$B$2,$B$2<I$24,$B$3=$A$12,$B$4=D23),H31*$B$2,0)","v":0},{"$f":"IF(AND(I$24<=$B$2,$B$2<J$24,$B$3=$A$12,$B$4=D23),I31*$B$2,0)","v":0},{"$f":"IF(AND(J$24<=$B$2,$B$3=$A$12,$B$4=D23),J31*$B$2,0)","v":0},null,60,0,{"$f":"IF(AND(N$24<=$B$2,$B$2<O$24,$B$3=$A$12,$B$4=L23),N31*$B$2,0)","v":0},{"$f":"IF(AND(O$24<=$B$2,$B$2<P$24,$B$3=$A$12,$B$4=L23),O31*$B$2,0)","v":0},{"$f":"IF(AND(P$24<=$B$2,$B$2<Q$24,$B$3=$A$12,$B$4=L23),P31*$B$2,0)","v":0},{"$f":"IF(AND(Q$24<=$B$2,$B$2<R$24,$B$3=$A$12,$B$4=L23),Q31*$B$2,0)","v":0},{"$f":"IF(AND(R$24<=$B$2,$B$3=$A$12,$B$4=L23),R31*$B$2,0)","v":0},null,60,0,{"$f":"IF(AND(V$24<=$B$2,$B$2<W$24,$B$3=$A$12,$B$4=T23),V31*$B$2,0)","v":0},{"$f":"IF(AND(W$24<=$B$2,$B$2<X$24,$B$3=$A$12,$B$4=T23),W31*$B$2,0)","v":0},{"$f":"IF(AND(X$24<=$B$2,$B$2<Y$24,$B$3=$A$12,$B$4=T23),X31*$B$2,0)","v":0},{"$f":"IF(AND(Y$24<=$B$2,$B$2<Z$24,$B$3=$A$12,$B$4=T23),Y31*$B$2,0)","v":0},{"$f":"IF(AND(Z$24<=$B$2,$B$3=$A$12,$B$4=T23),Z31*$B$2,0)","v":0},null,60,0,{"$f":"IF(AND(AD$24<=$B$2,$B$2<AE$24,$B$3=$A$12,$B$4=AB23),AD31*$B$2,0)","v":0},{"$f":"IF(AND(AE$24<=$B$2,$B$2<AF$24,$B$3=$A$12,$B$4=AB23),AE31*$B$2,0)","v":0},{"$f":"IF(AND(AF$24<=$B$2,$B$2<AG$24,$B$3=$A$12,$B$4=AB23),AF31*$B$2,0)","v":0},{"$f":"IF(AND(AG$24<=$B$2,$B$2<AH$24,$B$3=$A$12,$B$4=AB23),AG31*$B$2,0)","v":0},{"$f":"IF(AND(AH$24<=$B$2,$B$3=$A$12,$B$4=AB23),AH31*$B$2,0)","v":0},null,60,0,{"$f":"IF(AND(AL$24<=$B$2,$B$2<AM$24,$B$3=$A$12,$B$4=AJ23),AL31*$B$2,0)","v":0},{"$f":"IF(AND(AM$24<=$B$2,$B$2<AN$24,$B$3=$A$12,$B$4=AJ23),AM31*$B$2,0)","v":0},{"$f":"IF(AND(AN$24<=$B$2,$B$2<AO$24,$B$3=$A$12,$B$4=AJ23),AN31*$B$2,0)","v":0},{"$f":"IF(AND(AO$24<=$B$2,$B$2<AP$24,$B$3=$A$12,$B$4=AJ23),AO31*$B$2,0)","v":0},{"$f":"IF(AND(AP$24<=$B$2,$B$3=$A$12,$B$4=AJ23),AP31*$B$2,0)","v":0},null,60,0,{"$f":"IF(AND(AT$24<=$B$2,$B$2<AU$24,$B$3=$A$12,$B$4=AR23),AT31*$B$2,0)","v":0},{"$f":"IF(AND(AU$24<=$B$2,$B$2<AV$24,$B$3=$A$12,$B$4=AR23),AU31*$B$2,0)","v":0},{"$f":"IF(AND(AV$24<=$B$2,$B$2<AW$24,$B$3=$A$12,$B$4=AR23),AV31*$B$2,0)","v":0},{"$f":"IF(AND(AW$24<=$B$2,$B$2<AX$24,$B$3=$A$12,$B$4=AR23),AW31*$B$2,0)","v":0},{"$f":"IF(AND(AX$24<=$B$2,$B$3=$A$12,$B$4=AR23),AX31*$B$2,0)","v":0},null,60,0,{"$f":"IF(AND(BB$24<=$B$2,$B$2<BC$24,$B$3=$A$12,$B$4=AZ23),BB31*$B$2,0)","v":0},{"$f":"IF(AND(BC$24<=$B$2,$B$2<BD$24,$B$3=$A$12,$B$4=AZ23),BC31*$B$2,0)","v":0},{"$f":"IF(AND(BD$24<=$B$2,$B$2<BE$24,$B$3=$A$12,$B$4=AZ23),BD31*$B$2,0)","v":0},{"$f":"IF(AND(BE$24<=$B$2,$B$2<BF$24,$B$3=$A$12,$B$4=AZ23),BE31*$B$2,0)","v":0},{"$f":"IF(AND(BF$24<=$B$2,$B$3=$A$12,$B$4=AZ23),BF31*$B$2,0)","v":0},null,60,0,{"$f":"IF(AND(BJ$24<=$B$2,$B$2<BK$24,$B$3=$A$12,$B$4=BH23),BJ31*$B$2,0)","v":0},{"$f":"IF(AND(BK$24<=$B$2,$B$2<BL$24,$B$3=$A$12,$B$4=BH23),BK31*$B$2,0)","v":0},{"$f":"IF(AND(BL$24<=$B$2,$B$2<BM$24,$B$3=$A$12,$B$4=BH23),BL31*$B$2,0)","v":0},{"$f":"IF(AND(BM$24<=$B$2,$B$2<BN$24,$B$3=$A$12,$B$4=BH23),BM31*$B$2,0)","v":0},{"$f":"IF(AND(BN$24<=$B$2,$B$3=$A$12,$B$4=BH23),BN31*$B$2,0)","v":0},null,null,null,null,null,60,0,{"$f":"IF(AND(BV$24<=$B$2,$B$2<BW$24,$B$3=$A$12,$B$4=BT23),BV31*$B$2,0)","v":0},{"$f":"IF(AND(BW$24<=$B$2,$B$2<BX$24,$B$3=$A$12,$B$4=BT23),BW31*$B$2,0)","v":0},{"$f":"IF(AND(BX$24<=$B$2,$B$2<BY$24,$B$3=$A$12,$B$4=BT23),BX31*$B$2,0)","v":0},{"$f":"IF(AND(BY$24<=$B$2,$B$2<BZ$24,$B$3=$A$12,$B$4=BT23),BY31*$B$2,0)","v":0},{"$f":"IF(AND(BZ$24<=$B$2,$B$3=$A$12,$B$4=BT23),BZ31*$B$2,0)","v":0},null,60,0,{"$f":"IF(AND(CD$24<=$B$2,$B$2<CE$24,$B$3=$A$12,$B$4=CB23),CD31*$B$2,0)","v":0},{"$f":"IF(AND(CE$24<=$B$2,$B$2<CF$24,$B$3=$A$12,$B$4=CB23),CE31*$B$2,0)","v":0},{"$f":"IF(AND(CF$24<=$B$2,$B$2<CG$24,$B$3=$A$12,$B$4=CB23),CF31*$B$2,0)","v":0},{"$f":"IF(AND(CG$24<=$B$2,$B$2<CH$24,$B$3=$A$12,$B$4=CB23),CG31*$B$2,0)","v":0},{"$f":"IF(AND(CH$24<=$B$2,$B$3=$A$12,$B$4=CB23),CH31*$B$2,0)","v":0},null,60,0,{"$f":"IF(AND(CL$24<=$B$2,$B$2<CM$24,$B$3=$A$12,$B$4=CJ23),CL31*$B$2,0)","v":0},{"$f":"IF(AND(CM$24<=$B$2,$B$2<CN$24,$B$3=$A$12,$B$4=CJ23),CM31*$B$2,0)","v":0},{"$f":"IF(AND(CN$24<=$B$2,$B$2<CO$24,$B$3=$A$12,$B$4=CJ23),CN31*$B$2,0)","v":0},{"$f":"IF(AND(CO$24<=$B$2,$B$2<CP$24,$B$3=$A$12,$B$4=CJ23),CO31*$B$2,0)","v":0},{"$f":"IF(AND(CP$24<=$B$2,$B$3=$A$12,$B$4=CJ23),CP31*$B$2,0)","v":0},null,60,0,{"$f":"IF(AND(CT$24<=$B$2,$B$2<CU$24,$B$3=$A$12,$B$4=CR23),CT31*$B$2,0)","v":0},{"$f":"IF(AND(CU$24<=$B$2,$B$2<CV$24,$B$3=$A$12,$B$4=CR23),CU31*$B$2,0)","v":0},{"$f":"IF(AND(CV$24<=$B$2,$B$2<CW$24,$B$3=$A$12,$B$4=CR23),CV31*$B$2,0)","v":0},{"$f":"IF(AND(CW$24<=$B$2,$B$2<CX$24,$B$3=$A$12,$B$4=CR23),CW31*$B$2,0)","v":0},{"$f":"IF(AND(CX$24<=$B$2,$B$3=$A$12,$B$4=CR23),CX31*$B$2,0)","v":0}]
["Rates 2025 - Rev. 5/6/2025",null,null,{"$f":"SUM(F38:CX38)","v":0},null,{"$f":"SUM(F33:F37)","v":0},{"$f":"SUM(G33:G37)","v":0},{"$f":"SUM(H33:H37)","v":0},{"$f":"SUM(I33:I37)","v":0},{"$f":"SUM(J33:J37)","v":0},null,null,null,{"$f":"SUM(N33:N37)","v":0},{"$f":"SUM(O33:O37)","v":0},{"$f":"SUM(P33:P37)","v":0},{"$f":"SUM(Q33:Q37)","v":0},{"$f":"SUM(R33:R37)","v":0},null,null,null,{"$f":"SUM(V33:V37)","v":0},{"$f":"SUM(W33:W37)","v":0},{"$f":"SUM(X33:X37)","v":0},{"$f":"SUM(Y33:Y37)","v":0},{"$f":"SUM(Z33:Z37)","v":0},null,null,null,{"$f":"SUM(AD33:AD37)","v":0},{"$f":"SUM(AE33:AE37)","v":0},{"$f":"SUM(AF33:AF37)","v":0},{"$f":"SUM(AG33:AG37)","v":0},{"$f":"SUM(AH33:AH37)","v":0},null,null,null,{"$f":"SUM(AL33:AL37)","v":0},{"$f":"SUM(AM33:AM37)","v":0},{"$f":"SUM(AN33:AN37)","v":0},{"$f":"SUM(AO33:AO37)","v":0},{"$f":"SUM(AP33:AP37)","v":0},null,null,null,{"$f":"SUM(AT33:AT37)","v":0},{"$f":"SUM(AU33:AU37)","v":0},{"$f":"SUM(AV33:AV37)","v":0},{"$f":"SUM(AW33:AW37)","v":0},{"$f":"SUM(AX33:AX37)","v":0},null,null,null,{"$f":"SUM(BB33:BB37)","v":0},{"$f":"SUM(BC33:BC37)","v":0},{"$f":"SUM(BD33:BD37)","v":0},{"$f":"SUM(BE33:BE37)","v":0},{"$f":"SUM(BF33:BF37)","v":0},null,null,null,{"$f":"SUM(BJ33:BJ37)","v":0},{"$f":"SUM(BK33:BK37)","v":0},{"$f":"SUM(BL33:BL37)","v":0},{"$f":"SUM(BM33:BM37)","v":0},{"$f":"SUM(BN33:BN37)","v":0},null,null,null,{"$f":"SUM(BR33:BR37)","v":0},null,null,null,{"$f":"SUM(BV33:BV37)","v":0},{"$f":"SUM(BW33:BW37)","v":0},{"$f":"SUM(BX33:BX37)","v":0},{"$f":"SUM(BY33:BY37)","v":0},{"$f":"SUM(BZ33:BZ37)","v":0},null,null,null,{"$f":"SUM(CD33:CD37)","v":0},{"$f":"SUM(CE33:CE37)","v":0},{"$f":"SUM(CF33:CF37)","v":0},{"$f":"SUM(CG33:CG37)","v":0},{"$f":"SUM(CH33:CH37)","v":0},null,null,null,{"$f":"SUM(CL33:CL37)","v":0},{"$f":"SUM(CM33:CM37)","v":0},{"$f":"SUM(CN33:CN37)","v":0},{"$f":"SUM(CO33:CO37)","v":0},{"$f":"SUM(CP33:CP37)","v":0},null,null,null,{"$f":"SUM(CT33:CT37)","v":0},{"$f":"SUM(CU33:CU37)","v":0},{"$f":"SUM(CV33:CV37)","v":0},{"$f":"SUM(CW33:CW37)","v":0},{"$f":"SUM(CX33:CX37)","v":0}]
["“Blank Payment Amounts Indicate The Financing Option Or Purchase Options Selected Are Not "]
["Applicable Or The Machine Total Is Below The Minimum Amount For The Selected Vendor”"]
["\"Quoted monthly payments are estimates only and are based on a certain level of credit rating.",null,null,{"$f":"C10","v":"First Western Equipment Finance"},null,"2024-01-30"]
["Actual monthly payments may be higher depending on your credit rating.\"",null,"PurchaseOptAllLines",{"$f":"C45","v":0},null,null,null,null,null,null,null,{"$f":"C46","v":0},null,null,null,null,null,null,null,{"$f":"C47","v":"FWEF:  60-days no pmt"},null,null,null,null,null,null,null,{"$f":"C48","v":"FWEF:  Municipal Lease"},null,null,null,null,null,null,null,{"$f":"C49","v":"FWEF:  $1 Buyout Lease"},null,null,null,null,null,null,null,{"$f":"C50","v":"FWEF:  Fair Market Value Lease"},null,null,null,null,null,null,null,{"$f":"C51","v":"FWEF:  Short-term / Rent-to-own"},null,null,null,null,null,null,null,{"$f":"B15","v":"Municipal $1 Buyout Lease - Annual Pmt"},null,null,null,null,null,null,null,{"$f":"B16","v":"Rent To Own"},null,null,null,{"$f":"B17","v":0},null,null,null,null,null,null,null,{"$f":"B18","v":"$1 Buyout Lease - 90 days no pmt"},null,null,null,null,null,null,null,{"$f":"B19","v":"Fair Market Value Sweeper Lease - 90 days no pmt"},null,null,null,null,null,null,null,{"$f":"B20","v":"Fair Market Value Scrubber Lease - 90 days no pmt"}]
["“Financing rates do not include Pre-Paid Service”",null,"PurchaseOpt - AllLines",null,null,1000,3500,5001,10000,10000,null,null,null,2000,5001,10000,10000,10000,null,null,null,2000,5001,10000,10000,10000,null,null,null,3500,10000,25000,50000,150000,null,null,null,3500,10000,25000,25000,25000,null,null,null,3500,10000,25000,25000,25000,null,null,null,2500,null,null,null,null,null,null,null,1000,2001,5001,null,10001,null,null,null,1,null,null,null,1000,2001,5001,null,10001,null,null,null,1000,2001,5001,null,10001,null,null,null,1000,2001,5001,null,10001,null,null,null,1000,2001,5001,null,10001]
[null,null,"None",null,null,"to","to","to",null,"to",null,null,null,"to","to",null,null,"to",null,null,null,"to","to",null,null,"to",null,null,null,"to","to","to","to","to",null,null,null,"to","to",null,null,"to",null,null,null,"to","to",null,null,"to",null,null,null,"to",null,null,null,null,null,null,null,"to","to","to",null,"to",null,null,null,"to",null,null,null,"to","to","to",null,"to",null,null,null,"to","to","to",null,"to",null,null,null,"to","to","to",null,"to",null,null,null,"to","to","to",null,"to"]
[null,null,null,"Term","Adv",3499,5000,9999,null,null,null,"Term","Adv",5000,9999,null,null,null,null,"Term","Adv",5000,9999,null,null,null,null,"Term","Adv",9999,24999,49999,149999,null,null,"Term","Adv",9999,24999,null,null,null,null,"Term","Adv",9999,24999,null,null,null,null,"Term","Adv",null,null,null,null,null,null,"Term","Adv",2000,5000,10000,null,null,null,"Term","Adv",null,null,"Term","Adv",2000,5000,10000,null,null,null,"Term","Adv",2000,5000,10000,null,null,null,"Term","Adv",2000,5000,10000,null,null,null,"Term","Adv",2000,5000,10000]
["PurchaseOptALL","PurchaseOptALLAMR",null,12,null,null,null,null,null,null,null,12,null,null,null,null,null,null,null,12,0,null,null,null,null,null,null,12,0,null,null,null,null,null,null,12,0,null,null,null,null,null,null,12,0,null,null,null,null,null,null,9,1,null,null,null,null,null,null,12,0,null,null,null,null,null,null,9,0,null,null,12,0,null,null,null,null,null,null,12,0,null,null,null,null,null,null,12,0,null,null,null,null,null,null,12,0]
["None","None","FWEF:  60-days no pmt",24,1,5.578421410962605E-2,4.8099999999999997E-2,4.8099999999999997E-2,null,4.6820000000000001E-2,null,24,1,4.5629999999999997E-2,4.5629999999999997E-2,null,null,4.4260000000000001E-2,null,24,0,null,null,null,null,null,null,24,1,4.5969999999999997E-2,4.5969999999999997E-2,4.5659999999999999E-2,4.5339999999999998E-2,4.514E-2,null,24,1,4.6820000000000001E-2,4.6399999999999997E-2,null,null,4.5969999999999997E-2,null,24,1,3.7690000000000001E-2,3.7170000000000002E-2,null,null,3.6650000000000002E-2,null,12,1,8.9289999999999994E-2,null,null,null,null,null,24,0,null,null,null,null,null,null,12,0,null,null,24,0,null,null,null,null,null,null,24,0,null,null,null,null,null,null,24,0,null,null,null,null,null,null,24,0]
["$1 Buyout Lease","$1 Buyout Lease","FWEF:  Municipal Lease",30,1,null,3.9899999999999998E-2,3.9899999999999998E-2,null,3.8580000000000003E-2,null,30,1,3.7999999999999999E-2,3.7999999999999999E-2,null,null,3.6600000000000001E-2,null,30,1,4.0910000000000002E-2,4.0910000000000002E-2,null,null,3.9940000000000003E-2,null,30,1,3.771E-2,3.771E-2,3.739E-2,3.7069999999999999E-2,3.6859999999999997E-2,null,30,0,null,null,null,null,null,null,30,0,null,null,null,null,null,null,18,1,6.1420000000000002E-2,null,null,null,null,null,30,0,null,null,null,null,null,null,18,0,null,null,30,0,null,null,null,null,null,null,30,0,null,null,null,null,null,null,30,0,null,null,null,null,null,null,30,0]
["Fair Market Value Sweeper Lease","$1 Buyout Lease - 90 days no pmt","FWEF:  $1 Buyout Lease",36,1,null,3.4470000000000001E-2,3.4470000000000001E-2,null,3.3110000000000001E-2,null,36,1,3.295E-2,3.295E-2,null,null,3.1510000000000003E-2,null,36,0,null,null,null,null,null,null,36,1,3.2219999999999999E-2,3.2219999999999999E-2,3.1890000000000002E-2,3.1559999999999998E-2,3.1350000000000003E-2,null,36,1,3.3110000000000001E-2,3.2660000000000002E-2,null,null,3.2219999999999999E-2,null,36,1,2.9000000000000001E-2,2.8490000000000001E-2,null,null,2.7980000000000001E-2,null,24,1,null,null,null,null,null,null,36,0,null,null,null,null,null,null,null,null,null,null,36,0,null,null,null,null,null,null,36,0,null,null,null,null,null,null,36,0,null,null,null,null,null,null,36,0]
["Fair Market Value Scrubber Lease","Municipal $1 Buyout Lease - Monthly Pmt","FWEF:  Fair Market Value Lease",48,1,null,2.7730000000000001E-2,2.7730000000000001E-2,null,2.631E-2,null,48,null,null,null,null,null,null,null,48,0,null,null,null,null,null,null,48,1,2.538E-2,2.538E-2,2.504E-2,2.47E-2,2.4469999999999999E-2,null,48,1,2.631E-2,2.5839999999999998E-2,null,null,2.538E-2,null,48,1,2.4709999999999999E-2,2.4209999999999999E-2,null,null,2.3709999999999998E-2,null,null,null,null,null,null,null,null,null,48,0,null,null,null,null,null,null,null,null,null,null,48,0,null,null,null,null,null,null,48,0,null,null,null,null,null,null,48,0,null,null,null,null,null,null,48,0]
["Fair Market Value Robotic Lease","Municipal $1 Buyout Lease - Annual Pmt","FWEF:  Short-term / Rent-to-own",60,null,null,2.375E-2,2.375E-2,null,2.2270000000000002E-2,null,60,null,null,null,null,null,null,null,60,0,null,null,null,null,null,null,60,1,2.1309999999999999E-2,2.1309999999999999E-2,2.095E-2,2.06E-2,2.0369999999999999E-2,null,60,0,2.2270000000000002E-2,2.1780000000000001E-2,null,null,2.1309999999999999E-2,null,60,1,2.1669999999999998E-2,2.1170000000000001E-2,null,null,2.068E-2,null,null,null,null,null,null,null,null,null,60,0,null,null,null,null,null,null,null,null,null,null,60,0,null,null,null,null,null,null,48,0,null,null,null,null,null,null,60,0,null,null,null,null,null,null,60,0]
["$1 Buyout Lease - 90 days no pmt","FWEF:  60-days no pmt"]
["Fair Market Value Sweeper Lease - 90 days no pmt","FWEF:  Municipal Lease",null,12,0,{"$f":"IF(AND(F$43<=$B$2,$B$2<G$43,$B$3=$A$8,$B$4=D42),F46*$B$2,0)","v":0},{"$f":"IF(AND(G$43<=$B$2,$B$2<H$43,$B$3=$A$8,$B$4=D42),G46*$B$2,0)","v":0},{"$f":"IF(AND(H$43<=$B$2,$B$2<I$43,$B$3=$A$8,$B$4=D42),H46*$B$2,0)","v":0},{"$f":"IF(AND(I$43<=$B$2,$B$2<J$43,$B$3=$A$8,$B$4=D42),I46*$B$2,0)","v":0},{"$f":"IF(AND(J$43<=$B$2,$B$3=$A$8,$B$4=D42),J46*$B$2,0)","v":0},null,12,0,{"$f":"IF(AND(N$43<=$B$2,$B$2<O$43,$B$3=$A$8,$B$4=L42),N46*$B$2,0)","v":0},{"$f":"IF(AND(O$43<=$B$2,$B$2<P$43,$B$3=$A$8,$B$4=L42),O46*$B$2,0)","v":0},{"$f":"IF(AND(P$43<=$B$2,$B$2<Q$43,$B$3=$A$8,$B$4=L42),P46*$B$2,0)","v":0},{"$f":"IF(AND(Q$43<=$B$2,$B$2<R$43,$B$3=$A$8,$B$4=L42),Q46*$B$2,0)","v":0},{"$f":"IF(AND(R$43<=$B$2,$B$3=$A$8,$B$4=L42),R46*$B$2,0)","v":0},null,12,0,{"$f":"IF(AND(V$43<=$B$2,$B$2<W$43,$B$3=$A$8,$B$4=T42),V46*$B$2,0)","v":0},{"$f":"IF(AND(W$43<=$B$2,$B$2<X$43,$B$3=$A$8,$B$4=T42),W46*$B$2,0)","v":0},{"$f":"IF(AND(X$43<=$B$2,$B$2<Y$43,$B$3=$A$8,$B$4=T42),X46*$B$2,0)","v":0},{"$f":"IF(AND(Y$43<=$B$2,$B$2<Z$43,$B$3=$A$8,$B$4=T42),Y46*$B$2,0)","v":0},{"$f":"IF(AND(Z$43<=$B$2,$B$3=$A$8,$B$4=T42),Z46*$B$2,0)","v":0},null,12,0,{"$f":"IF(AND(AD$43<=$B$2,$B$2<AE$43,$B$3=$A$8,$B$4=AB42),AD46*$B$2,0)","v":0},{"$f":"IF(AND(AE$43<=$B$2,$B$2<AF$43,$B$3=$A$8,$B$4=AB42),AE46*$B$2,0)","v":0},{"$f":"IF(AND(AF$43<=$B$2,$B$2<AG$43,$B$3=$A$8,$B$4=AB42),AF46*$B$2,0)","v":0},{"$f":"IF(AND(AG$43<=$B$2,$B$2<AH$43,$B$3=$A$8,$B$4=AB42),AG46*$B$2,0)","v":0},{"$f":"IF(AND(AH$43<=$B$2,$B$3=$A$8,$B$4=AB42),AH46*$B$2,0)","v":0},null,12,0,{"$f":"IF(AND(AL$43<=$B$2,$B$2<AM$43,$B$3=$A$8,$B$4=AJ42),AL46*$B$2,0)","v":0},{"$f":"IF(AND(AM$43<=$B$2,$B$2<AN$43,$B$3=$A$8,$B$4=AJ42),AM46*$B$2,0)","v":0},{"$f":"IF(AND(AN$43<=$B$2,$B$2<AO$43,$B$3=$A$8,$B$4=AJ42),AN46*$B$2,0)","v":0},{"$f":"IF(AND(AO$43<=$B$2,$B$2<AP$43,$B$3=$A$8,$B$4=AJ42),AO46*$B$2,0)","v":0},{"$f":"IF(AND(AP$43<=$B$2,$B$3=$A$8,$B$4=AJ42),AP46*$B$2,0)","v":0},null,12,0,{"$f":"IF(AND(AT$43<=$B$2,$B$2<AU$43,$B$3=$A$8,$B$4=AR42),AT46*$B$2,0)","v":0},{"$f":"IF(AND(AU$43<=$B$2,$B$2<AV$43,$B$3=$A$8,$B$4=AR42),AU46*$B$2,0)","v":0},{"$f":"IF(AND(AV$43<=$B$2,$B$2<AW$43,$B$3=$A$8,$B$4=AR42),AV46*$B$2,0)","v":0},{"$f":"IF(AND(AW$43<=$B$2,$B$2<AX$43,$B$3=$A$8,$B$4=AR42),AW46*$B$2,0)","v":0},{"$f":"IF(AND(AX$43<=$B$2,$B$3=$A$8,$B$4=AR42),AX46*$B$2,0)","v":0},null,9,0,{"$f":"IF(AND(BB$3<=$B$2,$B$3=$A$13,$B$4=AZ42),BB46*$B$2,0)","v":0},null,null,null,null,null,12,0,{"$f":"IF(AND(BJ$43<=$B$2,$B$2<BK$43,$B$3=$A$8,$B$4=BH42),BJ46*$B$2,0)","v":0},{"$f":"IF(AND(BK$43<=$B$2,$B$2<BL$43,$B$3=$A$8,$B$4=BH42),BK46*$B$2,0)","v":0},{"$f":"IF(AND(BL$43<=$B$2,$B$2<BM$43,$B$3=$A$8,$B$4=BH42),BL46*$B$2,0)","v":0},{"$f":"IF(AND(BM$43<=$B$2,$B$2<BN$43,$B$3=$A$8,$B$4=BH42),BM46*$B$2,0)","v":0},{"$f":"IF(AND(BN$43<=$B$2,$B$3=$A$8,$B$4=BH42),BN46*$B$2,0)","v":0},null,9,0,{"$f":"IF(AND(BR$3<=$B$2,$B$3=$A$13,$B$4=BP42),BR46*$B$2,0)","v":0},null,12,0,{"$f":"IF(AND(BV$43<=$B$2,$B$2<BW$43,$B$3=$A$8,$B$4=BT42),BV46*$B$2,0)","v":0},{"$f":"IF(AND(BW$43<=$B$2,$B$2<BX$43,$B$3=$A$8,$B$4=BT42),BW46*$B$2,0)","v":0},{"$f":"IF(AND(BX$43<=$B$2,$B$2<BY$43,$B$3=$A$8,$B$4=BT42),BX46*$B$2,0)","v":0},{"$f":"IF(AND(BY$43<=$B$2,$B$2<BZ$43,$B$3=$A$8,$B$4=BT42),BY46*$B$2,0)","v":0},{"$f":"IF(AND(BZ$43<=$B$2,$B$3=$A$8,$B$4=BT42),BZ46*$B$2,0)","v":0},null,12,0,{"$f":"IF(AND(CD$43<=$B$2,$B$2<CE$43,$B$3=$A$8,$B$4=CB42),CD46*$B$2,0)","v":0},{"$f":"IF(AND(CE$43<=$B$2,$B$2<CF$43,$B$3=$A$8,$B$4=CB42),CE46*$B$2,0)","v":0},{"$f":"IF(AND(CF$43<=$B$2,$B$2<CG$43,$B$3=$A$8,$B$4=CB42),CF46*$B$2,0)","v":0},{"$f":"IF(AND(CG$43<=$B$2,$B$2<CH$43,$B$3=$A$8,$B$4=CB42),CG46*$B$2,0)","v":0},{"$f":"IF(AND(CH$43<=$B$2,$B$3=$A$8,$B$4=CB42),CH46*$B$2,0)","v":0},null,12,0,{"$f":"IF(AND(CL$43<=$B$2,$B$2<CM$43,$B$3=$A$8,$B$4=CJ42),CL46*$B$2,0)","v":0},{"$f":"IF(AND(CM$43<=$B$2,$B$2<CN$43,$B$3=$A$8,$B$4=CJ42),CM46*$B$2,0)","v":0},{"$f":"IF(AND(CN$43<=$B$2,$B$2<CO$43,$B$3=$A$8,$B$4=CJ42),CN46*$B$2,0)","v":0},{"$f":"IF(AND(CO$43<=$B$2,$B$2<CP$43,$B$3=$A$8,$B$4=CJ42),CO46*$B$2,0)","v":0},{"$f":"IF(AND(CP$43<=$B$2,$B$3=$A$8,$B$4=CJ42),CP46*$B$2,0)","v":0},null,12,0,{"$f":"IF(AND(CT$43<=$B$2,$B$2<CU$43,$B$3=$A$8,$B$4=CR42),CT46*$B$2,0)","v":0},{"$f":"IF(AND(CU$43<=$B$2,$B$2<CV$43,$B$3=$A$8,$B$4=CR42),CU46*$B$2,0)","v":0},{"$f":"IF(AND(CV$43<=$B$2,$B$2<CW$43,$B$3=$A$8,$B$4=CR42),CV46*$B$2,0)","v":0},{"$f":"IF(AND(CW$43<=$B$2,$B$2<CX$43,$B$3=$A$8,$B$4=CR42),CW46*$B$2,0)","v":0},{"$f":"IF(AND(CX$43<=$B$2,$B$3=$A$8,$B$4=CR42),CX46*$B$2,0)","v":0}]
["Fair Market Value Scrubber Lease - 90 days no pmt","FWEF:  $1 Buyout Lease",null,24,0,{"$f":"IF(AND(F$43<=$B$2,$B$2<G$43,$B$3=$A$9,$B$4=D42),F47*$B$2,0)","v":0},{"$f":"IF(AND(G$43<=$B$2,$B$2<H$43,$B$3=$A$9,$B$4=D42),G47*$B$2,0)","v":0},{"$f":"IF(AND(H$43<=$B$2,$B$2<I$43,$B$3=$A$9,$B$4=D42),H47*$B$2,0)","v":0},{"$f":"IF(AND(I$43<=$B$2,$B$2<J$43,$B$3=$A$9,$B$4=D42),I47*$B$2,0)","v":0},{"$f":"IF(AND(J$43<=$B$2,$B$3=$A$9,$B$4=D42),J47*$B$2,0)","v":0},null,24,0,{"$f":"IF(AND(N$43<=$B$2,$B$2<O$43,$B$3=$A$9,$B$4=L42),N47*$B$2,0)","v":0},{"$f":"IF(AND(O$43<=$B$2,$B$2<P$43,$B$3=$A$9,$B$4=L42),O47*$B$2,0)","v":0},{"$f":"IF(AND(P$43<=$B$2,$B$2<Q$43,$B$3=$A$9,$B$4=L42),P47*$B$2,0)","v":0},{"$f":"IF(AND(Q$43<=$B$2,$B$2<R$43,$B$3=$A$9,$B$4=L42),Q47*$B$2,0)","v":0},{"$f":"IF(AND(R$43<=$B$2,$B$3=$A$9,$B$4=L42),R47*$B$2,0)","v":0},null,24,0,{"$f":"IF(AND(V$43<=$B$2,$B$2<W$43,$B$3=$A$9,$B$4=T42),V47*$B$2,0)","v":0},{"$f":"IF(AND(W$43<=$B$2,$B$2<X$43,$B$3=$A$9,$B$4=T42),W47*$B$2,0)","v":0},{"$f":"IF(AND(X$43<=$B$2,$B$2<Y$43,$B$3=$A$9,$B$4=T42),X47*$B$2,0)","v":0},{"$f":"IF(AND(Y$43<=$B$2,$B$2<Z$43,$B$3=$A$9,$B$4=T42),Y47*$B$2,0)","v":0},{"$f":"IF(AND(Z$43<=$B$2,$B$3=$A$9,$B$4=T42),Z47*$B$2,0)","v":0},null,24,0,{"$f":"IF(AND(AD$43<=$B$2,$B$2<AE$43,$B$3=$A$9,$B$4=AB42),AD47*$B$2,0)","v":0},{"$f":"IF(AND(AE$43<=$B$2,$B$2<AF$43,$B$3=$A$9,$B$4=AB42),AE47*$B$2,0)","v":0},{"$f":"IF(AND(AF$43<=$B$2,$B$2<AG$43,$B$3=$A$9,$B$4=AB42),AF47*$B$2,0)","v":0},{"$f":"IF(AND(AG$43<=$B$2,$B$2<AH$43,$B$3=$A$9,$B$4=AB42),AG47*$B$2,0)","v":0},{"$f":"IF(AND(AH$43<=$B$2,$B$3=$A$9,$B$4=AB42),AH47*$B$2,0)","v":0},null,24,0,{"$f":"IF(AND(AL$43<=$B$2,$B$2<AM$43,$B$3=$A$9,$B$4=AJ42),AL47*$B$2,0)","v":0},{"$f":"IF(AND(AM$43<=$B$2,$B$2<AN$43,$B$3=$A$9,$B$4=AJ42),AM47*$B$2,0)","v":0},{"$f":"IF(AND(AN$43<=$B$2,$B$2<AO$43,$B$3=$A$9,$B$4=AJ42),AN47*$B$2,0)","v":0},{"$f":"IF(AND(AO$43<=$B$2,$B$2<AP$43,$B$3=$A$9,$B$4=AJ42),AO47*$B$2,0)","v":0},{"$f":"IF(AND(AP$43<=$B$2,$B$3=$A$9,$B$4=AJ42),AP47*$B$2,0)","v":0},null,24,0,{"$f":"IF(AND(AT$43<=$B$2,$B$2<AU$43,$B$3=$A$9,$B$4=AR42),AT47*$B$2,0)","v":0},{"$f":"IF(AND(AU$43<=$B$2,$B$2<AV$43,$B$3=$A$9,$B$4=AR42),AU47*$B$2,0)","v":0},{"$f":"IF(AND(AV$43<=$B$2,$B$2<AW$43,$B$3=$A$9,$B$4=AR42),AV47*$B$2,0)","v":0},{"$f":"IF(AND(AW$43<=$B$2,$B$2<AX$43,$B$3=$A$9,$B$4=AR42),AW47*$B$2,0)","v":0},{"$f":"IF(AND(AX$43<=$B$2,$B$3=$A$9,$B$4=AR42),AX47*$B$2,0)","v":0},null,12,0,{"$f":"IF(AND(BB$3<=$B$2,$B$3=$A$8,$B$4=AZ42),BB47*$B$2,0)","v":0},null,null,null,null,null,24,0,{"$f":"IF(AND(BJ$43<=$B$2,$B$2<BK$43,$B$3=$A$9,$B$4=BH42),BJ47*$B$2,0)","v":0},{"$f":"IF(AND(BK$43<=$B$2,$B$2<BL$43,$B$3=$A$9,$B$4=BH42),BK47*$B$2,0)","v":0},{"$f":"IF(AND(BL$43<=$B$2,$B$2<BM$43,$B$3=$A$9,$B$4=BH42),BL47*$B$2,0)","v":0},{"$f":"IF(AND(BM$43<=$B$2,$B$2<BN$43,$B$3=$A$9,$B$4=BH42),BM47*$B$2,0)","v":0},{"$f":"IF(AND(BN$43<=$B$2,$B$3=$A$9,$B$4=BH42),BN47*$B$2,0)","v":0},null,12,0,{"$f":"IF(AND(BR$3<=$B$2,$B$3=$A$8,$B$4=BP42),BR47*$B$2,0)","v":0},null,24,0,{"$f":"IF(AND(BV$43<=$B$2,$B$2<BW$43,$B$3=$A$9,$B$4=BT42),BV47*$B$2,0)","v":0},{"$f":"IF(AND(BW$43<=$B$2,$B$2<BX$43,$B$3=$A$9,$B$4=BT42),BW47*$B$2,0)","v":0},{"$f":"IF(AND(BX$43<=$B$2,$B$2<BY$43,$B$3=$A$9,$B$4=BT42),BX47*$B$2,0)","v":0},{"$f":"IF(AND(BY$43<=$B$2,$B$2<BZ$43,$B$3=$A$9,$B$4=BT42),BY47*$B$2,0)","v":0},{"$f":"IF(AND(BZ$43<=$B$2,$B$3=$A$9,$B$4=BT42),BZ47*$B$2,0)","v":0},null,24,0,{"$f":"IF(AND(CD$43<=$B$2,$B$2<CE$43,$B$3=$A$9,$B$4=CB42),CD47*$B$2,0)","v":0},{"$f":"IF(AND(CE$43<=$B$2,$B$2<CF$43,$B$3=$A$9,$B$4=CB42),CE47*$B$2,0)","v":0},{"$f":"IF(AND(CF$43<=$B$2,$B$2<CG$43,$B$3=$A$9,$B$4=CB42),CF47*$B$2,0)","v":0},{"$f":"IF(AND(CG$43<=$B$2,$B$2<CH$43,$B$3=$A$9,$B$4=CB42),CG47*$B$2,0)","v":0},{"$f":"IF(AND(CH$43<=$B$2,$B$3=$A$9,$B$4=CB42),CH47*$B$2,0)","v":0},null,24,0,{"$f":"IF(AND(CL$43<=$B$2,$B$2<CM$43,$B$3=$A$9,$B$4=CJ42),CL47*$B$2,0)","v":0},{"$f":"IF(AND(CM$43<=$B$2,$B$2<CN$43,$B$3=$A$9,$B$4=CJ42),CM47*$B$2,0)","v":0},{"$f":"IF(AND(CN$43<=$B$2,$B$2<CO$43,$B$3=$A$9,$B$4=CJ42),CN47*$B$2,0)","v":0},{"$f":"IF(AND(CO$43<=$B$2,$B$2<CP$43,$B$3=$A$9,$B$4=CJ42),CO47*$B$2,0)","v":0},{"$f":"IF(AND(CP$43<=$B$2,$B$3=$A$9,$B$4=CJ42),CP47*$B$2,0)","v":0},null,24,0,{"$f":"IF(AND(CT$43<=$B$2,$B$2<CU$43,$B$3=$A$9,$B$4=CR42),CT47*$B$2,0)","v":0},{"$f":"IF(AND(CU$43<=$B$2,$B$2<CV$43,$B$3=$A$9,$B$4=CR42),CU47*$B$2,0)","v":0},{"$f":"IF(AND(CV$43<=$B$2,$B$2<CW$43,$B$3=$A$9,$B$4=CR42),CV47*$B$2,0)","v":0},{"$f":"IF(AND(CW$43<=$B$2,$B$2<CX$43,$B$3=$A$9,$B$4=CR42),CW47*$B$2,0)","v":0},{"$f":"IF(AND(CX$43<=$B$2,$B$3=$A$9,$B$4=CR42),CX47*$B$2,0)","v":0}]
["Municipal $1 Buyout Lease - Monthly Pmt","FWEF:  Short-term / Rent-to-own",null,30,0,{"$f":"IF(AND(F$43<=$B$2,$B$2<G$43,$B$3=$A$15,$B$4=D42),F48*$B$2,0)","v":0},{"$f":"IF(AND(G$43<=$B$2,$B$2<H$43,$B$3=$A$15,$B$4=D42),G48*$B$2,0)","v":0},{"$f":"IF(AND(H$43<=$B$2,$B$2<I$43,$B$3=$A$15,$B$4=D42),H48*$B$2,0)","v":0},{"$f":"IF(AND(I$43<=$B$2,$B$2<J$43,$B$3=$A$15,$B$4=D42),I48*$B$2,0)","v":0},{"$f":"IF(AND(J$43<=$B$2,$B$3=$A$15,$B$4=D42),J48*$B$2,0)","v":0},null,30,0,{"$f":"IF(AND(N$43<=$B$2,$B$2<O$43,$B$3=$A$15,$B$4=L42),N48*$B$2,0)","v":0},{"$f":"IF(AND(O$43<=$B$2,$B$2<P$43,$B$3=$A$15,$B$4=L42),O48*$B$2,0)","v":0},{"$f":"IF(AND(P$43<=$B$2,$B$2<Q$43,$B$3=$A$15,$B$4=L42),P48*$B$2,0)","v":0},{"$f":"IF(AND(Q$43<=$B$2,$B$2<R$43,$B$3=$A$15,$B$4=L42),Q48*$B$2,0)","v":0},{"$f":"IF(AND(R$43<=$B$2,$B$3=$A$15,$B$4=L42),R48*$B$2,0)","v":0},null,30,0,{"$f":"IF(AND(V$43<=$B$2,$B$2<W$43,$B$3=$A$15,$B$4=T42),V48*$B$2,0)","v":0},{"$f":"IF(AND(W$43<=$B$2,$B$2<X$43,$B$3=$A$15,$B$4=T42),W48*$B$2,0)","v":0},{"$f":"IF(AND(X$43<=$B$2,$B$2<Y$43,$B$3=$A$15,$B$4=T42),X48*$B$2,0)","v":0},{"$f":"IF(AND(Y$43<=$B$2,$B$2<Z$43,$B$3=$A$15,$B$4=T42),Y48*$B$2,0)","v":0},{"$f":"IF(AND(Z$43<=$B$2,$B$3=$A$15,$B$4=T42),Z48*$B$2,0)","v":0},null,30,0,{"$f":"IF(AND(AD$43<=$B$2,$B$2<AE$43,$B$3=$A$15,$B$4=AB42),AD48*$B$2,0)","v":0},{"$f":"IF(AND(AE$43<=$B$2,$B$2<AF$43,$B$3=$A$15,$B$4=AB42),AE48*$B$2,0)","v":0},{"$f":"IF(AND(AF$43<=$B$2,$B$2<AG$43,$B$3=$A$15,$B$4=AB42),AF48*$B$2,0)","v":0},{"$f":"IF(AND(AG$43<=$B$2,$B$2<AH$43,$B$3=$A$15,$B$4=AB42),AG48*$B$2,0)","v":0},{"$f":"IF(AND(AH$43<=$B$2,$B$3=$A$15,$B$4=AB42),AH48*$B$2,0)","v":0},null,30,0,{"$f":"IF(AND(AL$43<=$B$2,$B$2<AM$43,$B$3=$A$15,$B$4=AJ42),AL48*$B$2,0)","v":0},{"$f":"IF(AND(AM$43<=$B$2,$B$2<AN$43,$B$3=$A$15,$B$4=AJ42),AM48*$B$2,0)","v":0},{"$f":"IF(AND(AN$43<=$B$2,$B$2<AO$43,$B$3=$A$15,$B$4=AJ42),AN48*$B$2,0)","v":0},{"$f":"IF(AND(AO$43<=$B$2,$B$2<AP$43,$B$3=$A$15,$B$4=AJ42),AO48*$B$2,0)","v":0},{"$f":"IF(AND(AP$43<=$B$2,$B$3=$A$15,$B$4=AJ42),AP48*$B$2,0)","v":0},null,30,0,{"$f":"IF(AND(AT$43<=$B$2,$B$2<AU$43,$B$3=$A$15,$B$4=AR42),AT48*$B$2,0)","v":0},{"$f":"IF(AND(AU$43<=$B$2,$B$2<AV$43,$B$3=$A$15,$B$4=AR42),AU48*$B$2,0)","v":0},{"$f":"IF(AND(AV$43<=$B$2,$B$2<AW$43,$B$3=$A$15,$B$4=AR42),AV48*$B$2,0)","v":0},{"$f":"IF(AND(AW$43<=$B$2,$B$2<AX$43,$B$3=$A$15,$B$4=AR42),AW48*$B$2,0)","v":0},{"$f":"IF(AND(AX$43<=$B$2,$B$3=$A$15,$B$4=AR42),AX48*$B$2,0)","v":0},null,18,0,{"$f":"IF(AND(BB$3<=$B$2,$B$3=$A$14,$B$4=AZ42),BB48*$B$2,0)","v":0},null,null,null,null,null,30,0,{"$f":"IF(AND(BJ$43<=$B$2,$B$2<BK$43,$B$3=$A$15,$B$4=BH42),BJ48*$B$2,0)","v":0},{"$f":"IF(AND(BK$43<=$B$2,$B$2<BL$43,$B$3=$A$15,$B$4=BH42),BK48*$B$2,0)","v":0},{"$f":"IF(AND(BL$43<=$B$2,$B$2<BM$43,$B$3=$A$15,$B$4=BH42),BL48*$B$2,0)","v":0},{"$f":"IF(AND(BM$43<=$B$2,$B$2<BN$43,$B$3=$A$15,$B$4=BH42),BM48*$B$2,0)","v":0},{"$f":"IF(AND(BN$43<=$B$2,$B$3=$A$15,$B$4=BH42),BN48*$B$2,0)","v":0},null,18,0,{"$f":"IF(AND(BR$3<=$B$2,$B$3=$A$14,$B$4=BP42),BR48*$B$2,0)","v":0},null,30,0,{"$f":"IF(AND(BV$43<=$B$2,$B$2<BW$43,$B$3=$A$15,$B$4=BT42),BV48*$B$2,0)","v":0},{"$f":"IF(AND(BW$43<=$B$2,$B$2<BX$43,$B$3=$A$15,$B$4=BT42),BW48*$B$2,0)","v":0},{"$f":"IF(AND(BX$43<=$B$2,$B$2<BY$43,$B$3=$A$15,$B$4=BT42),BX48*$B$2,0)","v":0},{"$f":"IF(AND(BY$43<=$B$2,$B$2<BZ$43,$B$3=$A$15,$B$4=BT42),BY48*$B$2,0)","v":0},{"$f":"IF(AND(BZ$43<=$B$2,$B$3=$A$15,$B$4=BT42),BZ48*$B$2,0)","v":0},null,30,0,{"$f":"IF(AND(CD$43<=$B$2,$B$2<CE$43,$B$3=$A$15,$B$4=CB42),CD48*$B$2,0)","v":0},{"$f":"IF(AND(CE$43<=$B$2,$B$2<CF$43,$B$3=$A$15,$B$4=CB42),CE48*$B$2,0)","v":0},{"$f":"IF(AND(CF$43<=$B$2,$B$2<CG$43,$B$3=$A$15,$B$4=CB42),CF48*$B$2,0)","v":0},{"$f":"IF(AND(CG$43<=$B$2,$B$2<CH$43,$B$3=$A$15,$B$4=CB42),CG48*$B$2,0)","v":0},{"$f":"IF(AND(CH$43<=$B$2,$B$3=$A$15,$B$4=CB42),CH48*$B$2,0)","v":0},null,30,0,{"$f":"IF(AND(CL$43<=$B$2,$B$2<CM$43,$B$3=$A$15,$B$4=CJ42),CL48*$B$2,0)","v":0},{"$f":"IF(AND(CM$43<=$B$2,$B$2<CN$43,$B$3=$A$15,$B$4=CJ42),CM48*$B$2,0)","v":0},{"$f":"IF(AND(CN$43<=$B$2,$B$2<CO$43,$B$3=$A$15,$B$4=CJ42),CN48*$B$2,0)","v":0},{"$f":"IF(AND(CO$43<=$B$2,$B$2<CP$43,$B$3=$A$15,$B$4=CJ42),CO48*$B$2,0)","v":0},{"$f":"IF(AND(CP$43<=$B$2,$B$3=$A$15,$B$4=CJ42),CP48*$B$2,0)","v":0},null,30,0,{"$f":"IF(AND(CT$43<=$B$2,$B$2<CU$43,$B$3=$A$15,$B$4=CR42),CT48*$B$2,0)","v":0},{"$f":"IF(AND(CU$43<=$B$2,$B$2<CV$43,$B$3=$A$15,$B$4=CR42),CU48*$B$2,0)","v":0},{"$f":"IF(AND(CV$43<=$B$2,$B$2<CW$43,$B$3=$A$15,$B$4=CR42),CV48*$B$2,0)","v":0},{"$f":"IF(AND(CW$43<=$B$2,$B$2<CX$43,$B$3=$A$15,$B$4=CR42),CW48*$B$2,0)","v":0},{"$f":"IF(AND(CX$43<=$B$2,$B$3=$A$15,$B$4=CR42),CX48*$B$2,0)","v":0}]
["Municipal $1 Buyout Lease - Annual Pmt",null,null,36,0,{"$f":"IF(AND(F$43<=$B$2,$B$2<G$43,$B$3=$A$10,$B$4=D42),F49*$B$2,0)","v":0},{"$f":"IF(AND(G$43<=$B$2,$B$2<H$43,$B$3=$A$10,$B$4=D42),G49*$B$2,0)","v":0},{"$f":"IF(AND(H$43<=$B$2,$B$2<I$43,$B$3=$A$10,$B$4=D42),H49*$B$2,0)","v":0},{"$f":"IF(AND(I$43<=$B$2,$B$2<J$43,$B$3=$A$10,$B$4=D42),I49*$B$2,0)","v":0},{"$f":"IF(AND(J$43<=$B$2,$B$3=$A$10,$B$4=D42),J49*$B$2,0)","v":0},null,36,0,{"$f":"IF(AND(N$43<=$B$2,$B$2<O$43,$B$3=$A$10,$B$4=L42),N49*$B$2,0)","v":0},{"$f":"IF(AND(O$43<=$B$2,$B$2<P$43,$B$3=$A$10,$B$4=L42),O49*$B$2,0)","v":0},{"$f":"IF(AND(P$43<=$B$2,$B$2<Q$43,$B$3=$A$10,$B$4=L42),P49*$B$2,0)","v":0},{"$f":"IF(AND(Q$43<=$B$2,$B$2<R$43,$B$3=$A$10,$B$4=L42),Q49*$B$2,0)","v":0},{"$f":"IF(AND(R$43<=$B$2,$B$3=$A$10,$B$4=L42),R49*$B$2,0)","v":0},null,36,0,{"$f":"IF(AND(V$43<=$B$2,$B$2<W$43,$B$3=$A$10,$B$4=T42),V49*$B$2,0)","v":0},{"$f":"IF(AND(W$43<=$B$2,$B$2<X$43,$B$3=$A$10,$B$4=T42),W49*$B$2,0)","v":0},{"$f":"IF(AND(X$43<=$B$2,$B$2<Y$43,$B$3=$A$10,$B$4=T42),X49*$B$2,0)","v":0},{"$f":"IF(AND(Y$43<=$B$2,$B$2<Z$43,$B$3=$A$10,$B$4=T42),Y49*$B$2,0)","v":0},{"$f":"IF(AND(Z$43<=$B$2,$B$3=$A$10,$B$4=T42),Z49*$B$2,0)","v":0},null,36,0,{"$f":"IF(AND(AD$43<=$B$2,$B$2<AE$43,$B$3=$A$10,$B$4=AB42),AD49*$B$2,0)","v":0},{"$f":"IF(AND(AE$43<=$B$2,$B$2<AF$43,$B$3=$A$10,$B$4=AB42),AE49*$B$2,0)","v":0},{"$f":"IF(AND(AF$43<=$B$2,$B$2<AG$43,$B$3=$A$10,$B$4=AB42),AF49*$B$2,0)","v":0},{"$f":"IF(AND(AG$43<=$B$2,$B$2<AH$43,$B$3=$A$10,$B$4=AB42),AG49*$B$2,0)","v":0},{"$f":"IF(AND(AH$43<=$B$2,$B$3=$A$10,$B$4=AB42),AH49*$B$2,0)","v":0},null,36,0,{"$f":"IF(AND(AL$43<=$B$2,$B$2<AM$43,$B$3=$A$10,$B$4=AJ42),AL49*$B$2,0)","v":0},{"$f":"IF(AND(AM$43<=$B$2,$B$2<AN$43,$B$3=$A$10,$B$4=AJ42),AM49*$B$2,0)","v":0},{"$f":"IF(AND(AN$43<=$B$2,$B$2<AO$43,$B$3=$A$10,$B$4=AJ42),AN49*$B$2,0)","v":0},{"$f":"IF(AND(AO$43<=$B$2,$B$2<AP$43,$B$3=$A$10,$B$4=AJ42),AO49*$B$2,0)","v":0},{"$f":"IF(AND(AP$43<=$B$2,$B$3=$A$10,$B$4=AJ42),AP49*$B$2,0)","v":0},null,36,0,{"$f":"IF(AND(AT$43<=$B$2,$B$2<AU$43,$B$3=$A$10,$B$4=AR42),AT49*$B$2,0)","v":0},{"$f":"IF(AND(AU$43<=$B$2,$B$2<AV$43,$B$3=$A$10,$B$4=AR42),AU49*$B$2,0)","v":0},{"$f":"IF(AND(AV$43<=$B$2,$B$2<AW$43,$B$3=$A$10,$B$4=AR42),AV49*$B$2,0)","v":0},{"$f":"IF(AND(AW$43<=$B$2,$B$2<AX$43,$B$3=$A$10,$B$4=AR42),AW49*$B$2,0)","v":0},{"$f":"IF(AND(AX$43<=$B$2,$B$3=$A$10,$B$4=AR42),AX49*$B$2,0)","v":0},null,24,0,{"$f":"IF(AND(BB$3<=$B$2,$B$3=$A$9,$B$4=AZ42),BB49*$B$2,0)","v":0},null,null,null,null,null,36,0,{"$f":"IF(AND(BJ$43<=$B$2,$B$2<BK$43,$B$3=$A$10,$B$4=BH42),BJ49*$B$2,0)","v":0},{"$f":"IF(AND(BK$43<=$B$2,$B$2<BL$43,$B$3=$A$10,$B$4=BH42),BK49*$B$2,0)","v":0},{"$f":"IF(AND(BL$43<=$B$2,$B$2<BM$43,$B$3=$A$10,$B$4=BH42),BL49*$B$2,0)","v":0},{"$f":"IF(AND(BM$43<=$B$2,$B$2<BN$43,$B$3=$A$10,$B$4=BH42),BM49*$B$2,0)","v":0},{"$f":"IF(AND(BN$43<=$B$2,$B$3=$A$10,$B$4=BH42),BN49*$B$2,0)","v":0},null,null,null,null,null,36,0,{"$f":"IF(AND(BV$43<=$B$2,$B$2<BW$43,$B$3=$A$10,$B$4=BT42),BV49*$B$2,0)","v":0},{"$f":"IF(AND(BW$43<=$B$2,$B$2<BX$43,$B$3=$A$10,$B$4=BT42),BW49*$B$2,0)","v":0},{"$f":"IF(AND(BX$43<=$B$2,$B$2<BY$43,$B$3=$A$10,$B$4=BT42),BX49*$B$2,0)","v":0},{"$f":"IF(AND(BY$43<=$B$2,$B$2<BZ$43,$B$3=$A$10,$B$4=BT42),BY49*$B$2,0)","v":0},{"$f":"IF(AND(BZ$43<=$B$2,$B$3=$A$10,$B$4=BT42),BZ49*$B$2,0)","v":0},null,36,0,{"$f":"IF(AND(CD$43<=$B$2,$B$2<CE$43,$B$3=$A$10,$B$4=CB42),CD49*$B$2,0)","v":0},{"$f":"IF(AND(CE$43<=$B$2,$B$2<CF$43,$B$3=$A$10,$B$4=CB42),CE49*$B$2,0)","v":0},{"$f":"IF(AND(CF$43<=$B$2,$B$2<CG$43,$B$3=$A$10,$B$4=CB42),CF49*$B$2,0)","v":0},{"$f":"IF(AND(CG$43<=$B$2,$B$2<CH$43,$B$3=$A$10,$B$4=CB42),CG49*$B$2,0)","v":0},{"$f":"IF(AND(CH$43<=$B$2,$B$3=$A$10,$B$4=CB42),CH49*$B$2,0)","v":0},null,36,0,{"$f":"IF(AND(CL$43<=$B$2,$B$2<CM$43,$B$3=$A$10,$B$4=CJ42),CL49*$B$2,0)","v":0},{"$f":"IF(AND(CM$43<=$B$2,$B$2<CN$43,$B$3=$A$10,$B$4=CJ42),CM49*$B$2,0)","v":0},{"$f":"IF(AND(CN$43<=$B$2,$B$2<CO$43,$B$3=$A$10,$B$4=CJ42),CN49*$B$2,0)","v":0},{"$f":"IF(AND(CO$43<=$B$2,$B$2<CP$43,$B$3=$A$10,$B$4=CJ42),CO49*$B$2,0)","v":0},{"$f":"IF(AND(CP$43<=$B$2,$B$3=$A$10,$B$4=CJ42),CP49*$B$2,0)","v":0},null,36,0,{"$f":"IF(AND(CT$43<=$B$2,$B$2<CU$43,$B$3=$A$10,$B$4=CR42),CT49*$B$2,0)","v":0},{"$f":"IF(AND(CU$43<=$B$2,$B$2<CV$43,$B$3=$A$10,$B$4=CR42),CU49*$B$2,0)","v":0},{"$f":"IF(AND(CV$43<=$B$2,$B$2<CW$43,$B$3=$A$10,$B$4=CR42),CV49*$B$2,0)","v":0},{"$f":"IF(AND(CW$43<=$B$2,$B$2<CX$43,$B$3=$A$10,$B$4=CR42),CW49*$B$2,0)","v":0},{"$f":"IF(AND(CX$43<=$B$2,$B$3=$A$10,$B$4=CR42),CX49*$B$2,0)","v":0}]
["FWEF:  60-days no pmt",null,null,48,0,{"$f":"IF(AND(F$43<=$B$2,$B$2<G$43,$B$3=$A$11,$B$4=D42),F50*$B$2,0)","v":0},{"$f":"IF(AND(G$43<=$B$2,$B$2<H$43,$B$3=$A$11,$B$4=D42),G50*$B$2,0)","v":0},{"$f":"IF(AND(H$43<=$B$2,$B$2<I$43,$B$3=$A$11,$B$4=D42),H50*$B$2,0)","v":0},{"$f":"IF(AND(I$43<=$B$2,$B$2<J$43,$B$3=$A$11,$B$4=D42),I50*$B$2,0)","v":0},{"$f":"IF(AND(J$43<=$B$2,$B$3=$A$11,$B$4=D42),J50*$B$2,0)","v":0},null,48,0,{"$f":"IF(AND(N$43<=$B$2,$B$2<O$43,$B$3=$A$11,$B$4=L42),N50*$B$2,0)","v":0},{"$f":"IF(AND(O$43<=$B$2,$B$2<P$43,$B$3=$A$11,$B$4=L42),O50*$B$2,0)","v":0},{"$f":"IF(AND(P$43<=$B$2,$B$2<Q$43,$B$3=$A$11,$B$4=L42),P50*$B$2,0)","v":0},{"$f":"IF(AND(Q$43<=$B$2,$B$2<R$43,$B$3=$A$11,$B$4=L42),Q50*$B$2,0)","v":0},{"$f":"IF(AND(R$43<=$B$2,$B$3=$A$11,$B$4=L42),R50*$B$2,0)","v":0},null,48,0,{"$f":"IF(AND(V$43<=$B$2,$B$2<W$43,$B$3=$A$11,$B$4=T42),V50*$B$2,0)","v":0},{"$f":"IF(AND(W$43<=$B$2,$B$2<X$43,$B$3=$A$11,$B$4=T42),W50*$B$2,0)","v":0},{"$f":"IF(AND(X$43<=$B$2,$B$2<Y$43,$B$3=$A$11,$B$4=T42),X50*$B$2,0)","v":0},{"$f":"IF(AND(Y$43<=$B$2,$B$2<Z$43,$B$3=$A$11,$B$4=T42),Y50*$B$2,0)","v":0},{"$f":"IF(AND(Z$43<=$B$2,$B$3=$A$11,$B$4=T42),Z50*$B$2,0)","v":0},null,48,0,{"$f":"IF(AND(AD$43<=$B$2,$B$2<AE$43,$B$3=$A$11,$B$4=AB42),AD50*$B$2,0)","v":0},{"$f":"IF(AND(AE$43<=$B$2,$B$2<AF$43,$B$3=$A$11,$B$4=AB42),AE50*$B$2,0)","v":0},{"$f":"IF(AND(AF$43<=$B$2,$B$2<AG$43,$B$3=$A$11,$B$4=AB42),AF50*$B$2,0)","v":0},{"$f":"IF(AND(AG$43<=$B$2,$B$2<AH$43,$B$3=$A$11,$B$4=AB42),AG50*$B$2,0)","v":0},{"$f":"IF(AND(AH$43<=$B$2,$B$3=$A$11,$B$4=AB42),AH50*$B$2,0)","v":0},null,48,0,{"$f":"IF(AND(AL$43<=$B$2,$B$2<AM$43,$B$3=$A$11,$B$4=AJ42),AL50*$B$2,0)","v":0},{"$f":"IF(AND(AM$43<=$B$2,$B$2<AN$43,$B$3=$A$11,$B$4=AJ42),AM50*$B$2,0)","v":0},{"$f":"IF(AND(AN$43<=$B$2,$B$2<AO$43,$B$3=$A$11,$B$4=AJ42),AN50*$B$2,0)","v":0},{"$f":"IF(AND(AO$43<=$B$2,$B$2<AP$43,$B$3=$A$11,$B$4=AJ42),AO50*$B$2,0)","v":0},{"$f":"IF(AND(AP$43<=$B$2,$B$3=$A$11,$B$4=AJ42),AP50*$B$2,0)","v":0},null,48,0,{"$f":"IF(AND(AT$43<=$B$2,$B$2<AU$43,$B$3=$A$11,$B$4=AR42),AT50*$B$2,0)","v":0},{"$f":"IF(AND(AU$43<=$B$2,$B$2<AV$43,$B$3=$A$11,$B$4=AR42),AU50*$B$2,0)","v":0},{"$f":"IF(AND(AV$43<=$B$2,$B$2<AW$43,$B$3=$A$11,$B$4=AR42),AV50*$B$2,0)","v":0},{"$f":"IF(AND(AW$43<=$B$2,$B$2<AX$43,$B$3=$A$11,$B$4=AR42),AW50*$B$2,0)","v":0},{"$f":"IF(AND(AX$43<=$B$2,$B$3=$A$11,$B$4=AR42),AX50*$B$2,0)","v":0},null,null,0,null,null,null,null,null,null,48,0,{"$f":"IF(AND(BJ$43<=$B$2,$B$2<BK$43,$B$3=$A$11,$B$4=BH42),BJ50*$B$2,0)","v":0},{"$f":"IF(AND(BK$43<=$B$2,$B$2<BL$43,$B$3=$A$11,$B$4=BH42),BK50*$B$2,0)","v":0},{"$f":"IF(AND(BL$43<=$B$2,$B$2<BM$43,$B$3=$A$11,$B$4=BH42),BL50*$B$2,0)","v":0},{"$f":"IF(AND(BM$43<=$B$2,$B$2<BN$43,$B$3=$A$11,$B$4=BH42),BM50*$B$2,0)","v":0},{"$f":"IF(AND(BN$43<=$B$2,$B$3=$A$11,$B$4=BH42),BN50*$B$2,0)","v":0},null,null,null,null,null,48,0,{"$f":"IF(AND(BV$43<=$B$2,$B$2<BW$43,$B$3=$A$11,$B$4=BT42),BV50*$B$2,0)","v":0},{"$f":"IF(AND(BW$43<=$B$2,$B$2<BX$43,$B$3=$A$11,$B$4=BT42),BW50*$B$2,0)","v":0},{"$f":"IF(AND(BX$43<=$B$2,$B$2<BY$43,$B$3=$A$11,$B$4=BT42),BX50*$B$2,0)","v":0},{"$f":"IF(AND(BY$43<=$B$2,$B$2<BZ$43,$B$3=$A$11,$B$4=BT42),BY50*$B$2,0)","v":0},{"$f":"IF(AND(BZ$43<=$B$2,$B$3=$A$11,$B$4=BT42),BZ50*$B$2,0)","v":0},null,48,0,{"$f":"IF(AND(CD$43<=$B$2,$B$2<CE$43,$B$3=$A$11,$B$4=CB42),CD50*$B$2,0)","v":0},{"$f":"IF(AND(CE$43<=$B$2,$B$2<CF$43,$B$3=$A$11,$B$4=CB42),CE50*$B$2,0)","v":0},{"$f":"IF(AND(CF$43<=$B$2,$B$2<CG$43,$B$3=$A$11,$B$4=CB42),CF50*$B$2,0)","v":0},{"$f":"IF(AND(CG$43<=$B$2,$B$2<CH$43,$B$3=$A$11,$B$4=CB42),CG50*$B$2,0)","v":0},{"$f":"IF(AND(CH$43<=$B$2,$B$3=$A$11,$B$4=CB42),CH50*$B$2,0)","v":0},null,48,0,{"$f":"IF(AND(CL$43<=$B$2,$B$2<CM$43,$B$3=$A$11,$B$4=CJ42),CL50*$B$2,0)","v":0},{"$f":"IF(AND(CM$43<=$B$2,$B$2<CN$43,$B$3=$A$11,$B$4=CJ42),CM50*$B$2,0)","v":0},{"$f":"IF(AND(CN$43<=$B$2,$B$2<CO$43,$B$3=$A$11,$B$4=CJ42),CN50*$B$2,0)","v":0},{"$f":"IF(AND(CO$43<=$B$2,$B$2<CP$43,$B$3=$A$11,$B$4=CJ42),CO50*$B$2,0)","v":0},{"$f":"IF(AND(CP$43<=$B$2,$B$3=$A$11,$B$4=CJ42),CP50*$B$2,0)","v":0},null,48,0,{"$f":"IF(AND(CT$43<=$B$2,$B$2<CU$43,$B$3=$A$11,$B$4=CR42),CT50*$B$2,0)","v":0},{"$f":"IF(AND(CU$43<=$B$2,$B$2<CV$43,$B$3=$A$11,$B$4=CR42),CU50*$B$2,0)","v":0},{"$f":"IF(AND(CV$43<=$B$2,$B$2<CW$43,$B$3=$A$11,$B$4=CR42),CV50*$B$2,0)","v":0},{"$f":"IF(AND(CW$43<=$B$2,$B$2<CX$43,$B$3=$A$11,$B$4=CR42),CW50*$B$2,0)","v":0},{"$f":"IF(AND(CX$43<=$B$2,$B$3=$A$11,$B$4=CR42),CX50*$B$2,0)","v":0}]
["FWEF:  Municipal Lease",null,null,60,0,{"$f":"IF(AND(F$43<=$B$2,$B$2<G$43,$B$3=$A$12,$B$4=D42),F51*$B$2,0)","v":0},{"$f":"IF(AND(G$43<=$B$2,$B$2<H$43,$B$3=$A$12,$B$4=D42),G51*$B$2,0)","v":0},{"$f":"IF(AND(H$43<=$B$2,$B$2<I$43,$B$3=$A$12,$B$4=D42),H51*$B$2,0)","v":0},{"$f":"IF(AND(I$43<=$B$2,$B$2<J$43,$B$3=$A$12,$B$4=D42),I51*$B$2,0)","v":0},{"$f":"IF(AND(J$43<=$B$2,$B$3=$A$12,$B$4=D42),J51*$B$2,0)","v":0},null,60,0,{"$f":"IF(AND(N$43<=$B$2,$B$2<O$43,$B$3=$A$12,$B$4=L42),N51*$B$2,0)","v":0},{"$f":"IF(AND(O$43<=$B$2,$B$2<P$43,$B$3=$A$12,$B$4=L42),O51*$B$2,0)","v":0},{"$f":"IF(AND(P$43<=$B$2,$B$2<Q$43,$B$3=$A$12,$B$4=L42),P51*$B$2,0)","v":0},{"$f":"IF(AND(Q$43<=$B$2,$B$2<R$43,$B$3=$A$12,$B$4=L42),Q51*$B$2,0)","v":0},{"$f":"IF(AND(R$43<=$B$2,$B$3=$A$12,$B$4=L42),R51*$B$2,0)","v":0},null,60,0,{"$f":"IF(AND(V$43<=$B$2,$B$2<W$43,$B$3=$A$12,$B$4=T42),V51*$B$2,0)","v":0},{"$f":"IF(AND(W$43<=$B$2,$B$2<X$43,$B$3=$A$12,$B$4=T42),W51*$B$2,0)","v":0},{"$f":"IF(AND(X$43<=$B$2,$B$2<Y$43,$B$3=$A$12,$B$4=T42),X51*$B$2,0)","v":0},{"$f":"IF(AND(Y$43<=$B$2,$B$2<Z$43,$B$3=$A$12,$B$4=T42),Y51*$B$2,0)","v":0},{"$f":"IF(AND(Z$43<=$B$2,$B$3=$A$12,$B$4=T42),Z51*$B$2,0)","v":0},null,60,0,{"$f":"IF(AND(AD$43<=$B$2,$B$2<AE$43,$B$3=$A$12,$B$4=AB42),AD51*$B$2,0)","v":0},{"$f":"IF(AND(AE$43<=$B$2,$B$2<AF$43,$B$3=$A$12,$B$4=AB42),AE51*$B$2,0)","v":0},{"$f":"IF(AND(AF$43<=$B$2,$B$2<AG$43,$B$3=$A$12,$B$4=AB42),AF51*$B$2,0)","v":0},{"$f":"IF(AND(AG$43<=$B$2,$B$2<AH$43,$B$3=$A$12,$B$4=AB42),AG51*$B$2,0)","v":0},{"$f":"IF(AND(AH$43<=$B$2,$B$3=$A$12,$B$4=AB42),AH51*$B$2,0)","v":0},null,60,0,{"$f":"IF(AND(AL$43<=$B$2,$B$2<AM$43,$B$3=$A$12,$B$4=AJ42),AL51*$B$2,0)","v":0},{"$f":"IF(AND(AM$43<=$B$2,$B$2<AN$43,$B$3=$A$12,$B$4=AJ42),AM51*$B$2,0)","v":0},{"$f":"IF(AND(AN$43<=$B$2,$B$2<AO$43,$B$3=$A$12,$B$4=AJ42),AN51*$B$2,0)","v":0},{"$f":"IF(AND(AO$43<=$B$2,$B$2<AP$43,$B$3=$A$12,$B$4=AJ42),AO51*$B$2,0)","v":0},{"$f":"IF(AND(AP$43<=$B$2,$B$3=$A$12,$B$4=AJ42),AP51*$B$2,0)","v":0},null,60,0,{"$f":"IF(AND(AT$43<=$B$2,$B$2<AU$43,$B$3=$A$12,$B$4=AR42),AT51*$B$2,0)","v":0},{"$f":"IF(AND(AU$43<=$B$2,$B$2<AV$43,$B$3=$A$12,$B$4=AR42),AU51*$B$2,0)","v":0},{"$f":"IF(AND(AV$43<=$B$2,$B$2<AW$43,$B$3=$A$12,$B$4=AR42),AV51*$B$2,0)","v":0},{"$f":"IF(AND(AW$43<=$B$2,$B$2<AX$43,$B$3=$A$12,$B$4=AR42),AW51*$B$2,0)","v":0},{"$f":"IF(AND(AX$43<=$B$2,$B$3=$A$12,$B$4=AR42),AX51*$B$2,0)","v":0},null,null,0,null,null,null,null,null,null,60,0,{"$f":"IF(AND(BJ$43<=$B$2,$B$2<BK$43,$B$3=$A$12,$B$4=BH42),BJ51*$B$2,0)","v":0},{"$f":"IF(AND(BK$43<=$B$2,$B$2<BL$43,$B$3=$A$12,$B$4=BH42),BK51*$B$2,0)","v":0},{"$f":"IF(AND(BL$43<=$B$2,$B$2<BM$43,$B$3=$A$12,$B$4=BH42),BL51*$B$2,0)","v":0},{"$f":"IF(AND(BM$43<=$B$2,$B$2<BN$43,$B$3=$A$12,$B$4=BH42),BM51*$B$2,0)","v":0},{"$f":"IF(AND(BN$43<=$B$2,$B$3=$A$12,$B$4=BH42),BN51*$B$2,0)","v":0},null,null,null,null,null,60,0,{"$f":"IF(AND(BV$43<=$B$2,$B$2<BW$43,$B$3=$A$12,$B$4=BT42),BV51*$B$2,0)","v":0},{"$f":"IF(AND(BW$43<=$B$2,$B$2<BX$43,$B$3=$A$12,$B$4=BT42),BW51*$B$2,0)","v":0},{"$f":"IF(AND(BX$43<=$B$2,$B$2<BY$43,$B$3=$A$12,$B$4=BT42),BX51*$B$2,0)","v":0},{"$f":"IF(AND(BY$43<=$B$2,$B$2<BZ$43,$B$3=$A$12,$B$4=BT42),BY51*$B$2,0)","v":0},{"$f":"IF(AND(BZ$43<=$B$2,$B$3=$A$12,$B$4=BT42),BZ51*$B$2,0)","v":0},null,60,0,{"$f":"IF(AND(CD$43<=$B$2,$B$2<CE$43,$B$3=$A$12,$B$4=CB42),CD51*$B$2,0)","v":0},{"$f":"IF(AND(CE$43<=$B$2,$B$2<CF$43,$B$3=$A$12,$B$4=CB42),CE51*$B$2,0)","v":0},{"$f":"IF(AND(CF$43<=$B$2,$B$2<CG$43,$B$3=$A$12,$B$4=CB42),CF51*$B$2,0)","v":0},{"$f":"IF(AND(CG$43<=$B$2,$B$2<CH$43,$B$3=$A$12,$B$4=CB42),CG51*$B$2,0)","v":0},{"$f":"IF(AND(CH$43<=$B$2,$B$3=$A$12,$B$4=CB42),CH51*$B$2,0)","v":0},null,60,0,{"$f":"IF(AND(CL$43<=$B$2,$B$2<CM$43,$B$3=$A$12,$B$4=CJ42),CL51*$B$2,0)","v":0},{"$f":"IF(AND(CM$43<=$B$2,$B$2<CN$43,$B$3=$A$12,$B$4=CJ42),CM51*$B$2,0)","v":0},{"$f":"IF(AND(CN$43<=$B$2,$B$2<CO$43,$B$3=$A$12,$B$4=CJ42),CN51*$B$2,0)","v":0},{"$f":"IF(AND(CO$43<=$B$2,$B$2<CP$43,$B$3=$A$12,$B$4=CJ42),CO51*$B$2,0)","v":0},{"$f":"IF(AND(CP$43<=$B$2,$B$3=$A$12,$B$4=CJ42),CP51*$B$2,0)","v":0},null,60,0,{"$f":"IF(AND(CT$43<=$B$2,$B$2<CU$43,$B$3=$A$12,$B$4=CR42),CT51*$B$2,0)","v":0},{"$f":"IF(AND(CU$43<=$B$2,$B$2<CV$43,$B$3=$A$12,$B$4=CR42),CU51*$B$2,0)","v":0},{"$f":"IF(AND(CV$43<=$B$2,$B$2<CW$43,$B$3=$A$12,$B$4=CR42),CV51*$B$2,0)","v":0},{"$f":"IF(AND(CW$43<=$B$2,$B$2<CX$43,$B$3=$A$12,$B$4=CR42),CW51*$B$2,0)","v":0},{"$f":"IF(AND(CX$43<=$B$2,$B$3=$A$12,$B$4=CR42),CX51*$B$2,0)","v":0}]
["FWEF:  $1 Buyout Lease",null,null,{"$f":"SUM(F59:CX59)","v":0},null,{"$f":"SUM(F53:F58)","v":0},{"$f":"SUM(G53:G58)","v":0},{"$f":"SUM(H53:H58)","v":0},{"$f":"SUM(I53:I58)","v":0},{"$f":"SUM(J53:J58)","v":0},null,null,null,{"$f":"SUM(N53:N58)","v":0},{"$f":"SUM(O53:O58)","v":0},{"$f":"SUM(P53:P58)","v":0},{"$f":"SUM(Q53:Q58)","v":0},{"$f":"SUM(R53:R58)","v":0},null,null,null,{"$f":"SUM(V53:V58)","v":0},{"$f":"SUM(W53:W58)","v":0},{"$f":"SUM(X53:X58)","v":0},{"$f":"SUM(Y53:Y58)","v":0},{"$f":"SUM(Z53:Z58)","v":0},null,null,null,{"$f":"SUM(AD53:AD58)","v":0},{"$f":"SUM(AE53:AE58)","v":0},{"$f":"SUM(AF53:AF58)","v":0},{"$f":"SUM(AG53:AG58)","v":0},{"$f":"SUM(AH53:AH58)","v":0},null,null,null,{"$f":"SUM(AL53:AL58)","v":0},{"$f":"SUM(AM53:AM58)","v":0},{"$f":"SUM(AN53:AN58)","v":0},{"$f":"SUM(AO53:AO58)","v":0},{"$f":"SUM(AP53:AP58)","v":0},null,null,null,{"$f":"SUM(AT53:AT58)","v":0},{"$f":"SUM(AU53:AU58)","v":0},{"$f":"SUM(AV53:AV58)","v":0},{"$f":"SUM(AW53:AW58)","v":0},{"$f":"SUM(AX53:AX58)","v":0},null,null,null,{"$f":"SUM(BB53:BB58)","v":0},{"$f":"SUM(BC53:BC58)","v":0},{"$f":"SUM(BD53:BD58)","v":0},{"$f":"SUM(BE53:BE58)","v":0},{"$f":"SUM(BF53:BF58)","v":0},null,null,null,{"$f":"SUM(BJ53:BJ58)","v":0},{"$f":"SUM(BK53:BK58)","v":0},{"$f":"SUM(BL53:BL58)","v":0},{"$f":"SUM(BM53:BM58)","v":0},{"$f":"SUM(BN53:BN58)","v":0},null,null,null,{"$f":"SUM(BR53:BR58)","v":0},null,null,null,{"$f":"SUM(BV53:BV58)","v":0},{"$f":"SUM(BW53:BW58)","v":0},{"$f":"SUM(BX53:BX58)","v":0},{"$f":"SUM(BY53:BY58)","v":0},{"$f":"SUM(BZ53:BZ58)","v":0},null,null,null,{"$f":"SUM(CD53:CD58)","v":0},{"$f":"SUM(CE53:CE58)","v":0},{"$f":"SUM(CF53:CF58)","v":0},{"$f":"SUM(CG53:CG58)","v":0},{"$f":"SUM(CH53:CH58)","v":0},null,null,null,{"$f":"SUM(CL53:CL58)","v":0},{"$f":"SUM(CM53:CM58)","v":0},{"$f":"SUM(CN53:CN58)","v":0},{"$f":"SUM(CO53:CO58)","v":0},{"$f":"SUM(CP53:CP58)","v":0},null,null,null,{"$f":"SUM(CT53:CT58)","v":0},{"$f":"SUM(CU53:CU58)","v":0},{"$f":"SUM(CV53:CV58)","v":0},{"$f":"SUM(CW53:CW58)","v":0},{"$f":"SUM(CX53:CX58)","v":0}]
["FWEF:  Fair Market Value Lease"]
["FWEF:  Short-term / Rent-to-own"]
[]
[]
[]
[]
[]
[]
[]
[]
["PurchaseOptIPC"]
["None"]
["$1 Buyout Lease"]
["$1 Buyout Lease - 90 days no pmt"]
["Municipal $1 Buyout Lease - Monthly Pmt"]
["Municipal $1 Buyout Lease - Annual Pmt"]
["FWEF:  60-days no pmt"]
["FWEF:  Municipal Lease"]
["FWEF:  $1 Buyout Lease"]
["FWEF:  Short-term / Rent-to-own"]

{"sheet":"Settings","index":50,"n_rows":37,"n_cols":3,"rows_kept":37,"cut":false,"hidden":true,"merged":[]}
["Type Of Discounts","Low","High"]
["TTDiscount",0,5]
["TTNationalAccount",0,8]
[]
[]
["If No Option"]
["1 - Has Capital "]
["2 - Has own financing option"]
["3 - Does not qualify"]
["4 - Does not like Tennant offering"]
["5 - Other"]
[]
[]
[]
["Monthly Machine Usage"]
["< 30/mo. (Avg. 1hr./day)",25]
["< 60/mo. (Avg. 2hrs./day)",40]
["< 90/mo. (Avg. 3hrs./day)",60]
[null,80]
[null,100]
[null,125]
[null,150]
[]
["Terms"]
[12]
[36]
[48]
[60]
[]
["Contract",null,"Contract 2"]
["Gold Contract",null,"Gold Contract"]
["Silver Contract",null,"Silver Contract"]
["Federal Government (FGSP-1)",null,"Block of Time Weekly Agreement"]
["Block of Time Weekly Agreement",null,"Block of Time Bi-Weekly Agreement"]
["Block of Time Bi-Weekly Agreement",null,"Pay As You Go Agreement"]
["Pay As You Go Agreement",null,"No Agreement"]
["No Agreement"]

{"sheet":"Lists","index":51,"n_rows":86,"n_cols":17,"rows_kept":86,"cut":false,"hidden":true,"merged":[]}
["FlexClean Regions",null,null,"Flexclean: ",null,null,"Tab Name","Machine","Product",2009,"Material","PH","Type","Rider_WB",null,null,"All Tabs"]
["Description","Region Key",null,null,null,null,"Dual_Tech_ReadySpace_1610",1610,"Comm","Y",1610,350010080,"Scrubber","WB",null,null,"Specialty"]
["CA - All Other","CA00",null,"Tab name: ","T600",null,3640,3640,"Comm","Y",3640,300020070,"Sweeper","WB",null,null,5680]
["CA - British Columbia","BCCA",null,"Material: ",{"$f":"VLOOKUP($E$3, G2:M113, 5, FALSE)","v":"T600"},null,5680,5680,"Comm","Y",5680,320020155,"Scrubber","WB",null,null,"T600"]
["US - All Other","US00",null,"Type: ",{"$f":"VLOOKUP($E$3, G2:M114, 7, FALSE)","v":"Scrubber"},null,5700,5700,"Comm","Y",5700,320020160,"Scrubber","WB",null,null,"T600e"]
["US - California","CAUS",null,"Type 2: ",{"$f":"VLOOKUP($E$3, G2:N115, 8, FALSE)","v":"WB"},null,6100,6100,"Ind","Y",6100,300030010,"Sweeper","Rider",null,null,"T600ee"]
["US - Conneticut","CTUS",null,null,null,null,6200,6200,"Ind","Y",6200,300030020,"Sweeper","Rider",null,null,"T600_Series_Std_Config"]
["US - DC","DCUS",null,null,null,null,7300,7300,"Ind","Y",7300,320050065,"Scrubber","Rider",null,null,5700]
["US - Massuchusetts","MAUS",null,null,null,null,8300,8300,"Ind","Y",8300,340020015,"Scrubber","Rider",null,null,"T1_T1B"]
["US - New Jersey","NJUS",null,null,null,null,"M20_Built_to_Order","M20_Built_to_Order","Ind","Y","M20",340020070,"Scrubber","Rider",null,null,"CS5_CS16"]
["US - New York","NYUS",null,null,null,null,"M30_Built_to_Order","M30_Built_to_Order","Ind","Y","M30",340020080,"Scrubber","Rider",null,null,"i_mop_Lite"]
["US - Pennsylvania","PAUS",null,null,null,null,"T2","T2","Comm","Y","T2",320010540,"Scrubber","WB",null,null,"i_mop_XL"]
["US - Rhode Island","RIUS",null,null,null,null,"T3","T3","Comm","Y","T3",320010540,"Scrubber","WB",null,null,"i_mop_XXL"]
[null,null,null,null,null,null,"T3_plus_Orbital","T3 +","Comm","Y","T3",320010540,"Scrubber","WB",null,null,"T2"]
[null,null,null,null,null,null,"T5","T5","Comm","Y","T5",320020500,"Scrubber","WB",null,null,"T2_Std_Config"]
[null,null,null,null,null,null,"T7","T7","Comm","Y","T7",320040050,"Scrubber","Rider",null,null,"T3"]
[null,null,null,null,null,null,"T12_Built_to_Order","T12_Built_to_Order","Comm","Y","T12",320040050,"Scrubber","Rider",null,null,"T3_plus_Orbital"]
[null,null,null,null,null,null,"T20_Built_to_Order","T20_Built_to_Order","Ind","Y","T20",320050110,"Scrubber","Rider",null,null,"T300"]
[null,null,null,null,null,null,"T20_Strategic_Accts_List","T20","Ind","Y","T20",320050110,"Scrubber","Rider",null,null,"T300e"]
[null,null,null,null,null,null,"T20_Direct_Discount","T20","Ind","Y","T20",320050110,"Scrubber","Rider",null,null,"T300_Series_Std_Config"]
[null,null,null,null,null,null,"Dual_Tech_ReadySpace_R14","R14","Comm","Y","R14",350090010,"Scrubber","Rider",null,null,"T300_T300e_Quick_Ship"]
[null,null,null,null,"Template",null,"S9","S9","Comm","Y","S9",300020200,"Sweeper","WB",null,null,"T350"]
[null,null,null,null,"Scrubber",null,"S10","S10","Ind","Y","S10",300020210,"Sweeper","WB",null,null,"T350_Std_Config"]
[null,null,null,null,"Sweeper",null,"S30","S30","Ind","Y","S30",300040310,"Sweeper","Rider",null,null,"T380AMR"]
[null,null,null,null,"Nobles",null,"DualTech_ReadySpace_Strive","Strive","Comm","Y","DualTech_ReadySpace_Strive",350010090,"Scrubber","WB",null,null,"T5"]
[null,null,null,null,null,null,"DualTech_ReadySpace_StriveRider","Strive Rider","Comm","Y","DualTech_ReadySpace_StriveRider",350090020,"Scrubber","Rider",null,null,"T5e"]
[null,null,null,null,null,null,"SS5_24_32","SS5_24_32","Comm","Y","SS5_24_32",320020510,"Scrubber","WB",null,null,"T500"]
[null,null,null,null,null,null,2550,2550,"Comm","Y",2550,400020018,"Sweeper","WB",null,null,"T500e"]
[null,null,null,null,null,null,1510,1510,"Comm","Y",1510,350010040,"Scrubber","WB",null,null,"T500_Series_Std_Config"]
[null,null,null,null,null,null,"SSR","SSR","Comm","Y","SSR",null,"Scrubber","Rider",null,null,"T500_T500e_Quick_Ship"]
[null,null,null,null,null,null,"SpeedGleam7","SpeedGleam7","Comm","Y","SpeedGleam7",null,"Sweeper","WB",null,null,"T260"]
[null,null,null,null,null,null,"SpeedGleam_Rider","SpeedGleam7","Comm","Y","SpeedGleam_Rider",null,"Sweeper","WB",null,null,"T391_T291"]
[null,null,null,null,null,null,"SS_17_20","SS_17_20","Comm","Y","SS_17_20",null,"Scrubber","WB",null,null,"T581_T390_T290"]
[null,null,null,null,null,null,"SS_XC","SS_XC","Comm","Y","SS_XC",null,"Scrubber","WB",null,null,"T681"]
[null,null,null,null,null,null,"SS3_Orbital","SS3_Orbital","Comm","Y","SS3_Orbital",null,"Scrubber","WB",null,null,"T981"]
[null,null,null,null,null,null,"S20_GLPD","S20_GLPD","Ind","Y","S20",null,"Sweeper","Rider",null,null,"T1581"]
[null,null,null,null,null,null,"S20EV","S20EV","Ind","Y","S20",null,"Sweeper","Rider",null,null,"T7"]
[null,null,null,null,null,null,"GM_400","GM_400","Ind","Y","GM400",null,"Sweeper","Rider",null,null,"T7_Std_Config"]
[null,null,null,null,null,null,"GM_636","GM_636","Ind","Y","GM600",null,"Sweeper","Rider",null,null,"T7AMR"]
[null,null,null,null,null,null,800,800,"Ind","Y",800,null,"Sweeper","Rider",null,null,"M_X4ROVR"]
[null,null,null,null,null,null,810,810,"Ind","Y",810,null,"Sweeper","Rider",null,null,"M_X6ROVR"]
[null,null,null,null,null,null,4300,4300,"Ind","Y","ATLV",null,"Sweeper","Rider",null,null,"T12_Built_to_Order"]
[null,null,null,null,null,null,"T16_Built_to_Order","T16_Built_to_Order","Ind","Y","T16",320040060,"Scrubber","Rider",null,null,"T12_Standard_Config"]
[null,null,null,null,null,null,"T17_Built_to_Order","T17_Built_to_Order","Ind","Y","T17",320040060,"Scrubber","Rider",null,null,7100]
[null,null,null,null,null,null,"B7","B7","Comm","Y","B7",400020018,"Sweeper","WB",null,null,"T15"]
[null,null,null,null,null,null,"B10","B10","Comm","Y","B10",400020018,"Sweeper","WB",null,null,"Orbio 5000-Sc"]
[null,null,null,null,null,null,"T300","T300","Comm","Y","T300",320010540,"Scrubber","WB",null,null,"T16AMR_Standard_Config"]
[null,null,null,null,null,null,"T300e","T300e","Comm","Y","T300e",320010540,"Scrubber","WB",null,null,"T16_Built_to_Order"]
[null,null,null,null,null,null,"T5e","T5e","Comm","Y","T5e",320020500,"Scrubber","WB",null,null,"T16_Standard_Config"]
[null,null,null,null,null,null,"M17_Built_to_Order","M17_Built_to_Order","Ind","Y","M17",340020015,"Scrubber","Rider",null,null,"T17_Built_to_Order"]
[null,null,null,null,null,null,"T500","T500","Comm","Y","T500",320020500,"Scrubber","WB",null,null,"T17_Standard_Config"]
[null,null,null,null,null,null,"T500e","T500e","Comm","Y","T500e",320020500,"Scrubber","WB",null,null,7300]
[null,null,null,null,null,null,"T1_T1B","T1","Comm","Y","T1",null,"Scrubber","WB",null,null,7400]
[null,null,null,null,null,null,"i_mop_Lite","i_mop_Lite","Comm","Y","i_mop",null,"Scrubber","WB",null,null,8200]
[null,null,null,null,null,null,"i_mop_XL","i_mop_XL","Comm","Y","i_mop",null,"Scrubber","WB",null,null,8210]
[null,null,null,null,null,null,"i_mop_XXL","i_mop_XXL","Comm","Y","i_mop",null,"Scrubber","WB",null,null,8300]
[null,null,null,null,null,null,"T350","T350","Comm","Y","T350",320010540,"Scrubber","WB",null,null,8400]
[null,null,null,null,null,null,"T600","T600","Comm","Y","T600",null,"Scrubber","WB",null,null,8410]
[null,null,null,null,null,null,"T600e","T600e","Comm","Y","T600e",null,"Scrubber","WB",null,null,"M17_Built_to_Order"]
[null,null,null,null,null,null,"T600ee","T600ee","Comm","Y","T600ee",null,"Scrubber","WB",null,null,"M17_Standard_Config"]
[null,null,null,null,null,null,"T7AMR","T7AMR","Comm","Y","T7AMR",320040050,"Scrubber","Rider",null,null,"M20_Built_to_Order"]
[null,null,null,null,null,null,"T16_Standard_Config","T16_Standard_Config","Ind","Y","T16_Standard_Config",320040060,"Scrubber","Rider",null,null,"M20_Standard_Config"]
[null,null,null,null,null,null,"T12_Standard_Config","T12_Standard_Config","Comm","Y","T12_Standard_Config",320040050,"Scrubber","Rider",null,null,"T20_Built_to_Order"]
[null,null,null,null,null,null,"T20_Standard_Config","T20_Standard_Config","Ind","Y","T20_Standard_Config",320050110,"Scrubber","Rider",null,null,"T20_Standard_Config"]
[null,null,null,null,null,null,"M20_Standard_Config","M20_Standard_Config","Ind","Y","M20_Standard_Config",340020070,"Scrubber","Rider",null,null,"M30_Built_to_Order"]
[null,null,null,null,null,null,"T17_Standard_Config","T17_Standard_Config","Ind","Y","T17_Standard_Config",320040060,"Scrubber","Rider",null,null,"M30_Standard_Config"]
[null,null,null,null,null,null,"M17_Standard_Config","M17_Standard_Config","Ind","Y","M17_Standard_Config",340020015,"Scrubber","Rider",null,null,550]
[null,null,null,null,null,null,"T300_Series_Std_Config","T300_Series_Std_Config","Comm","Y","T300",320010540,"Scrubber","WB",null,null,1550]
[null,null,null,null,null,null,"T350_Std_Config","T350_Std_Config","Comm","Y","T350",320010540,"Scrubber","WB",null,null,"510E"]
[null,null,null,null,null,null,"T500_Series_Std_Config","T500_Series_Std_Config","Comm","Y","T500",320020500,"Scrubber","WB",null,null,7200]
[null,null,null,null,null,null,"T600_Series_Std_Config","T600_Series_Std_Config","Comm","Y","T600",320020500,"Scrubber","WB",null,null,5100]
[null,null,null,null,null,null,"M30_Standard_Config","M30_Standard_Config","Ind","Y","M30_Standard_Config",340020080,"Scrubber","Rider",null,null,5200]
[null,null,null,null,null,null,"T2_Std_Config","T2_Std_Config","Comm","Y","T2",320010540,"Scrubber","WB",null,null,5280]
[null,null,null,null,null,null,"T7_Std_Config","T7_Std_Config","Comm","Y","T7",320040050,"Scrubber","Rider",null,null,5300]
[null,null,null,null,null,null,"T300_T300e_Quick_Ship","T300_T300e_Quick_Ship","Comm","Y","T300",320010540,"Scrubber","WB",null,null,5400]
[null,null,null,null,null,null,"T500_T500e_Quick_Ship","T500_T500e_Quick_Ship","Comm","Y","T500",320020500,"Scrubber","WB",null,null,5500]
[null,null,null,null,null,null,"T581_T390_T290","T581_T390_T290","Comm","Y","T581_T390_T290",null,"Scrubber","WB",null,null,5520]
[null,null,null,null,null,null,"T16AMR_Standard_Config","T16AMR_Standard_Config","Comm","Y","T7AMR",320040050,"Scrubber","Rider",null,null,5540]
[null,null,null,null,null,null,"CS5_CS16","CS5_CS16","Comm","Y","i_mop",null,"Scrubber","WB",null,null,5560]
[null,null,null,null,null,null,"T681","T681","Comm","Y","T681",null,"Scrubber","WB",null,null,5680]
[null,null,null,null,null,null,"T981","T981","Comm","Y","T981",null,"Scrubber","WB"]
[null,null,null,null,null,null,"T260","T260","Comm","Y","T260",null,"Scrubber","WB"]
[null,null,null,null,null,null,"T391_T291","T391_T291","Comm","Y","T391",null,"Scrubber","WB"]
[null,null,null,null,null,null,"T1581_Built_to_Order","T1581_Built_to_Order","Comm","Y","T1581",null,"Scrubber","WB"]
[null,null,null,null,null,null,"M_X4ROVR","M_X4ROVR","Comm","Y","M_X4ROVR",320040050,"Scrubber","Rider"]
[null,null,null,null,null,null,"M_X6ROVR","M_X6ROVR","Comm","Y","M_X6ROVR",320040050,"Scrubber","Rider"]

{"sheet":"FlexClean","index":52,"n_rows":456,"n_cols":18,"rows_kept":456,"cut":false,"hidden":true,"merged":[]}
[null,null,null,null,"MATNR","ZZMVGR5","These cells are used/reference in a macro. ",null,null,null,null,null,null,"NA = Not available",null,null,"KEY = 4 Digit Region Code, 1 digit hour code, MatNR"]
[null,null,null,null,5680,6,"If rows are added/removed from the rate table below,",null,null,null,null,null,null,"1BO = 1BO only",null,"Hour Code:","0 = 25"]
[{"$f":"DCOUNTA($A$7:$L$484,\"KEY\",$E$1:$F$2)","v":1},"<--- Lookup to determine industrial or not",null,null,null,null,"be sure to adjust the formula in cell A3 so that",null,null,null,null,null,null,null,null,null,"1 = 40"]
[{"$f":"DCOUNTA($A$7:$L$484,\"KEY\",$E$1:$E$2)","v":7},"<--- Lookup to determine FlexClean or not",null,null,null,null,"it includes the whole range of data including the column",null,null,null,null,null,null,null,null,null,"2 = 60"]
[null,null,null,null,null,null,"headers.",null,null,null,null,null," column13","column14","column15",null,"3 = 80","5 = 125"]
[null,null,null,null,null,null,null,null,null,null,null,null,"36 Terms","48 Terms","60 Terms",null,"4 = 100","6 = 150"]
["KEY","KSCHL","VKORG","LAND1","MATNR","ZZMVGR5","REGIO","COUNC","KBETR","DATAB","DATBI","RGNKEY","Criteria","Criteria","Criteria"]
[{"$f":"L8 & RIGHT(F8, 1) & E8","v":"US0003640"},"ZFL4","NA01","US",3640,0,null,null,0,"2009-01-01","9999-12-31","US00"]
["US0013640","ZFL4","NA01","US",3640,1,null,null,0,"2009-01-01","9999-12-31","US00"]
["US0023640","ZFL4","NA01","US",3640,2,null,null,0,"2009-01-01","9999-12-31","US00"]
["US0033640","ZFL4","NA01","US",3640,3,null,null,0,"2009-01-01","9999-12-31","US00",null,null,"NA"]
["US0043640","ZFL4","NA01","US",3640,4,null,null,0,"2009-01-01","9999-12-31","US00",null,"NA","NA"]
["US0053640","ZFL4","NA01","US",3640,5,null,null,0,"2009-01-01","9999-12-31","US00","NA","NA","NA"]
["US0063640","ZFL4","NA01","US",3640,6,null,null,0,"2009-01-01","9999-12-31","US00","NA","NA","NA"]
["US000S9","ZFL4","NA01","US","S9",0,null,null,0,"2009-01-01","9999-12-31","US00"]
["US001S9","ZFL4","NA01","US","S9",1,null,null,0,"2009-01-01","9999-12-31","US00"]
["US002S9","ZFL4","NA01","US","S9",2,null,null,0,"2009-01-01","9999-12-31","US00"]
["US003S9","ZFL4","NA01","US","S9",3,null,null,0,"2009-01-01","9999-12-31","US00",null,null,"NA"]
["US004S9","ZFL4","NA01","US","S9",4,null,null,0,"2009-01-01","9999-12-31","US00",null,"NA","NA"]
["US005S9","ZFL4","NA01","US","S9",5,null,null,0,"2009-01-01","9999-12-31","US00","NA","NA","NA"]
["US006S9","ZFL4","NA01","US","S9",6,null,null,0,"2009-01-01","9999-12-31","US00","NA","NA","NA"]
["US000S10","ZFL4","NA01","US","S10",0,null,null,0,"2009-01-01","9999-12-31","US00"]
["US001S10","ZFL4","NA01","US","S10",1,null,null,0,"2009-01-01","9999-12-31","US00"]
["US002S10","ZFL4","NA01","US","S10",2,null,null,0,"2009-01-01","9999-12-31","US00"]
["US003S10","ZFL4","NA01","US","S10",3,null,null,0,"2009-01-01","9999-12-31","US00",null,null,"NA"]
["US004S10","ZFL4","NA01","US","S10",4,null,null,0,"2009-01-01","9999-12-31","US00",null,"NA","NA"]
["US005S10","ZFL4","NA01","US","S10",5,null,null,0,"2009-01-01","9999-12-31","US00","NA","NA","NA"]
["US006S10","ZFL4","NA01","US","S10",6,null,null,0,"2009-01-01","9999-12-31","US00","NA","NA","NA"]
["US0006100","ZFL4","NA01","US",6100,0,null,null,0,"2009-01-01","9999-12-31","US00"]
["US0016100","ZFL4","NA01","US",6100,1,null,null,0,"2009-01-01","9999-12-31","US00"]
["US0026100","ZFL4","NA01","US",6100,2,null,null,0,"2009-01-01","9999-12-31","US00"]
["US0036100","ZFL4","NA01","US",6100,3,null,null,0,"2009-01-01","9999-12-31","US00",null,null,"NA"]
["US0046100","ZFL4","NA01","US",6100,4,null,null,0,"2009-01-01","9999-12-31","US00",null,"NA","NA"]
["US0056100","ZFL4","NA01","US",6100,5,null,null,0,"2009-01-01","9999-12-31","US00","NA","NA","NA"]
["US0066100","ZFL4","NA01","US",6100,6,null,null,0,"2009-01-01","9999-12-31","US00","NA","NA","NA"]
["US000R14","ZFL4","NA01","US","R14",0,null,null,0,"2009-01-01","9999-12-31","US00"]
["US001R14","ZFL4","NA01","US","R14",1,null,null,0,"2009-01-01","9999-12-31","US00"]
["US002R14","ZFL4","NA01","US","R14",2,null,null,0,"2009-01-01","9999-12-31","US00"]
["US003R14","ZFL4","NA01","US","R14",3,null,null,0,"2009-01-01","9999-12-31","US00",null,null,"NA"]
["US004R14","ZFL4","NA01","US","R14",4,null,null,0,"2009-01-01","9999-12-31","US00",null,"NA","NA"]
["US005R14","ZFL4","NA01","US","R14",5,null,null,0,"2009-01-01","9999-12-31","US00","NA","NA","NA"]
["US006R14","ZFL4","NA01","US","R14",6,null,null,0,"2009-01-01","9999-12-31","US00","NA","NA","NA"]
["US0001610","ZFL4","NA01","US",1610,0,null,null,0,"2009-01-01","9999-12-31","US00"]
["US0011610","ZFL4","NA01","US",1610,1,null,null,0,"2009-01-01","9999-12-31","US00"]
["US0021610","ZFL4","NA01","US",1610,2,null,null,0,"2009-01-01","9999-12-31","US00"]
["US0031610","ZFL4","NA01","US",1610,3,null,null,0,"2009-01-01","9999-12-31","US00",null,null,"NA"]
["US0041610","ZFL4","NA01","US",1610,4,null,null,0,"2009-01-01","9999-12-31","US00",null,"NA","NA"]
["US0051610","ZFL4","NA01","US",1610,5,null,null,0,"2009-01-01","9999-12-31","US00","NA","NA","NA"]
["US0061610","ZFL4","NA01","US",1610,6,null,null,0,"2009-01-01","9999-12-31","US00","NA","NA","NA"]
["US0001510","ZFL4","NA01","US",1510,0,null,null,0,"2009-01-01","9999-12-31","US00"]
["US0011510","ZFL4","NA01","US",1510,1,null,null,0,"2009-01-01","9999-12-31","US00"]
["US0021510","ZFL4","NA01","US",1510,2,null,null,0,"2009-01-01","9999-12-31","US00"]
["US0031510","ZFL4","NA01","US",1510,3,null,null,0,"2009-01-01","9999-12-31","US00",null,null,"NA"]
["US0041510","ZFL4","NA01","US",1510,4,null,null,0,"2009-01-01","9999-12-31","US00",null,"NA","NA"]
["US0051510","ZFL4","NA01","US",1510,5,null,null,0,"2009-01-01","9999-12-31","US00","NA","NA","NA"]
["US0061510","ZFL4","NA01","US",1510,6,null,null,0,"2009-01-01","9999-12-31","US00","NA","NA","NA"]
["US0005680","ZFL4","NA01","US",5680,0,null,null,0,"2009-01-01","9999-12-31","US00"]
["US0015680","ZFL4","NA01","US",5680,1,null,null,0,"2009-01-01","9999-12-31","US00"]
["US0025680","ZFL4","NA01","US",5680,2,null,null,0,"2009-01-01","9999-12-31","US00"]
["US0035680","ZFL4","NA01","US",5680,3,null,null,0,"2009-01-01","9999-12-31","US00",null,null,"NA"]
["US0045680","ZFL4","NA01","US",5680,4,null,null,0,"2009-01-01","9999-12-31","US00",null,"NA","NA"]
["US0055680","ZFL4","NA01","US",5680,5,null,null,0,"2009-01-01","9999-12-31","US00","NA","NA","NA"]
["US0065680","ZFL4","NA01","US",5680,6,null,null,0,"2009-01-01","9999-12-31","US00","NA","NA","NA"]
["US0005700","ZFL4","NA01","US",5700,0,null,null,0,"2009-01-01","9999-12-31","US00"]
["US0015700","ZFL4","NA01","US",5700,1,null,null,0,"2009-01-01","9999-12-31","US00"]
["US0025700","ZFL4","NA01","US",5700,2,null,null,0,"2009-01-01","9999-12-31","US00"]
["US0035700","ZFL4","NA01","US",5700,3,null,null,0,"2009-01-01","9999-12-31","US00",null,null,"NA"]
["US0045700","ZFL4","NA01","US",5700,4,null,null,0,"2009-01-01","9999-12-31","US00",null,"NA","NA"]
["US0055700","ZFL4","NA01","US",5700,5,null,null,0,"2009-01-01","9999-12-31","US00","NA","NA","NA"]
["US0065700","ZFL4","NA01","US",5700,6,null,null,0,"2009-01-01","9999-12-31","US00","NA","NA","NA"]
["US000T2","ZFL4","NA01","US","T2",0,null,null,0,"2009-01-01","9999-12-31","US00"]
[{"$f":"L72 & RIGHT(F72, 1) & E72","v":"US001T2"},"ZFL4","NA01","US","T2",1,null,null,0,"2009-01-01","9999-12-31","US00"]
["US002T2","ZFL4","NA01","US","T2",2,null,null,0,"2009-01-01","9999-12-31","US00"]
["US003T2","ZFL4","NA01","US","T2",3,null,null,0,"2009-01-01","9999-12-31","US00",null,null,"NA"]
["US004T2","ZFL4","NA01","US","T2",4,null,null,0,"2009-01-01","9999-12-31","US00",null,"NA","NA"]
["US005T2","ZFL4","NA01","US","T2",5,null,null,0,"2009-01-01","9999-12-31","US00","NA","NA","NA"]
["US006T2","ZFL4","NA01","US","T2",6,null,null,0,"2009-01-01","9999-12-31","US00","NA","NA","NA"]
["US000T3","ZFL4","NA01","US","T3",0,null,null,0,"2009-01-01","9999-12-31","US00"]
["US001T3","ZFL4","NA01","US","T3",1,null,null,0,"2009-01-01","9999-12-31","US00"]
["US002T3","ZFL4","NA01","US","T3",2,null,null,0,"2009-01-01","9999-12-31","US00"]
["US003T3","ZFL4","NA01","US","T3",3,null,null,0,"2009-01-01","9999-12-31","US00",null,null,"NA"]
["US004T3","ZFL4","NA01","US","T3",4,null,null,0,"2009-01-01","9999-12-31","US00",null,"NA","NA"]
["US005T3","ZFL4","NA01","US","T3",5,null,null,0,"2009-01-01","9999-12-31","US00","NA","NA","NA"]
["US006T3","ZFL4","NA01","US","T3",6,null,null,0,"2009-01-01","9999-12-31","US00","NA","NA","NA"]
["US000T5","ZFL4","NA01","US","T5",0,null,null,0,"2009-01-01","9999-12-31","US00"]
["US001T5","ZFL4","NA01","US","T5",1,null,null,0,"2009-01-01","9999-12-31","US00"]
["US002T5","ZFL4","NA01","US","T5",2,null,null,0,"2009-01-01","9999-12-31","US00"]
["US003T5","ZFL4","NA01","US","T5",3,null,null,0,"2009-01-01","9999-12-31","US00",null,null,"NA"]
["US004T5","ZFL4","NA01","US","T5",4,null,null,0,"2009-01-01","9999-12-31","US00",null,"NA","NA"]
["US005T5","ZFL4","NA01","US","T5",5,null,null,0,"2009-01-01","9999-12-31","US00","NA","NA","NA"]
["US006T5","ZFL4","NA01","US","T5",6,null,null,0,"2009-01-01","9999-12-31","US00","NA","NA","NA"]
["US000T7","ZFL4","NA01","US","T7",0,null,null,0,"2009-01-01","9999-12-31","US00"]
["US001T7","ZFL4","NA01","US","T7",1,null,null,0,"2009-01-01","9999-12-31","US00"]
["US002T7","ZFL4","NA01","US","T7",2,null,null,0,"2009-01-01","9999-12-31","US00"]
["US003T7","ZFL4","NA01","US","T7",3,null,null,0,"2009-01-01","9999-12-31","US00",null,null,"NA"]
["US004T7","ZFL4","NA01","US","T7",4,null,null,0,"2009-01-01","9999-12-31","US00",null,"NA","NA"]
["US005T7","ZFL4","NA01","US","T7",5,null,null,0,"2009-01-01","9999-12-31","US00","NA","NA","NA"]
["US006T7","ZFL4","NA01","US","T7",6,null,null,0,"2009-01-01","9999-12-31","US00","NA","NA","NA"]
[{"$f":"L99 & RIGHT(F99, 1) & E99","v":"US000T7AMR"},"ZFL4","NA01","US","T7AMR",0,null,null,0,"2009-01-01","9999-12-31","US00"]
["US001T7AMR","ZFL4","NA01","US","T7AMR",1,null,null,0,"2009-01-01","9999-12-31","US00"]
["US002T7AMR","ZFL4","NA01","US","T7AMR",2,null,null,0,"2009-01-01","9999-12-31","US00"]
["US003T7AMR","ZFL4","NA01","US","T7AMR",3,null,null,0,"2009-01-01","9999-12-31","US00",null,null,"NA"]
["US004T7AMR","ZFL4","NA01","US","T7AMR",4,null,null,0,"2009-01-01","9999-12-31","US00",null,"NA","NA"]
["US005T7AMR","ZFL4","NA01","US","T7AMR",5,null,null,0,"2009-01-01","9999-12-31","US00","NA","NA","NA"]
["US006T7AMR","ZFL4","NA01","US","T7AMR",6,null,null,0,"2009-01-01","9999-12-31","US00","NA","NA","NA"]
["US0002550","ZFL4","NA01","US",2550,0,null,null,0,"2009-01-01","9999-12-31","US00"]
["US0012550","ZFL4","NA01","US",2550,1,null,null,0,"2009-01-01","9999-12-31","US00"]
["US0022550","ZFL4","NA01","US",2550,2,null,null,0,"2009-01-01","9999-12-31","US00"]
["US0032550","ZFL4","NA01","US",2550,3,null,null,0,"2009-01-01","9999-12-31","US00",null,null,"NA"]
["US0042550","ZFL4","NA01","US",2550,4,null,null,0,"2009-01-01","9999-12-31","US00",null,"NA","NA"]
["US0052550","ZFL4","NA01","US",2550,5,null,null,0,"2009-01-01","9999-12-31","US00","NA","NA","NA"]
["US0062550","ZFL4","NA01","US",2550,6,null,null,0,"2009-01-01","9999-12-31","US00","NA","NA","NA"]
["US000B7","ZFL4","NA01","US","B7",0,null,null,0,"2009-01-01","9999-12-31","US00"]
["US001B7","ZFL4","NA01","US","B7",1,null,null,0,"2009-01-01","9999-12-31","US00"]
["US002B7","ZFL4","NA01","US","B7",2,null,null,0,"2009-01-01","9999-12-31","US00"]
["US003B7","ZFL4","NA01","US","B7",3,null,null,0,"2009-01-01","9999-12-31","US00",null,null,"NA"]
["US004B7","ZFL4","NA01","US","B7",4,null,null,0,"2009-01-01","9999-12-31","US00",null,"NA","NA"]
["US005B7","ZFL4","NA01","US","B7",5,null,null,0,"2009-01-01","9999-12-31","US00","NA","NA","NA"]
["US006B7","ZFL4","NA01","US","B7",6,null,null,0,"2009-01-01","9999-12-31","US00","NA","NA","NA"]
["US000B10","ZFL4","NA01","US","B10",0,null,null,0,"2009-01-01","9999-12-31","US00"]
["US001B10","ZFL4","NA01","US","B10",1,null,null,0,"2009-01-01","9999-12-31","US00"]
["US002B10","ZFL4","NA01","US","B10",2,null,null,0,"2009-01-01","9999-12-31","US00"]
["US003B10","ZFL4","NA01","US","B10",3,null,null,0,"2009-01-01","9999-12-31","US00",null,null,"NA"]
["US004B10","ZFL4","NA01","US","B10",4,null,null,0,"2009-01-01","9999-12-31","US00",null,"NA","NA"]
["US005B10","ZFL4","NA01","US","B10",5,null,null,0,"2009-01-01","9999-12-31","US00","NA","NA","NA"]
["US006B10","ZFL4","NA01","US","B10",6,null,null,0,"2009-01-01","9999-12-31","US00","NA","NA","NA"]
["US0006200","ZFL4","NA01","US",6200,0,null,null,0,"2009-01-01","9999-12-31","US00"]
["US0016200","ZFL4","NA01","US",6200,1,null,null,0,"2009-01-01","9999-12-31","US00"]
["US0026200","ZFL4","NA01","US",6200,2,null,null,0,"2009-01-01","9999-12-31","US00"]
["US0036200","ZFL4","NA01","US",6200,3,null,null,0,"2009-01-01","9999-12-31","US00"]
["US0046200","ZFL4","NA01","US",6200,4,null,null,0,"2009-01-01","9999-12-31","US00"]
["US0056200","ZFL4","NA01","US",6200,5,null,null,0,"2009-01-01","9999-12-31","US00","1BO","1BO","NA"]
["US0066200","ZFL4","NA01","US",6200,6,null,null,0,"2009-01-01","9999-12-31","US00","1BO","NA","NA"]
[]
[{"$f":"L135 & RIGHT(F135, 1) & E135","v":"US000S20"},"ZFL4","NA01","US","S20",0,null,null,0,"2009-01-01","9999-12-31","US00"]
["US001S20","ZFL4","NA01","US","S20",1,null,null,0,"2009-01-01","9999-12-31","US00"]
["US002S20","ZFL4","NA01","US","S20",2,null,null,0,"2009-01-01","9999-12-31","US00"]
["US003S20","ZFL4","NA01","US","S20",3,null,null,0,"2009-01-01","9999-12-31","US00"]
["US004S20","ZFL4","NA01","US","S20",4,null,null,0,"2009-01-01","9999-12-31","US00"]
["US005S20","ZFL4","NA01","US","S20",5,null,null,0,"2009-01-01","9999-12-31","US00","1BO","1BO","NA"]
["US006S20","ZFL4","NA01","US","S20",6,null,null,0,"2009-01-01","9999-12-31","US00","1BO","NA","NA"]
["US000S30","ZFL4","NA01","US","S30",0,null,null,0,"2009-01-01","9999-12-31","US00"]
["US001S30","ZFL4","NA01","US","S30",1,null,null,0,"2009-01-01","9999-12-31","US00"]
["US002S30","ZFL4","NA01","US","S30",2,null,null,0,"2009-01-01","9999-12-31","US00"]
["US003S30","ZFL4","NA01","US","S30",3,null,null,0,"2009-01-01","9999-12-31","US00"]
["US004S30","ZFL4","NA01","US","S30",4,null,null,0,"2009-01-01","9999-12-31","US00"]
["US005S30","ZFL4","NA01","US","S30",5,null,null,0,"2009-01-01","9999-12-31","US00","1BO","1BO","NA"]
["US006S30","ZFL4","NA01","US","S30",6,null,null,0,"2009-01-01","9999-12-31","US00","1BO","NA","NA"]
["US000800","ZFL4","NA01","US",800,0,null,null,0,"2009-01-01","9999-12-31","US00"]
["US001800","ZFL4","NA01","US",800,1,null,null,0,"2009-01-01","9999-12-31","US00"]
["US002800","ZFL4","NA01","US",800,2,null,null,0,"2009-01-01","9999-12-31","US00"]
["US003800","ZFL4","NA01","US",800,3,null,null,0,"2009-01-01","9999-12-31","US00"]
["US004800","ZFL4","NA01","US",800,4,null,null,0,"2009-01-01","9999-12-31","US00"]
["US005800","ZFL4","NA01","US",800,5,null,null,0,"2009-01-01","9999-12-31","US00","1BO","1BO","NA"]
["US006800","ZFL4","NA01","US",800,6,null,null,0,"2009-01-01","9999-12-31","US00","1BO","NA","NA"]
["US000810","ZFL4","NA01","US",810,0,null,null,0,"2009-01-01","9999-12-31","US00"]
["US001810","ZFL4","NA01","US",810,1,null,null,0,"2009-01-01","9999-12-31","US00"]
["US002810","ZFL4","NA01","US",810,2,null,null,0,"2009-01-01","9999-12-31","US00"]
["US003810","ZFL4","NA01","US",810,3,null,null,0,"2009-01-01","9999-12-31","US00"]
["US004810","ZFL4","NA01","US",810,4,null,null,0,"2009-01-01","9999-12-31","US00"]
["US005810","ZFL4","NA01","US",810,5,null,null,0,"2009-01-01","9999-12-31","US00","1BO","1BO","NA"]
["US006810","ZFL4","NA01","US",810,6,null,null,0,"2009-01-01","9999-12-31","US00","1BO","NA","NA"]
["US000ATLV","ZFL4","NA01","US","ATLV",0,null,null,0,"2009-01-01","9999-12-31","US00"]
["US001ATLV","ZFL4","NA01","US","ATLV",1,null,null,0,"2009-01-01","9999-12-31","US00"]
["US002ATLV","ZFL4","NA01","US","ATLV",2,null,null,0,"2009-01-01","9999-12-31","US00"]
["US003ATLV","ZFL4","NA01","US","ATLV",3,null,null,0,"2009-01-01","9999-12-31","US00"]
["US004ATLV","ZFL4","NA01","US","ATLV",4,null,null,0,"2009-01-01","9999-12-31","US00"]
["US005ATLV","ZFL4","NA01","US","ATLV",5,null,null,0,"2009-01-01","9999-12-31","US00","1BO","1BO","NA"]
["US006ATLV","ZFL4","NA01","US","ATLV",6,null,null,0,"2009-01-01","9999-12-31","US00","1BO","NA","NA"]
["US000T12","ZFL4","NA01","US","T12",0,null,null,0,"2009-01-01","9999-12-31","US00"]
["US001T12","ZFL4","NA01","US","T12",1,null,null,0,"2009-01-01","9999-12-31","US00"]
["US002T12","ZFL4","NA01","US","T12",2,null,null,0,"2009-01-01","9999-12-31","US00"]
["US003T12","ZFL4","NA01","US","T12",3,null,null,0,"2009-01-01","9999-12-31","US00"]
["US004T12","ZFL4","NA01","US","T12",4,null,null,0,"2009-01-01","9999-12-31","US00"]
["US005T12","ZFL4","NA01","US","T12",5,null,null,0,"2009-01-01","9999-12-31","US00","1BO","1BO","NA"]
["US006T12","ZFL4","NA01","US","T12",6,null,null,0,"2009-01-01","9999-12-31","US00","1BO","NA","NA"]
[{"$f":"L177 & RIGHT(F177, 1) & E177","v":"US000T12_Standard_Config"},"ZFL4","NA01","US","T12_Standard_Config",0,null,null,0,"2009-01-01","9999-12-31","US00"]
["US001T12_Standard_Config","ZFL4","NA01","US","T12_Standard_Config",1,null,null,0,"2009-01-01","9999-12-31","US00"]
["US002T12_Standard_Config","ZFL4","NA01","US","T12_Standard_Config",2,null,null,0,"2009-01-01","9999-12-31","US00"]
["US003T12_Standard_Config","ZFL4","NA01","US","T12_Standard_Config",3,null,null,0,"2009-01-01","9999-12-31","US00"]
["US004T12_Standard_Config","ZFL4","NA01","US","T12_Standard_Config",4,null,null,0,"2009-01-01","9999-12-31","US00"]
["US005T12_Standard_Config","ZFL4","NA01","US","T12_Standard_Config",5,null,null,0,"2009-01-01","9999-12-31","US00","1BO","1BO","NA"]
["US006T12_Standard_Config","ZFL4","NA01","US","T12_Standard_Config",6,null,null,0,"2009-01-01","9999-12-31","US00","1BO","NA","NA"]
["US000T16","ZFL4","NA01","US","T16",0,null,null,0,"2009-01-01","9999-12-31","US00"]
["US001T16","ZFL4","NA01","US","T16",1,null,null,0,"2009-01-01","9999-12-31","US00"]
["US002T16","ZFL4","NA01","US","T16",2,null,null,0,"2009-01-01","9999-12-31","US00"]
["US003T16","ZFL4","NA01","US","T16",3,null,null,0,"2009-01-01","9999-12-31","US00"]
["US004T16","ZFL4","NA01","US","T16",4,null,null,0,"2009-01-01","9999-12-31","US00"]
["US005T16","ZFL4","NA01","US","T16",5,null,null,0,"2009-01-01","9999-12-31","US00","1BO","1BO","NA"]
["US006T16","ZFL4","NA01","US","T16",6,null,null,0,"2009-01-01","9999-12-31","US00","1BO","NA","NA"]
[{"$f":"L191 & RIGHT(F191, 1) & E191","v":"US000T16_Standard_Config"},"ZFL4","NA01","US","T16_Standard_Config",0,null,null,0,"2009-01-01","9999-12-31","US00"]
["US001T16_Standard_Config","ZFL4","NA01","US","T16_Standard_Config",1,null,null,0,"2009-01-01","9999-12-31","US00"]
["US002T16_Standard_Config","ZFL4","NA01","US","T16_Standard_Config",2,null,null,0,"2009-01-01","9999-12-31","US00"]
["US003T16_Standard_Config","ZFL4","NA01","US","T16_Standard_Config",3,null,null,0,"2009-01-01","9999-12-31","US00"]
["US004T16_Standard_Config","ZFL4","NA01","US","T16_Standard_Config",4,null,null,0,"2009-01-01","9999-12-31","US00"]
["US005T16_Standard_Config","ZFL4","NA01","US","T16_Standard_Config",5,null,null,0,"2009-01-01","9999-12-31","US00","1BO","1BO","NA"]
["US006T16_Standard_Config","ZFL4","NA01","US","T16_Standard_Config",6,null,null,0,"2009-01-01","9999-12-31","US00","1BO","NA","NA"]
["US000T17","ZFL4","NA01","US","T17",0,null,null,0,"2009-01-01","9999-12-31","US00"]
["US001T17","ZFL4","NA01","US","T17",1,null,null,0,"2009-01-01","9999-12-31","US00"]
["US002T17","ZFL4","NA01","US","T17",2,null,null,0,"2009-01-01","9999-12-31","US00"]
["US003T17","ZFL4","NA01","US","T17",3,null,null,0,"2009-01-01","9999-12-31","US00"]
["US004T17","ZFL4","NA01","US","T17",4,null,null,0,"2009-01-01","9999-12-31","US00"]
["US005T17","ZFL4","NA01","US","T17",5,null,null,0,"2009-01-01","9999-12-31","US00","1BO","1BO","NA"]
["US006T17","ZFL4","NA01","US","T17",6,null,null,0,"2009-01-01","9999-12-31","US00","1BO","NA","NA"]
[{"$f":"L205 & RIGHT(F205, 1) & E205","v":"US000T17_Standard_Config"},"ZFL4","NA01","US","T17_Standard_Config",0,null,null,0,"2009-01-01","9999-12-31","US00"]
["US001T17_Standard_Config","ZFL4","NA01","US","T17_Standard_Config",1,null,null,0,"2009-01-01","9999-12-31","US00"]
["US002T17_Standard_Config","ZFL4","NA01","US","T17_Standard_Config",2,null,null,0,"2009-01-01","9999-12-31","US00"]
["US003T17_Standard_Config","ZFL4","NA01","US","T17_Standard_Config",3,null,null,0,"2009-01-01","9999-12-31","US00"]
["US004T17_Standard_Config","ZFL4","NA01","US","T17_Standard_Config",4,null,null,0,"2009-01-01","9999-12-31","US00"]
["US005T17_Standard_Config","ZFL4","NA01","US","T17_Standard_Config",5,null,null,0,"2009-01-01","9999-12-31","US00","1BO","1BO","NA"]
["US006T17_Standard_Config","ZFL4","NA01","US","T17_Standard_Config",6,null,null,0,"2009-01-01","9999-12-31","US00","1BO","NA","NA"]
["US0007300","ZFL4","NA01","US",7300,0,null,null,0,"2009-01-01","9999-12-31","US00"]
["US0017300","ZFL4","NA01","US",7300,1,null,null,0,"2009-01-01","9999-12-31","US00"]
["US0027300","ZFL4","NA01","US",7300,2,null,null,0,"2009-01-01","9999-12-31","US00"]
["US0037300","ZFL4","NA01","US",7300,3,null,null,0,"2009-01-01","9999-12-31","US00"]
["US0047300","ZFL4","NA01","US",7300,4,null,null,0,"2009-01-01","9999-12-31","US00"]
["US0057300","ZFL4","NA01","US",7300,5,null,null,0,"2009-01-01","9999-12-31","US00","1BO","1BO","NA"]
["US0067300","ZFL4","NA01","US",7300,6,null,null,0,"2009-01-01","9999-12-31","US00","1BO","NA","NA"]
["US000T20","ZFL4","NA01","US","T20",0,null,null,0,"2009-01-01","9999-12-31","US00"]
[{"$f":"L220 & RIGHT(F220, 1) & E220","v":"US001T20"},"ZFL4","NA01","US","T20",1,null,null,0,"2009-01-01","9999-12-31","US00"]
["US002T20","ZFL4","NA01","US","T20",2,null,null,0,"2009-01-01","9999-12-31","US00"]
["US003T20","ZFL4","NA01","US","T20",3,null,null,0,"2009-01-01","9999-12-31","US00"]
["US004T20","ZFL4","NA01","US","T20",4,null,null,0,"2009-01-01","9999-12-31","US00"]
["US005T20","ZFL4","NA01","US","T20",5,null,null,0,"2009-01-01","9999-12-31","US00","1BO","1BO","NA"]
["US006T20","ZFL4","NA01","US","T20",6,null,null,0,"2009-01-01","9999-12-31","US00","1BO","NA","NA"]
["US000T20_Standard_Config","ZFL4","NA01","US","T20_Standard_Config",0,null,null,0,"2009-01-01","9999-12-31","US00"]
[{"$f":"L227 & RIGHT(F227, 1) & E227","v":"US001T20_Standard_Config"},"ZFL4","NA01","US","T20_Standard_Config",1,null,null,0,"2009-01-01","9999-12-31","US00"]
["US002T20_Standard_Config","ZFL4","NA01","US","T20_Standard_Config",2,null,null,0,"2009-01-01","9999-12-31","US00"]
["US003T20_Standard_Config","ZFL4","NA01","US","T20_Standard_Config",3,null,null,0,"2009-01-01","9999-12-31","US00"]
["US004T20_Standard_Config","ZFL4","NA01","US","T20_Standard_Config",4,null,null,0,"2009-01-01","9999-12-31","US00"]
["US005T20_Standard_Config","ZFL4","NA01","US","T20_Standard_Config",5,null,null,0,"2009-01-01","9999-12-31","US00","1BO","1BO","NA"]
["US006T20_Standard_Config","ZFL4","NA01","US","T20_Standard_Config",6,null,null,0,"2009-01-01","9999-12-31","US00","1BO","NA","NA"]
["US0008300","ZFL4","NA01","US",8300,0,null,null,0,"2009-01-01","9999-12-31","US00"]
["US0018300","ZFL4","NA01","US",8300,1,null,null,0,"2009-01-01","9999-12-31","US00"]
["US0028300","ZFL4","NA01","US",8300,2,null,null,0,"2009-01-01","9999-12-31","US00"]
["US0038300","ZFL4","NA01","US",8300,3,null,null,0,"2009-01-01","9999-12-31","US00"]
["US0048300","ZFL4","NA01","US",8300,4,null,null,0,"2009-01-01","9999-12-31","US00"]
["US0058300","ZFL4","NA01","US",8300,5,null,null,0,"2009-01-01","9999-12-31","US00","1BO","1BO","NA"]
["US0068300","ZFL4","NA01","US",8300,6,null,null,0,"2009-01-01","9999-12-31","US00","1BO","NA","NA"]
["US000M20","ZFL4","NA01","US","M20",0,null,null,0,"2009-01-01","9999-12-31","US00"]
["US001M20","ZFL4","NA01","US","M20",1,null,null,0,"2009-01-01","9999-12-31","US00"]
["US002M20","ZFL4","NA01","US","M20",2,null,null,0,"2009-01-01","9999-12-31","US00"]
["US003M20","ZFL4","NA01","US","M20",3,null,null,0,"2009-01-01","9999-12-31","US00"]
["US004M20","ZFL4","NA01","US","M20",4,null,null,0,"2009-01-01","9999-12-31","US00"]
["US005M20","ZFL4","NA01","US","M20",5,null,null,0,"2009-01-01","9999-12-31","US00","1BO","1BO","NA"]
["US006M20","ZFL4","NA01","US","M20",6,null,null,0,"2009-01-01","9999-12-31","US00","1BO","NA","NA"]
[{"$f":"L247 & RIGHT(F247, 1) & E247","v":"US000M20_Standard_Config"},"ZFL4","NA01","US","M20_Standard_Config",0,null,null,0,"2009-01-01","9999-12-31","US00"]
["US001M20_Standard_Config","ZFL4","NA01","US","M20_Standard_Config",1,null,null,0,"2009-01-01","9999-12-31","US00"]
["US002M20_Standard_Config","ZFL4","NA01","US","M20_Standard_Config",2,null,null,0,"2009-01-01","9999-12-31","US00"]
["US003M20_Standard_Config","ZFL4","NA01","US","M20_Standard_Config",3,null,null,0,"2009-01-01","9999-12-31","US00"]
["US004M20_Standard_Config","ZFL4","NA01","US","M20_Standard_Config",4,null,null,0,"2009-01-01","9999-12-31","US00"]
["US005M20_Standard_Config","ZFL4","NA01","US","M20_Standard_Config",5,null,null,0,"2009-01-01","9999-12-31","US00","1BO","1BO","NA"]
["US006M20_Standard_Config","ZFL4","NA01","US","M20_Standard_Config",6,null,null,0,"2009-01-01","9999-12-31","US00","1BO","NA","NA"]
["US000M30","ZFL4","NA01","US","M30",0,null,null,0,"2009-01-01","9999-12-31","US00"]
["US001M30","ZFL4","NA01","US","M30",1,null,null,0,"2009-01-01","9999-12-31","US00"]
["US002M30","ZFL4","NA01","US","M30",2,null,null,0,"2009-01-01","9999-12-31","US00"]
["US003M30","ZFL4","NA01","US","M30",3,null,null,0,"2009-01-01","9999-12-31","US00"]
["US004M30","ZFL4","NA01","US","M30",4,null,null,0,"2009-01-01","9999-12-31","US00"]
["US005M30","ZFL4","NA01","US","M30",5,null,null,0,"2009-01-01","9999-12-31","US00","1BO","1BO","NA"]
["US006M30","ZFL4","NA01","US","M30",6,null,null,0,"2009-01-01","9999-12-31","US00","1BO","NA","NA"]
[{"$f":"L261 & RIGHT(F261, 1) & E261","v":"US000M30_Standard_Config"},"ZFL4","NA01","US","M30_Standard_Config",0,null,null,0,"2009-01-01","9999-12-31","US00"]
["US001M30_Standard_Config","ZFL4","NA01","US","M30_Standard_Config",1,null,null,0,"2009-01-01","9999-12-31","US00"]
["US002M30_Standard_Config","ZFL4","NA01","US","M30_Standard_Config",2,null,null,0,"2009-01-01","9999-12-31","US00"]
["US003M30_Standard_Config","ZFL4","NA01","US","M30_Standard_Config",3,null,null,0,"2009-01-01","9999-12-31","US00"]
["US004M30_Standard_Config","ZFL4","NA01","US","M30_Standard_Config",4,null,null,0,"2009-01-01","9999-12-31","US00"]
["US005M30_Standard_Config","ZFL4","NA01","US","M30_Standard_Config",5,null,null,0,"2009-01-01","9999-12-31","US00","1BO","1BO","NA"]
["US006M30_Standard_Config","ZFL4","NA01","US","M30_Standard_Config",6,null,null,0,"2009-01-01","9999-12-31","US00","1BO","NA","NA"]
["US000GM400","ZFL4","NA01","US","GM400",0,null,null,0,"2009-01-01","9999-12-31","US00","1BO","1BO","1BO"]
["US001GM400","ZFL4","NA01","US","GM400",1,null,null,0,"2009-01-01","9999-12-31","US00","1BO","1BO","1BO"]
["US002GM400","ZFL4","NA01","US","GM400",2,null,null,0,"2009-01-01","9999-12-31","US00","1BO","1BO","1BO"]
["US003GM400","ZFL4","NA01","US","GM400",3,null,null,0,"2009-01-01","9999-12-31","US00","1BO","1BO","1BO"]
["US004GM400","ZFL4","NA01","US","GM400",4,null,null,0,"2009-01-01","9999-12-31","US00","1BO","1BO","1BO"]
["US005GM400","ZFL4","NA01","US","GM400",5,null,null,0,"2009-01-01","9999-12-31","US00","1BO","1BO","NA"]
["US006GM400","ZFL4","NA01","US","GM400",6,null,null,0,"2009-01-01","9999-12-31","US00","1BO","NA","NA"]
["US000GM600","ZFL4","NA01","US","GM600",0,null,null,0,"2009-01-01","9999-12-31","US00","1BO","1BO","1BO"]
["US001GM600","ZFL4","NA01","US","GM600",1,null,null,0,"2009-01-01","9999-12-31","US00","1BO","1BO","1BO"]
["US002GM600","ZFL4","NA01","US","GM600",2,null,null,0,"2009-01-01","9999-12-31","US00","1BO","1BO","1BO"]
["US003GM600","ZFL4","NA01","US","GM600",3,null,null,0,"2009-01-01","9999-12-31","US00","1BO","1BO","1BO"]
["US004GM600","ZFL4","NA01","US","GM600",4,null,null,0,"2009-01-01","9999-12-31","US00","1BO","1BO","1BO"]
["US005GM600","ZFL4","NA01","US","GM600",5,null,null,0,"2009-01-01","9999-12-31","US00","1BO","1BO","NA"]
["US006GM600","ZFL4","NA01","US","GM600",6,null,null,0,"2009-01-01","9999-12-31","US00","1BO","NA","NA"]
["US000DualTech_ReadySpace_Strive","ZFL4","NA01","US","DualTech_ReadySpace_Strive",0,null,null,0,"2009-01-01","9999-12-31","US00"]
["US001DualTech_ReadySpace_Strive","ZFL4","NA01","US","DualTech_ReadySpace_Strive",1,null,null,0,"2009-01-01","9999-12-31","US00"]
["US002DualTech_ReadySpace_Strive","ZFL4","NA01","US","DualTech_ReadySpace_Strive",2,null,null,0,"2009-01-01","9999-12-31","US00"]
["US003DualTech_ReadySpace_Strive","ZFL4","NA01","US","DualTech_ReadySpace_Strive",3,null,null,0,"2009-01-01","9999-12-31","US00",null,null,"NA"]
["US004DualTech_ReadySpace_Strive","ZFL4","NA01","US","DualTech_ReadySpace_Strive",4,null,null,0,"2009-01-01","9999-12-31","US00",null,"NA","NA"]
["US005DualTech_ReadySpace_Strive","ZFL4","NA01","US","DualTech_ReadySpace_Strive",5,null,null,0,"2009-01-01","9999-12-31","US00","NA","NA","NA"]
["US006DualTech_ReadySpace_Strive","ZFL4","NA01","US","DualTech_ReadySpace_Strive",6,null,null,0,"2009-01-01","9999-12-31","US00","NA","NA","NA"]
["US000DualTech_ReadySpace_StriveRider","ZFL4","NA01","US","DualTech_ReadySpace_StriveRider",0,null,null,0,"2009-01-01","9999-12-31","US00"]
["US001DualTech_ReadySpace_StriveRider","ZFL4","NA01","US","DualTech_ReadySpace_StriveRider",1,null,null,0,"2009-01-01","9999-12-31","US00"]
["US002DualTech_ReadySpace_StriveRider","ZFL4","NA01","US","DualTech_ReadySpace_StriveRider",2,null,null,0,"2009-01-01","9999-12-31","US00"]
["US003DualTech_ReadySpace_StriveRider","ZFL4","NA01","US","DualTech_ReadySpace_StriveRider",3,null,null,0,"2009-01-01","9999-12-31","US00",null,null,"NA"]
["US004DualTech_ReadySpace_StriveRider","ZFL4","NA01","US","DualTech_ReadySpace_StriveRider",4,null,null,0,"2009-01-01","9999-12-31","US00",null,"NA","NA"]
["US005DualTech_ReadySpace_StriveRider","ZFL4","NA01","US","DualTech_ReadySpace_StriveRider",5,null,null,0,"2009-01-01","9999-12-31","US00","NA","NA","NA"]
["US006DualTech_ReadySpace_StriveRider","ZFL4","NA01","US","DualTech_ReadySpace_StriveRider",6,null,null,0,"2009-01-01","9999-12-31","US00","NA","NA","NA"]
["US000SS5_24_32","ZFL4","NA01","US","SS5_24_32",0,null,null,0,"2009-01-01","9999-12-31","US00"]
["US001SS5_24_32","ZFL4","NA01","US","SS5_24_32",1,null,null,0,"2009-01-01","9999-12-31","US00"]
["US002SS5_24_32","ZFL4","NA01","US","SS5_24_32",2,null,null,0,"2009-01-01","9999-12-31","US00"]
["US003SS5_24_32","ZFL4","NA01","US","SS5_24_32",3,null,null,0,"2009-01-01","9999-12-31","US00",null,null,"NA"]
["US004SS5_24_32","ZFL4","NA01","US","SS5_24_32",4,null,null,0,"2009-01-01","9999-12-31","US00",null,"NA","NA"]
["US005SS5_24_32","ZFL4","NA01","US","SS5_24_32",5,null,null,0,"2009-01-01","9999-12-31","US00","NA","NA","NA"]
["US006SS5_24_32","ZFL4","NA01","US","SS5_24_32",6,null,null,0,"2009-01-01","9999-12-31","US00","NA","NA","NA"]
["US000SSR","ZFL4","NA01","US","SSR",0,null,null,0,"2009-01-01","9999-12-31","US00"]
["US001SSR","ZFL4","NA01","US","SSR",1,null,null,0,"2009-01-01","9999-12-31","US00"]
[{"$f":"L305 & RIGHT(F305, 1) & E305","v":"US002SSR"},"ZFL4","NA01","US","SSR",2,null,null,0,"2009-01-01","9999-12-31","US00"]
["US003SSR","ZFL4","NA01","US","SSR",3,null,null,0,"2009-01-01","9999-12-31","US00",null,null,"NA"]
["US004SSR","ZFL4","NA01","US","SSR",4,null,null,0,"2009-01-01","9999-12-31","US00",null,"NA","NA"]
["US005SSR","ZFL4","NA01","US","SSR",5,null,null,0,"2009-01-01","9999-12-31","US00","NA","NA","NA"]
["US006SSR","ZFL4","NA01","US","SSR",6,null,null,0,"2009-01-01","9999-12-31","US00","NA","NA","NA"]
["US000SpeedGleam7","ZFL4","NA01","US","SpeedGleam7",0,null,null,0,"2009-01-01","9999-12-31","US00"]
["US001SpeedGleam7","ZFL4","NA01","US","SpeedGleam7",1,null,null,0,"2009-01-01","9999-12-31","US00"]
["US002SpeedGleam7","ZFL4","NA01","US","SpeedGleam7",2,null,null,0,"2009-01-01","9999-12-31","US00"]
["US003SpeedGleam7","ZFL4","NA01","US","SpeedGleam7",3,null,null,0,"2009-01-01","9999-12-31","US00",null,null,"NA"]
["US004SpeedGleam7","ZFL4","NA01","US","SpeedGleam7",4,null,null,0,"2009-01-01","9999-12-31","US00",null,"NA","NA"]
["US005SpeedGleam7","ZFL4","NA01","US","SpeedGleam7",5,null,null,0,"2009-01-01","9999-12-31","US00","NA","NA","NA"]
["US006SpeedGleam7","ZFL4","NA01","US","SpeedGleam7",6,null,null,0,"2009-01-01","9999-12-31","US00","NA","NA","NA"]
["US000SpeedGleam_Rider","ZFL4","NA01","US","SpeedGleam_Rider",0,null,null,0,"2009-01-01","9999-12-31","US00"]
["US001SpeedGleam_Rider","ZFL4","NA01","US","SpeedGleam_Rider",1,null,null,0,"2009-01-01","9999-12-31","US00"]
["US002SpeedGleam_Rider","ZFL4","NA01","US","SpeedGleam_Rider",2,null,null,0,"2009-01-01","9999-12-31","US00"]
["US003SpeedGleam_Rider","ZFL4","NA01","US","SpeedGleam_Rider",3,null,null,0,"2009-01-01","9999-12-31","US00",null,null,"NA"]
["US004SpeedGleam_Rider","ZFL4","NA01","US","SpeedGleam_Rider",4,null,null,0,"2009-01-01","9999-12-31","US00",null,"NA","NA"]
["US005SpeedGleam_Rider","ZFL4","NA01","US","SpeedGleam_Rider",5,null,null,0,"2009-01-01","9999-12-31","US00","NA","NA","NA"]
["US006SpeedGleam_Rider","ZFL4","NA01","US","SpeedGleam_Rider",6,null,null,0,"2009-01-01","9999-12-31","US00","NA","NA","NA"]
["US000SS_17_20","ZFL4","NA01","US","SS_17_20",0,null,null,0,"2009-01-01","9999-12-31","US00"]
["US001SS_17_20","ZFL4","NA01","US","SS_17_20",1,null,null,0,"2009-01-01","9999-12-31","US00"]
["US002SS_17_20","ZFL4","NA01","US","SS_17_20",2,null,null,0,"2009-01-01","9999-12-31","US00"]
["US003SS_17_20","ZFL4","NA01","US","SS_17_20",3,null,null,0,"2009-01-01","9999-12-31","US00",null,null,"NA"]
["US004SS_17_20","ZFL4","NA01","US","SS_17_20",4,null,null,0,"2009-01-01","9999-12-31","US00",null,"NA","NA"]
["US005SS_17_20","ZFL4","NA01","US","SS_17_20",5,null,null,0,"2009-01-01","9999-12-31","US00","NA","NA","NA"]
["US006SS_17_20","ZFL4","NA01","US","SS_17_20",6,null,null,0,"2009-01-01","9999-12-31","US00","NA","NA","NA"]
["US000SS_XC","ZFL4","NA01","US","SS_XC",0,null,null,0,"2009-01-01","9999-12-31","US00"]
["US001SS_XC","ZFL4","NA01","US","SS_XC",1,null,null,0,"2009-01-01","9999-12-31","US00"]
["US002SS_XC","ZFL4","NA01","US","SS_XC",2,null,null,0,"2009-01-01","9999-12-31","US00"]
["US003SS_XC","ZFL4","NA01","US","SS_XC",3,null,null,0,"2009-01-01","9999-12-31","US00",null,null,"NA"]
["US004SS_XC","ZFL4","NA01","US","SS_XC",4,null,null,0,"2009-01-01","9999-12-31","US00",null,"NA","NA"]
["US005SS_XC","ZFL4","NA01","US","SS_XC",5,null,null,0,"2009-01-01","9999-12-31","US00","NA","NA","NA"]
["US006SS_XC","ZFL4","NA01","US","SS_XC",6,null,null,0,"2009-01-01","9999-12-31","US00","NA","NA","NA"]
["US000SS3_Orbital","ZFL4","NA01","US","SS3_Orbital",0,null,null,0,"2009-01-01","9999-12-31","US00"]
["US001SS3_Orbital","ZFL4","NA01","US","SS3_Orbital",1,null,null,0,"2009-01-01","9999-12-31","US00"]
["US002SS3_Orbital","ZFL4","NA01","US","SS3_Orbital",2,null,null,0,"2009-01-01","9999-12-31","US00"]
["US003SS3_Orbital","ZFL4","NA01","US","SS3_Orbital",3,null,null,0,"2009-01-01","9999-12-31","US00",null,null,"NA"]
["US004SS3_Orbital","ZFL4","NA01","US","SS3_Orbital",4,null,null,0,"2009-01-01","9999-12-31","US00",null,"NA","NA"]
["US005SS3_Orbital","ZFL4","NA01","US","SS3_Orbital",5,null,null,0,"2009-01-01","9999-12-31","US00","NA","NA","NA"]
["US006SS3_Orbital","ZFL4","NA01","US","SS3_Orbital",6,null,null,0,"2009-01-01","9999-12-31","US00","NA","NA","NA"]
[{"$f":"L345 & RIGHT(F345, 1) & E345","v":"US000T300"},"ZFL4","NA01","US","T300",0,null,null,0,"2009-01-01","9999-12-31","US00"]
["US001T300","ZFL4","NA01","US","T300",1,null,null,0,"2009-01-01","9999-12-31","US00"]
["US002T300","ZFL4","NA01","US","T300",2,null,null,0,"2009-01-01","9999-12-31","US00"]
["US003T300","ZFL4","NA01","US","T300",3,null,null,0,"2009-01-01","9999-12-31","US00",null,null,"NA"]
["US004T300","ZFL4","NA01","US","T300",4,null,null,0,"2009-01-01","9999-12-31","US00",null,"NA","NA"]
["US005T300","ZFL4","NA01","US","T300",5,null,null,0,"2009-01-01","9999-12-31","US00","NA","NA","NA"]
["US006T300","ZFL4","NA01","US","T300",6,null,null,0,"2009-01-01","9999-12-31","US00","NA","NA","NA"]
[{"$f":"L352 & RIGHT(F352, 1) & E352","v":"US000T300e"},"ZFL4","NA01","US","T300e",0,null,null,0,"2009-01-01","9999-12-31","US00"]
[{"$f":"L353 & RIGHT(F353, 1) & E353","v":"US001T300e"},"ZFL4","NA01","US","T300e",1,null,null,0,"2009-01-01","9999-12-31","US00"]
["US002T300e","ZFL4","NA01","US","T300e",2,null,null,0,"2009-01-01","9999-12-31","US00"]
["US003T300e","ZFL4","NA01","US","T300e",3,null,null,0,"2009-01-01","9999-12-31","US00",null,null,"NA"]
["US004T300e","ZFL4","NA01","US","T300e",4,null,null,0,"2009-01-01","9999-12-31","US00",null,"NA","NA"]
["US005T300e","ZFL4","NA01","US","T300e",5,null,null,0,"2009-01-01","9999-12-31","US00","NA","NA","NA"]
["US006T300e","ZFL4","NA01","US","T300e",6,null,null,0,"2009-01-01","9999-12-31","US00","NA","NA","NA"]
[{"$f":"L359 & RIGHT(F359, 1) & E359","v":"US000T300_Quick_Ship"},"ZFL4","NA01","US","T300_Quick_Ship",0,null,null,0,"2009-01-01","9999-12-31","US00"]
[{"$f":"L360 & RIGHT(F360, 1) & E360","v":"US001T300_Quick_Ship"},"ZFL4","NA01","US","T300_Quick_Ship",1,null,null,0,"2009-01-01","9999-12-31","US00"]
["US002T300_Quick_Ship","ZFL4","NA01","US","T300_Quick_Ship",2,null,null,0,"2009-01-01","9999-12-31","US00"]
["US003T300_Quick_Ship","ZFL4","NA01","US","T300_Quick_Ship",3,null,null,0,"2009-01-01","9999-12-31","US00",null,null,"NA"]
["US004T300_Quick_Ship","ZFL4","NA01","US","T300_Quick_Ship",4,null,null,0,"2009-01-01","9999-12-31","US00",null,"NA","NA"]
["US005T300_Quick_Ship","ZFL4","NA01","US","T300_Quick_Ship",5,null,null,0,"2009-01-01","9999-12-31","US00","NA","NA","NA"]
["US006T300_Quick_Ship","ZFL4","NA01","US","T300_Quick_Ship",6,null,null,0,"2009-01-01","9999-12-31","US00","NA","NA","NA"]
[{"$f":"L366 & RIGHT(F366, 1) & E366","v":"US000T300e_Quick_Ship"},"ZFL4","NA01","US","T300e_Quick_Ship",0,null,null,0,"2009-01-01","9999-12-31","US00"]
[{"$f":"L367 & RIGHT(F367, 1) & E367","v":"US001T300e_Quick_Ship"},"ZFL4","NA01","US","T300e_Quick_Ship",1,null,null,0,"2009-01-01","9999-12-31","US00"]
["US002T300e_Quick_Ship","ZFL4","NA01","US","T300e_Quick_Ship",2,null,null,0,"2009-01-01","9999-12-31","US00"]
["US003T300e_Quick_Ship","ZFL4","NA01","US","T300e_Quick_Ship",3,null,null,0,"2009-01-01","9999-12-31","US00",null,null,"NA"]
["US004T300e_Quick_Ship","ZFL4","NA01","US","T300e_Quick_Ship",4,null,null,0,"2009-01-01","9999-12-31","US00",null,"NA","NA"]
["US005T300e_Quick_Ship","ZFL4","NA01","US","T300e_Quick_Ship",5,null,null,0,"2009-01-01","9999-12-31","US00","NA","NA","NA"]
["US006T300e_Quick_Ship","ZFL4","NA01","US","T300e_Quick_Ship",6,null,null,0,"2009-01-01","9999-12-31","US00","NA","NA","NA"]
["US000T5e","ZFL4","NA01","US","T5e",0,null,null,0,"2009-01-01","9999-12-31","US00"]
["US001T5e","ZFL4","NA01","US","T5e",1,null,null,0,"2009-01-01","9999-12-31","US00"]
["US002T5e","ZFL4","NA01","US","T5e",2,null,null,0,"2009-01-01","9999-12-31","US00"]
["US003T5e","ZFL4","NA01","US","T5e",3,null,null,0,"2009-01-01","9999-12-31","US00",null,null,"NA"]
["US004T5e","ZFL4","NA01","US","T5e",4,null,null,0,"2009-01-01","9999-12-31","US00",null,"NA","NA"]
["US005T5e","ZFL4","NA01","US","T5e",5,null,null,0,"2009-01-01","9999-12-31","US00","NA","NA","NA"]
["US006T5e","ZFL4","NA01","US","T5e",6,null,null,0,"2009-01-01","9999-12-31","US00","NA","NA","NA"]
["US000M17","ZFL4","NA01","US","M17",0,null,null,0,"2009-01-01","9999-12-31","US00"]
["US001M17","ZFL4","NA01","US","M17",1,null,null,0,"2009-01-01","9999-12-31","US00"]
["US002M17","ZFL4","NA01","US","M17",2,null,null,0,"2009-01-01","9999-12-31","US00"]
["US003M17","ZFL4","NA01","US","M17",3,null,null,0,"2009-01-01","9999-12-31","US00"]
["US004M17","ZFL4","NA01","US","M17",4,null,null,0,"2009-01-01","9999-12-31","US00"]
["US005M17","ZFL4","NA01","US","M17",5,null,null,0,"2009-01-01","9999-12-31","US00","1BO","1BO","NA"]
["US006M17","ZFL4","NA01","US","M17",6,null,null,0,"2009-01-01","9999-12-31","US00","1BO","NA","NA"]
[{"$f":"L387 & RIGHT(F387, 1) & E387","v":"US000M17_Standard_Config"},"ZFL4","NA01","US","M17_Standard_Config",0,null,null,0,"2009-01-01","9999-12-31","US00"]
["US001M17_Standard_Config","ZFL4","NA01","US","M17_Standard_Config",1,null,null,0,"2009-01-01","9999-12-31","US00"]
["US002M17_Standard_Config","ZFL4","NA01","US","M17_Standard_Config",2,null,null,0,"2009-01-01","9999-12-31","US00"]
["US003M17_Standard_Config","ZFL4","NA01","US","M17_Standard_Config",3,null,null,0,"2009-01-01","9999-12-31","US00"]
["US004M17_Standard_Config","ZFL4","NA01","US","M17_Standard_Config",4,null,null,0,"2009-01-01","9999-12-31","US00"]
["US005M17_Standard_Config","ZFL4","NA01","US","M17_Standard_Config",5,null,null,0,"2009-01-01","9999-12-31","US00","1BO","1BO","NA"]
["US006M17_Standard_Config","ZFL4","NA01","US","M17_Standard_Config",6,null,null,0,"2009-01-01","9999-12-31","US00","1BO","NA","NA"]
["US000T500","ZFL4","NA01","US","T500",0,null,null,0,"2009-01-01","9999-12-31","US00"]
["US001T500","ZFL4","NA01","US","T500",1,null,null,0,"2009-01-01","9999-12-31","US00"]
["US002T500","ZFL4","NA01","US","T500",2,null,null,0,"2009-01-01","9999-12-31","US00"]
["US003T500","ZFL4","NA01","US","T500",3,null,null,0,"2009-01-01","9999-12-31","US00",null,null,"NA"]
["US004T500","ZFL4","NA01","US","T500",4,null,null,0,"2009-01-01","9999-12-31","US00",null,"NA","NA"]
["US005T500","ZFL4","NA01","US","T500",5,null,null,0,"2009-01-01","9999-12-31","US00","NA","NA","NA"]
["US006T500","ZFL4","NA01","US","T500",6,null,null,0,"2009-01-01","9999-12-31","US00","NA","NA","NA"]
[{"$f":"L401 & RIGHT(F401, 1) & E401","v":"US000T500e"},"ZFL4","NA01","US","T500e",0,null,null,0,"2009-01-01","9999-12-31","US00"]
["US001T500e","ZFL4","NA01","US","T500e",1,null,null,0,"2009-01-01","9999-12-31","US00"]
["US002T500e","ZFL4","NA01","US","T500e",2,null,null,0,"2009-01-01","9999-12-31","US00"]
["US003T500e","ZFL4","NA01","US","T500e",3,null,null,0,"2009-01-01","9999-12-31","US00",null,null,"NA"]
["US004T500e","ZFL4","NA01","US","T500e",4,null,null,0,"2009-01-01","9999-12-31","US00",null,"NA","NA"]
["US005T500e","ZFL4","NA01","US","T500e",5,null,null,0,"2009-01-01","9999-12-31","US00","NA","NA","NA"]
["US006T500e","ZFL4","NA01","US","T500e",6,null,null,0,"2009-01-01","9999-12-31","US00","NA","NA","NA"]
["US000T500_Quick_Ship","ZFL4","NA01","US","T500_Quick_Ship",0,null,null,0,"2009-01-01","9999-12-31","US00"]
["US001T500_Quick_Ship","ZFL4","NA01","US","T500_Quick_Ship",1,null,null,0,"2009-01-01","9999-12-31","US00"]
["US002T500_Quick_Ship","ZFL4","NA01","US","T500_Quick_Ship",2,null,null,0,"2009-01-01","9999-12-31","US00"]
["US003T500_Quick_Ship","ZFL4","NA01","US","T500_Quick_Ship",3,null,null,0,"2009-01-01","9999-12-31","US00",null,null,"NA"]
["US004T500_Quick_Ship","ZFL4","NA01","US","T500_Quick_Ship",4,null,null,0,"2009-01-01","9999-12-31","US00",null,"NA","NA"]
["US005T500_Quick_Ship","ZFL4","NA01","US","T500_Quick_Ship",5,null,null,0,"2009-01-01","9999-12-31","US00","NA","NA","NA"]
["US006T500_Quick_Ship","ZFL4","NA01","US","T500_Quick_Ship",6,null,null,0,"2009-01-01","9999-12-31","US00","NA","NA","NA"]
[{"$f":"L415 & RIGHT(F415, 1) & E415","v":"US000T500e_Quick_Ship"},"ZFL4","NA01","US","T500e_Quick_Ship",0,null,null,0,"2009-01-01","9999-12-31","US00"]
["US001T500e_Quick_Ship","ZFL4","NA01","US","T500e_Quick_Ship",1,null,null,0,"2009-01-01","9999-12-31","US00"]
["US002T500e_Quick_Ship","ZFL4","NA01","US","T500e_Quick_Ship",2,null,null,0,"2009-01-01","9999-12-31","US00"]
["US003T500e_Quick_Ship","ZFL4","NA01","US","T500e_Quick_Ship",3,null,null,0,"2009-01-01","9999-12-31","US00",null,null,"NA"]
["US004T500e_Quick_Ship","ZFL4","NA01","US","T500e_Quick_Ship",4,null,null,0,"2009-01-01","9999-12-31","US00",null,"NA","NA"]
["US005T500e_Quick_Ship","ZFL4","NA01","US","T500e_Quick_Ship",5,null,null,0,"2009-01-01","9999-12-31","US00","NA","NA","NA"]
["US006T500e_Quick_Ship","ZFL4","NA01","US","T500e_Quick_Ship",6,null,null,0,"2009-01-01","9999-12-31","US00","NA","NA","NA"]
["US000T1","ZFL4","NA01","US","T1",0,null,null,0,"2009-01-01","9999-12-31","US00"]
["US001T1","ZFL4","NA01","US","T1",1,null,null,0,"2009-01-01","9999-12-31","US00"]
["US002T1","ZFL4","NA01","US","T1",2,null,null,0,"2009-01-01","9999-12-31","US00"]
["US003T1","ZFL4","NA01","US","T1",3,null,null,0,"2009-01-01","9999-12-31","US00",null,null,"NA"]
["US004T1","ZFL4","NA01","US","T1",4,null,null,0,"2009-01-01","9999-12-31","US00",null,"NA","NA"]
["US005T1","ZFL4","NA01","US","T1",5,null,null,0,"2009-01-01","9999-12-31","US00","NA","NA","NA"]
["US006T1","ZFL4","NA01","US","T1",6,null,null,0,"2009-01-01","9999-12-31","US00","NA","NA","NA"]
[{"$f":"L429 & RIGHT(F429, 1) & E429","v":"US000T350"},"ZFL4","NA01","US","T350",0,null,null,0,"2009-01-01","9999-12-31","US00"]
["US001T350","ZFL4","NA01","US","T350",1,null,null,0,"2009-01-01","9999-12-31","US00"]
["US002T350","ZFL4","NA01","US","T350",2,null,null,0,"2009-01-01","9999-12-31","US00"]
["US003T350","ZFL4","NA01","US","T350",3,null,null,0,"2009-01-01","9999-12-31","US00",null,null,"NA"]
["US004T350","ZFL4","NA01","US","T350",4,null,null,0,"2009-01-01","9999-12-31","US00",null,"NA","NA"]
["US005T350","ZFL4","NA01","US","T350",5,null,null,0,"2009-01-01","9999-12-31","US00","NA","NA","NA"]
["US006T350","ZFL4","NA01","US","T350",6,null,null,0,"2009-01-01","9999-12-31","US00","NA","NA","NA"]
["US000T600","ZFL4","NA01","US","T600",0,null,null,0,"2009-01-01","9999-12-31","US00"]
["US001T600","ZFL4","NA01","US","T600",1,null,null,0,"2009-01-01","9999-12-31","US00"]
["US002T600","ZFL4","NA01","US","T600",2,null,null,0,"2009-01-01","9999-12-31","US00"]
["US003T600","ZFL4","NA01","US","T600",3,null,null,0,"2009-01-01","9999-12-31","US00",null,null,"NA"]
["US004T600","ZFL4","NA01","US","T600",4,null,null,0,"2009-01-01","9999-12-31","US00",null,"NA","NA"]
["US005T600","ZFL4","NA01","US","T600",5,null,null,0,"2009-01-01","9999-12-31","US00","NA","NA","NA"]
["US006T600","ZFL4","NA01","US","T600",6,null,null,0,"2009-01-01","9999-12-31","US00","NA","NA","NA"]
[{"$f":"L443 & RIGHT(F443, 1) & E443","v":"US000T600e"},"ZFL4","NA01","US","T600e",0,null,null,0,"2009-01-01","9999-12-31","US00"]
["US001T600e","ZFL4","NA01","US","T600e",1,null,null,0,"2009-01-01","9999-12-31","US00"]
["US002T600e","ZFL4","NA01","US","T600e",2,null,null,0,"2009-01-01","9999-12-31","US00"]
["US003T600e","ZFL4","NA01","US","T600e",3,null,null,0,"2009-01-01","9999-12-31","US00",null,null,"NA"]
["US004T600e","ZFL4","NA01","US","T600e",4,null,null,0,"2009-01-01","9999-12-31","US00",null,"NA","NA"]
["US005T600e","ZFL4","NA01","US","T600e",5,null,null,0,"2009-01-01","9999-12-31","US00","NA","NA","NA"]
["US006T600e","ZFL4","NA01","US","T600e",6,null,null,0,"2009-01-01","9999-12-31","US00","NA","NA","NA"]
["US000T600ee","ZFL4","NA01","US","T600ee",0,null,null,0,"2009-01-01","9999-12-31","US00"]
["US001T600ee","ZFL4","NA01","US","T600ee",1,null,null,0,"2009-01-01","9999-12-31","US00"]
["US002T600ee","ZFL4","NA01","US","T600ee",2,null,null,0,"2009-01-01","9999-12-31","US00"]
["US003T600ee","ZFL4","NA01","US","T600ee",3,null,null,0,"2009-01-01","9999-12-31","US00",null,null,"NA"]
["US004T600ee","ZFL4","NA01","US","T600ee",4,null,null,0,"2009-01-01","9999-12-31","US00",null,"NA","NA"]
["US005T600ee","ZFL4","NA01","US","T600ee",5,null,null,0,"2009-01-01","9999-12-31","US00","NA","NA","NA"]
["US006T600ee","ZFL4","NA01","US","T600ee",6,null,null,0,"2009-01-01","9999-12-31","US00","NA","NA","NA"]

{"sheet":"FlexCleanCalc","index":53,"n_rows":118,"n_cols":47,"rows_kept":118,"cut":false,"hidden":true,"merged":[[87,32,87,33],[87,40,87,41],[58,8,58,9],[58,16,58,17],[58,40,58,41],[73,8,73,9],[73,16,73,17],[73,24,73,25],[62,8,62,14],[58,24,58,25],[58,32,58,33],[76,24,76,30],[76,32,76,38],[76,40,76,46],[62,16,62,22],[62,24,62,30],[76,8,76,14],[76,16,76,22],[87,8,87,9],[87,16,87,17],[87,24,87,25],[73,32,73,33],[73,40,73,41],[62,40,62,46],[17,32,17,38],[17,40,17,46],[13,8,13,9],[22,1,22,2],[24,1,24,2],[33,1,33,2],[49,1,49,2],[49,3,49,4],[46,1,46,2],[46,3,46,4],[47,1,47,2],[47,3,47,4],[48,1,48,2],[48,3,48,4],[26,1,26,2],[27,1,27,2],[28,1,28,2],[28,32,28,33],[62,32,62,38],[31,40,31,46],[31,24,31,30],[31,32,31,38],[47,32,47,38],[47,40,47,46],[47,8,47,14],[31,16,31,22],[29,1,29,2],[35,1,35,2],[30,1,30,2],[44,1,44,2],[44,3,44,4],[47,16,47,22],[47,24,47,30],[41,1,41,2],[36,1,36,2],[40,1,40,2],[37,1,37,2],[38,1,38,2],[39,1,39,2],[2,16,2,22],[2,24,2,30],[2,8,2,14],[28,8,28,9],[45,1,45,2],[42,40,42,41],[28,16,28,17],[42,8,42,9],[42,16,42,17],[42,24,42,25],[42,32,42,33],[31,8,31,14],[28,24,28,25],[28,40,28,41],[13,16,13,17],[13,24,13,25],[13,32,13,33],[13,40,13,41],[17,16,17,22],[17,8,17,14],[25,1,25,2],[2,32,2,38],[2,40,2,46],[17,24,17,30],[103,8,103,9],[103,16,103,17],[103,24,103,25],[103,32,103,33],[103,40,103,41],[92,8,92,14],[92,16,92,22],[92,24,92,30],[92,32,92,38],[92,40,92,46],[117,8,117,9],[117,16,117,17],[117,24,117,25],[117,32,117,33],[117,40,117,41],[106,8,106,14],[106,16,106,22],[106,24,106,30],[106,32,106,38],[106,40,106,46]]}
["Machine Total: ",0,null,"*Hour*","Term",null,null,null,{"$f":"Financing!C8","v":"US Bank"}]
["Region, Country: ","US - All Other",null,"300 Hours/Yr","36 Month Term",null,null,null,"FMV Sweeper"]
["Term: ","36 Month Term",null,"480 Hours/Yr","48 Month Term",null,null,null,"300 Hours/Yr",null,null,null,null,null,null,null,"480 Hours/Yr",null,null,null,null,null,null,null,"720 Hours/Yr",null,null,null,null,null,null,null,"960 Hours/Yr",null,null,null,null,null,null,null,"1200 Hours/Yr"]
["Material: ","T600",null,"720 Hours/Yr","60 Month Term",null,null,null,null,null,3000,10000,25000,50000,100000,null,null,null,3000,10000,25000,50000,100000,null,null,null,3000,10000,25000,50000,100000,null,null,null,3000,10000,25000,50000,100000,null,null,null,3000,10000,25000,50000,100000]
["Type: ","Scrubber",null,"960 Hours/Yr",null,null,null,null,null,null,"to","to","to","to","to",null,null,null,"to","to","to","to","to",null,null,null,"to","to","to","to","to",null,null,null,"to","to","to","to","to",null,null,null,"to","to","to","to","to"]
["Finance Partner:","Select a Finance Partner",null,"1200 Hours/Yr",null,null,null,null,"Term","Adv",9999,24999,49999,99999,null,null,"Term","Adv",9999,24999,49999,99999,null,null,"Term","Adv",9999,24999,49999,99999,null,null,"Term","Adv",9999,24999,49999,99999,null,null,"Term","Adv",9999,24999,49999,99999]
["Type 2:","WB",null,"125 and 150 use 100 hours rates",null,null,null,null,36,0,{"$f":"SUM(Financing!$N8)","v":2.6687637323342998E-2},{"$f":"SUM(Financing!$O8)","v":2.6411402201262001E-2},{"$f":"SUM(Financing!$P8)","v":2.6135987322889E-2},{"$f":"SUM(Financing!$Q8)","v":2.5998587805807001E-2},{"$f":"SUM(Financing!$R8)","v":2.5927221244108001E-2},null,36,0,{"$f":"SUM(Financing!$N8)","v":2.6687637323342998E-2},{"$f":"SUM(Financing!$O8)","v":2.6411402201262001E-2},{"$f":"SUM(Financing!$P8)","v":2.6135987322889E-2},{"$f":"SUM(Financing!$Q8)","v":2.5998587805807001E-2},{"$f":"SUM(Financing!$R8)","v":2.5927221244108001E-2},null,36,0,{"$f":"SUM(Financing!$N8)","v":2.6687637323342998E-2},{"$f":"SUM(Financing!$O8)","v":2.6411402201262001E-2},{"$f":"SUM(Financing!$P8)","v":2.6135987322889E-2},{"$f":"SUM(Financing!$Q8)","v":2.5998587805807001E-2},{"$f":"SUM(Financing!$R8)","v":2.5927221244108001E-2},null,36,0,{"$f":"SUM(Financing!$N8)","v":2.6687637323342998E-2},{"$f":"SUM(Financing!$O8)","v":2.6411402201262001E-2},{"$f":"SUM(Financing!$P8)","v":2.6135987322889E-2},{"$f":"SUM(Financing!$Q8)","v":2.5998587805807001E-2},{"$f":"SUM(Financing!$R8)","v":2.5927221244108001E-2},null,36,0,{"$f":"SUM(Financing!$N8)","v":2.6687637323342998E-2},{"$f":"SUM(Financing!$O8)","v":2.6411402201262001E-2},{"$f":"SUM(Financing!$P8)","v":2.6135987322889E-2},{"$f":"SUM(Financing!$Q8)","v":2.5998587805807001E-2},{"$f":"SUM(Financing!$R8)","v":2.5927221244108001E-2}]
["Flexclean term colum",13,null,null,null,null,null,null,48,0,{"$f":"SUM(Financing!$N9)","v":2.2020533305850999E-2},{"$f":"SUM(Financing!$O9)","v":2.1752789092867E-2},{"$f":"SUM(Financing!$P9)","v":2.1619356586115E-2},{"$f":"SUM(Financing!$Q9)","v":2.1539437905125001E-2},{"$f":"SUM(Financing!$R9)","v":2.1502178685097E-2},null,48,0,{"$f":"SUM(Financing!$N9)","v":2.2020533305850999E-2},{"$f":"SUM(Financing!$O9)","v":2.1752789092867E-2},{"$f":"SUM(Financing!$P9)","v":2.1619356586115E-2},{"$f":"SUM(Financing!$Q9)","v":2.1539437905125001E-2},{"$f":"SUM(Financing!$R9)","v":2.1502178685097E-2},null,48,0,{"$f":"SUM(Financing!$N9)","v":2.2020533305850999E-2},{"$f":"SUM(Financing!$O9)","v":2.1752789092867E-2},{"$f":"SUM(Financing!$P9)","v":2.1619356586115E-2},{"$f":"SUM(Financing!$Q9)","v":2.1539437905125001E-2},{"$f":"SUM(Financing!$R9)","v":2.1502178685097E-2},null,48,0,{"$f":"SUM(Financing!$N9)","v":2.2020533305850999E-2},{"$f":"SUM(Financing!$O9)","v":2.1752789092867E-2},{"$f":"SUM(Financing!$P9)","v":2.1619356586115E-2},{"$f":"SUM(Financing!$Q9)","v":2.1539437905125001E-2},{"$f":"SUM(Financing!$R9)","v":2.1502178685097E-2},null,48,0,{"$f":"SUM(Financing!$N9)","v":2.2020533305850999E-2},{"$f":"SUM(Financing!$O9)","v":2.1752789092867E-2},{"$f":"SUM(Financing!$P9)","v":2.1619356586115E-2},{"$f":"SUM(Financing!$Q9)","v":2.1539437905125001E-2},{"$f":"SUM(Financing!$R9)","v":2.1502178685097E-2}]
[null,null,null,null,null,null,null,null,60,0,{"$f":"SUM(Financing!$N10)","v":1.9077648404985E-2},{"$f":"SUM(Financing!$O10)","v":1.8946360036496999E-2},{"$f":"SUM(Financing!$P10)","v":1.8815457339624E-2},{"$f":"SUM(Financing!$Q10)","v":1.8684940787974998E-2},{"$f":"SUM(Financing!$R10)","v":1.8674516159245001E-2},null,48,0,{"$f":"SUM(Financing!$N10)","v":1.9077648404985E-2},{"$f":"SUM(Financing!$O10)","v":1.8946360036496999E-2},{"$f":"SUM(Financing!$P10)","v":1.8815457339624E-2},{"$f":"SUM(Financing!$Q10)","v":1.8684940787974998E-2},{"$f":"SUM(Financing!$R10)","v":1.8674516159245001E-2},null,48,0,{"$f":"SUM(Financing!$N10)","v":1.9077648404985E-2},{"$f":"SUM(Financing!$O10)","v":1.8946360036496999E-2},{"$f":"SUM(Financing!$P10)","v":1.8815457339624E-2},{"$f":"SUM(Financing!$Q10)","v":1.8684940787974998E-2},{"$f":"SUM(Financing!$R10)","v":1.8674516159245001E-2},null,48,0,{"$f":"SUM(Financing!$N10)","v":1.9077648404985E-2},{"$f":"SUM(Financing!$O10)","v":1.8946360036496999E-2},{"$f":"SUM(Financing!$P10)","v":1.8815457339624E-2},{"$f":"SUM(Financing!$Q10)","v":1.8684940787974998E-2},{"$f":"SUM(Financing!$R10)","v":1.8674516159245001E-2},null,48,0,{"$f":"SUM(Financing!$N10)","v":1.9077648404985E-2},{"$f":"SUM(Financing!$O10)","v":1.8946360036496999E-2},{"$f":"SUM(Financing!$P10)","v":1.8815457339624E-2},{"$f":"SUM(Financing!$Q10)","v":1.8684940787974998E-2},{"$f":"SUM(Financing!$R10)","v":1.8674516159245001E-2}]
[null,{"$f":"VLOOKUP((VLOOKUP($B$2,FlexCleanRegions,2,FALSE)&((5)))&$B$4, FlexCleanRates, 13, FALSE)","v":"NA"},null,"Type:","Finance Partner:"]
[null,null,null,"Sweeper",{"$f":"Financing!C8","v":"US Bank"},null,null,null,36,0,{"$f":"IF(AND(K$4<=$B$1,$B$1<L$4,$B3=$E2, $B5=$D11),IF(K7 = \"NA\", 0,K7*$B$1),0)","v":0},{"$f":"IF(AND(L$4<=$B$1,$B$1<M$4,$B3=$E2, $B5=$D11),IF(L7 = \"NA\", 0,L7*$B$1),0)","v":0},{"$f":"IF(AND(M$4<=$B$1,$B$1<N$4,$B3=$E2, $B5=$D11),IF(M7 = \"NA\", 0,M7*$B$1),0)","v":0},{"$f":"IF(AND(N$4<=$B$1,$B$1<O$4,$B3=$E2, $B5=$D11),IF(N7 = \"NA\", 0,N7*$B$1),0)","v":0},{"$f":"IF(AND(O$4<=$B$1,$B3=$E2, $B5=$D11),IF(O7 = \"NA\", 0,O7*$B$1),0)","v":0},null,36,0,{"$f":"IF(AND(S$4<=$B$1,$B$1<T$4,$B3=$E2, $B5=$D11),IF(S7 = \"NA\", 0,S7*$B$1),0)","v":0},{"$f":"IF(AND(T$4<=$B$1,$B$1<U$4,$B3=$E2, $B5=$D11),IF(T7 = \"NA\", 0,T7*$B$1),0)","v":0},{"$f":"IF(AND(U$4<=$B$1,$B$1<V$4,$B3=$E2, $B5=$D11),IF(U7 = \"NA\", 0,U7*$B$1),0)","v":0},{"$f":"IF(AND(V$4<=$B$1,$B$1<W$4,$B3=$E2, $B5=$D11),IF(V7 = \"NA\", 0,V7*$B$1),0)","v":0},{"$f":"IF(AND(W$4<=$B$1,$B3=$E2, $B5=$D11),IF(W7 = \"NA\", 0,W7*$B$1),0)","v":0},null,36,0,{"$f":"IF(AND(AA$4<=$B$1,$B$1<AB$4,$B3=$E2, $B5=$D11),IF(AA7 = \"NA\", 0,AA7*$B$1),0)","v":0},{"$f":"IF(AND(AB$4<=$B$1,$B$1<AC$4,$B3=$E2, $B5=$D11),IF(AB7 = \"NA\", 0,AB7*$B$1),0)","v":0},{"$f":"IF(AND(AC$4<=$B$1,$B$1<AD$4,$B3=$E2, $B5=$D11),IF(AC7 = \"NA\", 0,AC7*$B$1),0)","v":0},{"$f":"IF(AND(AD$4<=$B$1,$B$1<AE$4,$B3=$E2, $B5=$D11),IF(AD7 = \"NA\", 0,AD7*$B$1),0)","v":0},{"$f":"IF(AND(AE$4<=$B$1,$B3=$E2, $B5=$D11),IF(AE7 = \"NA\", 0,AE7*$B$1),0)","v":0},null,36,0,{"$f":"IF(AND(AI$4<=$B$1,$B$1<AJ$4,$B3=$E2, $B5=$D11),IF(AI7 = \"NA\", 0,AI7*$B$1),0)","v":0},{"$f":"IF(AND(AJ$4<=$B$1,$B$1<AK$4,$B3=$E2, $B5=$D11),IF(AJ7 = \"NA\", 0,AJ7*$B$1),0)","v":0},{"$f":"IF(AND(AK$4<=$B$1,$B$1<AL$4,$B3=$E2, $B5=$D11),IF(AK7 = \"NA\", 0,AK7*$B$1),0)","v":0},{"$f":"IF(AND(AL$4<=$B$1,$B$1<AM$4,$B3=$E2, $B5=$D11),IF(AL7 = \"NA\", 0,AL7*$B$1),0)","v":0},{"$f":"IF(AND(AM$4<=$B$1,$B3=$E2, $B5=$D11),IF(AM7 = \"NA\", 0,AM7*$B$1),0)","v":0},null,36,0,{"$f":"IF(AND(AQ$4<=$B$1,$B$1<AR$4,$B3=$E2, $B5=$D11),IF(AQ7 = \"NA\", 0,AQ7*$B$1),0)","v":0},{"$f":"IF(AND(AR$4<=$B$1,$B$1<AS$4,$B3=$E2, $B5=$D11),IF(AR7 = \"NA\", 0,AR7*$B$1),0)","v":0},{"$f":"IF(AND(AS$4<=$B$1,$B$1<AT$4,$B3=$E2, $B5=$D11),IF(AS7 = \"NA\", 0,AS7*$B$1),0)","v":0},{"$f":"IF(AND(AT$4<=$B$1,$B$1<AU$4,$B3=$E2, $B5=$D11),IF(AT7 = \"NA\", 0,AT7*$B$1),0)","v":0},{"$f":"IF(AND(AU$4<=$B$1,$B3=$E2, $B5=$D11),IF(AU7 = \"NA\", 0,AU7*$B$1),0)","v":0}]
[null,null,null,"Scrubber",{"$f":"Financing!C9","v":"OnPoint Capital"},null,null,null,48,0,{"$f":"IF(AND(K$4<=$B$1,$B$1<L$4,$B3=$E3, $B5=$D11),IF(K8 = \"NA\", 0,K8*$B$1),0)","v":0},{"$f":"IF(AND(L$4<=$B$1,$B$1<M$4,$B3=$E3, $B5=$D11),IF(L8 = \"NA\", 0,L8*$B$1),0)","v":0},{"$f":"IF(AND(M$4<=$B$1,$B$1<N$4,$B3=$E3, $B5=$D11),IF(M8 = \"NA\", 0,M8*$B$1),0)","v":0},{"$f":"IF(AND(N$4<=$B$1,$B$1<O$4,$B3=$E3, $B5=$D11),IF(N8 = \"NA\", 0,N8*$B$1),0)","v":0},{"$f":"IF(AND(O$4<=$B$1,$B3=$E3, $B5=$D10),IF(O8 = \"NA\", 0,O8*$B$1),0)","v":0},null,48,0,{"$f":"IF(AND(S$4<=$B$1,$B$1<T$4,$B3=$E3, $B5=$D11),IF(S8 = \"NA\", 0,S8*$B$1),0)","v":0},{"$f":"IF(AND(T$4<=$B$1,$B$1<U$4,$B3=$E3, $B5=$D11),IF(T8 = \"NA\", 0,T8*$B$1),0)","v":0},{"$f":"IF(AND(U$4<=$B$1,$B$1<V$4,$B3=$E3, $B5=$D11),IF(U8 = \"NA\", 0,U8*$B$1),0)","v":0},{"$f":"IF(AND(V$4<=$B$1,$B$1<W$4,$B3=$E3, $B5=$D11),IF(V8 = \"NA\", 0,V8*$B$1),0)","v":0},{"$f":"IF(AND(W$4<=$B$1,$B3=$E3, $B5=$D10),IF(W8 = \"NA\", 0,W8*$B$1),0)","v":0},null,48,0,{"$f":"IF(AND(AA$4<=$B$1,$B$1<AB$4,$B3=$E3, $B5=$D11),IF(AA8 = \"NA\", 0,AA8*$B$1),0)","v":0},{"$f":"IF(AND(AB$4<=$B$1,$B$1<AC$4,$B3=$E3, $B5=$D11),IF(AB8 = \"NA\", 0,AB8*$B$1),0)","v":0},{"$f":"IF(AND(AC$4<=$B$1,$B$1<AD$4,$B3=$E3, $B5=$D11),IF(AC8 = \"NA\", 0,AC8*$B$1),0)","v":0},{"$f":"IF(AND(AD$4<=$B$1,$B$1<AE$4,$B3=$E3, $B5=$D11),IF(AD8 = \"NA\", 0,AD8*$B$1),0)","v":0},{"$f":"IF(AND(AE$4<=$B$1,$B3=$E3, $B5=$D10),IF(AE8 = \"NA\", 0,AE8*$B$1),0)","v":0},null,48,0,{"$f":"IF(AND(AI$4<=$B$1,$B$1<AJ$4,$B3=$E3, $B5=$D11),IF(AI8 = \"NA\", 0,AI8*$B$1),0)","v":0},{"$f":"IF(AND(AJ$4<=$B$1,$B$1<AK$4,$B3=$E3, $B5=$D11),IF(AJ8 = \"NA\", 0,AJ8*$B$1),0)","v":0},{"$f":"IF(AND(AK$4<=$B$1,$B$1<AL$4,$B3=$E3, $B5=$D11),IF(AK8 = \"NA\", 0,AK8*$B$1),0)","v":0},{"$f":"IF(AND(AL$4<=$B$1,$B$1<AM$4,$B3=$E3, $B5=$D11),IF(AL8 = \"NA\", 0,AL8*$B$1),0)","v":0},{"$f":"IF(AND(AM$4<=$B$1,$B3=$E3, $B5=$D11),IF(AM8 = \"NA\", 0,AM8*$B$1),0)","v":0},null,48,0,{"$f":"IF(AND(AQ$4<=$B$1,$B$1<AR$4,$B3=$E3, $B5=$D11),IF(AQ8 = \"NA\", 0,AQ8*$B$1),0)","v":0},{"$f":"IF(AND(AR$4<=$B$1,$B$1<AS$4,$B3=$E3, $B5=$D11),IF(AR8 = \"NA\", 0,AR8*$B$1),0)","v":0},{"$f":"IF(AND(AS$4<=$B$1,$B$1<AT$4,$B3=$E3, $B5=$D11),IF(AS8 = \"NA\", 0,AS8*$B$1),0)","v":0},{"$f":"IF(AND(AT$4<=$B$1,$B$1<AU$4,$B3=$E3, $B5=$D11),IF(AT8 = \"NA\", 0,AT8*$B$1),0)","v":0},{"$f":"IF(AND(AU$4<=$B$1,$B3=$E3, $B5=$D11),IF(AU8 = \"NA\", 0,AU8*$B$1),0)","v":0}]
[null,null,null,null,{"$f":"Financing!C10","v":"First Western Equipment Finance"},null,null,null,60,0,{"$f":"IF(AND(K$4<=$B$1,$B$1<L$4,$B3=$E4, $B5=$D11),IF(K9 = \"NA\", 0,K9*$B$1),0)","v":0},{"$f":"IF(AND(L$4<=$B$1,$B$1<M$4,$B3=$E4, $B5=$D11),IF(L9 = \"NA\", 0,L9*$B$1),0)","v":0},{"$f":"IF(AND(M$4<=$B$1,$B$1<N$4,$B3=$E4, $B5=$D11),IF(M9 = \"NA\", 0,M9*$B$1),0)","v":0},{"$f":"IF(AND(N$4<=$B$1,$B$1<O$4,$B3=$E4, $B5=$D11),IF(N9 = \"NA\", 0,N9*$B$1),0)","v":0},{"$f":"IF(AND(O$4<=$B$1,$B3=$E4, $B5=$D11),IF(O9 = \"NA\", 0,O9*$B$1),0)","v":0},null,48,0,{"$f":"IF(AND(S$4<=$B$1,$B$1<T$4,$B3=$E4, $B5=$D11),IF(S9 = \"NA\", 0,S9*$B$1),0)","v":0},{"$f":"IF(AND(T$4<=$B$1,$B$1<U$4,$B3=$E4, $B5=$D11),IF(T9 = \"NA\", 0,T9*$B$1),0)","v":0},{"$f":"IF(AND(U$4<=$B$1,$B$1<V$4,$B3=$E4, $B5=$D11),IF(U9 = \"NA\", 0,U9*$B$1),0)","v":0},{"$f":"IF(AND(V$4<=$B$1,$B$1<W$4,$B3=$E4, $B5=$D11),IF(V9 = \"NA\", 0,V9*$B$1),0)","v":0},{"$f":"IF(AND(W$4<=$B$1,$B3=$E4, $B5=$D11),IF(W9 = \"NA\", 0,W9*$B$1),0)","v":0},null,48,0,{"$f":"IF(AND(AA$4<=$B$1,$B$1<AB$4,$B3=$E4, $B5=$D11),IF(AA9 = \"NA\", 0,AA9*$B$1),0)","v":0},{"$f":"IF(AND(AB$4<=$B$1,$B$1<AC$4,$B3=$E4, $B5=$D11),IF(AB9 = \"NA\", 0,AB9*$B$1),0)","v":0},{"$f":"IF(AND(AC$4<=$B$1,$B$1<AD$4,$B3=$E4, $B5=$D11),IF(AC9 = \"NA\", 0,AC9*$B$1),0)","v":0},{"$f":"IF(AND(AD$4<=$B$1,$B$1<AE$4,$B3=$E4, $B5=$D11),IF(AD9 = \"NA\", 0,AD9*$B$1),0)","v":0},{"$f":"IF(AND(AE$4<=$B$1,$B3=$E4, $B5=$D11),IF(AE9 = \"NA\", 0,AE9*$B$1),0)","v":0},null,48,0,{"$f":"IF(AND(AI$4<=$B$1,$B$1<AJ$4,$B3=$E4, $B5=$D11),IF(AI9 = \"NA\", 0,AI9*$B$1),0)","v":0},{"$f":"IF(AND(AJ$4<=$B$1,$B$1<AK$4,$B3=$E4, $B5=$D11),IF(AJ9 = \"NA\", 0,AJ9*$B$1),0)","v":0},{"$f":"IF(AND(AK$4<=$B$1,$B$1<AL$4,$B3=$E4, $B5=$D11),IF(AK9 = \"NA\", 0,AK9*$B$1),0)","v":0},{"$f":"IF(AND(AL$4<=$B$1,$B$1<AM$4,$B3=$E4, $B5=$D11),IF(AL9 = \"NA\", 0,AL9*$B$1),0)","v":0},{"$f":"IF(AND(AM$4<=$B$1,$B3=$E4, $B5=$D11),IF(AM9 = \"NA\", 0,AM9*$B$1),0)","v":0},null,48,0,{"$f":"IF(AND(AQ$4<=$B$1,$B$1<AR$4,$B3=$E4, $B5=$D11),IF(AQ9 = \"NA\", 0,AQ9*$B$1),0)","v":0},{"$f":"IF(AND(AR$4<=$B$1,$B$1<AS$4,$B3=$E4, $B5=$D11),IF(AR9 = \"NA\", 0,AR9*$B$1),0)","v":0},{"$f":"IF(AND(AS$4<=$B$1,$B$1<AT$4,$B3=$E4, $B5=$D11),IF(AS9 = \"NA\", 0,AS9*$B$1),0)","v":0},{"$f":"IF(AND(AT$4<=$B$1,$B$1<AU$4,$B3=$E4, $B5=$D11),IF(AT9 = \"NA\", 0,AT9*$B$1),0)","v":0},{"$f":"IF(AND(AU$4<=$B$1,$B3=$E4, $B5=$D11),IF(AU9 = \"NA\", 0,AU9*$B$1),0)","v":0}]
[null,null,null,"Type 2:","Overage Fee",null,null,null,{"$f":"SUM(K14:O14)","v":0},null,{"$f":"SUM(K11:K13)","v":0},{"$f":"SUM(L11:L13)","v":0},{"$f":"SUM(M11:M13)","v":0},{"$f":"SUM(N11:N13)","v":0},{"$f":"SUM(O11:O13)","v":0},null,{"$f":"SUM(S14:W14)","v":0},null,{"$f":"SUM(S11:S13)","v":0},{"$f":"SUM(T11:T13)","v":0},{"$f":"SUM(U11:U13)","v":0},{"$f":"SUM(V11:V13)","v":0},{"$f":"SUM(W11:W13)","v":0},null,{"$f":"SUM(AA14:AE14)","v":0},null,{"$f":"SUM(AA11:AA13)","v":0},{"$f":"SUM(AB11:AB13)","v":0},{"$f":"SUM(AC11:AC13)","v":0},{"$f":"SUM(AD11:AD13)","v":0},{"$f":"SUM(AE11:AE13)","v":0},null,{"$f":"SUM(AI14:AM14)","v":0},null,{"$f":"SUM(AI11:AI13)","v":0},{"$f":"SUM(AJ11:AJ13)","v":0},{"$f":"SUM(AK11:AK13)","v":0},{"$f":"SUM(AL11:AL13)","v":0},{"$f":"SUM(AM11:AM13)","v":0},null,{"$f":"SUM(AQ14:AU14)","v":0},null,{"$f":"SUM(AQ11:AQ13)","v":0},{"$f":"SUM(AR11:AR13)","v":0},{"$f":"SUM(AS11:AS13)","v":0},{"$f":"SUM(AT11:AT13)","v":0},{"$f":"SUM(AU11:AU13)","v":0}]
[null,null,null,"Rider",10]
[null,null,null,"WB",10]
[null,null,null,null,null,null,null,null,"FMV Scrubber"]
["Update:",null,null,null,null,null,null,null,"300 Hours/Yr",null,null,null,null,null,null,null,"480 Hours/Yr",null,null,null,null,null,null,null,"720 Hours/Yr",null,null,null,null,null,null,null,"960 Hours/Yr",null,null,null,null,null,null,null,"1200 Hours/Yr"]
["2019-08-01",null,null,null,null,null,null,null,null,null,3000,10000,25000,50000,100000,null,null,null,3000,10000,25000,50000,100000,null,null,null,3000,10000,25000,50000,100000,null,null,null,3000,10000,25000,50000,100000,null,null,null,3000,10000,25000,50000,100000]
["This show up on every machine tab",null,null,null,null,null,null,null,null,null,"to","to","to","to","to",null,null,null,"to","to","to","to","to",null,null,null,"to","to","to","to","to",null,null,null,"to","to","to","to","to",null,null,null,"to","to","to","to","to"]
["“FlexClean monthly rates include payment for both machine and service.”",null,null,null,null,null,null,null,"Term","Adv",9999,24999,49999,99999,null,null,"Term","Adv",9999,24999,49999,99999,null,null,"Term","Adv",9999,24999,49999,99999,null,null,"Term","Adv",9999,24999,49999,99999,null,null,"Term","Adv",9999,24999,49999,99999]
[null,null,null,null,null,null,null,null,36,0,{"$f":"SUM(Financing!$V8)","v":2.7178990400973001E-2},{"$f":"SUM(Financing!$W8)","v":2.6906474390777001E-2},{"$f":"SUM(Financing!$X8)","v":2.6634799133987998E-2},{"$f":"SUM(Financing!$Y8)","v":2.6499277126816E-2},{"$f":"SUM(Financing!$Z8)","v":2.6428888900181E-2},null,36,0,{"$f":"SUM(Financing!$V8)","v":2.7178990400973001E-2},{"$f":"SUM(Financing!$W8)","v":2.6906474390777001E-2},{"$f":"SUM(Financing!$X8)","v":2.6634799133987998E-2},{"$f":"SUM(Financing!$Y8)","v":2.6499277126816E-2},{"$f":"SUM(Financing!$Z8)","v":2.6428888900181E-2},null,36,0,{"$f":"SUM(Financing!$V8)","v":2.7178990400973001E-2},{"$f":"SUM(Financing!$W8)","v":2.6906474390777001E-2},{"$f":"SUM(Financing!$X8)","v":2.6634799133987998E-2},{"$f":"SUM(Financing!$Y8)","v":2.6499277126816E-2},{"$f":"SUM(Financing!$Z8)","v":2.6428888900181E-2},null,36,0,{"$f":"SUM(Financing!$V8)","v":2.7178990400973001E-2},{"$f":"SUM(Financing!$W8)","v":2.6906474390777001E-2},{"$f":"SUM(Financing!$X8)","v":2.6634799133987998E-2},{"$f":"SUM(Financing!$Y8)","v":2.6499277126816E-2},{"$f":"SUM(Financing!$Z8)","v":2.6428888900181E-2},null,36,0,{"$f":"SUM(Financing!$V8)","v":2.7178990400973001E-2},{"$f":"SUM(Financing!$W8)","v":2.6906474390777001E-2},{"$f":"SUM(Financing!$X8)","v":2.6634799133987998E-2},{"$f":"SUM(Financing!$Y8)","v":2.6499277126816E-2},{"$f":"SUM(Financing!$Z8)","v":2.6428888900181E-2}]
["Calculation","Option 1",null,"Option 2","Option 3",null,null,null,48,0,{"$f":"SUM(Financing!$V9)","v":2.2198275639611E-2},{"$f":"SUM(Financing!$W9)","v":2.1932359982290001E-2},{"$f":"SUM(Financing!$X9)","v":2.1799846864994001E-2},{"$f":"SUM(Financing!$Y9)","v":2.1720481455155E-2},{"$f":"SUM(Financing!$Z9)","v":2.1683480848848E-2},null,48,0,{"$f":"SUM(Financing!$V9)","v":2.2198275639611E-2},{"$f":"SUM(Financing!$W9)","v":2.1932359982290001E-2},{"$f":"SUM(Financing!$X9)","v":2.1799846864994001E-2},{"$f":"SUM(Financing!$Y9)","v":2.1720481455155E-2},{"$f":"SUM(Financing!$Z9)","v":2.1683480848848E-2},null,48,0,{"$f":"SUM(Financing!$V9)","v":2.2198275639611E-2},{"$f":"SUM(Financing!$W9)","v":2.1932359982290001E-2},{"$f":"SUM(Financing!$X9)","v":2.1799846864994001E-2},{"$f":"SUM(Financing!$Y9)","v":2.1720481455155E-2},{"$f":"SUM(Financing!$Z9)","v":2.1683480848848E-2},null,48,0,{"$f":"SUM(Financing!$V9)","v":2.2198275639611E-2},{"$f":"SUM(Financing!$W9)","v":2.1932359982290001E-2},{"$f":"SUM(Financing!$X9)","v":2.1799846864994001E-2},{"$f":"SUM(Financing!$Y9)","v":2.1720481455155E-2},{"$f":"SUM(Financing!$Z9)","v":2.1683480848848E-2},null,48,0,{"$f":"SUM(Financing!$V9)","v":2.2198275639611E-2},{"$f":"SUM(Financing!$W9)","v":2.1932359982290001E-2},{"$f":"SUM(Financing!$X9)","v":2.1799846864994001E-2},{"$f":"SUM(Financing!$Y9)","v":2.1720481455155E-2},{"$f":"SUM(Financing!$Z9)","v":2.1683480848848E-2}]
[null,"FMV Sweeper",null,"FMV Scrubber",1,null,null,null,60,0,{"$f":"SUM(Financing!$V10)","v":1.9214469338863002E-2},{"$f":"SUM(Financing!$W10)","v":1.9084073405875E-2},{"$f":"SUM(Financing!$X10)","v":1.8954067382651998E-2},{"$f":"SUM(Financing!$Y10)","v":1.8824451748009001E-2},{"$f":"SUM(Financing!$Z10)","v":1.8814099376104999E-2},null,48,0,{"$f":"SUM(Financing!$V10)","v":1.9214469338863002E-2},{"$f":"SUM(Financing!$W10)","v":1.9084073405875E-2},{"$f":"SUM(Financing!$X10)","v":1.8954067382651998E-2},{"$f":"SUM(Financing!$Y10)","v":1.8824451748009001E-2},{"$f":"SUM(Financing!$Z10)","v":1.8814099376104999E-2},null,48,0,{"$f":"SUM(Financing!$V10)","v":1.9214469338863002E-2},{"$f":"SUM(Financing!$W10)","v":1.9084073405875E-2},{"$f":"SUM(Financing!$X10)","v":1.8954067382651998E-2},{"$f":"SUM(Financing!$Y10)","v":1.8824451748009001E-2},{"$f":"SUM(Financing!$Z10)","v":1.8814099376104999E-2},null,48,0,{"$f":"SUM(Financing!$V10)","v":1.9214469338863002E-2},{"$f":"SUM(Financing!$W10)","v":1.9084073405875E-2},{"$f":"SUM(Financing!$X10)","v":1.8954067382651998E-2},{"$f":"SUM(Financing!$Y10)","v":1.8824451748009001E-2},{"$f":"SUM(Financing!$Z10)","v":1.8814099376104999E-2},null,48,0,{"$f":"SUM(Financing!$V10)","v":1.9214469338863002E-2},{"$f":"SUM(Financing!$W10)","v":1.9084073405875E-2},{"$f":"SUM(Financing!$X10)","v":1.8954067382651998E-2},{"$f":"SUM(Financing!$Y10)","v":1.8824451748009001E-2},{"$f":"SUM(Financing!$Z10)","v":1.8814099376104999E-2}]
[25,{"$f":"IF($B6=$E11, I14, IF($B6=$E12,I59, IF($B6=$E13,I104)))","v":false},null,{"$f":"IF($B6=$E11, I29, IF($B6=$E12,I74))","v":false},{"$f":"IF($B6=$E11, I43, IF($B6=$E12,I88, IF($B6=$E13,I118)))","v":false}]
[40,{"$f":"IF($B6=$E11, Q14, IF($B6=$E12,Q59, IF($B6=$E13,Q104)))","v":false},null,{"$f":"IF($B6=$E11, Q29, IF($B6=$E12,Q74))","v":false},{"$f":"IF($B6=$E11, Q43, IF($B6=$E12,Q88, IF($B6=$E13,Q118)))","v":false},null,null,null,36,0,{"$f":"IF(AND(K$19<=$B$1,$B$1<L$19,$B3=$E2, $B5=$D12),IF(K22 = \"NA\", 0,K22*$B$1),0)","v":0},{"$f":"IF(AND(L$19<=$B$1,$B$1<M$19,$B3=$E2, $B5=$D12),IF(L22 = \"NA\", 0,L22*$B$1),0)","v":0},{"$f":"IF(AND(M$19<=$B$1,$B$1<N$19,$B3=$E2, $B5=$D12),IF(M22 = \"NA\", 0,M22*$B$1),0)","v":0},{"$f":"IF(AND(N$19<=$B$1,$B$1<O$19,$B3=$E2, $B5=$D12),IF(N22 = \"NA\", 0,N22*$B$1),0)","v":0},{"$f":"IF(AND(O$19<=$B$1,$B3=$E2, $B5=$D12),IF(O22 = \"NA\", 0,O22*$B$1),0)","v":0},null,36,0,{"$f":"IF(AND(S$19<=$B$1,$B$1<T$19,$B3=$E2, $B5=$D12),IF(S22 = \"NA\", 0,S22*$B$1),0)","v":0},{"$f":"IF(AND(T$19<=$B$1,$B$1<U$19,$B3=$E2, $B5=$D12),IF(T22 = \"NA\", 0,T22*$B$1),0)","v":0},{"$f":"IF(AND(U$19<=$B$1,$B$1<V$19,$B3=$E2, $B5=$D12),IF(U22 = \"NA\", 0,U22*$B$1),0)","v":0},{"$f":"IF(AND(V$19<=$B$1,$B$1<W$19,$B3=$E2, $B5=$D12),IF(V22 = \"NA\", 0,V22*$B$1),0)","v":0},{"$f":"IF(AND(W$19<=$B$1,$B3=$E2, $B5=$D12),IF(W22 = \"NA\", 0,W22*$B$1),0)","v":0},null,36,0,{"$f":"IF(AND(AA$19<=$B$1,$B$1<AB$19,$B3=$E2, $B5=$D12),IF(AA22 = \"NA\", 0,AA22*$B$1),0)","v":0},{"$f":"IF(AND(AB$19<=$B$1,$B$1<AC$19,$B3=$E2, $B5=$D12),IF(AB22 = \"NA\", 0,AB22*$B$1),0)","v":0},{"$f":"IF(AND(AC$19<=$B$1,$B$1<AD$19,$B3=$E2, $B5=$D12),IF(AC22 = \"NA\", 0,AC22*$B$1),0)","v":0},{"$f":"IF(AND(AD$19<=$B$1,$B$1<AE$19,$B3=$E2, $B5=$D12),IF(AD22 = \"NA\", 0,AD22*$B$1),0)","v":0},{"$f":"IF(AND(AE$19<=$B$1,$B3=$E2, $B5=$D12),IF(AE22 = \"NA\", 0,AE22*$B$1),0)","v":0},null,36,0,{"$f":"IF(AND(AI$19<=$B$1,$B$1<AJ$19,$B3=$E2, $B5=$D12),IF(AI22 = \"NA\", 0,AI22*$B$1),0)","v":0},{"$f":"IF(AND(AJ$19<=$B$1,$B$1<AK$19,$B3=$E2, $B5=$D12),IF(AJ22 = \"NA\", 0,AJ22*$B$1),0)","v":0},{"$f":"IF(AND(AK$19<=$B$1,$B$1<AL$19,$B3=$E2, $B5=$D12),IF(AK22 = \"NA\", 0,AK22*$B$1),0)","v":0},{"$f":"IF(AND(AL$19<=$B$1,$B$1<AM$19,$B3=$E2, $B5=$D12),IF(AL22 = \"NA\", 0,AL22*$B$1),0)","v":0},{"$f":"IF(AND(AM$19<=$B$1,$B3=$E2, $B5=$D12),IF(AM22 = \"NA\", 0,AM22*$B$1),0)","v":0},null,36,0,{"$f":"IF(AND(AQ$19<=$B$1,$B$1<AR$19,$B3=$E2, $B5=$D12),IF(AQ22 = \"NA\", 0,AQ22*$B$1),0)","v":0},{"$f":"IF(AND(AR$19<=$B$1,$B$1<AS$19,$B3=$E2, $B5=$D12),IF(AR22 = \"NA\", 0,AR22*$B$1),0)","v":0},{"$f":"IF(AND(AS$19<=$B$1,$B$1<AT$19,$B3=$E2, $B5=$D12),IF(AS22 = \"NA\", 0,AS22*$B$1),0)","v":0},{"$f":"IF(AND(AT$19<=$B$1,$B$1<AU$19,$B3=$E2, $B5=$D12),IF(AT22 = \"NA\", 0,AT22*$B$1),0)","v":0},{"$f":"IF(AND(AU$19<=$B$1,$B3=$E2, $B5=$D12),IF(AU22 = \"NA\", 0,AU22*$B$1),0)","v":0}]
[60,{"$f":"IF($B6=$E11, Y14, IF($B6=$E12,Y59, IF($B6=$E13,Y104)))","v":false},null,{"$f":"IF($B6=$E11, Y29, IF($B6=$E12,Y74))","v":false},{"$f":"IF($B6=$E11, Y43, IF($B6=$E12,Y88, IF($B6=$E13,Y118)))","v":false},null,null,null,48,0,{"$f":"IF(AND(K$19<=$B$1,$B$1<L$19,$B3=$E3, $B5=$D12),IF(K23 = \"NA\", 0,K23*$B$1),0)","v":0},{"$f":"IF(AND(L$19<=$B$1,$B$1<M$19,$B3=$E3, $B5=$D12),IF(L23 = \"NA\", 0,L23*$B$1),0)","v":0},{"$f":"IF(AND(M$19<=$B$1,$B$1<N$19,$B3=$E3, $B5=$D12),IF(M23 = \"NA\", 0,M23*$B$1),0)","v":0},{"$f":"IF(AND(N$19<=$B$1,$B$1<O$19,$B3=$E3, $B5=$D12),IF(N23 = \"NA\", 0,N23*$B$1),0)","v":0},{"$f":"IF(AND(O$19<=$B$1,$B3=$E3, $B5=$D12),IF(O23 = \"NA\", 0,O23*$B$1),0)","v":0},null,48,0,{"$f":"IF(AND(S$19<=$B$1,$B$1<T$19,$B3=$E3, $B5=$D12),IF(S23 = \"NA\", 0,S23*$B$1),0)","v":0},{"$f":"IF(AND(T$19<=$B$1,$B$1<U$19,$B3=$E3, $B5=$D12),IF(T23 = \"NA\", 0,T23*$B$1),0)","v":0},{"$f":"IF(AND(U$19<=$B$1,$B$1<V$19,$B3=$E3, $B5=$D12),IF(U23 = \"NA\", 0,U23*$B$1),0)","v":0},{"$f":"IF(AND(V$19<=$B$1,$B$1<W$19,$B3=$E3, $B5=$D12),IF(V23 = \"NA\", 0,V23*$B$1),0)","v":0},{"$f":"IF(AND(W$19<=$B$1,$B3=$E3, $B5=$D12),IF(W23 = \"NA\", 0,W23*$B$1),0)","v":0},null,48,0,{"$f":"IF(AND(AA$19<=$B$1,$B$1<AB$19,$B3=$E3, $B5=$D12),IF(AA23 = \"NA\", 0,AA23*$B$1),0)","v":0},{"$f":"IF(AND(AB$19<=$B$1,$B$1<AC$19,$B3=$E3, $B5=$D12),IF(AB23 = \"NA\", 0,AB23*$B$1),0)","v":0},{"$f":"IF(AND(AC$19<=$B$1,$B$1<AD$19,$B3=$E3, $B5=$D12),IF(AC23 = \"NA\", 0,AC23*$B$1),0)","v":0},{"$f":"IF(AND(AD$19<=$B$1,$B$1<AE$19,$B3=$E3, $B5=$D12),IF(AD23 = \"NA\", 0,AD23*$B$1),0)","v":0},{"$f":"IF(AND(AE$19<=$B$1,$B3=$E3, $B5=$D12),IF(AE23 = \"NA\", 0,AE23*$B$1),0)","v":0},null,48,0,{"$f":"IF(AND(AI$19<=$B$1,$B$1<AJ$19,$B3=$E3, $B5=$D12),IF(AI23 = \"NA\", 0,AI23*$B$1),0)","v":0},{"$f":"IF(AND(AJ$19<=$B$1,$B$1<AK$19,$B3=$E3, $B5=$D12),IF(AJ23 = \"NA\", 0,AJ23*$B$1),0)","v":0},{"$f":"IF(AND(AK$19<=$B$1,$B$1<AL$19,$B3=$E3, $B5=$D12),IF(AK23 = \"NA\", 0,AK23*$B$1),0)","v":0},{"$f":"IF(AND(AL$19<=$B$1,$B$1<AM$19,$B3=$E3, $B5=$D12),IF(AL23 = \"NA\", 0,AL23*$B$1),0)","v":0},{"$f":"IF(AND(AM$19<=$B$1,$B3=$E3, $B5=$D12),IF(AM23 = \"NA\", 0,AM23*$B$1),0)","v":0},null,48,0,{"$f":"IF(AND(AQ$19<=$B$1,$B$1<AR$19,$B3=$E3, $B5=$D12),IF(AQ23 = \"NA\", 0,AQ23*$B$1),0)","v":0},{"$f":"IF(AND(AR$19<=$B$1,$B$1<AS$19,$B3=$E3, $B5=$D12),IF(AR23 = \"NA\", 0,AR23*$B$1),0)","v":0},{"$f":"IF(AND(AS$19<=$B$1,$B$1<AT$19,$B3=$E3, $B5=$D12),IF(AS23 = \"NA\", 0,AS23*$B$1),0)","v":0},{"$f":"IF(AND(AT$19<=$B$1,$B$1<AU$19,$B3=$E3, $B5=$D12),IF(AT23 = \"NA\", 0,AT23*$B$1),0)","v":0},{"$f":"IF(AND(AU$19<=$B$1,$B3=$E3, $B5=$D12),IF(AU23 = \"NA\", 0,AU23*$B$1),0)","v":0}]
[80,{"$f":"IF($B6=$E11, AG14, IF($B6=$E12,AG59, IF($B6=$E13,AG104)))","v":false},null,{"$f":"IF($B6=$E11, AG29, IF($B6=$E12,AG74))","v":false},{"$f":"IF($B6=$E11, AG43, IF($B6=$E12,AG88, IF($B6=$E13,AG118)))","v":false},null,null,null,60,0,{"$f":"IF(AND(K$19<=$B$1,$B$1<L$19,$B3=$E4, $B5=$D12),IF(K24 = \"NA\", 0,K24*$B$1),0)","v":0},{"$f":"IF(AND(L$19<=$B$1,$B$1<M$19,$B3=$E4, $B5=$D12),IF(L24 = \"NA\", 0,L24*$B$1),0)","v":0},{"$f":"IF(AND(M$19<=$B$1,$B$1<N$19,$B3=$E4, $B5=$D12),IF(M24 = \"NA\", 0,M24*$B$1),0)","v":0},{"$f":"IF(AND(N$19<=$B$1,$B$1<O$19,$B3=$E4, $B5=$D12),IF(N24 = \"NA\", 0,N24*$B$1),0)","v":0},{"$f":"IF(AND(O$19<=$B$1,$B3=$E4, $B5=$D12),IF(O24 = \"NA\", 0,O24*$B$1),0)","v":0},null,48,0,{"$f":"IF(AND(S$19<=$B$1,$B$1<T$19,$B3=$E4, $B5=$D12),IF(S24 = \"NA\", 0,S24*$B$1),0)","v":0},{"$f":"IF(AND(T$19<=$B$1,$B$1<U$19,$B3=$E4, $B5=$D12),IF(T24 = \"NA\", 0,T24*$B$1),0)","v":0},{"$f":"IF(AND(U$19<=$B$1,$B$1<V$19,$B3=$E4, $B5=$D12),IF(U24 = \"NA\", 0,U24*$B$1),0)","v":0},{"$f":"IF(AND(V$19<=$B$1,$B$1<W$19,$B3=$E4, $B5=$D12),IF(V24 = \"NA\", 0,V24*$B$1),0)","v":0},{"$f":"IF(AND(W$19<=$B$1,$B3=$E4, $B5=$D12),IF(W24 = \"NA\", 0,W24*$B$1),0)","v":0},null,48,0,{"$f":"IF(AND(AA$19<=$B$1,$B$1<AB$19,$B3=$E4, $B5=$D12),IF(AA24 = \"NA\", 0,AA24*$B$1),0)","v":0},{"$f":"IF(AND(AB$19<=$B$1,$B$1<AC$19,$B3=$E4, $B5=$D12),IF(AB24 = \"NA\", 0,AB24*$B$1),0)","v":0},{"$f":"IF(AND(AC$19<=$B$1,$B$1<AD$19,$B3=$E4, $B5=$D12),IF(AC24 = \"NA\", 0,AC24*$B$1),0)","v":0},{"$f":"IF(AND(AD$19<=$B$1,$B$1<AE$19,$B3=$E4, $B5=$D12),IF(AD24 = \"NA\", 0,AD24*$B$1),0)","v":0},{"$f":"IF(AND(AE$19<=$B$1,$B3=$E4, $B5=$D12),IF(AE24 = \"NA\", 0,AE24*$B$1),0)","v":0},null,48,0,{"$f":"IF(AND(AI$19<=$B$1,$B$1<AJ$19,$B3=$E4, $B5=$D12),IF(AI24 = \"NA\", 0,AI24*$B$1),0)","v":0},{"$f":"IF(AND(AJ$19<=$B$1,$B$1<AK$19,$B3=$E4, $B5=$D12),IF(AJ24 = \"NA\", 0,AJ24*$B$1),0)","v":0},{"$f":"IF(AND(AK$19<=$B$1,$B$1<AL$19,$B3=$E4, $B5=$D12),IF(AK24 = \"NA\", 0,AK24*$B$1),0)","v":0},{"$f":"IF(AND(AL$19<=$B$1,$B$1<AM$19,$B3=$E4, $B5=$D12),IF(AL24 = \"NA\", 0,AL24*$B$1),0)","v":0},{"$f":"IF(AND(AM$19<=$B$1,$B3=$E4, $B5=$D12),IF(AM24 = \"NA\", 0,AM24*$B$1),0)","v":0},null,48,0,{"$f":"IF(AND(AQ$19<=$B$1,$B$1<AR$19,$B3=$E4, $B5=$D12),IF(AQ24 = \"NA\", 0,AQ24*$B$1),0)","v":0},{"$f":"IF(AND(AR$19<=$B$1,$B$1<AS$19,$B3=$E4, $B5=$D12),IF(AR24 = \"NA\", 0,AR24*$B$1),0)","v":0},{"$f":"IF(AND(AS$19<=$B$1,$B$1<AT$19,$B3=$E4, $B5=$D12),IF(AS24 = \"NA\", 0,AS24*$B$1),0)","v":0},{"$f":"IF(AND(AT$19<=$B$1,$B$1<AU$19,$B3=$E4, $B5=$D12),IF(AT24 = \"NA\", 0,AT24*$B$1),0)","v":0},{"$f":"IF(AND(AU$19<=$B$1,$B3=$E4, $B5=$D12),IF(AU24 = \"NA\", 0,AU24*$B$1),0)","v":0}]
[100,{"$f":"IF($B6=$E11, AO14, IF($B6=$E12,AO59, IF($B6=$E13,AO104)))","v":false},null,{"$f":"IF($B6=$E11, AO29, IF($B6=$E12,AO74))","v":false},{"$f":"IF($B6=$E11, AO43, IF($B6=$E12,AO88, IF($B6=$E13,AO118)))","v":false},null,null,null,{"$f":"SUM(K29:O29)","v":0},null,{"$f":"SUM(K26:K28)","v":0},{"$f":"SUM(L26:L28)","v":0},{"$f":"SUM(M26:M28)","v":0},{"$f":"SUM(N26:N28)","v":0},{"$f":"SUM(O26:O28)","v":0},null,{"$f":"SUM(S29:W29)","v":0},null,{"$f":"SUM(S26:S28)","v":0},{"$f":"SUM(T26:T28)","v":0},{"$f":"SUM(U26:U28)","v":0},{"$f":"SUM(V26:V28)","v":0},{"$f":"SUM(W26:W28)","v":0},null,{"$f":"SUM(AA29:AE29)","v":0},null,{"$f":"SUM(AA26:AA28)","v":0},{"$f":"SUM(AB26:AB28)","v":0},{"$f":"SUM(AC26:AC28)","v":0},{"$f":"SUM(AD26:AD28)","v":0},{"$f":"SUM(AE26:AE28)","v":0},null,{"$f":"SUM(AI29:AM29)","v":0},null,{"$f":"SUM(AI26:AI28)","v":0},{"$f":"SUM(AJ26:AJ28)","v":0},{"$f":"SUM(AK26:AK28)","v":0},{"$f":"SUM(AL26:AL28)","v":0},{"$f":"SUM(AM26:AM28)","v":0},null,{"$f":"SUM(AQ29:AU29)","v":0},null,{"$f":"SUM(AQ26:AQ28)","v":0},{"$f":"SUM(AR26:AR28)","v":0},{"$f":"SUM(AS26:AS28)","v":0},{"$f":"SUM(AT26:AT28)","v":0},{"$f":"SUM(AU26:AU28)","v":0}]
[125,{"$f":"IF($B6=$E11, AO14, IF($B6=$E12,AO59, IF($B6=$E13,AO104)))","v":false},null,{"$f":"IF($B6=$E11, AO29, IF($B6=$E12,AO74))","v":false},{"$f":"IF($B6=$E11, AO43, IF($B6=$E12,AO88, IF($B6=$E13,AO118)))","v":false}]
[150,{"$f":"IF($B6=$E11, AO14, IF($B6=$E12,AO59, IF($B6=$E13,AO104)))","v":false},null,{"$f":"IF($B6=$E11, AO29, IF($B6=$E12,AO74))","v":false},{"$f":"IF($B6=$E11, AO43, IF($B6=$E12,AO88, IF($B6=$E13,AO118)))","v":false},null,null,null,1]
[null,null,null,null,null,null,null,null,"300 Hours/Yr",null,null,null,null,null,null,null,"480 Hours/Yr",null,null,null,null,null,null,null,"720 Hours/Yr",null,null,null,null,null,null,null,"960 Hours/Yr",null,null,null,null,null,null,null,"1200 Hours/Yr"]
[null,null,null,null,null,null,null,{"$f":"IF(ISERROR(B37),\"NOTICE: One of the Leasing Options must be FMV Scrubber. Click 'View Leasing Options' to correct.\",\"\")","v":""},null,null,3000,10000,25000,50000,100000,null,null,null,3000,10000,25000,50000,100000,null,null,null,3000,10000,25000,50000,100000,null,null,null,3000,10000,25000,50000,100000,null,null,null,3000,10000,25000,50000,100000]
["FlexClean: ","Option 1 + 2",null,"Option 3","Hourly Overage Fee","1BO","<>NA",null,null,null,"to","to","to","to","to",null,null,null,"to","to","to","to","to",null,null,null,"to","to","to","to","to",null,null,null,"to","to","to","to","to",null,null,null,"to","to","to","to","to"]
["Hours included per Month:",null,null,null,null,null,null,null,"Term","Adv",9999,24999,49999,99999,null,null,"Term","Adv",9999,24999,49999,99999,null,null,"Term","Adv",9999,24999,49999,99999,null,null,"Term","Adv",9999,24999,49999,99999,null,null,"Term","Adv",9999,24999,49999,99999]
[25,{"$f":"(VLOOKUP(VLOOKUP($B$2,FlexCleanRegions,2,FALSE)&(0)&$B$4,FlexCleanRates,9,FALSE)*0.01*$B$1)+SUM(B25:D25) * F36 * G36","v":0},null,{"$f":"(VLOOKUP(VLOOKUP($B$2,FlexCleanRegions,2,FALSE)&(0)&$B$4,FlexCleanRates,9,FALSE)*0.01*$B$1)+SUM(E25) * G36","v":0},{"$f":"IF(ISERROR(B36),#N/A,(VLOOKUP(VLOOKUP($B$2,FlexCleanRegions,2,FALSE)&(0)&$B$4,FlexCleanRates,9,FALSE)*0.01*$B$1)/A36) + IF($B$2<>\"\",IF($B36>0,IF($B$7=$D$15,$E$15,IF($B$7=$D$16,$E$16))))","v":0},{"$f":"IF(VLOOKUP((VLOOKUP($B$2,FlexCleanRegions,2,FALSE)&((0)))&$B$4, FlexCleanRates, $B8, FALSE) = \"1BO\", 0, 1)","v":1},{"$f":"IF(VLOOKUP((VLOOKUP($B$2,FlexCleanRegions,2,FALSE)&((0)))&$B$4, FlexCleanRates, $B8, FALSE) = \"NA\", 0, 1)","v":1},null,36,0,{"$f":"SUM(Financing!$F8)","v":3.2092520658132999E-2},{"$f":"SUM(Financing!$G8)","v":3.1857195981401999E-2},{"$f":"SUM(Financing!$H8)","v":3.1622917240480997E-2},{"$f":"SUM(Financing!$I8)","v":3.1506170325181999E-2},{"$f":"SUM(Financing!$J8)","v":3.1445565447330001E-2},null,36,0,{"$f":"SUM(Financing!$F8)","v":3.2092520658132999E-2},{"$f":"SUM(Financing!$G8)","v":3.1857195981401999E-2},{"$f":"SUM(Financing!$H8)","v":3.1622917240480997E-2},{"$f":"SUM(Financing!$I8)","v":3.1506170325181999E-2},{"$f":"SUM(Financing!$J8)","v":3.1445565447330001E-2},null,36,0,{"$f":"SUM(Financing!$F8)","v":3.2092520658132999E-2},{"$f":"SUM(Financing!$G8)","v":3.1857195981401999E-2},{"$f":"SUM(Financing!$H8)","v":3.1622917240480997E-2},{"$f":"SUM(Financing!$I8)","v":3.1506170325181999E-2},{"$f":"SUM(Financing!$J8)","v":3.1445565447330001E-2},null,36,0,{"$f":"SUM(Financing!$F8)","v":3.2092520658132999E-2},{"$f":"SUM(Financing!$G8)","v":3.1857195981401999E-2},{"$f":"SUM(Financing!$H8)","v":3.1622917240480997E-2},{"$f":"SUM(Financing!$I8)","v":3.1506170325181999E-2},{"$f":"SUM(Financing!$J8)","v":3.1445565447330001E-2},null,36,0,{"$f":"SUM(Financing!$F8)","v":3.2092520658132999E-2},{"$f":"SUM(Financing!$G8)","v":3.1857195981401999E-2},{"$f":"SUM(Financing!$H8)","v":3.1622917240480997E-2},{"$f":"SUM(Financing!$I8)","v":3.1506170325181999E-2},{"$f":"SUM(Financing!$J8)","v":3.1445565447330001E-2}]
[40,{"$f":"(VLOOKUP(VLOOKUP($B$2,FlexCleanRegions,2,FALSE)&(($A37/20)-1)&$B$4,FlexCleanRates,9,FALSE)*0.01*$B$1)+SUM(B26:D26) * F37 * G37","v":0},null,{"$f":"(VLOOKUP(VLOOKUP($B$2,FlexCleanRegions,2,FALSE)&(($A37/20)-1)&$B$4,FlexCleanRates,9,FALSE)*0.01*$B$1)+SUM(E26) * G37","v":0},{"$f":"IF(ISERROR(B37),#N/A,(VLOOKUP(VLOOKUP($B$2,FlexCleanRegions,2,FALSE)&(($A37/20)-1)&$B$4,FlexCleanRates,9,FALSE)*0.01*$B$1)/A37) + IF($B$2<>\"\",IF($B37>0,IF($B$7=$D$15,$E$15,IF($B$7=$D$16,$E$16))))","v":0},{"$f":"IF(VLOOKUP((VLOOKUP($B$2,FlexCleanRegions,2,FALSE)&((1)))&$B$4, FlexCleanRates, $B8, FALSE) = \"1BO\", 0, 1)","v":1},{"$f":"IF(VLOOKUP((VLOOKUP($B$2,FlexCleanRegions,2,FALSE)&((1)))&$B$4, FlexCleanRates, $B8, FALSE) = \"NA\", 0, 1)","v":1},null,48,0,{"$f":"SUM(Financing!$F9)","v":2.4864410646046001E-2},{"$f":"SUM(Financing!$G9)","v":2.4625923323644001E-2},{"$f":"SUM(Financing!$H9)","v":2.4507201048186E-2},{"$f":"SUM(Financing!$I9)","v":2.4436134705613E-2},{"$f":"SUM(Financing!$J9)","v":2.4403013305115E-2},null,48,0,{"$f":"SUM(Financing!$F9)","v":2.4864410646046001E-2},{"$f":"SUM(Financing!$G9)","v":2.4625923323644001E-2},{"$f":"SUM(Financing!$H9)","v":2.4507201048186E-2},{"$f":"SUM(Financing!$I9)","v":2.4436134705613E-2},{"$f":"SUM(Financing!$J9)","v":2.4403013305115E-2},null,48,0,{"$f":"SUM(Financing!$F9)","v":2.4864410646046001E-2},{"$f":"SUM(Financing!$G9)","v":2.4625923323644001E-2},{"$f":"SUM(Financing!$H9)","v":2.4507201048186E-2},{"$f":"SUM(Financing!$I9)","v":2.4436134705613E-2},{"$f":"SUM(Financing!$J9)","v":2.4403013305115E-2},null,48,0,{"$f":"SUM(Financing!$F9)","v":2.4864410646046001E-2},{"$f":"SUM(Financing!$G9)","v":2.4625923323644001E-2},{"$f":"SUM(Financing!$H9)","v":2.4507201048186E-2},{"$f":"SUM(Financing!$I9)","v":2.4436134705613E-2},{"$f":"SUM(Financing!$J9)","v":2.4403013305115E-2},null,48,0,{"$f":"SUM(Financing!$F9)","v":2.4864410646046001E-2},{"$f":"SUM(Financing!$G9)","v":2.4625923323644001E-2},{"$f":"SUM(Financing!$H9)","v":2.4507201048186E-2},{"$f":"SUM(Financing!$I9)","v":2.4436134705613E-2},{"$f":"SUM(Financing!$J9)","v":2.4403013305115E-2}]
[60,{"$f":"(VLOOKUP(VLOOKUP($B$2,FlexCleanRegions,2,FALSE)&(($A38/20)-1)&$B$4,FlexCleanRates,9,FALSE)*0.01*$B$1)+SUM(B27:D27) * F38 * G38","v":0},null,{"$f":"(VLOOKUP(VLOOKUP($B$2,FlexCleanRegions,2,FALSE)&(($A38/20)-1)&$B$4,FlexCleanRates,9,FALSE)*0.01*$B$1)+SUM(E27) * G38","v":0},{"$f":"IF(ISERROR(B38),#N/A,(VLOOKUP(VLOOKUP($B$2,FlexCleanRegions,2,FALSE)&(($A38/20)-1)&$B$4,FlexCleanRates,9,FALSE)*0.01*$B$1)/A38) + IF($B$2<>\"\",IF($B38>0,IF($B$7=$D$15,$E$15,IF($B$7=$D$16,$E$16))))","v":0},{"$f":"IF(VLOOKUP((VLOOKUP($B$2,FlexCleanRegions,2,FALSE)&((2)))&$B$4, FlexCleanRates, $B8, FALSE) = \"1BO\", 0, 1)","v":1},{"$f":"IF(VLOOKUP((VLOOKUP($B$2,FlexCleanRegions,2,FALSE)&((2)))&$B$4, FlexCleanRates, $B8, FALSE) = \"NA\", 0, 1)","v":1},null,48,0,{"$f":"SUM(Financing!$F10)","v":2.0582678677938001E-2},{"$f":"SUM(Financing!$G10)","v":2.0461207099860001E-2},{"$f":"SUM(Financing!$H10)","v":2.0340167813078E-2},{"$f":"SUM(Financing!$I10)","v":2.0219561348443001E-2},{"$f":"SUM(Financing!$J10)","v":2.0209931544801E-2},null,48,0,{"$f":"SUM(Financing!$F10)","v":2.0582678677938001E-2},{"$f":"SUM(Financing!$G10)","v":2.0461207099860001E-2},{"$f":"SUM(Financing!$H10)","v":2.0340167813078E-2},{"$f":"SUM(Financing!$I10)","v":2.0219561348443001E-2},{"$f":"SUM(Financing!$J10)","v":2.0209931544801E-2},null,48,0,{"$f":"SUM(Financing!$F10)","v":2.0582678677938001E-2},{"$f":"SUM(Financing!$G10)","v":2.0461207099860001E-2},{"$f":"SUM(Financing!$H10)","v":2.0340167813078E-2},{"$f":"SUM(Financing!$I10)","v":2.0219561348443001E-2},{"$f":"SUM(Financing!$J10)","v":2.0209931544801E-2},null,48,0,{"$f":"SUM(Financing!$F10)","v":2.0582678677938001E-2},{"$f":"SUM(Financing!$G10)","v":2.0461207099860001E-2},{"$f":"SUM(Financing!$H10)","v":2.0340167813078E-2},{"$f":"SUM(Financing!$I10)","v":2.0219561348443001E-2},{"$f":"SUM(Financing!$J10)","v":2.0209931544801E-2},null,48,0,{"$f":"SUM(Financing!$F10)","v":2.0582678677938001E-2},{"$f":"SUM(Financing!$G10)","v":2.0461207099860001E-2},{"$f":"SUM(Financing!$H10)","v":2.0340167813078E-2},{"$f":"SUM(Financing!$I10)","v":2.0219561348443001E-2},{"$f":"SUM(Financing!$J10)","v":2.0209931544801E-2}]
[80,{"$f":"(VLOOKUP(VLOOKUP($B$2,FlexCleanRegions,2,FALSE)&(($A39/20)-1)&$B$4,FlexCleanRates,9,FALSE)*0.01*$B$1)+SUM(B28:D28) * F39 * G39","v":0},null,{"$f":"(VLOOKUP(VLOOKUP($B$2,FlexCleanRegions,2,FALSE)&(($A39/20)-1)&$B$4,FlexCleanRates,9,FALSE)*0.01*$B$1)+SUM(E28) * G39","v":0},{"$f":"IF(ISERROR(B39),#N/A,(VLOOKUP(VLOOKUP($B$2,FlexCleanRegions,2,FALSE)&(($A39/20)-1)&$B$4,FlexCleanRates,9,FALSE)*0.01*$B$1)/A39) + IF($B$2<>\"\",IF($B39>0,IF($B$7=$D$15,$E$15,IF($B$7=$D$16,$E$16))))","v":0},{"$f":"IF(VLOOKUP((VLOOKUP($B$2,FlexCleanRegions,2,FALSE)&((3)))&$B$4, FlexCleanRates, $B8, FALSE) = \"1BO\", 0, 1)","v":1},{"$f":"IF(VLOOKUP((VLOOKUP($B$2,FlexCleanRegions,2,FALSE)&((3)))&$B$4, FlexCleanRates, $B8, FALSE) = \"NA\", 0, 1)","v":1}]
[100,{"$f":"(VLOOKUP(VLOOKUP($B$2,FlexCleanRegions,2,FALSE)&(($A40/20)-1)&$B$4,FlexCleanRates,9,FALSE)*0.01*$B$1)+SUM(B29:D29) * F40 * G40","v":0},null,{"$f":"(VLOOKUP(VLOOKUP($B$2,FlexCleanRegions,2,FALSE)&(($A40/20)-1)&$B$4,FlexCleanRates,9,FALSE)*0.01*$B$1)+SUM(E29) * G40","v":0},{"$f":"IF(ISERROR(B40),#N/A,(VLOOKUP(VLOOKUP($B$2,FlexCleanRegions,2,FALSE)&(($A40/20)-1)&$B$4,FlexCleanRates,9,FALSE)*0.01*$B$1)/A40) + IF($B$2<>\"\",IF($B40>0,IF($B$7=$D$15,$E$15,IF($B$7=$D$16,$E$16))))","v":0},{"$f":"IF(VLOOKUP((VLOOKUP($B$2,FlexCleanRegions,2,FALSE)&((4)))&$B$4, FlexCleanRates, $B8, FALSE) = \"1BO\", 0, 1)","v":1},{"$f":"IF(VLOOKUP((VLOOKUP($B$2,FlexCleanRegions,2,FALSE)&((4)))&$B$4, FlexCleanRates, $B8, FALSE) = \"NA\", 0, 1)","v":1},null,36,0,{"$f":"IF(AND(K$33<=$B$1,$B$1<L$33,$B3=$E2),IF(K36 = \"NA\", 0,K36*$B$1),0)","v":0},{"$f":"IF(AND(L$33<=$B$1,$B$1<M$33,$B3=$E2),IF(L36 = \"NA\", 0,L36*$B$1),0)","v":0},{"$f":"IF(AND(M$33<=$B$1,$B$1<N$33,$B3=$E2),IF(M36 = \"NA\", 0,M36*$B$1),0)","v":0},{"$f":"IF(AND(N$33<=$B$1,$B$1<O$33,$B3=$E2),IF(N36 = \"NA\", 0,N36*$B$1),0)","v":0},{"$f":"IF(AND(O$33<=$B$1,$B$1<P$33,$B3=$E2),IF(O36 = \"NA\", 0,O36*$B$1),0)","v":0},null,36,0,{"$f":"IF(AND(S$33<=$B$1,$B$1<T$33,$B3=$E2),IF(S36 = \"NA\", 0,S36*$B$1),0)","v":0},{"$f":"IF(AND(T$33<=$B$1,$B$1<U$33,$B3=$E2),IF(T36 = \"NA\", 0,T36*$B$1),0)","v":0},{"$f":"IF(AND(U$33<=$B$1,$B$1<V$33,$B3=$E2),IF(U36 = \"NA\", 0,U36*$B$1),0)","v":0},{"$f":"IF(AND(V$33<=$B$1,$B$1<W$33,$B3=$E2),IF(V36 = \"NA\", 0,V36*$B$1),0)","v":0},{"$f":"IF(AND(W$33<=$B$1,$B$1<X$33,$B3=$E2),IF(W36 = \"NA\", 0,W36*$B$1),0)","v":0},null,36,0,{"$f":"IF(AND(AA$33<=$B$1,$B$1<AB$33,$B3=$E2),IF(AA36 = \"NA\", 0,AA36*$B$1),0)","v":0},{"$f":"IF(AND(AB$33<=$B$1,$B$1<AC$33,$B3=$E2),IF(AB36 = \"NA\", 0,AB36*$B$1),0)","v":0},{"$f":"IF(AND(AC$33<=$B$1,$B$1<AD$33,$B3=$E2),IF(AC36 = \"NA\", 0,AC36*$B$1),0)","v":0},{"$f":"IF(AND(AD$33<=$B$1,$B$1<AE$33,$B3=$E2),IF(AD36 = \"NA\", 0,AD36*$B$1),0)","v":0},{"$f":"IF(AND(AE$33<=$B$1,$B$1<AF$33,$B3=$E2),IF(AE36 = \"NA\", 0,AE36*$B$1),0)","v":0},null,36,0,{"$f":"IF(AND(AI$33<=$B$1,$B$1<AJ$33,$B3=$E2),IF(AI36 = \"NA\", 0,AI36*$B$1),0)","v":0},{"$f":"IF(AND(AJ$33<=$B$1,$B$1<AK$33,$B3=$E2),IF(AJ36 = \"NA\", 0,AJ36*$B$1),0)","v":0},{"$f":"IF(AND(AK$33<=$B$1,$B$1<AL$33,$B3=$E2),IF(AK36 = \"NA\", 0,AK36*$B$1),0)","v":0},{"$f":"IF(AND(AL$33<=$B$1,$B$1<AM$33,$B3=$E2),IF(AL36 = \"NA\", 0,AL36*$B$1),0)","v":0},{"$f":"IF(AND(AM$33<=$B$1,$B$1<AN$33,$B3=$E2),IF(AM36 = \"NA\", 0,AM36*$B$1),0)","v":0},null,36,0,{"$f":"IF(AND(AQ$33<=$B$1,$B$1<AR$33,$B3=$E2),IF(AQ36 = \"NA\", 0,AQ36*$B$1),0)","v":0},{"$f":"IF(AND(AR$33<=$B$1,$B$1<AS$33,$B3=$E2),IF(AR36 = \"NA\", 0,AR36*$B$1),0)","v":0},{"$f":"IF(AND(AS$33<=$B$1,$B$1<AT$33,$B3=$E2),IF(AS36 = \"NA\", 0,AS36*$B$1),0)","v":0},{"$f":"IF(AND(AT$33<=$B$1,$B$1<AU$33,$B3=$E2),IF(AT36 = \"NA\", 0,AT36*$B$1),0)","v":0},{"$f":"IF(AND(AU$33<=$B$1,$B$1<AV$33,$B3=$E2),IF(AU36 = \"NA\", 0,AU36*$B$1),0)","v":0}]
[125,{"$f":"(VLOOKUP(VLOOKUP($B$2,FlexCleanRegions,2,FALSE)&((5)-1)&$B$4,FlexCleanRates,8,FALSE)*0.01*$B$1)+SUM(B30:D30) * F41 * G41","v":0},null,{"$f":"(VLOOKUP(VLOOKUP($B$2,FlexCleanRegions,2,FALSE)&((5)-1)&$B$4,FlexCleanRates,9,FALSE)*0.01*$B$1)+SUM(E30) * G41","v":0},{"$f":"IF(ISERROR(B41),#N/A,(VLOOKUP(VLOOKUP($B$2,FlexCleanRegions,2,FALSE)&((5)-1)&$B$4,FlexCleanRates,9,FALSE)*0.01*$B$1)/A41) + IF($B$2<>\"\",IF($B41>0,IF($B$7=$D$15,$E$15,IF($B$7=$D$16,$E$16))))","v":0},{"$f":"IF(VLOOKUP((VLOOKUP($B$2,FlexCleanRegions,2,FALSE)&((5)))&$B$4, FlexCleanRates, $B8, FALSE) = \"1BO\", 0, 1)","v":1},{"$f":"IF(VLOOKUP((VLOOKUP($B$2,FlexCleanRegions,2,FALSE)&((5)))&$B$4, FlexCleanRates, $B8, FALSE) = \"NA\", 0, 1)","v":0},null,48,0,{"$f":"IF(AND(K$33<=$B$1,$B$1<L$33,$B3=$E3),IF(K37 = \"NA\", 0,K37*$B$1),0)","v":0},{"$f":"IF(AND(L$33<=$B$1,$B$1<M$33,$B3=$E3),IF(L37 = \"NA\", 0,L37*$B$1),0)","v":0},{"$f":"IF(AND(M$33<=$B$1,$B$1<N$33,$B3=$E3),IF(M37 = \"NA\", 0,M37*$B$1),0)","v":0},{"$f":"IF(AND(N$33<=$B$1,$B$1<O$33,$B3=$E3),IF(N37 = \"NA\", 0,N37*$B$1),0)","v":0},{"$f":"IF(AND(O$33<=$B$1,$B$1<P$33,$B3=$E3),IF(O37 = \"NA\", 0,O37*$B$1),0)","v":0},null,48,0,{"$f":"IF(AND(S$33<=$B$1,$B$1<T$33,$B3=$E3),IF(S37 = \"NA\", 0,S37*$B$1),0)","v":0},{"$f":"IF(AND(T$33<=$B$1,$B$1<U$33,$B3=$E3),IF(T37 = \"NA\", 0,T37*$B$1),0)","v":0},{"$f":"IF(AND(U$33<=$B$1,$B$1<V$33,$B3=$E3),IF(U37 = \"NA\", 0,U37*$B$1),0)","v":0},{"$f":"IF(AND(V$33<=$B$1,$B$1<W$33,$B3=$E3),IF(V37 = \"NA\", 0,V37*$B$1),0)","v":0},{"$f":"IF(AND(W$33<=$B$1,$B$1<X$33,$B3=$E3),IF(W37 = \"NA\", 0,W37*$B$1),0)","v":0},null,48,0,{"$f":"IF(AND(AA$33<=$B$1,$B$1<AB$33,$B3=$E3),IF(AA37 = \"NA\", 0,AA37*$B$1),0)","v":0},{"$f":"IF(AND(AB$33<=$B$1,$B$1<AC$33,$B3=$E3),IF(AB37 = \"NA\", 0,AB37*$B$1),0)","v":0},{"$f":"IF(AND(AC$33<=$B$1,$B$1<AD$33,$B3=$E3),IF(AC37 = \"NA\", 0,AC37*$B$1),0)","v":0},{"$f":"IF(AND(AD$33<=$B$1,$B$1<AE$33,$B3=$E3),IF(AD37 = \"NA\", 0,AD37*$B$1),0)","v":0},{"$f":"IF(AND(AE$33<=$B$1,$B$1<AF$33,$B3=$E3),IF(AE37 = \"NA\", 0,AE37*$B$1),0)","v":0},null,48,0,{"$f":"IF(AND(AI$33<=$B$1,$B$1<AJ$33,$B3=$E3),IF(AI37 = \"NA\", 0,AI37*$B$1),0)","v":0},{"$f":"IF(AND(AJ$33<=$B$1,$B$1<AK$33,$B3=$E3),IF(AJ37 = \"NA\", 0,AJ37*$B$1),0)","v":0},{"$f":"IF(AND(AK$33<=$B$1,$B$1<AL$33,$B3=$E3),IF(AK37 = \"NA\", 0,AK37*$B$1),0)","v":0},{"$f":"IF(AND(AL$33<=$B$1,$B$1<AM$33,$B3=$E3),IF(AL37 = \"NA\", 0,AL37*$B$1),0)","v":0},{"$f":"IF(AND(AM$33<=$B$1,$B$1<AN$33,$B3=$E3),IF(AM37 = \"NA\", 0,AM37*$B$1),0)","v":0},null,48,0,{"$f":"IF(AND(AQ$33<=$B$1,$B$1<AR$33,$B3=$E3),IF(AQ37 = \"NA\", 0,AQ37*$B$1),0)","v":0},{"$f":"IF(AND(AR$33<=$B$1,$B$1<AS$33,$B3=$E3),IF(AR37 = \"NA\", 0,AR37*$B$1),0)","v":0},{"$f":"IF(AND(AS$33<=$B$1,$B$1<AT$33,$B3=$E3),IF(AS37 = \"NA\", 0,AS37*$B$1),0)","v":0},{"$f":"IF(AND(AT$33<=$B$1,$B$1<AU$33,$B3=$E3),IF(AT37 = \"NA\", 0,AT37*$B$1),0)","v":0},{"$f":"IF(AND(AU$33<=$B$1,$B$1<AV$33,$B3=$E3),IF(AU37 = \"NA\", 0,AU37*$B$1),0)","v":0}]
[150,{"$f":"(VLOOKUP(VLOOKUP($B$2,FlexCleanRegions,2,FALSE)&((6)-1)&$B$4,FlexCleanRates,9,FALSE)*0.01*$B$1)+SUM(B31:D31) * F42 * G42","v":0},null,{"$f":"(VLOOKUP(VLOOKUP($B$2,FlexCleanRegions,2,FALSE)&((6)-1)&$B$4,FlexCleanRates,9,FALSE)*0.01*$B$1)+SUM(E31) * G42","v":0},{"$f":"IF(ISERROR(B42),#N/A,(VLOOKUP(VLOOKUP($B$2,FlexCleanRegions,2,FALSE)&((6)-1)&$B$4,FlexCleanRates,9,FALSE)*0.01*$B$1)/A42) + IF($B$2<>\"\",IF($B42>0,IF($B$7=$D$15,$E$15,IF($B$7=$D$16,$E$16))))","v":0},{"$f":"IF(VLOOKUP((VLOOKUP($B$2,FlexCleanRegions,2,FALSE)&((6)))&$B$4, FlexCleanRates, $B8, FALSE) = \"1BO\", 0, 1)","v":1},{"$f":"IF(VLOOKUP((VLOOKUP($B$2,FlexCleanRegions,2,FALSE)&((6)))&$B$4, FlexCleanRates, $B8, FALSE) = \"NA\", 0, 1)","v":0},null,48,0,{"$f":"IF(AND(K$33<=$B$1,$B$1<L$33,$B3=$E4),IF(K38 = \"NA\", 0,K38*$B$1),0)","v":0},{"$f":"IF(AND(L$33<=$B$1,$B$1<M$33,$B3=$E4),IF(L38 = \"NA\", 0,L38*$B$1),0)","v":0},{"$f":"IF(AND(M$33<=$B$1,$B$1<N$33,$B3=$E4),IF(M38 = \"NA\", 0,M38*$B$1),0)","v":0},{"$f":"IF(AND(N$33<=$B$1,$B$1<O$33,$B3=$E4),IF(N38 = \"NA\", 0,N38*$B$1),0)","v":0},{"$f":"IF(AND(O$33<=$B$1,$B$1<P$33,$B3=$E4),IF(O38 = \"NA\", 0,O38*$B$1),0)","v":0},null,48,0,{"$f":"IF(AND(S$33<=$B$1,$B$1<T$33,$B3=$E4),IF(S38 = \"NA\", 0,S38*$B$1),0)","v":0},{"$f":"IF(AND(T$33<=$B$1,$B$1<U$33,$B3=$E4),IF(T38 = \"NA\", 0,T38*$B$1),0)","v":0},{"$f":"IF(AND(U$33<=$B$1,$B$1<V$33,$B3=$E4),IF(U38 = \"NA\", 0,U38*$B$1),0)","v":0},{"$f":"IF(AND(V$33<=$B$1,$B$1<W$33,$B3=$E4),IF(V38 = \"NA\", 0,V38*$B$1),0)","v":0},{"$f":"IF(AND(W$33<=$B$1,$B$1<X$33,$B3=$E4),IF(W38 = \"NA\", 0,W38*$B$1),0)","v":0},null,48,0,{"$f":"IF(AND(AA$33<=$B$1,$B$1<AB$33,$B3=$E4),IF(AA38 = \"NA\", 0,AA38*$B$1),0)","v":0},{"$f":"IF(AND(AB$33<=$B$1,$B$1<AC$33,$B3=$E4),IF(AB38 = \"NA\", 0,AB38*$B$1),0)","v":0},{"$f":"IF(AND(AC$33<=$B$1,$B$1<AD$33,$B3=$E4),IF(AC38 = \"NA\", 0,AC38*$B$1),0)","v":0},{"$f":"IF(AND(AD$33<=$B$1,$B$1<AE$33,$B3=$E4),IF(AD38 = \"NA\", 0,AD38*$B$1),0)","v":0},{"$f":"IF(AND(AE$33<=$B$1,$B$1<AF$33,$B3=$E4),IF(AE38 = \"NA\", 0,AE38*$B$1),0)","v":0},null,48,0,{"$f":"IF(AND(AI$33<=$B$1,$B$1<AJ$33,$B3=$E4),IF(AI38 = \"NA\", 0,AI38*$B$1),0)","v":0},{"$f":"IF(AND(AJ$33<=$B$1,$B$1<AK$33,$B3=$E4),IF(AJ38 = \"NA\", 0,AJ38*$B$1),0)","v":0},{"$f":"IF(AND(AK$33<=$B$1,$B$1<AL$33,$B3=$E4),IF(AK38 = \"NA\", 0,AK38*$B$1),0)","v":0},{"$f":"IF(AND(AL$33<=$B$1,$B$1<AM$33,$B3=$E4),IF(AL38 = \"NA\", 0,AL38*$B$1),0)","v":0},{"$f":"IF(AND(AM$33<=$B$1,$B$1<AN$33,$B3=$E4),IF(AM38 = \"NA\", 0,AM38*$B$1),0)","v":0},null,48,0,{"$f":"IF(AND(AQ$33<=$B$1,$B$1<AR$33,$B3=$E4),IF(AQ38 = \"NA\", 0,AQ38*$B$1),0)","v":0},{"$f":"IF(AND(AR$33<=$B$1,$B$1<AS$33,$B3=$E4),IF(AR38 = \"NA\", 0,AR38*$B$1),0)","v":0},{"$f":"IF(AND(AS$33<=$B$1,$B$1<AT$33,$B3=$E4),IF(AS38 = \"NA\", 0,AS38*$B$1),0)","v":0},{"$f":"IF(AND(AT$33<=$B$1,$B$1<AU$33,$B3=$E4),IF(AT38 = \"NA\", 0,AT38*$B$1),0)","v":0},{"$f":"IF(AND(AU$33<=$B$1,$B$1<AV$33,$B3=$E4),IF(AU38 = \"NA\", 0,AU38*$B$1),0)","v":0}]
[null,null,null,0,0,null,null,null,{"$f":"SUM(K43:O43)","v":0},null,{"$f":"SUM(K40:K42)","v":0},{"$f":"SUM(L40:L42)","v":0},{"$f":"SUM(M40:M42)","v":0},{"$f":"SUM(N40:N42)","v":0},{"$f":"SUM(O40:O42)","v":0},null,{"$f":"SUM(S43:W43)","v":0},null,{"$f":"SUM(S40:S42)","v":0},{"$f":"SUM(T40:T42)","v":0},{"$f":"SUM(U40:U42)","v":0},{"$f":"SUM(V40:V42)","v":0},{"$f":"SUM(W40:W42)","v":0},null,{"$f":"SUM(AA43:AE43)","v":0},null,{"$f":"SUM(AA40:AA42)","v":0},{"$f":"SUM(AB40:AB42)","v":0},{"$f":"SUM(AC40:AC42)","v":0},{"$f":"SUM(AD40:AD42)","v":0},{"$f":"SUM(AE40:AE42)","v":0},null,{"$f":"SUM(AI43:AM43)","v":0},null,{"$f":"SUM(AI40:AI42)","v":0},{"$f":"SUM(AJ40:AJ42)","v":0},{"$f":"SUM(AK40:AK42)","v":0},{"$f":"SUM(AL40:AL42)","v":0},{"$f":"SUM(AM40:AM42)","v":0},null,{"$f":"SUM(AQ43:AU43)","v":0},null,{"$f":"SUM(AQ40:AQ42)","v":0},{"$f":"SUM(AR40:AR42)","v":0},{"$f":"SUM(AS40:AS42)","v":0},{"$f":"SUM(AT40:AT42)","v":0},{"$f":"SUM(AU40:AU42)","v":0}]
["Back up only, not using…"]
[null,"Price",null,"Hourly Overage Fee"]
["Hours included per Month:",null,null,null,null,null,null,null,{"$f":"Financing!C9","v":"OnPoint Capital"}]
[40,{"$f":"(VLOOKUP(VLOOKUP($B$2,FlexCleanRegions,2,FALSE)&(($A47/20)-1)&$B$4,FlexCleanRates,9,FALSE)*0.01*$B$1)+SUM(B26:E26)","v":0},{"$f":"VLOOKUP(#REF!&#REF!&\"M20\",FlexCleanRates,9,FALSE)*3*#REF!","v":{"$error":"#REF!"}},{"$f":"IF(ISERROR(B47),#N/A,(VLOOKUP(VLOOKUP($B$2,FlexCleanRegions,2,FALSE)&(($A47/20)-1)&$B$4,FlexCleanRates,9,FALSE)*0.01*$B$1)/A47 + (SUM(B26:E26)/A37))","v":0},{"$f":"VLOOKUP(#REF!&#REF!&\"M20\",FlexCleanRates,9,FALSE)*3*#REF!","v":{"$error":"#REF!"}},null,null,null,"FMV Sweeper"]
[60,{"$f":"(VLOOKUP(VLOOKUP($B$2,FlexCleanRegions,2,FALSE)&(($A48/20)-1)&$B$4,FlexCleanRates,9,FALSE)*0.01*$B$1)+SUM(B27:E27)","v":0},{"$f":"VLOOKUP(#REF!&#REF!&\"M20\",FlexCleanRates,9,FALSE)*3*#REF!","v":{"$error":"#REF!"}},{"$f":"IF(ISERROR(B48),#N/A,(VLOOKUP(VLOOKUP($B$2,FlexCleanRegions,2,FALSE)&(($A48/20)-1)&$B$4,FlexCleanRates,9,FALSE)*0.01*$B$1)/A48 + (SUM(B27:E27)/A38))","v":0},{"$f":"VLOOKUP(#REF!&#REF!&\"M20\",FlexCleanRates,9,FALSE)*3*#REF!","v":{"$error":"#REF!"}},null,null,null,"300 Hours/Yr",null,null,null,null,null,null,null,"480 Hours/Yr",null,null,null,null,null,null,null,"720 Hours/Yr",null,null,null,null,null,null,null,"960 Hours/Yr",null,null,null,null,null,null,null,"1200 Hours/Yr"]
[80,{"$f":"(VLOOKUP(VLOOKUP($B$2,FlexCleanRegions,2,FALSE)&(($A49/20)-1)&$B$4,FlexCleanRates,9,FALSE)*0.01*$B$1)+SUM(B28:E28)","v":0},{"$f":"VLOOKUP(#REF!&#REF!&\"M20\",FlexCleanRates,9,FALSE)*3*#REF!","v":{"$error":"#REF!"}},{"$f":"IF(ISERROR(B49),#N/A,(VLOOKUP(VLOOKUP($B$2,FlexCleanRegions,2,FALSE)&(($A49/20)-1)&$B$4,FlexCleanRates,9,FALSE)*0.01*$B$1)/A49 + (SUM(B28:E28)/A39))","v":0},{"$f":"VLOOKUP(#REF!&#REF!&\"M20\",FlexCleanRates,9,FALSE)*3*#REF!","v":{"$error":"#REF!"}},null,null,null,null,null,3000,10000,25000,50000,100000,null,null,null,3000,10000,25000,50000,100000,null,null,null,3000,10000,25000,50000,100000,null,null,null,3000,10000,25000,50000,100000,null,null,null,3000,10000,25000,50000,100000]
[100,{"$f":"(VLOOKUP(VLOOKUP($B$2,FlexCleanRegions,2,FALSE)&(($A50/20)-1)&$B$4,FlexCleanRates,9,FALSE)*0.01*$B$1)+SUM(B29:E29)","v":0},{"$f":"VLOOKUP(#REF!&#REF!&\"M20\",FlexCleanRates,9,FALSE)*3*#REF!","v":{"$error":"#REF!"}},{"$f":"IF(ISERROR(B50),#N/A,(VLOOKUP(VLOOKUP($B$2,FlexCleanRegions,2,FALSE)&(($A50/20)-1)&$B$4,FlexCleanRates,9,FALSE)*0.01*$B$1)/A50 + (SUM(B29:E29)/A40))","v":0},{"$f":"VLOOKUP(#REF!&#REF!&\"M20\",FlexCleanRates,9,FALSE)*3*#REF!","v":{"$error":"#REF!"}},null,null,null,null,null,"to","to","to","to","to",null,null,null,"to","to","to","to","to",null,null,null,"to","to","to","to","to",null,null,null,"to","to","to","to","to",null,null,null,"to","to","to","to","to"]
[null,null,null,null,null,null,null,null,"Term","Adv",9999,24999,49999,99999,null,null,"Term","Adv",9999,24999,49999,99999,null,null,"Term","Adv",9999,24999,49999,99999,null,null,"Term","Adv",9999,24999,49999,99999,null,null,"Term","Adv",9999,24999,49999,99999]
[null,null,null,null,null,null,null,null,36,0,{"$f":"SUM(Financing!$N29)","v":2.9530000000000001E-2},{"$f":"SUM(Financing!$O29)","v":2.921E-2},{"$f":"SUM(Financing!$P29)","v":2.768E-2},{"$f":"SUM(Financing!$Q29)","v":2.768E-2},{"$f":"SUM(Financing!$R29)","v":2.768E-2},null,36,0,{"$f":"SUM(Financing!$N29)","v":2.9530000000000001E-2},{"$f":"SUM(Financing!$O29)","v":2.921E-2},{"$f":"SUM(Financing!$P29)","v":2.768E-2},{"$f":"SUM(Financing!$Q29)","v":2.768E-2},{"$f":"SUM(Financing!$R29)","v":2.768E-2},null,36,0,{"$f":"SUM(Financing!$N29)","v":2.9530000000000001E-2},{"$f":"SUM(Financing!$O29)","v":2.921E-2},{"$f":"SUM(Financing!$P29)","v":2.768E-2},{"$f":"SUM(Financing!$Q29)","v":2.768E-2},{"$f":"SUM(Financing!$R29)","v":2.768E-2},null,36,0,{"$f":"SUM(Financing!$N29)","v":2.9530000000000001E-2},{"$f":"SUM(Financing!$O29)","v":2.921E-2},{"$f":"SUM(Financing!$P29)","v":2.768E-2},{"$f":"SUM(Financing!$Q29)","v":2.768E-2},{"$f":"SUM(Financing!$R29)","v":2.768E-2},null,36,0,{"$f":"SUM(Financing!$N29)","v":2.9530000000000001E-2},{"$f":"SUM(Financing!$O29)","v":2.921E-2},{"$f":"SUM(Financing!$P29)","v":2.768E-2},{"$f":"SUM(Financing!$Q29)","v":2.768E-2},{"$f":"SUM(Financing!$R29)","v":2.768E-2}]
[null,null,null,null,null,null,null,null,48,0,{"$f":"SUM(Financing!$N30)","v":2.4049999999999998E-2},{"$f":"SUM(Financing!$O30)","v":2.3800000000000002E-2},{"$f":"SUM(Financing!$P30)","v":2.1930000000000002E-2},{"$f":"SUM(Financing!$Q30)","v":2.1930000000000002E-2},{"$f":"SUM(Financing!$R30)","v":2.1860000000000001E-2},null,48,0,{"$f":"SUM(Financing!$N30)","v":2.4049999999999998E-2},{"$f":"SUM(Financing!$O30)","v":2.3800000000000002E-2},{"$f":"SUM(Financing!$P30)","v":2.1930000000000002E-2},{"$f":"SUM(Financing!$Q30)","v":2.1930000000000002E-2},{"$f":"SUM(Financing!$R30)","v":2.1860000000000001E-2},null,48,0,{"$f":"SUM(Financing!$N30)","v":2.4049999999999998E-2},{"$f":"SUM(Financing!$O30)","v":2.3800000000000002E-2},{"$f":"SUM(Financing!$P30)","v":2.1930000000000002E-2},{"$f":"SUM(Financing!$Q30)","v":2.1930000000000002E-2},{"$f":"SUM(Financing!$R30)","v":2.1860000000000001E-2},null,48,0,{"$f":"SUM(Financing!$N30)","v":2.4049999999999998E-2},{"$f":"SUM(Financing!$O30)","v":2.3800000000000002E-2},{"$f":"SUM(Financing!$P30)","v":2.1930000000000002E-2},{"$f":"SUM(Financing!$Q30)","v":2.1930000000000002E-2},{"$f":"SUM(Financing!$R30)","v":2.1860000000000001E-2},null,48,0,{"$f":"SUM(Financing!$N30)","v":2.4049999999999998E-2},{"$f":"SUM(Financing!$O30)","v":2.3800000000000002E-2},{"$f":"SUM(Financing!$P30)","v":2.1930000000000002E-2},{"$f":"SUM(Financing!$Q30)","v":2.1930000000000002E-2},{"$f":"SUM(Financing!$R30)","v":2.1860000000000001E-2}]
[null,null,null,null,null,null,null,null,60,0,{"$f":"SUM(Financing!$N31)","v":2.1000000000000001E-2},{"$f":"SUM(Financing!$O31)","v":2.0789999999999999E-2},{"$f":"SUM(Financing!$P31)","v":1.847E-2},{"$f":"SUM(Financing!$Q31)","v":1.847E-2},{"$f":"SUM(Financing!$R31)","v":1.8380000000000001E-2},null,48,0,{"$f":"SUM(Financing!$N31)","v":2.1000000000000001E-2},{"$f":"SUM(Financing!$O31)","v":2.0789999999999999E-2},{"$f":"SUM(Financing!$P31)","v":1.847E-2},{"$f":"SUM(Financing!$Q31)","v":1.847E-2},{"$f":"SUM(Financing!$R31)","v":1.8380000000000001E-2},null,48,0,{"$f":"SUM(Financing!$N31)","v":2.1000000000000001E-2},{"$f":"SUM(Financing!$O31)","v":2.0789999999999999E-2},{"$f":"SUM(Financing!$P31)","v":1.847E-2},{"$f":"SUM(Financing!$Q31)","v":1.847E-2},{"$f":"SUM(Financing!$R31)","v":1.8380000000000001E-2},null,48,0,{"$f":"SUM(Financing!$N31)","v":2.1000000000000001E-2},{"$f":"SUM(Financing!$O31)","v":2.0789999999999999E-2},{"$f":"SUM(Financing!$P31)","v":1.847E-2},{"$f":"SUM(Financing!$Q31)","v":1.847E-2},{"$f":"SUM(Financing!$R31)","v":1.8380000000000001E-2},null,48,0,{"$f":"SUM(Financing!$N31)","v":2.1000000000000001E-2},{"$f":"SUM(Financing!$O31)","v":2.0789999999999999E-2},{"$f":"SUM(Financing!$P31)","v":1.847E-2},{"$f":"SUM(Financing!$Q31)","v":1.847E-2},{"$f":"SUM(Financing!$R31)","v":1.8380000000000001E-2}]
[]
[null,null,null,null,null,null,null,null,36,0,{"$f":"IF(AND(K$49<=$B$1,$B$1<L$49,$B3=$E2, $B5=$D11),IF(K52 = \"NA\", 0,K52*$B$1),0)","v":0},{"$f":"IF(AND(L$49<=$B$1,$B$1<M$49,$B3=$E2, $B5=$D11),IF(L52 = \"NA\", 0,L52*$B$1),0)","v":0},{"$f":"IF(AND(M$49<=$B$1,$B$1<N$49,$B3=$E2, $B5=$D11),IF(M52 = \"NA\", 0,M52*$B$1),0)","v":0},{"$f":"IF(AND(N$49<=$B$1,$B$1<O$49,$B3=$E2, $B5=$D11),IF(N52 = \"NA\", 0,N52*$B$1),0)","v":0},{"$f":"IF(AND(O$49<=$B$1,$B3=$E2, $B5=$D11),IF(O52 = \"NA\", 0,O52*$B$1),0)","v":0},null,36,0,{"$f":"IF(AND(S$49<=$B$1,$B$1<T$49,$B3=$E2, $B5=$D11),IF(S52 = \"NA\", 0,S52*$B$1),0)","v":0},{"$f":"IF(AND(T$49<=$B$1,$B$1<U$49,$B3=$E2, $B5=$D11),IF(T52 = \"NA\", 0,T52*$B$1),0)","v":0},{"$f":"IF(AND(U$49<=$B$1,$B$1<V$49,$B3=$E2, $B5=$D11),IF(U52 = \"NA\", 0,U52*$B$1),0)","v":0},{"$f":"IF(AND(V$49<=$B$1,$B$1<W$49,$B3=$E2, $B5=$D11),IF(V52 = \"NA\", 0,V52*$B$1),0)","v":0},{"$f":"IF(AND(W$49<=$B$1,$B3=$E2, $B5=$D11),IF(W52 = \"NA\", 0,W52*$B$1),0)","v":0},null,36,0,{"$f":"IF(AND(AA$49<=$B$1,$B$1<AB$49,$B3=$E2, $B5=$D11),IF(AA52 = \"NA\", 0,AA52*$B$1),0)","v":0},{"$f":"IF(AND(AB$49<=$B$1,$B$1<AC$49,$B3=$E2, $B5=$D11),IF(AB52 = \"NA\", 0,AB52*$B$1),0)","v":0},{"$f":"IF(AND(AC$49<=$B$1,$B$1<AD$49,$B3=$E2, $B5=$D11),IF(AC52 = \"NA\", 0,AC52*$B$1),0)","v":0},{"$f":"IF(AND(AD$49<=$B$1,$B$1<AE$49,$B3=$E2, $B5=$D11),IF(AD52 = \"NA\", 0,AD52*$B$1),0)","v":0},{"$f":"IF(AND(AE$49<=$B$1,$B3=$E2, $B5=$D11),IF(AE52 = \"NA\", 0,AE52*$B$1),0)","v":0},null,36,0,{"$f":"IF(AND(AI$49<=$B$1,$B$1<AJ$49,$B3=$E2, $B5=$D11),IF(AI52 = \"NA\", 0,AI52*$B$1),0)","v":0},{"$f":"IF(AND(AJ$49<=$B$1,$B$1<AK$49,$B3=$E2, $B5=$D11),IF(AJ52 = \"NA\", 0,AJ52*$B$1),0)","v":0},{"$f":"IF(AND(AK$49<=$B$1,$B$1<AL$49,$B3=$E2, $B5=$D11),IF(AK52 = \"NA\", 0,AK52*$B$1),0)","v":0},{"$f":"IF(AND(AL$49<=$B$1,$B$1<AM$49,$B3=$E2, $B5=$D11),IF(AL52 = \"NA\", 0,AL52*$B$1),0)","v":0},{"$f":"IF(AND(AM$49<=$B$1,$B3=$E2, $B5=$D11),IF(AM52 = \"NA\", 0,AM52*$B$1),0)","v":0},null,36,0,{"$f":"IF(AND(AQ$49<=$B$1,$B$1<AR$49,$B3=$E2, $B5=$D11),IF(AQ52 = \"NA\", 0,AQ52*$B$1),0)","v":0},{"$f":"IF(AND(AR$49<=$B$1,$B$1<AS$49,$B3=$E2, $B5=$D11),IF(AR52 = \"NA\", 0,AR52*$B$1),0)","v":0},{"$f":"IF(AND(AS$49<=$B$1,$B$1<AT$49,$B3=$E2, $B5=$D11),IF(AS52 = \"NA\", 0,AS52*$B$1),0)","v":0},{"$f":"IF(AND(AT$49<=$B$1,$B$1<AU$49,$B3=$E2, $B5=$D11),IF(AT52 = \"NA\", 0,AT52*$B$1),0)","v":0},{"$f":"IF(AND(AU$49<=$B$1,$B3=$E2, $B5=$D11),IF(AU52 = \"NA\", 0,AU52*$B$1),0)","v":0}]
[null,null,null,null,null,null,null,null,48,0,{"$f":"IF(AND(K$49<=$B$1,$B$1<L$49,$B3=$E3, $B5=$D11),IF(K53 = \"NA\", 0,K53*$B$1),0)","v":0},{"$f":"IF(AND(L$49<=$B$1,$B$1<M$49,$B3=$E3, $B5=$D11),IF(L53 = \"NA\", 0,L53*$B$1),0)","v":0},{"$f":"IF(AND(M$49<=$B$1,$B$1<N$49,$B3=$E3, $B5=$D11),IF(M53 = \"NA\", 0,M53*$B$1),0)","v":0},{"$f":"IF(AND(N$49<=$B$1,$B$1<O$49,$B3=$E3, $B5=$D11),IF(N53 = \"NA\", 0,N53*$B$1),0)","v":0},{"$f":"IF(AND(O$49<=$B$1,$B3=$E3, $B5=$D11),IF(O53 = \"NA\", 0,O53*$B$1),0)","v":0},null,48,0,{"$f":"IF(AND(S$49<=$B$1,$B$1<T$49,$B3=$E3, $B5=$D11),IF(S53 = \"NA\", 0,S53*$B$1),0)","v":0},{"$f":"IF(AND(T$49<=$B$1,$B$1<U$49,$B3=$E3, $B5=$D11),IF(T53 = \"NA\", 0,T53*$B$1),0)","v":0},{"$f":"IF(AND(U$49<=$B$1,$B$1<V$49,$B3=$E3, $B5=$D11),IF(U53 = \"NA\", 0,U53*$B$1),0)","v":0},{"$f":"IF(AND(V$49<=$B$1,$B$1<W$49,$B3=$E3, $B5=$D11),IF(V53 = \"NA\", 0,V53*$B$1),0)","v":0},{"$f":"IF(AND(W$49<=$B$1,$B3=$E3, $B5=$D11),IF(W53 = \"NA\", 0,W53*$B$1),0)","v":0},null,48,0,{"$f":"IF(AND(AA$49<=$B$1,$B$1<AB$49,$B3=$E3, $B5=$D11),IF(AA53 = \"NA\", 0,AA53*$B$1),0)","v":0},{"$f":"IF(AND(AB$49<=$B$1,$B$1<AC$49,$B3=$E3, $B5=$D11),IF(AB53 = \"NA\", 0,AB53*$B$1),0)","v":0},{"$f":"IF(AND(AC$49<=$B$1,$B$1<AD$49,$B3=$E3, $B5=$D11),IF(AC53 = \"NA\", 0,AC53*$B$1),0)","v":0},{"$f":"IF(AND(AD$49<=$B$1,$B$1<AE$49,$B3=$E3, $B5=$D11),IF(AD53 = \"NA\", 0,AD53*$B$1),0)","v":0},{"$f":"IF(AND(AE$49<=$B$1,$B3=$E3, $B5=$D11),IF(AE53 = \"NA\", 0,AE53*$B$1),0)","v":0},null,48,0,{"$f":"IF(AND(AI$49<=$B$1,$B$1<AJ$49,$B3=$E3, $B5=$D11),IF(AI53 = \"NA\", 0,AI53*$B$1),0)","v":0},{"$f":"IF(AND(AJ$49<=$B$1,$B$1<AK$49,$B3=$E3, $B5=$D11),IF(AJ53 = \"NA\", 0,AJ53*$B$1),0)","v":0},{"$f":"IF(AND(AK$49<=$B$1,$B$1<AL$49,$B3=$E3, $B5=$D11),IF(AK53 = \"NA\", 0,AK53*$B$1),0)","v":0},{"$f":"IF(AND(AL$49<=$B$1,$B$1<AM$49,$B3=$E3, $B5=$D11),IF(AL53 = \"NA\", 0,AL53*$B$1),0)","v":0},{"$f":"IF(AND(AM$49<=$B$1,$B3=$E3, $B5=$D11),IF(AM53 = \"NA\", 0,AM53*$B$1),0)","v":0},null,48,0,{"$f":"IF(AND(AQ$49<=$B$1,$B$1<AR$49,$B3=$E3, $B5=$D11),IF(AQ53 = \"NA\", 0,AQ53*$B$1),0)","v":0},{"$f":"IF(AND(AR$49<=$B$1,$B$1<AS$49,$B3=$E3, $B5=$D11),IF(AR53 = \"NA\", 0,AR53*$B$1),0)","v":0},{"$f":"IF(AND(AS$49<=$B$1,$B$1<AT$49,$B3=$E3, $B5=$D11),IF(AS53 = \"NA\", 0,AS53*$B$1),0)","v":0},{"$f":"IF(AND(AT$49<=$B$1,$B$1<AU$49,$B3=$E3, $B5=$D11),IF(AT53 = \"NA\", 0,AT53*$B$1),0)","v":0},{"$f":"IF(AND(AU$49<=$B$1,$B3=$E3, $B5=$D11),IF(AU53 = \"NA\", 0,AU53*$B$1),0)","v":0}]
[null,null,null,null,null,null,null,null,60,0,{"$f":"IF(AND(K$49<=$B$1,$B$1<L$49,$B3=$E4, $B5=$D11),IF(K54 = \"NA\", 0,K54*$B$1),0)","v":0},{"$f":"IF(AND(L$49<=$B$1,$B$1<M$49,$B3=$E4, $B5=$D11),IF(L54 = \"NA\", 0,L54*$B$1),0)","v":0},{"$f":"IF(AND(M$49<=$B$1,$B$1<N$49,$B3=$E4, $B5=$D11),IF(M54 = \"NA\", 0,M54*$B$1),0)","v":0},{"$f":"IF(AND(N$49<=$B$1,$B$1<O$49,$B3=$E4, $B5=$D11),IF(N54 = \"NA\", 0,N54*$B$1),0)","v":0},{"$f":"IF(AND(O$49<=$B$1,$B3=$E4, $B5=$D11),IF(O54 = \"NA\", 0,O54*$B$1),0)","v":0},null,48,0,{"$f":"IF(AND(S$49<=$B$1,$B$1<T$49,$B3=$E4, $B5=$D11),IF(S54 = \"NA\", 0,S54*$B$1),0)","v":0},{"$f":"IF(AND(T$49<=$B$1,$B$1<U$49,$B3=$E4, $B5=$D11),IF(T54 = \"NA\", 0,T54*$B$1),0)","v":0},{"$f":"IF(AND(U$49<=$B$1,$B$1<V$49,$B3=$E4, $B5=$D11),IF(U54 = \"NA\", 0,U54*$B$1),0)","v":0},{"$f":"IF(AND(V$49<=$B$1,$B$1<W$49,$B3=$E4, $B5=$D11),IF(V54 = \"NA\", 0,V54*$B$1),0)","v":0},{"$f":"IF(AND(W$49<=$B$1,$B3=$E4, $B5=$D11),IF(W54 = \"NA\", 0,W54*$B$1),0)","v":0},null,48,0,{"$f":"IF(AND(AA$49<=$B$1,$B$1<AB$49,$B3=$E4, $B5=$D11),IF(AA54 = \"NA\", 0,AA54*$B$1),0)","v":0},{"$f":"IF(AND(AB$49<=$B$1,$B$1<AC$49,$B3=$E4, $B5=$D11),IF(AB54 = \"NA\", 0,AB54*$B$1),0)","v":0},{"$f":"IF(AND(AC$49<=$B$1,$B$1<AD$49,$B3=$E4, $B5=$D11),IF(AC54 = \"NA\", 0,AC54*$B$1),0)","v":0},{"$f":"IF(AND(AD$49<=$B$1,$B$1<AE$49,$B3=$E4, $B5=$D11),IF(AD54 = \"NA\", 0,AD54*$B$1),0)","v":0},{"$f":"IF(AND(AE$49<=$B$1,$B3=$E4, $B5=$D11),IF(AE54 = \"NA\", 0,AE54*$B$1),0)","v":0},null,48,0,{"$f":"IF(AND(AI$49<=$B$1,$B$1<AJ$49,$B3=$E4, $B5=$D11),IF(AI54 = \"NA\", 0,AI54*$B$1),0)","v":0},{"$f":"IF(AND(AJ$49<=$B$1,$B$1<AK$49,$B3=$E4, $B5=$D11),IF(AJ54 = \"NA\", 0,AJ54*$B$1),0)","v":0},{"$f":"IF(AND(AK$49<=$B$1,$B$1<AL$49,$B3=$E4, $B5=$D11),IF(AK54 = \"NA\", 0,AK54*$B$1),0)","v":0},{"$f":"IF(AND(AL$49<=$B$1,$B$1<AM$49,$B3=$E4, $B5=$D11),IF(AL54 = \"NA\", 0,AL54*$B$1),0)","v":0},{"$f":"IF(AND(AM$49<=$B$1,$B3=$E4, $B5=$D11),IF(AM54 = \"NA\", 0,AM54*$B$1),0)","v":0},null,48,0,{"$f":"IF(AND(AQ$49<=$B$1,$B$1<AR$49,$B3=$E4, $B5=$D11),IF(AQ54 = \"NA\", 0,AQ54*$B$1),0)","v":0},{"$f":"IF(AND(AR$49<=$B$1,$B$1<AS$49,$B3=$E4, $B5=$D11),IF(AR54 = \"NA\", 0,AR54*$B$1),0)","v":0},{"$f":"IF(AND(AS$49<=$B$1,$B$1<AT$49,$B3=$E4, $B5=$D11),IF(AS54 = \"NA\", 0,AS54*$B$1),0)","v":0},{"$f":"IF(AND(AT$49<=$B$1,$B$1<AU$49,$B3=$E4, $B5=$D11),IF(AT54 = \"NA\", 0,AT54*$B$1),0)","v":0},{"$f":"IF(AND(AU$49<=$B$1,$B3=$E4, $B5=$D11),IF(AU54 = \"NA\", 0,AU54*$B$1),0)","v":0}]
[null,null,null,null,null,null,null,null,{"$f":"SUM(K59:O59)","v":0},null,{"$f":"SUM(K56:K58)","v":0},{"$f":"SUM(L56:L58)","v":0},{"$f":"SUM(M56:M58)","v":0},{"$f":"SUM(N56:N58)","v":0},{"$f":"SUM(O56:O58)","v":0},null,{"$f":"SUM(S59:W59)","v":0},null,{"$f":"SUM(S56:S58)","v":0},{"$f":"SUM(T56:T58)","v":0},{"$f":"SUM(U56:U58)","v":0},{"$f":"SUM(V56:V58)","v":0},{"$f":"SUM(W56:W58)","v":0},null,{"$f":"SUM(AA59:AE59)","v":0},null,{"$f":"SUM(AA56:AA58)","v":0},{"$f":"SUM(AB56:AB58)","v":0},{"$f":"SUM(AC56:AC58)","v":0},{"$f":"SUM(AD56:AD58)","v":0},{"$f":"SUM(AE56:AE58)","v":0},null,{"$f":"SUM(AI59:AM59)","v":0},null,{"$f":"SUM(AI56:AI58)","v":0},{"$f":"SUM(AJ56:AJ58)","v":0},{"$f":"SUM(AK56:AK58)","v":0},{"$f":"SUM(AL56:AL58)","v":0},{"$f":"SUM(AM56:AM58)","v":0},null,{"$f":"SUM(AQ59:AU59)","v":0},null,{"$f":"SUM(AQ56:AQ58)","v":0},{"$f":"SUM(AR56:AR58)","v":0},{"$f":"SUM(AS56:AS58)","v":0},{"$f":"SUM(AT56:AT58)","v":0},{"$f":"SUM(AU56:AU58)","v":0}]
[]
[]
[null,null,null,null,null,null,null,null,"FMV Scrubber"]
[null,null,null,null,null,null,null,null,"300 Hours/Yr",null,null,null,null,null,null,null,"480 Hours/Yr",null,null,null,null,null,null,null,"720 Hours/Yr",null,null,null,null,null,null,null,"960 Hours/Yr",null,null,null,null,null,null,null,"1200 Hours/Yr"]
[null,null,null,null,null,null,null,null,null,null,3000,10000,25000,50000,100000,null,null,null,3000,10000,25000,50000,100000,null,null,null,3000,10000,25000,50000,100000,null,null,null,3000,10000,25000,50000,100000,null,null,null,3000,10000,25000,50000,100000]
[null,null,null,null,null,null,null,null,null,null,"to","to","to","to","to",null,null,null,"to","to","to","to","to",null,null,null,"to","to","to","to","to",null,null,null,"to","to","to","to","to",null,null,null,"to","to","to","to","to"]
[null,null,null,null,null,null,null,null,"Term","Adv",9999,24999,49999,99999,null,null,"Term","Adv",9999,24999,49999,99999,null,null,"Term","Adv",9999,24999,49999,99999,null,null,"Term","Adv",9999,24999,49999,99999,null,null,"Term","Adv",9999,24999,49999,99999]
[null,null,null,null,null,null,null,null,36,0,{"$f":"SUM(Financing!$V29)","v":2.9530000000000001E-2},{"$f":"SUM(Financing!$W29)","v":2.921E-2},{"$f":"SUM(Financing!$X29)","v":2.768E-2},{"$f":"SUM(Financing!$Y29)","v":2.768E-2},{"$f":"SUM(Financing!$Z29)","v":2.768E-2},null,36,0,{"$f":"SUM(Financing!$V29)","v":2.9530000000000001E-2},{"$f":"SUM(Financing!$W29)","v":2.921E-2},{"$f":"SUM(Financing!$X29)","v":2.768E-2},{"$f":"SUM(Financing!$Y29)","v":2.768E-2},{"$f":"SUM(Financing!$Z29)","v":2.768E-2},null,36,0,{"$f":"SUM(Financing!$V29)","v":2.9530000000000001E-2},{"$f":"SUM(Financing!$W29)","v":2.921E-2},{"$f":"SUM(Financing!$X29)","v":2.768E-2},{"$f":"SUM(Financing!$Y29)","v":2.768E-2},{"$f":"SUM(Financing!$Z29)","v":2.768E-2},null,36,0,{"$f":"SUM(Financing!$V29)","v":2.9530000000000001E-2},{"$f":"SUM(Financing!$W29)","v":2.921E-2},{"$f":"SUM(Financing!$X29)","v":2.768E-2},{"$f":"SUM(Financing!$Y29)","v":2.768E-2},{"$f":"SUM(Financing!$Z29)","v":2.768E-2},null,36,0,{"$f":"SUM(Financing!$V29)","v":2.9530000000000001E-2},{"$f":"SUM(Financing!$W29)","v":2.921E-2},{"$f":"SUM(Financing!$X29)","v":2.768E-2},{"$f":"SUM(Financing!$Y29)","v":2.768E-2},{"$f":"SUM(Financing!$Z29)","v":2.768E-2}]
[null,null,null,null,null,null,null,null,48,0,{"$f":"SUM(Financing!$V30)","v":2.4049999999999998E-2},{"$f":"SUM(Financing!$W30)","v":2.3800000000000002E-2},{"$f":"SUM(Financing!$X30)","v":2.1930000000000002E-2},{"$f":"SUM(Financing!$Y30)","v":2.1930000000000002E-2},{"$f":"SUM(Financing!$Z30)","v":2.1860000000000001E-2},null,48,0,{"$f":"SUM(Financing!$V30)","v":2.4049999999999998E-2},{"$f":"SUM(Financing!$W30)","v":2.3800000000000002E-2},{"$f":"SUM(Financing!$X30)","v":2.1930000000000002E-2},{"$f":"SUM(Financing!$Y30)","v":2.1930000000000002E-2},{"$f":"SUM(Financing!$Z30)","v":2.1860000000000001E-2},null,48,0,{"$f":"SUM(Financing!$V30)","v":2.4049999999999998E-2},{"$f":"SUM(Financing!$W30)","v":2.3800000000000002E-2},{"$f":"SUM(Financing!$X30)","v":2.1930000000000002E-2},{"$f":"SUM(Financing!$Y30)","v":2.1930000000000002E-2},{"$f":"SUM(Financing!$Z30)","v":2.1860000000000001E-2},null,48,0,{"$f":"SUM(Financing!$V30)","v":2.4049999999999998E-2},{"$f":"SUM(Financing!$W30)","v":2.3800000000000002E-2},{"$f":"SUM(Financing!$X30)","v":2.1930000000000002E-2},{"$f":"SUM(Financing!$Y30)","v":2.1930000000000002E-2},{"$f":"SUM(Financing!$Z30)","v":2.1860000000000001E-2},null,48,0,{"$f":"SUM(Financing!$V30)","v":2.4049999999999998E-2},{"$f":"SUM(Financing!$W30)","v":2.3800000000000002E-2},{"$f":"SUM(Financing!$X30)","v":2.1930000000000002E-2},{"$f":"SUM(Financing!$Y30)","v":2.1930000000000002E-2},{"$f":"SUM(Financing!$Z30)","v":2.1860000000000001E-2}]
[null,null,null,null,null,null,null,null,48,0,{"$f":"SUM(Financing!$V31)","v":2.1000000000000001E-2},{"$f":"SUM(Financing!$W31)","v":2.0789999999999999E-2},{"$f":"SUM(Financing!$X31)","v":1.847E-2},{"$f":"SUM(Financing!$Y31)","v":1.847E-2},{"$f":"SUM(Financing!$Z31)","v":1.8380000000000001E-2},null,48,0,{"$f":"SUM(Financing!$V31)","v":2.1000000000000001E-2},{"$f":"SUM(Financing!$W31)","v":2.0789999999999999E-2},{"$f":"SUM(Financing!$X31)","v":1.847E-2},{"$f":"SUM(Financing!$Y31)","v":1.847E-2},{"$f":"SUM(Financing!$Z31)","v":1.8380000000000001E-2},null,48,0,{"$f":"SUM(Financing!$V31)","v":2.1000000000000001E-2},{"$f":"SUM(Financing!$W31)","v":2.0789999999999999E-2},{"$f":"SUM(Financing!$X31)","v":1.847E-2},{"$f":"SUM(Financing!$Y31)","v":1.847E-2},{"$f":"SUM(Financing!$Z31)","v":1.8380000000000001E-2},null,48,0,{"$f":"SUM(Financing!$V31)","v":2.1000000000000001E-2},{"$f":"SUM(Financing!$W31)","v":2.0789999999999999E-2},{"$f":"SUM(Financing!$X31)","v":1.847E-2},{"$f":"SUM(Financing!$Y31)","v":1.847E-2},{"$f":"SUM(Financing!$Z31)","v":1.8380000000000001E-2},null,48,0,{"$f":"SUM(Financing!$V31)","v":2.1000000000000001E-2},{"$f":"SUM(Financing!$W31)","v":2.0789999999999999E-2},{"$f":"SUM(Financing!$X31)","v":1.847E-2},{"$f":"SUM(Financing!$Y31)","v":1.847E-2},{"$f":"SUM(Financing!$Z31)","v":1.8380000000000001E-2}]
[]
[null,null,null,null,null,null,null,null,36,0,{"$f":"IF(AND(K$64<=$B$1,$B$1<L$64,$B3=$E2, $B5=$D12),IF(K67 = \"NA\", 0,K67*$B$1),0)","v":0},{"$f":"IF(AND(L$64<=$B$1,$B$1<M$64,$B3=$E2, $B5=$D12),IF(L67 = \"NA\", 0,L67*$B$1),0)","v":0},{"$f":"IF(AND(M$64<=$B$1,$B$1<N$64,$B3=$E2, $B5=$D12),IF(M67 = \"NA\", 0,M67*$B$1),0)","v":0},{"$f":"IF(AND(N$64<=$B$1,$B$1<O$64,$B3=$E2, $B5=$D12),IF(N67 = \"NA\", 0,N67*$B$1),0)","v":0},{"$f":"IF(AND(O$64<=$B$1,$B3=$E2, $B5=$D12),IF(O67 = \"NA\", 0,O67*$B$1),0)","v":0},null,36,0,{"$f":"IF(AND(S$64<=$B$1,$B$1<T$64,$B3=$E2, $B5=$D12),IF(S67 = \"NA\", 0,S67*$B$1),0)","v":0},{"$f":"IF(AND(T$64<=$B$1,$B$1<U$64,$B3=$E2, $B5=$D12),IF(T67 = \"NA\", 0,T67*$B$1),0)","v":0},{"$f":"IF(AND(U$64<=$B$1,$B$1<V$64,$B3=$E2, $B5=$D12),IF(U67 = \"NA\", 0,U67*$B$1),0)","v":0},{"$f":"IF(AND(V$64<=$B$1,$B$1<W$64,$B3=$E2, $B5=$D12),IF(V67 = \"NA\", 0,V67*$B$1),0)","v":0},{"$f":"IF(AND(W$64<=$B$1,$B3=$E2, $B5=$D12),IF(W67 = \"NA\", 0,W67*$B$1),0)","v":0},null,36,0,{"$f":"IF(AND(AA$64<=$B$1,$B$1<AB$64,$B3=$E2, $B5=$D12),IF(AA67 = \"NA\", 0,AA67*$B$1),0)","v":0},{"$f":"IF(AND(AB$64<=$B$1,$B$1<AC$64,$B3=$E2, $B5=$D12),IF(AB67 = \"NA\", 0,AB67*$B$1),0)","v":0},{"$f":"IF(AND(AC$64<=$B$1,$B$1<AD$64,$B3=$E2, $B5=$D12),IF(AC67 = \"NA\", 0,AC67*$B$1),0)","v":0},{"$f":"IF(AND(AD$64<=$B$1,$B$1<AE$64,$B3=$E2, $B5=$D12),IF(AD67 = \"NA\", 0,AD67*$B$1),0)","v":0},{"$f":"IF(AND(AE$64<=$B$1,$B3=$E2, $B5=$D12),IF(AE67 = \"NA\", 0,AE67*$B$1),0)","v":0},null,36,0,{"$f":"IF(AND(AI$64<=$B$1,$B$1<AJ$64,$B3=$E2, $B5=$D12),IF(AI67 = \"NA\", 0,AI67*$B$1),0)","v":0},{"$f":"IF(AND(AJ$64<=$B$1,$B$1<AK$64,$B3=$E2, $B5=$D12),IF(AJ67 = \"NA\", 0,AJ67*$B$1),0)","v":0},{"$f":"IF(AND(AK$64<=$B$1,$B$1<AL$64,$B3=$E2, $B5=$D12),IF(AK67 = \"NA\", 0,AK67*$B$1),0)","v":0},{"$f":"IF(AND(AL$64<=$B$1,$B$1<AM$64,$B3=$E2, $B5=$D12),IF(AL67 = \"NA\", 0,AL67*$B$1),0)","v":0},{"$f":"IF(AND(AM$64<=$B$1,$B3=$E2, $B5=$D12),IF(AM67 = \"NA\", 0,AM67*$B$1),0)","v":0},null,36,0,{"$f":"IF(AND(AQ$64<=$B$1,$B$1<AR$64,$B3=$E2, $B5=$D12),IF(AQ67 = \"NA\", 0,AQ67*$B$1),0)","v":0},{"$f":"IF(AND(AR$64<=$B$1,$B$1<AS$64,$B3=$E2, $B5=$D12),IF(AR67 = \"NA\", 0,AR67*$B$1),0)","v":0},{"$f":"IF(AND(AS$64<=$B$1,$B$1<AT$64,$B3=$E2, $B5=$D12),IF(AS67 = \"NA\", 0,AS67*$B$1),0)","v":0},{"$f":"IF(AND(AT$64<=$B$1,$B$1<AU$64,$B3=$E2, $B5=$D12),IF(AT67 = \"NA\", 0,AT67*$B$1),0)","v":0},{"$f":"IF(AND(AU$64<=$B$1,$B3=$E2, $B5=$D12),IF(AU67 = \"NA\", 0,AU67*$B$1),0)","v":0}]
[null,null,null,null,null,null,null,null,48,0,{"$f":"IF(AND(K$64<=$B$1,$B$1<L$64,$B3=$E3, $B5=$D12),IF(K68 = \"NA\", 0,K68*$B$1),0)","v":0},{"$f":"IF(AND(L$64<=$B$1,$B$1<M$64,$B3=$E3, $B5=$D12),IF(L68 = \"NA\", 0,L68*$B$1),0)","v":0},{"$f":"IF(AND(M$64<=$B$1,$B$1<N$64,$B3=$E3, $B5=$D12),IF(M68 = \"NA\", 0,M68*$B$1),0)","v":0},{"$f":"IF(AND(N$64<=$B$1,$B$1<O$64,$B3=$E3, $B5=$D12),IF(N68 = \"NA\", 0,N68*$B$1),0)","v":0},{"$f":"IF(AND(O$64<=$B$1,$B3=$E3, $B5=$D12),IF(O68 = \"NA\", 0,O68*$B$1),0)","v":0},null,48,0,{"$f":"IF(AND(S$64<=$B$1,$B$1<T$64,$B3=$E3, $B5=$D12),IF(S68 = \"NA\", 0,S68*$B$1),0)","v":0},{"$f":"IF(AND(T$64<=$B$1,$B$1<U$64,$B3=$E3, $B5=$D12),IF(T68 = \"NA\", 0,T68*$B$1),0)","v":0},{"$f":"IF(AND(U$64<=$B$1,$B$1<V$64,$B3=$E3, $B5=$D12),IF(U68 = \"NA\", 0,U68*$B$1),0)","v":0},{"$f":"IF(AND(V$64<=$B$1,$B$1<W$64,$B3=$E3, $B5=$D12),IF(V68 = \"NA\", 0,V68*$B$1),0)","v":0},{"$f":"IF(AND(W$64<=$B$1,$B3=$E3, $B5=$D12),IF(W68 = \"NA\", 0,W68*$B$1),0)","v":0},null,48,0,{"$f":"IF(AND(AA$64<=$B$1,$B$1<AB$64,$B3=$E3, $B5=$D12),IF(AA68 = \"NA\", 0,AA68*$B$1),0)","v":0},{"$f":"IF(AND(AB$64<=$B$1,$B$1<AC$64,$B3=$E3, $B5=$D12),IF(AB68 = \"NA\", 0,AB68*$B$1),0)","v":0},{"$f":"IF(AND(AC$64<=$B$1,$B$1<AD$64,$B3=$E3, $B5=$D12),IF(AC68 = \"NA\", 0,AC68*$B$1),0)","v":0},{"$f":"IF(AND(AD$64<=$B$1,$B$1<AE$64,$B3=$E3, $B5=$D12),IF(AD68 = \"NA\", 0,AD68*$B$1),0)","v":0},{"$f":"IF(AND(AE$64<=$B$1,$B3=$E3, $B5=$D12),IF(AE68 = \"NA\", 0,AE68*$B$1),0)","v":0},null,48,0,{"$f":"IF(AND(AI$64<=$B$1,$B$1<AJ$64,$B3=$E3, $B5=$D12),IF(AI68 = \"NA\", 0,AI68*$B$1),0)","v":0},{"$f":"IF(AND(AJ$64<=$B$1,$B$1<AK$64,$B3=$E3, $B5=$D12),IF(AJ68 = \"NA\", 0,AJ68*$B$1),0)","v":0},{"$f":"IF(AND(AK$64<=$B$1,$B$1<AL$64,$B3=$E3, $B5=$D12),IF(AK68 = \"NA\", 0,AK68*$B$1),0)","v":0},{"$f":"IF(AND(AL$64<=$B$1,$B$1<AM$64,$B3=$E3, $B5=$D12),IF(AL68 = \"NA\", 0,AL68*$B$1),0)","v":0},{"$f":"IF(AND(AM$64<=$B$1,$B3=$E3, $B5=$D12),IF(AM68 = \"NA\", 0,AM68*$B$1),0)","v":0},null,48,0,{"$f":"IF(AND(AQ$64<=$B$1,$B$1<AR$64,$B3=$E3, $B5=$D12),IF(AQ68 = \"NA\", 0,AQ68*$B$1),0)","v":0},{"$f":"IF(AND(AR$64<=$B$1,$B$1<AS$64,$B3=$E3, $B5=$D12),IF(AR68 = \"NA\", 0,AR68*$B$1),0)","v":0},{"$f":"IF(AND(AS$64<=$B$1,$B$1<AT$64,$B3=$E3, $B5=$D12),IF(AS68 = \"NA\", 0,AS68*$B$1),0)","v":0},{"$f":"IF(AND(AT$64<=$B$1,$B$1<AU$64,$B3=$E3, $B5=$D12),IF(AT68 = \"NA\", 0,AT68*$B$1),0)","v":0},{"$f":"IF(AND(AU$64<=$B$1,$B3=$E3, $B5=$D12),IF(AU68 = \"NA\", 0,AU68*$B$1),0)","v":0}]
[null,null,null,null,null,null,null,null,48,0,{"$f":"IF(AND(K$64<=$B$1,$B$1<L$64,$B3=$E4, $B5=$D12),IF(K69 = \"NA\", 0,K69*$B$1),0)","v":0},{"$f":"IF(AND(L$64<=$B$1,$B$1<M$64,$B3=$E4, $B5=$D12),IF(L69 = \"NA\", 0,L69*$B$1),0)","v":0},{"$f":"IF(AND(M$64<=$B$1,$B$1<N$64,$B3=$E4, $B5=$D12),IF(M69 = \"NA\", 0,M69*$B$1),0)","v":0},{"$f":"IF(AND(N$64<=$B$1,$B$1<O$64,$B3=$E4, $B5=$D12),IF(N69 = \"NA\", 0,N69*$B$1),0)","v":0},{"$f":"IF(AND(O$64<=$B$1,$B3=$E4, $B5=$D12),IF(O69 = \"NA\", 0,O69*$B$1),0)","v":0},null,48,0,{"$f":"IF(AND(S$64<=$B$1,$B$1<T$64,$B3=$E4, $B5=$D12),IF(S69 = \"NA\", 0,S69*$B$1),0)","v":0},{"$f":"IF(AND(T$64<=$B$1,$B$1<U$64,$B3=$E4, $B5=$D12),IF(T69 = \"NA\", 0,T69*$B$1),0)","v":0},{"$f":"IF(AND(U$64<=$B$1,$B$1<V$64,$B3=$E4, $B5=$D12),IF(U69 = \"NA\", 0,U69*$B$1),0)","v":0},{"$f":"IF(AND(V$64<=$B$1,$B$1<W$64,$B3=$E4, $B5=$D12),IF(V69 = \"NA\", 0,V69*$B$1),0)","v":0},{"$f":"IF(AND(W$64<=$B$1,$B3=$E4, $B5=$D12),IF(W69 = \"NA\", 0,W69*$B$1),0)","v":0},null,48,0,{"$f":"IF(AND(AA$64<=$B$1,$B$1<AB$64,$B3=$E4, $B5=$D12),IF(AA69 = \"NA\", 0,AA69*$B$1),0)","v":0},{"$f":"IF(AND(AB$64<=$B$1,$B$1<AC$64,$B3=$E4, $B5=$D12),IF(AB69 = \"NA\", 0,AB69*$B$1),0)","v":0},{"$f":"IF(AND(AC$64<=$B$1,$B$1<AD$64,$B3=$E4, $B5=$D12),IF(AC69 = \"NA\", 0,AC69*$B$1),0)","v":0},{"$f":"IF(AND(AD$64<=$B$1,$B$1<AE$64,$B3=$E4, $B5=$D12),IF(AD69 = \"NA\", 0,AD69*$B$1),0)","v":0},{"$f":"IF(AND(AE$64<=$B$1,$B3=$E4, $B5=$D12),IF(AE69 = \"NA\", 0,AE69*$B$1),0)","v":0},null,48,0,{"$f":"IF(AND(AI$64<=$B$1,$B$1<AJ$64,$B3=$E4, $B5=$D12),IF(AI69 = \"NA\", 0,AI69*$B$1),0)","v":0},{"$f":"IF(AND(AJ$64<=$B$1,$B$1<AK$64,$B3=$E4, $B5=$D12),IF(AJ69 = \"NA\", 0,AJ69*$B$1),0)","v":0},{"$f":"IF(AND(AK$64<=$B$1,$B$1<AL$64,$B3=$E4, $B5=$D12),IF(AK69 = \"NA\", 0,AK69*$B$1),0)","v":0},{"$f":"IF(AND(AL$64<=$B$1,$B$1<AM$64,$B3=$E4, $B5=$D12),IF(AL69 = \"NA\", 0,AL69*$B$1),0)","v":0},{"$f":"IF(AND(AM$64<=$B$1,$B3=$E4, $B5=$D12),IF(AM69 = \"NA\", 0,AM69*$B$1),0)","v":0},null,48,0,{"$f":"IF(AND(AQ$64<=$B$1,$B$1<AR$64,$B3=$E4, $B5=$D12),IF(AQ69 = \"NA\", 0,AQ69*$B$1),0)","v":0},{"$f":"IF(AND(AR$64<=$B$1,$B$1<AS$64,$B3=$E4, $B5=$D12),IF(AR69 = \"NA\", 0,AR69*$B$1),0)","v":0},{"$f":"IF(AND(AS$64<=$B$1,$B$1<AT$64,$B3=$E4, $B5=$D12),IF(AS69 = \"NA\", 0,AS69*$B$1),0)","v":0},{"$f":"IF(AND(AT$64<=$B$1,$B$1<AU$64,$B3=$E4, $B5=$D12),IF(AT69 = \"NA\", 0,AT69*$B$1),0)","v":0},{"$f":"IF(AND(AU$64<=$B$1,$B3=$E4, $B5=$D12),IF(AU69 = \"NA\", 0,AU69*$B$1),0)","v":0}]
[null,null,null,null,null,null,null,null,{"$f":"SUM(K74:O74)","v":0},null,{"$f":"SUM(K71:K73)","v":0},{"$f":"SUM(L71:L73)","v":0},{"$f":"SUM(M71:M73)","v":0},{"$f":"SUM(N71:N73)","v":0},{"$f":"SUM(O71:O73)","v":0},null,{"$f":"SUM(S74:W74)","v":0},null,{"$f":"SUM(S71:S73)","v":0},{"$f":"SUM(T71:T73)","v":0},{"$f":"SUM(U71:U73)","v":0},{"$f":"SUM(V71:V73)","v":0},{"$f":"SUM(W71:W73)","v":0},null,{"$f":"SUM(AA74:AE74)","v":0},null,{"$f":"SUM(AA71:AA73)","v":0},{"$f":"SUM(AB71:AB73)","v":0},{"$f":"SUM(AC71:AC73)","v":0},{"$f":"SUM(AD71:AD73)","v":0},{"$f":"SUM(AE71:AE73)","v":0},null,{"$f":"SUM(AI74:AM74)","v":0},null,{"$f":"SUM(AI71:AI73)","v":0},{"$f":"SUM(AJ71:AJ73)","v":0},{"$f":"SUM(AK71:AK73)","v":0},{"$f":"SUM(AL71:AL73)","v":0},{"$f":"SUM(AM71:AM73)","v":0},null,{"$f":"SUM(AQ74:AU74)","v":0},null,{"$f":"SUM(AQ71:AQ73)","v":0},{"$f":"SUM(AR71:AR73)","v":0},{"$f":"SUM(AS71:AS73)","v":0},{"$f":"SUM(AT71:AT73)","v":0},{"$f":"SUM(AU71:AU73)","v":0}]
[]
[null,null,null,null,null,null,null,null,1]
[null,null,null,null,null,null,null,null,"300 Hours/Yr",null,null,null,null,null,null,null,"480 Hours/Yr",null,null,null,null,null,null,null,"720 Hours/Yr",null,null,null,null,null,null,null,"960 Hours/Yr",null,null,null,null,null,null,null,"1200 Hours/Yr"]
[null,null,null,null,null,null,null,null,null,null,3000,10000,25000,50000,100000,null,null,null,3000,10000,25000,50000,100000,null,null,null,3000,10000,25000,50000,100000,null,null,null,3000,10000,25000,50000,100000,null,null,null,3000,10000,25000,50000,100000]
[null,null,null,null,null,null,null,null,null,null,"to","to","to","to","to",null,null,null,"to","to","to","to","to",null,null,null,"to","to","to","to","to",null,null,null,"to","to","to","to","to",null,null,null,"to","to","to","to","to"]
[null,null,null,null,null,null,null,null,"Term","Adv",9999,24999,49999,99999,null,null,"Term","Adv",9999,24999,49999,99999,null,null,"Term","Adv",9999,24999,49999,99999,null,null,"Term","Adv",9999,24999,49999,99999,null,null,"Term","Adv",9999,24999,49999,99999]
[null,null,null,null,null,null,null,null,36,0,{"$f":"SUM(Financing!$F29)","v":3.3149999999999999E-2},{"$f":"SUM(Financing!$G29)","v":3.2829999999999998E-2},{"$f":"SUM(Financing!$H29)","v":3.2230000000000002E-2},{"$f":"SUM(Financing!$I29)","v":3.2230000000000002E-2},{"$f":"SUM(Financing!$J29)","v":3.2230000000000002E-2},null,36,0,{"$f":"SUM(Financing!$F29)","v":3.3149999999999999E-2},{"$f":"SUM(Financing!$G29)","v":3.2829999999999998E-2},{"$f":"SUM(Financing!$H29)","v":3.2230000000000002E-2},{"$f":"SUM(Financing!$I29)","v":3.2230000000000002E-2},{"$f":"SUM(Financing!$J29)","v":3.2230000000000002E-2},null,36,0,{"$f":"SUM(Financing!$F29)","v":3.3149999999999999E-2},{"$f":"SUM(Financing!$G29)","v":3.2829999999999998E-2},{"$f":"SUM(Financing!$H29)","v":3.2230000000000002E-2},{"$f":"SUM(Financing!$I29)","v":3.2230000000000002E-2},{"$f":"SUM(Financing!$J29)","v":3.2230000000000002E-2},null,36,0,{"$f":"SUM(Financing!$F29)","v":3.3149999999999999E-2},{"$f":"SUM(Financing!$G29)","v":3.2829999999999998E-2},{"$f":"SUM(Financing!$H29)","v":3.2230000000000002E-2},{"$f":"SUM(Financing!$I29)","v":3.2230000000000002E-2},{"$f":"SUM(Financing!$J29)","v":3.2230000000000002E-2},null,36,0,{"$f":"SUM(Financing!$F29)","v":3.3149999999999999E-2},{"$f":"SUM(Financing!$G29)","v":3.2829999999999998E-2},{"$f":"SUM(Financing!$H29)","v":3.2230000000000002E-2},{"$f":"SUM(Financing!$I29)","v":3.2230000000000002E-2},{"$f":"SUM(Financing!$J29)","v":3.2230000000000002E-2}]
[null,null,null,null,null,null,null,null,48,0,{"$f":"SUM(Financing!$F30)","v":2.5870000000000001E-2},{"$f":"SUM(Financing!$G30)","v":2.563E-2},{"$f":"SUM(Financing!$H30)","v":2.5020000000000001E-2},{"$f":"SUM(Financing!$I30)","v":2.5020000000000001E-2},{"$f":"SUM(Financing!$J30)","v":2.5020000000000001E-2},null,48,0,{"$f":"SUM(Financing!$F30)","v":2.5870000000000001E-2},{"$f":"SUM(Financing!$G30)","v":2.563E-2},{"$f":"SUM(Financing!$H30)","v":2.5020000000000001E-2},{"$f":"SUM(Financing!$I30)","v":2.5020000000000001E-2},{"$f":"SUM(Financing!$J30)","v":2.5020000000000001E-2},null,48,0,{"$f":"SUM(Financing!$F30)","v":2.5870000000000001E-2},{"$f":"SUM(Financing!$G30)","v":2.563E-2},{"$f":"SUM(Financing!$H30)","v":2.5020000000000001E-2},{"$f":"SUM(Financing!$I30)","v":2.5020000000000001E-2},{"$f":"SUM(Financing!$J30)","v":2.5020000000000001E-2},null,48,0,{"$f":"SUM(Financing!$F30)","v":2.5870000000000001E-2},{"$f":"SUM(Financing!$G30)","v":2.563E-2},{"$f":"SUM(Financing!$H30)","v":2.5020000000000001E-2},{"$f":"SUM(Financing!$I30)","v":2.5020000000000001E-2},{"$f":"SUM(Financing!$J30)","v":2.5020000000000001E-2},null,48,0,{"$f":"SUM(Financing!$F30)","v":2.5870000000000001E-2},{"$f":"SUM(Financing!$G30)","v":2.563E-2},{"$f":"SUM(Financing!$H30)","v":2.5020000000000001E-2},{"$f":"SUM(Financing!$I30)","v":2.5020000000000001E-2},{"$f":"SUM(Financing!$J30)","v":2.5020000000000001E-2}]
[null,null,null,null,null,null,null,null,48,0,{"$f":"SUM(Financing!$F31)","v":2.1559999999999999E-2},{"$f":"SUM(Financing!$G31)","v":2.1350000000000001E-2},{"$f":"SUM(Financing!$H31)","v":2.0709999999999999E-2},{"$f":"SUM(Financing!$I31)","v":2.0709999999999999E-2},{"$f":"SUM(Financing!$J31)","v":2.0709999999999999E-2},null,48,0,{"$f":"SUM(Financing!$F31)","v":2.1559999999999999E-2},{"$f":"SUM(Financing!$G31)","v":2.1350000000000001E-2},{"$f":"SUM(Financing!$H31)","v":2.0709999999999999E-2},{"$f":"SUM(Financing!$I31)","v":2.0709999999999999E-2},{"$f":"SUM(Financing!$J31)","v":2.0709999999999999E-2},null,48,0,{"$f":"SUM(Financing!$F31)","v":2.1559999999999999E-2},{"$f":"SUM(Financing!$G31)","v":2.1350000000000001E-2},{"$f":"SUM(Financing!$H31)","v":2.0709999999999999E-2},{"$f":"SUM(Financing!$I31)","v":2.0709999999999999E-2},{"$f":"SUM(Financing!$J31)","v":2.0709999999999999E-2},null,48,0,{"$f":"SUM(Financing!$F31)","v":2.1559999999999999E-2},{"$f":"SUM(Financing!$G31)","v":2.1350000000000001E-2},{"$f":"SUM(Financing!$H31)","v":2.0709999999999999E-2},{"$f":"SUM(Financing!$I31)","v":2.0709999999999999E-2},{"$f":"SUM(Financing!$J31)","v":2.0709999999999999E-2},null,48,0,{"$f":"SUM(Financing!$F31)","v":2.1559999999999999E-2},{"$f":"SUM(Financing!$G31)","v":2.1350000000000001E-2},{"$f":"SUM(Financing!$H31)","v":2.0709999999999999E-2},{"$f":"SUM(Financing!$I31)","v":2.0709999999999999E-2},{"$f":"SUM(Financing!$J31)","v":2.0709999999999999E-2}]
[]
[null,null,null,null,null,null,null,null,36,0,{"$f":"IF(AND(K$78<=$B$1,$B$1<L$78,$B3=$E2),IF(K81 = \"NA\", 0,K81*$B$1),0)","v":0},{"$f":"IF(AND(L$78<=$B$1,$B$1<M$78,$B3=$E2),IF(L81 = \"NA\", 0,L81*$B$1),0)","v":0},{"$f":"IF(AND(M$78<=$B$1,$B$1<N$78,$B3=$E2),IF(M81 = \"NA\", 0,M81*$B$1),0)","v":0},{"$f":"IF(AND(N$78<=$B$1,$B$1<O$78,$B3=$E2),IF(N81 = \"NA\", 0,N81*$B$1),0)","v":0},{"$f":"IF(AND(O$78<=$B$1,$B$1<P$78,$B3=$E2),IF(O81 = \"NA\", 0,O81*$B$1),0)","v":0},null,36,0,{"$f":"IF(AND(S$78<=$B$1,$B$1<T$78,$B3=$E2),IF(S81 = \"NA\", 0,S81*$B$1),0)","v":0},{"$f":"IF(AND(T$78<=$B$1,$B$1<U$78,$B3=$E2),IF(T81 = \"NA\", 0,T81*$B$1),0)","v":0},{"$f":"IF(AND(U$78<=$B$1,$B$1<V$78,$B3=$E2),IF(U81 = \"NA\", 0,U81*$B$1),0)","v":0},{"$f":"IF(AND(V$78<=$B$1,$B$1<W$78,$B3=$E2),IF(V81 = \"NA\", 0,V81*$B$1),0)","v":0},{"$f":"IF(AND(W$78<=$B$1,$B$1<X$78,$B3=$E2),IF(W81 = \"NA\", 0,W81*$B$1),0)","v":0},null,36,0,{"$f":"IF(AND(AA$78<=$B$1,$B$1<AB$78,$B3=$E2),IF(AA81 = \"NA\", 0,AA81*$B$1),0)","v":0},{"$f":"IF(AND(AB$78<=$B$1,$B$1<AC$78,$B3=$E2),IF(AB81 = \"NA\", 0,AB81*$B$1),0)","v":0},{"$f":"IF(AND(AC$78<=$B$1,$B$1<AD$78,$B3=$E2),IF(AC81 = \"NA\", 0,AC81*$B$1),0)","v":0},{"$f":"IF(AND(AD$78<=$B$1,$B$1<AE$78,$B3=$E2),IF(AD81 = \"NA\", 0,AD81*$B$1),0)","v":0},{"$f":"IF(AND(AE$78<=$B$1,$B$1<AF$78,$B3=$E2),IF(AE81 = \"NA\", 0,AE81*$B$1),0)","v":0},null,36,0,{"$f":"IF(AND(AI$78<=$B$1,$B$1<AJ$78,$B3=$E2),IF(AI81 = \"NA\", 0,AI81*$B$1),0)","v":0},{"$f":"IF(AND(AJ$78<=$B$1,$B$1<AK$78,$B3=$E2),IF(AJ81 = \"NA\", 0,AJ81*$B$1),0)","v":0},{"$f":"IF(AND(AK$78<=$B$1,$B$1<AL$78,$B3=$E2),IF(AK81 = \"NA\", 0,AK81*$B$1),0)","v":0},{"$f":"IF(AND(AL$78<=$B$1,$B$1<AM$78,$B3=$E2),IF(AL81 = \"NA\", 0,AL81*$B$1),0)","v":0},{"$f":"IF(AND(AM$78<=$B$1,$B$1<AN$78,$B3=$E2),IF(AM81 = \"NA\", 0,AM81*$B$1),0)","v":0},null,36,0,{"$f":"IF(AND(AQ$78<=$B$1,$B$1<AR$78,$B3=$E2),IF(AQ81 = \"NA\", 0,AQ81*$B$1),0)","v":0},{"$f":"IF(AND(AR$78<=$B$1,$B$1<AS$78,$B3=$E2),IF(AR81 = \"NA\", 0,AR81*$B$1),0)","v":0},{"$f":"IF(AND(AS$78<=$B$1,$B$1<AT$78,$B3=$E2),IF(AS81 = \"NA\", 0,AS81*$B$1),0)","v":0},{"$f":"IF(AND(AT$78<=$B$1,$B$1<AU$78,$B3=$E2),IF(AT81 = \"NA\", 0,AT81*$B$1),0)","v":0},{"$f":"IF(AND(AU$78<=$B$1,$B$1<AV$78,$B3=$E2),IF(AU81 = \"NA\", 0,AU81*$B$1),0)","v":0}]
[null,null,null,null,null,null,null,null,48,0,{"$f":"IF(AND(K$78<=$B$1,$B$1<L$78,$B3=$E3),IF(K82 = \"NA\", 0,K82*$B$1),0)","v":0},{"$f":"IF(AND(L$78<=$B$1,$B$1<M$78,$B3=$E3),IF(L82 = \"NA\", 0,L82*$B$1),0)","v":0},{"$f":"IF(AND(M$78<=$B$1,$B$1<N$78,$B3=$E3),IF(M82 = \"NA\", 0,M82*$B$1),0)","v":0},{"$f":"IF(AND(N$78<=$B$1,$B$1<O$78,$B3=$E3),IF(N82 = \"NA\", 0,N82*$B$1),0)","v":0},{"$f":"IF(AND(O$78<=$B$1,$B$1<P$78,$B3=$E3),IF(O82 = \"NA\", 0,O82*$B$1),0)","v":0},null,48,0,{"$f":"IF(AND(S$78<=$B$1,$B$1<T$78,$B3=$E3),IF(S82 = \"NA\", 0,S82*$B$1),0)","v":0},{"$f":"IF(AND(T$78<=$B$1,$B$1<U$78,$B3=$E3),IF(T82 = \"NA\", 0,T82*$B$1),0)","v":0},{"$f":"IF(AND(U$78<=$B$1,$B$1<V$78,$B3=$E3),IF(U82 = \"NA\", 0,U82*$B$1),0)","v":0},{"$f":"IF(AND(V$78<=$B$1,$B$1<W$78,$B3=$E3),IF(V82 = \"NA\", 0,V82*$B$1),0)","v":0},{"$f":"IF(AND(W$78<=$B$1,$B$1<X$78,$B3=$E3),IF(W82 = \"NA\", 0,W82*$B$1),0)","v":0},null,48,0,{"$f":"IF(AND(AA$78<=$B$1,$B$1<AB$78,$B3=$E3),IF(AA82 = \"NA\", 0,AA82*$B$1),0)","v":0},{"$f":"IF(AND(AB$78<=$B$1,$B$1<AC$78,$B3=$E3),IF(AB82 = \"NA\", 0,AB82*$B$1),0)","v":0},{"$f":"IF(AND(AC$78<=$B$1,$B$1<AD$78,$B3=$E3),IF(AC82 = \"NA\", 0,AC82*$B$1),0)","v":0},{"$f":"IF(AND(AD$78<=$B$1,$B$1<AE$78,$B3=$E3),IF(AD82 = \"NA\", 0,AD82*$B$1),0)","v":0},{"$f":"IF(AND(AE$78<=$B$1,$B$1<AF$78,$B3=$E3),IF(AE82 = \"NA\", 0,AE82*$B$1),0)","v":0},null,48,0,{"$f":"IF(AND(AI$78<=$B$1,$B$1<AJ$78,$B3=$E3),IF(AI82 = \"NA\", 0,AI82*$B$1),0)","v":0},{"$f":"IF(AND(AJ$78<=$B$1,$B$1<AK$78,$B3=$E3),IF(AJ82 = \"NA\", 0,AJ82*$B$1),0)","v":0},{"$f":"IF(AND(AK$78<=$B$1,$B$1<AL$78,$B3=$E3),IF(AK82 = \"NA\", 0,AK82*$B$1),0)","v":0},{"$f":"IF(AND(AL$78<=$B$1,$B$1<AM$78,$B3=$E3),IF(AL82 = \"NA\", 0,AL82*$B$1),0)","v":0},{"$f":"IF(AND(AM$78<=$B$1,$B$1<AN$78,$B3=$E3),IF(AM82 = \"NA\", 0,AM82*$B$1),0)","v":0},null,48,0,{"$f":"IF(AND(AQ$78<=$B$1,$B$1<AR$78,$B3=$E3),IF(AQ82 = \"NA\", 0,AQ82*$B$1),0)","v":0},{"$f":"IF(AND(AR$78<=$B$1,$B$1<AS$78,$B3=$E3),IF(AR82 = \"NA\", 0,AR82*$B$1),0)","v":0},{"$f":"IF(AND(AS$78<=$B$1,$B$1<AT$78,$B3=$E3),IF(AS82 = \"NA\", 0,AS82*$B$1),0)","v":0},{"$f":"IF(AND(AT$78<=$B$1,$B$1<AU$78,$B3=$E3),IF(AT82 = \"NA\", 0,AT82*$B$1),0)","v":0},{"$f":"IF(AND(AU$78<=$B$1,$B$1<AV$78,$B3=$E3),IF(AU82 = \"NA\", 0,AU82*$B$1),0)","v":0}]
[null,null,null,null,null,null,null,null,48,0,{"$f":"IF(AND(K$78<=$B$1,$B$1<L$78,$B3=$E4),IF(K83 = \"NA\", 0,K83*$B$1),0)","v":0},{"$f":"IF(AND(L$78<=$B$1,$B$1<M$78,$B3=$E4),IF(L83 = \"NA\", 0,L83*$B$1),0)","v":0},{"$f":"IF(AND(M$78<=$B$1,$B$1<N$78,$B3=$E4),IF(M83 = \"NA\", 0,M83*$B$1),0)","v":0},{"$f":"IF(AND(N$78<=$B$1,$B$1<O$78,$B3=$E4),IF(N83 = \"NA\", 0,N83*$B$1),0)","v":0},{"$f":"IF(AND(O$78<=$B$1,$B$1<P$78,$B3=$E4),IF(O83 = \"NA\", 0,O83*$B$1),0)","v":0},null,48,0,{"$f":"IF(AND(S$78<=$B$1,$B$1<T$78,$B3=$E4),IF(S83 = \"NA\", 0,S83*$B$1),0)","v":0},{"$f":"IF(AND(T$78<=$B$1,$B$1<U$78,$B3=$E4),IF(T83 = \"NA\", 0,T83*$B$1),0)","v":0},{"$f":"IF(AND(U$78<=$B$1,$B$1<V$78,$B3=$E4),IF(U83 = \"NA\", 0,U83*$B$1),0)","v":0},{"$f":"IF(AND(V$78<=$B$1,$B$1<W$78,$B3=$E4),IF(V83 = \"NA\", 0,V83*$B$1),0)","v":0},{"$f":"IF(AND(W$78<=$B$1,$B$1<X$78,$B3=$E4),IF(W83 = \"NA\", 0,W83*$B$1),0)","v":0},null,48,0,{"$f":"IF(AND(AA$78<=$B$1,$B$1<AB$78,$B3=$E4),IF(AA83 = \"NA\", 0,AA83*$B$1),0)","v":0},{"$f":"IF(AND(AB$78<=$B$1,$B$1<AC$78,$B3=$E4),IF(AB83 = \"NA\", 0,AB83*$B$1),0)","v":0},{"$f":"IF(AND(AC$78<=$B$1,$B$1<AD$78,$B3=$E4),IF(AC83 = \"NA\", 0,AC83*$B$1),0)","v":0},{"$f":"IF(AND(AD$78<=$B$1,$B$1<AE$78,$B3=$E4),IF(AD83 = \"NA\", 0,AD83*$B$1),0)","v":0},{"$f":"IF(AND(AE$78<=$B$1,$B$1<AF$78,$B3=$E4),IF(AE83 = \"NA\", 0,AE83*$B$1),0)","v":0},null,48,0,{"$f":"IF(AND(AI$78<=$B$1,$B$1<AJ$78,$B3=$E4),IF(AI83 = \"NA\", 0,AI83*$B$1),0)","v":0},{"$f":"IF(AND(AJ$78<=$B$1,$B$1<AK$78,$B3=$E4),IF(AJ83 = \"NA\", 0,AJ83*$B$1),0)","v":0},{"$f":"IF(AND(AK$78<=$B$1,$B$1<AL$78,$B3=$E4),IF(AK83 = \"NA\", 0,AK83*$B$1),0)","v":0},{"$f":"IF(AND(AL$78<=$B$1,$B$1<AM$78,$B3=$E4),IF(AL83 = \"NA\", 0,AL83*$B$1),0)","v":0},{"$f":"IF(AND(AM$78<=$B$1,$B$1<AN$78,$B3=$E4),IF(AM83 = \"NA\", 0,AM83*$B$1),0)","v":0},null,48,0,{"$f":"IF(AND(AQ$78<=$B$1,$B$1<AR$78,$B3=$E4),IF(AQ83 = \"NA\", 0,AQ83*$B$1),0)","v":0},{"$f":"IF(AND(AR$78<=$B$1,$B$1<AS$78,$B3=$E4),IF(AR83 = \"NA\", 0,AR83*$B$1),0)","v":0},{"$f":"IF(AND(AS$78<=$B$1,$B$1<AT$78,$B3=$E4),IF(AS83 = \"NA\", 0,AS83*$B$1),0)","v":0},{"$f":"IF(AND(AT$78<=$B$1,$B$1<AU$78,$B3=$E4),IF(AT83 = \"NA\", 0,AT83*$B$1),0)","v":0},{"$f":"IF(AND(AU$78<=$B$1,$B$1<AV$78,$B3=$E4),IF(AU83 = \"NA\", 0,AU83*$B$1),0)","v":0}]
[null,null,null,null,null,null,null,null,{"$f":"SUM(K88:O88)","v":0},null,{"$f":"SUM(K85:K87)","v":0},{"$f":"SUM(L85:L87)","v":0},{"$f":"SUM(M85:M87)","v":0},{"$f":"SUM(N85:N87)","v":0},{"$f":"SUM(O85:O87)","v":0},null,{"$f":"SUM(S88:W88)","v":0},null,{"$f":"SUM(S85:S87)","v":0},{"$f":"SUM(T85:T87)","v":0},{"$f":"SUM(U85:U87)","v":0},{"$f":"SUM(V85:V87)","v":0},{"$f":"SUM(W85:W87)","v":0},null,{"$f":"SUM(AA88:AE88)","v":0},null,{"$f":"SUM(AA85:AA87)","v":0},{"$f":"SUM(AB85:AB87)","v":0},{"$f":"SUM(AC85:AC87)","v":0},{"$f":"SUM(AD85:AD87)","v":0},{"$f":"SUM(AE85:AE87)","v":0},null,{"$f":"SUM(AI88:AM88)","v":0},null,{"$f":"SUM(AI85:AI87)","v":0},{"$f":"SUM(AJ85:AJ87)","v":0},{"$f":"SUM(AK85:AK87)","v":0},{"$f":"SUM(AL85:AL87)","v":0},{"$f":"SUM(AM85:AM87)","v":0},null,{"$f":"SUM(AQ88:AU88)","v":0},null,{"$f":"SUM(AQ85:AQ87)","v":0},{"$f":"SUM(AR85:AR87)","v":0},{"$f":"SUM(AS85:AS87)","v":0},{"$f":"SUM(AT85:AT87)","v":0},{"$f":"SUM(AU85:AU87)","v":0}]
[]
[]
[null,null,null,null,null,null,null,null,{"$f":"Financing!C10","v":"First Western Equipment Finance"}]
[null,null,null,null,null,null,null,null,"FMV"]
[null,null,null,null,null,null,null,null,"300 Hours/Yr",null,null,null,null,null,null,null,"480 Hours/Yr",null,null,null,null,null,null,null,"720 Hours/Yr",null,null,null,null,null,null,null,"960 Hours/Yr",null,null,null,null,null,null,null,"1200 Hours/Yr"]
[null,null,null,null,null,null,null,null,null,null,3000,10000,25000,50000,100000,null,null,null,3000,10000,25000,50000,100000,null,null,null,3000,10000,25000,50000,100000,null,null,null,3000,10000,25000,50000,100000,null,null,null,3000,10000,25000,50000,100000]
[null,null,null,null,null,null,null,null,null,null,"to","to","to","to","to",null,null,null,"to","to","to","to","to",null,null,null,"to","to","to","to","to",null,null,null,"to","to","to","to","to",null,null,null,"to","to","to","to","to"]
[null,null,null,null,null,null,null,null,"Term","Adv",9999,24999,49999,99999,null,null,"Term","Adv",9999,24999,49999,99999,null,null,"Term","Adv",9999,24999,49999,99999,null,null,"Term","Adv",9999,24999,49999,99999,null,null,"Term","Adv",9999,24999,49999,99999]
[null,null,null,null,null,null,null,null,36,0,{"$f":"SUM(Financing!$AT49)","v":2.9000000000000001E-2},{"$f":"SUM(Financing!$AU49)","v":2.8490000000000001E-2},{"$f":"SUM(Financing!$AX49)","v":2.7980000000000001E-2},{"$f":"SUM(Financing!$AX49)","v":2.7980000000000001E-2},{"$f":"SUM(Financing!$AX49)","v":2.7980000000000001E-2},null,36,0,{"$f":"SUM(Financing!$AT49)","v":2.9000000000000001E-2},{"$f":"SUM(Financing!$AU49)","v":2.8490000000000001E-2},{"$f":"SUM(Financing!$AX49)","v":2.7980000000000001E-2},{"$f":"SUM(Financing!$AX49)","v":2.7980000000000001E-2},{"$f":"SUM(Financing!$AX49)","v":2.7980000000000001E-2},null,36,0,{"$f":"SUM(Financing!$AT49)","v":2.9000000000000001E-2},{"$f":"SUM(Financing!$AU49)","v":2.8490000000000001E-2},{"$f":"SUM(Financing!$AX49)","v":2.7980000000000001E-2},{"$f":"SUM(Financing!$AX49)","v":2.7980000000000001E-2},{"$f":"SUM(Financing!$AX49)","v":2.7980000000000001E-2},null,36,0,{"$f":"SUM(Financing!$AT49)","v":2.9000000000000001E-2},{"$f":"SUM(Financing!$AU49)","v":2.8490000000000001E-2},{"$f":"SUM(Financing!$AX49)","v":2.7980000000000001E-2},{"$f":"SUM(Financing!$AX49)","v":2.7980000000000001E-2},{"$f":"SUM(Financing!$AX49)","v":2.7980000000000001E-2},null,36,0,{"$f":"SUM(Financing!$AT49)","v":2.9000000000000001E-2},{"$f":"SUM(Financing!$AU49)","v":2.8490000000000001E-2},{"$f":"SUM(Financing!$AX49)","v":2.7980000000000001E-2},{"$f":"SUM(Financing!$AX49)","v":2.7980000000000001E-2},{"$f":"SUM(Financing!$AX49)","v":2.7980000000000001E-2}]
[null,null,null,null,null,null,null,null,48,0,{"$f":"SUM(Financing!$AT50)","v":2.4709999999999999E-2},{"$f":"SUM(Financing!$AU50)","v":2.4209999999999999E-2},{"$f":"SUM(Financing!$AX50)","v":2.3709999999999998E-2},{"$f":"SUM(Financing!$AX50)","v":2.3709999999999998E-2},{"$f":"SUM(Financing!$AX50)","v":2.3709999999999998E-2},null,48,0,{"$f":"SUM(Financing!$AT50)","v":2.4709999999999999E-2},{"$f":"SUM(Financing!$AU50)","v":2.4209999999999999E-2},{"$f":"SUM(Financing!$AX50)","v":2.3709999999999998E-2},{"$f":"SUM(Financing!$AX50)","v":2.3709999999999998E-2},{"$f":"SUM(Financing!$AX50)","v":2.3709999999999998E-2},null,48,0,{"$f":"SUM(Financing!$AT50)","v":2.4709999999999999E-2},{"$f":"SUM(Financing!$AU50)","v":2.4209999999999999E-2},{"$f":"SUM(Financing!$AX50)","v":2.3709999999999998E-2},{"$f":"SUM(Financing!$AX50)","v":2.3709999999999998E-2},{"$f":"SUM(Financing!$AX50)","v":2.3709999999999998E-2},null,48,0,{"$f":"SUM(Financing!$AT50)","v":2.4709999999999999E-2},{"$f":"SUM(Financing!$AU50)","v":2.4209999999999999E-2},{"$f":"SUM(Financing!$AX50)","v":2.3709999999999998E-2},{"$f":"SUM(Financing!$AX50)","v":2.3709999999999998E-2},{"$f":"SUM(Financing!$AX50)","v":2.3709999999999998E-2},null,48,0,{"$f":"SUM(Financing!$AT50)","v":2.4709999999999999E-2},{"$f":"SUM(Financing!$AU50)","v":2.4209999999999999E-2},{"$f":"SUM(Financing!$AX50)","v":2.3709999999999998E-2},{"$f":"SUM(Financing!$AX50)","v":2.3709999999999998E-2},{"$f":"SUM(Financing!$AX50)","v":2.3709999999999998E-2}]
[null,null,null,null,null,null,null,null,60,0,{"$f":"SUM(Financing!$AT51)","v":2.1669999999999998E-2},{"$f":"SUM(Financing!$AU51)","v":2.1170000000000001E-2},{"$f":"SUM(Financing!$AX51)","v":2.068E-2},{"$f":"SUM(Financing!$AX51)","v":2.068E-2},{"$f":"SUM(Financing!$AX51)","v":2.068E-2},null,48,0,{"$f":"SUM(Financing!$AT51)","v":2.1669999999999998E-2},{"$f":"SUM(Financing!$AU51)","v":2.1170000000000001E-2},{"$f":"SUM(Financing!$AX51)","v":2.068E-2},{"$f":"SUM(Financing!$AX51)","v":2.068E-2},{"$f":"SUM(Financing!$AX51)","v":2.068E-2},null,48,0,{"$f":"SUM(Financing!$AT51)","v":2.1669999999999998E-2},{"$f":"SUM(Financing!$AU51)","v":2.1170000000000001E-2},{"$f":"SUM(Financing!$AX51)","v":2.068E-2},{"$f":"SUM(Financing!$AX51)","v":2.068E-2},{"$f":"SUM(Financing!$AX51)","v":2.068E-2},null,48,0,{"$f":"SUM(Financing!$AT51)","v":2.1669999999999998E-2},{"$f":"SUM(Financing!$AU51)","v":2.1170000000000001E-2},{"$f":"SUM(Financing!$AX51)","v":2.068E-2},{"$f":"SUM(Financing!$AX51)","v":2.068E-2},{"$f":"SUM(Financing!$AX51)","v":2.068E-2},null,48,0,{"$f":"SUM(Financing!$AT51)","v":2.1669999999999998E-2},{"$f":"SUM(Financing!$AU51)","v":2.1170000000000001E-2},{"$f":"SUM(Financing!$AX51)","v":2.068E-2},{"$f":"SUM(Financing!$AX51)","v":2.068E-2},{"$f":"SUM(Financing!$AX51)","v":2.068E-2}]
[]
[null,null,null,null,null,null,null,null,36,0,{"$f":"IF(AND(K$94<=$B$1,$B$1<L$94,$B3=$E2),IF(K97 = \"NA\", 0,K97*$B$1),0)","v":0},{"$f":"IF(AND(L$94<=$B$1,$B$1<M$94,$B3=$E2),IF(L97 = \"NA\", 0,L97*$B$1),0)","v":0},{"$f":"IF(AND(M$94<=$B$1,$B$1<N$94,$B3=$E2),IF(M97 = \"NA\", 0,M97*$B$1),0)","v":0},{"$f":"IF(AND(N$94<=$B$1,$B$1<O$94,$B3=$E2),IF(N97 = \"NA\", 0,N97*$B$1),0)","v":0},{"$f":"IF(AND(O$94<=$B$1,$B3=$E2),IF(O97 = \"NA\", 0,O97*$B$1),0)","v":0},null,36,0,{"$f":"IF(AND(S$94<=$B$1,$B$1<T$94,$B3=$E2),IF(S97 = \"NA\", 0,S97*$B$1),0)","v":0},{"$f":"IF(AND(T$94<=$B$1,$B$1<U$94,$B3=$E2),IF(T97 = \"NA\", 0,T97*$B$1),0)","v":0},{"$f":"IF(AND(U$94<=$B$1,$B$1<V$94,$B3=$E2),IF(U97 = \"NA\", 0,U97*$B$1),0)","v":0},{"$f":"IF(AND(V$94<=$B$1,$B$1<W$94,$B3=$E2),IF(V97 = \"NA\", 0,V97*$B$1),0)","v":0},{"$f":"IF(AND(W$94<=$B$1,$B3=$E2),IF(W97 = \"NA\", 0,W97*$B$1),0)","v":0},null,36,0,{"$f":"IF(AND(AA$94<=$B$1,$B$1<AB$94,$B3=$E2),IF(AA97 = \"NA\", 0,AA97*$B$1),0)","v":0},{"$f":"IF(AND(AB$94<=$B$1,$B$1<AC$94,$B3=$E2),IF(AB97 = \"NA\", 0,AB97*$B$1),0)","v":0},{"$f":"IF(AND(AC$94<=$B$1,$B$1<AD$94,$B3=$E2),IF(AC97 = \"NA\", 0,AC97*$B$1),0)","v":0},{"$f":"IF(AND(AD$94<=$B$1,$B$1<AE$94,$B3=$E2),IF(AD97 = \"NA\", 0,AD97*$B$1),0)","v":0},{"$f":"IF(AND(AE$94<=$B$1,$B3=$E2),IF(AE97 = \"NA\", 0,AE97*$B$1),0)","v":0},null,36,0,{"$f":"IF(AND(AI$94<=$B$1,$B$1<AJ$94,$B3=$E2),IF(AI97 = \"NA\", 0,AI97*$B$1),0)","v":0},{"$f":"IF(AND(AJ$94<=$B$1,$B$1<AK$94,$B3=$E2),IF(AJ97 = \"NA\", 0,AJ97*$B$1),0)","v":0},{"$f":"IF(AND(AK$94<=$B$1,$B$1<AL$94,$B3=$E2),IF(AK97 = \"NA\", 0,AK97*$B$1),0)","v":0},{"$f":"IF(AND(AL$94<=$B$1,$B$1<AM$94,$B3=$E2),IF(AL97 = \"NA\", 0,AL97*$B$1),0)","v":0},{"$f":"IF(AND(AM$94<=$B$1,$B3=$E2),IF(AM97 = \"NA\", 0,AM97*$B$1),0)","v":0},null,36,0,{"$f":"IF(AND(AQ$94<=$B$1,$B$1<AR$94,$B3=$E2),IF(AQ97 = \"NA\", 0,AQ97*$B$1),0)","v":0},{"$f":"IF(AND(AR$94<=$B$1,$B$1<AS$94,$B3=$E2),IF(AR97 = \"NA\", 0,AR97*$B$1),0)","v":0},{"$f":"IF(AND(AS$94<=$B$1,$B$1<AT$94,$B3=$E2),IF(AS97 = \"NA\", 0,AS97*$B$1),0)","v":0},{"$f":"IF(AND(AT$94<=$B$1,$B$1<AU$94,$B3=$E2),IF(AT97 = \"NA\", 0,AT97*$B$1),0)","v":0},{"$f":"IF(AND(AU$94<=$B$1,$B3=$E2),IF(AU97 = \"NA\", 0,AU97*$B$1),0)","v":0}]
[null,null,null,null,null,null,null,null,48,0,{"$f":"IF(AND(K$94<=$B$1,$B$1<L$94,$B3=$E3),IF(K98 = \"NA\", 0,K98*$B$1),0)","v":0},{"$f":"IF(AND(L$94<=$B$1,$B$1<M$94,$B3=$E3),IF(L98 = \"NA\", 0,L98*$B$1),0)","v":0},{"$f":"IF(AND(M$94<=$B$1,$B$1<N$94,$B3=$E3),IF(M98 = \"NA\", 0,M98*$B$1),0)","v":0},{"$f":"IF(AND(N$94<=$B$1,$B$1<O$94,$B3=$E3),IF(N98 = \"NA\", 0,N98*$B$1),0)","v":0},{"$f":"IF(AND(O$94<=$B$1,$B3=$E3),IF(O98 = \"NA\", 0,O98*$B$1),0)","v":0},null,48,0,{"$f":"IF(AND(S$94<=$B$1,$B$1<T$94,$B3=$E3),IF(S98 = \"NA\", 0,S98*$B$1),0)","v":0},{"$f":"IF(AND(T$94<=$B$1,$B$1<U$94,$B3=$E3),IF(T98 = \"NA\", 0,T98*$B$1),0)","v":0},{"$f":"IF(AND(U$94<=$B$1,$B$1<V$94,$B3=$E3),IF(U98 = \"NA\", 0,U98*$B$1),0)","v":0},{"$f":"IF(AND(V$94<=$B$1,$B$1<W$94,$B3=$E3),IF(V98 = \"NA\", 0,V98*$B$1),0)","v":0},{"$f":"IF(AND(W$94<=$B$1,$B3=$E3),IF(W98 = \"NA\", 0,W98*$B$1),0)","v":0},null,48,0,{"$f":"IF(AND(AA$94<=$B$1,$B$1<AB$94,$B3=$E3),IF(AA98 = \"NA\", 0,AA98*$B$1),0)","v":0},{"$f":"IF(AND(AB$94<=$B$1,$B$1<AC$94,$B3=$E3),IF(AB98 = \"NA\", 0,AB98*$B$1),0)","v":0},{"$f":"IF(AND(AC$94<=$B$1,$B$1<AD$94,$B3=$E3),IF(AC98 = \"NA\", 0,AC98*$B$1),0)","v":0},{"$f":"IF(AND(AD$94<=$B$1,$B$1<AE$94,$B3=$E3),IF(AD98 = \"NA\", 0,AD98*$B$1),0)","v":0},{"$f":"IF(AND(AE$94<=$B$1,$B3=$E3),IF(AE98 = \"NA\", 0,AE98*$B$1),0)","v":0},null,48,0,{"$f":"IF(AND(AI$94<=$B$1,$B$1<AJ$94,$B3=$E3),IF(AI98 = \"NA\", 0,AI98*$B$1),0)","v":0},{"$f":"IF(AND(AJ$94<=$B$1,$B$1<AK$94,$B3=$E3),IF(AJ98 = \"NA\", 0,AJ98*$B$1),0)","v":0},{"$f":"IF(AND(AK$94<=$B$1,$B$1<AL$94,$B3=$E3),IF(AK98 = \"NA\", 0,AK98*$B$1),0)","v":0},{"$f":"IF(AND(AL$94<=$B$1,$B$1<AM$94,$B3=$E3),IF(AL98 = \"NA\", 0,AL98*$B$1),0)","v":0},{"$f":"IF(AND(AM$94<=$B$1,$B3=$E3),IF(AM98 = \"NA\", 0,AM98*$B$1),0)","v":0},null,48,0,{"$f":"IF(AND(AQ$94<=$B$1,$B$1<AR$94,$B3=$E3),IF(AQ98 = \"NA\", 0,AQ98*$B$1),0)","v":0},{"$f":"IF(AND(AR$94<=$B$1,$B$1<AS$94,$B3=$E3),IF(AR98 = \"NA\", 0,AR98*$B$1),0)","v":0},{"$f":"IF(AND(AS$94<=$B$1,$B$1<AT$94,$B3=$E3),IF(AS98 = \"NA\", 0,AS98*$B$1),0)","v":0},{"$f":"IF(AND(AT$94<=$B$1,$B$1<AU$94,$B3=$E3),IF(AT98 = \"NA\", 0,AT98*$B$1),0)","v":0},{"$f":"IF(AND(AU$94<=$B$1,$B3=$E3),IF(AU98 = \"NA\", 0,AU98*$B$1),0)","v":0}]
[null,null,null,null,null,null,null,null,60,0,{"$f":"IF(AND(K$94<=$B$1,$B$1<L$94,$B3=$E4),IF(K99 = \"NA\", 0,K99*$B$1),0)","v":0},{"$f":"IF(AND(L$94<=$B$1,$B$1<M$94,$B3=$E4),IF(L99 = \"NA\", 0,L99*$B$1),0)","v":0},{"$f":"IF(AND(M$94<=$B$1,$B$1<N$94,$B3=$E4),IF(M99 = \"NA\", 0,M99*$B$1),0)","v":0},{"$f":"IF(AND(N$94<=$B$1,$B$1<O$94,$B3=$E4),IF(N99 = \"NA\", 0,N99*$B$1),0)","v":0},{"$f":"IF(AND(O$94<=$B$1,$B3=$E4),IF(O99 = \"NA\", 0,O99*$B$1),0)","v":0},null,48,0,{"$f":"IF(AND(S$94<=$B$1,$B$1<T$94,$B3=$E4),IF(S99 = \"NA\", 0,S99*$B$1),0)","v":0},{"$f":"IF(AND(T$94<=$B$1,$B$1<U$94,$B3=$E4),IF(T99 = \"NA\", 0,T99*$B$1),0)","v":0},{"$f":"IF(AND(U$94<=$B$1,$B$1<V$94,$B3=$E4),IF(U99 = \"NA\", 0,U99*$B$1),0)","v":0},{"$f":"IF(AND(V$94<=$B$1,$B$1<W$94,$B3=$E4),IF(V99 = \"NA\", 0,V99*$B$1),0)","v":0},{"$f":"IF(AND(W$94<=$B$1,$B3=$E4),IF(W99 = \"NA\", 0,W99*$B$1),0)","v":0},null,48,0,{"$f":"IF(AND(AA$94<=$B$1,$B$1<AB$94,$B3=$E4),IF(AA99 = \"NA\", 0,AA99*$B$1),0)","v":0},{"$f":"IF(AND(AB$94<=$B$1,$B$1<AC$94,$B3=$E4),IF(AB99 = \"NA\", 0,AB99*$B$1),0)","v":0},{"$f":"IF(AND(AC$94<=$B$1,$B$1<AD$94,$B3=$E4),IF(AC99 = \"NA\", 0,AC99*$B$1),0)","v":0},{"$f":"IF(AND(AD$94<=$B$1,$B$1<AE$94,$B3=$E4),IF(AD99 = \"NA\", 0,AD99*$B$1),0)","v":0},{"$f":"IF(AND(AE$94<=$B$1,$B3=$E4),IF(AE99 = \"NA\", 0,AE99*$B$1),0)","v":0},null,48,0,{"$f":"IF(AND(AI$94<=$B$1,$B$1<AJ$94,$B3=$E4),IF(AI99 = \"NA\", 0,AI99*$B$1),0)","v":0},{"$f":"IF(AND(AJ$94<=$B$1,$B$1<AK$94,$B3=$E4),IF(AJ99 = \"NA\", 0,AJ99*$B$1),0)","v":0},{"$f":"IF(AND(AK$94<=$B$1,$B$1<AL$94,$B3=$E4),IF(AK99 = \"NA\", 0,AK99*$B$1),0)","v":0},{"$f":"IF(AND(AL$94<=$B$1,$B$1<AM$94,$B3=$E4),IF(AL99 = \"NA\", 0,AL99*$B$1),0)","v":0},{"$f":"IF(AND(AM$94<=$B$1,$B3=$E4),IF(AM99 = \"NA\", 0,AM99*$B$1),0)","v":0},null,48,0,{"$f":"IF(AND(AQ$94<=$B$1,$B$1<AR$94,$B3=$E4),IF(AQ99 = \"NA\", 0,AQ99*$B$1),0)","v":0},{"$f":"IF(AND(AR$94<=$B$1,$B$1<AS$94,$B3=$E4),IF(AR99 = \"NA\", 0,AR99*$B$1),0)","v":0},{"$f":"IF(AND(AS$94<=$B$1,$B$1<AT$94,$B3=$E4),IF(AS99 = \"NA\", 0,AS99*$B$1),0)","v":0},{"$f":"IF(AND(AT$94<=$B$1,$B$1<AU$94,$B3=$E4),IF(AT99 = \"NA\", 0,AT99*$B$1),0)","v":0},{"$f":"IF(AND(AU$94<=$B$1,$B3=$E4),IF(AU99 = \"NA\", 0,AU99*$B$1),0)","v":0}]
[null,null,null,null,null,null,null,null,{"$f":"SUM(K104:O104)","v":0},null,{"$f":"SUM(K101:K103)","v":0},{"$f":"SUM(L101:L103)","v":0},{"$f":"SUM(M101:M103)","v":0},{"$f":"SUM(N101:N103)","v":0},{"$f":"SUM(O101:O103)","v":0},null,{"$f":"SUM(S104:W104)","v":0},null,{"$f":"SUM(S101:S103)","v":0},{"$f":"SUM(T101:T103)","v":0},{"$f":"SUM(U101:U103)","v":0},{"$f":"SUM(V101:V103)","v":0},{"$f":"SUM(W101:W103)","v":0},null,{"$f":"SUM(AA104:AE104)","v":0},null,{"$f":"SUM(AA101:AA103)","v":0},{"$f":"SUM(AB101:AB103)","v":0},{"$f":"SUM(AC101:AC103)","v":0},{"$f":"SUM(AD101:AD103)","v":0},{"$f":"SUM(AE101:AE103)","v":0},null,{"$f":"SUM(AI104:AM104)","v":0},null,{"$f":"SUM(AI101:AI103)","v":0},{"$f":"SUM(AJ101:AJ103)","v":0},{"$f":"SUM(AK101:AK103)","v":0},{"$f":"SUM(AL101:AL103)","v":0},{"$f":"SUM(AM101:AM103)","v":0},null,{"$f":"SUM(AQ104:AU104)","v":0},null,{"$f":"SUM(AQ101:AQ103)","v":0},{"$f":"SUM(AR101:AR103)","v":0},{"$f":"SUM(AS101:AS103)","v":0},{"$f":"SUM(AT101:AT103)","v":0},{"$f":"SUM(AU101:AU103)","v":0}]
[]
[null,null,null,null,null,null,null,null,1]
[null,null,null,null,null,null,null,null,"300 Hours/Yr",null,null,null,null,null,null,null,"480 Hours/Yr",null,null,null,null,null,null,null,"720 Hours/Yr",null,null,null,null,null,null,null,"960 Hours/Yr",null,null,null,null,null,null,null,"1200 Hours/Yr"]
[null,null,null,null,null,null,null,null,null,null,3000,10000,25000,50000,100000,null,null,null,3000,10000,25000,50000,100000,null,null,null,3000,10000,25000,50000,100000,null,null,null,3000,10000,25000,50000,100000,null,null,null,3000,10000,25000,50000,100000]
[null,null,null,null,null,null,null,null,null,null,"to","to","to","to","to",null,null,null,"to","to","to","to","to",null,null,null,"to","to","to","to","to",null,null,null,"to","to","to","to","to",null,null,null,"to","to","to","to","to"]
[null,null,null,null,null,null,null,null,"Term","Adv",9999,24999,49999,99999,null,null,"Term","Adv",9999,24999,49999,99999,null,null,"Term","Adv",9999,24999,49999,99999,null,null,"Term","Adv",9999,24999,49999,99999,null,null,"Term","Adv",9999,24999,49999,99999]
[null,null,null,null,null,null,null,null,36,0,{"$f":"SUM(Financing!$AL49)","v":3.3110000000000001E-2},{"$f":"SUM(Financing!$AM49)","v":3.2660000000000002E-2},{"$f":"SUM(Financing!$AP49)","v":3.2219999999999999E-2},{"$f":"SUM(Financing!$AP49)","v":3.2219999999999999E-2},{"$f":"SUM(Financing!$AP49)","v":3.2219999999999999E-2},null,36,0,{"$f":"SUM(Financing!$AL49)","v":3.3110000000000001E-2},{"$f":"SUM(Financing!$AM49)","v":3.2660000000000002E-2},{"$f":"SUM(Financing!$AP49)","v":3.2219999999999999E-2},{"$f":"SUM(Financing!$AP49)","v":3.2219999999999999E-2},{"$f":"SUM(Financing!$AP49)","v":3.2219999999999999E-2},null,36,0,{"$f":"SUM(Financing!$AL49)","v":3.3110000000000001E-2},{"$f":"SUM(Financing!$AM49)","v":3.2660000000000002E-2},{"$f":"SUM(Financing!$AP49)","v":3.2219999999999999E-2},{"$f":"SUM(Financing!$AP49)","v":3.2219999999999999E-2},{"$f":"SUM(Financing!$AP49)","v":3.2219999999999999E-2},null,36,0,{"$f":"SUM(Financing!$AL49)","v":3.3110000000000001E-2},{"$f":"SUM(Financing!$AM49)","v":3.2660000000000002E-2},{"$f":"SUM(Financing!$AP49)","v":3.2219999999999999E-2},{"$f":"SUM(Financing!$AP49)","v":3.2219999999999999E-2},{"$f":"SUM(Financing!$AP49)","v":3.2219999999999999E-2},null,36,0,{"$f":"SUM(Financing!$AL49)","v":3.3110000000000001E-2},{"$f":"SUM(Financing!$AM49)","v":3.2660000000000002E-2},{"$f":"SUM(Financing!$AP49)","v":3.2219999999999999E-2},{"$f":"SUM(Financing!$AP49)","v":3.2219999999999999E-2},{"$f":"SUM(Financing!$AP49)","v":3.2219999999999999E-2}]
[null,null,null,null,null,null,null,null,48,0,{"$f":"SUM(Financing!$AL50)","v":2.631E-2},{"$f":"SUM(Financing!$AM50)","v":2.5839999999999998E-2},{"$f":"SUM(Financing!$AP50)","v":2.538E-2},{"$f":"SUM(Financing!$AP50)","v":2.538E-2},{"$f":"SUM(Financing!$AP50)","v":2.538E-2},null,48,0,{"$f":"SUM(Financing!$AL50)","v":2.631E-2},{"$f":"SUM(Financing!$AM50)","v":2.5839999999999998E-2},{"$f":"SUM(Financing!$AP50)","v":2.538E-2},{"$f":"SUM(Financing!$AP50)","v":2.538E-2},{"$f":"SUM(Financing!$AP50)","v":2.538E-2},null,48,0,{"$f":"SUM(Financing!$AL50)","v":2.631E-2},{"$f":"SUM(Financing!$AM50)","v":2.5839999999999998E-2},{"$f":"SUM(Financing!$AP50)","v":2.538E-2},{"$f":"SUM(Financing!$AP50)","v":2.538E-2},{"$f":"SUM(Financing!$AP50)","v":2.538E-2},null,48,0,{"$f":"SUM(Financing!$AL50)","v":2.631E-2},{"$f":"SUM(Financing!$AM50)","v":2.5839999999999998E-2},{"$f":"SUM(Financing!$AP50)","v":2.538E-2},{"$f":"SUM(Financing!$AP50)","v":2.538E-2},{"$f":"SUM(Financing!$AP50)","v":2.538E-2},null,48,0,{"$f":"SUM(Financing!$AL50)","v":2.631E-2},{"$f":"SUM(Financing!$AM50)","v":2.5839999999999998E-2},{"$f":"SUM(Financing!$AP50)","v":2.538E-2},{"$f":"SUM(Financing!$AP50)","v":2.538E-2},{"$f":"SUM(Financing!$AP50)","v":2.538E-2}]
[null,null,null,null,null,null,null,null,48,0,{"$f":"SUM(Financing!$AL51)","v":2.2270000000000002E-2},{"$f":"SUM(Financing!$AM51)","v":2.1780000000000001E-2},{"$f":"SUM(Financing!$AP51)","v":2.1309999999999999E-2},{"$f":"SUM(Financing!$AP51)","v":2.1309999999999999E-2},{"$f":"SUM(Financing!$AP51)","v":2.1309999999999999E-2},null,48,0,{"$f":"SUM(Financing!$AL51)","v":2.2270000000000002E-2},{"$f":"SUM(Financing!$AM51)","v":2.1780000000000001E-2},{"$f":"SUM(Financing!$AP51)","v":2.1309999999999999E-2},{"$f":"SUM(Financing!$AP51)","v":2.1309999999999999E-2},{"$f":"SUM(Financing!$AP51)","v":2.1309999999999999E-2},null,48,0,{"$f":"SUM(Financing!$AL51)","v":2.2270000000000002E-2},{"$f":"SUM(Financing!$AM51)","v":2.1780000000000001E-2},{"$f":"SUM(Financing!$AP51)","v":2.1309999999999999E-2},{"$f":"SUM(Financing!$AP51)","v":2.1309999999999999E-2},{"$f":"SUM(Financing!$AP51)","v":2.1309999999999999E-2},null,48,0,{"$f":"SUM(Financing!$AL51)","v":2.2270000000000002E-2},{"$f":"SUM(Financing!$AM51)","v":2.1780000000000001E-2},{"$f":"SUM(Financing!$AP51)","v":2.1309999999999999E-2},{"$f":"SUM(Financing!$AP51)","v":2.1309999999999999E-2},{"$f":"SUM(Financing!$AP51)","v":2.1309999999999999E-2},null,48,0,{"$f":"SUM(Financing!$AL51)","v":2.2270000000000002E-2},{"$f":"SUM(Financing!$AM51)","v":2.1780000000000001E-2},{"$f":"SUM(Financing!$AP51)","v":2.1309999999999999E-2},{"$f":"SUM(Financing!$AP51)","v":2.1309999999999999E-2},{"$f":"SUM(Financing!$AP51)","v":2.1309999999999999E-2}]
[]
[null,null,null,null,null,null,null,null,36,0,{"$f":"IF(AND(K$108<=$B$1,$B$1<L$108,$B3=$E2),IF(K111 = \"NA\", 0,K111*$B$1),0)","v":0},{"$f":"IF(AND(L$108<=$B$1,$B$1<M$108,$B3=$E2),IF(L111 = \"NA\", 0,L111*$B$1),0)","v":0},{"$f":"IF(AND(M$108<=$B$1,$B$1<N$108,$B3=$E2),IF(M111 = \"NA\", 0,M111*$B$1),0)","v":0},{"$f":"IF(AND(N$108<=$B$1,$B$1<O$108,$B3=$E2),IF(N111 = \"NA\", 0,N111*$B$1),0)","v":0},{"$f":"IF(AND(O$108<=$B$1,$B$3=$E2),IF(O111 = \"NA\", 0,O111*$B$1),0)","v":0},null,36,0,{"$f":"IF(AND(S$108<=$B$1,$B$1<T$108,$B3=$E2),IF(S111 = \"NA\", 0,S111*$B$1),0)","v":0},{"$f":"IF(AND(T$108<=$B$1,$B$1<U$108,$B3=$E2),IF(T111 = \"NA\", 0,T111*$B$1),0)","v":0},{"$f":"IF(AND(U$108<=$B$1,$B$1<V$108,$B3=$E2),IF(U111 = \"NA\", 0,U111*$B$1),0)","v":0},{"$f":"IF(AND(V$108<=$B$1,$B$1<W$108,$B3=$E2),IF(V111 = \"NA\", 0,V111*$B$1),0)","v":0},{"$f":"IF(AND(W$108<=$B$1,$B$3=$E2),IF(W111 = \"NA\", 0,W111*$B$1),0)","v":0},null,36,0,{"$f":"IF(AND(AA$108<=$B$1,$B$1<AB$108,$B3=$E2),IF(AA111 = \"NA\", 0,AA111*$B$1),0)","v":0},{"$f":"IF(AND(AB$108<=$B$1,$B$1<AC$108,$B3=$E2),IF(AB111 = \"NA\", 0,AB111*$B$1),0)","v":0},{"$f":"IF(AND(AC$108<=$B$1,$B$1<AD$108,$B3=$E2),IF(AC111 = \"NA\", 0,AC111*$B$1),0)","v":0},{"$f":"IF(AND(AD$108<=$B$1,$B$1<AE$108,$B3=$E2),IF(AD111 = \"NA\", 0,AD111*$B$1),0)","v":0},{"$f":"IF(AND(AE$108<=$B$1,$B$3=$E2),IF(AE111 = \"NA\", 0,AE111*$B$1),0)","v":0},null,36,0,{"$f":"IF(AND(AI$108<=$B$1,$B$1<AJ$108,$B3=$E2),IF(AI111 = \"NA\", 0,AI111*$B$1),0)","v":0},{"$f":"IF(AND(AJ$108<=$B$1,$B$1<AK$108,$B3=$E2),IF(AJ111 = \"NA\", 0,AJ111*$B$1),0)","v":0},{"$f":"IF(AND(AK$108<=$B$1,$B$1<AL$108,$B3=$E2),IF(AK111 = \"NA\", 0,AK111*$B$1),0)","v":0},{"$f":"IF(AND(AL$108<=$B$1,$B$1<AM$108,$B3=$E2),IF(AL111 = \"NA\", 0,AL111*$B$1),0)","v":0},{"$f":"IF(AND(AM$108<=$B$1,$B$3=$E2),IF(AM111 = \"NA\", 0,AM111*$B$1),0)","v":0},null,36,0,{"$f":"IF(AND(AQ$108<=$B$1,$B$1<AR$108,$B3=$E2),IF(AQ111 = \"NA\", 0,AQ111*$B$1),0)","v":0},{"$f":"IF(AND(AR$108<=$B$1,$B$1<AS$108,$B3=$E2),IF(AR111 = \"NA\", 0,AR111*$B$1),0)","v":0},{"$f":"IF(AND(AS$108<=$B$1,$B$1<AT$108,$B3=$E2),IF(AS111 = \"NA\", 0,AS111*$B$1),0)","v":0},{"$f":"IF(AND(AT$108<=$B$1,$B$1<AU$108,$B3=$E2),IF(AT111 = \"NA\", 0,AT111*$B$1),0)","v":0},{"$f":"IF(AND(AU$108<=$B$1,$B$3=$E2),IF(AU111 = \"NA\", 0,AU111*$B$1),0)","v":0}]
[null,null,null,null,null,null,null,null,48,0,{"$f":"IF(AND(K$108<=$B$1,$B$1<L$108,$B3=$E3),IF(K112 = \"NA\", 0,K112*$B$1),0)","v":0},{"$f":"IF(AND(L$108<=$B$1,$B$1<M$108,$B3=$E3),IF(L112 = \"NA\", 0,L112*$B$1),0)","v":0},{"$f":"IF(AND(M$108<=$B$1,$B$1<N$108,$B3=$E3),IF(M112 = \"NA\", 0,M112*$B$1),0)","v":0},{"$f":"IF(AND(N$108<=$B$1,$B$1<O$108,$B3=$E3),IF(N112 = \"NA\", 0,N112*$B$1),0)","v":0},{"$f":"IF(AND(O$108<=$B$1,$B$3=$E3),IF(O112 = \"NA\", 0,O112*$B$1),0)","v":0},null,48,0,{"$f":"IF(AND(S$108<=$B$1,$B$1<T$108,$B3=$E3),IF(S112 = \"NA\", 0,S112*$B$1),0)","v":0},{"$f":"IF(AND(T$108<=$B$1,$B$1<U$108,$B3=$E3),IF(T112 = \"NA\", 0,T112*$B$1),0)","v":0},{"$f":"IF(AND(U$108<=$B$1,$B$1<V$108,$B3=$E3),IF(U112 = \"NA\", 0,U112*$B$1),0)","v":0},{"$f":"IF(AND(V$108<=$B$1,$B$1<W$108,$B3=$E3),IF(V112 = \"NA\", 0,V112*$B$1),0)","v":0},{"$f":"IF(AND(W$108<=$B$1,$B$3=$E3),IF(W112 = \"NA\", 0,W112*$B$1),0)","v":0},null,48,0,{"$f":"IF(AND(AA$108<=$B$1,$B$1<AB$108,$B3=$E3),IF(AA112 = \"NA\", 0,AA112*$B$1),0)","v":0},{"$f":"IF(AND(AB$108<=$B$1,$B$1<AC$108,$B3=$E3),IF(AB112 = \"NA\", 0,AB112*$B$1),0)","v":0},{"$f":"IF(AND(AC$108<=$B$1,$B$1<AD$108,$B3=$E3),IF(AC112 = \"NA\", 0,AC112*$B$1),0)","v":0},{"$f":"IF(AND(AD$108<=$B$1,$B$1<AE$108,$B3=$E3),IF(AD112 = \"NA\", 0,AD112*$B$1),0)","v":0},{"$f":"IF(AND(AE$108<=$B$1,$B$3=$E3),IF(AE112 = \"NA\", 0,AE112*$B$1),0)","v":0},null,48,0,{"$f":"IF(AND(AI$108<=$B$1,$B$1<AJ$108,$B3=$E3),IF(AI112 = \"NA\", 0,AI112*$B$1),0)","v":0},{"$f":"IF(AND(AJ$108<=$B$1,$B$1<AK$108,$B3=$E3),IF(AJ112 = \"NA\", 0,AJ112*$B$1),0)","v":0},{"$f":"IF(AND(AK$108<=$B$1,$B$1<AL$108,$B3=$E3),IF(AK112 = \"NA\", 0,AK112*$B$1),0)","v":0},{"$f":"IF(AND(AL$108<=$B$1,$B$1<AM$108,$B3=$E3),IF(AL112 = \"NA\", 0,AL112*$B$1),0)","v":0},{"$f":"IF(AND(AM$108<=$B$1,$B$3=$E3),IF(AM112 = \"NA\", 0,AM112*$B$1),0)","v":0},null,48,0,{"$f":"IF(AND(AQ$108<=$B$1,$B$1<AR$108,$B3=$E3),IF(AQ112 = \"NA\", 0,AQ112*$B$1),0)","v":0},{"$f":"IF(AND(AR$108<=$B$1,$B$1<AS$108,$B3=$E3),IF(AR112 = \"NA\", 0,AR112*$B$1),0)","v":0},{"$f":"IF(AND(AS$108<=$B$1,$B$1<AT$108,$B3=$E3),IF(AS112 = \"NA\", 0,AS112*$B$1),0)","v":0},{"$f":"IF(AND(AT$108<=$B$1,$B$1<AU$108,$B3=$E3),IF(AT112 = \"NA\", 0,AT112*$B$1),0)","v":0},{"$f":"IF(AND(AU$108<=$B$1,$B$3=$E3),IF(AU112 = \"NA\", 0,AU112*$B$1),0)","v":0}]
[null,null,null,null,null,null,null,null,48,0,{"$f":"IF(AND(K$108<=$B$1,$B$1<L$108,$B3=$E4),IF(K113 = \"NA\", 0,K113*$B$1),0)","v":0},{"$f":"IF(AND(L$108<=$B$1,$B$1<M$108,$B3=$E4),IF(L113 = \"NA\", 0,L113*$B$1),0)","v":0},{"$f":"IF(AND(M$108<=$B$1,$B$1<N$108,$B3=$E4),IF(M113 = \"NA\", 0,M113*$B$1),0)","v":0},{"$f":"IF(AND(N$108<=$B$1,$B$1<O$108,$B3=$E4),IF(N113 = \"NA\", 0,N113*$B$1),0)","v":0},{"$f":"IF(AND(O$108<=$B$1,$B$3=$E4),IF(O113 = \"NA\", 0,O113*$B$1),0)","v":0},null,48,0,{"$f":"IF(AND(S$108<=$B$1,$B$1<T$108,$B3=$E4),IF(S113 = \"NA\", 0,S113*$B$1),0)","v":0},{"$f":"IF(AND(T$108<=$B$1,$B$1<U$108,$B3=$E4),IF(T113 = \"NA\", 0,T113*$B$1),0)","v":0},{"$f":"IF(AND(U$108<=$B$1,$B$1<V$108,$B3=$E4),IF(U113 = \"NA\", 0,U113*$B$1),0)","v":0},{"$f":"IF(AND(V$108<=$B$1,$B$1<W$108,$B3=$E4),IF(V113 = \"NA\", 0,V113*$B$1),0)","v":0},{"$f":"IF(AND(W$108<=$B$1,$B$3=$E4),IF(W113 = \"NA\", 0,W113*$B$1),0)","v":0},null,48,0,{"$f":"IF(AND(AA$108<=$B$1,$B$1<AB$108,$B3=$E4),IF(AA113 = \"NA\", 0,AA113*$B$1),0)","v":0},{"$f":"IF(AND(AB$108<=$B$1,$B$1<AC$108,$B3=$E4),IF(AB113 = \"NA\", 0,AB113*$B$1),0)","v":0},{"$f":"IF(AND(AC$108<=$B$1,$B$1<AD$108,$B3=$E4),IF(AC113 = \"NA\", 0,AC113*$B$1),0)","v":0},{"$f":"IF(AND(AD$108<=$B$1,$B$1<AE$108,$B3=$E4),IF(AD113 = \"NA\", 0,AD113*$B$1),0)","v":0},{"$f":"IF(AND(AE$108<=$B$1,$B$3=$E4),IF(AE113 = \"NA\", 0,AE113*$B$1),0)","v":0},null,48,0,{"$f":"IF(AND(AI$108<=$B$1,$B$1<AJ$108,$B3=$E4),IF(AI113 = \"NA\", 0,AI113*$B$1),0)","v":0},{"$f":"IF(AND(AJ$108<=$B$1,$B$1<AK$108,$B3=$E4),IF(AJ113 = \"NA\", 0,AJ113*$B$1),0)","v":0},{"$f":"IF(AND(AK$108<=$B$1,$B$1<AL$108,$B3=$E4),IF(AK113 = \"NA\", 0,AK113*$B$1),0)","v":0},{"$f":"IF(AND(AL$108<=$B$1,$B$1<AM$108,$B3=$E4),IF(AL113 = \"NA\", 0,AL113*$B$1),0)","v":0},{"$f":"IF(AND(AM$108<=$B$1,$B$3=$E4),IF(AM113 = \"NA\", 0,AM113*$B$1),0)","v":0},null,48,0,{"$f":"IF(AND(AQ$108<=$B$1,$B$1<AR$108,$B3=$E4),IF(AQ113 = \"NA\", 0,AQ113*$B$1),0)","v":0},{"$f":"IF(AND(AR$108<=$B$1,$B$1<AS$108,$B3=$E4),IF(AR113 = \"NA\", 0,AR113*$B$1),0)","v":0},{"$f":"IF(AND(AS$108<=$B$1,$B$1<AT$108,$B3=$E4),IF(AS113 = \"NA\", 0,AS113*$B$1),0)","v":0},{"$f":"IF(AND(AT$108<=$B$1,$B$1<AU$108,$B3=$E4),IF(AT113 = \"NA\", 0,AT113*$B$1),0)","v":0},{"$f":"IF(AND(AU$108<=$B$1,$B$3=$E4),IF(AU113 = \"NA\", 0,AU113*$B$1),0)","v":0}]
[null,null,null,null,null,null,null,null,{"$f":"SUM(K118:O118)","v":0},null,{"$f":"SUM(K115:K117)","v":0},{"$f":"SUM(L115:L117)","v":0},{"$f":"SUM(M115:M117)","v":0},{"$f":"SUM(N115:N117)","v":0},{"$f":"SUM(O115:O117)","v":0},null,{"$f":"SUM(S118:W118)","v":0},null,{"$f":"SUM(S115:S117)","v":0},{"$f":"SUM(T115:T117)","v":0},{"$f":"SUM(U115:U117)","v":0},{"$f":"SUM(V115:V117)","v":0},{"$f":"SUM(W115:W117)","v":0},null,{"$f":"SUM(AA118:AE118)","v":0},null,{"$f":"SUM(AA115:AA117)","v":0},{"$f":"SUM(AB115:AB117)","v":0},{"$f":"SUM(AC115:AC117)","v":0},{"$f":"SUM(AD115:AD117)","v":0},{"$f":"SUM(AE115:AE117)","v":0},null,{"$f":"SUM(AI118:AM118)","v":0},null,{"$f":"SUM(AI115:AI117)","v":0},{"$f":"SUM(AJ115:AJ117)","v":0},{"$f":"SUM(AK115:AK117)","v":0},{"$f":"SUM(AL115:AL117)","v":0},{"$f":"SUM(AM115:AM117)","v":0},null,{"$f":"SUM(AQ118:AU118)","v":0},null,{"$f":"SUM(AQ115:AQ117)","v":0},{"$f":"SUM(AR115:AR117)","v":0},{"$f":"SUM(AS115:AS117)","v":0},{"$f":"SUM(AT115:AT117)","v":0},{"$f":"SUM(AU115:AU117)","v":0}]

{"sheet":"Security","index":54,"n_rows":15,"n_cols":8,"rows_kept":15,"cut":false,"hidden":true,"merged":[]}
["T16AMR_Flexclean",null,null,"AMR Autonomy",null,null,"Detergent"]
["plo","Pao Leepalao",null,"plo","Pao Leepalao",null,"plo","Pao Leepalao"]
["cvn3","Chris Volan",null,"rbh","Raminder Badh",null,"dph","Dan Harrington"]
["dmy8","Dan McSweeney",null,null,null,null,"lgs3","Lane Garris"]
["bhn2","Brian Hoffman",null,null,null,null,"rml2","Rachel Maxwell"]
["kwn","Kevin Nicholson",null,null,null,null,"csh4","Chad Smith"]
["tjw","Terry Watson",null,null,null,null,"bnr2","Buddy Napier"]
["jtt2","John Tackett",null,null,null,null,"mpe3","Mark Pominville"]
["p1g","Paul Gee",null,null,null,null,"cmy8","Catherine Mulvanerty"]
["rbh","Raminder Badh",null,null,null,null,"twn8","Trent Wieden"]
["lml","Lynn Lewis",null,null,null,null,"dfs10","Derrick Flowers"]
["dcs5","Collins, Dennis"]
["srn9","Rosenstein, Sam"]
["kgb","Bremer, Kurt"]
["jdl","Laubach, James"]