{"text_format":"1","workbook":"xlsx","n_sheets":52,"sheets":["Letter","CRM Mapping","Log","Start_Here","Cover_Letter","TennantTrue Summary_","AMR Autonomy Parts","Specialty","i_mop_Lite","i_mop_XL","i_mop_XXL","CS5_CS16","T1_T1B","T260","T391_T291","T581_T390_T290","MPF SAP Canada Pre-Configured","T681","T981","T2_Std_Config","T300_Series_Std_Config","T350_Std_Config","T500_Series_Std_Config","T600_Series_Std_Config","T7_Std_Config","T12_Standard_Config","T16_Standard_Config","T2","T300","T300e","T350","T500","T500e","T600","MPF SAP Download Canada","T600e","T600ee","T7","T12_Built_to_Order","T1581_Built_to_Order","T16_Built_to_Order","Pricezones","PricezonesUsers","Contact","Help","Security","Surcharge","Lists","TennantTrue Rate","County Tier","Settings","Financing"],"not_rendered":{"charts":0,"images":28,"macros":1,"external_links":7,"defined_names":543,"comments":1,"pivot_tables":0},"unopened":[],"bounds":{"document_bytes":16777216,"sheet_cells":100000,"rows_first":2000,"rows_last":500,"rows_between":2000,"halvings":0,"cell_chars":16384,"cell_head_chars":4096},"cells_cut":0,"cells_raw":0,"read":"whole","date_system":"1900"}

{"sheet":"Letter","index":0,"n_rows":37,"n_cols":4,"rows_kept":37,"cut":false,"hidden":true,"merged":[]}
["clean"]
["Important!!"]
["If you accidentally stumbled into this page do not change any information on this page."]
[]
["Contact Name",null,"Contact Name"]
["Company Name",null,"Company Name"]
["Address",null,"Address"]
[{"$f":"B8&\", \"&C8&\" \"&D8","v":", City, State Zip "},null,"City, State Zip"]
["Dear ",null,"Dear "]
["Rep Name",null,"Rep Name"]
["Contact Phone",null,"Contact Phone"]
[null,null,"Sap ID"]
[null,null,"Cust grp 3"]
["Date",null,"Date"]
[]
[{"$f":"LEN(Salutation)","v":5},null,"// Number of chars in Salutation string"]
[{"$f":"FIND(\" \",Salutation,1)","v":5},null,"// Location of first \"blank space\" in the Salutation string"]
[{"$f":"LEFT(Salutation,A17-1)","v":"Dear"},null,"// Text to the left of the \"blank space\" in the Salutation string (Actual Salutation)"]
[{"$f":"IF(A16=A17, \"No Contact From SA\", LEFT(RIGHT(Salutation,A16-A17), A16-A17-2))","v":"No Contact From SA"},null,"// Text to the right of the \"blank space\" in the Salutation string"]
[{"$f":"IF(A16=A17, \"formal\", IF(A5 = A19, \"formal\", \"informal\"))","v":"formal"},null,"//Determines whether the letter is formal or informal.  If there was no contact from SA then the letter is assumed to be formal"]
[]
[{"$f":"Start_Here!#REF!&\", \"","v":{"$error":"#REF!"}},null,"// Get the Contact name form Start_Here to make check whether the rep changed it or not and concat a \", \""]
[{"$f":"FIND(\" \",A22,1)","v":{"$error":"#REF!"}},null,"//Get the first blank space of the contact name from Start_Here.  This will be used in the informal letter to derive the first name."]
["Please do not change cell A25."]
["2014-10-02","Quote Date"]
[{"$f":"LEFT(A22,A23-1)","v":{"$error":"#REF!"}},null,"// Contact name form start here.  This is only the First name if there is a first and last name"]
[]
[{"$f":"IF(A22 = \", \", \"Good Morning,\", IF(A22 = 0, \"Good Morning,\", IF(A9 = \"Good Morning, \", \"Good Morning, \", IF(A5=A22,Letter!$A$9, IF(A20 = \"informal\", \"Dear \"&A26&\",\", \"Dear \"&A22)))))","v":{"$error":"#REF!"}},null,"//creates the salutation: "]
[null,null,"1:  Check to see if there is a contact specified in Start_here, if not then Good Morning is used"]
[null,null,"2:  Same as case one, except this will be the case from SA since the cell will have a 0 value if there was no Contact specified."]
[null,null,"3:  Check to see if \"Good Morning\" was the original greeting, if so, then use Good Morning for the letter no Matter What."]
[null,null,"4:  Check whether the Contact name has been changed.  If so then use the original SA salutation"]
[null,null,"5:  If the Contact name has been changed then, check whether the letter was origninaly a formal letter or an informal letter:"]
[null,null,null,"5a:  If informal use the first name which will reside in cell a20"]
[null,null,null,"5b:  if formal use the the whole name which is in cell a 18"]
["Equipment Type","Scrubber"]
["Country","Canada"]

{"sheet":"CRM Mapping","index":1,"n_rows":0,"n_cols":0,"rows_kept":0,"cut":false,"hidden":true,"merged":[]}

{"sheet":"Log","index":2,"n_rows":21,"n_cols":3,"rows_kept":21,"cut":false,"hidden":true,"merged":[]}
["Date","UpdatedBy","Description"]
["2019-08-23","Pao Leepalao","show user ID instead of full name on approve box"]
["2019-08-23","Pao Leepalao","date stamp when it's approved (yellow and red)"]
["2019-08-23","Pao Leepalao","revision date on all machine tabs"]
["2019-08-23","Pao Leepalao","change log (date, name, what changed) - hide tab"]
["2019-08-23","Pao Leepalao","fix T6 quick ship hide/show blank qty issue"]
["2019-08-23","Jeannie Smallish","T300/SS300: removed drain hose/cap"]
["2019-08-23","Jeannie Smallish","T20/M20/M30/S30/800/T16 quick ship: update built-in values"]
["2019-08-23","Jeannie Smallish","T16: update preconfigured machines"]
["2019-08-23","Jeannie Smallish","T20/S30: prices correction"]
["2019-09-16","Jeannie Smallish","corrected column issue on Extractors"]
["2019-09-16","Jeannie Smallish","Add new machine S10_Quick_Ship"]
["2019-09-16","Pao Leepalao","Discount/Service rates for S10_Quick_Ship"]
["2019-09-16","Pao Leepalao","Update leasing contact for Tennant"]
["2019-10-02","Pao Leepalao","Update finance rates - US  Bank"]
["2019-10-02","Pao Leepalao","Add governance approval process"]
["2019-11-04","Jeannie/Pao","VC Changes for T17, M17, T600, T600e, T12, and T16"]
["2019-11-04","Jeannie/Pao","Price update for T600"]
["2019-11-08","Pao Leepalao","Fix GT formatting issue"]
["2019-12-04","Pao/Jeannie","New 2020 price increase"]
["2019-12-04","Pao Leepalao","Only positive allow in custom solution"]

{"sheet":"Start_Here","index":3,"n_rows":61,"n_cols":17,"rows_kept":61,"cut":false,"hidden":false,"merged":[[17,5,17,7],[30,2,33,3],[0,2,0,7],[3,5,3,7],[10,1,10,2],[10,5,10,7],[30,1,31,1]]}
["Distributor",null,"Please fill out as much buyer information as you can.  Overkey addresses and contacts for proper display on the machine sheets.",null,null,null,null,null,null,null,null,null,null,null,"Alabama","Discount","ALL OTHER COUNTIES"]
[null,null,null,null,null,null,null,null,null,null,null,null,null,null,"Arkansas",{"$f":"TTDiscountLow","v":0},"BARBOUR"]
["Buyer Information",null,null,null,null,null,null,null,null,null,null,null,null,null,"Arizona",{"$f":"TTDiscountHigh","v":5},"COVINGTON"]
[null,"CRM Address Information",null,null,null,"Who is Buying the Machine? (Bill-To for Machine Aquisition Info) (Please Verify)",null,null,"Select One",null,null,null,null,null,"British Columbia",null,"DALE"]
[null,"Company",{"$f":"Letter!$A$6","v":"Company Name"},null,null,"Company",null,"Company Name",null,null,null,null,null,null,"Canada",null,"ESCAMBIA"]
[null,"Address",{"$f":"Address","v":"Address"},null,null,"Address",null,"Address",null,null,null,null,null,null,"California",null,"GENEVA"]
[null,"City, State Zip",{"$f":"CityStateZip","v":", City, State Zip "},null,null,"City, State Zip",null,"City, State Zip",null,null,null,null,null,null,"Colorado",null,"HENRY"]
[null,"Name",{"$f":"ContactName","v":"Contact Name"},null,null,"Name",null,"Contact Name",null,null,null,null,null,null,"Connecticut",null,"HOUSTON"]
[null,"Phone",{"$f":"Letter!$A$11","v":"Contact Phone"},null,null,"Phone",null,"Contact Phone",null,null,null,null,null,null,"District of Columbia",null,"LEE"]
[null,null,null,null,null,null,null,null,null,null,null,null,null,null,"Delaware",null,"RUSSELL"]
[null,"Where is the Machine Being Shipped? (Ship-To Info) (Please Verify)",null,"Select One",null,"Where is the Machine Being Used? (Machine Use Location - Specific) (Please Verify)",null,null,"Select One",null,null,null,null,null,"Florida"]
[null,"Company","Company Name",null,null,"Company",null,"Company Name",null,null,null,null,null,null,"Georgia"]
[null,"Address","Address",null,null,"Address",null,"Address",null,null,null,null,null,null,"Hawaii"]
[null,"City, State Zip","City, State Zip",null,null,"City, State Zip",null,"City, State Zip",null,null,null,null,null,null,"Iowa"]
[null,"Name","Contact Name",null,null,"Name",null,"Contact Name",null,null,null,null,null,null,"Idaho"]
[null,"Phone","Contact Phone",null,null,"Phone",null,"Contact Phone",null,null,null,null,null,null,"Illinois"]
[null,null,null,null,null,null,null,null,null,null,null,null,null,null,"Indiana"]
[null,"Who Owns the Machine? (Sold-To Info) (Please Verify)",null,"Select One",null,"Who Pays for Service on the Machine? (Service Bill-To Info) (Please Verify)",null,null,"Select One",null,null,null,null,null,"Kansas"]
[null,"Company","Company Name",null,null,"Company",null,"Company Name",null,null,null,null,null,null,"Kentucky"]
[null,"Address","Address",null,null,"Address",null,"Address",null,null,null,null,null,null,"Louisiana"]
[null,"City, State Zip","City, State Zip",null,null,"City, State Zip",null,"City, State Zip",null,null,null,null,null,null,"Massachusetts"]
[null,"Name","Contact Name",null,null,"Name",null,"Contact Name",null,null,null,null,null,null,"Maryland"]
[null,"Phone","Contact Phone",null,null,"Phone",null,"Contact Phone",null,null,null,null,null,null,"Maine"]
[null,null,null,null,null,null,null,null,null,null,null,null,null,null,"Michigan"]
[null,"Customer Number",{"$f":"Letter!$A$12","v":0},null,null,"Finance Partner",null,"TennantTrue Details",null,null,null,null,null,null,"Minnesota"]
[null,"Authorized Buyer's Name",null,null,null,"First Western Equipment Finance",null,"State",null,null,null,null,null,null,"Missouri"]
[null,"Buyer's Phone #",null,null,null,null,null,null,null,null,null,null,null,null,"Mississippi"]
[null,"Requested Delivery Date",null,null,null,"Select Market",null,"County",null,null,null,null,null,null,"Montana"]
[null,"Cust Grp 3",{"$f":"Letter!$A$13","v":0},null,null,"Internal use only",null,null,null,null,null,null,null,null,"North Carolina"]
[null,null,null,null,null,null,null,"National Account",null,null,null,null,null,null,"North Dakota"]
[null,"Shipping / Carrier Instructions:",null,null,null,"Quote Service",null,null,null,null,null,null,null,null,"Nebraska"]
[null,null,null,null,null,"Yes",null,"TennantTrue Discount (%)",null,null,null,null,null,null,"New Hampshire"]
[null,null,null,null,null,null,null,null,null,null,null,null,null,null,"New Jersey"]
[null,null,null,null,null,null,null,null,null,null,null,null,null,null,"New Mexico"]
[null,"Seller Info",null,null,null,null,null,null,null,null,null,null,null,null,"Nevada"]
[null,"Letter/Quote",null,null,"Terms and Conditions",null,null,null,null,null,null,null,null,null,"New York"]
[null,"Company","Tennant Sales and Service Company",null,"Ask your local sales rep for estimated lead times. Verify when placing order",null,null,null,null,null,null,null,null,null,"Ohio"]
[null,"Address","10400 Clean Street",null,"All orders subject to acceptance by Tennant Sales and Service Company, Minneapolis, Minnesota",null,null,null,null,null,null,null,null,null,"Oklahoma"]
[null,null,"Eden Prairie, MN 55344",null,"Prices subject to change without notice. Subject to any applicable taxes.",null,null,null,null,null,null,null,null,null,"Ontario"]
[null,null,null,null,"Terms:  Net 30 days.  Payable in Canadian Funds",null,null,null,null,null,null,null,null,null,"Oregon"]
[null,"Name",{"$f":"RepName","v":"Rep Name"},null,"Freight:  Accessories, parts, supplies, detergents, and floor coatings orders delivered DDP ",null,null,null,null,null,null,null,null,null,"Pennsylvania"]
[null,null,null,null,"shipping point Frt PPD.  Machine orders delivered DDP shipping point Frt PPD and add.",null,null,null,null,null,null,null,null,null,"Prince Edward Isle"]
[null,"Phone","800-553-8033",null,"Returned Merchandise is subject to a restocking fee.",null,null,null,null,null,null,null,null,null,"Rhode Island"]
[null,"Fax","763-513-2116",null,"All orders are subject to Tennant’s General Terms and Conditions available at http://www.tennantco.com/terms.",null,null,null,null,null,null,null,null,null,"Quebec"]
[null,null,null,null,"Printed General Terms and Conditions are also available upon request.",null,null,null,null,null,null,null,null,null,"South Carolina"]
[null,null,null,null,null,null,null,null,null,null,null,null,null,null,"South Dakota"]
[null,"Footer",null,null,null,null,null,null,null,null,null,null,null,null,"Tennessee"]
[null,"Line 1","TENNANT · 10400 Clean Street · Eden Prairie, MN 55344 ·",null,null,null,null,null,null,null,null,null,null,null,"Texas"]
[null,"Line 2"," PHONE:800-553-8033 · FAX:763-513-2116",null,null,null,null,null,null,null,null,null,null,null,"Utah"]
[null,null,null,null,null,null,null,null,null,null,null,null,null,null,"Virginia"]
[null,null,null,null,null,null,null,null,null,null,null,null,null,null,"Vermont"]
[null,null,null,null,null,null,null,null,null,null,null,null,null,null,"Washington"]
[null,null,null,null,null,null,null,null,null,null,null,null,null,null,"West Virginia"]
[null,null,null,null,null,null,null,null,null,null,null,null,null,null,"Wisconsin"]
[null,null,null,null,null,null,null,null,null,null,null,null,null,null,"Wyoming"]
[]
[]
[null,null,"Battery Surcharge","Price"]
[null,null,"36 Volt Machines",0]
[null,null,"24 Volt Machines",0]
[null,null,"Small 24 Volt Machines",0]

{"sheet":"Cover_Letter","index":4,"n_rows":37,"n_cols":1,"rows_kept":37,"cut":false,"hidden":false,"merged":[[8,0,8,1]]}
[{"$f":"Letter!$A$25","v":"2014-10-02"}]
[]
[]
[{"$f":"Start_Here!C37","v":"Tennant Sales and Service Company"}]
[{"$f":"Start_Here!C38","v":"10400 Clean Street"}]
[{"$f":"Start_Here!C39","v":"Eden Prairie, MN 55344"}]
[{"$f":"Start_Here!C40","v":0}]
[]
[{"$f":"Start_Here!$C$22","v":"Contact Name"}]
[{"$f":"Start_Here!$C$19","v":"Company Name"}]
[{"$f":"Start_Here!$C$20","v":"Address"}]
[{"$f":"Start_Here!$C$21","v":"City, State Zip"}]
[]
[]
[{"$f":"Salutation","v":"Dear "}]
[]
["Thank you for your interest in TENNANT maintenance equipment.  We are pleased to send you the attached quotation and literature on the products you are considering."]
[]
["A variety of lease and finance programs are available that will allow you to maximize the cost savings and productivity advantages that Tennant provides."]
[]
["I will be in contact with you, but in the meantime, feel free to call my sales office listed below, should you need to--your questions are invited and your orders will be given prompt attention."]
[]
["Yours Truly,"]
[]
["                                                                                                                "]
["                                                                                                                "]
[{"$f":"Start_Here!$C$41","v":"Rep Name"}]
[{"$f":"Start_Here!C37","v":"Tennant Sales and Service Company"}]
[{"$f":"Start_Here!C38","v":"10400 Clean Street"}]
[{"$f":"Start_Here!C39","v":"Eden Prairie, MN 55344"}]
[{"$f":"Start_Here!C43","v":"800-553-8033"}]
[]
["attachment"]
[]
[]
[{"$f":"Start_Here!C48","v":"TENNANT · 10400 Clean Street · Eden Prairie, MN 55344 ·"}]
[{"$f":"Start_Here!C49","v":" PHONE:800-553-8033 · FAX:763-513-2116"}]

{"sheet":"TennantTrue Summary_","index":5,"n_rows":66,"n_cols":15,"rows_kept":66,"cut":false,"hidden":true,"merged":[[9,17,10,17],[9,18,10,18],[9,19,10,19],[1,2,3,6],[1,15,3,19],[4,2,5,10],[4,16,5,19],[7,14,8,17],[11,18,18,18],[11,19,18,19],[15,9,15,10],[19,14,24,16],[19,17,24,17],[19,18,24,18],[19,19,24,19],[27,9,27,10],[34,3,35,3],[34,4,35,5],[11,14,18,16],[11,17,18,17],[41,14,43,19],[25,14,35,16],[25,17,35,17],[25,18,35,18],[25,19,35,19],[36,14,39,16],[36,17,39,17],[36,18,39,18],[36,19,39,19],[39,9,39,10],[69,0,69,11],[46,3,47,3],[46,4,47,5],[51,1,52,11],[53,1,54,11],[59,3,59,5],[60,3,60,5],[61,3,61,5],[62,3,62,5],[63,2,64,6],[67,0,67,11],[68,0,68,11]]}
[]
[]
[]
[]
[]
[]
[]
[null,null,null,null,null,null,null,null,null,null,null,null,null,null,"Choose the best plan for you"]
[null,"Prepared for:",null,null,null,null,null,null,null,null,"Prepared On:"]
[null,{"$f":"Start_Here!$C$22","v":"Contact Name"},null,null,null,null,null,null,null,null,{"$f":"Letter!$A$25","v":"2014-10-02"}]
[null,{"$f":"Start_Here!$C$19","v":"Company Name"}]
[null,{"$f":"Start_Here!$C$20","v":"Address"}]
[null,{"$f":"Start_Here!$C$21","v":"City, State Zip"}]
[]
[]
[null,null,"Machine 1",null,"Term",null,null,null,"Service Hours"]
[]
[null,null,"Used Machine?",null,"Gold","Silver","Pay As You Go","Block of Time - Weekly","Block of Time - Bi-Weekly",null,"On Demand"]
[null,null,"Monthly Rate"]
[null,null,"Annually"]
[null,null,"Pre Pay 36 mo"]
[null,null,"Per Visit"]
[null,null,"Hourly Labor Rate",null,"See Below"]
[null,null,"Site Visit Charge",null,null,null,null,null,null,null,null," "]
[]
[]
[]
[null,null,"Machine 2",null,"Term",null,null,null,"Service Hours"]
[]
[null,null,"Used Machine?",null,"Gold","Silver","Pay As You Go","Block of Time - Weekly","Block of Time - Bi-Weekly",null,"On Demand"]
[null,null,"Monthly Rate"]
[null,null,"Annually"]
[null,null,"Pre Pay 36 mo"]
[null,null,"Per Visit"]
[null,null,"Hourly Labor Rate",null,"See Below"]
[null,null,"Site Visit Charge"]
[]
[]
[]
[null,null,"Machine 3",null,"Term",null,null,null,"Service Hours"]
[]
[null,null,"Used Machine?",null,"Gold","Silver","Pay As You Go","Block of Time - Weekly","Block of Time - Bi-Weekly",null,"On Demand"]
[null,null,"Monthly Rate"]
[null,null,"Annually"]
[null,null,"Pre Pay 36 mo"]
[null,null,"Per Visit"]
[null,null,"Hourly Labor Rate",null,"See Below"]
[null,null,"Site Visit Charge",null,null,null,null,null,null,null,null," "]
[]
[null,"**All rates and fees above reflect service for one (1) unit with the exception of Block of Time service."]
[]
[null," **   Breakdown service calls for Silver customers include a Site Visit Charge and will be billed at the current \"Pay As You Go\" Hourly Labor Rate.  Parts will be billed at list price."]
[]
[]
[]
[null," ",null,null,null," "]
[null,"Tennant Company Sales Representative:",null,null,null,null,{"$f":"Start_Here!$C$41","v":"Rep Name"}]
[]
[null,"Customer"]
[null,"Accepted By*:"]
[null,"Print Name:"]
[null,"Title:"]
[null,"Date:"]
[null,null,"*Acceptance is contingent upon customer review and approval of the Master Usage \nAgreement and the Usage Schedule / Equipment Schedule.\n"]
[]
[null,null,"**This quote is good for 60 days from the above date."]

{"sheet":"AMR Autonomy Parts","index":6,"n_rows":59,"n_cols":9,"rows_kept":59,"cut":false,"hidden":true,"merged":[]}
[null,"Term","Part Number","Price",null,"based","difference",null,"Discount %"]
["T7AMR","1 Year","T7AMRRENEW1",8400,null,null,null,null,1]
["T7AMR","2 Years","T7AMRRENEW2",16800,null,null,null,null,2]
["T7AMR","3 Years","T7AMRRENEW3",25200,null,null,null,null,3]
["T7AMR","4 Years","T7AMRRENEW4",33600,null,null,null,null,4]
["T7AMR","5 Years","T7AMRRENEW5",42000,null,null,null,null,5]
["T7AMR","Monthly","T7AMRMONTH",700,null,null,null,null,6]
["T380AMR","1 Year","T380AMRRENEW1",6720,null,null,null,null,7]
["T380AMR","2 Years","T380AMRRENEW2",13440,null,null,null,null,8]
["T380AMR","3 Years","T380AMRRENEW3",20160,null,null,null,null,9]
["T380AMR","4 Years","T380AMRRENEW4",26880,null,null,null,null,10]
["T380AMR","5 Years","T380AMRRENEW5",33600,null,null,null,null,11]
["T380AMR","Monthly","T380AMRMONTH",560,null,null,null,null,12]
["T16AMR","1 Year","T16AMRRENEW1",12096,null,null,null,null,13]
["T16AMR","2 Years","T16AMRRENEW2",24192,null,null,null,null,14]
["T16AMR","3 Years","T16AMRRENEW3",36288,null,null,null,null,15]
["T16AMR","4 Years","T16AMRRENEW4",48384,null,null,null,null,16]
["T16AMR","5 Years","T16AMRRENEW5",60480,null,null,null,null,17]
["T16AMR","Monthly","T16AMRMONTH",1008,null,null,null,null,18]
["M_X4ROVR","A","X4ROVR5 1-4",21700,"5YR AUTONOMY SERVICES (Qty1-4)",21700,0,null,19]
["M_X4ROVR","B","X4ROVR5 5-49",20300,"5YR AUTONOMY SERVICES (Qty5-49)",21700,{"$f":"SUM(D$20-D21)","v":1400},null,20]
["M_X4ROVR","B","X4ROVR5 50-299",16099.999999999998,"5YR AUTONOMY SERVICES (Qty50-299)",21700,{"$f":"SUM(D$20-D22)","v":5600.0000000000018},null,21]
["M_X4ROVR","C","X4ROVR5 300",11900,"5YR AUTONOMY SERVICES (Qty300+)",21700,9800,null,22]
["T16AMR","A","T16AMR3 1-4",36288,"3YR AUTONOMY SERVICES (Qty1-4)",36288,0,null,23]
["T16AMR","B","T16AMR3 5-9",35743.399999999994,"3YR AUTONOMY SERVICES (Qty5-9)",36288,{"$f":"SUM(D$24-D25)","v":544.60000000000582},null,24]
["T16AMR","B","T16AMR3 10-19",34291.599999999999,"3YR AUTONOMY SERVICES (Qty10-19)",36288,{"$f":"SUM(D$24-D26)","v":1996.4000000000015},null,25]
["T16AMR","C","T16AMR3 20",33203.799999999996,"3YR AUTONOMY SERVICES (Qty20+)",36288,3084.2000000000044,null,26]
["T16AMR","A","T16AMR5 1-4",60479.999999999993,"5YR AUTONOMY SERVICES (Qty1-4)",60479.999999999993,0,null,27]
["T16AMR","B","T16AMR5 5-9",58665.599999999999,"5YR AUTONOMY SERVICES (Qty5-9)",60479.999999999993,{"$f":"SUM(D$28-D29)","v":1814.3999999999942},null,28]
["T16AMR","B","T16AMR5 10-19",53827.199999999997,"5YR AUTONOMY SERVICES (Qty10-19)",60479.999999999993,{"$f":"SUM(D$28-D30)","v":6652.7999999999956},null,29]
["T16AMR","C","T16AMR5 20",50198.399999999994,"5YR AUTONOMY SERVICES (Qty20+)",60479.999999999993,10281.599999999999,null,30]
["T7AMR","A","T7AMR(3) ",25200,"3YR AUTONOMY SERVICES",25200,0,null,31]
["T7AMR","A","T7AMR(5) ",42000,"5YR AUTONOMY SERVICES",42000,0,null,32]
["T7AMR","A","T7AMREDU5 1-4",42000,"5YR AUTONOMY SERVICES ED&H(Qty1-4)",42000,0,null,33]
["T7AMR","B","T7AMREDU5 5-9",40740,"5YR AUTONOMY SERVICES ED&H(Qty5-9)",42000,{"$f":"SUM(D$34-D35)","v":1260},null,34]
["T7AMR","B","T7AMREDU5 10-19",37380,"5YR AUTONOMY SERVICES ED&H(Qty10-19)",42000,{"$f":"SUM(D$34-D36)","v":4620},null,35]
["T7AMR","C","T7AMREDU5 20",34860,"5YR AUTONOMY SERVICES ED&H(Qty20+)",42000,7140,null,36]
["T7AMR","A","T7AMRBR5 1-9",42000,"5YR AUTONOMY SERVICES B&R(Qty1-9)",42000,0,null,37]
["T7AMR","B","T7AMRBR5 10-49",40740,"5YR AUTONOMY SERVICES B&R(Qty10-49)",42000,{"$f":"SUM(D$38-D39)","v":1260},null,38]
["T7AMR","B","T7AMRBR5 50-99",37380,"5YR AUTONOMY SERVICES B&R(Qty50-99)",42000,{"$f":"SUM(D$38-D40)","v":4620},null,39]
["T7AMR","C","T7AMRBR5 100",34860,"5YR AUTONOMY SERVICES B&R(Qty100+)",42000,7140,null,40]
["T380AMR","A","T380AMR(3)",20160,"3YR AUTONOMY SERVICES",20160,0,null,41]
["T380AMR","A","T380AMR(5)",33600,"5YR AUTONOMY SERVICES",33600,0,null,42]
["T380AMR","A","T380AMREDU5 1-4",33600,"5YR AUTONOMY SERVICES ED&H(Qty1-4)",33600,0,null,43]
["T380AMR","B","T380AMREDU5 5-9",32591.999999999996,"5YR AUTONOMY SERVICES ED&H(Qty5-9)",33600,{"$f":"SUM(D$44-D45)","v":1008.0000000000036},null,44]
["T380AMR","B","T380AMREDU5 10-19",29903.999999999996,"5YR AUTONOMY SERVICES ED&H(Qty10-19)",33600,{"$f":"SUM(D$44-D46)","v":3696.0000000000036},null,45]
["T380AMR","C","T380AMREDU5 20",27888,"5YR AUTONOMY SERVICES ED&H(Qty20+)",33600,5712,null,46]
["T380AMR","A","T380AMRBR5 1-9",33600,"5YR AUTONOMY SERVICES B&R(Qty1-9)",33600,0,null,47]
["T380AMR","B","T380AMRBR5 10-49",32591.999999999996,"5YR AUTONOMY SERVICES B&R(Qty10-49)",33600,{"$f":"SUM(D$48-D49)","v":1008.0000000000036},null,48]
["T380AMR","B","T380AMRBR5 50-99",29903.999999999996,"5YR AUTONOMY SERVICES B&R(Qty50-99)",33600,{"$f":"SUM(D$48-D50)","v":3696.0000000000036},null,49]
["T380AMR","C","T380AMRBR5 100",27888,"5YR AUTONOMY SERVICES B&R(Qty100+)",33600,5712,null,50]
["M_X6ROVR","A","X6ROVR(3)",19152,"3YR AUTONOMY SERVICES",19152,0]
["M_X6ROVR","A","X6ROVR5 1-4",31920,"5YR AUTONOMY SERVICES (Qty1-4)",31920,0]
["M_X6ROVR","B","X6ROVR5 5-9",31122,"5YR AUTONOMY SERVICES (Qty5-9)",31920,{"$f":"SUM(D$53-D54)","v":798}]
["M_X6ROVR","B","X6ROVR5 10-24",30324,"5YR AUTONOMY SERVICES (Qty10-24)",31920,1596]
["M_X6ROVR","B","X6ROVR5 25-74",28728,"5YR AUTONOMY SERVICES (Qty25-74)",31920,3192]
["M_X6ROVR","B","X6ROVR5 75-149",27132,"5YR AUTONOMY SERVICES (Qty 75-149)",31920,4788]
["M_X6ROVR","B","X6ROVR5 150-299",23940,"5YR AUTONOMY SERVICES (Qty 150-299)",31920,7980]
["M_X6ROVR","C","X6ROVR5 300",19152,"5YR AUTONOMY SERVICES (Qty300+)",31920,12768]

{"sheet":"Specialty","index":7,"n_rows":190,"n_cols":16,"rows_kept":190,"cut":false,"hidden":false,"merged":[[144,0,144,1],[144,2,144,5],[145,0,145,1],[145,2,145,5],[147,4,147,6],[143,2,143,5],[149,2,149,5],[150,2,150,5],[151,2,151,5],[160,4,160,5],[139,0,139,1],[139,2,139,5],[141,0,141,1],[141,2,141,5],[142,0,142,1],[142,2,142,5],[136,0,136,1],[136,2,136,5],[137,2,137,5],[138,0,138,1],[138,2,138,5],[114,2,114,6],[133,4,133,6],[135,0,135,1],[135,2,135,5],[99,3,99,4],[99,5,99,6],[100,3,100,4],[100,5,100,6],[101,3,101,4],[101,5,101,6],[105,3,105,4],[105,5,105,6],[102,3,102,4],[102,5,102,6],[103,3,103,4],[103,5,103,6],[0,2,0,3],[1,2,1,3],[2,2,2,3],[3,2,3,3],[79,3,79,4],[104,3,104,4],[104,5,104,6],[77,3,77,4],[77,5,77,6],[79,5,79,6],[92,4,92,8],[94,3,94,6],[96,3,96,4],[97,3,97,4]]}
["Specialty",null,{"$f":"Start_Here!$C19","v":"Company Name"}]
[{"$f":"SUM(G72)","v":0},null,{"$f":"Start_Here!$C20","v":"Address"}]
[null,null,{"$f":"Start_Here!$C21","v":"City, State Zip"}]
[null,null,{"$f":"Start_Here!$C22","v":"Contact Name"}]
[null,null,{"$f":"Start_Here!$C$41","v":"Rep Name"}]
[null,null,{"$f":"Start_Here!$C$37","v":"Tennant Sales and Service Company"}]
[null,null,{"$f":"Start_Here!$C$38","v":"10400 Clean Street"}]
[null,null,{"$f":"Start_Here!$C$39","v":"Eden Prairie, MN 55344"}]
[null,null,{"$f":"Start_Here!$C$43","v":"800-553-8033"},null,"Quote Date :",null,{"$f":"Letter!$A$25","v":"2014-10-02"}]
[]
[null,null,{"$f":"Help!C2","v":"CAN Date Rev - 5/6/2025"}]
[]
[]
[]
[null,null,"EXCLUSIVE FACTORY-DIRECT WARRANTY",null,"                Quote Request Information"]
[null,null,"BLOWER",null,null,null,"Fax (quote only)"]
[null,null,"12 MONTHS ON PARTS / LABOR (Blower)",null,null,null,"Mail (quote,lit, specs)"]
[null,null,"ASC15",null,null,null,"Fax + Mail"]
[null,null,"36 MONTHS"]
[null,null,"36 MONTHS – LABOR",null,"                Primary Use"]
[null,null,"NO TRAVEL",null,null,null,"Inside"]
[null,null,null,null,null,null,"Outside"]
[]
[null,null,"Description","Reference No.","Canada Price","Qty.","Extended Price"]
[null,null,null,null,null,"*"]
[null,null,"Q12 Multi-Surface Cleaner",null,null,{"$f":"SUM(F32:F33)","v":0},null,null,null,null,null,{"$f":"SUM(F26)","v":0},"Surcharge Qty"]
[null,null,"15 gal (57 L) capacity, variable 400-1200 psi (27.6 to 83 bar), Hard Surface Turbo Tool option, 25 ft (8 m) vacuum and solution hoses, and two 40 ft (12 m) hospital grade safety yellow electrical cords. ",null,null,{"$f":"SUM(F26)","v":0},null,null,null,null,null,0,"Surcharge Qty"]
[null,null,"ETL (US/C) certified to UL & CSA Standards. ",null,null,{"$f":"SUM(F27)","v":0},null,null,null,null,null,0,"Surcharge Qty"]
[null,null,"Boxed Dimensions:  28.5 in x 38 in x 55 in (724 mm x 965 mm x 1397 mm)",null,null,{"$f":"SUM(F28)","v":0},null,null,null,null,null,0,"Surcharge Qty"]
[null,null,"Shipping Weight:  205 lb (93 kg)",null,null,{"$f":"SUM(F29)","v":0},null,null,null,null,null,0,"Surcharge Qty"]
[null,null,null,null,null,null,null,null,null,null,null,0,"Surcharge Qty"]
[null,null,"Q12, 400-1200 psi (27.6 to 83 bar) Multi-Surface Cleaner w/ vacuum and solution hoses.",1072856,16728,null,{"$f":"F32*E32","v":0},{"$f":"IFERROR(IFERROR(VLOOKUP(D32,Surcharge!A:B,2,FALSE)*F32, VLOOKUP(D32 & \"\",Surcharge!A:B,2,FALSE)*F32), \"\")","v":""},null,null,null,0,"Surcharge Qty",null,null,{"$f":"VLOOKUP(D32,'MPF SAP Canada Pre-Configured'!C:E,3,FALSE)","v":15633}]
[null,null,"Q12, 400-1200 psi (27.6 to 83 bar) Multi-Surface Cleaner w/ hard surface turbo tool, vacuum, and solution hoses.",9011458,20401,null,{"$f":"F33*E33","v":0},{"$f":"IFERROR(IFERROR(VLOOKUP(D33,Surcharge!A:B,2,FALSE)*F33, VLOOKUP(D33 & \"\",Surcharge!A:B,2,FALSE)*F33), \"\")","v":""},null,null,null,0,"Surcharge Qty",null,null,{"$f":"VLOOKUP(D33,'MPF SAP Canada Pre-Configured'!C:E,3,FALSE)","v":19066}]
[null,null,null,null,null,null,null,{"$f":"IFERROR(IFERROR(VLOOKUP(D34,Surcharge!A:B,2,FALSE)*F34, VLOOKUP(D34 & \"\",Surcharge!A:B,2,FALSE)*F34), \"\")","v":""},null,null,null,0,"Surcharge Qty"]
[null,null,null,null,null,null,null,{"$f":"IFERROR(IFERROR(VLOOKUP(D35,Surcharge!A:B,2,FALSE)*F35, VLOOKUP(D35 & \"\",Surcharge!A:B,2,FALSE)*F35), \"\")","v":""}]
[null,null,null,null,null,{"$f":"SUM(F37)","v":0},null,{"$f":"IFERROR(IFERROR(VLOOKUP(D36,Surcharge!A:B,2,FALSE)*F36, VLOOKUP(D36 & \"\",Surcharge!A:B,2,FALSE)*F36), \"\")","v":""}]
[null,null,"ASC-15  All Surface Cleaner ",9007449,9698,null,{"$f":"F37*E37","v":0},{"$f":"IFERROR(IFERROR(VLOOKUP(D37,Surcharge!A:B,2,FALSE)*F37, VLOOKUP(D37 & \"\",Surcharge!A:B,2,FALSE)*F37), \"\")","v":""},null,null,null,null,null,null,null,{"$f":"VLOOKUP(D37,'MPF SAP Canada Pre-Configured'!C:E,3,FALSE)","v":9063}]
[null,null,"15-gal. (57L) solution capacity 19-gal. (72L) recovery capacity.  Includes double-bend telescopic aluminum wand, 25-ft. (7.6m) recovery hose, scrub brush, standard 6-ft. (1.8m) to 25-ft. (7.6m) expandable blower hose, 25-ft. (7.6m) high pressure hose with variable pressure gun, floor squeegee tool, hand squeegee tool, blower tool, gulper floor drain tool, fill hose and metering tip packet with 3 different dilution ratio tips.  ",null,null,{"$f":"SUM(F37)","v":0},null,{"$f":"IFERROR(IFERROR(VLOOKUP(D38,Surcharge!A:B,2,FALSE)*F38, VLOOKUP(D38 & \"\",Surcharge!A:B,2,FALSE)*F38), \"\")","v":""}]
[null,null,"Boxed dimensions:  45L x 22.25W x 42H (1143mm x 565mm x 1067mm)",null,null,{"$f":"SUM(F38)","v":0},null,{"$f":"IFERROR(IFERROR(VLOOKUP(D39,Surcharge!A:B,2,FALSE)*F39, VLOOKUP(D39 & \"\",Surcharge!A:B,2,FALSE)*F39), \"\")","v":""}]
[null,null,"Shipping Weight: 190 lbs. (86 kg) / Cu. Ft.: 19 (Cu.M. .54)",null,null,{"$f":"SUM(F39)","v":0},null,{"$f":"IFERROR(IFERROR(VLOOKUP(D40,Surcharge!A:B,2,FALSE)*F40, VLOOKUP(D40 & \"\",Surcharge!A:B,2,FALSE)*F40), \"\")","v":""}]
[null,null,null,null,null,null,null,{"$f":"IFERROR(IFERROR(VLOOKUP(D41,Surcharge!A:B,2,FALSE)*F41, VLOOKUP(D41 & \"\",Surcharge!A:B,2,FALSE)*F41), \"\")","v":""}]
[null,null,null,null,null,null,null,{"$f":"IFERROR(IFERROR(VLOOKUP(D42,Surcharge!A:B,2,FALSE)*F42, VLOOKUP(D42 & \"\",Surcharge!A:B,2,FALSE)*F42), \"\")","v":""}]
[null,null,null,null,null,{"$f":"SUM(F44)","v":0},null,{"$f":"IFERROR(IFERROR(VLOOKUP(D43,Surcharge!A:B,2,FALSE)*F43, VLOOKUP(D43 & \"\",Surcharge!A:B,2,FALSE)*F43), \"\")","v":""}]
[null,null,"Blower - Three-speed Air Mover",9014819,587,null,{"$f":"F44*E44","v":0},{"$f":"IFERROR(IFERROR(VLOOKUP(D44,Surcharge!A:B,2,FALSE)*F44, VLOOKUP(D44 & \"\",Surcharge!A:B,2,FALSE)*F44), \"\")","v":""},null,null,null,null,null,null,null,{"$f":"VLOOKUP(D44,'MPF SAP Canada Pre-Configured'!C:E,3,FALSE)","v":587}]
[null,null,"1/2 Horsepower, Three speeds, Stackable, Rotomolded durability.",null,null,{"$f":"SUM(F44)","v":0}]
[null,null,"ETL-certified to UL & CSA Standards.",null,null,{"$f":"SUM(F45)","v":0}]
[null,null,"Boxed dimensions:  20.5L x 17.75W x 22.5H (521mm x 451mmx 572mm)  *",null,null,{"$f":"SUM(F46)","v":0}]
[null,null,"Shipping Weight: 37.3 lbs.",null,null,{"$f":"SUM(F47)","v":0}]
[]
[]
[null,"Custom Solution--write in description, qty, price, and PN if applicable",null,null,null,{"$f":"SUM(F52)","v":0}]
[null,null,null,null,"Insert Prices Here",{"$f":"SUM(F53:F56)","v":0}]
[null,null,null,"Custom",null,{"$f":"IF(E53 <> \"\", 1, 0)","v":0},{"$f":"F53*E53","v":0}]
[null,null,null,"Custom",null,{"$f":"IF(E54 <> \"\", 1, 0)","v":0},{"$f":"F54*E54","v":0}]
[null,null,null,"Custom",null,{"$f":"IF(E55 <> \"\", 1, 0)","v":0},{"$f":"F55*E55","v":0}]
[null,null,null,"Custom",null,{"$f":"IF(E56 <> \"\", 1, 0)","v":0},{"$f":"F56*E56","v":0}]
[null,null,null,null,{"$f":"ROUND(SUM(G25:G56), 0)","v":0},{"$f":"SUM(E58)","v":0}]
[null,null,null,"Machine Subtotal ",{"$f":"ROUND(SUM(G25:G56), 0)","v":0},{"$f":"F57","v":0}]
[null,"Discounts",null,null,null,{"$f":"SUM(F60)","v":0}]
[null,null,null,null,null,{"$f":"SUM(F62:F65)","v":0}]
[null,null,null,"Applicable Currency Adj %",null,{"$f":"IF(E61 <> \"\", 1, 0)","v":0},{"$f":"IF(F61*(E61*0.01)*E57 < 0, F61*(E61*0.01)*E57, -(F61*(E61*0.01)*E57))","v":0}]
[null,null,null,"Discount %",null,{"$f":"IF(E62 <> \"\", 1, 0)","v":0},{"$f":"IF(F62*(E62*0.01)*(E57+G61) < 0, F62*(E62*0.01)*(E57+G61), -(F62*(E62*0.01)*(E57+G61)))","v":0}]
[null,null,null,"Discount $",null,{"$f":"IF(E63 <> \"\", 1, 0)","v":0},{"$f":"IF(F63*E63 < 0, F63*E63, -(F63*E63))","v":0}]
[null,null,null,"Discount $",null,{"$f":"IF(E64 <> \"\", 1, 0)","v":0},{"$f":"IF(F64*E64 < 0, F64*E64, -(F64*E64))","v":0}]
[null,null,null,"Discount $",null,{"$f":"IF(E65 <> \"\", 1, 0)","v":0},{"$f":"IF(F65*E65 < 0, F65*E65, -(F65*E65))","v":0}]
[null,null,null,"Discount Total ",{"$f":"SUM(G61:G65)","v":0},{"$f":"SUM(E66)","v":0}]
[null,null,null,null,null,{"$f":"#REF!","v":{"$error":"#REF!"}}]
[]
[null,null,"Prepaid and Add","Freight",null,{"$f":"IF(E69 <> \"\", 1, 0)","v":0},{"$f":"F69*E69","v":0}]
[null,null,"Subject to all applicable taxes","Tax",null,{"$f":"IF(E70 <> \"\", 1, 0)","v":0},{"$f":"F70*E70","v":0}]
[null,null,null,null,null,{"$f":"SUM(F72)","v":0}]
[null,null,null,"MACHINE TOTAL*",null,{"$f":"SUM(G72)","v":0},{"$f":"SUM(G25:G70)","v":0},null,null,null,null,null,null,"This goes to \"My Documents\""]
[null,null,null,null,null,null,{"$f":"SUM(G72)","v":0}]
[]
[]
[]
[]
[null,null,"First Western Equipment Finance - Leasing Calculation Option:","Option 1",null,"Option 2",null,null,null,{"$f":"Financing!A38","v":"Rates 2025 - Rev 2/4/2025"}]
[null,null,null,"Monthly Payment","Cost Per Day","Monthly Payment","Cost Per Day",null,null,{"$f":"Financing!A39","v":"“Blank Payment Amounts Indicate The Financing Option Or Purchase Options Selected Are Not "}]
[null,null,"Purchase Option:","FWEF:  $1 Buyout Lease",null,"FWEF: Municipal Lease",null,null,null,{"$f":"Financing!A40","v":"Applicable Or The Machine Total Is Below The Minimum Amount For The Selected Vendor”"}]
[null,null,"24 Months",false,0,false,0,null,null,{"$f":"Financing!A41","v":"\"Quoted monthly payments are estimates only and are based on a certain level of credit rating."}]
[null,null,"30 Months",false,0,false,0,null,null,{"$f":"Financing!A42","v":"Actual monthly payments may be higher depending on your credit rating.\""}]
[null,null,"36 Months",false,0,false,0,null,null,{"$f":"Financing!A43","v":"“Financing rates do not include Pre-Paid Service”"}]
[null,null,"48 Months",0,0,0,0,null,{"$f":"Financing!A44","v":0},{"$f":"Financing!A44","v":0}]
[]
[null,null,null,"Benefits of Equipment Financing:"]
[null,null,null,"• Spreads out investment over time.",null,"• Keep current with latest technology."]
[null,null,null,"• Preserve capital.",null,"• Service and parts bundling available."]
[null,null,null,"• Low monthly payment.",null,"• Pay for labor savings as you go."]
[]
[null,"   TennantTrue",null,null,0,0]
[]
[null,null,"Is customer interested in service program?","Yes","*State/County selection required for TennantTrue service options"]
[]
[null,null,"If not, why?"]
[]
[null,null,"Term:",36,null,null,"AB Brushes","No"]
[null,null,"Monthly machine usage (hrs):","< 30/mo. (Avg. 1hr./day)"]
[]
[null,null,"TennantTrue: ","Gold Contract",null,"Silver Contract"]
[null,null,"Per Visit"]
[null,null,"Monthly"]
[null,null,"Annually"]
[null,null,"Pre-Pay Full Term"]
[null,null,"Hourly Labor Rate"]
[null,null,"Site Visit"]
[]
[null,null,"* Verify customer current pricing prior to quote. "]
[null,null,"**All rates and fees above reflect service for one (1) unit with the exception of Block of Time service."]
[null,null,"*Block of Time is available in 1 Year Term only and is priced as such no matter the term selection on this template."]
[]
[]
[]
[null,null,"Quote Special Instructions:"]
[]
[]
[null,null,{"$f":"Start_Here!E36","v":"Terms and Conditions"}]
[null,null,{"$f":"Start_Here!E37","v":"Ask your local sales rep for estimated lead times. Verify when placing order"}]
[null,null,{"$f":"Start_Here!E38","v":"All orders subject to acceptance by Tennant Sales and Service Company, Minneapolis, Minnesota"}]
[null,null,{"$f":"Start_Here!E39","v":"Prices subject to change without notice. Subject to any applicable taxes."}]
[null,null,{"$f":"Start_Here!E40","v":"Terms:  Net 30 days.  Payable in Canadian Funds"}]
[null,null,{"$f":"Start_Here!E41","v":"Freight:  Accessories, parts, supplies, detergents, and floor coatings orders delivered DDP "}]
[null,null,{"$f":"Start_Here!E42","v":"shipping point Frt PPD.  Machine orders delivered DDP shipping point Frt PPD and add."}]
[null,null,{"$f":"Start_Here!E43","v":"Returned Merchandise is subject to a restocking fee."}]
[null,null,{"$f":"Start_Here!E45","v":"Printed General Terms and Conditions are also available upon request."}]
[null,null,{"$f":"Start_Here!E46","v":0}]
[]
[]
[null,null,null,null,"Quote Date :",null,{"$f":"Letter!$A$25","v":"2014-10-02"}]
["Order Placement Information:  To place your order, fill in PO# and customer signatures,"]
["call or fax to the numbers listed below. Customer Purchase Order is required."]
["If information is missing, orders will be entered and held until all information is received."]
[null,null,"Customer Number",null,"Cust Grp 3"]
[null,null,{"$f":"Start_Here!$C$25","v":0},null,{"$f":"Start_Here!$C$29","v":0}]
[null,null,{"$f":"Start_Here!$B$18","v":"Who Owns the Machine? (Sold-To Info) (Please Verify)"}]
["Company",null,{"$f":"Start_Here!$C$19","v":"Company Name"}]
["Address",null,{"$f":"Start_Here!$C$20","v":"Address"}]
[null,null,{"$f":"Start_Here!$C$21","v":"City, State Zip"}]
["Name",null,{"$f":"Start_Here!$C$22","v":"Contact Name"}]
["Phone",null,{"$f":"Start_Here!$C$23","v":"Contact Phone"}]
[null,null,{"$f":"Start_Here!$B$11","v":"Where is the Machine Being Shipped? (Ship-To Info) (Please Verify)"}]
["Company",null,{"$f":"Start_Here!$C$12","v":"Company Name"}]
["Address",null,{"$f":"Start_Here!$C$13","v":"Address"}]
[null,null,{"$f":"Start_Here!$C$14","v":"City, State Zip"}]
["Name",null,{"$f":"Start_Here!$C$15","v":"Contact Name"}]
["Phone",null,{"$f":"Start_Here!$C$16","v":"Contact Phone"}]
[null,null,{"$f":"Start_Here!$B$31","v":"Shipping / Carrier Instructions:"},null,"Order Special Instructions:"]
[null,null,{"$f":"Start_Here!$C$32","v":0}]
[]
[null,null,"Customer Purchase Order No."]
[null,null,"(please attach copy)"]
[]
[]
[null,null,"Tax Exempt",null,"Yes"]
[null,null,null,null,"No"]
[null,null,"If Yes, attach a copy of your exemption certificate."]
[]
[null,null,"Requested Delivery Date"]
[null,null,{"$f":"Start_Here!$C$28","v":0}]
[]
[null,null,{"$f":"Start_Here!$C$26","v":0},null,{"$f":"Start_Here!$C$27","v":0}]
[null,null,"Authorized Buyer (please print)",null,"Phone Number"]
[]
[]
[null,null,"Authorized Buyer Signature"]
[]
[null,null,{"$f":"Start_Here!$C$41","v":"Rep Name"}]
[null,null,"Tennant Representative"]
[]
["Specialized Maintenance Equipment"]
[{"$f":"Start_Here!$C$48","v":"TENNANT · 10400 Clean Street · Eden Prairie, MN 55344 ·"}]
[{"$f":"Start_Here!$C$49","v":" PHONE:800-553-8033 · FAX:763-513-2116"}]
[]
[null,"Special Information "]
[]
[]
[null,"1","Pre-Configured Machines cannot add or change options.  All units are packaged on a Skid w/Carton and will ship via LTL Carrier."]
[null,null,"When ordering, provide the reference number listed above.  Price does not include freight or tax.  Availability of units "]
[null,null,"and lead time may vary."]
[]
[null,"2","One pad driver comes standard with a T2."]
[]
[null,3,"Skid w/Carton, Stackable is the default packaging method and will be added to the configuration unless otherwise specified."]
[]
[null,4,"Machine Weights and dimensions","Skid w/Carton"]
[]
[null,null,"Weight (w/105AH battery)","331 lbs / 150 Kg"]
[null,null,"Length","47\" / 1200mm"]
[null,null,"Width","30\" / 750mm"]
[null,null,"Height","45\" / 1150mm"]

{"sheet":"i_mop_Lite","index":8,"n_rows":180,"n_cols":16,"rows_kept":180,"cut":false,"hidden":false,"merged":[[137,4,137,6],[139,2,139,5],[140,2,140,5],[141,2,141,5],[150,4,150,5],[135,0,135,1],[135,2,135,5],[127,2,127,5],[128,0,128,1],[128,2,128,5],[129,0,129,1],[129,2,129,5],[131,0,131,1],[131,2,131,5],[132,0,132,1],[132,2,132,5],[133,2,133,5],[134,0,134,1],[134,2,134,5],[104,2,104,6],[123,4,123,6],[125,0,125,1],[125,2,125,5],[126,0,126,1],[126,2,126,5],[93,3,93,4],[93,5,93,6],[94,3,94,4],[94,5,94,6],[95,3,95,4],[95,5,95,6],[90,3,90,4],[90,5,90,6],[91,3,91,4],[91,5,91,6],[92,3,92,4],[92,5,92,6],[82,4,82,8],[84,3,84,6],[86,3,86,4],[87,3,87,4],[89,3,89,4],[89,5,89,6],[67,3,67,4],[67,5,67,6],[69,3,69,4],[69,5,69,6],[0,2,0,3],[1,2,1,3],[2,2,2,3],[3,2,3,3]]}
["i_mop_Lite",null,{"$f":"Start_Here!$C19","v":"Company Name"}]
[{"$f":"SUM(G62)","v":0},null,{"$f":"Start_Here!$C20","v":"Address"}]
[null,null,{"$f":"Start_Here!$C21","v":"City, State Zip"}]
[null,null,{"$f":"Start_Here!$C22","v":"Contact Name"}]
[null,null,{"$f":"Start_Here!$C$41","v":"Rep Name"}]
[null,null,{"$f":"Start_Here!$C$37","v":"Tennant Sales and Service Company"}]
[null,null,{"$f":"Start_Here!$C$38","v":"10400 Clean Street"}]
[null,null,{"$f":"Start_Here!$C$39","v":"Eden Prairie, MN 55344"}]
[null,null,{"$f":"Start_Here!$C$43","v":"800-553-8033"},null,"Quote Date :",null,{"$f":"Letter!$A$25","v":"2014-10-02"}]
[]
[null,null,{"$f":"Help!C2","v":"CAN Date Rev - 5/6/2025"}]
[]
[null,null,"EXCLUSIVE FACTORY-DIRECT WARRANTY"]
[null,null,"12 MONTHS - PARTS"]
[null,null,"12 MONTHS LABOR"]
[null,null,"12 MONTHS BATTERY",null,"                Quote Request Information"]
[null,null,"90 DAYS – TRAVEL",null,null,null,"Fax (quote only)"]
[null,null,null,null,null,null,"Mail (quote,lit, specs)"]
[null,null,null,null,null,null,"Fax + Mail"]
[]
[null,null,null,null,"                Primary Use"]
[null,null,null,null,null,null,"Inside"]
[null,null,null,null,null,null,"Outside"]
[]
[null,null,"Description","Reference No.","Canada Price","Qty.","Extended Price"]
[null,null,null,null,null,"*"]
[null,null,"i-mop® Lite - Lithium-Ion Auto Disk Scrubber",1263271,6489,null,{"$f":"F27*E27","v":0},null,null,null,null,null,null,null,null,{"$f":"VLOOKUP(D27,'MPF SAP Canada Pre-Configured'!C:E,3,FALSE)","v":{"$error":"#N/A"}}]
[null,null,"14.1\" (37 cm) cleaning path.  Includes battery pack, removable .79 gal (3 L)  solution and 1.0 gal (4 L) recovery tank with ball float, battery safe guard switch, angle switch, charger w/ power cord, 2 medium blue brushes, squeegee, and multi-language operator manual.",null,null,{"$f":"SUM(F27)","v":0}]
[null,null,null,null,null,{"$f":"SUM(F28)","v":0}]
[null,null,"Boxed Dimensions:  48\" H x 15.7\" W  x 15\" L (1220 mm x 400 mm x 380 mm)",null,null,0]
[null,null,"Shipping Weight with Batteries:  46.4 lbs (21.0 kg)",null,null,0]
[]
[null,null,null,null,null,null,null,null,null,null,null,null,null,null,null,{"$f":"VLOOKUP(D33,'MPF SAP Canada Pre-Configured'!C:E,3,FALSE)","v":{"$error":"#N/A"}}]
[null,null,"i-mop® Lite - Lithium-Ion Auto Disk Scrubber + Extra Battery Pack",9022310,7859,null,{"$f":"F34*E34","v":0}]
[null,null,"14.1\" (37 cm) cleaning path.  Includes TWO battery packs, removable .79 gal (3 L)  solution and 1.0 gal (4 L) recovery tank with ball float, battery safe guard switch, angle switch, charger w/ power cord, 2 medium blue brushes, squeegee, and multi-language operator manual.",null,null,{"$f":"SUM(F34)","v":0}]
[null,null,null,null,null,{"$f":"SUM(F35)","v":0}]
[null,null,"Note: Batteries do not ship in machine box, but separately.",null,null,0]
[]
[null,null,null,null,null,null,null,{"$f":"IFERROR(IFERROR(VLOOKUP(D39,Surcharge!A:B,2,FALSE)*F39, VLOOKUP(D39 & \"\",Surcharge!A:B,2,FALSE)*F39), \"\")","v":""}]
[]
[null,"Custom Solution--write in description, qty, price, and PN if applicable",null,null,null,{"$f":"SUM(F42)","v":0}]
[null,null,null,null,"Insert Prices Here",{"$f":"SUM(F43:F46)","v":0}]
[null,null,null,"Custom",null,{"$f":"IF(E43 <> \"\", 1, 0)","v":0},{"$f":"F43*E43","v":0}]
[null,null,null,"Custom",null,{"$f":"IF(E44 <> \"\", 1, 0)","v":0},{"$f":"F44*E44","v":0}]
[null,null,null,"Custom",null,{"$f":"IF(E45 <> \"\", 1, 0)","v":0},{"$f":"F45*E45","v":0}]
[null,null,null,"Custom",null,{"$f":"IF(E46 <> \"\", 1, 0)","v":0},{"$f":"F46*E46","v":0}]
[null,null,null,null,{"$f":"ROUND(SUM(G27:G46), 0)","v":0},{"$f":"SUM(E48)","v":0}]
[null,null,null,"Machine Subtotal ",{"$f":"ROUND(SUM(G27:G46), 0)","v":0},{"$f":"F47","v":0}]
[null,"Discounts",null,null,null,{"$f":"SUM(F50)","v":0}]
[null,null,null,null,null,{"$f":"SUM(F52:F55)","v":0}]
[null,null,null,"Applicable Currency Adj %",null,{"$f":"IF(E51 <> \"\", 1, 0)","v":0},{"$f":"IF(F51*(E51*0.01)*E47 < 0, F51*(E51*0.01)*E47, -(F51*(E51*0.01)*E47))","v":0}]
[null,null,null,"Discount %",null,{"$f":"IF(E52 <> \"\", 1, 0)","v":0},{"$f":"IF(F52*(E52*0.01)*(E47+G51) < 0, F52*(E52*0.01)*(E47+G51), -(F52*(E52*0.01)*(E47+G51)))","v":0}]
[null,null,null,"Discount $",null,{"$f":"IF(E53 <> \"\", 1, 0)","v":0},{"$f":"IF(F53*E53 < 0, F53*E53, -(F53*E53))","v":0}]
[null,null,null,"Discount $",null,{"$f":"IF(E54 <> \"\", 1, 0)","v":0},{"$f":"IF(F54*E54 < 0, F54*E54, -(F54*E54))","v":0}]
[null,null,null,"Discount $",null,{"$f":"IF(E55 <> \"\", 1, 0)","v":0},{"$f":"IF(F55*E55 < 0, F55*E55, -(F55*E55))","v":0}]
[null,null,null,"Discount Total ",{"$f":"SUM(G51:G55)","v":0},{"$f":"SUM(E56)","v":0}]
[null,null,null,null,null,{"$f":"#REF!","v":{"$error":"#REF!"}}]
[null,null,null,null,null,{"$f":"F57","v":{"$error":"#REF!"}}]
[null,null,"Prepaid and Add","Freight",null,{"$f":"IF(E59 <> \"\", 1, 0)","v":0},{"$f":"F59*E59","v":0}]
[null,null,"Subject to all applicable taxes","Tax",null,{"$f":"IF(E60 <> \"\", 1, 0)","v":0},{"$f":"F60*E60","v":0}]
[null,null,null,null,null,{"$f":"SUM(F62)","v":0}]
[null,null,null,"MACHINE TOTAL*",null,{"$f":"SUM(G62)","v":0},{"$f":"SUM(G27:G60)","v":0},null,null,null,null,null,null,"This goes to \"My Documents\""]
[null,null,null,null,null,null,{"$f":"SUM(G62)","v":0}]
[]
[]
[]
[]
[null,null,"First Western Equipment Finance - Leasing Calculation Option:","Option 1",null,"Option 2",null,null,null,{"$f":"Financing!A38","v":"Rates 2025 - Rev 2/4/2025"}]
[null,null,null,"Monthly Payment","Cost Per Day","Monthly Payment","Cost Per Day",null,null,{"$f":"Financing!A39","v":"“Blank Payment Amounts Indicate The Financing Option Or Purchase Options Selected Are Not "}]
[null,null,"Purchase Option:","FWEF:  $1 Buyout Lease",null,"FWEF: Municipal Lease",null,null,null,{"$f":"Financing!A40","v":"Applicable Or The Machine Total Is Below The Minimum Amount For The Selected Vendor”"}]
[null,null,"24 Months",false,0,false,0,null,null,{"$f":"Financing!A41","v":"\"Quoted monthly payments are estimates only and are based on a certain level of credit rating."}]
[null,null,"30 Months",false,0,false,0,null,null,{"$f":"Financing!A42","v":"Actual monthly payments may be higher depending on your credit rating.\""}]
[null,null,"36 Months",false,0,false,0,null,null,{"$f":"Financing!A43","v":"“Financing rates do not include Pre-Paid Service”"}]
[null,null,"48 Months",0,0,0,0,null,{"$f":"Financing!A44","v":0}]
[]
[null,null,null,"Benefits of Equipment Financing:"]
[null,null,null,"• Spreads out investment over time.",null,"• Keep current with latest technology."]
[null,null,null,"• Preserve capital.",null,"• Service and parts bundling available."]
[null,null,null,"• Low monthly payment.",null,"• Pay for labor savings as you go."]
[]
[null,"   TennantTrue",null,null,0,0]
[]
[null,null,"Is customer interested in service program?","Yes","*State/County selection required for TennantTrue service options"]
[]
[null,null,"If not, why?"]
[]
[null,null,"Term:",36,null,null,"AB Brushes","No"]
[null,null,"Monthly machine usage (hrs):","< 30/mo. (Avg. 1hr./day)"]
[]
[null,null,"TennantTrue: ","Gold Contract",null,"Silver Contract"]
[null,null,"Per Visit"]
[null,null,"Monthly"]
[null,null,"Annually"]
[null,null,"Pre-Pay Full Term"]
[null,null,"Hourly Labor Rate"]
[null,null,"Site Visit"]
[]
[null,null,"* Verify customer current pricing prior to quote. "]
[null,null,"**All rates and fees above reflect service for one (1) unit with the exception of Block of Time service."]
[null,null,"*Block of Time is available in 1 Year Term only and is priced as such no matter the term selection on this template."]
[]
[]
[]
[null,null,"Quote Special Instructions:"]
[]
[]
[null,null,{"$f":"Start_Here!E36","v":"Terms and Conditions"}]
[null,null,{"$f":"Start_Here!E37","v":"Ask your local sales rep for estimated lead times. Verify when placing order"}]
[null,null,{"$f":"Start_Here!E38","v":"All orders subject to acceptance by Tennant Sales and Service Company, Minneapolis, Minnesota"}]
[null,null,{"$f":"Start_Here!E39","v":"Prices subject to change without notice. Subject to any applicable taxes."}]
[null,null,{"$f":"Start_Here!E40","v":"Terms:  Net 30 days.  Payable in Canadian Funds"}]
[null,null,{"$f":"Start_Here!E41","v":"Freight:  Accessories, parts, supplies, detergents, and floor coatings orders delivered DDP "}]
[null,null,{"$f":"Start_Here!E42","v":"shipping point Frt PPD.  Machine orders delivered DDP shipping point Frt PPD and add."}]
[null,null,{"$f":"Start_Here!E43","v":"Returned Merchandise is subject to a restocking fee."}]
[null,null,{"$f":"Start_Here!E45","v":"Printed General Terms and Conditions are also available upon request."}]
[null,null,{"$f":"Start_Here!E46","v":0}]
[]
[]
[null,null,null,null,"Quote Date :",null,{"$f":"Letter!$A$25","v":"2014-10-02"}]
["Order Placement Information:  To place your order, fill in PO# and customer signatures,"]
["call or fax to the numbers listed below. Customer Purchase Order is required."]
["If information is missing, orders will be entered and held until all information is received."]
[null,null,"Customer Number",null,"Cust Grp 3"]
[null,null,{"$f":"Start_Here!$C$25","v":0},null,{"$f":"Start_Here!$C$29","v":0}]
[null,null,{"$f":"Start_Here!$B$18","v":"Who Owns the Machine? (Sold-To Info) (Please Verify)"}]
["Company",null,{"$f":"Start_Here!$C$19","v":"Company Name"}]
["Address",null,{"$f":"Start_Here!$C$20","v":"Address"}]
[null,null,{"$f":"Start_Here!$C$21","v":"City, State Zip"}]
["Name",null,{"$f":"Start_Here!$C$22","v":"Contact Name"}]
["Phone",null,{"$f":"Start_Here!$C$23","v":"Contact Phone"}]
[null,null,{"$f":"Start_Here!$B$11","v":"Where is the Machine Being Shipped? (Ship-To Info) (Please Verify)"}]
["Company",null,{"$f":"Start_Here!$C$12","v":"Company Name"}]
["Address",null,{"$f":"Start_Here!$C$13","v":"Address"}]
[null,null,{"$f":"Start_Here!$C$14","v":"City, State Zip"}]
["Name",null,{"$f":"Start_Here!$C$15","v":"Contact Name"}]
["Phone",null,{"$f":"Start_Here!$C$16","v":"Contact Phone"}]
[null,null,{"$f":"Start_Here!$B$31","v":"Shipping / Carrier Instructions:"},null,"Order Special Instructions:"]
[null,null,{"$f":"Start_Here!$C$32","v":0}]
[]
[null,null,"Customer Purchase Order No."]
[null,null,"(please attach copy)"]
[]
[]
[null,null,"Tax Exempt",null,"Yes"]
[null,null,null,null,"No"]
[null,null,"If Yes, attach a copy of your exemption certificate."]
[]
[null,null,"Requested Delivery Date"]
[null,null,{"$f":"Start_Here!$C$28","v":0}]
[]
[null,null,{"$f":"Start_Here!$C$26","v":0},null,{"$f":"Start_Here!$C$27","v":0}]
[null,null,"Authorized Buyer (please print)",null,"Phone Number"]
[]
[]
[null,null,"Authorized Buyer Signature"]
[]
[null,null,{"$f":"Start_Here!$C$41","v":"Rep Name"}]
[null,null,"Tennant Representative"]
[]
["Specialized Maintenance Equipment"]
[{"$f":"Start_Here!$C$48","v":"TENNANT · 10400 Clean Street · Eden Prairie, MN 55344 ·"}]
[{"$f":"Start_Here!$C$49","v":" PHONE:800-553-8033 · FAX:763-513-2116"}]
[]
[null,"Special Information "]
[]
[]
[null,"1","Pre-Configured Machines cannot add or change options.  All units are packaged on a Skid w/Carton and will ship via LTL Carrier."]
[null,null,"When ordering, provide the reference number listed above.  Price does not include freight or tax.  Availability of units "]
[null,null,"and lead time may vary."]
[]
[null,"2","One pad driver comes standard with a T2."]
[]
[null,3,"Skid w/Carton, Stackable is the default packaging method and will be added to the configuration unless otherwise specified."]
[]
[null,4,"Machine Weights and dimensions","Skid w/Carton"]
[]
[null,null,"Weight (w/105AH battery)","331 lbs / 150 Kg"]
[null,null,"Length","47\" / 1200mm"]
[null,null,"Width","30\" / 750mm"]
[null,null,"Height","45\" / 1150mm"]

{"sheet":"i_mop_XL","index":9,"n_rows":189,"n_cols":17,"rows_kept":189,"cut":false,"hidden":false,"merged":[[143,0,143,1],[143,2,143,5],[144,0,144,1],[144,2,144,5],[146,4,146,6],[142,2,142,5],[148,2,148,5],[149,2,149,5],[150,2,150,5],[159,4,159,5],[138,0,138,1],[138,2,138,5],[140,0,140,1],[140,2,140,5],[141,0,141,1],[141,2,141,5],[99,5,99,6],[113,2,113,6],[96,3,96,4],[136,2,136,5],[137,0,137,1],[137,2,137,5],[132,4,132,6],[134,0,134,1],[134,2,134,5],[135,0,135,1],[135,2,135,5],[30,2,30,3],[0,2,0,3],[1,2,1,3],[2,2,2,3],[3,2,3,3],[29,2,29,3],[76,3,76,4],[76,5,76,6],[78,3,78,4],[78,5,78,6],[41,2,41,3],[42,2,42,3],[91,4,91,8],[100,3,100,4],[100,5,100,6],[104,3,104,4],[104,5,104,6],[101,3,101,4],[101,5,101,6],[102,3,102,4],[102,5,102,6],[103,3,103,4],[103,5,103,6],[95,3,95,4],[98,3,98,4],[98,5,98,6],[99,3,99,4],[93,3,93,6]]}
["i_mop_XL",null,{"$f":"Start_Here!$C19","v":"Company Name"}]
[{"$f":"SUM(G71)","v":0},null,{"$f":"Start_Here!$C20","v":"Address"}]
[null,null,{"$f":"Start_Here!$C21","v":"City, State Zip"}]
[null,null,{"$f":"Start_Here!$C22","v":"Contact Name"}]
[null,null,{"$f":"Start_Here!$C$41","v":"Rep Name"}]
[null,null,{"$f":"Start_Here!$C$37","v":"Tennant Sales and Service Company"}]
[null,null,{"$f":"Start_Here!$C$38","v":"10400 Clean Street"}]
[null,null,{"$f":"Start_Here!$C$39","v":"Eden Prairie, MN 55344"}]
[null,null,{"$f":"Start_Here!$C$43","v":"800-553-8033"},null,"Quote Date :",null,{"$f":"Letter!$A$25","v":"2014-10-02"}]
[]
[null,null,{"$f":"Help!C2","v":"CAN Date Rev - 5/6/2025"}]
[]
[null,null,"EXCLUSIVE FACTORY-DIRECT WARRANTY"]
[null,null,"12 MONTHS - PARTS"]
[null,null,"12 MONTHS LABOR"]
[null,null,"12 MONTHS BATTERY",null,"                Quote Request Information"]
[null,null,"90 DAYS – TRAVEL",null,null,null,"Fax (quote only)"]
[null,null,null,null,null,null,"Mail (quote,lit, specs)"]
[null,null,null,null,null,null,"Fax + Mail"]
[]
[null,null,null,null,"                Primary Use"]
[null,null,null,null,null,null,"Inside"]
[null,null,null,null,null,null,"Outside"]
[]
[null,null,"Description","Reference No.","Canada Price","Qty.","Extended Price"]
[]
[null,null,"i-mop XL Plus Lithium-Ion Auto Disk Scrubber",1264254,8732,null,{"$f":"F27*E27","v":0},{"$f":"IFERROR(IFERROR(VLOOKUP(D27,Surcharge!A:B,2,FALSE)*F27, VLOOKUP(D27 & \"\",Surcharge!A:B,2,FALSE)*F27), \"\")","v":""},null,null,null,null,null,null,null,null,{"$f":"VLOOKUP(D27,'MPF SAP Canada Pre-Configured'!$C:$E,3,FALSE)","v":{"$error":"#N/A"}}]
[null,null,"18.1\" (46 cm) cleaning path.  Includes white batteries, removable 1 gal (4 L)  solution and 1.5 gal (6 L) recovery tank with ball float, battery safe guard switch, angle switch & i-Balance lever, removable splash guards, XL Plus charger w/ power cord, 2 medium blue brushes, quick change squeegee assembly with Linatex blades, and multi-language operator manual.",null,null,{"$f":"SUM(F27)","v":0},null,{"$f":"IFERROR(IFERROR(VLOOKUP(D28,Surcharge!A:B,2,FALSE)*F28, VLOOKUP(D28 & \"\",Surcharge!A:B,2,FALSE)*F28), \"\")","v":""}]
[null,null,null,null,null,{"$f":"SUM(F28)","v":0},null,{"$f":"IFERROR(IFERROR(VLOOKUP(D29,Surcharge!A:B,2,FALSE)*F29, VLOOKUP(D29 & \"\",Surcharge!A:B,2,FALSE)*F29), \"\")","v":""}]
[null,null,"Boxed Dimensions:  49.6\" H x 22.4\" W  x 14.6\" L (1260 mm x 570 mm x 370 mm)",null,null,0,null,{"$f":"IFERROR(IFERROR(VLOOKUP(D30,Surcharge!A:B,2,FALSE)*F30, VLOOKUP(D30 & \"\",Surcharge!A:B,2,FALSE)*F30), \"\")","v":""}]
[null,null,"Shipping Weight with Batteries:  77.2 lbs (35 kg)",null,null,0,null,{"$f":"IFERROR(IFERROR(VLOOKUP(D31,Surcharge!A:B,2,FALSE)*F31, VLOOKUP(D31 & \"\",Surcharge!A:B,2,FALSE)*F31), \"\")","v":""}]
[null,null,null,null,null,null,null,{"$f":"IFERROR(IFERROR(VLOOKUP(D32,Surcharge!A:B,2,FALSE)*F32, VLOOKUP(D32 & \"\",Surcharge!A:B,2,FALSE)*F32), \"\")","v":""}]
[null,null,"i-mop XL Plus Lithium-Ion Auto Disk Scrubber + 2 Sets of Batteries",9022386,10445,null,{"$f":"F33*E33","v":0},{"$f":"IFERROR(IFERROR(VLOOKUP(D33,Surcharge!A:B,2,FALSE)*F33, VLOOKUP(D33 & \"\",Surcharge!A:B,2,FALSE)*F33), \"\")","v":""},null,null,null,null,null,null,null,null,{"$f":"VLOOKUP(D33,'MPF SAP Canada Pre-Configured'!$C:$E,3,FALSE)","v":{"$error":"#N/A"}}]
[null,null,"18.1\" (46 cm) cleaning path.  Includes i-mop XL Plus (1264254) with white battery and charger, as well as a second set of spare white batteries (two sets in total).",null,null,{"$f":"SUM(F33)","v":0},null,{"$f":"IFERROR(IFERROR(VLOOKUP(D34,Surcharge!A:B,2,FALSE)*F34, VLOOKUP(D34 & \"\",Surcharge!A:B,2,FALSE)*F34), \"\")","v":""}]
[null,null,null,null,null,{"$f":"SUM(F34)","v":0},null,{"$f":"IFERROR(IFERROR(VLOOKUP(D35,Surcharge!A:B,2,FALSE)*F35, VLOOKUP(D35 & \"\",Surcharge!A:B,2,FALSE)*F35), \"\")","v":""}]
[null,null,"Note: Batteries do not ship in the machine box, but separately.",null,null,0,null,{"$f":"IFERROR(IFERROR(VLOOKUP(D36,Surcharge!A:B,2,FALSE)*F36, VLOOKUP(D36 & \"\",Surcharge!A:B,2,FALSE)*F36), \"\")","v":""}]
[null,null,null,null,null,null,null,{"$f":"IFERROR(IFERROR(VLOOKUP(D37,Surcharge!A:B,2,FALSE)*F37, VLOOKUP(D37 & \"\",Surcharge!A:B,2,FALSE)*F37), \"\")","v":""}]
[null,null,null,null,null,null,null,{"$f":"IFERROR(IFERROR(VLOOKUP(D38,Surcharge!A:B,2,FALSE)*F38, VLOOKUP(D38 & \"\",Surcharge!A:B,2,FALSE)*F38), \"\")","v":""}]
[null,null,"iCart L Integrated Work Cart",1232057,3008.6,null,{"$f":"F39*E39","v":0},{"$f":"IFERROR(IFERROR(VLOOKUP(D39,Surcharge!A:B,2,FALSE)*F39, VLOOKUP(D39 & \"\",Surcharge!A:B,2,FALSE)*F39), \"\")","v":""},null,null,null,null,null,null,null,null,{"$f":"VLOOKUP(D39,'MPF SAP Canada Pre-Configured'!$C:$E,3,FALSE)","v":2756}]
[null,null,"Transports the i-mop XL, includes ramp, and has storage.  i-mop XL only.",null,null,{"$f":"SUM(F39)","v":0},null,{"$f":"IFERROR(IFERROR(VLOOKUP(D40,Surcharge!A:B,2,FALSE)*F40, VLOOKUP(D40 & \"\",Surcharge!A:B,2,FALSE)*F40), \"\")","v":""}]
[null,null,null,null,null,{"$f":"SUM(F40)","v":0},null,{"$f":"IFERROR(IFERROR(VLOOKUP(D41,Surcharge!A:B,2,FALSE)*F41, VLOOKUP(D41 & \"\",Surcharge!A:B,2,FALSE)*F41), \"\")","v":""}]
[null,null,"Boxed Dimensions:  42.5\" x 34.6\" x 25.2\" (1080 mm x 880 mm x 640 mm)",null,null,0,null,{"$f":"IFERROR(IFERROR(VLOOKUP(D42,Surcharge!A:B,2,FALSE)*F42, VLOOKUP(D42 & \"\",Surcharge!A:B,2,FALSE)*F42), \"\")","v":""}]
[null,null,"Shipping Weight:   132.2 lbs (60 kg)",null,null,0,null,{"$f":"IFERROR(IFERROR(VLOOKUP(D43,Surcharge!A:B,2,FALSE)*F43, VLOOKUP(D43 & \"\",Surcharge!A:B,2,FALSE)*F43), \"\")","v":""}]
[null,null,null,null,null,0,null,{"$f":"IFERROR(IFERROR(VLOOKUP(D44,Surcharge!A:B,2,FALSE)*F44, VLOOKUP(D44 & \"\",Surcharge!A:B,2,FALSE)*F44), \"\")","v":""}]
[null,null,"Cabinet Assy, Storage (iMop)",1233400,1929,null,{"$f":"F45*E45","v":0},{"$f":"IFERROR(IFERROR(VLOOKUP(D45,Surcharge!A:B,2,FALSE)*F45, VLOOKUP(D45 & \"\",Surcharge!A:B,2,FALSE)*F45), \"\")","v":""},null,null,null,null,null,null,null,null,{"$f":"VLOOKUP(D45,'MPF SAP Canada Pre-Configured'!$C:$E,3,FALSE)","v":1872}]
[null,null,"iMop Storage Cabinet",null,null,{"$f":"SUM(F45)","v":0},null,{"$f":"IFERROR(IFERROR(VLOOKUP(D46,Surcharge!A:B,2,FALSE)*F46, VLOOKUP(D46 & \"\",Surcharge!A:B,2,FALSE)*F46), \"\")","v":""}]
[null,null,null,null,null,null,null,{"$f":"IFERROR(IFERROR(VLOOKUP(D47,Surcharge!A:B,2,FALSE)*F47, VLOOKUP(D47 & \"\",Surcharge!A:B,2,FALSE)*F47), \"\")","v":""}]
[null,null,null,null,null,null,null,{"$f":"IFERROR(IFERROR(VLOOKUP(D48,Surcharge!A:B,2,FALSE)*F48, VLOOKUP(D48 & \"\",Surcharge!A:B,2,FALSE)*F48), \"\")","v":""}]
[]
[null,"Custom Solution--write in description, qty, price, and PN if applicable",null,null,null,{"$f":"SUM(F51)","v":0}]
[null,null,null,null,"Insert Prices Here",{"$f":"SUM(F52:F55)","v":0}]
[null,null,null,"Custom",null,{"$f":"IF(E52 <> \"\", 1, 0)","v":0},{"$f":"F52*E52","v":0}]
[null,null,null,"Custom",null,{"$f":"IF(E53 <> \"\", 1, 0)","v":0},{"$f":"F53*E53","v":0}]
[null,null,null,"Custom",null,{"$f":"IF(E54 <> \"\", 1, 0)","v":0},{"$f":"F54*E54","v":0}]
[null,null,null,"Custom",null,{"$f":"IF(E55 <> \"\", 1, 0)","v":0},{"$f":"F55*E55","v":0}]
[null,null,null,null,{"$f":"ROUND(SUM(G26:G55), 0)","v":0},{"$f":"SUM(E57)","v":0}]
[null,null,null,"Machine Subtotal ",{"$f":"ROUND(SUM(G26:G55), 0)","v":0},{"$f":"F56","v":0}]
[null,"Discounts",null,null,null,{"$f":"SUM(F59)","v":0}]
[null,null,null,null,null,{"$f":"SUM(F61:F64)","v":0}]
[null,null,null,"Applicable Currency Adj %",null,{"$f":"IF(E60 <> \"\", 1, 0)","v":0},{"$f":"IF(F60*(E60*0.01)*E56 < 0, F60*(E60*0.01)*E56, -(F60*(E60*0.01)*E56))","v":0}]
[null,null,null,"Discount %",null,{"$f":"IF(E61 <> \"\", 1, 0)","v":0},{"$f":"IF(F61*(E61*0.01)*(E56+G60) < 0, F61*(E61*0.01)*(E56+G60), -(F61*(E61*0.01)*(E56+G60)))","v":0}]
[null,null,null,"Discount $",null,{"$f":"IF(E62 <> \"\", 1, 0)","v":0},{"$f":"IF(F62*E62 < 0, F62*E62, -(F62*E62))","v":0}]
[null,null,null,"Discount $",null,{"$f":"IF(E63 <> \"\", 1, 0)","v":0},{"$f":"IF(F63*E63 < 0, F63*E63, -(F63*E63))","v":0}]
[null,null,null,"Discount $",null,{"$f":"IF(E64 <> \"\", 1, 0)","v":0},{"$f":"IF(F64*E64 < 0, F64*E64, -(F64*E64))","v":0}]
[null,null,null,"Discount Total ",{"$f":"SUM(G60:G64)","v":0},{"$f":"SUM(E65)","v":0}]
[null,null,null,null,null,{"$f":"#REF!","v":{"$error":"#REF!"}}]
[null,null,null,null,null,{"$f":"F66","v":{"$error":"#REF!"}}]
[null,null,"Prepaid and Add","Freight",null,{"$f":"IF(E68 <> \"\", 1, 0)","v":0},{"$f":"F68*E68","v":0}]
[null,null,"Subject to all applicable taxes","Tax",null,{"$f":"IF(E69 <> \"\", 1, 0)","v":0},{"$f":"F69*E69","v":0}]
[null,null,null,null,null,{"$f":"SUM(F71)","v":0}]
[null,null,null,"MACHINE TOTAL*",null,{"$f":"SUM(G71)","v":0},{"$f":"SUM(G26:G69)","v":0},null,null,null,null,null,null,"This goes to \"My Documents\""]
[null,null,null,null,null,null,{"$f":"SUM(G71)","v":0}]
[]
[]
[]
[]
[null,null,"First Western Equipment Finance - Leasing Calculation Option:","Option 1",null,"Option 2",null,null,null,{"$f":"Financing!A38","v":"Rates 2025 - Rev 2/4/2025"}]
[null,null,null,"Monthly Payment","Cost Per Day","Monthly Payment","Cost Per Day",null,null,{"$f":"Financing!A39","v":"“Blank Payment Amounts Indicate The Financing Option Or Purchase Options Selected Are Not "}]
[null,null,"Purchase Option:","FWEF:  $1 Buyout Lease",null,"FWEF: Municipal Lease",null,null,null,{"$f":"Financing!A40","v":"Applicable Or The Machine Total Is Below The Minimum Amount For The Selected Vendor”"}]
[null,null,"24 Months",false,0,false,0,null,null,{"$f":"Financing!A41","v":"\"Quoted monthly payments are estimates only and are based on a certain level of credit rating."}]
[null,null,"30 Months",false,0,false,0,null,null,{"$f":"Financing!A42","v":"Actual monthly payments may be higher depending on your credit rating.\""}]
[null,null,"36 Months",false,0,false,0,null,null,{"$f":"Financing!A43","v":"“Financing rates do not include Pre-Paid Service”"}]
[null,null,"48 Months",0,0,0,0,null,{"$f":"Financing!A44","v":0}]
[]
[null,null,null,"Benefits of Equipment Financing:"]
[null,null,null,"• Spreads out investment over time.",null,"• Keep current with latest technology."]
[null,null,null,"• Preserve capital.",null,"• Service and parts bundling available."]
[null,null,null,"• Low monthly payment.",null,"• Pay for labor savings as you go."]
[]
[null,"   TennantTrue",null,null,0,0]
[]
[null,null,"Is customer interested in service program?","Yes","*State/County selection required for TennantTrue service options"]
[]
[null,null,"If not, why?"]
[]
[null,null,"Term:",36,null,null,"AB Brushes","No"]
[null,null,"Monthly machine usage (hrs):","< 30/mo. (Avg. 1hr./day)"]
[]
[null,null,"TennantTrue: ","Gold Contract",null,"Silver Contract"]
[null,null,"Per Visit"]
[null,null,"Monthly"]
[null,null,"Annually"]
[null,null,"Pre-Pay Full Term"]
[null,null,"Hourly Labor Rate"]
[null,null,"Site Visit"]
[]
[null,null,"* Verify customer current pricing prior to quote. "]
[null,null,"**All rates and fees above reflect service for one (1) unit with the exception of Block of Time service."]
[null,null,"*Block of Time is available in 1 Year Term only and is priced as such no matter the term selection on this template."]
[]
[]
[]
[null,null,"Quote Special Instructions:"]
[]
[]
[null,null,{"$f":"Start_Here!E36","v":"Terms and Conditions"}]
[null,null,{"$f":"Start_Here!E37","v":"Ask your local sales rep for estimated lead times. Verify when placing order"}]
[null,null,{"$f":"Start_Here!E38","v":"All orders subject to acceptance by Tennant Sales and Service Company, Minneapolis, Minnesota"}]
[null,null,{"$f":"Start_Here!E39","v":"Prices subject to change without notice. Subject to any applicable taxes."}]
[null,null,{"$f":"Start_Here!E40","v":"Terms:  Net 30 days.  Payable in Canadian Funds"}]
[null,null,{"$f":"Start_Here!E41","v":"Freight:  Accessories, parts, supplies, detergents, and floor coatings orders delivered DDP "}]
[null,null,{"$f":"Start_Here!E42","v":"shipping point Frt PPD.  Machine orders delivered DDP shipping point Frt PPD and add."}]
[null,null,{"$f":"Start_Here!E43","v":"Returned Merchandise is subject to a restocking fee."}]
[null,null,{"$f":"Start_Here!E45","v":"Printed General Terms and Conditions are also available upon request."}]
[null,null,{"$f":"Start_Here!E46","v":0}]
[]
[]
[null,null,null,null,"Quote Date :",null,{"$f":"Letter!$A$25","v":"2014-10-02"}]
["Order Placement Information:  To place your order, fill in PO# and customer signatures,"]
["call or fax to the numbers listed below. Customer Purchase Order is required."]
["If information is missing, orders will be entered and held until all information is received."]
[null,null,"Customer Number",null,"Cust Grp 3"]
[null,null,{"$f":"Start_Here!$C$25","v":0},null,{"$f":"Start_Here!$C$29","v":0}]
[null,null,{"$f":"Start_Here!$B$18","v":"Who Owns the Machine? (Sold-To Info) (Please Verify)"}]
["Company",null,{"$f":"Start_Here!$C$19","v":"Company Name"}]
["Address",null,{"$f":"Start_Here!$C$20","v":"Address"}]
[null,null,{"$f":"Start_Here!$C$21","v":"City, State Zip"}]
["Name",null,{"$f":"Start_Here!$C$22","v":"Contact Name"}]
["Phone",null,{"$f":"Start_Here!$C$23","v":"Contact Phone"}]
[null,null,{"$f":"Start_Here!$B$11","v":"Where is the Machine Being Shipped? (Ship-To Info) (Please Verify)"}]
["Company",null,{"$f":"Start_Here!$C$12","v":"Company Name"}]
["Address",null,{"$f":"Start_Here!$C$13","v":"Address"}]
[null,null,{"$f":"Start_Here!$C$14","v":"City, State Zip"}]
["Name",null,{"$f":"Start_Here!$C$15","v":"Contact Name"}]
["Phone",null,{"$f":"Start_Here!$C$16","v":"Contact Phone"}]
[null,null,{"$f":"Start_Here!$B$31","v":"Shipping / Carrier Instructions:"},null,"Order Special Instructions:"]
[null,null,{"$f":"Start_Here!$C$32","v":0}]
[]
[null,null,"Customer Purchase Order No."]
[null,null,"(please attach copy)"]
[]
[]
[null,null,"Tax Exempt",null,"Yes"]
[null,null,null,null,"No"]
[null,null,"If Yes, attach a copy of your exemption certificate."]
[]
[null,null,"Requested Delivery Date"]
[null,null,{"$f":"Start_Here!$C$28","v":0}]
[]
[null,null,{"$f":"Start_Here!$C$26","v":0},null,{"$f":"Start_Here!$C$27","v":0}]
[null,null,"Authorized Buyer (please print)",null,"Phone Number"]
[]
[]
[null,null,"Authorized Buyer Signature"]
[]
[null,null,{"$f":"Start_Here!$C$41","v":"Rep Name"}]
[null,null,"Tennant Representative"]
[]
["Specialized Maintenance Equipment"]
[{"$f":"Start_Here!$C$48","v":"TENNANT · 10400 Clean Street · Eden Prairie, MN 55344 ·"}]
[{"$f":"Start_Here!$C$49","v":" PHONE:800-553-8033 · FAX:763-513-2116"}]
[]
[null,"Special Information "]
[]
[]
[null,"1","Pre-Configured Machines cannot add or change options.  All units are packaged on a Skid w/Carton and will ship via LTL Carrier."]
[null,null,"When ordering, provide the reference number listed above.  Price does not include freight or tax.  Availability of units "]
[null,null,"and lead time may vary."]
[]
[null,"2","One pad driver comes standard with a T2."]
[]
[null,3,"Skid w/Carton, Stackable is the default packaging method and will be added to the configuration unless otherwise specified."]
[]
[null,4,"Machine Weights and dimensions","Skid w/Carton"]
[]
[null,null,"Weight (w/105AH battery)","331 lbs / 150 Kg"]
[null,null,"Length","47\" / 1200mm"]
[null,null,"Width","30\" / 750mm"]
[null,null,"Height","45\" / 1150mm"]

{"sheet":"i_mop_XXL","index":10,"n_rows":179,"n_cols":16,"rows_kept":179,"cut":false,"hidden":false,"merged":[[136,4,136,6],[138,2,138,5],[139,2,139,5],[140,2,140,5],[149,4,149,5],[103,2,103,6],[122,4,122,6],[124,0,124,1],[124,2,124,5],[125,0,125,1],[125,2,125,5],[134,0,134,1],[134,2,134,5],[126,2,126,5],[127,0,127,1],[127,2,127,5],[128,0,128,1],[128,2,128,5],[130,0,130,1],[130,2,130,5],[131,0,131,1],[131,2,131,5],[132,2,132,5],[133,0,133,1],[133,2,133,5],[89,3,89,4],[89,5,89,6],[90,3,90,4],[90,5,90,6],[91,3,91,4],[91,5,91,6],[86,3,86,4],[81,4,81,8],[83,3,83,6],[85,3,85,4],[88,3,88,4],[88,5,88,6],[66,3,66,4],[66,5,66,6],[68,3,68,4],[68,5,68,6],[0,2,0,3],[1,2,1,3],[2,2,2,3],[3,2,3,3],[29,2,29,3],[30,2,30,3],[35,2,35,3],[92,5,92,6],[93,3,93,4],[93,5,93,6],[94,3,94,4],[94,5,94,6],[92,3,92,4]]}
["i_mop_XXL",null,{"$f":"Start_Here!$C19","v":"Company Name"}]
[{"$f":"SUM(G61)","v":0},null,{"$f":"Start_Here!$C20","v":"Address"}]
[null,null,{"$f":"Start_Here!$C21","v":"City, State Zip"}]
[null,null,{"$f":"Start_Here!$C22","v":"Contact Name"}]
[null,null,{"$f":"Start_Here!$C$41","v":"Rep Name"}]
[null,null,{"$f":"Start_Here!$C$37","v":"Tennant Sales and Service Company"}]
[null,null,{"$f":"Start_Here!$C$38","v":"10400 Clean Street"}]
[null,null,{"$f":"Start_Here!$C$39","v":"Eden Prairie, MN 55344"}]
[null,null,{"$f":"Start_Here!$C$43","v":"800-553-8033"},null,"Quote Date :",null,{"$f":"Letter!$A$25","v":"2014-10-02"}]
[]
[null,null,{"$f":"Help!C2","v":"CAN Date Rev - 5/6/2025"}]
[]
[null,null,"EXCLUSIVE FACTORY-DIRECT WARRANTY"]
[null,null,"12 MONTHS - PARTS"]
[null,null,"12 MONTHS LABOR"]
[null,null,"12 MONTHS BATTERY",null,"                Quote Request Information"]
[null,null,"90 DAYS – TRAVEL",null,null,"_","Fax (quote only)"]
[null,null,null,null,null,null,"Mail (quote,lit, specs)"]
[null,null,null,null,null,null,"Fax + Mail"]
[]
[null,null,null,null,"                Primary Use"]
[null,null,null,null,null,null,"Inside"]
[null,null,null,null,null,null,"Outside"]
[]
[null,null,"Description","Reference No.","Canada Price","Qty.","Extended Price"]
[null,null,null,null,null,"*"]
[null,null,"i-mop XXL Plus Lithium-Ion Auto Disk Scrubber",1264255,11721,null,{"$f":"F27*E27","v":0},{"$f":"IFERROR(IFERROR(VLOOKUP(D27,Surcharge!A:B,2,FALSE)*F27, VLOOKUP(D27 & \"\",Surcharge!A:B,2,FALSE)*F27), \"\")","v":""},null,null,null,null,null,null,null,{"$f":"VLOOKUP(D27,'MPF SAP Canada Pre-Configured'!$C:$E,3,FALSE)","v":{"$error":"#N/A"}}]
[null,null,"24.4\" (62 cm) cleaning path.  Includes gray batteries, removable 1.25 gal (5 L)  solution and 2 gal (8 L) recovery tank with ball float, battery safe guard switch, angle switch & i-Balance lever, removable splash guards, XXL Plus charger w/ power cord, 2 medium blue brushes, quick change squeegee assembly with Linatex blades, and multi-language operator manual.",null,null,{"$f":"SUM(F27)","v":0},null,{"$f":"IFERROR(IFERROR(VLOOKUP(D28,Surcharge!A:B,2,FALSE)*F28, VLOOKUP(D28 & \"\",Surcharge!A:B,2,FALSE)*F28), \"\")","v":""}]
[null,null,null,null,null,{"$f":"SUM(F28)","v":0},null,{"$f":"IFERROR(IFERROR(VLOOKUP(D29,Surcharge!A:B,2,FALSE)*F29, VLOOKUP(D29 & \"\",Surcharge!A:B,2,FALSE)*F29), \"\")","v":""}]
[null,null,"Boxed Dimensions:  49\" H x 25\" W  x 13\" L (1240 mm x 640 mm x 330 mm)",null,null,0,null,{"$f":"IFERROR(IFERROR(VLOOKUP(D30,Surcharge!A:B,2,FALSE)*F30, VLOOKUP(D30 & \"\",Surcharge!A:B,2,FALSE)*F30), \"\")","v":""}]
[null,null,"Shipping Weight with Batteries:  90.2 lbs (40.9 kg)",null,null,0,null,{"$f":"IFERROR(IFERROR(VLOOKUP(D31,Surcharge!A:B,2,FALSE)*F31, VLOOKUP(D31 & \"\",Surcharge!A:B,2,FALSE)*F31), \"\")","v":""}]
[null,null,null,null,null,null,null,{"$f":"IFERROR(IFERROR(VLOOKUP(D32,Surcharge!A:B,2,FALSE)*F32, VLOOKUP(D32 & \"\",Surcharge!A:B,2,FALSE)*F32), \"\")","v":""}]
[null,null,null,null,null,null,null,{"$f":"IFERROR(IFERROR(VLOOKUP(D33,Surcharge!A:B,2,FALSE)*F33, VLOOKUP(D33 & \"\",Surcharge!A:B,2,FALSE)*F33), \"\")","v":""}]
[null,null,"i-mop XXL Plus Lithium-Ion Auto Disk Scrubber + 2 Sets of Batteries",9022387,13901,null,{"$f":"F34*E34","v":0},{"$f":"IFERROR(IFERROR(VLOOKUP(D34,Surcharge!A:B,2,FALSE)*F34, VLOOKUP(D34 & \"\",Surcharge!A:B,2,FALSE)*F34), \"\")","v":""},null,null,null,null,null,null,null,{"$f":"VLOOKUP(D34,'MPF SAP Canada Pre-Configured'!$C:$E,3,FALSE)","v":{"$error":"#N/A"}}]
[null,null,"24.4\" (62 cm) cleaning path.  Includes i-mop XXL Plus (1264255) with grey battery and charger, as well as a second set of spare grey batteries (two sets in total).",null,null,{"$f":"SUM(F34)","v":0},null,{"$f":"IFERROR(IFERROR(VLOOKUP(D35,Surcharge!A:B,2,FALSE)*F35, VLOOKUP(D35 & \"\",Surcharge!A:B,2,FALSE)*F35), \"\")","v":""}]
[null,null,"Note: Extra batteries do not ship in machine box, but separately.",null,null,{"$f":"SUM(F35)","v":0},null,{"$f":"IFERROR(IFERROR(VLOOKUP(D36,Surcharge!A:B,2,FALSE)*F36, VLOOKUP(D36 & \"\",Surcharge!A:B,2,FALSE)*F36), \"\")","v":""}]
[null,null,null,null,null,null,null,{"$f":"IFERROR(IFERROR(VLOOKUP(D37,Surcharge!A:B,2,FALSE)*F37, VLOOKUP(D37 & \"\",Surcharge!A:B,2,FALSE)*F37), \"\")","v":""}]
[null,null,null,null,null,null,null,{"$f":"IFERROR(IFERROR(VLOOKUP(D38,Surcharge!A:B,2,FALSE)*F38, VLOOKUP(D38 & \"\",Surcharge!A:B,2,FALSE)*F38), \"\")","v":""}]
[]
[null,"Custom Solution--write in description, qty, price, and PN if applicable",null,null,null,{"$f":"SUM(F41)","v":0}]
[null,null,null,null,"Insert Prices Here",{"$f":"SUM(F42:F45)","v":0}]
[null,null,null,"Custom",null,{"$f":"IF(E42 <> \"\", 1, 0)","v":0},{"$f":"F42*E42","v":0}]
[null,null,null,"Custom",null,{"$f":"IF(E43 <> \"\", 1, 0)","v":0},{"$f":"F43*E43","v":0}]
[null,null,null,"Custom",null,{"$f":"IF(E44 <> \"\", 1, 0)","v":0},{"$f":"F44*E44","v":0}]
[null,null,null,"Custom",null,{"$f":"IF(E45 <> \"\", 1, 0)","v":0},{"$f":"F45*E45","v":0}]
[null,null,null,null,{"$f":"ROUND(SUM(G27:G45), 0)","v":0},{"$f":"SUM(E47)","v":0}]
[null,null,null,"Machine Subtotal ",{"$f":"ROUND(SUM(G27:G45), 0)","v":0},{"$f":"F46","v":0}]
[null,"Discounts",null,null,null,{"$f":"SUM(F49)","v":0}]
[null,null,null,null,null,{"$f":"SUM(F51:F54)","v":0}]
[null,null,null,"Applicable Currency Adj %",null,{"$f":"IF(E50 <> \"\", 1, 0)","v":0},{"$f":"IF(F50*(E50*0.01)*E46 < 0, F50*(E50*0.01)*E46, -(F50*(E50*0.01)*E46))","v":0}]
[null,null,null,"Discount %",null,{"$f":"IF(E51 <> \"\", 1, 0)","v":0},{"$f":"IF(F51*(E51*0.01)*(E46+G50) < 0, F51*(E51*0.01)*(E46+G50), -(F51*(E51*0.01)*(E46+G50)))","v":0}]
[null,null,null,"Discount $",null,{"$f":"IF(E52 <> \"\", 1, 0)","v":0},{"$f":"IF(F52*E52 < 0, F52*E52, -(F52*E52))","v":0}]
[null,null,null,"Discount $",null,{"$f":"IF(E53 <> \"\", 1, 0)","v":0},{"$f":"IF(F53*E53 < 0, F53*E53, -(F53*E53))","v":0}]
[null,null,null,"Discount $",null,{"$f":"IF(E54 <> \"\", 1, 0)","v":0},{"$f":"IF(F54*E54 < 0, F54*E54, -(F54*E54))","v":0}]
[null,null,null,"Discount Total ",{"$f":"SUM(G50:G54)","v":0},{"$f":"SUM(E55)","v":0}]
[null,null,null,null,null,{"$f":"#REF!","v":{"$error":"#REF!"}}]
[null,null,null,null,null,{"$f":"F56","v":{"$error":"#REF!"}}]
[null,null,"Prepaid and Add","Freight",null,{"$f":"IF(E58 <> \"\", 1, 0)","v":0},{"$f":"F58*E58","v":0}]
[null,null,"Subject to all applicable taxes","Tax",null,{"$f":"IF(E59 <> \"\", 1, 0)","v":0},{"$f":"F59*E59","v":0}]
[null,null,null,null,null,{"$f":"SUM(F61)","v":0}]
[null,null,null,"MACHINE TOTAL*",null,{"$f":"SUM(G61)","v":0},{"$f":"SUM(G27:G59)","v":0},null,null,null,null,null,null,"This goes to \"My Documents\""]
[null,null,null,null,null,null,{"$f":"SUM(G61)","v":0}]
[]
[]
[]
[]
[null,null,"First Western Equipment Finance - Leasing Calculation Option:","Option 1",null,"Option 2",null,null,null,{"$f":"Financing!A38","v":"Rates 2025 - Rev 2/4/2025"}]
[null,null,null,"Monthly Payment","Cost Per Day","Monthly Payment","Cost Per Day",null,null,{"$f":"Financing!A39","v":"“Blank Payment Amounts Indicate The Financing Option Or Purchase Options Selected Are Not "}]
[null,null,"Purchase Option:","FWEF:  $1 Buyout Lease",null,"FWEF: Municipal Lease",null,null,null,{"$f":"Financing!A40","v":"Applicable Or The Machine Total Is Below The Minimum Amount For The Selected Vendor”"}]
[null,null,"24 Months",false,0,false,0,null,null,{"$f":"Financing!A41","v":"\"Quoted monthly payments are estimates only and are based on a certain level of credit rating."}]
[null,null,"30 Months",false,0,false,0,null,null,{"$f":"Financing!A42","v":"Actual monthly payments may be higher depending on your credit rating.\""}]
[null,null,"36 Months",false,0,false,0,null,null,{"$f":"Financing!A43","v":"“Financing rates do not include Pre-Paid Service”"}]
[null,null,"48 Months",0,0,0,0,null,{"$f":"Financing!A44","v":0}]
[]
[null,null,null,"Benefits of Equipment Financing:"]
[null,null,null,"• Spreads out investment over time.",null,"• Keep current with latest technology."]
[null,null,null,"• Preserve capital.",null,"• Service and parts bundling available."]
[null,null,null,"• Low monthly payment.",null,"• Pay for labor savings as you go."]
[]
[null,"   TennantTrue",null,null,0,0]
[]
[null,null,"Is customer interested in service program?","Yes","*State/County selection required for TennantTrue service options"]
[]
[null,null,"If not, why?"]
[]
[null,null,"Term:",36,null,null,"AB Brushes","No"]
[null,null,"Monthly machine usage (hrs):","< 30/mo. (Avg. 1hr./day)"]
[]
[null,null,"TennantTrue: ","Gold Contract",null,"Silver Contract"]
[null,null,"Per Visit"]
[null,null,"Monthly"]
[null,null,"Annually"]
[null,null,"Pre-Pay Full Term"]
[null,null,"Hourly Labor Rate"]
[null,null,"Site Visit"]
[]
[null,null,"* Verify customer current pricing prior to quote. "]
[null,null,"**All rates and fees above reflect service for one (1) unit with the exception of Block of Time service."]
[null,null,"*Block of Time is available in 1 Year Term only and is priced as such no matter the term selection on this template."]
[]
[]
[]
[null,null,"Quote Special Instructions:"]
[]
[]
[null,null,{"$f":"Start_Here!E36","v":"Terms and Conditions"}]
[null,null,{"$f":"Start_Here!E37","v":"Ask your local sales rep for estimated lead times. Verify when placing order"}]
[null,null,{"$f":"Start_Here!E38","v":"All orders subject to acceptance by Tennant Sales and Service Company, Minneapolis, Minnesota"}]
[null,null,{"$f":"Start_Here!E39","v":"Prices subject to change without notice. Subject to any applicable taxes."}]
[null,null,{"$f":"Start_Here!E40","v":"Terms:  Net 30 days.  Payable in Canadian Funds"}]
[null,null,{"$f":"Start_Here!E41","v":"Freight:  Accessories, parts, supplies, detergents, and floor coatings orders delivered DDP "}]
[null,null,{"$f":"Start_Here!E42","v":"shipping point Frt PPD.  Machine orders delivered DDP shipping point Frt PPD and add."}]
[null,null,{"$f":"Start_Here!E43","v":"Returned Merchandise is subject to a restocking fee."}]
[null,null,{"$f":"Start_Here!E45","v":"Printed General Terms and Conditions are also available upon request."}]
[null,null,{"$f":"Start_Here!E46","v":0}]
[]
[]
[null,null,null,null,"Quote Date :",null,{"$f":"Letter!$A$25","v":"2014-10-02"}]
["Order Placement Information:  To place your order, fill in PO# and customer signatures,"]
["call or fax to the numbers listed below. Customer Purchase Order is required."]
["If information is missing, orders will be entered and held until all information is received."]
[null,null,"Customer Number",null,"Cust Grp 3"]
[null,null,{"$f":"Start_Here!$C$25","v":0},null,{"$f":"Start_Here!$C$29","v":0}]
[null,null,{"$f":"Start_Here!$B$18","v":"Who Owns the Machine? (Sold-To Info) (Please Verify)"}]
["Company",null,{"$f":"Start_Here!$C$19","v":"Company Name"}]
["Address",null,{"$f":"Start_Here!$C$20","v":"Address"}]
[null,null,{"$f":"Start_Here!$C$21","v":"City, State Zip"}]
["Name",null,{"$f":"Start_Here!$C$22","v":"Contact Name"}]
["Phone",null,{"$f":"Start_Here!$C$23","v":"Contact Phone"}]
[null,null,{"$f":"Start_Here!$B$11","v":"Where is the Machine Being Shipped? (Ship-To Info) (Please Verify)"}]
["Company",null,{"$f":"Start_Here!$C$12","v":"Company Name"}]
["Address",null,{"$f":"Start_Here!$C$13","v":"Address"}]
[null,null,{"$f":"Start_Here!$C$14","v":"City, State Zip"}]
["Name",null,{"$f":"Start_Here!$C$15","v":"Contact Name"}]
["Phone",null,{"$f":"Start_Here!$C$16","v":"Contact Phone"}]
[null,null,{"$f":"Start_Here!$B$31","v":"Shipping / Carrier Instructions:"},null,"Order Special Instructions:"]
[null,null,{"$f":"Start_Here!$C$32","v":0}]
[]
[null,null,"Customer Purchase Order No."]
[null,null,"(please attach copy)"]
[]
[]
[null,null,"Tax Exempt",null,"Yes"]
[null,null,null,null,"No"]
[null,null,"If Yes, attach a copy of your exemption certificate."]
[]
[null,null,"Requested Delivery Date"]
[null,null,{"$f":"Start_Here!$C$28","v":0}]
[]
[null,null,{"$f":"Start_Here!$C$26","v":0},null,{"$f":"Start_Here!$C$27","v":0}]
[null,null,"Authorized Buyer (please print)",null,"Phone Number"]
[]
[]
[null,null,"Authorized Buyer Signature"]
[]
[null,null,{"$f":"Start_Here!$C$41","v":"Rep Name"}]
[null,null,"Tennant Representative"]
[]
["Specialized Maintenance Equipment"]
[{"$f":"Start_Here!$C$48","v":"TENNANT · 10400 Clean Street · Eden Prairie, MN 55344 ·"}]
[{"$f":"Start_Here!$C$49","v":" PHONE:800-553-8033 · FAX:763-513-2116"}]
[]
[null,"Special Information "]
[]
[]
[null,"1","Pre-Configured Machines cannot add or change options.  All units are packaged on a Skid w/Carton and will ship via LTL Carrier."]
[null,null,"When ordering, provide the reference number listed above.  Price does not include freight or tax.  Availability of units "]
[null,null,"and lead time may vary."]
[]
[null,"2","One pad driver comes standard with a T2."]
[]
[null,3,"Skid w/Carton, Stackable is the default packaging method and will be added to the configuration unless otherwise specified."]
[]
[null,4,"Machine Weights and dimensions","Skid w/Carton"]
[]
[null,null,"Weight (w/105AH battery)","331 lbs / 150 Kg"]
[null,null,"Length","47\" / 1200mm"]
[null,null,"Width","30\" / 750mm"]
[null,null,"Height","45\" / 1150mm"]

{"sheet":"CS5_CS16","index":11,"n_rows":160,"n_cols":16,"rows_kept":160,"cut":false,"hidden":false,"merged":[[146,4,146,5],[131,0,131,1],[131,2,131,5],[133,4,133,6],[135,2,135,5],[136,2,136,5],[137,2,137,5],[130,0,130,1],[130,2,130,5],[122,0,122,1],[122,2,122,5],[123,2,123,5],[124,0,124,1],[124,2,124,5],[125,0,125,1],[125,2,125,5],[127,0,127,1],[127,2,127,5],[128,0,128,1],[128,2,128,5],[129,2,129,5],[91,3,91,4],[91,5,91,6],[100,2,100,6],[119,4,119,6],[121,0,121,1],[121,2,121,5],[88,3,88,4],[88,5,88,6],[89,3,89,4],[89,5,89,6],[90,3,90,4],[90,5,90,6],[85,3,85,4],[85,5,85,6],[86,3,86,4],[86,5,86,6],[87,3,87,4],[87,5,87,6],[83,3,83,4],[63,3,63,4],[63,5,63,6],[0,2,0,3],[1,2,1,3],[2,2,2,3],[3,2,3,3],[28,2,28,3],[29,2,29,3],[65,3,65,4],[65,5,65,6],[78,4,78,8],[80,3,80,6],[82,3,82,4],[38,2,38,3],[39,2,39,3]]}
["CS5_CS16",null,{"$f":"Start_Here!$C19","v":"Company Name"}]
[{"$f":"SUM(G58)","v":0},null,{"$f":"Start_Here!$C20","v":"Address"}]
[null,null,{"$f":"Start_Here!$C21","v":"City, State Zip"}]
[null,null,{"$f":"Start_Here!$C22","v":"Contact Name"}]
[null,null,{"$f":"Start_Here!$C$41","v":"Rep Name"}]
[null,null,{"$f":"Start_Here!$C$37","v":"Tennant Sales and Service Company"}]
[null,null,{"$f":"Start_Here!$C$38","v":"10400 Clean Street"}]
[null,null,{"$f":"Start_Here!$C$39","v":"Eden Prairie, MN 55344"}]
[null,null,{"$f":"Start_Here!$C$43","v":"800-553-8033"},null,"Quote Date :",null,{"$f":"Letter!$A$25","v":"2014-10-02"}]
[]
[null,null,{"$f":"Help!C2","v":"CAN Date Rev - 5/6/2025"}]
[]
[null,null,"EXCLUSIVE FACTORY-DIRECT WARRANTY -CS5"]
[null,null,"12 MONTHS - PARTS"]
[null,null,"12 MONTHS BATTERY"]
[null,null,null,null,"                Quote Request Information"]
[null,null,"EXCLUSIVE FACTORY-DIRECT WARRANTY -CS16",null,null,null,"Fax (quote only)"]
[null,null,"12 MONTHS PARTS AND LABOR",null,null,null,"Mail (quote,lit, specs)"]
[null,null,"12 MONTHS BATTERY",null,null,null,"Fax + Mail"]
[null,null,"3 MONTHS TRAVEL"]
[null,null,"12 MONTHS ON  Rotationally Molded Components",null,"                Primary Use"]
[null,null,null,null,null,null,"Inside"]
[null,null,null,null,null,null,"Outside"]
[]
[null,null,"Description","Reference No.","Canada Price","Qty.","Extended Price"]
[null,null,"CS5 Li-ON Battery Micro-scrubber ",1251580,3802,null,{"$f":"F26*E26","v":0},null,null,null,null,null,null,null,null,{"$f":"VLOOKUP(D26,'MPF SAP Canada Pre-Configured'!$C:$E,3,FALSE)","v":4224}]
[null,null,"11\" cleaning path.  Includes 5.5 AH Lithium ion battery, removable, fill and dump nearly anywhere 1.3 gallon (5 liter) solution & recovery tanks, forward and reverse dry system, foldable handle, medium polyproplylene brush, Linatex squeegees, charger with power cord and multi-language operator manual.",null,null,{"$f":"SUM(F26)","v":0}]
[null,null,null,null,null,{"$f":"SUM(F27)","v":0}]
[null,null,"Boxed Dimensions:  31.5\" L x 15.74\" W x 18.5\" H (800 mm x 400 mm x 470 mm)",null,null,{"$f":"SUM(F28)","v":0}]
[null,null,"Shipping Weight 48.62 lbs/ 22 kg",null,null,{"$f":"SUM(F29)","v":0}]
[]
[]
[null,null,"CS16 Sealed AGM Battery Micro-Scrubber","LPTB03328",6123,null,{"$f":"F33*E33","v":0},null,null,null,null,null,null,null,null,{"$f":"VLOOKUP(D33,'MPF SAP Canada Pre-Configured'!$C:$E,3,FALSE)","v":5944}]
[null,null,"14\" cleaning path. Includes 2 x12V Sealed AGM battery, foldable handle, removeable 3.9 gal (15 L) solution and 4.4 gal (16.5 L) recovery tank. Plus charger w/ power cord, medium bristle polypropylene brush, squeegee, and multi-language operator manual.",null,null,{"$f":"SUM(F33)","v":0}]
[]
[null,null,"CS16 Li-Ion Battery Micro-Scrubber","LPTB03794",6544,null,{"$f":"F36*E36","v":0}]
[null,null,"14\" cleaning path. Includes 1 x 24V Li-Ion battery, foldable handle, removeable 3.9 gal (15 L) solution and 4.4 gal (16.5 L) recovery tank. Plus onboard charger, medium bristle polypropylene brush, squeegee, and multi-language operator manual.",null,null,{"$f":"SUM(F36)","v":0}]
[null,null,null,null,null,{"$f":"SUM(F33,F36)","v":0}]
[null,null,"Boxed Dimensions: 31.9\" L x 18.1\" W x 27.6\" H (810 mm x 460 mm x 700 mm)",null,null,{"$f":"SUM(F38)","v":0}]
[null,null,"Shipping Weight: 125.7 lbs/ 57 kg",null,null,{"$f":"SUM(F39)","v":0}]
[]
[]
[null,null,null,null,{"$f":"ROUND(SUM(G26:G42), 0)","v":0},{"$f":"SUM(E44)","v":0}]
[null,null,null,"Machine Subtotal ",{"$f":"ROUND(SUM(G26:G42), 0)","v":0},{"$f":"F43","v":0}]
[null,"Discounts",null,null,null,{"$f":"SUM(F46)","v":0}]
[null,null,null,null,null,{"$f":"SUM(F48:F51)","v":0}]
[null,null,null,"Applicable Currency Adj %",null,{"$f":"IF(E47 <> \"\", 1, 0)","v":0},{"$f":"IF(F47*(E47*0.01)*E43 < 0, F47*(E47*0.01)*E43, -(F47*(E47*0.01)*E43))","v":0}]
[null,null,null,"Discount %",null,{"$f":"IF(E48 <> \"\", 1, 0)","v":0},{"$f":"IF(F48*(E48*0.01)*(E43+G47) < 0, F48*(E48*0.01)*(E43+G47), -(F48*(E48*0.01)*(E43+G47)))","v":0}]
[null,null,null,"Discount $",null,{"$f":"IF(E49 <> \"\", 1, 0)","v":0},{"$f":"IF(F49*E49 < 0, F49*E49, -(F49*E49))","v":0}]
[null,null,null,"Discount $",null,{"$f":"IF(E50 <> \"\", 1, 0)","v":0},{"$f":"IF(F50*E50 < 0, F50*E50, -(F50*E50))","v":0}]
[null,null,null,"Discount $",null,{"$f":"IF(E51 <> \"\", 1, 0)","v":0},{"$f":"IF(F51*E51 < 0, F51*E51, -(F51*E51))","v":0}]
[null,null,null,"Discount Total ",{"$f":"SUM(G47:G51)","v":0},{"$f":"SUM(E52)","v":0}]
[null,null,null,null,null,{"$f":"#REF!","v":{"$error":"#REF!"}}]
[null,null,null,null,null,{"$f":"F53","v":{"$error":"#REF!"}}]
[null,null,"Prepaid and Add","Freight",null,{"$f":"IF(E55 <> \"\", 1, 0)","v":0},{"$f":"F55*E55","v":0}]
[null,null,"Subject to all applicable taxes","Tax",null,{"$f":"IF(E56 <> \"\", 1, 0)","v":0},{"$f":"F56*E56","v":0}]
[null,null,null,null,null,{"$f":"SUM(F58)","v":0}]
[null,null,null,"MACHINE TOTAL*",null,{"$f":"SUM(G58)","v":0},{"$f":"SUM(G26:G56)","v":0},null,null,null,null,null,null,"This goes to \"My Documents\""]
[null,null,null,null,null,null,{"$f":"SUM(G58)","v":0}]
[]
[]
[]
[]
[null,null,"First Western Equipment Finance - Leasing Calculation Option:","Option 1",null,"Option 2",null,null,null,{"$f":"Financing!A38","v":"Rates 2025 - Rev 2/4/2025"}]
[null,null,null,"Monthly Payment","Cost Per Day","Monthly Payment","Cost Per Day",null,null,{"$f":"Financing!A39","v":"“Blank Payment Amounts Indicate The Financing Option Or Purchase Options Selected Are Not "}]
[null,null,"Purchase Option:","FWEF:  $1 Buyout Lease",null,"FWEF: Municipal Lease",null,null,null,{"$f":"Financing!A40","v":"Applicable Or The Machine Total Is Below The Minimum Amount For The Selected Vendor”"}]
[null,null,"24 Months",false,0,false,0,null,null,{"$f":"Financing!A41","v":"\"Quoted monthly payments are estimates only and are based on a certain level of credit rating."}]
[null,null,"30 Months",false,0,false,0,null,null,{"$f":"Financing!A42","v":"Actual monthly payments may be higher depending on your credit rating.\""}]
[null,null,"36 Months",false,0,false,0,null,null,{"$f":"Financing!A43","v":"“Financing rates do not include Pre-Paid Service”"}]
[null,null,"48 Months",0,0,0,0,null,{"$f":"Financing!A44","v":0}]
[]
[null,null,null,"Benefits of Equipment Financing:"]
[null,null,null,"• Spreads out investment over time.",null,"• Keep current with latest technology."]
[null,null,null,"• Preserve capital.",null,"• Service and parts bundling available."]
[null,null,null,"• Low monthly payment.",null,"• Pay for labor savings as you go."]
[]
[null,"   TennantTrue",null,null,0,0]
[]
[null,null,"Is customer interested in service program?","Yes","*State/County selection required for TennantTrue service options"]
[]
[null,null,"If not, why?"]
[]
[null,null,"Term:",36,null,null,"AB Brushes","No"]
[null,null,"Monthly machine usage (hrs):","< 30/mo. (Avg. 1hr./day)"]
[]
[null,null,"TennantTrue: ","Gold Contract",null,"Silver Contract"]
[null,null,"Per Visit"]
[null,null,"Monthly"]
[null,null,"Annually"]
[null,null,"Pre-Pay Full Term"]
[null,null,"Hourly Labor Rate"]
[null,null,"Site Visit"]
[]
[null,null,"* Verify customer current pricing prior to quote. "]
[null,null,"**All rates and fees above reflect service for one (1) unit with the exception of Block of Time service."]
[null,null,"*Block of Time is available in 1 Year Term only and is priced as such no matter the term selection on this template."]
[]
[]
[]
[null,null,"Quote Special Instructions:"]
[]
[]
[null,null,{"$f":"Start_Here!E36","v":"Terms and Conditions"}]
[null,null,{"$f":"Start_Here!E37","v":"Ask your local sales rep for estimated lead times. Verify when placing order"}]
[null,null,{"$f":"Start_Here!E38","v":"All orders subject to acceptance by Tennant Sales and Service Company, Minneapolis, Minnesota"}]
[null,null,{"$f":"Start_Here!E39","v":"Prices subject to change without notice. Subject to any applicable taxes."}]
[null,null,{"$f":"Start_Here!E40","v":"Terms:  Net 30 days.  Payable in Canadian Funds"}]
[null,null,{"$f":"Start_Here!E41","v":"Freight:  Accessories, parts, supplies, detergents, and floor coatings orders delivered DDP "}]
[null,null,{"$f":"Start_Here!E42","v":"shipping point Frt PPD.  Machine orders delivered DDP shipping point Frt PPD and add."}]
[null,null,{"$f":"Start_Here!E43","v":"Returned Merchandise is subject to a restocking fee."}]
[null,null,{"$f":"Start_Here!E45","v":"Printed General Terms and Conditions are also available upon request."}]
[null,null,{"$f":"Start_Here!E46","v":0}]
[]
[]
[null,null,null,null,"Quote Date :",null,{"$f":"Letter!$A$25","v":"2014-10-02"}]
["Order Placement Information:  To place your order, fill in PO# and customer signatures,"]
["call or fax to the numbers listed below. Customer Purchase Order is required."]
["If information is missing, orders will be entered and held until all information is received."]
[null,null,"Customer Number",null,"Cust Grp 3"]
[null,null,{"$f":"Start_Here!$C$25","v":0},null,{"$f":"Start_Here!$C$29","v":0}]
[null,null,{"$f":"Start_Here!$B$18","v":"Who Owns the Machine? (Sold-To Info) (Please Verify)"}]
["Company",null,{"$f":"Start_Here!$C$19","v":"Company Name"}]
["Address",null,{"$f":"Start_Here!$C$20","v":"Address"}]
[null,null,{"$f":"Start_Here!$C$21","v":"City, State Zip"}]
["Name",null,{"$f":"Start_Here!$C$22","v":"Contact Name"}]
["Phone",null,{"$f":"Start_Here!$C$23","v":"Contact Phone"}]
[null,null,{"$f":"Start_Here!$B$11","v":"Where is the Machine Being Shipped? (Ship-To Info) (Please Verify)"}]
["Company",null,{"$f":"Start_Here!$C$12","v":"Company Name"}]
["Address",null,{"$f":"Start_Here!$C$13","v":"Address"}]
[null,null,{"$f":"Start_Here!$C$14","v":"City, State Zip"}]
["Name",null,{"$f":"Start_Here!$C$15","v":"Contact Name"}]
["Phone",null,{"$f":"Start_Here!$C$16","v":"Contact Phone"}]
[null,null,{"$f":"Start_Here!$B$31","v":"Shipping / Carrier Instructions:"},null,"Order Special Instructions:"]
[null,null,{"$f":"Start_Here!$C$32","v":0}]
[]
[null,null,"Customer Purchase Order No."]
[null,null,"(please attach copy)"]
[]
[]
[null,null,"Tax Exempt",null,"Yes"]
[null,null,null,null,"No"]
[null,null,"If Yes, attach a copy of your exemption certificate."]
[]
[null,null,"Requested Delivery Date"]
[null,null,{"$f":"Start_Here!$C$28","v":0}]
[]
[null,null,{"$f":"Start_Here!$C$26","v":0},null,{"$f":"Start_Here!$C$27","v":0}]
[null,null,"Authorized Buyer (please print)",null,"Phone Number"]
[]
[]
[null,null,"Authorized Buyer Signature"]
[]
[null,null,{"$f":"Start_Here!$C$41","v":"Rep Name"}]
[null,null,"Tennant Representative"]
[]
["Specialized Maintenance Equipment"]
[{"$f":"Start_Here!$C$48","v":"TENNANT · 10400 Clean Street · Eden Prairie, MN 55344 ·"}]
[{"$f":"Start_Here!$C$49","v":" PHONE:800-553-8033 · FAX:763-513-2116"}]
[]
[null,"Special Information "]

{"sheet":"T1_T1B","index":12,"n_rows":183,"n_cols":16,"rows_kept":183,"cut":false,"hidden":false,"merged":[[138,0,138,1],[138,2,138,5],[140,4,140,6],[142,2,142,5],[143,2,143,5],[135,0,135,1],[135,2,135,5],[136,2,136,5],[137,0,137,1],[137,2,137,5],[131,0,131,1],[131,2,131,5],[132,0,132,1],[132,2,132,5],[134,0,134,1],[134,2,134,5],[128,0,128,1],[128,2,128,5],[129,0,129,1],[129,2,129,5],[130,2,130,5],[144,2,144,5],[153,4,153,5],[85,4,85,8],[87,3,87,6],[89,3,89,4],[90,3,90,4],[96,5,96,6],[97,3,97,4],[97,5,97,6],[70,5,70,6],[72,3,72,4],[72,5,72,6],[107,2,107,6],[126,4,126,6],[92,3,92,4],[92,5,92,6],[93,3,93,4],[93,5,93,6],[94,3,94,4],[94,5,94,6],[98,3,98,4],[98,5,98,6],[95,3,95,4],[95,5,95,6],[96,3,96,4],[0,2,0,3],[1,2,1,3],[2,2,2,3],[3,2,3,3],[70,3,70,4]]}
["T1_T1B",null,{"$f":"Start_Here!$C19","v":"Company Name"}]
[{"$f":"SUM(G65)","v":0},null,{"$f":"Start_Here!$C20","v":"Address"}]
[null,null,{"$f":"Start_Here!$C21","v":"City, State Zip"}]
[null,null,{"$f":"Start_Here!$C22","v":"Contact Name"}]
[null,null,{"$f":"Start_Here!$C$41","v":"Rep Name"}]
[null,null,{"$f":"Start_Here!$C$37","v":"Tennant Sales and Service Company"}]
[null,null,{"$f":"Start_Here!$C$38","v":"10400 Clean Street"}]
[null,null,{"$f":"Start_Here!$C$39","v":"Eden Prairie, MN 55344"}]
[null,null,{"$f":"Start_Here!$C$43","v":"800-553-8033"},null,"Quote Date :",null,{"$f":"Letter!$A$25","v":"2014-10-02"}]
[]
[null,null,{"$f":"Help!C2","v":"CAN Date Rev - 5/6/2025"}]
[]
[null,null,"EXCLUSIVE FACTORY-DIRECT WARRANTY"]
[null,null,"10 YEARS - ROTOMOLDED PARTS"]
[null,null,"36 MONTHS OR 2500 HOURS - PARTS"]
[null,null,"36 MONTHS LABOR",null,"                Quote Request Information"]
[null,null,"90 DAYS – TRAVEL ON T1B, NO TRAVEL ON T1",null,null,null,"Fax (quote only)"]
[null,null,"BATTERIES AGM PRO-RATED 6 MONTHS",null,null,null,"Mail (quote,lit, specs)"]
[null,null,"LITHIUM ION 24 MONTHS (Full Replacement)",null,null,null,"Fax + Mail"]
[]
[null,null,null,null,"                Primary Use"]
[null,null,null,null,null,null,"Inside"]
[null,null,null,null,null,null,"Outside"]
[]
[null,null,"Description","Reference No.","Canada Price","Qty.","Extended Price"]
[]
[null,null,"T1 Cord-Electric Cylindrical Scrubber",9004191,6663,null,{"$f":"F27*E27","v":0},{"$f":"IFERROR(IFERROR(VLOOKUP(D27,Surcharge!A:B,2,FALSE)*F27, VLOOKUP(D27 & \"\",Surcharge!A:B,2,FALSE)*F27), \"\")","v":""},null,null,null,{"$f":"SUM(F27)","v":0},"Surcharge Qty",null,null,{"$f":"VLOOKUP(D27,'MPF SAP Canada Pre-Configured'!$C:$E,3,FALSE)","v":6663}]
[null,null,"15\" (380 mm) cleaning path.  Complete package includes removable, Hygenic® fully cleanable 3 gallon (11.4 liter) solution/ 4.5 gallon (17 liters) recovery tanks, Insta-AdjustTM handle, nylon brush, 50-ft (15-m) \"safety yellow\" power cord and multi-language operator manual.",null,null,{"$f":"SUM(F27)","v":0},null,{"$f":"IFERROR(IFERROR(VLOOKUP(D28,Surcharge!A:B,2,FALSE)*F28, VLOOKUP(D28 & \"\",Surcharge!A:B,2,FALSE)*F28), \"\")","v":""},null,null,null,0,"Surcharge Qty"]
[null,null,"Boxed Dimensions:  34\" L x 22\" W x 32\" H (864  mm x 559  mm x 813  mm).",null,null,{"$f":"SUM(F28)","v":0},null,{"$f":"IFERROR(IFERROR(VLOOKUP(D29,Surcharge!A:B,2,FALSE)*F29, VLOOKUP(D29 & \"\",Surcharge!A:B,2,FALSE)*F29), \"\")","v":""},null,null,null,0,"Surcharge Qty"]
[null,null,"Shipping Weight / Volume:   125 lb (57 kg) / 13.9 ft3 (.39 m3)",null,null,{"$f":"SUM(F29)","v":0},null,{"$f":"IFERROR(IFERROR(VLOOKUP(D30,Surcharge!A:B,2,FALSE)*F30, VLOOKUP(D30 & \"\",Surcharge!A:B,2,FALSE)*F30), \"\")","v":""},null,null,null,0,"Surcharge Qty"]
[null,null,null,null,null,null,null,{"$f":"IFERROR(IFERROR(VLOOKUP(D31,Surcharge!A:B,2,FALSE)*F31, VLOOKUP(D31 & \"\",Surcharge!A:B,2,FALSE)*F31), \"\")","v":""},null,null,null,{"$f":"SUM(F31)","v":0},"Surcharge Qty"]
[null,null,null,null,null,null,null,{"$f":"IFERROR(IFERROR(VLOOKUP(D32,Surcharge!A:B,2,FALSE)*F32, VLOOKUP(D32 & \"\",Surcharge!A:B,2,FALSE)*F32), \"\")","v":""},null,null,null,0,"Surcharge Qty"]
[null,null,"T1B Battery Cylindrical Scrubber  - 15\" cleaning path.  Complete package includes removable, Hygenic® fully cleanable 2.5 gallon (9.5liter) solution/ 3.4 gallon (12.9 liters) recovery tanks, Insta-AdjustTM handle, nylon brush, appropriate off board world charger with power cord and multi-language operator manual.",null,null,{"$f":"SUM(F37,F40)","v":0},null,{"$f":"IFERROR(IFERROR(VLOOKUP(D33,Surcharge!A:B,2,FALSE)*F33, VLOOKUP(D33 & \"\",Surcharge!A:B,2,FALSE)*F33), \"\")","v":""},null,null,null,0,"Surcharge Qty"]
[null,null,"Boxed Dimensions:  32\" L x 24\" W x 37\" H (813 mm x 610 mm x 940 mm). ",null,null,{"$f":"SUM(F33)","v":0},null,{"$f":"IFERROR(IFERROR(VLOOKUP(D34,Surcharge!A:B,2,FALSE)*F34, VLOOKUP(D34 & \"\",Surcharge!A:B,2,FALSE)*F34), \"\")","v":""},null,null,null,0,"Surcharge Qty"]
[null,null,"Shipping Weight (see battery options below)",null,null,{"$f":"SUM(F34)","v":0},null,{"$f":"IFERROR(IFERROR(VLOOKUP(D35,Surcharge!A:B,2,FALSE)*F35, VLOOKUP(D35 & \"\",Surcharge!A:B,2,FALSE)*F35), \"\")","v":""}]
[null,null,null,null,null,null,null,{"$f":"IFERROR(IFERROR(VLOOKUP(D36,Surcharge!A:B,2,FALSE)*F36, VLOOKUP(D36 & \"\",Surcharge!A:B,2,FALSE)*F36), \"\")","v":""}]
[null,null,"T1B Battery Cylindrical Scrubber (with AGM batteries)",9008635,9214,null,{"$f":"F37*E37","v":0},{"$f":"IFERROR(IFERROR(VLOOKUP(D37,Surcharge!A:B,2,FALSE)*F37, VLOOKUP(D37 & \"\",Surcharge!A:B,2,FALSE)*F37), \"\")","v":0},null,null,null,null,null,null,null,{"$f":"VLOOKUP(D37,'MPF SAP Canada Pre-Configured'!$C:$E,3,FALSE)","v":8611}]
[null,null,"Shipping Weight: 158 lbs/ 72 kg",null,null,{"$f":"SUM(F37)","v":0},null,{"$f":"IFERROR(IFERROR(VLOOKUP(D38,Surcharge!A:B,2,FALSE)*F38, VLOOKUP(D38 & \"\",Surcharge!A:B,2,FALSE)*F38), \"\")","v":""}]
[]
[null,null,"T1B Battery Cylindrical Scrubber (with Li-ion batteries)",9008638,11887,null,{"$f":"F40*E40","v":0},{"$f":"IFERROR(IFERROR(VLOOKUP(D40,Surcharge!A:B,2,FALSE)*F40, VLOOKUP(D40 & \"\",Surcharge!A:B,2,FALSE)*F40), \"\")","v":""},null,null,null,null,null,null,null,{"$f":"VLOOKUP(D40,'MPF SAP Canada Pre-Configured'!$C:$E,3,FALSE)","v":11109}]
[null,null,"Shipping Weight: 143 lbs/ 65 kg",null,null,{"$f":"SUM(F40)","v":0},null,{"$f":"IFERROR(IFERROR(VLOOKUP(D41,Surcharge!A:B,2,FALSE)*F41, VLOOKUP(D41 & \"\",Surcharge!A:B,2,FALSE)*F41), \"\")","v":""}]
[]
[]
[null,"Custom Solution--write in description, qty, price, and PN if applicable",null,null,null,{"$f":"SUM(F45)","v":0}]
[null,null,null,null,"Insert Prices Here",{"$f":"SUM(F46:F49)","v":0}]
[null,null,null,"Custom",null,{"$f":"IF(E46 <> \"\", 1, 0)","v":0},{"$f":"F46*E46","v":0}]
[null,null,null,"Custom",null,{"$f":"IF(E47 <> \"\", 1, 0)","v":0},{"$f":"F47*E47","v":0}]
[null,null,null,"Custom",null,{"$f":"IF(E48 <> \"\", 1, 0)","v":0},{"$f":"F48*E48","v":0}]
[null,null,null,"Custom",null,{"$f":"IF(E49 <> \"\", 1, 0)","v":0},{"$f":"F49*E49","v":0}]
[null,null,null,null,{"$f":"ROUND(SUM(G27:G49), 0)","v":0},{"$f":"SUM(E51)","v":0}]
[null,null,null,"Machine Subtotal ",{"$f":"ROUND(SUM(G27:G49), 0)","v":0},{"$f":"F50","v":0}]
[null,"Discounts",null,null,null,{"$f":"SUM(F53)","v":0}]
[null,null,null,null,null,{"$f":"SUM(F55:F58)","v":0}]
[null,null,null,"Applicable Currency Adj %",null,{"$f":"IF(E54 <> \"\", 1, 0)","v":0},{"$f":"IF(F54*(E54*0.01)*E50 < 0, F54*(E54*0.01)*E50, -(F54*(E54*0.01)*E50))","v":0}]
[null,null,null,"Discount %",null,{"$f":"IF(E55 <> \"\", 1, 0)","v":0},{"$f":"IF(F55*(E55*0.01)*(E50+G54) < 0, F55*(E55*0.01)*(E50+G54), -(F55*(E55*0.01)*(E50+G54)))","v":0}]
[null,null,null,"Discount $",null,{"$f":"IF(E56 <> \"\", 1, 0)","v":0},{"$f":"IF(F56*E56 < 0, F56*E56, -(F56*E56))","v":0}]
[null,null,null,"Discount $",null,{"$f":"IF(E57 <> \"\", 1, 0)","v":0},{"$f":"IF(F57*E57 < 0, F57*E57, -(F57*E57))","v":0}]
[null,null,null,"Discount $",null,{"$f":"IF(E58 <> \"\", 1, 0)","v":0},{"$f":"IF(F58*E58 < 0, F58*E58, -(F58*E58))","v":0}]
[null,null,null,"Discount Total ",{"$f":"SUM(G54:G58)","v":0},{"$f":"SUM(E59)","v":0}]
[null,null,null,null,null,{"$f":"#REF!","v":{"$error":"#REF!"}}]
[null,null,null,null,null,{"$f":"F60","v":{"$error":"#REF!"}}]
[null,null,"Prepaid and Add","Freight",null,{"$f":"IF(E62 <> \"\", 1, 0)","v":0},{"$f":"F62*E62","v":0}]
[null,null,"Subject to all applicable taxes","Tax",null,{"$f":"IF(E63 <> \"\", 1, 0)","v":0},{"$f":"F63*E63","v":0}]
[null,null,null,null,null,{"$f":"SUM(F65)","v":0}]
[null,null,null,"MACHINE TOTAL*",null,{"$f":"SUM(G65)","v":0},{"$f":"SUM(G27:G63)","v":0},null,null,null,null,null,null,"This goes to \"My Documents\""]
[null,null,null,null,null,null,{"$f":"SUM(G65)","v":0}]
[]
[]
[]
[]
[null,null,"First Western Equipment Finance - Leasing Calculation Option:","Option 1",null,"Option 2",null,null,null,{"$f":"Financing!A38","v":"Rates 2025 - Rev 2/4/2025"}]
[null,null,null,"Monthly Payment","Cost Per Day","Monthly Payment","Cost Per Day",null,null,{"$f":"Financing!A39","v":"“Blank Payment Amounts Indicate The Financing Option Or Purchase Options Selected Are Not "}]
[null,null,"Purchase Option:","FWEF:  $1 Buyout Lease",null,"FWEF: Municipal Lease",null,null,null,{"$f":"Financing!A40","v":"Applicable Or The Machine Total Is Below The Minimum Amount For The Selected Vendor”"}]
[null,null,"24 Months",false,0,false,0,null,null,{"$f":"Financing!A41","v":"\"Quoted monthly payments are estimates only and are based on a certain level of credit rating."}]
[null,null,"30 Months",false,0,false,0,null,null,{"$f":"Financing!A42","v":"Actual monthly payments may be higher depending on your credit rating.\""}]
[null,null,"36 Months",false,0,false,0,null,null,{"$f":"Financing!A43","v":"“Financing rates do not include Pre-Paid Service”"}]
[null,null,"48 Months",0,0,0,0,null,{"$f":"Financing!A44","v":0}]
[]
[null,null,null,"Benefits of Equipment Financing:"]
[null,null,null,"• Spreads out investment over time.",null,"• Keep current with latest technology."]
[null,null,null,"• Preserve capital.",null,"• Service and parts bundling available."]
[null,null,null,"• Low monthly payment.",null,"• Pay for labor savings as you go."]
[]
[null,"   TennantTrue",null,null,0,0]
[]
[null,null,"Is customer interested in service program?","Yes","*State/County selection required for TennantTrue service options"]
[]
[null,null,"If not, why?"]
[]
[null,null,"Term:",36,null,null,"AB Brushes","No"]
[null,null,"Monthly machine usage (hrs):","< 30/mo. (Avg. 1hr./day)"]
[]
[null,null,"TennantTrue: ","Gold Contract",null,"Silver Contract"]
[null,null,"Per Visit"]
[null,null,"Monthly"]
[null,null,"Annually"]
[null,null,"Pre-Pay Full Term"]
[null,null,"Hourly Labor Rate"]
[null,null,"Site Visit"]
[]
[null,null,"* Verify customer current pricing prior to quote. "]
[null,null,"**All rates and fees above reflect service for one (1) unit with the exception of Block of Time service."]
[null,null,"*Block of Time is available in 1 Year Term only and is priced as such no matter the term selection on this template."]
[]
[]
[]
[null,null,"Quote Special Instructions:"]
[]
[]
[null,null,{"$f":"Start_Here!E36","v":"Terms and Conditions"}]
[null,null,{"$f":"Start_Here!E37","v":"Ask your local sales rep for estimated lead times. Verify when placing order"}]
[null,null,{"$f":"Start_Here!E38","v":"All orders subject to acceptance by Tennant Sales and Service Company, Minneapolis, Minnesota"}]
[null,null,{"$f":"Start_Here!E39","v":"Prices subject to change without notice. Subject to any applicable taxes."}]
[null,null,{"$f":"Start_Here!E40","v":"Terms:  Net 30 days.  Payable in Canadian Funds"}]
[null,null,{"$f":"Start_Here!E41","v":"Freight:  Accessories, parts, supplies, detergents, and floor coatings orders delivered DDP "}]
[null,null,{"$f":"Start_Here!E42","v":"shipping point Frt PPD.  Machine orders delivered DDP shipping point Frt PPD and add."}]
[null,null,{"$f":"Start_Here!E43","v":"Returned Merchandise is subject to a restocking fee."}]
[null,null,{"$f":"Start_Here!E45","v":"Printed General Terms and Conditions are also available upon request."}]
[null,null,{"$f":"Start_Here!E46","v":0}]
[]
[]
[null,null,null,null,"Quote Date :",null,{"$f":"Letter!$A$25","v":"2014-10-02"}]
["Order Placement Information:  To place your order, fill in PO# and customer signatures,"]
["call or fax to the numbers listed below. Customer Purchase Order is required."]
["If information is missing, orders will be entered and held until all information is received."]
[null,null,"Customer Number",null,"Cust Grp 3"]
[null,null,{"$f":"Start_Here!$C$25","v":0},null,{"$f":"Start_Here!$C$29","v":0}]
[null,null,{"$f":"Start_Here!$B$18","v":"Who Owns the Machine? (Sold-To Info) (Please Verify)"}]
["Company",null,{"$f":"Start_Here!$C$19","v":"Company Name"}]
["Address",null,{"$f":"Start_Here!$C$20","v":"Address"}]
[null,null,{"$f":"Start_Here!$C$21","v":"City, State Zip"}]
["Name",null,{"$f":"Start_Here!$C$22","v":"Contact Name"}]
["Phone",null,{"$f":"Start_Here!$C$23","v":"Contact Phone"}]
[null,null,{"$f":"Start_Here!$B$11","v":"Where is the Machine Being Shipped? (Ship-To Info) (Please Verify)"}]
["Company",null,{"$f":"Start_Here!$C$12","v":"Company Name"}]
["Address",null,{"$f":"Start_Here!$C$13","v":"Address"}]
[null,null,{"$f":"Start_Here!$C$14","v":"City, State Zip"}]
["Name",null,{"$f":"Start_Here!$C$15","v":"Contact Name"}]
["Phone",null,{"$f":"Start_Here!$C$16","v":"Contact Phone"}]
[null,null,{"$f":"Start_Here!$B$31","v":"Shipping / Carrier Instructions:"},null,"Order Special Instructions:"]
[null,null,{"$f":"Start_Here!$C$32","v":0}]
[]
[null,null,"Customer Purchase Order No."]
[null,null,"(please attach copy)"]
[]
[]
[null,null,"Tax Exempt",null,"Yes"]
[null,null,null,null,"No"]
[null,null,"If Yes, attach a copy of your exemption certificate."]
[]
[null,null,"Requested Delivery Date"]
[null,null,{"$f":"Start_Here!$C$28","v":0}]
[]
[null,null,{"$f":"Start_Here!$C$26","v":0},null,{"$f":"Start_Here!$C$27","v":0}]
[null,null,"Authorized Buyer (please print)",null,"Phone Number"]
[]
[]
[null,null,"Authorized Buyer Signature"]
[]
[null,null,{"$f":"Start_Here!$C$41","v":"Rep Name"}]
[null,null,"Tennant Representative"]
[]
["Specialized Maintenance Equipment"]
[{"$f":"Start_Here!$C$48","v":"TENNANT · 10400 Clean Street · Eden Prairie, MN 55344 ·"}]
[{"$f":"Start_Here!$C$49","v":" PHONE:800-553-8033 · FAX:763-513-2116"}]
[]
[null,"Special Information "]
[]
[]
[null,"1","Pre-Configured Machines cannot add or change options.  All units are packaged on a Skid w/Carton and will ship via LTL Carrier."]
[null,null,"When ordering, provide the reference number listed above.  Price does not include freight or tax.  Availability of units "]
[null,null,"and lead time may vary."]
[]
[null,"2","One pad driver comes standard with a T2."]
[]
[null,3,"Skid w/Carton, Stackable is the default packaging method and will be added to the configuration unless otherwise specified."]
[]
[null,4,"Machine Weights and dimensions","Skid w/Carton"]
[]
[null,null,"Weight (w/105AH battery)","331 lbs / 150 Kg"]
[null,null,"Length","47\" / 1200mm"]
[null,null,"Width","30\" / 750mm"]
[null,null,"Height","45\" / 1150mm"]

{"sheet":"T260","index":13,"n_rows":157,"n_cols":14,"rows_kept":157,"cut":false,"hidden":false,"merged":[[63,5,63,6],[82,3,82,4],[0,2,0,3],[1,2,1,3],[2,2,2,3],[3,2,3,3],[63,3,63,4],[65,3,65,4],[65,5,65,6],[77,4,77,8],[79,3,79,6],[81,3,81,4],[84,3,84,4],[84,5,84,6],[85,3,85,4],[85,5,85,6],[86,3,86,4],[86,5,86,6],[87,3,87,4],[87,5,87,6],[88,3,88,4],[88,5,88,6],[89,3,89,4],[89,5,89,6],[90,3,90,4],[90,5,90,6],[99,2,99,6],[118,4,118,6],[120,0,120,1],[120,2,120,5],[129,0,129,1],[129,2,129,5],[121,0,121,1],[121,2,121,5],[122,2,122,5],[123,0,123,1],[123,2,123,5],[124,0,124,1],[124,2,124,5],[126,0,126,1],[126,2,126,5],[127,0,127,1],[127,2,127,5],[128,2,128,5],[145,4,145,5],[130,0,130,1],[130,2,130,5],[132,4,132,6],[134,2,134,5],[135,2,135,5],[136,2,136,5]]}
["T260",null,{"$f":"Start_Here!$C19","v":"Company Name"}]
[{"$f":"SUM(G58)","v":0},null,{"$f":"Start_Here!$C20","v":"Address"}]
[null,null,{"$f":"Start_Here!$C21","v":"City, State Zip"}]
[null,null,{"$f":"Start_Here!$C22","v":"Contact Name"}]
[null,null,{"$f":"Start_Here!$C$41","v":"Rep Name"}]
[null,null,{"$f":"Start_Here!$C$37","v":"Tennant Sales and Service Company"}]
[null,null,{"$f":"Start_Here!$C$38","v":"10400 Clean Street"}]
[null,null,{"$f":"Start_Here!$C$39","v":"Eden Prairie, MN 55344"}]
[null,null,{"$f":"Start_Here!$C$43","v":"800-553-8033"},null,"Quote Date :",null,{"$f":"Letter!$A$25","v":"2014-10-02"}]
[]
[null,null,{"$f":"Help!C2","v":"CAN Date Rev - 5/6/2025"}]
[]
[null,null,"TENNANT COMPANY WARRANTY"]
[null,null,"1 YEAR BATTERY CHARGER"]
[null,null,"1 YEAR BATTERY PRO-RATED"]
[null,null,"10 YEARS ON DURAMERTM ROTOMOLD TANKS - ALL MACHINES"]
[null,null,"3 YEARS or 1000 HRS PARTS"]
[null,null,"1 YEAR - LABOR, 3 MONTHS TRAVEL"]
[]
[]
[]
[null,null,null,null,"                Quote Request Information"]
[null,null,null,null,null,null,"Fax (quote only)"]
[null,null,null,null,null,null,"Mail (quote,lit, specs)"]
[null,null,null,null,null,null,"Fax + Mail"]
[]
[]
[null,null,"Description","Reference No.","Canada Price","Qty.","Extended Price"]
[null,null,null,null,"Price",null,null,{"$f":"IFERROR(IFERROR(VLOOKUP(D29,Surcharge!A:B,2,FALSE)*F29, VLOOKUP(D29 & \"\",Surcharge!A:B,2,FALSE)*F29), \"\")","v":""},null,null,null,{"$f":"SUM(F29)","v":0},"Surcharge Qty"]
[null,null,"Cleaning Type",null,null,{"$f":"SUM(F32)","v":0},null,{"$f":"IFERROR(IFERROR(VLOOKUP(D30,Surcharge!A:B,2,FALSE)*F30, VLOOKUP(D30 & \"\",Surcharge!A:B,2,FALSE)*F30), \"\")","v":""},null,null,null,0,"Surcharge Qty"]
[]
[null,null,"T260 Walk Behind Scrubber - Pad Assist - 135AH Sealed Gel Batteries","TN8001004",6878,null,{"$f":"F32*E32","v":0}]
[null,null,"20in (50cm) single disk cleaning path, Linatex squeegee blades. Includes off-board charger, 2-12V sealed Gel batteries, nylon brush, pad driver, and 1 red pad.",null,null,{"$f":"SUM(F32)","v":0}]
[]
[null,null,"Shipped on skid.",null,null,{"$f":"SUM(F32)","v":0}]
[null,null,"T260 - Pad Assist - Shipping Weight and Dimensions","Skid w/Carton",null,{"$f":"SUM(F33)","v":0}]
[null,null,"Weight (w/ batteries)","364 lb ",null,0]
[null,null,"Length","54.3 in / 138 cm",null,0]
[null,null,"Width","24 in / 61cm",null,0]
[null,null,"Height","47.24 in / 120 cm",null,0]
[]
[]
[null,null,null,null,{"$f":"ROUND(SUM(G29:G42), 0)","v":0},{"$f":"SUM(E44)","v":0}]
[null,null,null,"Machine Subtotal ",{"$f":"ROUND(SUM(G29:G42), 0)","v":0},{"$f":"F43","v":0}]
[null,"Discounts",null,null,null,{"$f":"SUM(F46)","v":0}]
[null,null,null,null,null,{"$f":"SUM(F48:F51)","v":0}]
[null,null,null,"Applicable Currency Adj %",null,{"$f":"IF(E47 <> \"\", 1, 0)","v":0},{"$f":"IF(F47*(E47*0.01)*E43 < 0, F47*(E47*0.01)*E43, -(F47*(E47*0.01)*E43))","v":0}]
[null,null,null,"Discount %",null,{"$f":"IF(E48 <> \"\", 1, 0)","v":0},{"$f":"IF(F48*(E48*0.01)*(E43+G47) < 0, F48*(E48*0.01)*(E43+G47), -(F48*(E48*0.01)*(E43+G47)))","v":0}]
[null,null,null,"Discount $",null,{"$f":"IF(E49 <> \"\", 1, 0)","v":0},{"$f":"IF(F49*E49 < 0, F49*E49, -(F49*E49))","v":0}]
[null,null,null,"Discount $",null,{"$f":"IF(E50 <> \"\", 1, 0)","v":0},{"$f":"IF(F50*E50 < 0, F50*E50, -(F50*E50))","v":0}]
[null,null,null,"Discount $",null,{"$f":"IF(E51 <> \"\", 1, 0)","v":0},{"$f":"IF(F51*E51 < 0, F51*E51, -(F51*E51))","v":0}]
[null,null,null,"Discount Total ",{"$f":"SUM(G47:G51)","v":0},{"$f":"SUM(E52)","v":0}]
[null,null,null,null,null,{"$f":"#REF!","v":{"$error":"#REF!"}}]
[null,null,null,null,null,{"$f":"F53","v":{"$error":"#REF!"}}]
[null,null,"Prepaid and Add","Freight",null,{"$f":"IF(E55 <> \"\", 1, 0)","v":0},{"$f":"F55*E55","v":0}]
[null,null,"Subject to all applicable taxes","Tax",null,{"$f":"IF(E56 <> \"\", 1, 0)","v":0},{"$f":"F56*E56","v":0}]
[null,null,null,null,null,{"$f":"SUM(F58)","v":0}]
[null,null,null,"MACHINE TOTAL*",null,{"$f":"SUM(G58)","v":0},{"$f":"SUM(G29:G56)","v":0},null,null,null,null,null,null,"This goes to \"My Documents\""]
[null,null,null,null,null,null,{"$f":"SUM(G58)","v":0}]
[]
[]
[]
[]
[null,null,"First Western Equipment Finance - Leasing Calculation Option:","Option 1",null,"Option 2",null,null,{"$f":"Financing!A38","v":"Rates 2025 - Rev 2/4/2025"}]
[null,null,null,"Monthly Payment","Cost Per Day","Monthly Payment","Cost Per Day",null,{"$f":"Financing!A39","v":"“Blank Payment Amounts Indicate The Financing Option Or Purchase Options Selected Are Not "}]
[null,null,"Purchase Option:","FWEF:  $1 Buyout Lease",null,"FWEF: Municipal Lease",null,null,{"$f":"Financing!A40","v":"Applicable Or The Machine Total Is Below The Minimum Amount For The Selected Vendor”"}]
[null,null,"24 Months",false,0,false,0,null,{"$f":"Financing!A41","v":"\"Quoted monthly payments are estimates only and are based on a certain level of credit rating."}]
[null,null,"30 Months",false,0,false,0,null,{"$f":"Financing!A42","v":"Actual monthly payments may be higher depending on your credit rating.\""}]
[null,null,"36 Months",false,0,false,0,null,{"$f":"Financing!A43","v":"“Financing rates do not include Pre-Paid Service”"}]
[null,null,"48 Months",0,0,0,0]
[]
[null,null,null,"Benefits of Equipment Financing:"]
[null,null,null,"• Spreads out investment over time.",null,"• Keep current with latest technology."]
[null,null,null,"• Preserve capital.",null,"• Service and parts bundling available."]
[null,null,null,"• Low monthly payment.",null,"• Pay for labor savings as you go."]
[null,"   TennantTrue",null,null,0,0]
[]
[null,null,"Is customer interested in service program?","Yes","*State/County selection required for TennantTrue service options"]
[]
[null,null,"If not, why?"]
[]
[null,null,"Term:",36,null,null,"AB Brushes","No"]
[null,null,"Monthly machine usage (hrs):","< 30/mo. (Avg. 1hr./day)"]
[]
[null,null,"TennantTrue: ","Gold Contract",null,"Silver Contract"]
[null,null,"Per Visit",null,null,425]
[null,null,"Monthly",null,null,69]
[null,null,"Annually",null,null,816]
[null,null,"Pre-Pay Full Term",null,null,2397]
[null,null,"Hourly Labor Rate"]
[null,null,"Site Visit"]
[]
[null,null,"* Verify customer current pricing prior to quote. "]
[null,null,"**All rates and fees above reflect service for one (1) unit with the exception of Block of Time service."]
[null,null,"*Block of Time is available in 1 Year Term only and is priced as such no matter the term selection on this template."]
[]
[]
[]
[null,null,"Quote Special Instructions:"]
[]
[]
[null,null,{"$f":"Start_Here!E36","v":"Terms and Conditions"}]
[null,null,{"$f":"Start_Here!E37","v":"Ask your local sales rep for estimated lead times. Verify when placing order"}]
[null,null,{"$f":"Start_Here!E38","v":"All orders subject to acceptance by Tennant Sales and Service Company, Minneapolis, Minnesota"}]
[null,null,{"$f":"Start_Here!E39","v":"Prices subject to change without notice. Subject to any applicable taxes."}]
[null,null,{"$f":"Start_Here!E40","v":"Terms:  Net 30 days.  Payable in Canadian Funds"}]
[null,null,{"$f":"Start_Here!E41","v":"Freight:  Accessories, parts, supplies, detergents, and floor coatings orders delivered DDP "}]
[null,null,{"$f":"Start_Here!E42","v":"shipping point Frt PPD.  Machine orders delivered DDP shipping point Frt PPD and add."}]
[null,null,{"$f":"Start_Here!E43","v":"Returned Merchandise is subject to a restocking fee."}]
[null,null,{"$f":"Start_Here!E45","v":"Printed General Terms and Conditions are also available upon request."}]
[null,null,{"$f":"Start_Here!E46","v":0}]
[]
[]
[null,null,null,null,"Quote Date :",null,{"$f":"Letter!$A$25","v":"2014-10-02"}]
["Order Placement Information:  To place your order, fill in PO# and customer signatures,"]
["call or fax to the numbers listed below. Customer Purchase Order is required."]
["If information is missing, orders will be entered and held until all information is received."]
[null,null,"Customer Number",null,"Cust Grp 3"]
[null,null,{"$f":"Start_Here!$C$25","v":0},null,{"$f":"Start_Here!$C$29","v":0}]
[null,null,{"$f":"Start_Here!$B$18","v":"Who Owns the Machine? (Sold-To Info) (Please Verify)"}]
["Company",null,{"$f":"Start_Here!$C$19","v":"Company Name"}]
["Address",null,{"$f":"Start_Here!$C$20","v":"Address"}]
[null,null,{"$f":"Start_Here!$C$21","v":"City, State Zip"}]
["Name",null,{"$f":"Start_Here!$C$22","v":"Contact Name"}]
["Phone",null,{"$f":"Start_Here!$C$23","v":"Contact Phone"}]
[null,null,{"$f":"Start_Here!$B$11","v":"Where is the Machine Being Shipped? (Ship-To Info) (Please Verify)"}]
["Company",null,{"$f":"Start_Here!$C$12","v":"Company Name"}]
["Address",null,{"$f":"Start_Here!$C$13","v":"Address"}]
[null,null,{"$f":"Start_Here!$C$14","v":"City, State Zip"}]
["Name",null,{"$f":"Start_Here!$C$15","v":"Contact Name"}]
["Phone",null,{"$f":"Start_Here!$C$16","v":"Contact Phone"}]
[null,null,{"$f":"Start_Here!$B$31","v":"Shipping / Carrier Instructions:"},null,"Order Special Instructions:"]
[null,null,{"$f":"Start_Here!$C$32","v":0}]
[]
[null,null,"Customer Purchase Order No."]
[null,null,"(please attach copy)"]
[]
[]
[null,null,"Tax Exempt",null,"Yes"]
[null,null,null,null,"No"]
[null,null,"If Yes, attach a copy of your exemption certificate."]
[]
[null,null,"Requested Delivery Date"]
[null,null,{"$f":"Start_Here!$C$28","v":0}]
[]
[null,null,{"$f":"Start_Here!$C$26","v":0},null,{"$f":"Start_Here!$C$27","v":0}]
[null,null,"Authorized Buyer (please print)",null,"Phone Number"]
[]
[]
[null,null,"Authorized Buyer Signature"]
[]
[null,null,{"$f":"Start_Here!$C$41","v":"Rep Name"}]
[null,null,"Tennant Representative"]
[]
["Specialized Maintenance Equipment"]
[{"$f":"Start_Here!$C$48","v":"TENNANT · 10400 Clean Street · Eden Prairie, MN 55344 ·"}]
[{"$f":"Start_Here!$C$49","v":" PHONE:800-553-8033 · FAX:763-513-2116"}]

{"sheet":"T391_T291","index":14,"n_rows":237,"n_cols":14,"rows_kept":237,"cut":false,"hidden":false,"merged":[[225,4,225,5],[210,0,210,1],[210,2,210,5],[212,4,212,6],[214,2,214,5],[215,2,215,5],[216,2,216,5],[209,0,209,1],[209,2,209,5],[201,0,201,1],[201,2,201,5],[202,2,202,5],[203,0,203,1],[203,2,203,5],[204,0,204,1],[204,2,204,5],[206,0,206,1],[206,2,206,5],[207,0,207,1],[207,2,207,5],[208,2,208,5],[170,3,170,4],[170,5,170,6],[179,2,179,6],[198,4,198,6],[200,0,200,1],[200,2,200,5],[167,3,167,4],[167,5,167,6],[168,3,168,4],[168,5,168,6],[169,3,169,4],[169,5,169,6],[164,3,164,4],[164,5,164,6],[165,3,165,4],[165,5,165,6],[166,3,166,4],[166,5,166,6],[143,5,143,6],[162,3,162,4],[0,2,0,3],[1,2,1,3],[2,2,2,3],[3,2,3,3],[143,3,143,4],[145,3,145,4],[145,5,145,6],[157,4,157,8],[159,3,159,6],[161,3,161,4]]}
["T391_T291",null,{"$f":"Start_Here!$C19","v":"Company Name"}]
[{"$f":"SUM(G138)","v":0},null,{"$f":"Start_Here!$C20","v":"Address"}]
[null,null,{"$f":"Start_Here!$C21","v":"City, State Zip"}]
[null,null,{"$f":"Start_Here!$C22","v":"Contact Name"}]
[null,null,{"$f":"Start_Here!$C$41","v":"Rep Name"}]
[null,null,{"$f":"Start_Here!$C$37","v":"Tennant Sales and Service Company"}]
[null,null,{"$f":"Start_Here!$C$38","v":"10400 Clean Street"}]
[null,null,{"$f":"Start_Here!$C$39","v":"Eden Prairie, MN 55344"}]
[null,null,{"$f":"Start_Here!$C$43","v":"800-553-8033"},null,"Quote Date :",null,{"$f":"Letter!$A$25","v":"2014-10-02"}]
[]
[null,null,{"$f":"Help!C2","v":"CAN Date Rev - 5/6/2025"}]
[]
[null,null,"TENNANT COMPANY WARRANTY"]
[null,null,"1 YEAR BATTERY CHARGER "]
[null,null,"1 YEAR BATTERY PRO-RATED "]
[null,null,"10 YEARS ON DURAMERTM ROTOMOLD TANKS - ALL MACHINES"]
[null,null,"3 YEARS or 1500 HRS PARTS"]
[null,null,"2 YEARS - LABOR, 6 MONTHS TRAVEL"]
[]
[]
[]
[null,null,null,null,"                Quote Request Information"]
[null,null,null,null,null,null,"Fax (quote only)"]
[null,null,null,null,null,null,"Mail (quote,lit, specs)"]
[null,null,null,null,null,null,"Fax + Mail"]
[]
[]
[null,null,"Description","Reference No.","Canada Price","Qty.","Extended Price"]
[null,null,null,null,"Price",null,null,{"$f":"IFERROR(IFERROR(VLOOKUP(D29,Surcharge!A:B,2,FALSE)*F29, VLOOKUP(D29 & \"\",Surcharge!A:B,2,FALSE)*F29), \"\")","v":""},null,null,null,{"$f":"SUM(F29)","v":0},"Surcharge Qty"]
[null,null,"Cleaning Type",null,null,{"$f":"SUM(F32:F62)","v":0},null,{"$f":"IFERROR(IFERROR(VLOOKUP(D30,Surcharge!A:B,2,FALSE)*F30, VLOOKUP(D30 & \"\",Surcharge!A:B,2,FALSE)*F30), \"\")","v":""},null,null,null,0,"Surcharge Qty"]
[]
[null,null,"T391 - Walk Behind Scrubber 130AH Wet Batteries",9022790,15067,null,{"$f":"F32*E32","v":0}]
[null,null,"28in (70cm) dual disk cleaning path, conventional, pad driver, red pads, Linatex squeegee blades. Includes onboard charger, 2-12V batteries",null,null,{"$f":"SUM(F32)","v":0}]
[null,null,null,null,null,{"$f":"SUM(F35)","v":0}]
[null,null,"T391 - Walk Behind Scrubber 140AH Sealed AGM Batteries",9022789,16576,null,{"$f":"F35*E35","v":0}]
[null,null,"28in (70cm) dual disk cleaning path, conventional, pad driver, red pads, Linatex squeegee blades. Includes onboard charger, 2-12V batteries",null,null,{"$f":"SUM(F35)","v":0}]
[]
[null,null,"T391 - Walk Behind Scrubber 130AH Wet Batteries w/ EcH2O nanoclean",9022792,19044,null,{"$f":"F38*E38","v":0}]
[null,null,"28in (70cm) dual disk cleaning path, ecH2O nanoclean with severe environment, pad driver, red pads, Linatex squeegee blades. Includes onboard charger, 2-12V batteries",null,null,{"$f":"SUM(F38)","v":0}]
[]
[null,null,"T391 - Walk Behind Scrubber 90 AH Li-Ion  Battery",9300496,18567,null,{"$f":"F41*E41","v":0}]
[null,null,"28in (70cm) dual disk cleaning path, conventional, pad driver, red pads, Linatex squeegee blades. Includes onboard charger, 1-24V battery",null,null,{"$f":"SUM(F41)","v":0}]
[]
[null,null,"T391 - Walk Behind Scrubber 140AH Sealed AGM Batteries w/ EcH2O nanoclean",9022791,20553,null,{"$f":"F44*E44","v":0}]
[null,null,"28in (70cm) dual disk cleaning path, ecH2O nanoclean with severe environment, pad driver, red pads, Linatex squeegee blades. Includes onboard charger, 2-12V batteries",null,null,{"$f":"SUM(F44)","v":0}]
[]
[null,null,"T391 - Walk Behind Scrubber 90AH Li-Ion Battery w/ EcH2O nanoclean",9300497,22545,null,{"$f":"F47*E47","v":0}]
[null,null,"28in (70cm) dual disk cleaning path, ecH2O nanoclean with severe environment, pad driver, red pads, Linatex squeegee blades. Includes onboard charger, 1-24V battery",null,null,{"$f":"SUM(F47)","v":0}]
[]
[null,null,"T391 - Walk Behind Scrubber 130AH Wet Batteries",9022794,16229,null,{"$f":"F50*E50","v":0}]
[null,null,"32in (80cm) dual disk cleaning path, conventional, pad driver, red pads, Linatex squeegee blades. Includes onboard charger, 2-12V batteries",null,null,{"$f":"SUM(F50)","v":0}]
[]
[null,null,"T391 - Walk Behind Scrubber 140AH Sealed AGM Batteries",9022793,17738,null,{"$f":"F53*E53","v":0}]
[null,null,"32in (80cm) dual disk cleaning path, conventional, pad driver, red pads, Linatex squeegee blades. Includes onboard charger, 2-12V batteries",null,null,{"$f":"SUM(F53)","v":0}]
[]
[null,null,"T391 - Walk Behind Scrubber 90AH Li-Ion Battery",9300498,19729,null,{"$f":"F56*E56","v":0}]
[null,null,"32in (80cm) dual disk cleaning path, conventional, pad driver, red pads, Linatex squeegee blades. Includes onboard charger, 1-24V battery",null,null,{"$f":"SUM(F56)","v":0}]
[]
[null,null,"T391 - Walk Behind Scrubber 130AH Wet Batteries w/ EcH2O nanoclean",9022796,20206,null,{"$f":"F59*E59","v":0}]
[null,null,"32in (80cm) dual disk cleaning path, ecH2O nanoclean with severe environment, pad driver, red pads, Linatex squeegee blades. Includes onboard charger, 2-12V batteries",null,null,{"$f":"SUM(F59)","v":0}]
[]
[null,null,"T391 - Walk Behind Scrubber 140AH Sealed AGM Batteries w/ EcH2O nanoclean",9022795,21715,null,{"$f":"F62*E62","v":0}]
[null,null,"32in (80cm) dual disk cleaning path, ecH2O nanoclean with severe environment, pad driver, red pads, Linatex squeegee blades. Includes onboard charger, 2-12V batteries",null,null,{"$f":"SUM(F62)","v":0}]
[]
[null,null,"T391 - Walk Behind Scrubber 90AH Battery w/ EcH2O nanoclean",9300499,23707,null,{"$f":"F65*E65","v":0}]
[null,null,"32in (80cm) dual disk cleaning path, ecH2O nanoclean with severe environment, pad driver, red pads, Linatex squeegee blades. Includes onboard charger, 1-24V battery",null,null,{"$f":"SUM(F65)","v":0}]
[]
[]
[null,null,"T391 - Shipping Weight and Dimensions",null,null,{"$f":"SUM(F30)","v":0}]
[null,null,"Weight (w/ heaviest batteries)","422.8 lbs",null,{"$f":"SUM(F31)","v":0}]
[null,null,"Length","52.55 in / 134 cm",null,{"$f":"SUM(F32)","v":0}]
[null,null,"Width","30.70 in / 78 cm",null,{"$f":"SUM(F33)","v":0}]
[null,null,"Height","45.11 in / 115 cm",null,{"$f":"SUM(F34)","v":0}]
[]
[]
[null,null,"T291 - Walk Behind Scrubber - Pad Assist - 130AH Wet Batteries",9300480,8809,null,{"$f":"F76*E76","v":0}]
[null,null,"20in (50cm) single disk cleaning path, conventional cleaning,  Linatex squeegee blades. Includes on-board charger, splash guard, 2-12V batteries, pad driver, and 1 red pad.",null,null,{"$f":"SUM(F76)","v":0}]
[]
[null,null,"T291 - Walk Behind Scrubber - Pad Assist - 140AH Sealed AGM Batteries",9300484,10318,null,{"$f":"F79*E79","v":0}]
[]
[null,null,"T291 - Walk Behind Scrubber - Pad Assist - 90AH Li-Ion Battery",9300488,12309,null,{"$f":"F81*E81","v":0}]
[]
[null,null,"T291 - Walk Behind Scrubber - Pad Assist - No Battery",9300492,8179,null,{"$f":"F83*E83","v":0}]
[null,null,null,null,null,{"$f":"SUM(F83)","v":0}]
[]
[null,null,"T291 - Walk Behind Scrubber - Self Propel - 130AH Wet Batteries",9300482,10629,null,{"$f":"F86*E86","v":0}]
[null,null,"20in (50cm) single disk cleaning path, conventional cleaning, self-propel, Linatex squeegee blades. Includes on-board charger, splash guard, 2-12V batteries, pad driver, and 1 red pad.",null,null,{"$f":"SUM(F86)","v":0}]
[]
[null,null,"T291 - Walk Behind Scrubber - Self Propel - 140AH Sealed AGM Batteries",9300486,12138,null,{"$f":"F89*E89","v":0}]
[]
[null,null,"T291 - Walk Behind Scrubber - Self Propel - 90AH Li-Ion Battery",9300490,14129,null,{"$f":"F91*E91","v":0}]
[]
[null,null,"T291 - Walk Behind Scrubber - Self Propel - No Battery",9300494,9999,null,{"$f":"F93*E93","v":0}]
[]
[]
[null,null,"T291 - Walk Behind Scrubber - Pad Assist - ec-H20 NanoClean w/ severe environment - 130AH Wet Batteries",9300481,11715,null,{"$f":"F96*E96","v":0}]
[null,null,"20in (50cm) single disk cleaning path, ec-H20 NanoClean w/ severe environment, pad-assist, Linatex squeegee blades. Includes on-board charger, splash guard, 2-12V batteries, pad driver, and 1 red pad.",null,null,{"$f":"SUM(F96)","v":0}]
[]
[null,null,"T291 - Walk Behind Scrubber - Pad Assist - ec-H20 NanoClean w/ severe environment - 140AH AGM Batteries",9300485,13224,null,{"$f":"F99*E99","v":0}]
[]
[null,null,"T291 - Walk Behind Scrubber - Pad Assist - ec-H20 NanoClean w/ severe environment - 90AH Li-Ion Battery",9300489,15216,null,{"$f":"F101*E101","v":0}]
[]
[null,null,"T291 - Walk Behind Scrubber - Pad Assist - ec-H20 NanoClean w/ severe environment - No Battery",9300493,11085,null,{"$f":"F103*E103","v":0}]
[]
[]
[null,null,"T291 - Walk Behind Scrubber - Self Propel - ec-H20 NanoClean w/ severe environment - 130AH Wet Batteries",9300483,13535,null,{"$f":"F106*E106","v":0}]
[null,null,"20in (50cm) single disk cleaning path, ec-H20 NanoClean w/ severe environment, self-propel, Linatex squeegee blades. Includes on-board charger, splash guard, 2-12V batteries, pad driver, and 1 red pad.",null,null,{"$f":"SUM(F106)","v":0}]
[]
[null,null,"T291 - Walk Behind Scrubber - Self Propel - ec-H20 NanoClean w/ severe environment - 140AH AGM Batteries",9300487,15044,null,{"$f":"F109*E109","v":0}]
[]
[null,null,"T291 - Walk Behind Scrubber - Self Propel - ec-H20 NanoClean w/ severe environment - 90AH Li-Ion Battery",9300491,17036,null,{"$f":"F111*E111","v":0}]
[null,null,null,null,null,{"$f":"SUM(F109)","v":0}]
[null,null,"T291 - Walk Behind Scrubber - Self Propel - ec-H20 NanoClean w/ severe environment - No Battery",9300495,12905,null,{"$f":"F113*E113","v":0}]
[null,null,null,null,null,{"$f":"SUM(F113)","v":0}]
[]
[null,null,"T291 - Shipping Weight and Dimensions",null,null,{"$f":"SUM(F76:F113)","v":0}]
[null,null,"Weight (w/ heaviest batteries)","390.22 lbs",null,{"$f":"SUM(F116)","v":0}]
[null,null,"Length","53.74 in / 137 cm",null,{"$f":"SUM(F117)","v":0}]
[null,null,"Width","27.36 in / 70 cm",null,0]
[null,null,"Height","45.11 in / 115 cm",null,0]
[]
[]
[null,null,null,null,{"$f":"ROUND(SUM(G29:G122), 0)","v":0},{"$f":"SUM(E124)","v":0}]
[null,null,null,"Machine Subtotal ",{"$f":"ROUND(SUM(G29:G122), 0)","v":0},{"$f":"F123","v":0}]
[null,"Discounts",null,null,null,{"$f":"SUM(F126)","v":0}]
[null,null,null,null,null,{"$f":"SUM(F128:F131)","v":0}]
[null,null,null,"Applicable Currency Adj %",null,{"$f":"IF(E127 <> \"\", 1, 0)","v":0},{"$f":"IF(F127*(E127*0.01)*E123 < 0, F127*(E127*0.01)*E123, -(F127*(E127*0.01)*E123))","v":0}]
[null,null,null,"Discount %",null,{"$f":"IF(E128 <> \"\", 1, 0)","v":0},{"$f":"IF(F128*(E128*0.01)*(E123+G127) < 0, F128*(E128*0.01)*(E123+G127), -(F128*(E128*0.01)*(E123+G127)))","v":0}]
[null,null,null,"Discount $",null,{"$f":"IF(E129 <> \"\", 1, 0)","v":0},{"$f":"IF(F129*E129 < 0, F129*E129, -(F129*E129))","v":0}]
[null,null,null,"Discount $",null,{"$f":"IF(E130 <> \"\", 1, 0)","v":0},{"$f":"IF(F130*E130 < 0, F130*E130, -(F130*E130))","v":0}]
[null,null,null,"Discount $",null,{"$f":"IF(E131 <> \"\", 1, 0)","v":0},{"$f":"IF(F131*E131 < 0, F131*E131, -(F131*E131))","v":0}]
[null,null,null,"Discount Total ",{"$f":"SUM(G127:G131)","v":0},{"$f":"SUM(E132)","v":0}]
[null,null,null,null,null,{"$f":"#REF!","v":{"$error":"#REF!"}}]
[null,null,null,null,null,{"$f":"F133","v":{"$error":"#REF!"}}]
[null,null,"Prepaid and Add","Freight",null,{"$f":"IF(E135 <> \"\", 1, 0)","v":0},{"$f":"F135*E135","v":0}]
[null,null,"Subject to all applicable taxes","Tax",null,{"$f":"IF(E136 <> \"\", 1, 0)","v":0},{"$f":"F136*E136","v":0}]
[null,null,null,null,null,{"$f":"SUM(F138)","v":0}]
[null,null,null,"MACHINE TOTAL*",null,{"$f":"SUM(G138)","v":0},{"$f":"SUM(G29:G136)","v":0},null,null,null,null,null,null,"This goes to \"My Documents\""]
[null,null,null,null,null,null,{"$f":"SUM(G138)","v":0}]
[]
[]
[]
[]
[null,null,"First Western Equipment Finance - Leasing Calculation Option:","Option 1",null,"Option 2",null,null,{"$f":"Financing!A38","v":"Rates 2025 - Rev 2/4/2025"}]
[null,null,null,"Monthly Payment","Cost Per Day","Monthly Payment","Cost Per Day",null,{"$f":"Financing!A39","v":"“Blank Payment Amounts Indicate The Financing Option Or Purchase Options Selected Are Not "}]
[null,null,"Purchase Option:","FWEF:  $1 Buyout Lease",null,"FWEF: Municipal Lease",null,null,{"$f":"Financing!A40","v":"Applicable Or The Machine Total Is Below The Minimum Amount For The Selected Vendor”"}]
[null,null,"24 Months",false,0,false,0,null,{"$f":"Financing!A41","v":"\"Quoted monthly payments are estimates only and are based on a certain level of credit rating."}]
[null,null,"30 Months",false,0,false,0,null,{"$f":"Financing!A42","v":"Actual monthly payments may be higher depending on your credit rating.\""}]
[null,null,"36 Months",false,0,false,0,null,{"$f":"Financing!A43","v":"“Financing rates do not include Pre-Paid Service”"}]
[null,null,"48 Months",0,0,0,0]
[]
[null,null,null,"Benefits of Equipment Financing:"]
[null,null,null,"• Spreads out investment over time.",null,"• Keep current with latest technology."]
[null,null,null,"• Preserve capital.",null,"• Service and parts bundling available."]
[null,null,null,"• Low monthly payment.",null,"• Pay for labor savings as you go."]
[null,"   TennantTrue",null,null,0,0]
[]
[null,null,"Is customer interested in service program?","Yes","*State/County selection required for TennantTrue service options"]
[]
[null,null,"If not, why?"]
[]
[null,null,"Term:",36,null,null,"AB Brushes","No"]
[null,null,"Monthly machine usage (hrs):","< 30/mo. (Avg. 1hr./day)"]
[]
[null,null,"TennantTrue: ","Gold Contract",null,"Silver Contract"]
[null,null,"Per Visit",null,null,425]
[null,null,"Monthly",129,null,69]
[null,null,"Annually",null,null,816]
[null,null,"Pre-Pay Full Term",4444,null,2397]
[null,null,"Hourly Labor Rate"]
[null,null,"Site Visit"]
[]
[null,null,"* Verify customer current pricing prior to quote. "]
[null,null,"**All rates and fees above reflect service for one (1) unit with the exception of Block of Time service."]
[null,null,"*Block of Time is available in 1 Year Term only and is priced as such no matter the term selection on this template."]
[]
[]
[]
[null,null,"Quote Special Instructions:"]
[]
[]
[null,null,{"$f":"Start_Here!E36","v":"Terms and Conditions"}]
[null,null,{"$f":"Start_Here!E37","v":"Ask your local sales rep for estimated lead times. Verify when placing order"}]
[null,null,{"$f":"Start_Here!E38","v":"All orders subject to acceptance by Tennant Sales and Service Company, Minneapolis, Minnesota"}]
[null,null,{"$f":"Start_Here!E39","v":"Prices subject to change without notice. Subject to any applicable taxes."}]
[null,null,{"$f":"Start_Here!E40","v":"Terms:  Net 30 days.  Payable in Canadian Funds"}]
[null,null,{"$f":"Start_Here!E41","v":"Freight:  Accessories, parts, supplies, detergents, and floor coatings orders delivered DDP "}]
[null,null,{"$f":"Start_Here!E42","v":"shipping point Frt PPD.  Machine orders delivered DDP shipping point Frt PPD and add."}]
[null,null,{"$f":"Start_Here!E43","v":"Returned Merchandise is subject to a restocking fee."}]
[null,null,{"$f":"Start_Here!E45","v":"Printed General Terms and Conditions are also available upon request."}]
[null,null,{"$f":"Start_Here!E46","v":0}]
[]
[]
[null,null,null,null,"Quote Date :",null,{"$f":"Letter!$A$25","v":"2014-10-02"}]
["Order Placement Information:  To place your order, fill in PO# and customer signatures,"]
["call or fax to the numbers listed below. Customer Purchase Order is required."]
["If information is missing, orders will be entered and held until all information is received."]
[null,null,"Customer Number",null,"Cust Grp 3"]
[null,null,{"$f":"Start_Here!$C$25","v":0},null,{"$f":"Start_Here!$C$29","v":0}]
[null,null,{"$f":"Start_Here!$B$18","v":"Who Owns the Machine? (Sold-To Info) (Please Verify)"}]
["Company",null,{"$f":"Start_Here!$C$19","v":"Company Name"}]
["Address",null,{"$f":"Start_Here!$C$20","v":"Address"}]
[null,null,{"$f":"Start_Here!$C$21","v":"City, State Zip"}]
["Name",null,{"$f":"Start_Here!$C$22","v":"Contact Name"}]
["Phone",null,{"$f":"Start_Here!$C$23","v":"Contact Phone"}]
[null,null,{"$f":"Start_Here!$B$11","v":"Where is the Machine Being Shipped? (Ship-To Info) (Please Verify)"}]
["Company",null,{"$f":"Start_Here!$C$12","v":"Company Name"}]
["Address",null,{"$f":"Start_Here!$C$13","v":"Address"}]
[null,null,{"$f":"Start_Here!$C$14","v":"City, State Zip"}]
["Name",null,{"$f":"Start_Here!$C$15","v":"Contact Name"}]
["Phone",null,{"$f":"Start_Here!$C$16","v":"Contact Phone"}]
[null,null,{"$f":"Start_Here!$B$31","v":"Shipping / Carrier Instructions:"},null,"Order Special Instructions:"]
[null,null,{"$f":"Start_Here!$C$32","v":0}]
[]
[null,null,"Customer Purchase Order No."]
[null,null,"(please attach copy)"]
[]
[]
[null,null,"Tax Exempt",null,"Yes"]
[null,null,null,null,"No"]
[null,null,"If Yes, attach a copy of your exemption certificate."]
[]
[null,null,"Requested Delivery Date"]
[null,null,{"$f":"Start_Here!$C$28","v":0}]
[]
[null,null,{"$f":"Start_Here!$C$26","v":0},null,{"$f":"Start_Here!$C$27","v":0}]
[null,null,"Authorized Buyer (please print)",null,"Phone Number"]
[]
[]
[null,null,"Authorized Buyer Signature"]
[]
[null,null,{"$f":"Start_Here!$C$41","v":"Rep Name"}]
[null,null,"Tennant Representative"]
[]
["Specialized Maintenance Equipment"]
[{"$f":"Start_Here!$C$48","v":"TENNANT · 10400 Clean Street · Eden Prairie, MN 55344 ·"}]
[{"$f":"Start_Here!$C$49","v":" PHONE:800-553-8033 · FAX:763-513-2116"}]

{"sheet":"T581_T390_T290","index":15,"n_rows":213,"n_cols":16,"rows_kept":213,"cut":false,"hidden":false,"merged":[[190,2,190,5],[191,2,191,5],[192,2,192,5],[201,4,201,5],[184,2,184,5],[185,0,185,1],[185,2,185,5],[186,0,186,1],[186,2,186,5],[188,4,188,6],[180,0,180,1],[180,2,180,5],[182,0,182,1],[182,2,182,5],[183,0,183,1],[183,2,183,5],[179,0,179,1],[179,2,179,5],[145,3,145,4],[145,5,145,6],[146,3,146,4],[146,5,146,6],[155,2,155,6],[174,4,174,6],[176,0,176,1],[176,2,176,5],[177,0,177,1],[177,2,177,5],[178,2,178,5],[142,3,142,4],[142,5,142,6],[143,3,143,4],[143,5,143,6],[144,3,144,4],[144,5,144,6],[141,5,141,6],[119,3,119,4],[119,5,119,6],[121,3,121,4],[121,5,121,6],[133,4,133,8],[135,3,135,6],[137,3,137,4],[138,3,138,4],[140,3,140,4],[140,5,140,6],[0,2,0,3],[1,2,1,3],[2,2,2,3],[3,2,3,3],[141,3,141,4]]}
["T581_T390_T290",null,{"$f":"Start_Here!$C19","v":"Company Name"}]
[{"$f":"SUM(G114)","v":0},null,{"$f":"Start_Here!$C20","v":"Address"}]
[null,null,{"$f":"Start_Here!$C21","v":"City, State Zip"}]
[null,null,{"$f":"Start_Here!$C22","v":"Contact Name"}]
[null,null,{"$f":"Start_Here!$C$41","v":"Rep Name"}]
[null,null,{"$f":"Start_Here!$C$37","v":"Tennant Sales and Service Company"}]
[null,null,{"$f":"Start_Here!$C$38","v":"10400 Clean Street"}]
[null,null,{"$f":"Start_Here!$C$39","v":"Eden Prairie, MN 55344"}]
[null,null,{"$f":"Start_Here!$C$43","v":"800-553-8033"},null,"Quote Date :",null,{"$f":"Letter!$A$25","v":"2014-10-02"}]
[]
[null,null,{"$f":"Help!C2","v":"CAN Date Rev - 5/6/2025"}]
[]
[]
[null,null,"TENNANT COMPANY WARRANTY"]
[null,null,"3 YEARS OR 2000 HOURS - PARTS"]
[null,null,"2 YEARS - LABOR, 6 MONTHS TRAVEL"]
[null,null,"1 YEAR BATTERY CHARGER "]
[null,null,"1 YEAR BATTERY PRO-RATED"]
[null,null,"10 YEARS ON DURAMERTM ROTOMOLD TANKS - ALL MACHINES"]
[]
[null,null,null,null,"                Quote Request Information"]
[null,null,null,null,null,null,"Fax (quote only)"]
[null,null,null,null,null,null,"Mail (quote,lit, specs)"]
[null,null,null,null,null,null,"Fax + Mail"]
[]
[]
[null,null,"Description","Reference No.","Canada Price","Qty.","Extended Price"]
[null,null,null,"Reference Number","Price",null,null,{"$f":"IFERROR(IFERROR(VLOOKUP(D28,Surcharge!A:B,2,FALSE)*F28, VLOOKUP(D28 & \"\",Surcharge!A:B,2,FALSE)*F28), \"\")","v":""},null,null,null,{"$f":"SUM(F28)","v":0},"Surcharge Qty"]
[null,null,"Cleaning Type",null,null,{"$f":"SUM(F30)","v":0},null,{"$f":"IFERROR(IFERROR(VLOOKUP(D29,Surcharge!A:B,2,FALSE)*F29, VLOOKUP(D29 & \"\",Surcharge!A:B,2,FALSE)*F29), \"\")","v":""},null,null,null,0,"Surcharge Qty"]
[null,null,null,null,null,{"$f":"SUM(F31)","v":0},null,{"$f":"IFERROR(IFERROR(VLOOKUP(D30,Surcharge!A:B,2,FALSE)*F30, VLOOKUP(D30 & \"\",Surcharge!A:B,2,FALSE)*F30), \"\")","v":""},null,null,null,0,"Surcharge Qty"]
[null,null,"T581 - Ride-On Micro Scrubber  - 150AH Wet Batteries",9022008,17483,null,{"$f":"F31*E31","v":0},{"$f":"IFERROR(IFERROR(VLOOKUP(D31,Surcharge!A:B,2,FALSE)*F31, VLOOKUP(D31 & \"\",Surcharge!A:B,2,FALSE)*F31), \"\")","v":""},null,null,null,{"$f":"SUM(F31)","v":0},"Surcharge Qty",null,null,{"$f":"VLOOKUP(D31,'MPF SAP Canada Pre-Configured'!$C:$E,3,FALSE)","v":16810}]
[null,null,"20in (50cm) single disk cleaning path, Linatex squeegee blades. Includes onboard charger, 2-12V batteries, pad driver, and 1 red pad.",null,null,{"$f":"SUM(F31)","v":0},null,{"$f":"IFERROR(IFERROR(VLOOKUP(D32,Surcharge!A:B,2,FALSE)*F32, VLOOKUP(D32 & \"\",Surcharge!A:B,2,FALSE)*F32), \"\")","v":""},null,null,null,{"$f":"SUM(F32)","v":0},"Surcharge Qty"]
[null,null,null,null,null,{"$f":"SUM(F34)","v":0},null,{"$f":"IFERROR(IFERROR(VLOOKUP(D33,Surcharge!A:B,2,FALSE)*F33, VLOOKUP(D33 & \"\",Surcharge!A:B,2,FALSE)*F33), \"\")","v":""},null,null,null,{"$f":"SUM(F33)","v":0},"Surcharge Qty"]
[null,null,"T581 - Ride-On Micro Scrubber  - 140AH Sealed AGM Batteries",9022009,19053,null,{"$f":"F34*E34","v":0},{"$f":"IFERROR(IFERROR(VLOOKUP(D34,Surcharge!A:B,2,FALSE)*F34, VLOOKUP(D34 & \"\",Surcharge!A:B,2,FALSE)*F34), \"\")","v":""},null,null,null,0,"Surcharge Qty",null,null,{"$f":"VLOOKUP(D34,'MPF SAP Canada Pre-Configured'!$C:$E,3,FALSE)","v":18320}]
[null,null,null,null,null,{"$f":"SUM(F42)","v":0}]
[null,null,"T581 -  Ride-On Micro-Scrubber - 90AH Li-Ion Battery",9300510,20984,null,{"$f":"F36*E36","v":0}]
[null,null,"20in (50cm) single disk cleaning path, Linatex squeegee blades. Includes onboard charger, 1-24V battery, pad driver, and 1 red pad.",null,null,{"$f":"SUM(F36)","v":0}]
[]
[null,null,"T581 -  Ride-On Micro-Scrubber - 180AH Li-Ion Batteries",9300511,24064,null,{"$f":"F39*E39","v":0}]
[null,null,"20in (50cm) single disk cleaning path, Linatex squeegee blades. Includes onboard charger, 2-24V batteries, pad driver, and 1 red pad.",null,null,{"$f":"SUM(F39)","v":0}]
[]
[null,null,"T581 - Ride-On Micro Scrubber  - NO Batteries",1255470,16893,null,{"$f":"F42*E42","v":0},null,null,null,null,null,null,null,null,{"$f":"VLOOKUP(D42,'MPF SAP Canada Pre-Configured'!$C:$E,3,FALSE)","v":16243}]
[]
[null,null,"Shipped on skid.",null,null,{"$f":"SUM(F31:F42)","v":0}]
[null,null,"T581 - Self-Propel - Shipping Weight and Dimensions","Skid w/Carton",null,{"$f":"SUM(F44)","v":0}]
[null,null,"Weight","520 lb / 236 kg",null,{"$f":"SUM(F45)","v":0},null,{"$f":"IFERROR(IFERROR(VLOOKUP(D46,Surcharge!A:B,2,FALSE)*F46, VLOOKUP(D46 & \"\",Surcharge!A:B,2,FALSE)*F46), \"\")","v":""},null,null,null,0,"Surcharge Qty"]
[null,null,"Length","57 in / 145 cm",null,0,null,{"$f":"IFERROR(IFERROR(VLOOKUP(D47,Surcharge!A:B,2,FALSE)*F47, VLOOKUP(D47 & \"\",Surcharge!A:B,2,FALSE)*F47), \"\")","v":""},null,null,null,0,"Surcharge Qty"]
[null,null,"Width","32 in / 82cm",null,0,null,{"$f":"IFERROR(IFERROR(VLOOKUP(D48,Surcharge!A:B,2,FALSE)*F48, VLOOKUP(D48 & \"\",Surcharge!A:B,2,FALSE)*F48), \"\")","v":""}]
[null,null,"Height","45 in / 114.5 cm",null,0,null,{"$f":"IFERROR(IFERROR(VLOOKUP(D49,Surcharge!A:B,2,FALSE)*F49, VLOOKUP(D49 & \"\",Surcharge!A:B,2,FALSE)*F49), \"\")","v":""}]
[null,null,null,null,null,null,null,{"$f":"IFERROR(IFERROR(VLOOKUP(D50,Surcharge!A:B,2,FALSE)*F50, VLOOKUP(D50 & \"\",Surcharge!A:B,2,FALSE)*F50), \"\")","v":""}]
[null,null,null,null,null,null,null,{"$f":"IFERROR(IFERROR(VLOOKUP(D51,Surcharge!A:B,2,FALSE)*F51, VLOOKUP(D51 & \"\",Surcharge!A:B,2,FALSE)*F51), \"\")","v":""}]
[null,null,"T390 - Walk Behind Scrubber - Self-Propel - 150AH Wet Batteries",9022006,15128,null,{"$f":"F52*E52","v":0},{"$f":"IFERROR(IFERROR(VLOOKUP(D52,Surcharge!A:B,2,FALSE)*F52, VLOOKUP(D52 & \"\",Surcharge!A:B,2,FALSE)*F52), \"\")","v":""},null,null,null,null,null,null,null,{"$f":"VLOOKUP(D52,'MPF SAP Canada Pre-Configured'!$C:$E,3,FALSE)","v":14408}]
[null,null,"28in (70cm), dual disk cleaning path, Linatex squeegee blades. Includes onboard charger,  2-12V batteries, pad driver, and 1 red pad.",null,null,{"$f":"SUM(F52)","v":0},null,{"$f":"IFERROR(IFERROR(VLOOKUP(D53,Surcharge!A:B,2,FALSE)*F53, VLOOKUP(D53 & \"\",Surcharge!A:B,2,FALSE)*F53), \"\")","v":""}]
[null,null,null,null,null,{"$f":"SUM(F55)","v":0},null,{"$f":"IFERROR(IFERROR(VLOOKUP(D54,Surcharge!A:B,2,FALSE)*F54, VLOOKUP(D54 & \"\",Surcharge!A:B,2,FALSE)*F54), \"\")","v":""}]
[null,null,"T390 - Walk Behind Scrubber - Self-Propel - 140AH Sealed AGM Batteries",9022007,16715,null,{"$f":"F55*E55","v":0},{"$f":"IFERROR(IFERROR(VLOOKUP(D55,Surcharge!A:B,2,FALSE)*F55, VLOOKUP(D55 & \"\",Surcharge!A:B,2,FALSE)*F55), \"\")","v":""},null,null,null,null,null,null,null,{"$f":"VLOOKUP(D55,'MPF SAP Canada Pre-Configured'!$C:$E,3,FALSE)","v":15919}]
[null,null,null,null,null,{"$f":"SUM(F57)","v":0}]
[null,null,"T390 - Walk Behind Scrubber - Self-Propel - No Batteries",1255469,14534,null,{"$f":"F57*E57","v":0},null,null,null,null,null,null,null,null,{"$f":"VLOOKUP(D57,'MPF SAP Canada Pre-Configured'!$C:$E,3,FALSE)","v":13842}]
[null,null,null,null,null,{"$f":"SUM(F55)","v":0},null,{"$f":"IFERROR(IFERROR(VLOOKUP(D58,Surcharge!A:B,2,FALSE)*F58, VLOOKUP(D58 & \"\",Surcharge!A:B,2,FALSE)*F58), \"\")","v":""}]
[null,null,"Shipped on skid.",null,null,{"$f":"SUM(F52:F57)","v":0}]
[null,null,"T390 - Self-Propel - Shipping Weight and Dimensions","Skid w/Carton",null,{"$f":"SUM(F59)","v":0}]
[null,null,"Weight","438 lb / 199 kg",null,{"$f":"SUM(F60)","v":0}]
[null,null,"Length","50 in / 127 cm",null,0]
[null,null,"Width","33 in / 84cm",null,0]
[null,null,"Height","45 in / 114.5 cm",null,0]
[]
[]
[null,null,"T290 - Walk Behind Scrubber - Pad Assist - 130AH Wet Batteries",9022000,8752,null,{"$f":"F67*E67","v":0},null,null,null,null,null,null,null,null,{"$f":"VLOOKUP(D67,'MPF SAP Canada Pre-Configured'!$C:$E,3,FALSE)","v":8497}]
[null,null,"20in (50cm) single disk cleaning path, Linatex squeegee blades. Includes on-board charger, 2-12V batteries, pad driver, and 1 red pad.",null,null,{"$f":"SUM(F67)","v":0}]
[]
[null,null,"T290 - Walk Behind Scrubber - Pad Assist - 150AH Wet Batteries",9022001,8937,null,{"$f":"F70*E70","v":0},null,null,null,null,null,null,null,null,{"$f":"VLOOKUP(D70,'MPF SAP Canada Pre-Configured'!$C:$E,3,FALSE)","v":8676}]
[null,null,null,null,null,{"$f":"SUM(F72)","v":0}]
[null,null,"T290 - Walk Behind Scrubber - Pad Assist - 140AH Sealed AGM Batteries",9022002,10494,null,{"$f":"F72*E72","v":0},null,null,null,null,null,null,null,null,{"$f":"VLOOKUP(D72,'MPF SAP Canada Pre-Configured'!$C:$E,3,FALSE)","v":10188}]
[null,null,null,null,null,{"$f":"SUM(F74)","v":0}]
[null,null,"T290 - Walk Behind Scrubber - Pad Assist - NO Batteries",1255467,8169,null,{"$f":"F74*E74","v":0},null,null,null,null,null,null,null,null,{"$f":"VLOOKUP(D74,'MPF SAP Canada Pre-Configured'!$C:$E,3,FALSE)","v":7931}]
[]
[null,null,"T290 - Walk Behind Scrubber - Self-Propel - 130AH Wet Batteries",9022003,10716,null,{"$f":"F76*E76","v":0},null,null,null,null,null,null,null,null,{"$f":"VLOOKUP(D76,'MPF SAP Canada Pre-Configured'!$C:$E,3,FALSE)","v":10403}]
[null,null,"20in (50cm) single disk cleaning path, Linatex squeegee blades. Includes on-board charger, 2-12V batteries, pad driver, and 1 red pad.",null,null,{"$f":"SUM(F76)","v":0},null,{"$f":"IFERROR(IFERROR(VLOOKUP(D77,Surcharge!A:B,2,FALSE)*F77, VLOOKUP(D77 & \"\",Surcharge!A:B,2,FALSE)*F77), \"\")","v":""}]
[null,null,null,null,null,{"$f":"SUM(F79)","v":0},null,{"$f":"IFERROR(IFERROR(VLOOKUP(D78,Surcharge!A:B,2,FALSE)*F78, VLOOKUP(D78 & \"\",Surcharge!A:B,2,FALSE)*F78), \"\")","v":""}]
[null,null,"T290 - Walk Behind Scrubber - Self Propel - 150AH Wet Batteries",9022004,10903,null,{"$f":"F79*E79","v":0},{"$f":"IFERROR(IFERROR(VLOOKUP(D79,Surcharge!A:B,2,FALSE)*F79, VLOOKUP(D79 & \"\",Surcharge!A:B,2,FALSE)*F79), \"\")","v":""},null,null,null,null,null,null,null,{"$f":"VLOOKUP(D79,'MPF SAP Canada Pre-Configured'!$C:$E,3,FALSE)","v":10585}]
[null,null,null,null,null,{"$f":"SUM(F81)","v":0},null,{"$f":"IFERROR(IFERROR(VLOOKUP(D80,Surcharge!A:B,2,FALSE)*F80, VLOOKUP(D80 & \"\",Surcharge!A:B,2,FALSE)*F80), \"\")","v":""}]
[null,null,"T290 - Walk Behind Scrubber - Self Propel - 140AH Sealed AGM Batteries",9022005,12457,null,{"$f":"F81*E81","v":0},{"$f":"IFERROR(IFERROR(VLOOKUP(D81,Surcharge!A:B,2,FALSE)*F81, VLOOKUP(D81 & \"\",Surcharge!A:B,2,FALSE)*F81), \"\")","v":""},null,null,null,null,null,null,null,{"$f":"VLOOKUP(D81,'MPF SAP Canada Pre-Configured'!$C:$E,3,FALSE)","v":12094}]
[null,null,null,null,null,{"$f":"SUM(F83)","v":0}]
[null,null,"T290 - Walk Behind Scrubber - Self Propel - No Batteries",1255468,10132,null,{"$f":"F83*E83","v":0},null,null,null,null,null,null,null,null,{"$f":"VLOOKUP(D83,'MPF SAP Canada Pre-Configured'!$C:$E,3,FALSE)","v":9836}]
[null,null,null,null,null,null,null,{"$f":"IFERROR(IFERROR(VLOOKUP(D84,Surcharge!A:B,2,FALSE)*F84, VLOOKUP(D84 & \"\",Surcharge!A:B,2,FALSE)*F84), \"\")","v":""}]
[null,null,"Shipped on skid.",null,null,{"$f":"SUM(F67:F74)","v":0}]
[null,null,"T290 - Pad Assist - Shipping Weight and Dimensions","Skid w/Carton",null,{"$f":"SUM(F85)","v":0}]
[null,null,"Weight","390 lb / 177 kg",null,{"$f":"SUM(F86)","v":0}]
[null,null,"Length","50 in / 127 cm",null,0]
[null,null,"Width","27 in / 69cm",null,0]
[null,null,"Height","45 in / 114.5 cm",null,0]
[]
[null,null,"T290 - Self-Propel - Shipping Weight and Dimensions",null,null,{"$f":"SUM(F76:F83)","v":0}]
[null,null,"Weight","401 lb / 182 kg",null,{"$f":"SUM(F92)","v":0}]
[null,null,"Length","50 in / 127 cm",null,{"$f":"SUM(F93)","v":0}]
[null,null,"Width","27 in / 69cm",null,0,null,{"$f":"IFERROR(IFERROR(VLOOKUP(D95,Surcharge!A:B,2,FALSE)*F95, VLOOKUP(D95 & \"\",Surcharge!A:B,2,FALSE)*F95), \"\")","v":""}]
[null,null,"Height","45 in / 114.5 cm",null,0,null,{"$f":"IFERROR(IFERROR(VLOOKUP(D96,Surcharge!A:B,2,FALSE)*F96, VLOOKUP(D96 & \"\",Surcharge!A:B,2,FALSE)*F96), \"\")","v":""}]
[]
[]
[null,null,null,null,{"$f":"ROUND(SUM(G28:G98), 0)","v":0},{"$f":"SUM(E100)","v":0}]
[null,null,null,"Machine Subtotal ",{"$f":"ROUND(SUM(G28:G98), 0)","v":0},{"$f":"F99","v":0}]
[null,"Discounts",null,null,null,{"$f":"SUM(F102)","v":0}]
[null,null,null,null,null,{"$f":"SUM(F104:F107)","v":0}]
[null,null,null,"Applicable Currency Adj %",null,{"$f":"IF(E103 <> \"\", 1, 0)","v":0},{"$f":"IF(F103*(E103*0.01)*E99 < 0, F103*(E103*0.01)*E99, -(F103*(E103*0.01)*E99))","v":0}]
[null,null,null,"Discount %",null,{"$f":"IF(E104 <> \"\", 1, 0)","v":0},{"$f":"IF(F104*(E104*0.01)*(E99+G103) < 0, F104*(E104*0.01)*(E99+G103), -(F104*(E104*0.01)*(E99+G103)))","v":0}]
[null,null,null,"Discount $",null,{"$f":"IF(E105 <> \"\", 1, 0)","v":0},{"$f":"IF(F105*E105 < 0, F105*E105, -(F105*E105))","v":0}]
[null,null,null,"Discount $",null,{"$f":"IF(E106 <> \"\", 1, 0)","v":0},{"$f":"IF(F106*E106 < 0, F106*E106, -(F106*E106))","v":0}]
[null,null,null,"Discount $",null,{"$f":"IF(E107 <> \"\", 1, 0)","v":0},{"$f":"IF(F107*E107 < 0, F107*E107, -(F107*E107))","v":0}]
[null,null,null,"Discount Total ",{"$f":"SUM(G103:G107)","v":0},{"$f":"SUM(E108)","v":0}]
[null,null,null,null,null,{"$f":"#REF!","v":{"$error":"#REF!"}}]
[null,null,null,null,null,{"$f":"F109","v":{"$error":"#REF!"}}]
[null,null,"Prepaid and Add","Freight",null,{"$f":"IF(E111 <> \"\", 1, 0)","v":0},{"$f":"F111*E111","v":0}]
[null,null,"Subject to all applicable taxes","Tax",null,{"$f":"IF(E112 <> \"\", 1, 0)","v":0},{"$f":"F112*E112","v":0}]
[null,null,null,null,null,{"$f":"SUM(F114)","v":0}]
[null,null,null,"MACHINE TOTAL*",null,{"$f":"SUM(G114)","v":0},{"$f":"SUM(G28:G112)","v":0},null,null,null,null,null,null,"This goes to \"My Documents\""]
[null,null,null,null,null,null,{"$f":"SUM(G114)","v":0}]
[]
[]
[]
[]
[null,null,"First Western Equipment Finance - Leasing Calculation Option:","Option 1",null,"Option 2",null,null,{"$f":"Financing!A38","v":"Rates 2025 - Rev 2/4/2025"}]
[null,null,null,"Monthly Payment","Cost Per Day","Monthly Payment","Cost Per Day",null,{"$f":"Financing!A39","v":"“Blank Payment Amounts Indicate The Financing Option Or Purchase Options Selected Are Not "}]
[null,null,"Purchase Option:","FWEF:  $1 Buyout Lease",null,"FWEF: Municipal Lease",null,null,{"$f":"Financing!A40","v":"Applicable Or The Machine Total Is Below The Minimum Amount For The Selected Vendor”"}]
[null,null,"24 Months",false,0,false,0,null,{"$f":"Financing!A41","v":"\"Quoted monthly payments are estimates only and are based on a certain level of credit rating."}]
[null,null,"30 Months",false,0,false,0,null,{"$f":"Financing!A42","v":"Actual monthly payments may be higher depending on your credit rating.\""}]
[null,null,"36 Months",false,0,false,0,null,{"$f":"Financing!A43","v":"“Financing rates do not include Pre-Paid Service”"}]
[null,null,"48 Months",0,0,0,0]
[]
[null,null,null,"Benefits of Equipment Financing:"]
[null,null,null,"• Spreads out investment over time.",null,"• Keep current with latest technology."]
[null,null,null,"• Preserve capital.",null,"• Service and parts bundling available."]
[null,null,null,"• Low monthly payment.",null,"• Pay for labor savings as you go."]
[null,"   TennantTrue",null,null,0,0]
[]
[null,null,"Is customer interested in service program?","Yes","*State/County selection required for TennantTrue service options"]
[]
[null,null,"If not, why?"]
[]
[null,null,"Term:",36,null,null,"AB Brushes","No"]
[null,null,"Monthly machine usage (hrs):","< 30/mo. (Avg. 1hr./day)"]
[]
[null,null,"TennantTrue: ","Gold Contract",null,"Silver Contract"]
[null,null,"Per Visit",null,null,425]
[null,null,"Monthly",129,null,69]
[null,null,"Annually",null,null,816]
[null,null,"Pre-Pay Full Term",4444,null,2397]
[null,null,"Hourly Labor Rate"]
[null,null,"Site Visit"]
[]
[null,null,"* Verify customer current pricing prior to quote. "]
[null,null,"**All rates and fees above reflect service for one (1) unit with the exception of Block of Time service."]
[null,null,"*Block of Time is available in 1 Year Term only and is priced as such no matter the term selection on this template."]
[]
[]
[]
[null,null,"Quote Special Instructions:"]
[]
[]
[null,null,{"$f":"Start_Here!E36","v":"Terms and Conditions"}]
[null,null,{"$f":"Start_Here!E37","v":"Ask your local sales rep for estimated lead times. Verify when placing order"}]
[null,null,{"$f":"Start_Here!E38","v":"All orders subject to acceptance by Tennant Sales and Service Company, Minneapolis, Minnesota"}]
[null,null,{"$f":"Start_Here!E39","v":"Prices subject to change without notice. Subject to any applicable taxes."}]
[null,null,{"$f":"Start_Here!E40","v":"Terms:  Net 30 days.  Payable in Canadian Funds"}]
[null,null,{"$f":"Start_Here!E41","v":"Freight:  Accessories, parts, supplies, detergents, and floor coatings orders delivered DDP "}]
[null,null,{"$f":"Start_Here!E42","v":"shipping point Frt PPD.  Machine orders delivered DDP shipping point Frt PPD and add."}]
[null,null,{"$f":"Start_Here!E43","v":"Returned Merchandise is subject to a restocking fee."}]
[null,null,{"$f":"Start_Here!E45","v":"Printed General Terms and Conditions are also available upon request."}]
[null,null,{"$f":"Start_Here!E46","v":0}]
[]
[]
[null,null,null,null,"Quote Date :",null,{"$f":"Letter!$A$25","v":"2014-10-02"}]
["Order Placement Information:  To place your order, fill in PO# and customer signatures,"]
["call or fax to the numbers listed below. Customer Purchase Order is required."]
["If information is missing, orders will be entered and held until all information is received."]
[null,null,"Customer Number",null,"Cust Grp 3"]
[null,null,{"$f":"Start_Here!$C$25","v":0},null,{"$f":"Start_Here!$C$29","v":0}]
[null,null,{"$f":"Start_Here!$B$18","v":"Who Owns the Machine? (Sold-To Info) (Please Verify)"}]
["Company",null,{"$f":"Start_Here!$C$19","v":"Company Name"}]
["Address",null,{"$f":"Start_Here!$C$20","v":"Address"}]
[null,null,{"$f":"Start_Here!$C$21","v":"City, State Zip"}]
["Name",null,{"$f":"Start_Here!$C$22","v":"Contact Name"}]
["Phone",null,{"$f":"Start_Here!$C$23","v":"Contact Phone"}]
[null,null,{"$f":"Start_Here!$B$11","v":"Where is the Machine Being Shipped? (Ship-To Info) (Please Verify)"}]
["Company",null,{"$f":"Start_Here!$C$12","v":"Company Name"}]
["Address",null,{"$f":"Start_Here!$C$13","v":"Address"}]
[null,null,{"$f":"Start_Here!$C$14","v":"City, State Zip"}]
["Name",null,{"$f":"Start_Here!$C$15","v":"Contact Name"}]
["Phone",null,{"$f":"Start_Here!$C$16","v":"Contact Phone"}]
[null,null,{"$f":"Start_Here!$B$31","v":"Shipping / Carrier Instructions:"},null,"Order Special Instructions:"]
[null,null,{"$f":"Start_Here!$C$32","v":0}]
[]
[null,null,"Customer Purchase Order No."]
[null,null,"(please attach copy)"]
[]
[]
[null,null,"Tax Exempt",null,"Yes"]
[null,null,null,null,"No"]
[null,null,"If Yes, attach a copy of your exemption certificate."]
[]
[null,null,"Requested Delivery Date"]
[null,null,{"$f":"Start_Here!$C$28","v":0}]
[]
[null,null,{"$f":"Start_Here!$C$26","v":0},null,{"$f":"Start_Here!$C$27","v":0}]
[null,null,"Authorized Buyer (please print)",null,"Phone Number"]
[]
[]
[null,null,"Authorized Buyer Signature"]
[]
[null,null,{"$f":"Start_Here!$C$41","v":"Rep Name"}]
[null,null,"Tennant Representative"]
[]
["Specialized Maintenance Equipment"]
[{"$f":"Start_Here!$C$48","v":"TENNANT · 10400 Clean Street · Eden Prairie, MN 55344 ·"}]
[{"$f":"Start_Here!$C$49","v":" PHONE:800-553-8033 · FAX:763-513-2116"}]

{"sheet":"MPF SAP Canada Pre-Configured","index":16,"n_rows":224,"n_cols":5,"rows_kept":224,"cut":false,"hidden":true,"merged":[]}
["Master Price File Canada (Canadian MPF) - PreConfigured Machines"]
[]
["Download Date:",null,"2022-11-02"]
["Price Adj Effective Date:",null,"2023-01-01"]
["Table name =",null,"MPF_Table_Canada_PreConfigured"]
[]
["Product Hierarchy","Description","Material","Material Description","2022 List"]
["301003","CS5",1251580,"SCRUBBER [CS5 BATTERY  NAM]",4224]
["301004135","CS16","LPTB03328","SCRUBBER [CS16 BATTERY  NA]",5944]
["302404","S8",9001401,"SWEEPER, 28INCH, 12VDC, GEL, TJ",7569]
["302506","S9 (Battery Sweeper)",1069648,"SWEEPER, 90CM, 12V [S9 NA, W/O B,W/ C]",6792]
["302508","S6",1251268,"SWEEPER [S6 NA EX W/ BATT, CORD]",4606]
["302509","Scout 6",1251270,"SWEEPER [SCOUT 6  W/ BATT, CORD]",4606]
["302510","S7",1251272,"SWEEPER [S7 NA W/ BATT, CORD]",9206]
["302511","Scout 7",1251274,"SWEEPER [SCOUT 7  W BATT, CORD]",9206]
["302601","SS10",9003573,"SWEEPER, NA, FI [S10]",17231]
["304053","S20","MS20-1781","MODEL S20 SWEEPER",52297]
["304053","S20","MS20-5902","MODEL S20 SWEEPER",45502]
["304215","S30","MS30-3567","MODEL S30 RIDER SWEEPER",29211]
["304215","S30","MS30-1766","MODEL S30 RIDER SWEEPER",44940]
["306200","T1",9004191,"SCRUBBER, 38CM, 11L, 120VAC [T1]",6663]
["306200","T1","9004191-H","SCRUBBER, 38CM, 11L, 120VAC [T1]",6663]
["306201","Speed Scrub 15\" (3gal, Cord Elec Cyli","9004200-H","SCRUBBER, 38CM, 11L, 120VAC [SS-15\"]",6663]
["306201","Speed Scrub 15\" (3gal, Cord Elec Cyli",9004200,"SCRUBBER, 38CM, 11L, 120VAC [SS-15]",6663]
["306202","T1B",9008635,"SCRUBBER, 38CM, 11L, 12VDC [T1B NA, AGM]",8611]
["306202","T1B",9016537,"SCRUBBER, 38CM, 11L, 12VDC [T1B AGM IRIS",10176]
["306202","T1B",9008638,"SCRUBBER, 38CM, 11L, 12VDC [T1B NA, Li]",11109]
["306203","SPEEDSCRUB BATT 15\"",9008640,"SCRUBBER, 2 GAL, Li BATT [NOB SS15]",11109]
["306203","SPEEDSCRUB BATT 15\"",9008637,"SCRUBBER, 38CM, 11L, 12VDC [SS-15\", AGM]",8611]
["306300","T2","MV-T2-0001","SCRUBBER, 43CM, PUSH [T2, NA]",11537]
["306300","T2","MV-T2-0008","SCRUBBER, 43CM, PUSH [T2, NA GEL W/BRSH]",10916]
["306304","WB-20  20\" Autoscrub",9002791,"SCRUBBER, 20INCH, 24VDC[WB-20B CTX CMPT]",9715]
["306307","T300","MV-T300-0001","SCRUBBER, 430D, PUSH, MEM [T300D NA]",11848]
["306307","T300","MV-T300-0003","SCRUBBER, 500D, PUSH, MEM [T300D NA]",13316]
["306307","T300","MV-T300-0011","SCRUBBER, 500O, DR, MEM, ECNC[T300 O NA]",19549]
["306307","T300","MV-T300-0007","SCRUBBER, 500D, DR, PRO, ECNC [T300D NA]",19379]
["306307","T300","MV-T300-0010","SCRUBBER, 500O, DR, MEM [T300 O NA]",16644]
["306307","T300","MV-T300-0008","SCRUBBER, 600D, DR, MEM [T300D NA]",17738]
["306307","T300","MV-T300-0004","SCRUBBER, 500D, DR, MEM [T300D NA]",15594]
["306307","T300","MV-T300-0006","SCRUBBER, 500D, DR, PRO [T300D NA]",16474]
["306307","T300","MV-T300-0135","SCRUBBER, 500D, DR, ECNC[T300D, ARMKCB]Y",21894]
["306307","T300","MV-T300-0134","SCRUBBER,500D, DR, ECNC [T300D,ARMK]PW Y",21484]
["306307","T300","MV-T300-0009","SCRUBBER, 600D, DR, PRO, ECNC [T300 NA]",21524]
["306307","T300","MV-T300-0005","SCRUBBER, 500D, DR, MEM, ECNC [T300D NA]",18499]
["306308","T300e","MV-T300E-0007","SCRUBBER, 600D, DR [T300e D NA]",13973]
["306308","T300e","MV-T300E-0002","SCRUBBER, 430D, PUSH [T300e D ECNC NA]",12507]
["306308","T300e","MV-T300E-0004","SCRUBBER, 500D, PUSH, IC,ECN[T300e D NA]",14321]
["306308","T300e","MV-T300E-0010","SCRUBBER, 500O, DR, ECNC [T300e O NA]",17225]
["306308","T300e","MV-T300E-0008","SCRUBBER, 600D, DR, IC, ECNC[T300e D NA]",17914]
["306308","T300e","MV-T300E-0085","SCRUBBER, EX, 500D, PUSH, CNV, 130AH[CA]",11272]
["306308","T300e","MV-T300E-0003","SCRUBBER, 500D, PUSH [T300e D NA]",10752]
["306308","T300e","MV-T300E-0086","SCRUBBER, EX, 500D, PUSH, CNV, AGM [CA]",12992]
["306308","T300e","MV-T300E-0006","SCRUBBER, 500D, DR, IC, ECNC[T300e D NA]",16895]
["306308","T300e","MV-T300E-0027","SCRUBBER, 500O, DR, ECNC [T300e O WM]",19207]
["306308","T300e","MV-T300E-0005","SCRUBBER, 500D,DR,IC,130AH [T300e D NA]",13989]
["306308","T300e","MV-T300E-0009","SCRUBBER, 500O, DR [T300e O NA]",14320]
["306309","SS300","MV-SS300-0006","SCRUBBER, 500D, DR, IC,ECN,130AH[SS300D]",16886]
["306309","SS300","MV-SS300-0003","SCRUBBER, 500D, PUSH, 130AH [SS300D]",10752]
["306309","SS300","MV-SS300-0005","SCRUBBER, 500D, DR, IC, 130AH [SS300D]",13981]
["306309","SS300","MV-SS300-0009","SCRUBBER, 500O, DR, 150AH [SS300 O]",14324]
["306309","SS300","MV-SS300-0010","SCRUBBER, 500O, DR, ECNC, 150AH[SS300 O]",17230]
["306309","SS300","MV-SS300-0012","SCRUBBER, 430D, P, IC,ECNC,130AH[SS300D]",13122]
["306309","SS300","MV-SS300-0001","SCRUBBER, 430D, PUSH, 130AH [SS300D]",9609]
["306309","SS300","MV-SS300-0007","SCRUBBER, 600D, DR, 150AH [SS300D]",13978]
["306309","SS300","MV-SS300-0002","SCRUBBER, 430D, PUSH, ECNC,130AH[SS300D]",12514]
["306309","SS300","MV-SS300-0004","SCRUBBER, 500D, P, IC,ECNC,130AH[SS300D]",14299]
["306309","SS300","MV-SS300-0008","SCRUBBER, 600D, DR, IC,ECNC,150A[SS300D]",17924]
["306327","T290",9022001,"SCRUBBER [T290 50CM, PA, 150AH WET, NA]",8676]
["306327","T290",9022004,"SCRUBBER [T290 50CM, 150AH WET, NA]",10585]
["306327","T290",1255468,"SCRUBBER [T290 50CM, W/O BATT, NA]",9836]
["306327","T290",9022003,"SCRUBBER [T290 50CM, 130AH WET, NA]",10403]
["306327","T290",1255467,"SCRUBBER [T290 50CM, PA, W/O BATT, NA]",7931]
["306327","T290",9022002,"SCRUBBER [T290 50CM, PA, 140AH AGM, NA]",10188]
["306327","T290",9022000,"SCRUBBER [T290 50CM, PA, 130AH WET, NA]",8497]
["306327","T290",9022005,"SCRUBBER [T290 50CM, 140AH AGM, NA]",12094]
["306407","T500","MV-T500-0019","SCRUBBER,T500,650D,MEM,ECNC,225AH,OBC,CA",27165]
["306407","T500","MV-T500-0017","SCRUBBER,T500, 700O, MEM, 225AH, OBC, CA",26040]
["306407","T500","MV-T500-0026","SCRUBBER,T500, 700O, PPAN, 225AH, OBC,CA",31409]
["306407","T500","MV-T500-0023","SCRUBBER,T500,700C,MEM,ECNC,225AH,OBC,CA",30674]
["306407","T500","MV-T500-0025","SCRUBBER,T500, 800D, PPAN, 225AH, OBC,CA",31593]
["306407","T500","MV-T500-0020","SCRUBBER,T500,700D,MEM,ECNC,225AH,OBC,CA",28671]
["306407","T500","MV-T500-0021","SCRUBBER,T500,800D,MEM,ECNC,225AH,OBC,CA",30386]
["306407","T500","MV-T500-0014","SCRUBBER,T500, 650D, MEM, 225AH, OBC, CA",23188]
["306407","T500","MV-T500-0016","SCRUBBER,T500, 800D, MEM, 225AH, OBC, CA",26411]
["306407","T500","MV-T500-0022","SCRUBBER,T500,700O,MEM,ECNC,225AH,OBC,CA",30015]
["306407","T500","MV-T500-0018","SCRUBBER,T500, 700C, MEM, 225AH, OBC, CA",26699]
["306407","T500","MV-T500-0015","SCRUBBER,T500, 700D, MEM, 225AH, OBC, CA",25119]
["306407","T500","MV-T500-0024","SCRUBBER,T500, 700D, PPAN, 225AH, OBC,CA",30463]
["306408","T500e","MV-T500E-0023","SCRUBBER,T500E,650D,ECNC,225AH,OBC,SF,CA",25570]
["306408","T500e","MV-T500E-0017","SCRUBBER, T500E, 800D, 225AH, OBC, CA",22534]
["306408","T500e","MV-T500E-0050","SCRUBBER, T500E,800D,CNV,225AH,OBC,PW,WM",25920]
["306408","T500e","MV-T500E-0024","SCRUBBER,T500E,700D,ECNC,225AH,OBC,SF,CA",26260]
["306408","T500e","MV-T500E-0021","SCRUBBER, T500E, 800D, 225AH, OBC, SF,CA",23818]
["306408","T500e","MV-T500E-0025","SCRUBBER,T500E,800D,ECNC,225AH,OBC,SF,CA",27792]
["306408","T500e","MV-T500E-0018","SCRUBBER, T500E, 700O, 225AH, OBC, CA",22343]
["306408","T500e","MV-T500E-0015","SCRUBBER, T500E, 650D, 225AH, OBC, CA",20312]
["306408","T500e","MV-T500E-0016","SCRUBBER, T500E, 700D, 225AH, OBC, CA",20955]
["306408","T500e","MV-T500E-0020","SCRUBBER, T500E, 700D, 225AH, OBC, SF,CA",22659]
["306408","T500e","MV-T500E-0026","SCRUBBER,T500E,700O,ECNC,225AH,OBC,SF,CA",27601]
["306408","T500e","MV-T500E-0022","SCRUBBER, T500E, 700O, 225AH, OBC, SF,CA",23626]
["306408","T500e","MV-T500E-0051","SCRUBBER,T500E, 700D,CNV,225AH,OBC,PW,WM",24753]
["306408","T500e","MV-T500E-0019","SCRUBBER, T500E, 650D, 225AH, OBC, SF,CA",21595]
["306408","T500e","MV-T500E-0049","SCRUBBER, T500E 800D, CNV, 225AH,OBC,WM",26348]
["306409","SS500","MV-SS500-0015","SCRUBBER, SS500, 800D, 225AH, OBC, CA",22534]
["306409","SS500","MV-SS500-0016","SCRUBBER, SS500, 700O, 225AH, OBC, CA",22343]
["306409","SS500","MV-SS500-0020","SCRUBBER, SS500, 700O, 225AH, OBC, SF,CA",23626]
["306409","SS500","MV-SS500-0024","SCRUBBER,SS500,700O,ECNC,225AH,OBC,SF,CA",27601]
["306409","SS500","MV-SS500-0021","SCRUBBER,SS500,650D,ECNC,225AH,OBC,SF,CA",25570]
["306409","SS500","MV-SS500-0019","SCRUBBER, SS500, 800D, 225AH, OBC, SF,CA",23818]
["306409","SS500","MV-SS500-0010","SCRUBBER,SS500,700D,ECNC,225AH,OBC,SF,PW",26631]
["306409","SS500","MV-SS500-0022","SCRUBBER,SS500,700D,ECNC,225AH,OBC,SF,CA",26786]
["306409","SS500","MV-SS500-0023","SCRUBBER,SS500,800D,ECNC,225AH,OBC,SF,CA",27792]
["306409","SS500","MV-SS500-0014","SCRUBBER, SS500, 700D, 225AH, OBC, CA",21376]
["306409","SS500","MV-SS500-0013","SCRUBBER, SS500, 650D, 225AH, OBC, CA",20309]
["306409","SS500","MV-SS500-0018","SCRUBBER SS500, 700D, 225AH, OBC, SF, CA",22659]
["306409","SS500","MV-SS500-0017","SCRUBBER, SS500, 650D, 225AH, OBC, SF,CA",21595]
["306413","T390",9022007,"SCRUBBER [T390, 70CM, 140AH AGM, NA]",15919]
["306413","T390",9022006,"SCRUBBER [T390, 70CM, 150AH WET, NA]",14408]
["306413","T390",1255469,"SCRUBBER [T390, 70CM, W/O BATT, NA]",13842]
["306505","T600e","MV-T600E-0001","SCRUBBER, T600E, 700D, CNV, 360AH [CA]",26975]
["306505","T600e","MV-T600E-0012","SCRUBBER,T600E,800D, CNV, 360AH [CA]",28123]
["307200","2180SR",9017766,"SCRUBBER [2180SR 50CM NA AND EXPORT]",14295]
["307202","T581",9022009,"SCRUBBER [T581, 50CM, 140AH AGM, NA]",18320]
["307202","T581",1255470,"SCRUBBER [T581, 50CM, W/O BATT, NA]",16243]
["307202","T581",9022008,"SCRUBBER [T581, 50CM, 150AH WET, NA]",16810]
["307500","T7","MV-T7-0049","SCRUBBER, T7, 650D, CNV, 220AH AGM [CA]",36542]
["307500","T7","MV-T7-0073","MV T7 SCRUBBER, 800 DISK [WM]",41069]
["307500","T7","MV-T7-0001","SCRUBBER, 650MM, DISK [T7 RIDER]",32400]
["307500","T7","MV-T7-0048","SCRUBBER, T7, 650D, ECNC, 240AH [CA]",38675]
["307500","T7","MV-T7-0047","SCRUBBER, T7, 650D, CNV, 240AH [CA]",34211]
["307500","T7","MV-T7-0050","SCRUBBER, T7, 650D, ECNC, 220AH AGM [CA]",41006]
["307500","T7","MV-T7-0045","SCRUBBER, 800MM, DISK, 360AH[T7 WALMART",37550]
["307500","T7","MV-T7-0078","SCRUBBER, 650MM, DISK, CNV [T7], [MX]",34859]
["307500","T7","MV-T7-0074","MV T7 SCRUBBER, 800 DISK [WM] PW",40608]
["307600","T12","MV-T12-0011","SCRUBBER MODEL T12, DISK, GRAINGER [US]",38684]
["307600","T12","MV-T12-0012","SCRUBBER MODEL T12, CYL, GRAINGER [US]",39735]
["309100","T350","MV-T350-0013","SCRUBBER,T350,500D,MEM,CNV,210AH,OBC[CA]",20289]
["309100","T350","MV-T350-0017","SCRUBBER,T350,600D,MEM,ECNC,240AH,OBC[CA",27354]
["309100","T350","MV-T350-0033","SCRUBBER,T350,500D,MEM,CNV,210AH,OBC[CA]",21516]
["309100","T350","MV-T350-0016","SCRUBBER,T350,600D,MEM,CNV,210AH,OBC[CA]",22548]
["309100","T350","MV-T350-0015","SCRUBBER, T350,500D,PPAN,ECNC,240AH [CA]",26447]
["309100","T350","MV-T350-0018","SCRUBBER, T350,600D,PPAN,ECNC,240AH [CA]",28705]
["309100","T350","MV-T350-0032","SCRUBBER,T350,600D,MEM,CNV,210AH,SF [CA]",23426]
["309100","T350","MV-T350-0014","SCRUBBER,T350,500D,MEM,ECNC,240AH,OBC[CA",25095]
["309200","SS350","MV-SS350-0011","SCRUBBER,SS350,600D,MEM,CNV,210AH,OBC[CA",22548]
["309200","SS350","MV-SS350-0012","SCRUBBER, SS350,600D,MEM,ECNC,240AH [CA]",27354]
["309200","SS350","MV-SS350-0010","SCRUBBER, SS350,500D,MEM,ECNC,240AH [CA]",25092]
["309200","SS350","MV-SS350-0009","SCRUBBER, SS350,500D,MEM,CNV,210AH [CA]",20286]
["311302","M20","MM20-2032","MODEL M20 SCRUBBER/SWEEPER",32582]
["311302","M20","MV-M20-0032","M20, LP, MEM, CNV [BRAZIL]",110504]
["311302","M20","MM20-3250","MODEL M20 SCRUBBER/SWEEPER",50558]
["311302","M20","MM20-3461","MODEL M20 SCRUBBER/SWEEPER",44812]
["321020","V-BP-6",1217839,"VACUUM, V-BP-6, 120V [TENNANT MEX]",859]
["321020","V-BP-6",9013473,"VACUUM, BACKPACK, W/BASE TOOLS [V-BP-6]",1058]
["321020","V-BP-6",9013475,"VACUUM, BACKPACK, W/PREM TOOLS [V-BP-6]",1248]
["321020","V-BP-6",1060830,"VACUUM, V-BP-6, 120V",950]
["321020","V-BP-6",1215364,"VACUUM, BACKPACK, 120V [TENNANT V-BP-6]",800]
["321020","V-BP-6",9013474,"VACUUM, BACKPACK, W/STD TOOLS [V-BP-6]",1092]
["321023","Aspen 6",1215365,"VACUUM, BACKPACK, 120V [NOBLES ASPEN 6]",830]
["321023","Aspen 6",9013476,"VACUUM, BACKPACK, W/BASE TOOLS [ASPEN 6]",1058]
["321023","Aspen 6",9013478,"VACUUM, BACKPACK, W/PREM TOOLS [ASPEN 6]",1248]
["321023","Aspen 6",9013477,"VACUUM, BACKPACK, W/STD TOOLS [ASPEN 6]",1092]
["321025","V-BP-6B",9017571,"VACUUM, BACKPACK, W/PREM TOOLS[V-BP-6B]",3001]
["321025","V-BP-6B",1236569,"VACUUM, BATTERY [TENNANT, V-BP-6B]",1550]
["321025","V-BP-6B",9017567,"VACUUM, BACKPACK, W/BASIC TOOLS[V-BP-6B]",2722]
["321025","V-BP-6B",9017570,"VACUUM, BACKPACK, W/STD TOOLS [V-BP-6B]",2815]
["321026","Aspen 6B",9017569,"VACUUM, BACKPACK, W/STD TOOLS [ASPEN 6B]",2815]
["321026","Aspen 6B",9017572,"VACUUM, BACKPACK, W/PREM TOOLS[ASPEN 6B]",3001]
["321026","Aspen 6B",9017568,"VACUUM, BACKPACK, W/BASIC TOOLS[ASPEN6B]",2722]
["322075","V-CAN-10",1244292,"VACUUM, CANISTER, 120V [V-CAN-10, NA]",449]
["322076","V-CAN-12",1252616,"VACUUM, CANISTER, 120V [V-CAN-12,NA,STD]",621]
["322077","V-CAN-16",1252618,"VACUUM, CANISTER, 120V [V-CAN-16,NA,STD]",764]
["322078","Denali-10",1244294,"VACUUM, CANISTER, 120V [DENALI-10, NA]",449]
["322079","Denali-12",1252617,"VACUUM, CANISTER,120V [DENALI-12,NA,STD]",621]
["322080","Denali-16",1252619,"VACUUM, CANISTER,120V [DENALI-16,NA,STD]",764]
["323123","V-SMU-14",1060829,"VACUUM, V-SMU-14, 120V",866]
["323126","V-DMU-14",1068027,"VACUUM, V-DMU-14, 120V",1131]
["323129","V-WA-30",1068029,"VACUUM, 120VAC [V-WA-30]",5646]
["323132","V-LWU-13B",1236914,"VACUUM, BATTERY [TENNANT, V-LWU-13B]",1328]
["323133","Independence",1236915,"VACUUM, BATTERY [NOBLES,INDEPENDENCE]",1328]
["324075","V-WD-9",1244345,"VACUUM, WET/DRY, 120V [V-WD-9, NA]",804]
["324076","V-WD-24P",9019349,"VACUUM, WET/DRY, 120V [V-WD-24P, W/SQGE]",3128]
["324076","V-WD-24P",1244346,"VACUUM, WET/DRY, 120V [V-WD-24P, NA]",2519]
["324077","V-WD-24",9019348,"VACUUM, WET/DRY, 120V [V-WD-24, W/SQGE]",1882]
["324077","V-WD-24",1245656,"VACUUM, WET/DRY, 120V [V-WD-24, NA]",1273]
["326025","EX-CAN-10",9007483,"CANISTER, 10GAL [EX-CAN-10]PAC120VCSA-SI",3844]
["326026","EX-CAN-15-HPH",9007628,"CANISTER, 15G [EX-CAN-15-HP]120V CSA-SI",4358]
["326036","EH5",1072858,"EXTRACTOR, 120V, 500PSI, HEAT [EH5]",10023]
["326036","EH5",9011454,"EXTRACTOR, FLOOR TOOL [TCO EH5 PAC]",11983]
["326038","EC2",1072862,"EXTRACTOR, 120V, 200PSI, HEAT [EC2]",5810]
["326038","EC2",9011638,"EXTRACTOR, FLOOR TOOL [TCO EC2 PAC]",7216]
["326038","EC2",9012278,"EXTRACTOR, FLOOR TOOL, TI [TCO EC2 PAC]",7767]
["327002","R3 ReadySpace (15\" Cord Electric)",9004192,"READYSPACE, 5 GAL, 120VAC, TCO [R3]",8181]
["327002","R3 ReadySpace (15\" Cord Electric)","9004192-H","READYSPACE, 5 GAL, 120VAC, TCO [R3]",8181]
["327003","1610 w/ ReadySpace (Tennant)","MV-1610-0001","READYSPACE, 21GAL TCO [1610]",26221]
["327003","1610 w/ ReadySpace (Tennant)","MV-1610-0002","READYSPACE, 21GAL TCO [1610 AGM BAT]",26964]
["327004","Strive w/ ReadySpace (Nobles)",9000504,"READYSPACE, 21GAL [STRIVE]  W/O BAT",23192]
["327004","Strive w/ ReadySpace (Nobles)","MV-STRV-0001","READYSPACE, 21GAL NOB [STRIVE]",26221]
["327004","Strive w/ ReadySpace (Nobles)","MV-STRV-0002","READYSPACE, 21GAL NOB [STRIVE AGM BAT]",26964]
["327007","Nobles ReadySpace (15\" Cord Electric)","9004202-H","READYSPACE, 5 GAL, NOB [STRIVE COMPACT]",8181]
["327007","Nobles ReadySpace (15\" Cord Electric)",9004202,"READYSPACE, 5 GAL, NOB [STRIVE COMPACT]",8181]
["328033","EX-SC-1020",9007486,"EXTRACTOR, 10GAL 20W[120V UL EX-SC-1020]",6659]
["329006","EX-SPOT-2-KIT",9007827,"EXTRACTOR, 2GAL, PAC CSA-SI",1888]
["331018","Nobles E5 (5-Gal Cord)",9004201,"EXTRACTOR, 5GAL, NOB [SPEED EX-15]",6484]
["331018","Nobles E5 (5-Gal Cord)","9004201-H","EXTRACTOR, 5GAL, NOB [SPEED EX-15\"]",6484]
["331019","E5 (5-Gal Cord Electric)","9004194-H","EXTRACTOR, 5GAL, 120VAC, TCO [E5]]",6484]
["331019","E5 (5-Gal Cord Electric)",9004194,"EXTRACTOR, 5GAL, 120VAC, TCO [E5]",6484]
["331021","Falcon 2800 Plus",608352,"EXTRACTOR, 28GAL [NOB FACN 2800 PLS]120V",18376]
["331021","Falcon 2800 Plus",609260,"EXTRACTOR, 28GAL [NOB 2800 PLS]CSA-SI",18375]
["331022","Falcon Ultra B",608351,"EXTRACTOR, 17GAL [NOB FLCN ULTRA] PAC",19984]
["331022","Falcon Ultra B",608350,"EXTRACTOR, 17GAL [NOB FLCN ULTRA]24VDC",17722]
["331022","Falcon Ultra B",609255,"FALCON ULTRA B PAC NOBLES CAN",18667]
["331023","1510 Battery",614002,"EXTRACTOR, 21GAL 22W, 24V W/ BAT [1510]",23196]
["331023","1510 Battery",614001,"EXTRACTOR, 21GAL 22W, 24V W/O BAT[1510]",20700]
["331024","1530 Cord Electric",614000,"EXTRACTOR, 30GAL 22W, 120V [1530]",18241]
["332107","BR-2000-DC",9007349,"BURNISHER, 20INCH [BR-2000-DC] 120V",5166]
["336235","FM-20-SS",9007336,"FLOOR MACH, 20\" HD [FM-20-SS] 120/60",2388]
["336236","FM-20-DS",9007334,"FLOOR MACH, 20 DS [FM-20-DS] 120/60",3712]
["341076","ASC-15",9007449,"CANISTER, 15 GAL [ASC-15] 120V CSA-SI",9063]
["341081","Dryer (Generic)",9014819,"BLOWER, FLOOR, 3-SPEED, 120V",587]
["341141","Q12",9011458,"CLEANER, FLOOR TOOL [TCO Q12 PAC]",19066]
["341141","Q12",1072856,"CLEANER, HARD SURF, 120V, 1200PSI [Q12]",15633]
["341150","iCart",1232057,"MOP CART KIT [i-mop I-CART L]",2756]
["341151","I-mop Cabinet",1233400,"CABINET ASSY, STORAGE [IMOP]",1872]

{"sheet":"T681","index":17,"n_rows":183,"n_cols":16,"rows_kept":183,"cut":false,"hidden":false,"merged":[[89,5,89,6],[108,3,108,4],[0,2,0,3],[1,2,1,3],[2,2,2,3],[3,2,3,3],[89,3,89,4],[91,3,91,4],[91,5,91,6],[103,4,103,8],[105,3,105,6],[107,3,107,4],[110,3,110,4],[110,5,110,6],[111,3,111,4],[111,5,111,6],[112,3,112,4],[112,5,112,6],[113,3,113,4],[113,5,113,6],[114,3,114,4],[114,5,114,6],[115,3,115,4],[115,5,115,6],[116,3,116,4],[116,5,116,6],[125,2,125,6],[144,4,144,6],[146,0,146,1],[146,2,146,5],[155,0,155,1],[155,2,155,5],[147,0,147,1],[147,2,147,5],[148,2,148,5],[149,0,149,1],[149,2,149,5],[150,0,150,1],[150,2,150,5],[152,0,152,1],[152,2,152,5],[153,0,153,1],[153,2,153,5],[154,2,154,5],[171,4,171,5],[156,0,156,1],[156,2,156,5],[158,4,158,6],[160,2,160,5],[161,2,161,5],[162,2,162,5]]}
["T681",null,{"$f":"Start_Here!$C19","v":"Company Name"}]
[{"$f":"SUM(G84)","v":0},null,{"$f":"Start_Here!$C20","v":"Address"}]
[null,null,{"$f":"Start_Here!$C21","v":"City, State Zip"}]
[null,null,{"$f":"Start_Here!$C22","v":"Contact Name"}]
[null,null,{"$f":"Start_Here!$C$41","v":"Rep Name"}]
[null,null,{"$f":"Start_Here!$C$37","v":"Tennant Sales and Service Company"}]
[null,null,{"$f":"Start_Here!$C$38","v":"10400 Clean Street"}]
[null,null,{"$f":"Start_Here!$C$39","v":"Eden Prairie, MN 55344"}]
[null,null,{"$f":"Start_Here!$C$43","v":"800-553-8033"},null,"Quote Date :",null,{"$f":"Letter!$A$25","v":"2014-10-02"}]
[]
[null,null,{"$f":"Help!C2","v":"CAN Date Rev - 5/6/2025"}]
[]
[null,null,"TENNANT  WARRANTY"]
[null,null,"3 YEARS OR 2000 HOURS - PARTS"]
[null,null,"1 YEAR - BATTERY CHARGERS"]
[null,null,"2 YEARS - LABOR"]
[null,null,"6 MONTHS - TRAVEL"]
[null,null,"10 YEARS ON DURAMERTM ROTOMOLD TANKS"]
[null,null,null,null,"                Quote Request Information"]
[null,null,null,null,null,null,"Fax (quote only)"]
[null,null,null,null,null,null,"Mail (quote,lit, specs)"]
[null,null,null,null,null,null,"Fax + Mail"]
[]
[]
[null,null,"Description","Reference No.","Canada Price","Qty.","Extended Price"]
[null,null,null,null,"Price",null,null,{"$f":"IFERROR(IFERROR(VLOOKUP(D26,Surcharge!A:B,2,FALSE)*F26, VLOOKUP(D26 & \"\",Surcharge!A:B,2,FALSE)*F26), \"\")","v":""},null,null,null,{"$f":"SUM(F26)","v":0},"Surcharge Qty"]
[null,null,"Cleaning Type",null,null,null,null,{"$f":"IFERROR(IFERROR(VLOOKUP(D27,Surcharge!A:B,2,FALSE)*F27, VLOOKUP(D27 & \"\",Surcharge!A:B,2,FALSE)*F27), \"\")","v":""},null,null,null,0,"Surcharge Qty"]
[null,null,null,null,null,{"$f":"SUM(F29)","v":0},null,{"$f":"IFERROR(IFERROR(VLOOKUP(D28,Surcharge!A:B,2,FALSE)*F28, VLOOKUP(D28 & \"\",Surcharge!A:B,2,FALSE)*F28), \"\")","v":""},null,null,null,0,"Surcharge Qty"]
[null,null,"T681 - Small Ride-On Scrubber - 240AH Wet Batteries",9052040,32778,null,{"$f":"F29*E29","v":0},{"$f":"IFERROR(IFERROR(VLOOKUP(D29,Surcharge!A:B,2,FALSE)*F29, VLOOKUP(D29 & \"\",Surcharge!A:B,2,FALSE)*F29), \"\")","v":""},null,null,null,{"$f":"SUM(F29)","v":0},"Surcharge Qty",null,null,{"$f":"VLOOKUP(D29,'MPF SAP Canada Pre-Configured'!$C:$E,3,FALSE)","v":{"$error":"#N/A"}}]
[null,null,"32in (80cm) dual disk cleaning path, pad driver, Linatex squeegee blades. Includes onboard charger, 4-6V batteries",null,null,{"$f":"SUM(F29)","v":0},null,{"$f":"IFERROR(IFERROR(VLOOKUP(D30,Surcharge!A:B,2,FALSE)*F30, VLOOKUP(D30 & \"\",Surcharge!A:B,2,FALSE)*F30), \"\")","v":""},null,null,null,{"$f":"SUM(F30)","v":0},"Surcharge Qty"]
[null,null,null,null,null,{"$f":"SUM(F32)","v":0},null,{"$f":"IFERROR(IFERROR(VLOOKUP(D31,Surcharge!A:B,2,FALSE)*F31, VLOOKUP(D31 & \"\",Surcharge!A:B,2,FALSE)*F31), \"\")","v":""},null,null,null,{"$f":"SUM(F31)","v":0},"Surcharge Qty"]
[null,null,"T681 - Small Ride-On Scrubber - 240AH Wet Batteries",9052043,32778,null,{"$f":"F32*E32","v":0},{"$f":"IFERROR(IFERROR(VLOOKUP(D32,Surcharge!A:B,2,FALSE)*F32, VLOOKUP(D32 & \"\",Surcharge!A:B,2,FALSE)*F32), \"\")","v":""},null,null,null,0,"Surcharge Qty",null,null,{"$f":"VLOOKUP(D32,'MPF SAP Canada Pre-Configured'!$C:$E,3,FALSE)","v":{"$error":"#N/A"}}]
[null,null,"32in (80cm) dual disk cleaning path, brush driver, Linatex squeegee blades. Includes onboard charger, 4-6V batteries",null,null,{"$f":"SUM(F32)","v":0}]
[null,null,null,null,null,null,null,null,null,null,null,null,null,null,null,{"$f":"VLOOKUP(D34,'MPF SAP Canada Pre-Configured'!$C:$E,3,FALSE)","v":{"$error":"#N/A"}}]
[null,null,"T681 - Small Ride-On Scrubber - 210AH Sealed AGM Batteries",9052041,34831,null,{"$f":"F35*E35","v":0}]
[null,null,"32in (80cm) dual disk cleaning path, pad driver, Linatex squeegee blades. Includes onboard charger, 4-6V batteries",null,null,{"$f":"SUM(F35)","v":0}]
[null,null,null,null,null,{"$f":"SUM(F38)","v":0}]
[null,null,"T681 - Small Ride-On Scrubber - 210AH Sealed AGM Batteries",9052044,34831,null,{"$f":"F38*E38","v":0},{"$f":"IFERROR(IFERROR(VLOOKUP(D38,Surcharge!A:B,2,FALSE)*#REF!, VLOOKUP(D38 & \"\",Surcharge!A:B,2,FALSE)*#REF!), \"\")","v":""},null,null,null,{"$f":"SUM(#REF!)","v":{"$error":"#REF!"}},"Surcharge Qty"]
[null,null,"32in (80cm) dual disk cleaning path, brush driver, Linatex squeegee blades. Includes onboard charger, 4-6V batteries",null,null,{"$f":"SUM(F38)","v":0},null,{"$f":"IFERROR(IFERROR(VLOOKUP(D39,Surcharge!A:B,2,FALSE)*#REF!, VLOOKUP(D39 & \"\",Surcharge!A:B,2,FALSE)*#REF!), \"\")","v":""},null,null,null,{"$f":"SUM(#REF!)","v":{"$error":"#REF!"}},"Surcharge Qty"]
[null,null,null,null,null,{"$f":"SUM(F41)","v":0}]
[null,null,"T681 - Small Ride-On Scrubber - 90AH Li-Ion Battery",9023481,36279,null,{"$f":"F41*E41","v":0}]
[null,null,"32in (80cm) dual disk cleaning path, pad driver, Linatex squeegee blades. Includes onboard charger, 1-24V battery",null,null,{"$f":"SUM(F41)","v":0}]
[null,null,null,null,null,{"$f":"SUM(F44)","v":0}]
[null,null,"T681 - Small Ride-On Scrubber - 90AH Li-Ion Battery",9023483,36279,null,{"$f":"F44*E44","v":0}]
[null,null,"32in (80cm) dual disk cleaning path, brush driver, Linatex squeegee blades. Includes onboard charger, 1-24V battery",null,null,{"$f":"SUM(F44)","v":0}]
[null,null,null,null,null,{"$f":"SUM(F47)","v":0}]
[null,null,"T681 - Small Ride-On Scrubber - 180 AH Li-Ion Batteries",9023482,39359,null,{"$f":"F47*E47","v":0}]
[null,null,"32in (80cm) dual disk cleaning path, pad driver, Linatex squeegee blades. Includes onboard charger, 2-24V batteries",null,null,{"$f":"SUM(F47)","v":0}]
[null,null,null,null,null,{"$f":"SUM(F50)","v":0}]
[null,null,"T681 - Small Ride-On Scrubber - 180 AH Li-Ion Batteries",9023484,39359,null,{"$f":"F50*E50","v":0}]
[null,null,"32in (80cm) dual disk cleaning path, brush driver, Linatex squeegee blades. Includes onboard charger, 2-24V batteries",null,null,{"$f":"SUM(F50)","v":0}]
[]
[null,null,"T681 - Small Ride-On Scrubber - NO Batteries",9052042,29621,null,{"$f":"F53*E53","v":0}]
[null,null,"32in (80cm) dual disk cleaning path, pad driver, Linatex squeegee blades. Includes onboard charger",null,null,{"$f":"SUM(F53)","v":0}]
[]
[null,null,"T681 - Small Ride-On Scrubber - NO Batteries",9052045,29621,null,{"$f":"F56*E56","v":0},null,null,null,null,null,null,null,null,{"$f":"VLOOKUP(D56,'MPF SAP Canada Pre-Configured'!$C:$E,3,FALSE)","v":{"$error":"#N/A"}}]
[null,null,"32in (80cm) dual disk cleaning path, brush driver, Linatex squeegee blades. Includes onboard charger",null,null,{"$f":"SUM(F56)","v":0}]
[]
[null,null,null,null,null,null,null,null,null,null,null,null,null,null,null,{"$f":"VLOOKUP(D59,'MPF SAP Canada Pre-Configured'!$C:$E,3,FALSE)","v":{"$error":"#N/A"}}]
[null,null,"Shipping Weight and Dimensions","Pallet w/ ramp",null,{"$f":"SUM(F29:F56)","v":0}]
[null,null,"Weight (w/ heaviest batteries)","950 lb / 431 kg",null,{"$f":"SUM(F30:F57)","v":0},null,null,null,null,null,null,null,null,null,{"$f":"VLOOKUP(D61,'MPF SAP Canada Pre-Configured'!$C:$E,3,FALSE)","v":{"$error":"#N/A"}}]
[null,null,"Length","59.6 in / 151.5 cm",null,{"$f":"SUM(F31:F58)","v":0}]
[null,null,"Width","48.8 in / 124 cm",null,{"$f":"SUM(F32:F59)","v":0}]
[null,null,"Height","42.9 in / 109 cm",null,{"$f":"SUM(F33:F60)","v":0}]
[]
[]
[]
[]
[null,null,null,null,{"$f":"ROUND(SUM(G26:G68), 0)","v":0},{"$f":"SUM(E70)","v":0}]
[null,null,null,"Machine Subtotal ",{"$f":"ROUND(SUM(G26:G68), 0)","v":0},{"$f":"F69","v":0}]
[null,"Discounts",null,null,null,{"$f":"SUM(F72)","v":0}]
[null,null,null,null,null,{"$f":"SUM(F74:F77)","v":0}]
[null,null,null,"Applicable Currency Adj %",null,{"$f":"IF(E73 <> \"\", 1, 0)","v":0},{"$f":"IF(F73*(E73*0.01)*E69 < 0, F73*(E73*0.01)*E69, -(F73*(E73*0.01)*E69))","v":0}]
[null,null,null,"Discount %",null,{"$f":"IF(E74 <> \"\", 1, 0)","v":0},{"$f":"IF(F74*(E74*0.01)*(E69+G73) < 0, F74*(E74*0.01)*(E69+G73), -(F74*(E74*0.01)*(E69+G73)))","v":0}]
[null,null,null,"Discount $",null,{"$f":"IF(E75 <> \"\", 1, 0)","v":0},{"$f":"IF(F75*E75 < 0, F75*E75, -(F75*E75))","v":0}]
[null,null,null,"Discount $",null,{"$f":"IF(E76 <> \"\", 1, 0)","v":0},{"$f":"IF(F76*E76 < 0, F76*E76, -(F76*E76))","v":0}]
[null,null,null,"Discount $",null,{"$f":"IF(E77 <> \"\", 1, 0)","v":0},{"$f":"IF(F77*E77 < 0, F77*E77, -(F77*E77))","v":0}]
[null,null,null,"Discount Total ",{"$f":"SUM(G73:G77)","v":0},{"$f":"SUM(E78)","v":0}]
[null,null,null,null,null,{"$f":"#REF!","v":{"$error":"#REF!"}}]
[null,null,null,null,null,{"$f":"F79","v":{"$error":"#REF!"}}]
[null,null,"Prepaid and Add","Freight",null,{"$f":"IF(E81 <> \"\", 1, 0)","v":0},{"$f":"F81*E81","v":0}]
[null,null,"Subject to all applicable taxes","Tax",null,{"$f":"IF(E82 <> \"\", 1, 0)","v":0},{"$f":"F82*E82","v":0}]
[null,null,null,null,null,{"$f":"SUM(F84)","v":0}]
[null,null,null,"MACHINE TOTAL*",null,{"$f":"SUM(G84)","v":0},{"$f":"SUM(G26:G82)","v":0},null,null,null,null,null,null,"This goes to \"My Documents\""]
[null,null,null,null,null,null,{"$f":"SUM(G84)","v":0}]
[]
[]
[]
[]
[null,null,"First Western Equipment Finance - Leasing Calculation Option:","Option 1",null,"Option 2",null,null,{"$f":"Financing!A38","v":"Rates 2025 - Rev 2/4/2025"}]
[null,null,null,"Monthly Payment","Cost Per Day","Monthly Payment","Cost Per Day",null,{"$f":"Financing!A39","v":"“Blank Payment Amounts Indicate The Financing Option Or Purchase Options Selected Are Not "}]
[null,null,"Purchase Option:","FWEF:  $1 Buyout Lease",null,"FWEF: Municipal Lease",null,null,{"$f":"Financing!A40","v":"Applicable Or The Machine Total Is Below The Minimum Amount For The Selected Vendor”"}]
[null,null,"24 Months",false,0,false,0,null,{"$f":"Financing!A41","v":"\"Quoted monthly payments are estimates only and are based on a certain level of credit rating."}]
[null,null,"30 Months",false,0,false,0,null,{"$f":"Financing!A42","v":"Actual monthly payments may be higher depending on your credit rating.\""}]
[null,null,"36 Months",false,0,false,0,null,{"$f":"Financing!A43","v":"“Financing rates do not include Pre-Paid Service”"}]
[null,null,"48 Months",0,0,0,0]
[]
[null,null,null,"Benefits of Equipment Financing:"]
[null,null,null,"• Spreads out investment over time.",null,"• Keep current with latest technology."]
[null,null,null,"• Preserve capital.",null,"• Service and parts bundling available."]
[null,null,null,"• Low monthly payment.",null,"• Pay for labor savings as you go."]
[null,"   TennantTrue",null,null,0,0]
[]
[null,null,"Is customer interested in service program?","Yes","*State/County selection required for TennantTrue service options"]
[]
[null,null,"If not, why?"]
[]
[null,null,"Term:",36,null,null,"AB Brushes","No"]
[null,null,"Monthly machine usage (hrs):","< 30/mo. (Avg. 1hr./day)"]
[]
[null,null,"TennantTrue: ","Gold Contract",null,"Silver Contract"]
[null,null,"Per Visit",null,null,501]
[null,null,"Monthly",173,null,88]
[null,null,"Annually",null,null,1035]
[null,null,"Pre-Pay Full Term",5964,null,3042]
[null,null,"Hourly Labor Rate"]
[null,null,"Site Visit"]
[]
[null,null,"* Verify customer current pricing prior to quote. "]
[null,null,"**All rates and fees above reflect service for one (1) unit with the exception of Block of Time service."]
[null,null,"*Block of Time is available in 1 Year Term only and is priced as such no matter the term selection on this template."]
[]
[]
[]
[null,null,"Quote Special Instructions:"]
[]
[]
[null,null,{"$f":"Start_Here!E36","v":"Terms and Conditions"}]
[null,null,{"$f":"Start_Here!E37","v":"Ask your local sales rep for estimated lead times. Verify when placing order"}]
[null,null,{"$f":"Start_Here!E38","v":"All orders subject to acceptance by Tennant Sales and Service Company, Minneapolis, Minnesota"}]
[null,null,{"$f":"Start_Here!E39","v":"Prices subject to change without notice. Subject to any applicable taxes."}]
[null,null,{"$f":"Start_Here!E40","v":"Terms:  Net 30 days.  Payable in Canadian Funds"}]
[null,null,{"$f":"Start_Here!E41","v":"Freight:  Accessories, parts, supplies, detergents, and floor coatings orders delivered DDP "}]
[null,null,{"$f":"Start_Here!E42","v":"shipping point Frt PPD.  Machine orders delivered DDP shipping point Frt PPD and add."}]
[null,null,{"$f":"Start_Here!E43","v":"Returned Merchandise is subject to a restocking fee."}]
[null,null,{"$f":"Start_Here!E45","v":"Printed General Terms and Conditions are also available upon request."}]
[null,null,{"$f":"Start_Here!E46","v":0}]
[]
[]
[null,null,null,null,"Quote Date :",null,{"$f":"Letter!$A$25","v":"2014-10-02"}]
["Order Placement Information:  To place your order, fill in PO# and customer signatures,"]
["call or fax to the numbers listed below. Customer Purchase Order is required."]
["If information is missing, orders will be entered and held until all information is received."]
[null,null,"Customer Number",null,"Cust Grp 3"]
[null,null,{"$f":"Start_Here!$C$25","v":0},null,{"$f":"Start_Here!$C$29","v":0}]
[null,null,{"$f":"Start_Here!$B$18","v":"Who Owns the Machine? (Sold-To Info) (Please Verify)"}]
["Company",null,{"$f":"Start_Here!$C$19","v":"Company Name"}]
["Address",null,{"$f":"Start_Here!$C$20","v":"Address"}]
[null,null,{"$f":"Start_Here!$C$21","v":"City, State Zip"}]
["Name",null,{"$f":"Start_Here!$C$22","v":"Contact Name"}]
["Phone",null,{"$f":"Start_Here!$C$23","v":"Contact Phone"}]
[null,null,{"$f":"Start_Here!$B$11","v":"Where is the Machine Being Shipped? (Ship-To Info) (Please Verify)"}]
["Company",null,{"$f":"Start_Here!$C$12","v":"Company Name"}]
["Address",null,{"$f":"Start_Here!$C$13","v":"Address"}]
[null,null,{"$f":"Start_Here!$C$14","v":"City, State Zip"}]
["Name",null,{"$f":"Start_Here!$C$15","v":"Contact Name"}]
["Phone",null,{"$f":"Start_Here!$C$16","v":"Contact Phone"}]
[null,null,{"$f":"Start_Here!$B$31","v":"Shipping / Carrier Instructions:"},null,"Order Special Instructions:"]
[null,null,{"$f":"Start_Here!$C$32","v":0}]
[]
[null,null,"Customer Purchase Order No."]
[null,null,"(please attach copy)"]
[]
[]
[null,null,"Tax Exempt",null,"Yes"]
[null,null,null,null,"No"]
[null,null,"If Yes, attach a copy of your exemption certificate."]
[]
[null,null,"Requested Delivery Date"]
[null,null,{"$f":"Start_Here!$C$28","v":0}]
[]
[null,null,{"$f":"Start_Here!$C$26","v":0},null,{"$f":"Start_Here!$C$27","v":0}]
[null,null,"Authorized Buyer (please print)",null,"Phone Number"]
[]
[]
[null,null,"Authorized Buyer Signature"]
[]
[null,null,{"$f":"Start_Here!$C$41","v":"Rep Name"}]
[null,null,"Tennant Representative"]
[]
["Specialized Maintenance Equipment"]
[{"$f":"Start_Here!$C$48","v":"TENNANT · 10400 Clean Street · Eden Prairie, MN 55344 ·"}]
[{"$f":"Start_Here!$C$49","v":" PHONE:800-553-8033 · FAX:763-513-2116"}]

{"sheet":"T981","index":18,"n_rows":212,"n_cols":16,"rows_kept":212,"cut":false,"hidden":false,"merged":[[34,2,34,3],[29,2,29,3],[30,2,30,3],[31,2,31,3],[32,2,32,3],[33,2,33,3],[181,4,181,5],[166,0,166,1],[166,2,166,5],[168,4,168,6],[170,2,170,5],[171,2,171,5],[172,2,172,5],[165,0,165,1],[165,2,165,5],[157,0,157,1],[157,2,157,5],[158,2,158,5],[159,0,159,1],[159,2,159,5],[160,0,160,1],[160,2,160,5],[162,0,162,1],[162,2,162,5],[163,0,163,1],[163,2,163,5],[164,2,164,5],[126,3,126,4],[126,5,126,6],[135,1,135,6],[154,4,154,6],[156,0,156,1],[156,2,156,5],[123,3,123,4],[123,5,123,6],[124,3,124,4],[124,5,124,6],[125,3,125,4],[125,5,125,6],[120,3,120,4],[120,5,120,6],[121,3,121,4],[121,5,121,6],[122,3,122,4],[122,5,122,6],[118,3,118,4],[98,3,98,4],[98,5,98,6],[100,3,100,4],[100,5,100,6],[113,4,113,8],[115,3,115,6],[117,3,117,4],[0,2,0,3],[1,2,1,3],[2,2,2,3],[3,2,3,3],[11,2,11,6]]}
["T981",null,{"$f":"Start_Here!$C19","v":"Company Name"}]
[{"$f":"SUM(G93)","v":0},null,{"$f":"Start_Here!$C20","v":"Address"}]
[null,null,{"$f":"Start_Here!$C21","v":"City, State Zip"}]
[null,null,{"$f":"Start_Here!$C22","v":"Contact Name"}]
[null,null,{"$f":"Start_Here!$C$41","v":"Rep Name"}]
[null,null,{"$f":"Start_Here!$C$37","v":"Tennant Sales and Service Company"}]
[null,null,{"$f":"Start_Here!$C$38","v":"10400 Clean Street"}]
[null,null,{"$f":"Start_Here!$C$39","v":"Eden Prairie, MN 55344"}]
[null,null,{"$f":"Start_Here!$C$43","v":"800-553-8033"},null,"Quote Date :",null,{"$f":"Letter!$A$25","v":"2014-10-02"}]
[]
[null,null,{"$f":"Help!C2","v":"CAN Date Rev - 5/6/2025"}]
[null,null,"BUILT-IN “TENNANT VALUE” INCLUDES:"]
[]
[null,null,"Wet, 360 AH C/20 Battery Pack",null,"No Tool Squeegee and Brush Change"]
[null,null,"36VDC, 21A 85-265 VAC 45/65 Hz Charger",null,"In-Line Vacuum Fan Air Filter"]
[null,null,"DC Propel Motor",null,"High Visibility Maintenance Touch Points"]
[null,null,"Disk Scrubbing - 36 in (900 mm) path",null,"Cup Holder"]
[null,null,"Cylindrical Scrubbing - 30 in (750 mm) path",null,"Multi-Language Operator Manual and Video"]
[null,null,"Standard Sweeping Side Brushes (Cylindrical model only)"]
[null,null,"Standard Cylindrical or Disk Scrubbing Brushes (Select One)",null,"T981 Controls:"]
[null,null,"Non-Corrosive Solution and Recovery Tanks",null,"3 Preset Scrub Operation Programs"]
[null,null,"33 gal (125 L) Solution Tank",null,"On Board Diagnostics"]
[null,null,"35.6 gal (135 L) Recovery Tank",null,"Spin on/spin off brush attachment (Disk model only)"]
[null,null,"Parabolic Rear Squeegee Breakaway System"]
[null,null,"Automatic Functions:"]
[null,null,"Parking Brake"]
[null,null,"Squeegee Lift"]
[]
[]
[null,null,"TENNANT WARRANTY"]
[null,null,"3 YEARS OR 2000 HOURS - PARTS"]
[null,null,"2 YEARS - LABOR"]
[null,null,"6 MONTHS - TRAVEL"]
[null,null,"10 YEARS ON DURAMERTM ROTOMOLD TANKS"]
[]
[]
[]
[]
[]
[null,null,null,null,"                Quote Request Information"]
[null,null,null,null,null,null,"Fax (quote only)"]
[null,null,null,null,null,null,"Mail (quote,lit, specs)"]
[null,null,null,null,null,null,"Fax + Mail"]
[]
[null,null,null,null,"                Primary Use"]
[null,null,null,null,null,null,"Inside"]
[null,null,null,null,null,null,"Outside"]
[]
[null,null,"Description","Reference #","Price Each","Qty","Extended Price"]
[null,null,null,null,null,"*"]
[null,"Base Configuration",null,null,"Price",{"$f":"SUM(F52,F56,F61)","v":0},null,{"$f":"IFERROR(IFERROR(VLOOKUP(D51,Surcharge!A:B,2,FALSE)*F51, VLOOKUP(D51 & \"\",Surcharge!A:B,2,FALSE)*F51), \"\")","v":""}]
[null,null,"Cleaning Type",null,null,{"$f":"SUM(F53:F54)","v":0},null,{"$f":"IFERROR(IFERROR(VLOOKUP(D52,Surcharge!A:B,2,FALSE)*F52, VLOOKUP(D52 & \"\",Surcharge!A:B,2,FALSE)*F52), \"\")","v":""}]
[null,null,"T981 Ride-On Scrubber 750 mm/30\" - Cylindrical","T981-750-C",35961,null,{"$f":"F53*E53","v":0},{"$f":"IFERROR(IFERROR(VLOOKUP(D53,Surcharge!A:B,2,FALSE)*F53, VLOOKUP(D53 & \"\",Surcharge!A:B,2,FALSE)*F53), \"\")","v":""},null,null,null,null,null,null,null,"M-T350VK_BASE_T350-500-D"]
[null,null,"T981 Ride-On Scrubber 900 mm/36\" - Disk","T981-900-D",35889,null,{"$f":"F54*E54","v":0},{"$f":"IFERROR(IFERROR(VLOOKUP(D54,Surcharge!A:B,2,FALSE)*F54, VLOOKUP(D54 & \"\",Surcharge!A:B,2,FALSE)*F54), \"\")","v":""},null,null,null,null,null,null,null,"M-T350VK_BASE_T350-600-D"]
[null,null,null,null,null,null,null,{"$f":"IFERROR(IFERROR(VLOOKUP(D55,Surcharge!A:B,2,FALSE)*F55, VLOOKUP(D55 & \"\",Surcharge!A:B,2,FALSE)*F55), \"\")","v":""},null,null,null,null,null,null,null,""]
[null,null,"Battery Type  (Note 1)",null,null,{"$f":"SUM(F57:F59)","v":0},null,{"$f":"IFERROR(IFERROR(VLOOKUP(D56,Surcharge!A:B,2,FALSE)*F56, VLOOKUP(D56 & \"\",Surcharge!A:B,2,FALSE)*F56), \"\")","v":""},null,null,null,null,null,null,null,""]
[null,null,"Wet 360AH C/20  (Kit of 6 batteries)",9022562,"N/C",null,{"$f":"IF(F57=0,\" \",\"N/C\")","v":" "},{"$f":"IFERROR(IFERROR(VLOOKUP(D57,Surcharge!A:B,2,FALSE)*F57, VLOOKUP(D57 & \"\",Surcharge!A:B,2,FALSE)*F57), \"\")","v":""},null,null,null,null,null,null,null,"M-T350"]
[null,null,"Sealed/MF AGM 350AH C/20  (Kit of 6 batteries)",9022563,1492,null,{"$f":"F58*E58","v":0},{"$f":"IFERROR(IFERROR(VLOOKUP(D58,Surcharge!A:B,2,FALSE)*F58, VLOOKUP(D58 & \"\",Surcharge!A:B,2,FALSE)*F58), \"\")","v":""},null,null,null,null,null,null,null,"M-T350VK_TRMLVL_PPAN"]
[null,null,"Less Battery, DEDUCT (Note 1)",null,-982,null,{"$f":"F59*E59","v":0},{"$f":"IFERROR(IFERROR(VLOOKUP(D59,Surcharge!A:B,2,FALSE)*F59, VLOOKUP(D59 & \"\",Surcharge!A:B,2,FALSE)*F59), \"\")","v":""},null,null,null,null,null,null,null,""]
[null,null,null,null,null,{"$f":"SUM(F61:F64)","v":0},null,{"$f":"IFERROR(IFERROR(VLOOKUP(D60,Surcharge!A:B,2,FALSE)*F60, VLOOKUP(D60 & \"\",Surcharge!A:B,2,FALSE)*F60), \"\")","v":""},null,null,null,null,null,null,null,""]
[null,null,"Charger",null,null,{"$f":"SUM(F62:F64)","v":0},null,{"$f":"IFERROR(IFERROR(VLOOKUP(D61,Surcharge!A:B,2,FALSE)*F61, VLOOKUP(D61 & \"\",Surcharge!A:B,2,FALSE)*F61), \"\")","v":""},null,null,null,null,null,null,null,"M-T350VK_CLNTCH_ECH2ON"]
[null,null,"21A 85-265V AC 50/60Hz 1Ph - Off-Board",9022564,"N/C",null,{"$f":"IF(F62=0,\" \",\"N/C\")","v":" "},{"$f":"IFERROR(IFERROR(VLOOKUP(D62,Surcharge!A:B,2,FALSE)*F62, VLOOKUP(D62 & \"\",Surcharge!A:B,2,FALSE)*F62), \"\")","v":""}]
[null,null,"Without Charger (Note 1)",null,-417,null,{"$f":"F63*E63","v":0},{"$f":"IFERROR(IFERROR(VLOOKUP(D63,Surcharge!A:B,2,FALSE)*F63, VLOOKUP(D63 & \"\",Surcharge!A:B,2,FALSE)*F63), \"\")","v":""},null,null,null,null,null,null,null,"M-T350VK_SVEEVMSWH"]
[null,null,"Charger Power Cord",1017079,"N/C",null,{"$f":"IF(F64=0,\" \",\"N/C\")","v":" "},null,null,null,null,null,null,null,null,"M-T350VK_SVEEVMSWHLKT"]
[null,null,null,null,null,null,null,null,null,null,null,null,null,null,null,""]
[null,"Brushes and Pads  (Note 2)",null,null,null,{"$f":"SUM(F67:F71)","v":0},null,{"$f":"IFERROR(IFERROR(VLOOKUP(D66,Surcharge!A:B,2,FALSE)*F66, VLOOKUP(D66 & \"\",Surcharge!A:B,2,FALSE)*F66), \"\")","v":""},null,null,null,null,null,null,null,""]
[null,null,"750mm/30\" Cylindrical Scrubbing Brush",null,null,{"$f":"SUM(F68)","v":0},null,{"$f":"IFERROR(IFERROR(VLOOKUP(D67,Surcharge!A:B,2,FALSE)*F67, VLOOKUP(D67 & \"\",Surcharge!A:B,2,FALSE)*F67), \"\")","v":""},null,null,null,null,null,null,null,"M-T350VK_BTY_W210C20"]
[null,null,"Polypropylene",null,"N/C",null,{"$f":"IF(F68=0,\" \",\"N/C\")","v":" "},{"$f":"IFERROR(IFERROR(VLOOKUP(D68,Surcharge!A:B,2,FALSE)*F68, VLOOKUP(D68 & \"\",Surcharge!A:B,2,FALSE)*F68), \"\")","v":""},null,null,null,null,null,null,null,"M-T350VK_BTY_W240C20"]
[null,null,null,null,null,null,null,{"$f":"IFERROR(IFERROR(VLOOKUP(D69,Surcharge!A:B,2,FALSE)*F69, VLOOKUP(D69 & \"\",Surcharge!A:B,2,FALSE)*F69), \"\")","v":""},null,null,null,null,null,null,null,"M-T350VK_BTY_A220C20"]
[null,null,"900mm/36\" Disk Scrubbing Brush/Pads (2 Required)",null,null,{"$f":"SUM(F71)","v":0},null,{"$f":"IFERROR(IFERROR(VLOOKUP(D70,Surcharge!A:B,2,FALSE)*F70, VLOOKUP(D70 & \"\",Surcharge!A:B,2,FALSE)*F70), \"\")","v":""},null,null,null,null,null,null,null,"M-T350VK_BTY_WO"]
[null,null,"Polypropylene",null,"N/C",null,{"$f":"IF(F71=0,\" \",\"N/C\")","v":" "},{"$f":"IFERROR(IFERROR(VLOOKUP(D71,Surcharge!A:B,2,FALSE)*F71, VLOOKUP(D71 & \"\",Surcharge!A:B,2,FALSE)*F71), \"\")","v":""},null,null,null,null,null,null,null,""]
[null,null,null,null,null,null,null,{"$f":"IFERROR(IFERROR(VLOOKUP(D72,Surcharge!A:B,2,FALSE)*F72, VLOOKUP(D72 & \"\",Surcharge!A:B,2,FALSE)*F72), \"\")","v":""},null,null,null,null,null,null,null,"M-T350VK_BTYWTRSYS_SF"]
[null,"Support",null,null,null,null,null,{"$f":"IFERROR(IFERROR(VLOOKUP(D73,Surcharge!A:B,2,FALSE)*F73, VLOOKUP(D73 & \"\",Surcharge!A:B,2,FALSE)*F73), \"\")","v":""},null,null,null,null,null,null,null,"M-T350VK_BTYWTRSYS_ML"]
[null,null,"Packaging  (Note 3)",null,null,{"$f":"SUM(F75:F75)","v":0},null,{"$f":"IFERROR(IFERROR(VLOOKUP(D74,Surcharge!A:B,2,FALSE)*F74, VLOOKUP(D74 & \"\",Surcharge!A:B,2,FALSE)*F74), \"\")","v":""},null,null,null,null,null,null,null,""]
[null,null,"Skid w/Carton, Non-Stackable","T981-SKD","N/C",null,{"$f":"IF(F75=0,\" \",\"N/C\")","v":" "},{"$f":"IFERROR(IFERROR(VLOOKUP(D75,Surcharge!A:B,2,FALSE)*F75, VLOOKUP(D75 & \"\",Surcharge!A:B,2,FALSE)*F75), \"\")","v":""},null,null,null,null,null,null,null,"M-T350VK_CHG_25A100V5060H1"]
[null,null,null,null,null,null,null,{"$f":"IFERROR(IFERROR(VLOOKUP(D76,Surcharge!A:B,2,FALSE)*F76, VLOOKUP(D76 & \"\",Surcharge!A:B,2,FALSE)*F76), \"\")","v":""}]
[]
[null,null,null,null,{"$f":"ROUND(SUM(G51:G77), 0)","v":0},{"$f":"SUM(E79)","v":0}]
[null,null,null,"Machine Subtotal ",{"$f":"ROUND(SUM(G51:G77), 0)","v":0},{"$f":"F78","v":0}]
[null,"Discounts",null,null,null,{"$f":"SUM(F81)","v":0}]
[null,null,null,null,null,{"$f":"SUM(F83:F86)","v":0}]
[null,null,null,"Applicable Currency Adj %",null,{"$f":"IF(E82 <> \"\", 1, 0)","v":0},{"$f":"IF(F82*(E82*0.01)*E78 < 0, F82*(E82*0.01)*E78, -(F82*(E82*0.01)*E78))","v":0}]
[null,null,null,"Discount %",null,{"$f":"IF(E83 <> \"\", 1, 0)","v":0},{"$f":"IF(F83*(E83*0.01)*(E78+G82) < 0, F83*(E83*0.01)*(E78+G82), -(F83*(E83*0.01)*(E78+G82)))","v":0}]
[null,null,null,"Discount $",null,{"$f":"IF(E84 <> \"\", 1, 0)","v":0},{"$f":"IF(F84*E84 < 0, F84*E84, -(F84*E84))","v":0}]
[null,null,null,"Discount $",null,{"$f":"IF(E85 <> \"\", 1, 0)","v":0},{"$f":"IF(F85*E85 < 0, F85*E85, -(F85*E85))","v":0}]
[null,null,null,"Discount $",null,{"$f":"IF(E86 <> \"\", 1, 0)","v":0},{"$f":"IF(F86*E86 < 0, F86*E86, -(F86*E86))","v":0}]
[null,null,null,"Discount Total ",{"$f":"SUM(G82:G86)","v":0},{"$f":"SUM(E87)","v":0}]
[null,null,null,null,null,{"$f":"#REF!","v":{"$error":"#REF!"}}]
[null,null,null,null,null,{"$f":"F88","v":{"$error":"#REF!"}}]
[null,null,"Prepaid and Add","Freight",null,{"$f":"IF(E90 <> \"\", 1, 0)","v":0},{"$f":"F90*E90","v":0}]
[null,null,"Subject to all applicable taxes","Tax",null,{"$f":"IF(E91 <> \"\", 1, 0)","v":0},{"$f":"F91*E91","v":0}]
[null,null,null,null,null,{"$f":"SUM(F93)","v":0}]
[null,null,null,"MACHINE TOTAL*",null,{"$f":"SUM(G93)","v":0},{"$f":"SUM(G51:G91)","v":0},null,null,null,null,null,null,"This goes to \"My Documents\""]
[null,null,null,null,null,null,{"$f":"SUM(G93)","v":0}]
[]
[]
[]
[]
[null,null,"First Western Equipment Finance - Leasing Calculation Option:","Option 1",null,"Option 2",null,null,null,{"$f":"Financing!A38","v":"Rates 2025 - Rev 2/4/2025"}]
[null,null,null,"Monthly Payment","Cost Per Day","Monthly Payment","Cost Per Day",null,null,{"$f":"Financing!A39","v":"“Blank Payment Amounts Indicate The Financing Option Or Purchase Options Selected Are Not "}]
[null,null,"Purchase Option:","FWEF:  $1 Buyout Lease",null,"FWEF: Municipal Lease",null,null,null,{"$f":"Financing!A40","v":"Applicable Or The Machine Total Is Below The Minimum Amount For The Selected Vendor”"}]
[null,null,"24 Months",false,0,false,0,null,null,{"$f":"Financing!A41","v":"\"Quoted monthly payments are estimates only and are based on a certain level of credit rating."}]
[null,null,"30 Months",false,0,false,0,null,null,{"$f":"Financing!A42","v":"Actual monthly payments may be higher depending on your credit rating.\""}]
[null,null,"36 Months",false,0,false,0,null,null,{"$f":"Financing!A43","v":"“Financing rates do not include Pre-Paid Service”"}]
[null,null,"48 Months",0,0,0,0,null,{"$f":"Financing!A44","v":0}]
[]
[null,null,null,"Benefits of Equipment Financing:"]
[null,null,null,"• Spreads out investment over time.",null,"• Keep current with latest technology."]
[null,null,null,"• Preserve capital.",null,"• Service and parts bundling available."]
[null,null,null,"• Low monthly payment.",null,"• Pay for labor savings as you go."]
[]
[null,"   TennantTrue",null,null,0,0]
[]
[null,null,"Is customer interested in service program?","Yes","*State/County selection required for TennantTrue service options"]
[]
[null,null,"If not, why?"]
[]
[null,null,"Term:",36,null,null,"AB Brushes","No"]
[null,null,"Monthly machine usage (hrs):","< 30/mo. (Avg. 1hr./day)"]
[]
[null,null,"TennantTrue: ","Gold Contract",null,"Silver Contract"]
[null,null,"Per Visit",null,null,501]
[null,null,"Monthly",189,null,88]
[null,null,"Annually",null,null,1035]
[null,null,"Pre-Pay Full Term",6526,null,3042]
[null,null,"Hourly Labor Rate"]
[null,null,"Site Visit"]
[]
[null,null,"* Verify customer current pricing prior to quote. "]
[null,null,"**All rates and fees above reflect service for one (1) unit with the exception of Block of Time service."]
[null,null,"*Block of Time is available in 1 Year Term only and is priced as such no matter the term selection on this template."]
[]
[]
[]
[null,"Quote Special Instructions:"]
[]
[]
[null,{"$f":"Start_Here!E36","v":"Terms and Conditions"}]
[null,{"$f":"Start_Here!E37","v":"Ask your local sales rep for estimated lead times. Verify when placing order"}]
[null,{"$f":"Start_Here!E38","v":"All orders subject to acceptance by Tennant Sales and Service Company, Minneapolis, Minnesota"}]
[null,{"$f":"Start_Here!E39","v":"Prices subject to change without notice. Subject to any applicable taxes."}]
[null,{"$f":"Start_Here!E40","v":"Terms:  Net 30 days.  Payable in Canadian Funds"}]
[null,{"$f":"Start_Here!E41","v":"Freight:  Accessories, parts, supplies, detergents, and floor coatings orders delivered DDP "}]
[null,{"$f":"Start_Here!E42","v":"shipping point Frt PPD.  Machine orders delivered DDP shipping point Frt PPD and add."}]
[null,{"$f":"Start_Here!E43","v":"Returned Merchandise is subject to a restocking fee."}]
[null,{"$f":"Start_Here!E45","v":"Printed General Terms and Conditions are also available upon request."}]
[null,{"$f":"Start_Here!E46","v":0}]
[]
[]
[null,null,null,null,"Quote Date :",null,{"$f":"Letter!$A$25","v":"2014-10-02"}]
["Order Placement Information:  To place your order, fill in PO# and customer signatures,"]
["call or fax to the numbers listed below. Customer Purchase Order is required."]
["If information is missing, orders will be entered and held until all information is received."]
[null,null,"Customer Number",null,"Cust Grp 3"]
[null,null,{"$f":"Start_Here!$C$25","v":0},null,{"$f":"Start_Here!$C$29","v":0}]
[null,null,{"$f":"Start_Here!$B$18","v":"Who Owns the Machine? (Sold-To Info) (Please Verify)"}]
["Company",null,{"$f":"Start_Here!$C$19","v":"Company Name"}]
["Address",null,{"$f":"Start_Here!$C$20","v":"Address"}]
[null,null,{"$f":"Start_Here!$C$21","v":"City, State Zip"}]
["Name",null,{"$f":"Start_Here!$C$22","v":"Contact Name"}]
["Phone",null,{"$f":"Start_Here!$C$23","v":"Contact Phone"}]
[null,null,{"$f":"Start_Here!$B$11","v":"Where is the Machine Being Shipped? (Ship-To Info) (Please Verify)"}]
["Company",null,{"$f":"Start_Here!$C$12","v":"Company Name"}]
["Address",null,{"$f":"Start_Here!$C$13","v":"Address"}]
[null,null,{"$f":"Start_Here!$C$14","v":"City, State Zip"}]
["Name",null,{"$f":"Start_Here!$C$15","v":"Contact Name"}]
["Phone",null,{"$f":"Start_Here!$C$16","v":"Contact Phone"}]
[null,null,{"$f":"Start_Here!$B$31","v":"Shipping / Carrier Instructions:"},null,"Order Special Instructions:"]
[null,null,{"$f":"Start_Here!$C$32","v":0}]
[]
[null,null,"Customer Purchase Order No."]
[null,null,"(please attach copy)"]
[]
[]
[null,null,"Tax Exempt",null,"Yes"]
[null,null,null,null,"No"]
[null,null,"If Yes, attach a copy of your exemption certificate."]
[]
[null,null,"Requested Delivery Date"]
[null,null,{"$f":"Start_Here!$C$28","v":0}]
[]
[null,null,{"$f":"Start_Here!$C$26","v":0},null,{"$f":"Start_Here!$C$27","v":0}]
[null,null,"Authorized Buyer (please print)",null,"Phone Number"]
[]
[]
[null,null,"Authorized Buyer Signature"]
[]
[null,null,{"$f":"Start_Here!$C$41","v":"Rep Name"}]
[null,null,"Tennant Representative"]
[]
["Specialized Maintenance Equipment"]
[{"$f":"Start_Here!$C$48","v":"TENNANT · 10400 Clean Street · Eden Prairie, MN 55344 ·"}]
[{"$f":"Start_Here!$C$49","v":" PHONE:800-553-8033 · FAX:763-513-2116"}]
[]
[null,"SPECIAL INFORMATION"]
[]
[null,"Notes"]
[null,1,"Customer MUST order Skid w/Carton, Non-Stackable if WITHOUT BATTERY is selected.  "]
[null,null,"Continental USA orders ONLY."]
[]
[null,2,"A Polypropylene Brush comes standard with a T981."]
[]
[null,3,"Customer MUST order Skid w/Carton, Non-Stackable if WITHOUT BATTERY is selected."]
[null,null,"Skid w/Carton, Non-Stackable is mandatory when shipping to AK and HI."]
[]
[null,4,"Shipping Weights and Dimensions","Pad Wrap","Skid w/Carton"]
[]
[null,null,"Weight - 750 mm / 30\" Cylindrical",null,"836 lbs / 379 Kg"]
[null,null,"Weight - 900 mm / 36\" Disk",null,"748 lbs / 339 Kg"]
[null,null,"Length",null,"79 in / 2,000 mm"]
[null,null,"Width",null,"51 in / 1,280 mm"]
[null,null,"Height",null,"66 in / 1,670 mm"]

{"sheet":"T2_Std_Config","index":19,"n_rows":190,"n_cols":14,"rows_kept":190,"cut":false,"hidden":false,"merged":[[148,2,148,5],[149,2,149,5],[166,4,166,5],[151,0,151,1],[151,2,151,5],[153,4,153,6],[155,2,155,5],[156,2,156,5],[157,2,157,5],[141,0,141,1],[141,2,141,5],[120,2,120,6],[139,4,139,6],[150,0,150,1],[150,2,150,5],[142,0,142,1],[142,2,142,5],[143,2,143,5],[144,0,144,1],[144,2,144,5],[145,0,145,1],[145,2,145,5],[147,0,147,1],[147,2,147,5],[148,0,148,1],[106,3,106,4],[106,5,106,6],[107,3,107,4],[107,5,107,6],[108,3,108,4],[108,5,108,6],[98,4,98,8],[100,3,100,6],[102,3,102,4],[103,3,103,4],[105,3,105,4],[105,5,105,6],[30,2,30,6],[31,2,31,6],[83,3,83,4],[83,5,83,6],[85,3,85,4],[85,5,85,6],[29,2,29,6],[0,2,0,3],[1,2,1,3],[2,2,2,3],[3,2,3,3],[11,2,11,6],[109,5,109,6],[110,3,110,4],[110,5,110,6],[111,3,111,4],[111,5,111,6],[109,3,109,4]]}
["T2_Std_Config",null,{"$f":"Start_Here!$C19","v":"Company Name"}]
[{"$f":"SUM(G78)","v":0},null,{"$f":"Start_Here!$C20","v":"Address"}]
[null,null,{"$f":"Start_Here!$C21","v":"City, State Zip"}]
[null,null,{"$f":"Start_Here!$C22","v":"Contact Name"}]
[null,null,{"$f":"Start_Here!$C$41","v":"Rep Name"}]
[null,null,{"$f":"Start_Here!$C$37","v":"Tennant Sales and Service Company"}]
[null,null,{"$f":"Start_Here!$C$38","v":"10400 Clean Street"}]
[null,null,{"$f":"Start_Here!$C$39","v":"Eden Prairie, MN 55344"}]
[null,null,{"$f":"Start_Here!$C$43","v":"800-553-8033"},null,"Quote Date :",null,{"$f":"Letter!$A$25","v":"2014-10-02"}]
[]
[null,null,{"$f":"Help!C2","v":"CAN Date Rev - 5/6/2025"}]
[null,null,"BUILT-IN “TENNANT VALUE” INCLUDES:"]
[]
[null,null,"26 l/6.9 gal Solution Tank  & 36 l/9.5 gal Recovery Tank",null,"Standard (2) 12V 105 AH Batteries "]
[null,null,"Rugged DuramerTM Tank Construction",null,"Battery Tray"]
[null,null,"Hygienic Recovery Tank",null,"On-board Charger"]
[null,null,"10 l/2.6 gal Demisting Chamber to Protect Vac Fan ",null,"Recovery Tank Debris Tray"]
[null,null,"Adjustable Solution Flow",null,"Unsurpassed Ergonomic Design"]
[null,null,"Extremely Low Noise Level  (≤68 dBa)",null,"Adjustable Console Height"]
[null,null,"Pad Assist - less than 2 kg/4.5 lbs of push force requried",null,"Trigger Design"]
[null,null,".75 kW/1 HP brush motor, 230 RPM",null,"Front Bucket Fill Port"]
[null,null,"Cast Aluminum Scrub Deck",null,"On-board Pad Driver Hang"]
[null,null,"Cast Aluminum Squeegee Frame",null,"Gray Solid Urethane Tires"]
[null,null,"Breakaway Squeegee Design",null,"Automotive Triple-Sealed Electrical Connectors"]
[null,null,"Factory Set Squeegee Assembly for Maximium Recovery",null,"10cm /4\" Edge & Reach Under Cleaning"]
[null,null,"100% Recovery in 180º Point Turns",null,"Key Switch for Safety"]
[null,null,"Urethane Squeegee Blades",null,"No Tool Brush / Squegee Change"]
[null,null,"Squegee Hang",null,"Includes Pad Driver"]
[]
[null,null,"TENNANT COMPANY WARRANTY"]
[null,null,"3 YEARS OR 2500 HOURS ON ALL COMPONENTS, 3 YEARS LABOR"]
[null,null,"90 DAYS TRAVEL, 10 YEARS ON DURAMERTM TANKS"]
[]
[]
[]
[null,null,null,null,"                Quote Request Information"]
[null,null,null,null,null,null,"Fax (quote only)"]
[null,null,null,null,null,null,"Mail (quote,lit, specs)"]
[null,null,null,null,null,null,"Fax + Mail"]
[]
[null,null,null,null,"                Primary Use"]
[null,null,null,null,null,null,"Inside"]
[null,null,null,null,null,null,"Outside"]
[]
[]
[null,null,"Description","Reference No.","Canada Price","Qty.","Extended Price"]
[null,"Standard Configuration Machines",null,null,null,{"$f":"SUM(F48:F50)","v":0}]
[null,null,"T2 Walk-Behind - Disk Scrubber, 430mm / 17\", 105AH C/20 Battery, Conventional Cleaning, 9A 100-240V AC 50/60Hz 1Ph On-Board Charger, Pad Assist Drive Type\n(Pad Driver will default unless otherwise specified)","T2-1001D",12345,null,{"$f":"F48*E48","v":0},{"$f":"IFERROR(IFERROR(VLOOKUP(D48,Surcharge!A:B,2,FALSE)*F48, VLOOKUP(D48 & \"\",Surcharge!A:B,2,FALSE)*F48), \"\")","v":""},null,null,null,{"$f":"SUM(F48)","v":0},"Surcharge Qty"]
[]
[null,null,"T2 Walk-Behind - Disk Scrubber, 430mm / 17\", 102AH C/20 Gel Battery, Conventional Cleaning, 9A 100-240V AC 50/60Hz 1Ph On-Board Charger, Pad Assist Drive Type\n(Pad Driver will default unless otherwise specified)","T2-1002D",12867,null,{"$f":"F50*E50","v":0},{"$f":"IFERROR(IFERROR(VLOOKUP(D50,Surcharge!A:B,2,FALSE)*F50, VLOOKUP(D50 & \"\",Surcharge!A:B,2,FALSE)*F50), \"\")","v":""},null,null,null,0,"Surcharge Qty"]
[]
[null,"OPTIONAL","Brushes - in place of Pad Driver  (Note 1)",null,null,{"$f":"SUM(F53:F54)","v":0}]
[null,null,"430mm/17\" Polypropylene Brush",1016765,346,null,{"$f":"F53*E53","v":0},{"$f":"IFERROR(IFERROR(VLOOKUP(D53,Surcharge!A:B,2,FALSE)*F53, VLOOKUP(D53 & \"\",Surcharge!A:B,2,FALSE)*F53), \"\")","v":""}]
[null,null,"430mm/17\" Nylon Brush",1016764,425,null,0,{"$f":"IFERROR(IFERROR(VLOOKUP(D54,Surcharge!A:B,2,FALSE)*F54, VLOOKUP(D54 & \"\",Surcharge!A:B,2,FALSE)*F54), \"\")","v":""}]
[]
[null,"OPTIONAL","Manuals  ",null,null,{"$f":"SUM(F57)","v":0}]
[null,null,"Parts Manual",9008845,81,null,{"$f":"F57*E57","v":0},{"$f":"IFERROR(IFERROR(VLOOKUP(D57,Surcharge!A:B,2,FALSE)*F57, VLOOKUP(D57 & \"\",Surcharge!A:B,2,FALSE)*F57), \"\")","v":""}]
[]
[null,"REQUIRED","Packaging  (Note 2)",null,null,{"$f":"SUM(F60)","v":0}]
[null,null,"Skid w/Carton, Stackable",9011134,"N/C",null,{"$f":"IF(F60=0,\" \",\"N/C\")","v":" "},{"$f":"IFERROR(IFERROR(VLOOKUP(D60,Surcharge!A:B,2,FALSE)*F60, VLOOKUP(D60 & \"\",Surcharge!A:B,2,FALSE)*F60), \"\")","v":""}]
[]
[]
[null,null,null,null,{"$f":"ROUND(SUM(G48:G62), 0)","v":0},{"$f":"SUM(E64)","v":0}]
[null,null,null,"Machine Subtotal ",{"$f":"ROUND(SUM(G48:G62), 0)","v":0},{"$f":"F63","v":0}]
[null,"Discounts",null,null,null,{"$f":"SUM(F66)","v":0}]
[null,null,null,null,null,{"$f":"SUM(F68:F71)","v":0}]
[null,null,null,"Applicable Currency Adj %",null,{"$f":"IF(E67 <> \"\", 1, 0)","v":0},{"$f":"IF(F67*(E67*0.01)*E63 < 0, F67*(E67*0.01)*E63, -(F67*(E67*0.01)*E63))","v":0}]
[null,null,null,"Discount %",null,{"$f":"IF(E68 <> \"\", 1, 0)","v":0},{"$f":"IF(F68*(E68*0.01)*(E63+G67) < 0, F68*(E68*0.01)*(E63+G67), -(F68*(E68*0.01)*(E63+G67)))","v":0}]
[null,null,null,"Discount $",null,{"$f":"IF(E69 <> \"\", 1, 0)","v":0},{"$f":"IF(F69*E69 < 0, F69*E69, -(F69*E69))","v":0}]
[null,null,null,"Discount $",null,{"$f":"IF(E70 <> \"\", 1, 0)","v":0},{"$f":"IF(F70*E70 < 0, F70*E70, -(F70*E70))","v":0}]
[null,null,null,"Discount $",null,{"$f":"IF(E71 <> \"\", 1, 0)","v":0},{"$f":"IF(F71*E71 < 0, F71*E71, -(F71*E71))","v":0}]
[null,null,null,"Discount Total ",{"$f":"SUM(G67:G71)","v":0},{"$f":"SUM(E72)","v":0}]
[null,null,null,null,null,{"$f":"#REF!","v":{"$error":"#REF!"}}]
[null,null,null,null,null,{"$f":"F73","v":{"$error":"#REF!"}}]
[null,null,"Prepaid and Add","Freight",null,{"$f":"IF(E75 <> \"\", 1, 0)","v":0},{"$f":"F75*E75","v":0}]
[null,null,"Subject to all applicable taxes","Tax",null,{"$f":"IF(E76 <> \"\", 1, 0)","v":0},{"$f":"F76*E76","v":0}]
[null,null,null,null,null,{"$f":"SUM(F78)","v":0}]
[null,null,null,"MACHINE TOTAL*",null,{"$f":"SUM(G78)","v":0},{"$f":"SUM(G48:G76)","v":0},null,null,null,null,null,null,"This goes to \"My Documents\""]
[null,null,null,null,null,null,{"$f":"SUM(G78)","v":0}]
[]
[]
[]
[]
[null,null,"First Western Equipment Finance - Leasing Calculation Option:","Option 1",null,"Option 2",null,null,null,{"$f":"Financing!A38","v":"Rates 2025 - Rev 2/4/2025"}]
[null,null,null,"Monthly Payment","Cost Per Day","Monthly Payment","Cost Per Day",null,null,{"$f":"Financing!A39","v":"“Blank Payment Amounts Indicate The Financing Option Or Purchase Options Selected Are Not "}]
[null,null,"Purchase Option:","FWEF:  $1 Buyout Lease",null,"FWEF: Municipal Lease",null,null,null,{"$f":"Financing!A40","v":"Applicable Or The Machine Total Is Below The Minimum Amount For The Selected Vendor”"}]
[null,null,"24 Months",false,0,false,0,null,null,{"$f":"Financing!A41","v":"\"Quoted monthly payments are estimates only and are based on a certain level of credit rating."}]
[null,null,"30 Months",false,0,false,0,null,null,{"$f":"Financing!A42","v":"Actual monthly payments may be higher depending on your credit rating.\""}]
[null,null,"36 Months",false,0,false,0,null,null,{"$f":"Financing!A43","v":"“Financing rates do not include Pre-Paid Service”"}]
[null,null,"48 Months",0,0,0,0,null,{"$f":"Financing!A44","v":0}]
[]
[null,null,null,"Benefits of Equipment Financing:"]
[null,null,null,"• Spreads out investment over time.",null,"• Keep current with latest technology."]
[null,null,null,"• Preserve capital.",null,"• Service and parts bundling available."]
[null,null,null,"• Low monthly payment.",null,"• Pay for labor savings as you go."]
[]
[null,"   TennantTrue",null,null,0,0]
[]
[null,null,"Is customer interested in service program?","Yes","*State/County selection required for TennantTrue service options"]
[]
[null,null,"If not, why?"]
[]
[null,null,"Term:",36,null,null,"AB Brushes","No"]
[null,null,"Monthly machine usage (hrs):","< 30/mo. (Avg. 1hr./day)"]
[]
[null,null,"TennantTrue: ","Gold Contract",null,"Silver Contract"]
[null,null,"Per Visit",null,null,425]
[null,null,"Monthly",120,null,69]
[null,null,"Annually",null,null,816]
[null,null,"Pre-Pay Full Term",4162,null,2397]
[null,null,"Hourly Labor Rate"]
[null,null,"Site Visit"]
[]
[null,null,"* Verify customer current pricing prior to quote. "]
[null,null,"**All rates and fees above reflect service for one (1) unit with the exception of Block of Time service."]
[null,null,"*Block of Time is available in 1 Year Term only and is priced as such no matter the term selection on this template."]
[]
[]
[]
[null,null,"Quote Special Instructions:"]
[]
[]
[null,null,{"$f":"Start_Here!E36","v":"Terms and Conditions"}]
[null,null,{"$f":"Start_Here!E37","v":"Ask your local sales rep for estimated lead times. Verify when placing order"}]
[null,null,{"$f":"Start_Here!E38","v":"All orders subject to acceptance by Tennant Sales and Service Company, Minneapolis, Minnesota"}]
[null,null,{"$f":"Start_Here!E39","v":"Prices subject to change without notice. Subject to any applicable taxes."}]
[null,null,{"$f":"Start_Here!E40","v":"Terms:  Net 30 days.  Payable in Canadian Funds"}]
[null,null,{"$f":"Start_Here!E41","v":"Freight:  Accessories, parts, supplies, detergents, and floor coatings orders delivered DDP "}]
[null,null,{"$f":"Start_Here!E42","v":"shipping point Frt PPD.  Machine orders delivered DDP shipping point Frt PPD and add."}]
[null,null,{"$f":"Start_Here!E43","v":"Returned Merchandise is subject to a restocking fee."}]
[null,null,{"$f":"Start_Here!E45","v":"Printed General Terms and Conditions are also available upon request."}]
[null,null,{"$f":"Start_Here!E46","v":0}]
[]
[]
[null,null,null,null,"Quote Date :",null,{"$f":"Letter!$A$25","v":"2014-10-02"}]
["Order Placement Information:  To place your order, fill in PO# and customer signatures,"]
["call or fax to the numbers listed below. Customer Purchase Order is required."]
["If information is missing, orders will be entered and held until all information is received."]
[null,null,"Customer Number",null,"Cust Grp 3"]
[null,null,{"$f":"Start_Here!$C$25","v":0},null,{"$f":"Start_Here!$C$29","v":0}]
[null,null,{"$f":"Start_Here!$B$18","v":"Who Owns the Machine? (Sold-To Info) (Please Verify)"}]
["Company",null,{"$f":"Start_Here!$C$19","v":"Company Name"}]
["Address",null,{"$f":"Start_Here!$C$20","v":"Address"}]
[null,null,{"$f":"Start_Here!$C$21","v":"City, State Zip"}]
["Name",null,{"$f":"Start_Here!$C$22","v":"Contact Name"}]
["Phone",null,{"$f":"Start_Here!$C$23","v":"Contact Phone"}]
[null,null,{"$f":"Start_Here!$B$11","v":"Where is the Machine Being Shipped? (Ship-To Info) (Please Verify)"}]
["Company",null,{"$f":"Start_Here!$C$12","v":"Company Name"}]
["Address",null,{"$f":"Start_Here!$C$13","v":"Address"}]
[null,null,{"$f":"Start_Here!$C$14","v":"City, State Zip"}]
["Name",null,{"$f":"Start_Here!$C$15","v":"Contact Name"}]
["Phone",null,{"$f":"Start_Here!$C$16","v":"Contact Phone"}]
[null,null,{"$f":"Start_Here!$B$31","v":"Shipping / Carrier Instructions:"},null,"Order Special Instructions:"]
[null,null,{"$f":"Start_Here!$C$32","v":0}]
[]
[null,null,"Customer Purchase Order No."]
[null,null,"(please attach copy)"]
[]
[]
[null,null,"Tax Exempt",null,"Yes"]
[null,null,null,null,"No"]
[null,null,"If Yes, attach a copy of your exemption certificate."]
[]
[null,null,"Requested Delivery Date"]
[null,null,{"$f":"Start_Here!$C$28","v":0}]
[]
[null,null,{"$f":"Start_Here!$C$26","v":0},null,{"$f":"Start_Here!$C$27","v":0}]
[null,null,"Authorized Buyer (please print)",null,"Phone Number"]
[]
[]
[null,null,"Authorized Buyer Signature"]
[]
[null,null,{"$f":"Start_Here!$C$41","v":"Rep Name"}]
[null,null,"Tennant Representative"]
[]
["Specialized Maintenance Equipment"]
[{"$f":"Start_Here!$C$48","v":"TENNANT · 10400 Clean Street · Eden Prairie, MN 55344 ·"}]
[{"$f":"Start_Here!$C$49","v":" PHONE:800-553-8033 · FAX:763-513-2116"}]
[]
[]
[null,"Notes"]
[null,1,"One set of pad drivers come standard. A different brush may be chosen as an option"]
[null,2,"Skid with carton packaging must be chosen as an option"]
[]
[null,3,"Machine Weights and dimensions","Skid w/Carton"]
[]
[null,null,"Weight (w/105AH battery)","331 lbs / 150 Kg"]
[null,null,"Length","47\" / 1200mm"]
[null,null,"Width","30\" / 750mm"]
[null,null,"Height","45\" / 1150mm"]

{"sheet":"T300_Series_Std_Config","index":20,"n_rows":228,"n_cols":14,"rows_kept":228,"cut":false,"hidden":false,"merged":[[217,4,218,4],[177,4,177,6],[179,2,179,5],[180,2,180,5],[181,2,181,5],[190,4,190,5],[210,4,211,4],[175,0,175,1],[175,2,175,5],[167,2,167,5],[168,0,168,1],[168,2,168,5],[169,0,169,1],[169,2,169,5],[171,0,171,1],[171,2,171,5],[172,0,172,1],[172,2,172,5],[173,2,173,5],[174,0,174,1],[174,2,174,5],[144,1,144,6],[163,4,163,6],[165,0,165,1],[165,2,165,5],[166,0,166,1],[166,2,166,5],[127,3,127,4],[42,2,42,6],[43,2,43,6],[44,2,44,6],[107,3,107,4],[107,5,107,6],[109,3,109,4],[109,5,109,6],[122,4,122,8],[124,3,124,6],[126,3,126,4],[41,2,41,6],[0,2,0,3],[1,2,1,3],[2,2,2,3],[3,2,3,3],[11,2,11,6],[15,2,15,3],[20,2,20,3],[21,2,21,3],[22,2,22,3],[39,2,39,6],[40,2,40,6],[129,3,129,4],[129,5,129,6],[130,3,130,4],[130,5,130,6],[131,3,131,4],[131,5,131,6],[135,3,135,4],[135,5,135,6],[132,3,132,4],[132,5,132,6],[133,3,133,4],[133,5,133,6],[134,3,134,4],[134,5,134,6]]}
["T300_Series_Std_Config",null,{"$f":"Start_Here!$C19","v":"Company Name"}]
[{"$f":"SUM(G102)","v":0},null,{"$f":"Start_Here!$C20","v":"Address"}]
[null,null,{"$f":"Start_Here!$C21","v":"City, State Zip"}]
[null,null,{"$f":"Start_Here!$C22","v":"Contact Name"}]
[null,null,{"$f":"Start_Here!$C$41","v":"Rep Name"}]
[null,null,{"$f":"Start_Here!$C$37","v":"Tennant Sales and Service Company"}]
[null,null,{"$f":"Start_Here!$C$38","v":"10400 Clean Street"}]
[null,null,{"$f":"Start_Here!$C$39","v":"Eden Prairie, MN 55344"}]
[null,null,{"$f":"Start_Here!$C$43","v":"800-553-8033"},null,"Quote Date :",null,{"$f":"Letter!$A$25","v":"2014-10-02"}]
[]
[null,null,{"$f":"Help!C2","v":"CAN Date Rev - 5/6/2025"}]
[null,null,"BUILT-IN “TENNANT VALUE” INCLUDES:"]
[]
[null,null,"42L/11 gal Solution Tank  & 53 L/14 gal Recovery Tank",null,"Emergency Stop  (standard on all drive units)"]
[null,null,"Rugged DuramerTM Rotomold Tank Construction",null,"Free Floating Head Skirt (disk machines)"]
[null,null,"Insta-ClickTM Pad Driver and Brush Attachment (Disk machines)"]
[null,null,"HygienicTM Recovery Tank",null,"Front Water Fill Port w/ Hose Hook"]
[null,null,"Multiple Setting Down Pressure",null,"Integrated Heat Sync for Electronics Protection"]
[null,null,"Adjustable Solution Flow",null,"Sealed Electrical Connectors"]
[null,null,"Variable Speed Control Bail",null,"Anti-Static Straps"]
[null,null,"MembraneTM Control Panel",null,"0.75 kW/1 HP brush motor, 230 RPM (disk)"]
[null,null,"Pro-MembraneTM Control Panel with Multiple Zone Settings™ Capability",null,"0.45 kW/0.6 HP brush motor, 2200 RPM (orbital)"]
[null,null,"Pro-PanelTM Controls with Full Color LCD Touch Screen (Option)",null,"Recovery Tank Debris Tray with Deflector"]
[null,null,"Supervisor QA ControlsTM settings (Lock Out Features)",null,"Unsurpassed Ergonomic Design"]
[null,null,"On Board Diagnostics",null,"Gray Non-Marking Tires"]
[null,null,"Extremely Low Noise Level  (≤65 dBa)",null,"10cm /4\" Edge & Reach Under Cleaning"]
[null,null,"Quiet-Mode™ Standard",null,"Key Switch for Safety"]
[null,null,"Wet 130AH and Wet 150AH Battery options available.",null,"Hour Meter"]
[null,null,"Quick Release Battery Harness",null,"Operators manual"]
[null,null,"Drain hose with pinch-cuff to control water flow",null,"Jacking Points/Shipping Tie Downs"]
[null,null,"On-board Charger with 3m/15 ft power cord",null,"Yellow Maintenance Touch Points"]
[null,null,"Closed Machine Venting for Battery Charging",null,"Integrated Accessory Rails w/Squeegee & Bag Hang "]
[null,null,"Cast Aluminum Squeegee Frame",null,"Composite Scrub Deck (Single Disk)"]
[null,null,"Breakaway Squeegee Design w/ Integrated P-Trap",null,"Cast Aluminum Scrub Deck (Dual Disk)"]
[null,null,"Factory Set Squeegee Assembly for Maximum Recovery",null,"11 Gauge Steel Scrub Deck (Orbital Only)"]
[null,null,"Linatex Squeegee Blades with Tool-less Replacement"]
[]
[]
[]
[null,null,"TENNANT COMPANY WARRANTY"]
[null,null,"3 YEARS OR 2000 HOURS - PARTS"]
[null,null,"1 YEAR - BATTERY CHARGERS"]
[null,null,"2 YEARS - LABOR"]
[null,null,"6 MONTHS - TRAVEL"]
[null,null,"10 YEARS ON DURAMERTM ROTOMOLD TANKS"]
[]
[null,null,null,null,"                Quote Request Information"]
[null,null,null,null,null,null,"Fax (quote only)"]
[null,null,null,null,null,null,"Mail (quote,lit, specs)"]
[null,null,null,null,null,null,"Fax + Mail"]
[]
[null,null,null,null,"                Primary Use"]
[null,null,null,null,null,null,"Inside"]
[null,null,null,null,null,null,"Outside"]
[]
[null,null,"Description","Reference #","Price Each","Qty","Extended Price"]
[null,"Standard Configurations Machines ",null,null,"CANADA",{"$f":"SUM(F59:F65)","v":0}]
[null,null,null,null,null,{"$f":"SUM(F59:F65)","v":0}]
[null,null,"T300e Walk-Behind - Disk Scrubber, 500mm / 20\", Conventional 3-Lug Cleaning Tool Attachment, 130AH C/20 Battery, Conventional Cleaning, 13A 85-265V AC 50/60Hz 1Ph On-Board Charger, Pad Assist Drive Type, Single Down Pressure\n(Pad Driver will default unless otherwise specified)","T300E-1001D",11508,null,{"$f":"F59*E59","v":0},{"$f":"IFERROR(IFERROR(VLOOKUP(D59,Surcharge!A:B,2,FALSE)*F59, VLOOKUP(D59 & \"\",Surcharge!A:B,2,FALSE)*F59), \"\")","v":""},null,null,null,{"$f":"SUM(F59)","v":0},"Surcharge Qty"]
[null,null,"T300e Walk-Behind - Disk Scrubber, 500mm / 20\", Insta-Click Cleaning Tool Attachment, \n130AH C/20 Battery, Conventional Cleaning, 13A 85-265V AC 50/60Hz 1Ph On-Board Charger, Self-Propel Drive Type, Multiple Down Pressure\n(Pad Driver will default unless otherwise specified)","T300E-2001D",14976,null,{"$f":"F60*E60","v":0},{"$f":"IFERROR(IFERROR(VLOOKUP(D60,Surcharge!A:B,2,FALSE)*F60, VLOOKUP(D60 & \"\",Surcharge!A:B,2,FALSE)*F60), \"\")","v":""},null,null,null,{"$f":"SUM(F60)","v":0},"Surcharge Qty"]
[null,null,"T300e Walk-Behind - Disk Scrubber, 500mm / 20\", Insta-Click Cleaning Tool Attachment, \n130AH C/20 Battery, ec-H20 NanoClean, 13A 85-265V AC 50/60Hz 1Ph On-Board Charger, \nSelf-Propel Drive Type, Multiple Down Pressure\n(Pad Driver will default unless otherwise specified)","T300E-2002D",18087,null,{"$f":"F61*E61","v":0},{"$f":"IFERROR(IFERROR(VLOOKUP(D61,Surcharge!A:B,2,FALSE)*F61, VLOOKUP(D61 & \"\",Surcharge!A:B,2,FALSE)*F61), \"\")","v":""},null,null,null,{"$f":"SUM(F61)","v":0},"Surcharge Qty"]
[]
[null,null,"T300 Walk-Behind - Disk Scrubber, 500mm / 20\", Membrane Control Panel, Insta-Click Cleaning Tool Attachment, 150AH C/20 Battery, Conventional Cleaning, 13A 85-265V AC 50/60Hz 1Ph On-Board Charger, Self-Propel Drive Type, Mechanical Down Pressure, Quiet Mode\n(Pad Driver will default unless otherwise specified)","T300-3001D",16278,null,{"$f":"F63*E63","v":0},{"$f":"IFERROR(IFERROR(VLOOKUP(D63,Surcharge!A:B,2,FALSE)*F63, VLOOKUP(D63 & \"\",Surcharge!A:B,2,FALSE)*F63), \"\")","v":""},null,null,null,{"$f":"SUM(F63)","v":0},"Surcharge Qty"]
[null,null,"T300 Walk-Behind - Disk Scrubber, 500mm / 20\", Pro Membrane Control Panel, Insta-Click Cleaning Tool Attachment, 150AH C/20 Battery, Conventional Cleaning, 13A 85-265V AC 50/60Hz 1Ph On-Board Charger, Self-Propel Drive Type, Automated Down Pressure, Quiet Mode\n(Pad Driver will default unless otherwise specified)","T300-3002D",16692,null,0,{"$f":"IFERROR(IFERROR(VLOOKUP(D64,Surcharge!A:B,2,FALSE)*F64, VLOOKUP(D64 & \"\",Surcharge!A:B,2,FALSE)*F64), \"\")","v":""},null,null,null,{"$f":"SUM(F64)","v":0},"Surcharge Qty"]
[null,null,"T300 Walk-Behind - Disk Scrubber, 500mm / 20\", Pro Membrane Control Panel, Insta-Click Cleaning Tool Attachment, 150AH C/20 Battery, Manual Battery Watering System, ec-H20 NanoClean, 13A 85-265V AC 50/60Hz 1Ph On-Board Charger, Self-Propel Drive Type, Automated Down Pressure, Quiet Mode\n(Pad Driver will default unless otherwise specified)","T300-3003D",20616,null,0,{"$f":"IFERROR(IFERROR(VLOOKUP(D65,Surcharge!A:B,2,FALSE)*F65, VLOOKUP(D65 & \"\",Surcharge!A:B,2,FALSE)*F65), \"\")","v":""},null,null,null,0,"Surcharge Qty"]
[]
[null,"OPTIONAL","Brushes - in place of Pad Driver  (Note 1)",null,null,{"$f":"SUM(F68:F71)","v":0}]
[null,null,"3-lug head, 500mm/20\" Polypropylene Brush",1016811,"N/C",null,{"$f":"IF(F68=0,\" \",\"N/C\")","v":" "},{"$f":"IFERROR(IFERROR(VLOOKUP(D68,Surcharge!A:B,2,FALSE)*F68, VLOOKUP(D68 & \"\",Surcharge!A:B,2,FALSE)*F68), \"\")","v":""}]
[null,null,"3-lug head, 500mm/20\" Nylon Brush",1016810,"N/C",null," ",{"$f":"IFERROR(IFERROR(VLOOKUP(D69,Surcharge!A:B,2,FALSE)*F69, VLOOKUP(D69 & \"\",Surcharge!A:B,2,FALSE)*F69), \"\")","v":""}]
[null,null,"Instaclick head, 500mm/20\" Polypropylene Brush",1213032,"N/C",null," ",{"$f":"IFERROR(IFERROR(VLOOKUP(D70,Surcharge!A:B,2,FALSE)*F70, VLOOKUP(D70 & \"\",Surcharge!A:B,2,FALSE)*F70), \"\")","v":""}]
[null,null,"Instaclick head, 500mm/20\" Nylon Brush",1210386,"N/C",null," ",{"$f":"IFERROR(IFERROR(VLOOKUP(D71,Surcharge!A:B,2,FALSE)*F71, VLOOKUP(D71 & \"\",Surcharge!A:B,2,FALSE)*F71), \"\")","v":""}]
[null,null,null,null," "]
[null,"OPTIONAL","Manuals  (Note 2)",null,null,{"$f":"SUM(F74:F80)","v":0}]
[null,null,"T300e Operator Manual (Spanish) - in place of English manual",9014507,"N/C",null,{"$f":"IF(F74=0,\" \",\"N/C\")","v":" "},{"$f":"IFERROR(IFERROR(VLOOKUP(D74,Surcharge!A:B,2,FALSE)*F74, VLOOKUP(D74 & \"\",Surcharge!A:B,2,FALSE)*F74), \"\")","v":""}]
[null,null,"T300e Operator Manual (French) - in place of English manual",9014508,"N/C",null,{"$f":"IF(F75=0,\" \",\"N/C\")","v":" "},{"$f":"IFERROR(IFERROR(VLOOKUP(D75,Surcharge!A:B,2,FALSE)*F75, VLOOKUP(D75 & \"\",Surcharge!A:B,2,FALSE)*F75), \"\")","v":""}]
[null,null,"T300 Operator Manual (Spanish) - in place of English manual",9014502,"N/C",null,{"$f":"IF(F76=0,\" \",\"N/C\")","v":" "},{"$f":"IFERROR(IFERROR(VLOOKUP(D76,Surcharge!A:B,2,FALSE)*F76, VLOOKUP(D76 & \"\",Surcharge!A:B,2,FALSE)*F76), \"\")","v":""}]
[null,null,"T300 Operator Manual (French) - in place of English manual",9014503,"N/C",null," ",{"$f":"IFERROR(IFERROR(VLOOKUP(D77,Surcharge!A:B,2,FALSE)*F77, VLOOKUP(D77 & \"\",Surcharge!A:B,2,FALSE)*F77), \"\")","v":""}]
[null,null,"Additional Operator Manual","See Above",191,null,{"$f":"F78*E78","v":0}]
[null,null,"T300e/T300 Parts Manual",9014500,78,null,{"$f":"F79*E79","v":0},{"$f":"IFERROR(IFERROR(VLOOKUP(D79,Surcharge!A:B,2,FALSE)*F79, VLOOKUP(D79 & \"\",Surcharge!A:B,2,FALSE)*F79), \"\")","v":""}]
[null,null,"T300e/T300 Service Manual",9014510,191,null,{"$f":"F80*E80","v":0},{"$f":"IFERROR(IFERROR(VLOOKUP(D80,Surcharge!A:B,2,FALSE)*F80, VLOOKUP(D80 & \"\",Surcharge!A:B,2,FALSE)*F80), \"\")","v":""}]
[]
[null,"REQUIRED","Packaging  (Note 3)",null,null,{"$f":"SUM(F83)","v":0}]
[null,null,"Skid w/Carton, Stackable",9013859,"N/C",null,{"$f":"IF(F83=0,\" \",\"N/C\")","v":" "},{"$f":"IFERROR(IFERROR(VLOOKUP(D83,Surcharge!A:B,2,FALSE)*F83, VLOOKUP(D83 & \"\",Surcharge!A:B,2,FALSE)*F83), \"\")","v":""}]
[]
[]
[]
[null,null,null,null,{"$f":"ROUND(SUM(G59:G86), 0)","v":0},{"$f":"SUM(E88)","v":0}]
[null,null,null,"Machine Subtotal ",{"$f":"ROUND(SUM(G59:G86), 0)","v":0},{"$f":"F87","v":0}]
[null,"Discounts",null,null,null,{"$f":"SUM(F90)","v":0}]
[null,null,null,null,null,{"$f":"SUM(F92:F95)","v":0}]
[null,null,null,"Applicable Currency Adj %",null,{"$f":"IF(E91 <> \"\", 1, 0)","v":0},{"$f":"IF(F91*(E91*0.01)*E87 < 0, F91*(E91*0.01)*E87, -(F91*(E91*0.01)*E87))","v":0}]
[null,null,null,"Discount %",null,{"$f":"IF(E92 <> \"\", 1, 0)","v":0},{"$f":"IF(F92*(E92*0.01)*(E87+G91) < 0, F92*(E92*0.01)*(E87+G91), -(F92*(E92*0.01)*(E87+G91)))","v":0}]
[null,null,null,"Discount $",null,{"$f":"IF(E93 <> \"\", 1, 0)","v":0},{"$f":"IF(F93*E93 < 0, F93*E93, -(F93*E93))","v":0}]
[null,null,null,"Discount $",null,{"$f":"IF(E94 <> \"\", 1, 0)","v":0},{"$f":"IF(F94*E94 < 0, F94*E94, -(F94*E94))","v":0}]
[null,null,null,"Discount $",null,{"$f":"IF(E95 <> \"\", 1, 0)","v":0},{"$f":"IF(F95*E95 < 0, F95*E95, -(F95*E95))","v":0}]
[null,null,null,"Discount Total ",{"$f":"SUM(G91:G95)","v":0},{"$f":"SUM(E96)","v":0}]
[null,null,null,null,null,{"$f":"#REF!","v":{"$error":"#REF!"}}]
[null,null,null,null,null,{"$f":"F97","v":{"$error":"#REF!"}}]
[null,null,"Prepaid and Add","Freight",null,{"$f":"IF(E99 <> \"\", 1, 0)","v":0},{"$f":"F99*E99","v":0}]
[null,null,"Subject to all applicable taxes","Tax",null,{"$f":"IF(E100 <> \"\", 1, 0)","v":0},{"$f":"F100*E100","v":0}]
[null,null,null,null,null,{"$f":"SUM(F102)","v":0}]
[null,null,null,"MACHINE TOTAL*",null,{"$f":"SUM(G102)","v":0},{"$f":"SUM(G59:G100)","v":0},null,null,null,null,null,null,"This goes to \"My Documents\""]
[null,null,null,null,null,null,{"$f":"SUM(G102)","v":0}]
[]
[]
[]
[]
[null,null,"First Western Equipment Finance - Leasing Calculation Option:","Option 1",null,"Option 2",null,null,null,{"$f":"Financing!A38","v":"Rates 2025 - Rev 2/4/2025"}]
[null,null,null,"Monthly Payment","Cost Per Day","Monthly Payment","Cost Per Day",null,null,{"$f":"Financing!A39","v":"“Blank Payment Amounts Indicate The Financing Option Or Purchase Options Selected Are Not "}]
[null,null,"Purchase Option:","FWEF:  $1 Buyout Lease",null,"FWEF: Municipal Lease",null,null,null,{"$f":"Financing!A40","v":"Applicable Or The Machine Total Is Below The Minimum Amount For The Selected Vendor”"}]
[null,null,"24 Months",false,0,false,0,null,null,{"$f":"Financing!A41","v":"\"Quoted monthly payments are estimates only and are based on a certain level of credit rating."}]
[null,null,"30 Months",false,0,false,0,null,null,{"$f":"Financing!A42","v":"Actual monthly payments may be higher depending on your credit rating.\""}]
[null,null,"36 Months",false,0,false,0,null,null,{"$f":"Financing!A43","v":"“Financing rates do not include Pre-Paid Service”"}]
[null,null,"48 Months",0,0,0,0]
[]
[null,null,null,"Benefits of Equipment Financing:"]
[null,null,null,"• Spreads out investment over time.",null,"• Keep current with latest technology."]
[null,null,null,"• Preserve capital.",null,"• Service and parts bundling available."]
[null,null,null,"• Low monthly payment.",null,"• Pay for labor savings as you go."]
[]
[null,"   TennantTrue",null,null,0,0]
[]
[null,null,"Is customer interested in service program?","Yes","*State/County selection required for TennantTrue service options"]
[]
[null,null,"If not, why?"]
[]
[null,null,"Term:",36,null,null,"AB Brushes","No"]
[null,null,"Monthly machine usage (hrs):","< 30/mo. (Avg. 1hr./day)"]
[]
[null,null,"TennantTrue: ","Gold Contract",null,"Silver Contract"]
[null,null,"Per Visit",null,null,425]
[null,null,"Monthly",120,null,69]
[null,null,"Annually",null,null,816]
[null,null,"Pre-Pay Full Term",4162,null,2397]
[null,null,"Hourly Labor Rate"]
[null,null,"Site Visit"]
[]
[null,null,"* Verify customer current pricing prior to quote. "]
[null,null,"**All rates and fees above reflect service for one (1) unit with the exception of Block of Time service."]
[null,null,"*Block of Time is available in 1 Year Term only and is priced as such no matter the term selection on this template."]
[]
[]
[]
[null,"Quote Special Instructions:"]
[]
[]
[null,{"$f":"Start_Here!E36","v":"Terms and Conditions"}]
[null,{"$f":"Start_Here!E37","v":"Ask your local sales rep for estimated lead times. Verify when placing order"}]
[null,{"$f":"Start_Here!E38","v":"All orders subject to acceptance by Tennant Sales and Service Company, Minneapolis, Minnesota"}]
[null,{"$f":"Start_Here!E39","v":"Prices subject to change without notice. Subject to any applicable taxes."}]
[null,{"$f":"Start_Here!E40","v":"Terms:  Net 30 days.  Payable in Canadian Funds"}]
[null,{"$f":"Start_Here!E41","v":"Freight:  Accessories, parts, supplies, detergents, and floor coatings orders delivered DDP "}]
[null,{"$f":"Start_Here!E42","v":"shipping point Frt PPD.  Machine orders delivered DDP shipping point Frt PPD and add."}]
[null,{"$f":"Start_Here!E43","v":"Returned Merchandise is subject to a restocking fee."}]
[null,{"$f":"Start_Here!E45","v":"Printed General Terms and Conditions are also available upon request."}]
[null,{"$f":"Start_Here!E46","v":0}]
[]
[]
[null,null,null,null,"Quote Date :",null,{"$f":"Letter!$A$25","v":"2014-10-02"}]
["Order Placement Information:  To place your order, fill in PO# and customer signatures,"]
["call or fax to the numbers listed below. Customer Purchase Order is required."]
["If information is missing, orders will be entered and held until all information is received."]
[null,null,"Customer Number",null,"Cust Grp 3"]
[null,null,{"$f":"Start_Here!$C$25","v":0},null,{"$f":"Start_Here!$C$29","v":0}]
[null,null,{"$f":"Start_Here!$B$18","v":"Who Owns the Machine? (Sold-To Info) (Please Verify)"}]
["Company",null,{"$f":"Start_Here!$C$19","v":"Company Name"}]
["Address",null,{"$f":"Start_Here!$C$20","v":"Address"}]
[null,null,{"$f":"Start_Here!$C$21","v":"City, State Zip"}]
["Name",null,{"$f":"Start_Here!$C$22","v":"Contact Name"}]
["Phone",null,{"$f":"Start_Here!$C$23","v":"Contact Phone"}]
[null,null,{"$f":"Start_Here!$B$11","v":"Where is the Machine Being Shipped? (Ship-To Info) (Please Verify)"}]
["Company",null,{"$f":"Start_Here!$C$12","v":"Company Name"}]
["Address",null,{"$f":"Start_Here!$C$13","v":"Address"}]
[null,null,{"$f":"Start_Here!$C$14","v":"City, State Zip"}]
["Name",null,{"$f":"Start_Here!$C$15","v":"Contact Name"}]
["Phone",null,{"$f":"Start_Here!$C$16","v":"Contact Phone"}]
[null,null,{"$f":"Start_Here!$B$31","v":"Shipping / Carrier Instructions:"},null,"Order Special Instructions:"]
[null,null,{"$f":"Start_Here!$C$32","v":0}]
[]
[null,null,"Customer Purchase Order No."]
[null,null,"(please attach copy)"]
[]
[]
[null,null,"Tax Exempt",null,"Yes"]
[null,null,null,null,"No"]
[null,null,"If Yes, attach a copy of your exemption certificate."]
[]
[null,null,"Requested Delivery Date"]
[null,null,{"$f":"Start_Here!$C$28","v":0}]
[]
[null,null,{"$f":"Start_Here!$C$26","v":0},null,{"$f":"Start_Here!$C$27","v":0}]
[null,null,"Authorized Buyer (please print)",null,"Phone Number"]
[]
[]
[null,null,"Authorized Buyer Signature"]
[]
[null,null,{"$f":"Start_Here!$C$41","v":"Rep Name"}]
[null,null,"Tennant Representative"]
[]
["Specialized Maintenance Equipment"]
[{"$f":"Start_Here!$C$48","v":"TENNANT · 10400 Clean Street · Eden Prairie, MN 55344 ·"}]
[{"$f":"Start_Here!$C$49","v":" PHONE:800-553-8033 · FAX:763-513-2116"}]
[]
[null,"Notes"]
[null,1,"One set of pad drivers come standard. A different brush may be chosen as an option"]
[null,2,"One English manual comes standard.  A manual in a different language may be chosen as an option."]
[null,3,"Skid with carton packaging must be chosen as an option"]
[]
[null,11,"Shipping Weights and Dimensions",null,"Skid w/Carton"]
[null,null,"430 mm/17\" Single Model"]
[null,null,"Weight (w/105AH Battery Pad Drive)",null,"500 lbs / 227 Kg"]
[null,null,"Weight (w/130AH Battery Self Propel Drive)"]
[null,null,"Length",null,"59\" / 1500 mm"]
[null,null,"Width",null,"31\" / 787 mm"]
[null,null,"Height",null,"44\" / 1118 mm"]
[]
[null,null,"500 mm /20\" Single Disk Model"]
[null,null,"Weight (w/130AH Battery Pad Drive)",null,"500 lbs / 227 Kg"]
[null,null,"Weight (w/150AH Battery Self Propel)"]
[null,null,"Length",null,"59\" / 1500 mm"]
[null,null,"Width",null,"31\" / 787 mm"]
[null,null,"Height",null,"44\" / 1118 mm"]
[]
[null,null,"600 mm/24\" Dual Disk Model"]
[null,null,"Weight (w/150AH Battery)",null,"538 lbs / 244 Kg"]
[null,null,"Length",null,"59\" / 1500 mm"]
[null,null,"Width",null,"31\" / 787 mm"]
[null,null,"Height",null,"44\" / 1118 mm"]

{"sheet":"T350_Std_Config","index":21,"n_rows":197,"n_cols":14,"rows_kept":197,"cut":false,"hidden":false,"merged":[[165,4,165,6],[167,2,167,5],[168,2,168,5],[169,2,169,5],[178,4,178,5],[163,0,163,1],[163,2,163,5],[155,2,155,5],[156,0,156,1],[156,2,156,5],[157,0,157,1],[157,2,157,5],[159,0,159,1],[159,2,159,5],[160,0,160,1],[160,2,160,5],[161,2,161,5],[162,0,162,1],[162,2,162,5],[132,1,132,6],[151,4,151,6],[153,0,153,1],[153,2,153,5],[154,0,154,1],[154,2,154,5],[115,3,115,4],[37,2,37,6],[38,2,38,6],[39,2,39,6],[95,3,95,4],[95,5,95,6],[97,3,97,4],[97,5,97,6],[110,4,110,8],[112,3,112,6],[114,3,114,4],[15,2,15,3],[0,2,0,3],[1,2,1,3],[2,2,2,3],[3,2,3,3],[11,2,11,6],[117,3,117,4],[117,5,117,6],[118,3,118,4],[118,5,118,6],[119,3,119,4],[119,5,119,6],[123,3,123,4],[123,5,123,6],[120,3,120,4],[120,5,120,6],[121,3,121,4],[121,5,121,6],[122,3,122,4],[122,5,122,6]]}
["T350_Std_Config",null,{"$f":"Start_Here!$C19","v":"Company Name"}]
[{"$f":"SUM(G90)","v":0},null,{"$f":"Start_Here!$C20","v":"Address"}]
[null,null,{"$f":"Start_Here!$C21","v":"City, State Zip"}]
[null,null,{"$f":"Start_Here!$C22","v":"Contact Name"}]
[null,null,{"$f":"Start_Here!$C$41","v":"Rep Name"}]
[null,null,{"$f":"Start_Here!$C$37","v":"Tennant Sales and Service Company"}]
[null,null,{"$f":"Start_Here!$C$38","v":"10400 Clean Street"}]
[null,null,{"$f":"Start_Here!$C$39","v":"Eden Prairie, MN 55344"}]
[null,null,{"$f":"Start_Here!$C$43","v":"800-553-8033"},null,"Quote Date :",null,{"$f":"Letter!$A$25","v":"2014-10-02"}]
[]
[null,null,{"$f":"Help!C2","v":"CAN Date Rev - 5/6/2025"}]
[null,null,"BUILT-IN “TENNANT VALUE” INCLUDES:"]
[]
[null,null,"53L/14.1 gal Solution Tank  & 70 L/18.4 gal Recovery Tank",null,"Quick Release Squeegee Attachment/Removal"]
[null,null,"Rugged Duramer™ Rotomold Tank Construction",null,"Linatex Squeegee Blades With Tool-less Replacement"]
[null,null,"Insta-Click™ ",null,"Emergency Stop"]
[null,null,"Hygienic™ Recovery Tank",null,"Free Floating Head Skirt"]
[null,null,"Multiple Setting Down Pressure",null,"Fill Port w/ Hose Hook"]
[null,null,"Adjustable Solution Flow",null,"Integrated Heat Sync For Electronics Protection"]
[null,null,"Variable Speed Control Knob",null,"Sealed Electrical Connectors"]
[null,null,"Pro-Membrane™ Control Panel With Multiple Zone Settings™",null,"Anti-Static Straps"]
[null,null,"LCD Pro-Panel™  Full Color Touch Screen (Option)",null,"24 VDC, 0.87 HP / 0.65 kW brush motor"]
[null,null,"Supervisor QA Controls™ Settings (Lock Out Features)",null,"215 RPM (500 mm/20\") and 275 RPM (600 mm/24\") "]
[null,null,"On Board Diagnostics",null,"Recovery Tank Debris Tray"]
[null,null,"Extremely Low Noise Level  (as low as 63.7 dBa)",null,"Unsurpassed Ergonomic Design"]
[null,null,"Quiet-Mode™ Sound Reduction (Optional)  ( as low as 59.7 dBa)",null,"Non-Marking Wheels"]
[null,null,"Wet 210AH, Wet 240AH, and Sealed 220AH AGM Available.",null,"2.5 cm /1\" Edge & Reach Under Cleaning"]
[null,null,"Quick Release Battery Harness",null,"Key Switch for Safety"]
[null,null,"Drain hose with pinch cuff to control water flow",null,"Hour Meter"]
[null,null,"On-board Charger With 3m/15 ft Power Cord",null,"Operators manual"]
[null,null,"Closed Machine Venting For Battery Charging",null,"Jacking Points/Shipping Tie Downs"]
[null,null,"Breakaway Squeegee Design",null,"Yellow Maintenance Touch Points"]
[null,null,"Factory Set Squeegee Assembly For Maximum Recovery",null,"Integrated Accessory Rail"]
[null,null,"Cast Aluminum Squeegee Frame",null,"Composite Scrub Deck (Single Disk)"]
[null,null,null,null,"Cast Aluminum Scrub Deck (Dual Disk)"]
[]
[]
[null,null,"TENNANT COMPANY WARRANTY"]
[null,null,"3 YEARS OR 2500 HOURS ON ALL COMPONENTS, 3 YEARS LABOR"]
[null,null,"90 DAYS TRAVEL, 10 YEARS ON DURAMERTM TANKS"]
[]
[null,null,null,null,"                Quote Request Information"]
[null,null,null,null,null,null,"Fax (quote only)"]
[null,null,null,null,null,null,"Mail (quote,lit, specs)"]
[null,null,null,null,null,null,"Fax + Mail"]
[]
[null,null,null,null,"                Primary Use"]
[null,null,null,null,null,null,"Inside"]
[null,null,null,null,null,null,"Outside"]
[]
[null,null,"Description","Reference #","Price Each","Qty","Extended Price"]
[null,"Standard Configuration Machines:",null,null,null,{"$f":"SUM(F53:F56)","v":0}]
[null,null,"T350 Rider - Disk Scrubber, 500mm / 20\", 210AH C/20 Battery, Conventional Cleaning, 25A 100-240V AC 50/60Hz 1Ph On-Board Charger\n(Pad Driver will default unless otherwise specified)","T350-1001D",21712,null,{"$f":"F53*E53","v":0},{"$f":"IFERROR(IFERROR(VLOOKUP(D53,Surcharge!A:B,2,FALSE)*F53, VLOOKUP(D53 & \"\",Surcharge!A:B,2,FALSE)*F53), \"\")","v":""}]
[null,null,"T350 Rider - Disk Scrubber, 600mm / 24\", 210AH C/20 Battery, Conventional Cleaning, 25A 100-240V AC 50/60Hz 1Ph On-Board Charger\n(Pad Driver will default unless otherwise specified)","T350-1002D",24129,null,0,{"$f":"IFERROR(IFERROR(VLOOKUP(D54,Surcharge!A:B,2,FALSE)*F54, VLOOKUP(D54 & \"\",Surcharge!A:B,2,FALSE)*F54), \"\")","v":""}]
[null,null,"T350 Rider - Disk Scrubber, 500mm / 20\", 240AH C/20 Battery, Smart-Fill Battery Watering, ec-H20 NanoClean, 25A 100-240V AC 50/60Hz 1Ph On-Board Charger, Quiet Mode\n(Pad Driver will default unless otherwise specified)","T350-2001D",27138,null,0,{"$f":"IFERROR(IFERROR(VLOOKUP(D55,Surcharge!A:B,2,FALSE)*F55, VLOOKUP(D55 & \"\",Surcharge!A:B,2,FALSE)*F55), \"\")","v":""}]
[null,null,"T350 Rider - Disk Scrubber, 600mm / 24\", 240AH C/20 Battery, Smart-Fill Battery Watering, ec-H20 NanoClean, 25A 100-240V AC 50/60Hz 1Ph On-Board Charger, Quiet Mode\n(Pad Driver will default unless otherwise specified)","T350-2002D",29555,null,0,{"$f":"IFERROR(IFERROR(VLOOKUP(D56,Surcharge!A:B,2,FALSE)*F56, VLOOKUP(D56 & \"\",Surcharge!A:B,2,FALSE)*F56), \"\")","v":""}]
[]
[null,"OPTIONAL","Brushes - in place of Pad Driver  (Note 1)",null,null,{"$f":"SUM(F59:F62)","v":0}]
[null,null,"500mm/20\" Polypropylene Brush",1213032,"N/C",null,{"$f":"IF(F59=0,\" \",\"N/C\")","v":" "},{"$f":"IFERROR(IFERROR(VLOOKUP(D59,Surcharge!A:B,2,FALSE)*F59, VLOOKUP(D59 & \"\",Surcharge!A:B,2,FALSE)*F59), \"\")","v":""}]
[null,null,"500mm/20\" Nylon Brush",1210386,"N/C",null," ",{"$f":"IFERROR(IFERROR(VLOOKUP(D60,Surcharge!A:B,2,FALSE)*F60, VLOOKUP(D60 & \"\",Surcharge!A:B,2,FALSE)*F60), \"\")","v":""}]
[null,null,"600mm/24\" Polypropylene Brush (2 Required)",1213040,"N/C",null," ",{"$f":"IFERROR(IFERROR(VLOOKUP(D61,Surcharge!A:B,2,FALSE)*F61, VLOOKUP(D61 & \"\",Surcharge!A:B,2,FALSE)*F61), \"\")","v":""}]
[null,null,"600mm/24\" Nylon Brush  (2 Required)",1210136,"N/C",null," ",{"$f":"IFERROR(IFERROR(VLOOKUP(D62,Surcharge!A:B,2,FALSE)*F62, VLOOKUP(D62 & \"\",Surcharge!A:B,2,FALSE)*F62), \"\")","v":""}]
[]
[null,"OPTIONAL","Manuals  (Note 2)",null,null,{"$f":"SUM(F65:F68)","v":0}]
[null,null,"Operator Manual (Spanish) - in place of English manual",9016418,"N/C",null,{"$f":"IF(F65=0,\" \",\"N/C\")","v":" "},{"$f":"IFERROR(IFERROR(VLOOKUP(D65,Surcharge!A:B,2,FALSE)*F65, VLOOKUP(D65 & \"\",Surcharge!A:B,2,FALSE)*F65), \"\")","v":""}]
[null,null,"Operator Manual (French) - in place of English manual",9016419,"N/C",null," ",{"$f":"IFERROR(IFERROR(VLOOKUP(D66,Surcharge!A:B,2,FALSE)*F66, VLOOKUP(D66 & \"\",Surcharge!A:B,2,FALSE)*F66), \"\")","v":""}]
[null,null,"Parts Manual",9016416,84,null,{"$f":"F67*E67","v":0},{"$f":"IFERROR(IFERROR(VLOOKUP(D67,Surcharge!A:B,2,FALSE)*F67, VLOOKUP(D67 & \"\",Surcharge!A:B,2,FALSE)*F67), \"\")","v":""}]
[null,null,"Service Manual",9016422,204,null,{"$f":"F68*E68","v":0},{"$f":"IFERROR(IFERROR(VLOOKUP(D68,Surcharge!A:B,2,FALSE)*F68, VLOOKUP(D68 & \"\",Surcharge!A:B,2,FALSE)*F68), \"\")","v":""}]
[]
[null,"REQUIRED","Packaging  (Note 3)",null,null,{"$f":"SUM(F71)","v":0}]
[null,null,"Skid w/Carton, Stackable",9040253,"N/C",null,{"$f":"IF(F71=0,\" \",\"N/C\")","v":" "},{"$f":"IFERROR(IFERROR(VLOOKUP(D71,Surcharge!A:B,2,FALSE)*F71, VLOOKUP(D71 & \"\",Surcharge!A:B,2,FALSE)*F71), \"\")","v":""}]
[]
[]
[]
[null,null,null,null,{"$f":"ROUND(SUM(G53:G74), 0)","v":0},{"$f":"SUM(E76)","v":0}]
[null,null,null,"Machine Subtotal ",{"$f":"ROUND(SUM(G53:G74), 0)","v":0},{"$f":"F75","v":0}]
[null,"Discounts",null,null,null,{"$f":"SUM(F78)","v":0}]
[null,null,null,null,null,{"$f":"SUM(F80:F83)","v":0}]
[null,null,null,"Applicable Currency Adj %",null,{"$f":"IF(E79 <> \"\", 1, 0)","v":0},{"$f":"IF(F79*(E79*0.01)*E75 < 0, F79*(E79*0.01)*E75, -(F79*(E79*0.01)*E75))","v":0}]
[null,null,null,"Discount %",null,{"$f":"IF(E80 <> \"\", 1, 0)","v":0},{"$f":"IF(F80*(E80*0.01)*(E75+G79) < 0, F80*(E80*0.01)*(E75+G79), -(F80*(E80*0.01)*(E75+G79)))","v":0}]
[null,null,null,"Discount $",null,{"$f":"IF(E81 <> \"\", 1, 0)","v":0},{"$f":"IF(F81*E81 < 0, F81*E81, -(F81*E81))","v":0}]
[null,null,null,"Discount $",null,{"$f":"IF(E82 <> \"\", 1, 0)","v":0},{"$f":"IF(F82*E82 < 0, F82*E82, -(F82*E82))","v":0}]
[null,null,null,"Discount $",null,{"$f":"IF(E83 <> \"\", 1, 0)","v":0},{"$f":"IF(F83*E83 < 0, F83*E83, -(F83*E83))","v":0}]
[null,null,null,"Discount Total ",{"$f":"SUM(G79:G83)","v":0},{"$f":"SUM(E84)","v":0}]
[null,null,null,null,null,{"$f":"#REF!","v":{"$error":"#REF!"}}]
[null,null,null,null,null,{"$f":"F85","v":{"$error":"#REF!"}}]
[null,null,"Prepaid and Add","Freight",null,{"$f":"IF(E87 <> \"\", 1, 0)","v":0},{"$f":"F87*E87","v":0}]
[null,null,"Subject to all applicable taxes","Tax",null,{"$f":"IF(E88 <> \"\", 1, 0)","v":0},{"$f":"F88*E88","v":0}]
[null,null,null,null,null,{"$f":"SUM(F90)","v":0}]
[null,null,null,"MACHINE TOTAL*",null,{"$f":"SUM(G90)","v":0},{"$f":"SUM(G53:G88)","v":0},null,null,null,null,null,null,"This goes to \"My Documents\""]
[null,null,null,null,null,null,{"$f":"SUM(G90)","v":0}]
[]
[]
[]
[]
[null,null,"First Western Equipment Finance - Leasing Calculation Option:","Option 1",null,"Option 2",null,null,null,{"$f":"Financing!A38","v":"Rates 2025 - Rev 2/4/2025"}]
[null,null,null,"Monthly Payment","Cost Per Day","Monthly Payment","Cost Per Day",null,null,{"$f":"Financing!A39","v":"“Blank Payment Amounts Indicate The Financing Option Or Purchase Options Selected Are Not "}]
[null,null,"Purchase Option:","FWEF:  $1 Buyout Lease",null,"FWEF: Municipal Lease",null,null,null,{"$f":"Financing!A40","v":"Applicable Or The Machine Total Is Below The Minimum Amount For The Selected Vendor”"}]
[null,null,"24 Months",false,0,false,0,null,null,{"$f":"Financing!A41","v":"\"Quoted monthly payments are estimates only and are based on a certain level of credit rating."}]
[null,null,"30 Months",false,0,false,0,null,null,{"$f":"Financing!A42","v":"Actual monthly payments may be higher depending on your credit rating.\""}]
[null,null,"36 Months",false,0,false,0,null,null,{"$f":"Financing!A43","v":"“Financing rates do not include Pre-Paid Service”"}]
[null,null,"48 Months",0,0,0,0,null,{"$f":"Financing!A44","v":0}]
[]
[null,null,null,"Benefits of Equipment Financing:"]
[null,null,null,"• Spreads out investment over time.",null,"• Keep current with latest technology."]
[null,null,null,"• Preserve capital.",null,"• Service and parts bundling available."]
[null,null,null,"• Low monthly payment.",null,"• Pay for labor savings as you go."]
[]
[null,"   TennantTrue",null,null,0,0]
[]
[null,null,"Is customer interested in service program?","Yes","*State/County selection required for TennantTrue service options"]
[]
[null,null,"If not, why?"]
[]
[null,null,"Term:",36,null,null,"AB Brushes","No"]
[null,null,"Monthly machine usage (hrs):","< 30/mo. (Avg. 1hr./day)"]
[]
[null,null,"TennantTrue: ","Gold Contract",null,"Silver Contract"]
[null,null,"Per Visit",null,null,425]
[null,null,"Monthly",129,null,69]
[null,null,"Annually",null,null,816]
[null,null,"Pre-Pay Full Term",4444,null,2397]
[null,null,"Hourly Labor Rate"]
[null,null,"Site Visit"]
[]
[null,null,"* Verify customer current pricing prior to quote. "]
[null,null,"**All rates and fees above reflect service for one (1) unit with the exception of Block of Time service."]
[null,null,"*Block of Time is available in 1 Year Term only and is priced as such no matter the term selection on this template."]
[]
[]
[]
[null,"Quote Special Instructions:"]
[]
[]
[null,{"$f":"Start_Here!E36","v":"Terms and Conditions"}]
[null,{"$f":"Start_Here!E37","v":"Ask your local sales rep for estimated lead times. Verify when placing order"}]
[null,{"$f":"Start_Here!E38","v":"All orders subject to acceptance by Tennant Sales and Service Company, Minneapolis, Minnesota"}]
[null,{"$f":"Start_Here!E39","v":"Prices subject to change without notice. Subject to any applicable taxes."}]
[null,{"$f":"Start_Here!E40","v":"Terms:  Net 30 days.  Payable in Canadian Funds"}]
[null,{"$f":"Start_Here!E41","v":"Freight:  Accessories, parts, supplies, detergents, and floor coatings orders delivered DDP "}]
[null,{"$f":"Start_Here!E42","v":"shipping point Frt PPD.  Machine orders delivered DDP shipping point Frt PPD and add."}]
[null,{"$f":"Start_Here!E43","v":"Returned Merchandise is subject to a restocking fee."}]
[null,{"$f":"Start_Here!E45","v":"Printed General Terms and Conditions are also available upon request."}]
[null,{"$f":"Start_Here!E46","v":0}]
[]
[]
[null,null,null,null,"Quote Date :",null,{"$f":"Letter!$A$25","v":"2014-10-02"}]
["Order Placement Information:  To place your order, fill in PO# and customer signatures,"]
["call or fax to the numbers listed below. Customer Purchase Order is required."]
["If information is missing, orders will be entered and held until all information is received."]
[null,null,"Customer Number",null,"Cust Grp 3"]
[null,null,{"$f":"Start_Here!$C$25","v":0},null,{"$f":"Start_Here!$C$29","v":0}]
[null,null,{"$f":"Start_Here!$B$18","v":"Who Owns the Machine? (Sold-To Info) (Please Verify)"}]
["Company",null,{"$f":"Start_Here!$C$19","v":"Company Name"}]
["Address",null,{"$f":"Start_Here!$C$20","v":"Address"}]
[null,null,{"$f":"Start_Here!$C$21","v":"City, State Zip"}]
["Name",null,{"$f":"Start_Here!$C$22","v":"Contact Name"}]
["Phone",null,{"$f":"Start_Here!$C$23","v":"Contact Phone"}]
[null,null,{"$f":"Start_Here!$B$11","v":"Where is the Machine Being Shipped? (Ship-To Info) (Please Verify)"}]
["Company",null,{"$f":"Start_Here!$C$12","v":"Company Name"}]
["Address",null,{"$f":"Start_Here!$C$13","v":"Address"}]
[null,null,{"$f":"Start_Here!$C$14","v":"City, State Zip"}]
["Name",null,{"$f":"Start_Here!$C$15","v":"Contact Name"}]
["Phone",null,{"$f":"Start_Here!$C$16","v":"Contact Phone"}]
[null,null,{"$f":"Start_Here!$B$31","v":"Shipping / Carrier Instructions:"},null,"Order Special Instructions:"]
[null,null,{"$f":"Start_Here!$C$32","v":0}]
[]
[null,null,"Customer Purchase Order No."]
[null,null,"(please attach copy)"]
[]
[]
[null,null,"Tax Exempt",null,"Yes"]
[null,null,null,null,"No"]
[null,null,"If Yes, attach a copy of your exemption certificate."]
[]
[null,null,"Requested Delivery Date"]
[null,null,{"$f":"Start_Here!$C$28","v":0}]
[]
[null,null,{"$f":"Start_Here!$C$26","v":0},null,{"$f":"Start_Here!$C$27","v":0}]
[null,null,"Authorized Buyer (please print)",null,"Phone Number"]
[]
[]
[null,null,"Authorized Buyer Signature"]
[]
[null,null,{"$f":"Start_Here!$C$41","v":"Rep Name"}]
[null,null,"Tennant Representative"]
[]
["Specialized Maintenance Equipment"]
[{"$f":"Start_Here!$C$48","v":"TENNANT · 10400 Clean Street · Eden Prairie, MN 55344 ·"}]
[{"$f":"Start_Here!$C$49","v":" PHONE:800-553-8033 · FAX:763-513-2116"}]
[]
[]
[]
[null,"Notes"]
[null,1,"One set of pad drivers come standard. A different brush may be chosen as an option"]
[null,2,"One English manual comes standard.  A manual in a different language may be chosen as an option."]
[null,3,"Skid with carton packaging must be chosen as an option"]

{"sheet":"T500_Series_Std_Config","index":22,"n_rows":241,"n_cols":14,"rows_kept":241,"cut":false,"hidden":false,"merged":[[192,4,192,5],[177,0,177,1],[177,2,177,5],[179,4,179,6],[181,2,181,5],[182,2,182,5],[183,2,183,5],[176,0,176,1],[176,2,176,5],[168,0,168,1],[168,2,168,5],[169,2,169,5],[170,0,170,1],[170,2,170,5],[171,0,171,1],[171,2,171,5],[173,0,173,1],[173,2,173,5],[174,0,174,1],[174,2,174,5],[175,2,175,5],[132,3,132,4],[132,5,132,6],[133,3,133,4],[167,0,167,1],[167,2,167,5],[146,1,146,6],[165,4,165,6],[136,3,136,4],[136,5,136,6],[137,3,137,4],[137,5,137,6],[133,5,133,6],[134,3,134,4],[134,5,134,6],[135,3,135,4],[135,5,135,6],[126,3,126,6],[128,3,128,4],[129,3,129,4],[131,3,131,4],[131,5,131,6],[109,3,109,4],[109,5,109,6],[111,3,111,4],[111,5,111,6],[124,4,124,8],[34,1,34,4],[35,1,35,4],[36,1,36,4],[37,1,37,4],[38,1,38,4],[33,1,33,4],[0,2,0,3],[1,2,1,3],[2,2,2,3],[3,2,3,3],[11,2,11,3]]}
["T500_Series_Std_Config",null,{"$f":"Start_Here!$C19","v":"Company Name"}]
[{"$f":"SUM(G104)","v":0},null,{"$f":"Start_Here!$C20","v":"Address"}]
[null,null,{"$f":"Start_Here!$C21","v":"City, State Zip"}]
[null,null,{"$f":"Start_Here!$C22","v":"Contact Name"}]
[null,null,{"$f":"Start_Here!$C$41","v":"Rep Name"}]
[null,null,{"$f":"Start_Here!$C$37","v":"Tennant Sales and Service Company"}]
[null,null,{"$f":"Start_Here!$C$38","v":"10400 Clean Street"}]
[null,null,{"$f":"Start_Here!$C$39","v":"Eden Prairie, MN 55344"}]
[null,null,{"$f":"Start_Here!$C$43","v":"800-553-8033"},null,"Quote Date :",null,{"$f":"Letter!$A$25","v":"2014-10-02"}]
[]
[null,null,{"$f":"Help!C2","v":"CAN Date Rev - 5/6/2025"}]
[null,null,"                     BUILT-IN \"TENNANT VALUE\" INCLUDES:"]
[]
[null,"Tanks: 85 L/22.5 gal Solution & 102 L/27 gal Recovery",null,"Yellow maintenance touch points"]
[null,"1-STEP™ Button Memory Controls",null,"Emergency Stop Kit"]
[null,"Extremely Low Noise Levels Standard  (≤68.5 dBA)",null,"Key Switch for Safety"]
[null,"On Board Diagnostics",null,"Standard (4) 6 V 225AH Battery Pack (Optional AGM Batteries)"]
[null,"Cast Aluminum Squeegee Frame & Scrub Decks (D/C)",null,"Drain hose with pinch cuff to control water flow"]
[null,"11 Gauge Steel Scrub Deck (Orbital Only)",null,"On-board Charger with power cord"]
[null,"2 selectable down pressures",null,"Closed Machine Venting for Battery Charging"]
[null,"4 Selectable water flow settings",null,"100% Water recovery in 180º  turns w/ standard squeegee"]
[null,"Front Water Fill Port",null,"Insta-Fit™ No-Tool Pad Driver and Brush Attachment (Disk machines)"]
[null,"Automatic: Water On / Off ",null,"No-Tool Squeegee Change"]
[null,null,"      Brush On / Off","Breakaway Squeegee Design w/ Integrated P-Trap"]
[null,null,"      Brush Shutoff at 80% Discharge","Factory Set Squeegee Assembly for Maximum Recovery"]
[null,"Integrated Accessory Rails with Bag Hang hooks",null,"Linard Front/Linatex Rear Squeegee Blades with Tool-less Replacement"]
[null,"Excellent Ergonomic Controls Design",null,"Includes Standard Pad Drivers or Scrubbing Brushes (Select One)"]
[null,"Optional ec-H2O NanoClean™ Equipped Models Include:",null,"Free Floating Head Skirt (disk machines)"]
[null,"Electrically Converted Water Technology System",null,"Hour Meter"]
[null,"Two Scrubbing Modes: ec-H2O NanoCleanTM & Conventional Scrub",null,"Operators manual"]
[null,"Rugged Duramer™ Tank Construction",null,"Jacking Points/Shipping Tie Downs"]
[null,"Gray Non-Marking Tires",null,"Sealed Electrical Connectors in key areas"]
[]
[null,"TENNANT COMPANY WARRANTY"]
[null,"3 YEARS OR 2000 HOURS - PARTS"]
[null,"1 YEAR - BATTERY CHARGERS"]
[null,"3 YEARS OR 2000 HOURS ORBITAL SCRUB HEAD ISOLATORS"]
[null,"2 YEARS - LABOR, 6 MONTHS - TRAVEL"]
[null,"10 YEARS ON DURAMERTM ROTOMOLD TANKS"]
[]
[]
[null,null,null,null,"                Quote Request Information"]
[null,null,null,null,null,null,"Fax (quote only)"]
[null,null,null,null,null,null,"Mail (quote,lit, specs)"]
[null,null,null,null,null,null,"Fax + Mail"]
[]
[null,null,null,null,"                Primary Use"]
[null,null,null,null,null,null,"Inside"]
[null,null,null,null,null,null,"Outside"]
[]
[null,null,"Description","Reference #","Price Each ","Qty","Extended Price"]
[null,"Standard Configuration Machines",null,null,null,{"$f":"SUM(F53:F62)","v":0}]
[null,null,"T500e Walk-Behind - Disk Scrubber, 650mm / 26\", 225AH C/20 Battery, Conventional Cleaning, 25A 100-240V AC 50/60Hz 1Ph On-Board Charger\n(Pad Driver will default unless otherwise specified)","T500E-1001D",21734,null,{"$f":"F53*E53","v":0},{"$f":"IFERROR(IFERROR(VLOOKUP(D53,Surcharge!A:B,2,FALSE)*F53, VLOOKUP(D53 & \"\",Surcharge!A:B,2,FALSE)*F53), \"\")","v":""}]
[null,null,"T500e Walk-Behind - Disk Scrubber, 700mm / 28\", 225AH C/20 Battery, Conventional Cleaning, 25A 100-240V AC 50/60Hz 1Ph On-Board Charger\n(Pad Driver and Pad Wrap Packaging will default unless otherwise specified)","T500E-1002D",22873,null,{"$f":"F54*E54","v":0},{"$f":"IFERROR(IFERROR(VLOOKUP(D54,Surcharge!A:B,2,FALSE)*F54, VLOOKUP(D54 & \"\",Surcharge!A:B,2,FALSE)*F54), \"\")","v":""}]
[null,null,"T500e Walk-Behind - Disk Scrubber, 800mm / 32\", 225AH C/20 Battery, Conventional Cleaning, 25A 100-240V AC 50/60Hz 1Ph On-Board Charger\n(Pad Driver will default unless otherwise specified)","T500E-1003D",24112,null,{"$f":"F55*E55","v":0},{"$f":"IFERROR(IFERROR(VLOOKUP(D55,Surcharge!A:B,2,FALSE)*F55, VLOOKUP(D55 & \"\",Surcharge!A:B,2,FALSE)*F55), \"\")","v":""}]
[]
[null,null,"T500 Walk-Behind - Disk Scrubber, 650mm / 26\", Pro Membrane Control Panel, 225AH C/20 Battery, Smart-Fill Battery Watering System, Conventional Cleaning, 25A 100-240V AC 50/60Hz 1Ph On-Board Charger\n(Pad Driver will default unless otherwise specified)","T500-2001D",24814,null,{"$f":"F57*E57","v":0},{"$f":"IFERROR(IFERROR(VLOOKUP(D57,Surcharge!A:B,2,FALSE)*F57, VLOOKUP(D57 & \"\",Surcharge!A:B,2,FALSE)*F57), \"\")","v":""}]
[null,null,"T500 Walk-Behind - Disk Scrubber, 700mm / 28\", Pro Membrane Control Panel, 225AH C/20 Battery, Smart-Fill Battery Watering System, Conventional Cleaning, 25A 100-240V AC 50/60Hz 1Ph On-Board Charger\n(Pad Driver will default unless otherwise specified)","T500-2002D",26878,null,0,{"$f":"IFERROR(IFERROR(VLOOKUP(D58,Surcharge!A:B,2,FALSE)*F58, VLOOKUP(D58 & \"\",Surcharge!A:B,2,FALSE)*F58), \"\")","v":""}]
[null,null,"T500 Walk-Behind - Disk Scrubber, 800mm / 32\", Pro Membrane Control Panel, 225AH C/20 Battery, Smart-Fill Battery Watering System, Conventional Cleaning, 25A 100-240V AC 50/60Hz 1Ph On-Board Charger\n(Pad Driver will default unless otherwise specified)","T500-2003D",28260,null,0,{"$f":"IFERROR(IFERROR(VLOOKUP(D59,Surcharge!A:B,2,FALSE)*F59, VLOOKUP(D59 & \"\",Surcharge!A:B,2,FALSE)*F59), \"\")","v":""}]
[null,null,"T500 Walk-Behind - Disk Scrubber, 650mm / 26\", Pro Membrane Control Panel, 225AH C/20 Battery, Smart-Fill Battery Watering System, ec-H20 cleaning, 25A 100-240V AC 50/60Hz 1Ph On-Board Charger\n(Pad Driver will default unless otherwise specified)","T500-3001D",29069,null,0,{"$f":"IFERROR(IFERROR(VLOOKUP(D60,Surcharge!A:B,2,FALSE)*F60, VLOOKUP(D60 & \"\",Surcharge!A:B,2,FALSE)*F60), \"\")","v":""}]
[null,null,"T500 Walk-Behind - Disk Scrubber, 700mm / 28\", Pro Membrane Control Panel, 225AH C/20 Battery, Smart-Fill Battery Watering System, ec-H20 cleaning, 25A 100-240V AC 50/60Hz 1Ph On-Board Charger\n(Pad Driver will default unless otherwise specified)","T500-3002D",31133,null,0,{"$f":"IFERROR(IFERROR(VLOOKUP(D61,Surcharge!A:B,2,FALSE)*F61, VLOOKUP(D61 & \"\",Surcharge!A:B,2,FALSE)*F61), \"\")","v":""}]
[null,null,"T500 Walk-Behind - Disk Scrubber, 800mm / 32\", Pro Membrane Control Panel, 225AH C/20 Battery, Smart-Fill Battery Watering System, ec-H20 cleaning, 25A 100-240V AC 50/60Hz 1Ph On-Board Charger\n(Pad Driver will default unless otherwise specified)","T500-3003D",32515,null,0,{"$f":"IFERROR(IFERROR(VLOOKUP(D62,Surcharge!A:B,2,FALSE)*F62, VLOOKUP(D62 & \"\",Surcharge!A:B,2,FALSE)*F62), \"\")","v":""}]
[]
[null,"OPTIONAL","Brushes - in place of Pad Driver  (2 Required) (Note 1)",null,null,{"$f":"SUM(F65:F70)","v":0}]
[null,null,"650mm / 26\" Disk Polypropylene Brush",1223989,"N/C",null,{"$f":"IF(F65=0,\" \",\"N/C\")","v":" "},{"$f":"IFERROR(IFERROR(VLOOKUP(D65,Surcharge!A:B,2,FALSE)*F65, VLOOKUP(D65 & \"\",Surcharge!A:B,2,FALSE)*F65), \"\")","v":""}]
[null,null,"650mm / 26\" Disk Nylon Brush",1223991,"N/C",null," ",{"$f":"IFERROR(IFERROR(VLOOKUP(D66,Surcharge!A:B,2,FALSE)*F66, VLOOKUP(D66 & \"\",Surcharge!A:B,2,FALSE)*F66), \"\")","v":""}]
[null,null,"700mm / 28\" Disk Polypropylene Brush",1220218,"N/C",null," ",{"$f":"IFERROR(IFERROR(VLOOKUP(D67,Surcharge!A:B,2,FALSE)*F67, VLOOKUP(D67 & \"\",Surcharge!A:B,2,FALSE)*F67), \"\")","v":""}]
[null,null,"700mm / 28\" Disk Nylon Brush",1221541,"N/C",null," ",{"$f":"IFERROR(IFERROR(VLOOKUP(D68,Surcharge!A:B,2,FALSE)*F68, VLOOKUP(D68 & \"\",Surcharge!A:B,2,FALSE)*F68), \"\")","v":""}]
[null,null,"800mm / 32\" Disk Polypropylene Brush",1220216,"N/C",null," ",{"$f":"IFERROR(IFERROR(VLOOKUP(D69,Surcharge!A:B,2,FALSE)*F69, VLOOKUP(D69 & \"\",Surcharge!A:B,2,FALSE)*F69), \"\")","v":""}]
[null,null,"800mm / 32\" Disk Nylon Brush",1220215,"N/C",null," ",{"$f":"IFERROR(IFERROR(VLOOKUP(D70,Surcharge!A:B,2,FALSE)*F70, VLOOKUP(D70 & \"\",Surcharge!A:B,2,FALSE)*F70), \"\")","v":""}]
[]
[null,"OPTIONAL","Manuals  (Note 2)",null,null,{"$f":"SUM(F73:F82)","v":0}]
[null,null,"T500e Operator Manual (Spanish) - in place of English manual",9015507,"N/C",null,{"$f":"IF(F73=0,\" \",\"N/C\")","v":" "},{"$f":"IFERROR(IFERROR(VLOOKUP(D73,Surcharge!A:B,2,FALSE)*F73, VLOOKUP(D73 & \"\",Surcharge!A:B,2,FALSE)*F73), \"\")","v":""}]
[null,null,"T500e Operator Manual (French) - in place of English manual",9015508,"N/C",null,{"$f":"IF(F74=0,\" \",\"N/C\")","v":" "},{"$f":"IFERROR(IFERROR(VLOOKUP(D74,Surcharge!A:B,2,FALSE)*F74, VLOOKUP(D74 & \"\",Surcharge!A:B,2,FALSE)*F74), \"\")","v":""}]
[null,null,"Addional Operator Manual","See Above",188,null,{"$f":"F75*E75","v":0}]
[null,null,"T500e Parts Manual",9015505,76,null,{"$f":"F76*E76","v":0},{"$f":"IFERROR(IFERROR(VLOOKUP(D76,Surcharge!A:B,2,FALSE)*F76, VLOOKUP(D76 & \"\",Surcharge!A:B,2,FALSE)*F76), \"\")","v":""}]
[null,null,"T500e Service Manual",9015511,188,null,{"$f":"F77*E77","v":0},{"$f":"IFERROR(IFERROR(VLOOKUP(D77,Surcharge!A:B,2,FALSE)*F77, VLOOKUP(D77 & \"\",Surcharge!A:B,2,FALSE)*F77), \"\")","v":""}]
[null,null,"T500 Operator Manual (Spanish) - in place of English manual",9015500,"N/C",null,{"$f":"IF(F78=0,\" \",\"N/C\")","v":" "},{"$f":"IFERROR(IFERROR(VLOOKUP(D78,Surcharge!A:B,2,FALSE)*F78, VLOOKUP(D78 & \"\",Surcharge!A:B,2,FALSE)*F78), \"\")","v":""}]
[null,null,"T500 Operator Manual (French) - in place of English manual",9015501,"N/C",null," ",{"$f":"IFERROR(IFERROR(VLOOKUP(D79,Surcharge!A:B,2,FALSE)*F79, VLOOKUP(D79 & \"\",Surcharge!A:B,2,FALSE)*F79), \"\")","v":""}]
[null,null,"Addional Operator Manual","See Above",188,null,{"$f":"F80*E80","v":0}]
[null,null,"T500 Parts Manual",9015222,76,null,{"$f":"F81*E81","v":0},{"$f":"IFERROR(IFERROR(VLOOKUP(D81,Surcharge!A:B,2,FALSE)*F81, VLOOKUP(D81 & \"\",Surcharge!A:B,2,FALSE)*F81), \"\")","v":""}]
[null,null,"T500 Service Manual",9015504,188,null,0,{"$f":"IFERROR(IFERROR(VLOOKUP(D82,Surcharge!A:B,2,FALSE)*F82, VLOOKUP(D82 & \"\",Surcharge!A:B,2,FALSE)*F82), \"\")","v":""}]
[]
[null,"REQUIRED","Packaging  (Note 3)",null," ",{"$f":"SUM(F85)","v":0}]
[null,null,"Skid w/Carton, Stackable",9015450,"N/C",null,{"$f":"IF(F85=0,\" \",\"N/C\")","v":" "},{"$f":"IFERROR(IFERROR(VLOOKUP(D85,Surcharge!A:B,2,FALSE)*F85, VLOOKUP(D85 & \"\",Surcharge!A:B,2,FALSE)*F85), \"\")","v":""}]
[]
[]
[]
[null,null,null,null,{"$f":"ROUND(SUM(G53:G88), 0)","v":0},{"$f":"SUM(E90)","v":0}]
[null,null,null,"Machine Subtotal ",{"$f":"ROUND(SUM(G53:G88), 0)","v":0},{"$f":"F89","v":0}]
[null,"Discounts",null,null,null,{"$f":"SUM(F92)","v":0}]
[null,null,null,null,null,{"$f":"SUM(F94:F97)","v":0}]
[null,null,null,"Applicable Currency Adj %",null,{"$f":"IF(E93 <> \"\", 1, 0)","v":0},{"$f":"IF(F93*(E93*0.01)*E89 < 0, F93*(E93*0.01)*E89, -(F93*(E93*0.01)*E89))","v":0}]
[null,null,null,"Discount %",null,{"$f":"IF(E94 <> \"\", 1, 0)","v":0},{"$f":"IF(F94*(E94*0.01)*(E89+G93) < 0, F94*(E94*0.01)*(E89+G93), -(F94*(E94*0.01)*(E89+G93)))","v":0}]
[null,null,null,"Discount $",null,{"$f":"IF(E95 <> \"\", 1, 0)","v":0},{"$f":"IF(F95*E95 < 0, F95*E95, -(F95*E95))","v":0}]
[null,null,null,"Discount $",null,{"$f":"IF(E96 <> \"\", 1, 0)","v":0},{"$f":"IF(F96*E96 < 0, F96*E96, -(F96*E96))","v":0}]
[null,null,null,"Discount $",null,{"$f":"IF(E97 <> \"\", 1, 0)","v":0},{"$f":"IF(F97*E97 < 0, F97*E97, -(F97*E97))","v":0}]
[null,null,null,"Discount Total ",{"$f":"SUM(G93:G97)","v":0},{"$f":"SUM(E98)","v":0}]
[null,null,null,null,null,{"$f":"#REF!","v":{"$error":"#REF!"}}]
[null,null,null,null,null,{"$f":"F99","v":{"$error":"#REF!"}}]
[null,null,"Prepaid and Add","Freight",null,{"$f":"IF(E101 <> \"\", 1, 0)","v":0},{"$f":"F101*E101","v":0}]
[null,null,"Subject to all applicable taxes","Tax",null,{"$f":"IF(E102 <> \"\", 1, 0)","v":0},{"$f":"F102*E102","v":0}]
[null,null,null,null,null,{"$f":"SUM(F104)","v":0}]
[null,null,null,"MACHINE TOTAL*",null,{"$f":"SUM(G104)","v":0},{"$f":"SUM(G53:G102)","v":0},null,null,null,null,null,null,"This goes to \"My Documents\""]
[null,null,null,null,null,null,{"$f":"SUM(G104)","v":0}]
[]
[]
[]
[]
[null,null,"First Western Equipment Finance - Leasing Calculation Option:","Option 1",null,"Option 2",null,null,null,{"$f":"Financing!A38","v":"Rates 2025 - Rev 2/4/2025"}]
[null,null,null,"Monthly Payment","Cost Per Day","Monthly Payment","Cost Per Day",null,null,{"$f":"Financing!A39","v":"“Blank Payment Amounts Indicate The Financing Option Or Purchase Options Selected Are Not "}]
[null,null,"Purchase Option:","FWEF:  $1 Buyout Lease",null,"FWEF: Municipal Lease",null,null,null,{"$f":"Financing!A40","v":"Applicable Or The Machine Total Is Below The Minimum Amount For The Selected Vendor”"}]
[null,null,"24 Months",false,0,false,0,null,null,{"$f":"Financing!A41","v":"\"Quoted monthly payments are estimates only and are based on a certain level of credit rating."}]
[null,null,"30 Months",false,0,false,0,null,null,{"$f":"Financing!A42","v":"Actual monthly payments may be higher depending on your credit rating.\""}]
[null,null,"36 Months",false,0,false,0,null,null,{"$f":"Financing!A43","v":"“Financing rates do not include Pre-Paid Service”"}]
[null,null,"48 Months",0,0,0,0,null,{"$f":"Financing!A44","v":0}]
[]
[null,null,null,"Benefits of Equipment Financing:"]
[null,null,null,"• Spreads out investment over time.",null,"• Keep current with latest technology."]
[null,null,null,"• Preserve capital.",null,"• Service and parts bundling available."]
[null,null,null,"• Low monthly payment.",null,"• Pay for labor savings as you go."]
[]
[null,"   TennantTrue",null,null,0,0]
[]
[null,null,"Is customer interested in service program?","Yes","*State/County selection required for TennantTrue service options"]
[]
[null,null,"If not, why?"]
[]
[null,null,"Term:",36,null,null,"AB Brushes","No"]
[null,null,"Monthly machine usage (hrs):","< 30/mo. (Avg. 1hr./day)"]
[]
[null,null,"TennantTrue: ","Gold Contract",null,"Silver Contract"]
[null,null,"Per Visit",null,null,425]
[null,null,"Monthly",129,null,69]
[null,null,"Annually",null,null,816]
[null,null,"Pre-Pay Full Term",4444,null,2397]
[null,null,"Hourly Labor Rate"]
[null,null,"Site Visit"]
[]
[null,null,"* Verify customer current pricing prior to quote. "]
[null,null,"**All rates and fees above reflect service for one (1) unit with the exception of Block of Time service."]
[null,null,"*Block of Time is available in 1 Year Term only and is priced as such no matter the term selection on this template."]
[]
[]
[]
[null,"Quote Special Instructions:"]
[]
[]
[null,{"$f":"Start_Here!E36","v":"Terms and Conditions"}]
[null,{"$f":"Start_Here!E37","v":"Ask your local sales rep for estimated lead times. Verify when placing order"}]
[null,{"$f":"Start_Here!E38","v":"All orders subject to acceptance by Tennant Sales and Service Company, Minneapolis, Minnesota"}]
[null,{"$f":"Start_Here!E39","v":"Prices subject to change without notice. Subject to any applicable taxes."}]
[null,{"$f":"Start_Here!E40","v":"Terms:  Net 30 days.  Payable in Canadian Funds"}]
[null,{"$f":"Start_Here!E41","v":"Freight:  Accessories, parts, supplies, detergents, and floor coatings orders delivered DDP "}]
[null,{"$f":"Start_Here!E42","v":"shipping point Frt PPD.  Machine orders delivered DDP shipping point Frt PPD and add."}]
[null,{"$f":"Start_Here!E43","v":"Returned Merchandise is subject to a restocking fee."}]
[null,{"$f":"Start_Here!E45","v":"Printed General Terms and Conditions are also available upon request."}]
[null,{"$f":"Start_Here!E46","v":0}]
[]
[]
[null,null,null,null,"Quote Date :",null,{"$f":"Letter!$A$25","v":"2014-10-02"}]
["Order Placement Information:  To place your order, fill in PO# and customer signatures,"]
["call or fax to the numbers listed below. Customer Purchase Order is required."]
["If information is missing, orders will be entered and held until all information is received."]
[null,null,"Customer Number",null,"Cust Grp 3"]
[null,null,{"$f":"Start_Here!$C$25","v":0},null,{"$f":"Start_Here!$C$29","v":0}]
[null,null,{"$f":"Start_Here!$B$18","v":"Who Owns the Machine? (Sold-To Info) (Please Verify)"}]
["Company",null,{"$f":"Start_Here!$C$19","v":"Company Name"}]
["Address",null,{"$f":"Start_Here!$C$20","v":"Address"}]
[null,null,{"$f":"Start_Here!$C$21","v":"City, State Zip"}]
["Name",null,{"$f":"Start_Here!$C$22","v":"Contact Name"}]
["Phone",null,{"$f":"Start_Here!$C$23","v":"Contact Phone"}]
[null,null,{"$f":"Start_Here!$B$11","v":"Where is the Machine Being Shipped? (Ship-To Info) (Please Verify)"}]
["Company",null,{"$f":"Start_Here!$C$12","v":"Company Name"}]
["Address",null,{"$f":"Start_Here!$C$13","v":"Address"}]
[null,null,{"$f":"Start_Here!$C$14","v":"City, State Zip"}]
["Name",null,{"$f":"Start_Here!$C$15","v":"Contact Name"}]
["Phone",null,{"$f":"Start_Here!$C$16","v":"Contact Phone"}]
[null,null,{"$f":"Start_Here!$B$31","v":"Shipping / Carrier Instructions:"},null,"Order Special Instructions:"]
[null,null,{"$f":"Start_Here!$C$32","v":0}]
[]
[null,null,"Customer Purchase Order No."]
[null,null,"(please attach copy)"]
[]
[]
[null,null,"Tax Exempt",null,"Yes"]
[null,null,null,null,"No"]
[null,null,"If Yes, attach a copy of your exemption certificate."]
[]
[null,null,"Requested Delivery Date"]
[null,null,{"$f":"Start_Here!$C$28","v":0}]
[]
[null,null,{"$f":"Start_Here!$C$26","v":0},null,{"$f":"Start_Here!$C$27","v":0}]
[null,null,"Authorized Buyer (please print)",null,"Phone Number"]
[]
[]
[null,null,"Authorized Buyer Signature"]
[]
[null,null,{"$f":"Start_Here!$C$41","v":"Rep Name"}]
[null,null,"Tennant Representative"]
[]
["Specialized Maintenance Equipment"]
[{"$f":"Start_Here!$C$48","v":"TENNANT · 10400 Clean Street · Eden Prairie, MN 55344 ·"}]
[{"$f":"Start_Here!$C$49","v":" PHONE:800-553-8033 · FAX:763-513-2116"}]
[]
[null,"Notes:"]
[null,1,"One set of pad drivers come standard. A different brush may be chosen as an option"]
[null,2,"One English manual comes standard.  A manual in a different language may be chosen as an option."]
[null,3,"Skid with carton packaging must be chosen as an option"]
[]
[null,10,"Shipping Weights and Dimensions",null,"Skid w/Carton"]
[]
[null,null,"26\" / 650mm Disk"]
[null,null,"Weight",null,"635 lbs / 289 Kg"]
[null,null,"Length",null,"73\" / 1,855mm"]
[null,null,"Width",null,"43\" / 1,093mm"]
[null,null,"Height",null,"52\" / 1,321mm"]
[]
[null,null,"28\" / 700mm Disk"]
[null,null,"Weight",null,"645 lbs / 293 Kg"]
[null,null,"Length",null,"73\" / 1,855mm"]
[null,null,"Width",null,"43\" / 1,093mm"]
[null,null,"Height",null,"52\" / 1,321mm"]
[]
[null,null,"32\" / 800mm Disk"]
[null,null,"Weight",null,"770 lbs / 350 Kg"]
[null,null,"Length",null,"73\" / 1,855mm"]
[null,null,"Width",null,"43\" / 1,093mm"]
[null,null,"Height",null,"52\" / 1,321mm"]
[]
[null,null,"28\" / 700m Cylindrical"]
[null,null,"Weight",null,"685 lbs / 311 Kg"]
[null,null,"Length",null,"73\" / 1,855mm"]
[null,null,"Width",null,"43\" / 1,093mm"]
[null,null,"Height",null,"52\" / 1,321mm"]
[]
[null,null,"28\" / 700mm Orbital"]
[null,null,"Weight",null,"685 lbs / 311 Kg"]
[null,null,"Length",null,"73\" / 1,855mm"]
[null,null,"Width",null,"43\" / 1,093mm"]
[null,null,"Height",null,"52\" / 1,321mm"]

{"sheet":"T600_Series_Std_Config","index":23,"n_rows":271,"n_cols":11,"rows_kept":271,"cut":false,"hidden":false,"merged":[[181,0,181,1],[181,2,181,5],[183,4,183,6],[185,2,185,5],[186,2,186,5],[178,2,178,5],[179,2,179,5],[196,4,196,5],[254,2,254,4],[254,6,254,8],[187,2,187,5],[171,0,171,1],[171,2,171,5],[150,2,150,6],[169,4,169,6],[180,0,180,1],[180,2,180,5],[172,0,172,1],[172,2,172,5],[173,2,173,5],[174,0,174,1],[174,2,174,5],[175,0,175,1],[175,2,175,5],[177,0,177,1],[177,2,177,5],[178,0,178,1],[136,3,136,4],[136,5,136,6],[137,3,137,4],[137,5,137,6],[138,3,138,4],[138,5,138,6],[128,4,128,8],[130,3,130,6],[132,3,132,4],[133,3,133,4],[135,3,135,4],[135,5,135,6],[113,3,113,4],[113,5,113,6],[115,3,115,4],[115,5,115,6],[45,1,45,5],[46,2,46,5],[47,1,47,5],[48,1,48,5],[49,1,49,5],[50,1,50,5],[44,1,44,5],[0,2,0,3],[1,2,1,3],[2,2,2,3],[3,2,3,3],[11,2,11,6],[139,5,139,6],[140,3,140,4],[140,5,140,6],[141,3,141,4],[141,5,141,6],[139,3,139,4]]}
["T600_Series_Std_Config",null,{"$f":"Start_Here!$C19","v":"Company Name"}]
[{"$f":"SUM(G108)","v":0},null,{"$f":"Start_Here!$C20","v":"Address"}]
[null,null,{"$f":"Start_Here!$C21","v":"City, State Zip"}]
[null,null,{"$f":"Start_Here!$C22","v":"Contact Name"}]
[null,null,{"$f":"Start_Here!$C$41","v":"Rep Name"}]
[null,null,{"$f":"Start_Here!$C$37","v":"Tennant Sales and Service Company"}]
[null,null,{"$f":"Start_Here!$C$38","v":"10400 Clean Street"}]
[null,null,{"$f":"Start_Here!$C$39","v":"Eden Prairie, MN 55344"}]
[null,null,{"$f":"Start_Here!$C$43","v":"800-553-8033"},null,"Quote Date :",null,{"$f":"Letter!$A$25","v":"2014-10-02"}]
[]
[null,null,{"$f":"Help!C2","v":"CAN Date Rev - 5/6/2025"}]
[null,null,"BUILT-IN \"TENNANT VALUE\" INCLUDES:"]
[]
[null,"121L/32 gal Solution Tank  & 37 L/140 gal Recovery Tank",null,"Cast Aluminum Squeegee & Scrub Deck (Disk, Cylindrical)"]
[null,"Rugged Duramer™ Rotomold Tank Construction",null,"11 Gauge Steel Scrub Deck (Orbital Only)"]
[null,"Fully Sprayable Hygienic® Recovery Tank",null,"Automatic: Water On / Off"]
[null,"Three Down Pressure Settings- up to 200 lbs/90 kg ",null,"Brush On / Off"]
[null,null,null,"Brush Shutoff at 80% Discharge"]
[null,"Adjustable Solution Flow",null,"Linatex/Linard Squeegee Blades with Tool-less Replacement"]
[null,"Variable Speed Control Knob",null,"Emergency Stop "]
[null,"Pro-Membrane™ Control Panel w/ 3 Zone Settings™ (Standard)",null,"Free Floating Head Skirt (disk machines)"]
[null,"LCD Pro-Panel™ Touch Screen Control Panel (Option)",null,"Fill Port w/ Hose Fins"]
[null,"       On-Demand Tutorial Videos & 4 Customizable Zone Settings",null,"Integrated Heat Sink for Electronics Protection"]
[null,"Supervisor QA ControlsTM settings (Lock Out Features)",null,"Sealed Electrical Connectors"]
[null,"On Board Diagnostics",null,"Anti-Static Strap"]
[null,"Standard Low Noise Level  (≤70 dBa)",null,"1 HP brush motor/ 0.75 kW  (disk)"]
[null,"Quiet-Mode™ Sound Reduction all models   (≤62.5dBa)",null,"300 RPM (disk) and 760 RPM (cylindrical) "]
[null,"Standard (6) 6v. 240AH battery pack",null,"2200 RPM orbital scrub head"]
[null,"      (Optional  360AH batteries available)",null,"Recovery Tank Debris Tray"]
[null,"      (Optional Thin Plate Pure Lead Batteries available)",null,"Excellent Ergonomic Controls Design"]
[null,"Smart-Fill™ Automatic Battery Watering (Option)",null,"Non-Marking Polyurethane Tires"]
[null,"Auto Fill (Solution Tank)",null,"Includes Standard Pad Drivers or Scrubbing Brushes (Select One)"]
[null,"Quick Release Battery Harness",null,"Key Switch for Safety"]
[null,"Standard Controlled Battery Compartment Drain",null,"Hour Meter"]
[null,"On-board Charger with 3m/15 ft power cord",null,"Jacking Points/Shipping Tie Downs"]
[null,"Closed Machine Venting for Battery Charging",null,"Yellow Maintenance Touch Points"]
[null,"Breakaway Squeegee Design",null,"Auto Fill for Solution Tank"]
[null,"Factory Set Squeegee Assembly for Maximum Recovery",null,"Integrated Accessory Rails"]
[null,"Cast Aluminum Squeegee Frame",null,"Drain hose with pinch cuff to control water flow"]
[]
[null,"Optional ec-H2O NanoClean™ Equipped Models Include:"]
[null,"Electrically Converted Water Technology System"]
[null,"Two Scrubbing Modes: ec-H2O NanoCleanTM & Conventional Scrub"]
[]
[null,"TENNANT COMPANY WARRANTY"]
[null,"3 YEARS OR 2000 HOURS - PARTS"]
[null,null,"ORBITAL ISOLATORS 3 YEARS/2000 HOURS"]
[null,"1 YEAR - BATTERY CHARGERS"]
[null,"2 YEARS - LABOR"]
[null,"6 MONTHS - TRAVEL"]
[null,"10 YEARS ON DURAMERTM ROTOMOLD TANKS"]
[]
[]
[null,null,null,null,"                Quote Request Information"]
[null,null,null,null,null,null,"Fax (quote only)"]
[null,null,null,null,null,null,"Mail (quote,lit, specs)"]
[null,null,null,null,null,null,"Fax + Mail"]
[]
[null,null,null,null,"                Primary Use"]
[null,null,null,null,null,null,"Inside"]
[null,null,null,null,null,null,"Outside"]
[]
[null,null,"Description","Reference #","Canada Price","Qty.","Extended Price"]
[null,"Standard Configuration Machines ",null,null,null,{"$f":"SUM(F65:F72)","v":0}]
[null,null,"T600e Walk-Behind - Disk Scrubber, 800mm / 32\", 240AH C/20 Battery, Conventional Cleaning, 25A 100-240V AC 50/60Hz 1Ph On-Board Charger, Standard Down Pressure, \nUL Type E, Black Pneumatic Tires\n(Pad Driver will default unless otherwise specified)","T600E-1001D",29003,null,{"$f":"F65*E65","v":0},{"$f":"IFERROR(IFERROR(VLOOKUP(D65,Surcharge!A:B,2,FALSE)*F65, VLOOKUP(D65 & \"\",Surcharge!A:B,2,FALSE)*F65), \"\")","v":""}]
[null,null,"T600e Walk-Behind - Disk Scrubber, 800mm / 32\", 360AH C/20 Battery, Conventional Cleaning, 25A 100-240V AC 50/60Hz 1Ph On-Board Charger, Standard Down Pressure, \nUL Type E, Black Pneumatic Tires\n(Pad Driver will default unless otherwise specified)","T600E-1002D",30094,null,{"$f":"F66*E66","v":0},{"$f":"IFERROR(IFERROR(VLOOKUP(D66,Surcharge!A:B,2,FALSE)*F66, VLOOKUP(D66 & \"\",Surcharge!A:B,2,FALSE)*F66), \"\")","v":""}]
[]
[null,null,"T600 Walk-Behind - Disk Scrubber, 800mm / 32\",  Pro Membrane Control Panel, 240AH C/20 Battery, Smart-Fill Battery Watering System, Conventional Cleaning, 25A 100-240V 50/60Hz 1Ph On-Board Charger, Standard Down Pressure, Auto Fill, Black Pneumatic Tires\n(Pad Driver will default unless otherwise specified)","T600-2001D",34677,null,{"$f":"F68*E68","v":0},{"$f":"IFERROR(IFERROR(VLOOKUP(D68,Surcharge!A:B,2,FALSE)*F68, VLOOKUP(D68 & \"\",Surcharge!A:B,2,FALSE)*F68), \"\")","v":""}]
[null,null,"T600 Walk-Behind - Disk Scrubber, 900mm / 36\", Pro Membrane Control Panel, 240AH C/20 Battery, Smart-Fill Battery Watering System, Conventional Cleaning, 25A 100-240V 50/60Hz 1Ph On-Board Charger, Auto Fill, Black Pneumatic Tires\n(Pad Driver will default unless otherwise specified)","T600-2002D",39241,null,0,{"$f":"IFERROR(IFERROR(VLOOKUP(D69,Surcharge!A:B,2,FALSE)*F69, VLOOKUP(D69 & \"\",Surcharge!A:B,2,FALSE)*F69), \"\")","v":""}]
[]
[null,null,"T600 Walk-Behind - Disk Scrubber, 800mm / 32\", Pro Membrane Control Panel, 360AH C/20 Battery, Smart-Fill Battery Watering System, ec-H20 NanoClean, 25A 100-240V 50/60Hz 1Ph On-Board Charger, Auto Fill, Black Pneumatic Tires\n(Pad Driver  will default unless otherwise specified)","T600-3001D",40023,null,0,{"$f":"IFERROR(IFERROR(VLOOKUP(D71,Surcharge!A:B,2,FALSE)*F71, VLOOKUP(D71 & \"\",Surcharge!A:B,2,FALSE)*F71), \"\")","v":""}]
[null,null,"T600 Walk-Behind - Disk Scrubber, 900mm / 36\", Pro Membrane Control Panel, 360AH C/20 Battery, Smart-Fill Battery Watering System, ec-H20 NanoClean, 25A 100-240V 50/60Hz 1Ph On-Board Charger, Auto Fill, Black Pneumatic Tires\n(Pad Driver  will default unless otherwise specified)","T600-3002D",44587,null,0,{"$f":"IFERROR(IFERROR(VLOOKUP(D72,Surcharge!A:B,2,FALSE)*F72, VLOOKUP(D72 & \"\",Surcharge!A:B,2,FALSE)*F72), \"\")","v":""}]
[]
[null,"OPTIONAL","Brushes - in place of Pad Driver (2 Required) (Note 1)",null,null,{"$f":"SUM(F75:F78)","v":0}]
[null,null,"800mm / 32\" Disk Nylon Brush",1234523,"N/C",null,{"$f":"IF(F75=0,\" \",\"N/C\")","v":" "},{"$f":"IFERROR(IFERROR(VLOOKUP(D75,Surcharge!A:B,2,FALSE)*F75, VLOOKUP(D75 & \"\",Surcharge!A:B,2,FALSE)*F75), \"\")","v":""}]
[null,null,"800mm / 32\" Disk Polypropylene Brush",1234524,"N/C",null," ",{"$f":"IFERROR(IFERROR(VLOOKUP(D76,Surcharge!A:B,2,FALSE)*F76, VLOOKUP(D76 & \"\",Surcharge!A:B,2,FALSE)*F76), \"\")","v":""}]
[null,null,"900mm / 36\" Disk Nylon Brush",1230858,"N/C",null," ",{"$f":"IFERROR(IFERROR(VLOOKUP(D77,Surcharge!A:B,2,FALSE)*F77, VLOOKUP(D77 & \"\",Surcharge!A:B,2,FALSE)*F77), \"\")","v":""}]
[null,null,"900mm / 36\" Disk Polypropylene Brush",1230859,"N/C",null," ",{"$f":"IFERROR(IFERROR(VLOOKUP(D78,Surcharge!A:B,2,FALSE)*F78, VLOOKUP(D78 & \"\",Surcharge!A:B,2,FALSE)*F78), \"\")","v":""}]
[]
[null,"OPTIONAL","Manuals  (Note 2)",null,null,{"$f":"SUM(F81:F85)","v":0}]
[null,null,"T600e/T600 Operator Manual (Spanish) - in place of English manual",9016601,"N/C",null,{"$f":"IF(F81=0,\" \",\"N/C\")","v":" "},{"$f":"IFERROR(IFERROR(VLOOKUP(D81,Surcharge!A:B,2,FALSE)*F81, VLOOKUP(D81 & \"\",Surcharge!A:B,2,FALSE)*F81), \"\")","v":""}]
[null,null,"T600e/T600 Operator Manual (French) - in place of English manual",9016602,"N/C",null," ",{"$f":"IFERROR(IFERROR(VLOOKUP(D82,Surcharge!A:B,2,FALSE)*F82, VLOOKUP(D82 & \"\",Surcharge!A:B,2,FALSE)*F82), \"\")","v":""}]
[null,null,"Addional Operator Manual","See Above",188,null,{"$f":"F83*E83","v":0}]
[null,null,"T600e/T600 Parts Manual",9016599,76,null,{"$f":"F84*E84","v":0},{"$f":"IFERROR(IFERROR(VLOOKUP(D84,Surcharge!A:B,2,FALSE)*F84, VLOOKUP(D84 & \"\",Surcharge!A:B,2,FALSE)*F84), \"\")","v":""}]
[null,null,"T600e/T600 Service Manual",9016605,188,null,0,{"$f":"IFERROR(IFERROR(VLOOKUP(D85,Surcharge!A:B,2,FALSE)*F85, VLOOKUP(D85 & \"\",Surcharge!A:B,2,FALSE)*F85), \"\")","v":""}]
[]
[null,"REQUIRED","Packaging  (Note 3)",null," ",{"$f":"SUM(F88)","v":0}]
[null,null,"Skid w/Carton, Stackable",9001553,"N/C",null,{"$f":"IF(F88=0,\" \",\"N/C\")","v":" "},{"$f":"IFERROR(IFERROR(VLOOKUP(D88,Surcharge!A:B,2,FALSE)*F88, VLOOKUP(D88 & \"\",Surcharge!A:B,2,FALSE)*F88), \"\")","v":""}]
[]
[]
[]
[]
[null,null,null,null,{"$f":"ROUND(SUM(G65:G92), 0)","v":0},{"$f":"SUM(E94)","v":0}]
[null,null,null,"Machine Subtotal ",{"$f":"ROUND(SUM(G65:G92), 0)","v":0},{"$f":"F93","v":0}]
[null,"Discounts",null,null,null,{"$f":"SUM(F96)","v":0}]
[null,null,null,null,null,{"$f":"SUM(F98:F101)","v":0}]
[null,null,null,"Applicable Currency Adj %",null,{"$f":"IF(E97 <> \"\", 1, 0)","v":0},{"$f":"IF(F97*(E97*0.01)*E93 < 0, F97*(E97*0.01)*E93, -(F97*(E97*0.01)*E93))","v":0}]
[null,null,null,"Discount %",null,{"$f":"IF(E98 <> \"\", 1, 0)","v":0},{"$f":"IF(F98*(E98*0.01)*(E93+G97) < 0, F98*(E98*0.01)*(E93+G97), -(F98*(E98*0.01)*(E93+G97)))","v":0}]
[null,null,null,"Discount $",null,{"$f":"IF(E99 <> \"\", 1, 0)","v":0},{"$f":"IF(F99*E99 < 0, F99*E99, -(F99*E99))","v":0}]
[null,null,null,"Discount $",null,{"$f":"IF(E100 <> \"\", 1, 0)","v":0},{"$f":"IF(F100*E100 < 0, F100*E100, -(F100*E100))","v":0}]
[null,null,null,"Discount $",null,{"$f":"IF(E101 <> \"\", 1, 0)","v":0},{"$f":"IF(F101*E101 < 0, F101*E101, -(F101*E101))","v":0}]
[null,null,null,"Discount Total ",{"$f":"SUM(G97:G101)","v":0},{"$f":"SUM(E102)","v":0}]
[null,null,null,null,null,{"$f":"#REF!","v":{"$error":"#REF!"}}]
[null,null,null,null,null,{"$f":"F103","v":{"$error":"#REF!"}}]
[null,null,"Prepaid and Add","Freight",null,{"$f":"IF(E105 <> \"\", 1, 0)","v":0},{"$f":"F105*E105","v":0}]
[null,null,"Subject to all applicable taxes","Tax",null,{"$f":"IF(E106 <> \"\", 1, 0)","v":0},{"$f":"F106*E106","v":0}]
[null,null,null,null,null,{"$f":"SUM(F108)","v":0}]
[null,null,null,"MACHINE TOTAL*",null,{"$f":"SUM(G108)","v":0},{"$f":"SUM(G65:G106)","v":0},null,null,null,"This goes to \"My Documents\""]
[null,null,null,null,null,null,{"$f":"SUM(G108)","v":0}]
[]
[]
[]
[]
[null,null,"First Western Equipment Finance - Leasing Calculation Option:","Option 1",null,"Option 2",null,null,null,{"$f":"Financing!A38","v":"Rates 2025 - Rev 2/4/2025"}]
[null,null,null,"Monthly Payment","Cost Per Day","Monthly Payment","Cost Per Day",null,null,{"$f":"Financing!A39","v":"“Blank Payment Amounts Indicate The Financing Option Or Purchase Options Selected Are Not "}]
[null,null,"Purchase Option:","FWEF:  $1 Buyout Lease",null,"FWEF: Municipal Lease",null,null,null,{"$f":"Financing!A40","v":"Applicable Or The Machine Total Is Below The Minimum Amount For The Selected Vendor”"}]
[null,null,"24 Months",false,0,false,0,null,null,{"$f":"Financing!A41","v":"\"Quoted monthly payments are estimates only and are based on a certain level of credit rating."}]
[null,null,"30 Months",false,0,false,0,null,null,{"$f":"Financing!A42","v":"Actual monthly payments may be higher depending on your credit rating.\""}]
[null,null,"36 Months",false,0,false,0,null,null,{"$f":"Financing!A43","v":"“Financing rates do not include Pre-Paid Service”"}]
[null,null,"48 Months",0,0,0,0,null,{"$f":"Financing!A44","v":0}]
[]
[null,null,null,"Benefits of Equipment Financing:"]
[null,null,null,"• Spreads out investment over time.",null,"• Keep current with latest technology."]
[null,null,null,"• Preserve capital.",null,"• Service and parts bundling available."]
[null,null,null,"• Low monthly payment.",null,"• Pay for labor savings as you go."]
[]
[null,"   TennantTrue",null,null,0,0]
[]
[null,null,"Is customer interested in service program?","Yes","*State/County selection required for TennantTrue service options"]
[]
[null,null,"If not, why?"]
[]
[null,null,"Term:",36,null,null,"AB Brushes","No"]
[null,null,"Monthly machine usage (hrs):","< 30/mo. (Avg. 1hr./day)"]
[]
[null,null,"TennantTrue: ","Gold Contract",null,"Silver Contract"]
[null,null,"Per Visit",null,null,481]
[null,null,"Monthly",141,null,83]
[null,null,"Annually",null,null,972]
[null,null,"Pre-Pay Full Term",4884,null,2858]
[null,null,"Hourly Labor Rate"]
[null,null,"Site Visit"]
[]
[null,null,"* Verify customer current pricing prior to quote. "]
[null,null,"**All rates and fees above reflect service for one (1) unit with the exception of Block of Time service."]
[null,null,"*Block of Time is available in 1 Year Term only and is priced as such no matter the term selection on this template."]
[]
[]
[]
[null,null,"Quote Special Instructions:"]
[]
[]
[null,null,{"$f":"Start_Here!E36","v":"Terms and Conditions"}]
[null,null,{"$f":"Start_Here!E37","v":"Ask your local sales rep for estimated lead times. Verify when placing order"}]
[null,null,{"$f":"Start_Here!E38","v":"All orders subject to acceptance by Tennant Sales and Service Company, Minneapolis, Minnesota"}]
[null,null,{"$f":"Start_Here!E39","v":"Prices subject to change without notice. Subject to any applicable taxes."}]
[null,null,{"$f":"Start_Here!E40","v":"Terms:  Net 30 days.  Payable in Canadian Funds"}]
[null,null,{"$f":"Start_Here!E41","v":"Freight:  Accessories, parts, supplies, detergents, and floor coatings orders delivered DDP "}]
[null,null,{"$f":"Start_Here!E42","v":"shipping point Frt PPD.  Machine orders delivered DDP shipping point Frt PPD and add."}]
[null,null,{"$f":"Start_Here!E43","v":"Returned Merchandise is subject to a restocking fee."}]
[null,null,{"$f":"Start_Here!E45","v":"Printed General Terms and Conditions are also available upon request."}]
[null,null,{"$f":"Start_Here!E46","v":0}]
[]
[]
[null,null,null,null,"Quote Date :",null,{"$f":"Letter!$A$25","v":"2014-10-02"}]
["Order Placement Information:  To place your order, fill in PO# and customer signatures,"]
["call or fax to the numbers listed below. Customer Purchase Order is required."]
["If information is missing, orders will be entered and held until all information is received."]
[null,null,"Customer Number",null,"Cust Grp 3"]
[null,null,{"$f":"Start_Here!$C$25","v":0},null,{"$f":"Start_Here!$C$29","v":0}]
[null,null,{"$f":"Start_Here!$B$18","v":"Who Owns the Machine? (Sold-To Info) (Please Verify)"}]
["Company",null,{"$f":"Start_Here!$C$19","v":"Company Name"}]
["Address",null,{"$f":"Start_Here!$C$20","v":"Address"}]
[null,null,{"$f":"Start_Here!$C$21","v":"City, State Zip"}]
["Name",null,{"$f":"Start_Here!$C$22","v":"Contact Name"}]
["Phone",null,{"$f":"Start_Here!$C$23","v":"Contact Phone"}]
[null,null,{"$f":"Start_Here!$B$11","v":"Where is the Machine Being Shipped? (Ship-To Info) (Please Verify)"}]
["Company",null,{"$f":"Start_Here!$C$12","v":"Company Name"}]
["Address",null,{"$f":"Start_Here!$C$13","v":"Address"}]
[null,null,{"$f":"Start_Here!$C$14","v":"City, State Zip"}]
["Name",null,{"$f":"Start_Here!$C$15","v":"Contact Name"}]
["Phone",null,{"$f":"Start_Here!$C$16","v":"Contact Phone"}]
[null,null,{"$f":"Start_Here!$B$31","v":"Shipping / Carrier Instructions:"},null,"Order Special Instructions:"]
[null,null,{"$f":"Start_Here!$C$32","v":0}]
[]
[null,null,"Customer Purchase Order No."]
[null,null,"(please attach copy)"]
[]
[]
[null,null,"Tax Exempt",null,"Yes"]
[null,null,null,null,"No"]
[null,null,"If Yes, attach a copy of your exemption certificate."]
[]
[null,null,"Requested Delivery Date"]
[null,null,{"$f":"Start_Here!$C$28","v":0}]
[]
[null,null,{"$f":"Start_Here!$C$26","v":0},null,{"$f":"Start_Here!$C$27","v":0}]
[null,null,"Authorized Buyer (please print)",null,"Phone Number"]
[]
[]
[null,null,"Authorized Buyer Signature"]
[]
[null,null,{"$f":"Start_Here!$C$41","v":"Rep Name"}]
[null,null,"Tennant Representative"]
[]
["Specialized Maintenance Equipment"]
[{"$f":"Start_Here!$C$48","v":"TENNANT · 10400 Clean Street · Eden Prairie, MN 55344 ·"}]
[{"$f":"Start_Here!$C$49","v":" PHONE:800-553-8033 · FAX:763-513-2116"}]
[]
[null,"Notes:"]
[null,1,"One set of pad drivers come standard. A different brush may be chosen as an option"]
[null,2,"One English manual comes standard.  A manual in a different language may be chosen as an option."]
[null,3,"Skid with carton packaging must be chosen as an option"]
[]
[null,15,"Shipping Weights and Dimensions",null,"Skid w/Carton"]
[]
[null,null,"700 mm / 28\" Disk"]
[null,null,"Weight",null,"733 lbs / 333 Kg"]
[null,null,"Length",null,"75\" / 1905 mm"]
[null,null,"Width",null,"45\" / 1143 mm"]
[null,null,"Height",null,"52\" / 1321 mm"]
[]
[null,null,"800 mm / 32\" Disk"]
[null,null,"Weight",null,"736 lbs / 334 Kg"]
[null,null,"Length",null,"75\" / 1905 mm"]
[null,null,"Width",null,"45\" / 1143 mm"]
[null,null,"Height",null,"52\" / 1321 mm"]
[]
[null,null,"900 mm / 36\" Disk"]
[null,null,"Weight",null,"740 lbs / 336 Kg"]
[null,null,"Length",null,"75\" / 1905 mm"]
[null,null,"Width",null,"45\" / 1143 mm"]
[null,null,"Height",null,"52\" / 1321 mm"]
[]
[null,null,"700 mm / 28\" Cylindrical"]
[null,null,"Weight",null,"749 lbs / 340 Kg"]
[null,null,"Length",null,"75\" / 1905 mm"]
[null,null,"Width",null,"45\" / 1143 mm"]
[null,null,"Height",null,"52\" / 1321 mm"]
[]
[null,null,"800 mm / 32\" Cylindrical"]
[null,null,"Weight",null,"752 lbs / 341 Kg"]
[null,null,"Length",null,"75\" / 1905 mm"]
[null,null,"Width",null,"45\" / 1143 mm"]
[null,null,"Height",null,"52\" / 1321 mm"]
[]
[null,null,"700 mm / 28\" Orbital"]
[null,null,"Weight",null,"759 lbs / 345 Kg"]
[null,null,"Length",null,"75\" / 1905 mm"]
[null,null,"Width",null,"45\" / 1143 mm"]
[null,null,"Height",null,"52\" / 1321 mm"]
[]
[]
[]
[null,"16","CURRENT DETERGENT PRODUCT",null,null,null,"NEW DETERGENT PRODUCT"]
[null,null,"Original PN ","Description","Size",null,"New PN ","Description","Size"]
[null,null,"9000755  08682-5","653 & 654 ","5 Gallon",null,9006764,"General Purpose Cleaner","2 -2.5G "]
[null,null,"9000824  08682-15","653 & 654","15 Gallon",null,9006765,"General Purpose Cleaner","15 Gallon"]
[null,null,"9000757  08682-55","653 & 654","55 Gallon",null,9006767,"General Purpose Cleaner","55 Gallon"]
[null,null,"9000758  9000404","653 & 654","275 Gallon",null,9006769,"General Purpose Cleaner","275 Gallon"]
[]
[null,null,"08683-5  08678-5","655 & 658 ","5 Gallon",null,9006776,"High Alkaline Degreaser","2 -2.5G "]
[null,null,"08683-15  08678-15","655 & 658","15 Gallon",null,9006777,"High Alkaline Degreaser","15 Gallon"]
[null,null,"08683-55  08678-55","655 & 658","55 Gallon",null,9006779,"High Alkaline Degreaser","55 Gallon"]
[null,null,"9000405  9000407","655 & 658","275 Gallon",null,9006781,"High Alkaline Degreaser","275 Gallon"]
[]
[null,null,"08690-1  08690-5  08684-5","9960 & 698","5 Gallon",null,9006770,"Solvent Based Degreaser","2 -2.5G "]
[null,null,"08690-55   08684-55","9960 & 698","55 Gallon",null,9006773,"Solvent Based Degreaser","55 Gallon"]
[]
[null,null,"08584-4",601,"22Lb. Carton",null,9006782,"High Alkaline Granular","22Lb. Carton"]
[null,null,"08584-2",601,"250Lb. Drum",null,9006783,"High Alkaline Granular","250Lb. Drum"]

{"sheet":"T7_Std_Config","index":24,"n_rows":202,"n_cols":14,"rows_kept":202,"cut":false,"hidden":false,"merged":[[165,4,165,6],[167,2,167,5],[168,2,168,5],[169,2,169,5],[178,4,178,5],[163,0,163,1],[163,2,163,5],[155,2,155,5],[156,0,156,1],[156,2,156,5],[157,0,157,1],[157,2,157,5],[159,0,159,1],[159,2,159,5],[160,0,160,1],[160,2,160,5],[161,2,161,5],[162,0,162,1],[162,2,162,5],[131,1,131,6],[151,4,151,6],[153,0,153,1],[153,2,153,5],[154,0,154,1],[154,2,154,5],[114,3,114,4],[29,2,29,6],[30,2,30,6],[31,2,31,6],[94,3,94,4],[94,5,94,6],[96,3,96,4],[96,5,96,6],[109,4,109,8],[111,3,111,6],[113,3,113,4],[25,2,25,3],[0,2,0,3],[1,2,1,3],[2,2,2,3],[3,2,3,3],[11,2,11,6],[116,3,116,4],[116,5,116,6],[117,3,117,4],[117,5,117,6],[118,3,118,4],[118,5,118,6],[122,3,122,4],[122,5,122,6],[119,3,119,4],[119,5,119,6],[120,3,120,4],[120,5,120,6],[121,3,121,4],[121,5,121,6]]}
["T7_Std_Config",null,{"$f":"Start_Here!$C19","v":"Company Name"}]
[{"$f":"SUM(G89)","v":0},null,{"$f":"Start_Here!$C20","v":"Address"}]
[null,null,{"$f":"Start_Here!$C21","v":"City, State Zip"}]
[null,null,{"$f":"Start_Here!$C22","v":"Contact Name"}]
[null,null,{"$f":"Start_Here!$C$41","v":"Rep Name"}]
[null,null,{"$f":"Start_Here!$C$37","v":"Tennant Sales and Service Company"}]
[null,null,{"$f":"Start_Here!$C$38","v":"10400 Clean Street"}]
[null,null,{"$f":"Start_Here!$C$39","v":"Eden Prairie, MN 55344"}]
[null,null,{"$f":"Start_Here!$C$43","v":"800-553-8033"},null,"Quote Date :",null,{"$f":"Letter!$A$25","v":"2014-10-02"}]
[]
[null,null,{"$f":"Help!C2","v":"CAN Date Rev - 5/6/2025"}]
[null,null,"BUILT-IN “TENNANT VALUE” INCLUDES:"]
[null,null,"Fully Cleanable HygenicTM Tanks",null,"Unsurpassed Ergonomic Design"]
[null,null,"Extremely Low 67 dBa Noise Levels",null,"Standard 240 AH Battery Pack (Optional 360 AH)"]
[null,null,"Unmatched Solution Recovery",null,"Charger"]
[null,null,"One-Button Scrubbing Operation",null,"Edge & Reach Under Cleaning"]
[null,null,"Economy Mode (extends run time up to 4.5 hours)",null,"No Tool Brush / Squeegee Change"]
[null,null,"On Board Diagnostics",null,"Standard Scrubbing Brushes & Pad Drivers (Select One Type)"]
[null,null,"Touch Panel Controls",null,"Vacuum Fan In-Line Air Filter Cartridge"]
[null,null,"Automatic:",null,"Brush Shutoff When Idle"]
[null,null,"           Squeegee Lift",null,"Brush Shutoff at 80% Discharge"]
[null,null,"           Water Shutoff",null,"Audio Back Up Alarm"]
[]
[null,null,"ec-H2O NanoCleanTM Equipped Models Include:"]
[null,null,"Electrically Converted Water Technology System"]
[null,null,"Two Scrubbing Modes: ec-H2O NanoCleanTM & Conventional Scrubbing"]
[]
[]
[]
[null,null,"TENNANT COMPANY WARRANTY"]
[null,null,"3 YEARS OR 1500 HOURS ON ALL COMPONENTS, 3 YEARS LABOR"]
[null,null,"90 DAYS TRAVEL, 10 YEARS ON DURAMERTM TANKS"]
[]
[]
[]
[null,null,null,null,"                Quote Request Information"]
[null,null,null,null,null,null,"Fax (quote only)"]
[null,null,null,null,null,null,"Mail (quote,lit, specs)"]
[null,null,null,null,null,null,"Fax + Mail"]
[]
[null,null,null,null,"                Primary Use"]
[null,null,null,null,null,null,"Inside"]
[null,null,null,null,null,null,"Outside"]
[]
[null,null,"Description","Reference #","Price Each","Qty","Extended Price"]
[null,"Standard Configuration Machines ",null,null,null,{"$f":"SUM(F47:F52)","v":0}]
[null,null,"T7 Rider - Disk Scrubber, 650mm / 26\", 240AH C/20 Battery, Conventional Cleaning, 25A 115V AC 60Hz 1Ph On-Board Charger  \n(Pad Driver will default unless otherwise specified)","T7-1001D",37617,null,{"$f":"F47*E47","v":0},{"$f":"IFERROR(IFERROR(VLOOKUP(D47,Surcharge!A:B,2,FALSE)*F47, VLOOKUP(D47 & \"\",Surcharge!A:B,2,FALSE)*F47), \"\")","v":""}]
[null,null,"T7 Rider - Disk Scrubber, 800mm / 32\", 240AH C/20 Battery, Conventional Cleaning, 25A 115V AC 60Hz 1Ph On-Board Charger\n(Pad Driver will default unless otherwise specified)","T7-1002D",40328,null,0,{"$f":"IFERROR(IFERROR(VLOOKUP(D48,Surcharge!A:B,2,FALSE)*F48, VLOOKUP(D48 & \"\",Surcharge!A:B,2,FALSE)*F48), \"\")","v":""}]
[null,null,"T7 Rider - Disk Scrubber, 650mm / 26\", 240AH C/20 Battery, ec-H20 NanoClean, 25A 115V AC 60Hz 1Ph On-Board Charger\n(Pad Driver will default unless otherwise specified)","T7-2001D",42395,null,0,{"$f":"IFERROR(IFERROR(VLOOKUP(D49,Surcharge!A:B,2,FALSE)*F49, VLOOKUP(D49 & \"\",Surcharge!A:B,2,FALSE)*F49), \"\")","v":""}]
[null,null,"T7 Rider - Disk Scrubber, 800mm / 32\", 240AH C/20 Battery, ec-H20 NanoClean, 25A 115V AC 60Hz 1Ph On-Board Charger\n(Pad Driver will default unless otherwise specified)","T7-2002D",45106,null,0,{"$f":"IFERROR(IFERROR(VLOOKUP(D50,Surcharge!A:B,2,FALSE)*F50, VLOOKUP(D50 & \"\",Surcharge!A:B,2,FALSE)*F50), \"\")","v":""}]
[null,null,"T7 Rider - Disk Scrubber, 650mm / 26\", 360AH C/20 Battery, Manual Battery Watering System, ec-H20 NanoClean, 25A 115V AC 60Hz 1Ph On-Board Charger\n(Pad Driver will default unless otherwise specified)","T7-3001D",44259,null,0,{"$f":"IFERROR(IFERROR(VLOOKUP(D51,Surcharge!A:B,2,FALSE)*F51, VLOOKUP(D51 & \"\",Surcharge!A:B,2,FALSE)*F51), \"\")","v":""}]
[null,null,"T7 Rider - Disk Scrubber, 800mm / 32\", 360AH C/20 Battery, Manual Battery Watering System, ec-H20 NanoClean, 25A 115V AC 60Hz 1Ph On-Board Charger\n(Pad Driver will default unless otherwise specified)","T7-3002D",46970,null,0,{"$f":"IFERROR(IFERROR(VLOOKUP(D52,Surcharge!A:B,2,FALSE)*F52, VLOOKUP(D52 & \"\",Surcharge!A:B,2,FALSE)*F52), \"\")","v":""}]
[]
[]
[null,"OPTIONAL","Brushes - in place of Pad Driver  (2 Required) (Note 1)",null,null,{"$f":"SUM(F56:F59)","v":0}]
[null,null,"650mm / 26\" Disk Nylon Brush",1220226,"N/C     ",null,{"$f":"IF(F56=0,\" \",\"N/C\")","v":" "},{"$f":"IFERROR(IFERROR(VLOOKUP(D56,Surcharge!A:B,2,FALSE)*F56, VLOOKUP(D56 & \"\",Surcharge!A:B,2,FALSE)*F56), \"\")","v":""}]
[null,null,"650mm / 26\" Disk Polypropylene Brush",1220223,"N/C     ",null," ",{"$f":"IFERROR(IFERROR(VLOOKUP(D57,Surcharge!A:B,2,FALSE)*F57, VLOOKUP(D57 & \"\",Surcharge!A:B,2,FALSE)*F57), \"\")","v":""}]
[null,null,"800mm / 32\" Disk Nylon Brush",1220225,"N/C     ",null," ",{"$f":"IFERROR(IFERROR(VLOOKUP(D58,Surcharge!A:B,2,FALSE)*F58, VLOOKUP(D58 & \"\",Surcharge!A:B,2,FALSE)*F58), \"\")","v":""}]
[null,null,"800mm / 32\" Disk Polypropylene Brush",1220224,"N/C     ",null," ",{"$f":"IFERROR(IFERROR(VLOOKUP(D59,Surcharge!A:B,2,FALSE)*F59, VLOOKUP(D59 & \"\",Surcharge!A:B,2,FALSE)*F59), \"\")","v":""}]
[]
[null,"OPTIONAL","Manuals  (Note 2)",null,null,{"$f":"SUM(F62:F66)","v":0}]
[null,null,"T7 Operator Manual (Spanish) - in place of English manual",331042,"N/C     ",null,{"$f":"IF(F62=0,\" \",\"N/C\")","v":" "},{"$f":"IFERROR(IFERROR(VLOOKUP(D62,Surcharge!A:B,2,FALSE)*F62, VLOOKUP(D62 & \"\",Surcharge!A:B,2,FALSE)*F62), \"\")","v":""}]
[null,null,"T7 Operator Manual (French) - in place of English manual",331043,"N/C     ",null," ",{"$f":"IFERROR(IFERROR(VLOOKUP(D63,Surcharge!A:B,2,FALSE)*F63, VLOOKUP(D63 & \"\",Surcharge!A:B,2,FALSE)*F63), \"\")","v":""}]
[null,null,"Additional Operator Manual","see above",200,null,{"$f":"F64*E64","v":0}]
[null,null,"T7 Parts Manual",9013606,81,null,0,{"$f":"IFERROR(IFERROR(VLOOKUP(D65,Surcharge!A:B,2,FALSE)*F65, VLOOKUP(D65 & \"\",Surcharge!A:B,2,FALSE)*F65), \"\")","v":""}]
[null,null,"T7 Service Manual",331045,200,null,0,{"$f":"IFERROR(IFERROR(VLOOKUP(D66,Surcharge!A:B,2,FALSE)*F66, VLOOKUP(D66 & \"\",Surcharge!A:B,2,FALSE)*F66), \"\")","v":""}]
[]
[null,"REQUIRED","Packaging  (Note 3)",null," ",{"$f":"SUM(F69)","v":0}]
[null,null,"Skid w/Carton, Stackable",9000550,"N/C",null,{"$f":"IF(F69=0,\" \",\"N/C\")","v":" "},{"$f":"IFERROR(IFERROR(VLOOKUP(D69,Surcharge!A:B,2,FALSE)*F69, VLOOKUP(D69 & \"\",Surcharge!A:B,2,FALSE)*F69), \"\")","v":""}]
[]
[]
[]
[]
[null,null,null,null,{"$f":"ROUND(SUM(G47:G73), 0)","v":0},{"$f":"SUM(E75)","v":0}]
[null,null,null,"Machine Subtotal ",{"$f":"ROUND(SUM(G47:G73), 0)","v":0},{"$f":"F74","v":0}]
[null,"Discounts",null,null,null,{"$f":"SUM(F77)","v":0}]
[null,null,null,null,null,{"$f":"SUM(F79:F82)","v":0}]
[null,null,null,"Applicable Currency Adj %",null,{"$f":"IF(E78 <> \"\", 1, 0)","v":0},{"$f":"IF(F78*(E78*0.01)*E74 < 0, F78*(E78*0.01)*E74, -(F78*(E78*0.01)*E74))","v":0}]
[null,null,null,"Discount %",null,{"$f":"IF(E79 <> \"\", 1, 0)","v":0},{"$f":"IF(F79*(E79*0.01)*(E74+G78) < 0, F79*(E79*0.01)*(E74+G78), -(F79*(E79*0.01)*(E74+G78)))","v":0}]
[null,null,null,"Discount $",null,{"$f":"IF(E80 <> \"\", 1, 0)","v":0},{"$f":"IF(F80*E80 < 0, F80*E80, -(F80*E80))","v":0}]
[null,null,null,"Discount $",null,{"$f":"IF(E81 <> \"\", 1, 0)","v":0},{"$f":"IF(F81*E81 < 0, F81*E81, -(F81*E81))","v":0}]
[null,null,null,"Discount $",null,{"$f":"IF(E82 <> \"\", 1, 0)","v":0},{"$f":"IF(F82*E82 < 0, F82*E82, -(F82*E82))","v":0}]
[null,null,null,"Discount Total ",{"$f":"SUM(G78:G82)","v":0},{"$f":"SUM(E83)","v":0}]
[null,null,null,null,null,{"$f":"#REF!","v":{"$error":"#REF!"}}]
[null,null,null,null,null,{"$f":"F84","v":{"$error":"#REF!"}}]
[null,null,"Prepaid and Add","Freight",null,{"$f":"IF(E86 <> \"\", 1, 0)","v":0},{"$f":"F86*E86","v":0}]
[null,null,"Subject to all applicable taxes","Tax",null,{"$f":"IF(E87 <> \"\", 1, 0)","v":0},{"$f":"F87*E87","v":0}]
[null,null,null,null,null,{"$f":"SUM(F89)","v":0}]
[null,null,null,"MACHINE TOTAL*",null,{"$f":"SUM(G89)","v":0},{"$f":"SUM(G47:G87)","v":0},null,null,null,null,null,null,"This goes to \"My Documents\""]
[null,null,null,null,null,null,{"$f":"SUM(G89)","v":0}]
[]
[]
[]
[]
[null,null,"First Western Equipment Finance - Leasing Calculation Option:","Option 1",null,"Option 2",null,null,null,{"$f":"Financing!A38","v":"Rates 2025 - Rev 2/4/2025"}]
[null,null,null,"Monthly Payment","Cost Per Day","Monthly Payment","Cost Per Day",null,null,{"$f":"Financing!A39","v":"“Blank Payment Amounts Indicate The Financing Option Or Purchase Options Selected Are Not "}]
[null,null,"Purchase Option:","FWEF:  $1 Buyout Lease",null,"FWEF: Municipal Lease",null,null,null,{"$f":"Financing!A40","v":"Applicable Or The Machine Total Is Below The Minimum Amount For The Selected Vendor”"}]
[null,null,"24 Months",false,0,false,0,null,null,{"$f":"Financing!A41","v":"\"Quoted monthly payments are estimates only and are based on a certain level of credit rating."}]
[null,null,"30 Months",false,0,false,0,null,null,{"$f":"Financing!A42","v":"Actual monthly payments may be higher depending on your credit rating.\""}]
[null,null,"36 Months",false,0,false,0,null,null,{"$f":"Financing!A43","v":"“Financing rates do not include Pre-Paid Service”"}]
[null,null,"48 Months",0,0,0,0,null,{"$f":"Financing!A44","v":0}]
[]
[null,null,null,"Benefits of Equipment Financing:"]
[null,null,null,"• Spreads out investment over time.",null,"• Keep current with latest technology."]
[null,null,null,"• Preserve capital.",null,"• Service and parts bundling available."]
[null,null,null,"• Low monthly payment.",null,"• Pay for labor savings as you go."]
[]
[null,"   TennantTrue",null,null,0,0]
[]
[null,null,"Is customer interested in service program?","Yes","*State/County selection required for TennantTrue service options"]
[]
[null,null,"If not, why?"]
[]
[null,null,"Term:",36,null,null,"AB Brushes","No"]
[null,null,"Monthly machine usage (hrs):","< 30/mo. (Avg. 1hr./day)"]
[]
[null,null,"TennantTrue: ","Gold Contract",null,"Silver Contract"]
[null,null,"Per Visit",null,null,501]
[null,null,"Monthly",173,null,88]
[null,null,"Annually",null,null,1035]
[null,null,"Pre-Pay Full Term",5964,null,3042]
[null,null,"Hourly Labor Rate"]
[null,null,"Site Visit"]
[]
[null,null,"* Verify customer current pricing prior to quote. "]
[null,null,"**All rates and fees above reflect service for one (1) unit with the exception of Block of Time service."]
[null,null,"*Block of Time is available in 1 Year Term only and is priced as such no matter the term selection on this template."]
[]
[]
[]
[null,"Quote Special Instructions:"]
[]
[]
[null,{"$f":"Start_Here!E36","v":"Terms and Conditions"}]
[null,{"$f":"Start_Here!E37","v":"Ask your local sales rep for estimated lead times. Verify when placing order"}]
[null,{"$f":"Start_Here!E38","v":"All orders subject to acceptance by Tennant Sales and Service Company, Minneapolis, Minnesota"}]
[null,{"$f":"Start_Here!E39","v":"Prices subject to change without notice. Subject to any applicable taxes."}]
[null,{"$f":"Start_Here!E40","v":"Terms:  Net 30 days.  Payable in Canadian Funds"}]
[null,{"$f":"Start_Here!E41","v":"Freight:  Accessories, parts, supplies, detergents, and floor coatings orders delivered DDP "}]
[null,{"$f":"Start_Here!E42","v":"shipping point Frt PPD.  Machine orders delivered DDP shipping point Frt PPD and add."}]
[null,{"$f":"Start_Here!E43","v":"Returned Merchandise is subject to a restocking fee."}]
[null,{"$f":"Start_Here!E45","v":"Printed General Terms and Conditions are also available upon request."}]
[null,{"$f":"Start_Here!E46","v":0}]
[]
[]
[]
[null,null,null,null,"Quote Date :",null,{"$f":"Letter!$A$25","v":"2014-10-02"}]
["Order Placement Information:  To place your order, fill in PO# and customer signatures,"]
["call or fax to the numbers listed below. Customer Purchase Order is required."]
["If information is missing, orders will be entered and held until all information is received."]
[null,null,"Customer Number",null,"Cust Grp 3"]
[null,null,{"$f":"Start_Here!$C$25","v":0},null,{"$f":"Start_Here!$C$29","v":0}]
[null,null,{"$f":"Start_Here!$B$18","v":"Who Owns the Machine? (Sold-To Info) (Please Verify)"}]
["Company",null,{"$f":"Start_Here!$C$19","v":"Company Name"}]
["Address",null,{"$f":"Start_Here!$C$20","v":"Address"}]
[null,null,{"$f":"Start_Here!$C$21","v":"City, State Zip"}]
["Name",null,{"$f":"Start_Here!$C$22","v":"Contact Name"}]
["Phone",null,{"$f":"Start_Here!$C$23","v":"Contact Phone"}]
[null,null,{"$f":"Start_Here!$B$11","v":"Where is the Machine Being Shipped? (Ship-To Info) (Please Verify)"}]
["Company",null,{"$f":"Start_Here!$C$12","v":"Company Name"}]
["Address",null,{"$f":"Start_Here!$C$13","v":"Address"}]
[null,null,{"$f":"Start_Here!$C$14","v":"City, State Zip"}]
["Name",null,{"$f":"Start_Here!$C$15","v":"Contact Name"}]
["Phone",null,{"$f":"Start_Here!$C$16","v":"Contact Phone"}]
[null,null,{"$f":"Start_Here!$B$31","v":"Shipping / Carrier Instructions:"},null,"Order Special Instructions:"]
[null,null,{"$f":"Start_Here!$C$32","v":0}]
[]
[null,null,"Customer Purchase Order No."]
[null,null,"(please attach copy)"]
[]
[]
[null,null,"Tax Exempt",null,"Yes"]
[null,null,null,null,"No"]
[null,null,"If Yes, attach a copy of your exemption certificate."]
[]
[null,null,"Requested Delivery Date"]
[null,null,{"$f":"Start_Here!$C$28","v":0}]
[]
[null,null,{"$f":"Start_Here!$C$26","v":0},null,{"$f":"Start_Here!$C$27","v":0}]
[null,null,"Authorized Buyer (please print)",null,"Phone Number"]
[]
[]
[null,null,"Authorized Buyer Signature"]
[]
[null,null,{"$f":"Start_Here!$C$41","v":"Rep Name"}]
[null,null,"Tennant Representative"]
[]
["Specialized Maintenance Equipment"]
[{"$f":"Start_Here!$C$48","v":"TENNANT · 10400 Clean Street · Eden Prairie, MN 55344 ·"}]
[{"$f":"Start_Here!$C$49","v":" PHONE:800-553-8033 · FAX:763-513-2116"}]
[]
[null,"Notes:"]
[null,1,"One set of pad drivers come standard. A different brush may be chosen as an option"]
[null,2,"One English manual comes standard.  A manual in a different language may be chosen as an option."]
[null,3,"Skid with carton packaging must be chosen as an option"]
[]
[null,4,"Shipping Weights and Dimensions",null,"Skid w/Carton"]
[]
[null,null,"Weight (with 235AH batteries)",null,"1000 lbs / 454 kg"]
[null,null,"Length",null,"62\" / 1,574mm"]
[null,null,"Width",null,"33\" / 838mm"]
[null,null,"Height",null,"48\" / 1,219mm"]

{"sheet":"T12_Standard_Config","index":25,"n_rows":232,"n_cols":14,"rows_kept":232,"cut":false,"hidden":false,"merged":[[39,1,39,5],[12,1,12,5],[0,2,0,3],[1,2,1,3],[2,2,2,3],[3,2,3,3],[11,2,11,6],[23,1,23,2],[35,1,35,5],[36,1,36,5],[37,1,37,5],[38,1,38,5],[118,3,118,4],[118,5,118,6],[120,3,120,4],[120,5,120,6],[40,1,40,5],[59,2,59,3],[62,2,62,3],[65,2,65,3],[68,2,68,3],[175,0,175,1],[175,2,175,5],[155,1,155,6],[173,4,173,6],[133,4,133,8],[135,3,135,6],[137,3,137,4],[138,3,138,4],[140,3,140,4],[140,5,140,6],[141,3,141,4],[141,5,141,6],[142,3,142,4],[142,5,142,6],[143,3,143,4],[143,5,143,6],[184,0,184,1],[184,2,184,5],[176,0,176,1],[176,2,176,5],[177,2,177,5],[178,0,178,1],[178,2,178,5],[179,0,179,1],[179,2,179,5],[181,0,181,1],[181,2,181,5],[182,0,182,1],[182,2,182,5],[183,2,183,5],[200,4,200,5],[185,0,185,1],[185,2,185,5],[187,4,187,6],[189,2,189,5],[190,2,190,5],[191,2,191,5],[144,5,144,6],[145,3,145,4],[145,5,145,6],[146,3,146,4],[146,5,146,6],[144,3,144,4]]}
["T12_Standard_Config",null,{"$f":"Start_Here!$C19","v":"Company Name"}]
[{"$f":"SUM(G113)","v":0},null,{"$f":"Start_Here!$C20","v":"Address"}]
[null,null,{"$f":"Start_Here!$C21","v":"City, State Zip"}]
[null,null,{"$f":"Start_Here!$C22","v":"Contact Name"}]
[null,null,{"$f":"Start_Here!$C$41","v":"Rep Name"}]
[null,null,{"$f":"Start_Here!$C$37","v":"Tennant Sales and Service Company"}]
[null,null,{"$f":"Start_Here!$C$38","v":"10400 Clean Street"}]
[null,null,{"$f":"Start_Here!$C$39","v":"Eden Prairie, MN 55344"}]
[null,null,{"$f":"Start_Here!$C$43","v":"800-553-8033"},null,"Quote Date :",null,{"$f":"Letter!$A$25","v":"2014-10-02"}]
[]
[null,null,{"$f":"Help!C2","v":"CAN Date Rev - 5/6/2025"}]
[]
[null,"BUILT-IN “TENNANT VALUE” INCLUDES:"]
[]
[null,"Wet, 240 AH C/20 Battery Pack",null,"No Tool Squeegee and Brush Change"]
[null,"20 Amp, 115 Volt 60 Hz Charger",null,"In-Line Vacuum Fan Air Filter"]
[null,"Two Speed Electronic Transmission with AC Propel Motor",null,"High Visibility Maintenance Touch Points"]
[null,"Disk or Cylindrcial Scrubbing - 32 in (800 mm) path",null,"Underwriters Laboratory (UL®) \"E\" Certification"]
[null,"Standard Cylindrical or Disk Scrubbing Brushes (Select One)",null,"Cup Holder"]
[null,"Non-Corrosive Duramer™ Solution and Recovery Tanks",null,"Operator Manual and Video"]
[null,null,"35 gal (132 L) Solution Tank","Front and Rear Non-Marking Tires "]
[null,null,"44 gal (166 L) Recovery Tank"]
[null,null,"9 gal (34 L) Demisting Chamber","T12 Controls:"]
[null,"Parabolic Rear Squeegee w/SmartRelease™ Breakaway System",null,"1-Step™ One-Button Scrub Operation"]
[null,"Automatic Functions:",null,"3 Down-Pressure Settings"]
[null,null,"Parking Brake","On Board Diagnostics"]
[null,null,"Squeegee Lift","Water Shutoff Switch"]
[null,null,"Water Shutoff","T12 XP Only Controls and Features:"]
[null,null,"Brush Shutoff When Idle","T12 Controls, plus"]
[null,null,"Brush Shutoff at 80% Battery Discharge","Steering Wheel Mounted, Touch-N-GO Control Module (XP Only)"]
[null,null,null,"AV Back-up Alarm w/Strobe Light"]
[null,null,null,"Water Shutoff Thumb Switch on Control Module"]
[null,null,null,"Head and Tail Lights"]
[null,null,null,"Deluxe Seat with Arm Rests"]
[]
[null,"TENNANT COMPANY WARRANTY"]
[null,"36 MONTHS OR 2000 HOURS - PARTS"]
[null,"24 MONTHS - LABOR"]
[null,"6 MONTHS - TRAVEL"]
[null,"10 YEARS ON DURAMERTM TANKS"]
[null,"CUSTOM options may add 1 week or more to standard lead times."]
[]
[]
[]
[]
[]
[null,null,null,null,"                Quote Request Information"]
[null,null,null,null,null,null,"Fax (quote only)"]
[null,null,null,null,null,null,"Mail (quote,lit, specs)"]
[null,null,null,null,null,null,"Fax + Mail"]
[]
[null,null,null,null,"                Primary Use"]
[null,null,null,null,null,null,"Inside"]
[null,null,null,null,null,null,"Outside"]
[]
[null,null,"Description","Reference #","Price Each","Qty","Extended Price"]
[null,"Standard Configurations  (Note 1)",null,null,"CANADA",{"$f":"SUM(F59:F69)","v":0}]
[]
[null,null,"T12 Rider - Disk Scrubber, Conventional Cleaning, Linatex Squeegee, Wet 360AH C/20 (Kit of 6 batteries), Manual Battery Watering Kit , On-Board 20A 85-130V AC 50/60Hz 1Ph Charger, UL® Type E","T12-1000D",46381,null,{"$f":"F59*E59","v":0}]
[null,null,"Choice of Fire Extinguisher, Brushes, Operator Manual and Shipment Packaging available.",null,null,{"$f":"SUM(F59)","v":0}]
[]
[null,null,"T12 Rider - Cylindrical Scrubber, Conventional Cleaning, Linatex Squeegee, Wet 360AH C/20 (Kit of 6 batteries), Manual Battery Watering Kit, Off-Board 21A 85-265V 50/60Hz 1Ph Charger, UL® Type E, Heavy Duty Squeegee Protection, Safety Light Package, Vacuum Wand, Spray Nozzle with Hose",null,50788,null,{"$f":"F62*E62","v":0}]
[null,null,"Choice of Fire Extinguisher, Brushes, Operator Manual and Shipment Packaging available.",null,null,{"$f":"SUM(F62)","v":0}]
[]
[null,null,"T12 Rider - Cylindrical Scrubber, ec-H2O™, Linatex Squeegee, Wet 360AH C/20 (Kit of 6 batteries), Manual Battery Watering Kit, Off-Board 21A 85-265V AC 50/60 Hz 1Ph, Scrubbing Side Brush, Heavy Duty Squeegee Protection, Deluxe Seat w/Armrest, Headlights, AV BU Alarm w/Strobe Light on Tank","T12-2000C",62402,null,{"$f":"F65*E65","v":0}]
[null,null,"Choice of Fire Extinguisher, Brushes, Operator Manual and Shipment Packaging available.",null,null,{"$f":"SUM(F65)","v":0}]
[]
[null,null,"T12 XP Rider - Cylindrical Scrubber,ec-H2O™, Linatex Squeegee, Wet 360AH C/20 (Kit of 6 batteries), Manual Battery Watering Kit, On-Board 20A 85-130V 50/60Hz 1Ph Charger, UL® Type E, Productivity Package, Safety Light Package, Heavy Duty Squeegee Protection, Deluxe Seat","T12-3000C",66378,null,{"$f":"F68*E68","v":0}]
[null,null,"Choice of Fire Extinguisher, Brushes, Operator Manual and Shipment Packaging available.",null,null,{"$f":"SUM(F68)","v":0}]
[]
[null,"Machine Protection & Safety",null,null,null,{"$f":"SUM(F72)","v":0}]
[null,null,"Fire Extinguisher",9009878,513,null,{"$f":"F72*E72","v":0}]
[null,null,null,null,null,"  "]
[null,"Brushes and Pads",null,"Reference #",null,{"$f":"SUM(F75,F79,F83)","v":0},null,{"$f":"IFERROR(IFERROR(VLOOKUP(D74,Surcharge!A:B,2,FALSE)*F74, VLOOKUP(D74 & \"\",Surcharge!A:B,2,FALSE)*F74), \"\")","v":""}]
[null,null,"Disk Scrubbing Brushes/Pads (2 Required)",null,null,{"$f":"SUM(F76:F78)","v":0},null,{"$f":"IFERROR(IFERROR(VLOOKUP(D75,Surcharge!A:B,2,FALSE)*F75, VLOOKUP(D75 & \"\",Surcharge!A:B,2,FALSE)*F75), \"\")","v":""}]
[null,null,"Polypropylene Brush",1220241,"N/C",null,{"$f":"IF(F76=0,\" \",\"N/C\")","v":" "},{"$f":"IFERROR(IFERROR(VLOOKUP(D76,Surcharge!A:B,2,FALSE)*F76, VLOOKUP(D76 & \"\",Surcharge!A:B,2,FALSE)*F76), \"\")","v":""}]
[null,null,"Super Abrasive Brush",1221543,295,null,{"$f":"F77*E77","v":0},{"$f":"IFERROR(IFERROR(VLOOKUP(D77,Surcharge!A:B,2,FALSE)*F77, VLOOKUP(D77 & \"\",Surcharge!A:B,2,FALSE)*F77), \"\")","v":""}]
[null,null,null,null,null,null,null,{"$f":"IFERROR(IFERROR(VLOOKUP(D78,Surcharge!A:B,2,FALSE)*F78, VLOOKUP(D78 & \"\",Surcharge!A:B,2,FALSE)*F78), \"\")","v":""}]
[null,null,"Cylindrical Scrubbing Brushes (2 Required)",null,null,{"$f":"SUM(F80:F81)","v":0},null,{"$f":"IFERROR(IFERROR(VLOOKUP(D79,Surcharge!A:B,2,FALSE)*F79, VLOOKUP(D79 & \"\",Surcharge!A:B,2,FALSE)*F79), \"\")","v":""}]
[null,null,"Polypropylene Brush",1201572,"N/C",null,{"$f":"IF(F80=0,\" \",\"N/C\")","v":" "},{"$f":"IFERROR(IFERROR(VLOOKUP(D80,Surcharge!A:B,2,FALSE)*F80, VLOOKUP(D80 & \"\",Surcharge!A:B,2,FALSE)*F80), \"\")","v":""}]
[null,null,"Super Abrasive Brush",1201928,295,null,{"$f":"F81*E81","v":0},{"$f":"IFERROR(IFERROR(VLOOKUP(D81,Surcharge!A:B,2,FALSE)*F81, VLOOKUP(D81 & \"\",Surcharge!A:B,2,FALSE)*F81), \"\")","v":""}]
[null,null,null,null,null,null,null,{"$f":"IFERROR(IFERROR(VLOOKUP(D82,Surcharge!A:B,2,FALSE)*F82, VLOOKUP(D82 & \"\",Surcharge!A:B,2,FALSE)*F82), \"\")","v":""}]
[null,null,"Disk Scrubbing Brush/Pad and Sweeping Brush for Side Brush Option (1 Required)",null,null,{"$f":"SUM(F84:F87)","v":0},null,{"$f":"IFERROR(IFERROR(VLOOKUP(D83,Surcharge!A:B,2,FALSE)*F83, VLOOKUP(D83 & \"\",Surcharge!A:B,2,FALSE)*F83), \"\")","v":""}]
[null,null,"Polypropylene Brush",1220240,"N/C",null,{"$f":"IF(F84=0,\" \",\"N/C\")","v":" "},{"$f":"IFERROR(IFERROR(VLOOKUP(D84,Surcharge!A:B,2,FALSE)*F84, VLOOKUP(D84 & \"\",Surcharge!A:B,2,FALSE)*F84), \"\")","v":""}]
[null,null,"Heavy Duty Polypropylene",1220231,"N/C",null,{"$f":"IF(F85=0,\" \",\"N/C\")","v":" "},{"$f":"IFERROR(IFERROR(VLOOKUP(D85,Surcharge!A:B,2,FALSE)*F85, VLOOKUP(D85 & \"\",Surcharge!A:B,2,FALSE)*F85), \"\")","v":""}]
[null,null,"Super Abrasive Brush",1220232,295,null,{"$f":"F86*E86","v":0},{"$f":"IFERROR(IFERROR(VLOOKUP(D86,Surcharge!A:B,2,FALSE)*F86, VLOOKUP(D86 & \"\",Surcharge!A:B,2,FALSE)*F86), \"\")","v":""}]
[null,null,null,null,null,null,null,{"$f":"IFERROR(IFERROR(VLOOKUP(D87,Surcharge!A:B,2,FALSE)*F87, VLOOKUP(D87 & \"\",Surcharge!A:B,2,FALSE)*F87), \"\")","v":""}]
[null,"Support (Note 11)",null,null,null,{"$f":"SUM(F89:F95)","v":0},null,{"$f":"IFERROR(IFERROR(VLOOKUP(D88,Surcharge!A:B,2,FALSE)*F88, VLOOKUP(D88 & \"\",Surcharge!A:B,2,FALSE)*F88), \"\")","v":""}]
[null,null,"Operator Manual (English)",9009910,"N/C",null,{"$f":"IF(F89=0,\" \",\"N/C\")","v":" "},{"$f":"IFERROR(IFERROR(VLOOKUP(D89,Surcharge!A:B,2,FALSE)*F89, VLOOKUP(D89 & \"\",Surcharge!A:B,2,FALSE)*F89), \"\")","v":""}]
[null,null,"Operator Manual (Spanish)  ",9009911,"N/C",null,{"$f":"IF(F90=0,\" \",\"N/C\")","v":" "},{"$f":"IFERROR(IFERROR(VLOOKUP(D90,Surcharge!A:B,2,FALSE)*F90, VLOOKUP(D90 & \"\",Surcharge!A:B,2,FALSE)*F90), \"\")","v":""}]
[null,null,"Operator Manual (French)  (Note 12)",9009912,"N/C",null,{"$f":"IF(F91=0,\" \",\"N/C\")","v":" "},{"$f":"IFERROR(IFERROR(VLOOKUP(D91,Surcharge!A:B,2,FALSE)*F91, VLOOKUP(D91 & \"\",Surcharge!A:B,2,FALSE)*F91), \"\")","v":""}]
[null,null,"Additional Operator Manual","Select from Above",111,null,{"$f":"F92*E92","v":0}]
[null,null,null,null," ",null,null,{"$f":"IFERROR(IFERROR(VLOOKUP(D93,Surcharge!A:B,2,FALSE)*F93, VLOOKUP(D93 & \"\",Surcharge!A:B,2,FALSE)*F93), \"\")","v":""}]
[null,null,"Packaging  (Note 13)",null,null,{"$f":"SUM(F95)","v":0},null,{"$f":"IFERROR(IFERROR(VLOOKUP(D94,Surcharge!A:B,2,FALSE)*F94, VLOOKUP(D94 & \"\",Surcharge!A:B,2,FALSE)*F94), \"\")","v":""}]
[null,null,"Skid w/Carton, Non-Stackable",9009900,"N/C",null,{"$f":"IF(F95=0,\" \",\"N/C\")","v":" "},{"$f":"IFERROR(IFERROR(VLOOKUP(D95,Surcharge!A:B,2,FALSE)*F95, VLOOKUP(D95 & \"\",Surcharge!A:B,2,FALSE)*F95), \"\")","v":""}]
[null,null,null,null,null,null,null,{"$f":"IFERROR(IFERROR(VLOOKUP(D96,Surcharge!A:B,2,FALSE)*F96, VLOOKUP(D96 & \"\",Surcharge!A:B,2,FALSE)*F96), \"\")","v":""}]
[]
[null,null,null,null,{"$f":"ROUND(SUM(G59:G97), 0)","v":0},{"$f":"SUM(E99)","v":0}]
[null,null,null,"Machine Subtotal ",{"$f":"ROUND(SUM(G59:G97), 0)","v":0},{"$f":"F98","v":0}]
[null,"Discounts",null,null,null,{"$f":"SUM(F101)","v":0}]
[null,null,null,null,null,{"$f":"SUM(F103:F106)","v":0}]
[null,null,null,"Applicable Currency Adj %",null,{"$f":"IF(E102 <> \"\", 1, 0)","v":0},{"$f":"IF(F102*(E102*0.01)*E98 < 0, F102*(E102*0.01)*E98, -(F102*(E102*0.01)*E98))","v":0}]
[null,null,null,"Discount %",null,{"$f":"IF(E103 <> \"\", 1, 0)","v":0},{"$f":"IF(F103*(E103*0.01)*(E98+G102) < 0, F103*(E103*0.01)*(E98+G102), -(F103*(E103*0.01)*(E98+G102)))","v":0}]
[null,null,null,"Discount $",null,{"$f":"IF(E104 <> \"\", 1, 0)","v":0},{"$f":"IF(F104*E104 < 0, F104*E104, -(F104*E104))","v":0}]
[null,null,null,"Discount $",null,{"$f":"IF(E105 <> \"\", 1, 0)","v":0},{"$f":"IF(F105*E105 < 0, F105*E105, -(F105*E105))","v":0}]
[null,null,null,"Discount $",null,{"$f":"IF(E106 <> \"\", 1, 0)","v":0},{"$f":"IF(F106*E106 < 0, F106*E106, -(F106*E106))","v":0}]
[null,null,null,"Discount Total ",{"$f":"SUM(G102:G106)","v":0},{"$f":"SUM(E107)","v":0}]
[null,null,null,null,null,{"$f":"#REF!","v":{"$error":"#REF!"}}]
[null,null,null,null,null,{"$f":"F108","v":{"$error":"#REF!"}}]
[null,null,"Prepaid and Add","Freight",null,{"$f":"IF(E110 <> \"\", 1, 0)","v":0},{"$f":"F110*E110","v":0}]
[null,null,"Subject to all applicable taxes","Tax",null,{"$f":"IF(E111 <> \"\", 1, 0)","v":0},{"$f":"F111*E111","v":0}]
[null,null,null,null,null,{"$f":"SUM(F113)","v":0}]
[null,null,null,"MACHINE TOTAL*",null,{"$f":"SUM(G113)","v":0},{"$f":"SUM(G59:G111)","v":0},null,null,null,null,null,null,"This goes to \"My Documents\""]
[null,null,null,null,null,null,{"$f":"SUM(G113)","v":0}]
[]
[]
[]
[]
[null,null,"First Western Equipment Finance - Leasing Calculation Option:","Option 1",null,"Option 2",null,null,null,{"$f":"Financing!A38","v":"Rates 2025 - Rev 2/4/2025"}]
[null,null,null,"Monthly Payment","Cost Per Day","Monthly Payment","Cost Per Day",null,null,{"$f":"Financing!A39","v":"“Blank Payment Amounts Indicate The Financing Option Or Purchase Options Selected Are Not "}]
[null,null,"Purchase Option:","FWEF:  $1 Buyout Lease",null,"FWEF: Municipal Lease",null,null,null,{"$f":"Financing!A40","v":"Applicable Or The Machine Total Is Below The Minimum Amount For The Selected Vendor”"}]
[null,null,"24 Months",false,0,false,0,null,null,{"$f":"Financing!A41","v":"\"Quoted monthly payments are estimates only and are based on a certain level of credit rating."}]
[null,null,"30 Months",false,0,false,0,null,null,{"$f":"Financing!A42","v":"Actual monthly payments may be higher depending on your credit rating.\""}]
[null,null,"36 Months",false,0,false,0,null,null,{"$f":"Financing!A43","v":"“Financing rates do not include Pre-Paid Service”"}]
[null,null,"48 Months",0,0,0,0,null,{"$f":"Financing!A44","v":0}]
[]
[null,null,null,"Benefits of Equipment Financing:"]
[null,null,null,"• Spreads out investment over time.",null,"• Keep current with latest technology."]
[null,null,null,"• Preserve capital.",null,"• Service and parts bundling available."]
[null,null,null,"• Low monthly payment.",null,"• Pay for labor savings as you go."]
[]
[null,"   TennantTrue",null,null,0,0]
[]
[null,null,"Is customer interested in service program?","Yes","*State/County selection required for TennantTrue service options"]
[]
[null,null,"If not, why?"]
[]
[null,null,"Term:",36,null,null,"AB Brushes","No"]
[null,null,"Monthly machine usage (hrs):","< 30/mo. (Avg. 1hr./day)"]
[]
[null,null,"TennantTrue: ","Gold Contract",null,"Silver Contract"]
[null,null,"Per Visit",null,null,501]
[null,null,"Monthly",189,null,88]
[null,null,"Annually",null,null,1035]
[null,null,"Pre-Pay Full Term",6526,null,3042]
[null,null,"Hourly Labor Rate"]
[null,null,"Site Visit"]
[]
[null,null,"* Verify customer current pricing prior to quote. "]
[null,null,"**All rates and fees above reflect service for one (1) unit with the exception of Block of Time service."]
[null,null,"*Block of Time is available in 1 Year Term only and is priced as such no matter the term selection on this template."]
[]
[]
[]
[null,"Quote Special Instructions:"]
[]
[]
[null,{"$f":"Start_Here!E36","v":"Terms and Conditions"}]
[null,{"$f":"Start_Here!E37","v":"Ask your local sales rep for estimated lead times. Verify when placing order"}]
[null,{"$f":"Start_Here!E38","v":"All orders subject to acceptance by Tennant Sales and Service Company, Minneapolis, Minnesota"}]
[null,{"$f":"Start_Here!E39","v":"Prices subject to change without notice. Subject to any applicable taxes."}]
[null,{"$f":"Start_Here!E40","v":"Terms:  Net 30 days.  Payable in Canadian Funds"}]
[null,{"$f":"Start_Here!E41","v":"Freight:  Accessories, parts, supplies, detergents, and floor coatings orders delivered DDP "}]
[null,{"$f":"Start_Here!E42","v":"shipping point Frt PPD.  Machine orders delivered DDP shipping point Frt PPD and add."}]
[null,{"$f":"Start_Here!E43","v":"Returned Merchandise is subject to a restocking fee."}]
[null,{"$f":"Start_Here!E45","v":"Printed General Terms and Conditions are also available upon request."}]
[null,{"$f":"Start_Here!E46","v":0}]
[]
[null,null,null,null,"Quote Date :",null,{"$f":"Letter!$A$25","v":"2014-10-02"}]
["Order Placement Information:  To place your order, fill in PO# and customer signatures,"]
["call or fax to the numbers listed below. Customer Purchase Order is required."]
["If information is missing, orders will be entered and held until all information is received."]
[null,null,"Customer Number",null,"Cust Grp 3"]
[null,null,{"$f":"Start_Here!$C$25","v":0},null,{"$f":"Start_Here!$C$29","v":0}]
[null,null,{"$f":"Start_Here!$B$18","v":"Who Owns the Machine? (Sold-To Info) (Please Verify)"}]
["Company",null,{"$f":"Start_Here!$C$19","v":"Company Name"}]
["Address",null,{"$f":"Start_Here!$C$20","v":"Address"}]
[null,null,{"$f":"Start_Here!$C$21","v":"City, State Zip"}]
["Name",null,{"$f":"Start_Here!$C$22","v":"Contact Name"}]
["Phone",null,{"$f":"Start_Here!$C$23","v":"Contact Phone"}]
[null,null,{"$f":"Start_Here!$B$11","v":"Where is the Machine Being Shipped? (Ship-To Info) (Please Verify)"}]
["Company",null,{"$f":"Start_Here!$C$12","v":"Company Name"}]
["Address",null,{"$f":"Start_Here!$C$13","v":"Address"}]
[null,null,{"$f":"Start_Here!$C$14","v":"City, State Zip"}]
["Name",null,{"$f":"Start_Here!$C$15","v":"Contact Name"}]
["Phone",null,{"$f":"Start_Here!$C$16","v":"Contact Phone"}]
[null,null,{"$f":"Start_Here!$B$31","v":"Shipping / Carrier Instructions:"},null,"Order Special Instructions:"]
[null,null,{"$f":"Start_Here!$C$32","v":0}]
[]
[null,null,"Customer Purchase Order No."]
[null,null,"(please attach copy)"]
[]
[]
[null,null,"Tax Exempt",null,"Yes"]
[null,null,null,null,"No"]
[null,null,"If Yes, attach a copy of your exemption certificate."]
[]
[null,null,"Requested Delivery Date"]
[null,null,{"$f":"Start_Here!$C$28","v":0}]
[]
[null,null,{"$f":"Start_Here!$C$26","v":0},null,{"$f":"Start_Here!$C$27","v":0}]
[null,null,"Authorized Buyer (please print)",null,"Phone Number"]
[]
[]
[null,null,"Authorized Buyer Signature"]
[]
[null,null,{"$f":"Start_Here!$C$41","v":"Rep Name"}]
[null,null,"Tennant Representative"]
[]
["Specialized Maintenance Equipment"]
[]
[]
[]
[]
[null,"SPECIAL INFORMATION"]
[]
[null,1,"Standard Configurations are set configurations as listed and cannot be altered."]
[null,null,"However, these are partial configurations which require the selection of "]
[null,null,"Fire Extinguisher, Brushes, Operator Manuals, Service Manual, and Shipment Packaging."]
[]
[null,2,"Shipping Weights and Dimensions","Skid w/Carton"]
[]
[null,null,"Weight  (w/240AH Batteries)","2200 lbs / 998 Kg"]
[null,null,"Length","85\" / 2159 mm"]
[null,null,"Width","46\" / 1169 mm"]
[null,null,"Height","63\" / 1600 mm"]
[]
[null,12,"A French and English manual will be supplied for all units shipping into Quebec, Canada at no charge.  An additional manual"]
[null,null,"can be ordered (for a total of 3 manuals) for an additional charge as stated under 'Additional Operator Manual'."]
[]
[null,13,"Skid w/Carton, Non-Stackable is the default packaging method and will be added to the configuration unless otherwise specified."]
[null,null,"The Skid w/Carton, Non-Stackable (PN 9009900) includes the crate and all bracketry for shipping."]

{"sheet":"T16_Standard_Config","index":26,"n_rows":235,"n_cols":14,"rows_kept":235,"cut":false,"hidden":false,"merged":[[33,2,33,6],[0,2,0,3],[1,2,1,3],[2,2,2,3],[3,2,3,3],[11,2,11,6],[120,3,120,4],[120,5,120,6],[34,2,34,6],[35,2,35,6],[36,2,36,6],[37,2,37,6],[64,2,64,3],[58,2,58,3],[55,2,55,3],[52,2,52,3],[61,2,61,3],[143,3,143,4],[143,5,143,6],[144,3,144,4],[144,5,144,6],[122,3,122,4],[122,5,122,6],[135,4,135,8],[137,3,137,6],[139,3,139,4],[140,3,140,4],[142,3,142,4],[142,5,142,6],[157,1,157,6],[177,4,177,6],[179,0,179,1],[179,2,179,5],[180,0,180,1],[180,2,180,5],[189,0,189,1],[189,2,189,5],[181,2,181,5],[182,0,182,1],[182,2,182,5],[183,0,183,1],[183,2,183,5],[185,0,185,1],[185,2,185,5],[186,0,186,1],[186,2,186,5],[187,2,187,5],[188,0,188,1],[188,2,188,5],[191,4,191,6],[193,2,193,5],[194,2,194,5],[195,2,195,5],[204,4,204,5],[148,3,148,4],[148,5,148,6],[145,3,145,4],[145,5,145,6],[146,3,146,4],[146,5,146,6],[147,3,147,4],[147,5,147,6]]}
["T16_Standard_Config",null,{"$f":"Start_Here!$C19","v":"Company Name"}]
[{"$f":"SUM(G115)","v":0},null,{"$f":"Start_Here!$C20","v":"Address"}]
[null,null,{"$f":"Start_Here!$C21","v":"City, State Zip"}]
[null,null,{"$f":"Start_Here!$C22","v":"Contact Name"}]
[null,null,{"$f":"Start_Here!$C$41","v":"Rep Name"}]
[null,null,{"$f":"Start_Here!$C$37","v":"Tennant Sales and Service Company"}]
[null,null,{"$f":"Start_Here!$C$38","v":"10400 Clean Street"}]
[null,null,{"$f":"Start_Here!$C$39","v":"Eden Prairie, MN 55344"}]
[null,null,{"$f":"Start_Here!$C$43","v":"800-553-8033"},null,"Quote Date :",null,{"$f":"Letter!$A$25","v":"2014-10-02"}]
[]
[null,null,{"$f":"Help!C2","v":"CAN Date Rev - 5/6/2025"}]
[null,null,"BUILT-IN “TENNANT VALUE” INCLUDES:"]
[]
[null,null,"36V, 235 AH Battery Pack",null,"Removable Tool Caddy and Large Cargo Net Storage Area"]
[null,null,"20 Amp, 115 Volt 60 Hz Charger",null,"Standard Cylindrical or Disk Scrubbing Brushes (Select One)"]
[null,null,"Two Speed Electronic Overdrive Transmission with",null,"Hygienic Non-Corrosive Duramer™ Solution and Recovery Tanks"]
[null,null,"AC Propel Motor",null,"50 gal (190 L) Solution Tank"]
[null,null,"Disk or Cylindrcial Scrubbing - 36 in (910 mm) path",null,"60 gal (225 L) Recovery Tank"]
[null,null,"Steering Wheel Mounted, Touch-N-GO Control Module ",null,"10 gal (38 L) Demisting Chamber"]
[null,null,"     1-Step™ One-Button Scrub Operation",null,"Parabolic Rear Squeegee"]
[null,null,"     3 Down-Pressure Settings",null,"SmartRelease™ Breakaway System"]
[null,null,"     Steering Wheel Mounted Horn",null,"Linatex Squeegee Blades"]
[null,null,"     On Board Diagnostics",null,"Cast Aluminum Rear Squeegee Frame"]
[null,null,"     Water Shutoff Thumb Switch",null,"No Tool Squeegee and Brush Change"]
[null,null,"Automatic:",null,"In-Line Vacuum Fan Air Filter"]
[null,null,"     Parking Brake",null,"High Visibility Maintenance Touch Points"]
[null,null,"     Squeegee Lift",null,"Underwriters Laboratory (UL®) \"E\" Certification"]
[null,null,"     Water Shutoff",null,"Cup Holder"]
[null,null,"     Brush Shutoff When Idle",null,"Operator Manual and Video"]
[null,null,"     Brush Shutoff at 80% Battery Discharge",null,"Front and Rear Non-Marking Tires "]
[]
[]
[]
[null,null,"TENNANT COMPANY WARRANTY"]
[null,null,"36 MONTHS OR 2000 HOURS - PARTS"]
[null,null,"24 MONTHS - LABOR"]
[null,null,"6 MONTHS - TRAVEL"]
[null,null,"10 YEARS ON DURAMERTM TANKS"]
[]
[null,null,null,null,"                Quote Request Information"]
[null,null,null,null,null,null,"Fax (quote only)"]
[null,null,null,null,null,null,"Mail (quote,lit, specs)"]
[null,null,null,null,null,null,"Fax + Mail"]
[]
[null,null,null,null,"                Primary Use"]
[null,null,null,null,null,null,"Inside"]
[null,null,null,null,null,null,"Outside"]
[]
[null,null,"Description","Reference #","Price Each","Qty","Extended Price"]
[null,"Standard Configurations  (Note 1)",null,null,null,{"$f":"SUM(F52:F58)","v":0}]
[]
[null,null,"T16 Rider - Disk Scrubber, Conventional Cleaning Technology, Wet 360AH C/20, Manual Battery Watering System, On-Board 20A 85-130V AC 50/60Hz 1Ph Charger, UL® Type E, Standard Seat","T16-1000D",56693,null,{"$f":"F52*E52","v":0}]
[null,null,"Choice of HD Front Bumper, Overhead Guard, Fire Extinguisher, Brushes, Operator Manual, Service Manual, and Shipment Packaging available.",null,null,{"$f":"SUM(F52)","v":0}]
[]
[null,null,"T16 Rider - Cylindrical Scrubber, Conventional Cleaning Technology, Wet 240AH C/20 Battery, Off-Board 21A 85-265V AC 50/60Hz 1Ph Charger, UL® Type E, Standard Seat","T16-1001C",52691,null,{"$f":"F55*E55","v":0}]
[null,null,"Choice of HD Front Bumper, Overhead Guard, Fire Extinguisher, Brushes, Operator Manual, Service Manual, and Shipment Packaging available.",null,null,{"$f":"SUM(F55)","v":0}]
[]
[null,null,"T16 Rider - Cylindrical Scrubber,  ec-H20 ®Cleaning Technology, Wet 360AH C/20 Battery, Off-Board 21A 85-265V AC 50/60Hz 1Ph Charger, UL® Type E, Safety Light Package, Spray Nozzle with Hose, Heavy Duty Squeegee Protection, Deluxe Seat w/Armrests","T16-2000C",65623,null,{"$f":"F58*E58","v":0}]
[null,null,"Choice of HD Front Bumper, Overhead Guard, Fire Extinguisher, Brushes, Operator Manual, Service Manual, and Shipment Packaging available.",null,null,{"$f":"SUM(F58)","v":0}]
[]
[null,null,"T16 Rider - Cylindrical Scrubber, Conventional Cleaning Technology, Wet 360AH C/20 Battery, Manual Battery Watering, On-Board 20A 85-130V AC 50/60Hz 1ph Charger, UL® Type E, Safety Light Package (LED Headlight and AV BU Alarm), Productivity Package (Scrubbing Side Brush, Spray Nozzle with Hose and Vacuum Wand), Heavy Duty Squeegee Protection","T16-2003C",67155,null,{"$f":"F61*E61","v":0}]
[null,null,"Choice of HD Front Bumper, Overhead Guard, Fire Extinguisher, Brushes, Operator Manual, Service Manual, and Shipment Packaging available.",null,null,{"$f":"SUM(F61)","v":0}]
[]
[null,null,"T16 Rider - Cylindrical Scrubber, ec-H20 ®Cleaning Technology, Wet 360AH C/20 Battery, On-Board 20A 85-130V AC 50/60Hz 1ph Charger, UL® Type E, Safety Light Package, Scrubbing Side Brush, Spray Nozzle with Hose, Heavy Duty Squeegee Protection, Deluxe Seat w/Armrest","T16-3000C",73456,null,{"$f":"F64*E64","v":0}]
[null,null,"Choice of HD Front Bumper, Overhead Guard, Fire Extinguisher, Brushes, Operator Manual, Service Manual, and Shipment Packaging available.",null,null,{"$f":"SUM(F64)","v":0}]
[]
[null,"Machine Protection & Safety",null,null,null,{"$f":"SUM(F68:F70)","v":0}]
[null,null,"Heavy Duty Front Bumper",9009856,1411,null,{"$f":"F68*E68","v":0}]
[null,null,"Overhead Guard (order Heavy Duty Front Bumper also) (Note 22)",9008018,3052,null,0]
[null,null,"Fire Extinguisher",9008079,513,null,0]
[]
[null,"Brushes and Pads",null,"Reference Number","Price",{"$f":"SUM(F73,F79,F83)","v":0},null,{"$f":"IFERROR(IFERROR(VLOOKUP(D72,Surcharge!A:B,2,FALSE)*F72, VLOOKUP(D72 & \"\",Surcharge!A:B,2,FALSE)*F72), \"\")","v":""}]
[null,null,"Disk Scrubbing Brushes/Pads (2 Required)",null," ",{"$f":"SUM(F74:F77)","v":0},null,{"$f":"IFERROR(IFERROR(VLOOKUP(D73,Surcharge!A:B,2,FALSE)*F73, VLOOKUP(D73 & \"\",Surcharge!A:B,2,FALSE)*F73), \"\")","v":""}]
[null,null,"Polypropylene Brush",1220188,"N/C",null,{"$f":"IF(F74=0,\" \",\"N/C\")","v":" "},{"$f":"IFERROR(IFERROR(VLOOKUP(D74,Surcharge!A:B,2,FALSE)*F74, VLOOKUP(D74 & \"\",Surcharge!A:B,2,FALSE)*F74), \"\")","v":""}]
[null,null,"Super Abrasive Brush",1220190,295,null,{"$f":"F75*E75","v":0},{"$f":"IFERROR(IFERROR(VLOOKUP(D75,Surcharge!A:B,2,FALSE)*F75, VLOOKUP(D75 & \"\",Surcharge!A:B,2,FALSE)*F75), \"\")","v":""}]
[null,null,null,null," ",null,null,{"$f":"IFERROR(IFERROR(VLOOKUP(D76,Surcharge!A:B,2,FALSE)*F76, VLOOKUP(D76 & \"\",Surcharge!A:B,2,FALSE)*F76), \"\")","v":""}]
[null,null,"Pad Driver",1220200,"N/C",null,{"$f":"IF(F77=0,\" \",\"N/C\")","v":" "},{"$f":"IFERROR(IFERROR(VLOOKUP(D77,Surcharge!A:B,2,FALSE)*F77, VLOOKUP(D77 & \"\",Surcharge!A:B,2,FALSE)*F77), \"\")","v":""}]
[null,null,null,null," ",null,null,{"$f":"IFERROR(IFERROR(VLOOKUP(D78,Surcharge!A:B,2,FALSE)*F78, VLOOKUP(D78 & \"\",Surcharge!A:B,2,FALSE)*F78), \"\")","v":""}]
[null,null,"Cylindrical Scrubbing Brushes (2 Required)",null," ",{"$f":"SUM(F80:F81)","v":0},null,{"$f":"IFERROR(IFERROR(VLOOKUP(D79,Surcharge!A:B,2,FALSE)*F79, VLOOKUP(D79 & \"\",Surcharge!A:B,2,FALSE)*F79), \"\")","v":""}]
[null,null,"Polypropylene Brush",1053893,"N/C",null,{"$f":"IF(F80=0,\" \",\"N/C\")","v":" "},{"$f":"IFERROR(IFERROR(VLOOKUP(D80,Surcharge!A:B,2,FALSE)*F80, VLOOKUP(D80 & \"\",Surcharge!A:B,2,FALSE)*F80), \"\")","v":""}]
[null,null,"Super Abrasive Brush",1062578,295,null,{"$f":"F81*E81","v":0},{"$f":"IFERROR(IFERROR(VLOOKUP(D81,Surcharge!A:B,2,FALSE)*F81, VLOOKUP(D81 & \"\",Surcharge!A:B,2,FALSE)*F81), \"\")","v":""}]
[null,null,null,null," ",null,null,{"$f":"IFERROR(IFERROR(VLOOKUP(D82,Surcharge!A:B,2,FALSE)*F82, VLOOKUP(D82 & \"\",Surcharge!A:B,2,FALSE)*F82), \"\")","v":""}]
[null,null,"Disk Scrubbing Brush/Pad and Sweeping Brush for Side Brush Option (1 Required)",null," ",{"$f":"SUM(F84:F87)","v":0},null,{"$f":"IFERROR(IFERROR(VLOOKUP(D83,Surcharge!A:B,2,FALSE)*F83, VLOOKUP(D83 & \"\",Surcharge!A:B,2,FALSE)*F83), \"\")","v":""}]
[null,null,"Polypropylene Scrubbing Brush",1220240,"N/C",null,{"$f":"IF(F84=0,\" \",\"N/C\")","v":" "},{"$f":"IFERROR(IFERROR(VLOOKUP(D84,Surcharge!A:B,2,FALSE)*F84, VLOOKUP(D84 & \"\",Surcharge!A:B,2,FALSE)*F84), \"\")","v":""}]
[null,null,"Super Abrasive Brush",1220232,295,null,{"$f":"F85*E85","v":0},{"$f":"IFERROR(IFERROR(VLOOKUP(D85,Surcharge!A:B,2,FALSE)*F85, VLOOKUP(D85 & \"\",Surcharge!A:B,2,FALSE)*F85), \"\")","v":""}]
[null,null,null,null," ",null,null,{"$f":"IFERROR(IFERROR(VLOOKUP(D86,Surcharge!A:B,2,FALSE)*F86, VLOOKUP(D86 & \"\",Surcharge!A:B,2,FALSE)*F86), \"\")","v":""}]
[null,null,"Pad Driver",1220243,"N/C",null,{"$f":"IF(F87=0,\" \",\"N/C\")","v":" "},{"$f":"IFERROR(IFERROR(VLOOKUP(D87,Surcharge!A:B,2,FALSE)*F87, VLOOKUP(D87 & \"\",Surcharge!A:B,2,FALSE)*F87), \"\")","v":""}]
[null,null,null,null,null,null,null,{"$f":"IFERROR(IFERROR(VLOOKUP(D88,Surcharge!A:B,2,FALSE)*F88, VLOOKUP(D88 & \"\",Surcharge!A:B,2,FALSE)*F88), \"\")","v":""}]
[null,"Support (Note 21)",null,"Reference Number","Price",{"$f":"SUM(F90:F95)","v":0},null,{"$f":"IFERROR(IFERROR(VLOOKUP(D89,Surcharge!A:B,2,FALSE)*F89, VLOOKUP(D89 & \"\",Surcharge!A:B,2,FALSE)*F89), \"\")","v":""}]
[null,null,"Operator Manual (English)",9008142,"N/C",null,{"$f":"IF(F90=0,\" \",\"N/C\")","v":" "},{"$f":"IFERROR(IFERROR(VLOOKUP(D90,Surcharge!A:B,2,FALSE)*F90, VLOOKUP(D90 & \"\",Surcharge!A:B,2,FALSE)*F90), \"\")","v":""}]
[null,null,"Operator Manual (Spanish)",9008143,"N/C",null,{"$f":"IF(F91=0,\" \",\"N/C\")","v":" "},{"$f":"IFERROR(IFERROR(VLOOKUP(D91,Surcharge!A:B,2,FALSE)*F91, VLOOKUP(D91 & \"\",Surcharge!A:B,2,FALSE)*F91), \"\")","v":""}]
[null,null,"Operator Manual (French)  (Note 22)",9008144,"N/C",null,{"$f":"IF(F92=0,\" \",\"N/C\")","v":" "},{"$f":"IFERROR(IFERROR(VLOOKUP(D92,Surcharge!A:B,2,FALSE)*F92, VLOOKUP(D92 & \"\",Surcharge!A:B,2,FALSE)*F92), \"\")","v":""}]
[null,null,"Service Manual",9008149,368,null,{"$f":"F93*E93","v":0}]
[null,null,null,null," ",null,null,{"$f":"IFERROR(IFERROR(VLOOKUP(D94,Surcharge!A:B,2,FALSE)*F94, VLOOKUP(D94 & \"\",Surcharge!A:B,2,FALSE)*F94), \"\")","v":""}]
[null,null,"Packaging",null,null,{"$f":"SUM(F96:F97)","v":0},null,{"$f":"IFERROR(IFERROR(VLOOKUP(D95,Surcharge!A:B,2,FALSE)*F95, VLOOKUP(D95 & \"\",Surcharge!A:B,2,FALSE)*F95), \"\")","v":""}]
[null,null,"Crate - Non-Pre-Sweep ",9008063,"N/C",null,{"$f":"IF(F96=0,\" \",\"N/C\")","v":" "},{"$f":"IFERROR(IFERROR(VLOOKUP(D96,Surcharge!A:B,2,FALSE)*F96, VLOOKUP(D96 & \"\",Surcharge!A:B,2,FALSE)*F96), \"\")","v":""}]
[null,null,"Crate - Pre-Sweep",9008056,"N/C",null,{"$f":"IF(F97=0,\" \",\"N/C\")","v":" "},{"$f":"IFERROR(IFERROR(VLOOKUP(D97,Surcharge!A:B,2,FALSE)*F97, VLOOKUP(D97 & \"\",Surcharge!A:B,2,FALSE)*F97), \"\")","v":""}]
[]
[]
[null,null,null,null,{"$f":"ROUND(SUM(G52:G99), 0)","v":0},{"$f":"SUM(E101)","v":0}]
[null,null,null,"Machine Subtotal ",{"$f":"ROUND(SUM(G52:G99), 0)","v":0},{"$f":"F100","v":0}]
[null,"Discounts",null,null,null,{"$f":"SUM(F103)","v":0}]
[null,null,null,null,null,{"$f":"SUM(F105:F108)","v":0}]
[null,null,null,"Applicable Currency Adj %",null,{"$f":"IF(E104 <> \"\", 1, 0)","v":0},{"$f":"IF(F104*(E104*0.01)*E100 < 0, F104*(E104*0.01)*E100, -(F104*(E104*0.01)*E100))","v":0}]
[null,null,null,"Discount %",null,{"$f":"IF(E105 <> \"\", 1, 0)","v":0},{"$f":"IF(F105*(E105*0.01)*(E100+G104) < 0, F105*(E105*0.01)*(E100+G104), -(F105*(E105*0.01)*(E100+G104)))","v":0}]
[null,null,null,"Discount $",null,{"$f":"IF(E106 <> \"\", 1, 0)","v":0},{"$f":"IF(F106*E106 < 0, F106*E106, -(F106*E106))","v":0}]
[null,null,null,"Discount $",null,{"$f":"IF(E107 <> \"\", 1, 0)","v":0},{"$f":"IF(F107*E107 < 0, F107*E107, -(F107*E107))","v":0}]
[null,null,null,"Discount $",null,{"$f":"IF(E108 <> \"\", 1, 0)","v":0},{"$f":"IF(F108*E108 < 0, F108*E108, -(F108*E108))","v":0}]
[null,null,null,"Discount Total ",{"$f":"SUM(G104:G108)","v":0},{"$f":"SUM(E109)","v":0}]
[null,null,null,null,null,{"$f":"#REF!","v":{"$error":"#REF!"}}]
[null,null,null,null,null,{"$f":"F110","v":{"$error":"#REF!"}}]
[null,null,"Prepaid and Add","Freight",null,{"$f":"IF(E112 <> \"\", 1, 0)","v":0},{"$f":"F112*E112","v":0}]
[null,null,"Subject to all applicable taxes","Tax",null,{"$f":"IF(E113 <> \"\", 1, 0)","v":0},{"$f":"F113*E113","v":0}]
[null,null,null,null,null,{"$f":"SUM(F115)","v":0}]
[null,null,null,"MACHINE TOTAL*",null,{"$f":"SUM(G115)","v":0},{"$f":"SUM(G52:G113)","v":0},null,null,null,null,null,null,"This goes to \"My Documents\""]
[null,null,null,null,null,null,{"$f":"SUM(G115)","v":0}]
[]
[]
[]
[]
[null,null,"First Western Equipment Finance - Leasing Calculation Option:","Option 1",null,"Option 2",null,null,null,{"$f":"Financing!A38","v":"Rates 2025 - Rev 2/4/2025"}]
[null,null,null,"Monthly Payment","Cost Per Day","Monthly Payment","Cost Per Day",null,null,{"$f":"Financing!A39","v":"“Blank Payment Amounts Indicate The Financing Option Or Purchase Options Selected Are Not "}]
[null,null,"Purchase Option:","FWEF:  $1 Buyout Lease",null,"FWEF: Municipal Lease",null,null,null,{"$f":"Financing!A40","v":"Applicable Or The Machine Total Is Below The Minimum Amount For The Selected Vendor”"}]
[null,null,"24 Months",false,0,false,0,null,null,{"$f":"Financing!A41","v":"\"Quoted monthly payments are estimates only and are based on a certain level of credit rating."}]
[null,null,"30 Months",false,0,false,0,null,null,{"$f":"Financing!A42","v":"Actual monthly payments may be higher depending on your credit rating.\""}]
[null,null,"36 Months",false,0,false,0,null,null,{"$f":"Financing!A43","v":"“Financing rates do not include Pre-Paid Service”"}]
[null,null,"48 Months",0,0,0,0,null,{"$f":"Financing!A44","v":0}]
[]
[null,null,null,"Benefits of Equipment Financing:"]
[null,null,null,"• Spreads out investment over time.",null,"• Keep current with latest technology."]
[null,null,null,"• Preserve capital.",null,"• Service and parts bundling available."]
[null,null,null,"• Low monthly payment.",null,"• Pay for labor savings as you go."]
[]
[null,"   TennantTrue",null,null,0,0]
[]
[null,null,"Is customer interested in service program?","Yes","*State/County selection required for TennantTrue service options"]
[]
[null,null,"If not, why?"]
[]
[null,null,"Term:",36,null,null,"AB Brushes","No"]
[null,null,"Monthly machine usage (hrs):","< 30/mo. (Avg. 1hr./day)"]
[]
[null,null,"TennantTrue: ","Gold Contract",null,"Silver Contract"]
[null,null,"Per Visit",null,null,611]
[null,null,"Monthly",231,null,127]
[null,null,"Annually",null,null,1490]
[null,null,"Pre-Pay Full Term",7977,null,4379]
[null,null,"Hourly Labor Rate"]
[null,null,"Site Visit"]
[]
[null,null,"* Verify customer current pricing prior to quote. "]
[null,null,"**All rates and fees above reflect service for one (1) unit with the exception of Block of Time service."]
[null,null,"*Block of Time is available in 1 Year Term only and is priced as such no matter the term selection on this template."]
[]
[]
[]
[null,"Quote Special Instructions:"]
[]
[]
[null,{"$f":"Start_Here!E36","v":"Terms and Conditions"}]
[null,{"$f":"Start_Here!E37","v":"Ask your local sales rep for estimated lead times. Verify when placing order"}]
[null,{"$f":"Start_Here!E38","v":"All orders subject to acceptance by Tennant Sales and Service Company, Minneapolis, Minnesota"}]
[null,{"$f":"Start_Here!E39","v":"Prices subject to change without notice. Subject to any applicable taxes."}]
[null,{"$f":"Start_Here!E40","v":"Terms:  Net 30 days.  Payable in Canadian Funds"}]
[null,{"$f":"Start_Here!E41","v":"Freight:  Accessories, parts, supplies, detergents, and floor coatings orders delivered DDP "}]
[null,{"$f":"Start_Here!E42","v":"shipping point Frt PPD.  Machine orders delivered DDP shipping point Frt PPD and add."}]
[null,{"$f":"Start_Here!E43","v":"Returned Merchandise is subject to a restocking fee."}]
[null,{"$f":"Start_Here!E45","v":"Printed General Terms and Conditions are also available upon request."}]
[null,{"$f":"Start_Here!E46","v":0}]
[]
[]
[]
[null,null,null,null,"Quote Date :",null,{"$f":"Letter!$A$25","v":"2014-10-02"}]
["Order Placement Information:  To place your order, fill in PO# and customer signatures,"]
["call or fax to the numbers listed below. Customer Purchase Order is required."]
["If information is missing, orders will be entered and held until all information is received."]
[null,null,"Customer Number",null,"Cust Grp 3"]
[null,null,{"$f":"Start_Here!$C$25","v":0},null,{"$f":"Start_Here!$C$29","v":0}]
[null,null,{"$f":"Start_Here!$B$18","v":"Who Owns the Machine? (Sold-To Info) (Please Verify)"}]
["Company",null,{"$f":"Start_Here!$C$19","v":"Company Name"}]
["Address",null,{"$f":"Start_Here!$C$20","v":"Address"}]
[null,null,{"$f":"Start_Here!$C$21","v":"City, State Zip"}]
["Name",null,{"$f":"Start_Here!$C$22","v":"Contact Name"}]
["Phone",null,{"$f":"Start_Here!$C$23","v":"Contact Phone"}]
[null,null,{"$f":"Start_Here!$B$11","v":"Where is the Machine Being Shipped? (Ship-To Info) (Please Verify)"}]
["Company",null,{"$f":"Start_Here!$C$12","v":"Company Name"}]
["Address",null,{"$f":"Start_Here!$C$13","v":"Address"}]
[null,null,{"$f":"Start_Here!$C$14","v":"City, State Zip"}]
["Name",null,{"$f":"Start_Here!$C$15","v":"Contact Name"}]
["Phone",null,{"$f":"Start_Here!$C$16","v":"Contact Phone"}]
[null,null,{"$f":"Start_Here!$B$31","v":"Shipping / Carrier Instructions:"},null,"Order Special Instructions:"]
[null,null,{"$f":"Start_Here!$C$32","v":0}]
[]
[null,null,"Customer Purchase Order No."]
[null,null,"(please attach copy)"]
[]
[]
[null,null,"Tax Exempt",null,"Yes"]
[null,null,null,null,"No"]
[null,null,"If Yes, attach a copy of your exemption certificate."]
[]
[null,null,"Requested Delivery Date"]
[null,null,{"$f":"Start_Here!$C$28","v":0}]
[]
[null,null,{"$f":"Start_Here!$C$26","v":0},null,{"$f":"Start_Here!$C$27","v":0}]
[null,null,"Authorized Buyer (please print)",null,"Phone Number"]
[]
[]
[null,null,"Authorized Buyer Signature"]
[]
[null,null,{"$f":"Start_Here!$C$41","v":"Rep Name"}]
[null,null,"Tennant Representative"]
[]
["Specialized Maintenance Equipment"]
[{"$f":"Start_Here!$C$48","v":"TENNANT · 10400 Clean Street · Eden Prairie, MN 55344 ·"}]
[{"$f":"Start_Here!$C$49","v":" PHONE:800-553-8033 · FAX:763-513-2116"}]
[]
[]
[null,"SPECIAL INFORMATION"]
[null,1,"Standard Configurations are set configurations as listed and cannot be altered."]
[null,null,"However, these are partial configurations which require the selection of Heavy Duty Front Bumper, Overhead Guard,"]
[null,null,"Fire Extinguisher, Brushes, Operator Manuals, Service Manual, and Shipment Packaging."]
[]
[null,2,"Shipping Weight and Dimensions","Crate"]
[]
[null,null,"Weight (w/240AH Battery)","2100 lbs / 953 Kg"]
[null,null,"Length","90\" / 2,286 mm"]
[null,null,"Width","55\" / 1,397mm"]
[null,null,"Height","66\" / 1,677 mm"]
[]
[]
[null,21,"Additional hard copy Operator and Parts Manuals can be ordered or digital copies can be downloaded from www.Tennantco.com."]
[]
[null,22,"A French and English manual will be supplied for all units shipping into Quebec, Canada at no charge.  An additional manual"]
[null,null,"can be ordered (for a total of 3 manuals) for an additional charge as stated under 'Additional Operator Manual'."]

{"sheet":"T2","index":27,"n_rows":212,"n_cols":17,"rows_kept":212,"cut":false,"hidden":false,"merged":[[171,4,171,6],[173,2,173,5],[174,2,174,5],[175,2,175,5],[184,4,184,5],[169,0,169,1],[169,2,169,5],[161,2,161,5],[162,0,162,1],[162,2,162,5],[163,0,163,1],[163,2,163,5],[165,0,165,1],[165,2,165,5],[166,0,166,1],[166,2,166,5],[167,2,167,5],[168,0,168,1],[168,2,168,5],[138,2,138,6],[157,4,157,6],[159,0,159,1],[159,2,159,5],[160,0,160,1],[160,2,160,5],[121,3,121,4],[116,4,116,8],[118,3,118,6],[120,3,120,4],[104,3,104,4],[104,5,104,6],[0,2,0,3],[1,2,1,3],[2,2,2,3],[3,2,3,3],[11,2,11,6],[29,2,29,6],[30,2,30,6],[31,2,31,6],[102,3,102,4],[102,5,102,6],[123,3,123,4],[123,5,123,6],[124,3,124,4],[124,5,124,6],[125,3,125,4],[125,5,125,6],[129,3,129,4],[129,5,129,6],[126,3,126,4],[126,5,126,6],[127,3,127,4],[127,5,127,6],[128,3,128,4],[128,5,128,6]]}
["T2",null,{"$f":"Start_Here!$C19","v":"Company Name"}]
[{"$f":"SUM(G97)","v":0},null,{"$f":"Start_Here!$C20","v":"Address"}]
[null,null,{"$f":"Start_Here!$C21","v":"City, State Zip"}]
[null,null,{"$f":"Start_Here!$C22","v":"Contact Name"}]
[null,null,{"$f":"Start_Here!$C$41","v":"Rep Name"}]
[null,null,{"$f":"Start_Here!$C$37","v":"Tennant Sales and Service Company"}]
[null,null,{"$f":"Start_Here!$C$38","v":"10400 Clean Street"}]
[null,null,{"$f":"Start_Here!$C$39","v":"Eden Prairie, MN 55344"}]
[null,null,{"$f":"Start_Here!$C$43","v":"800-553-8033"},null,"Quote Date :",null,{"$f":"Letter!$A$25","v":"2014-10-02"}]
[]
[null,null,{"$f":"Help!C2","v":"CAN Date Rev - 5/6/2025"}]
[null,null,"BUILT-IN “TENNANT VALUE” INCLUDES:"]
[]
[null,null,"26 l/6.9 gal Solution Tank  & 36 l/9.5 gal Recovery Tank",null,"Standard (2) 12V 105 AH Batteries "]
[null,null,"Rugged DuramerTM Tank Construction",null,"Battery Tray"]
[null,null,"Hygienic Recovery Tank",null,"On-board Charger"]
[null,null,"10 l/2.6 gal Demisting Chamber to Protect Vac Fan ",null,"Recovery Tank Debris Tray"]
[null,null,"Adjustable Solution Flow",null,"Unsurpassed Ergonomic Design"]
[null,null,"Extremely Low Noise Level  (≤68 dBa)",null,"Adjustable Console Height"]
[null,null,"Pad Assist - less than 2 kg/4.5 lbs of push force requried",null,"Trigger Design"]
[null,null,".75 kW/1 HP brush motor, 230 RPM",null,"Front Bucket Fill Port"]
[null,null,"Cast Aluminum Scrub Deck",null,"On-board Pad Driver Hang"]
[null,null,"Cast Aluminum Squeegee Frame",null,"Gray Solid Urethane Tires"]
[null,null,"Breakaway Squeegee Design",null,"Automotive Triple-Sealed Electrical Connectors"]
[null,null,"Factory Set Squeegee Assembly for Maximium Recovery",null,"10cm /4\" Edge & Reach Under Cleaning"]
[null,null,"100% Recovery in 180º Point Turns",null,"Key Switch for Safety"]
[null,null,"Urethane Squeegee Blades",null,"No Tool Brush / Squegee Change"]
[null,null,"Squegee Hang",null,"Includes Pad Driver"]
[]
[null,null,"TENNANT COMPANY WARRANTY"]
[null,null,"3 YEARS OR 2500 HOURS ON ALL COMPONENTS, 3 YEARS LABOR"]
[null,null,"90 DAYS TRAVEL, 10 YEARS ON DURAMERTM TANKS"]
[]
[]
[]
[null,null,null,null,"                Quote Request Information"]
[null,null,null,null,null,null,"Fax (quote only)"]
[null,null,null,null,null,null,"Mail (quote,lit, specs)"]
[null,null,null,null,null,null,"Fax + Mail"]
[]
[]
[null,null,"Description","Reference No.","Canada Price","Qty.","Extended Price"]
[null,"Base Configuration",null,"Reference Number","Price",{"$f":"SUM(F44,F47,F52)","v":0},null,{"$f":"IFERROR(IFERROR(VLOOKUP(D43,Surcharge!A:B,2,FALSE)*F43, VLOOKUP(D43 & \"\",Surcharge!A:B,2,FALSE)*F43), \"\")","v":""},null,null,null,{"$f":"SUM(F43)","v":0},"Surcharge Qty"]
[null,null,"Cleaning Type",null,null,{"$f":"SUM(F45)","v":0},null,{"$f":"IFERROR(IFERROR(VLOOKUP(D44,Surcharge!A:B,2,FALSE)*F44, VLOOKUP(D44 & \"\",Surcharge!A:B,2,FALSE)*F44), \"\")","v":""},null,null,null,0,"Surcharge Qty"]
[null,null,"T2 Walk-Behind Scrubber  430 mm/17\" - Disk","T2-430-D",12345,null,{"$f":"F45*E45","v":0},{"$f":"IFERROR(IFERROR(VLOOKUP(D45,Surcharge!A:B,2,FALSE)*F45, VLOOKUP(D45 & \"\",Surcharge!A:B,2,FALSE)*F45), \"\")","v":""},null,null,null,0,"Surcharge Qty",null,null,null,"M-T2VK_BASE_T2-430-D"]
[null,null,null,null,null,null,null,{"$f":"IFERROR(IFERROR(VLOOKUP(D46,Surcharge!A:B,2,FALSE)*F46, VLOOKUP(D46 & \"\",Surcharge!A:B,2,FALSE)*F46), \"\")","v":""},null,null,null,{"$f":"SUM(F46)","v":0},"Surcharge Qty"]
[null,null,"Battery Type",null,null,{"$f":"SUM(F48:F50)","v":0},null,{"$f":"IFERROR(IFERROR(VLOOKUP(D47,Surcharge!A:B,2,FALSE)*F47, VLOOKUP(D47 & \"\",Surcharge!A:B,2,FALSE)*F47), \"\")","v":""},null,null,null,{"$f":"SUM(F47)","v":0},"Surcharge Qty"]
[null,null,"Wet 105AH C/20  (Kit of 2 batteries)",1030291,"N/C",null,{"$f":"IF(F48=0,\" \",\"N/C\")","v":" "},{"$f":"IFERROR(IFERROR(VLOOKUP(D48,Surcharge!A:B,2,FALSE)*F48, VLOOKUP(D48 & \"\",Surcharge!A:B,2,FALSE)*F48), \"\")","v":""},null,null,null,{"$f":"SUM(F48)","v":0},"Surcharge Qty",null,null,null,"M-T2VK_BTY_W105C20"]
[null,null,"Sealed/MF Gel 102AH C/20  (Kit of 2 batteries)",1071125,522,null,{"$f":"F49*E49","v":0},{"$f":"IFERROR(IFERROR(VLOOKUP(D49,Surcharge!A:B,2,FALSE)*F49, VLOOKUP(D49 & \"\",Surcharge!A:B,2,FALSE)*F49), \"\")","v":0},null,null,null,0,"Surcharge Qty",null,null,null,"M-T2VK_BTY_G102C20"]
[null,null,"Without Battery",null,-630,null,{"$f":"F50*E50","v":0},{"$f":"IFERROR(IFERROR(VLOOKUP(D50,Surcharge!A:B,2,FALSE)*F50, VLOOKUP(D50 & \"\",Surcharge!A:B,2,FALSE)*F50), \"\")","v":""},null,null,null,0,"Surcharge Qty",null,null,null,"M-T2VK_BTY_WO"]
[null,null,null,null,null,null,null,{"$f":"IFERROR(IFERROR(VLOOKUP(D51,Surcharge!A:B,2,FALSE)*F51, VLOOKUP(D51 & \"\",Surcharge!A:B,2,FALSE)*F51), \"\")","v":""},null,null,null,0,"Surcharge Qty"]
[null,null,"Charger",null,null,{"$f":"SUM(F53:F53)","v":0},null,{"$f":"IFERROR(IFERROR(VLOOKUP(D52,Surcharge!A:B,2,FALSE)*F52, VLOOKUP(D52 & \"\",Surcharge!A:B,2,FALSE)*F52), \"\")","v":""}]
[null,null,"9A 100-240V AC 50/60Hz 1 Ph - on board",1066718,"N/C",null,{"$f":"IF(F53=0,\" \",\"N/C\")","v":" "},{"$f":"IFERROR(IFERROR(VLOOKUP(D53,Surcharge!A:B,2,FALSE)*F53, VLOOKUP(D53 & \"\",Surcharge!A:B,2,FALSE)*F53), \"\")","v":""},null,null,null,null,null,null,null,null,"M-T2VK_CHG_9A100V5060H1P"]
[null,null,null,null,null,null,null,{"$f":"IFERROR(IFERROR(VLOOKUP(D54,Surcharge!A:B,2,FALSE)*F54, VLOOKUP(D54 & \"\",Surcharge!A:B,2,FALSE)*F54), \"\")","v":""}]
[null,"Pad Driver and Pads (Note 2)",null,"Reference Number",null,{"$f":"SUM(F56:F57)","v":0},null,{"$f":"IFERROR(IFERROR(VLOOKUP(D55,Surcharge!A:B,2,FALSE)*F55, VLOOKUP(D55 & \"\",Surcharge!A:B,2,FALSE)*F55), \"\")","v":""}]
[null,null,"Polypropylene",1016765,null,null,{"$f":"F56*E56","v":0},{"$f":"IFERROR(IFERROR(VLOOKUP(D56,Surcharge!A:B,2,FALSE)*F56, VLOOKUP(D56 & \"\",Surcharge!A:B,2,FALSE)*F56), \"\")","v":""}]
[null,null,"Nylon  ",1016764,346,null,0,{"$f":"IFERROR(IFERROR(VLOOKUP(D57,Surcharge!A:B,2,FALSE)*F57, VLOOKUP(D57 & \"\",Surcharge!A:B,2,FALSE)*F57), \"\")","v":""},null,null,null,null,null,null,null,null,"M-T2VK_CLNTOL_PYP"]
[null,null,null,null,425,null,null,{"$f":"IFERROR(IFERROR(VLOOKUP(D58,Surcharge!A:B,2,FALSE)*F58, VLOOKUP(D58 & \"\",Surcharge!A:B,2,FALSE)*F58), \"\")","v":""},null,null,null,null,null,null,null,null,"M-T2VK_CLNTOL_NYL"]
[null,null,"430mm/17\" Disk Pad Driver/Pads (1 Required)",null,null,{"$f":"SUM(F60:F64)","v":0},null,{"$f":"IFERROR(IFERROR(VLOOKUP(D59,Surcharge!A:B,2,FALSE)*F59, VLOOKUP(D59 & \"\",Surcharge!A:B,2,FALSE)*F59), \"\")","v":""}]
[null,null,"Pad Driver",1016813,"N/C",null,{"$f":"IF(F60=0,\" \",\"N/C\")","v":" "},{"$f":"IFERROR(IFERROR(VLOOKUP(D60,Surcharge!A:B,2,FALSE)*F60, VLOOKUP(D60 & \"\",Surcharge!A:B,2,FALSE)*F60), \"\")","v":""},null,null,null,null,null,null,null,null,"M-T2VK_CLNTOL_PAD"]
[null,null,"Pads ",null,null,{"$f":"SUM(F62:F64)","v":0},null,{"$f":"IFERROR(IFERROR(VLOOKUP(D61,Surcharge!A:B,2,FALSE)*F61, VLOOKUP(D61 & \"\",Surcharge!A:B,2,FALSE)*F61), \"\")","v":""}]
[null,null,"Blue Scrubbing - 3M",1050270,31.1,null,{"$f":"F62*E62","v":0},{"$f":"IFERROR(IFERROR(VLOOKUP(D62,Surcharge!A:B,2,FALSE)*F62, VLOOKUP(D62 & \"\",Surcharge!A:B,2,FALSE)*F62), \"\")","v":""},null,null,null,null,null,null,null,null,"M-T2VK_PADTYP_BLU3"]
[null,null,"Red Cleaning - 3M",1050271,31.1,null,0,{"$f":"IFERROR(IFERROR(VLOOKUP(D63,Surcharge!A:B,2,FALSE)*F63, VLOOKUP(D63 & \"\",Surcharge!A:B,2,FALSE)*F63), \"\")","v":""},null,null,null,null,null,null,null,null,"M-T2VK_PADTYP_RED3"]
[null,null,"White Polishing - 3M",1050273,31.1,null,0,{"$f":"IFERROR(IFERROR(VLOOKUP(D64,Surcharge!A:B,2,FALSE)*F64, VLOOKUP(D64 & \"\",Surcharge!A:B,2,FALSE)*F64), \"\")","v":""},null,null,null,null,null,null,null,null,"M-T2VK_PADTYP_WHT3"]
[null,null,null,null,null,null,null,{"$f":"IFERROR(IFERROR(VLOOKUP(D65,Surcharge!A:B,2,FALSE)*F65, VLOOKUP(D65 & \"\",Surcharge!A:B,2,FALSE)*F65), \"\")","v":""},null,null,null,null,null,null,null,null,""]
[null,"Support",null,null,null,{"$f":"SUM(F67:F71)","v":0},null,{"$f":"IFERROR(IFERROR(VLOOKUP(D66,Surcharge!A:B,2,FALSE)*F66, VLOOKUP(D66 & \"\",Surcharge!A:B,2,FALSE)*F66), \"\")","v":""},null,null,null,null,null,null,null,null,""]
[null,null,"T2 Operator Manual (English/Spanish/French)",9008844,"N/C",null,{"$f":"IF(F67=0,\" \",\"N/C\")","v":" "},{"$f":"IFERROR(IFERROR(VLOOKUP(D67,Surcharge!A:B,2,FALSE)*F67, VLOOKUP(D67 & \"\",Surcharge!A:B,2,FALSE)*F67), \"\")","v":""},null,null,null,null,null,null,null,null,"M-T2VK_ADLOPRMNL"]
[null,null,"Additional Operator Manual","see above",200,null,{"$f":"F68*E68","v":0},{"$f":"IFERROR(IFERROR(VLOOKUP(D68,Surcharge!A:B,2,FALSE)*F68, VLOOKUP(D68 & \"\",Surcharge!A:B,2,FALSE)*F68), \"\")","v":""},null,null,null,null,null,null,null,null,"M-T2VK_PARMNL"]
[null,null,"T2 Parts Manual",9008845,81,null,{"$f":"F69*E69","v":0},{"$f":"IFERROR(IFERROR(VLOOKUP(D69,Surcharge!A:B,2,FALSE)*F69, VLOOKUP(D69 & \"\",Surcharge!A:B,2,FALSE)*F69), \"\")","v":""},null,null,null,null,null,null,null,null,"M-T2VK_ADLOPRMNL"]
[null,null,null,null,null,null,null,{"$f":"IFERROR(IFERROR(VLOOKUP(D70,Surcharge!A:B,2,FALSE)*F70, VLOOKUP(D70 & \"\",Surcharge!A:B,2,FALSE)*F70), \"\")","v":""},null,null,null,null,null,null,null,null,""]
[null,null,"Packaging",null,null,{"$f":"SUM(F72:F72)","v":0},null,{"$f":"IFERROR(IFERROR(VLOOKUP(D71,Surcharge!A:B,2,FALSE)*F71, VLOOKUP(D71 & \"\",Surcharge!A:B,2,FALSE)*F71), \"\")","v":""},null,null,null,null,null,null,null,null,""]
[null,null,"Skid w/Carton, Stackable ",9011196,"N/C",null,{"$f":"IF(F72=0,\" \",\"N/C\")","v":" "},{"$f":"IFERROR(IFERROR(VLOOKUP(D72,Surcharge!A:B,2,FALSE)*F72, VLOOKUP(D72 & \"\",Surcharge!A:B,2,FALSE)*F72), \"\")","v":""},null,null,null,null,null,null,null,null,"M-T2VK_PKG_SSKD"]
[null,null,null,null,null,null,null,{"$f":"IFERROR(IFERROR(VLOOKUP(D73,Surcharge!A:B,2,FALSE)*F73, VLOOKUP(D73 & \"\",Surcharge!A:B,2,FALSE)*F73), \"\")","v":""}]
[]
[]
[null,"Custom Solution--write in description, qty, price, and PN if applicable",null,null,null,{"$f":"SUM(F77)","v":0}]
[null,null,null,null,"Insert Prices Here",{"$f":"SUM(F78:F81)","v":0}]
[null,null,null,"Custom",null,{"$f":"IF(E78 <> \"\", 1, 0)","v":0},{"$f":"F78*E78","v":0}]
[null,null,null,"Custom",null,{"$f":"IF(E79 <> \"\", 1, 0)","v":0},{"$f":"F79*E79","v":0}]
[null,null,null,"Custom",null,{"$f":"IF(E80 <> \"\", 1, 0)","v":0},{"$f":"F80*E80","v":0}]
[null,null,null,"Custom",null,{"$f":"IF(E81 <> \"\", 1, 0)","v":0},{"$f":"F81*E81","v":0}]
[null,null,null,null,{"$f":"ROUND(SUM(G43:G81), 0)","v":0},{"$f":"SUM(E83)","v":0}]
[null,null,null,"Machine Subtotal ",{"$f":"ROUND(SUM(G43:G81), 0)","v":0},{"$f":"F82","v":0}]
[null,"Discounts",null,null,null,{"$f":"SUM(F85)","v":0}]
[null,null,null,null,null,{"$f":"SUM(F87:F90)","v":0}]
[null,null,null,"Applicable Currency Adj %",null,{"$f":"IF(E86 <> \"\", 1, 0)","v":0},{"$f":"IF(F86*(E86*0.01)*E82 < 0, F86*(E86*0.01)*E82, -(F86*(E86*0.01)*E82))","v":0}]
[null,null,null,"Discount %",null,{"$f":"IF(E87 <> \"\", 1, 0)","v":0},{"$f":"IF(F87*(E87*0.01)*(E82+G86) < 0, F87*(E87*0.01)*(E82+G86), -(F87*(E87*0.01)*(E82+G86)))","v":0}]
[null,null,null,"Discount $",null,{"$f":"IF(E88 <> \"\", 1, 0)","v":0},{"$f":"IF(F88*E88 < 0, F88*E88, -(F88*E88))","v":0}]
[null,null,null,"Discount $",null,{"$f":"IF(E89 <> \"\", 1, 0)","v":0},{"$f":"IF(F89*E89 < 0, F89*E89, -(F89*E89))","v":0}]
[null,null,null,"Discount $",null,{"$f":"IF(E90 <> \"\", 1, 0)","v":0},{"$f":"IF(F90*E90 < 0, F90*E90, -(F90*E90))","v":0}]
[null,null,null,"Discount Total ",{"$f":"SUM(G86:G90)","v":0},{"$f":"SUM(E91)","v":0}]
[null,null,null,null,null,{"$f":"#REF!","v":{"$error":"#REF!"}}]
[null,null,null,null,null,{"$f":"F92","v":{"$error":"#REF!"}}]
[null,null,"Prepaid and Add","Freight",null,{"$f":"IF(E94 <> \"\", 1, 0)","v":0},{"$f":"F94*E94","v":0}]
[null,null,"Subject to all applicable taxes","Tax",null,{"$f":"IF(E95 <> \"\", 1, 0)","v":0},{"$f":"F95*E95","v":0}]
[null,null,null,null,null,{"$f":"SUM(F97)","v":0}]
[null,null,null,"MACHINE TOTAL*",null,{"$f":"SUM(G97)","v":0},{"$f":"SUM(G43:G95)","v":0},null,null,null,null,null,null,"This goes to \"My Documents\""]
[null,null,null,null,null,null,{"$f":"SUM(G97)","v":0}]
[]
[]
[]
[]
[null,null,"First Western Equipment Finance - Leasing Calculation Option:","Option 1",null,"Option 2",null,null,{"$f":"Financing!A38","v":"Rates 2025 - Rev 2/4/2025"}]
[null,null,null,"Monthly Payment","Cost Per Day","Monthly Payment","Cost Per Day",null,{"$f":"Financing!A39","v":"“Blank Payment Amounts Indicate The Financing Option Or Purchase Options Selected Are Not "}]
[null,null,"Purchase Option:","FWEF:  $1 Buyout Lease",null,"FWEF: Municipal Lease",null,null,{"$f":"Financing!A40","v":"Applicable Or The Machine Total Is Below The Minimum Amount For The Selected Vendor”"}]
[null,null,"24 Months",false,0,false,0,null,{"$f":"Financing!A41","v":"\"Quoted monthly payments are estimates only and are based on a certain level of credit rating."}]
[null,null,"30 Months",false,0,false,0,null,{"$f":"Financing!A42","v":"Actual monthly payments may be higher depending on your credit rating.\""}]
[null,null,"36 Months",false,0,false,0,null,{"$f":"Financing!A43","v":"“Financing rates do not include Pre-Paid Service”"}]
[null,null,"48 Months",0,0,0,0]
[]
[null,null,null,"Benefits of Equipment Financing:"]
[null,null,null,"• Spreads out investment over time.",null,"• Keep current with latest technology."]
[null,null,null,"• Preserve capital.",null,"• Service and parts bundling available."]
[null,null,null,"• Low monthly payment.",null,"• Pay for labor savings as you go."]
[null,"   TennantTrue",null,null,0,0]
[]
[null,null,"Is customer interested in service program?","Yes","*State/County selection required for TennantTrue service options"]
[]
[null,null,"If not, why?"]
[]
[null,null,"Term:",36,null,null,"AB Brushes","No"]
[null,null,"Monthly machine usage (hrs):","< 30/mo. (Avg. 1hr./day)"]
[]
[null,null,"TennantTrue: ","Gold Contract",null,"Silver Contract"]
[null,null,"Per Visit",null,null,425]
[null,null,"Monthly",120,null,69]
[null,null,"Annually",null,null,816]
[null,null,"Pre-Pay Full Term",4162,null,2397]
[null,null,"Hourly Labor Rate"]
[null,null,"Site Visit"]
[]
[null,null,"* Verify customer current pricing prior to quote. "]
[null,null,"**All rates and fees above reflect service for one (1) unit with the exception of Block of Time service."]
[null,null,"*Block of Time is available in 1 Year Term only and is priced as such no matter the term selection on this template."]
[]
[]
[]
[null,null,"Quote Special Instructions:"]
[]
[]
[null,null,{"$f":"Start_Here!E36","v":"Terms and Conditions"}]
[null,null,{"$f":"Start_Here!E37","v":"Ask your local sales rep for estimated lead times. Verify when placing order"}]
[null,null,{"$f":"Start_Here!E38","v":"All orders subject to acceptance by Tennant Sales and Service Company, Minneapolis, Minnesota"}]
[null,null,{"$f":"Start_Here!E39","v":"Prices subject to change without notice. Subject to any applicable taxes."}]
[null,null,{"$f":"Start_Here!E40","v":"Terms:  Net 30 days.  Payable in Canadian Funds"}]
[null,null,{"$f":"Start_Here!E41","v":"Freight:  Accessories, parts, supplies, detergents, and floor coatings orders delivered DDP "}]
[null,null,{"$f":"Start_Here!E42","v":"shipping point Frt PPD.  Machine orders delivered DDP shipping point Frt PPD and add."}]
[null,null,{"$f":"Start_Here!E43","v":"Returned Merchandise is subject to a restocking fee."}]
[null,null,{"$f":"Start_Here!E45","v":"Printed General Terms and Conditions are also available upon request."}]
[null,null,{"$f":"Start_Here!E46","v":0}]
[]
[]
[null,null,null,null,"Quote Date :",null,{"$f":"Letter!$A$25","v":"2014-10-02"}]
["Order Placement Information:  To place your order, fill in PO# and customer signatures,"]
["call or fax to the numbers listed below. Customer Purchase Order is required."]
["If information is missing, orders will be entered and held until all information is received."]
[null,null,"Customer Number",null,"Cust Grp 3"]
[null,null,{"$f":"Start_Here!$C$25","v":0},null,{"$f":"Start_Here!$C$29","v":0}]
[null,null,{"$f":"Start_Here!$B$18","v":"Who Owns the Machine? (Sold-To Info) (Please Verify)"}]
["Company",null,{"$f":"Start_Here!$C$19","v":"Company Name"}]
["Address",null,{"$f":"Start_Here!$C$20","v":"Address"}]
[null,null,{"$f":"Start_Here!$C$21","v":"City, State Zip"}]
["Name",null,{"$f":"Start_Here!$C$22","v":"Contact Name"}]
["Phone",null,{"$f":"Start_Here!$C$23","v":"Contact Phone"}]
[null,null,{"$f":"Start_Here!$B$11","v":"Where is the Machine Being Shipped? (Ship-To Info) (Please Verify)"}]
["Company",null,{"$f":"Start_Here!$C$12","v":"Company Name"}]
["Address",null,{"$f":"Start_Here!$C$13","v":"Address"}]
[null,null,{"$f":"Start_Here!$C$14","v":"City, State Zip"}]
["Name",null,{"$f":"Start_Here!$C$15","v":"Contact Name"}]
["Phone",null,{"$f":"Start_Here!$C$16","v":"Contact Phone"}]
[null,null,{"$f":"Start_Here!$B$31","v":"Shipping / Carrier Instructions:"},null,"Order Special Instructions:"]
[null,null,{"$f":"Start_Here!$C$32","v":0}]
[]
[null,null,"Customer Purchase Order No."]
[null,null,"(please attach copy)"]
[]
[]
[null,null,"Tax Exempt",null,"Yes"]
[null,null,null,null,"No"]
[null,null,"If Yes, attach a copy of your exemption certificate."]
[]
[null,null,"Requested Delivery Date"]
[null,null,{"$f":"Start_Here!$C$28","v":0}]
[]
[null,null,{"$f":"Start_Here!$C$26","v":0},null,{"$f":"Start_Here!$C$27","v":0}]
[null,null,"Authorized Buyer (please print)",null,"Phone Number"]
[]
[]
[null,null,"Authorized Buyer Signature"]
[]
[null,null,{"$f":"Start_Here!$C$41","v":"Rep Name"}]
[null,null,"Tennant Representative"]
[]
["Specialized Maintenance Equipment"]
[{"$f":"Start_Here!$C$48","v":"TENNANT · 10400 Clean Street · Eden Prairie, MN 55344 ·"}]
[{"$f":"Start_Here!$C$49","v":" PHONE:800-553-8033 · FAX:763-513-2116"}]
[]
[null,"Special Information "]
[]
[]
[null,"1","Pre-Configured Machines cannot add or change options.  All units are packaged on a Skid w/Carton and will ship via LTL Carrier."]
[null,null,"When ordering, provide the reference number listed above.  Price does not include freight or tax.  Availability of units "]
[null,null,"and lead time may vary."]
[]
[null,"2","One pad driver comes standard with a T2."]
[]
[null,3,"Machine Weights and dimensions","Skid w/Carton"]
[]
[null,null,"Weight (w/105AH battery)","331 lbs / 150 Kg"]
[null,null,"Length","47\" / 1200mm"]
[null,null,"Width","30\" / 750mm"]
[null,null,"Height","45\" / 1150mm"]

{"sheet":"T300","index":28,"n_rows":333,"n_cols":14,"rows_kept":333,"cut":false,"hidden":false,"merged":[[322,4,323,4],[240,4,240,6],[242,2,242,5],[243,2,243,5],[244,2,244,5],[253,4,253,5],[315,4,316,4],[238,0,238,1],[238,2,238,5],[230,2,230,5],[231,0,231,1],[231,2,231,5],[232,0,232,1],[232,2,232,5],[234,0,234,1],[234,2,234,5],[235,0,235,1],[235,2,235,5],[236,2,236,5],[237,0,237,1],[237,2,237,5],[226,4,226,6],[228,0,228,1],[228,2,228,5],[229,0,229,1],[229,2,229,5],[193,3,193,4],[193,5,193,6],[194,3,194,4],[194,5,194,6],[207,1,207,6],[198,3,198,4],[198,5,198,6],[195,3,195,4],[195,5,195,6],[196,3,196,4],[196,5,196,6],[197,3,197,4],[197,5,197,6],[185,4,185,8],[187,3,187,6],[189,3,189,4],[190,3,190,4],[192,3,192,4],[192,5,192,6],[171,3,171,4],[171,5,171,6],[173,3,173,4],[173,5,173,6],[0,2,0,3],[1,2,1,3],[2,2,2,3],[3,2,3,3],[11,2,11,6],[15,2,15,3],[42,2,42,6],[43,2,43,6],[44,2,44,6],[20,2,20,3],[21,2,21,3],[22,2,22,3],[39,2,39,6],[40,2,40,6],[41,2,41,6]]}
["T300",null,{"$f":"Start_Here!$C19","v":"Company Name"}]
[{"$f":"SUM(G166)","v":0},null,{"$f":"Start_Here!$C20","v":"Address"}]
[null,null,{"$f":"Start_Here!$C21","v":"City, State Zip"}]
[null,null,{"$f":"Start_Here!$C22","v":"Contact Name"}]
[null,null,{"$f":"Start_Here!$C$41","v":"Rep Name"}]
[null,null,{"$f":"Start_Here!$C$37","v":"Tennant Sales and Service Company"}]
[null,null,{"$f":"Start_Here!$C$38","v":"10400 Clean Street"}]
[null,null,{"$f":"Start_Here!$C$39","v":"Eden Prairie, MN 55344"}]
[null,null,{"$f":"Start_Here!$C$43","v":"800-553-8033"},null,"Quote Date :",null,{"$f":"Letter!$A$25","v":"2014-10-02"}]
[]
[null,null,{"$f":"Help!C2","v":"CAN Date Rev - 5/6/2025"}]
[null,null,"BUILT-IN “TENNANT VALUE” INCLUDES:"]
[]
[null,null,"42L/11 gal Solution Tank  & 53 L/14 gal Recovery Tank",null,"Emergency Stop  (standard on all drive units)"]
[null,null,"Rugged DuramerTM Rotomold Tank Construction",null,"Free Floating Head Skirt (disk machines)"]
[null,null,"Pad Driver and Brush Attachment (Disk machines)",null,"Front Water Fill Port w/ Hose Hook"]
[null,null,"HygienicTM Recovery Tank",null,"Integrated Heat Sync for Electronics Protection"]
[null,null,"Multiple Setting Down Pressure",null,"Sealed Electrical Connectors"]
[null,null,"Adjustable Solution Flow",null,"Anti-Static Straps"]
[null,null,"Variable Speed Control Bail",null,"0.75 kW/1 HP brush motor, 230 RPM (disk)"]
[null,null,"MembraneTM Control Panel",null,"0.45 kW/0.6 HP brush motor, 2200 RPM (orbital)"]
[null,null,"Pro-MembraneTM Control Panel with Multiple Zone Settings™ Capability",null,"Recovery Tank Debris Tray with Deflector"]
[null,null,"Pro-PanelTM Controls with Full Color LCD Touch Screen (Option)",null,"Unsurpassed Ergonomic Design"]
[null,null,"Supervisor QA ControlsTM settings (Lock Out Features)",null,"Gray Non-Marking Tires"]
[null,null,"On Board Diagnostics",null,"10cm /4\" Edge & Reach Under Cleaning"]
[null,null,"Extremely Low Noise Level  (≤65 dBa)",null,"Key Switch for Safety"]
[null,null,"Quiet-Mode™ Standard",null,"Hour Meter"]
[null,null,"Wet 130AH and Wet 150AH Battery options available.",null,"Operators manual"]
[null,null,"Quick Release Battery Harness",null,"Jacking Points/Shipping Tie Downs"]
[null,null,"Drain hose with pinch-cuff to control water flow",null,"Yellow Maintenance Touch Points"]
[null,null,"On-board Charger with 3m/15 ft power cord",null,"Integrated Accessory Rails w/Squeegee & Bag Hang "]
[null,null,"Closed Machine Venting for Battery Charging",null,"Composite Scrub Deck (Single Disk)"]
[null,null,"Cast Aluminum Squeegee Frame",null,"Cast Aluminum Scrub Deck (Dual Disk)"]
[null,null,"Breakaway Squeegee Design w/ Integrated P-Trap",null,"11 Gauge Steel Scrub Deck (Orbital Only)"]
[null,null,"Factory Set Squeegee Assembly for Maximum Recovery"]
[null,null,"Linatex Squeegee Blades with Tool-less Replacement"]
[]
[]
[]
[null,null,"TENNANT COMPANY WARRANTY"]
[null,null,"3 YEARS OR 2000 HOURS - PARTS"]
[null,null,"1 YEAR - BATTERY CHARGERS"]
[null,null,"2 YEARS - LABOR"]
[null,null,"6 MONTHS - TRAVEL"]
[null,null,"10 YEARS ON DURAMERTM ROTOMOLD TANKS"]
[]
[null,null,null,null,"                Quote Request Information"]
[null,null,null,null,null,null,"Fax (quote only)"]
[null,null,null,null,null,null,"Mail (quote,lit, specs)"]
[null,null,null,null,null,null,"Fax + Mail"]
[null,null,null,null,"                Primary Use"]
[null,null,null,null,null,null,"Inside"]
[null,null,null,null,null,null,"Outside"]
[]
[null,null,"Description","Reference #","Price Each","Qty","Extended Price"]
[null,"Base Configuration",null,null,"Canada Price",{"$f":"SUM(F57,F63,F68,F74,F78,F87)","v":0},null,{"$f":"IFERROR(IFERROR(VLOOKUP(D56,Surcharge!A:B,2,FALSE)*F56, VLOOKUP(D56 & \"\",Surcharge!A:B,2,FALSE)*F56), \"\")","v":""}]
[null,null,"Cleaning Type",null,null,{"$f":"SUM(F58:F61)","v":0},null,{"$f":"IFERROR(IFERROR(VLOOKUP(D57,Surcharge!A:B,2,FALSE)*F57, VLOOKUP(D57 & \"\",Surcharge!A:B,2,FALSE)*F57), \"\")","v":""}]
[null,null,"T300 Walk-Behind Scrubber  430 mm/17\" - Disk","T300-430-D",10775,null,{"$f":"F58*E58","v":0},{"$f":"IFERROR(IFERROR(VLOOKUP(D58,Surcharge!A:B,2,FALSE)*F58, VLOOKUP(D58 & \"\",Surcharge!A:B,2,FALSE)*F58), \"\")","v":0}]
[null,null,"T300 Walk-Behind Scrubber  500 mm/20\" - Disk","T300-500-D",12323,null,{"$f":"F59*E59","v":0},{"$f":"IFERROR(IFERROR(VLOOKUP(D59,Surcharge!A:B,2,FALSE)*F59, VLOOKUP(D59 & \"\",Surcharge!A:B,2,FALSE)*F59), \"\")","v":0}]
[null,null,"T300 Walk-Behind Scrubber  600 mm/24\" - Dual Disk, Self Propel","T300-600-D",16716,null,{"$f":"F60*E60","v":0},{"$f":"IFERROR(IFERROR(VLOOKUP(D60,Surcharge!A:B,2,FALSE)*F60, VLOOKUP(D60 & \"\",Surcharge!A:B,2,FALSE)*F60), \"\")","v":0}]
[null,null,"T300 Walk-Behind Scrubber  500 mm/20\" - Orbital, Self Propel","T300-500-O",16191,null,{"$f":"F61*E61","v":0},{"$f":"IFERROR(IFERROR(VLOOKUP(D61,Surcharge!A:B,2,FALSE)*F61, VLOOKUP(D61 & \"\",Surcharge!A:B,2,FALSE)*F61), \"\")","v":0}]
[null,null,null,null,null,null,null,{"$f":"IFERROR(IFERROR(VLOOKUP(D62,Surcharge!A:B,2,FALSE)*F62, VLOOKUP(D62 & \"\",Surcharge!A:B,2,FALSE)*F62), \"\")","v":""}]
[null,null,"Trim Level (Note 2)",null,null,{"$f":"SUM(F64:F66)","v":0},null,{"$f":"IFERROR(IFERROR(VLOOKUP(D63,Surcharge!A:B,2,FALSE)*F63, VLOOKUP(D63 & \"\",Surcharge!A:B,2,FALSE)*F63), \"\")","v":""}]
[null,null,"Membrane™ Control Panel - With Mechanical Dual Down Pressure","MP-T300","N/C",null,{"$f":"IF(F64=0,\" \",\"N/C\")","v":" "},{"$f":"IFERROR(IFERROR(VLOOKUP(D64,Surcharge!A:B,2,FALSE)*F64, VLOOKUP(D64 & \"\",Surcharge!A:B,2,FALSE)*F64), \"\")","v":""}]
[null,null,"Pro-Membrane™ Control Panel - With automated push button down pressure","PMC - T300",414,null,{"$f":"F65*E65","v":0},{"$f":"IFERROR(IFERROR(VLOOKUP(D65,Surcharge!A:B,2,FALSE)*F65, VLOOKUP(D65 & \"\",Surcharge!A:B,2,FALSE)*F65), \"\")","v":""}]
[null,null,"Pro-Panel™ Control Panel  - With automated push button down pressure","PPC- T300",1355,null,{"$f":"F66*E66","v":0},{"$f":"IFERROR(IFERROR(VLOOKUP(D66,Surcharge!A:B,2,FALSE)*F66, VLOOKUP(D66 & \"\",Surcharge!A:B,2,FALSE)*F66), \"\")","v":""}]
[null,null,null,null,null,null,null,{"$f":"IFERROR(IFERROR(VLOOKUP(D67,Surcharge!A:B,2,FALSE)*F67, VLOOKUP(D67 & \"\",Surcharge!A:B,2,FALSE)*F67), \"\")","v":""}]
[null,null,"Cleaning Technology: (conventional is standard,  ec-H2O NanoClean can also operate in conventional mode)",null,null,{"$f":"SUM(F69:F72)","v":0},null,{"$f":"IFERROR(IFERROR(VLOOKUP(D68,Surcharge!A:B,2,FALSE)*F68, VLOOKUP(D68 & \"\",Surcharge!A:B,2,FALSE)*F68), \"\")","v":""}]
[null,null,"ec-H2O NanoClean™ Technology ","ec-H2ONC-T300",3111,null,{"$f":"F69*E69","v":0},{"$f":"IFERROR(IFERROR(VLOOKUP(D69,Surcharge!A:B,2,FALSE)*F69, VLOOKUP(D69 & \"\",Surcharge!A:B,2,FALSE)*F69), \"\")","v":""}]
[null,null,null,null,null,null,null,{"$f":"IFERROR(IFERROR(VLOOKUP(D70,Surcharge!A:B,2,FALSE)*F70, VLOOKUP(D70 & \"\",Surcharge!A:B,2,FALSE)*F70), \"\")","v":""}]
[null,null,"Severe Environment Switch - ec-H2O NanoClean only  (Note 3)",9013840,874,null,{"$f":"F71*E71","v":0},{"$f":"IFERROR(IFERROR(VLOOKUP(D71,Surcharge!A:B,2,FALSE)*F71, VLOOKUP(D71 & \"\",Surcharge!A:B,2,FALSE)*F71), \"\")","v":""}]
[null,null,"Severe Environment™ Switch Lockout  (Note 3)",9017886,89,null,{"$f":"F72*E72","v":0}]
[null,null,null,null,null,null,null,{"$f":"IFERROR(IFERROR(VLOOKUP(D73,Surcharge!A:B,2,FALSE)*F73, VLOOKUP(D73 & \"\",Surcharge!A:B,2,FALSE)*F73), \"\")","v":""}]
[null,null,"Drive Type  (Note 4)",null,null,{"$f":"SUM(F75:F76)","v":0},null,{"$f":"IFERROR(IFERROR(VLOOKUP(D74,Surcharge!A:B,2,FALSE)*F74, VLOOKUP(D74 & \"\",Surcharge!A:B,2,FALSE)*F74), \"\")","v":""}]
[null,null,"Pad / Brush Assist","Pad-T300","N/C",null,{"$f":"IF(F75=0,\" \",\"N/C\")","v":" "},{"$f":"IFERROR(IFERROR(VLOOKUP(D75,Surcharge!A:B,2,FALSE)*F75, VLOOKUP(D75 & \"\",Surcharge!A:B,2,FALSE)*F75), \"\")","v":""}]
[null,null,"Self Propel","Self-T300",2243,null,{"$f":"F76*E76","v":0},{"$f":"IFERROR(IFERROR(VLOOKUP(D76,Surcharge!A:B,2,FALSE)*F76, VLOOKUP(D76 & \"\",Surcharge!A:B,2,FALSE)*F76), \"\")","v":""}]
[null,null,null,null,null,null,null,{"$f":"IFERROR(IFERROR(VLOOKUP(D77,Surcharge!A:B,2,FALSE)*F77, VLOOKUP(D77 & \"\",Surcharge!A:B,2,FALSE)*F77), \"\")","v":""}]
[null,null,"Battery Type  (Note 5)",null,null,{"$f":"SUM(F79:F85)","v":0},null,{"$f":"IFERROR(IFERROR(VLOOKUP(D78,Surcharge!A:B,2,FALSE)*F78, VLOOKUP(D78 & \"\",Surcharge!A:B,2,FALSE)*F78), \"\")","v":""}]
[null,null,"Wet 130AH C/20  (Kit of 2 batteries) ",9013852,1013,null,{"$f":"F79*E79","v":0},{"$f":"IFERROR(IFERROR(VLOOKUP(D79,Surcharge!A:B,2,FALSE)*F79, VLOOKUP(D79 & \"\",Surcharge!A:B,2,FALSE)*F79), \"\")","v":""}]
[null,null,"Wet 150AH C/20  (Kit of 2 batteries)",9013853,1210,null,{"$f":"F80*E80","v":0},{"$f":"IFERROR(IFERROR(VLOOKUP(D80,Surcharge!A:B,2,FALSE)*F80, VLOOKUP(D80 & \"\",Surcharge!A:B,2,FALSE)*F80), \"\")","v":""}]
[null,null,"Sealed/MF AGM 140AH C/20  (Kit of 2 batteries)",9013854,2855,null,{"$f":"F81*E81","v":0},{"$f":"IFERROR(IFERROR(VLOOKUP(D81,Surcharge!A:B,2,FALSE)*F81, VLOOKUP(D81 & \"\",Surcharge!A:B,2,FALSE)*F81), \"\")","v":""}]
[null,null,"Li-Ion 24v, 90AH  (Note 5a)",9022765,4240,null,{"$f":"F82*E82","v":0}]
[null,null,"Without",null,"N/C",null,{"$f":"IF(F83=0,\" \",\"N/C\")","v":" "},{"$f":"IFERROR(IFERROR(VLOOKUP(D83,Surcharge!A:B,2,FALSE)*F83, VLOOKUP(D83 & \"\",Surcharge!A:B,2,FALSE)*F83), \"\")","v":""}]
[null,null,null,null,null,{"$f":"SUM(F85)","v":0},null,{"$f":"IFERROR(IFERROR(VLOOKUP(D84,Surcharge!A:B,2,FALSE)*F84, VLOOKUP(D84 & \"\",Surcharge!A:B,2,FALSE)*F84), \"\")","v":""}]
[null,null,"Manual Battery Watering System - Wet 150AH Battery only (Note 6) ",9009619,813,null,{"$f":"F85*E85","v":0},{"$f":"IFERROR(IFERROR(VLOOKUP(D85,Surcharge!A:B,2,FALSE)*F85, VLOOKUP(D85 & \"\",Surcharge!A:B,2,FALSE)*F85), \"\")","v":""}]
[null,null,null,null,null,null,null,{"$f":"IFERROR(IFERROR(VLOOKUP(D86,Surcharge!A:B,2,FALSE)*F86, VLOOKUP(D86 & \"\",Surcharge!A:B,2,FALSE)*F86), \"\")","v":""}]
[null,null,"Charger  (Note 7)","Reference Number",null,{"$f":"SUM(F88:F90)","v":0},null,{"$f":"IFERROR(IFERROR(VLOOKUP(D87,Surcharge!A:B,2,FALSE)*F87, VLOOKUP(D87 & \"\",Surcharge!A:B,2,FALSE)*F87), \"\")","v":""}]
[null,null,"13A 85-265V AC 50/60Hz 1Ph - On Board\n     (IRIS Battery Metric Compatible)",9013847,"N/C",null,{"$f":"IF(F88=0,\" \",\"N/C\")","v":" "},{"$f":"IFERROR(IFERROR(VLOOKUP(D88,Surcharge!A:B,2,FALSE)*F88, VLOOKUP(D88 & \"\",Surcharge!A:B,2,FALSE)*F88), \"\")","v":""}]
[null,null,"27A 100-240V AC 50/60Hz 1Ph - Off-Board Charger (Li-Ion Batteries)",9052023,"N/C",null,{"$f":"IF(F89=0,\" \",\"N/C\")","v":" "}]
[null,null,"27A 100-240V AC 50/60Hz 1Ph - On-Board Charger (Li-Ion Batteries)",9022824,"N/C",null," "]
[null,null,null,null,null,null,null,{"$f":"IFERROR(IFERROR(VLOOKUP(D91,Surcharge!A:B,2,FALSE)*F91, VLOOKUP(D91 & \"\",Surcharge!A:B,2,FALSE)*F91), \"\")","v":""}]
[null,"Machine Protection & Safety",null,null,null,{"$f":"SUM(F93:F93)","v":0},null,{"$f":"IFERROR(IFERROR(VLOOKUP(D92,Surcharge!A:B,2,FALSE)*F92, VLOOKUP(D92 & \"\",Surcharge!A:B,2,FALSE)*F92), \"\")","v":""}]
[null,null,"Parking Brake",9013846,278,null,{"$f":"F93*E93","v":0},{"$f":"IFERROR(IFERROR(VLOOKUP(D93,Surcharge!A:B,2,FALSE)*F93, VLOOKUP(D93 & \"\",Surcharge!A:B,2,FALSE)*F93), \"\")","v":""}]
[null,null,null,null,null,null,null,{"$f":"IFERROR(IFERROR(VLOOKUP(D94,Surcharge!A:B,2,FALSE)*F94, VLOOKUP(D94 & \"\",Surcharge!A:B,2,FALSE)*F94), \"\")","v":""}]
[null,"Brushes and Pads  (Note 8)",null,"Reference Number",null,{"$f":"SUM(F96,F106,F116,F123)","v":0},null,{"$f":"IFERROR(IFERROR(VLOOKUP(D95,Surcharge!A:B,2,FALSE)*F95, VLOOKUP(D95 & \"\",Surcharge!A:B,2,FALSE)*F95), \"\")","v":""}]
[null,null,"430mm/17\" Disk (1 Required)",null,null,{"$f":"SUM(F97:F104)","v":0},null,{"$f":"IFERROR(IFERROR(VLOOKUP(D96,Surcharge!A:B,2,FALSE)*F96, VLOOKUP(D96 & \"\",Surcharge!A:B,2,FALSE)*F96), \"\")","v":""}]
[null,null,"Polypropylene Brush",1213035,480,null,{"$f":"F97*E97","v":0},{"$f":"IFERROR(IFERROR(VLOOKUP(D97,Surcharge!A:B,2,FALSE)*F97, VLOOKUP(D97 & \"\",Surcharge!A:B,2,FALSE)*F97), \"\")","v":""}]
[null,null,"Nylon Brush",1213034,480,null,{"$f":"F98*E98","v":0},{"$f":"IFERROR(IFERROR(VLOOKUP(D98,Surcharge!A:B,2,FALSE)*F98, VLOOKUP(D98 & \"\",Surcharge!A:B,2,FALSE)*F98), \"\")","v":""}]
[null,null,null,null,null,null,null,{"$f":"IFERROR(IFERROR(VLOOKUP(D99,Surcharge!A:B,2,FALSE)*F99, VLOOKUP(D99 & \"\",Surcharge!A:B,2,FALSE)*F99), \"\")","v":""}]
[null,null,"Pad Driver",1211869,480,null,{"$f":"F100*E100","v":0},{"$f":"IFERROR(IFERROR(VLOOKUP(D100,Surcharge!A:B,2,FALSE)*F100, VLOOKUP(D100 & \"\",Surcharge!A:B,2,FALSE)*F100), \"\")","v":""}]
[null,null,"Pads",null,null,{"$f":"SUM(F102:F104)","v":0},null,{"$f":"IFERROR(IFERROR(VLOOKUP(D101,Surcharge!A:B,2,FALSE)*F101, VLOOKUP(D101 & \"\",Surcharge!A:B,2,FALSE)*F101), \"\")","v":""}]
[null,null,"Blue Scrubbing - 3M",1050270,30,null,{"$f":"F102*E102","v":0},{"$f":"IFERROR(IFERROR(VLOOKUP(D102,Surcharge!A:B,2,FALSE)*F102, VLOOKUP(D102 & \"\",Surcharge!A:B,2,FALSE)*F102), \"\")","v":""}]
[null,null,"Red Cleaning - 3M",1050271,30,null,0,{"$f":"IFERROR(IFERROR(VLOOKUP(D103,Surcharge!A:B,2,FALSE)*F103, VLOOKUP(D103 & \"\",Surcharge!A:B,2,FALSE)*F103), \"\")","v":""}]
[null,null,"White Polishing - 3M",1050273,30,null,0,{"$f":"IFERROR(IFERROR(VLOOKUP(D104,Surcharge!A:B,2,FALSE)*F104, VLOOKUP(D104 & \"\",Surcharge!A:B,2,FALSE)*F104), \"\")","v":""}]
[null,null,null,null,null,null,null,{"$f":"IFERROR(IFERROR(VLOOKUP(D105,Surcharge!A:B,2,FALSE)*F105, VLOOKUP(D105 & \"\",Surcharge!A:B,2,FALSE)*F105), \"\")","v":""}]
[null,null,"500mm/20\" Disk (1 Required)",null,null,{"$f":"SUM(F107:F114)","v":0},null,{"$f":"IFERROR(IFERROR(VLOOKUP(D106,Surcharge!A:B,2,FALSE)*F106, VLOOKUP(D106 & \"\",Surcharge!A:B,2,FALSE)*F106), \"\")","v":""}]
[null,null,"Polypropylene Brush",1213032,502,null,{"$f":"F107*E107","v":0},{"$f":"IFERROR(IFERROR(VLOOKUP(D107,Surcharge!A:B,2,FALSE)*F107, VLOOKUP(D107 & \"\",Surcharge!A:B,2,FALSE)*F107), \"\")","v":""}]
[null,null,"Nylon Brush",1210386,502,null,0,{"$f":"IFERROR(IFERROR(VLOOKUP(D108,Surcharge!A:B,2,FALSE)*F108, VLOOKUP(D108 & \"\",Surcharge!A:B,2,FALSE)*F108), \"\")","v":""}]
[null,null,null,null,null,null,null,{"$f":"IFERROR(IFERROR(VLOOKUP(D109,Surcharge!A:B,2,FALSE)*F109, VLOOKUP(D109 & \"\",Surcharge!A:B,2,FALSE)*F109), \"\")","v":""}]
[null,null,"Pad Driver",1209197,502,null,{"$f":"F110*E110","v":0},{"$f":"IFERROR(IFERROR(VLOOKUP(D110,Surcharge!A:B,2,FALSE)*F110, VLOOKUP(D110 & \"\",Surcharge!A:B,2,FALSE)*F110), \"\")","v":""}]
[null,null,"Pads ",null,null,{"$f":"SUM(F112:F114)","v":0},null,{"$f":"IFERROR(IFERROR(VLOOKUP(D111,Surcharge!A:B,2,FALSE)*F111, VLOOKUP(D111 & \"\",Surcharge!A:B,2,FALSE)*F111), \"\")","v":""}]
[null,null,"Blue Scrubbing - 3M",17262,37.5,null,0,{"$f":"IFERROR(IFERROR(VLOOKUP(D112,Surcharge!A:B,2,FALSE)*F112, VLOOKUP(D112 & \"\",Surcharge!A:B,2,FALSE)*F112), \"\")","v":""}]
[null,null,"Red Cleaning - 3M",17261,37.5,null,0,{"$f":"IFERROR(IFERROR(VLOOKUP(D113,Surcharge!A:B,2,FALSE)*F113, VLOOKUP(D113 & \"\",Surcharge!A:B,2,FALSE)*F113), \"\")","v":""}]
[null,null,"White Polishing - 3M",17260,37.5,null,0,{"$f":"IFERROR(IFERROR(VLOOKUP(D114,Surcharge!A:B,2,FALSE)*F114, VLOOKUP(D114 & \"\",Surcharge!A:B,2,FALSE)*F114), \"\")","v":""}]
[null,null,null,null,null,null,null,{"$f":"IFERROR(IFERROR(VLOOKUP(D115,Surcharge!A:B,2,FALSE)*F115, VLOOKUP(D115 & \"\",Surcharge!A:B,2,FALSE)*F115), \"\")","v":""}]
[null,null,"500mm/20\" Orbital (Standard)",null,null,{"$f":"SUM(F117:F121)","v":0},null,{"$f":"IFERROR(IFERROR(VLOOKUP(D116,Surcharge!A:B,2,FALSE)*F116, VLOOKUP(D116 & \"\",Surcharge!A:B,2,FALSE)*F116), \"\")","v":""}]
[null,null,"Pad Driver",null,"N/C",null,{"$f":"IF(F117=0,\" \",\"N/C\")","v":" "},{"$f":"IFERROR(IFERROR(VLOOKUP(D117,Surcharge!A:B,2,FALSE)*F117, VLOOKUP(D117 & \"\",Surcharge!A:B,2,FALSE)*F117), \"\")","v":""}]
[null,null,"Pads (Price is for 1, must order a carton which includes 10) ",null,null,{"$f":"SUM(F119:F121)","v":0},null,{"$f":"IFERROR(IFERROR(VLOOKUP(D118,Surcharge!A:B,2,FALSE)*F118, VLOOKUP(D118 & \"\",Surcharge!A:B,2,FALSE)*F118), \"\")","v":""}]
[null,null,"Blue Scrubbing - 3M",1205514,36.4,null,{"$f":"F119*E119","v":0},{"$f":"IFERROR(IFERROR(VLOOKUP(D119,Surcharge!A:B,2,FALSE)*F119, VLOOKUP(D119 & \"\",Surcharge!A:B,2,FALSE)*F119), \"\")","v":""}]
[null,null,"Red Cleaning - 3M",1205513,36.4,null,{"$f":"F120*E120","v":0},{"$f":"IFERROR(IFERROR(VLOOKUP(D120,Surcharge!A:B,2,FALSE)*F120, VLOOKUP(D120 & \"\",Surcharge!A:B,2,FALSE)*F120), \"\")","v":""}]
[null,null,"White Polishing - 3M",1205512,36.4,null,{"$f":"F121*E121","v":0},{"$f":"IFERROR(IFERROR(VLOOKUP(D121,Surcharge!A:B,2,FALSE)*F121, VLOOKUP(D121 & \"\",Surcharge!A:B,2,FALSE)*F121), \"\")","v":""}]
[null,null,null,null,null,null,null,{"$f":"IFERROR(IFERROR(VLOOKUP(D122,Surcharge!A:B,2,FALSE)*F122, VLOOKUP(D122 & \"\",Surcharge!A:B,2,FALSE)*F122), \"\")","v":""}]
[null,null,"600mm/24\" Disk (2 Required)",null,null,{"$f":"SUM(F124:F131)","v":0},null,{"$f":"IFERROR(IFERROR(VLOOKUP(D123,Surcharge!A:B,2,FALSE)*F123, VLOOKUP(D123 & \"\",Surcharge!A:B,2,FALSE)*F123), \"\")","v":""}]
[null,null,"Polypropylene Brush",1213040,324,null,{"$f":"F124*E124","v":0},{"$f":"IFERROR(IFERROR(VLOOKUP(D124,Surcharge!A:B,2,FALSE)*F124, VLOOKUP(D124 & \"\",Surcharge!A:B,2,FALSE)*F124), \"\")","v":""}]
[null,null,"Nylon Brush",1210136,324,null,{"$f":"F125*E125","v":0},{"$f":"IFERROR(IFERROR(VLOOKUP(D125,Surcharge!A:B,2,FALSE)*F125, VLOOKUP(D125 & \"\",Surcharge!A:B,2,FALSE)*F125), \"\")","v":""}]
[null,null,null,null,null,null,null,{"$f":"IFERROR(IFERROR(VLOOKUP(D126,Surcharge!A:B,2,FALSE)*F126, VLOOKUP(D126 & \"\",Surcharge!A:B,2,FALSE)*F126), \"\")","v":""}]
[null,null,"Pad Driver",1209160,324,null,{"$f":"F127*E127","v":0},{"$f":"IFERROR(IFERROR(VLOOKUP(D127,Surcharge!A:B,2,FALSE)*F127, VLOOKUP(D127 & \"\",Surcharge!A:B,2,FALSE)*F127), \"\")","v":""}]
[null,null,"Pads ",null,null,{"$f":"SUM(F129:F131)","v":0},null,{"$f":"IFERROR(IFERROR(VLOOKUP(D128,Surcharge!A:B,2,FALSE)*F128, VLOOKUP(D128 & \"\",Surcharge!A:B,2,FALSE)*F128), \"\")","v":""}]
[null,null,"Blue Scrubbing - 3M",385942,21.4,null,{"$f":"F129*E129","v":0},{"$f":"IFERROR(IFERROR(VLOOKUP(D129,Surcharge!A:B,2,FALSE)*F129, VLOOKUP(D129 & \"\",Surcharge!A:B,2,FALSE)*F129), \"\")","v":""}]
[null,null,"Red Cleaning - 3M",385941,21.4,null,0,{"$f":"IFERROR(IFERROR(VLOOKUP(D130,Surcharge!A:B,2,FALSE)*F130, VLOOKUP(D130 & \"\",Surcharge!A:B,2,FALSE)*F130), \"\")","v":""}]
[null,null,"White Polishing - 3M",385940,21.4,null,0,{"$f":"IFERROR(IFERROR(VLOOKUP(D131,Surcharge!A:B,2,FALSE)*F131, VLOOKUP(D131 & \"\",Surcharge!A:B,2,FALSE)*F131), \"\")","v":""}]
[null,null,null,null,null,null,null,{"$f":"IFERROR(IFERROR(VLOOKUP(D132,Surcharge!A:B,2,FALSE)*F132, VLOOKUP(D132 & \"\",Surcharge!A:B,2,FALSE)*F132), \"\")","v":""}]
[null,"Support  (Note 9)",null,"Reference Number",null,{"$f":"SUM(F134:F141)","v":0},null,{"$f":"IFERROR(IFERROR(VLOOKUP(D133,Surcharge!A:B,2,FALSE)*F133, VLOOKUP(D133 & \"\",Surcharge!A:B,2,FALSE)*F133), \"\")","v":""}]
[null,null,"T300 Operator Manual  - English",9014501,"N/C",null,{"$f":"IF(F134=0,\" \",\"N/C\")","v":" "},{"$f":"IFERROR(IFERROR(VLOOKUP(D134,Surcharge!A:B,2,FALSE)*F134, VLOOKUP(D134 & \"\",Surcharge!A:B,2,FALSE)*F134), \"\")","v":""}]
[null,null,"T300 Operator Manual  - Spanish",9014502,"N/C",null,{"$f":"IF(F135=0,\" \",\"N/C\")","v":" "},{"$f":"IFERROR(IFERROR(VLOOKUP(D135,Surcharge!A:B,2,FALSE)*F135, VLOOKUP(D135 & \"\",Surcharge!A:B,2,FALSE)*F135), \"\")","v":""}]
[null,null,"T300 Operator Manual -  French  (Note 10)",9014503,"N/C",null,{"$f":"IF(F136=0,\" \",\"N/C\")","v":" "},{"$f":"IFERROR(IFERROR(VLOOKUP(D136,Surcharge!A:B,2,FALSE)*F136, VLOOKUP(D136 & \"\",Surcharge!A:B,2,FALSE)*F136), \"\")","v":""}]
[null,null,"Additional Operator Manual","SEE ABOVE",191,null,{"$f":"IF(F137=0,\" \",\"N/C\")","v":" "},{"$f":"IFERROR(IFERROR(VLOOKUP(D137,Surcharge!A:B,2,FALSE)*F137, VLOOKUP(D137 & \"\",Surcharge!A:B,2,FALSE)*F137), \"\")","v":""}]
[null,null,"T300 Parts Manual (Factory installed)",9014500,78,null,{"$f":"F138*E138","v":0},{"$f":"IFERROR(IFERROR(VLOOKUP(D138,Surcharge!A:B,2,FALSE)*F138, VLOOKUP(D138 & \"\",Surcharge!A:B,2,FALSE)*F138), \"\")","v":""}]
[null,null,"Service Manual",9014510,191,null,{"$f":"F139*E139","v":0},{"$f":"IFERROR(IFERROR(VLOOKUP(D139,Surcharge!A:B,2,FALSE)*F139, VLOOKUP(D139 & \"\",Surcharge!A:B,2,FALSE)*F139), \"\")","v":""}]
[null,null,null,null,null,null,null,{"$f":"IFERROR(IFERROR(VLOOKUP(D140,Surcharge!A:B,2,FALSE)*F140, VLOOKUP(D140 & \"\",Surcharge!A:B,2,FALSE)*F140), \"\")","v":""}]
[null,null,"Packaging",null,null,{"$f":"SUM(F142:F142)","v":0},null,{"$f":"IFERROR(IFERROR(VLOOKUP(D141,Surcharge!A:B,2,FALSE)*F141, VLOOKUP(D141 & \"\",Surcharge!A:B,2,FALSE)*F141), \"\")","v":""}]
[null,null,"Skid w/Carton, Stackable ",9013859,"N/C",null,{"$f":"IF(F142=0,\" \",\"N/C\")","v":" "},{"$f":"IFERROR(IFERROR(VLOOKUP(D142,Surcharge!A:B,2,FALSE)*F142, VLOOKUP(D142 & \"\",Surcharge!A:B,2,FALSE)*F142), \"\")","v":""}]
[null,null,null,null,null,null,null,{"$f":"IFERROR(IFERROR(VLOOKUP(D143,Surcharge!A:B,2,FALSE)*F143, VLOOKUP(D143 & \"\",Surcharge!A:B,2,FALSE)*F143), \"\")","v":""}]
[]
[null,"Custom Solution--write in description, qty, price, and PN if applicable",null,null,null,{"$f":"SUM(F146)","v":0}]
[null,null,null,null,"Insert Prices Here",{"$f":"SUM(F147:F150)","v":0}]
[null,null,null,"Custom",null,{"$f":"IF(E147 <> \"\", 1, 0)","v":0},{"$f":"F147*E147","v":0}]
[null,null,null,"Custom",null,{"$f":"IF(E148 <> \"\", 1, 0)","v":0},{"$f":"F148*E148","v":0}]
[null,null,null,"Custom",null,{"$f":"IF(E149 <> \"\", 1, 0)","v":0},{"$f":"F149*E149","v":0}]
[null,null,null,"Custom",null,{"$f":"IF(E150 <> \"\", 1, 0)","v":0},{"$f":"F150*E150","v":0}]
[null,null,null,null,{"$f":"ROUND(SUM(G56:G150), 0)","v":0},{"$f":"SUM(E152)","v":0}]
[null,null,null,"Machine Subtotal ",{"$f":"ROUND(SUM(G56:G150), 0)","v":0},{"$f":"F151","v":0}]
[null,"Discounts",null,null,null,{"$f":"SUM(F154)","v":0}]
[null,null,null,null,null,{"$f":"SUM(F156:F159)","v":0}]
[null,null,null,"Applicable Currency Adj %",null,{"$f":"IF(E155 <> \"\", 1, 0)","v":0},{"$f":"IF(F155*(E155*0.01)*E151 < 0, F155*(E155*0.01)*E151, -(F155*(E155*0.01)*E151))","v":0}]
[null,null,null,"Discount %",null,{"$f":"IF(E156 <> \"\", 1, 0)","v":0},{"$f":"IF(F156*(E156*0.01)*(E151+G155) < 0, F156*(E156*0.01)*(E151+G155), -(F156*(E156*0.01)*(E151+G155)))","v":0}]
[null,null,null,"Discount $",null,{"$f":"IF(E157 <> \"\", 1, 0)","v":0},{"$f":"IF(F157*E157 < 0, F157*E157, -(F157*E157))","v":0}]
[null,null,null,"Discount $",null,{"$f":"IF(E158 <> \"\", 1, 0)","v":0},{"$f":"IF(F158*E158 < 0, F158*E158, -(F158*E158))","v":0}]
[null,null,null,"Discount $",null,{"$f":"IF(E159 <> \"\", 1, 0)","v":0},{"$f":"IF(F159*E159 < 0, F159*E159, -(F159*E159))","v":0}]
[null,null,null,"Discount Total ",{"$f":"SUM(G155:G159)","v":0},{"$f":"SUM(E160)","v":0}]
[null,null,null,null,null,{"$f":"#REF!","v":{"$error":"#REF!"}}]
[null,null,null,null,null,{"$f":"F161","v":{"$error":"#REF!"}}]
[null,null,"Prepaid and Add","Freight",null,{"$f":"IF(E163 <> \"\", 1, 0)","v":0},{"$f":"F163*E163","v":0}]
[null,null,"Subject to all applicable taxes","Tax",null,{"$f":"IF(E164 <> \"\", 1, 0)","v":0},{"$f":"F164*E164","v":0}]
[null,null,null,null,null,{"$f":"SUM(F166)","v":0}]
[null,null,null,"MACHINE TOTAL*",null,{"$f":"SUM(G166)","v":0},{"$f":"SUM(G56:G164)","v":0},null,null,null,null,null,null,"This goes to \"My Documents\""]
[null,null,null,null,null,null,{"$f":"SUM(G166)","v":0}]
[]
[]
[]
[]
[null,null,"First Western Equipment Finance - Leasing Calculation Option:","Option 1",null,"Option 2",null,null,{"$f":"Financing!A38","v":"Rates 2025 - Rev 2/4/2025"}]
[null,null,null,"Monthly Payment","Cost Per Day","Monthly Payment","Cost Per Day",null,{"$f":"Financing!A39","v":"“Blank Payment Amounts Indicate The Financing Option Or Purchase Options Selected Are Not "}]
[null,null,"Purchase Option:","FWEF:  $1 Buyout Lease",null,"FWEF: Municipal Lease",null,null,{"$f":"Financing!A40","v":"Applicable Or The Machine Total Is Below The Minimum Amount For The Selected Vendor”"}]
[null,null,"24 Months",false,0,false,0,null,{"$f":"Financing!A41","v":"\"Quoted monthly payments are estimates only and are based on a certain level of credit rating."}]
[null,null,"30 Months",false,0,false,0,null,{"$f":"Financing!A42","v":"Actual monthly payments may be higher depending on your credit rating.\""}]
[null,null,"36 Months",false,0,false,0,null,{"$f":"Financing!A43","v":"“Financing rates do not include Pre-Paid Service”"}]
[null,null,"48 Months",0,0,0,0]
[]
[null,null,null,"Benefits of Equipment Financing:"]
[null,null,null,"• Spreads out investment over time.",null,"• Keep current with latest technology."]
[null,null,null,"• Preserve capital.",null,"• Service and parts bundling available."]
[null,null,null,"• Low monthly payment.",null,"• Pay for labor savings as you go."]
[null,"   TennantTrue",null,null,0,0]
[]
[null,null,"Is customer interested in service program?","Yes","*State/County selection required for TennantTrue service options"]
[]
[null,null,"If not, why?"]
[]
[null,null,"Term:",36,null,null,"AB Brushes","No"]
[null,null,"Monthly machine usage (hrs):","< 30/mo. (Avg. 1hr./day)"]
[]
[null,null,"TennantTrue: ","Gold Contract",null,"Silver Contract"]
[null,null,"Per Visit",null,null,425]
[null,null,"Monthly",120,null,69]
[null,null,"Annually",null,null,816]
[null,null,"Pre-Pay Full Term",4162,null,2397]
[null,null,"Hourly Labor Rate"]
[null,null,"Site Visit"]
[]
[null,null,"* Verify customer current pricing prior to quote. "]
[null,null,"**All rates and fees above reflect service for one (1) unit with the exception of Block of Time service."]
[null,null,"*Block of Time is available in 1 Year Term only and is priced as such no matter the term selection on this template."]
[]
[]
[]
[null,"Quote Special Instructions:"]
[]
[]
[null,{"$f":"Start_Here!E36","v":"Terms and Conditions"}]
[null,{"$f":"Start_Here!E37","v":"Ask your local sales rep for estimated lead times. Verify when placing order"}]
[null,{"$f":"Start_Here!E38","v":"All orders subject to acceptance by Tennant Sales and Service Company, Minneapolis, Minnesota"}]
[null,{"$f":"Start_Here!E39","v":"Prices subject to change without notice. Subject to any applicable taxes."}]
[null,{"$f":"Start_Here!E40","v":"Terms:  Net 30 days.  Payable in Canadian Funds"}]
[null,{"$f":"Start_Here!E41","v":"Freight:  Accessories, parts, supplies, detergents, and floor coatings orders delivered DDP "}]
[null,{"$f":"Start_Here!E42","v":"shipping point Frt PPD.  Machine orders delivered DDP shipping point Frt PPD and add."}]
[null,{"$f":"Start_Here!E43","v":"Returned Merchandise is subject to a restocking fee."}]
[null,{"$f":"Start_Here!E45","v":"Printed General Terms and Conditions are also available upon request."}]
[null,{"$f":"Start_Here!E46","v":0}]
[]
[]
[null,null,null,null,"Quote Date :",null,{"$f":"Letter!$A$25","v":"2014-10-02"}]
["Order Placement Information:  To place your order, fill in PO# and customer signatures,"]
["call or fax to the numbers listed below. Customer Purchase Order is required."]
["If information is missing, orders will be entered and held until all information is received."]
[null,null,"Customer Number",null,"Cust Grp 3"]
[null,null,{"$f":"Start_Here!$C$25","v":0},null,{"$f":"Start_Here!$C$29","v":0}]
[null,null,{"$f":"Start_Here!$B$18","v":"Who Owns the Machine? (Sold-To Info) (Please Verify)"}]
["Company",null,{"$f":"Start_Here!$C$19","v":"Company Name"}]
["Address",null,{"$f":"Start_Here!$C$20","v":"Address"}]
[null,null,{"$f":"Start_Here!$C$21","v":"City, State Zip"}]
["Name",null,{"$f":"Start_Here!$C$22","v":"Contact Name"}]
["Phone",null,{"$f":"Start_Here!$C$23","v":"Contact Phone"}]
[null,null,{"$f":"Start_Here!$B$11","v":"Where is the Machine Being Shipped? (Ship-To Info) (Please Verify)"}]
["Company",null,{"$f":"Start_Here!$C$12","v":"Company Name"}]
["Address",null,{"$f":"Start_Here!$C$13","v":"Address"}]
[null,null,{"$f":"Start_Here!$C$14","v":"City, State Zip"}]
["Name",null,{"$f":"Start_Here!$C$15","v":"Contact Name"}]
["Phone",null,{"$f":"Start_Here!$C$16","v":"Contact Phone"}]
[null,null,{"$f":"Start_Here!$B$31","v":"Shipping / Carrier Instructions:"},null,"Order Special Instructions:"]
[null,null,{"$f":"Start_Here!$C$32","v":0}]
[]
[null,null,"Customer Purchase Order No."]
[null,null,"(please attach copy)"]
[]
[]
[null,null,"Tax Exempt",null,"Yes"]
[null,null,null,null,"No"]
[null,null,"If Yes, attach a copy of your exemption certificate."]
[]
[null,null,"Requested Delivery Date"]
[null,null,{"$f":"Start_Here!$C$28","v":0}]
[]
[null,null,{"$f":"Start_Here!$C$26","v":0},null,{"$f":"Start_Here!$C$27","v":0}]
[null,null,"Authorized Buyer (please print)",null,"Phone Number"]
[]
[]
[null,null,"Authorized Buyer Signature"]
[]
[null,null,{"$f":"Start_Here!$C$41","v":"Rep Name"}]
[null,null,"Tennant Representative"]
[]
["Specialized Maintenance Equipment"]
[{"$f":"Start_Here!$C$48","v":"TENNANT · 10400 Clean Street · Eden Prairie, MN 55344 ·"}]
[{"$f":"Start_Here!$C$49","v":" PHONE:800-553-8033 · FAX:763-513-2116"}]
[]
[null,"SPECIAL INFORMATION"]
[]
[null,1,"Machines with Membrane control panel have mechanical dual down pressure"]
[null,null,"Machines with Pro-Membrane and Pro-Panel control panels have actuated push button triple down pressure"]
[null,null,"Pro-Panel control panel is not available on pad / brush assist machines"]
[]
[null,2,"The Severe Environment Switch can only be chosen when ec-H20 NanoClean Technology has been selected."]
[]
[null,3,"Severe Environment™ Switch Lockout is only available with ec-H2O NanoClean AND the Severe Environment Switch."]
[]
[null,4,"Pad Assist Drive Type is only available on the 430 mm/17\" and 500 mm/20\" units."]
[null,null,"Self Propel Drive Type is available on all machine types."]
[null,null,"The Self Propel price is included in the Cleaning Type section for Dual Disk, and Orbital machines"]
[null,null,"Pad Assist Drive Type is not available on units with Pro-Panel control panel."]
[]
[null,5,"In order to obtain the IRIS Battery Metrics, one of the listed Tennant supplied batteries is required."]
[null,null,"To maximize run time, it is recommend that the Wet 150AH Batteries are ordered."]
[null,null,"Sealed/MF AGM 140AH Battery available on all units."]
[]
[null,"5a","Li-Ion batteries require a compatible Li-Ion Charger."]
[null,null,"Li-Ion batteries are not compatible with Pro Panel or Machine Communication (IRIS)."]
[]
[null,6,"Manual Battery Watering System is only available on 155 AH lead acid batteries.  "]
[]
[null,7,"13A 85-265V AC 50/60Hz 1Ph - On Board Charger is required to receive IRIS Battery Manager."]
[]
[]
[null,8,"One Pad Driver or Brush can be selected with 430 mm/17\" and 500 mm/20\" Models"]
[null,null,"A Set of two Pad Drivers or Brushes can be selected for 24\" Models"]
[null,null,"Pad Driver is included in the base machine price of Orbital Models."]
[]
[null,9,"Additional hard copy Operator and Parts Manuals can be ordered or digital copies can be downloaded from www.Tennantco.com."]
[]
[null,10,"A French and English manual will be supplied for all units shipping into Quebec, Canada at no charge.  An additional manual"]
[null,null,"can be ordered (for a total of 3 manuals) for an additional charge as stated under 'Additional Operator Manual'."]
[]
[null,"IRIS","Pre-Paid and Monthly Packages are available for the IRIS Information Service."]
[null,null,"IRIS Module is required and NOT included in the price of the IRIS Information Service:"]
[null,null,"3 Year Pre-Paid IRIS Information Service",350]
[null,null,"5 Year Pre-Paid IRIS Information Service",560]
[null,null,"A monthly contract can be set up at $14 per month w/ 12 month minimum commitment."]
[null,null,"IRIS Telemetry Module only covers the price of the hardware. "]
[null,null,"IRIS Telemetry requires an IRIS Telemetry Module and an IRIS Information Service Package."]
[null,null,"13A 85-265V AC 50/60Hz 1Ph - On Board Charger and a compatible Tennant supplied battery is required to receive IRIS Battery Manager."]
[null,null,"Availability of IRIS Battery Metrics is not guaranteed with third party supplied batteries."]
[null,null,"IRIS Telemetry is not available with units configured with Li-Ion Batteries."]
[]
[null,11,"Shipping Weights and Dimensions",null,"Skid w/Carton"]
[null,null,"430 mm/17\" Single Model"]
[null,null,"Weight (w/105AH Battery Pad Drive)",null,"500 lbs / 227 Kg"]
[null,null,"Weight (w/130AH Battery Self Propel Drive)"]
[null,null,"Length",null,"59\" / 1500 mm"]
[null,null,"Width",null,"31\" / 787 mm"]
[null,null,"Height",null,"44\" / 1118 mm"]
[]
[null,null,"500 mm /20\" Single Disk Model"]
[null,null,"Weight (w/130AH Battery Pad Drive)",null,"500 lbs / 227 Kg"]
[null,null,"Weight (w/150AH Battery Self Propel)"]
[null,null,"Length",null,"59\" / 1500 mm"]
[null,null,"Width",null,"31\" / 787 mm"]
[null,null,"Height",null,"44\" / 1118 mm"]
[]
[null,null,"500 mm /20\" Orbital Model"]
[null,null,"Weight (w/150AH Battery)",null,"526 lbs / 239 Kg"]
[null,null,"Length",null,"59\" / 1500 mm"]
[null,null,"Width",null,"32\" / 800 mm"]
[null,null,"Height",null,"44\" / 1118 mm"]

{"sheet":"T300e","index":29,"n_rows":324,"n_cols":17,"rows_kept":324,"cut":false,"hidden":false,"merged":[[325,4,326,4],[256,4,256,6],[258,2,258,5],[259,2,259,5],[260,2,260,5],[269,4,269,5],[317,4,318,4],[254,0,254,1],[254,2,254,5],[246,2,246,5],[247,0,247,1],[247,2,247,5],[248,0,248,1],[248,2,248,5],[250,0,250,1],[250,2,250,5],[251,0,251,1],[251,2,251,5],[252,2,252,5],[253,0,253,1],[253,2,253,5],[242,4,242,6],[244,0,244,1],[244,2,244,5],[245,0,245,1],[245,2,245,5],[209,3,209,4],[209,5,209,6],[210,3,210,4],[210,5,210,6],[223,1,223,6],[214,3,214,4],[214,5,214,6],[211,3,211,4],[211,5,211,6],[212,3,212,4],[212,5,212,6],[213,3,213,4],[213,5,213,6],[201,4,201,8],[203,3,203,6],[205,3,205,4],[206,3,206,4],[208,3,208,4],[208,5,208,6],[187,3,187,4],[187,5,187,6],[189,3,189,4],[189,5,189,6],[41,2,41,6],[0,2,0,3],[1,2,1,3],[2,2,2,3],[3,2,3,3],[11,2,11,6],[17,2,17,3],[36,2,36,6],[37,2,37,6],[38,2,38,6],[39,2,39,6],[40,2,40,6]]}
["T300e",null,{"$f":"Start_Here!$C19","v":"Company Name"}]
[{"$f":"SUM(G182)","v":0},null,{"$f":"Start_Here!$C20","v":"Address"}]
[null,null,{"$f":"Start_Here!$C21","v":"City, State Zip"}]
[null,null,{"$f":"Start_Here!$C22","v":"Contact Name"}]
[null,null,{"$f":"Start_Here!$C$41","v":"Rep Name"}]
[null,null,{"$f":"Start_Here!$C$37","v":"Tennant Sales and Service Company"}]
[null,null,{"$f":"Start_Here!$C$38","v":"10400 Clean Street"}]
[null,null,{"$f":"Start_Here!$C$39","v":"Eden Prairie, MN 55344"}]
[null,null,{"$f":"Start_Here!$C$43","v":"800-553-8033"},null,"Quote Date :",null,{"$f":"Letter!$A$25","v":"2014-10-02"}]
[]
[null,null,{"$f":"Help!C2","v":"CAN Date Rev - 5/6/2025"}]
[null,null,"BUILT-IN “TENNANT VALUE” INCLUDES:"]
[]
[null,null,"42L/11 gal Solution Tank  & 53 L/14 gal Recovery Tank",null,"Wet 130AH and Wet 150AH Battery options available."]
[null,null,"Rugged DuramerTM Rotomold Tank Construction",null,"Emergency Stop  (standard on all drive units)"]
[null,null,"HygienicTM Recovery Tank",null,"Free Floating Head Skirt (disk machines)"]
[null,null,"Single Setting Down Pressure (Standard)",null,"Front Water Fill Port w/ Hose Hook"]
[null,null,"Multiple Setting Down Pressure (Optional)",null,"Integrated Heat Sync for Electronics Protection"]
[null,null,"Adjustable Solution Flow",null,"Sealed Electrical Connectors"]
[null,null,"Standard Low Noise Level  (≤65 dBa)",null,"Drain hose with pinch cuff to control water flow"]
[null,null,"0.75 kW/1 HP brush motor, 230 RPM (disk)",null,"On-board Charger with 3m/15 ft power cord"]
[null,null,"0.45 kW/0.6 HP brush motor, 2200 RPM (orbital)",null,"Closed Machine Venting for Battery Charging"]
[null,null,"Composite Scrub Deck (Single Disk)",null,"Recovery Tank Debris Tray with deflector "]
[null,null,"Cast Aluminum Scrub Deck (Dual Disk)",null,"Unsurpassed Ergonomic Design"]
[null,null,"11 Gauge Steel Scrub Deck (Orbital Only)",null,"Gray Non-Marking Tires"]
[null,null,"Three Lug Pad Driver System (Standard Disk Machine)",null,"10cm /4\" Edge & Reach Under Cleaning"]
[null,null,"Insta-ClickTM Pad Driver Attachment (Option Disk machines)",null,"Anti-Static Straps"]
[null,null,"Cast Aluminum Squeegee Frame",null,"Key Switch for Safety"]
[null,null,"Breakaway Squeegee Design w/ Integrated P-Trap",null,"Hour Meter"]
[null,null,"Factory Set Squeegee Assembly for Maximum Recovery",null,"Operators manual"]
[null,null,"Linatex Squeegee Blades with Tool-less Replacement",null,"Jacking Points/Shipping Tie Downs"]
[null,null,"Yellow Maintenance Touch Points",null,"Available with Optional ec-H2O NanoClean™ Technology"]
[null,null,"Integrated Accessory Rails w/ Squeegee & Bag Hang "]
[]
[]
[]
[null,null,"TENNANT COMPANY WARRANTY"]
[null,null,"3 YEARS OR 2000 HOURS - PARTS"]
[null,null,"1 YEAR - BATTERY CHARGERS"]
[null,null,"2 YEARS - LABOR"]
[null,null,"6 MONTHS - TRAVEL"]
[null,null,"10 YEARS ON DURAMERTM ROTOMOLD TANKS"]
[]
[null,null,null,null,"                Quote Request Information"]
[null,null,null,null,null,null,"Fax (quote only)"]
[null,null,null,null,null,null,"Mail (quote,lit, specs)"]
[null,null,null,null,null,null,"Fax + Mail"]
[null,null,null,null,"                Primary Use"]
[null,null,null,null,null,null,"Inside"]
[null,null,null,null,null,null,"Outside"]
[]
[null,null,"Description","Reference #","Price Each","Qty","Extended Price"]
[null,"Base Configuration",null,null,"CANADA Price",{"$f":"SUM(F54,F60,F64,F67,F71,F80,F85)","v":0},null,{"$f":"IFERROR(IFERROR(VLOOKUP(D53,Surcharge!A:B,2,FALSE)*F53, VLOOKUP(D53 & \"\",Surcharge!A:B,2,FALSE)*F53), \"\")","v":""}]
[null,null,"Cleaning Type",null,null,{"$f":"SUM(F55:F58)","v":0},null,{"$f":"IFERROR(IFERROR(VLOOKUP(D54,Surcharge!A:B,2,FALSE)*F54, VLOOKUP(D54 & \"\",Surcharge!A:B,2,FALSE)*F54), \"\")","v":""}]
[null,null,"T300e Walk-Behind Scrubber  430 mm/17\" - Disk","T300e-430-D",8925,null,{"$f":"F55*E55","v":0},{"$f":"IFERROR(IFERROR(VLOOKUP(D55,Surcharge!A:B,2,FALSE)*F55, VLOOKUP(D55 & \"\",Surcharge!A:B,2,FALSE)*F55), \"\")","v":0},null,null,null,null,null,null,null,{"$f":"VLOOKUP(Q55,'MPF SAP Download Canada'!A:D,4,FALSE)","v":8341},"M-T300eVK_BASE_T300E-430-D"]
[null,null,"T300e Walk-Behind Scrubber  500 mm/20\" - Disk","T300e-500-D",10101,null,{"$f":"F56*E56","v":0},{"$f":"IFERROR(IFERROR(VLOOKUP(D56,Surcharge!A:B,2,FALSE)*F56, VLOOKUP(D56 & \"\",Surcharge!A:B,2,FALSE)*F56), \"\")","v":0},null,null,null,null,null,null,null,{"$f":"VLOOKUP(Q56,'MPF SAP Download Canada'!A:D,4,FALSE)","v":9440},"M-T300eVK_BASE_T300E-500-D"]
[null,null,"T300e Walk-Behind Scrubber  600 mm/24\" - Dual Disk, Self Propel","T300e-600-D",13105,null,{"$f":"F57*E57","v":0},{"$f":"IFERROR(IFERROR(VLOOKUP(D57,Surcharge!A:B,2,FALSE)*F57, VLOOKUP(D57 & \"\",Surcharge!A:B,2,FALSE)*F57), \"\")","v":0}]
[null,null,"T300e Walk-Behind Scrubber  500 mm/20\" - Orbital, Self Propel","T300e-500-O",13608,null,{"$f":"F58*E58","v":0},{"$f":"IFERROR(IFERROR(VLOOKUP(D58,Surcharge!A:B,2,FALSE)*F58, VLOOKUP(D58 & \"\",Surcharge!A:B,2,FALSE)*F58), \"\")","v":0}]
[null,null,null,null,null,null,null,{"$f":"IFERROR(IFERROR(VLOOKUP(D59,Surcharge!A:B,2,FALSE)*F59, VLOOKUP(D59 & \"\",Surcharge!A:B,2,FALSE)*F59), \"\")","v":""}]
[null,null,"Cleaning Tool Attachment",null,null,{"$f":"SUM(F61:F62)","v":0},null,{"$f":"IFERROR(IFERROR(VLOOKUP(D60,Surcharge!A:B,2,FALSE)*F60, VLOOKUP(D60 & \"\",Surcharge!A:B,2,FALSE)*F60), \"\")","v":""}]
[null,null,"Conventional - 3 Lug","CNV-T300e","N/C",null,{"$f":"IF(F61=0,\" \",\"N/C\")","v":" "},{"$f":"IFERROR(IFERROR(VLOOKUP(D61,Surcharge!A:B,2,FALSE)*F61, VLOOKUP(D61 & \"\",Surcharge!A:B,2,FALSE)*F61), \"\")","v":""}]
[null,null,"Insta-Click™","IC-T300e",603,null,{"$f":"F62*E62","v":0},{"$f":"IFERROR(IFERROR(VLOOKUP(D62,Surcharge!A:B,2,FALSE)*F62, VLOOKUP(D62 & \"\",Surcharge!A:B,2,FALSE)*F62), \"\")","v":""},null,null,null,null,null,null,null,{"$f":"VLOOKUP(Q62,'MPF SAP Download Canada'!A:D,4,FALSE)","v":563},"M-T300eVK_ATT_IC_T300E"]
[null,null,null,null,null,null,null,{"$f":"IFERROR(IFERROR(VLOOKUP(D63,Surcharge!A:B,2,FALSE)*F63, VLOOKUP(D63 & \"\",Surcharge!A:B,2,FALSE)*F63), \"\")","v":""}]
[null,null,"Cleaning Technology: (conventional is standard,  ec-H2O NanoClean can also operate in conventional mode)",null,null,{"$f":"SUM(F65)","v":0},null,{"$f":"IFERROR(IFERROR(VLOOKUP(D64,Surcharge!A:B,2,FALSE)*F64, VLOOKUP(D64 & \"\",Surcharge!A:B,2,FALSE)*F64), \"\")","v":""}]
[null,null,"ec-H2O NanoClean™ Technology ","ec-H2ONC-T300e",3111,null,{"$f":"F65*E65","v":0},{"$f":"IFERROR(IFERROR(VLOOKUP(D65,Surcharge!A:B,2,FALSE)*F65, VLOOKUP(D65 & \"\",Surcharge!A:B,2,FALSE)*F65), \"\")","v":""},null,null,null,null,null,null,null,{"$f":"VLOOKUP(Q65,'MPF SAP Download Canada'!A:D,4,FALSE)","v":2907},"M-T300eVK_CLNTCH_ECH2ON"]
[null,null,null,null,null,null,null,{"$f":"IFERROR(IFERROR(VLOOKUP(D66,Surcharge!A:B,2,FALSE)*F66, VLOOKUP(D66 & \"\",Surcharge!A:B,2,FALSE)*F66), \"\")","v":""}]
[null,null,"Drive Type  (Note 1)",null,null,{"$f":"SUM(F68:F69)","v":0},null,{"$f":"IFERROR(IFERROR(VLOOKUP(D67,Surcharge!A:B,2,FALSE)*F67, VLOOKUP(D67 & \"\",Surcharge!A:B,2,FALSE)*F67), \"\")","v":""}]
[null,null,"Pad / Brush Assist","Pad-T300e","N/C",null,{"$f":"IF(F68=0,\" \",\"N/C\")","v":" "},{"$f":"IFERROR(IFERROR(VLOOKUP(D68,Surcharge!A:B,2,FALSE)*F68, VLOOKUP(D68 & \"\",Surcharge!A:B,2,FALSE)*F68), \"\")","v":""}]
[null,null,"Self Propel","Self-T300e",2243,null,{"$f":"F69*E69","v":0},{"$f":"IFERROR(IFERROR(VLOOKUP(D69,Surcharge!A:B,2,FALSE)*F69, VLOOKUP(D69 & \"\",Surcharge!A:B,2,FALSE)*F69), \"\")","v":""},null,null,null,null,null,null,null,{"$f":"VLOOKUP(Q69,'MPF SAP Download Canada'!A:D,4,FALSE)","v":2096},"M-T300eVK_CLNDRT_SP"]
[null,null,null,null,null,null,null,{"$f":"IFERROR(IFERROR(VLOOKUP(D70,Surcharge!A:B,2,FALSE)*F70, VLOOKUP(D70 & \"\",Surcharge!A:B,2,FALSE)*F70), \"\")","v":""}]
[null,null,"Battery Type  (Note 2)",null,null,{"$f":"SUM(F72:F78)","v":0},null,{"$f":"IFERROR(IFERROR(VLOOKUP(D71,Surcharge!A:B,2,FALSE)*F71, VLOOKUP(D71 & \"\",Surcharge!A:B,2,FALSE)*F71), \"\")","v":""}]
[null,null,"Wet 130AH C/20  (Kit of 2 batteries)     ",9013852,1013,null,{"$f":"F72*E72","v":0},{"$f":"IFERROR(IFERROR(VLOOKUP(D72,Surcharge!A:B,2,FALSE)*F72, VLOOKUP(D72 & \"\",Surcharge!A:B,2,FALSE)*F72), \"\")","v":""},null,null,null,null,null,null,null,{"$f":"VLOOKUP(Q72,'MPF SAP Download Canada'!A:D,4,FALSE)","v":946},"M-T300eVK_BTY_W130C20"]
[null,null,"Wet 150AH C/20  (Kit of 2 batteries)",9013853,1210,null,{"$f":"F73*E73","v":0},{"$f":"IFERROR(IFERROR(VLOOKUP(D73,Surcharge!A:B,2,FALSE)*F73, VLOOKUP(D73 & \"\",Surcharge!A:B,2,FALSE)*F73), \"\")","v":""},null,null,null,null,null,null,null,{"$f":"VLOOKUP(Q73,'MPF SAP Download Canada'!A:D,4,FALSE)","v":1130},"M-T300eVK_BTY_W150C20"]
[null,null,"Sealed/MF AGM 140AH C/20  (Kit of 2 batteries)",9013854,2855,null,{"$f":"F74*E74","v":0},{"$f":"IFERROR(IFERROR(VLOOKUP(D74,Surcharge!A:B,2,FALSE)*F74, VLOOKUP(D74 & \"\",Surcharge!A:B,2,FALSE)*F74), \"\")","v":""},null,null,null,null,null,null,null,{"$f":"VLOOKUP(Q74,'MPF SAP Download Canada'!A:D,4,FALSE)","v":2668},"M-T300eVK_BTY_A140C20"]
[null,null,"Li-Ion 24v, 90AH  (Note 2a)",9022766,4240,null,{"$f":"F75*E75","v":0}]
[null,null,"Without",null,"N/C",null,{"$f":"IF(F76=0,\" \",\"N/C\")","v":" "},{"$f":"IFERROR(IFERROR(VLOOKUP(D76,Surcharge!A:B,2,FALSE)*F76, VLOOKUP(D76 & \"\",Surcharge!A:B,2,FALSE)*F76), \"\")","v":""},null,null,null,null,null,null,null,{"$f":"VLOOKUP(Q76,'MPF SAP Download Canada'!A:D,4,FALSE)","v":{"$error":"#N/A"}},"M-T300e"]
[null,null,null,null,null,{"$f":"SUM(F78:F78)","v":0},null,{"$f":"IFERROR(IFERROR(VLOOKUP(D77,Surcharge!A:B,2,FALSE)*F77, VLOOKUP(D77 & \"\",Surcharge!A:B,2,FALSE)*F77), \"\")","v":""}]
[null,null,"Manual Battery Watering System - Wet 150AH Battery only (Note 3) ",9009619,813,null,{"$f":"F78*E78","v":0},{"$f":"IFERROR(IFERROR(VLOOKUP(D78,Surcharge!A:B,2,FALSE)*F78, VLOOKUP(D78 & \"\",Surcharge!A:B,2,FALSE)*F78), \"\")","v":""},null,null,null,null,null,null,null,{"$f":"VLOOKUP(Q78,'MPF SAP Download Canada'!A:D,4,FALSE)","v":759},"M-T300eVK_BTYWTRSYS"]
[null,null,null,null,null,null,null,{"$f":"IFERROR(IFERROR(VLOOKUP(D79,Surcharge!A:B,2,FALSE)*F79, VLOOKUP(D79 & \"\",Surcharge!A:B,2,FALSE)*F79), \"\")","v":""}]
[null,null,"Charger","Reference Number",null,{"$f":"-SUM(F81:F83)","v":0},null,{"$f":"IFERROR(IFERROR(VLOOKUP(D80,Surcharge!A:B,2,FALSE)*F80, VLOOKUP(D80 & \"\",Surcharge!A:B,2,FALSE)*F80), \"\")","v":""}]
[null,null,"13A 85-265V AC 50/60Hz 1Ph - On Board",9013847,"N/C",null,{"$f":"IF(F81=0,\" \",\"N/C\")","v":" "},{"$f":"IFERROR(IFERROR(VLOOKUP(D81,Surcharge!A:B,2,FALSE)*F81, VLOOKUP(D81 & \"\",Surcharge!A:B,2,FALSE)*F81), \"\")","v":""},null,null,null,null,null,null,null,{"$f":"VLOOKUP(Q81,'MPF SAP Download Canada'!A:D,4,FALSE)","v":{"$error":"#N/A"}},"M-T300e"]
[null,null,"27A 100-240V AC 50/60Hz 1Ph - Off-Board Charger (Li-Ion Batteries)",9052023,"N/C",null,{"$f":"IF(F82=0,\" \",\"N/C\")","v":" "}]
[null,null,"27A 100-240V AC 50/60Hz 1Ph - On-Board Charger (Li-Ion Batteries)",9022824,"N/C",null," "]
[null,null,null,null,null,null,null,{"$f":"IFERROR(IFERROR(VLOOKUP(D84,Surcharge!A:B,2,FALSE)*F84, VLOOKUP(D84 & \"\",Surcharge!A:B,2,FALSE)*F84), \"\")","v":""}]
[null,null,"Down Pressure  (Note 4)",null,null,{"$f":"SUM(F86:F87)","v":0},null,{"$f":"IFERROR(IFERROR(VLOOKUP(D85,Surcharge!A:B,2,FALSE)*F85, VLOOKUP(D85 & \"\",Surcharge!A:B,2,FALSE)*F85), \"\")","v":""}]
[null,null,"Single",9013833,"N/C",null,{"$f":"IF(F86=0,\" \",\"N/C\")","v":" "},{"$f":"IFERROR(IFERROR(VLOOKUP(D86,Surcharge!A:B,2,FALSE)*F86, VLOOKUP(D86 & \"\",Surcharge!A:B,2,FALSE)*F86), \"\")","v":""},null,null,null,null,null,null,null,{"$f":"VLOOKUP(Q86,'MPF SAP Download Canada'!A:D,4,FALSE)","v":{"$error":"#N/A"}},"M-T300e"]
[null,null,"Multiple (Dual Down Pressure) - Disk and Orbital",9013831,514,null,{"$f":"F87*E87","v":0},{"$f":"IFERROR(IFERROR(VLOOKUP(D87,Surcharge!A:B,2,FALSE)*F87, VLOOKUP(D87 & \"\",Surcharge!A:B,2,FALSE)*F87), \"\")","v":""},null,null,null,null,null,null,null,{"$f":"VLOOKUP(Q87,'MPF SAP Download Canada'!A:D,4,FALSE)","v":480},"M-T300eVK_DWN_PRS_MLT_DO"]
[null,null,null,null,null,null,null,{"$f":"IFERROR(IFERROR(VLOOKUP(D88,Surcharge!A:B,2,FALSE)*F88, VLOOKUP(D88 & \"\",Surcharge!A:B,2,FALSE)*F88), \"\")","v":""}]
[null,"Machine Protection & Safety",null,null,null,{"$f":"SUM(F90:F90)","v":0},null,{"$f":"IFERROR(IFERROR(VLOOKUP(D89,Surcharge!A:B,2,FALSE)*F89, VLOOKUP(D89 & \"\",Surcharge!A:B,2,FALSE)*F89), \"\")","v":""}]
[null,null,"Parking Brake",9013846,278,null,{"$f":"F90*E90","v":0},{"$f":"IFERROR(IFERROR(VLOOKUP(D90,Surcharge!A:B,2,FALSE)*F90, VLOOKUP(D90 & \"\",Surcharge!A:B,2,FALSE)*F90), \"\")","v":""},null,null,null,null,null,null,null,{"$f":"VLOOKUP(Q90,'MPF SAP Download Canada'!A:D,4,FALSE)","v":259},"M-T300eVK_PRGBRK"]
[null,null,null,null,null,null,null,{"$f":"IFERROR(IFERROR(VLOOKUP(D91,Surcharge!A:B,2,FALSE)*F91, VLOOKUP(D91 & \"\",Surcharge!A:B,2,FALSE)*F91), \"\")","v":""}]
[null,"Brushes and Pads  (Note 5)",null,"Reference Number",null,{"$f":"SUM(F93,F109,F125,F132)","v":0},null,{"$f":"IFERROR(IFERROR(VLOOKUP(D92,Surcharge!A:B,2,FALSE)*F92, VLOOKUP(D92 & \"\",Surcharge!A:B,2,FALSE)*F92), \"\")","v":""}]
[null,null,"430mm/17\" Disk (1 Required)",null,null,{"$f":"SUM(F94,F99,F104)","v":0},null,{"$f":"IFERROR(IFERROR(VLOOKUP(D93,Surcharge!A:B,2,FALSE)*F93, VLOOKUP(D93 & \"\",Surcharge!A:B,2,FALSE)*F93), \"\")","v":""}]
[null,null,"For Conventional Scrub Head:",null,null,{"$f":"SUM(F95:F97)","v":0},null,{"$f":"IFERROR(IFERROR(VLOOKUP(D94,Surcharge!A:B,2,FALSE)*F94, VLOOKUP(D94 & \"\",Surcharge!A:B,2,FALSE)*F94), \"\")","v":""}]
[null,null,"Polypropylene Brush",1016765,338,null,{"$f":"F95*E95","v":0},{"$f":"IFERROR(IFERROR(VLOOKUP(D95,Surcharge!A:B,2,FALSE)*F95, VLOOKUP(D95 & \"\",Surcharge!A:B,2,FALSE)*F95), \"\")","v":""},null,null,null,null,null,null,null,{"$f":"VLOOKUP(Q95,'MPF SAP Download Canada'!A:D,4,FALSE)","v":315},"M-T300eVK_CLNTOL_D430PYP"]
[null,null,"Nylon Brush",1016764,338,null,{"$f":"F96*E96","v":0},{"$f":"IFERROR(IFERROR(VLOOKUP(D96,Surcharge!A:B,2,FALSE)*F96, VLOOKUP(D96 & \"\",Surcharge!A:B,2,FALSE)*F96), \"\")","v":""},null,null,null,null,null,null,null,{"$f":"VLOOKUP(Q96,'MPF SAP Download Canada'!A:D,4,FALSE)","v":315},"M-T300eVK_CLNTOL_D430NYL"]
[null,null,"Pad Driver",1212965,338,null,{"$f":"F97*E97","v":0},{"$f":"IFERROR(IFERROR(VLOOKUP(D97,Surcharge!A:B,2,FALSE)*F97, VLOOKUP(D97 & \"\",Surcharge!A:B,2,FALSE)*F97), \"\")","v":""},null,null,null,null,null,null,null,{"$f":"VLOOKUP(Q97,'MPF SAP Download Canada'!A:D,4,FALSE)","v":315},"M-T300eVK_CLNTOL_D430PAD"]
[null,null,null,null," ",null,null,{"$f":"IFERROR(IFERROR(VLOOKUP(D98,Surcharge!A:B,2,FALSE)*F98, VLOOKUP(D98 & \"\",Surcharge!A:B,2,FALSE)*F98), \"\")","v":""}]
[null,null,"For Insta-Click™ Scrub Head:",null," ",{"$f":"SUM(F100:F102)","v":0},null,{"$f":"IFERROR(IFERROR(VLOOKUP(D99,Surcharge!A:B,2,FALSE)*F99, VLOOKUP(D99 & \"\",Surcharge!A:B,2,FALSE)*F99), \"\")","v":""}]
[null,null,"Polypropylene Brush",1213035,480,null,{"$f":"F100*E100","v":0},{"$f":"IFERROR(IFERROR(VLOOKUP(D100,Surcharge!A:B,2,FALSE)*F100, VLOOKUP(D100 & \"\",Surcharge!A:B,2,FALSE)*F100), \"\")","v":""},null,null,null,null,null,null,null,null,"M-T300eVK_CLNTOL_D430PYP_IC"]
[null,null,"Nylon Brush",1213034,480,null,{"$f":"F101*E101","v":0},{"$f":"IFERROR(IFERROR(VLOOKUP(D101,Surcharge!A:B,2,FALSE)*F101, VLOOKUP(D101 & \"\",Surcharge!A:B,2,FALSE)*F101), \"\")","v":""},null,null,null,null,null,null,null,null,"M-T300eVK_CLNTOL_D430NYL_IC"]
[null,null,"Pad Driver",1211869,480,null,{"$f":"F102*E102","v":0},{"$f":"IFERROR(IFERROR(VLOOKUP(D102,Surcharge!A:B,2,FALSE)*F102, VLOOKUP(D102 & \"\",Surcharge!A:B,2,FALSE)*F102), \"\")","v":""}]
[null,null,null,null," ",null,null,{"$f":"IFERROR(IFERROR(VLOOKUP(D103,Surcharge!A:B,2,FALSE)*F103, VLOOKUP(D103 & \"\",Surcharge!A:B,2,FALSE)*F103), \"\")","v":""},null,null,null,null,null,null,null,null,"M-T300eVK_CLNTOL_D430PAD_IC"]
[null,null,"Pads",null," ",{"$f":"SUM(F105:F107)","v":0},null,{"$f":"IFERROR(IFERROR(VLOOKUP(D104,Surcharge!A:B,2,FALSE)*F104, VLOOKUP(D104 & \"\",Surcharge!A:B,2,FALSE)*F104), \"\")","v":""}]
[null,null,"Blue Scrubbing - 3M",1050270,30,null,{"$f":"F105*E105","v":0},{"$f":"IFERROR(IFERROR(VLOOKUP(D105,Surcharge!A:B,2,FALSE)*F105, VLOOKUP(D105 & \"\",Surcharge!A:B,2,FALSE)*F105), \"\")","v":""},null,null,null,null,null,null,null,null,"M-T300eVK_PADTYP_430BLU3"]
[null,null,"Red Cleaning - 3M",1050271,30,null,0,{"$f":"IFERROR(IFERROR(VLOOKUP(D106,Surcharge!A:B,2,FALSE)*F106, VLOOKUP(D106 & \"\",Surcharge!A:B,2,FALSE)*F106), \"\")","v":""},null,null,null,null,null,null,null,null,"M-T300eVK_PADTYP_430RED3"]
[null,null,"White Polishing - 3M",1050273,30,null,0,{"$f":"IFERROR(IFERROR(VLOOKUP(D107,Surcharge!A:B,2,FALSE)*F107, VLOOKUP(D107 & \"\",Surcharge!A:B,2,FALSE)*F107), \"\")","v":""},null,null,null,null,null,null,null,null,"M-T300eVK_PADTYP_430WHT3"]
[null,null,null,null," ",null,null,{"$f":"IFERROR(IFERROR(VLOOKUP(D108,Surcharge!A:B,2,FALSE)*F108, VLOOKUP(D108 & \"\",Surcharge!A:B,2,FALSE)*F108), \"\")","v":""}]
[null,null,"500mm/20\" Disk (1 Required)",null," ",{"$f":"SUM(F110,F115,F120)","v":0},null,{"$f":"IFERROR(IFERROR(VLOOKUP(D109,Surcharge!A:B,2,FALSE)*F109, VLOOKUP(D109 & \"\",Surcharge!A:B,2,FALSE)*F109), \"\")","v":""}]
[null,null,"For Conventional Scrub Head:",null," ",{"$f":"SUM(F111:F113)","v":0},null,{"$f":"IFERROR(IFERROR(VLOOKUP(D110,Surcharge!A:B,2,FALSE)*F110, VLOOKUP(D110 & \"\",Surcharge!A:B,2,FALSE)*F110), \"\")","v":""}]
[null,null,"Polypropylene Brush",1016811,394,null,{"$f":"F111*E111","v":0},{"$f":"IFERROR(IFERROR(VLOOKUP(D111,Surcharge!A:B,2,FALSE)*F111, VLOOKUP(D111 & \"\",Surcharge!A:B,2,FALSE)*F111), \"\")","v":""},null,null,null,null,null,null,null,null,"M-T300eVK_CLNTOL_D500PYP"]
[null,null,"Nylon Brush",1016810,394,null,{"$f":"F112*E112","v":0},{"$f":"IFERROR(IFERROR(VLOOKUP(D112,Surcharge!A:B,2,FALSE)*F112, VLOOKUP(D112 & \"\",Surcharge!A:B,2,FALSE)*F112), \"\")","v":""},null,null,null,null,null,null,null,null,"M-T300eVK_CLNTOL_D500NYL"]
[null,null,"Pad Driver",1212960,394,null,{"$f":"F113*E113","v":0},{"$f":"IFERROR(IFERROR(VLOOKUP(D113,Surcharge!A:B,2,FALSE)*F113, VLOOKUP(D113 & \"\",Surcharge!A:B,2,FALSE)*F113), \"\")","v":""},null,null,null,null,null,null,null,null,"M-T300eVK_CLNTOL_D500PAD"]
[null,null,null,null," ",null,null,{"$f":"IFERROR(IFERROR(VLOOKUP(D114,Surcharge!A:B,2,FALSE)*F114, VLOOKUP(D114 & \"\",Surcharge!A:B,2,FALSE)*F114), \"\")","v":""}]
[null,null,"For Insta-Click™ Scrub Head:",null," ",{"$f":"SUM(F116:F118)","v":0},null,{"$f":"IFERROR(IFERROR(VLOOKUP(D115,Surcharge!A:B,2,FALSE)*F115, VLOOKUP(D115 & \"\",Surcharge!A:B,2,FALSE)*F115), \"\")","v":""}]
[null,null,"Polypropylene Brush",1213032,502,null,{"$f":"F116*E116","v":0},{"$f":"IFERROR(IFERROR(VLOOKUP(D116,Surcharge!A:B,2,FALSE)*F116, VLOOKUP(D116 & \"\",Surcharge!A:B,2,FALSE)*F116), \"\")","v":""},null,null,null,null,null,null,null,null,"M-T300eVK_CLNTOL_D500PYP_IC"]
[null,null,"Nylon Brush",1210386,502,null,{"$f":"F117*E117","v":0},{"$f":"IFERROR(IFERROR(VLOOKUP(D117,Surcharge!A:B,2,FALSE)*F117, VLOOKUP(D117 & \"\",Surcharge!A:B,2,FALSE)*F117), \"\")","v":""},null,null,null,null,null,null,null,null,"M-T300eVK_CLNTOL_D500NYL_IC"]
[null,null,"Pad Driver",1209197,502,null,{"$f":"F118*E118","v":0},{"$f":"IFERROR(IFERROR(VLOOKUP(D118,Surcharge!A:B,2,FALSE)*F118, VLOOKUP(D118 & \"\",Surcharge!A:B,2,FALSE)*F118), \"\")","v":""},null,null,null,null,null,null,null,null,"M-T300eVK_CLNTOL_D500PAD_IC"]
[null,null,null,null," ",null,null,{"$f":"IFERROR(IFERROR(VLOOKUP(D119,Surcharge!A:B,2,FALSE)*F119, VLOOKUP(D119 & \"\",Surcharge!A:B,2,FALSE)*F119), \"\")","v":""}]
[null,null,"Pads ",null," ",{"$f":"SUM(F121:F123)","v":0},null,{"$f":"IFERROR(IFERROR(VLOOKUP(D120,Surcharge!A:B,2,FALSE)*F120, VLOOKUP(D120 & \"\",Surcharge!A:B,2,FALSE)*F120), \"\")","v":""}]
[null,null,"Blue Scrubbing - 3M",17262,37.5,null,{"$f":"F121*E121","v":0},{"$f":"IFERROR(IFERROR(VLOOKUP(D121,Surcharge!A:B,2,FALSE)*F121, VLOOKUP(D121 & \"\",Surcharge!A:B,2,FALSE)*F121), \"\")","v":""},null,null,null,null,null,null,null,null,"M-T300eVK_PADTYP_500BLU3"]
[null,null,"Red Cleaning - 3M",17261,37.5,null,0,{"$f":"IFERROR(IFERROR(VLOOKUP(D122,Surcharge!A:B,2,FALSE)*F122, VLOOKUP(D122 & \"\",Surcharge!A:B,2,FALSE)*F122), \"\")","v":""},null,null,null,null,null,null,null,null,"M-T300eVK_PADTYP_500RED3"]
[null,null,"White Polishing - 3M",17260,37.5,null,0,{"$f":"IFERROR(IFERROR(VLOOKUP(D123,Surcharge!A:B,2,FALSE)*F123, VLOOKUP(D123 & \"\",Surcharge!A:B,2,FALSE)*F123), \"\")","v":""},null,null,null,null,null,null,null,null,"M-T300eVK_PADTYP_500WHT3"]
[null,null,null,null," ",null,null,{"$f":"IFERROR(IFERROR(VLOOKUP(D124,Surcharge!A:B,2,FALSE)*F124, VLOOKUP(D124 & \"\",Surcharge!A:B,2,FALSE)*F124), \"\")","v":""}]
[null,null,"500mm/20\" Orbital (Standard)",null," ",{"$f":"SUM(F126:F130)","v":0},null,{"$f":"IFERROR(IFERROR(VLOOKUP(D125,Surcharge!A:B,2,FALSE)*F125, VLOOKUP(D125 & \"\",Surcharge!A:B,2,FALSE)*F125), \"\")","v":""}]
[null,null,"Pad Driver",null,"N/C",null,{"$f":"IF(F126=0,\" \",\"N/C\")","v":" "},{"$f":"IFERROR(IFERROR(VLOOKUP(D126,Surcharge!A:B,2,FALSE)*F126, VLOOKUP(D126 & \"\",Surcharge!A:B,2,FALSE)*F126), \"\")","v":""},null,null,null,null,null,null,null,null,"M-T300e"]
[null,null,"Pads ",null," ",{"$f":"SUM(F128:F130)","v":0},null,{"$f":"IFERROR(IFERROR(VLOOKUP(D127,Surcharge!A:B,2,FALSE)*F127, VLOOKUP(D127 & \"\",Surcharge!A:B,2,FALSE)*F127), \"\")","v":""}]
[null,null,"Blue Scrubbing - 3M",1205514,36.4,null,{"$f":"F128*E128","v":0},{"$f":"IFERROR(IFERROR(VLOOKUP(D128,Surcharge!A:B,2,FALSE)*F128, VLOOKUP(D128 & \"\",Surcharge!A:B,2,FALSE)*F128), \"\")","v":""},null,null,null,null,null,null,null,null,"M-T300eVK_PADTYP_O500BLU3"]
[null,null,"Red Cleaning - 3M",1205513,36.4,null,{"$f":"F129*E129","v":0},{"$f":"IFERROR(IFERROR(VLOOKUP(D129,Surcharge!A:B,2,FALSE)*F129, VLOOKUP(D129 & \"\",Surcharge!A:B,2,FALSE)*F129), \"\")","v":""},null,null,null,null,null,null,null,null,"M-T300eVK_PADTYP_O500RED3"]
[null,null,"White Polishing - 3M",1205512,36.4,null,{"$f":"F130*E130","v":0},{"$f":"IFERROR(IFERROR(VLOOKUP(D130,Surcharge!A:B,2,FALSE)*F130, VLOOKUP(D130 & \"\",Surcharge!A:B,2,FALSE)*F130), \"\")","v":""},null,null,null,null,null,null,null,null,"M-T300eVK_PADTYP_O500WHT3"]
[null,null,null,null," ",null,null,{"$f":"IFERROR(IFERROR(VLOOKUP(D131,Surcharge!A:B,2,FALSE)*F131, VLOOKUP(D131 & \"\",Surcharge!A:B,2,FALSE)*F131), \"\")","v":""}]
[null,null,"600mm/24\" Disk (2 Required)",null," ",{"$f":"SUM(F133,F138,F143)","v":0},null,{"$f":"IFERROR(IFERROR(VLOOKUP(D132,Surcharge!A:B,2,FALSE)*F132, VLOOKUP(D132 & \"\",Surcharge!A:B,2,FALSE)*F132), \"\")","v":""}]
[null,null,"For Conventional Scrub Head:",null," ",{"$f":"SUM(F134:F136)","v":0},null,{"$f":"IFERROR(IFERROR(VLOOKUP(D133,Surcharge!A:B,2,FALSE)*F133, VLOOKUP(D133 & \"\",Surcharge!A:B,2,FALSE)*F133), \"\")","v":""}]
[null,null,"Polypropylene Brush",1056313,324,null,{"$f":"F134*E134","v":0},{"$f":"IFERROR(IFERROR(VLOOKUP(D134,Surcharge!A:B,2,FALSE)*F134, VLOOKUP(D134 & \"\",Surcharge!A:B,2,FALSE)*F134), \"\")","v":""},null,null,null,null,null,null,null,null,"M-T300eVK_CLNTOL_D600PYP"]
[null,null,"Nylon Brush",1056306,324,null,{"$f":"F135*E135","v":0},{"$f":"IFERROR(IFERROR(VLOOKUP(D135,Surcharge!A:B,2,FALSE)*F135, VLOOKUP(D135 & \"\",Surcharge!A:B,2,FALSE)*F135), \"\")","v":""},null,null,null,null,null,null,null,null,"M-T300eVK_CLNTOL_D600NYL"]
[null,null,"Pad Driver",1213038,324,null,{"$f":"F136*E136","v":0},{"$f":"IFERROR(IFERROR(VLOOKUP(D136,Surcharge!A:B,2,FALSE)*F136, VLOOKUP(D136 & \"\",Surcharge!A:B,2,FALSE)*F136), \"\")","v":""},null,null,null,null,null,null,null,null,"M-T300eVK_CLNTOL_D600PAD"]
[null,null,null,null," ",null,null,{"$f":"IFERROR(IFERROR(VLOOKUP(D137,Surcharge!A:B,2,FALSE)*F137, VLOOKUP(D137 & \"\",Surcharge!A:B,2,FALSE)*F137), \"\")","v":""}]
[null,null,"For Insta-Click™ Scrub Head:",null," ",{"$f":"SUM(F139:F146)","v":0},null,{"$f":"IFERROR(IFERROR(VLOOKUP(D138,Surcharge!A:B,2,FALSE)*F138, VLOOKUP(D138 & \"\",Surcharge!A:B,2,FALSE)*F138), \"\")","v":""}]
[null,null,"Polypropylene Brush",1213040,324,null,{"$f":"F139*E139","v":0},{"$f":"IFERROR(IFERROR(VLOOKUP(D139,Surcharge!A:B,2,FALSE)*F139, VLOOKUP(D139 & \"\",Surcharge!A:B,2,FALSE)*F139), \"\")","v":""},null,null,null,null,null,null,null,null,"M-T300eVK_CLNTOL_D600PYP_IC"]
[null,null,"Nylon Brush",1210136,324,null,{"$f":"F140*E140","v":0},{"$f":"IFERROR(IFERROR(VLOOKUP(D140,Surcharge!A:B,2,FALSE)*F140, VLOOKUP(D140 & \"\",Surcharge!A:B,2,FALSE)*F140), \"\")","v":""},null,null,null,null,null,null,null,null,"M-T300eVK_CLNTOL_D600NYL_IC"]
[null,null,"Pad Driver",1209160,324,null,{"$f":"F141*E141","v":0},{"$f":"IFERROR(IFERROR(VLOOKUP(D141,Surcharge!A:B,2,FALSE)*F141, VLOOKUP(D141 & \"\",Surcharge!A:B,2,FALSE)*F141), \"\")","v":""},null,null,null,null,null,null,null,null,"M-T300eVK_CLNTOL_D600PAD_IC"]
[null,null,null,null," ",null,null,{"$f":"IFERROR(IFERROR(VLOOKUP(D142,Surcharge!A:B,2,FALSE)*F142, VLOOKUP(D142 & \"\",Surcharge!A:B,2,FALSE)*F142), \"\")","v":""}]
[null,null,"Pads ",null," ",{"$f":"SUM(F144:F146)","v":0},null,{"$f":"IFERROR(IFERROR(VLOOKUP(D143,Surcharge!A:B,2,FALSE)*F143, VLOOKUP(D143 & \"\",Surcharge!A:B,2,FALSE)*F143), \"\")","v":""}]
[null,null,"Blue Scrubbing - 3M",385942,21.4,null,{"$f":"F144*E144","v":0},{"$f":"IFERROR(IFERROR(VLOOKUP(D144,Surcharge!A:B,2,FALSE)*F144, VLOOKUP(D144 & \"\",Surcharge!A:B,2,FALSE)*F144), \"\")","v":""},null,null,null,null,null,null,null,null,"M-T300eVK_PADTYP_600BLU3"]
[null,null,"Red Cleaning - 3M",385941,21.4,null,0,{"$f":"IFERROR(IFERROR(VLOOKUP(D145,Surcharge!A:B,2,FALSE)*F145, VLOOKUP(D145 & \"\",Surcharge!A:B,2,FALSE)*F145), \"\")","v":""},null,null,null,null,null,null,null,null,"M-T300eVK_PADTYP_600RED3"]
[null,null,"White Polishing - 3M",385940,21.4,null,0,{"$f":"IFERROR(IFERROR(VLOOKUP(D146,Surcharge!A:B,2,FALSE)*F146, VLOOKUP(D146 & \"\",Surcharge!A:B,2,FALSE)*F146), \"\")","v":""},null,null,null,null,null,null,null,null,"M-T300eVK_PADTYP_600WHT3"]
[null,null,null,null,null,null,null,{"$f":"IFERROR(IFERROR(VLOOKUP(D147,Surcharge!A:B,2,FALSE)*F147, VLOOKUP(D147 & \"\",Surcharge!A:B,2,FALSE)*F147), \"\")","v":""}]
[null,"Support  (Note 6)",null,"Reference Number",null,{"$f":"SUM(F149:F156)","v":0},null,{"$f":"IFERROR(IFERROR(VLOOKUP(D148,Surcharge!A:B,2,FALSE)*F148, VLOOKUP(D148 & \"\",Surcharge!A:B,2,FALSE)*F148), \"\")","v":""}]
[null,null,"T300e Operator Manual  - English",9014506,"N/C",null,{"$f":"IF(F149=0,\" \",\"N/C\")","v":" "},{"$f":"IFERROR(IFERROR(VLOOKUP(D149,Surcharge!A:B,2,FALSE)*F149, VLOOKUP(D149 & \"\",Surcharge!A:B,2,FALSE)*F149), \"\")","v":""},null,null,null,null,null,null,null,null,"M-T300eVK_OPRMNL"]
[null,null,"T300e Operator Manual  - Spanish",9014507,"N/C",null,{"$f":"IF(F150=0,\" \",\"N/C\")","v":" "},{"$f":"IFERROR(IFERROR(VLOOKUP(D150,Surcharge!A:B,2,FALSE)*F150, VLOOKUP(D150 & \"\",Surcharge!A:B,2,FALSE)*F150), \"\")","v":""},null,null,null,null,null,null,null,null,"M-T300e"]
[null,null,"T300e Operator Manual -  French  (Note 7)",9014508,"N/C",null,{"$f":"IF(F151=0,\" \",\"N/C\")","v":" "},{"$f":"IFERROR(IFERROR(VLOOKUP(D151,Surcharge!A:B,2,FALSE)*F151, VLOOKUP(D151 & \"\",Surcharge!A:B,2,FALSE)*F151), \"\")","v":""},null,null,null,null,null,null,null,null,"M-T300e"]
[null,null,"Additional Operator Manual","SEE ABOVE",191,null,{"$f":"F152*E152","v":0},{"$f":"IFERROR(IFERROR(VLOOKUP(D152,Surcharge!A:B,2,FALSE)*F152, VLOOKUP(D152 & \"\",Surcharge!A:B,2,FALSE)*F152), \"\")","v":""},null,null,null,null,null,null,null,null,"M-T300eVK_ADLOPRMNL"]
[null,null,"T300e Parts Manual (Factory installed)",9014500,78,null,{"$f":"F153*E153","v":0},{"$f":"IFERROR(IFERROR(VLOOKUP(D153,Surcharge!A:B,2,FALSE)*F153, VLOOKUP(D153 & \"\",Surcharge!A:B,2,FALSE)*F153), \"\")","v":""},null,null,null,null,null,null,null,null,"M-T300eVK_PARMNL"]
[null,null,"Service Manual",9014510,191,null,{"$f":"F154*E154","v":0},{"$f":"IFERROR(IFERROR(VLOOKUP(D154,Surcharge!A:B,2,FALSE)*F154, VLOOKUP(D154 & \"\",Surcharge!A:B,2,FALSE)*F154), \"\")","v":""},null,null,null,null,null,null,null,null,"M-T300eVK_SRVMNL"]
[null,null,null,null,null,null,null,{"$f":"IFERROR(IFERROR(VLOOKUP(D155,Surcharge!A:B,2,FALSE)*F155, VLOOKUP(D155 & \"\",Surcharge!A:B,2,FALSE)*F155), \"\")","v":""}]
[null,null,"Packaging","Reference Number","Price",{"$f":"SUM(F157:F157)","v":0},null,{"$f":"IFERROR(IFERROR(VLOOKUP(D156,Surcharge!A:B,2,FALSE)*F156, VLOOKUP(D156 & \"\",Surcharge!A:B,2,FALSE)*F156), \"\")","v":""}]
[null,null,"Skid w/Carton, Stackable ",9013859,"N/C",null,{"$f":"IF(F157=0,\" \",\"N/C\")","v":" "},{"$f":"IFERROR(IFERROR(VLOOKUP(D157,Surcharge!A:B,2,FALSE)*F157, VLOOKUP(D157 & \"\",Surcharge!A:B,2,FALSE)*F157), \"\")","v":""},null,null,null,null,null,null,null,null,"M-T300eVK_PKG_SSKD"]
[null,null,null,null,null,null,null,{"$f":"IFERROR(IFERROR(VLOOKUP(D158,Surcharge!A:B,2,FALSE)*F158, VLOOKUP(D158 & \"\",Surcharge!A:B,2,FALSE)*F158), \"\")","v":""}]
[]
[]
[null,"Custom Solution--write in description, qty, price, and PN if applicable",null,null,null,{"$f":"SUM(F162)","v":0}]
[null,null,null,null,"Insert Prices Here",{"$f":"SUM(F163:F166)","v":0}]
[null,null,null,"Custom",null,{"$f":"IF(E163 <> \"\", 1, 0)","v":0},{"$f":"F163*E163","v":0}]
[null,null,null,"Custom",null,{"$f":"IF(E164 <> \"\", 1, 0)","v":0},{"$f":"F164*E164","v":0}]
[null,null,null,"Custom",null,{"$f":"IF(E165 <> \"\", 1, 0)","v":0},{"$f":"F165*E165","v":0}]
[null,null,null,"Custom",null,{"$f":"IF(E166 <> \"\", 1, 0)","v":0},{"$f":"F166*E166","v":0}]
[null,null,null,null,{"$f":"ROUND(SUM(G53:G166), 0)","v":0},{"$f":"SUM(E168)","v":0}]
[null,null,null,"Machine Subtotal ",{"$f":"ROUND(SUM(G53:G166), 0)","v":0},{"$f":"F167","v":0}]
[null,"Discounts",null,null,null,{"$f":"SUM(F170)","v":0}]
[null,null,null,null,null,{"$f":"SUM(F172:F175)","v":0}]
[null,null,null,"Applicable Currency Adj %",null,{"$f":"IF(E171 <> \"\", 1, 0)","v":0},{"$f":"IF(F171*(E171*0.01)*E167 < 0, F171*(E171*0.01)*E167, -(F171*(E171*0.01)*E167))","v":0}]
[null,null,null,"Discount %",null,{"$f":"IF(E172 <> \"\", 1, 0)","v":0},{"$f":"IF(F172*(E172*0.01)*(E167+G171) < 0, F172*(E172*0.01)*(E167+G171), -(F172*(E172*0.01)*(E167+G171)))","v":0}]
[null,null,null,"Discount $",null,{"$f":"IF(E173 <> \"\", 1, 0)","v":0},{"$f":"IF(F173*E173 < 0, F173*E173, -(F173*E173))","v":0}]
[null,null,null,"Discount $",null,{"$f":"IF(E174 <> \"\", 1, 0)","v":0},{"$f":"IF(F174*E174 < 0, F174*E174, -(F174*E174))","v":0}]
[null,null,null,"Discount $",null,{"$f":"IF(E175 <> \"\", 1, 0)","v":0},{"$f":"IF(F175*E175 < 0, F175*E175, -(F175*E175))","v":0}]
[null,null,null,"Discount Total ",{"$f":"SUM(G171:G175)","v":0},{"$f":"SUM(E176)","v":0}]
[null,null,null,null,null,{"$f":"#REF!","v":{"$error":"#REF!"}}]
[null,null,null,null,null,{"$f":"F177","v":{"$error":"#REF!"}}]
[null,null,"Prepaid and Add","Freight",null,{"$f":"IF(E179 <> \"\", 1, 0)","v":0},{"$f":"F179*E179","v":0}]
[null,null,"Subject to all applicable taxes","Tax",null,{"$f":"IF(E180 <> \"\", 1, 0)","v":0},{"$f":"F180*E180","v":0}]
[null,null,null,null,null,{"$f":"SUM(F182)","v":0}]
[null,null,null,"MACHINE TOTAL*",null,{"$f":"SUM(G182)","v":0},{"$f":"SUM(G53:G180)","v":0},null,null,null,null,null,null,"This goes to \"My Documents\""]
[null,null,null,null,null,null,{"$f":"SUM(G182)","v":0}]
[]
[]
[]
[]
[null,null,"First Western Equipment Finance - Leasing Calculation Option:","Option 1",null,"Option 2",null,null,{"$f":"Financing!A38","v":"Rates 2025 - Rev 2/4/2025"}]
[null,null,null,"Monthly Payment","Cost Per Day","Monthly Payment","Cost Per Day",null,{"$f":"Financing!A39","v":"“Blank Payment Amounts Indicate The Financing Option Or Purchase Options Selected Are Not "}]
[null,null,"Purchase Option:","FWEF:  $1 Buyout Lease",null,"FWEF: Municipal Lease",null,null,{"$f":"Financing!A40","v":"Applicable Or The Machine Total Is Below The Minimum Amount For The Selected Vendor”"}]
[null,null,"24 Months",false,0,false,0,null,{"$f":"Financing!A41","v":"\"Quoted monthly payments are estimates only and are based on a certain level of credit rating."}]
[null,null,"30 Months",false,0,false,0,null,{"$f":"Financing!A42","v":"Actual monthly payments may be higher depending on your credit rating.\""}]
[null,null,"36 Months",false,0,false,0,null,{"$f":"Financing!A43","v":"“Financing rates do not include Pre-Paid Service”"}]
[null,null,"48 Months",0,0,0,0]
[]
[null,null,null,"Benefits of Equipment Financing:"]
[null,null,null,"• Spreads out investment over time.",null,"• Keep current with latest technology."]
[null,null,null,"• Preserve capital.",null,"• Service and parts bundling available."]
[null,null,null,"• Low monthly payment.",null,"• Pay for labor savings as you go."]
[null,"   TennantTrue",null,null,0,0]
[]
[null,null,"Is customer interested in service program?","Yes","*State/County selection required for TennantTrue service options"]
[]
[null,null,"If not, why?"]
[]
[null,null,"Term:",36,null,null,"AB Brushes","No"]
[null,null,"Monthly machine usage (hrs):","< 30/mo. (Avg. 1hr./day)"]
[]
[null,null,"TennantTrue: ","Gold Contract",null,"Silver Contract"]
[null,null,"Per Visit",null,null,425]
[null,null,"Monthly",120,null,69]
[null,null,"Annually",null,null,816]
[null,null,"Pre-Pay Full Term",4162,null,2397]
[null,null,"Hourly Labor Rate"]
[null,null,"Site Visit"]
[]
[null,null,"* Verify customer current pricing prior to quote. "]
[null,null,"**All rates and fees above reflect service for one (1) unit with the exception of Block of Time service."]
[null,null,"*Block of Time is available in 1 Year Term only and is priced as such no matter the term selection on this template."]
[]
[]
[]
[null,"Quote Special Instructions:"]
[]
[]
[null,{"$f":"Start_Here!E36","v":"Terms and Conditions"}]
[null,{"$f":"Start_Here!E37","v":"Ask your local sales rep for estimated lead times. Verify when placing order"}]
[null,{"$f":"Start_Here!E38","v":"All orders subject to acceptance by Tennant Sales and Service Company, Minneapolis, Minnesota"}]
[null,{"$f":"Start_Here!E39","v":"Prices subject to change without notice. Subject to any applicable taxes."}]
[null,{"$f":"Start_Here!E40","v":"Terms:  Net 30 days.  Payable in Canadian Funds"}]
[null,{"$f":"Start_Here!E41","v":"Freight:  Accessories, parts, supplies, detergents, and floor coatings orders delivered DDP "}]
[null,{"$f":"Start_Here!E42","v":"shipping point Frt PPD.  Machine orders delivered DDP shipping point Frt PPD and add."}]
[null,{"$f":"Start_Here!E43","v":"Returned Merchandise is subject to a restocking fee."}]
[null,{"$f":"Start_Here!E45","v":"Printed General Terms and Conditions are also available upon request."}]
[null,{"$f":"Start_Here!E46","v":0}]
[]
[]
[null,null,null,null,"Quote Date :",null,{"$f":"Letter!$A$25","v":"2014-10-02"}]
["Order Placement Information:  To place your order, fill in PO# and customer signatures,"]
["call or fax to the numbers listed below. Customer Purchase Order is required."]
["If information is missing, orders will be entered and held until all information is received."]
[null,null,"Customer Number",null,"Cust Grp 3"]
[null,null,{"$f":"Start_Here!$C$25","v":0},null,{"$f":"Start_Here!$C$29","v":0}]
[null,null,{"$f":"Start_Here!$B$18","v":"Who Owns the Machine? (Sold-To Info) (Please Verify)"}]
["Company",null,{"$f":"Start_Here!$C$19","v":"Company Name"}]
["Address",null,{"$f":"Start_Here!$C$20","v":"Address"}]
[null,null,{"$f":"Start_Here!$C$21","v":"City, State Zip"}]
["Name",null,{"$f":"Start_Here!$C$22","v":"Contact Name"}]
["Phone",null,{"$f":"Start_Here!$C$23","v":"Contact Phone"}]
[null,null,{"$f":"Start_Here!$B$11","v":"Where is the Machine Being Shipped? (Ship-To Info) (Please Verify)"}]
["Company",null,{"$f":"Start_Here!$C$12","v":"Company Name"}]
["Address",null,{"$f":"Start_Here!$C$13","v":"Address"}]
[null,null,{"$f":"Start_Here!$C$14","v":"City, State Zip"}]
["Name",null,{"$f":"Start_Here!$C$15","v":"Contact Name"}]
["Phone",null,{"$f":"Start_Here!$C$16","v":"Contact Phone"}]
[null,null,{"$f":"Start_Here!$B$31","v":"Shipping / Carrier Instructions:"},null,"Order Special Instructions:"]
[null,null,{"$f":"Start_Here!$C$32","v":0}]
[]
[null,null,"Customer Purchase Order No."]
[null,null,"(please attach copy)"]
[]
[]
[null,null,"Tax Exempt",null,"Yes"]
[null,null,null,null,"No"]
[null,null,"If Yes, attach a copy of your exemption certificate."]
[]
[null,null,"Requested Delivery Date"]
[null,null,{"$f":"Start_Here!$C$28","v":0}]
[]
[null,null,{"$f":"Start_Here!$C$26","v":0},null,{"$f":"Start_Here!$C$27","v":0}]
[null,null,"Authorized Buyer (please print)",null,"Phone Number"]
[]
[]
[null,null,"Authorized Buyer Signature"]
[]
[null,null,{"$f":"Start_Here!$C$41","v":"Rep Name"}]
[null,null,"Tennant Representative"]
[]
["Specialized Maintenance Equipment"]
[{"$f":"Start_Here!$C$48","v":"TENNANT · 10400 Clean Street · Eden Prairie, MN 55344 ·"}]
[{"$f":"Start_Here!$C$49","v":" PHONE:800-553-8033 · FAX:763-513-2116"}]
[]
[null,"SPECIAL INFORMATION"]
[null,"Notes"]
[null,1,"Pad Assist Drive Type is only available on the 430 mm/17\" and 500 mm/20\" units."]
[null,null,"Self Propel Drive Type is available on all machine types."]
[null,null,"The Self Propel price is included in the Cleaning Type section for Dual Disk, and Orbital machines"]
[]
[null,2,"To maximize run time, it is recommend that the Wet 150AH Batteries are ordered."]
[null,null,"Sealed/MF AGM 140AH Battery available on all units."]
[]
[null,"2a","Li-Ion batteries require a compatible Li-Ion Charger."]
[null,null,"Li-Ion batteries are not compatible Machine Communication (IRIS)."]
[]
[null,3,"Manual Battery Watering System is only available on 155 AH lead acid batteries.  "]
[]
[null,4,"Multiple Down Pressure (Dual Down Pressure)"]
[null,null,"430 mm / 17\" Single Disk - 21, 39 kg / 47, 86 lbs"]
[null,null,"500 mm / 20\" Single Disk - 23, 41 kg / 51, 90 lbs"]
[null,null,"600 mm / 24\" Dual Disk - 26, 44 kg / 57, 97 lbs"]
[null,null,"500 mm / 20\" Dual Cylindrical - 24, 29 kg / 53, 64 lbs"]
[null,null,"500 mm / 20\" Orbital - 29, 50 kg / 63, 109 lbs"]
[]
[null,5,"One Pad Driver or Brush can be selected with 430 mm/17\" and 500 mm/20\" Models"]
[null,null,"A Set of two Pad Drivers or Brushes can be selected for 600 mm/24\" Models"]
[null,null,"Pad Driver is included in the base machine price of Orbital Models."]
[null,null,"If Insta-Click Cleaning Tool Attachment is chosen, a Insta-Click pad driver or brush must be selected"]
[null,null,"If 3-Lug Cleaning Tool Attachment is chosen, a 3-lug pad driver or brush must be selected"]
[]
[null,6,"Pre-Paid and Monthly Packages are available for the IRIS Information Service."]
[null,null,"IRIS Module is required and NOT included in the price of the IRIS Information Service:"]
[null,null,"3 Year Pre-Paid IRIS Information Service",350]
[null,null,"5 Year Pre-Paid IRIS Information Service",560]
[null,null,"A monthly contract can be set up at $14 per month w/ 12 month minimum commitment."]
[null,null,"IRIS Telemetry Module only covers the price of the hardware. "]
[null,null,"IRIS Telemetry requires an IRIS Telemetry Module and an IRIS Information Service Package."]
[null,null,"25A 100-240V AC 50/60Hz 1Ph - On-Board Charger and a compatible Tennant supplied battery is required to receive IRIS Battery Manager."]
[null,null,"IRIS Battery Metrics are not guaranteed with third party supplied batteries."]
[null,null,"IRIS Telemetry is not available with units configured with Li-Ion Batteries."]
[]
[null,7,"Additional hard copy Operator and Parts Manuals can be ordered or digital copies can be downloaded from www.Tennantco.com."]
[]
[null,8,"A French and English manual will be supplied for all units shipping into Quebec, Canada at no charge.  An additional manual"]
[null,null,"can be ordered (for a total of 3 manuals) for an additional charge as stated under 'Additional Operator Manual'."]

{"sheet":"T350","index":30,"n_rows":283,"n_cols":16,"rows_kept":283,"cut":false,"hidden":false,"merged":[[37,2,37,6],[38,2,38,6],[15,2,15,3],[0,2,0,3],[1,2,1,3],[2,2,2,3],[3,2,3,3],[11,2,11,6],[150,3,150,4],[150,5,150,6],[39,2,39,6],[173,3,173,4],[173,5,173,6],[174,3,174,4],[174,5,174,6],[152,3,152,4],[152,5,152,6],[165,4,165,8],[167,3,167,6],[169,3,169,4],[170,3,170,4],[172,3,172,4],[172,5,172,6],[211,0,211,1],[211,2,211,5],[212,0,212,1],[212,2,212,5],[214,0,214,1],[214,2,214,5],[224,2,224,5],[233,4,233,5],[215,0,215,1],[215,2,215,5],[216,2,216,5],[217,0,217,1],[217,2,217,5],[218,0,218,1],[218,2,218,5],[220,4,220,6],[222,2,222,5],[223,2,223,5],[210,2,210,5],[187,1,187,6],[206,4,206,6],[208,0,208,1],[208,2,208,5],[209,0,209,1],[209,2,209,5],[178,3,178,4],[178,5,178,6],[175,3,175,4],[175,5,175,6],[176,3,176,4],[176,5,176,6],[177,3,177,4],[177,5,177,6]]}
["T350",null,{"$f":"Start_Here!$C19","v":"Company Name"}]
[{"$f":"SUM(G145)","v":0},null,{"$f":"Start_Here!$C20","v":"Address"}]
[null,null,{"$f":"Start_Here!$C21","v":"City, State Zip"}]
[null,null,{"$f":"Start_Here!$C22","v":"Contact Name"}]
[null,null,{"$f":"Start_Here!$C$41","v":"Rep Name"}]
[null,null,{"$f":"Start_Here!$C$37","v":"Tennant Sales and Service Company"}]
[null,null,{"$f":"Start_Here!$C$38","v":"10400 Clean Street"}]
[null,null,{"$f":"Start_Here!$C$39","v":"Eden Prairie, MN 55344"}]
[null,null,{"$f":"Start_Here!$C$43","v":"800-553-8033"},null,"Quote Date :",null,{"$f":"Letter!$A$25","v":"2014-10-02"}]
[]
[null,null,{"$f":"Help!C2","v":"CAN Date Rev - 5/6/2025"}]
[null,null,"BUILT-IN “TENNANT VALUE” INCLUDES:"]
[]
[null,null,"53L/14.1 gal Solution Tank  & 70 L/18.4 gal Recovery Tank",null,"Quick Release Squeegee Attachment/Removal"]
[null,null,"Rugged Duramer™ Rotomold Tank Construction",null,"Linatex Squeegee Blades With Tool-less Replacement"]
[null,null,"Insta-Click™",null,"Emergency Stop"]
[null,null,"Hygienic™ Recovery Tank",null,"Free Floating Head Skirt"]
[null,null,"Multiple Setting Down Pressure",null,"Fill Port w/ Hose Hook"]
[null,null,"Adjustable Solution Flow",null,"Integrated Heat Sync For Electronics Protection"]
[null,null,"Variable Speed Control Knob",null,"Sealed Electrical Connectors"]
[null,null,"Pro-Membrane™ Control Panel With Multiple Zone Settings™",null,"Anti-Static Straps"]
[null,null,"LCD Pro-Panel™  Full Color Touch Screen (Option)",null,"24 VDC, 0.87 HP / 0.65 kW brush motor"]
[null,null,"Supervisor QA Controls™ Settings (Lock Out Features)",null,"215 RPM (500 mm/20\") and 275 RPM (600 mm/24\") "]
[null,null,"On Board Diagnostics",null,"Recovery Tank Debris Tray"]
[null,null,"Extremely Low Noise Level  (as low as 63.7 dBa)",null,"Unsurpassed Ergonomic Design"]
[null,null,"Quiet-Mode™ Sound Reduction Optional  ( as low as 59.7 dBa)",null,"Non-Marking Wheels"]
[null,null,"Wet 210AH, Wet 240AH, and Sealed 220AH AGM Available.",null,"2.5 cm /1\" Edge & Reach Under Cleaning"]
[null,null,"Quick Release Battery Harness",null,"Key Switch for Safety"]
[null,null,"Drain hose with pinch cuff to control water flow",null,"Hour Meter"]
[null,null,"On-board Charger With 3m/15 ft Power Cord",null,"Operators manual"]
[null,null,"Closed Machine Venting For Battery Charging",null,"Jacking Points/Shipping Tie Downs"]
[null,null,"Breakaway Squeegee Design",null,"Yellow Maintenance Touch Points"]
[null,null,"Factory Set Squeegee Assembly For Maximum Recovery",null,"Integrated Accessory Rail"]
[null,null,"Cast Aluminum Squeegee Frame",null,"Composite Scrub Deck (Single Disk)"]
[null,null,null,null,"Cast Aluminum Scrub Deck (Dual Disk)"]
[]
[]
[null,null,"TENNANT COMPANY WARRANTY"]
[null,null,"3 YEARS OR 2500 HOURS ON ALL COMPONENTS, 3 YEARS LABOR"]
[null,null,"90 DAYS TRAVEL, 10 YEARS ON DURAMERTM TANKS"]
[]
[null,null,null,null,"                Quote Request Information"]
[null,null,null,null,null,null,"Fax (quote only)"]
[null,null,null,null,null,null,"Mail (quote,lit, specs)"]
[null,null,null,null,null,null,"Fax + Mail"]
[]
[null,null,null,null,"                Primary Use"]
[null,null,null,null,null,null,"Inside"]
[null,null,null,null,null,null,"Outside"]
[]
[null,null,"Description","Reference #","Price Each","Qty","Extended Price"]
[null,null,null,null,null,"*"]
[null,"Base Configuration",null,"Reference Number","Price",{"$f":"SUM(F54,F58,F62,F68,F77)","v":0},null,{"$f":"IFERROR(IFERROR(VLOOKUP(D53,Surcharge!A:B,2,FALSE)*F53, VLOOKUP(D53 & \"\",Surcharge!A:B,2,FALSE)*F53), \"\")","v":""}]
[null,null,"Cleaning Type",null,null,{"$f":"SUM(F55:F56)","v":0},null,{"$f":"IFERROR(IFERROR(VLOOKUP(D54,Surcharge!A:B,2,FALSE)*F54, VLOOKUP(D54 & \"\",Surcharge!A:B,2,FALSE)*F54), \"\")","v":""}]
[null,null,"T350 Stand-On Scrubber 500mm / 20\" Disk","T350-500-D",21150,null,{"$f":"F55*E55","v":0},{"$f":"IFERROR(IFERROR(VLOOKUP(D55,Surcharge!A:B,2,FALSE)*F55, VLOOKUP(D55 & \"\",Surcharge!A:B,2,FALSE)*F55), \"\")","v":0},null,null,null,null,null,null,null,"M-T350VK_BASE_T350-500-D"]
[null,null,"T350 Stand-On Scrubber 600mm / 24\" Disk","T350-600-D",23409,null,{"$f":"F56*E56","v":0},{"$f":"IFERROR(IFERROR(VLOOKUP(D56,Surcharge!A:B,2,FALSE)*F56, VLOOKUP(D56 & \"\",Surcharge!A:B,2,FALSE)*F56), \"\")","v":0},null,null,null,null,null,null,null,"M-T350VK_BASE_T350-600-D"]
[null,null,null,null,null,null,null,{"$f":"IFERROR(IFERROR(VLOOKUP(D57,Surcharge!A:B,2,FALSE)*F57, VLOOKUP(D57 & \"\",Surcharge!A:B,2,FALSE)*F57), \"\")","v":""},null,null,null,null,null,null,null,""]
[null,null,"Trim Level",null,null,{"$f":"SUM(F59:F60)","v":0},null,{"$f":"IFERROR(IFERROR(VLOOKUP(D58,Surcharge!A:B,2,FALSE)*F58, VLOOKUP(D58 & \"\",Surcharge!A:B,2,FALSE)*F58), \"\")","v":""},null,null,null,null,null,null,null,""]
[null,null,"Pro-MembraneTM Control Panel","MCP-T350","N/C",null,{"$f":"IF(F59=0,\" \",\"N/C\")","v":" "},{"$f":"IFERROR(IFERROR(VLOOKUP(D59,Surcharge!A:B,2,FALSE)*F59, VLOOKUP(D59 & \"\",Surcharge!A:B,2,FALSE)*F59), \"\")","v":""},null,null,null,null,null,null,null,"M-T350"]
[null,null,"ProPanelTM Control Panel","PPC-T350",1447,null,{"$f":"F60*E60","v":0},{"$f":"IFERROR(IFERROR(VLOOKUP(D60,Surcharge!A:B,2,FALSE)*F60, VLOOKUP(D60 & \"\",Surcharge!A:B,2,FALSE)*F60), \"\")","v":""},null,null,null,null,null,null,null,"M-T350VK_TRMLVL_PPAN"]
[null,null,null,null,null,null,null,{"$f":"IFERROR(IFERROR(VLOOKUP(D61,Surcharge!A:B,2,FALSE)*F61, VLOOKUP(D61 & \"\",Surcharge!A:B,2,FALSE)*F61), \"\")","v":""},null,null,null,null,null,null,null,""]
[null,null,"Cleaning Technology: (conventional is standard,  ec-H2O can also operate in conventional mode)",null,null,{"$f":"SUM(F63:F66)","v":0},null,{"$f":"IFERROR(IFERROR(VLOOKUP(D62,Surcharge!A:B,2,FALSE)*F62, VLOOKUP(D62 & \"\",Surcharge!A:B,2,FALSE)*F62), \"\")","v":""},null,null,null,null,null,null,null,""]
[null,null,"ec-H2O NanoClean™","ec-H2ONC-T350",3320,null,{"$f":"F63*E63","v":0},{"$f":"IFERROR(IFERROR(VLOOKUP(D63,Surcharge!A:B,2,FALSE)*F63, VLOOKUP(D63 & \"\",Surcharge!A:B,2,FALSE)*F63), \"\")","v":""},null,null,null,null,null,null,null,"M-T350VK_CLNTCH_ECH2ON"]
[null,null,null,null,null,null,null,{"$f":"IFERROR(IFERROR(VLOOKUP(D64,Surcharge!A:B,2,FALSE)*F64, VLOOKUP(D64 & \"\",Surcharge!A:B,2,FALSE)*F64), \"\")","v":""}]
[null,null,"Severe Environment™ Switch  (Note 1)",9040107,931,null,{"$f":"F65*E65","v":0},{"$f":"IFERROR(IFERROR(VLOOKUP(D65,Surcharge!A:B,2,FALSE)*F65, VLOOKUP(D65 & \"\",Surcharge!A:B,2,FALSE)*F65), \"\")","v":""},null,null,null,null,null,null,null,"M-T350VK_SVEEVMSWH"]
[null,null,"Severe Environment™ Switch Lockout  (Note 2)",9017886,95,null,{"$f":"F66*E66","v":0},null,null,null,null,null,null,null,null,"M-T350VK_SVEEVMSWHLKT"]
[null,null,null,null,null,null,null,null,null,null,null,null,null,null,null,""]
[null,null,"Battery Type  (Note 3)",null,null,{"$f":"SUM(F69:F75)","v":0},null,{"$f":"IFERROR(IFERROR(VLOOKUP(D68,Surcharge!A:B,2,FALSE)*F68, VLOOKUP(D68 & \"\",Surcharge!A:B,2,FALSE)*F68), \"\")","v":""},null,null,null,null,null,null,null,""]
[null,null,"Wet 210AH C/20",9040050,"N/C",null,{"$f":"IF(F69=0,\" \",\"N/C\")","v":" "},{"$f":"IFERROR(IFERROR(VLOOKUP(D69,Surcharge!A:B,2,FALSE)*F69, VLOOKUP(D69 & \"\",Surcharge!A:B,2,FALSE)*F69), \"\")","v":""},null,null,null,null,null,null,null,"M-T350VK_BTY_W210C20"]
[null,null,"Wet 240AH C/20",9040051,288,null,{"$f":"F70*E70","v":0},{"$f":"IFERROR(IFERROR(VLOOKUP(D70,Surcharge!A:B,2,FALSE)*F70, VLOOKUP(D70 & \"\",Surcharge!A:B,2,FALSE)*F70), \"\")","v":""},null,null,null,null,null,null,null,"M-T350VK_BTY_W240C20"]
[null,null,"Sealed/MF AGM 220AH C/20",9040052,2162,null,0,{"$f":"IFERROR(IFERROR(VLOOKUP(D71,Surcharge!A:B,2,FALSE)*F71, VLOOKUP(D71 & \"\",Surcharge!A:B,2,FALSE)*F71), \"\")","v":""},null,null,null,null,null,null,null,"M-T350VK_BTY_A220C20"]
[null,null,"Without",9040058,-630,null,0,{"$f":"IFERROR(IFERROR(VLOOKUP(D72,Surcharge!A:B,2,FALSE)*F72, VLOOKUP(D72 & \"\",Surcharge!A:B,2,FALSE)*F72), \"\")","v":""},null,null,null,null,null,null,null,"M-T350VK_BTY_WO"]
[null,null,null,null,null,null,null,{"$f":"IFERROR(IFERROR(VLOOKUP(D73,Surcharge!A:B,2,FALSE)*F73, VLOOKUP(D73 & \"\",Surcharge!A:B,2,FALSE)*F73), \"\")","v":""},null,null,null,null,null,null,null,""]
[null,null,"Smart-Fill™ Automatic Battery Watering  (Note 4)",9040152,1540,null,{"$f":"F74*E74","v":0},{"$f":"IFERROR(IFERROR(VLOOKUP(D74,Surcharge!A:B,2,FALSE)*F74, VLOOKUP(D74 & \"\",Surcharge!A:B,2,FALSE)*F74), \"\")","v":""},null,null,null,null,null,null,null,"M-T350VK_BTYWTRSYS_SF"]
[null,null,"Manual Battery Watering  (Note 4)",9040150,898,null,0,{"$f":"IFERROR(IFERROR(VLOOKUP(D75,Surcharge!A:B,2,FALSE)*F75, VLOOKUP(D75 & \"\",Surcharge!A:B,2,FALSE)*F75), \"\")","v":""},null,null,null,null,null,null,null,"M-T350VK_BTYWTRSYS_ML"]
[null,null,null,null,null,null,null,{"$f":"IFERROR(IFERROR(VLOOKUP(D76,Surcharge!A:B,2,FALSE)*F76, VLOOKUP(D76 & \"\",Surcharge!A:B,2,FALSE)*F76), \"\")","v":""},null,null,null,null,null,null,null,""]
[null,null,"Charger  (Note 5)","Reference Number",null,{"$f":"SUM(F78:F79)","v":0},null,{"$f":"IFERROR(IFERROR(VLOOKUP(D77,Surcharge!A:B,2,FALSE)*F77, VLOOKUP(D77 & \"\",Surcharge!A:B,2,FALSE)*F77), \"\")","v":""},null,null,null,null,null,null,null,""]
[null,null,"25A 100-240V AC 50/60Hz 1Ph - On-Board",9040060,"N/C",null,{"$f":"IF(F78=0,\" \",\"N/C\")","v":" "},{"$f":"IFERROR(IFERROR(VLOOKUP(D78,Surcharge!A:B,2,FALSE)*F78, VLOOKUP(D78 & \"\",Surcharge!A:B,2,FALSE)*F78), \"\")","v":""},null,null,null,null,null,null,null,"M-T350VK_CHG_25A100V5060H1"]
[null,null,"30A 230V AC 50/60Hz 1Ph - Off-Board",1257204,"N/C",null,{"$f":"IF(F79=0,\" \",\"N/C\")","v":" "}]
[null,null,null,null,null,null,null,{"$f":"IFERROR(IFERROR(VLOOKUP(D80,Surcharge!A:B,2,FALSE)*F80, VLOOKUP(D80 & \"\",Surcharge!A:B,2,FALSE)*F80), \"\")","v":""},null,null,null,null,null,null,null,""]
[null,"Cleaning Performance",null,null,null,{"$f":"SUM(F82:F83)","v":0},null,{"$f":"IFERROR(IFERROR(VLOOKUP(D81,Surcharge!A:B,2,FALSE)*F81, VLOOKUP(D81 & \"\",Surcharge!A:B,2,FALSE)*F81), \"\")","v":""},null,null,null,null,null,null,null,""]
[null,null,"Quiet-Mode™",9040154,278,null,{"$f":"F82*E82","v":0},{"$f":"IFERROR(IFERROR(VLOOKUP(D82,Surcharge!A:B,2,FALSE)*F82, VLOOKUP(D82 & \"\",Surcharge!A:B,2,FALSE)*F82), \"\")","v":""},null,null,null,null,null,null,null,"M-T350VK_QITMOD"]
[null,null,"Reduced Propel Speed  (Note 6)","RPS-T350","N/C",null,{"$f":"IF(F83=0,\" \",\"N/C\")","v":" "},{"$f":"IFERROR(IFERROR(VLOOKUP(D83,Surcharge!A:B,2,FALSE)*F83, VLOOKUP(D83 & \"\",Surcharge!A:B,2,FALSE)*F83), \"\")","v":""},null,null,null,null,null,null,null,"M-T350VK_RDEPPLSPD"]
[null,null,null,null,null,null,null,{"$f":"IFERROR(IFERROR(VLOOKUP(D84,Surcharge!A:B,2,FALSE)*F84, VLOOKUP(D84 & \"\",Surcharge!A:B,2,FALSE)*F84), \"\")","v":""},null,null,null,null,null,null,null,""]
[null,"Machine Protection & Safety",null,null,null,{"$f":"SUM(F86:F86)","v":0},null,{"$f":"IFERROR(IFERROR(VLOOKUP(D85,Surcharge!A:B,2,FALSE)*F85, VLOOKUP(D85 & \"\",Surcharge!A:B,2,FALSE)*F85), \"\")","v":""},null,null,null,null,null,null,null,""]
[null,null,"Audio Back Up Alarm","BU-T350","N/C",null,{"$f":"IF(F86=0,\" \",\"N/C\")","v":" "},{"$f":"IFERROR(IFERROR(VLOOKUP(D86,Surcharge!A:B,2,FALSE)*F86, VLOOKUP(D86 & \"\",Surcharge!A:B,2,FALSE)*F86), \"\")","v":""},null,null,null,null,null,null,null,"M-T350VK_WRNLGTANDALM_AU"]
[null,null,null,null,null,null,null,{"$f":"IFERROR(IFERROR(VLOOKUP(D87,Surcharge!A:B,2,FALSE)*F87, VLOOKUP(D87 & \"\",Surcharge!A:B,2,FALSE)*F87), \"\")","v":""},null,null,null,null,null,null,null,""]
[null,"Brushes and Pads",null,"Reference Number",null,{"$f":"SUM(F89,F95,F100,F106)","v":0},null,{"$f":"IFERROR(IFERROR(VLOOKUP(D88,Surcharge!A:B,2,FALSE)*F88, VLOOKUP(D88 & \"\",Surcharge!A:B,2,FALSE)*F88), \"\")","v":""},null,null,null,null,null,null,null,""]
[null,null,"500mm / 20\" Disk Brushes (1 Required)",null,null,{"$f":"SUM(F90)","v":0},null,{"$f":"IFERROR(IFERROR(VLOOKUP(D89,Surcharge!A:B,2,FALSE)*F89, VLOOKUP(D89 & \"\",Surcharge!A:B,2,FALSE)*F89), \"\")","v":""},null,null,null,null,null,null,null,""]
[null,null,"For Insta-Click™ Scrub Head:",null,null,{"$f":"SUM(F91:F93)","v":0},null,{"$f":"IFERROR(IFERROR(VLOOKUP(D90,Surcharge!A:B,2,FALSE)*F90, VLOOKUP(D90 & \"\",Surcharge!A:B,2,FALSE)*F90), \"\")","v":""},null,null,null,null,null,null,null,""]
[null,null,"Polypropylene Brush",1213032,562,null,{"$f":"F91*E91","v":0},{"$f":"IFERROR(IFERROR(VLOOKUP(D91,Surcharge!A:B,2,FALSE)*F91, VLOOKUP(D91 & \"\",Surcharge!A:B,2,FALSE)*F91), \"\")","v":""},null,null,null,null,null,null,null,"M-T350VK_CLNTOL_500PYP_IC"]
[null,null,"Nylon Brush",1210386,562,null,0,{"$f":"IFERROR(IFERROR(VLOOKUP(D92,Surcharge!A:B,2,FALSE)*F92, VLOOKUP(D92 & \"\",Surcharge!A:B,2,FALSE)*F92), \"\")","v":""},null,null,null,null,null,null,null,"M-T350VK_CLNTOL_500NYL_IC"]
[null,null,"Pad Driver",1209197,562,null,0,{"$f":"IFERROR(IFERROR(VLOOKUP(D93,Surcharge!A:B,2,FALSE)*F93, VLOOKUP(D93 & \"\",Surcharge!A:B,2,FALSE)*F93), \"\")","v":""},null,null,null,null,null,null,null,"M-T350VK_CLNTOL_500PAD_IC"]
[null,null,null,null," ",null,null,{"$f":"IFERROR(IFERROR(VLOOKUP(D94,Surcharge!A:B,2,FALSE)*F94, VLOOKUP(D94 & \"\",Surcharge!A:B,2,FALSE)*F94), \"\")","v":""},null,null,null,null,null,null,null,""]
[null,null,"Pads",null," ",{"$f":"SUM(F96:F98)","v":0},null,{"$f":"IFERROR(IFERROR(VLOOKUP(D95,Surcharge!A:B,2,FALSE)*F95, VLOOKUP(D95 & \"\",Surcharge!A:B,2,FALSE)*F95), \"\")","v":""},null,null,null,null,null,null,null,""]
[null,null,"Blue Scrubbing - 3M",17262,39.6,null,{"$f":"F96*E96","v":0},{"$f":"IFERROR(IFERROR(VLOOKUP(D96,Surcharge!A:B,2,FALSE)*F96, VLOOKUP(D96 & \"\",Surcharge!A:B,2,FALSE)*F96), \"\")","v":""},null,null,null,null,null,null,null,"M-T350VK_PADTYP_500BLU3"]
[null,null,"Red Cleaning - 3M",17261,39.6,null,0,{"$f":"IFERROR(IFERROR(VLOOKUP(D97,Surcharge!A:B,2,FALSE)*F97, VLOOKUP(D97 & \"\",Surcharge!A:B,2,FALSE)*F97), \"\")","v":""},null,null,null,null,null,null,null,"M-T350VK_PADTYP_500RED3"]
[null,null,"White Polishing - 3M",17260,39.6,null,0,{"$f":"IFERROR(IFERROR(VLOOKUP(D98,Surcharge!A:B,2,FALSE)*F98, VLOOKUP(D98 & \"\",Surcharge!A:B,2,FALSE)*F98), \"\")","v":""},null,null,null,null,null,null,null,"M-T350VK_PADTYP_500WHT3"]
[null,null,null,null," ",null,null,{"$f":"IFERROR(IFERROR(VLOOKUP(D99,Surcharge!A:B,2,FALSE)*F99, VLOOKUP(D99 & \"\",Surcharge!A:B,2,FALSE)*F99), \"\")","v":""},null,null,null,null,null,null,null,""]
[null,null,"600mm / 24\" Disk Brushes (2 Required)",null," ",{"$f":"SUM(F101)","v":0},null,{"$f":"IFERROR(IFERROR(VLOOKUP(D100,Surcharge!A:B,2,FALSE)*F100, VLOOKUP(D100 & \"\",Surcharge!A:B,2,FALSE)*F100), \"\")","v":""},null,null,null,null,null,null,null,""]
[null,null,"For Insta-Click™ Scrub Head:",null," ",{"$f":"SUM(F102:F104)","v":0},null,{"$f":"IFERROR(IFERROR(VLOOKUP(D101,Surcharge!A:B,2,FALSE)*F101, VLOOKUP(D101 & \"\",Surcharge!A:B,2,FALSE)*F101), \"\")","v":""},null,null,null,null,null,null,null,""]
[null,null,"Polypropylene Brush",1213040,360,null,{"$f":"F102*E102","v":0},{"$f":"IFERROR(IFERROR(VLOOKUP(D102,Surcharge!A:B,2,FALSE)*F102, VLOOKUP(D102 & \"\",Surcharge!A:B,2,FALSE)*F102), \"\")","v":""},null,null,null,null,null,null,null,"M-T350VK_CLNTOL_600PYP_IC"]
[null,null,"Nylon Brush",1210136,360,null,0,{"$f":"IFERROR(IFERROR(VLOOKUP(D103,Surcharge!A:B,2,FALSE)*F103, VLOOKUP(D103 & \"\",Surcharge!A:B,2,FALSE)*F103), \"\")","v":""},null,null,null,null,null,null,null,"M-T350VK_CLNTOL_600NYL_IC"]
[null,null,"Pad Driver",1209160,360,null,0,{"$f":"IFERROR(IFERROR(VLOOKUP(D104,Surcharge!A:B,2,FALSE)*F104, VLOOKUP(D104 & \"\",Surcharge!A:B,2,FALSE)*F104), \"\")","v":""},null,null,null,null,null,null,null,"M-T350VK_CLNTOL_600PAD_IC"]
[null,null,null,null," ",null,null,{"$f":"IFERROR(IFERROR(VLOOKUP(D105,Surcharge!A:B,2,FALSE)*F105, VLOOKUP(D105 & \"\",Surcharge!A:B,2,FALSE)*F105), \"\")","v":""},null,null,null,null,null,null,null,""]
[null,null,"Pads",null," ",{"$f":"SUM(F107:F109)","v":0},null,{"$f":"IFERROR(IFERROR(VLOOKUP(D106,Surcharge!A:B,2,FALSE)*F106, VLOOKUP(D106 & \"\",Surcharge!A:B,2,FALSE)*F106), \"\")","v":""},null,null,null,null,null,null,null,""]
[null,null,"Blue Scrubbing - 3M",385942,21.4,null,{"$f":"F107*E107","v":0},{"$f":"IFERROR(IFERROR(VLOOKUP(D107,Surcharge!A:B,2,FALSE)*F107, VLOOKUP(D107 & \"\",Surcharge!A:B,2,FALSE)*F107), \"\")","v":""},null,null,null,null,null,null,null,"M-T350VK_PADTYP_600BLU3"]
[null,null,"Red Cleaning - 3M",385941,21.4,null,0,{"$f":"IFERROR(IFERROR(VLOOKUP(D108,Surcharge!A:B,2,FALSE)*F108, VLOOKUP(D108 & \"\",Surcharge!A:B,2,FALSE)*F108), \"\")","v":""},null,null,null,null,null,null,null,"M-T350VK_PADTYP_600RED3"]
[null,null,"White Polishing - 3M",385940,21.4,null,0,{"$f":"IFERROR(IFERROR(VLOOKUP(D109,Surcharge!A:B,2,FALSE)*F109, VLOOKUP(D109 & \"\",Surcharge!A:B,2,FALSE)*F109), \"\")","v":""},null,null,null,null,null,null,null,"M-T350VK_PADTYP_600WHT3"]
[null,null,null,null,null,null,null,{"$f":"IFERROR(IFERROR(VLOOKUP(D110,Surcharge!A:B,2,FALSE)*F110, VLOOKUP(D110 & \"\",Surcharge!A:B,2,FALSE)*F110), \"\")","v":""},null,null,null,null,null,null,null,""]
[null,"Support",null,"Reference Number",null,{"$f":"SUM(F112:F120)","v":0},null,{"$f":"IFERROR(IFERROR(VLOOKUP(D111,Surcharge!A:B,2,FALSE)*F111, VLOOKUP(D111 & \"\",Surcharge!A:B,2,FALSE)*F111), \"\")","v":""},null,null,null,null,null,null,null,""]
[null,null,"Operator Manual - English",9016417,"N/C",null,{"$f":"IF(F112=0,\" \",\"N/C\")","v":" "},{"$f":"IFERROR(IFERROR(VLOOKUP(D112,Surcharge!A:B,2,FALSE)*F112, VLOOKUP(D112 & \"\",Surcharge!A:B,2,FALSE)*F112), \"\")","v":""},null,null,null,null,null,null,null,"M-T350"]
[null,null,"Operator Manual - Spanish",9016418,"N/C",null," ",{"$f":"IFERROR(IFERROR(VLOOKUP(D113,Surcharge!A:B,2,FALSE)*F113, VLOOKUP(D113 & \"\",Surcharge!A:B,2,FALSE)*F113), \"\")","v":""},null,null,null,null,null,null,null,"M-T350"]
[null,null,"Operator Manual - French  (Note 7)",9016419,"N/C",null," ",{"$f":"IFERROR(IFERROR(VLOOKUP(D114,Surcharge!A:B,2,FALSE)*F114, VLOOKUP(D114 & \"\",Surcharge!A:B,2,FALSE)*F114), \"\")","v":""},null,null,null,null,null,null,null,"M-T350"]
[null,null,"Additional Operator Manual","SEE ABOVE",204,null,{"$f":"F115*E115","v":0},{"$f":"IFERROR(IFERROR(VLOOKUP(D115,Surcharge!A:B,2,FALSE)*F115, VLOOKUP(D115 & \"\",Surcharge!A:B,2,FALSE)*F115), \"\")","v":""},null,null,null,null,null,null,null,"M-T350VK_ADLOPRMNL"]
[null,null,"Parts Manual",9016416,84,null,0,{"$f":"IFERROR(IFERROR(VLOOKUP(D116,Surcharge!A:B,2,FALSE)*F116, VLOOKUP(D116 & \"\",Surcharge!A:B,2,FALSE)*F116), \"\")","v":""},null,null,null,null,null,null,null,"M-T350VK_PARMNL"]
[null,null,"Service Manual",9016422,204,null,{"$f":"F117*E117","v":0},{"$f":"IFERROR(IFERROR(VLOOKUP(D117,Surcharge!A:B,2,FALSE)*F117, VLOOKUP(D117 & \"\",Surcharge!A:B,2,FALSE)*F117), \"\")","v":""},null,null,null,null,null,null,null,"M-T350VK_SRVMNL"]
[null,null,null,null,null,null,null,{"$f":"IFERROR(IFERROR(VLOOKUP(D118,Surcharge!A:B,2,FALSE)*F118, VLOOKUP(D118 & \"\",Surcharge!A:B,2,FALSE)*F118), \"\")","v":""},null,null,null,null,null,null,null,""]
[null,null,"Packaging",null,null,{"$f":"SUM(F120)","v":0},null,{"$f":"IFERROR(IFERROR(VLOOKUP(D119,Surcharge!A:B,2,FALSE)*F119, VLOOKUP(D119 & \"\",Surcharge!A:B,2,FALSE)*F119), \"\")","v":""},null,null,null,null,null,null,null,""]
[null,null,"Skid w/Carton, Stackable",9040253,"N/C",null,{"$f":"IF(F120=0,\" \",\"N/C\")","v":" "},{"$f":"IFERROR(IFERROR(VLOOKUP(D120,Surcharge!A:B,2,FALSE)*F120, VLOOKUP(D120 & \"\",Surcharge!A:B,2,FALSE)*F120), \"\")","v":""},null,null,null,null,null,null,null,"M-T350VK_PKG_SSKD_NC"]
[null,null,null,null,null,null,null,{"$f":"IFERROR(IFERROR(VLOOKUP(D121,Surcharge!A:B,2,FALSE)*F121, VLOOKUP(D121 & \"\",Surcharge!A:B,2,FALSE)*F121), \"\")","v":""}]
[]
[]
[null,"Custom Solution--write in description, qty, price, and PN if applicable",null,null,null,{"$f":"SUM(F125)","v":0}]
[null,null,null,null,"Insert Prices Here",{"$f":"SUM(F126:F129)","v":0}]
[null,null,null,"Custom",null,{"$f":"IF(E126 <> \"\", 1, 0)","v":0},{"$f":"F126*E126","v":0}]
[null,null,null,"Custom",null,{"$f":"IF(E127 <> \"\", 1, 0)","v":0},{"$f":"F127*E127","v":0}]
[null,null,null,"Custom",null,{"$f":"IF(E128 <> \"\", 1, 0)","v":0},{"$f":"F128*E128","v":0}]
[null,null,null,"Custom",null,{"$f":"IF(E129 <> \"\", 1, 0)","v":0},{"$f":"F129*E129","v":0}]
[null,null,null,null,{"$f":"ROUND(SUM(G53:G129), 0)","v":0},{"$f":"SUM(E131)","v":0}]
[null,null,null,"Machine Subtotal ",{"$f":"ROUND(SUM(G53:G129), 0)","v":0},{"$f":"F130","v":0}]
[null,"Discounts",null,null,null,{"$f":"SUM(F133)","v":0}]
[null,null,null,null,null,{"$f":"SUM(F135:F138)","v":0}]
[null,null,null,"Applicable Currency Adj %",null,{"$f":"IF(E134 <> \"\", 1, 0)","v":0},{"$f":"IF(F134*(E134*0.01)*E130 < 0, F134*(E134*0.01)*E130, -(F134*(E134*0.01)*E130))","v":0}]
[null,null,null,"Discount %",null,{"$f":"IF(E135 <> \"\", 1, 0)","v":0},{"$f":"IF(F135*(E135*0.01)*(E130+G134) < 0, F135*(E135*0.01)*(E130+G134), -(F135*(E135*0.01)*(E130+G134)))","v":0}]
[null,null,null,"Discount $",null,{"$f":"IF(E136 <> \"\", 1, 0)","v":0},{"$f":"IF(F136*E136 < 0, F136*E136, -(F136*E136))","v":0}]
[null,null,null,"Discount $",null,{"$f":"IF(E137 <> \"\", 1, 0)","v":0},{"$f":"IF(F137*E137 < 0, F137*E137, -(F137*E137))","v":0}]
[null,null,null,"Discount $",null,{"$f":"IF(E138 <> \"\", 1, 0)","v":0},{"$f":"IF(F138*E138 < 0, F138*E138, -(F138*E138))","v":0}]
[null,null,null,"Discount Total ",{"$f":"SUM(G134:G138)","v":0},{"$f":"SUM(E139)","v":0}]
[null,null,null,null,null,{"$f":"#REF!","v":{"$error":"#REF!"}}]
[null,null,null,null,null,{"$f":"F140","v":{"$error":"#REF!"}}]
[null,null,"Prepaid and Add","Freight",null,{"$f":"IF(E142 <> \"\", 1, 0)","v":0},{"$f":"F142*E142","v":0}]
[null,null,"Subject to all applicable taxes","Tax",null,{"$f":"IF(E143 <> \"\", 1, 0)","v":0},{"$f":"F143*E143","v":0}]
[null,null,null,null,null,{"$f":"SUM(F145)","v":0}]
[null,null,null,"MACHINE TOTAL*",null,{"$f":"SUM(G145)","v":0},{"$f":"SUM(G53:G143)","v":0},null,null,null,null,null,null,"This goes to \"My Documents\""]
[null,null,null,null,null,null,{"$f":"SUM(G145)","v":0}]
[]
[]
[]
[]
[null,null,"First Western Equipment Finance - Leasing Calculation Option:","Option 1",null,"Option 2",null,null,null,{"$f":"Financing!A38","v":"Rates 2025 - Rev 2/4/2025"}]
[null,null,null,"Monthly Payment","Cost Per Day","Monthly Payment","Cost Per Day",null,null,{"$f":"Financing!A39","v":"“Blank Payment Amounts Indicate The Financing Option Or Purchase Options Selected Are Not "}]
[null,null,"Purchase Option:","FWEF:  $1 Buyout Lease",null,"FWEF: Municipal Lease",null,null,null,{"$f":"Financing!A40","v":"Applicable Or The Machine Total Is Below The Minimum Amount For The Selected Vendor”"}]
[null,null,"24 Months",false,0,false,0,null,null,{"$f":"Financing!A41","v":"\"Quoted monthly payments are estimates only and are based on a certain level of credit rating."}]
[null,null,"30 Months",false,0,false,0,null,null,{"$f":"Financing!A42","v":"Actual monthly payments may be higher depending on your credit rating.\""}]
[null,null,"36 Months",false,0,false,0,null,null,{"$f":"Financing!A43","v":"“Financing rates do not include Pre-Paid Service”"}]
[null,null,"48 Months",0,0,0,0,null,{"$f":"Financing!A44","v":0}]
[]
[null,null,null,"Benefits of Equipment Financing:"]
[null,null,null,"• Spreads out investment over time.",null,"• Keep current with latest technology."]
[null,null,null,"• Preserve capital.",null,"• Service and parts bundling available."]
[null,null,null,"• Low monthly payment.",null,"• Pay for labor savings as you go."]
[]
[null,"   TennantTrue",null,null,0,0]
[]
[null,null,"Is customer interested in service program?","Yes","*State/County selection required for TennantTrue service options"]
[]
[null,null,"If not, why?"]
[]
[null,null,"Term:",36,null,null,"AB Brushes","No"]
[null,null,"Monthly machine usage (hrs):","< 30/mo. (Avg. 1hr./day)"]
[]
[null,null,"TennantTrue: ","Gold Contract",null,"Silver Contract"]
[null,null,"Per Visit",null,null,425]
[null,null,"Monthly",129,null,69]
[null,null,"Annually",null,null,816]
[null,null,"Pre-Pay Full Term",4444,null,2397]
[null,null,"Hourly Labor Rate"]
[null,null,"Site Visit"]
[]
[null,null,"* Verify customer current pricing prior to quote. "]
[null,null,"**All rates and fees above reflect service for one (1) unit with the exception of Block of Time service."]
[null,null,"*Block of Time is available in 1 Year Term only and is priced as such no matter the term selection on this template."]
[]
[]
[]
[null,"Quote Special Instructions:"]
[]
[]
[null,{"$f":"Start_Here!E36","v":"Terms and Conditions"}]
[null,{"$f":"Start_Here!E37","v":"Ask your local sales rep for estimated lead times. Verify when placing order"}]
[null,{"$f":"Start_Here!E38","v":"All orders subject to acceptance by Tennant Sales and Service Company, Minneapolis, Minnesota"}]
[null,{"$f":"Start_Here!E39","v":"Prices subject to change without notice. Subject to any applicable taxes."}]
[null,{"$f":"Start_Here!E40","v":"Terms:  Net 30 days.  Payable in Canadian Funds"}]
[null,{"$f":"Start_Here!E41","v":"Freight:  Accessories, parts, supplies, detergents, and floor coatings orders delivered DDP "}]
[null,{"$f":"Start_Here!E42","v":"shipping point Frt PPD.  Machine orders delivered DDP shipping point Frt PPD and add."}]
[null,{"$f":"Start_Here!E43","v":"Returned Merchandise is subject to a restocking fee."}]
[null,{"$f":"Start_Here!E45","v":"Printed General Terms and Conditions are also available upon request."}]
[null,{"$f":"Start_Here!E46","v":0}]
[]
[]
[null,null,null,null,"Quote Date :",null,{"$f":"Letter!$A$25","v":"2014-10-02"}]
["Order Placement Information:  To place your order, fill in PO# and customer signatures,"]
["call or fax to the numbers listed below. Customer Purchase Order is required."]
["If information is missing, orders will be entered and held until all information is received."]
[null,null,"Customer Number",null,"Cust Grp 3"]
[null,null,{"$f":"Start_Here!$C$25","v":0},null,{"$f":"Start_Here!$C$29","v":0}]
[null,null,{"$f":"Start_Here!$B$18","v":"Who Owns the Machine? (Sold-To Info) (Please Verify)"}]
["Company",null,{"$f":"Start_Here!$C$19","v":"Company Name"}]
["Address",null,{"$f":"Start_Here!$C$20","v":"Address"}]
[null,null,{"$f":"Start_Here!$C$21","v":"City, State Zip"}]
["Name",null,{"$f":"Start_Here!$C$22","v":"Contact Name"}]
["Phone",null,{"$f":"Start_Here!$C$23","v":"Contact Phone"}]
[null,null,{"$f":"Start_Here!$B$11","v":"Where is the Machine Being Shipped? (Ship-To Info) (Please Verify)"}]
["Company",null,{"$f":"Start_Here!$C$12","v":"Company Name"}]
["Address",null,{"$f":"Start_Here!$C$13","v":"Address"}]
[null,null,{"$f":"Start_Here!$C$14","v":"City, State Zip"}]
["Name",null,{"$f":"Start_Here!$C$15","v":"Contact Name"}]
["Phone",null,{"$f":"Start_Here!$C$16","v":"Contact Phone"}]
[null,null,{"$f":"Start_Here!$B$31","v":"Shipping / Carrier Instructions:"},null,"Order Special Instructions:"]
[null,null,{"$f":"Start_Here!$C$32","v":0}]
[]
[null,null,"Customer Purchase Order No."]
[null,null,"(please attach copy)"]
[]
[]
[null,null,"Tax Exempt",null,"Yes"]
[null,null,null,null,"No"]
[null,null,"If Yes, attach a copy of your exemption certificate."]
[]
[null,null,"Requested Delivery Date"]
[null,null,{"$f":"Start_Here!$C$28","v":0}]
[]
[null,null,{"$f":"Start_Here!$C$26","v":0},null,{"$f":"Start_Here!$C$27","v":0}]
[null,null,"Authorized Buyer (please print)",null,"Phone Number"]
[]
[]
[null,null,"Authorized Buyer Signature"]
[]
[null,null,{"$f":"Start_Here!$C$41","v":"Rep Name"}]
[null,null,"Tennant Representative"]
[]
["Specialized Maintenance Equipment"]
[{"$f":"Start_Here!$C$48","v":"TENNANT · 10400 Clean Street · Eden Prairie, MN 55344 ·"}]
[{"$f":"Start_Here!$C$49","v":" PHONE:800-553-8033 · FAX:763-513-2116"}]
[]
[null,"SPECIAL INFORMATION"]
[]
[null,"Notes"]
[]
[null,1,"Severe Environment™ Switch is only available with ec-H2O NanoClean Cleaning Technology."]
[]
[null,2,"Severe Environment™ Switch Lockout is only available with ec-H2O NanoClean AND the Severe Environment Switch."]
[]
[null,3,"In order to obtain the IRIS™ Battery Metrics, one of the listed Tennant supplied batteries is required."]
[]
[null,4,"Smart-Fill™ Automatic Battery Watering only available with on-board charger."]
[null,null,"Smart-Fill Automatic Battery Watering and Manual Battery Watering are not compatible with AGM Batteries."]
[]
[null,5,"25A 100-240V AC 50/60Hz 1Ph - On-Board Charger is required to receive IRIS Battery Manager."]
[null,null,"25A 100-240V AC 50/60Hz 1Ph - On-Board Charger is mandatory when ordering Smart-Fill Battery Watering."]
[]
[null,6,"Reduced Propel Speed will reduce the overall Max Scrubbing and Transport Speed from 3.6 mph/5.6 Kph to 2.8 mph/4.5 Kph"]
[]
[null,7,"A French and English manual will be supplied for all units shipping into Quebec, Canada at no charge.  An additional manual"]
[null,null,"can be ordered (for a total of 3 manuals) for an additional charge as stated under 'Additional Operator Manual'."]
[]
[null,8,"Pre-Paid and Monthly Packages are available for the IRIS Information Service."]
[null,null,"IRIS Module is required and NOT included in the price of the IRIS Information Service:"]
[null,null,"3 Year Pre-Paid IRIS Information Service",350]
[null,null,"5 Year Pre-Paid IRIS Information Service",560]
[null,null,"A monthly contract can be set up at $14 per month w/ 12 month minimum commitment."]
[null,null,"IRIS Telemetry Module only covers the price of the hardware. "]
[null,null,"IRIS Telemetry requires an IRIS Telemetry Module and an IRIS Information Service Package."]
[null,null,"25A 100-240V AC 50/60Hz 1Ph - On-Board Charger and a compatible Tennant supplied battery is required to receive IRIS Battery Manager."]
[null,null,"IRIS Battery Metrics are not guaranteed with third party supplied batteries."]
[]
[null,9,"Shipping Weights and Dimensions",null,"Skid w/Carton"]
[]
[null,null,"Weight"]
[null,null,"Length"]
[null,null,"Width"]
[null,null,"Height"]

{"sheet":"T500","index":31,"n_rows":346,"n_cols":17,"rows_kept":346,"cut":false,"hidden":false,"merged":[[245,2,245,5],[246,2,246,5],[238,2,238,5],[239,2,239,5],[237,0,237,1],[237,2,237,5],[238,0,238,1],[198,3,198,4],[198,5,198,6],[247,2,247,5],[256,4,256,5],[240,0,240,1],[240,2,240,5],[241,0,241,1],[241,2,241,5],[243,4,243,6],[232,0,232,1],[232,2,232,5],[233,2,233,5],[234,0,234,1],[234,2,234,5],[235,0,235,1],[235,2,235,5],[195,5,195,6],[196,3,196,4],[196,5,196,6],[197,3,197,4],[197,5,197,6],[0,2,0,3],[1,2,1,3],[2,2,2,3],[3,2,3,3],[11,2,11,3],[33,1,33,4],[34,1,34,4],[35,1,35,4],[36,1,36,4],[37,1,37,4],[38,1,38,4],[231,0,231,1],[231,2,231,5],[193,3,193,4],[210,1,210,6],[229,4,229,6],[173,3,173,4],[173,5,173,6],[175,3,175,4],[175,5,175,6],[188,4,188,8],[190,3,190,6],[192,3,192,4],[195,3,195,4],[282,5,282,6],[279,5,279,6],[280,5,280,6],[281,5,281,6],[277,5,277,6],[278,5,278,6],[199,3,199,4],[199,5,199,6],[200,3,200,4],[200,5,200,6],[201,3,201,4],[201,5,201,6]]}
["T500",null,{"$f":"Start_Here!$C19","v":"Company Name"}]
[{"$f":"SUM(G168)","v":0},null,{"$f":"Start_Here!$C20","v":"Address"}]
[null,null,{"$f":"Start_Here!$C21","v":"City, State Zip"}]
[null,null,{"$f":"Start_Here!$C22","v":"Contact Name"}]
[null,null,{"$f":"Start_Here!$C$41","v":"Rep Name"}]
[null,null,{"$f":"Start_Here!$C$37","v":"Tennant Sales and Service Company"}]
[null,null,{"$f":"Start_Here!$C$38","v":"10400 Clean Street"}]
[null,null,{"$f":"Start_Here!$C$39","v":"Eden Prairie, MN 55344"}]
[null,null,{"$f":"Start_Here!$C$43","v":"800-553-8033"},null,"Quote Date :",null,{"$f":"Letter!$A$25","v":"2014-10-02"}]
[]
[null,null,{"$f":"Help!C2","v":"CAN Date Rev - 5/6/2025"}]
[null,null,"                     BUILT-IN \"TENNANT VALUE\" INCLUDES:"]
[]
[null,"Tanks: 85 L/22.5 gal Solution & 102 L/27 gal Recovery",null,"Yellow maintenance touch points"]
[null,"1-STEP™ Button Memory Controls",null,"Emergency Stop Kit"]
[null,"Extremely Low Noise Levels Standard  (≤68.5 dBA)",null,"Key Switch for Safety"]
[null,"On Board Diagnostics",null,"Standard (4) 6 V 225AH Battery Pack (Optional AGM Batteries)"]
[null,"Cast Aluminum Squeegee Frame & Scrub Decks (D/C)",null,"Drain hose with pinch cuff to control water flow"]
[null,"11 Gauge Steel Scrub Deck (Orbital Only)",null,"On-board Charger with power cord"]
[null,"2 selectable down pressures",null,"Closed Machine Venting for Battery Charging"]
[null,"4 Selectable water flow settings",null,"100% Water recovery in 180º  turns w/ standard squeegee"]
[null,"Front Water Fill Port",null,"Insta-Fit™ No-Tool Pad Driver and Brush Attachment (Disk machines)"]
[null,"Automatic: Water On / Off ",null,"No-Tool Squeegee Change"]
[null,null,"      Brush On / Off","Breakaway Squeegee Design w/ Integrated P-Trap"]
[null,null,"      Brush Shutoff at 80% Discharge","Factory Set Squeegee Assembly for Maximum Recovery"]
[null,"Integrated Accessory Rails with Bag Hang hooks",null,"Linard Front/Linatex Rear Squeegee Blades with Tool-less Replacement"]
[null,"Excellent Ergonomic Controls Design",null,"Includes Standard Pad Drivers or Scrubbing Brushes (Select One)"]
[null,"Optional ec-H2O NanoClean™ Equipped Models Include:",null,"Free Floating Head Skirt (disk machines)"]
[null,"Electrically Converted Water Technology System",null,"Hour Meter"]
[null,"Two Scrubbing Modes: ec-H2O NanoCleanTM & Conventional Scrub",null,"Operators manual"]
[null,"Rugged Duramer™ Tank Construction",null,"Jacking Points/Shipping Tie Downs"]
[null,"Gray Non-Marking Tires",null,"Sealed Electrical Connectors in key areas"]
[]
[null,"TENNANT COMPANY WARRANTY"]
[null,"3 YEARS OR 2000 HOURS - PARTS"]
[null,"1 YEAR - BATTERY CHARGERS"]
[null,"3 YEARS OR 2000 HOURS ORBITAL SCRUB HEAD ISOLATORS"]
[null,"2 YEARS - LABOR, 6 MONTHS - TRAVEL"]
[null,"10 YEARS ON DURAMERTM ROTOMOLD TANKS"]
[]
[]
[null,null,null,null,"                Quote Request Information"]
[null,null,null,null,null,null,"Fax (quote only)"]
[null,null,null,null,null,null,"Mail (quote,lit, specs)"]
[null,null,null,null,null,null,"Fax + Mail"]
[]
[null,null,null,null,"                Primary Use"]
[null,null,null,null,null,null,"Inside"]
[null,null,null,null,null,null,"Outside"]
[]
[null,null,"Description","Reference #","Price Each ","Qty","Extended Price"]
[null,"Base Configuration",null,null,"CANADA",{"$f":"SUM(F53,F60,F64,F70,F74,F86)","v":0},null,{"$f":"IFERROR(IFERROR(VLOOKUP(D52,Surcharge!A:B,2,FALSE)*F52, VLOOKUP(D52 & \"\",Surcharge!A:B,2,FALSE)*F52), \"\")","v":""}]
[null,null,"Cleaning Type","Reference Number","Price",{"$f":"SUM(F54:F58)","v":0},null,{"$f":"IFERROR(IFERROR(VLOOKUP(D53,Surcharge!A:B,2,FALSE)*F53, VLOOKUP(D53 & \"\",Surcharge!A:B,2,FALSE)*F53), \"\")","v":""}]
[null,null,"T500 Walk-Behind Scrubber 650 mm / 26\" Disk","T500-650-D",23440,null,{"$f":"F54*E54","v":0},{"$f":"IFERROR(IFERROR(VLOOKUP(D54,Surcharge!A:B,2,FALSE)*F54, VLOOKUP(D54 & \"\",Surcharge!A:B,2,FALSE)*F54), \"\")","v":0},null,null,null,null,null,null,null,{"$f":"VLOOKUP(Q54,'MPF SAP Download Canada'!A:D,4,FALSE)","v":21906},"M-T500VK_BASE_T500-650-D"]
[null,null,"T500 Walk-Behind Scrubber 700 mm / 28\" Disk","T500-700-D",25504,null,0,{"$f":"IFERROR(IFERROR(VLOOKUP(D55,Surcharge!A:B,2,FALSE)*F55, VLOOKUP(D55 & \"\",Surcharge!A:B,2,FALSE)*F55), \"\")","v":0},null,null,null,null,null,null,null,{"$f":"VLOOKUP(Q55,'MPF SAP Download Canada'!A:D,4,FALSE)","v":23835},"M-T500VK_BASE_T500-700-D"]
[null,null,"T500 Walk-Behind Scrubber 800 mm / 32\" Disk","T500-800-D",26886,null,0,{"$f":"IFERROR(IFERROR(VLOOKUP(D56,Surcharge!A:B,2,FALSE)*F56, VLOOKUP(D56 & \"\",Surcharge!A:B,2,FALSE)*F56), \"\")","v":0},null,null,null,null,null,null,null,{"$f":"VLOOKUP(Q56,'MPF SAP Download Canada'!A:D,4,FALSE)","v":25127},"M-T500VK_BASE_T500-800-D"]
[null,null,"T500 Walk-Behind Scrubber 700 mm / 28\" Cylindrical","T500-700-C",27195,null,0,{"$f":"IFERROR(IFERROR(VLOOKUP(D57,Surcharge!A:B,2,FALSE)*F57, VLOOKUP(D57 & \"\",Surcharge!A:B,2,FALSE)*F57), \"\")","v":0},null,null,null,null,null,null,null,{"$f":"VLOOKUP(Q57,'MPF SAP Download Canada'!A:D,4,FALSE)","v":25415},"M-T500VK_BASE_T500-700-C"]
[null,null,"T500 Walk-Behind Scrubber 700 mm / 28\" Orbital","T500-700-O",26489,null,0,{"$f":"IFERROR(IFERROR(VLOOKUP(D58,Surcharge!A:B,2,FALSE)*F58, VLOOKUP(D58 & \"\",Surcharge!A:B,2,FALSE)*F58), \"\")","v":0},null,null,null,null,null,null,null,{"$f":"VLOOKUP(Q58,'MPF SAP Download Canada'!A:D,4,FALSE)","v":24756},"M-T500VK_BASE_T500-700-O"]
[null,null,null,null,null,null,null,{"$f":"IFERROR(IFERROR(VLOOKUP(D59,Surcharge!A:B,2,FALSE)*F59, VLOOKUP(D59 & \"\",Surcharge!A:B,2,FALSE)*F59), \"\")","v":""}]
[null,null,"Trim Level",null,null,{"$f":"SUM(F61:F62)","v":0},null,{"$f":"IFERROR(IFERROR(VLOOKUP(D60,Surcharge!A:B,2,FALSE)*F60, VLOOKUP(D60 & \"\",Surcharge!A:B,2,FALSE)*F60), \"\")","v":""}]
[null,null,"Pro Membrane™ Control Panel","MCP-T500","N/C",null,{"$f":"IF(F61=0,\" \",\"N/C\")","v":" "},{"$f":"IFERROR(IFERROR(VLOOKUP(D61,Surcharge!A:B,2,FALSE)*F61, VLOOKUP(D61 & \"\",Surcharge!A:B,2,FALSE)*F61), \"\")","v":""},null,null,null,null,null,null,null,{"$f":"VLOOKUP(Q61,'MPF SAP Download Canada'!A:D,4,FALSE)","v":"N/C"},"M-T500VK_TRM_PMEM"]
[null,null,"Pro-Panel™ Control Panel","PPC-T500",1329,null,{"$f":"F62*E62","v":0},{"$f":"IFERROR(IFERROR(VLOOKUP(D62,Surcharge!A:B,2,FALSE)*F62, VLOOKUP(D62 & \"\",Surcharge!A:B,2,FALSE)*F62), \"\")","v":""},null,null,null,null,null,null,null,{"$f":"VLOOKUP(Q62,'MPF SAP Download Canada'!A:D,4,FALSE)","v":1242},"M-T500VK_TRM_PPAN"]
[null,null,null,null,null,null,null,{"$f":"IFERROR(IFERROR(VLOOKUP(D63,Surcharge!A:B,2,FALSE)*F63, VLOOKUP(D63 & \"\",Surcharge!A:B,2,FALSE)*F63), \"\")","v":""}]
[null,null,"Cleaning Technology: (conventional is standard,  ec-H2O NanoClean can also operate in conventional mode)",null,null,{"$f":"SUM(F65:F68)","v":0},null,{"$f":"IFERROR(IFERROR(VLOOKUP(D64,Surcharge!A:B,2,FALSE)*F64, VLOOKUP(D64 & \"\",Surcharge!A:B,2,FALSE)*F64), \"\")","v":""},null,null,null,{"$f":"SUM(F64)","v":0},"Surcharge Qty"]
[null,null,"ec-H2O NanoClean™","ec-H2ONC-T500",4255,null,{"$f":"F65*E65","v":0},{"$f":"IFERROR(IFERROR(VLOOKUP(D65,Surcharge!A:B,2,FALSE)*F65, VLOOKUP(D65 & \"\",Surcharge!A:B,2,FALSE)*F65), \"\")","v":""},null,null,null,{"$f":"SUM(F65)","v":0},"Surcharge Qty",null,null,{"$f":"VLOOKUP(Q65,'MPF SAP Download Canada'!A:D,4,FALSE)","v":3976},"M-T500VK_CLNTCH_ECH2ON"]
[null,null,null,null,null,null,null,{"$f":"IFERROR(IFERROR(VLOOKUP(D66,Surcharge!A:B,2,FALSE)*F66, VLOOKUP(D66 & \"\",Surcharge!A:B,2,FALSE)*F66), \"\")","v":""},null,null,null,null,null,null,null,null,""]
[null,null,"Severe Environment Switch  (Note 1)",9015322,856,0,{"$f":"F67*E67","v":0},{"$f":"IFERROR(IFERROR(VLOOKUP(D67,Surcharge!A:B,2,FALSE)*F67, VLOOKUP(D67 & \"\",Surcharge!A:B,2,FALSE)*F67), \"\")","v":""},null,null,null,null,null,null,null,{"$f":"VLOOKUP(Q67,'MPF SAP Download Canada'!A:D,4,FALSE)","v":800},"M-T500VK_SVEEVMSWH"]
[null,null,"Severe Environment™ Switch Lockout  (Note 2)",9017886,87,0,{"$f":"F68*E68","v":0},null,null,null,null,null,null,null,null,{"$f":"VLOOKUP(Q68,'MPF SAP Download Canada'!A:D,4,FALSE)","v":81},"M-T500VK_SVEEVMSWHLKT"]
[null,null,null,null,null,null,null,{"$f":"IFERROR(IFERROR(VLOOKUP(D69,Surcharge!A:B,2,FALSE)*F69, VLOOKUP(D69 & \"\",Surcharge!A:B,2,FALSE)*F69), \"\")","v":""},null,null,null,0,"Surcharge Qty",null,null,null,""]
[null,null,"Squeegee Width  (Note 3)",null,null,{"$f":"SUM(F71:F72)","v":0},null,{"$f":"IFERROR(IFERROR(VLOOKUP(D70,Surcharge!A:B,2,FALSE)*F70, VLOOKUP(D70 & \"\",Surcharge!A:B,2,FALSE)*F70), \"\")","v":""},null,null,null,0,"Surcharge Qty",null,null,null,""]
[null,null,"Standard","STD-T500","N/C",null,{"$f":"IF(F71=0,\" \",\"N/C\")","v":" "},{"$f":"IFERROR(IFERROR(VLOOKUP(D71,Surcharge!A:B,2,FALSE)*F71, VLOOKUP(D71 & \"\",Surcharge!A:B,2,FALSE)*F71), \"\")","v":""},null,null,null,0,"Surcharge Qty",null,null,{"$f":"VLOOKUP(Q71,'MPF SAP Download Canada'!$A:$D,4,FALSE)","v":"N/C"},"M-T500VK_SQEWDT_STD"]
[null,null,"Narrow Aisle","NR-T500","N/C",null,{"$f":"IF(F72=0,\" \",\"N/C\")","v":" "},{"$f":"IFERROR(IFERROR(VLOOKUP(D72,Surcharge!A:B,2,FALSE)*F72, VLOOKUP(D72 & \"\",Surcharge!A:B,2,FALSE)*F72), \"\")","v":""},null,null,null,0,"Surcharge Qty",null,null,{"$f":"VLOOKUP(Q72,'MPF SAP Download Canada'!$A:$D,4,FALSE)","v":"N/C"},"M-T500VK_SQEWDT_NWA"]
[null,null,null,null,null,null,null,{"$f":"IFERROR(IFERROR(VLOOKUP(D73,Surcharge!A:B,2,FALSE)*F73, VLOOKUP(D73 & \"\",Surcharge!A:B,2,FALSE)*F73), \"\")","v":""},null,null,null,0,"Surcharge Qty",null,null,null,""]
[null,null,"Battery Type  (Note 4)",null,null,{"$f":"SUM(F75:F84)","v":0},null,{"$f":"IFERROR(IFERROR(VLOOKUP(D74,Surcharge!A:B,2,FALSE)*F74, VLOOKUP(D74 & \"\",Surcharge!A:B,2,FALSE)*F74), \"\")","v":""},null,null,null,0,"Surcharge Qty",null,null,null,""]
[null,null,"Wet 225AH C/20",9015372,"N/C",null,{"$f":"IF(F75=0,\" \",\"N/C\")","v":" "},{"$f":"IFERROR(IFERROR(VLOOKUP(D75,Surcharge!A:B,2,FALSE)*F75, VLOOKUP(D75 & \"\",Surcharge!A:B,2,FALSE)*F75), \"\")","v":""},null,null,null,{"$f":"SUM(F75)","v":0},"Surcharge Qty",null,null,{"$f":"VLOOKUP(Q75,'MPF SAP Download Canada'!A:D,4,FALSE)","v":"N/C"},"M-T500VK_BTY_W225C20"]
[null,null,"Wet 260AH C/20",9015373,636,null,{"$f":"F76*E76","v":0},{"$f":"IFERROR(IFERROR(VLOOKUP(D76,Surcharge!A:B,2,FALSE)*F76, VLOOKUP(D76 & \"\",Surcharge!A:B,2,FALSE)*F76), \"\")","v":""},null,null,null,null,null,null,null,{"$f":"VLOOKUP(Q76,'MPF SAP Download Canada'!A:D,4,FALSE)","v":594},"M-T500VK_BTY_W260C20"]
[null,null,"Sealed/MF AGM 220AH C/20",9015374,2313,null,0,{"$f":"IFERROR(IFERROR(VLOOKUP(D77,Surcharge!A:B,2,FALSE)*F77, VLOOKUP(D77 & \"\",Surcharge!A:B,2,FALSE)*F77), \"\")","v":""},null,null,null,null,null,null,null,{"$f":"VLOOKUP(Q77,'MPF SAP Download Canada'!A:D,4,FALSE)","v":2161},"M-T500VK_BTY_A220C20"]
[null,null,"Sealed/MF Fast Charge TPPL 183AH C/20",9021148,2962,null,{"$f":"F78*E78","v":0},null,null,null,null,null,null,null,null,{"$f":"VLOOKUP(Q78,'MPF SAP Download Canada'!A:D,4,FALSE)","v":2768},"M-T500VK_BTY_F183C20"]
[null,null,"Li-Ion 24v, 90AH  (Note 4a)",9022774,4826,null,{"$f":"F79*E79","v":0}]
[null,null,"Li-Ion 24v, 180AH  (Note 4a)",9022775,9090,null,0]
[null,null,"Without",9015370,-630,null,0,{"$f":"IFERROR(IFERROR(VLOOKUP(D81,Surcharge!A:B,2,FALSE)*F81, VLOOKUP(D81 & \"\",Surcharge!A:B,2,FALSE)*F81), \"\")","v":""},null,null,null,null,null,null,null,{"$f":"VLOOKUP(Q81,'MPF SAP Download Canada'!A:D,4,FALSE)","v":-630},"M-T500VK_BTY_WO"]
[null,null,null,null,null,null,null,{"$f":"IFERROR(IFERROR(VLOOKUP(D82,Surcharge!A:B,2,FALSE)*F82, VLOOKUP(D82 & \"\",Surcharge!A:B,2,FALSE)*F82), \"\")","v":""}]
[null,null,"Smart-Fill Automatic Battery Watering System  (Note 5)",9015383,1374,null,{"$f":"F83*E83","v":0},{"$f":"IFERROR(IFERROR(VLOOKUP(D83,Surcharge!A:B,2,FALSE)*F83, VLOOKUP(D83 & \"\",Surcharge!A:B,2,FALSE)*F83), \"\")","v":""},null,null,null,null,null,null,null,{"$f":"VLOOKUP(Q83,'MPF SAP Download Canada'!A:D,4,FALSE)","v":1284},"M-T500VK_BTYWTRSYS_SF"]
[null,null,"Manual Battery Watering System  (Note 5)",9009619,800,null,0,{"$f":"IFERROR(IFERROR(VLOOKUP(D84,Surcharge!A:B,2,FALSE)*F84, VLOOKUP(D84 & \"\",Surcharge!A:B,2,FALSE)*F84), \"\")","v":""},null,null,null,null,null,null,null,{"$f":"VLOOKUP(Q84,'MPF SAP Download Canada'!A:D,4,FALSE)","v":747},"M-T500VK_BTYWTRSYS_ML"]
[null,null,null,null,null,null,null,{"$f":"IFERROR(IFERROR(VLOOKUP(D85,Surcharge!A:B,2,FALSE)*F85, VLOOKUP(D85 & \"\",Surcharge!A:B,2,FALSE)*F85), \"\")","v":""},null,null,null,null,null,null,null,null,""]
[null,null,"Charger  (Note 6)",null,null,{"$f":"SUM(F87:F91)","v":0},null,{"$f":"IFERROR(IFERROR(VLOOKUP(D86,Surcharge!A:B,2,FALSE)*F86, VLOOKUP(D86 & \"\",Surcharge!A:B,2,FALSE)*F86), \"\")","v":""},null,null,null,null,null,null,null,null,""]
[null,null,"25A 100-240V AC 50/60Hz 1Ph - On-Board  \n    (IRIS Battery Metric Compatible)",9015396,"N/C",null,{"$f":"IF(F87=0,\" \",\"N/C\")","v":" "},{"$f":"IFERROR(IFERROR(VLOOKUP(D87,Surcharge!A:B,2,FALSE)*F87, VLOOKUP(D87 & \"\",Surcharge!A:B,2,FALSE)*F87), \"\")","v":""},null,null,null,null,null,null,null,{"$f":"VLOOKUP(Q87,'MPF SAP Download Canada'!A:D,4,FALSE)","v":"N/C"},"M-T500VK_CHG_25A100V5060H1"]
[null,null,"27A 100-240V AC 50/60Hz 1Ph - On-Board Charger (Fast Charge TPPL 183AH Battery)",9021169,262,null,{"$f":"F88*E88","v":0},null,null,null,null,null,null,null,null,{"$f":"VLOOKUP(Q88,'MPF SAP Download Canada'!A:D,4,FALSE)","v":244},"M-T500VK_CHG_27A100240V5060H"]
[null,null,"27A 100-240V AC 50/60Hz 1Ph - Off-Board Charger (Li-Ion Batteries)",9052023,"N/C",null,{"$f":"IF(F89=0,\" \",\"N/C\")","v":" "}]
[null,null,"27A 100-240V AC 50/60Hz 1Ph - On-Board Charger (Li-Ion Batteries)",9022824,"N/C",null,{"$f":"IF(F90=0,\" \",\"N/C\")","v":" "}]
[null,null,"41A 100-240V AC 50/60Hz 1Ph - On-Board Charger (Li-Ion Batteries)",9022827,585,null,{"$f":"F91*E91","v":0}]
[null,null,null,null,null,null,null,{"$f":"IFERROR(IFERROR(VLOOKUP(D92,Surcharge!A:B,2,FALSE)*F92, VLOOKUP(D92 & \"\",Surcharge!A:B,2,FALSE)*F92), \"\")","v":""},null,null,null,null,null,null,null,null,""]
[null,"Machine Protection & Safety",null,null,null,{"$f":"SUM(F94:F94)","v":0},null,{"$f":"IFERROR(IFERROR(VLOOKUP(D93,Surcharge!A:B,2,FALSE)*F93, VLOOKUP(D93 & \"\",Surcharge!A:B,2,FALSE)*F93), \"\")","v":""},null,null,null,null,null,null,null,null,""]
[null,null,"Parking Brake",9015224,272,null,{"$f":"F94*E94","v":0},{"$f":"IFERROR(IFERROR(VLOOKUP(D94,Surcharge!A:B,2,FALSE)*F94, VLOOKUP(D94 & \"\",Surcharge!A:B,2,FALSE)*F94), \"\")","v":""},null,null,null,null,null,null,null,{"$f":"VLOOKUP(Q94,'MPF SAP Download Canada'!A:D,4,FALSE)","v":254},"M-T500VK_PRGBRK"]
[null,null,null,null,null,null,null,{"$f":"IFERROR(IFERROR(VLOOKUP(D95,Surcharge!A:B,2,FALSE)*F95, VLOOKUP(D95 & \"\",Surcharge!A:B,2,FALSE)*F95), \"\")","v":""},null,null,null,null,null,null,null,null,""]
[null,"Brushes and Pads  (Note 7)",null,"Reference Number",null,{"$f":"SUM(F97,F106,F115,F124,F128)","v":0},null,{"$f":"IFERROR(IFERROR(VLOOKUP(D96,Surcharge!A:B,2,FALSE)*F96, VLOOKUP(D96 & \"\",Surcharge!A:B,2,FALSE)*F96), \"\")","v":""},null,null,null,null,null,null,null,null,""]
[null,null,"650 mm / 26\" Disk Scrubbing Brushes / Pads (2 Required - 13\" each)",null,null,{"$f":"SUM(F98:F104)","v":0},null,{"$f":"IFERROR(IFERROR(VLOOKUP(D97,Surcharge!A:B,2,FALSE)*F97, VLOOKUP(D97 & \"\",Surcharge!A:B,2,FALSE)*F97), \"\")","v":""},null,null,null,null,null,null,null,null,""]
[null,null,"Polypropylene Brush",1223989,"N/C",null,{"$f":"IF(F98=0,\" \",\"N/C\")","v":" "},{"$f":"IFERROR(IFERROR(VLOOKUP(D98,Surcharge!A:B,2,FALSE)*F98, VLOOKUP(D98 & \"\",Surcharge!A:B,2,FALSE)*F98), \"\")","v":""},null,null,null,null,null,null,null,{"$f":"VLOOKUP(Q98,'MPF SAP Download Canada'!A:D,4,FALSE)","v":"N/C"},"M-T500VK_CLNTOL_D650PYP"]
[null,null,"Nylon Brush",1223991,"N/C",null," ",{"$f":"IFERROR(IFERROR(VLOOKUP(D99,Surcharge!A:B,2,FALSE)*F99, VLOOKUP(D99 & \"\",Surcharge!A:B,2,FALSE)*F99), \"\")","v":""},null,null,null,null,null,null,null,{"$f":"VLOOKUP(Q99,'MPF SAP Download Canada'!A:D,4,FALSE)","v":"N/C"},"M-T500VK_CLNTOL_D650NYL"]
[]
[null,null,"Pad Driver",1220220,"N/C",null,{"$f":"IF(F101=0,\" \",\"N/C\")","v":" "},{"$f":"IFERROR(IFERROR(VLOOKUP(D101,Surcharge!A:B,2,FALSE)*F101, VLOOKUP(D101 & \"\",Surcharge!A:B,2,FALSE)*F101), \"\")","v":""},null,null,null,null,null,null,null,{"$f":"VLOOKUP(Q101,'MPF SAP Download Canada'!A:D,4,FALSE)","v":"N/C"},"M-T500VK_CLNTOL_D650PAD"]
[null,null,"Blue Scrubbing - 3M",89047,22.5,null,{"$f":"F102*E102","v":0},{"$f":"IFERROR(IFERROR(VLOOKUP(D102,Surcharge!A:B,2,FALSE)*F102, VLOOKUP(D102 & \"\",Surcharge!A:B,2,FALSE)*F102), \"\")","v":""},null,null,null,null,null,null,null,{"$f":"VLOOKUP(Q102,'MPF SAP Download Canada'!A:D,4,FALSE)","v":21},"M-T500VK_PADTYP_650BLU3"]
[null,null,"Red Cleaning - 3M",89048,22.5,null,0,{"$f":"IFERROR(IFERROR(VLOOKUP(D103,Surcharge!A:B,2,FALSE)*F103, VLOOKUP(D103 & \"\",Surcharge!A:B,2,FALSE)*F103), \"\")","v":""},null,null,null,null,null,null,null,{"$f":"VLOOKUP(Q103,'MPF SAP Download Canada'!A:D,4,FALSE)","v":21},"M-T500VK_PADTYP_650RED3"]
[null,null,"White Polishing - 3M",89049,22.5,null,0,{"$f":"IFERROR(IFERROR(VLOOKUP(D104,Surcharge!A:B,2,FALSE)*F104, VLOOKUP(D104 & \"\",Surcharge!A:B,2,FALSE)*F104), \"\")","v":""},null,null,null,null,null,null,null,{"$f":"VLOOKUP(Q104,'MPF SAP Download Canada'!A:D,4,FALSE)","v":21},"M-T500VK_PADTYP_650WHT3"]
[null,null,null,null,null,null,null,{"$f":"IFERROR(IFERROR(VLOOKUP(D105,Surcharge!A:B,2,FALSE)*F105, VLOOKUP(D105 & \"\",Surcharge!A:B,2,FALSE)*F105), \"\")","v":""}]
[null,null,"700 mm / 28\" Disk Scrubbing Brushes / Pads (2 Required - 14\" each)",null,null,{"$f":"SUM(F107:F113)","v":0},null,{"$f":"IFERROR(IFERROR(VLOOKUP(D106,Surcharge!A:B,2,FALSE)*F106, VLOOKUP(D106 & \"\",Surcharge!A:B,2,FALSE)*F106), \"\")","v":""}]
[null,null,"Polypropylene",1220218,"N/C",null,{"$f":"IF(F107=0,\" \",\"N/C\")","v":" "},{"$f":"IFERROR(IFERROR(VLOOKUP(D107,Surcharge!A:B,2,FALSE)*F107, VLOOKUP(D107 & \"\",Surcharge!A:B,2,FALSE)*F107), \"\")","v":""},null,null,null,null,null,null,null,{"$f":"VLOOKUP(Q107,'MPF SAP Download Canada'!A:D,4,FALSE)","v":"N/C"},"M-T500VK_CLNTOL_D700PYP"]
[null,null,"Nylon",1221541,"N/C",null," ",{"$f":"IFERROR(IFERROR(VLOOKUP(D108,Surcharge!A:B,2,FALSE)*F108, VLOOKUP(D108 & \"\",Surcharge!A:B,2,FALSE)*F108), \"\")","v":""},null,null,null,null,null,null,null,{"$f":"VLOOKUP(Q108,'MPF SAP Download Canada'!A:D,4,FALSE)","v":"N/C"},"M-T500VK_CLNTOL_D700NYL"]
[]
[null,null,"Pad Driver",1220221,"N/C",null,{"$f":"IF(F110=0,\" \",\"N/C\")","v":" "},{"$f":"IFERROR(IFERROR(VLOOKUP(D110,Surcharge!A:B,2,FALSE)*F110, VLOOKUP(D110 & \"\",Surcharge!A:B,2,FALSE)*F110), \"\")","v":""},null,null,null,null,null,null,null,{"$f":"VLOOKUP(Q110,'MPF SAP Download Canada'!A:D,4,FALSE)","v":"N/C"},"M-T500VK_CLNTOL_D700PAD"]
[null,null,"Blue Scrubbing - 3M",222326,25.7,null,{"$f":"F111*E111","v":0},{"$f":"IFERROR(IFERROR(VLOOKUP(D111,Surcharge!A:B,2,FALSE)*F111, VLOOKUP(D111 & \"\",Surcharge!A:B,2,FALSE)*F111), \"\")","v":""},null,null,null,null,null,null,null,{"$f":"VLOOKUP(Q111,'MPF SAP Download Canada'!A:D,4,FALSE)","v":24},"M-T500VK_PADTYP_700BLU3"]
[null,null,"Red Cleaning - 3M",222325,25.7,null,0,{"$f":"IFERROR(IFERROR(VLOOKUP(D112,Surcharge!A:B,2,FALSE)*F112, VLOOKUP(D112 & \"\",Surcharge!A:B,2,FALSE)*F112), \"\")","v":""},null,null,null,null,null,null,null,{"$f":"VLOOKUP(Q112,'MPF SAP Download Canada'!A:D,4,FALSE)","v":24},"M-T500VK_PADTYP_700RED3"]
[null,null,"White Polishing - 3M",222324,25.7,null,0,{"$f":"IFERROR(IFERROR(VLOOKUP(D113,Surcharge!A:B,2,FALSE)*F113, VLOOKUP(D113 & \"\",Surcharge!A:B,2,FALSE)*F113), \"\")","v":""},null,null,null,null,null,null,null,{"$f":"VLOOKUP(Q113,'MPF SAP Download Canada'!A:D,4,FALSE)","v":24},"M-T500VK_PADTYP_700WHT3"]
[null,null,null,null,null,null,null,{"$f":"IFERROR(IFERROR(VLOOKUP(D114,Surcharge!A:B,2,FALSE)*F114, VLOOKUP(D114 & \"\",Surcharge!A:B,2,FALSE)*F114), \"\")","v":""}]
[null,null,"800 mm / 32\" Disk Scrubbing Brushes / Pads (2 Required - 16\" each)",null,null,{"$f":"SUM(F116:F122)","v":0},null,{"$f":"IFERROR(IFERROR(VLOOKUP(D115,Surcharge!A:B,2,FALSE)*F115, VLOOKUP(D115 & \"\",Surcharge!A:B,2,FALSE)*F115), \"\")","v":""}]
[null,null,"Polypropylene",1220216,"N/C",null,{"$f":"IF(F116=0,\" \",\"N/C\")","v":" "},{"$f":"IFERROR(IFERROR(VLOOKUP(D116,Surcharge!A:B,2,FALSE)*F116, VLOOKUP(D116 & \"\",Surcharge!A:B,2,FALSE)*F116), \"\")","v":""},null,null,null,null,null,null,null,{"$f":"VLOOKUP(Q116,'MPF SAP Download Canada'!A:D,4,FALSE)","v":"N/C"},"M-T500VK_CLNTOL_D800PYP"]
[null,null,"Nylon",1220215,"N/C",null,{"$f":"IF(F117=0,\" \",\"N/C\")","v":" "},{"$f":"IFERROR(IFERROR(VLOOKUP(D117,Surcharge!A:B,2,FALSE)*F117, VLOOKUP(D117 & \"\",Surcharge!A:B,2,FALSE)*F117), \"\")","v":""},null,null,null,null,null,null,null,{"$f":"VLOOKUP(Q117,'MPF SAP Download Canada'!A:D,4,FALSE)","v":"N/C"},"M-T500VK_CLNTOL_D800NYL"]
[null,null,null,null,null,null,null,{"$f":"IFERROR(IFERROR(VLOOKUP(D118,Surcharge!A:B,2,FALSE)*F118, VLOOKUP(D118 & \"\",Surcharge!A:B,2,FALSE)*F118), \"\")","v":""}]
[null,null,"Pad Driver",1220222,"N/C",null,{"$f":"IF(F119=0,\" \",\"N/C\")","v":" "},{"$f":"IFERROR(IFERROR(VLOOKUP(D119,Surcharge!A:B,2,FALSE)*F119, VLOOKUP(D119 & \"\",Surcharge!A:B,2,FALSE)*F119), \"\")","v":""},null,null,null,null,null,null,null,null,"M-T500VK_CLNTOL_D800PAD"]
[null,null,"Blue Scrubbing - 3M","63248-2",30,null,{"$f":"F120*E120","v":0},{"$f":"IFERROR(IFERROR(VLOOKUP(D120,Surcharge!A:B,2,FALSE)*F120, VLOOKUP(D120 & \"\",Surcharge!A:B,2,FALSE)*F120), \"\")","v":""},null,null,null,null,null,null,null,{"$f":"VLOOKUP(Q120,'MPF SAP Download Canada'!A:D,4,FALSE)","v":27},"M-T500VK_PADTYP_800BLU3"]
[null,null,"Red Cleaning - 3M","63248-3",30,null,0,{"$f":"IFERROR(IFERROR(VLOOKUP(D121,Surcharge!A:B,2,FALSE)*F121, VLOOKUP(D121 & \"\",Surcharge!A:B,2,FALSE)*F121), \"\")","v":""},null,null,null,null,null,null,null,{"$f":"VLOOKUP(Q121,'MPF SAP Download Canada'!A:D,4,FALSE)","v":27},"M-T500VK_PADTYP_800RED3"]
[null,null,"White Polishing - 3M","63248-4",30,null,0,{"$f":"IFERROR(IFERROR(VLOOKUP(D122,Surcharge!A:B,2,FALSE)*F122, VLOOKUP(D122 & \"\",Surcharge!A:B,2,FALSE)*F122), \"\")","v":""},null,null,null,null,null,null,null,{"$f":"VLOOKUP(Q122,'MPF SAP Download Canada'!A:D,4,FALSE)","v":27},"M-T500VK_PADTYP_800WHT3"]
[null,null,null,null,null,null,null,{"$f":"IFERROR(IFERROR(VLOOKUP(D123,Surcharge!A:B,2,FALSE)*F123, VLOOKUP(D123 & \"\",Surcharge!A:B,2,FALSE)*F123), \"\")","v":""}]
[null,null,"700 mm / 28\" Cylindrical Scrubbing Brushes  (2 Required)",null,null,{"$f":"SUM(F125:F126)","v":0},null,{"$f":"IFERROR(IFERROR(VLOOKUP(D124,Surcharge!A:B,2,FALSE)*F124, VLOOKUP(D124 & \"\",Surcharge!A:B,2,FALSE)*F124), \"\")","v":""}]
[null,null,"Polypropylene",222304,"N/C",null,{"$f":"IF(F125=0,\" \",\"N/C\")","v":" "},{"$f":"IFERROR(IFERROR(VLOOKUP(D125,Surcharge!A:B,2,FALSE)*F125, VLOOKUP(D125 & \"\",Surcharge!A:B,2,FALSE)*F125), \"\")","v":""},null,null,null,null,null,null,null,{"$f":"VLOOKUP(Q125,'MPF SAP Download Canada'!A:D,4,FALSE)","v":"N/C"},"M-T500VK_CLNTOL_C700PYP"]
[null,null,"Nylon",222305,"N/C",null," ",{"$f":"IFERROR(IFERROR(VLOOKUP(D126,Surcharge!A:B,2,FALSE)*F126, VLOOKUP(D126 & \"\",Surcharge!A:B,2,FALSE)*F126), \"\")","v":""},null,null,null,null,null,null,null,{"$f":"VLOOKUP(Q126,'MPF SAP Download Canada'!A:D,4,FALSE)","v":"N/C"},"M-T500VK_CLNTOL_C700NYL"]
[null,null,null,null,null,null,null,{"$f":"IFERROR(IFERROR(VLOOKUP(D127,Surcharge!A:B,2,FALSE)*F127, VLOOKUP(D127 & \"\",Surcharge!A:B,2,FALSE)*F127), \"\")","v":""}]
[null,null,"700 mm / 28\" Orbital Pad Driver / Pads (1 Required)",null,null,{"$f":"SUM(F129:F132)","v":0},null,{"$f":"IFERROR(IFERROR(VLOOKUP(D128,Surcharge!A:B,2,FALSE)*F128, VLOOKUP(D128 & \"\",Surcharge!A:B,2,FALSE)*F128), \"\")","v":""}]
[null,null,"Pad Driver - Red Backer Pad",1221839,"N/C",null,{"$f":"IF(F129=0,\" \",\"N/C\")","v":" "},{"$f":"IFERROR(IFERROR(VLOOKUP(D129,Surcharge!A:B,2,FALSE)*F129, VLOOKUP(D129 & \"\",Surcharge!A:B,2,FALSE)*F129), \"\")","v":""},null,null,null,null,null,null,null,{"$f":"VLOOKUP(Q129,'MPF SAP Download Canada'!A:D,4,FALSE)","v":"N/C"},"M-T500VK_CLNTOL_O700PAD"]
[null,null,"Blue Scrubbing - 3M",1223247,84.6,null,{"$f":"F130*E130","v":0},{"$f":"IFERROR(IFERROR(VLOOKUP(D130,Surcharge!A:B,2,FALSE)*F130, VLOOKUP(D130 & \"\",Surcharge!A:B,2,FALSE)*F130), \"\")","v":""},null,null,null,null,null,null,null,{"$f":"VLOOKUP(Q130,'MPF SAP Download Canada'!A:D,4,FALSE)","v":79},"M-T500VK_PADTYP_O700BLU3"]
[null,null,"Red Cleaning - 3M",1218157,84.6,null,0,{"$f":"IFERROR(IFERROR(VLOOKUP(D131,Surcharge!A:B,2,FALSE)*F131, VLOOKUP(D131 & \"\",Surcharge!A:B,2,FALSE)*F131), \"\")","v":""},null,null,null,null,null,null,null,{"$f":"VLOOKUP(Q131,'MPF SAP Download Canada'!A:D,4,FALSE)","v":79},"M-T500VK_PADTYP_O700RED3"]
[null,null,"White Polishing - 3M",1223246,84.6,null,0,{"$f":"IFERROR(IFERROR(VLOOKUP(D132,Surcharge!A:B,2,FALSE)*F132, VLOOKUP(D132 & \"\",Surcharge!A:B,2,FALSE)*F132), \"\")","v":""},null,null,null,null,null,null,null,{"$f":"VLOOKUP(Q132,'MPF SAP Download Canada'!A:D,4,FALSE)","v":79},"M-T500VK_PADTYP_O700WHT3"]
[null,null,null,null,null,null,null,{"$f":"IFERROR(IFERROR(VLOOKUP(D133,Surcharge!A:B,2,FALSE)*F133, VLOOKUP(D133 & \"\",Surcharge!A:B,2,FALSE)*F133), \"\")","v":""}]
[null,"Support  (Note 8)",null,"Reference Number",null,{"$f":"SUM(F135:F143)","v":0},null,{"$f":"IFERROR(IFERROR(VLOOKUP(D134,Surcharge!A:B,2,FALSE)*F134, VLOOKUP(D134 & \"\",Surcharge!A:B,2,FALSE)*F134), \"\")","v":""}]
[null,null,"T500 Operator Manual (English)",9015223,"N/C",null,{"$f":"IF(F135=0,\" \",\"N/C\")","v":" "},{"$f":"IFERROR(IFERROR(VLOOKUP(D135,Surcharge!A:B,2,FALSE)*F135, VLOOKUP(D135 & \"\",Surcharge!A:B,2,FALSE)*F135), \"\")","v":""},null,null,null,null,null,null,null,{"$f":"VLOOKUP(Q135,'MPF SAP Download Canada'!A:D,4,FALSE)","v":{"$error":"#N/A"}},"M-T500"]
[null,null,"T500 Operator Manual (Spanish)",9015500,"N/C",null," ",{"$f":"IFERROR(IFERROR(VLOOKUP(D136,Surcharge!A:B,2,FALSE)*F136, VLOOKUP(D136 & \"\",Surcharge!A:B,2,FALSE)*F136), \"\")","v":""},null,null,null,null,null,null,null,{"$f":"VLOOKUP(Q136,'MPF SAP Download Canada'!A:D,4,FALSE)","v":{"$error":"#N/A"}},"M-T500"]
[null,null,"T500 Operator Manual (French)  (Note 9)",9015501,"N/C",null," ",{"$f":"IFERROR(IFERROR(VLOOKUP(D137,Surcharge!A:B,2,FALSE)*F137, VLOOKUP(D137 & \"\",Surcharge!A:B,2,FALSE)*F137), \"\")","v":""},null,null,null,null,null,null,null,{"$f":"VLOOKUP(Q137,'MPF SAP Download Canada'!A:D,4,FALSE)","v":{"$error":"#N/A"}},"M-T500"]
[null,null,"Additional Operator Manual","SEE ABOVE",188,null,{"$f":"F138*E138","v":0},{"$f":"IFERROR(IFERROR(VLOOKUP(D138,Surcharge!A:B,2,FALSE)*F138, VLOOKUP(D138 & \"\",Surcharge!A:B,2,FALSE)*F138), \"\")","v":""},null,null,null,null,null,null,null,{"$f":"VLOOKUP(Q138,'MPF SAP Download Canada'!A:D,4,FALSE)","v":175},"M-T500VK_ADLOPRMNL"]
[null,null,"T500 Parts Manual",9015222,76,null,0,{"$f":"IFERROR(IFERROR(VLOOKUP(D139,Surcharge!A:B,2,FALSE)*F139, VLOOKUP(D139 & \"\",Surcharge!A:B,2,FALSE)*F139), \"\")","v":""},null,null,null,null,null,null,null,{"$f":"VLOOKUP(Q139,'MPF SAP Download Canada'!A:D,4,FALSE)","v":71},"M-T500VK_PARMNL"]
[null,null,"T500 Service Manual",9015504,188,null,0,{"$f":"IFERROR(IFERROR(VLOOKUP(D140,Surcharge!A:B,2,FALSE)*F140, VLOOKUP(D140 & \"\",Surcharge!A:B,2,FALSE)*F140), \"\")","v":""},null,null,null,null,null,null,null,{"$f":"VLOOKUP(Q140,'MPF SAP Download Canada'!A:D,4,FALSE)","v":175},"M-T500VK_SRVMNL"]
[null,null,null,null,null,null,null,{"$f":"IFERROR(IFERROR(VLOOKUP(D141,Surcharge!A:B,2,FALSE)*F141, VLOOKUP(D141 & \"\",Surcharge!A:B,2,FALSE)*F141), \"\")","v":""}]
[null,null,"Packaging",null,null,{"$f":"SUM(F143)","v":0},null,{"$f":"IFERROR(IFERROR(VLOOKUP(D142,Surcharge!A:B,2,FALSE)*F142, VLOOKUP(D142 & \"\",Surcharge!A:B,2,FALSE)*F142), \"\")","v":""},null,null,null,null,null,null,null,null,""]
[null,null,"Skid w/Carton, Stackable",9015450,"NC",null,{"$f":"IF(F143=0,\" \",\"N/C\")","v":" "},{"$f":"IFERROR(IFERROR(VLOOKUP(D143,Surcharge!A:B,2,FALSE)*F143, VLOOKUP(D143 & \"\",Surcharge!A:B,2,FALSE)*F143), \"\")","v":""},null,null,null,null,null,null,null,{"$f":"VLOOKUP(Q143,'MPF SAP Download Canada'!A:D,4,FALSE)","v":"N/C"},"M-T500VK_PKG_SSKD"]
[null,null,null,null,null,null,null,{"$f":"IFERROR(IFERROR(VLOOKUP(D144,Surcharge!A:B,2,FALSE)*F144, VLOOKUP(D144 & \"\",Surcharge!A:B,2,FALSE)*F144), \"\")","v":""}]
[]
[]
[null,"Custom Solution--write in description, qty, price, and PN if applicable",null,null,null,{"$f":"SUM(F148)","v":0}]
[null,null,null,null,"Insert Prices Here",{"$f":"SUM(F149:F152)","v":0}]
[null,null,null,"Custom",null,{"$f":"IF(E149 <> \"\", 1, 0)","v":0},{"$f":"F149*E149","v":0}]
[null,null,null,"Custom",null,{"$f":"IF(E150 <> \"\", 1, 0)","v":0},{"$f":"F150*E150","v":0}]
[null,null,null,"Custom",null,{"$f":"IF(E151 <> \"\", 1, 0)","v":0},{"$f":"F151*E151","v":0}]
[null,null,null,"Custom",null,{"$f":"IF(E152 <> \"\", 1, 0)","v":0},{"$f":"F152*E152","v":0}]
[null,null,null,null,{"$f":"ROUND(SUM(G52:G152), 0)","v":0},{"$f":"SUM(E154)","v":0}]
[null,null,null,"Machine Subtotal ",{"$f":"ROUND(SUM(G52:G152), 0)","v":0},{"$f":"F153","v":0}]
[null,"Discounts",null,null,null,{"$f":"SUM(F156)","v":0}]
[null,null,null,null,null,{"$f":"SUM(F158:F161)","v":0}]
[null,null,null,"Applicable Currency Adj %",null,{"$f":"IF(E157 <> \"\", 1, 0)","v":0},{"$f":"IF(F157*(E157*0.01)*E153 < 0, F157*(E157*0.01)*E153, -(F157*(E157*0.01)*E153))","v":0}]
[null,null,null,"Discount %",null,{"$f":"IF(E158 <> \"\", 1, 0)","v":0},{"$f":"IF(F158*(E158*0.01)*(E153+G157) < 0, F158*(E158*0.01)*(E153+G157), -(F158*(E158*0.01)*(E153+G157)))","v":0}]
[null,null,null,"Discount $",null,{"$f":"IF(E159 <> \"\", 1, 0)","v":0},{"$f":"IF(F159*E159 < 0, F159*E159, -(F159*E159))","v":0}]
[null,null,null,"Discount $",null,{"$f":"IF(E160 <> \"\", 1, 0)","v":0},{"$f":"IF(F160*E160 < 0, F160*E160, -(F160*E160))","v":0}]
[null,null,null,"Discount $",null,{"$f":"IF(E161 <> \"\", 1, 0)","v":0},{"$f":"IF(F161*E161 < 0, F161*E161, -(F161*E161))","v":0}]
[null,null,null,"Discount Total ",{"$f":"SUM(G157:G161)","v":0},{"$f":"SUM(E162)","v":0}]
[null,null,null,null,null,{"$f":"#REF!","v":{"$error":"#REF!"}}]
[null,null,null,null,null,{"$f":"F163","v":{"$error":"#REF!"}}]
[null,null,"Prepaid and Add","Freight",null,{"$f":"IF(E165 <> \"\", 1, 0)","v":0},{"$f":"F165*E165","v":0}]
[null,null,"Subject to all applicable taxes","Tax",null,{"$f":"IF(E166 <> \"\", 1, 0)","v":0},{"$f":"F166*E166","v":0}]
[null,null,null,null,null,{"$f":"SUM(F168)","v":0}]
[null,null,null,"MACHINE TOTAL*",null,{"$f":"SUM(G168)","v":0},{"$f":"SUM(G52:G166)","v":0},null,null,null,null,null,null,"This goes to \"My Documents\""]
[null,null,null,null,null,null,{"$f":"SUM(G168)","v":0}]
[]
[]
[]
[]
[null,null,"First Western Equipment Finance - Leasing Calculation Option:","Option 1",null,"Option 2",null,null,null,{"$f":"Financing!A38","v":"Rates 2025 - Rev 2/4/2025"}]
[null,null,null,"Monthly Payment","Cost Per Day","Monthly Payment","Cost Per Day",null,null,{"$f":"Financing!A39","v":"“Blank Payment Amounts Indicate The Financing Option Or Purchase Options Selected Are Not "}]
[null,null,"Purchase Option:","FWEF:  $1 Buyout Lease",null,"FWEF: Municipal Lease",null,null,null,{"$f":"Financing!A40","v":"Applicable Or The Machine Total Is Below The Minimum Amount For The Selected Vendor”"}]
[null,null,"24 Months",false,0,false,0,null,null,{"$f":"Financing!A41","v":"\"Quoted monthly payments are estimates only and are based on a certain level of credit rating."}]
[null,null,"30 Months",false,0,false,0,null,null,{"$f":"Financing!A42","v":"Actual monthly payments may be higher depending on your credit rating.\""}]
[null,null,"36 Months",false,0,false,0,null,null,{"$f":"Financing!A43","v":"“Financing rates do not include Pre-Paid Service”"}]
[null,null,"48 Months",0,0,0,0,null,{"$f":"Financing!A44","v":0}]
[]
[null,null,null,"Benefits of Equipment Financing:"]
[null,null,null,"• Spreads out investment over time.",null,"• Keep current with latest technology."]
[null,null,null,"• Preserve capital.",null,"• Service and parts bundling available."]
[null,null,null,"• Low monthly payment.",null,"• Pay for labor savings as you go."]
[]
[null,"   TennantTrue",null,null,0,0]
[]
[null,null,"Is customer interested in service program?","Yes","*State/County selection required for TennantTrue service options"]
[]
[null,null,"If not, why?"]
[]
[null,null,"Term:",36,null,null,"AB Brushes","No"]
[null,null,"Monthly machine usage (hrs):","< 30/mo. (Avg. 1hr./day)"]
[]
[null,null,"TennantTrue: ","Gold Contract",null,"Silver Contract"]
[null,null,"Per Visit",null,null,425]
[null,null,"Monthly",129,null,69]
[null,null,"Annually",null,null,816]
[null,null,"Pre-Pay Full Term",4444,null,2397]
[null,null,"Hourly Labor Rate"]
[null,null,"Site Visit"]
[]
[null,null,"* Verify customer current pricing prior to quote. "]
[null,null,"**All rates and fees above reflect service for one (1) unit with the exception of Block of Time service."]
[null,null,"*Block of Time is available in 1 Year Term only and is priced as such no matter the term selection on this template."]
[]
[]
[]
[null,"Quote Special Instructions:"]
[]
[]
[null,{"$f":"Start_Here!E36","v":"Terms and Conditions"}]
[null,{"$f":"Start_Here!E37","v":"Ask your local sales rep for estimated lead times. Verify when placing order"}]
[null,{"$f":"Start_Here!E38","v":"All orders subject to acceptance by Tennant Sales and Service Company, Minneapolis, Minnesota"}]
[null,{"$f":"Start_Here!E39","v":"Prices subject to change without notice. Subject to any applicable taxes."}]
[null,{"$f":"Start_Here!E40","v":"Terms:  Net 30 days.  Payable in Canadian Funds"}]
[null,{"$f":"Start_Here!E41","v":"Freight:  Accessories, parts, supplies, detergents, and floor coatings orders delivered DDP "}]
[null,{"$f":"Start_Here!E42","v":"shipping point Frt PPD.  Machine orders delivered DDP shipping point Frt PPD and add."}]
[null,{"$f":"Start_Here!E43","v":"Returned Merchandise is subject to a restocking fee."}]
[null,{"$f":"Start_Here!E45","v":"Printed General Terms and Conditions are also available upon request."}]
[null,{"$f":"Start_Here!E46","v":0}]
[]
[]
[null,null,null,null,"Quote Date :",null,{"$f":"Letter!$A$25","v":"2014-10-02"}]
["Order Placement Information:  To place your order, fill in PO# and customer signatures,"]
["call or fax to the numbers listed below. Customer Purchase Order is required."]
["If information is missing, orders will be entered and held until all information is received."]
[null,null,"Customer Number",null,"Cust Grp 3"]
[null,null,{"$f":"Start_Here!$C$25","v":0},null,{"$f":"Start_Here!$C$29","v":0}]
[null,null,{"$f":"Start_Here!$B$18","v":"Who Owns the Machine? (Sold-To Info) (Please Verify)"}]
["Company",null,{"$f":"Start_Here!$C$19","v":"Company Name"}]
["Address",null,{"$f":"Start_Here!$C$20","v":"Address"}]
[null,null,{"$f":"Start_Here!$C$21","v":"City, State Zip"}]
["Name",null,{"$f":"Start_Here!$C$22","v":"Contact Name"}]
["Phone",null,{"$f":"Start_Here!$C$23","v":"Contact Phone"}]
[null,null,{"$f":"Start_Here!$B$11","v":"Where is the Machine Being Shipped? (Ship-To Info) (Please Verify)"}]
["Company",null,{"$f":"Start_Here!$C$12","v":"Company Name"}]
["Address",null,{"$f":"Start_Here!$C$13","v":"Address"}]
[null,null,{"$f":"Start_Here!$C$14","v":"City, State Zip"}]
["Name",null,{"$f":"Start_Here!$C$15","v":"Contact Name"}]
["Phone",null,{"$f":"Start_Here!$C$16","v":"Contact Phone"}]
[null,null,{"$f":"Start_Here!$B$31","v":"Shipping / Carrier Instructions:"},null,"Order Special Instructions:"]
[null,null,{"$f":"Start_Here!$C$32","v":0}]
[]
[null,null,"Customer Purchase Order No."]
[null,null,"(please attach copy)"]
[]
[]
[null,null,"Tax Exempt",null,"Yes"]
[null,null,null,null,"No"]
[null,null,"If Yes, attach a copy of your exemption certificate."]
[]
[null,null,"Requested Delivery Date"]
[null,null,{"$f":"Start_Here!$C$28","v":0}]
[]
[null,null,{"$f":"Start_Here!$C$26","v":0},null,{"$f":"Start_Here!$C$27","v":0}]
[null,null,"Authorized Buyer (please print)",null,"Phone Number"]
[]
[]
[null,null,"Authorized Buyer Signature"]
[]
[null,null,{"$f":"Start_Here!$C$41","v":"Rep Name"}]
[null,null,"Tennant Representative"]
[]
["Specialized Maintenance Equipment"]
[{"$f":"Start_Here!$C$48","v":"TENNANT · 10400 Clean Street · Eden Prairie, MN 55344 ·"}]
[{"$f":"Start_Here!$C$49","v":" PHONE:800-553-8033 · FAX:763-513-2116"}]
[]
[null,"SPECIAL INFORMATION"]
[null,"Notes"]
[null,1,"Severe Environment Switch is only available units equipped with ec-H2O NanoClean cleaning Technology."]
[]
[null,2,"Severe Environment™ Switch Lockout is only available with ec-H2O NanoClean AND the Severe Environment Switch."]
[]
[null,3,"Standard Squeegee recovers 100% of water in 180º point turns.  If customer has a narrow aisle, the machine can be"]
[null,null,"set-up for a narrow aisle squeegee.  The narrow-aisle squeegee is the squeegee that comes standard with the "]
[null,null,"next size smaller head and will not recover 100% of the solution in 180º point turns.",null,null,"Narrow Aisle"]
[null,null,null,null,null,"9015490 = 30.0 in / 772 mm"]
[null,null,"Scrub Head Size","Standard","Narrow Aisle","9015301 = 38.3 in / 973 mm"]
[null,null,"650 mm / 26\" - Disk","9015301 = 38.3 in / 973 mm","9015490 = 30.0 in / 772 mm","9015302 = 41.3 in / 1049 mm"]
[null,null,"700 mm / 28\" - Disk","9015302 = 41.3 in / 1049 mm","9015301 = 38.3 in / 973 mm","9015302 = 41.3 in / 1049 mm"]
[null,null,"800 mm / 32\" - Disk","9015303 = 46.6 in / 1234 mm","9015302 = 41.3 in / 1049 mm","9015301 = 38.3 in / 973 mm"]
[null,null,"700 mm / 28\" - Cylindrical","9015303 = 46.6 in / 1234 mm","9015302 = 41.3 in / 1049 mm"]
[null,null,"700 mm / 28\" - Orbital","9015302 = 41.3 in / 1049 mm","9015301 = 38.3 in / 973 mm"]
[]
[null,4,"In order to obtain the IRIS Battery Metrics, one of the listed Tennant supplied batteries is required."]
[]
[null,"4a","Li-Ion batteries require a compatible Li-Ion Charger."]
[null,null,"Li-Ion batteries are not compatible with Pro Panel or Machine Communication (IRIS)."]
[]
[null,5,"Smart-Fill Automatic Battery Watering only available with on-board charger."]
[null,null,"Smart-Fill Automatic Battery Watering and Manual Battery Watering are not compatible with AGM or Li-Ion Batteries."]
[]
[null,6,"25A 100-240V AC 50/60Hz 1Ph - On-Board Charger is required to receive IRIS Battery Manager."]
[]
[null,7,"One set of brushes or pad drivers come standard with a Disk or Cylindrical T500.  Orbital units will come standard with"]
[null,null,"a Pad Driver - Red Backer Pad."]
[]
[null,8,"Additional hard copy Operator and Parts Manuals can be ordered or digital copies can be downloaded from www.Tennantco.com."]
[]
[null,9,"A French and English manual will be supplied for all units shipping into Quebec, Canada at no charge.  An additional manual"]
[null,null,"can be ordered (for a total of 3 manuals) for an additional charge as stated under 'Additional Operator Manual'."]
[]
[null,"IRIS","Pre-Paid and Monthly Packages are available for the IRIS Information Service."]
[null,null,"IRIS Module is required and NOT included in the price of the IRIS Information Service:"]
[null,null,"3 Year Pre-Paid IRIS Information Service",350]
[null,null,"5 Year Pre-Paid IRIS Information Service",560]
[null,null,"A monthly contract can be set up at $14 per month w/ 12 month minimum commitment."]
[null,null,"IRIS Telemetry Module only covers the price of the hardware. "]
[null,null,"IRIS Telemetry requires an IRIS Telemetry Module and an IRIS Information Service Package."]
[null,null,"25A 100-240V AC 50/60Hz 1Ph - On-Board Charger and a compatible Tennant supplied battery is required to receive IRIS Battery Manager."]
[null,null,"IRIS Battery Metrics are not guaranteed with third party supplied batteries."]
[null,null,"IRIS Telemetry is not available with units configured with Li-Ion Batteries."]
[]
[null,10,"Shipping Weights and Dimensions",null,"Skid w/Carton"]
[]
[null,null,"26\" / 650mm Disk"]
[null,null,"Weight",null,"635 lbs / 289 Kg"]
[null,null,"Length",null,"73\" / 1,855mm"]
[null,null,"Width",null,"43\" / 1,093mm"]
[null,null,"Height",null,"52\" / 1,321mm"]
[]
[null,null,"28\" / 700mm Disk"]
[null,null,"Weight",null,"645 lbs / 293 Kg"]
[null,null,"Length",null,"73\" / 1,855mm"]
[null,null,"Width",null,"43\" / 1,093mm"]
[null,null,"Height",null,"52\" / 1,321mm"]
[]
[null,null,"32\" / 800mm Disk"]
[null,null,"Weight",null,"770 lbs / 350 Kg"]
[null,null,"Length",null,"73\" / 1,855mm"]
[null,null,"Width",null,"43\" / 1,093mm"]
[null,null,"Height",null,"52\" / 1,321mm"]
[]
[null,null,"28\" / 700m Cylindrical"]
[null,null,"Weight",null,"685 lbs / 311 Kg"]
[null,null,"Length",null,"73\" / 1,855mm"]
[null,null,"Width",null,"43\" / 1,093mm"]
[null,null,"Height",null,"52\" / 1,321mm"]
[]
[null,null,"28\" / 700mm Orbital"]
[null,null,"Weight",null,"685 lbs / 311 Kg"]
[null,null,"Length",null,"73\" / 1,855mm"]
[null,null,"Width",null,"43\" / 1,093mm"]
[null,null,"Height",null,"52\" / 1,321mm"]

{"sheet":"T500e","index":32,"n_rows":339,"n_cols":16,"rows_kept":339,"cut":false,"hidden":false,"merged":[[237,2,237,5],[244,2,244,5],[253,4,253,5],[228,2,228,5],[229,2,229,5],[230,2,230,5],[240,4,240,6],[234,2,234,5],[235,2,235,5],[207,1,207,6],[243,2,243,5],[228,0,228,1],[229,0,229,1],[231,0,231,1],[232,0,232,1],[234,0,234,1],[231,2,231,5],[232,2,232,5],[237,0,237,1],[238,0,238,1],[242,2,242,5],[226,4,226,6],[238,2,238,5],[235,0,235,1],[236,2,236,5],[185,4,185,8],[187,3,187,6],[189,3,189,4],[190,3,190,4],[276,3,276,4],[271,5,271,6],[271,3,271,4],[272,3,272,4],[273,3,273,4],[274,3,274,4],[272,5,272,6],[273,5,273,6],[274,5,274,6],[275,5,275,6],[276,5,276,6],[275,3,275,4],[38,1,38,4],[33,1,33,4],[34,1,34,4],[35,1,35,4],[36,1,36,4],[37,1,37,4],[170,3,170,4],[170,5,170,6],[172,3,172,4],[172,5,172,6],[0,2,0,3],[1,2,1,3],[2,2,2,3],[3,2,3,3],[11,2,11,3],[198,3,198,4],[198,5,198,6],[193,3,193,4],[193,5,193,6],[194,3,194,4],[194,5,194,6],[195,3,195,4],[195,5,195,6],[192,3,192,4],[192,5,192,6],[196,3,196,4],[196,5,196,6],[197,3,197,4],[197,5,197,6]]}
["T500e",null,{"$f":"Start_Here!$C19","v":"Company Name"}]
[{"$f":"SUM(G165)","v":0},null,{"$f":"Start_Here!$C20","v":"Address"}]
[null,null,{"$f":"Start_Here!$C21","v":"City, State Zip"}]
[null,null,{"$f":"Start_Here!$C22","v":"Contact Name"}]
[null,null,{"$f":"Start_Here!$C$41","v":"Rep Name"}]
[null,null,{"$f":"Start_Here!$C$37","v":"Tennant Sales and Service Company"}]
[null,null,{"$f":"Start_Here!$C$38","v":"10400 Clean Street"}]
[null,null,{"$f":"Start_Here!$C$39","v":"Eden Prairie, MN 55344"}]
[null,null,{"$f":"Start_Here!$C$43","v":"800-553-8033"},null,"Quote Date :",null,{"$f":"Letter!$A$25","v":"2014-10-02"}]
[]
[null,null,{"$f":"Help!C2","v":"CAN Date Rev - 5/6/2025"}]
[null,null,"                     BUILT-IN \"TENNANT VALUE\" INCLUDES:"]
[]
[null,"Tanks: 85 L/22.5 gal Solution & 102 L/27 gal Recovery",null,"Yellow maintenance touch points"]
[null,"1-STEP™ Button Memory Controls",null,"Emergency Stop Kit"]
[null,"Extremely Low Noise Levels Standard  (≤68.5 dBA)",null,"Key Switch for Safety"]
[null,"On Board Diagnostics",null,"Standard (4) 6 V 225AH Battery Pack (Optional AGM Batteries)"]
[null,"Cast Aluminum Squeegee Frame & Scrub Decks (D/C)",null,"Drain hose with pinch cuff to control water flow"]
[null,"11 Gauge Steel Scrub Deck (Orbital Only)",null,"On-board Charger with power cord"]
[null,"2 selectable down pressures",null,"Closed Machine Venting for Battery Charging"]
[null,"4 Selectable water flow settings",null,"100% Water recovery in 180º  turns w/ standard squeegee"]
[null,"Front Water Fill Port",null,"Insta-Fit™ No-Tool Pad Driver and Brush Attachment (Disk machines)"]
[null,"Automatic: Water On / Off ",null,"No-Tool Squeegee Change"]
[null,null,"      Brush On / Off","Breakaway Squeegee Design w/ Integrated P-Trap"]
[null,null,"      Brush Shutoff at 80% Discharge","Factory Set Squeegee Assembly for Maximum Recovery"]
[null,"Integrated Accessory Rails with Bag Hang hooks",null,"Linard Front/Linatex Rear Squeegee Blades with Tool-less Replacement"]
[null,"Excellent Ergonomic Controls Design",null,"Includes Standard Pad Drivers or Scrubbing Brushes (Select One)"]
[null,"Optional ec-H2O NanoClean™ Equipped Models Include:",null,"Free Floating Head Skirt (disk machines)"]
[null,"Electrically Converted Water Technology System",null,"Hour Meter"]
[null,"Two Scrubbing Modes: ec-H2O NanoCleanTM & Conventional Scrub",null,"Operators manual"]
[null,"Rugged Duramer™ Tank Construction",null,"Jacking Points/Shipping Tie Downs"]
[null,"Gray Non-Marking Tires",null,"Sealed Electrical Connectors in key areas"]
[]
[null,"TENNANT COMPANY WARRANTY"]
[null,"3 YEARS OR 2000 HOURS - PARTS"]
[null,"1 YEAR - BATTERY CHARGERS"]
[null,"3 YEARS OR 2000 HOURS ORBITAL SCRUB HEAD ISOLATORS"]
[null,"2 YEARS - LABOR, 6 MONTHS - TRAVEL"]
[null,"10 YEARS ON DURAMERTM ROTOMOLD TANKS"]
[]
[]
[null,null,null,null,"                Quote Request Information"]
[null,null,null,null,null,null,"Fax (quote only)"]
[null,null,null,null,null,null,"Mail (quote,lit, specs)"]
[null,null,null,null,null,null,"Fax + Mail"]
[]
[null,null,null,null,"                Primary Use"]
[null,null,null,null,null,null,"Inside"]
[null,null,null,null,null,null,"Outside"]
[]
[null,null,"Description","Reference #","Price Each ","Qty","Extended Price"]
[null,"Base Configuration",null,null,"CANADA",{"$f":"SUM(F53,F60,F67,F79)","v":0},null,{"$f":"IFERROR(IFERROR(VLOOKUP(D52,Surcharge!A:B,2,FALSE)*F52, VLOOKUP(D52 & \"\",Surcharge!A:B,2,FALSE)*F52), \"\")","v":""}]
[null,null,"Cleaning Type","Reference Number"," Price",{"$f":"SUM(F54:F58)","v":0},null,{"$f":"IFERROR(IFERROR(VLOOKUP(D53,Surcharge!A:B,2,FALSE)*F53, VLOOKUP(D53 & \"\",Surcharge!A:B,2,FALSE)*F53), \"\")","v":""}]
[null,null,"T500e Walk-Behind Scrubber 650 mm / 26\" Disk","T500e-650-D",21734,null,{"$f":"F54*E54","v":0},{"$f":"IFERROR(IFERROR(VLOOKUP(D54,Surcharge!A:B,2,FALSE)*F54, VLOOKUP(D54 & \"\",Surcharge!A:B,2,FALSE)*F54), \"\")","v":0},null,null,null,null,null,null,null,"M-T500eVK_BASE_T500E-650-D"]
[null,null,"T500e Walk-Behind Scrubber 700 mm / 28\" Disk","T500e-700-D",22873,null,0,{"$f":"IFERROR(IFERROR(VLOOKUP(D55,Surcharge!A:B,2,FALSE)*F55, VLOOKUP(D55 & \"\",Surcharge!A:B,2,FALSE)*F55), \"\")","v":0},null,null,null,null,null,null,null,"M-T500eVK_BASE_T500E-700-D"]
[null,null,"T500e Walk-Behind Scrubber 800 mm / 32\" Disk","T500e-800-D",24112,null,0,{"$f":"IFERROR(IFERROR(VLOOKUP(D56,Surcharge!A:B,2,FALSE)*F56, VLOOKUP(D56 & \"\",Surcharge!A:B,2,FALSE)*F56), \"\")","v":0},null,null,null,null,null,null,null,"M-T500eVK_BASE_T500E-800-D"]
[null,null,"T500e Walk-Behind Scrubber 700 mm / 28\" Cylindrical","T500e-700-C",25147,null,0,{"$f":"IFERROR(IFERROR(VLOOKUP(D57,Surcharge!A:B,2,FALSE)*F57, VLOOKUP(D57 & \"\",Surcharge!A:B,2,FALSE)*F57), \"\")","v":0},null,null,null,null,null,null,null,"M-T500eVK_BASE_T500E-700-C"]
[null,null,"T500e Walk-Behind Scrubber 700 mm / 28\" Orbital","T500e-700-O",23908,null,0,{"$f":"IFERROR(IFERROR(VLOOKUP(D58,Surcharge!A:B,2,FALSE)*F58, VLOOKUP(D58 & \"\",Surcharge!A:B,2,FALSE)*F58), \"\")","v":0},null,null,null,null,null,null,null,"M-T500eVK_BASE_T500E-700-O"]
[null,null,null,null,null,null,null,{"$f":"IFERROR(IFERROR(VLOOKUP(D59,Surcharge!A:B,2,FALSE)*F59, VLOOKUP(D59 & \"\",Surcharge!A:B,2,FALSE)*F59), \"\")","v":""}]
[null,null,"Cleaning Technology: (conventional is standard,  ec-H2O NanoClean can also operate in conventional mode)",null,null,{"$f":"SUM(F61)","v":0},null,{"$f":"IFERROR(IFERROR(VLOOKUP(D60,Surcharge!A:B,2,FALSE)*F60, VLOOKUP(D60 & \"\",Surcharge!A:B,2,FALSE)*F60), \"\")","v":""},null,null,null,null,null,null,null,""]
[null,null,"ec-H2O NanoClean™","ec-H2ONC-T500",4255,null,{"$f":"F61*E61","v":0},{"$f":"IFERROR(IFERROR(VLOOKUP(D61,Surcharge!A:B,2,FALSE)*F61, VLOOKUP(D61 & \"\",Surcharge!A:B,2,FALSE)*F61), \"\")","v":""},null,null,null,null,null,null,null,"M-T500eVK_CLNTCH_ECH2ON"]
[null,null,null,null,null,null,null,{"$f":"IFERROR(IFERROR(VLOOKUP(D62,Surcharge!A:B,2,FALSE)*F62, VLOOKUP(D62 & \"\",Surcharge!A:B,2,FALSE)*F62), \"\")","v":""},null,null,null,null,null,null,null,""]
[null,null,"Squeegee Width  (Note 1)",null,null,{"$f":"SUM(F64:F65)","v":0},null,{"$f":"IFERROR(IFERROR(VLOOKUP(D63,Surcharge!A:B,2,FALSE)*F63, VLOOKUP(D63 & \"\",Surcharge!A:B,2,FALSE)*F63), \"\")","v":""},null,null,null,null,null,null,null,""]
[null,null,"Standard","STD-T500e","N/C",null,{"$f":"IF(F64=0,\" \",\"N/C\")","v":" "},{"$f":"IFERROR(IFERROR(VLOOKUP(D64,Surcharge!A:B,2,FALSE)*F64, VLOOKUP(D64 & \"\",Surcharge!A:B,2,FALSE)*F64), \"\")","v":""},null,null,null,{"$f":"SUM(F64)","v":0},"Surcharge Qty",null,null,"M-T500e"]
[null,null,"Narrow Aisle","NR-T500e","N/C",null,{"$f":"IF(F65=0,\" \",\"N/C\")","v":" "},{"$f":"IFERROR(IFERROR(VLOOKUP(D65,Surcharge!A:B,2,FALSE)*F65, VLOOKUP(D65 & \"\",Surcharge!A:B,2,FALSE)*F65), \"\")","v":""},null,null,null,{"$f":"SUM(F65)","v":0},"Surcharge Qty",null,null,"M-T500e"]
[null,null,null,null,null,null,null,{"$f":"IFERROR(IFERROR(VLOOKUP(D66,Surcharge!A:B,2,FALSE)*F66, VLOOKUP(D66 & \"\",Surcharge!A:B,2,FALSE)*F66), \"\")","v":""},null,null,null,0,"Surcharge Qty",null,null,""]
[null,null,"Battery Type  (Note 2)",null,null,{"$f":"SUM(F68:F77)","v":0},null,{"$f":"IFERROR(IFERROR(VLOOKUP(D67,Surcharge!A:B,2,FALSE)*F67, VLOOKUP(D67 & \"\",Surcharge!A:B,2,FALSE)*F67), \"\")","v":""},null,null,null,0,"Surcharge Qty",null,null,""]
[null,null,"Wet 225AH C/20",9015372,"N/C",null,{"$f":"IF(F68=0,\" \",\"N/C\")","v":" "},{"$f":"IFERROR(IFERROR(VLOOKUP(D68,Surcharge!A:B,2,FALSE)*F68, VLOOKUP(D68 & \"\",Surcharge!A:B,2,FALSE)*F68), \"\")","v":""},null,null,null,0,"Surcharge Qty",null,null,"M-T500eVK_BTY_W225C20"]
[null,null,"Wet 260AH C/20",9015373,636,null,{"$f":"F69*E69","v":0},{"$f":"IFERROR(IFERROR(VLOOKUP(D69,Surcharge!A:B,2,FALSE)*F69, VLOOKUP(D69 & \"\",Surcharge!A:B,2,FALSE)*F69), \"\")","v":""},null,null,null,0,"Surcharge Qty",null,null,"M-T500eVK_BTY_W260C20"]
[null,null,"Sealed/MF AGM 220AH C/20",9015374,2313,null,0,{"$f":"IFERROR(IFERROR(VLOOKUP(D70,Surcharge!A:B,2,FALSE)*F70, VLOOKUP(D70 & \"\",Surcharge!A:B,2,FALSE)*F70), \"\")","v":""},null,null,null,0,"Surcharge Qty",null,null,"M-T500eVK_BTY_A220C20"]
[null,null,"Sealed/MF Fast Charge TPPL 183AH C/20",9021148,2962,null,{"$f":"F71*E71","v":0},null,null,null,null,null,null,null,null,"M-T500EVK_BTY_F183C20"]
[null,null,"Li-Ion 24v, 90AH  (Note 2a)",9022774,4826,null,{"$f":"F72*E72","v":0}]
[null,null,"Li-Ion 24v, 180AH  (Note 2a)",9022775,9090,null,0]
[null,null,"Without",9015370,-630,null,0,{"$f":"IFERROR(IFERROR(VLOOKUP(D74,Surcharge!A:B,2,FALSE)*F74, VLOOKUP(D74 & \"\",Surcharge!A:B,2,FALSE)*F74), \"\")","v":""},null,null,null,0,"Surcharge Qty",null,null,"M-T500eVK_BTY_WO"]
[null,null,null,null,null,null,null,{"$f":"IFERROR(IFERROR(VLOOKUP(D75,Surcharge!A:B,2,FALSE)*F75, VLOOKUP(D75 & \"\",Surcharge!A:B,2,FALSE)*F75), \"\")","v":""},null,null,null,{"$f":"SUM(F75)","v":0},"Surcharge Qty",null,null,""]
[null,null,"Smart-Fill Automatic Battery Watering System  (Note 3)",9015383,1374,null,{"$f":"F76*E76","v":0},{"$f":"IFERROR(IFERROR(VLOOKUP(D76,Surcharge!A:B,2,FALSE)*F76, VLOOKUP(D76 & \"\",Surcharge!A:B,2,FALSE)*F76), \"\")","v":""},null,null,null,null,null,null,null,"M-T500eVK_BTYWTRSYS_SF"]
[null,null,"Manual Battery Watering System  (Note 3)",9009619,800,null,0,{"$f":"IFERROR(IFERROR(VLOOKUP(D77,Surcharge!A:B,2,FALSE)*F77, VLOOKUP(D77 & \"\",Surcharge!A:B,2,FALSE)*F77), \"\")","v":""},null,null,null,null,null,null,null,"M-T500eVK_BTYWTRSYS_ML"]
[null,null,null,null,null,null,null,{"$f":"IFERROR(IFERROR(VLOOKUP(D78,Surcharge!A:B,2,FALSE)*F78, VLOOKUP(D78 & \"\",Surcharge!A:B,2,FALSE)*F78), \"\")","v":""},null,null,null,null,null,null,null,""]
[null,null,"Charger  (Note 4)","Reference Number",null,{"$f":"SUM(F80:F80)","v":0},null,{"$f":"IFERROR(IFERROR(VLOOKUP(D79,Surcharge!A:B,2,FALSE)*F79, VLOOKUP(D79 & \"\",Surcharge!A:B,2,FALSE)*F79), \"\")","v":""},null,null,null,null,null,null,null,""]
[null,null,"25A 100-240V AC 50/60Hz 1Ph - On-Board",9015396,"N/C",null,{"$f":"IF(F80=0,\" \",\"N/C\")","v":" "},{"$f":"IFERROR(IFERROR(VLOOKUP(D80,Surcharge!A:B,2,FALSE)*F80, VLOOKUP(D80 & \"\",Surcharge!A:B,2,FALSE)*F80), \"\")","v":""},null,null,null,null,null,null,null,"M-T500eVK_CHG_25A100V5060H1"]
[null,null,"27A 100-240V AC 50/60Hz 1Ph - On-Board Charger (Fast Charge TPPL 183AH Battery)",9021169,262,null,{"$f":"F81*E81","v":0},null,null,null,null,null,null,null,null,"M-T500EVK_CHG_27A100240V5060H"]
[null,null,"27A 100-240V AC 50/60Hz 1Ph - Off-Board Charger (Li-Ion Batteries)",9052023,"N/C",null,{"$f":"IF(F82=0,\" \",\"N/C\")","v":" "}]
[null,null,"27A 100-240V AC 50/60Hz 1Ph - On-Board Charger (Li-Ion Batteries)",9022825,"N/C",null," "]
[null,null,"41A 100-240V AC 50/60Hz 1Ph - On-Board Charger (Li-Ion Batteries)",9022828,585,null,{"$f":"F84*E84","v":0}]
[null,null,null,null,null,null,null,{"$f":"IFERROR(IFERROR(VLOOKUP(D85,Surcharge!A:B,2,FALSE)*F85, VLOOKUP(D85 & \"\",Surcharge!A:B,2,FALSE)*F85), \"\")","v":""},null,null,null,null,null,null,null,""]
[null,"Machine Protection & Safety",null,"Reference Number",null,{"$f":"SUM(F87)","v":0},null,{"$f":"IFERROR(IFERROR(VLOOKUP(D86,Surcharge!A:B,2,FALSE)*F86, VLOOKUP(D86 & \"\",Surcharge!A:B,2,FALSE)*F86), \"\")","v":""},null,null,null,null,null,null,null,""]
[null,null,"Parking Brake",9015224,272,null,{"$f":"F87*E87","v":0},{"$f":"IFERROR(IFERROR(VLOOKUP(D87,Surcharge!A:B,2,FALSE)*F87, VLOOKUP(D87 & \"\",Surcharge!A:B,2,FALSE)*F87), \"\")","v":""},null,null,null,null,null,null,null,"M-T500eVK_PRGBRK"]
[null,null,null,null,null,null,null,{"$f":"IFERROR(IFERROR(VLOOKUP(D88,Surcharge!A:B,2,FALSE)*F88, VLOOKUP(D88 & \"\",Surcharge!A:B,2,FALSE)*F88), \"\")","v":""},null,null,null,null,null,null,null,""]
[null,"Brushes and Pads  (Note 5)",null,"Reference Number",null,{"$f":"SUM(F90,F100,F110,F120,F124)","v":0},null,{"$f":"IFERROR(IFERROR(VLOOKUP(D89,Surcharge!A:B,2,FALSE)*F89, VLOOKUP(D89 & \"\",Surcharge!A:B,2,FALSE)*F89), \"\")","v":""},null,null,null,null,null,null,null,""]
[null,null,"650mm / 26\" Disk Scrubbing Brushes/Pads (2 Required)",null,null,{"$f":"SUM(F91:F98)","v":0},null,{"$f":"IFERROR(IFERROR(VLOOKUP(D90,Surcharge!A:B,2,FALSE)*F90, VLOOKUP(D90 & \"\",Surcharge!A:B,2,FALSE)*F90), \"\")","v":""},null,null,null,null,null,null,null,""]
[null,null,"Polypropylene",1223989,"N/C",null,{"$f":"IF(F91=0,\" \",\"N/C\")","v":" "},{"$f":"IFERROR(IFERROR(VLOOKUP(D91,Surcharge!A:B,2,FALSE)*F91, VLOOKUP(D91 & \"\",Surcharge!A:B,2,FALSE)*F91), \"\")","v":""},null,null,null,null,null,null,null,"M-T500eVK_CLNTOL_D650PYP"]
[null,null,"Nylon",1223991,"N/C",null,{"$f":"IF(F92=0,\" \",\"N/C\")","v":" "},{"$f":"IFERROR(IFERROR(VLOOKUP(D92,Surcharge!A:B,2,FALSE)*F92, VLOOKUP(D92 & \"\",Surcharge!A:B,2,FALSE)*F92), \"\")","v":""},null,null,null,null,null,null,null,"M-T500eVK_CLNTOL_D650NYL"]
[null,null,null,null," ",null,null,{"$f":"IFERROR(IFERROR(VLOOKUP(D93,Surcharge!A:B,2,FALSE)*F93, VLOOKUP(D93 & \"\",Surcharge!A:B,2,FALSE)*F93), \"\")","v":""}]
[null,null,"Pad Driver",1220220,"N/C",null,{"$f":"IF(F94=0,\" \",\"N/C\")","v":" "},{"$f":"IFERROR(IFERROR(VLOOKUP(D94,Surcharge!A:B,2,FALSE)*F94, VLOOKUP(D94 & \"\",Surcharge!A:B,2,FALSE)*F94), \"\")","v":""},null,null,null,null,null,null,null,"M-T500eVK_CLNTOL_D650PAD"]
[null,null,"Pads ",null,null,{"$f":"SUM(F96:F98)","v":0},null,{"$f":"IFERROR(IFERROR(VLOOKUP(D95,Surcharge!A:B,2,FALSE)*F95, VLOOKUP(D95 & \"\",Surcharge!A:B,2,FALSE)*F95), \"\")","v":""}]
[null,null,"Blue Scrubbing - 3M",89047,22.5,null,{"$f":"F96*E96","v":0},{"$f":"IFERROR(IFERROR(VLOOKUP(D96,Surcharge!A:B,2,FALSE)*F96, VLOOKUP(D96 & \"\",Surcharge!A:B,2,FALSE)*F96), \"\")","v":""},null,null,null,null,null,null,null,"M-T500eVK_PADTYP_650BLU3"]
[null,null,"Red Cleaning - 3M",89048,22.5,null,0,{"$f":"IFERROR(IFERROR(VLOOKUP(D97,Surcharge!A:B,2,FALSE)*F97, VLOOKUP(D97 & \"\",Surcharge!A:B,2,FALSE)*F97), \"\")","v":""},null,null,null,null,null,null,null,"M-T500eVK_PADTYP_650RED3"]
[null,null,"White Polishing - 3M",89049,22.5,null,0,{"$f":"IFERROR(IFERROR(VLOOKUP(D98,Surcharge!A:B,2,FALSE)*F98, VLOOKUP(D98 & \"\",Surcharge!A:B,2,FALSE)*F98), \"\")","v":""},null,null,null,null,null,null,null,"M-T500eVK_PADTYP_650WHT3"]
[null,null,null,null,null,null,null,{"$f":"IFERROR(IFERROR(VLOOKUP(D99,Surcharge!A:B,2,FALSE)*F99, VLOOKUP(D99 & \"\",Surcharge!A:B,2,FALSE)*F99), \"\")","v":""}]
[null,null,"700 mm/28\" Disk Scrubbing Brushes/Pads (2 Required)",null,null,{"$f":"SUM(F101:F108)","v":0},null,{"$f":"IFERROR(IFERROR(VLOOKUP(D100,Surcharge!A:B,2,FALSE)*F100, VLOOKUP(D100 & \"\",Surcharge!A:B,2,FALSE)*F100), \"\")","v":""}]
[null,null,"Polypropylene",1220218,"N/C",null,{"$f":"IF(F101=0,\" \",\"N/C\")","v":" "},{"$f":"IFERROR(IFERROR(VLOOKUP(D101,Surcharge!A:B,2,FALSE)*F101, VLOOKUP(D101 & \"\",Surcharge!A:B,2,FALSE)*F101), \"\")","v":""},null,null,null,null,null,null,null,"M-T500eVK_CLNTOL_D700PYP"]
[null,null,"Nylon",1221541,"N/C",null,{"$f":"IF(F102=0,\" \",\"N/C\")","v":" "},{"$f":"IFERROR(IFERROR(VLOOKUP(D102,Surcharge!A:B,2,FALSE)*F102, VLOOKUP(D102 & \"\",Surcharge!A:B,2,FALSE)*F102), \"\")","v":""},null,null,null,null,null,null,null,"M-T500eVK_CLNTOL_D700NYL"]
[null,null,null,null," ",null,null,{"$f":"IFERROR(IFERROR(VLOOKUP(D103,Surcharge!A:B,2,FALSE)*F103, VLOOKUP(D103 & \"\",Surcharge!A:B,2,FALSE)*F103), \"\")","v":""}]
[null,null,"Pad Driver",1220221,"N/C",null,{"$f":"IF(F104=0,\" \",\"N/C\")","v":" "},{"$f":"IFERROR(IFERROR(VLOOKUP(D104,Surcharge!A:B,2,FALSE)*F104, VLOOKUP(D104 & \"\",Surcharge!A:B,2,FALSE)*F104), \"\")","v":""},null,null,null,null,null,null,null,"M-T500eVK_CLNTOL_D700PAD"]
[null,null,"Pads ",null,null,{"$f":"SUM(F106:F108)","v":0},null,{"$f":"IFERROR(IFERROR(VLOOKUP(D105,Surcharge!A:B,2,FALSE)*F105, VLOOKUP(D105 & \"\",Surcharge!A:B,2,FALSE)*F105), \"\")","v":""}]
[null,null,"Blue Scrubbing - 3M",222326,25.7,null,{"$f":"F106*E106","v":0},{"$f":"IFERROR(IFERROR(VLOOKUP(D106,Surcharge!A:B,2,FALSE)*F106, VLOOKUP(D106 & \"\",Surcharge!A:B,2,FALSE)*F106), \"\")","v":""},null,null,null,null,null,null,null,"M-T500eVK_PADTYP_700BLU3"]
[null,null,"Red Cleaning - 3M",222325,25.7,null,0,{"$f":"IFERROR(IFERROR(VLOOKUP(D107,Surcharge!A:B,2,FALSE)*F107, VLOOKUP(D107 & \"\",Surcharge!A:B,2,FALSE)*F107), \"\")","v":""},null,null,null,null,null,null,null,"M-T500eVK_PADTYP_700RED3"]
[null,null,"White Polishing - 3M",222324,25.7,null,0,{"$f":"IFERROR(IFERROR(VLOOKUP(D108,Surcharge!A:B,2,FALSE)*F108, VLOOKUP(D108 & \"\",Surcharge!A:B,2,FALSE)*F108), \"\")","v":""},null,null,null,null,null,null,null,"M-T500eVK_PADTYP_700WHT3"]
[null,null,null,null,null,null,null,{"$f":"IFERROR(IFERROR(VLOOKUP(D109,Surcharge!A:B,2,FALSE)*F109, VLOOKUP(D109 & \"\",Surcharge!A:B,2,FALSE)*F109), \"\")","v":""},null,null,null,null,null,null,null,""]
[null,null,"800 mm/32\" Disk Scrubbing Brushes/Pads (2 Required)",null,null,{"$f":"SUM(F111:F118)","v":0},null,{"$f":"IFERROR(IFERROR(VLOOKUP(D110,Surcharge!A:B,2,FALSE)*F110, VLOOKUP(D110 & \"\",Surcharge!A:B,2,FALSE)*F110), \"\")","v":""},null,null,null,null,null,null,null,""]
[null,null,"Polypropylene",1220216,"N/C",null,{"$f":"IF(F111=0,\" \",\"N/C\")","v":" "},{"$f":"IFERROR(IFERROR(VLOOKUP(D111,Surcharge!A:B,2,FALSE)*F111, VLOOKUP(D111 & \"\",Surcharge!A:B,2,FALSE)*F111), \"\")","v":""},null,null,null,null,null,null,null,"M-T500eVK_CLNTOL_D800PYP"]
[null,null,"Nylon",1220215,"N/C",null,{"$f":"IF(F112=0,\" \",\"N/C\")","v":" "},{"$f":"IFERROR(IFERROR(VLOOKUP(D112,Surcharge!A:B,2,FALSE)*F112, VLOOKUP(D112 & \"\",Surcharge!A:B,2,FALSE)*F112), \"\")","v":""},null,null,null,null,null,null,null,"M-T500eVK_CLNTOL_D800NYL"]
[null,null,null,null," ",null,null,{"$f":"IFERROR(IFERROR(VLOOKUP(D113,Surcharge!A:B,2,FALSE)*F113, VLOOKUP(D113 & \"\",Surcharge!A:B,2,FALSE)*F113), \"\")","v":""}]
[null,null,"Pad Driver",1220222,"N/C",null,{"$f":"IF(F114=0,\" \",\"N/C\")","v":" "},{"$f":"IFERROR(IFERROR(VLOOKUP(D114,Surcharge!A:B,2,FALSE)*F114, VLOOKUP(D114 & \"\",Surcharge!A:B,2,FALSE)*F114), \"\")","v":""},null,null,null,null,null,null,null,"M-T500eVK_CLNTOL_D800PAD"]
[null,null,"Pads ",null,null,{"$f":"SUM(F116:F118)","v":0},null,{"$f":"IFERROR(IFERROR(VLOOKUP(D115,Surcharge!A:B,2,FALSE)*F115, VLOOKUP(D115 & \"\",Surcharge!A:B,2,FALSE)*F115), \"\")","v":""}]
[null,null,"Blue Scrubbing - 3M","63248-2",30,null,{"$f":"F116*E116","v":0},{"$f":"IFERROR(IFERROR(VLOOKUP(D116,Surcharge!A:B,2,FALSE)*F116, VLOOKUP(D116 & \"\",Surcharge!A:B,2,FALSE)*F116), \"\")","v":""},null,null,null,null,null,null,null,"M-T500eVK_PADTYP_800BLU3"]
[null,null,"Red Cleaning - 3M","63248-3",30,null,0,{"$f":"IFERROR(IFERROR(VLOOKUP(D117,Surcharge!A:B,2,FALSE)*F117, VLOOKUP(D117 & \"\",Surcharge!A:B,2,FALSE)*F117), \"\")","v":""},null,null,null,null,null,null,null,"M-T500eVK_PADTYP_800RED3"]
[null,null,"White Polishing - 3M","63248-4",30,null,0,{"$f":"IFERROR(IFERROR(VLOOKUP(D118,Surcharge!A:B,2,FALSE)*F118, VLOOKUP(D118 & \"\",Surcharge!A:B,2,FALSE)*F118), \"\")","v":""},null,null,null,null,null,null,null,"M-T500eVK_PADTYP_800WHT3"]
[null,null,null,null,null,null,null,{"$f":"IFERROR(IFERROR(VLOOKUP(D119,Surcharge!A:B,2,FALSE)*F119, VLOOKUP(D119 & \"\",Surcharge!A:B,2,FALSE)*F119), \"\")","v":""}]
[null,null,"700mm / 28\" Cylindrical Scrubbing Brushes  (2 Required)",null,null,{"$f":"SUM(F121:F122)","v":0},null,{"$f":"IFERROR(IFERROR(VLOOKUP(D120,Surcharge!A:B,2,FALSE)*F120, VLOOKUP(D120 & \"\",Surcharge!A:B,2,FALSE)*F120), \"\")","v":""}]
[null,null,"Polypropylene",222304,"N/C",null,{"$f":"IF(F121=0,\" \",\"N/C\")","v":" "},{"$f":"IFERROR(IFERROR(VLOOKUP(D121,Surcharge!A:B,2,FALSE)*F121, VLOOKUP(D121 & \"\",Surcharge!A:B,2,FALSE)*F121), \"\")","v":""},null,null,null,null,null,null,null,"M-T500eVK_CLNTOL_C700PYP"]
[null,null,"Nylon",222305,"N/C",null," ",{"$f":"IFERROR(IFERROR(VLOOKUP(D122,Surcharge!A:B,2,FALSE)*F122, VLOOKUP(D122 & \"\",Surcharge!A:B,2,FALSE)*F122), \"\")","v":""},null,null,null,null,null,null,null,"M-T500eVK_CLNTOL_C700NYL"]
[null,null,null,null,null,null,null,{"$f":"IFERROR(IFERROR(VLOOKUP(D123,Surcharge!A:B,2,FALSE)*F123, VLOOKUP(D123 & \"\",Surcharge!A:B,2,FALSE)*F123), \"\")","v":""}]
[null,null,"700mm / 28\" Orbital Pads",null,null,{"$f":"SUM(F125:F129)","v":0},null,{"$f":"IFERROR(IFERROR(VLOOKUP(D124,Surcharge!A:B,2,FALSE)*F124, VLOOKUP(D124 & \"\",Surcharge!A:B,2,FALSE)*F124), \"\")","v":""}]
[null,null,"Pad Driver",1221839,"N/C",null,{"$f":"IF(F125=0,\" \",\"N/C\")","v":" "},{"$f":"IFERROR(IFERROR(VLOOKUP(D125,Surcharge!A:B,2,FALSE)*F125, VLOOKUP(D125 & \"\",Surcharge!A:B,2,FALSE)*F125), \"\")","v":""},null,null,null,null,null,null,null,"M-T500eVK_CLNTOL_O700PAD"]
[null,null,"Pads ",null,null,{"$f":"SUM(F127:F129)","v":0},null,{"$f":"IFERROR(IFERROR(VLOOKUP(D126,Surcharge!A:B,2,FALSE)*F126, VLOOKUP(D126 & \"\",Surcharge!A:B,2,FALSE)*F126), \"\")","v":""}]
[null,null,"Blue Scrubbing - 3M",1223247,84.6,null,{"$f":"F127*E127","v":0},{"$f":"IFERROR(IFERROR(VLOOKUP(D127,Surcharge!A:B,2,FALSE)*F127, VLOOKUP(D127 & \"\",Surcharge!A:B,2,FALSE)*F127), \"\")","v":""},null,null,null,null,null,null,null,"M-T500eVK_PADTYP_O700BLU3"]
[null,null,"Red Cleaning - 3M",1218157,84.6,null,0,{"$f":"IFERROR(IFERROR(VLOOKUP(D128,Surcharge!A:B,2,FALSE)*F128, VLOOKUP(D128 & \"\",Surcharge!A:B,2,FALSE)*F128), \"\")","v":""},null,null,null,null,null,null,null,"M-T500eVK_PADTYP_O700RED3"]
[null,null,"White Polishing - 3M",1223246,84.6,null,0,{"$f":"IFERROR(IFERROR(VLOOKUP(D129,Surcharge!A:B,2,FALSE)*F129, VLOOKUP(D129 & \"\",Surcharge!A:B,2,FALSE)*F129), \"\")","v":""},null,null,null,null,null,null,null,"M-T500eVK_PADTYP_O700WHT3"]
[null,null,null,null,null,null,null,{"$f":"IFERROR(IFERROR(VLOOKUP(D130,Surcharge!A:B,2,FALSE)*F130, VLOOKUP(D130 & \"\",Surcharge!A:B,2,FALSE)*F130), \"\")","v":""}]
[null,"Support  (Note 6)",null,"Reference Number",null,{"$f":"SUM(F132:F137,#REF!,F139)","v":{"$error":"#REF!"}},null,{"$f":"IFERROR(IFERROR(VLOOKUP(D131,Surcharge!A:B,2,FALSE)*F131, VLOOKUP(D131 & \"\",Surcharge!A:B,2,FALSE)*F131), \"\")","v":""}]
[null,null,"T500e Operator Manual (English)",9015506,"N/C",null,{"$f":"IF(F132=0,\" \",\"N/C\")","v":" "},{"$f":"IFERROR(IFERROR(VLOOKUP(D132,Surcharge!A:B,2,FALSE)*F132, VLOOKUP(D132 & \"\",Surcharge!A:B,2,FALSE)*F132), \"\")","v":""}]
[null,null,"T500e Operator Manual (Spanish)",9015507,"N/C",null," ",{"$f":"IFERROR(IFERROR(VLOOKUP(D133,Surcharge!A:B,2,FALSE)*F133, VLOOKUP(D133 & \"\",Surcharge!A:B,2,FALSE)*F133), \"\")","v":""}]
[null,null,"T500e Operator Manual (French)  (Note 7)",9015508,"N/C",null," ",{"$f":"IFERROR(IFERROR(VLOOKUP(D134,Surcharge!A:B,2,FALSE)*F134, VLOOKUP(D134 & \"\",Surcharge!A:B,2,FALSE)*F134), \"\")","v":""}]
[null,null,"Additional Operator Manual","SEE ABOVE",188,null,{"$f":"F135*E135","v":0},{"$f":"IFERROR(IFERROR(VLOOKUP(D135,Surcharge!A:B,2,FALSE)*F135, VLOOKUP(D135 & \"\",Surcharge!A:B,2,FALSE)*F135), \"\")","v":""},null,null,null,null,null,null,null,"M-T500eVK_ADLOPRMNL"]
[null,null,"T500e Parts Manual",9015505,76,null,0,{"$f":"IFERROR(IFERROR(VLOOKUP(D136,Surcharge!A:B,2,FALSE)*F136, VLOOKUP(D136 & \"\",Surcharge!A:B,2,FALSE)*F136), \"\")","v":""},null,null,null,null,null,null,null,"M-T500eVK_PARMNL"]
[null,null,"T500e Service Manual",9015511,188,null,0,{"$f":"IFERROR(IFERROR(VLOOKUP(D137,Surcharge!A:B,2,FALSE)*F137, VLOOKUP(D137 & \"\",Surcharge!A:B,2,FALSE)*F137), \"\")","v":""},null,null,null,null,null,null,null,"M-T500eVK_SRVMNL"]
[null,null,null,null,null,null,null,{"$f":"IFERROR(IFERROR(VLOOKUP(D138,Surcharge!A:B,2,FALSE)*F138, VLOOKUP(D138 & \"\",Surcharge!A:B,2,FALSE)*F138), \"\")","v":""}]
[null,null,"Packaging",null,null,{"$f":"SUM(F140:F140)","v":0},null,{"$f":"IFERROR(IFERROR(VLOOKUP(D139,Surcharge!A:B,2,FALSE)*F139, VLOOKUP(D139 & \"\",Surcharge!A:B,2,FALSE)*F139), \"\")","v":""}]
[null,null,"Skid w/Carton, Stackable",9015450,"N/C",null,{"$f":"IF(F140=0,\" \",\"N/C\")","v":" "},{"$f":"IFERROR(IFERROR(VLOOKUP(D140,Surcharge!A:B,2,FALSE)*F140, VLOOKUP(D140 & \"\",Surcharge!A:B,2,FALSE)*F140), \"\")","v":""},null,null,null,null,null,null,null,"M-T500eVK_PKG_SSKD"]
[null,null,null,null,null,null,null,{"$f":"IFERROR(IFERROR(VLOOKUP(D141,Surcharge!A:B,2,FALSE)*F141, VLOOKUP(D141 & \"\",Surcharge!A:B,2,FALSE)*F141), \"\")","v":""}]
[null,null,null,null,null,null,null,{"$f":"IFERROR(IFERROR(VLOOKUP(D142,Surcharge!A:B,2,FALSE)*F142, VLOOKUP(D142 & \"\",Surcharge!A:B,2,FALSE)*F142), \"\")","v":""}]
[]
[null,"Custom Solution--write in description, qty, price, and PN if applicable",null,null,null,{"$f":"SUM(F145)","v":0}]
[null,null,null,null,"Insert Prices Here",{"$f":"SUM(F146:F149)","v":0}]
[null,null,null,"Custom",null,{"$f":"IF(E146 <> \"\", 1, 0)","v":0},{"$f":"F146*E146","v":0}]
[null,null,null,"Custom",null,{"$f":"IF(E147 <> \"\", 1, 0)","v":0},{"$f":"F147*E147","v":0}]
[null,null,null,"Custom",null,{"$f":"IF(E148 <> \"\", 1, 0)","v":0},{"$f":"F148*E148","v":0}]
[null,null,null,"Custom",null,{"$f":"IF(E149 <> \"\", 1, 0)","v":0},{"$f":"F149*E149","v":0}]
[null,null,null,null,{"$f":"ROUND(SUM(G52:G149), 0)","v":0},{"$f":"SUM(E151)","v":0}]
[null,null,null,"Machine Subtotal ",{"$f":"ROUND(SUM(G52:G149), 0)","v":0},{"$f":"F150","v":0}]
[null,"Discounts",null,null,null,{"$f":"SUM(F153)","v":0}]
[null,null,null,null,null,{"$f":"SUM(F155:F158)","v":0}]
[null,null,null,"Applicable Currency Adj %",null,{"$f":"IF(E154 <> \"\", 1, 0)","v":0},{"$f":"IF(F154*(E154*0.01)*E150 < 0, F154*(E154*0.01)*E150, -(F154*(E154*0.01)*E150))","v":0}]
[null,null,null,"Discount %",null,{"$f":"IF(E155 <> \"\", 1, 0)","v":0},{"$f":"IF(F155*(E155*0.01)*(E150+G154) < 0, F155*(E155*0.01)*(E150+G154), -(F155*(E155*0.01)*(E150+G154)))","v":0}]
[null,null,null,"Discount $",null,{"$f":"IF(E156 <> \"\", 1, 0)","v":0},{"$f":"IF(F156*E156 < 0, F156*E156, -(F156*E156))","v":0}]
[null,null,null,"Discount $",null,{"$f":"IF(E157 <> \"\", 1, 0)","v":0},{"$f":"IF(F157*E157 < 0, F157*E157, -(F157*E157))","v":0}]
[null,null,null,"Discount $",null,{"$f":"IF(E158 <> \"\", 1, 0)","v":0},{"$f":"IF(F158*E158 < 0, F158*E158, -(F158*E158))","v":0}]
[null,null,null,"Discount Total ",{"$f":"SUM(G154:G158)","v":0},{"$f":"SUM(E159)","v":0}]
[null,null,null,null,null,{"$f":"#REF!","v":{"$error":"#REF!"}}]
[null,null,null,null,null,{"$f":"F160","v":{"$error":"#REF!"}}]
[null,null,"Prepaid and Add","Freight",null,{"$f":"IF(E162 <> \"\", 1, 0)","v":0},{"$f":"F162*E162","v":0}]
[null,null,"Subject to all applicable taxes","Tax",null,{"$f":"IF(E163 <> \"\", 1, 0)","v":0},{"$f":"F163*E163","v":0}]
[null,null,null,null,null,{"$f":"SUM(F165)","v":0}]
[null,null,null,"MACHINE TOTAL*",null,{"$f":"SUM(G165)","v":0},{"$f":"SUM(G52:G163)","v":0},null,null,null,null,null,null,"This goes to \"My Documents\""]
[null,null,null,null,null,null,{"$f":"SUM(G165)","v":0}]
[]
[]
[]
[]
[null,null,"First Western Equipment Finance - Leasing Calculation Option:","Option 1",null,"Option 2",null,null,null,{"$f":"Financing!A38","v":"Rates 2025 - Rev 2/4/2025"}]
[null,null,null,"Monthly Payment","Cost Per Day","Monthly Payment","Cost Per Day",null,null,{"$f":"Financing!A39","v":"“Blank Payment Amounts Indicate The Financing Option Or Purchase Options Selected Are Not "}]
[null,null,"Purchase Option:","FWEF:  $1 Buyout Lease",null,"FWEF: Municipal Lease",null,null,null,{"$f":"Financing!A40","v":"Applicable Or The Machine Total Is Below The Minimum Amount For The Selected Vendor”"}]
[null,null,"24 Months",false,0,false,0,null,null,{"$f":"Financing!A41","v":"\"Quoted monthly payments are estimates only and are based on a certain level of credit rating."}]
[null,null,"30 Months",false,0,false,0,null,null,{"$f":"Financing!A42","v":"Actual monthly payments may be higher depending on your credit rating.\""}]
[null,null,"36 Months",false,0,false,0,null,null,{"$f":"Financing!A43","v":"“Financing rates do not include Pre-Paid Service”"}]
[null,null,"48 Months",0,0,0,0,null,{"$f":"Financing!A44","v":0}]
[]
[null,null,null,"Benefits of Equipment Financing:"]
[null,null,null,"• Spreads out investment over time.",null,"• Keep current with latest technology."]
[null,null,null,"• Preserve capital.",null,"• Service and parts bundling available."]
[null,null,null,"• Low monthly payment.",null,"• Pay for labor savings as you go."]
[]
[null,"   TennantTrue",null,null,0,0]
[]
[null,null,"Is customer interested in service program?","Yes","*State/County selection required for TennantTrue service options"]
[]
[null,null,"If not, why?"]
[]
[null,null,"Term:",36,null,null,"AB Brushes","No"]
[null,null,"Monthly machine usage (hrs):","< 30/mo. (Avg. 1hr./day)"]
[]
[null,null,"TennantTrue: ","Gold Contract",null,"Silver Contract"]
[null,null,"Per Visit",null,null,425]
[null,null,"Monthly",129,null,69]
[null,null,"Annually",null,null,816]
[null,null,"Pre-Pay Full Term",4444,null,2397]
[null,null,"Hourly Labor Rate"]
[null,null,"Site Visit"]
[]
[null,null,"* Verify customer current pricing prior to quote. "]
[null,null,"**All rates and fees above reflect service for one (1) unit with the exception of Block of Time service."]
[null,null,"*Block of Time is available in 1 Year Term only and is priced as such no matter the term selection on this template."]
[]
[]
[]
[null,"Quote Special Instructions:"]
[]
[]
[null,{"$f":"Start_Here!E36","v":"Terms and Conditions"}]
[null,{"$f":"Start_Here!E37","v":"Ask your local sales rep for estimated lead times. Verify when placing order"}]
[null,{"$f":"Start_Here!E38","v":"All orders subject to acceptance by Tennant Sales and Service Company, Minneapolis, Minnesota"}]
[null,{"$f":"Start_Here!E39","v":"Prices subject to change without notice. Subject to any applicable taxes."}]
[null,{"$f":"Start_Here!E40","v":"Terms:  Net 30 days.  Payable in Canadian Funds"}]
[null,{"$f":"Start_Here!E41","v":"Freight:  Accessories, parts, supplies, detergents, and floor coatings orders delivered DDP "}]
[null,{"$f":"Start_Here!E42","v":"shipping point Frt PPD.  Machine orders delivered DDP shipping point Frt PPD and add."}]
[null,{"$f":"Start_Here!E43","v":"Returned Merchandise is subject to a restocking fee."}]
[null,{"$f":"Start_Here!E45","v":"Printed General Terms and Conditions are also available upon request."}]
[null,{"$f":"Start_Here!E46","v":0}]
[]
[]
[null,null,null,null,"Quote Date :",null,{"$f":"Letter!$A$25","v":"2014-10-02"}]
["Order Placement Information:  To place your order, fill in PO# and customer signatures,"]
["call or fax to the numbers listed below. Customer Purchase Order is required."]
["If information is missing, orders will be entered and held until all information is received."]
[null,null,"Customer Number",null,"Cust Grp 3"]
[null,null,{"$f":"Start_Here!$C$25","v":0},null,{"$f":"Start_Here!$C$29","v":0}]
[null,null,{"$f":"Start_Here!$B$18","v":"Who Owns the Machine? (Sold-To Info) (Please Verify)"}]
["Company",null,{"$f":"Start_Here!$C$19","v":"Company Name"}]
["Address",null,{"$f":"Start_Here!$C$20","v":"Address"}]
[null,null,{"$f":"Start_Here!$C$21","v":"City, State Zip"}]
["Name",null,{"$f":"Start_Here!$C$22","v":"Contact Name"}]
["Phone",null,{"$f":"Start_Here!$C$23","v":"Contact Phone"}]
[null,null,{"$f":"Start_Here!$B$11","v":"Where is the Machine Being Shipped? (Ship-To Info) (Please Verify)"}]
["Company",null,{"$f":"Start_Here!$C$12","v":"Company Name"}]
["Address",null,{"$f":"Start_Here!$C$13","v":"Address"}]
[null,null,{"$f":"Start_Here!$C$14","v":"City, State Zip"}]
["Name",null,{"$f":"Start_Here!$C$15","v":"Contact Name"}]
["Phone",null,{"$f":"Start_Here!$C$16","v":"Contact Phone"}]
[null,null,{"$f":"Start_Here!$B$31","v":"Shipping / Carrier Instructions:"},null,"Order Special Instructions:"]
[null,null,{"$f":"Start_Here!$C$32","v":0}]
[]
[null,null,"Customer Purchase Order No."]
[null,null,"(please attach copy)"]
[]
[]
[null,null,"Tax Exempt",null,"Yes"]
[null,null,null,null,"No"]
[null,null,"If Yes, attach a copy of your exemption certificate."]
[]
[null,null,"Requested Delivery Date"]
[null,null,{"$f":"Start_Here!$C$28","v":0}]
[]
[null,null,{"$f":"Start_Here!$C$26","v":0},null,{"$f":"Start_Here!$C$27","v":0}]
[null,null,"Authorized Buyer (please print)",null,"Phone Number"]
[]
[]
[null,null,"Authorized Buyer Signature"]
[]
[null,null,{"$f":"Start_Here!$C$41","v":"Rep Name"}]
[null,null,"Tennant Representative"]
[]
["Specialized Maintenance Equipment"]
[{"$f":"Start_Here!$C$48","v":"TENNANT · 10400 Clean Street · Eden Prairie, MN 55344 ·"}]
[{"$f":"Start_Here!$C$49","v":" PHONE:800-553-8033 · FAX:763-513-2116"}]
[]
[null,"SPECIAL INFORMATION"]
[null,1,"Standard Squeegee recovers 100% of water in 180º point turns.  If customer has a narrow aisle, the machine can be"]
[null,null,"set-up for a narrow aisle squeegee.  The narrow-aisle squeegee is the squeegee that comes standard with the "]
[null,null,"next size smaller head and will not recover 100% of the solution in 180º point turns."]
[]
[null,null,"Scrub Head Size","Standard",null,"Narrow Aisle"]
[null,null,"650 mm / 26\" - Disk","9015301 = 38.3 in / 973 mm",null,"9015490 = 30.0 in / 772 mm"]
[null,null,"700 mm / 28\" - Disk","9015302 = 41.3 in / 1049 mm",null,"9015301 = 38.3 in / 973 mm"]
[null,null,"800 mm / 32\" - Disk","9015303 = 46.6 in / 1234 mm",null,"9015302 = 41.3 in / 1049 mm"]
[null,null,"700 mm / 28\" - Cylindrical","9015303 = 46.6 in / 1234 mm",null,"9015302 = 41.3 in / 1049 mm"]
[null,null,"700 mm / 28\" - Orbital","9015302 = 41.3 in / 1049 mm",null,"9015301 = 38.3 in / 973 mm"]
[]
[null,2,"In order to obtain the IRIS Battery Metrics, one of the listed Tennant supplied batteries is required."]
[]
[null,"2a","Li-Ion batteries require a compatible Li-Ion Charger."]
[null,null,"Li-Ion batteries are not compatible with Machine Communication (IRIS)."]
[]
[null,3,"Smart-Fill Automatic Battery Watering only available with on-board charger."]
[null,null,"Smart-Fill Automatic Battery Watering and Manual Battery Watering are not compatible with AGM or Li-Ion Batteries."]
[]
[null,4,"25A 100-240V AC 50/60Hz 1Ph - On-Board Charger is required to receive IRIS Battery Manager."]
[]
[null,5,"One set of brushes or pad drivers come standard with a Disk or Cylindrical T500e.  Orbital units will come standard with"]
[null,null,"a Pad Driver - Red Backer Pad."]
[]
[null,6,"Additional hard copy Operator and Parts Manuals can be ordered or digital copies can be downloaded from www.Tennantco.com."]
[]
[null,7,"A French and English manual will be supplied for all units shipping into Quebec, Canada at no charge.  An additional manual"]
[null,null,"can be ordered (for a total of 3 manuals) for an additional charge as stated under 'Additional Operator Manual'."]
[]
[null,8,"Pre-Paid and Monthly Packages are available for the IRIS Information Service."]
[null,null,"IRIS Module is required and NOT included in the price of the IRIS Information Service:"]
[null,null,"3 Year Pre-Paid IRIS Information Service",350]
[null,null,"5 Year Pre-Paid IRIS Information Service",560]
[null,null,"A monthly contract can be set up at $14 per month w/ 12 month minimum commitment."]
[null,null,"IRIS Telemetry Module only covers the price of the hardware. "]
[null,null,"IRIS Telemetry requires an IRIS Telemetry Module and an IRIS Information Service Package."]
[null,null,"25A 100-240V AC 50/60Hz 1Ph - On-Board Charger and a compatible Tennant supplied battery is required to receive IRIS Battery Manager."]
[null,null,"Availability of IRIS Battery Metrics is not guaranteed with third party supplied batteries."]
[null,null,"IRIS Telemetry is not available with units configured with Li-Ion Batteries."]
[]
[null,9,"Shipping Weights and Dimensions",null,"Skid w/Carton"]
[]
[null,null,"Weight"]
[null,null,"26\" / 650mm Disk"]
[null,null,"Weight",null,"635 lbs / 289 Kg"]
[null,null,"Length",null,"73\" / 1,855mm"]
[null,null,"Width",null,"43\" / 1,093mm"]
[null,null,"Height",null,"52\" / 1,321mm"]
[]
[null,null,"28\" / 700mm Disk"]
[null,null,"Weight",null,"645 lbs / 293 Kg"]
[null,null,"Length",null,"73\" / 1,855mm"]
[null,null,"Width",null,"43\" / 1,093mm"]
[null,null,"Height",null,"52\" / 1,321mm"]
[]
[null,null,"32\" / 800mm Disk"]
[null,null,"Weight",null,"770 lbs / 350 Kg"]
[null,null,"Length",null,"73\" / 1,855mm"]
[null,null,"Width",null,"43\" / 1,093mm"]
[null,null,"Height",null,"52\" / 1,321mm"]
[]
[null,null,"28\" / 700m Cylindrical"]
[null,null,"Weight",null,"685 lbs / 311 Kg"]
[null,null,"Length",null,"73\" / 1,855mm"]
[null,null,"Width",null,"43\" / 1,093mm"]
[null,null,"Height",null,"52\" / 1,321mm"]
[]
[null,null,"28\" / 700mm Orbital"]
[null,null,"Weight",null,"685 lbs / 311 Kg"]
[null,null,"Length",null,"73\" / 1,855mm"]
[null,null,"Width",null,"43\" / 1,093mm"]
[null,null,"Height",null,"52\" / 1,321mm"]

{"sheet":"T600","index":33,"n_rows":377,"n_cols":16,"rows_kept":377,"cut":false,"hidden":false,"merged":[[0,2,0,3],[1,2,1,3],[2,2,2,3],[3,2,3,3],[44,1,44,5],[11,2,11,6],[192,3,192,4],[192,5,192,6],[50,1,50,5],[45,1,45,5],[46,1,46,5],[47,1,47,5],[48,1,48,5],[49,1,49,5],[215,3,215,4],[215,5,215,6],[216,3,216,4],[216,5,216,6],[194,3,194,4],[194,5,194,6],[207,4,207,8],[209,3,209,6],[211,3,211,4],[212,3,212,4],[214,3,214,4],[214,5,214,6],[360,6,360,8],[257,0,257,1],[257,2,257,5],[258,2,258,5],[259,0,259,1],[259,2,259,5],[260,0,260,1],[260,2,260,5],[264,2,264,5],[265,2,265,5],[266,2,266,5],[275,4,275,5],[360,2,360,4],[262,4,262,6],[256,0,256,1],[256,2,256,5],[229,2,229,6],[248,4,248,6],[250,0,250,1],[250,2,250,5],[252,2,252,5],[253,0,253,1],[253,2,253,5],[254,0,254,1],[254,2,254,5],[251,0,251,1],[251,2,251,5],[220,3,220,4],[220,5,220,6],[217,3,217,4],[217,5,217,6],[218,3,218,4],[218,5,218,6],[219,3,219,4],[219,5,219,6]]}
["T600",null,{"$f":"Start_Here!$C19","v":"Company Name"}]
[{"$f":"SUM(G187)","v":0},null,{"$f":"Start_Here!$C20","v":"Address"}]
[null,null,{"$f":"Start_Here!$C21","v":"City, State Zip"}]
[null,null,{"$f":"Start_Here!$C22","v":"Contact Name"}]
[null,null,{"$f":"Start_Here!$C$41","v":"Rep Name"}]
[null,null,{"$f":"Start_Here!$C$37","v":"Tennant Sales and Service Company"}]
[null,null,{"$f":"Start_Here!$C$38","v":"10400 Clean Street"}]
[null,null,{"$f":"Start_Here!$C$39","v":"Eden Prairie, MN 55344"}]
[null,null,{"$f":"Start_Here!$C$43","v":"800-553-8033"},null,"Quote Date :",null,{"$f":"Letter!$A$25","v":"2014-10-02"}]
[]
[null,null,{"$f":"Help!C2","v":"CAN Date Rev - 5/6/2025"}]
[null,null,"BUILT-IN \"TENNANT VALUE\" INCLUDES:"]
[]
[null,"121L/32 gal Solution Tank  & 37 L/140 gal Recovery Tank",null,"Cast Aluminum Squeegee & Scrub Deck (Disk, Cylindrical)"]
[null,"Rugged Duramer™ Rotomold Tank Construction",null,"Automatic: Water On / Off"]
[null,"Fully Sprayable Hygienic® Recovery Tank",null,"Brush On / Off"]
[null,"Three Down Pressure Settings- up to 200 lbs/90 kg ",null,"Brush Shutoff at 80% Discharge"]
[null,"Adjustable Solution Flow",null,"Linatex/Linard Squeegee Blades with Tool-less Replacement"]
[null,"Variable Speed Control Knob",null,"Emergency Stop "]
[null,"Pro-Membrane™ Control Panel w/ 3 Zone Settings™ (Standard)",null,"Free Floating Head Skirt (disk machines)"]
[null,"LCD Pro-Panel™ Touch Screen Control Panel (Option)",null,"Fill Port w/ Hose Fins"]
[null,"       On-Demand Tutorial Videos & 4 Customizable Zone Settings",null,"Integrated Heat Sink for Electronics Protection"]
[null,"Supervisor QA ControlsTM settings (Lock Out Features)",null,"Sealed Electrical Connectors"]
[null,"On Board Diagnostics",null,"Anti-Static Strap"]
[null,"Standard Low Noise Level  (≤70 dBa)",null,"1 HP brush motor/ 0.75 kW  (disk)"]
[null,"Quiet-Mode™ Sound Reduction all models   (≤62.5dBa)",null,"300 RPM (disk) and 760 RPM (cylindrical) "]
[null,"Standard (6) 6v. 240AH battery pack",null,"Recovery Tank Debris Tray"]
[null,"      (Optional  360AH batteries available)",null,"Excellent Ergonomic Controls Design"]
[null,"      (Optional Thin Plate Pure Lead Batteries available)",null,"Non-Marking Polyurethane Tires"]
[null,"Smart-Fill™ Automatic Battery Watering (Option)",null,"Includes Standard Pad Drivers or Scrubbing Brushes (Select One)"]
[null,"Auto Fill (Solution Tank)",null,"Key Switch for Safety"]
[null,"Quick Release Battery Harness",null,"Hour Meter"]
[null,"Standard Controlled Battery Compartment Drain",null,"Jacking Points/Shipping Tie Downs"]
[null,"On-board Charger with 3m/15 ft power cord",null,"Yellow Maintenance Touch Points"]
[null,"Closed Machine Venting for Battery Charging",null,"Auto Fill for Solution Tank"]
[null,"Breakaway Squeegee Design",null,"Integrated Accessory Rails"]
[null,"Factory Set Squeegee Assembly for Maximum Recovery",null,"Drain hose with pinch cuff to control water flow"]
[null,"Cast Aluminum Squeegee Frame"]
[]
[null,"Optional ec-H2O NanoClean™ Equipped Models Include:"]
[null,"Electrically Converted Water Technology System"]
[null,"Two Scrubbing Modes: ec-H2O NanoCleanTM & Conventional Scrub"]
[]
[]
[null,"TENNANT COMPANY WARRANTY"]
[null,"3 YEARS OR 2000 HOURS - PARTS"]
[null,"1 YEAR - BATTERY CHARGERS"]
[null,"2 YEARS - LABOR"]
[null,"6 MONTHS - TRAVEL"]
[null,"10 YEARS ON DURAMERTM ROTOMOLD TANKS"]
[]
[]
[]
[null,null,null,null,"                Quote Request Information"]
[null,null,null,null,null,null,"Fax (quote only)"]
[null,null,null,null,null,null,"Mail (quote,lit, specs)"]
[null,null,null,null,null,null,"Fax + Mail"]
[]
[null,null,null,null,"                Primary Use"]
[null,null,null,null,null,null,"Inside"]
[null,null,null,null,null,null,"Outside"]
[]
[null,null,"Description","Reference #","Canada Price","Qty.","Extended Price"]
[null,"Base Configuration",null,null,null,{"$f":"SUM(F65,F72,F76,F82,F86,F95,F100)","v":0}]
[null,null,"Cleaning Type",null,null,{"$f":"SUM(F66:F70)","v":0},null,null,null,null,null,{"$f":"SUM(F65)","v":0},"Surcharge Qty"]
[null,null,"T600 Walk-Behind Scrubber 700 mm / 28\" Disk","T600-700D",31834,null,{"$f":"F66*E66","v":0},{"$f":"IFERROR(IFERROR(VLOOKUP(D66,Surcharge!A:B,2,FALSE)*F66, VLOOKUP(D66 & \"\",Surcharge!A:B,2,FALSE)*F66), \"\")","v":""},null,null,null,null,null,null,null,"M-t600VK_BASE_T600-700D"]
[null,null,"T600 Walk-Behind Scrubber 800 mm / 32\" Disk","T600-800D",33027,null,0,{"$f":"IFERROR(IFERROR(VLOOKUP(D67,Surcharge!A:B,2,FALSE)*F67, VLOOKUP(D67 & \"\",Surcharge!A:B,2,FALSE)*F67), \"\")","v":""},null,null,null,{"$f":"SUM(F67)","v":0},"Surcharge Qty",null,null,"M-t600VK_BASE_T600-800D"]
[null,null,"T600 Walk-Behind Scrubber 900 mm / 36\" Disk","T600-900D",37591,null,0,{"$f":"IFERROR(IFERROR(VLOOKUP(D68,Surcharge!A:B,2,FALSE)*F68, VLOOKUP(D68 & \"\",Surcharge!A:B,2,FALSE)*F68), \"\")","v":""},null,null,null,null,null,null,null,"M-t600VK_BASE_T600-900D"]
[null,null,"T600 Walk-Behind Scrubber 700 mm / 28\" Cylindrical","T600-700C",34218,null,0,{"$f":"IFERROR(IFERROR(VLOOKUP(D69,Surcharge!A:B,2,FALSE)*F69, VLOOKUP(D69 & \"\",Surcharge!A:B,2,FALSE)*F69), \"\")","v":""},null,null,null,0,"Surcharge Qty",null,null,"M-t600VK_BASE_T600-700C"]
[null,null,"T600 Walk-Behind Scrubber 800 mm / 32\" Cylindrical","T600-800C",35412,null,0,{"$f":"IFERROR(IFERROR(VLOOKUP(D70,Surcharge!A:B,2,FALSE)*F70, VLOOKUP(D70 & \"\",Surcharge!A:B,2,FALSE)*F70), \"\")","v":""},null,null,null,0,"Surcharge Qty",null,null,"M-t600VK_BASE_T600-800C"]
[null,null,null,null,null,null,null,{"$f":"IFERROR(IFERROR(VLOOKUP(D71,Surcharge!A:B,2,FALSE)*F71, VLOOKUP(D71 & \"\",Surcharge!A:B,2,FALSE)*F71), \"\")","v":""},null,null,null,0,"Surcharge Qty"]
[null,null,"Trim Level",null,null,{"$f":"SUM(F73:F74)","v":0},null,{"$f":"IFERROR(IFERROR(VLOOKUP(D72,Surcharge!A:B,2,FALSE)*F72, VLOOKUP(D72 & \"\",Surcharge!A:B,2,FALSE)*F72), \"\")","v":""},null,null,null,0,"Surcharge Qty"]
[null,null,"Pro Membrane™ Control Panel","MCP-T600","N/C",null,{"$f":"IF(F73=0,\" \",\"N/C\")","v":" "},{"$f":"IFERROR(IFERROR(VLOOKUP(D73,Surcharge!A:B,2,FALSE)*F73, VLOOKUP(D73 & \"\",Surcharge!A:B,2,FALSE)*F73), \"\")","v":""},null,null,null,0,"Surcharge Qty",null,null,"M-t600VK_TRMLVL_PMEM"]
[null,null,"Pro-Panel™ Control Panel","PPC-T600",1329,null,{"$f":"F74*E74","v":0},{"$f":"IFERROR(IFERROR(VLOOKUP(D74,Surcharge!A:B,2,FALSE)*F74, VLOOKUP(D74 & \"\",Surcharge!A:B,2,FALSE)*F74), \"\")","v":""},null,null,null,0,"Surcharge Qty",null,null,"M-t600VK_TRMLVL_PPAN"]
[null,null,null,null,null,null,null,{"$f":"IFERROR(IFERROR(VLOOKUP(D75,Surcharge!A:B,2,FALSE)*F75, VLOOKUP(D75 & \"\",Surcharge!A:B,2,FALSE)*F75), \"\")","v":""},null,null,null,0,"Surcharge Qty"]
[null,null,"Cleaning Technology: (conventional is standard,  ec-H2O can also operate in conventional mode)",null,null,{"$f":"SUM(F77:F80)","v":0},null,{"$f":"IFERROR(IFERROR(VLOOKUP(D76,Surcharge!A:B,2,FALSE)*F76, VLOOKUP(D76 & \"\",Surcharge!A:B,2,FALSE)*F76), \"\")","v":""}]
[null,null,"ec-H2O NanoClean","ec-H2O-T600",4255,null,{"$f":"F77*E77","v":0},{"$f":"IFERROR(IFERROR(VLOOKUP(D77,Surcharge!A:B,2,FALSE)*F77, VLOOKUP(D77 & \"\",Surcharge!A:B,2,FALSE)*F77), \"\")","v":""},null,null,null,0,"Surcharge Qty",null,null,"M-t600VK_CLNTCH_ECH2ON"]
[null,null,null,null," ",null,null,{"$f":"IFERROR(IFERROR(VLOOKUP(D78,Surcharge!A:B,2,FALSE)*F78, VLOOKUP(D78 & \"\",Surcharge!A:B,2,FALSE)*F78), \"\")","v":""},null,null,null,0,"Surcharge Qty",null,null,""]
[null,null,"Severe Environment Switch  (Note 1)",9042152,856,null,{"$f":"F79*E79","v":0},{"$f":"IFERROR(IFERROR(VLOOKUP(D79,Surcharge!A:B,2,FALSE)*F79, VLOOKUP(D79 & \"\",Surcharge!A:B,2,FALSE)*F79), \"\")","v":""},null,null,null,0,"Surcharge Qty",null,null,"M-t600VK_SVEEVMSWH"]
[null,null,"Severe Environment™ Switch Lockout  (Note 2)",9017886,87,null,{"$f":"F80*E80","v":0},null,null,null,null,null,null,null,null,"M-t600VK_SVEEVMSWHLKT"]
[]
[null,null,"Squeegee Width  (Note 3)",null,null,{"$f":"SUM(F83:F84)","v":0},null,{"$f":"IFERROR(IFERROR(VLOOKUP(D82,Surcharge!A:B,2,FALSE)*F82, VLOOKUP(D82 & \"\",Surcharge!A:B,2,FALSE)*F82), \"\")","v":""},null,null,null,0,"Surcharge Qty"]
[null,null,"Standard","MCP-T600","N/C",null,{"$f":"IF(F83=0,\" \",\"N/C\")","v":" "},{"$f":"IFERROR(IFERROR(VLOOKUP(D83,Surcharge!A:B,2,FALSE)*F83, VLOOKUP(D83 & \"\",Surcharge!A:B,2,FALSE)*F83), \"\")","v":""},null,null,null,0,"Surcharge Qty",null,null,"M-t600VK_SQEWDT_STD"]
[null,null,"Narrow Aisle","PPC-T600","N/C",null,{"$f":"IF(F84=0,\" \",\"N/C\")","v":" "},{"$f":"IFERROR(IFERROR(VLOOKUP(D84,Surcharge!A:B,2,FALSE)*F84, VLOOKUP(D84 & \"\",Surcharge!A:B,2,FALSE)*F84), \"\")","v":""},null,null,null,0,"Surcharge Qty",null,null,"M-t600VK_SQEWDT_NWA"]
[null,null,null,null,null,null,null,{"$f":"IFERROR(IFERROR(VLOOKUP(D85,Surcharge!A:B,2,FALSE)*F85, VLOOKUP(D85 & \"\",Surcharge!A:B,2,FALSE)*F85), \"\")","v":""},null,null,null,{"$f":"SUM(F85)","v":0},"Surcharge Qty"]
[null,null,"Battery Type  (Note 4)",null,null,{"$f":"SUM(F87:F93)","v":0},null,{"$f":"IFERROR(IFERROR(VLOOKUP(D86,Surcharge!A:B,2,FALSE)*F86, VLOOKUP(D86 & \"\",Surcharge!A:B,2,FALSE)*F86), \"\")","v":""}]
[null,null,"Wet 240AH C/20",9042056,"N/C",null,{"$f":"IF(F87=0,\" \",\"N/C\")","v":" "},{"$f":"IFERROR(IFERROR(VLOOKUP(D87,Surcharge!A:B,2,FALSE)*F87, VLOOKUP(D87 & \"\",Surcharge!A:B,2,FALSE)*F87), \"\")","v":""},null,null,null,{"$f":"SUM(F87)","v":0},"Surcharge Qty",null,null,"M-t600VK_BTY_W240C20"]
[null,null,"Wet 360AH C/20",9042058,1091,null,{"$f":"F88*E88","v":0},{"$f":"IFERROR(IFERROR(VLOOKUP(D88,Surcharge!A:B,2,FALSE)*F88, VLOOKUP(D88 & \"\",Surcharge!A:B,2,FALSE)*F88), \"\")","v":""},null,null,null,null,null,null,null,"M-t600VK_BTY_W360C20"]
[null,null,"Sealed/MF Fast Charge 210AH C/20 (TPPL Battery)  (Note 5)",9042061,3392,null,{"$f":"F89*E89","v":0},null,null,null,null,null,null,null,null,"M-t600VK_BTY_F210C20"]
[null,null,"Without",9041062,-1050,null,0,{"$f":"IFERROR(IFERROR(VLOOKUP(D90,Surcharge!A:B,2,FALSE)*F90, VLOOKUP(D90 & \"\",Surcharge!A:B,2,FALSE)*F90), \"\")","v":""},null,null,null,null,null,null,null,"M-t600VK_BTY_WO"]
[null,null,null,null," ",null,null,{"$f":"IFERROR(IFERROR(VLOOKUP(D91,Surcharge!A:B,2,FALSE)*F91, VLOOKUP(D91 & \"\",Surcharge!A:B,2,FALSE)*F91), \"\")","v":""},null,null,null,{"$f":"SUM(F91)","v":0},"Surcharge Qty",null,null,""]
[null,null,"Smart-Fill Automatic Battery Watering  (Note 6)",9042063,1650,null,{"$f":"F92*E92","v":0},{"$f":"IFERROR(IFERROR(VLOOKUP(D92,Surcharge!A:B,2,FALSE)*F92, VLOOKUP(D92 & \"\",Surcharge!A:B,2,FALSE)*F92), \"\")","v":""},null,null,null,null,null,null,null,"M-t600VK_BTYWTRSYS_SF"]
[null,null,"Manual Battery Watering  (Note 6)",9042064,1065,null,0,{"$f":"IFERROR(IFERROR(VLOOKUP(D93,Surcharge!A:B,2,FALSE)*F93, VLOOKUP(D93 & \"\",Surcharge!A:B,2,FALSE)*F93), \"\")","v":""},null,null,null,0,"Surcharge Qty",null,null,"M-t600VK_BTYWTRSYS_ML"]
[null,null,null,null,null,null,null,null,null,null,null,null,null,null,null,""]
[null,null,"Charger  (Note 7)","Reference Number",null,{"$f":"SUM(F96:F98)","v":0},null,{"$f":"IFERROR(IFERROR(VLOOKUP(D95,Surcharge!A:B,2,FALSE)*F95, VLOOKUP(D95 & \"\",Surcharge!A:B,2,FALSE)*F95), \"\")","v":""},null,null,null,0,"Surcharge Qty",null,null,""]
[null,null,"25A 100-240V AC 50/60Hz 1Ph - Off-Board Charger\n (for Wet / Lead Acid Batteries Only)",9042253,"N/C",null,{"$f":"IF(F96=0,\" \",\"N/C\")","v":" "},{"$f":"IFERROR(IFERROR(VLOOKUP(D96,Surcharge!A:B,2,FALSE)*F96, VLOOKUP(D96 & \"\",Surcharge!A:B,2,FALSE)*F96), \"\")","v":""},null,null,null,null,null,null,null,"M-t600VK_CHG_25A100V5060H1_OFF"]
[null,null,"25A 100-240V AC 50/60Hz 1Ph - On-Board Charger (for Wet / Lead Acid Batteries Only)\n (IRIS Battery Metric Compatible)",9042250,"N/C",null," ",{"$f":"IFERROR(IFERROR(VLOOKUP(D97,Surcharge!A:B,2,FALSE)*F97, VLOOKUP(D97 & \"\",Surcharge!A:B,2,FALSE)*F97), \"\")","v":""},null,null,null,0,"Surcharge Qty",null,null,"M-t600VK_CHG_25A100V5060H1_ON"]
[null,null,"33A 100-240V AC 50/60Hz 1Ph - On-Board Charger (for Wet / Lead Acid Batteries Only)\n (Mandatory with 186AH TPPL Battery)",9042252,261,null,{"$f":"F98*E98","v":0},{"$f":"IFERROR(IFERROR(VLOOKUP(D98,Surcharge!A:B,2,FALSE)*F98, VLOOKUP(D98 & \"\",Surcharge!A:B,2,FALSE)*F98), \"\")","v":""},null,null,null,null,null,null,null,"M-t600VK_CHG_33A100V5060H1P"]
[null,null,null,null,null,null,null,{"$f":"IFERROR(IFERROR(VLOOKUP(D99,Surcharge!A:B,2,FALSE)*F99, VLOOKUP(D99 & \"\",Surcharge!A:B,2,FALSE)*F99), \"\")","v":""},null,null,null,null,null,null,null,""]
[null,null,"UL/ETL Rating",null,null,{"$f":"SUM(F101)","v":0},null,{"$f":"IFERROR(IFERROR(VLOOKUP(D100,Surcharge!A:B,2,FALSE)*F100, VLOOKUP(D100 & \"\",Surcharge!A:B,2,FALSE)*F100), \"\")","v":""},null,null,null,0,"Surcharge Qty",null,null,""]
[null,null,"UL Type E  (Note 8)",null,"N/C",null,{"$f":"IF(F101=0,\" \",\"N/C\")","v":" "},{"$f":"IFERROR(IFERROR(VLOOKUP(D101,Surcharge!A:B,2,FALSE)*F101, VLOOKUP(D101 & \"\",Surcharge!A:B,2,FALSE)*F101), \"\")","v":""},null,null,null,0,"Surcharge Qty",null,null,"M-t600"]
[null,null,null,null,null,null,null,{"$f":"IFERROR(IFERROR(VLOOKUP(D102,Surcharge!A:B,2,FALSE)*F102, VLOOKUP(D102 & \"\",Surcharge!A:B,2,FALSE)*F102), \"\")","v":""}]
[null,"Machine Protection & Safety",null,"Reference Number",null,{"$f":"SUM(F104:F107)","v":0},null,{"$f":"IFERROR(IFERROR(VLOOKUP(D103,Surcharge!A:B,2,FALSE)*F103, VLOOKUP(D103 & \"\",Surcharge!A:B,2,FALSE)*F103), \"\")","v":""}]
[null,null,"Black Foam Filled Rubber  (Non-Marking)",9042099,"N/C",null,{"$f":"IF(F104=0,\" \",\"N/C\")","v":" "},{"$f":"IFERROR(IFERROR(VLOOKUP(D104,Surcharge!A:B,2,FALSE)*F104, VLOOKUP(D104 & \"\",Surcharge!A:B,2,FALSE)*F104), \"\")","v":""},null,null,null,null,null,null,null,"M-t600VK_NONMKTTRE_BFFR"]
[null,null,"Black Pneumatic Rubber  (Non-Marking)",9042071,"N/C",null," ",{"$f":"IFERROR(IFERROR(VLOOKUP(D105,Surcharge!A:B,2,FALSE)*F105, VLOOKUP(D105 & \"\",Surcharge!A:B,2,FALSE)*F105), \"\")","v":""},null,null,null,null,null,null,null,"M-t600VK_NONMKTTRE_BPR"]
[null,null,"Parking Brake",9042068,272,null,{"$f":"F106*E106","v":0},{"$f":"IFERROR(IFERROR(VLOOKUP(D106,Surcharge!A:B,2,FALSE)*F106, VLOOKUP(D106 & \"\",Surcharge!A:B,2,FALSE)*F106), \"\")","v":""},null,null,null,null,null,null,null,"M-t600VK_PRGBRK"]
[null,null,"Trailer Transport Kit",9042165,386,null,{"$f":"F107*E107","v":0},{"$f":"IFERROR(IFERROR(VLOOKUP(D107,Surcharge!A:B,2,FALSE)*F107, VLOOKUP(D107 & \"\",Surcharge!A:B,2,FALSE)*F107), \"\")","v":""},null,null,null,null,null,null,null,"M-t600VK_TRLTRTKIT"]
[null,null,null,null,null,null,null,{"$f":"IFERROR(IFERROR(VLOOKUP(D108,Surcharge!A:B,2,FALSE)*F108, VLOOKUP(D108 & \"\",Surcharge!A:B,2,FALSE)*F108), \"\")","v":""}]
[null,"Brushes and Pads (Note 9)",null,"Reference Number",null,{"$f":"SUM(F110,F120,F131,F141,F146)","v":0},null,{"$f":"IFERROR(IFERROR(VLOOKUP(D109,Surcharge!A:B,2,FALSE)*F109, VLOOKUP(D109 & \"\",Surcharge!A:B,2,FALSE)*F109), \"\")","v":""}]
[null,null,"700mm/28\" Disk Scrubbing Brushes/Pads (2 Required - 14\" each)",null,null,{"$f":"SUM(F111:F118)","v":0},null,{"$f":"IFERROR(IFERROR(VLOOKUP(D110,Surcharge!A:B,2,FALSE)*F110, VLOOKUP(D110 & \"\",Surcharge!A:B,2,FALSE)*F110), \"\")","v":""},null,null,null,null,null,null,null,""]
[null,null,"Polypropylene Brush",1234464,"N/C",null,{"$f":"IF(F111=0,\" \",\"N/C\")","v":" "},{"$f":"IFERROR(IFERROR(VLOOKUP(D111,Surcharge!A:B,2,FALSE)*F111, VLOOKUP(D111 & \"\",Surcharge!A:B,2,FALSE)*F111), \"\")","v":""},null,null,null,null,null,null,null,"M-t600VK_CLNTOL_D700PYP"]
[null,null,"Nylon Brush",1234463,"N/C",null,{"$f":"IF(F112=0,\" \",\"N/C\")","v":" "},{"$f":"IFERROR(IFERROR(VLOOKUP(D112,Surcharge!A:B,2,FALSE)*F112, VLOOKUP(D112 & \"\",Surcharge!A:B,2,FALSE)*F112), \"\")","v":""},null,null,null,null,null,null,null,"M-t600VK_CLNTOL_D700NYL"]
[null,null,null,null," ",null,null,{"$f":"IFERROR(IFERROR(VLOOKUP(D113,Surcharge!A:B,2,FALSE)*F113, VLOOKUP(D113 & \"\",Surcharge!A:B,2,FALSE)*F113), \"\")","v":""},null,null,null,null,null,null,null,""]
[null,null,"Pad Driver",1234467,"N/C",null,{"$f":"IF(F114=0,\" \",\"N/C\")","v":" "},{"$f":"IFERROR(IFERROR(VLOOKUP(D114,Surcharge!A:B,2,FALSE)*F114, VLOOKUP(D114 & \"\",Surcharge!A:B,2,FALSE)*F114), \"\")","v":""},null,null,null,null,null,null,null,"M-t600VK_CLNTOL_D700PAD"]
[null,null,"Pads",null," ",{"$f":"SUM(F116:F118)","v":0},null,{"$f":"IFERROR(IFERROR(VLOOKUP(D115,Surcharge!A:B,2,FALSE)*F115, VLOOKUP(D115 & \"\",Surcharge!A:B,2,FALSE)*F115), \"\")","v":""},null,null,null,null,null,null,null,""]
[null,null,"Blue Scrubbing - 3M",222326,25.7,null,{"$f":"F116*E116","v":0},{"$f":"IFERROR(IFERROR(VLOOKUP(D116,Surcharge!A:B,2,FALSE)*F116, VLOOKUP(D116 & \"\",Surcharge!A:B,2,FALSE)*F116), \"\")","v":""},null,null,null,null,null,null,null,"M-t600VK_PADTYP_700BLU3"]
[null,null,"Red Cleaning - 3M",222325,25.7,null,0,{"$f":"IFERROR(IFERROR(VLOOKUP(D117,Surcharge!A:B,2,FALSE)*F117, VLOOKUP(D117 & \"\",Surcharge!A:B,2,FALSE)*F117), \"\")","v":""},null,null,null,null,null,null,null,"M-t600VK_PADTYP_700RED3"]
[null,null,"White Polishing - 3M",222324,25.7,null,0,{"$f":"IFERROR(IFERROR(VLOOKUP(D118,Surcharge!A:B,2,FALSE)*F118, VLOOKUP(D118 & \"\",Surcharge!A:B,2,FALSE)*F118), \"\")","v":""},null,null,null,null,null,null,null,"M-t600VK_PADTYP_700WHT3"]
[null,null,null,null,null,null,null,{"$f":"IFERROR(IFERROR(VLOOKUP(D119,Surcharge!A:B,2,FALSE)*F119, VLOOKUP(D119 & \"\",Surcharge!A:B,2,FALSE)*F119), \"\")","v":""}]
[null,null,"800mm/32\" Disk Scrubbing Brushes/Pads (2 Required - 16\" each)",null,null,{"$f":"SUM(F121:F129)","v":0},null,{"$f":"IFERROR(IFERROR(VLOOKUP(D120,Surcharge!A:B,2,FALSE)*F120, VLOOKUP(D120 & \"\",Surcharge!A:B,2,FALSE)*F120), \"\")","v":""}]
[null,null,"Polypropylene Brush",1234524,"N/C",null,{"$f":"IF(F121=0,\" \",\"N/C\")","v":" "},{"$f":"IFERROR(IFERROR(VLOOKUP(D121,Surcharge!A:B,2,FALSE)*F121, VLOOKUP(D121 & \"\",Surcharge!A:B,2,FALSE)*F121), \"\")","v":""},null,null,null,null,null,null,null,"M-t600VK_CLNTOL_D800PYP"]
[null,null,"Heavy Duty Polypropylene Brush",1234525,"N/C",null," ",{"$f":"IFERROR(IFERROR(VLOOKUP(D122,Surcharge!A:B,2,FALSE)*F122, VLOOKUP(D122 & \"\",Surcharge!A:B,2,FALSE)*F122), \"\")","v":""},null,null,null,null,null,null,null,"M-t600VK_CLNTOL_D800HDPYP"]
[null,null,"Nylon Brush",1234523,"N/C",null," ",{"$f":"IFERROR(IFERROR(VLOOKUP(D123,Surcharge!A:B,2,FALSE)*F123, VLOOKUP(D123 & \"\",Surcharge!A:B,2,FALSE)*F123), \"\")","v":""},null,null,null,null,null,null,null,"M-t600VK_CLNTOL_D800NYL"]
[null,null,null,null," ",null,null,{"$f":"IFERROR(IFERROR(VLOOKUP(D124,Surcharge!A:B,2,FALSE)*F124, VLOOKUP(D124 & \"\",Surcharge!A:B,2,FALSE)*F124), \"\")","v":""},null,null,null,null,null,null,null,""]
[null,null,"Pad Driver",1234527,"N/C",null,{"$f":"IF(F125=0,\" \",\"N/C\")","v":" "},{"$f":"IFERROR(IFERROR(VLOOKUP(D125,Surcharge!A:B,2,FALSE)*F125, VLOOKUP(D125 & \"\",Surcharge!A:B,2,FALSE)*F125), \"\")","v":""},null,null,null,null,null,null,null,"M-t600VK_CLNTOL_D800PAD"]
[null,null,"Pads",null,null,{"$f":"SUM(F127:F129)","v":0},null,{"$f":"IFERROR(IFERROR(VLOOKUP(D126,Surcharge!A:B,2,FALSE)*F126, VLOOKUP(D126 & \"\",Surcharge!A:B,2,FALSE)*F126), \"\")","v":""}]
[null,null,"Blue Scrubbing - 3M","63248-2",28.9,null,{"$f":"F127*E127","v":0},{"$f":"IFERROR(IFERROR(VLOOKUP(D127,Surcharge!A:B,2,FALSE)*F127, VLOOKUP(D127 & \"\",Surcharge!A:B,2,FALSE)*F127), \"\")","v":""},null,null,null,null,null,null,null,"M-t600VK_PADTYP_800BLU3"]
[null,null,"Red Cleaning - 3M","63248-3",28.9,null,0,{"$f":"IFERROR(IFERROR(VLOOKUP(D128,Surcharge!A:B,2,FALSE)*F128, VLOOKUP(D128 & \"\",Surcharge!A:B,2,FALSE)*F128), \"\")","v":""},null,null,null,null,null,null,null,"M-t600VK_PADTYP_800RED3"]
[null,null,"White Polishing - 3M","63248-4",28.9,null,0,{"$f":"IFERROR(IFERROR(VLOOKUP(D129,Surcharge!A:B,2,FALSE)*F129, VLOOKUP(D129 & \"\",Surcharge!A:B,2,FALSE)*F129), \"\")","v":""},null,null,null,null,null,null,null,"M-t600VK_PADTYP_800WHT3"]
[null,null,null,null,null,null,null,{"$f":"IFERROR(IFERROR(VLOOKUP(D130,Surcharge!A:B,2,FALSE)*F130, VLOOKUP(D130 & \"\",Surcharge!A:B,2,FALSE)*F130), \"\")","v":""}]
[null,null,"900mm/36\" Disk Scrubbing Brushes/Pads (2 Required - 18\" each)",null,null,{"$f":"SUM(F132:F139)","v":0},null,{"$f":"IFERROR(IFERROR(VLOOKUP(D131,Surcharge!A:B,2,FALSE)*F131, VLOOKUP(D131 & \"\",Surcharge!A:B,2,FALSE)*F131), \"\")","v":""}]
[null,null,"Polypropylene Brush",1230859,"N/C",null,{"$f":"IF(F132=0,\" \",\"N/C\")","v":" "},{"$f":"IFERROR(IFERROR(VLOOKUP(D132,Surcharge!A:B,2,FALSE)*F132, VLOOKUP(D132 & \"\",Surcharge!A:B,2,FALSE)*F132), \"\")","v":""},null,null,null,null,null,null,null,"M-t600VK_CLNTOL_D900PYP"]
[null,null,"Nylon Brush",1230858,"N/C",null," ",{"$f":"IFERROR(IFERROR(VLOOKUP(D133,Surcharge!A:B,2,FALSE)*F133, VLOOKUP(D133 & \"\",Surcharge!A:B,2,FALSE)*F133), \"\")","v":""},null,null,null,null,null,null,null,"M-t600VK_CLNTOL_D900NYL"]
[null,null,null,null," ",null,null,{"$f":"IFERROR(IFERROR(VLOOKUP(D134,Surcharge!A:B,2,FALSE)*F134, VLOOKUP(D134 & \"\",Surcharge!A:B,2,FALSE)*F134), \"\")","v":""},null,null,null,null,null,null,null,""]
[null,null,"Pad Driver",1230881,"N/C",null,{"$f":"IF(F135=0,\" \",\"N/C\")","v":" "},{"$f":"IFERROR(IFERROR(VLOOKUP(D135,Surcharge!A:B,2,FALSE)*F135, VLOOKUP(D135 & \"\",Surcharge!A:B,2,FALSE)*F135), \"\")","v":""},null,null,null,null,null,null,null,"M-t600VK_CLNTOL_D900PAD"]
[null,null,"Pads",null," ",{"$f":"SUM(F137:F139)","v":0},null,{"$f":"IFERROR(IFERROR(VLOOKUP(D136,Surcharge!A:B,2,FALSE)*F136, VLOOKUP(D136 & \"\",Surcharge!A:B,2,FALSE)*F136), \"\")","v":""},null,null,null,null,null,null,null,""]
[null,null,"Blue Scrubbing - 3M",11778,33.200000000000003,null,{"$f":"F137*E137","v":0},{"$f":"IFERROR(IFERROR(VLOOKUP(D137,Surcharge!A:B,2,FALSE)*F137, VLOOKUP(D137 & \"\",Surcharge!A:B,2,FALSE)*F137), \"\")","v":""},null,null,null,null,null,null,null,"M-t600VK_PADTYP_900BLU3"]
[null,null,"Red Cleaning - 3M",11780,33.200000000000003,null,0,{"$f":"IFERROR(IFERROR(VLOOKUP(D138,Surcharge!A:B,2,FALSE)*F138, VLOOKUP(D138 & \"\",Surcharge!A:B,2,FALSE)*F138), \"\")","v":""},null,null,null,null,null,null,null,"M-t600VK_PADTYP_900RED3"]
[null,null,"White Polishing - 3M",11781,33.200000000000003,null,0,{"$f":"IFERROR(IFERROR(VLOOKUP(D139,Surcharge!A:B,2,FALSE)*F139, VLOOKUP(D139 & \"\",Surcharge!A:B,2,FALSE)*F139), \"\")","v":""},null,null,null,null,null,null,null,"M-t600VK_PADTYP_900WHT3"]
[null,null,null,null," ",null,null,{"$f":"IFERROR(IFERROR(VLOOKUP(D140,Surcharge!A:B,2,FALSE)*F140, VLOOKUP(D140 & \"\",Surcharge!A:B,2,FALSE)*F140), \"\")","v":""},null,null,null,null,null,null,null,""]
[null,null,"700mm/28\" Cylindrical Scrubbing Brushes  (2 Required)",null," ",{"$f":"SUM(F142:F144)","v":0},null,{"$f":"IFERROR(IFERROR(VLOOKUP(D141,Surcharge!A:B,2,FALSE)*F141, VLOOKUP(D141 & \"\",Surcharge!A:B,2,FALSE)*F141), \"\")","v":""},null,null,null,null,null,null,null,""]
[null,null,"Polypropylene Brush",222304,"N/C",null,{"$f":"IF(F142=0,\" \",\"N/C\")","v":" "},{"$f":"IFERROR(IFERROR(VLOOKUP(D142,Surcharge!A:B,2,FALSE)*F142, VLOOKUP(D142 & \"\",Surcharge!A:B,2,FALSE)*F142), \"\")","v":""},null,null,null,null,null,null,null,"M-t600VK_CLNTOL_C700PYP"]
[null,null,"Heavy Duty Polypropylene Brush",374041,"N/C",null," ",{"$f":"IFERROR(IFERROR(VLOOKUP(D143,Surcharge!A:B,2,FALSE)*F143, VLOOKUP(D143 & \"\",Surcharge!A:B,2,FALSE)*F143), \"\")","v":""},null,null,null,null,null,null,null,"M-t600VK_CLNTOL_C700HDPYP"]
[null,null,"Nylon Brush",222305,"N/C",null," ",{"$f":"IFERROR(IFERROR(VLOOKUP(D144,Surcharge!A:B,2,FALSE)*F144, VLOOKUP(D144 & \"\",Surcharge!A:B,2,FALSE)*F144), \"\")","v":""},null,null,null,null,null,null,null,"M-t600VK_CLNTOL_C700NYL"]
[null,null,null,null,null,null,null,{"$f":"IFERROR(IFERROR(VLOOKUP(D145,Surcharge!A:B,2,FALSE)*F145, VLOOKUP(D145 & \"\",Surcharge!A:B,2,FALSE)*F145), \"\")","v":""}]
[null,null,"800mm/32\" Cylindrical Scrubbing Brushes  (2 Required)",null,null,{"$f":"SUM(F147:F149)","v":0},null,{"$f":"IFERROR(IFERROR(VLOOKUP(D146,Surcharge!A:B,2,FALSE)*F146, VLOOKUP(D146 & \"\",Surcharge!A:B,2,FALSE)*F146), \"\")","v":""}]
[null,null,"Polypropylene Brush",222307,"N/C",null,{"$f":"IF(F147=0,\" \",\"N/C\")","v":" "},{"$f":"IFERROR(IFERROR(VLOOKUP(D147,Surcharge!A:B,2,FALSE)*F147, VLOOKUP(D147 & \"\",Surcharge!A:B,2,FALSE)*F147), \"\")","v":""},null,null,null,null,null,null,null,"M-t600VK_CLNTOL_C800PYP"]
[null,null,"Heavy Duty Polypropylene Brush",374042,"N/C",null," ",{"$f":"IFERROR(IFERROR(VLOOKUP(D148,Surcharge!A:B,2,FALSE)*F148, VLOOKUP(D148 & \"\",Surcharge!A:B,2,FALSE)*F148), \"\")","v":""},null,null,null,null,null,null,null,"M-t600VK_CLNTOL_C800HDPYP"]
[null,null,"Nylon Brush",222308,"N/C",null," ",{"$f":"IFERROR(IFERROR(VLOOKUP(D149,Surcharge!A:B,2,FALSE)*F149, VLOOKUP(D149 & \"\",Surcharge!A:B,2,FALSE)*F149), \"\")","v":""},null,null,null,null,null,null,null,"M-t600VK_CLNTOL_C800NYL"]
[]
[null,"Support (Note 10)",null,"Reference Number",null,{"$f":"SUM(F152:F160)","v":0},null,{"$f":"IFERROR(IFERROR(VLOOKUP(D151,Surcharge!A:B,2,FALSE)*F151, VLOOKUP(D151 & \"\",Surcharge!A:B,2,FALSE)*F151), \"\")","v":""}]
[null,null,"Warranty",null,"N/C",null,{"$f":"IF(F152=0,\" \",\"N/C\")","v":" "},{"$f":"IFERROR(IFERROR(VLOOKUP(D152,Surcharge!A:B,2,FALSE)*F152, VLOOKUP(D152 & \"\",Surcharge!A:B,2,FALSE)*F152), \"\")","v":""},null,null,null,null,null,null,null,"M-t600VK_WTY_STD"]
[null,null,"Operator Manual - English",9016600,"N/C",null," ",{"$f":"IFERROR(IFERROR(VLOOKUP(D153,Surcharge!A:B,2,FALSE)*F153, VLOOKUP(D153 & \"\",Surcharge!A:B,2,FALSE)*F153), \"\")","v":""},null,null,null,null,null,null,null,"M-t600"]
[null,null,"Operator Manual - Spanish",9016601,"N/C",null," ",{"$f":"IFERROR(IFERROR(VLOOKUP(D154,Surcharge!A:B,2,FALSE)*F154, VLOOKUP(D154 & \"\",Surcharge!A:B,2,FALSE)*F154), \"\")","v":""},null,null,null,null,null,null,null,"M-t600"]
[null,null,"Operator Manual - French  (Note 11)",9016602,"N/C",null," ",{"$f":"IFERROR(IFERROR(VLOOKUP(D155,Surcharge!A:B,2,FALSE)*F155, VLOOKUP(D155 & \"\",Surcharge!A:B,2,FALSE)*F155), \"\")","v":""},null,null,null,null,null,null,null,"M-t600"]
[null,null,"Additional Operator Manual","SEE ABOVE",188,null,{"$f":"F156*E156","v":0},{"$f":"IFERROR(IFERROR(VLOOKUP(D156,Surcharge!A:B,2,FALSE)*F156, VLOOKUP(D156 & \"\",Surcharge!A:B,2,FALSE)*F156), \"\")","v":""},null,null,null,null,null,null,null,"M-t600VK_ADLOPRMNL"]
[null,null,"Parts Manual",9016599,76,null,0,{"$f":"IFERROR(IFERROR(VLOOKUP(D157,Surcharge!A:B,2,FALSE)*F157, VLOOKUP(D157 & \"\",Surcharge!A:B,2,FALSE)*F157), \"\")","v":""},null,null,null,null,null,null,null,"M-t600VK_PARMNL"]
[null,null,"Service Manual",9016605,188,null,0,{"$f":"IFERROR(IFERROR(VLOOKUP(D158,Surcharge!A:B,2,FALSE)*F158, VLOOKUP(D158 & \"\",Surcharge!A:B,2,FALSE)*F158), \"\")","v":""},null,null,null,null,null,null,null,"M-t600VK_SRVMNL"]
[null,null,null,null,null,null,null,{"$f":"IFERROR(IFERROR(VLOOKUP(D159,Surcharge!A:B,2,FALSE)*F159, VLOOKUP(D159 & \"\",Surcharge!A:B,2,FALSE)*F159), \"\")","v":""},null,null,null,null,null,null,null,""]
[null,null,"Packaging",null,null,{"$f":"SUM(F161)","v":0},null,{"$f":"IFERROR(IFERROR(VLOOKUP(D160,Surcharge!A:B,2,FALSE)*F160, VLOOKUP(D160 & \"\",Surcharge!A:B,2,FALSE)*F160), \"\")","v":""},null,null,null,null,null,null,null,""]
[null,null,"Skid w/Carton, Stackable",null,"N/C",null,{"$f":"IF(F161=0,\" \",\"N/C\")","v":" "},{"$f":"IFERROR(IFERROR(VLOOKUP(D161,Surcharge!A:B,2,FALSE)*F161, VLOOKUP(D161 & \"\",Surcharge!A:B,2,FALSE)*F161), \"\")","v":""},null,null,null,null,null,null,null,"M-t600VK_PKG_SSKD"]
[null,null,null,null,null,null,null,{"$f":"IFERROR(IFERROR(VLOOKUP(D162,Surcharge!A:B,2,FALSE)*F162, VLOOKUP(D162 & \"\",Surcharge!A:B,2,FALSE)*F162), \"\")","v":""}]
[]
[]
[]
[null,"Custom Solution--write in description, qty, price, and PN if applicable",null,null,null,{"$f":"SUM(F167)","v":0}]
[null,null,null,null,"Insert Prices Here",{"$f":"SUM(F168:F171)","v":0}]
[null,null,null,"Custom",null,{"$f":"IF(E168 <> \"\", 1, 0)","v":0},{"$f":"F168*E168","v":0}]
[null,null,null,"Custom",null,{"$f":"IF(E169 <> \"\", 1, 0)","v":0},{"$f":"F169*E169","v":0}]
[null,null,null,"Custom",null,{"$f":"IF(E170 <> \"\", 1, 0)","v":0},{"$f":"F170*E170","v":0}]
[null,null,null,"Custom",null,{"$f":"IF(E171 <> \"\", 1, 0)","v":0},{"$f":"F171*E171","v":0}]
[null,null,null,null,{"$f":"ROUND(SUM(G66:G171), 0)","v":0},{"$f":"SUM(E173)","v":0}]
[null,null,null,"Machine Subtotal ",{"$f":"ROUND(SUM(G66:G171), 0)","v":0},{"$f":"F172","v":0}]
[null,"Discounts",null,null,null,{"$f":"SUM(F175)","v":0}]
[null,null,null,null,null,{"$f":"SUM(F177:F180)","v":0}]
[null,null,null,"Applicable Currency Adj %",null,{"$f":"IF(E176 <> \"\", 1, 0)","v":0},{"$f":"IF(F176*(E176*0.01)*E172 < 0, F176*(E176*0.01)*E172, -(F176*(E176*0.01)*E172))","v":0}]
[null,null,null,"Discount %",null,{"$f":"IF(E177 <> \"\", 1, 0)","v":0},{"$f":"IF(F177*(E177*0.01)*(E172+G176) < 0, F177*(E177*0.01)*(E172+G176), -(F177*(E177*0.01)*(E172+G176)))","v":0}]
[null,null,null,"Discount $",null,{"$f":"IF(E178 <> \"\", 1, 0)","v":0},{"$f":"IF(F178*E178 < 0, F178*E178, -(F178*E178))","v":0}]
[null,null,null,"Discount $",null,{"$f":"IF(E179 <> \"\", 1, 0)","v":0},{"$f":"IF(F179*E179 < 0, F179*E179, -(F179*E179))","v":0}]
[null,null,null,"Discount $",null,{"$f":"IF(E180 <> \"\", 1, 0)","v":0},{"$f":"IF(F180*E180 < 0, F180*E180, -(F180*E180))","v":0}]
[null,null,null,"Discount Total ",{"$f":"SUM(G176:G180)","v":0},{"$f":"SUM(E181)","v":0}]
[null,null,null,null,null,{"$f":"#REF!","v":{"$error":"#REF!"}}]
[null,null,null,null,null,{"$f":"F182","v":{"$error":"#REF!"}}]
[null,null,"Prepaid and Add","Freight",null,{"$f":"IF(E184 <> \"\", 1, 0)","v":0},{"$f":"F184*E184","v":0}]
[null,null,"Subject to all applicable taxes","Tax",null,{"$f":"IF(E185 <> \"\", 1, 0)","v":0},{"$f":"F185*E185","v":0}]
[null,null,null,null,null,{"$f":"SUM(F187)","v":0}]
[null,null,null,"MACHINE TOTAL*",null,{"$f":"SUM(G187)","v":0},{"$f":"SUM(G66:G185)","v":0},null,null,null,"This goes to \"My Documents\""]
[null,null,null,null,null,null,{"$f":"SUM(G187)","v":0}]
[]
[]
[]
[]
[null,null,"First Western Equipment Finance - Leasing Calculation Option:","Option 1",null,"Option 2",null,null,null,{"$f":"Financing!A38","v":"Rates 2025 - Rev 2/4/2025"}]
[null,null,null,"Monthly Payment","Cost Per Day","Monthly Payment","Cost Per Day",null,null,{"$f":"Financing!A39","v":"“Blank Payment Amounts Indicate The Financing Option Or Purchase Options Selected Are Not "}]
[null,null,"Purchase Option:","FWEF:  $1 Buyout Lease",null,"FWEF: Municipal Lease",null,null,null,{"$f":"Financing!A40","v":"Applicable Or The Machine Total Is Below The Minimum Amount For The Selected Vendor”"}]
[null,null,"24 Months",false,0,false,0,null,null,{"$f":"Financing!A41","v":"\"Quoted monthly payments are estimates only and are based on a certain level of credit rating."}]
[null,null,"30 Months",false,0,false,0,null,null,{"$f":"Financing!A42","v":"Actual monthly payments may be higher depending on your credit rating.\""}]
[null,null,"36 Months",false,0,false,0,null,null,{"$f":"Financing!A43","v":"“Financing rates do not include Pre-Paid Service”"}]
[null,null,"48 Months",0,0,0,0,null,{"$f":"Financing!A44","v":0}]
[]
[null,null,null,"Benefits of Equipment Financing:"]
[null,null,null,"• Spreads out investment over time.",null,"• Keep current with latest technology."]
[null,null,null,"• Preserve capital.",null,"• Service and parts bundling available."]
[null,null,null,"• Low monthly payment.",null,"• Pay for labor savings as you go."]
[]
[null,"   TennantTrue",null,null,0,0]
[]
[null,null,"Is customer interested in service program?","Yes","*State/County selection required for TennantTrue service options"]
[]
[null,null,"If not, why?"]
[]
[null,null,"Term:",36,null,null,"AB Brushes","No"]
[null,null,"Monthly machine usage (hrs):","< 30/mo. (Avg. 1hr./day)"]
[]
[null,null,"TennantTrue: ","Gold Contract",null,"Silver Contract"]
[null,null,"Per Visit",null,null,481]
[null,null,"Monthly",141,null,83]
[null,null,"Annually",null,null,972]
[null,null,"Pre-Pay Full Term",4884,null,2858]
[null,null,"Hourly Labor Rate"]
[null,null,"Site Visit"]
[]
[null,null,"* Verify customer current pricing prior to quote. "]
[null,null,"**All rates and fees above reflect service for one (1) unit with the exception of Block of Time service."]
[null,null,"*Block of Time is available in 1 Year Term only and is priced as such no matter the term selection on this template."]
[]
[]
[]
[null,null,"Quote Special Instructions:"]
[]
[]
[null,null,{"$f":"Start_Here!E36","v":"Terms and Conditions"}]
[null,null,{"$f":"Start_Here!E37","v":"Ask your local sales rep for estimated lead times. Verify when placing order"}]
[null,null,{"$f":"Start_Here!E38","v":"All orders subject to acceptance by Tennant Sales and Service Company, Minneapolis, Minnesota"}]
[null,null,{"$f":"Start_Here!E39","v":"Prices subject to change without notice. Subject to any applicable taxes."}]
[null,null,{"$f":"Start_Here!E40","v":"Terms:  Net 30 days.  Payable in Canadian Funds"}]
[null,null,{"$f":"Start_Here!E41","v":"Freight:  Accessories, parts, supplies, detergents, and floor coatings orders delivered DDP "}]
[null,null,{"$f":"Start_Here!E42","v":"shipping point Frt PPD.  Machine orders delivered DDP shipping point Frt PPD and add."}]
[null,null,{"$f":"Start_Here!E43","v":"Returned Merchandise is subject to a restocking fee."}]
[null,null,{"$f":"Start_Here!E45","v":"Printed General Terms and Conditions are also available upon request."}]
[null,null,{"$f":"Start_Here!E46","v":0}]
[]
[]
[null,null,null,null,"Quote Date :",null,{"$f":"Letter!$A$25","v":"2014-10-02"}]
["Order Placement Information:  To place your order, fill in PO# and customer signatures,"]
["call or fax to the numbers listed below. Customer Purchase Order is required."]
["If information is missing, orders will be entered and held until all information is received."]
[null,null,"Customer Number",null,"Cust Grp 3"]
[null,null,{"$f":"Start_Here!$C$25","v":0},null,{"$f":"Start_Here!$C$29","v":0}]
[null,null,{"$f":"Start_Here!$B$18","v":"Who Owns the Machine? (Sold-To Info) (Please Verify)"}]
["Company",null,{"$f":"Start_Here!$C$19","v":"Company Name"}]
["Address",null,{"$f":"Start_Here!$C$20","v":"Address"}]
[null,null,{"$f":"Start_Here!$C$21","v":"City, State Zip"}]
["Name",null,{"$f":"Start_Here!$C$22","v":"Contact Name"}]
["Phone",null,{"$f":"Start_Here!$C$23","v":"Contact Phone"}]
[null,null,{"$f":"Start_Here!$B$11","v":"Where is the Machine Being Shipped? (Ship-To Info) (Please Verify)"}]
["Company",null,{"$f":"Start_Here!$C$12","v":"Company Name"}]
["Address",null,{"$f":"Start_Here!$C$13","v":"Address"}]
[null,null,{"$f":"Start_Here!$C$14","v":"City, State Zip"}]
["Name",null,{"$f":"Start_Here!$C$15","v":"Contact Name"}]
["Phone",null,{"$f":"Start_Here!$C$16","v":"Contact Phone"}]
[null,null,{"$f":"Start_Here!$B$31","v":"Shipping / Carrier Instructions:"},null,"Order Special Instructions:"]
[null,null,{"$f":"Start_Here!$C$32","v":0}]
[]
[null,null,"Customer Purchase Order No."]
[null,null,"(please attach copy)"]
[]
[]
[null,null,"Tax Exempt",null,"Yes"]
[null,null,null,null,"No"]
[null,null,"If Yes, attach a copy of your exemption certificate."]
[]
[null,null,"Requested Delivery Date"]
[null,null,{"$f":"Start_Here!$C$28","v":0}]
[]
[null,null,{"$f":"Start_Here!$C$26","v":0},null,{"$f":"Start_Here!$C$27","v":0}]
[null,null,"Authorized Buyer (please print)",null,"Phone Number"]
[]
[]
[null,null,"Authorized Buyer Signature"]
[]
[null,null,{"$f":"Start_Here!$C$41","v":"Rep Name"}]
[null,null,"Tennant Representative"]
[]
["Specialized Maintenance Equipment"]
[{"$f":"Start_Here!$C$48","v":"TENNANT · 10400 Clean Street · Eden Prairie, MN 55344 ·"}]
[{"$f":"Start_Here!$C$49","v":" PHONE:800-553-8033 · FAX:763-513-2116"}]
[]
[null,"SPECIAL INFORMATION"]
[]
[null,"Notes"]
[]
[null,1,"Severe Environment Switch is only available on units equipped with ec-H2O NanoClean cleaning Technology."]
[]
[null,2,"Severe Environment™ Switch Lockout is only available with ec-H2O NanoClean AND the Severe Environment Switch."]
[]
[null,3,"Narrow Aisle Squeegee is not available on 700mm/28\" units."]
[]
[null,4,"In order to obtain the IRIS Battery Metrics, one of the listed Tennant supplied batteries is required."]
[]
[null,5,"The Sealed/MF Fast Charge 210AH (TPPL) battery requires the 33A 100-240V AC 50/60Hz 1Ph on-board charger."]
[]
[null,6,"Battery Watering is not available with Sealed/MF Fast Charge Battery."]
[null,null,"Smart-Fill Automatic Battery Watering only available with on-board charger."]
[]
[null,7,"The 25A 100-240V AC 50/60Hz 1Ph On-Board Charger is required to receive IRIS Battery Metrics."]
[]
[null,8,"UL Type E is not available with Heavy Duty Down Pressure, 900mm/36\" units, ec-H2O NanoClean, and Smart-Fil."]
[]
[null,9,"One set of brushes or pad drivers come standard with Disk or Cylindrical units. "]
[]
[null,10,"Additional hard copy Operator and Parts Manuals can be ordered or digital copies can be downloaded from www.Tennantco.com."]
[]
[null,11,"A French and English manual will be supplied for all units shipping into Quebec, Canada at no charge.  An additional manual"]
[null,null,"can be ordered (for a total of 3 manuals) for an additional charge as stated under 'Additional Operator Manual'."]
[]
[null,"IRIS","Pre-Paid and Monthly Packages are available for the IRIS Information Service."]
[null,null,"IRIS Module is required and NOT included in the price of the IRIS Information Service:"]
[null,null,"3 Year Pre-Paid IRIS Information Service",350]
[null,null,"5 Year Pre-Paid IRIS Information Service",560]
[null,null,"A monthly contract can be set up at $16 per month w/ 12 month minimum commitment."]
[null,null,"IRIS Telemetry Module only covers the price of the hardware. "]
[null,null,"IRIS Telemetry requires an IRIS Telemetry Module and an IRIS Information Service Package."]
[null,null,"An On-Board Charger and a compatible Tennant supplied battery is required to receive IRIS Battery Manager."]
[null,null,"IRIS Battery Metrics are not guaranteed with third party supplied batteries."]
[]
[null,12,"Shipping Weights and Dimensions"]
[]
[null,null,"700 mm / 28\" Disk"]
[null,null,"Weight",null,"733 lbs / 333 Kg"]
[null,null,"Length",null,"75\" / 1905 mm"]
[null,null,"Width",null,"45\" / 1143 mm"]
[null,null,"Height",null,"52\" / 1321 mm"]
[]
[null,null,"800 mm / 32\" Disk"]
[null,null,"Weight",null,"736 lbs / 334 Kg"]
[null,null,"Length",null,"75\" / 1905 mm"]
[null,null,"Width",null,"45\" / 1143 mm"]
[null,null,"Height",null,"52\" / 1321 mm"]
[]
[null,null,"900 mm / 36\" Disk"]
[null,null,"Weight",null,"740 lbs / 336 Kg"]
[null,null,"Length",null,"75\" / 1905 mm"]
[null,null,"Width",null,"45\" / 1143 mm"]
[null,null,"Height",null,"52\" / 1321 mm"]
[]
[null,null,"700 mm / 28\" Cylindrical"]
[null,null,"Weight",null,"749 lbs / 340 Kg"]
[null,null,"Length",null,"75\" / 1905 mm"]
[null,null,"Width",null,"45\" / 1143 mm"]
[null,null,"Height",null,"52\" / 1321 mm"]
[]
[null,null,"800 mm / 32\" Cylindrical"]
[null,null,"Weight",null,"752 lbs / 341 Kg"]
[null,null,"Length",null,"75\" / 1905 mm"]
[null,null,"Width",null,"45\" / 1143 mm"]
[null,null,"Height",null,"52\" / 1321 mm"]
[]
[]
[]
[null,"15","CURRENT DETERGENT PRODUCT",null,null,null,"NEW DETERGENT PRODUCT"]
[null,null,"Original PN ","Description","Size",null,"New PN ","Description","Size"]
[null,null,"9000755  08682-5","653 & 654 ","5 Gallon",null,9006764,"General Purpose Cleaner","2 -2.5G "]
[null,null,"9000824  08682-15","653 & 654","15 Gallon",null,9006765,"General Purpose Cleaner","15 Gallon"]
[null,null,"9000757  08682-55","653 & 654","55 Gallon",null,9006767,"General Purpose Cleaner","55 Gallon"]
[null,null,"9000758  9000404","653 & 654","275 Gallon",null,9006769,"General Purpose Cleaner","275 Gallon"]
[]
[null,null,"08683-5  08678-5","655 & 658 ","5 Gallon",null,9006776,"High Alkaline Degreaser","2 -2.5G "]
[null,null,"08683-15  08678-15","655 & 658","15 Gallon",null,9006777,"High Alkaline Degreaser","15 Gallon"]
[null,null,"08683-55  08678-55","655 & 658","55 Gallon",null,9006779,"High Alkaline Degreaser","55 Gallon"]
[null,null,"9000405  9000407","655 & 658","275 Gallon",null,9006781,"High Alkaline Degreaser","275 Gallon"]
[]
[null,null,"08690-1  08690-5  08684-5","9960 & 698","5 Gallon",null,9006770,"Solvent Based Degreaser","2 -2.5G "]
[null,null,"08690-55   08684-55","9960 & 698","55 Gallon",null,9006773,"Solvent Based Degreaser","55 Gallon"]
[]
[null,null,"08584-4",601,"22Lb. Carton",null,9006782,"High Alkaline Granular","22Lb. Carton"]
[null,null,"08584-2",601,"250Lb. Drum",null,9006783,"High Alkaline Granular","250Lb. Drum"]

{"sheet":"MPF SAP Download Canada","index":34,"n_rows":2470,"n_cols":7,"rows_kept":2470,"cut":false,"hidden":true,"merged":[]}
["Master Price File Canada (Canadian MPF) - Products with Variant Numbers (VKs)"]
[]
["Download Date:","11/02/2022"]
["Price Adj Effective Date:","2023-01-01"]
["Table name =","MPF_Table_Canada"]
[]
["Material + Variant Lookup Key","Material","Variant","2023 Amount","Description","Unit","Product hierarchy"]
[{"$f":"B8&C8","v":"M-3640VK_CHG_19A100V5060H1"},"M-3640","VK_CHG_19A100V5060H1",240,"Ch19A 100V 5060H1P","CAD","302406"]
[{"$f":"B9&C9","v":"M-3640VK_HPRDMPAST"},"M-3640","VK_HPRDMPAST",272,"Hopper Dump Assist","CAD","302406"]
["M-3640VK_BASE_3640-BTY","M-3640","VK_BASE_3640-BTY",22803,"3640-E","CAD","302406"]
["M-3640VK_BTY_W225C20","M-3640","VK_BTY_W225C20",665,"Bty Wet 225AH C20","CAD","302406"]
["M-3640VK_SDEBRSLOC_D","M-3640","VK_SDEBRSLOC_D",1230,"Side Brush: Dual","CAD","302406"]
["M-3640VK_UL TYPE E","M-3640","VK_UL TYPE E","N/C","UL® Type E","CAD","302406"]
["M-3640VK_PWRVACWND_WO","M-3640","VK_PWRVACWND_WO","N/C","Pump w/o WandPump","CAD","302406"]
["M-3640VK_PKG_SSKD_USCAMX","M-3640","VK_PKG_SSKD_USCAMX","N/C","Skid-Cart,Stack","CAD","302406"]
["M-3640VK_UL TYPE EE","M-3640","VK_UL TYPE EE",3708,"UL® Type EE","CAD","302406"]
["M-3640VK_CHG_WO","M-3640","VK_CHG_WO",-194,"Without Charger","CAD","302406"]
["M-3640VK_ULERTG_E","M-3640","VK_ULERTG_E","N/C","UL® Type E","CAD","302406"]
["M-3640VK_NONMKTTRE_WTP","M-3640","VK_NONMKTTRE_WTP",883,"Trs,WideTrackPneum.","CAD","302406"]
["M-3640VK_BTY_WO","M-3640","VK_BTY_WO",-367,"Without Battery","CAD","302406"]
["M-3640VK_PARMNL","M-3640","VK_PARMNL",29,"Parts Manual","CAD","302406"]
["M-3640VK_DSTCTLFLR_PFB","M-3640","VK_DSTCTLFLR_PFB",-784,"Paper Filter Bag","CAD","302406"]
["M-3640VK_CLNTOL_PYPW","M-3640","VK_CLNTOL_PYPW","N/C","Poly & Wire Brush","CAD","302406"]
["M-3640VK_CHG_11A100V5060H1","M-3640","VK_CHG_11A100V5060H1","N/C","Ch11A 100V 5060H1P","CAD","302406"]
["M-3640VK_CARCLNEQUPKG_SRT","M-3640","VK_CARCLNEQUPKG_SRT",847,"Carp Clean Eqp Std","CAD","302406"]
["M-3640VK_CARCLNEQUPKG_ERT","M-3640","VK_CARCLNEQUPKG_ERT",847,"Carp Clean Eqp Ext","CAD","302406"]
["M-3640VK_BTY_W130C20","M-3640","VK_BTY_W130C20","N/C","Bty Wet 130AH C20","CAD","302406"]
["M-3640VK_BTYWTRSYS","M-3640","VK_BTYWTRSYS",825,"Battery Watering Sys","CAD","302406"]
["M-3640VK_ADLOPRMNL","M-3640","VK_ADLOPRMNL",130,"Add Operator Manual","CAD","302406"]
["M-3640VK_ULERTG_EE","M-3640","VK_ULERTG_EE",3708,"UL® Type EE","CAD","302406"]
["M-3640VK_SRVMNL","M-3640","VK_SRVMNL",298,"Service Manual","CAD","302406"]
["M-3640VK_SDECLNTOL_PYP","M-3640","VK_SDECLNTOL_PYP","N/C","Side Poly Brush","CAD","302406"]
["M-3640VK_SDEBRSLOC_RH","M-3640","VK_SDEBRSLOC_RH","N/C","Side Brush: RH","CAD","302406"]
["M-3640VK_PWRVACWND_LW","M-3640","VK_PWRVACWND_LW","N/C","Live Wand","CAD","302406"]
["M-3640VK_PWRVACWND_AWK","M-3640","VK_PWRVACWND_AWK",432,"Accessory Wand Kit","CAD","302406"]
["M-3640VK_PKG_WSKD","M-3640","VK_PKG_WSKD","N/C","Skid w/Stretch Wrap","CAD","302406"]
["M-3640VK_NONMKTTRE_BSR","M-3640","VK_NONMKTTRE_BSR","N/C","Tire Blk Sld Rubber","CAD","302406"]
["M-3640VK_HEPFLR","M-3640","VK_HEPFLR",9439,"HEPA Filter","CAD","302406"]
["M-3640VK_EMYSTP","M-3640","VK_EMYSTP",451,"Emergency Stop","CAD","302406"]
["M-3640VK_DSTCTLFLR_PFLR","M-3640","VK_DSTCTLFLR_PFLR","N/C","Panel Filter Kit","CAD","302406"]
["M-3640VK_CLNTOL_UMB","M-3640","VK_CLNTOL_UMB","N/C","Union Mix Brush","CAD","302406"]
["M-3640VK_CLNTOL_SWB","M-3640","VK_CLNTOL_SWB","N/C","Sand Wedge Brush","CAD","302406"]
["M-3640VK_CLNTOL_PYP","M-3640","VK_CLNTOL_PYP","N/C","Poly Brush","CAD","302406"]
["M-S10VK_CLNTOL_FBWB18","M-S10","VK_CLNTOL_FBWB18",423,"Fiber & Wire, 18-row","CAD","302601"]
["M-S10VK_CLNTOL_UMB18","M-S10","VK_CLNTOL_UMB18",365,"Union Mix, 18-row","CAD","302601"]
["M-S10VK_BASE_S10-BTY_STD","M-S10","VK_BASE_S10-BTY_STD",20305,"S10 Bty Sweeper - STD","CAD","302601"]
["M-S10VK_PKG_PAD","M-S10","VK_PKG_PAD","N/C","Pad Wrap","CAD","302601"]
["M-S10VK_S10-B","M-S10","VK_S10-B",20305,"S10 Battery Swpr","CAD","302601"]
["M-S10VK_BTY_W110C5","M-S10","VK_BTY_W110C5","N/C","Bty Wet 110AH C5","CAD","302601"]
["M-S10VK_FLRSYS_HEPA","M-S10","VK_FLRSYS_HEPA",6678,"HEPA Filter System","CAD","302601"]
["M-S10VK_SDECLNTOL_NYL","M-S10","VK_SDECLNTOL_NYL","N/C","Side Nylon Brush","CAD","302601"]
["M-S10VK_SRVMNL","M-S10","VK_SRVMNL",342,"Service Manual","CAD","302601"]
["M-S10VK_BASE_S10-BTY","M-S10","VK_BASE_S10-BTY",20305,"S10 BTY","CAD","302601"]
["M-S10VK_ADLOPRMNL","M-S10","VK_ADLOPRMNL",79,"Add Operator Manual","CAD","302601"]
["M-S10VK_SDECLNTOL_PYP","M-S10","VK_SDECLNTOL_PYP","N/C","Side Poly Brush","CAD","302601"]
["M-S10VK_PKG_SSKD","M-S10","VK_PKG_SSKD","N/C","Stack Skid/Carton","CAD","302601"]
["M-S10VK_OPRVID","M-S10","VK_OPRVID","N/C","Operator Video","CAD","302601"]
["M-S10VK_CLNTOL_UMB","M-S10","VK_CLNTOL_UMB",284,"Union Mix Brush","CAD","302601"]
["M-S10VK_CLNTOL_PYP","M-S10","VK_CLNTOL_PYP","N/C","Poly Brush","CAD","302601"]
["M-S10VK_CLNTOL_NYL","M-S10","VK_CLNTOL_NYL",305,"Nylon Brush","CAD","302601"]
["M-S10VK_CLNTOL_FBWB","M-S10","VK_CLNTOL_FBWB","N/C","Fiber & Wire Brush","CAD","302601"]
["M-6100VK_BLULGT","M-6100","VK_BLULGT",1434,"Blue Light","CAD","303050"]
["M-6100VK_PKG_SKD_NO_CHG","M-6100","VK_PKG_SKD_NO_CHG","N/C","Skid","CAD","303050"]
["M-6100VK_PKG_CRT_NO_CHG","M-6100","VK_PKG_CRT_NO_CHG","N/C","Crate No Charge","CAD","303050"]
["M-6100VK_PKG_PAD","M-6100","VK_PKG_PAD","N/C","Pad Wrap","CAD","303050"]
["M-6100VK_BASE_6100-B_STD","M-6100","VK_BASE_6100-B_STD",30732,"6100 Bty Standard Config","CAD","303050"]
["M-6100VK_21A85V5060H1P_G180_ON","M-6100","VK_21A85V5060H1P_G180_ON",2482,"Ch21A 85V 5060H1P","CAD","303050"]
["M-6100VK_CHG_WO","M-6100","VK_CHG_WO",-450,"Without Charger","CAD","303050"]
["M-6100VK_BTYWTRSYS","M-6100","VK_BTYWTRSYS",1074,"Battery Watering Sys","CAD","303050"]
["M-6100VK_CSMSLN_CC","M-6100","VK_CSMSLN_CC",5600,"Custom Color","CAD","303050"]
["M-6100VK_SET_ADJFB","M-6100","VK_SET_ADJFB",216,"Adjustable Seat","CAD","303050"]
["M-6100VK_STLCSENOTBTY_Y","M-6100","VK_STLCSENOTBTY_Y",641,"Steel Case","CAD","303050"]
[{"$f":"B73&C73","v":"M-6100VK_FREEXT"},"M-6100","VK_FREEXT",298,"Fire Extinguisher","CAD","303050"]
["M-6100VK_CHG_21A85V5060H1_ONBD","M-6100","VK_CHG_21A85V5060H1_ONBD",2803,"Ch21A 85V 5060H1P","CAD","303050"]
["M-6100VK_CSMSBTPARKIT","M-6100","VK_CSMSBTPARKIT",8109,"Sunbelt -Parts Kit","CAD","303050"]
["M-6100VK_SLADSTFLTPKG_RH","M-6100","VK_SLADSTFLTPKG_RH",9896,"HEPA Dust Filter Pkg: RH","CAD","303050"]
["M-6100VK_SLADSTFLTPKG_D","M-6100","VK_SLADSTFLTPKG_D",10736,"HEPA Dust Filter Pkg: Dual","CAD","303050"]
["M-6100VK_SDEBRSLOC_D_NC","M-6100","VK_SDEBRSLOC_D_NC","N/C","Side Brush: Dual","CAD","303050"]
["M-6100VK_SDEBRSDSTCTL_D_RH_NC","M-6100","VK_SDEBRSDSTCTL_D_RH_NC","N/C","SideBrshDustCntrl Dry RH","CAD","303050"]
["M-6100VK_SDEBRSDSTCTL_D_RH","M-6100","VK_SDEBRSDSTCTL_D_RH",1585,"SideBrshDustCntrl Dry RH","CAD","303050"]
["M-6100VK_SDEBRSDSTCTL_D_D_NC","M-6100","VK_SDEBRSDSTCTL_D_D_NC","N/C","SideBrshDustCntrl Dry D","CAD","303050"]
["M-6100VK_SDEBRSDSTCTL_D_D","M-6100","VK_SDEBRSDSTCTL_D_D",2424,"SideBrshDustCntrl Dry D","CAD","303050"]
["M-6100VK_PWRVACWND_VACWND_ON","M-6100","VK_PWRVACWND_VACWND_ON",6377,"Vacuum Wand","CAD","303050"]
["M-6100VK_PWRVACWND_VACWNDHP_ON","M-6100","VK_PWRVACWND_VACWNDHP_ON",6777,"Vacuum Wand HP","CAD","303050"]
["M-6100VK_FLRSYS_HEPA_NC","M-6100","VK_FLRSYS_HEPA_NC","N/C","HEPA Filter System","CAD","303050"]
["M-6100VK_FLRSYS_HEPA","M-6100","VK_FLRSYS_HEPA",8318,"HEPA Filter System","CAD","303050"]
["M-6100VK_21A85V5060H1P_W225_ON","M-6100","VK_21A85V5060H1P_W225_ON",2803,"Ch21A 85V 5060H1P","CAD","303050"]
["M-6100VK_MCHCOM","M-6100","VK_MCHCOM",1916,"IRIS Telemetry","CAD","303050"]
["M-6100VK_STLCSENOTBTY","M-6100","VK_STLCSENOTBTY",641,"Steel Case","CAD","303050"]
["M-6100VK_PKG_CRT_NC","M-6100","VK_PKG_CRT_NC","N/C","Crate","CAD","303050"]
["M-6100VK_PARMNL","M-6100","VK_PARMNL",32,"Parts Manual","CAD","303050"]
["M-6100VK_BASE_6100-BTY","M-6100","VK_BASE_6100-BTY",30732,"6100 Battery Sweeper","CAD","303050"]
["M-6100VK_21A85V5060H1P","M-6100","VK_21A85V5060H1P","N/C","Ch21A 85V 5060H1P","CAD","303050"]
["M-6100VK_OPRVID","M-6100","VK_OPRVID","N/C","Operator Video","CAD","303050"]
["M-6100VK_SDECLNTOL_HDPYP","M-6100","VK_SDECLNTOL_HDPYP","N/C","Side HD Poly Brush","CAD","303050"]
["M-6100VK_ALTSTBFLSLNS_R","M-6100","VK_ALTSTBFLSLNS_R","N/C","Alternate Lens-Red","CAD","303050"]
["M-6100VK_BTY_W225C20","M-6100","VK_BTY_W225C20","N/C","Bty Wet 225AH C20","CAD","303050"]
["M-6100VK_SRVMNL","M-6100","VK_SRVMNL",343,"Service Manual","CAD","303050"]
["M-6100VK_WTY_STD","M-6100","VK_WTY_STD","N/C","Warranty STD","CAD","303050"]
["M-6100VK_CLNTOL_UMB","M-6100","VK_CLNTOL_UMB",374,"Union Mix Brush","CAD","303050"]
["M-6100VK_CLNTOL_PYPWIN","M-6100","VK_CLNTOL_PYPWIN","N/C","Poly Window Brush","CAD","303050"]
["M-6100VK_CLNTOL_PYP","M-6100","VK_CLNTOL_PYP","N/C","Poly Brush","CAD","303050"]
["M-6100VK_ALTSTBFLSLNS_B","M-6100","VK_ALTSTBFLSLNS_B","N/C","Alternate Lens-Blue","CAD","303050"]
["M-6100VK_RERTRE_SR","M-6100","VK_RERTRE_SR","N/C","Trs Rear Solid Rbr","CAD","303050"]
["M-6100VK_BTYCRT_1","M-6100","VK_BTYCRT_1",3314,"Battery Cart","CAD","303050"]
["M-6100VK_BTY_WO","M-6100","VK_BTY_WO",-695,"Without Battery","CAD","303050"]
["M-6100VK_BTY_G180C20","M-6100","VK_BTY_G180C20",3601,"Bty Gel 180AH C20","CAD","303050"]
["M-6100VK_PKG_SKD","M-6100","VK_PKG_SKD","N/C","Skid","CAD","303050"]
["M-6100VK_SDECLNTOL_PYP","M-6100","VK_SDECLNTOL_PYP","N/C","Side Poly Brush","CAD","303050"]
["M-6100VK_SETBLT","M-6100","VK_SETBLT",220,"Seat Belt","CAD","303050"]
["M-6100VK_MOPTYP_NWM","M-6100","VK_MOPTYP_NWM","N/C","White Mop","CAD","303050"]
["M-6100VK_ADLOPRMNL","M-6100","VK_ADLOPRMNL",264,"Add Operator Manual","CAD","303050"]
["M-6100VK_WTY_XTD","M-6100","VK_WTY_XTD",3064,"Warranty Plus","CAD","303050"]
["M-6100VK_MOPTYP_BM","M-6100","VK_MOPTYP_BM","N/C","Blue Mop","CAD","303050"]
["M-6100VK_21A85V5060H1P_G180","M-6100","VK_21A85V5060H1P_G180",610,"Ch21A 85V 5060H1P","CAD","303050"]
["M-6100VK_PWRVACWND_VACWNDHP","M-6100","VK_PWRVACWND_VACWNDHP",2967,"Vacuum Wand HP","CAD","303050"]
["M-6100VK_BTYEXCSYS_RO","M-6100","VK_BTYEXCSYS_RO",1390,"Bty Rollout Sys.","CAD","303050"]
["M-6100VK_PKG_CRT","M-6100","VK_PKG_CRT","N/C","Crate","CAD","303050"]
["M-6100VK_UPG","M-6100","VK_UPG","N/C","UPG","CAD","303050"]
["M-6100VK_CLNTOL_SWB","M-6100","VK_CLNTOL_SWB",374,"Sand Wedge Brush","CAD","303050"]
["M-6100VK_PWRVACWND_VACWND","M-6100","VK_PWRVACWND_VACWND",2564,"Vacuum Wand","CAD","303050"]
["M-6100VK_MOP","M-6100","VK_MOP",3115,"QuickMop","CAD","303050"]
["M-6100VK_SDEBRSLOC_RH","M-6100","VK_SDEBRSLOC_RH","N/C","Side Brush: RH","CAD","303050"]
["M-6100VK_SDEBRSLOC_D","M-6100","VK_SDEBRSLOC_D",1519,"Side Brush: Dual","CAD","303050"]
["M-6100VK_BTYCRT_2","M-6100","VK_BTYCRT_2",6462,"Battery Cart 2","CAD","303050"]
["M-6100VK_ADLBTY_1","M-6100","VK_ADLBTY_1",2301,"Add. Bty","CAD","303050"]
["M-6100VK_WRKLGT","M-6100","VK_WRKLGT",550,"Work Light","CAD","303050"]
["M-6100VK_WRNLGTANDALM_AU","M-6100","VK_WRNLGTANDALM_AU",730,"Audio BU Alarm","CAD","303050"]
["M-6100VK_WRNLGTANDALM_AUSL","M-6100","VK_WRNLGTANDALM_AUSL",1004,"AV BU AlrmStrobe Lnl","CAD","303050"]
["M-6100VK_WRNLGTANDALM_SL","M-6100","VK_WRNLGTANDALM_SL",720,"Strobe Light Lintel","CAD","303050"]
["M-6100VK_RERTRE_SNM","M-6100","VK_RERTRE_SNM",470,"Trs Rear Solid NM","CAD","303050"]
["M-6100VK_SDEBMP","M-6100","VK_SDEBMP",284,"Side Bumper","CAD","303050"]
["M-S16HVK_SET_DLXW","M-S16H","VK_SET_DLXW",794,"Deluxe Seat w/Armr.","CAD","304007"]
["M-S16HVK_BTY_L36V4M","M-S16H","VK_BTY_L36V4M",21396,"Bty Li-Ion 36v, 8.2kWh","CAD","304007"]
["M-S16HVK_BTY_W360C20","M-S16H","VK_BTY_W360C20",1510,"Bty Wet 360AH C20","CAD","304007"]
["M-S16HVK_SDEBRSDSTCTL_D_D","M-S16H","VK_SDEBRSDSTCTL_D_D",2362,"SideBrshDustCntrl Dry D","CAD","304007"]
[{"$f":"B137&C137","v":"M-S16HVK_BTY_L36V2M"},"M-S16H","VK_BTY_L36V2M",10772,"Bty Li-Ion 36v, 4.1kWh","CAD","304007"]
["M-S16HVK_SRVMNL","M-S16H","VK_SRVMNL",340,"Service Manual","CAD","304007"]
["M-S16HVK_CLNTOL_NFB","M-S16H","VK_CLNTOL_NFB",318,"Natural Fiber Brush","CAD","304007"]
["M-S16HVK_BLULGT_NC","M-S16H","VK_BLULGT_NC","N/C","Blue Light","CAD","304007"]
["M-S16HVK_CHG_25A100V5060H1OFF","M-S16H","VK_CHG_25A100V5060H1OFF","N/C","Ch25A 100V 50/60Hz 1Ph Off","CAD","304007"]
["M-S16HVK_BLULGT","M-S16H","VK_BLULGT",1433,"Blue Light","CAD","304007"]
["M-S16HVK_SDEBRSLOC_D","M-S16H","VK_SDEBRSLOC_D",1519,"Side Brush: Dual","CAD","304007"]
["M-S16HVK_CLNTOL_PYPW","M-S16H","VK_CLNTOL_PYPW","N/C","Poly & Wire Brush","CAD","304007"]
["M-S16HVK_BTY_W240C20","M-S16H","VK_BTY_W240C20","N/C","Bty Wet 240AH C20","CAD","304007"]
["M-S16HVK_WRNLGTANDALM_AUSL","M-S16H","VK_WRNLGTANDALM_AUSL",934,"AV BU AlrmStrobe Lnl","CAD","304007"]
["M-S16HVK_ADLOPRMNL","M-S16H","VK_ADLOPRMNL",264,"Add Operator Manual","CAD","304007"]
["M-S16HVK_CHG_33A100V5060H1POFF","M-S16H","VK_CHG_33A100V5060H1POFF",342,"Ch33A 100V 50/60Hz 1Ph Off","CAD","304007"]
["M-S16HVK_BTYWTRSYS_ML","M-S16H","VK_BTYWTRSYS_ML",1042,"Battery Watering Manual","CAD","304007"]
["M-S16HVK_SFYLGTPKG","M-S16H","VK_SFYLGTPKG",3037,"Safety Light Package","CAD","304007"]
["M-S16HVK_CHG_33A100V5060H1PFLI","M-S16H","VK_CHG_33A100V5060H1PFLI",1490,"Ch33A 100V 50/60Hz 1Ph Off","CAD","304007"]
["M-S16HVK_SLADSTFLTPKG_RH","M-S16H","VK_SLADSTFLTPKG_RH",10259,"HEPA Dust Filter Pkg: RH","CAD","304007"]
["M-S16HVK_MCHCOM_SBT","M-S16H","VK_MCHCOM_SBT",1916,"IRIS Telemetry","CAD","304007"]
["M-S16HVK_BASE_S16H_STD","M-S16H","VK_BASE_S16H_STD",53207,"S16 High Dump - STD","CAD","304007"]
["M-S16HVK_CLNTOL_PYP","M-S16H","VK_CLNTOL_PYP","N/C","Poly Brush","CAD","304007"]
["M-S16HVK_CHG_WO","M-S16H","VK_CHG_WO",-279,"Without Charger","CAD","304007"]
["M-S16HVK_CHG_33A100V5060H1PON","M-S16H","VK_CHG_33A100V5060H1PON",1490,"Ch33A 100V 50/60Hz 1Ph On","CAD","304007"]
["M-S16HVK_CHG_25A100V5060H1ON","M-S16H","VK_CHG_25A100V5060H1ON",1152,"Ch25A 100V 50/60Hz 1Ph On","CAD","304007"]
["M-S16HVK_CARCREPKG","M-S16H","VK_CARCREPKG",901,"Carpet Care Pkg","CAD","304007"]
["M-S16HVK_BTY_WO","M-S16H","VK_BTY_WO",-693,"Without Battery","CAD","304007"]
["M-S16HVK_BTY_L36V6M","M-S16H","VK_BTY_L36V6M",29680,"Bty Li-Ion 36v, 12.2kWh","CAD","304007"]
["M-S16HVK_BTYWTRSYS_SF","M-S16H","VK_BTYWTRSYS_SF",1603,"Smart Fill","CAD","304007"]
["M-S16HVK_BASE_S16H","M-S16H","VK_BASE_S16H",53207,"Sweeper S16 High Dump","CAD","304007"]
["M-S16HVK_ULERTG_ES","M-S16H","VK_ULERTG_ES",3994,"UL® Type ES","CAD","304007"]
["M-S16HVK_SLADSTFLTPKG_D","M-S16H","VK_SLADSTFLTPKG_D",11069,"HEPA Dust Filter Pkg: Dual","CAD","304007"]
["M-S16HVK_SDECLNTOL_PYP","M-S16H","VK_SDECLNTOL_PYP","N/C","Side Poly Brush","CAD","304007"]
["M-S16HVK_SDEBRSDSTCTL_D_RH","M-S16H","VK_SDEBRSDSTCTL_D_RH",1551,"SideBrshDustCntrl Dry RH","CAD","304007"]
["M-S16HVK_PWRVACWND_VACWND","M-S16H","VK_PWRVACWND_VACWND",2564,"Vacuum Wand","CAD","304007"]
["M-S16HVK_PRDPKG","M-S16H","VK_PRDPKG",3874,"Productivity Package","CAD","304007"]
["M-S16HVK_PKG_SKD","M-S16H","VK_PKG_SKD",645,"Skid","CAD","304007"]
["M-S16HVK_PKG_SCNS","M-S16H","VK_PKG_SCNS","N/C","NonStack Skid/Carton","CAD","304007"]
["M-S16HVK_OVHGRD","M-S16H","VK_OVHGRD",2288,"Overhead Guard","CAD","304007"]
["M-S16HVK_MCHCOM","M-S16H","VK_MCHCOM",1916,"IRIS Telemetry","CAD","304007"]
["M-S16HVK_HLTANDTALLGT","M-S16H","VK_HLTANDTALLGT",834,"Headlghts/Tail Lghts","CAD","304007"]
["M-S16HVK_FREEXT","M-S16H","VK_FREEXT",475,"Fire Extinguisher","CAD","304007"]
["M-S16HVK_FLRSYS_HEPA","M-S16H","VK_FLRSYS_HEPA",8709,"HEPA Filter System","CAD","304007"]
["M-S16HVK_CLNTOL_SWB","M-S16H","VK_CLNTOL_SWB",318,"Sand Wedge Brush","CAD","304007"]
["M-S16HVK_CLNTOL_PYPWIN","M-S16H","VK_CLNTOL_PYPWIN",318,"Poly Window Brush","CAD","304007"]
["M-S16LVK_CLNTOL_PYP","M-S16L","VK_CLNTOL_PYP","N/C","Poly Brush","CAD","304008"]
["M-S16LVK_CHG_25A100V5060H1ON","M-S16L","VK_CHG_25A100V5060H1ON",1152,"Ch25A 100V 50/60Hz 1Ph On","CAD","304008"]
["M-S16LVK_BTYWTRSYS_SF","M-S16L","VK_BTYWTRSYS_SF",1603,"Smart Fill","CAD","304008"]
["M-S16LVK_OVHGRD","M-S16L","VK_OVHGRD",2288,"Overhead Guard","CAD","304008"]
["M-S16LVK_CHG_33A100V5060H1PON","M-S16L","VK_CHG_33A100V5060H1PON",1490,"Ch33A 100V 50/60Hz 1Ph On","CAD","304008"]
["M-S16LVK_BTY_W240C20","M-S16L","VK_BTY_W240C20","N/C","Bty Wet 240AH C20","CAD","304008"]
["M-S16LVK_BASE_S16L","M-S16L","VK_BASE_S16L",42637,"Sweeper S16 Low Dump","CAD","304008"]
["M-S16LVK_CLNTOL_PYPWIN","M-S16L","VK_CLNTOL_PYPWIN",318,"Poly Window Brush","CAD","304008"]
["M-S16LVK_CHG_33A100V5060H1PFLI","M-S16L","VK_CHG_33A100V5060H1PFLI",1490,"Ch33A 100V 50/60Hz 1Ph Off","CAD","304008"]
["M-S16LVK_FLRSYS_HEPA","M-S16L","VK_FLRSYS_HEPA",8709,"HEPA Filter System","CAD","304008"]
["M-S16LVK_CLNTOL_SWB","M-S16L","VK_CLNTOL_SWB",318,"Sand Wedge Brush","CAD","304008"]
["M-S16LVK_BTY_L36V6M","M-S16L","VK_BTY_L36V6M",29680,"Bty Li-Ion 36v, 12.2kWh","CAD","304008"]
["M-S16LVK_PKG_SKD","M-S16L","VK_PKG_SKD",645,"Skid","CAD","304008"]
["M-S16LVK_BLULGT","M-S16L","VK_BLULGT",1433,"Blue Light","CAD","304008"]
["M-S16LVK_PWRVACWND_VACWND","M-S16L","VK_PWRVACWND_VACWND",2564,"Vacuum Wand","CAD","304008"]
["M-S16LVK_BTY_W360C20","M-S16L","VK_BTY_W360C20",1510,"Bty Wet 360AH C20","CAD","304008"]
["M-S16LVK_MCHCOM","M-S16L","VK_MCHCOM",1916,"IRIS Telemetry","CAD","304008"]
["M-S16LVK_PKG_SCNS","M-S16L","VK_PKG_SCNS","N/C","NonStack Skid/Carton","CAD","304008"]
["M-S16LVK_CARCREPKG","M-S16L","VK_CARCREPKG",901,"Carpet Care Pkg","CAD","304008"]
["M-S16LVK_CHG_33A100V5060H1POFF","M-S16L","VK_CHG_33A100V5060H1POFF",342,"Ch33A 100V 50/60Hz 1Ph Off","CAD","304008"]
["M-S16LVK_BTY_L36V2M","M-S16L","VK_BTY_L36V2M",10772,"Bty Li-Ion 36v, 4.1kWh","CAD","304008"]
["M-S16LVK_HLTANDTALLGT","M-S16L","VK_HLTANDTALLGT",834,"Headlghts/Tail Lghts","CAD","304008"]
[{"$f":"B201&C201","v":"M-S16LVK_ADLOPRMNL"},"M-S16L","VK_ADLOPRMNL",264,"Add Operator Manual","CAD","304008"]
["M-S16LVK_BLULGT_NC","M-S16L","VK_BLULGT_NC","N/C","Blue Light","CAD","304008"]
["M-S16LVK_MCHCOM_SBT","M-S16L","VK_MCHCOM_SBT",1916,"IRIS Telemetry","CAD","304008"]
["M-S16LVK_BASE_S16L_STD","M-S16L","VK_BASE_S16L_STD",42637,"S16 Low Dump - STD","CAD","304008"]
["M-S16LVK_BTYWTRSYS_ML","M-S16L","VK_BTYWTRSYS_ML",1042,"Battery Watering Manual","CAD","304008"]
["M-S16LVK_BTY_L36V4M","M-S16L","VK_BTY_L36V4M",21396,"Bty Li-Ion 36v, 8.2kWh","CAD","304008"]
["M-S16LVK_BTY_WO","M-S16L","VK_BTY_WO",-693,"Without Battery","CAD","304008"]
["M-S16LVK_CHG_25A100V5060H1OFF","M-S16L","VK_CHG_25A100V5060H1OFF","N/C","Ch25A 100V 50/60Hz 1Ph Off","CAD","304008"]
["M-S16LVK_CHG_WO","M-S16L","VK_CHG_WO",-279,"Without Charger","CAD","304008"]
["M-S16LVK_CLNTOL_NFB","M-S16L","VK_CLNTOL_NFB",318,"Natural Fiber Brush","CAD","304008"]
["M-S16LVK_CLNTOL_PYPW","M-S16L","VK_CLNTOL_PYPW","N/C","Poly & Wire Brush","CAD","304008"]
["M-S16LVK_FREEXT","M-S16L","VK_FREEXT",475,"Fire Extinguisher","CAD","304008"]
["M-S16LVK_PRDPKG","M-S16L","VK_PRDPKG",3874,"Productivity Package","CAD","304008"]
["M-S16LVK_RMVHPRBIN","M-S16L","VK_RMVHPRBIN",901,"Removable Hopper Bins","CAD","304008"]
["M-S16LVK_SDEBRSDSTCTL_D_D","M-S16L","VK_SDEBRSDSTCTL_D_D",2362,"SideBrshDustCntrl Dry D","CAD","304008"]
["M-S16LVK_SDEBRSDSTCTL_D_RH","M-S16L","VK_SDEBRSDSTCTL_D_RH",1551,"SideBrshDustCntrl Dry RH","CAD","304008"]
["M-S16LVK_SDEBRSLOC_D","M-S16L","VK_SDEBRSLOC_D",1519,"Side Brush: Dual","CAD","304008"]
["M-S16LVK_SDECLNTOL_PYP","M-S16L","VK_SDECLNTOL_PYP","N/C","Side Poly Brush","CAD","304008"]
["M-S16LVK_SET_DLXW","M-S16L","VK_SET_DLXW",794,"Deluxe Seat w/Armr.","CAD","304008"]
["M-S16LVK_SFYLGTPKG","M-S16L","VK_SFYLGTPKG",3037,"Safety Light Package","CAD","304008"]
["M-S16LVK_SLADSTFLTPKG_D","M-S16L","VK_SLADSTFLTPKG_D",11069,"HEPA Dust Filter Pkg: Dual","CAD","304008"]
["M-S16LVK_SLADSTFLTPKG_RH","M-S16L","VK_SLADSTFLTPKG_RH",10259,"HEPA Dust Filter Pkg: RH","CAD","304008"]
["M-S16LVK_SRVMNL","M-S16L","VK_SRVMNL",340,"Service Manual","CAD","304008"]
["M-S16LVK_ULERTG_ES","M-S16L","VK_ULERTG_ES",3994,"UL® Type ES","CAD","304008"]
["M-S16LVK_WRNLGTANDALM_AUSL","M-S16L","VK_WRNLGTANDALM_AUSL",934,"AV BU AlrmStrobe Lnl","CAD","304008"]
["M-S20VK_SDEBRSLOC_D","M-S20","VK_SDEBRSLOC_D",4252,"Side Brush: Dual","CAD","304053"]
["M-S20VK_CLNTOL_PYP","M-S20","VK_CLNTOL_PYP","N/C","Poly Brush","CAD","304053"]
["M-S20VK_ULERTG_LPS","M-S20","VK_ULERTG_LPS",7119,"UL® Type LPS","CAD","304053"]
["M-S20VK_WTY_STD","M-S20","VK_WTY_STD","N/C","Warranty STD","CAD","304053"]
["M-S20VK_CLNTOL_PYSFF","M-S20","VK_CLNTOL_PYSFF",348,"Poly Full Fill Brush","CAD","304053"]
["M-S20VK_CLNTOL_UMB","M-S20","VK_CLNTOL_UMB",348,"Union Mix Brush","CAD","304053"]
["M-S20VK_CLMCTL_D","M-S20","VK_CLMCTL_D",4507,"Heater","CAD","304053"]
["M-S20VK_CHG_75A208V60H1P","M-S20","VK_CHG_75A208V60H1P",3306,"Ch75A 208V 60H1P","CAD","304053"]
["M-S20VK_CLNTOL_PYPWIN","M-S20","VK_CLNTOL_PYPWIN",348,"Poly Window Brush","CAD","304053"]
["M-S20VK_SDECLNTOL_FWB","M-S20","VK_SDECLNTOL_FWB","N/C","Side Flat Wire","CAD","304053"]
["M-S20VK_RERTRE_SRST","M-S20","VK_RERTRE_SRST",443,"Trs Rear Solid Soft","CAD","304053"]
["M-S20VK_SLMVGVEHSGN","M-S20","VK_SLMVGVEHSGN",543,"Slow Moving Sign","CAD","304053"]
["M-S20VK_PRDPKG_NOBAT","M-S20","VK_PRDPKG_NOBAT",5133,"Productivity Pkg","CAD","304053"]
["M-S20VK_AVFC/O_GLD_YNSCWO","M-S20","VK_AVFC/O_GLD_YNSCWO",1276,"AV BU AlarmFlash Cab","CAD","304053"]
["M-S20VK_BASE_S20-LPG_STD","M-S20","VK_BASE_S20-LPG_STD",63959,"S20 LPG Std Config","CAD","304053"]
["M-S20VK_LPGTNK_F","M-S20","VK_LPGTNK_F","N/C","LPG Tank Full","CAD","304053"]
["M-S20VK_PKG_CRT","M-S20","VK_PKG_CRT","N/C","Crate","CAD","304053"]
["M-S20VK_WPFMNLPCH","M-S20","VK_WPFMNLPCH",295,"Weatherproof Manual Pouch","CAD","304053"]
["M-S20VK_WCHHOK","M-S20","VK_WCHHOK",748,"Winch Hook","CAD","304053"]
["M-S20VK_FRMLFTLUG_SD","M-S20","VK_FRMLFTLUG_SD",2124,"Frame Lifting Lugs-Side","CAD","304053"]
["M-S20VK_BTY_W440C6","M-S20","VK_BTY_W440C6",7632,"Bty Wet 440 C6","CAD","304053"]
["M-S20VK_BASE_S20-DSL_STD","M-S20","VK_BASE_S20-DSL_STD",70954,"S20 Diesel Std Config","CAD","304053"]
["M-S20VK_BASE_S20-GAS_STD","M-S20","VK_BASE_S20-GAS_STD",63959,"S20 Gasoline Std Config","CAD","304053"]
["M-S20VK_AVFE_GLD_YNWO","M-S20","VK_AVFE_GLD_YNWO",1276,"AV BU AlarmFlash Eng","CAD","304053"]
["M-S20VK_PWRVACWND_VACWND","M-S20","VK_PWRVACWND_VACWND",1648,"Vacuum Wand","CAD","304053"]
["M-S20VK_CHG_80A200V5060H3P","M-S20","VK_CHG_80A200V5060H3P",5501,"Ch80A 200V 5060H3P","CAD","304053"]
["M-S20VK_CHG_80A200V5060H1P","M-S20","VK_CHG_80A200V5060H1P",4431,"Ch80A 200V 5060H1P","CAD","304053"]
["M-S20VK_CHG_120A480V5060H3P","M-S20","VK_CHG_120A480V5060H3P",5939,"Ch120A 480V 5060H3P","CAD","304053"]
["M-S20VK_CHG_100A200V5060H3","M-S20","VK_CHG_100A200V5060H3",5302,"Ch100A 200V 5060H3P","CAD","304053"]
["M-S20VK_S20-G","M-S20","VK_S20-G",63959,"S20 Gasoline","CAD","304053"]
["M-S20VK_CHG_144A208V5060H1P","M-S20","VK_CHG_144A208V5060H1P",6536,"Ch144A 208V 5060H1P","CAD","304053"]
["M-S20VK_DATPKG_HO","M-S20","VK_DATPKG_HO",1977,"Hardware Only","CAD","304053"]
["M-S20VK_S20-B","M-S20","VK_S20-B",69088,"S20 Battery","CAD","304053"]
["M-S20VK_S20-DSL","M-S20","VK_S20-DSL",70954,"S20 Diesel","CAD","304053"]
["M-S20VK_CHG_160A280V5060H3P","M-S20","VK_CHG_160A280V5060H3P",7792,"Ch160A 208V 5060H3P","CAD","304053"]
["M-S20VK_BTY_W315C6","M-S20","VK_BTY_W315C6",2913,"Bty Wet 315AHC6","CAD","304053"]
["M-S20VK_PKG_SKD_NO_CHG","M-S20","VK_PKG_SKD_NO_CHG","N/C","Skid","CAD","304053"]
["M-S20VK_PKG_PAD","M-S20","VK_PKG_PAD","N/C","Pad Wrap","CAD","304053"]
["M-S20VK_CLNTOL_PYPW","M-S20","VK_CLNTOL_PYPW","N/C","Poly & Wire Brush","CAD","304053"]
[{"$f":"B265&C265","v":"M-S20VK_S20-LP"},"M-S20","VK_S20-LP",63959,"S20 LPG","CAD","304053"]
["M-S20VK_SDEBRSLOC_D_BAT","M-S20","VK_SDEBRSLOC_D_BAT",4252,"Side Brush: Dual","CAD","304053"]
["M-S20VK_CLNTOL_PYS","M-S20","VK_CLNTOL_PYS","N/C","Polyester Brush","CAD","304053"]
["M-S20VK_PKG_CRT_NO_CHG","M-S20","VK_PKG_CRT_NO_CHG","N/C","Crate No Charge","CAD","304053"]
["M-S20VK_CHG_160A480V5060H3P","M-S20","VK_CHG_160A480V5060H3P",7502,"Ch160A 480V 5060H3P","CAD","304053"]
["M-S20VK_BASE_S20-BTY_STD","M-S20","VK_BASE_S20-BTY_STD",73028,"S20 Battery Std Config","CAD","304053"]
["M-S20VK_SDEBRSDSTCTL_D_RH_NC","M-S20","VK_SDEBRSDSTCTL_D_RH_NC","N/C","SideBrshDustCntrl Dry RH","CAD","304053"]
["M-S20VK_SDEBRSDSTCTL_D_D_NC","M-S20","VK_SDEBRSDSTCTL_D_D_NC","N/C","SideBrshDustCntrl Dry D","CAD","304053"]
["M-S20VK_OVHGRD","M-S20","VK_OVHGRD",2284,"Overhead Guard","CAD","304053"]
["M-S20VK_CLNTOL_SWB","M-S20","VK_CLNTOL_SWB",348,"Sand Wedge Brush","CAD","304053"]
["M-S20VK_CAB_SC_IC_N_ALM","M-S20","VK_CAB_SC_IC_N_ALM",8183,"Cab Assy Soft Side","CAD","304053"]
["M-S20VK_SLADSTFLTPKG_RH","M-S20","VK_SLADSTFLTPKG_RH",10636,"HEPA Dust Filter Pkg: RH","CAD","304053"]
["M-S20VK_SLADSTFLTPKG_D","M-S20","VK_SLADSTFLTPKG_D",11444,"HEPA Dust Filter Pkg: Dual","CAD","304053"]
["M-S20VK_SBTPARKIT","M-S20","VK_SBTPARKIT",1869,"Sunbelt Parts Kit","CAD","304053"]
["M-S20VK_ALTMUF_P","M-S20","VK_ALTMUF_P",2856,"Purifying Muffler","CAD","304053"]
["M-S20VK_CSMFRMLFTLUG_SD","M-S20","VK_CSMFRMLFTLUG_SD",2124,"Frame Lifting Lugs-Side","CAD","304053"]
["M-S20VK_ULERTG_LP","M-S20","VK_ULERTG_LP","N/C","UL® Type LP","CAD","304053"]
["M-S20VK_ULERTG_G","M-S20","VK_ULERTG_G","N/C","UL® Type G","CAD","304053"]
["M-S20VK_ULERTG_D","M-S20","VK_ULERTG_D","N/C","UL® Type D","CAD","304053"]
["M-S20VK_STLHPR","M-S20","VK_STLHPR",4801,"Steel Hopper","CAD","304053"]
["M-S20VK_SDEBRSDSTCTL_W_RH","M-S20","VK_SDEBRSDSTCTL_W_RH",4603,"SideBrshDustCntrl Wet RH","CAD","304053"]
["M-S20VK_SDEBRSDSTCTL_W_D","M-S20","VK_SDEBRSDSTCTL_W_D",5431,"SideBrshDustCntrl Wet D","CAD","304053"]
["M-S20VK_SDEBRSDSTCTL_D_RH","M-S20","VK_SDEBRSDSTCTL_D_RH",1537,"SideBrshDustCntrl Dry RH","CAD","304053"]
["M-S20VK_SDEBRSDSTCTL_D_D","M-S20","VK_SDEBRSDSTCTL_D_D",2362,"SideBrshDustCntrl Dry D","CAD","304053"]
["M-S20VK_BTY_W420C20","M-S20","VK_BTY_W420C20",2913,"Bty Wet 420AHC20","CAD","304053"]
["M-S20VK_CHG_60A240V5060H3","M-S20","VK_CHG_60A240V5060H3",3817,"Ch60A 240V 5060H3P","CAD","304053"]
["M-S20VK_CHG_60A240V5060H1","M-S20","VK_CHG_60A240V5060H1",3306,"Ch60A 240V 5060H1P","CAD","304053"]
["M-S20VK_MCHCOM","M-S20","VK_MCHCOM",1916,"IRIS Telemetry","CAD","304053"]
["M-S20VK_BASE_S20-BTY","M-S20","VK_BASE_S20-BTY",73028,"S20-BTY","CAD","304053"]
["M-S20VK_BASE_S20-DSL","M-S20","VK_BASE_S20-DSL",70954,"S20-DSL","CAD","304053"]
["M-S20VK_BASE_S20-GAS","M-S20","VK_BASE_S20-GAS",63959,"S20-GAS","CAD","304053"]
["M-S20VK_BASE_S20-LPG","M-S20","VK_BASE_S20-LPG",63959,"S20-LPG","CAD","304053"]
["M-S20VK_FLRSYS_HEPA","M-S20","VK_FLRSYS_HEPA",9106,"HEPA Filter System","CAD","304053"]
["M-S20VK_FLRSYS_HEPA_NC","M-S20","VK_FLRSYS_HEPA_NC","N/C","HEPA Filter System","CAD","304053"]
["M-S20VK_CSMSBTDCL_GT","M-S20","VK_CSMSBTDCL_GT",212,"Sunbelt-GenTool Dcl","CAD","304053"]
["M-S20VK_CSMSBTDCL_FC","M-S20","VK_CSMSBTDCL_FC",195,"Sunbelt-FloorCareDcl","CAD","304053"]
["M-S20VK_MCHCOM_GLD_Y_INTL","M-S20","VK_MCHCOM_GLD_Y_INTL",1916,"IRIS Telemetry","CAD","304053"]
["M-S20VK_RERTRE_SNM","M-S20","VK_RERTRE_SNM","N/C","Trs Rear Solid NM","CAD","304053"]
["M-S20VK_BLULGT","M-S20","VK_BLULGT",1508,"Blue Light","CAD","304053"]
["M-S20VK_CSMSLN_WPMP","M-S20","VK_CSMSLN_WPMP",295,"Weatherproof pouch","CAD","304053"]
["M-S20VK_SDECLNTOL_NYL","M-S20","VK_SDECLNTOL_NYL","N/C","Side Nylon Brush","CAD","304053"]
["M-S20VK_AVSO/C_GLD_YNSCWO","M-S20","VK_AVSO/C_GLD_YNSCWO",1276,"AV BU AlarmStrobeOHG","CAD","304053"]
["M-S20VK_SET_DLXW","M-S20","VK_SET_DLXW",934,"Deluxe Seat w/Armr.","CAD","304053"]
["M-S20VK_CAB_SC_B_N_ALM","M-S20","VK_CAB_SC_B_N_ALM",8183,"Cab Assy Soft Side","CAD","304053"]
["M-S20VK_AVSE_GLD_YNWO","M-S20","VK_AVSE_GLD_YNWO",1276,"AV BU AlarmStrobeENG","CAD","304053"]
["M-S20VK_FRTTRE_PNER","M-S20","VK_FRTTRE_PNER",1022,"Trs Frnt Pnmtc Rdl","CAD","304053"]
["M-S20VK_OTDEQU_PKG","M-S20","VK_OTDEQU_PKG",3051,"Outdoor Equipm.Pkg","CAD","304053"]
["M-S20VK_CHG_WO","M-S20","VK_CHG_WO","N/C","Without Charger","CAD","304053"]
["M-S20VK_CSMSLN_RTR","M-S20","VK_CSMSLN_RTR",802,"Rear Tow Ring","CAD","304053"]
["M-S20VK_CSMSLN_CC","M-S20","VK_CSMSLN_CC",6240,"Custom Color","CAD","304053"]
["M-S20VK_ADOPRMNL","M-S20","VK_ADOPRMNL",101,"Add. Opr Mnl","CAD","304053"]
["M-S20VK_STBFLSLNS_B","M-S20","VK_STBFLSLNS_B","N/C","Alt.StrobeLns Blue","CAD","304053"]
["M-S20VK_SRVMNL_BAT","M-S20","VK_SRVMNL_BAT",340,"Service Manual","CAD","304053"]
["M-S20VK_HVYDTYRERBMP","M-S20","VK_HVYDTYRERBMP",986,"Hvy Dty RearBmpr","CAD","304053"]
["M-S20VK_SRVMNL_NOBAT","M-S20","VK_SRVMNL_NOBAT",340,"Service Manual","CAD","304053"]
["M-S20VK_WTY_XTD","M-S20","VK_WTY_XTD","N/C","Warranty Plus","CAD","304053"]
["M-S20VK_AVSO/C_B_YNSCWO","M-S20","VK_AVSO/C_B_YNSCWO",1276,"AV BU AlarmStrobeOHG","CAD","304053"]
["M-S20VK_RERTRE_PNER","M-S20","VK_RERTRE_PNER",532,"Trs Rear Pnmtc Rdl","CAD","304053"]
["M-S20VK_RERVIWMIR","M-S20","VK_RERVIWMIR",610,"Rear View Mirror","CAD","304053"]
["M-S20VK_OTDSFY_PKG_WOOHG","M-S20","VK_OTDSFY_PKG_WOOHG",4368,"Outdoor Safety Pkg","CAD","304053"]
["M-S20VK_HVYDTYPRT_PKG","M-S20","VK_HVYDTYPRT_PKG",5133,"Hvy Dty Protect Pkg","CAD","304053"]
["M-S20VK_CHG_75A208V60H3P","M-S20","VK_CHG_75A208V60H3P",3817,"Ch75A 208V 60H3P","CAD","304053"]
["M-S20VK_PKG_SKD","M-S20","VK_PKG_SKD",645,"Skid","CAD","304053"]
["M-S20VK_OPRVID","M-S20","VK_OPRVID","N/C","Operator Video","CAD","304053"]
[{"$f":"B329&C329","v":"M-S20VK_SDECLNTOL_PYP"},"M-S20","VK_SDECLNTOL_PYP","N/C","Side Poly Brush","CAD","304053"]
["M-S20VK_FREEXT","M-S20","VK_FREEXT",212,"Fire Extinguisher","CAD","304053"]
["M-S20VK_TRNSIG","M-S20","VK_TRNSIG",2657,"Turn Signal","CAD","304053"]
["M-S20VK_STBFLSLNS_R","M-S20","VK_STBFLSLNS_R","N/C","Alt.StrobeLns Red","CAD","304053"]
["M-S20VK_AVSE_B_YNWO","M-S20","VK_AVSE_B_YNWO",1276,"AV BU AlarmStrobeENG","CAD","304053"]
["M-S20VK_AVFO/C_B_YNSCWO","M-S20","VK_AVFO/C_B_YNSCWO",1276,"AV BU AlarmFlash OHG","CAD","304053"]
["M-S20VK_AVFE_B_YNWO","M-S20","VK_AVFE_B_YNWO",1276,"AV BU AlarmFlash Eng","CAD","304053"]
["M-S20VK_RERTRE_SRSNM","M-S20","VK_RERTRE_SRSNM",343,"Trs Rear SftSolid NM","CAD","304053"]
["M-S20VK_FRTTRE_SRSNM","M-S20","VK_FRTTRE_SRSNM",892,"Frt Tire Solid NM","CAD","304053"]
["M-S20VK_FRTTRE_SRST","M-S20","VK_FRTTRE_SRST",756,"Frt Tire SolidSoft","CAD","304053"]
["M-S20VK_SETBLT","M-S20","VK_SETBLT",203,"Seat Belt","CAD","304053"]
["M-S20VK_CLMCTL_G_L","M-S20","VK_CLMCTL_G_L",4507,"Heater","CAD","304053"]
["M-S20VK_CAB_SC_IC_N_WO","M-S20","VK_CAB_SC_IC_N_WO",8183,"Cab Assy Soft Side","CAD","304053"]
["M-S20VK_CAB_SC_B_N_WO","M-S20","VK_CAB_SC_B_N_WO",8183,"Cab Assy Soft Side","CAD","304053"]
["M-S20VK_PRDPKG_BAT","M-S20","VK_PRDPKG_BAT",5133,"Productivity Pkg","CAD","304053"]
["M-S20VK_OTDSFY_PKG","M-S20","VK_OTDSFY_PKG",4368,"Outdoor Safety Pkg","CAD","304053"]
["M-S20VK_ULERTG_ES","M-S20","VK_ULERTG_ES",5981,"UL® Type ES","CAD","304053"]
["M-S20VK_CHG_50A240V60H1","M-S20","VK_CHG_50A240V60H1",2657,"Ch50A 240V 60H1P","CAD","304053"]
["M-S20VK_BTY_WO","M-S20","VK_BTY_WO","N/C","Without Battery","CAD","304053"]
["M-S20VK_BTY_W340C6","M-S20","VK_BTY_W340C6",5822,"Bty Wet 340AH C6","CAD","304053"]
["M-S20VK_HGHRISAIRITK","M-S20","VK_HGHRISAIRITK",1348,"High Rise Air Intake","CAD","304053"]
["M-S20VK_LPGTNK_E","M-S20","VK_LPGTNK_E","N/C","LPG Tank Empty","CAD","304053"]
["M-S20VK_HVYDTYFRTBMP","M-S20","VK_HVYDTYFRTBMP",1235,"Hvy Dty Frnt Bumper","CAD","304053"]
["M-S30VK_FLRSYS_HEPA","M-S30","VK_FLRSYS_HEPA",9713,"HEPA Filter System","CAD","304215"]
["M-S30VK_FLRSYS_HEPA_NC","M-S30","VK_FLRSYS_HEPA_NC","N/C","HEPA Filter System","CAD","304215"]
["M-S30VK_BASE_S30-LPG_STD","M-S30","VK_BASE_S30-LPG_STD",77284,"S30 LPG Std Config","CAD","304215"]
["M-S30VK_CAB_G_ACHP_NC","M-S30","VK_CAB_G_ACHP_NC","N/C","Cab Climate cntrl AC","CAD","304215"]
["M-S30VK_SDEBRSLOC_D_NC","M-S30","VK_SDEBRSLOC_D_NC","N/C","Side Brush: Dual","CAD","304215"]
["M-S30VK_SDEBRSDSTCTL_RH_NC","M-S30","VK_SDEBRSDSTCTL_RH_NC","N/C","SideBrshDustCntrl R","CAD","304215"]
["M-S30VK_CSMFRMLFTLUG_SD","M-S30","VK_CSMFRMLFTLUG_SD",2124,"Frame Lifting Lugs-Side","CAD","304215"]
["M-S30VK_CSMSLN_RHC","M-S30","VK_CSMSLN_RHC",3117,"Reduced Height Cab","CAD","304215"]
["M-S30VK_BASE_S30-GAS_STD","M-S30","VK_BASE_S30-GAS_STD",77284,"S30 Gas Std Config","CAD","304215"]
["M-S30VK_SDEBRSLOC_RH_NC","M-S30","VK_SDEBRSLOC_RH_NC","N/C","Side Brush: RH","CAD","304215"]
["M-S30VK_SDEBRSDSTCTL_D_NC","M-S30","VK_SDEBRSDSTCTL_D_NC","N/C","SideBrshDustCntrl D","CAD","304215"]
["M-S30VK_CSMSLN_WPMP","M-S30","VK_CSMSLN_WPMP",200,"Weatherproof pouch","CAD","304215"]
["M-S30VK_RERTRE_SNM_NC","M-S30","VK_RERTRE_SNM_NC","N/C","Trs Rear Solid NM","CAD","304215"]
["M-S30VK_CSMSLN_RTR","M-S30","VK_CSMSLN_RTR",858,"Rear Tow Ring","CAD","304215"]
["M-S30VK_CSMSLN_LLRTR","M-S30","VK_CSMSLN_LLRTR",2124,"Liftigugs&RearTwRing","CAD","304215"]
["M-S30VK_WAR_XTD","M-S30","VK_WAR_XTD",2972,"Warranty Plus","CAD","304215"]
["M-S30VK_DATPKG_HO","M-S30","VK_DATPKG_HO",1937,"Hardware Only","CAD","304215"]
["M-S30VK_S30-LP","M-S30","VK_S30-LP",77284,"S30 LPG Rider Swpr","CAD","304215"]
["M-S30VK_HVYDTYFRTBMP","M-S30","VK_HVYDTYFRTBMP",1156,"Hvy Dty Frnt Bumper","CAD","304215"]
["M-S30VK_CLNTOL_PYPW","M-S30","VK_CLNTOL_PYPW","N/C","Poly & Wire Brush","CAD","304215"]
["M-S30VK_BLULGT","M-S30","VK_BLULGT",1508,"Blue Light","CAD","304215"]
["M-S30VK_CAB_RHC","M-S30","VK_CAB_RHC",21082,"Reduced Height Cab","CAD","304215"]
["M-S30VK_FRMLFTLUG_SD","M-S30","VK_FRMLFTLUG_SD",2124,"Frame Lifting Lugs-Side","CAD","304215"]
["M-S30VK_LFTLUGRERTOWRNG","M-S30","VK_LFTLUGRERTOWRNG",2124,"Lifting Lug / Rear Tow Ring","CAD","304215"]
["M-S30VK_WCHHOK","M-S30","VK_WCHHOK",748,"Winch Hook","CAD","304215"]
["M-S30VK_WPFMNLPCH","M-S30","VK_WPFMNLPCH",295,"Weatherproof Manual Pouch","CAD","304215"]
["M-S30VK_SLADSTFLTPKG_RH","M-S30","VK_SLADSTFLTPKG_RH",13291,"HEPA Dust Filter Pkg: RH","CAD","304215"]
["M-S30VK_SETBLT","M-S30","VK_SETBLT",920,"Seat Belt","CAD","304215"]
["M-S30VK_SDECLNTOL_PYP","M-S30","VK_SDECLNTOL_PYP","N/C","Side Poly Brush","CAD","304215"]
["M-S30VK_SDEBRSLOC_D","M-S30","VK_SDEBRSLOC_D",2834,"Side Brush: Dual","CAD","304215"]
["M-S30VK_LPGTNK_E","M-S30","VK_LPGTNK_E","N/C","LPG Tank Empty","CAD","304215"]
["M-S30VK_RERTRE_PB","M-S30","VK_RERTRE_PB","N/C","Trs Rear Pneumatic-Bias","CAD","304215"]
["M-S30VK_HVYDTYRERBMP","M-S30","VK_HVYDTYRERBMP",1112,"Hvy Dty RearBmpr","CAD","304215"]
["M-S30VK_HEPFLRCABPKG","M-S30","VK_HEPFLRCABPKG",38329,"HEPA Filter Cab Pkg","CAD","304215"]
["M-S30VK_PKG_SKD_NO_CHG","M-S30","VK_PKG_SKD_NO_CHG","N/C","Skid","CAD","304215"]
["M-S30VK_S30-G","M-S30","VK_S30-G",77284,"S30 Gas Rider Swpr","CAD","304215"]
["M-S30VK_PKG_SKD_NC","M-S30","VK_PKG_SKD_NC","N/C","Skid","CAD","304215"]
["M-S30VK_PKG_PAD","M-S30","VK_PKG_PAD","N/C","Pad Wrap","CAD","304215"]
["M-S30VK_S30-DSL","M-S30","VK_S30-DSL",84184,"S30 Dsl Rider Swpr","CAD","304215"]
["M-S30VK_BASE_S30-DSL_STD","M-S30","VK_BASE_S30-DSL_STD",84184,"S30 DSL Std Config","CAD","304215"]
["M-S30VK_SDECLNTOL_NYL","M-S30","VK_SDECLNTOL_NYL","N/C","Side Nylon Brush","CAD","304215"]
[{"$f":"B393&C393","v":"M-S30VK_SLADSTFLTPKG_D"},"M-S30","VK_SLADSTFLTPKG_D",14312,"HEPA Dust Filter Pkg: Dual","CAD","304215"]
["M-S30VK_FRTTRE_PNER","M-S30","VK_FRTTRE_PNER",756,"Trs Frnt Pnmtc Rdl","CAD","304215"]
["M-S30VK_CLNTOL_NYLP","M-S30","VK_CLNTOL_NYLP","N/C","Nylon Patrol Brush","CAD","304215"]
["M-S30VK_CLNTOL_PYP","M-S30","VK_CLNTOL_PYP","N/C","Poly Brush","CAD","304215"]
["M-S30VK_CLNTOL_PYPWIN","M-S30","VK_CLNTOL_PYPWIN",417,"Poly Window Brush","CAD","304215"]
["M-S30VK_CLNTOL_SWB","M-S30","VK_CLNTOL_SWB",417,"Sand Wedge Brush","CAD","304215"]
["M-S30VK_FREEXT","M-S30","VK_FREEXT",212,"Fire Extinguisher","CAD","304215"]
["M-S30VK_ADLOPRMNL","M-S30","VK_ADLOPRMNL",101,"Add Operator Manual","CAD","304215"]
["M-S30VK_AIRITK","M-S30","VK_AIRITK",2856,"Hgh Rise Air Intake","CAD","304215"]
["M-S30VK_BLWWND_GL","M-S30","VK_BLWWND_GL",3720,"Blower Wand Gas/LPG","CAD","304215"]
["M-S30VK_CAB_D_ACHP","M-S30","VK_CAB_D_ACHP",19441,"Cab Climate cntrl AC","CAD","304215"]
["M-S30VK_CAB_G_ACHP","M-S30","VK_CAB_G_ACHP",19441,"Cab Climate cntrl AC","CAD","304215"]
["M-S30VK_CAB_L_ACHP","M-S30","VK_CAB_L_ACHP",19441,"Cab Climate cntrl AC","CAD","304215"]
["M-S30VK_CAB_L_HP","M-S30","VK_CAB_L_HP",12171,"Cab Climate cntrl HT","CAD","304215"]
["M-S30VK_CLNTOL_CWB","M-S30","VK_CLNTOL_CWB",417,"Crinkle Wire Brush","CAD","304215"]
["M-S30VK_CLNTOL_FWFF","M-S30","VK_CLNTOL_FWFF",417,"Fiber & Wire Brush","CAD","304215"]
["M-S30VK_CLNTOL_NYL","M-S30","VK_CLNTOL_NYL","N/C","Nylon Brush","CAD","304215"]
["M-S30VK_CLNTOL_NYLFF","M-S30","VK_CLNTOL_NYLFF",417,"Nylon Full Fill Brsh","CAD","304215"]
["M-S30VK_SET_DLXW","M-S30","VK_SET_DLXW",1022,"Deluxe Seat w/Armr.","CAD","304215"]
["M-S30VK_SFYLGTPKG_IDR","M-S30","VK_SFYLGTPKG_IDR",1225,"Sfty Lght Pkg Ind","CAD","304215"]
["M-S30VK_SFYLGTPKG_OTD","M-S30","VK_SFYLGTPKG_OTD",2050,"Sfty Lght Pkg Outd","CAD","304215"]
["M-S30VK_SRVMNL","M-S30","VK_SRVMNL",340,"Service Manual","CAD","304215"]
["M-S30VK_STLHPR","M-S30","VK_STLHPR",8514,"Steel Hopper","CAD","304215"]
["M-S30VK_TRMLVL_X4","M-S30","VK_TRMLVL_X4",13683,"Trim Level, X4","CAD","304215"]
["M-S30VK_ULERTG_LPS","M-S30","VK_ULERTG_LPS",6627,"UL® Type LPS","CAD","304215"]
["M-S30VK_RERTRE_SNM","M-S30","VK_RERTRE_SNM",528,"Trs Rear Solid NM","CAD","304215"]
["M-S30VK_RERTRE_SR","M-S30","VK_RERTRE_SR","N/C","Trs Rear Solid Rbr","CAD","304215"]
["M-S30VK_UPG","M-S30","VK_UPG","N/C","UPG","CAD","304215"]
["M-S30VK_OVHGRD","M-S30","VK_OVHGRD",1919,"Overhead Guard","CAD","304215"]
["M-S30VK_PKG_SKD","M-S30","VK_PKG_SKD","N/C","Skid","CAD","304215"]
["M-S30VK_SDEBRSSPL","M-S30","VK_SDEBRSSPL",702,"Side Brush Spotlight","CAD","304215"]
["M-S30VK_SBTPARKIT","M-S30","VK_SBTPARKIT",1999,"Sunbelt Parts Kit","CAD","304215"]
["M-S30VK_SDEBRSDSTCTL_D","M-S30","VK_SDEBRSDSTCTL_D",4603,"SideBrshDustCntrl D","CAD","304215"]
["M-S30VK_PRDPKG","M-S30","VK_PRDPKG",3228,"Productivity Package","CAD","304215"]
["M-S30VK_ALTMUF_P","M-S30","VK_ALTMUF_P",3207,"Purifying Muffler","CAD","304215"]
["M-S30VK_SDEBRSDSTCTL_RH","M-S30","VK_SDEBRSDSTCTL_RH",3581,"SideBrshDustCntrl R","CAD","304215"]
["M-S30VK_CABFLR_HF","M-S30","VK_CABFLR_HF",19284,"Cab Filter HEPA","CAD","304215"]
["M-S30VK_CABFLR_HF_NC","M-S30","VK_CABFLR_HF_NC","N/C","Cab Filter HEPA","CAD","304215"]
["M-S30VK_CAB_D_ACHP_NC","M-S30","VK_CAB_D_ACHP_NC","N/C","Cab Climate cntrl AC","CAD","304215"]
["M-S30VK_SDEBRSSPL_RH","M-S30","VK_SDEBRSSPL_RH",702,"SideBrushSpotL.RH","CAD","304215"]
["M-S30VK_CSMSBTPARKIT","M-S30","VK_CSMSBTPARKIT",1922,"Sunbelt -Parts Kit","CAD","304215"]
["M-S30VK_WTY_XTD","M-S30","VK_WTY_XTD",2972,"Warranty Plus","CAD","304215"]
["M-S30VK_SDEBRSDSTCTL_WET_RH","M-S30","VK_SDEBRSDSTCTL_WET_RH",5016,"SideBrshDustCntrl R","CAD","304215"]
["M-S30VK_SDEBRSDSTCTL_WET_D","M-S30","VK_SDEBRSDSTCTL_WET_D",5822,"SideBrshDustCntrl D","CAD","304215"]
["M-S30VK_MCHCOM","M-S30","VK_MCHCOM",1916,"IRIS Telemetry","CAD","304215"]
["M-S30VK_BASE_S30-DSL","M-S30","VK_BASE_S30-DSL",84184,"S30-DSL","CAD","304215"]
["M-S30VK_BASE_S30-GAS","M-S30","VK_BASE_S30-GAS",77284,"S30-GAS","CAD","304215"]
["M-S30VK_BASE_S30-LPG","M-S30","VK_BASE_S30-LPG",77284,"S30-LPG","CAD","304215"]
["M-S30VK_FRTTRE_PB","M-S30","VK_FRTTRE_PB",756,"Trs Front Pnmtc Bias","CAD","304215"]
["M-S30VK_CSMSLN_SCW","M-S30","VK_CSMSLN_SCW",1949,"Solid Cab Window","CAD","304215"]
["M-S30VK_CSMSLN_HFK","M-S30","VK_CSMSLN_HFK",16105,"HEPA Filter Kit","CAD","304215"]
["M-S30VK_RERTRE_PR","M-S30","VK_RERTRE_PR","N/C","Trs Rear Pnmtc Rdl","CAD","304215"]
["M-S30VK_CAB_D_HP","M-S30","VK_CAB_D_HP",12171,"Cab Climate cntrl HT","CAD","304215"]
["M-S30VK_PWRVACWND_VAC_WND","M-S30","VK_PWRVACWND_VAC_WND",2127,"Vacuum Wand","CAD","304215"]
["M-S30VK_RERTRE_FF","M-S30","VK_RERTRE_FF",282,"Trs Rear Foam Flld","CAD","304215"]
["M-S30VK_LPGTNK_F","M-S30","VK_LPGTNK_F","N/C","LPG Tank Full","CAD","304215"]
["M-S30VK_SDECLNTOL_FWB","M-S30","VK_SDECLNTOL_FWB","N/C","Side Flat Wire","CAD","304215"]
["M-S30VK_BLWWND_D","M-S30","VK_BLWWND_D",2834,"Blower Wand Dsl","CAD","304215"]
["M-S30VK_TRMLVL_XP","M-S30","VK_TRMLVL_XP",7944,"Trim Level, XP","CAD","304215"]
["M-S30VK_CAB_G_HP","M-S30","VK_CAB_G_HP",12171,"Cab Climate cntrl HT","CAD","304215"]
["M-S30VK_SDEBRSLOC_RH","M-S30","VK_SDEBRSLOC_RH","N/C","Side Brush: RH","CAD","304215"]
["M-S30VK_HVYDTYPRTPKG","M-S30","VK_HVYDTYPRTPKG",10147,"Hvy Duty Protect Pkg","CAD","304215"]
["M-800VK_WRNLGTANDALM_AVFO","M-800","VK_WRNLGTANDALM_AVFO",2516,"AV BU AlarmFlash OHG","CAD","304309"]
["M-800VK_FWDSPDCTL","M-800","VK_FWDSPDCTL",130,"ForwardSpeedControl","CAD","304309"]
[{"$f":"B457&C457","v":"M-800VK_WRNLGTANDALM_AVFC"},"M-800","VK_WRNLGTANDALM_AVFC",2516,"AV BU AlarmFlash Cab","CAD","304309"]
["M-800VK_WRNLGTANDALM_AVE","M-800","VK_WRNLGTANDALM_AVE",1660,"Audio BU Alarm Eng","CAD","304309"]
["M-800VK_PWRVACWND","M-800","VK_PWRVACWND",2290,"Vacuum  Wand","CAD","304309"]
["M-800VK_ALTSTBFLSLNS_R","M-800","VK_ALTSTBFLSLNS_R","N/C","Alternate Lens-Red","CAD","304309"]
["M-800VK_WRNLGTANDALM_AVFE","M-800","VK_WRNLGTANDALM_AVFE",2516,"AV BU AlarmFlash Eng","CAD","304309"]
["M-800VK_CSMSLN_CC","M-800","VK_CSMSLN_CC",15567,"Custom Color","CAD","304309"]
["M-800VK_ENGSDN_LHTS","M-800","VK_ENGSDN_LHTS",1460,"LowOil/WaterShutdwn","CAD","304309"]
["M-800VK_CSMLFTLUG_SD","M-800","VK_CSMLFTLUG_SD",3512,"Frame Lift Lugs - Side","CAD","304309"]
["M-800VK_CSMHSESLV","M-800","VK_CSMHSESLV",2709,"Hyd Hose Sleeve Protection","CAD","304309"]
["M-800VK_CAB_RHC","M-800","VK_CAB_RHC",19681,"Reduced Height Cab","CAD","304309"]
["M-800VK_RERVIWMIR_RVM_OHG","M-800","VK_RERVIWMIR_RVM_OHG",592,"Rearview Mirror","CAD","304309"]
["M-800VK_PKG_SKD_NO_CHG","M-800","VK_PKG_SKD_NO_CHG","N/C","Skid","CAD","304309"]
["M-800VK_RERVIWMIR_WCM_OHG","M-800","VK_RERVIWMIR_WCM_OHG",1925,"West Coast Mirror","CAD","304309"]
["M-800VK_SDEVIWMIR_WCM_CAB","M-800","VK_SDEVIWMIR_WCM_CAB",1925,"West Coast Mirror","CAD","304309"]
["M-800VK_SDEVIWMIR_WCM_OHG","M-800","VK_SDEVIWMIR_WCM_OHG",1925,"West Coast Mirror","CAD","304309"]
["M-800VK_PKG_PAD","M-800","VK_PKG_PAD","N/C","Pad Wrap","CAD","304309"]
["M-800VK_RERVIWMIR_WCM_CAB","M-800","VK_RERVIWMIR_WCM_CAB",1925,"West Coast Mirror","CAD","304309"]
["M-800VK_FREEXT","M-800","VK_FREEXT",229,"Fire Extinguisher","CAD","304309"]
["M-800VK_LPGTNK_F","M-800","VK_LPGTNK_F","N/C","LPG Tank Full","CAD","304309"]
["M-800VK_LPGTNK_E","M-800","VK_LPGTNK_E","N/C","LPG Tank Empty","CAD","304309"]
["M-800VK_PKG_SKD_NC","M-800","VK_PKG_SKD_NC","N/C","Skid","CAD","304309"]
["M-800VK_OPRVID","M-800","VK_OPRVID","N/C","Operator Video","CAD","304309"]
["M-800VK_ALM_AVFE","M-800","VK_ALM_AVFE",2516,"AV BU AlarmFlash Eng","CAD","304309"]
["M-800VK_ALM_AVSO","M-800","VK_ALM_AVSO",3028,"AV BU AlarmStrobeOHG","CAD","304309"]
["M-800VK_RVM_RVM_OHG","M-800","VK_RVM_RVM_OHG",592,"Rearview Mirror","CAD","304309"]
["M-800VK_ALM_SE","M-800","VK_ALM_SE",1379,"Strobe Light Eng","CAD","304309"]
["M-800VK_ALM_FE","M-800","VK_ALM_FE",867,"Flashing Light Eng","CAD","304309"]
["M-800VK_WAR_XTD","M-800","VK_WAR_XTD",3130,"Warranty Plus","CAD","304309"]
["M-800VK_RVM_WCM_CAB","M-800","VK_RVM_WCM_CAB",1925,"West Coast Mirror","CAD","304309"]
["M-800VK_ALM_SO","M-800","VK_ALM_SO",1379,"Strobe Light OHG","CAD","304309"]
["M-800VK_ALM_FO","M-800","VK_ALM_FO",867,"Flashing Light OHG","CAD","304309"]
["M-800VK_ALM_FC","M-800","VK_ALM_FC",867,"Flashing Light Cab","CAD","304309"]
["M-800VK_ALM_AVFC","M-800","VK_ALM_AVFC",2516,"AV BU AlarmFlash Cab","CAD","304309"]
["M-800VK_WRNLGTANDALM_SO","M-800","VK_WRNLGTANDALM_SO",1379,"Strobe Light OHG","CAD","304309"]
["M-800VK_WRNLGTANDALM_SE","M-800","VK_WRNLGTANDALM_SE",1379,"Strobe Light Eng","CAD","304309"]
["M-800VK_WRNLGTANDALM_SC","M-800","VK_WRNLGTANDALM_SC",1379,"Strobe Light Cab","CAD","304309"]
["M-800VK_WRNLGTANDALM_FO","M-800","VK_WRNLGTANDALM_FO",867,"Flashing Light OHG","CAD","304309"]
["M-800VK_WRNLGTANDALM_FE","M-800","VK_WRNLGTANDALM_FE",867,"Flashing Light on EngCover","CAD","304309"]
["M-800VK_WRNLGTANDALM_FC","M-800","VK_WRNLGTANDALM_FC",867,"Flashing Light Cab","CAD","304309"]
["M-800VK_WRNLGTANDALM_AVSO","M-800","VK_WRNLGTANDALM_AVSO",3028,"AV BU AlrmStrobe OHG","CAD","304309"]
["M-800VK_WRNLGTANDALM_AVSE","M-800","VK_WRNLGTANDALM_AVSE",3028,"AV BU AlarmStrobeEng","CAD","304309"]
["M-800VK_ALM_AVFO","M-800","VK_ALM_AVFO",2516,"AV BU AlarmFlash OHG","CAD","304309"]
["M-800VK_RERVIWMIR_RVM_CAB","M-800","VK_RERVIWMIR_RVM_CAB",592,"Rearview Mirror","CAD","304309"]
["M-800VK_ALTSTBFLSLNS_B","M-800","VK_ALTSTBFLSLNS_B","N/C","Alternate Lens-Blue","CAD","304309"]
["M-800VK_ALM_SC","M-800","VK_ALM_SC",1379,"Strobe Light Cab","CAD","304309"]
["M-800VK_ALM_AVSE","M-800","VK_ALM_AVSE",3028,"AV BU AlarmStrobeEng","CAD","304309"]
["M-800VK_ALM_AVSC","M-800","VK_ALM_AVSC",3028,"AV BU AlarmStrobeCab","CAD","304309"]
["M-800VK_RVM_RVM_CAB","M-800","VK_RVM_RVM_CAB",592,"Rearview Mirror","CAD","304309"]
["M-800VK_WAR_STD","M-800","VK_WAR_STD","N/C","Warranty STD","CAD","304309"]
["M-800VK_ALM_AVE","M-800","VK_ALM_AVE",1660,"Audio BU Alarm Eng","CAD","304309"]
["M-800VK_RVM_WCM_OHG","M-800","VK_RVM_WCM_OHG",1925,"West Coast Mirror","CAD","304309"]
["M-800VK_WRNLGTANDALM_AVSC","M-800","VK_WRNLGTANDALM_AVSC",3028,"AV BU AlarmStrobeCab","CAD","304309"]
["M-800VK_WTY_XTD","M-800","VK_WTY_XTD",3130,"Warranty Plus","CAD","304309"]
["M-800VK_WTY_STD","M-800","VK_WTY_STD","N/C","Warranty STD","CAD","304309"]
["M-800VK_CSMSLN_FLLS","M-800","VK_CSMSLN_FLLS",3758,"Frame Lift Lugs Side","CAD","304309"]
["M-800VK_SDEBRSDSTCTL_D","M-800","VK_SDEBRSDSTCTL_D",7131,"SideBrshDustCntrl D","CAD","304309"]
["M-800VK_SDEBRSDSTCTL_RH","M-800","VK_SDEBRSDSTCTL_RH",3927,"SideBrshDustCntrl R","CAD","304309"]
["M-800VK_CSMSBTPARKIT","M-800","VK_CSMSBTPARKIT",5394,"Sunbelt -Parts Kit","CAD","304309"]
["M-800VK_CABFLR_HF","M-800","VK_CABFLR_HF",19302,"Cab Filter HEPA","CAD","304309"]
["M-800VK_CABFLR_HF_NC","M-800","VK_CABFLR_HF_NC","N/C","Cab Filter HEPA","CAD","304309"]
["M-800VK_CAB_STDC_NC","M-800","VK_CAB_STDC_NC","N/C","Cab","CAD","304309"]
["M-800VK_CLMCTL_ACHP_D_NC","M-800","VK_CLMCTL_ACHP_D_NC","N/C","Air Cond./Heater/Pre","CAD","304309"]
["M-800VK_CLMCTL_ACHP_GL_NC","M-800","VK_CLMCTL_ACHP_GL_NC","N/C","Air Cond./Heater/Pre","CAD","304309"]
["M-800VK_FLRSYS_HEPA_NC","M-800","VK_FLRSYS_HEPA_NC","N/C","HEPA Filter System","CAD","304309"]
[{"$f":"B521&C521","v":"M-800VK_SDEBRSDSTCTL_D_NC"},"M-800","VK_SDEBRSDSTCTL_D_NC","N/C","SideBrshDustCntrl D","CAD","304309"]
["M-800VK_SDEBRSDSTCTL_RH_NC","M-800","VK_SDEBRSDSTCTL_RH_NC","N/C","SideBrshDustCntrl R","CAD","304309"]
["M-800VK_SDEBRSLOC_D_NC","M-800","VK_SDEBRSLOC_D_NC","N/C","Side Brush: Dual","CAD","304309"]
["M-800VK_SDEBRSLOC_RH_NC","M-800","VK_SDEBRSLOC_RH_NC","N/C","Side Brush: RH","CAD","304309"]
["M-800VK_SELOPRSTN","M-800","VK_SELOPRSTN",2741,"Sealed Oper Station","CAD","304309"]
["M-800VK_SELOPRSTN_NC","M-800","VK_SELOPRSTN_NC","N/C","Sealed Oper Station","CAD","304309"]
["M-800VK_SLADSTFLTPKG_D","M-800","VK_SLADSTFLTPKG_D",18218,"HEPA Dust Filter Pkg: Dual","CAD","304309"]
["M-800VK_SLADSTFLTPKG_RH","M-800","VK_SLADSTFLTPKG_RH",15036,"HEPA Dust Filter Pkg: RH","CAD","304309"]
["M-800VK_SOLCABWDW","M-800","VK_SOLCABWDW",1652,"Solid Cab Windows","CAD","304309"]
["M-800VK_SOLCABWDW_NC","M-800","VK_SOLCABWDW_NC","N/C","Solid Cab Windows","CAD","304309"]
["M-800VK_HVYDTYBMP","M-800","VK_HVYDTYBMP",4314,"Hvy Dty Frnt/Rear Bumper","CAD","304309"]
["M-800VK_SDEBRSSPL_RH_NC","M-800","VK_SDEBRSSPL_RH_NC","N/C","SideBrushSpotL.RH No Chg","CAD","304309"]
["M-800VK_SDEBRSSPL_DUL_NC","M-800","VK_SDEBRSSPL_DUL_NC","N/C","SideBrushSpotL.Dual No Chg","CAD","304309"]
["M-800VK_RODPKG_DUL","M-800","VK_RODPKG_DUL",2353,"Road Package Dual","CAD","304309"]
["M-800VK_BASE_800-DSL4F","M-800","VK_BASE_800-DSL4F",158029,"Sweeper 800 Diesel 4F","CAD","304309"]
["M-800VK_CSMSLN_HHSP","M-800","VK_CSMSLN_HHSP",2899,"Hyd Hose Sleeve","CAD","304309"]
["M-800VK_BASE_800-LPG","M-800","VK_BASE_800-LPG",134479,"Sweeper 800 LPG","CAD","304309"]
["M-800VK_BASE_800-GAS","M-800","VK_BASE_800-GAS",130577,"Sweeper 800 Gasoline","CAD","304309"]
["M-800VK_HEPFLRCABPKG","M-800","VK_HEPFLRCABPKG",46871,"HEPA Filter Cab Pkg","CAD","304309"]
["M-800VK_SDECLNTOL_NYL","M-800","VK_SDECLNTOL_NYL","N/C","Side Nylon Brush","CAD","304309"]
["M-800VK_SDECLNTOL_PYP","M-800","VK_SDECLNTOL_PYP","N/C","Side Poly Brush","CAD","304309"]
["M-800VK_SETBLT","M-800","VK_SETBLT",214,"Seat Belt","CAD","304309"]
["M-800VK_SRVMNL","M-800","VK_SRVMNL",348,"Service Manual","CAD","304309"]
["M-800VK_OVHGRD","M-800","VK_OVHGRD",3578,"Overhead Guard","CAD","304309"]
["M-800VK_PKG_SKD","M-800","VK_PKG_SKD","N/C","Skid","CAD","304309"]
["M-800VK_BLULGT","M-800","VK_BLULGT",1879,"Blue Light","CAD","304309"]
["M-800VK_ENGMNL","M-800","VK_ENGMNL",124,"Engine Manual","CAD","304309"]
["M-800VK_UPG","M-800","VK_UPG","N/C","UPG","CAD","304309"]
["M-800VK_CLNTOL_NYLFF","M-800","VK_CLNTOL_NYLFF",616,"Nylon Full Fill Brsh","CAD","304309"]
["M-800VK_CLNTOL_PYPW","M-800","VK_CLNTOL_PYPW","N/C","Poly & Wire Brush","CAD","304309"]
["M-800VK_RERTRE_SR","M-800","VK_RERTRE_SR",727,"Trs Rear Solid Rbr","CAD","304309"]
["M-800VK_CLMCTL_ACHP_D","M-800","VK_CLMCTL_ACHP_D",7846,"Air Cond./Heater/Pre","CAD","304309"]
["M-800VK_RODPKG","M-800","VK_RODPKG",1168,"Road package","CAD","304309"]
["M-800VK_HPRDOROPNLGT","M-800","VK_HPRDOROPNLGT",294,"HopperDoorOpenLight","CAD","304309"]
["M-800VK_CLMCTL_HP_D","M-800","VK_CLMCTL_HP_D",3374,"Heater/Pressurizer","CAD","304309"]
["M-800VK_CAB_STDC","M-800","VK_CAB_STDC",15811,"Cab","CAD","304309"]
["M-800VK_CLNTOL_OPYP","M-800","VK_CLNTOL_OPYP","N/C","Poly Brush Outdoor","CAD","304309"]
["M-800VK_CLNTOL_PYP","M-800","VK_CLNTOL_PYP","N/C","Poly Brush","CAD","304309"]
["M-800VK_CLMCTL_ACHP_GL","M-800","VK_CLMCTL_ACHP_GL",7846,"Air Cond./Heater/Pre","CAD","304309"]
["M-800VK_STLHPRFLR","M-800","VK_STLHPRFLR",1731,"StainlessHopperFloor","CAD","304309"]
["M-800VK_DSTCTLFLR_EFFM","M-800","VK_DSTCTLFLR_EFFM",1065,"Fine Media Cannister","CAD","304309"]
["M-800VK_FLRSYS_RFS","M-800","VK_FLRSYS_RFS",3557,"Regenerative F./Syst","CAD","304309"]
["M-800VK_ADOPRMNL","M-800","VK_ADOPRMNL",262,"Add. Opr Mnl","CAD","304309"]
["M-800VK_CLNTOL_NYL","M-800","VK_CLNTOL_NYL","N/C","Nylon Brush","CAD","304309"]
["M-800VK_FUECAP_PSFC","M-800","VK_FUECAP_PSFC",725,"Protecto-SealFuelCap","CAD","304309"]
["M-800VK_SDEBRSSPL_RH","M-800","VK_SDEBRSSPL_RH",285,"SideBrushSpotL.RH","CAD","304309"]
["M-800VK_FRTTRE_SR","M-800","VK_FRTTRE_SR",1449,"Frt Tire Solid Rbr","CAD","304309"]
["M-800VK_CLMCTL_HP_GL","M-800","VK_CLMCTL_HP_GL",3374,"Heater/Pressurizer","CAD","304309"]
["M-800VK_ADOPRMNL_D","M-800","VK_ADOPRMNL_D",262,"Add. Opr Mnl","CAD","304309"]
["M-800VK_CLNTOL_SWB","M-800","VK_CLNTOL_SWB",616,"Sand Wedge Brush","CAD","304309"]
["M-800VK_CLNTOL_CWB","M-800","VK_CLNTOL_CWB",616,"Crinkle Wire Brush","CAD","304309"]
["M-800VK_SDEBRSSPL_DUL","M-800","VK_SDEBRSSPL_DUL",1515,"SideBrushSpotL.Dual","CAD","304309"]
["M-800VK_SDEBRSMIR_D","M-800","VK_SDEBRSMIR_D",1411,"SideBrushMirror Dual","CAD","304309"]
["M-800VK_CSMSLN_RHC","M-800","VK_CSMSLN_RHC",21059,"Reduced Height Cab","CAD","304309"]
["M-800VK_FLRSYS_HEPA","M-800","VK_FLRSYS_HEPA",11256,"HEPA Filter System","CAD","304309"]
["M-800VK_BLWWND","M-800","VK_BLWWND",4211,"Blower Wand","CAD","304309"]
["M-800VK_SDEBRSLOC_D","M-800","VK_SDEBRSLOC_D",7580,"Side Brush: Dual","CAD","304309"]
["M-800VK_CLNTOL_NYLP","M-800","VK_CLNTOL_NYLP","N/C","Nylon Patrol Brush","CAD","304309"]
["M-800VK_SDEBRSMIR_RH","M-800","VK_SDEBRSMIR_RH",461,"SideBrushMirror RH","CAD","304309"]
["M-800VK_NTLSTT","M-800","VK_NTLSTT",354,"Neutral Start","CAD","304309"]
["M-T2VK_CHG_11A100V5060H1","M-T2","VK_CHG_11A100V5060H1","N/C","Ch11A 100V 5060H1P","CAD","306300"]
["M-T2VK_CLNTOL_PAD","M-T2","VK_CLNTOL_PAD","N/C","Pad Driver","CAD","306300"]
["M-T2VK_PADTYP_WHT3","M-T2","VK_PADTYP_WHT3",29,"Wh Polish 3M","CAD","306300"]
["M-T2VK_BASE_T2-430-D_STD","M-T2","VK_BASE_T2-430-D_STD",11537,"T2 WB Scrbbr 430/17 STD","CAD","306300"]
[{"$f":"B585&C585","v":"M-T2VK_PKG_PAD"},"M-T2","VK_PKG_PAD","N/C","Pad Wrap","CAD","306300"]
["M-T2VK_CSMFODCORLBL","M-T2","VK_CSMFODCORLBL",61,"Food Court Label","CAD","306300"]
["M-T2VK_CSMDRTWTRLBL","M-T2","VK_CSMDRTWTRLBL",61,"Dirty Water Label","CAD","306300"]
["M-T2VK_PADTYP_BWN3","M-T2","VK_PADTYP_BWN3",29,"Br Stripping - 3M","CAD","306300"]
["M-T2VK_PADTYP_MAR3","M-T2","VK_PADTYP_MAR3",40,"Mar Surf Prep 3M","CAD","306300"]
["M-T2VK_BTY_WO","M-T2","VK_BTY_WO",-630,"Without Battery","CAD","306300"]
["M-T2VK_PADTYP_BLKH3","M-T2","VK_PADTYP_BLKH3",42,"Blk Strip (HiPRO) 3M","CAD","306300"]
["M-T2VK_PADTYP_BLU3","M-T2","VK_PADTYP_BLU3",29,"Blu Scrub - 3M","CAD","306300"]
["M-T2VK_PADTYP_RED3","M-T2","VK_PADTYP_RED3",29,"Red Clean 3M","CAD","306300"]
["M-T2VK_PADTYP_YLW3","M-T2","VK_PADTYP_YLW3",104,"Ylw Polish 3M","CAD","306300"]
["M-T2VK_CHG_9A100V5060H1P","M-T2","VK_CHG_9A100V5060H1P","N/C","Ch9A 100V 5060H1P","CAD","306300"]
["M-T2VK_PKG_WSKD","M-T2","VK_PKG_WSKD","N/C","Skid w/Stretch Wrap","CAD","306300"]
["M-T2VK_BTY_W105C20","M-T2","VK_BTY_W105C20","N/C","Bty Wet 105AH C20","CAD","306300"]
["M-T2VK_BASE_T2-430-D","M-T2","VK_BASE_T2-430-D",11537,"T2-430-D","CAD","306300"]
["M-T2VK_BTY_G102C20","M-T2","VK_BTY_G102C20",487,"Bty Gel 102AH C20","CAD","306300"]
["M-T2VK_PARMNL","M-T2","VK_PARMNL",75,"Parts Manual","CAD","306300"]
["M-T2VK_CLNTOL_PYP","M-T2","VK_CLNTOL_PYP",323,"Poly Brush","CAD","306300"]
["M-T2VK_CLNTOL_NYL","M-T2","VK_CLNTOL_NYL",397,"Nylon Brush","CAD","306300"]
["M-T2VK_CLNTOL_ABB","M-T2","VK_CLNTOL_ABB",542,"Abrasive Brush","CAD","306300"]
["M-T2VK_ADLOPRMNL","M-T2","VK_ADLOPRMNL",186,"Add Operator Manual","CAD","306300"]
["M-T2VK_PKG_SSKD","M-T2","VK_PKG_SSKD","N/C","Stack Skid/Carton","CAD","306300"]
["M-T300VK_SVEEVMSWH","M-T300","VK_SVEEVMSWH",816,"SE Switch Capability","CAD","306307"]
["M-T300VK_CLNTOL_D600PAD","M-T300","VK_CLNTOL_D600PAD",302,"D600/24 Pad Driver","CAD","306307"]
["M-T300VK_RECHSE_PVC","M-T300","VK_RECHSE_PVC","N/C","PVC Matl w/Drain Cap","CAD","306307"]
["M-T300VK_CLNTOL_D600ABB","M-T300","VK_CLNTOL_D600ABB",532,"D600/24 Abr Brush","CAD","306307"]
["M-T300VK_TRM_PPAN","M-T300","VK_TRM_PPAN",1266,"ProPanel Ctrls","CAD","306307"]
["M-T300VK_PKG_SSKD","M-T300","VK_PKG_SSKD","N/C","Stack Skid/Carton","CAD","306307"]
["M-T300VK_CLNTOL_D430ABB","M-T300","VK_CLNTOL_D430ABB",527,"D430/17 Abr Brush","CAD","306307"]
["M-T300VK_CLNTOL_C500NYL","M-T300","VK_CLNTOL_C500NYL",300,"C500/20 Nylon Brush","CAD","306307"]
["M-T300VK_CLNTOL_D430NYL","M-T300","VK_CLNTOL_D430NYL",448,"D430/17 Nylon Brush","CAD","306307"]
["M-T300VK_CLNTOL_D500PYP","M-T300","VK_CLNTOL_D500PYP",469,"D500/20 Poly Brush","CAD","306307"]
["M-T300VK_RECHSE_PYPOR_DCO","M-T300","VK_RECHSE_PYPOR_DCO",47,"Poly Mat w/Drain Cap","CAD","306307"]
["M-T300VK_CLNTOL_D430PAD","M-T300","VK_CLNTOL_D430PAD",448,"D430/17 Pad Driver","CAD","306307"]
["M-T300VK_OPRMNL","M-T300","VK_OPRMNL","N/C","Oper Manual","CAD","306307"]
["M-T300VK_HRCLBLKIT","M-T300","VK_HRCLBLKIT",157,"Herc Label Kit","CAD","306307"]
["M-T300VK_PRGBRK","M-T300","VK_PRGBRK",259,"Parking Brake","CAD","306307"]
["M-T300VK_CLNTOL_D600NYL","M-T300","VK_CLNTOL_D600NYL",302,"D600/24 Nylon Brush","CAD","306307"]
["M-T300VK_BASE_T300-430-D_STD","M-T300","VK_BASE_T300-430-D_STD",10070,"T300 430mm D Std Config","CAD","306307"]
["M-T300VK_BASE_T300-500-C_STD","M-T300","VK_BASE_T300-500-C_STD",14769,"T300 500mm C Std Config","CAD","306307"]
["M-T300VK_BASE_T300-500-D_STD","M-T300","VK_BASE_T300-500-D_STD",11516,"T300 500mm D Std Config","CAD","306307"]
["M-T300VK_BASE_T300-500-O_STD","M-T300","VK_BASE_T300-500-O_STD",13035,"T300 500mm O Std Config","CAD","306307"]
["M-T300VK_BASE_T300-600-D_STD","M-T300","VK_BASE_T300-600-D_STD",13526,"T300 600mm D Std Config","CAD","306307"]
["M-T300VK_CLNTOL_D500PAD","M-T300","VK_CLNTOL_D500PAD",469,"D500/20 Pad Driver","CAD","306307"]
["M-T300VK_QITMOD","M-T300","VK_QITMOD","N/C","Quiet Mode","CAD","306307"]
["M-T300VK_SRVMNL","M-T300","VK_SRVMNL",178,"Service Manual","CAD","306307"]
["M-T300VK_BTY_WO","M-T300","VK_BTY_WO","N/C","Without Battery","CAD","306307"]
["M-T300VK_PADTYP_430RED3","M-T300","VK_PADTYP_430RED3",28,"430/17 Red Clean 3M","CAD","306307"]
["M-T300VK_PADTYP_600MAR3","M-T300","VK_PADTYP_600MAR3",25,"600/24 MarSur 3M","CAD","306307"]
["M-T300VK_PADTYP_600BWN3","M-T300","VK_PADTYP_600BWN3",20,"600/24 Br Strip 3M","CAD","306307"]
["M-T300VK_PADTYP_600WHT3","M-T300","VK_PADTYP_600WHT3",20,"600/24 Wh Polish 3M","CAD","306307"]
["M-T300VK_RECHSE_PYPOR_PC","M-T300","VK_RECHSE_PYPOR_PC","N/C","Poly Mat w/Pinch Cuff","CAD","306307"]
["M-T300VK_PADTYP_O500BLU3","M-T300","VK_PADTYP_O500BLU3",34,"Orb 500/20 Blu 3M","CAD","306307"]
["M-T300VK_PADTYP_O500RED3","M-T300","VK_PADTYP_O500RED3",34,"Orb 500/20 Red 3M","CAD","306307"]
["M-T300VK_PADTYP_O500WHT3","M-T300","VK_PADTYP_O500WHT3",34,"Orb 500/20 Wht 3M","CAD","306307"]
["M-T300VK_CLNTOL_D600PYP","M-T300","VK_CLNTOL_D600PYP",302,"D600/24 Poly Brush","CAD","306307"]
["M-T300VK_CLNTOL_D500ABB","M-T300","VK_CLNTOL_D500ABB",717,"D500/20 Abr Brush","CAD","306307"]
["M-T300VK_PADTYP_O500MAR3","M-T300","VK_PADTYP_O500MAR3",86,"Orb 500/20 Mar 3M","CAD","306307"]
["M-T300VK_PKG_WSKD","M-T300","VK_PKG_WSKD","N/C","Skid w/Stretch Wrap","CAD","306307"]
["M-T300VK_CLNTOL_D430PYP","M-T300","VK_CLNTOL_D430PYP",448,"D430/17 Poly Brush","CAD","306307"]
["M-T300VK_CHG_WO","M-T300","VK_CHG_WO","N/C","Without Charger","CAD","306307"]
["M-T300VK_PADTYP_600RED3","M-T300","VK_PADTYP_600RED3",20,"600/24 Red Clean 3M","CAD","306307"]
["M-T300VK_PADTYP_500WHT3","M-T300","VK_PADTYP_500WHT3",35,"500/20 Wh Polish 3M","CAD","306307"]
["M-T300VK_PADTYP_500RED3","M-T300","VK_PADTYP_500RED3",35,"500/20 Red Clean 3M","CAD","306307"]
["M-T300VK_PADTYP_500MAR3","M-T300","VK_PADTYP_500MAR3",43,"500/20 MarSur 3M","CAD","306307"]
[{"$f":"B649&C649","v":"M-T300VK_PADTYP_500BWN3"},"M-T300","VK_PADTYP_500BWN3",35,"500/20 Br Strip 3M","CAD","306307"]
["M-T300VK_PADTYP_500BLU3","M-T300","VK_PADTYP_500BLU3",35,"500/20 Bl Scrub 3M","CAD","306307"]
["M-T300VK_PADTYP_500BLKH3","M-T300","VK_PADTYP_500BLKH3",39,"500/20 Blk HiPro 3M","CAD","306307"]
["M-T300VK_PADTYP_430WHT3","M-T300","VK_PADTYP_430WHT3",28,"430/17 Wh Polish 3M","CAD","306307"]
["M-T300VK_PADTYP_430MAR3","M-T300","VK_PADTYP_430MAR3",37,"430/17 MarSur 3M","CAD","306307"]
["M-T300VK_PADTYP_430BWN3","M-T300","VK_PADTYP_430BWN3",28,"430/17 Br Strip 3M","CAD","306307"]
["M-T300VK_PADTYP_430BLU3","M-T300","VK_PADTYP_430BLU3",28,"430/17 Bl Scrub 3M","CAD","306307"]
["M-T300VK_PADTYP_430BLKH3","M-T300","VK_PADTYP_430BLKH3",39,"430/17 Blk HiPro 3M","CAD","306307"]
["M-T300VK_PADTYP_600BLU3","M-T300","VK_PADTYP_600BLU3",20,"600/24 Bl Scrub 3M","CAD","306307"]
["M-T300VK_PADTYP_600BLKH3","M-T300","VK_PADTYP_600BLKH3",25,"600/24 Blk HiPro 3M","CAD","306307"]
["M-T300VK_CLNDRT_PBA","M-T300","VK_CLNDRT_PBA","N/C","Pad / Brush Assist","CAD","306307"]
["M-T300VK_CLNDRT_SP","M-T300","VK_CLNDRT_SP",2096,"Self Propel","CAD","306307"]
["M-T300VK_CLNTCH_ECH2ON","M-T300","VK_CLNTCH_ECH2ON",2907,"ec-H2O™ NanoClean","CAD","306307"]
["M-T300VK_CLNTOL_C500PYP","M-T300","VK_CLNTOL_C500PYP",183,"C500/20 Poly Brush","CAD","306307"]
["M-T300VK_TRM_PMEM","M-T300","VK_TRM_PMEM",386,"Pro Membrane Panel","CAD","306307"]
["M-T300VK_SVEEVMSWHLKT","M-T300","VK_SVEEVMSWHLKT",83,"SE Switch Lockout","CAD","306307"]
["M-T300VK_PARMNL","M-T300","VK_PARMNL",72,"Parts Manual","CAD","306307"]
["M-T300VK_CHG_13A85V5060H1P_ON","M-T300","VK_CHG_13A85V5060H1P_ON","N/C","Ch13A 85V 50/60Hz On","CAD","306307"]
["M-T300VK_CHG_13A85V5060H1P_OFF","M-T300","VK_CHG_13A85V5060H1P_OFF","N/C","Ch13A 85V 50/60H Off","CAD","306307"]
["M-T300VK_BTY_W150C20","M-T300","VK_BTY_W150C20",1130,"Bty Wet 150AH C20","CAD","306307"]
["M-T300VK_BTY_W130C20","M-T300","VK_BTY_W130C20",946,"Bty Wet 130AH C20","CAD","306307"]
["M-T300VK_BTY_W105C20","M-T300","VK_BTY_W105C20",842,"Bty Wet 105AH C20","CAD","306307"]
["M-T300VK_BTY_A140C20","M-T300","VK_BTY_A140C20",2668,"Bty AGM 140AH C20","CAD","306307"]
["M-T300VK_BTYWTRSYS","M-T300","VK_BTYWTRSYS",759,"Battery Watering Sys","CAD","306307"]
["M-T300VK_BTYLFTBOX","M-T300","VK_BTYLFTBOX",241,"Battery Lift Box","CAD","306307"]
["M-T300VK_BASE_T300-600-D","M-T300","VK_BASE_T300-600-D",13526,"T300-600-D","CAD","306307"]
["M-T300VK_BASE_T300-500-O","M-T300","VK_BASE_T300-500-O",13035,"T300-500-O","CAD","306307"]
["M-T300VK_BASE_T300-500-D","M-T300","VK_BASE_T300-500-D",11516,"T300-500-D","CAD","306307"]
["M-T300VK_BASE_T300-500-C","M-T300","VK_BASE_T300-500-C",14769,"T300-500-C","CAD","306307"]
["M-T300VK_BASE_T300-430-D","M-T300","VK_BASE_T300-430-D",10070,"T300-430-D","CAD","306307"]
["M-T300VK_ADLOPRMNL","M-T300","VK_ADLOPRMNL",178,"Add Operator Manual","CAD","306307"]
["M-T300VK_TRM_MPAN","M-T300","VK_TRM_MPAN","N/C","Membrane Ctrl Panel","CAD","306307"]
["M-T300VK_MCHCOM","M-T300","VK_MCHCOM",1916,"IRIS Telemetry","CAD","306307"]
["M-T300VK_CLNTOL_D500NYL","M-T300","VK_CLNTOL_D500NYL",469,"D500/20 Nylon Brush","CAD","306307"]
["M-T300VK_DWNPRS_MEC","M-T300","VK_DWNPRS_MEC","N/C","Mech Down Pressure","CAD","306307"]
["M-T300VK_DWNPRS_AUT","M-T300","VK_DWNPRS_AUT","N/C","Auto Down Pressure","CAD","306307"]
["M-T300EVK_PADTYP_430RED3","M-T300E","VK_PADTYP_430RED3",28,"430/17 Red Clean 3M","CAD","306308"]
["M-T300EVK_PADTYP_430BLU3","M-T300E","VK_PADTYP_430BLU3",28,"430/17 Bl Scrub 3M","CAD","306308"]
["M-T300EVK_BASE_T300E-500-D_STD","M-T300E","VK_BASE_T300E-500-D_STD",9440,"T300E 500mm Disk Std","CAD","306308"]
["M-T300EVK_MCHCOM_SBT","M-T300E","VK_MCHCOM_SBT",1916,"IRIS Telemetry","CAD","306308"]
["M-T300EVK_BASE_T300E-600-D_STD","M-T300E","VK_BASE_T300E-600-D_STD",10151,"T300E 600mm Disk Std","CAD","306308"]
["M-T300EVK_BASE_T300E-500-O_STD","M-T300E","VK_BASE_T300E-500-O_STD",10621,"T300E 500mm Orb Std","CAD","306308"]
["M-T300EVK_BASE_T300E-430-D_STD","M-T300E","VK_BASE_T300E-430-D_STD",8341,"T300E 430mm Disk Std","CAD","306308"]
["M-T300EVK_RECHSE_PYPOR_PC","M-T300E","VK_RECHSE_PYPOR_PC","N/C","Poly Mat w/Pinch Cuff","CAD","306308"]
["M-T300EVK_RECHSE_PYPOR_DCO","M-T300E","VK_RECHSE_PYPOR_DCO",47,"Poly Mat w/Drain Cap","CAD","306308"]
["M-T300EVK_RECHSE_PVC","M-T300E","VK_RECHSE_PVC","N/C","PVC Matl w/Drain Cap","CAD","306308"]
["M-T300EVK_SRVMNL","M-T300E","VK_SRVMNL",178,"Service Manual","CAD","306308"]
["M-T300EVK_PKG_SSKD","M-T300E","VK_PKG_SSKD","N/C","Stack Skid/Carton","CAD","306308"]
["M-T300EVK_CLNTCH_CNV","M-T300E","VK_CLNTCH_CNV","N/C","Conventional","CAD","306308"]
["M-T300EVK_PADTYP_O500RED3","M-T300E","VK_PADTYP_O500RED3",34,"Orb 500/20 Red 3M","CAD","306308"]
["M-T300EVK_PADTYP_O500MAR3","M-T300E","VK_PADTYP_O500MAR3",86,"Orb 500/20 Mar 3M","CAD","306308"]
["M-T300EVK_PADTYP_500BLKH3","M-T300E","VK_PADTYP_500BLKH3",39,"500/20 Blk HiPro 3M","CAD","306308"]
["M-T300EVK_PADTYP_430MAR3","M-T300E","VK_PADTYP_430MAR3",37,"430/17 MarSur 3M","CAD","306308"]
["M-T300EVK_PKG_PAD","M-T300E","VK_PKG_PAD","N/C","Pad Wrap","CAD","306308"]
["M-T300EVK_CLNTOL_D600PYP_IC","M-T300E","VK_CLNTOL_D600PYP_IC",302,"D600/24 PolyBrush-IC","CAD","306308"]
["M-T300EVK_CLNTOL_D600PAD_IC","M-T300E","VK_CLNTOL_D600PAD_IC",302,"D600/24 PadDriver-IC","CAD","306308"]
["M-T300EVK_CLNTOL_D600NYL_IC","M-T300E","VK_CLNTOL_D600NYL_IC",302,"D600/24 Nyl Brush-IC","CAD","306308"]
["M-T300EVK_CLNTOL_D600ABB_IC","M-T300E","VK_CLNTOL_D600ABB_IC",522,"D600/24 Abr Brush-IC","CAD","306308"]
["M-T300EVK_CLNTOL_D500PYP_IC","M-T300E","VK_CLNTOL_D500PYP_IC",469,"D500/20 PolyBrush-IC","CAD","306308"]
["M-T300EVK_CLNTOL_D500PAD_IC","M-T300E","VK_CLNTOL_D500PAD_IC",469,"D500/20 PadDriver-IC","CAD","306308"]
["M-T300EVK_CLNTOL_D500NYL_IC","M-T300E","VK_CLNTOL_D500NYL_IC",469,"D500/20 Nyl Brush-IC","CAD","306308"]
["M-T300EVK_CLNTOL_D500ABB_IC","M-T300E","VK_CLNTOL_D500ABB_IC",717,"D500/20 Abr Brush-IC","CAD","306308"]
["M-T300EVK_CLNTOL_D430PYP_IC","M-T300E","VK_CLNTOL_D430PYP_IC",448,"D430/17 PolyBrush-IC","CAD","306308"]
["M-T300EVK_CLNTOL_D430PAD_IC","M-T300E","VK_CLNTOL_D430PAD_IC",448,"D430/17 PadDriver-IC","CAD","306308"]
[{"$f":"B713&C713","v":"M-T300EVK_CLNTOL_D430NYL_IC"},"M-T300E","VK_CLNTOL_D430NYL_IC",448,"D430/17 Nyl Brush IC","CAD","306308"]
["M-T300EVK_CLNTOL_D430ABB_IC","M-T300E","VK_CLNTOL_D430ABB_IC",527,"D430/17 Abr Brush IC","CAD","306308"]
["M-T300EVK_ATT_IC_T300E","M-T300E","VK_ATT_IC_T300E",563,"Insta-Click™","CAD","306308"]
["M-T300EVK_MCHCOM","M-T300E","VK_MCHCOM",1916,"IRIS Telemetry","CAD","306308"]
["M-T300EVK_PADTYP_430YLW3","M-T300E","VK_PADTYP_430YLW3",98,"430/17 Ylw Polish 3M","CAD","306308"]
["M-T300EVK_PADTYP_500YLW3","M-T300E","VK_PADTYP_500YLW3",116,"500/20 Ylw Polish 3M","CAD","306308"]
["M-T300EVK_PADTYP_600YLW3","M-T300E","VK_PADTYP_600YLW3",62,"600/24 Ylw Polish 3M","CAD","306308"]
["M-T300EVK_PADTYP_O500YLW3","M-T300E","VK_PADTYP_O500YLW3",190,"Orb 500/20 Ylw 3M","CAD","306308"]
["M-T300EVK_CHG_13A85V5060H1P_OFF","M-T300E","VK_CHG_13A85V5060H1P_OFF","N/C","Ch13A 85V 50/60H Off","CAD","306308"]
["M-T300EVK_CHG_13A85V5060H1P_ON","M-T300E","VK_CHG_13A85V5060H1P_ON","N/C","Ch13A 85V 50/60Hz On","CAD","306308"]
["M-T300EVK_CLNTOL_D600PYP","M-T300E","VK_CLNTOL_D600PYP",302,"D600/24 Poly Brush","CAD","306308"]
["M-T300EVK_PKG_SSKD_NC","M-T300E","VK_PKG_SSKD_NC","N/C","Stack Skid/Carton","CAD","306308"]
["M-T300EVK_PKG_WSKD","M-T300E","VK_PKG_WSKD","N/C","Skid w/Stretch Wrap","CAD","306308"]
["M-T300EVK_PRGBRK","M-T300E","VK_PRGBRK",259,"Parking Brake","CAD","306308"]
["M-T300EVK_CSMSBTPARKIT","M-T300E","VK_CSMSBTPARKIT",2063,"Sunbelt -Parts Kit","CAD","306308"]
["M-T300EVK_ADLOPRMNL","M-T300E","VK_ADLOPRMNL",178,"Add Operator Manual","CAD","306308"]
["M-T300EVK_OPRMNL","M-T300E","VK_OPRMNL","N/C","Oper Manual","CAD","306308"]
["M-T300EVK_CLNTOL_D600PAD","M-T300E","VK_CLNTOL_D600PAD",302,"D600/24 Pad Driver","CAD","306308"]
["M-T300EVK_CLNTOL_D600NYL","M-T300E","VK_CLNTOL_D600NYL",302,"D600/24 Nylon Brush","CAD","306308"]
["M-T300EVK_CLNTOL_D600ABB","M-T300E","VK_CLNTOL_D600ABB",418,"D600/24 Abr Brush","CAD","306308"]
["M-T300EVK_CLNTOL_D500PYP","M-T300E","VK_CLNTOL_D500PYP",368,"D500/20 Poly Brush","CAD","306308"]
["M-T300EVK_CLNTOL_D500PAD","M-T300E","VK_CLNTOL_D500PAD",368,"D500/20 Pad Driver","CAD","306308"]
["M-T300EVK_CLNTOL_D500NYL","M-T300E","VK_CLNTOL_D500NYL",368,"D500/20 Nylon Brush","CAD","306308"]
["M-T300EVK_CLNTOL_D500ABB","M-T300E","VK_CLNTOL_D500ABB",677,"D500/20 Abr Brush","CAD","306308"]
["M-T300EVK_CLNTOL_D430PYP","M-T300E","VK_CLNTOL_D430PYP",315,"D430/17 Poly Brush","CAD","306308"]
["M-T300EVK_CLNTOL_D430PAD","M-T300E","VK_CLNTOL_D430PAD",315,"D430/17 Pad Driver","CAD","306308"]
["M-T300EVK_CLNTOL_D430NYL","M-T300E","VK_CLNTOL_D430NYL",315,"D430/17 Nylon Brush","CAD","306308"]
["M-T300EVK_CLNTOL_D430ABB","M-T300E","VK_CLNTOL_D430ABB",500,"D430/17 Abr Brush","CAD","306308"]
["M-T300EVK_CLNTOL_C500PYP","M-T300E","VK_CLNTOL_C500PYP",183,"C500/20 Poly Brush","CAD","306308"]
["M-T300EVK_CLNTOL_C500NYL","M-T300E","VK_CLNTOL_C500NYL",300,"C500/20 Nylon Brush","CAD","306308"]
["M-T300EVK_PARMNL","M-T300E","VK_PARMNL",72,"Parts Manual","CAD","306308"]
["M-T300EVK_ATT_CNV_T300E","M-T300E","VK_ATT_CNV_T300E","N/C","Conventional - 3 Lug","CAD","306308"]
["M-T300EVK_PADTYP_500BWN3","M-T300E","VK_PADTYP_500BWN3",35,"500/20 Br Strip 3M","CAD","306308"]
["M-T300EVK_PADTYP_500MAR3","M-T300E","VK_PADTYP_500MAR3",43,"500/20 MarSur 3M","CAD","306308"]
["M-T300EVK_PADTYP_500RED3","M-T300E","VK_PADTYP_500RED3",35,"500/20 Red Clean 3M","CAD","306308"]
["M-T300EVK_PADTYP_500WHT3","M-T300E","VK_PADTYP_500WHT3",35,"500/20 Wh Polish 3M","CAD","306308"]
["M-T300EVK_PADTYP_600BLKH3","M-T300E","VK_PADTYP_600BLKH3",25,"600/24 Blk HiPro 3M","CAD","306308"]
["M-T300EVK_PADTYP_600BLU3","M-T300E","VK_PADTYP_600BLU3",20,"600/24 Bl Scrub 3M","CAD","306308"]
["M-T300EVK_PADTYP_600BWN3","M-T300E","VK_PADTYP_600BWN3",20,"600/24 Br Strip 3M","CAD","306308"]
["M-T300EVK_PADTYP_600MAR3","M-T300E","VK_PADTYP_600MAR3",25,"600/24 MarSur 3M","CAD","306308"]
["M-T300EVK_PADTYP_600RED3","M-T300E","VK_PADTYP_600RED3",20,"600/24 Red Clean 3M","CAD","306308"]
["M-T300EVK_PADTYP_600WHT3","M-T300E","VK_PADTYP_600WHT3",20,"600/24 Wh Polish 3M","CAD","306308"]
["M-T300EVK_PADTYP_O500BLU3","M-T300E","VK_PADTYP_O500BLU3",34,"Orb 500/20 Blu 3M","CAD","306308"]
["M-T300EVK_PADTYP_O500WHT3","M-T300E","VK_PADTYP_O500WHT3",34,"Orb 500/20 Wht 3M","CAD","306308"]
["M-T300EVK_BASE_T300E-430-D","M-T300E","VK_BASE_T300E-430-D",8341,"T300E-430-D","CAD","306308"]
["M-T300EVK_BASE_T300E-500-D","M-T300E","VK_BASE_T300E-500-D",9440,"T300E-500-D","CAD","306308"]
["M-T300EVK_BASE_T300E-500-O","M-T300E","VK_BASE_T300E-500-O",10621,"T300E-500-O","CAD","306308"]
["M-T300EVK_BASE_T300E-600-D","M-T300E","VK_BASE_T300E-600-D",10151,"T300E-600-D","CAD","306308"]
["M-T300EVK_BTYLFTBOX","M-T300E","VK_BTYLFTBOX",241,"Battery Lift Box","CAD","306308"]
["M-T300EVK_BTYWTRSYS","M-T300E","VK_BTYWTRSYS",759,"Battery Watering Sys","CAD","306308"]
["M-T300EVK_BTY_A140C20","M-T300E","VK_BTY_A140C20",2668,"Bty AGM 140AH C20","CAD","306308"]
["M-T300EVK_BTY_W105C20","M-T300E","VK_BTY_W105C20",842,"Bty Wet 105AH C20","CAD","306308"]
["M-T300EVK_BTY_W130C20","M-T300E","VK_BTY_W130C20",946,"Bty Wet 130AH C20","CAD","306308"]
["M-T300EVK_BTY_W150C20","M-T300E","VK_BTY_W150C20",1130,"Bty Wet 150AH C20","CAD","306308"]
["M-T300EVK_BTY_WO","M-T300E","VK_BTY_WO","N/C","Without Battery","CAD","306308"]
["M-T300EVK_CHG_WO","M-T300E","VK_CHG_WO","N/C","Without Charger","CAD","306308"]
["M-T300EVK_CLNDRT_PBA","M-T300E","VK_CLNDRT_PBA","N/C","Pad / Brush Assist","CAD","306308"]
["M-T300EVK_CLNDRT_SP","M-T300E","VK_CLNDRT_SP",2096,"Self Propel","CAD","306308"]
["M-T300EVK_CLNTCH_ECH2ON","M-T300E","VK_CLNTCH_ECH2ON",2907,"ec-H2O™ NanoClean","CAD","306308"]
["M-T300EVK_DWN_PRS_MLT_C","M-T300E","VK_DWN_PRS_MLT_C",480,"Multi DD Press-Cyl","CAD","306308"]
["M-T300EVK_DWN_PRS_MLT_DO","M-T300E","VK_DWN_PRS_MLT_DO",480,"Multi DD Press-D/O","CAD","306308"]
["M-T300EVK_DWN_PRS_SGL","M-T300E","VK_DWN_PRS_SGL","N/C","Single D Pressure","CAD","306308"]
["M-T300EVK_PADTYP_430BLKH3","M-T300E","VK_PADTYP_430BLKH3",39,"430/17 Blk HiPro 3M","CAD","306308"]
["M-T300EVK_PADTYP_430BWN3","M-T300E","VK_PADTYP_430BWN3",28,"430/17 Br Strip 3M","CAD","306308"]
[{"$f":"B777&C777","v":"M-T300EVK_PADTYP_430WHT3"},"M-T300E","VK_PADTYP_430WHT3",28,"430/17 Wh Polish 3M","CAD","306308"]
["M-T300EVK_PADTYP_500BLU3","M-T300E","VK_PADTYP_500BLU3",35,"500/20 Bl Scrub 3M","CAD","306308"]
["M-SS300VK_BTY_W130C20","M-SS300","VK_BTY_W130C20",946,"Bty Wet 130AH C20","CAD","306309"]
["M-SS300VK_PADTYP_430BWN3","M-SS300","VK_PADTYP_430BWN3",28,"430/17 Br Strip 3M","CAD","306309"]
["M-SS300VK_OPRMNL","M-SS300","VK_OPRMNL","N/C","Oper Manual","CAD","306309"]
["M-SS300VK_CLNTOL_C500NYL","M-SS300","VK_CLNTOL_C500NYL",300,"C500/20 Nylon Brush","CAD","306309"]
["M-SS300VK_CLNTOL_D500ABB_QC","M-SS300","VK_CLNTOL_D500ABB_QC",717,"D500/20 Abr Brush-QC","CAD","306309"]
["M-SS300VK_PADTYP_430BLKH3","M-SS300","VK_PADTYP_430BLKH3",39,"430/17 Blk HiPro 3M","CAD","306309"]
["M-SS300VK_BASE_SS300-500-D_STD","M-SS300","VK_BASE_SS300-500-D_STD",9440,"500 SS300 Disk STD","CAD","306309"]
["M-SS300VK_BASE_SS300-430-D_STD","M-SS300","VK_BASE_SS300-430-D_STD",8341,"430 SS300 Disk STD","CAD","306309"]
["M-SS300VK_CHG_WO","M-SS300","VK_CHG_WO","N/C","Without Charger","CAD","306309"]
["M-SS300VK_CLNTOL_D430ABB","M-SS300","VK_CLNTOL_D430ABB",527,"D430/17 Abr Brush","CAD","306309"]
["M-SS300VK_PADTYP_500MAR3","M-SS300","VK_PADTYP_500MAR3",43,"500/20 MarSur 3M","CAD","306309"]
["M-SS300VK_CLNTOL_D600ABB_IC","M-SS300","VK_CLNTOL_D600ABB_IC",522,"D600/24 Abr Brush-IC","CAD","306309"]
["M-SS300VK_BASE_SS300-600-D_STD","M-SS300","VK_BASE_SS300-600-D_STD",10151,"600 SS300 Disk STD","CAD","306309"]
["M-SS300VK_PADTYP_500BLU3","M-SS300","VK_PADTYP_500BLU3",35,"500/20 Bl Scrub 3M","CAD","306309"]
["M-SS300VK_BASE_SS300-500-C_STD","M-SS300","VK_BASE_SS300-500-C_STD",12788,"500 SS300 Cyl STD","CAD","306309"]
["M-SS300VK_CLNTOL_D430PAD_QC","M-SS300","VK_CLNTOL_D430PAD_QC",448,"D430/17 PadDriver-QC","CAD","306309"]
["M-SS300VK_CLNTOL_D500PAD","M-SS300","VK_CLNTOL_D500PAD",368,"D500/20 Pad Driver","CAD","306309"]
["M-SS300VK_CLNTOL_D600PAD_IC","M-SS300","VK_CLNTOL_D600PAD_IC",302,"D600/24 PadDriver-IC","CAD","306309"]
["M-SS300VK_PADTYP_500BWN3","M-SS300","VK_PADTYP_500BWN3",35,"500/20 Br Strip 3M","CAD","306309"]
["M-SS300VK_CLNTOL_D430PYP","M-SS300","VK_CLNTOL_D430PYP",323,"D430/17 Poly Brush","CAD","306309"]
["M-SS300VK_PKG_WSKD","M-SS300","VK_PKG_WSKD","N/C","Skid w/Stretch Wrap","CAD","306309"]
["M-SS300VK_PADTYP_500WHT3","M-SS300","VK_PADTYP_500WHT3",35,"500/20 Wh Polish 3M","CAD","306309"]
["M-SS300VK_CLNTOL_D600PAD","M-SS300","VK_CLNTOL_D600PAD",302,"D600/24 Pad Driver","CAD","306309"]
["M-SS300VK_CHG_13A85V5060H1P_ON","M-SS300","VK_CHG_13A85V5060H1P_ON","N/C","Ch13A 85V 50/60Hz On","CAD","306309"]
["M-SS300VK_PADTYP_430WHT3","M-SS300","VK_PADTYP_430WHT3",28,"430/17 Wh Polish 3M","CAD","306309"]
["M-SS300VK_CLNTOL_D600NYL_IC","M-SS300","VK_CLNTOL_D600NYL_IC",302,"D600/24 Nyl Brush-IC","CAD","306309"]
["M-SS300VK_BTY_W150C20","M-SS300","VK_BTY_W150C20",1130,"Bty Wet 150AH C20","CAD","306309"]
["M-SS300VK_ADLOPRMNL","M-SS300","VK_ADLOPRMNL",178,"Add Operator Manual","CAD","306309"]
["M-SS300VK_DWNPRS_MLT_C","M-SS300","VK_DWNPRS_MLT_C",480,"Multi DD Press-Cyl","CAD","306309"]
["M-SS300VK_PKG_PAD","M-SS300","VK_PKG_PAD","N/C","Pad Wrap","CAD","306309"]
["M-SS300VK_DWNPRS_MLT_DO","M-SS300","VK_DWNPRS_MLT_DO",480,"Multi DD Press-D/O","CAD","306309"]
["M-SS300VK_PADTYP_600WHT3","M-SS300","VK_PADTYP_600WHT3",20,"600/24 Wh Polish 3M","CAD","306309"]
["M-SS300VK_PADTYP_600RED3","M-SS300","VK_PADTYP_600RED3",20,"600/24 Red Clean 3M","CAD","306309"]
["M-SS300VK_ATT_QC_SS300","M-SS300","VK_ATT_QC_SS300",563,"Insta-Click™","CAD","306309"]
["M-SS300VK_PADTYP_O500WHT3","M-SS300","VK_PADTYP_O500WHT3",34,"Orb 500/20 Wht 3M","CAD","306309"]
["M-SS300VK_BTY_WO","M-SS300","VK_BTY_WO","N/C","Without Battery","CAD","306309"]
["M-SS300VK_PARMNL","M-SS300","VK_PARMNL",72,"Parts Manual","CAD","306309"]
["M-SS300VK_BASE_SS300-500-O_STD","M-SS300","VK_BASE_SS300-500-O_STD",10621,"500 SS300 Orbital STD","CAD","306309"]
["M-SS300VK_RECHSE_PYPOR_PC","M-SS300","VK_RECHSE_PYPOR_PC","N/C","Poly Mat w/Pinch Cuff","CAD","306309"]
["M-SS300VK_PKG_SSKD_NC","M-SS300","VK_PKG_SSKD_NC","N/C","Stack Skid/Carton","CAD","306309"]
["M-SS300VK_MCHCOM","M-SS300","VK_MCHCOM",1916,"IRIS Telemetry","CAD","306309"]
["M-SS300VK_CLNTOL_C500PYP","M-SS300","VK_CLNTOL_C500PYP",183,"C500/20 Poly Brush","CAD","306309"]
["M-SS300VK_CLNTCH_ECH2ON","M-SS300","VK_CLNTCH_ECH2ON",2907,"ec-H2O™ NanoClean","CAD","306309"]
["M-SS300VK_CLNDRT_SP","M-SS300","VK_CLNDRT_SP",2096,"Self Propel","CAD","306309"]
["M-SS300VK_CLNDRT_PBA","M-SS300","VK_CLNDRT_PBA","N/C","Pad / Brush Assist","CAD","306309"]
["M-SS300VK_CHG_13A85V5060H1P_OFF","M-SS300","VK_CHG_13A85V5060H1P_OFF","N/C","Ch13A 85V 50/60H Off","CAD","306309"]
["M-SS300VK_BTY_W105C20","M-SS300","VK_BTY_W105C20",842,"Bty Wet 105AH C20","CAD","306309"]
["M-SS300VK_BTY_A140C20","M-SS300","VK_BTY_A140C20",2668,"Bty AGM 140AH C20","CAD","306309"]
["M-SS300VK_CLNTOL_D500NYL","M-SS300","VK_CLNTOL_D500NYL",368,"D500/20 Nylon Brush","CAD","306309"]
["M-SS300VK_CLNTOL_D500ABB_IC","M-SS300","VK_CLNTOL_D500ABB_IC",717,"D500/20 Abr Brush-IC","CAD","306309"]
["M-SS300VK_CLNTOL_D500ABB","M-SS300","VK_CLNTOL_D500ABB",677,"D500/20 Abr Brush","CAD","306309"]
["M-SS300VK_CLNTOL_D430PYP_QC","M-SS300","VK_CLNTOL_D430PYP_QC",448,"D430/17 PolyBrush-QC","CAD","306309"]
["M-SS300VK_CLNTOL_D430PYP_IC","M-SS300","VK_CLNTOL_D430PYP_IC",448,"D430/17 PolyBrush-IC","CAD","306309"]
["M-SS300VK_CLNTOL_D430PAD_IC","M-SS300","VK_CLNTOL_D430PAD_IC",448,"D430/17 PadDriver-IC","CAD","306309"]
["M-SS300VK_CLNTOL_D430PAD","M-SS300","VK_CLNTOL_D430PAD",323,"D430/17 Pad Driver","CAD","306309"]
["M-SS300VK_CLNTOL_D430NYL_QC","M-SS300","VK_CLNTOL_D430NYL_QC",448,"D430/17 Nyl Brush QC","CAD","306309"]
["M-SS300VK_CLNTOL_D430NYL_IC","M-SS300","VK_CLNTOL_D430NYL_IC",448,"D430/17 Nyl Brush IC","CAD","306309"]
["M-SS300VK_CLNTOL_D430NYL","M-SS300","VK_CLNTOL_D430NYL",323,"D430/17 Nylon Brush","CAD","306309"]
["M-SS300VK_CLNTOL_D430ABB_QC","M-SS300","VK_CLNTOL_D430ABB_QC",500,"D430/17 Abr Brush QC","CAD","306309"]
["M-SS300VK_CLNTOL_D430ABB_IC","M-SS300","VK_CLNTOL_D430ABB_IC",527,"D430/17 Abr Brush IC","CAD","306309"]
["M-SS300VK_BTYWTRSYS","M-SS300","VK_BTYWTRSYS",759,"Battery Watering Sys","CAD","306309"]
["M-SS300VK_BTYLFTBOX","M-SS300","VK_BTYLFTBOX",241,"Battery Lift Box","CAD","306309"]
[{"$f":"B841&C841","v":"M-SS300VK_BASE_SS300-600-D"},"M-SS300","VK_BASE_SS300-600-D",10151,"SS300-600-D","CAD","306309"]
["M-SS300VK_BASE_SS300-500-O","M-SS300","VK_BASE_SS300-500-O",10621,"SS300-500-O","CAD","306309"]
["M-SS300VK_BASE_SS300-500-D","M-SS300","VK_BASE_SS300-500-D",9440,"SS300-500-D","CAD","306309"]
["M-SS300VK_BASE_SS300-500-C","M-SS300","VK_BASE_SS300-500-C",12788,"SS300-500-C","CAD","306309"]
["M-SS300VK_BASE_SS300-430-D","M-SS300","VK_BASE_SS300-430-D",8341,"SS300-430-D","CAD","306309"]
["M-SS300VK_ATT_IC_SS300","M-SS300","VK_ATT_IC_SS300",563,"Insta-Click™","CAD","306309"]
["M-SS300VK_ATT_CNV_SS300","M-SS300","VK_ATT_CNV_SS300","N/C","Conventional - 3 Lug","CAD","306309"]
["M-SS300VK_ACCCLP","M-SS300","VK_ACCCLP","N/C","Accessory Clip","CAD","306309"]
["M-SS300VK_PADTYP_430YLW3","M-SS300","VK_PADTYP_430YLW3",98,"430/17 Ylw Polish 3M","CAD","306309"]
["M-SS300VK_PADTYP_500YLW3","M-SS300","VK_PADTYP_500YLW3",116,"500/20 Ylw Polish 3M","CAD","306309"]
["M-SS300VK_PADTYP_600YLW3","M-SS300","VK_PADTYP_600YLW3",62,"600/24 Ylw Polish 3M","CAD","306309"]
["M-SS300VK_PADTYP_O500YLW3","M-SS300","VK_PADTYP_O500YLW3",68,"Orb 500/20 Ylw 3M","CAD","306309"]
["M-SS300VK_PADTYP_500RED3","M-SS300","VK_PADTYP_500RED3",35,"500/20 Red Clean 3M","CAD","306309"]
["M-SS300VK_PADTYP_500BLKH3","M-SS300","VK_PADTYP_500BLKH3",39,"500/20 Blk HiPro 3M","CAD","306309"]
["M-SS300VK_PADTYP_430RED3","M-SS300","VK_PADTYP_430RED3",28,"430/17 Red Clean 3M","CAD","306309"]
["M-SS300VK_SRVMNL","M-SS300","VK_SRVMNL",178,"Service Manual","CAD","306309"]
["M-SS300VK_REC_TNK_DEB_TRY","M-SS300","VK_REC_TNK_DEB_TRY",40,"Rec.Tank Debris Tray","CAD","306309"]
["M-SS300VK_RECHSE_PYPOR_DCO","M-SS300","VK_RECHSE_PYPOR_DCO",47,"Poly Mat w/Drain Cap","CAD","306309"]
["M-SS300VK_PRGBRK","M-SS300","VK_PRGBRK",259,"Parking Brake","CAD","306309"]
["M-SS300VK_PKG_SSKD","M-SS300","VK_PKG_SSKD","N/C","Stack Skid/Carton","CAD","306309"]
["M-SS300VK_PADTYP_O500RED3","M-SS300","VK_PADTYP_O500RED3",34,"Orb 500/20 Red 3M","CAD","306309"]
["M-SS300VK_PADTYP_O500BLU3","M-SS300","VK_PADTYP_O500BLU3",34,"Orb 500/20 Blu 3M","CAD","306309"]
["M-SS300VK_CLNTOL_D600NYL","M-SS300","VK_CLNTOL_D600NYL",302,"D600/24 Nylon Brush","CAD","306309"]
["M-SS300VK_CLNTOL_D600ABB","M-SS300","VK_CLNTOL_D600ABB",418,"D600/24 Abr Brush","CAD","306309"]
["M-SS300VK_CLNTOL_D500PYP_QC","M-SS300","VK_CLNTOL_D500PYP_QC",462,"D500/20 PolyBrush-QC","CAD","306309"]
["M-SS300VK_CLNTOL_D500PYP_IC","M-SS300","VK_CLNTOL_D500PYP_IC",462,"D500/20 PolyBrush-IC","CAD","306309"]
["M-SS300VK_CLNTOL_D500PYP","M-SS300","VK_CLNTOL_D500PYP",368,"D500/20 Poly Brush","CAD","306309"]
["M-SS300VK_CLNTOL_D500PAD_QC","M-SS300","VK_CLNTOL_D500PAD_QC",462,"D500/20 PadDriver-QC","CAD","306309"]
["M-SS300VK_CLNTOL_D500PAD_IC","M-SS300","VK_CLNTOL_D500PAD_IC",462,"D500/20 PadDriver-IC","CAD","306309"]
["M-SS300VK_CLNTOL_D500NYL_QC","M-SS300","VK_CLNTOL_D500NYL_QC",462,"D500/20 Nyl Brush-QC","CAD","306309"]
["M-SS300VK_CLNTOL_D500NYL_IC","M-SS300","VK_CLNTOL_D500NYL_IC",462,"D500/20 Nyl Brush-IC","CAD","306309"]
["M-SS300VK_PADTYP_430BLU3","M-SS300","VK_PADTYP_430BLU3",28,"430/17 Bl Scrub 3M","CAD","306309"]
["M-SS300VK_PADTYP_600MAR3","M-SS300","VK_PADTYP_600MAR3",25,"600/24 MarSur 3M","CAD","306309"]
["M-SS300VK_PADTYP_600BWN3","M-SS300","VK_PADTYP_600BWN3",20,"600/24 Br Strip 3M","CAD","306309"]
["M-SS300VK_PADTYP_600BLU3","M-SS300","VK_PADTYP_600BLU3",20,"600/24 Bl Scrub 3M","CAD","306309"]
["M-SS300VK_PADTYP_600BLKH3","M-SS300","VK_PADTYP_600BLKH3",25,"600/24 Blk HiPro 3M","CAD","306309"]
["M-SS300VK_DWN_PRS_SGL","M-SS300","VK_DWN_PRS_SGL","N/C","Single D Pressure","CAD","306309"]
["M-SS300VK_DWN_PRS_MLT_DO","M-SS300","VK_DWN_PRS_MLT_DO",480,"Multi DD Press-D/O","CAD","306309"]
["M-SS300VK_DWN_PRS_MLT_C","M-SS300","VK_DWN_PRS_MLT_C",480,"Multi DD Press-Cyl","CAD","306309"]
["M-SS300VK_DWNPRS_SGL","M-SS300","VK_DWNPRS_SGL","N/C","Single Down Pressure","CAD","306309"]
["M-SS300VK_CLNTOL_D600PYP_IC","M-SS300","VK_CLNTOL_D600PYP_IC",302,"D600/24 PolyBrush-IC","CAD","306309"]
["M-SS300VK_CLNTOL_D600PYP","M-SS300","VK_CLNTOL_D600PYP",302,"D600/24 Poly Brush","CAD","306309"]
["M-SS300VK_PADTYP_430MAR3","M-SS300","VK_PADTYP_430MAR3",37,"430/17 MarSur 3M","CAD","306309"]
["M-SS300VK_RECHSE_PVC","M-SS300","VK_RECHSE_PVC","N/C","PVC Matl w/Drain Cap","CAD","306309"]
["M-SS300VK_PADTYP_O500MAR3","M-SS300","VK_PADTYP_O500MAR3",86,"Orb 500/20 Mar 3M","CAD","306309"]
["M-T500VK_BASE_T500-700-D_STD","M-T500","VK_BASE_T500-700-D_STD",23835,"T500 700mm Disk Std Config","CAD","306407"]
["M-T500VK_BASE_T500-700-O_STD","M-T500","VK_BASE_T500-700-O_STD",24756,"T500 700mm Orb Std Config","CAD","306407"]
["M-T500VK_BASE_T500-650-D_STD","M-T500","VK_BASE_T500-650-D_STD",21906,"T500 650mm Disk Std Config","CAD","306407"]
["M-T500VK_MCHCOM_SBT","M-T500","VK_MCHCOM_SBT",1916,"IRIS Telemetry","CAD","306407"]
["M-T500VK_SVEEVMSWHLKT","M-T500","VK_SVEEVMSWHLKT",81,"SE Switch Lockout","CAD","306407"]
["M-T500VK_BASE_T500-700-C_STD","M-T500","VK_BASE_T500-700-C_STD",25415,"T500 700mm Cyl Std Config","CAD","306407"]
["M-T500VK_BASE_T500-800-D_STD","M-T500","VK_BASE_T500-800-D_STD",25127,"T500 800mm Disk Std Config","CAD","306407"]
["M-T500VK_BTY_F183C20","M-T500","VK_BTY_F183C20",2768,"Sealed/MF FastCharge 183AH C20","CAD","306407"]
["M-T500VK_CHG_27A100240V5060H","M-T500","VK_CHG_27A100240V5060H",244,"Chg 27A 100-240V 5060Hz 1Ph","CAD","306407"]
["M-T500VK_PKG_WSKD","M-T500","VK_PKG_WSKD","N/C","Skid w/Stretch Wrap","CAD","306407"]
["M-T500VK_CSMSBTPARKIT","M-T500","VK_CSMSBTPARKIT",1973,"Sunbelt -Parts Kit","CAD","306407"]
["M-T500VK_RECHSE_PYPOR_PC","M-T500","VK_RECHSE_PYPOR_PC","N/C","Poly Mat w/Pinch Cuff","CAD","306407"]
["M-T500VK_BTY_WO","M-T500","VK_BTY_WO",-630,"Without Battery","CAD","306407"]
["M-T500VK_BTY_W260C20","M-T500","VK_BTY_W260C20",594,"Bty Wet 260AH C20","CAD","306407"]
["M-T500VK_BTY_W225C20","M-T500","VK_BTY_W225C20","N/C","Bty Wet 225AH C20","CAD","306407"]
["M-T500VK_BTY_A220C20","M-T500","VK_BTY_A220C20",2161,"Bty AGM 220AH C20","CAD","306407"]
["M-T500VK_BTYWTRSYS_SF","M-T500","VK_BTYWTRSYS_SF",1284,"Smart Fill","CAD","306407"]
["M-T500VK_BTYWTRSYS_ML","M-T500","VK_BTYWTRSYS_ML",747,"Battery Watering Manual","CAD","306407"]
["M-T500VK_BASE_T500-800-D","M-T500","VK_BASE_T500-800-D",25127,"T500-800-D","CAD","306407"]
[{"$f":"B905&C905","v":"M-T500VK_BASE_T500-700-O"},"M-T500","VK_BASE_T500-700-O",24756,"T500-700-O","CAD","306407"]
["M-T500VK_BASE_T500-700-D","M-T500","VK_BASE_T500-700-D",23835,"T500-700-D","CAD","306407"]
["M-T500VK_BASE_T500-700-C","M-T500","VK_BASE_T500-700-C",25415,"T500-700-C","CAD","306407"]
["M-T500VK_BASE_T500-650-D","M-T500","VK_BASE_T500-650-D",21906,"T500-650-D","CAD","306407"]
["M-T500VK_AUTFIL","M-T500","VK_AUTFIL",299,"Auto Fill","CAD","306407"]
["M-T500VK_ADLOPRMNL","M-T500","VK_ADLOPRMNL",175,"Add Operator Manual","CAD","306407"]
["M-T500VK_CHG_25A100V5060H1","M-T500","VK_CHG_25A100V5060H1","N/C","Ch25A 100V 5060H1P","CAD","306407"]
["M-T500VK_TRM_PPAN","M-T500","VK_TRM_PPAN",1242,"ProPanel Ctrls","CAD","306407"]
["M-T500VK_TRM_PMEM","M-T500","VK_TRM_PMEM","N/C","Pro Membrane Panel","CAD","306407"]
["M-T500VK_SVEEVMSWH","M-T500","VK_SVEEVMSWH",800,"SE Switch Capability","CAD","306407"]
["M-T500VK_SRVMNL","M-T500","VK_SRVMNL",175,"Service Manual","CAD","306407"]
["M-T500VK_SQEWDT_STD","M-T500","VK_SQEWDT_STD","N/C","Standard Squeegee","CAD","306407"]
["M-T500VK_SQEWDT_NWA","M-T500","VK_SQEWDT_NWA","N/C","NarrowAisle Squeegee","CAD","306407"]
["M-T500VK_SPYNOZWTHHSE","M-T500","VK_SPYNOZWTHHSE",989,"Spray Nozzel w/Hose","CAD","306407"]
["M-T500VK_RECHSE_PVC_DCO","M-T500","VK_RECHSE_PVC_DCO","N/C","PVC Matl w/Drain Cap","CAD","306407"]
["M-T500VK_PRGBRK","M-T500","VK_PRGBRK",254,"Parking Brake","CAD","306407"]
["M-T500VK_PKG_SSKD","M-T500","VK_PKG_SSKD","N/C","Stack Skid/Carton","CAD","306407"]
["M-T500VK_PARMNL","M-T500","VK_PARMNL",71,"Parts Manual","CAD","306407"]
["M-T500VK_MCHCOM","M-T500","VK_MCHCOM",1916,"IRIS Telemetry","CAD","306407"]
["M-T500VK_CLNTCH_ECH2ON","M-T500","VK_CLNTCH_ECH2ON",3976,"ec-H2O™ NanoClean","CAD","306407"]
["M-T500VK_CLNTCH_CNV","M-T500","VK_CLNTCH_CNV","N/C","Conventional","CAD","306407"]
["M-T500VK_CHG_WO","M-T500","VK_CHG_WO",-630,"Without Charger","CAD","306407"]
["M-T500VK_CHG_27A85V5060H1P","M-T500","VK_CHG_27A85V5060H1P","N/C","CH27A 85-270V 5060H1P","CAD","306407"]
["M-T500VK_PADTYP_650BLU3","M-T500","VK_PADTYP_650BLU3",21,"650/26 Bl Scrub 3M","CAD","306407"]
["M-T500VK_PADTYP_650BWN3","M-T500","VK_PADTYP_650BWN3",21,"650/26 Br Strip 3M","CAD","306407"]
["M-T500VK_PADTYP_650MAR3","M-T500","VK_PADTYP_650MAR3",25,"650/26 MarSur Pad 3M","CAD","306407"]
["M-T500VK_PADTYP_650RED3","M-T500","VK_PADTYP_650RED3",21,"650/26 Red Clean 3M","CAD","306407"]
["M-T500VK_PADTYP_650WHT3","M-T500","VK_PADTYP_650WHT3",21,"650/26 Wh Polish 3M","CAD","306407"]
["M-T500VK_PADTYP_700BLKH3","M-T500","VK_PADTYP_700BLKH3",27,"700/28 Blk HiPro 3M","CAD","306407"]
["M-T500VK_PADTYP_700BLU3","M-T500","VK_PADTYP_700BLU3",24,"700/28 Blu Scrub 3M","CAD","306407"]
["M-T500VK_PADTYP_700BWN3","M-T500","VK_PADTYP_700BWN3",24,"700/28 Bwn Strip 3M","CAD","306407"]
["M-T500VK_PADTYP_700MAR3","M-T500","VK_PADTYP_700MAR3",26,"700/28 MarSur Pad 3M","CAD","306407"]
["M-T500VK_PADTYP_700RED3","M-T500","VK_PADTYP_700RED3",24,"700/28 Red Clean 3M","CAD","306407"]
["M-T500VK_PADTYP_700WHT3","M-T500","VK_PADTYP_700WHT3",24,"700/28 Wht Polish 3M","CAD","306407"]
["M-T500VK_PADTYP_800BLU3","M-T500","VK_PADTYP_800BLU3",27,"800/32 Blu Scrub 3M","CAD","306407"]
["M-T500VK_PADTYP_800RED3","M-T500","VK_PADTYP_800RED3",27,"800/32 Red Clean 3M","CAD","306407"]
["M-T500VK_PADTYP_800WHT3","M-T500","VK_PADTYP_800WHT3",27,"800/32 Wht Polish 3M","CAD","306407"]
["M-T500VK_PADTYP_O700BLU3","M-T500","VK_PADTYP_O700BLU3",79,"Orb 700/28 Blu 3M","CAD","306407"]
["M-T500VK_PADTYP_O700MAR3","M-T500","VK_PADTYP_O700MAR3",159,"Orb 700/28 Mar 3M","CAD","306407"]
["M-T500VK_PADTYP_O700RED3","M-T500","VK_PADTYP_O700RED3",79,"Orb 700/28 Red 3M","CAD","306407"]
["M-T500VK_PADTYP_O700WHT3","M-T500","VK_PADTYP_O700WHT3",79,"Orb 700/28 Wht 3M","CAD","306407"]
["M-T500VK_CLNTOL_C700ABB","M-T500","VK_CLNTOL_C700ABB",466,"C700/28 Abr Brush","CAD","306407"]
["M-T500VK_CLNTOL_C700NYL","M-T500","VK_CLNTOL_C700NYL","N/C","C700/28 Nylon Brush","CAD","306407"]
["M-T500VK_CLNTOL_C700PYP","M-T500","VK_CLNTOL_C700PYP","N/C","C700/28 Poly Brush","CAD","306407"]
["M-T500VK_CLNTOL_D650ABB","M-T500","VK_CLNTOL_D650ABB",466,"D650/26 Abr Brush","CAD","306407"]
["M-T500VK_CLNTOL_D650NYL","M-T500","VK_CLNTOL_D650NYL","N/C","D650/26 Nylon Brush","CAD","306407"]
["M-T500VK_CLNTOL_D650PAD","M-T500","VK_CLNTOL_D650PAD","N/C","D650/26 Pad Driver","CAD","306407"]
["M-T500VK_CLNTOL_D650PYP","M-T500","VK_CLNTOL_D650PYP","N/C","D650/26 Poly Brush","CAD","306407"]
["M-T500VK_CLNTOL_D700ABB","M-T500","VK_CLNTOL_D700ABB",466,"D700/28 Abr Brush","CAD","306407"]
["M-T500VK_CLNTOL_D700NYL","M-T500","VK_CLNTOL_D700NYL","N/C","D700/28 Nylon Brush","CAD","306407"]
["M-T500VK_CLNTOL_D700PAD","M-T500","VK_CLNTOL_D700PAD","N/C","D700/28 Pad Driver","CAD","306407"]
["M-T500VK_CLNTOL_D700PYP","M-T500","VK_CLNTOL_D700PYP","N/C","D700/28 Poly Brush","CAD","306407"]
["M-T500VK_CLNTOL_D800ABB","M-T500","VK_CLNTOL_D800ABB",466,"D800/32 Abr Brush","CAD","306407"]
["M-T500VK_CLNTOL_D800NYL","M-T500","VK_CLNTOL_D800NYL","N/C","D800/32 Nylon Brush","CAD","306407"]
["M-T500VK_CLNTOL_D800PYP","M-T500","VK_CLNTOL_D800PYP","N/C","D800/32 Poly Brush","CAD","306407"]
["M-T500VK_CLNTOL_O700PAD","M-T500","VK_CLNTOL_O700PAD","N/C","O700/28 Pad Driver","CAD","306407"]
["M-T500VK_CLNTOL_D800PAD","M-T500","VK_CLNTOL_D800PAD","N/C","D800/32 Pad Driver","CAD","306407"]
["M-T500EVK_CLNTCH_CNV","M-T500E","VK_CLNTCH_CNV","N/C","Conventional","CAD","306408"]
["M-T500EVK_BASE_T500E-700-O_STD","M-T500E","VK_BASE_T500E-700-O_STD",22343,"T500E 700mm Orb Std Config","CAD","306408"]
["M-T500EVK_BASE_T500E-800-D","M-T500E","VK_BASE_T500E-800-D",22534,"T500E-800-D","CAD","306408"]
["M-T500EVK_BASE_T500E-700-O","M-T500E","VK_BASE_T500E-700-O",22343,"T500E-700-O","CAD","306408"]
["M-T500EVK_BASE_T500E-700-C","M-T500E","VK_BASE_T500E-700-C",23501,"T500E-700-C","CAD","306408"]
["M-T500EVK_PADTYP_700BLKH3","M-T500E","VK_PADTYP_700BLKH3",27,"700/28 Blk HiPro 3M","CAD","306408"]
["M-T500EVK_BTY_A220C20","M-T500E","VK_BTY_A220C20",2161,"Bty AGM 220AH C20","CAD","306408"]
[{"$f":"B969&C969","v":"M-T500EVK_BTYWTRSYS_SF"},"M-T500E","VK_BTYWTRSYS_SF",1284,"Smart Fill","CAD","306408"]
["M-T500EVK_BTY_W225C20","M-T500E","VK_BTY_W225C20","N/C","Bty Wet 225AH C20","CAD","306408"]
["M-T500EVK_CLNTOL_D700PAD","M-T500E","VK_CLNTOL_D700PAD","N/C","D700/28 Pad Driver","CAD","306408"]
["M-T500EVK_RECHSE_PVC_DCO","M-T500E","VK_RECHSE_PVC_DCO","N/C","PVC Matl w/Drain Cap","CAD","306408"]
["M-T500EVK_CLNTOL_D800PYP","M-T500E","VK_CLNTOL_D800PYP","N/C","D800/32 Poly Brush","CAD","306408"]
["M-T500EVK_PKG_SSKD","M-T500E","VK_PKG_SSKD","N/C","Stack Skid/Carton","CAD","306408"]
["M-T500EVK_BTY_WO","M-T500E","VK_BTY_WO",-630,"Without Battery","CAD","306408"]
["M-T500EVK_PADTYP_700BLU3","M-T500E","VK_PADTYP_700BLU3",24,"700/28 Blu Scrub 3M","CAD","306408"]
["M-T500EVK_PADTYP_650BLU3","M-T500E","VK_PADTYP_650BLU3",21,"650/26 Bl Scrub 3M","CAD","306408"]
["M-T500EVK_CLNTOL_D800ABB","M-T500E","VK_CLNTOL_D800ABB",466,"D800/32 Abr Brush","CAD","306408"]
["M-T500EVK_CLNTOL_D700PYP","M-T500E","VK_CLNTOL_D700PYP","N/C","D700/28 Poly Brush","CAD","306408"]
["M-T500EVK_CHG_27A100240V5060H","M-T500E","VK_CHG_27A100240V5060H",244,"Chg 27A 100-240V 5060Hz 1Ph","CAD","306408"]
["M-T500EVK_BASE_T500E-700-C_STD","M-T500E","VK_BASE_T500E-700-C_STD",23501,"T500E 700mm Cyl Std Config","CAD","306408"]
["M-T500EVK_BASE_T500E-650-D_STD","M-T500E","VK_BASE_T500E-650-D_STD",20312,"T500E 650mm Disk Std Config","CAD","306408"]
["M-T500EVK_BASE_T500E-700-D_STD","M-T500E","VK_BASE_T500E-700-D_STD",21376,"T500E 700mm Disk Std Config","CAD","306408"]
["M-T500EVK_BASE_T500E-800-D_STD","M-T500E","VK_BASE_T500E-800-D_STD",22534,"T500E 800mm Disk Std Config","CAD","306408"]
["M-T500EVK_BTY_F183C20","M-T500E","VK_BTY_F183C20",2768,"Sealed/MF FastCharge 183AH C20","CAD","306408"]
["M-T500EVK_PKG_WSKD","M-T500E","VK_PKG_WSKD","N/C","Skid w/Stretch Wrap","CAD","306408"]
["M-T500EVK_PADTYP_650BWN3","M-T500E","VK_PADTYP_650BWN3",21,"650/26 Br Strip 3M","CAD","306408"]
["M-T500EVK_PADTYP_650MAR3","M-T500E","VK_PADTYP_650MAR3",25,"650/26 MarSur Pad 3M","CAD","306408"]
["M-T500EVK_PADTYP_650WHT3","M-T500E","VK_PADTYP_650WHT3",21,"650/26 Wh Polish 3M","CAD","306408"]
["M-T500EVK_PADTYP_700BWN3","M-T500E","VK_PADTYP_700BWN3",24,"700/28 Bwn Strip 3M","CAD","306408"]
["M-T500EVK_PADTYP_700MAR3","M-T500E","VK_PADTYP_700MAR3",26,"700/28 MarSur Pad 3M","CAD","306408"]
["M-T500EVK_PADTYP_700WHT3","M-T500E","VK_PADTYP_700WHT3",24,"700/28 Wht Polish 3M","CAD","306408"]
["M-T500EVK_RECHSE_PYPOR_DCV","M-T500E","VK_RECHSE_PYPOR_DCV","N/C","Poly Mat w/DCV","CAD","306408"]
["M-T500EVK_RECHSE_PYPOR_PC","M-T500E","VK_RECHSE_PYPOR_PC","N/C","Poly Mat w/Pinch Cuff","CAD","306408"]
["M-T500EVK_PADTYP_650YLW3","M-T500E","VK_PADTYP_650YLW3",67,"650/26 Ylw Polish 3M","CAD","306408"]
["M-T500EVK_PADTYP_700YLW3","M-T500E","VK_PADTYP_700YLW3",77,"700/28 Ylw Polish 3M","CAD","306408"]
["M-T500EVK_PADTYP_800YLW3","M-T500E","VK_PADTYP_800YLW3",87,"800/32 Ylw Polish 3M","CAD","306408"]
["M-T500EVK_PADTYP_O700YLW3","M-T500E","VK_PADTYP_O700YLW3",172,"Orb 700/28 Ylw 3M","CAD","306408"]
["M-T500EVK_BTY_W260C20","M-T500E","VK_BTY_W260C20",594,"Bty Wet 260AH C20","CAD","306408"]
["M-T500EVK_BTYWTRSYS_ML","M-T500E","VK_BTYWTRSYS_ML",747,"Battery Watering Manual","CAD","306408"]
["M-T500EVK_BASE_T500E-700-D","M-T500E","VK_BASE_T500E-700-D",21376,"T500E-700-D","CAD","306408"]
["M-T500EVK_BASE_T500E-650-D","M-T500E","VK_BASE_T500E-650-D",20312,"T500E-650-D","CAD","306408"]
["M-T500EVK_ADLOPRMNL","M-T500E","VK_ADLOPRMNL",175,"Add Operator Manual","CAD","306408"]
["M-T500EVK_SRVMNL","M-T500E","VK_SRVMNL",175,"Service Manual","CAD","306408"]
["M-T500EVK_SQEWDT_STD","M-T500E","VK_SQEWDT_STD","N/C","Standard Squeegee","CAD","306408"]
["M-T500EVK_SQEWDT_NWA","M-T500E","VK_SQEWDT_NWA","N/C","NarrowAisle Squeegee","CAD","306408"]
["M-T500EVK_PRGBRK","M-T500E","VK_PRGBRK",254,"Parking Brake","CAD","306408"]
["M-T500EVK_PARMNL","M-T500E","VK_PARMNL",71,"Parts Manual","CAD","306408"]
["M-T500EVK_MCHCOM","M-T500E","VK_MCHCOM",1916,"IRIS Telemetry","CAD","306408"]
["M-T500EVK_CLNTCH_ECH2ON","M-T500E","VK_CLNTCH_ECH2ON",3976,"ec-H2O™ NanoClean","CAD","306408"]
["M-T500EVK_CHG_WO","M-T500E","VK_CHG_WO",-630,"Without Charger","CAD","306408"]
["M-T500EVK_CHG_27A85V5060H1P","M-T500E","VK_CHG_27A85V5060H1P","N/C","CH27A 85-270V 5060H1P","CAD","306408"]
["M-T500EVK_CHG_25A100V5060H1","M-T500E","VK_CHG_25A100V5060H1","N/C","Ch25A 100V 5060H1P","CAD","306408"]
["M-T500EVK_CLNTOL_C700ABB","M-T500E","VK_CLNTOL_C700ABB",466,"C700/28 Abr Brush","CAD","306408"]
["M-T500EVK_CLNTOL_C700NYL","M-T500E","VK_CLNTOL_C700NYL","N/C","C700/28 Nylon Brush","CAD","306408"]
["M-T500EVK_CLNTOL_C700PYP","M-T500E","VK_CLNTOL_C700PYP","N/C","C700/28 Poly Brush","CAD","306408"]
["M-T500EVK_CLNTOL_D650ABB","M-T500E","VK_CLNTOL_D650ABB",466,"D650/26 Abr Brush","CAD","306408"]
["M-T500EVK_CLNTOL_D650NYL","M-T500E","VK_CLNTOL_D650NYL","N/C","D650/26 Nylon Brush","CAD","306408"]
["M-T500EVK_CLNTOL_D650PAD","M-T500E","VK_CLNTOL_D650PAD","N/C","D650/26 Pad Driver","CAD","306408"]
["M-T500EVK_CLNTOL_D650PYP","M-T500E","VK_CLNTOL_D650PYP","N/C","D650/26 Poly Brush","CAD","306408"]
["M-T500EVK_CLNTOL_D700ABB","M-T500E","VK_CLNTOL_D700ABB",466,"D700/28 Abr Brush","CAD","306408"]
["M-T500EVK_CLNTOL_D700NYL","M-T500E","VK_CLNTOL_D700NYL","N/C","D700/28 Nylon Brush","CAD","306408"]
["M-T500EVK_CLNTOL_D800NYL","M-T500E","VK_CLNTOL_D800NYL","N/C","D800/32 Nylon Brush","CAD","306408"]
["M-T500EVK_CLNTOL_D800PAD","M-T500E","VK_CLNTOL_D800PAD","N/C","D800/32 Pad Driver","CAD","306408"]
["M-T500EVK_CLNTOL_O700PAD","M-T500E","VK_CLNTOL_O700PAD","N/C","O700/28 Pad Driver","CAD","306408"]
["M-T500EVK_PADTYP_650RED3","M-T500E","VK_PADTYP_650RED3",21,"650/26 Red Clean 3M","CAD","306408"]
["M-T500EVK_PADTYP_700RED3","M-T500E","VK_PADTYP_700RED3",24,"700/28 Red Clean 3M","CAD","306408"]
["M-T500EVK_PADTYP_800BLU3","M-T500E","VK_PADTYP_800BLU3",27,"800/32 Blu Scrub 3M","CAD","306408"]
["M-T500EVK_PADTYP_800RED3","M-T500E","VK_PADTYP_800RED3",27,"800/32 Red Clean 3M","CAD","306408"]
["M-T500EVK_PADTYP_800WHT3","M-T500E","VK_PADTYP_800WHT3",27,"800/32 Wht Polish 3M","CAD","306408"]
["M-T500EVK_PADTYP_O700BLU3","M-T500E","VK_PADTYP_O700BLU3",79,"Orb 700/28 Blu 3M","CAD","306408"]
["M-T500EVK_PADTYP_O700MAR3","M-T500E","VK_PADTYP_O700MAR3",159,"Orb 700/28 Mar 3M","CAD","306408"]
[{"$f":"B1033&C1033","v":"M-T500EVK_PADTYP_O700RED3"},"M-T500E","VK_PADTYP_O700RED3",79,"Orb 700/28 Red 3M","CAD","306408"]
["M-T500EVK_PADTYP_O700WHT3","M-T500E","VK_PADTYP_O700WHT3",79,"Orb 700/28 Wht 3M","CAD","306408"]
["M-SS500VK_PKG_SSKD","M-SS500","VK_PKG_SSKD","N/C","Stack Skid/Carton","CAD","306409"]
["M-SS500VK_BASE_SS500-650-D_STD","M-SS500","VK_BASE_SS500-650-D_STD",20312,"SS500 650mm Disk Std Config","CAD","306409"]
["M-SS500VK_BASE_SS500-700-C_STD","M-SS500","VK_BASE_SS500-700-C_STD",23501,"SS500 700mm Cyl Std Config","CAD","306409"]
["M-SS500VK_BASE_SS500-700-D_STD","M-SS500","VK_BASE_SS500-700-D_STD",21376,"SS500 700mm Disk Std Config","CAD","306409"]
["M-SS500VK_BASE_SS500-700-O_STD","M-SS500","VK_BASE_SS500-700-O_STD",22343,"SS500 700mm Orb Std Config","CAD","306409"]
["M-SS500VK_BASE_SS500-800-D_STD","M-SS500","VK_BASE_SS500-800-D_STD",22534,"SS500 800mm Disk Std Config","CAD","306409"]
["M-SS500VK_PARMNL","M-SS500","VK_PARMNL",71,"Parts Manual","CAD","306409"]
["M-SS500VK_SRVMNL","M-SS500","VK_SRVMNL",175,"Service Manual","CAD","306409"]
["M-SS500VK_PADTYP_O700MAR3","M-SS500","VK_PADTYP_O700MAR3",159,"Orb 700/28 Mar 3M","CAD","306409"]
["M-SS500VK_PKG_WSKD","M-SS500","VK_PKG_WSKD","N/C","Skid w/Stretch Wrap","CAD","306409"]
["M-SS500VK_RECHSE_PYPOR_DCV","M-SS500","VK_RECHSE_PYPOR_DCV","N/C","Poly Mat w/DCV","CAD","306409"]
["M-SS500VK_RECHSE_PYPOR_PC","M-SS500","VK_RECHSE_PYPOR_PC","N/C","Poly Mat w/Pinch Cuff","CAD","306409"]
["M-SS500VK_MCHCOM","M-SS500","VK_MCHCOM",1916,"IRIS Telemetry","CAD","306409"]
["M-SS500VK_CLNTOL_D800PAD","M-SS500","VK_CLNTOL_D800PAD","N/C","D800/32 Pad Driver","CAD","306409"]
["M-SS500VK_CLNTOL_D800NYL","M-SS500","VK_CLNTOL_D800NYL","N/C","D800/32 Nylon Brush","CAD","306409"]
["M-SS500VK_CLNTOL_D800ABB","M-SS500","VK_CLNTOL_D800ABB",466,"D800/32 Abr Brush","CAD","306409"]
["M-SS500VK_CLNTOL_D700PYP","M-SS500","VK_CLNTOL_D700PYP","N/C","D700/28 Poly Brush","CAD","306409"]
["M-SS500VK_CLNTOL_D700PAD","M-SS500","VK_CLNTOL_D700PAD","N/C","D700/28 Pad Driver","CAD","306409"]
["M-SS500VK_CLNTOL_D700NYL","M-SS500","VK_CLNTOL_D700NYL","N/C","D700/28 Nylon Brush","CAD","306409"]
["M-SS500VK_CLNTOL_D700ABB","M-SS500","VK_CLNTOL_D700ABB",466,"D700/28 Abr Brush","CAD","306409"]
["M-SS500VK_CLNTOL_D650PYP","M-SS500","VK_CLNTOL_D650PYP","N/C","D650/26 Poly Brush","CAD","306409"]
["M-SS500VK_CLNTOL_D650PAD","M-SS500","VK_CLNTOL_D650PAD","N/C","D650/26 Pad Driver","CAD","306409"]
["M-SS500VK_CLNTOL_D650NYL","M-SS500","VK_CLNTOL_D650NYL","N/C","D650/26 Nylon Brush","CAD","306409"]
["M-SS500VK_CLNTOL_D650ABB","M-SS500","VK_CLNTOL_D650ABB",466,"D650/26 Abr Brush","CAD","306409"]
["M-SS500VK_CLNTOL_C700PYP","M-SS500","VK_CLNTOL_C700PYP","N/C","C700/28 Poly Brush","CAD","306409"]
["M-SS500VK_CLNTOL_C700NYL","M-SS500","VK_CLNTOL_C700NYL","N/C","C700/28 Nylon Brush","CAD","306409"]
["M-SS500VK_CLNTOL_C700ABB","M-SS500","VK_CLNTOL_C700ABB",466,"C700/28 Abr Brush","CAD","306409"]
["M-SS500VK_CLNTCH_ECH2ON","M-SS500","VK_CLNTCH_ECH2ON",3976,"ec-H2O™ NanoClean","CAD","306409"]
["M-SS500VK_CLNTCH_CNV","M-SS500","VK_CLNTCH_CNV","N/C","Conventional","CAD","306409"]
["M-SS500VK_CHG_WO","M-SS500","VK_CHG_WO",-630,"Without Charger","CAD","306409"]
["M-SS500VK_CHG_27A85V5060H1P","M-SS500","VK_CHG_27A85V5060H1P","N/C","CH27A 85-270V 5060H1P","CAD","306409"]
["M-SS500VK_CHG_25A100V5060H1","M-SS500","VK_CHG_25A100V5060H1","N/C","Ch25A 100V 5060H1P","CAD","306409"]
["M-SS500VK_BTY_WO","M-SS500","VK_BTY_WO",-630,"Without Battery","CAD","306409"]
["M-SS500VK_BTY_W260C20","M-SS500","VK_BTY_W260C20",594,"Bty Wet 260AH C20","CAD","306409"]
["M-SS500VK_BTY_W225C20","M-SS500","VK_BTY_W225C20","N/C","Bty Wet 225AH C20","CAD","306409"]
["M-SS500VK_BTY_A220C20","M-SS500","VK_BTY_A220C20",2161,"Bty AGM 220AH C20","CAD","306409"]
["M-SS500VK_BTYWTRSYS_SF","M-SS500","VK_BTYWTRSYS_SF",1284,"Smart Fill","CAD","306409"]
["M-SS500VK_BTYWTRSYS_ML","M-SS500","VK_BTYWTRSYS_ML",747,"Battery Watering Manual","CAD","306409"]
["M-SS500VK_BASE_SS500-800-D","M-SS500","VK_BASE_SS500-800-D",22534,"SS500-800-D","CAD","306409"]
["M-SS500VK_BASE_SS500-700-O","M-SS500","VK_BASE_SS500-700-O",22343,"SS500-700-O","CAD","306409"]
["M-SS500VK_BASE_SS500-700-D","M-SS500","VK_BASE_SS500-700-D",21376,"SS500-700-D","CAD","306409"]
["M-SS500VK_BASE_SS500-700-C","M-SS500","VK_BASE_SS500-700-C",23501,"SS500-700-C","CAD","306409"]
["M-SS500VK_BASE_SS500-650-D","M-SS500","VK_BASE_SS500-650-D",20312,"SS500-650-D","CAD","306409"]
["M-SS500VK_ADLOPRMNL","M-SS500","VK_ADLOPRMNL",175,"Add Operator Manual","CAD","306409"]
["M-SS500VK_CLNTOL_D800PYP","M-SS500","VK_CLNTOL_D800PYP","N/C","D800/32 Poly Brush","CAD","306409"]
["M-SS500VK_SQEWDT_NWA","M-SS500","VK_SQEWDT_NWA","N/C","NarrowAisle Squeegee","CAD","306409"]
["M-SS500VK_RECHSE_PVC_DCO","M-SS500","VK_RECHSE_PVC_DCO","N/C","PVC Matl w/Drain Cap","CAD","306409"]
["M-SS500VK_PRGBRK","M-SS500","VK_PRGBRK",254,"Parking Brake","CAD","306409"]
["M-SS500VK_PADTYP_O700WHT3","M-SS500","VK_PADTYP_O700WHT3",79,"Orb 700/28 Wht 3M","CAD","306409"]
["M-SS500VK_PADTYP_O700RED3","M-SS500","VK_PADTYP_O700RED3",79,"Orb 700/28 Red 3M","CAD","306409"]
["M-SS500VK_PADTYP_O700BLU3","M-SS500","VK_PADTYP_O700BLU3",79,"Orb 700/28 Blu 3M","CAD","306409"]
["M-SS500VK_PADTYP_800WHT3","M-SS500","VK_PADTYP_800WHT3",27,"800/32 Wht Polish 3M","CAD","306409"]
["M-SS500VK_PADTYP_800RED3","M-SS500","VK_PADTYP_800RED3",27,"800/32 Red Clean 3M","CAD","306409"]
["M-SS500VK_PADTYP_800BLU3","M-SS500","VK_PADTYP_800BLU3",27,"800/32 Blu Scrub 3M","CAD","306409"]
["M-SS500VK_PADTYP_700WHT3","M-SS500","VK_PADTYP_700WHT3",24,"700/28 Wht Polish 3M","CAD","306409"]
["M-SS500VK_PADTYP_700RED3","M-SS500","VK_PADTYP_700RED3",24,"700/28 Red Clean 3M","CAD","306409"]
["M-SS500VK_PADTYP_700MAR3","M-SS500","VK_PADTYP_700MAR3",26,"700/28 MarSur Pad 3M","CAD","306409"]
["M-SS500VK_PADTYP_700BWN3","M-SS500","VK_PADTYP_700BWN3",24,"700/28 Bwn Strip 3M","CAD","306409"]
["M-SS500VK_PADTYP_700BLU3","M-SS500","VK_PADTYP_700BLU3",24,"700/28 Blu Scrub 3M","CAD","306409"]
["M-SS500VK_PADTYP_700BLKH3","M-SS500","VK_PADTYP_700BLKH3",27,"700/28 Blk HiPro 3M","CAD","306409"]
["M-SS500VK_PADTYP_650WHT3","M-SS500","VK_PADTYP_650WHT3",21,"650/26 Wh Polish 3M","CAD","306409"]
["M-SS500VK_PADTYP_650RED3","M-SS500","VK_PADTYP_650RED3",21,"650/26 Red Clean 3M","CAD","306409"]
[{"$f":"B1097&C1097","v":"M-SS500VK_PADTYP_650MAR3"},"M-SS500","VK_PADTYP_650MAR3",25,"650/26 MarSur Pad 3M","CAD","306409"]
["M-SS500VK_PADTYP_650BWN3","M-SS500","VK_PADTYP_650BWN3",21,"650/26 Br Strip 3M","CAD","306409"]
["M-SS500VK_PADTYP_650BLU3","M-SS500","VK_PADTYP_650BLU3",21,"650/26 Bl Scrub 3M","CAD","306409"]
["M-SS500VK_CLNTOL_O700PAD","M-SS500","VK_CLNTOL_O700PAD","N/C","O700/28 Pad Driver","CAD","306409"]
["M-SS500VK_SQEWDT_STD","M-SS500","VK_SQEWDT_STD","N/C","Standard Squeegee","CAD","306409"]
["M-T600EEVK_ACCCLP","M-T600EE","VK_ACCCLP","N/C","Accessory Clip","CAD","306506"]
["M-T600VK_ADLOPRMNL","M-T600","VK_ADLOPRMNL",175,"Add Operator Manual","CAD","306504"]
["M-T600EVK_ADLOPRMNL","M-T600E","VK_ADLOPRMNL",175,"Add Operator Manual","CAD","306505"]
["M-T600EEVK_ADLOPRMNL","M-T600EE","VK_ADLOPRMNL",195,"Add Operator Manual","CAD","306506"]
["M-T600EVK_AUTFIL","M-T600E","VK_AUTFIL",290,"Auto Fill","CAD","306505"]
["M-T600VK_BASE_T600-700C","M-T600","VK_BASE_T600-700C",31979,"700 T600 Cyl","CAD","306504"]
["M-T600VK_BASE_T600-700C_STD","M-T600","VK_BASE_T600-700C_STD",31979,"T600 700mm Cyl Std Config","CAD","306504"]
["M-T600VK_BASE_T600-700D","M-T600","VK_BASE_T600-700D",29751,"700 T600 Disk","CAD","306504"]
["M-T600VK_BASE_T600-700D_STD","M-T600","VK_BASE_T600-700D_STD",29751,"T600 700mm Disk Std Config","CAD","306504"]
["M-T600VK_BASE_T600-700O","M-T600","VK_BASE_T600-700O",31125,"700 T600 Orb","CAD","306504"]
["M-T600VK_BASE_T600-700O_STD","M-T600","VK_BASE_T600-700O_STD",31125,"T600 700mm Orb Std Config","CAD","306504"]
["M-T600VK_BASE_T600-800C","M-T600","VK_BASE_T600-800C",33095,"800 T600 Cyl","CAD","306504"]
["M-T600VK_BASE_T600-800C_STD","M-T600","VK_BASE_T600-800C_STD",33095,"T600 800mm Cyl Std Config","CAD","306504"]
["M-T600VK_BASE_T600-800D","M-T600","VK_BASE_T600-800D",30866,"800 T600 Disk","CAD","306504"]
["M-T600VK_BASE_T600-800D_STD","M-T600","VK_BASE_T600-800D_STD",30866,"T600 800mm Disk Std Config","CAD","306504"]
["M-T600VK_BASE_T600-900D","M-T600","VK_BASE_T600-900D",35131,"900 T600 Disk","CAD","306504"]
["M-T600VK_BASE_T600-900D_STD","M-T600","VK_BASE_T600-900D_STD",35131,"T600 900mm Disk Std Config","CAD","306504"]
["M-T600EVK_BASE_T600E-700C","M-T600E","VK_BASE_T600E-700C",28253,"T600E-700-C","CAD","306505"]
["M-T600EVK_BASE_T600E-700C_STD","M-T600E","VK_BASE_T600E-700C_STD",28253,"T600E 700mm Cyl Std Config","CAD","306505"]
["M-T600EVK_BASE_T600E-700D","M-T600E","VK_BASE_T600E-700D",25957,"T600E-700-D","CAD","306505"]
["M-T600EVK_BASE_T600E-700D_STD","M-T600E","VK_BASE_T600E-700D_STD",25957,"T600E 700mm Disk Std Config","CAD","306505"]
["M-T600EVK_BASE_T600E-700O","M-T600E","VK_BASE_T600E-700O",27333,"T600E-700-O","CAD","306505"]
["M-T600EVK_BASE_T600E-700O_STD","M-T600E","VK_BASE_T600E-700O_STD",27333,"T600E 700mm Orb Std Config","CAD","306505"]
["M-T600EVK_BASE_T600E-800C","M-T600E","VK_BASE_T600E-800C",29400,"T600E-800-C","CAD","306505"]
["M-T600EVK_BASE_T600E-800C_STD","M-T600E","VK_BASE_T600E-800C_STD",29400,"T600E 800mm Cyl Std Config","CAD","306505"]
["M-T600EVK_BASE_T600E-800D","M-T600E","VK_BASE_T600E-800D",27105,"T600E-800-D","CAD","306505"]
["M-T600EVK_BASE_T600E-800D_STD","M-T600E","VK_BASE_T600E-800D_STD",27105,"T600E 800mm Disk Std Config","CAD","306505"]
["M-T600EVK_BASE_T600E-900D","M-T600E","VK_BASE_T600E-900D",29401,"T600E-900-D","CAD","306505"]
["M-T600EVK_BASE_T600E-900D_STD","M-T600E","VK_BASE_T600E-900D_STD",29401,"T600E 900mm Disk Std Config","CAD","306505"]
["M-T600EEVK_BASE_T600EE-800D","M-T600EE","VK_BASE_T600EE-800D",50786,"T600EE-800-D","CAD","306506"]
["M-T600VK_BTY_F186C6","M-T600","VK_BTY_F186C6",3170,"Bty Fast 186AH C/6","CAD","306504"]
["M-T600EVK_BTY_F186C6","M-T600E","VK_BTY_F186C6",3170,"Bty Fast 186AH C/6","CAD","306505"]
["M-T600VK_BTY_F210C20","M-T600","VK_BTY_F210C20",3170,"Bty Fast 210AH C20","CAD","306504"]
["M-T600EVK_BTY_F210C20","M-T600E","VK_BTY_F210C20",3170,"Bty Fast 210AH C20","CAD","306505"]
["M-T600VK_BTY_L36V2M","M-T600","VK_BTY_L36V2M",9641,"Bty Li-Ion 36v, 4.1kWh","CAD","306504"]
["M-T600EVK_BTY_L36V2M","M-T600E","VK_BTY_L36V2M",9641,"Bty Li-Ion 36v, 4.1kWh","CAD","306505"]
["M-T600VK_BTY_L36V4M","M-T600","VK_BTY_L36V4M",19870,"Bty Li-Ion 36v, 8.2kWh","CAD","306504"]
["M-T600EVK_BTY_L36V4M","M-T600E","VK_BTY_L36V4M",19870,"Bty Li-Ion 36v, 8.2kWh","CAD","306505"]
["M-T600VK_BTY_L36V5M","M-T600","VK_BTY_L36V5M",23857,"Bty Li-Ion 36v, 10.2kWh","CAD","306504"]
["M-T600EVK_BTY_L36V5M","M-T600E","VK_BTY_L36V5M",23857,"Bty Li-Ion 36v, 10.2kWh","CAD","306505"]
["M-T600EVK_BTY_W210C20","M-T600E","VK_BTY_W210C20","N/C","Bty Wet 210AH C5","CAD","306505"]
["M-T600VK_BTY_W240C20","M-T600","VK_BTY_W240C20","N/C","Bty Wet 240AH C20","CAD","306504"]
["M-T600EVK_BTY_W240C20","M-T600E","VK_BTY_W240C20","N/C","Bty Wet 240AH C20","CAD","306505"]
["M-T600EEVK_BTY_W240C20","M-T600EE","VK_BTY_W240C20","N/C","Bty Wet 240AH C20","CAD","306506"]
["M-T600VK_BTY_W360C20","M-T600","VK_BTY_W360C20",1019,"Bty Wet 360AH C20","CAD","306504"]
["M-T600EVK_BTY_W360C20","M-T600E","VK_BTY_W360C20",1019,"Bty Wet 360AH C20","CAD","306505"]
["M-T600VK_BTY_WO","M-T600","VK_BTY_WO",-1050,"Without Battery","CAD","306504"]
["M-T600EVK_BTY_WO","M-T600E","VK_BTY_WO",-1050,"Without Battery","CAD","306505"]
["M-T600VK_BTYWTRSYS_ML","M-T600","VK_BTYWTRSYS_ML",995,"Battery Watering Manual","CAD","306504"]
["M-T600EVK_BTYWTRSYS_ML","M-T600E","VK_BTYWTRSYS_ML",995,"Battery Watering Manual","CAD","306505"]
["M-T600EEVK_BTYWTRSYS_ML","M-T600EE","VK_BTYWTRSYS_ML",1279,"Battery Watering Manual","CAD","306506"]
["M-T600VK_BTYWTRSYS_SF","M-T600","VK_BTYWTRSYS_SF",1542,"Smart Fill","CAD","306504"]
["M-T600EVK_BTYWTRSYS_SF","M-T600E","VK_BTYWTRSYS_SF",1542,"Smart Fill","CAD","306505"]
["M-T600VK_CHG_25A100V5060H1_OFF","M-T600","VK_CHG_25A100V5060H1_OFF","N/C","Ch25A 100V 5060H1P Off","CAD","306504"]
["M-T600EVK_CHG_25A100V5060H1_OFF","M-T600E","VK_CHG_25A100V5060H1_OFF","N/C","Ch25A 100V 5060H1P Off","CAD","306505"]
["M-T600EEVK_CHG_25A100V5060H1_OFF","M-T600EE","VK_CHG_25A100V5060H1_OFF","N/C","Ch25A 100V 5060H1P Off","CAD","306506"]
["M-T600VK_CHG_25A100V5060H1_ON","M-T600","VK_CHG_25A100V5060H1_ON","N/C","Ch25A 100V 5060H1P On","CAD","306504"]
["M-T600EVK_CHG_25A100V5060H1_ON","M-T600E","VK_CHG_25A100V5060H1_ON","N/C","Ch25A 100V 5060H1P On","CAD","306505"]
["M-T600VK_CHG_25A100V5060H1LIOF","M-T600","VK_CHG_25A100V5060H1LIOF",574,"Ch25A 100V 50/60Hz 1Ph Off","CAD","306504"]
[{"$f":"B1161&C1161","v":"M-T600EVK_CHG_25A100V5060H1LIOF"},"M-T600E","VK_CHG_25A100V5060H1LIOF",574,"Ch25A 100V 50/60Hz 1Ph Off","CAD","306505"]
["M-T600VK_CHG_25A100V5060H1LION","M-T600","VK_CHG_25A100V5060H1LION",574,"Ch25A 100V 50/60Hz 1Ph On","CAD","306504"]
["M-T600EVK_CHG_25A100V5060H1LION","M-T600E","VK_CHG_25A100V5060H1LION",574,"Ch25A 100V 50/60Hz 1Ph On","CAD","306505"]
["M-T600VK_CHG_33A100V5060H1P","M-T600","VK_CHG_33A100V5060H1P",243,"Ch33A 100V 5060H1P","CAD","306504"]
["M-T600EVK_CHG_33A100V5060H1P","M-T600E","VK_CHG_33A100V5060H1P",243,"Ch33A 100V 5060H1P","CAD","306505"]
["M-T600VK_CHG_33A100V5060H1PLIF","M-T600","VK_CHG_33A100V5060H1PLIF",800,"Ch33A 100V 50/60Hz 1Ph Off","CAD","306504"]
["M-T600EVK_CHG_33A100V5060H1PLIF","M-T600E","VK_CHG_33A100V5060H1PLIF",800,"Ch33A 100V 50/60Hz 1Ph Off","CAD","306505"]
["M-T600VK_CHG_33A100V5060H1PLIN","M-T600","VK_CHG_33A100V5060H1PLIN",800,"Ch33A 100V 50/60Hz 1Ph On","CAD","306504"]
["M-T600EVK_CHG_33A100V5060H1PLIN","M-T600E","VK_CHG_33A100V5060H1PLIN",800,"Ch33A 100V 50/60Hz 1Ph On","CAD","306505"]
["M-T600VK_CHG_WO","M-T600","VK_CHG_WO",-943,"Without Charger","CAD","306504"]
["M-T600EVK_CHG_WO","M-T600E","VK_CHG_WO",-943,"Without Charger","CAD","306505"]
["M-T600EEVK_CHG_WO","M-T600EE","VK_CHG_WO",-943,"Without Charger","CAD","306506"]
["M-T600VK_CLNTCH_ECH2ON","M-T600","VK_CLNTCH_ECH2ON",3976,"ec-H2O™ NanoClean","CAD","306504"]
["M-T600EVK_CLNTCH_ECH2ON","M-T600E","VK_CLNTCH_ECH2ON",3976,"ec-H2O™ NanoClean","CAD","306505"]
["M-T600VK_CLNTOL_C700ABB","M-T600","VK_CLNTOL_C700ABB",455,"C700/28 Abr Brush","CAD","306504"]
["M-T600EVK_CLNTOL_C700ABB","M-T600E","VK_CLNTOL_C700ABB",455,"C700/28 Abr Brush","CAD","306505"]
["M-T600VK_CLNTOL_C700HDPYP","M-T600","VK_CLNTOL_C700HDPYP","N/C","C700/28 HD Poly Brsh","CAD","306504"]
["M-T600EVK_CLNTOL_C700HDPYP","M-T600E","VK_CLNTOL_C700HDPYP","N/C","C700/28 HD Poly Brsh","CAD","306505"]
["M-T600VK_CLNTOL_C700NYL","M-T600","VK_CLNTOL_C700NYL","N/C","C700/28 Nylon Brush","CAD","306504"]
["M-T600EVK_CLNTOL_C700NYL","M-T600E","VK_CLNTOL_C700NYL","N/C","C700/28 Nylon Brush","CAD","306505"]
["M-T600VK_CLNTOL_C700PYP","M-T600","VK_CLNTOL_C700PYP","N/C","C700/28 Poly Brush","CAD","306504"]
["M-T600EVK_CLNTOL_C700PYP","M-T600E","VK_CLNTOL_C700PYP","N/C","C700/28 Poly Brush","CAD","306505"]
["M-T600VK_CLNTOL_C800ABB","M-T600","VK_CLNTOL_C800ABB",455,"C800/32 Abr Brush","CAD","306504"]
["M-T600EVK_CLNTOL_C800ABB","M-T600E","VK_CLNTOL_C800ABB",455,"C800/32 Abr Brush","CAD","306505"]
["M-T600VK_CLNTOL_C800HCPYP","M-T600","VK_CLNTOL_C800HCPYP","N/C","not used","CAD","306504"]
["M-T600EVK_CLNTOL_C800HCPYP","M-T600E","VK_CLNTOL_C800HCPYP","N/C","not used","CAD","306505"]
["M-T600VK_CLNTOL_C800HDPYP","M-T600","VK_CLNTOL_C800HDPYP","N/C","C800/32 HD Poly Brsh","CAD","306504"]
["M-T600EVK_CLNTOL_C800HDPYP","M-T600E","VK_CLNTOL_C800HDPYP","N/C","C800/32 HD Poly Brsh","CAD","306505"]
["M-T600VK_CLNTOL_C800NYL","M-T600","VK_CLNTOL_C800NYL","N/C","C800/32 Nylon Brush","CAD","306504"]
["M-T600EVK_CLNTOL_C800NYL","M-T600E","VK_CLNTOL_C800NYL","N/C","C800/32 Nylon Brush","CAD","306505"]
["M-T600VK_CLNTOL_C800PYP","M-T600","VK_CLNTOL_C800PYP","N/C","C800/32 Poly Brush","CAD","306504"]
["M-T600EVK_CLNTOL_C800PYP","M-T600E","VK_CLNTOL_C800PYP","N/C","C800/32 Poly Brush","CAD","306505"]
["M-T600VK_CLNTOL_D700NYL","M-T600","VK_CLNTOL_D700NYL","N/C","D700/28 Nylon Brush","CAD","306504"]
["M-T600EVK_CLNTOL_D700NYL","M-T600E","VK_CLNTOL_D700NYL","N/C","D700/28 Nylon Brush","CAD","306505"]
["M-T600VK_CLNTOL_D700PAD","M-T600","VK_CLNTOL_D700PAD","N/C","D700/28 Pad Driver","CAD","306504"]
["M-T600EVK_CLNTOL_D700PAD","M-T600E","VK_CLNTOL_D700PAD","N/C","D700/28 Pad Driver","CAD","306505"]
["M-T600VK_CLNTOL_D700PYP","M-T600","VK_CLNTOL_D700PYP","N/C","D700/28 Poly Brush","CAD","306504"]
["M-T600EVK_CLNTOL_D700PYP","M-T600E","VK_CLNTOL_D700PYP","N/C","D700/28 Poly Brush","CAD","306505"]
["M-T600VK_CLNTOL_D700SAB","M-T600","VK_CLNTOL_D700SAB",455,"D700/28 Sup Abr Brsh","CAD","306504"]
["M-T600EVK_CLNTOL_D700SAB","M-T600E","VK_CLNTOL_D700SAB",455,"D700/28 Sup Abr Brsh","CAD","306505"]
["M-T600VK_CLNTOL_D800HDPYP","M-T600","VK_CLNTOL_D800HDPYP","N/C","D800/32 HD Poly Brsh","CAD","306504"]
["M-T600EVK_CLNTOL_D800HDPYP","M-T600E","VK_CLNTOL_D800HDPYP","N/C","D800/32 HD Poly Brsh","CAD","306505"]
["M-T600EEVK_CLNTOL_D800HDPYP","M-T600EE","VK_CLNTOL_D800HDPYP","N/C","D800/32 HD Poly Brsh","CAD","306506"]
["M-T600VK_CLNTOL_D800NYL","M-T600","VK_CLNTOL_D800NYL","N/C","D800/32 Nylon Brush","CAD","306504"]
["M-T600EVK_CLNTOL_D800NYL","M-T600E","VK_CLNTOL_D800NYL","N/C","D800/32 Nylon Brush","CAD","306505"]
["M-T600EEVK_CLNTOL_D800NYL","M-T600EE","VK_CLNTOL_D800NYL","N/C","D800/32 Nylon Brush","CAD","306506"]
["M-T600VK_CLNTOL_D800PAD","M-T600","VK_CLNTOL_D800PAD","N/C","D800/32 Pad Driver","CAD","306504"]
["M-T600EVK_CLNTOL_D800PAD","M-T600E","VK_CLNTOL_D800PAD","N/C","D800/32 Pad Driver","CAD","306505"]
["M-T600EEVK_CLNTOL_D800PAD","M-T600EE","VK_CLNTOL_D800PAD","N/C","D800/32 Pad Driver","CAD","306506"]
["M-T600VK_CLNTOL_D800PYP","M-T600","VK_CLNTOL_D800PYP","N/C","D800/32 Poly Brush","CAD","306504"]
["M-T600EVK_CLNTOL_D800PYP","M-T600E","VK_CLNTOL_D800PYP","N/C","D800/32 Poly Brush","CAD","306505"]
["M-T600EEVK_CLNTOL_D800PYP","M-T600EE","VK_CLNTOL_D800PYP","N/C","D800/32 Poly Brush","CAD","306506"]
["M-T600VK_CLNTOL_D800SAB","M-T600","VK_CLNTOL_D800SAB",455,"D800/32 Sup Abr Brsh","CAD","306504"]
["M-T600EVK_CLNTOL_D800SAB","M-T600E","VK_CLNTOL_D800SAB",455,"D800/32 Sup Abr Brsh","CAD","306505"]
["M-T600EEVK_CLNTOL_D800SAB","M-T600EE","VK_CLNTOL_D800SAB",587,"D800/32 Sup Abr Brsh","CAD","306506"]
["M-T600VK_CLNTOL_D900NYL","M-T600","VK_CLNTOL_D900NYL","N/C","D900/36 Nylon Brush","CAD","306504"]
["M-T600EVK_CLNTOL_D900NYL","M-T600E","VK_CLNTOL_D900NYL","N/C","D900/36 Nylon Brush","CAD","306505"]
["M-T600VK_CLNTOL_D900PAD","M-T600","VK_CLNTOL_D900PAD","N/C","D900/36 Pad Driver","CAD","306504"]
["M-T600EVK_CLNTOL_D900PAD","M-T600E","VK_CLNTOL_D900PAD","N/C","D900/36 Pad Driver","CAD","306505"]
["M-T600VK_CLNTOL_D900PYP","M-T600","VK_CLNTOL_D900PYP","N/C","D900/36 Poly Brush","CAD","306504"]
["M-T600EVK_CLNTOL_D900PYP","M-T600E","VK_CLNTOL_D900PYP","N/C","D900/36 Poly Brush","CAD","306505"]
["M-T600VK_CLNTOL_D900SAB","M-T600","VK_CLNTOL_D900SAB",546,"D900/36 Sup Abr Brsh","CAD","306504"]
["M-T600EVK_CLNTOL_D900SAB","M-T600E","VK_CLNTOL_D900SAB",546,"D900/36 Sup Abr Brsh","CAD","306505"]
["M-T600VK_CLNTOL_O700PAD","M-T600","VK_CLNTOL_O700PAD","N/C","O700/28 Pad Driver","CAD","306504"]
[{"$f":"B1225&C1225","v":"M-T600EVK_CLNTOL_O700PAD"},"M-T600E","VK_CLNTOL_O700PAD","N/C","O700/28 Pad Driver","CAD","306505"]
["M-T600VK_CSMDRTWTRLBL","M-T600","VK_CSMDRTWTRLBL",55,"Dirty Water Label","CAD","306504"]
["M-T600VK_DWNPRS_HD","M-T600","VK_DWNPRS_HD",2221,"Down Pressure - Heavy Duty","CAD","306504"]
["M-T600EVK_DWNPRS_HD","M-T600E","VK_DWNPRS_HD",2200,"Down Pressure - Heavy Duty","CAD","306505"]
["M-T600EVK_HRCLBLKIT","M-T600E","VK_HRCLBLKIT",157,"Herc Label Kit","CAD","306505"]
["M-T600EVK_IRSSRVRPT_3YP","M-T600E","VK_IRSSRVRPT_3YP",435,"Svc Rpt 3 Yr Pre-Paid","CAD","306505"]
["M-T600VK_MCHCOM","M-T600","VK_MCHCOM",1916,"IRIS Telemetry","CAD","306504"]
["M-T600EVK_MCHCOM","M-T600E","VK_MCHCOM",1916,"IRIS Telemetry","CAD","306505"]
["M-T600EVK_MCHCOM_SBT","M-T600E","VK_MCHCOM_SBT",1916,"IRIS Telemetry","CAD","306505"]
["M-T600VK_NONMKTTRE_BFFR","M-T600","VK_NONMKTTRE_BFFR","N/C","Tire Blk Foam Filled","CAD","306504"]
["M-T600EVK_NONMKTTRE_BFFR","M-T600E","VK_NONMKTTRE_BFFR","N/C","Tire Blk Foam Filled","CAD","306505"]
["M-T600EEVK_NONMKTTRE_BFFR","M-T600EE","VK_NONMKTTRE_BFFR","N/C","Tire Blk Foam Filled","CAD","306506"]
["M-T600VK_NONMKTTRE_BPR","M-T600","VK_NONMKTTRE_BPR","N/C","Tire Blk Pneu Rubber","CAD","306504"]
["M-T600EVK_NONMKTTRE_BPR","M-T600E","VK_NONMKTTRE_BPR","N/C","Tire Blk Pneu Rubber","CAD","306505"]
["M-T600EEVK_NONMKTTRE_BPR","M-T600EE","VK_NONMKTTRE_BPR","N/C","Tire Blk Pneu Rubber","CAD","306506"]
["M-T600EVK_OPRMNL","M-T600E","VK_OPRMNL","N/C","Oper Manual","CAD","306505"]
["M-T600VK_PADTYP_700BLKH3","M-T600","VK_PADTYP_700BLKH3",27,"700/28 Blk HiPro 3M","CAD","306504"]
["M-T600EVK_PADTYP_700BLKH3","M-T600E","VK_PADTYP_700BLKH3",27,"700/28 Blk HiPro 3M","CAD","306505"]
["M-T600VK_PADTYP_700BLU3","M-T600","VK_PADTYP_700BLU3",24,"700/28 Blu Scrub 3M","CAD","306504"]
["M-T600EVK_PADTYP_700BLU3","M-T600E","VK_PADTYP_700BLU3",24,"700/28 Blu Scrub 3M","CAD","306505"]
["M-T600VK_PADTYP_700BWN3","M-T600","VK_PADTYP_700BWN3",24,"700/28 Bwn Strip 3M","CAD","306504"]
["M-T600EVK_PADTYP_700BWN3","M-T600E","VK_PADTYP_700BWN3",24,"700/28 Bwn Strip 3M","CAD","306505"]
["M-T600VK_PADTYP_700MAR3","M-T600","VK_PADTYP_700MAR3",26,"700/28 MarSur Pad 3M","CAD","306504"]
["M-T600EVK_PADTYP_700MAR3","M-T600E","VK_PADTYP_700MAR3",26,"700/28 MarSur Pad 3M","CAD","306505"]
["M-T600VK_PADTYP_700RED3","M-T600","VK_PADTYP_700RED3",24,"700/28 Red Clean 3M","CAD","306504"]
["M-T600EVK_PADTYP_700RED3","M-T600E","VK_PADTYP_700RED3",24,"700/28 Red Clean 3M","CAD","306505"]
["M-T600VK_PADTYP_700WHT3","M-T600","VK_PADTYP_700WHT3",24,"700/28 Wht Polish 3M","CAD","306504"]
["M-T600EVK_PADTYP_700WHT3","M-T600E","VK_PADTYP_700WHT3",24,"700/28 Wht Polish 3M","CAD","306505"]
["M-T600VK_PADTYP_700YLW3","M-T600","VK_PADTYP_700YLW3",73,"700/28 Ylw Polish 3M","CAD","306504"]
["M-T600EVK_PADTYP_700YLW3","M-T600E","VK_PADTYP_700YLW3",73,"700/28 Ylw Polish 3M","CAD","306505"]
["M-T600VK_PADTYP_800BLU3","M-T600","VK_PADTYP_800BLU3",27,"800/32 Blu Scrub 3M","CAD","306504"]
["M-T600EVK_PADTYP_800BLU3","M-T600E","VK_PADTYP_800BLU3",27,"800/32 Blu Scrub 3M","CAD","306505"]
["M-T600EEVK_PADTYP_800BLU3","M-T600EE","VK_PADTYP_800BLU3",28,"800/32 Blu Scrub 3M","CAD","306506"]
["M-T600VK_PADTYP_800RED3","M-T600","VK_PADTYP_800RED3",27,"800/32 Red Clean 3M","CAD","306504"]
["M-T600EVK_PADTYP_800RED3","M-T600E","VK_PADTYP_800RED3",27,"800/32 Red Clean 3M","CAD","306505"]
["M-T600EEVK_PADTYP_800RED3","M-T600EE","VK_PADTYP_800RED3",28,"800/32 Red Clean 3M","CAD","306506"]
["M-T600VK_PADTYP_800WHT3","M-T600","VK_PADTYP_800WHT3",27,"800/32 Wht Polish 3M","CAD","306504"]
["M-T600EVK_PADTYP_800WHT3","M-T600E","VK_PADTYP_800WHT3",27,"800/32 Wht Polish 3M","CAD","306505"]
["M-T600EEVK_PADTYP_800WHT3","M-T600EE","VK_PADTYP_800WHT3",28,"800/32 Wht Polish 3M","CAD","306506"]
["M-T600VK_PADTYP_800YLW3","M-T600","VK_PADTYP_800YLW3",86,"800/32 Ylw Polish 3M","CAD","306504"]
["M-T600EVK_PADTYP_800YLW3","M-T600E","VK_PADTYP_800YLW3",86,"800/32 Ylw Polish 3M","CAD","306505"]
["M-T600VK_PADTYP_900BLKH3","M-T600","VK_PADTYP_900BLKH3",33,"900/36 Blk HiPro 3M","CAD","306504"]
["M-T600EVK_PADTYP_900BLKH3","M-T600E","VK_PADTYP_900BLKH3",33,"900/36 Blk HiPro 3M","CAD","306505"]
["M-T600VK_PADTYP_900BLU3","M-T600","VK_PADTYP_900BLU3",31,"900/36 Blu Scrub 3M","CAD","306504"]
["M-T600EVK_PADTYP_900BLU3","M-T600E","VK_PADTYP_900BLU3",31,"900/36 Blu Scrub 3M","CAD","306505"]
["M-T600VK_PADTYP_900RED3","M-T600","VK_PADTYP_900RED3",31,"900/36 Red Clean 3M","CAD","306504"]
["M-T600EVK_PADTYP_900RED3","M-T600E","VK_PADTYP_900RED3",31,"900/36 Red Clean 3M","CAD","306505"]
["M-T600VK_PADTYP_900WHT3","M-T600","VK_PADTYP_900WHT3",31,"900/36 Wht Polish 3M","CAD","306504"]
["M-T600EVK_PADTYP_900WHT3","M-T600E","VK_PADTYP_900WHT3",31,"900/36 Wht Polish 3M","CAD","306505"]
["M-T600VK_PADTYP_900YLW3","M-T600","VK_PADTYP_900YLW3",100,"900/36 Ylw Polish 3M","CAD","306504"]
["M-T600EVK_PADTYP_900YLW3","M-T600E","VK_PADTYP_900YLW3",100,"900/36 Ylw Polish 3M","CAD","306505"]
["M-T600VK_PADTYP_O700BLU3","M-T600","VK_PADTYP_O700BLU3",78,"Orb 700/28 Blu 3M","CAD","306504"]
["M-T600EVK_PADTYP_O700BLU3","M-T600E","VK_PADTYP_O700BLU3",78,"Orb 700/28 Blu 3M","CAD","306505"]
["M-T600VK_PADTYP_O700MAR3","M-T600","VK_PADTYP_O700MAR3",156,"Orb 700/28 Mar 3M","CAD","306504"]
["M-T600EVK_PADTYP_O700MAR3","M-T600E","VK_PADTYP_O700MAR3",156,"Orb 700/28 Mar 3M","CAD","306505"]
["M-T600VK_PADTYP_O700RED3","M-T600","VK_PADTYP_O700RED3",78,"Orb 700/28 Red 3M","CAD","306504"]
["M-T600EVK_PADTYP_O700RED3","M-T600E","VK_PADTYP_O700RED3",78,"Orb 700/28 Red 3M","CAD","306505"]
["M-T600VK_PADTYP_O700WHT3","M-T600","VK_PADTYP_O700WHT3",78,"Orb 700/28 Wht 3M","CAD","306504"]
["M-T600EVK_PADTYP_O700WHT3","M-T600E","VK_PADTYP_O700WHT3",78,"Orb 700/28 Wht 3M","CAD","306505"]
["M-T600VK_PADTYP_O700YLW3","M-T600","VK_PADTYP_O700YLW3",168,"Orb 700/28 Ylw 3M","CAD","306504"]
["M-T600EVK_PADTYP_O700YLW3","M-T600E","VK_PADTYP_O700YLW3",168,"Orb 700/28 Ylw 3M","CAD","306505"]
["M-T600VK_PARMNL","M-T600","VK_PARMNL",71,"Parts Manual","CAD","306504"]
["M-T600EVK_PARMNL","M-T600E","VK_PARMNL",71,"Parts Manual","CAD","306505"]
["M-T600EEVK_PARMNL","M-T600EE","VK_PARMNL",79,"Parts Manual","CAD","306506"]
[{"$f":"B1289&C1289","v":"M-T600VK_PKG_PAD"},"M-T600","VK_PKG_PAD","N/C","Pad Wrap","CAD","306504"]
["M-T600EVK_PKG_PAD","M-T600E","VK_PKG_PAD","N/C","Pad Wrap","CAD","306505"]
["M-T600EEVK_PKG_PAD","M-T600EE","VK_PKG_PAD","N/C","Pad Wrap","CAD","306506"]
["M-T600VK_PKG_SSKD","M-T600","VK_PKG_SSKD","N/C","Stack Skid/Carton","CAD","306504"]
["M-T600EVK_PKG_SSKD","M-T600E","VK_PKG_SSKD","N/C","Stack Skid/Carton","CAD","306505"]
["M-T600EEVK_PKG_SSKD","M-T600EE","VK_PKG_SSKD","N/C","Stack Skid/Carton","CAD","306506"]
["M-T600VK_PKG_SSKD_NC","M-T600","VK_PKG_SSKD_NC","N/C","Stack Skid/Carton","CAD","306504"]
["M-T600EVK_PKG_SSKD_NC","M-T600E","VK_PKG_SSKD_NC","N/C","Stack Skid/Carton","CAD","306505"]
["M-T600VK_PRGBRK","M-T600","VK_PRGBRK",254,"Parking Brake","CAD","306504"]
["M-T600EVK_PRGBRK","M-T600E","VK_PRGBRK",254,"Parking Brake","CAD","306505"]
["M-T600EEVK_PRGBRK","M-T600EE","VK_PRGBRK",283,"Parking Brake","CAD","306506"]
["M-T600VK_RECHSE_PVC_DCO","M-T600","VK_RECHSE_PVC_DCO","N/C","PVC Matl w/Drain Cap","CAD","306504"]
["M-T600EVK_RECHSE_PVC_DCO","M-T600E","VK_RECHSE_PVC_DCO","N/C","PVC Matl w/Drain Cap","CAD","306505"]
["M-T600EEVK_RECHSE_PVC_DCO","M-T600EE","VK_RECHSE_PVC_DCO","N/C","PVC Matl w/Drain Cap","CAD","306506"]
["M-T600VK_RECHSE_PYPOR_DCV","M-T600","VK_RECHSE_PYPOR_DCV","N/C","Poly Mat w/DCV","CAD","306504"]
["M-T600EVK_RECHSE_PYPOR_DCV","M-T600E","VK_RECHSE_PYPOR_DCV","N/C","Poly Mat w/DCV","CAD","306505"]
["M-T600EEVK_RECHSE_PYPOR_DCV","M-T600EE","VK_RECHSE_PYPOR_DCV","N/C","Poly Mat w/DCV","CAD","306506"]
["M-T600VK_RECHSE_PYPOR_PC","M-T600","VK_RECHSE_PYPOR_PC","N/C","Poly Mat w/Pinch Cuff","CAD","306504"]
["M-T600EVK_RECHSE_PYPOR_PC","M-T600E","VK_RECHSE_PYPOR_PC","N/C","Poly Mat w/Pinch Cuff","CAD","306505"]
["M-T600EEVK_RECHSE_PYPOR_PC","M-T600EE","VK_RECHSE_PYPOR_PC","N/C","Poly Mat w/Pinch Cuff","CAD","306506"]
["M-T600VK_SPYNOZWTHHSE","M-T600","VK_SPYNOZWTHHSE",989,"Spray Nozzel w/Hose","CAD","306504"]
["M-T600VK_SQEWDT_NWA","M-T600","VK_SQEWDT_NWA","N/C","NarrowAisle Squeegee","CAD","306504"]
["M-T600EVK_SQEWDT_NWA","M-T600E","VK_SQEWDT_NWA","N/C","NarrowAisle Squeegee","CAD","306505"]
["M-T600EEVK_SQEWDT_NWA","M-T600EE","VK_SQEWDT_NWA","N/C","NarrowAisle Squeegee","CAD","306506"]
["M-T600VK_SQEWDT_STD","M-T600","VK_SQEWDT_STD","N/C","Standard Squeegee","CAD","306504"]
["M-T600EVK_SQEWDT_STD","M-T600E","VK_SQEWDT_STD","N/C","Standard Squeegee","CAD","306505"]
["M-T600EEVK_SQEWDT_STD","M-T600EE","VK_SQEWDT_STD","N/C","Standard Squeegee","CAD","306506"]
["M-T600VK_SRVMNL","M-T600","VK_SRVMNL",175,"Service Manual","CAD","306504"]
["M-T600EVK_SRVMNL","M-T600E","VK_SRVMNL",175,"Service Manual","CAD","306505"]
["M-T600EEVK_SRVMNL","M-T600EE","VK_SRVMNL",195,"Service Manual","CAD","306506"]
["M-T600VK_SVEEVMSWH","M-T600","VK_SVEEVMSWH",800,"SE Switch Capability","CAD","306504"]
["M-T600VK_SVEEVMSWHLKT","M-T600","VK_SVEEVMSWHLKT",81,"SE Switch Lockout","CAD","306504"]
["M-T600VK_TRLTRTKIT","M-T600","VK_TRLTRTKIT",360,"Transport Kit","CAD","306504"]
["M-T600EVK_TRLTRTKIT","M-T600E","VK_TRLTRTKIT",360,"Transport Kit","CAD","306505"]
["M-T600EEVK_TRLTRTKIT","M-T600EE","VK_TRLTRTKIT",463,"Transport Kit","CAD","306506"]
["M-T600VK_TRMLVL_PMEM","M-T600","VK_TRMLVL_PMEM","N/C","Pro Membrane Panel","CAD","306504"]
["M-T600EEVK_TRMLVL_PMEM","M-T600EE","VK_TRMLVL_PMEM","N/C","Pro Membrane Panel","CAD","306506"]
["M-T600VK_TRMLVL_PPAN","M-T600","VK_TRMLVL_PPAN",1242,"ProPanel Ctrls","CAD","306504"]
["M-T600VK_ULERTG_E","M-T600","VK_ULERTG_E","N/C","UL® Type E","CAD","306504"]
["M-T600EVK_ULERTG_E","M-T600E","VK_ULERTG_E","N/C","UL® Type E","CAD","306505"]
["M-T600VK_WTY_STD","M-T600","VK_WTY_STD","N/C","Warranty STD","CAD","306504"]
["M-T7AMRVK_BLULGT","M-T7AMR","VK_BLULGT",604,"Blue Light","CAD","307001"]
["M-T7AMRVK_BTY_L24V92K","M-T7AMR","VK_BTY_L24V92K",14231,"Bty Li-Ion 24v, 9.2kWh","CAD","307001"]
["M-T7AMRVK_BTY_F128C20","M-T7AMR","VK_BTY_F128C20",3627,"Bty FastCharge 128AH C20","CAD","307001"]
["M-T7AMRVK_CSMSBTPARKIT","M-T7AMR","VK_CSMSBTPARKIT",2063,"Sunbelt -Parts Kit","CAD","307001"]
["M-T7AMRVK_PKG_PAD","M-T7AMR","VK_PKG_PAD","N/C","Pad Wrap","CAD","307001"]
["M-T7AMRVK_PKG_WSKD","M-T7AMR","VK_PKG_WSKD","N/C","Skid w/Stretch Wrap","CAD","307001"]
["M-T7AMRVK_PKG_SCNS_NC","M-T7AMR","VK_PKG_SCNS_NC","N/C","NonStack Skid/Carton","CAD","307001"]
["M-T7AMRVK_SRVMNL","M-T7AMR","VK_SRVMNL",183,"Service Manual","CAD","307001"]
["M-T7AMRVK_PKG_SCNS","M-T7AMR","VK_PKG_SCNS","N/C","NonStack Skid/Carton","CAD","307001"]
["M-T7AMRVK_PARMNL","M-T7AMR","VK_PARMNL",74,"Parts Manual","CAD","307001"]
["M-T7AMRVK_PADTYP_650WHT3","M-T7AMR","VK_PADTYP_650WHT3",24,"650/26 Wh Polish 3M","CAD","307001"]
["M-T7AMRVK_PADTYP_650RED3","M-T7AMR","VK_PADTYP_650RED3",24,"650/26 Red Clean 3M","CAD","307001"]
["M-T7AMRVK_PADTYP_650MAR3","M-T7AMR","VK_PADTYP_650MAR3",28,"650/26 MarSur Pad 3M","CAD","307001"]
["M-T7AMRVK_PADTYP_650BWN3","M-T7AMR","VK_PADTYP_650BWN3",24,"650/26 Br Strip 3M","CAD","307001"]
["M-T7AMRVK_PADTYP_650BLU3","M-T7AMR","VK_PADTYP_650BLU3",24,"650/26 Bl Scrub 3M","CAD","307001"]
["M-T7AMRVK_OPRMNL","M-T7AMR","VK_OPRMNL","N/C","Oper Manual","CAD","307001"]
["M-T7AMRVK_CLNTOL_650SAB","M-T7AMR","VK_CLNTOL_650SAB",494,"650/24 Sup Abr Brsh","CAD","307001"]
["M-T7AMRVK_CLNTOL_650PYP","M-T7AMR","VK_CLNTOL_650PYP","N/C","650/24 Poly Brush","CAD","307001"]
["M-T7AMRVK_CLNTOL_650PAD","M-T7AMR","VK_CLNTOL_650PAD","N/C","650/24 Pad Driver","CAD","307001"]
["M-T7AMRVK_CLNTOL_650NYL","M-T7AMR","VK_CLNTOL_650NYL","N/C","650/24 Nylon Brush","CAD","307001"]
["M-T7AMRVK_CLNTCH_ECH2ON","M-T7AMR","VK_CLNTCH_ECH2ON",4410,"ec-H2O™ NanoClean","CAD","307001"]
["M-T7AMRVK_CHG_41A100V5060H1P","M-T7AMR","VK_CHG_41A100V5060H1P","N/C","Ch41A 100V 5060H1P","CAD","307001"]
["M-T7AMRVK_BTY_W360C20","M-T7AMR","VK_BTY_W360C20","N/C","Bty Wet 360AH C20","CAD","307001"]
[{"$f":"B1353&C1353","v":"M-T7AMRVK_BTYWTRSYS"},"M-T7AMR","VK_BTYWTRSYS","N/C","Battery Watering Sys","CAD","307001"]
["M-T7AMRVK_BASE_T7AMR-650D","M-T7AMR","VK_BASE_T7AMR-650D",83907,"T7AMR 650/26 Disc","CAD","307001"]
["M-T7AMRVK_ADLOPRMNL","M-T7AMR","VK_ADLOPRMNL",183,"Add Operator Manual","CAD","307001"]
["M-T380AMRVK_PKG_SCNS","M-T380AMR","VK_PKG_SCNS","N/C","NonStack Skid/Carton","CAD","307012"]
["M-T380AMRVK_PADTYP_500WHT3","M-T380AMR","VK_PADTYP_500WHT3",36,"500/20 Wh Polish 3M","CAD","307012"]
["M-T380AMRVK_CLNTOL_500PYP","M-T380AMR","VK_CLNTOL_500PYP","N/C","500/20 Poly Brush","CAD","307012"]
["M-T380AMRVK_PADTYP_500BWN3","M-T380AMR","VK_PADTYP_500BWN3",37,"500/20 Br Strip 3M","CAD","307012"]
["M-T380AMRVK_PADTYP_500MAR3","M-T380AMR","VK_PADTYP_500MAR3",44,"500/20 MarSur 3M","CAD","307012"]
["M-T380AMRVK_BTY_L24V46K","M-T380AMR","VK_BTY_L24V46K",7116,"Bty Li-Ion 24v, 4.6kWh","CAD","307012"]
["M-T380AMRVK_PADTYP_500BLK3","M-T380AMR","VK_PADTYP_500BLK3",42,"500/20 Blk Strip 3M","CAD","307012"]
["M-T380AMRVK_SRVMNL","M-T380AMR","VK_SRVMNL",183,"Service Manual","CAD","307012"]
["M-T380AMRVK_REF_T380AMR-500D","M-T380AMR","VK_REF_T380AMR-500D",82656,"T380AMR-500 DISK","CAD","307012"]
["M-T380AMRVK_PARMNL","M-T380AMR","VK_PARMNL",74,"Parts Manual","CAD","307012"]
["M-T380AMRVK_PADTYP_500RED3","M-T380AMR","VK_PADTYP_500RED3",36,"500/20 Red Clean 3M","CAD","307012"]
["M-T380AMRVK_PADTYP_500BLU3","M-T380AMR","VK_PADTYP_500BLU3",36,"500/20 Bl Scrub 3M","CAD","307012"]
["M-T380AMRVK_CLNTOL_500PAD","M-T380AMR","VK_CLNTOL_500PAD","N/C","500/20 Pad Driver","CAD","307012"]
["M-T380AMRVK_CLNTOL_500NYL","M-T380AMR","VK_CLNTOL_500NYL","N/C","500/20 Nylon Brush","CAD","307012"]
["M-T380AMRVK_CLNTCH_ECH2ON","M-T380AMR","VK_CLNTCH_ECH2ON",3083,"ec-H2O™ NanoClean","CAD","307012"]
["M-T380AMRVK_CHG_27A85V5060H1P","M-T380AMR","VK_CHG_27A85V5060H1P","N/C","CH27A 85-270V 5060H1P","CAD","307012"]
["M-T380AMRVK_BTY_W225C20","M-T380AMR","VK_BTY_W225C20","N/C","Bty Wet 225AH C20","CAD","307012"]
["M-T380AMRVK_BTYWTRSYS","M-T380AMR","VK_BTYWTRSYS","N/C","Battery Watering Sys","CAD","307012"]
["M-T380AMRVK_ADLOPRMNL","M-T380AMR","VK_ADLOPRMNL",183,"Add Operator Manual","CAD","307012"]
["M-T7VK_BASE_T7-800-D_STD","M-T7","VK_BASE_T7-800-D_STD",36744,"T7 800mm Disk Std Config","CAD","307500"]
["M-T7VK_BASE_T7-700-C_STD","M-T7","VK_BASE_T7-700-C_STD",36744,"T7 700mm Cyl Std Config","CAD","307500"]
["M-T7VK_BASE_T7-800-D","M-T7","VK_BASE_T7-800-D",36744,"T7 800/32 Disc","CAD","307500"]
["M-T7VK_BASE_T7-650-D_STD","M-T7","VK_BASE_T7-650-D_STD",34211,"T7 650mm Disk Std Config","CAD","307500"]
["M-T7VK_BASE_T7-800-C_STD","M-T7","VK_BASE_T7-800-C_STD",39278,"T7 800mm Cyl Std Config","CAD","307500"]
["M-T7VK_CLNTOL_650SAB","M-T7","VK_CLNTOL_650SAB",500,"650/24 Sup Abr Brsh","CAD","307500"]
["M-T7VK_800BLU3","M-T7","VK_800BLU3",29,"800/32 Bl Scrub 3M","CAD","307500"]
["M-T7VK_D650NYL","M-T7","VK_D650NYL","N/C","D650/26 Nylon Brush","CAD","307500"]
["M-T7VK_C800HDPYP","M-T7","VK_C800HDPYP","N/C","C800/32 HD Poly Brsh","CAD","307500"]
["M-T7VK_D650PYP","M-T7","VK_D650PYP","N/C","D650/26 Poly Brush","CAD","307500"]
["M-T7VK_C700HDPYP","M-T7","VK_C700HDPYP","N/C","C700/28 HD Poly Brsh","CAD","307500"]
["M-T7VK_650BLU3","M-T7","VK_650BLU3",22,"650/26 Bl Scrub 3M","CAD","307500"]
["M-T7VK_C650PYP","M-T7","VK_C650PYP","N/C","C650/26 Poly Brush","CAD","307500"]
["M-T7VK_BASE_T7-650-D","M-T7","VK_BASE_T7-650-D",34211,"T7 650/26 Disc","CAD","307500"]
["M-T7VK_BASE_T7-700-C","M-T7","VK_BASE_T7-700-C",36744,"T7 700/28 Cyl","CAD","307500"]
["M-T7VK_BTY_A220C20","M-T7","VK_BTY_A220C20",2332,"Bty AGM 220AH C20","CAD","307500"]
["M-T7VK_SETBLT","M-T7","VK_SETBLT",121,"Seat Belt","CAD","307500"]
["M-T7VK_650WHT3","M-T7","VK_650WHT3",22,"650/26 Wh Polish 3M","CAD","307500"]
["M-T7VK_D650PAD","M-T7","VK_D650PAD","N/C","D650/26 Pad Driver","CAD","307500"]
["M-T7VK_C700PYP","M-T7","VK_C700PYP","N/C","C700/28 Poly Brush","CAD","307500"]
["M-T7VK_C700NYL","M-T7","VK_C700NYL","N/C","C700/28 Nylon Brush","CAD","307500"]
["M-T7VK_D800PYP","M-T7","VK_D800PYP","N/C","D800/32 Poly Brush","CAD","307500"]
["M-T7VK_C800PYP","M-T7","VK_C800PYP","N/C","C800/32 Poly Brush","CAD","307500"]
["M-T7VK_650BWN3","M-T7","VK_650BWN3",22,"650/26 Br Strip 3M","CAD","307500"]
["M-T7VK_D800NYL","M-T7","VK_D800NYL","N/C","D800/32 Nylon Brush","CAD","307500"]
["M-T7VK_D800PAD","M-T7","VK_D800PAD","N/C","D800/32 Pad Driver","CAD","307500"]
["M-T7VK_650MAR3","M-T7","VK_650MAR3",27,"650/26 MarSur Pad 3M","CAD","307500"]
["M-T7VK_800WHT3","M-T7","VK_800WHT3",29,"800/32 Wh Polish 3M","CAD","307500"]
["M-T7VK_C700ABB","M-T7","VK_C700ABB",500,"C700/28 Abr Brush","CAD","307500"]
["M-T7VK_C800ABB","M-T7","VK_C800ABB",500,"C800/32 Abr Brush","CAD","307500"]
["M-T7VK_800BLKH3","M-T7","VK_800BLKH3",48,"800/32 Blk HiPro 3M","CAD","307500"]
["M-T7VK_800MAR3","M-T7","VK_800MAR3",36,"800/32 MarSur Pad 3M","CAD","307500"]
["M-T7VK_C800NYL","M-T7","VK_C800NYL","N/C","C800/32 Nylon Brush","CAD","307500"]
["M-T7VK_650RED3","M-T7","VK_650RED3",22,"650/26 Red Clean 3M","CAD","307500"]
["M-T7VK_D650SAB","M-T7","VK_D650SAB",500,"D650/26 Spr Abr Brsh","CAD","307500"]
["M-T7VK_D800SAB","M-T7","VK_D800SAB",500,"D800/32 Sup Abr Brsh","CAD","307500"]
["M-T7VK_800RED3","M-T7","VK_800RED3",29,"800/32 Red Clean 3M","CAD","307500"]
["M-T7VK_800BWN3","M-T7","VK_800BWN3",29,"800/32 Br Strip 3M","CAD","307500"]
["M-T7VK_PARMNL","M-T7","VK_PARMNL",75,"Parts Manual","CAD","307500"]
["M-T7VK_BTY_WTR_SYS","M-T7","VK_BTY_WTR_SYS",804,"HydroLink Bty WatKit","CAD","307500"]
["M-T7VK_DTG_FAST665","M-T7","VK_DTG_FAST665","N/C","FaST 665 Degreaser","CAD","307500"]
["M-T7VK_DTG_FAST365","M-T7","VK_DTG_FAST365","N/C","FaST 365 Neutral Cln","CAD","307500"]
[{"$f":"B1417&C1417","v":"M-T7VK_WRNLGTALM_ST"},"M-T7","VK_WRNLGTALM_ST",1023,"Strobe Light Tank","CAD","307500"]
["M-T7VK_BASE_T7-800-C","M-T7","VK_BASE_T7-800-C",39278,"T7 800/32 Cyl","CAD","307500"]
["M-T7VK_CLNTCH_ECH2ON","M-T7","VK_CLNTCH_ECH2ON",4465,"ec-H2O™ NanoClean","CAD","307500"]
["M-T7VK_PADTYP_650WHT3","M-T7","VK_PADTYP_650WHT3",22,"650/26 Wh Polish 3M","CAD","307500"]
["M-T7VK_PADTYP_800BLU3","M-T7","VK_PADTYP_800BLU3",29,"800/32 Blu Scrub 3M","CAD","307500"]
["M-T7VK_PADTYP_800RED3","M-T7","VK_PADTYP_800RED3",29,"800/32 Red Clean 3M","CAD","307500"]
["M-T7VK_PADTYP_800WHT3","M-T7","VK_PADTYP_800WHT3",29,"800/32 Wht Polish 3M","CAD","307500"]
["M-T7VK_WRNLGTANDALM_ST","M-T7","VK_WRNLGTANDALM_ST",1023,"Strobe Light Tank","CAD","307500"]
["M-T7VK_PADTYP_650RED3","M-T7","VK_PADTYP_650RED3",22,"650/26 Red Clean 3M","CAD","307500"]
["M-T7VK_BTYWTRSYS","M-T7","VK_BTYWTRSYS",804,"Battery Watering Sys","CAD","307500"]
["M-T7VK_CLNTOL_C700ABB","M-T7","VK_CLNTOL_C700ABB",500,"C700/28 Abr Brush","CAD","307500"]
["M-T7VK_CLNTOL_C700HDPYP","M-T7","VK_CLNTOL_C700HDPYP","N/C","C700/28 HD Poly Brsh","CAD","307500"]
["M-T7VK_CLNTOL_C700NYL","M-T7","VK_CLNTOL_C700NYL","N/C","C700/28 Nylon Brush","CAD","307500"]
["M-T7VK_CLNTOL_C700PYP","M-T7","VK_CLNTOL_C700PYP","N/C","C700/28 Poly Brush","CAD","307500"]
["M-T7VK_CLNTOL_C800ABB","M-T7","VK_CLNTOL_C800ABB",500,"C800/32 Abr Brush","CAD","307500"]
["M-T7VK_CLNTOL_C800HDPYP","M-T7","VK_CLNTOL_C800HDPYP","N/C","C800/32 HD Poly Brsh","CAD","307500"]
["M-T7VK_CLNTOL_C800NYL","M-T7","VK_CLNTOL_C800NYL","N/C","C800/32 Nylon Brush","CAD","307500"]
["M-T7VK_CLNTOL_C800PYP","M-T7","VK_CLNTOL_C800PYP","N/C","C800/32 Poly Brush","CAD","307500"]
["M-T7VK_CLNTOL_D650NYL","M-T7","VK_CLNTOL_D650NYL","N/C","D650/26 Nylon Brush","CAD","307500"]
["M-T7VK_CLNTOL_D650PAD","M-T7","VK_CLNTOL_D650PAD","N/C","D650/26 Pad Driver","CAD","307500"]
["M-T7VK_CLNTOL_D650PYP","M-T7","VK_CLNTOL_D650PYP","N/C","D650/26 Poly Brush","CAD","307500"]
["M-T7VK_CLNTOL_D800NYL","M-T7","VK_CLNTOL_D800NYL","N/C","D800/32 Nylon Brush","CAD","307500"]
["M-T7VK_CLNTOL_D800PAD","M-T7","VK_CLNTOL_D800PAD","N/C","D800/32 Pad Driver","CAD","307500"]
["M-T7VK_CLNTOL_D800PYP","M-T7","VK_CLNTOL_D800PYP","N/C","D800/32 Poly Brush","CAD","307500"]
["M-T7VK_CLNTOL_D800SAB","M-T7","VK_CLNTOL_D800SAB",500,"D800/32 Sup Abr Brsh","CAD","307500"]
["M-T7VK_DTG_F365","M-T7","VK_DTG_F365","N/C","FaST 365 Neutral Cln","CAD","307500"]
["M-T7VK_DTG_F665","M-T7","VK_DTG_F665","N/C","FaST 665 Degreaser","CAD","307500"]
["M-T7VK_DTG_F965","M-T7","VK_DTG_F965","N/C","FaST 965 HDDegreaser","CAD","307500"]
["M-T7VK_PADTYP_650BLU3","M-T7","VK_PADTYP_650BLU3",22,"650/26 Bl Scrub 3M","CAD","307500"]
["M-T7VK_PADTYP_650BWN3","M-T7","VK_PADTYP_650BWN3",22,"650/26 Br Strip 3M","CAD","307500"]
["M-T7VK_PADTYP_650MAR3","M-T7","VK_PADTYP_650MAR3",27,"650/26 MarSur Pad 3M","CAD","307500"]
["M-T7VK_DTG_FAST965","M-T7","VK_DTG_FAST965","N/C","FaST 965 HDDegreaser","CAD","307500"]
["M-T7VK_ADLOPRMNL","M-T7","VK_ADLOPRMNL",186,"Add Operator Manual","CAD","307500"]
["M-T7VK_UTLBSK","M-T7","VK_UTLBSK",321,"Utility Basket","CAD","307500"]
["M-T7VK_CHG_19A100V5060H1","M-T7","VK_CHG_19A100V5060H1","N/C","Ch19A 100V 5060H1P","CAD","307500"]
["M-T7VK_CHG_27A100V5060H1P","M-T7","VK_CHG_27A100V5060H1P",577,"Ch27A 100-240V 5060H1P","CAD","307500"]
["M-T7VK_MCHCOM","M-T7","VK_MCHCOM",1916,"IRIS Telemetry","CAD","307500"]
["M-T7VK_CSMSBTPARKIT","M-T7","VK_CSMSBTPARKIT",2089,"Sunbelt -Parts Kit","CAD","307500"]
["M-T7VK_BTY_G180C20","M-T7","VK_BTY_G180C20",1557,"Bty Gel 180AH C20","CAD","307500"]
["M-T7VK_BTY_W240C20","M-T7","VK_BTY_W240C20","N/C","Bty Wet 240AH C20","CAD","307500"]
["M-T7VK_BTY_W360C20","M-T7","VK_BTY_W360C20",937,"Bty Wet 360AH C20","CAD","307500"]
["M-T7VK_BTY_WO","M-T7","VK_BTY_WO",-630,"Without Battery","CAD","307500"]
["M-T7VK_CHG_25A100V5060H1","M-T7","VK_CHG_25A100V5060H1",303,"Ch25A 100V 5060H1P","CAD","307500"]
["M-T7VK_CHG_25A115V60H1P","M-T7","VK_CHG_25A115V60H1P",944,"Ch25A 115V 60H1P","CAD","307500"]
["M-T7VK_CHG_WO","M-T7","VK_CHG_WO",-731,"Without Charger","CAD","307500"]
["M-T7VK_CLNTCH_ECH2O","M-T7","VK_CLNTCH_ECH2O",4465,"ec-H2O™","CAD","307500"]
["M-T7VK_CLNTCH_FAST","M-T7","VK_CLNTCH_FAST",4110,"FaST®","CAD","307500"]
["M-T7VK_PKG_SCNS","M-T7","VK_PKG_SCNS","N/C","NonStack Skid/Carton","CAD","307500"]
["M-T7VK_PKG_WSKD","M-T7","VK_PKG_WSKD","N/C","Skid w/Stretch Wrap","CAD","307500"]
["M-T7VK_SRVMNL","M-T7","VK_SRVMNL",186,"Service Manual","CAD","307500"]
["M-SSRVK_CLNTOL_C800PYP","M-SSR","VK_CLNTOL_C800PYP","N/C","C800/32 Poly Brush","CAD","307501"]
["M-SSRVK_PADTYP_650MAR3","M-SSR","VK_PADTYP_650MAR3",27,"650/26 MarSur Pad 3M","CAD","307501"]
["M-SSRVK_CLNTOL_C800HDPYP","M-SSR","VK_CLNTOL_C800HDPYP","N/C","C800/32 HD Poly Brsh","CAD","307501"]
["M-SSRVK_CLNTOL_D800SAB","M-SSR","VK_CLNTOL_D800SAB",500,"D800/32 Sup Abr Brsh","CAD","307501"]
["M-SSRVK_BASE_SSR-650-D_STD","M-SSR","VK_BASE_SSR-650-D_STD",34211,"SSR 650mm Disk Std Config","CAD","307501"]
["M-SSRVK_BASE_SSR-700-C_STD","M-SSR","VK_BASE_SSR-700-C_STD",36744,"SSR 700mm Cyl Std Config","CAD","307501"]
["M-SSRVK_BASE_SSR-800-C_STD","M-SSR","VK_BASE_SSR-800-C_STD",39278,"SSR 800mm Cyl Std Config","CAD","307501"]
["M-SSRVK_BASE_SSR-800-D_STD","M-SSR","VK_BASE_SSR-800-D_STD",36744,"SSR 800mm Disk Std Config","CAD","307501"]
["M-SSRVK_PADTYP_650BWN3","M-SSR","VK_PADTYP_650BWN3",22,"650/26 Br Strip 3M","CAD","307501"]
["M-SSRVK_CLNTOL_D800PAD","M-SSR","VK_CLNTOL_D800PAD","N/C","D800/32 Pad Driver","CAD","307501"]
["M-SSRVK_CLNTOL_D800PYP","M-SSR","VK_CLNTOL_D800PYP","N/C","D800/32 Poly Brush","CAD","307501"]
["M-SSRVK_CLNTOL_D650PYP","M-SSR","VK_CLNTOL_D650PYP","N/C","D650/26 Poly Brush","CAD","307501"]
["M-SSRVK_CLNTOL_C700ABB","M-SSR","VK_CLNTOL_C700ABB",500,"C700/28 Abr Brush","CAD","307501"]
["M-SSRVK_CLNTOL_D650NYL","M-SSR","VK_CLNTOL_D650NYL","N/C","D650/26 Nylon Brush","CAD","307501"]
[{"$f":"B1481&C1481","v":"M-SSRVK_CLNTOL_D800NYL"},"M-SSR","VK_CLNTOL_D800NYL","N/C","D800/32 Nylon Brush","CAD","307501"]
["M-SSRVK_DATPKG_HO","M-SSR","VK_DATPKG_HO",1970,"Hardware Only","CAD","307501"]
["M-SSRVK_CLNTOL_D650PAD","M-SSR","VK_CLNTOL_D650PAD","N/C","D650/26 Pad Driver","CAD","307501"]
["M-SSRVK_CLNTOL_C700HDPYP","M-SSR","VK_CLNTOL_C700HDPYP","N/C","C700/28 HD Poly Brsh","CAD","307501"]
["M-SSRVK_SETBLT","M-SSR","VK_SETBLT",121,"Seat Belt","CAD","307501"]
["M-SSRVK_PADTYP_650YLW3","M-SSR","VK_PADTYP_650YLW3",72,"650/26 Ylw Polish 3M","CAD","307501"]
["M-SSRVK_PADTYP_800YLW3","M-SSR","VK_PADTYP_800YLW3",96,"800/32 Ylw Polish 3M","CAD","307501"]
["M-SSRVK_DTG_FMP","M-SSR","VK_DTG_FMP","N/C","Dtrgnt Cleaner","CAD","307501"]
["M-SSRVK_OPRMNL","M-SSR","VK_OPRMNL","N/C","Oper Manual","CAD","307501"]
["M-SSRVK_PARMNL","M-SSR","VK_PARMNL",75,"Parts Manual","CAD","307501"]
["M-SSRVK_PKG_SCNS","M-SSR","VK_PKG_SCNS","N/C","NonStack Skid/Carton","CAD","307501"]
["M-SSRVK_PKG_WSKD","M-SSR","VK_PKG_WSKD","N/C","Skid w/Stretch Wrap","CAD","307501"]
["M-SSRVK_UTLBSK","M-SSR","VK_UTLBSK",321,"Utility Basket","CAD","307501"]
["M-SSRVK_D800SAB","M-SSR","VK_D800SAB",500,"D800/32 Sup Abr Brsh","CAD","307501"]
["M-SSRVK_D800PYP","M-SSR","VK_D800PYP","N/C","D800/32 Poly Brush","CAD","307501"]
["M-SSRVK_D800PAD","M-SSR","VK_D800PAD","N/C","D800/32 Pad Driver","CAD","307501"]
["M-SSRVK_D800NYL","M-SSR","VK_D800NYL","N/C","D800/32 Nylon Brush","CAD","307501"]
["M-SSRVK_CHG_20A120V5060H1","M-SSR","VK_CHG_20A120V5060H1","N/C","Ch20A 120V 5060H1","CAD","307501"]
["M-SSRVK_PADTYP_650RED3","M-SSR","VK_PADTYP_650RED3",22,"650/26 Red Clean 3M","CAD","307501"]
["M-SSRVK_PADTYP_650WHT3","M-SSR","VK_PADTYP_650WHT3",22,"650/26 Wh Polish 3M","CAD","307501"]
["M-SSRVK_PADTYP_800BLU3","M-SSR","VK_PADTYP_800BLU3",29,"800/32 Blu Scrub 3M","CAD","307501"]
["M-SSRVK_PADTYP_800RED3","M-SSR","VK_PADTYP_800RED3",29,"800/32 Red Clean 3M","CAD","307501"]
["M-SSRVK_PADTYP_800WHT3","M-SSR","VK_PADTYP_800WHT3",29,"800/32 Wht Polish 3M","CAD","307501"]
["M-SSRVK_WRNLGTANDALM_ST","M-SSR","VK_WRNLGTANDALM_ST",1023,"Strobe Light Tank","CAD","307501"]
["M-SSRVK_CLNTOL_C700NYL","M-SSR","VK_CLNTOL_C700NYL","N/C","C700/28 Nylon Brush","CAD","307501"]
["M-SSRVK_CLNTOL_C700PYP","M-SSR","VK_CLNTOL_C700PYP","N/C","C700/28 Poly Brush","CAD","307501"]
["M-SSRVK_CLNTOL_C800ABB","M-SSR","VK_CLNTOL_C800ABB",500,"C800/32 Abr Brush","CAD","307501"]
["M-SSRVK_CLNTOL_C800NYL","M-SSR","VK_CLNTOL_C800NYL","N/C","C800/32 Nylon Brush","CAD","307501"]
["M-SSRVK_PADTYP_650BLU3","M-SSR","VK_PADTYP_650BLU3",22,"650/26 Bl Scrub 3M","CAD","307501"]
["M-SSRVK_CHG_27A100V5060H1P","M-SSR","VK_CHG_27A100V5060H1P",577,"Ch27A 100-240V 5060H1P","CAD","307501"]
["M-SSRVK_SRVMNL","M-SSR","VK_SRVMNL",186,"Service Manual","CAD","307501"]
["M-SSRVK_PKG_SCNS_NC","M-SSR","VK_PKG_SCNS_NC","N/C","NonStack Skid/Carton","CAD","307501"]
["M-SSRVK_MCHCOM","M-SSR","VK_MCHCOM",1916,"IRIS Telemetry","CAD","307501"]
["M-SSRVK_CHG_25A100V5060H1_A","M-SSR","VK_CHG_25A100V5060H1_A",303,"CH25A 100V5060H1 AGM","CAD","307501"]
["M-SSRVK_BASE_SSR-800-D","M-SSR","VK_BASE_SSR-800-D",36744,"SSR 800/32 Disc","CAD","307501"]
["M-SSRVK_BASE_SSR-800-C","M-SSR","VK_BASE_SSR-800-C",39278,"SSR 800/32 Cyl","CAD","307501"]
["M-SSRVK_BASE_SSR-700-C","M-SSR","VK_BASE_SSR-700-C",36744,"SSR 700/28 Cyl","CAD","307501"]
["M-SSRVK_BASE_SSR-650-D","M-SSR","VK_BASE_SSR-650-D",34211,"SSR 650/26 Disc","CAD","307501"]
["M-SSRVK_CLNTCH_DECH2ON","M-SSR","VK_CLNTCH_DECH2ON",4465,"ec-H2O NanoClean","CAD","307501"]
["M-SSRVK_CLNTCH_CECH2ON","M-SSR","VK_CLNTCH_CECH2ON",4465,"ec-H2O NanoClean","CAD","307501"]
["M-SSRVK_CHG_25A100V5060H1","M-SSR","VK_CHG_25A100V5060H1",303,"Ch25A 100V 5060H1P","CAD","307501"]
["M-SSRVK_CHG_25A115V60H1P","M-SSR","VK_CHG_25A115V60H1P",944,"Ch25A 115V 60H1P","CAD","307501"]
["M-SSRVK_CHG_WO","M-SSR","VK_CHG_WO",-731,"Without Charger","CAD","307501"]
["M-SSRVK_CLNTCH_CECH2O","M-SSR","VK_CLNTCH_CECH2O",4465,"ec-H2O™","CAD","307501"]
["M-SSRVK_CLNTCH_CFAST","M-SSR","VK_CLNTCH_CFAST",4110,"FaST®","CAD","307501"]
["M-SSRVK_CLNTCH_DECH2O","M-SSR","VK_CLNTCH_DECH2O",4465,"ec-H2O™","CAD","307501"]
["M-SSRVK_CLNTCH_DFAST","M-SSR","VK_CLNTCH_DFAST",4110,"FaST®","CAD","307501"]
["M-SSRVK_D650NYL","M-SSR","VK_D650NYL","N/C","D650/26 Nylon Brush","CAD","307501"]
["M-SSRVK_D650PAD","M-SSR","VK_D650PAD","N/C","D650/26 Pad Driver","CAD","307501"]
["M-SSRVK_D650PYP","M-SSR","VK_D650PYP","N/C","D650/26 Poly Brush","CAD","307501"]
["M-SSRVK_D650SAB","M-SSR","VK_D650SAB",500,"D650/26 Spr Abr Brsh","CAD","307501"]
["M-SSRVK_DTG_FMPD","M-SSR","VK_DTG_FMPD","N/C","Dtrgnt Degreaser","CAD","307501"]
["M-SSRVK_ADLOPRMNL","M-SSR","VK_ADLOPRMNL",186,"Add Operator Manual","CAD","307501"]
["M-SSRVK_BTYWTRSYS","M-SSR","VK_BTYWTRSYS",804,"Battery Watering Sys","CAD","307501"]
["M-SSRVK_BTY_A220C20","M-SSR","VK_BTY_A220C20",2332,"Bty AGM 220AH C20","CAD","307501"]
["M-SSRVK_BTY_G180C20","M-SSR","VK_BTY_G180C20",1557,"Bty Gel 180AH C20","CAD","307501"]
["M-SSRVK_BTY_W240C20","M-SSR","VK_BTY_W240C20","N/C","Bty Wet 240AH C20","CAD","307501"]
["M-SSRVK_BTY_W360C20","M-SSR","VK_BTY_W360C20",937,"Bty Wet 360AH C20","CAD","307501"]
["M-SSRVK_BTY_WO","M-SSR","VK_BTY_WO",-630,"Without Battery","CAD","307501"]
["M-SSRVK_CHG_19A100V5060H1","M-SSR","VK_CHG_19A100V5060H1","N/C","Ch19A 100V 5060H1P","CAD","307501"]
["M-T12VK_ALTSTBFLSLNS_B","M-T12","VK_ALTSTBFLSLNS_B","N/C","Alternate Lens-Blue","CAD","307600"]
["M-T12VK_SDECLNTOL_HDPYP","M-T12","VK_SDECLNTOL_HDPYP","N/C","Side HD Poly Brush","CAD","307600"]
["M-T12VK_CLNTCH_ECH2O","M-T12","VK_CLNTCH_ECH2O",5390,"ec-H2O™","CAD","307600"]
["M-T12VK_CPYS","M-T12","VK_CPYS","N/C","Polyester Brush Cyl","CAD","307600"]
[{"$f":"B1545&C1545","v":"M-T12VK_CHG_21A85V5060H1P"},"M-T12","VK_CHG_21A85V5060H1P","N/C","Ch21A 85V 5060H1P","CAD","307600"]
["M-T12VK_ULERTG_ES","M-T12","VK_ULERTG_ES",3920,"UL® Type ES","CAD","307600"]
["M-T12VK_ALTSTBFLSLNS_R","M-T12","VK_ALTSTBFLSLNS_R","N/C","Alternate Lens-Red","CAD","307600"]
["M-T12VK_BTY_W360C20","M-T12","VK_BTY_W360C20",1481,"Bty Wet 360AH C20","CAD","307600"]
["M-T12VK_OVHGRD_Y","M-T12","VK_OVHGRD_Y",2050,"Overhead Guard","CAD","307600"]
["M-T12VK_BTY_W240C20","M-T12","VK_BTY_W240C20","N/C","Bty Wet 240AH C20","CAD","307600"]
["M-T12VK_CHG_33A100V5060H1PLIF","M-T12","VK_CHG_33A100V5060H1PLIF",1115,"Ch33A 100V 50/60Hz 1Ph Off","CAD","307600"]
["M-T12VK_CHG_21A85V5060H1PA312","M-T12","VK_CHG_21A85V5060H1PA312",1026,"Ch21A 85V 5060H1P","CAD","307600"]
["M-T12VK_BLULGT","M-T12","VK_BLULGT",1366,"Blue Light","CAD","307600"]
["M-T12VK_CHG_21A85V5060H1P_360","M-T12","VK_CHG_21A85V5060H1P_360","N/C","Ch21A 85V 5060H1P","CAD","307600"]
["M-T12VK_CHG_25A100V5060H1LIOF","M-T12","VK_CHG_25A100V5060H1LIOF",885,"Ch25A 100V 50/60Hz 1Ph Off","CAD","307600"]
["M-T12VK_BASE_T12-XP-C_STD","M-T12","VK_BASE_T12-XP-C_STD",42948,"T12 XP Rider Cyl Std Config","CAD","307600"]
["M-T12VK_BTY_L36V5M","M-T12","VK_BTY_L36V5M",24865,"Bty Li-Ion 36v, 10.2kWh","CAD","307600"]
["M-T12VK_BASE_T12-D_STD","M-T12","VK_BASE_T12-D_STD",38489,"T12 Rider Disk Std Config","CAD","307600"]
["M-T12VK_PKG_PAD","M-T12","VK_PKG_PAD","N/C","Pad Wrap","CAD","307600"]
["M-T12VK_BASE_T12-C_STD","M-T12","VK_BASE_T12-C_STD",39558,"T12 Rider Cly Std Config","CAD","307600"]
["M-T12VK_BASE_T12-XP-D_STD","M-T12","VK_BASE_T12-XP-D_STD",41877,"T12 XP Rider Disk Std Config","CAD","307600"]
["M-T12VK_BTY_L36V4M","M-T12","VK_BTY_L36V4M",20801,"Bty Li-Ion 36v, 8.2kWh","CAD","307600"]
["M-T12VK_BTY_L36V2M","M-T12","VK_BTY_L36V2M",10375,"Bty Li-Ion 36v, 4.1kWh","CAD","307600"]
["M-T12VK_TRLTRTKIT_Y","M-T12","VK_TRLTRTKIT_Y",263,"Transport Kit","CAD","307600"]
["M-T12VK_BTY_WO","M-T12","VK_BTY_WO",-693,"Without Battery","CAD","307600"]
["M-T12VK_BLU3","M-T12","VK_BLU3",29,"Blu Scrub - 3M","CAD","307600"]
["M-T12VK_CHDPYP","M-T12","VK_CHDPYP","N/C","Cyl. HD Poly Brush","CAD","307600"]
["M-T12VK_BTYWTRSYS","M-T12","VK_BTYWTRSYS",1022,"Battery Watering Sys","CAD","307600"]
["M-T12VK_BLKH3","M-T12","VK_BLKH3",45,"Blk Strip (HiPRO) 3M","CAD","307600"]
["M-T12VK_SDETYPPAD_WHT3","M-T12","VK_SDETYPPAD_WHT3",22,"Side Wh Polish 3M","CAD","307600"]
["M-T12VK_SDETYPPAD_RED3","M-T12","VK_SDETYPPAD_RED3",22,"Side Red Clean 3M","CAD","307600"]
["M-T12VK_SDETYPPAD_BLU3","M-T12","VK_SDETYPPAD_BLU3",22,"Side Bl Scrub 3M","CAD","307600"]
["M-T12VK_DPAD","M-T12","VK_DPAD","N/C","Disk Pad Driver","CAD","307600"]
["M-T12VK_WRNLGTALM_SO","M-T12","VK_WRNLGTALM_SO",915,"Strobe Light OHG","CAD","307600"]
["M-T12VK_WRNLGTALM_AVST","M-T12","VK_WRNLGTALM_AVST",915,"AV BU AlarmStrobeTnk","CAD","307600"]
["M-T12VK_CSAB","M-T12","VK_CSAB",267,"Abr. Brush Cyl","CAD","307600"]
["M-T12VK_OPRMNL","M-T12","VK_OPRMNL","N/C","Oper Manual","CAD","307600"]
["M-T12VK_SQEMAT_G","M-T12","VK_SQEMAT_G","N/C","Squeegee Gum Rubber","CAD","307600"]
["M-T12VK_CPYP","M-T12","VK_CPYP","N/C","Cyl Poly Brush","CAD","307600"]
["M-T12VK_MCHCOM","M-T12","VK_MCHCOM",1916,"IRIS Telemetry","CAD","307600"]
["M-T12VK_BASE_T12-XP-C","M-T12","VK_BASE_T12-XP-C",42948,"T12 XP ScrubRider C","CAD","307600"]
["M-T12VK_BASE_T12-C","M-T12","VK_BASE_T12-C",39558,"T12 ScrubRider Cyl","CAD","307600"]
["M-T12VK_BASE_T12-XP-D","M-T12","VK_BASE_T12-XP-D",41877,"T12 XP ScrubRider D","CAD","307600"]
["M-T12VK_BASE_T12-D","M-T12","VK_BASE_T12-D",38489,"T12 ScrubRider Disk","CAD","307600"]
["M-T12VK_SQEMAT_U","M-T12","VK_SQEMAT_U","N/C","Squeegee Urethane","CAD","307600"]
["M-T12VK_SQEMAT_L","M-T12","VK_SQEMAT_L","N/C","Squeegee Linatex","CAD","307600"]
["M-T12VK_SPYNOZHSE_Y","M-T12","VK_SPYNOZHSE_Y",1688,"Spray Nozzel Hose","CAD","307600"]
["M-T12VK_SFYLGTPKG_Y","M-T12","VK_SFYLGTPKG_Y",1189,"Safety Light Package","CAD","307600"]
["M-T12VK_SET_DLXW","M-T12","VK_SET_DLXW",778,"Deluxe Seat w/Armr.","CAD","307600"]
["M-T12VK_SDECLNTOL_SCBPYP","M-T12","VK_SDECLNTOL_SCBPYP","N/C","Side Cln Polypr Scrb","CAD","307600"]
["M-T12VK_SDECLNTOL_SAB","M-T12","VK_SDECLNTOL_SAB",267,"Side Sup Abr Brush","CAD","307600"]
["M-T12VK_SDECLNTOL_PAD","M-T12","VK_SDECLNTOL_PAD","N/C","Side Pad Driver","CAD","307600"]
["M-T12VK_SDEBRSTYP_SCB","M-T12","VK_SDEBRSTYP_SCB",5983,"Side Brush Scrubber","CAD","307600"]
["M-T12VK_RED3","M-T12","VK_RED3",29,"Red Clean 3M","CAD","307600"]
["M-T12VK_PWRVACWND_VACWND","M-T12","VK_PWRVACWND_VACWND",1185,"Vacuum Wand","CAD","307600"]
["M-T12VK_PRDPKG_Y","M-T12","VK_PRDPKG_Y",7309,"Productivity Package","CAD","307600"]
["M-T12VK_PKG_SCNS","M-T12","VK_PKG_SCNS","N/C","NonStack Skid/Carton","CAD","307600"]
["M-T12VK_OPRVID","M-T12","VK_OPRVID","N/C","Operator Video","CAD","307600"]
["M-T12VK_HVYDTYSQEPRT_Y","M-T12","VK_HVYDTYSQEPRT_Y",1001,"Hvy Dty Sque Protect","CAD","307600"]
["M-T12VK_HVYDTYPRTPKG_Y","M-T12","VK_HVYDTYPRTPKG_Y",2070,"Hvy Duty Protect Pkg","CAD","307600"]
["M-T12VK_WHT3","M-T12","VK_WHT3",29,"Wh Polish 3M","CAD","307600"]
["M-T12VK_UPG_Y","M-T12","VK_UPG_Y","N/C","UPG","CAD","307600"]
["M-T12VK_SRVMNL","M-T12","VK_SRVMNL",333,"Service Manual","CAD","307600"]
["M-T12VK_ADLOPRMNL","M-T12","VK_ADLOPRMNL",100,"Add Operator Manual","CAD","307600"]
["M-T12VK_CHG_WO","M-T12","VK_CHG_WO",-453,"Without Charger","CAD","307600"]
["M-T12VK_CHG_20A85V5060H1P","M-T12","VK_CHG_20A85V5060H1P",1130,"Ch20A 85V 5060H1P","CAD","307600"]
["M-T12VK_BTY_A312C20","M-T12","VK_BTY_A312C20",6393,"Bty AGM 312AH C20","CAD","307600"]
["M-T12VK_HVYDTYFRTBMP_Y","M-T12","VK_HVYDTYFRTBMP_Y",1280,"Hvy Dty Frnt Bumper","CAD","307600"]
[{"$f":"B1609&C1609","v":"M-T12VK_HLT_Y"},"M-T12","VK_HLT_Y",540,"Headlight","CAD","307600"]
["M-T12VK_FREEXT_Y","M-T12","VK_FREEXT_Y",465,"Fire Extinquisher","CAD","307600"]
["M-T12VK_DSAB","M-T12","VK_DSAB",267,"Dsk Spr Abr Brush","CAD","307600"]
["M-T12VK_DPYP","M-T12","VK_DPYP","N/C","Disk Poly Brush","CAD","307600"]
["M-T12VK_DHDPYP","M-T12","VK_DHDPYP","N/C","Disk HD Poly Brush","CAD","307600"]
["M-T16VK_ADLBTY_W360C20","M-T16","VK_ADLBTY_W360C20",3160,"Ext.Bty Wet 360 C20","CAD","308007"]
["M-T16AMRVK_ADLOPRMNL","M-T16AMR","VK_ADLOPRMNL",102,"Add Operator Manual","CAD","308001"]
["M-T16VK_ADLOPRMNL","M-T16","VK_ADLOPRMNL",100,"Add Operator Manual","CAD","308007"]
["M-T16VK_ALTSTBFLSLNS_B","M-T16","VK_ALTSTBFLSLNS_B","N/C","Alternate Lens-Blue","CAD","308007"]
["M-T16VK_ALTSTBFLSLNS_R","M-T16","VK_ALTSTBFLSLNS_R","N/C","Alternate Lens-Red","CAD","308007"]
["M-T16VK_BASE_T16-910-C","M-T16","VK_BASE_T16-910-C",47855,"T16 Rider - Cyl","CAD","308007"]
["M-T16VK_BASE_T16-910-C_STD","M-T16","VK_BASE_T16-910-C_STD",47855,"T16 Rider - Cyl Std Config","CAD","308007"]
["M-T16VK_BASE_T16-910-D","M-T16","VK_BASE_T16-910-D",47855,"T16 Rider - Disk","CAD","308007"]
["M-T16VK_BASE_T16-910-D_STD","M-T16","VK_BASE_T16-910-D_STD",47855,"T16 Rider - Disk Std Config","CAD","308007"]
["M-T16AMRVK_BASE_T16AMR-STD-LI","M-T16AMR","VK_BASE_T16AMR-STD-LI",154072,"T16AMR CYL STD LI-ION","CAD","308001"]
["M-T16AMRVK_BASE_T16AMR-STD-W360","M-T16AMR","VK_BASE_T16AMR-STD-W360",138847,"T16AMR CYL STD W360","CAD","308001"]
["M-T16VK_BLULGT","M-T16","VK_BLULGT",1366,"Blue Light","CAD","308007"]
["M-T16VK_BTY_A312C20","M-T16","VK_BTY_A312C20",6393,"Bty AGM 312AH C20","CAD","308007"]
["M-T16VK_BTY_L36V2M","M-T16","VK_BTY_L36V2M",10570,"Bty Li-Ion 36v, 4.1kWh","CAD","308007"]
["M-T16VK_BTY_L36V4M","M-T16","VK_BTY_L36V4M",20996,"Bty Li-Ion 36v, 8.2kWh","CAD","308007"]
["M-T16VK_BTY_L36V6M","M-T16","VK_BTY_L36V6M",29126,"Bty Li-Ion 36v, 12.2kWh","CAD","308007"]
["M-T16VK_BTY_W240C20","M-T16","VK_BTY_W240C20","N/C","Bty Wet 240AH C20","CAD","308007"]
["M-T16VK_BTY_W360C20","M-T16","VK_BTY_W360C20",1481,"Bty Wet 360AH C20","CAD","308007"]
["M-T16VK_BTY_WO","M-T16","VK_BTY_WO",-693,"Without Battery","CAD","308007"]
["M-T16VK_BTYCRT","M-T16","VK_BTYCRT",3375,"Battery Cart","CAD","308007"]
["M-T16VK_BTYEXCSYS_RO","M-T16","VK_BTYEXCSYS_RO",4737,"Bty Rollout Sys.","CAD","308007"]
["M-T16VK_BTYWTRSYS","M-T16","VK_BTYWTRSYS",1022,"Battery Watering Sys","CAD","308007"]
["M-T16VK_CHG_20A115V5060H1_LI","M-T16","VK_CHG_20A115V5060H1_LI","N/C","Ch20A 115V 50/60Hz 1Ph On","CAD","308007"]
["M-T16VK_CHG_20A85V5060H1P","M-T16","VK_CHG_20A85V5060H1P",1130,"Ch20A 85V 5060H1P","CAD","308007"]
["M-T16AMRVK_CHG_21A85V5060H1P","M-T16AMR","VK_CHG_21A85V5060H1P","N/C","Ch21A 85V 5060H1P","CAD","308001"]
["M-T16VK_CHG_21A85V5060H1P","M-T16","VK_CHG_21A85V5060H1P","N/C","Ch21A 85V 5060H1P","CAD","308007"]
["M-T16VK_CHG_21A85V5060H1P_AGM","M-T16","VK_CHG_21A85V5060H1P_AGM",1026,"Ch21A 85V 5060H1P","CAD","308007"]
["M-T16VK_CHG_21A85V5060H1P_RO","M-T16","VK_CHG_21A85V5060H1P_RO","N/C","Ch21A 85V 5060H1P","CAD","308007"]
["M-T16VK_CHG_25A100V5060H1LIOF","M-T16","VK_CHG_25A100V5060H1LIOF",974,"Ch25A 100V 50/60Hz 1Ph Off","CAD","308007"]
["M-T16AMRVK_CHG_33A100V5060H1P","M-T16AMR","VK_CHG_33A100V5060H1P",-350,"Ch33A 100V 5060H1P","CAD","308001"]
["M-T16VK_CHG_33A100V5060H1PLIF","M-T16","VK_CHG_33A100V5060H1PLIF",1186,"Ch33A 100V 50/60Hz 1Ph Off","CAD","308007"]
["M-T16AMRVK_CHG_90A200V5060H1P","M-T16AMR","VK_CHG_90A200V5060H1P","N/C","90A 200-240V AC 50/60Hz 1Ph","CAD","308001"]
["M-T16VK_CHG_OVH_GRD","M-T16","VK_CHG_OVH_GRD",2771,"Overhead Guard","CAD","308007"]
["M-T16VK_CHG_WO","M-T16","VK_CHG_WO",-453,"Without Charger","CAD","308007"]
["M-T16AMRVK_CHG_WO_LI","M-T16AMR","VK_CHG_WO_LI",-1050,"Without Charger, Li-Ion","CAD","308001"]
["M-T16AMRVK_CHG_WO_NOLI","M-T16AMR","VK_CHG_WO_NOLI",-453,"Without Charger, FLA","CAD","308001"]
["M-T16VK_CLNTCH_ECH2O","M-T16","VK_CLNTCH_ECH2O",6146,"ec-H2O™","CAD","308007"]
["M-T16VK_CLNTCH_ES","M-T16","VK_CLNTCH_ES",6141,"ES® Extended Scrub","CAD","308007"]
["M-T16VK_CLNTOL_CPYP","M-T16","VK_CLNTOL_CPYP","N/C","Cyl Brush Poly","CAD","308007"]
["M-T16VK_CLNTOL_CSAB","M-T16","VK_CLNTOL_CSAB",267,"Cyl Brush Spr Abr.","CAD","308007"]
["M-T16VK_CLNTOL_DPYP","M-T16","VK_CLNTOL_DPYP","N/C","Disk Brush Poly","CAD","308007"]
["M-T16VK_CLNTOL_DSAB","M-T16","VK_CLNTOL_DSAB",267,"Disk Brush Spr Abr.","CAD","308007"]
["M-T16VK_CLNTOL_HDPYP","M-T16","VK_CLNTOL_HDPYP","N/C","HD Poly Brush","CAD","308007"]
["M-T16VK_CLNTOL_PAD","M-T16","VK_CLNTOL_PAD","N/C","Pad Driver","CAD","308007"]
["M-T16AMRVK_CLNTOL_PYP","M-T16AMR","VK_CLNTOL_PYP","N/C","Poly Brush","CAD","308001"]
["M-T16AMRVK_CLNTOL_SAB","M-T16AMR","VK_CLNTOL_SAB",577,"Sup Abr Brush","CAD","308001"]
["M-T16VK_CPYS","M-T16","VK_CPYS","N/C","Polyester Brush Cyl","CAD","308007"]
["M-T16AMRVK_CSMSBTDCL_FC","M-T16AMR","VK_CSMSBTDCL_FC",302,"Sunbelt-FloorCareDcl","CAD","308001"]
["M-T16VK_CSMSBTDCL_FC","M-T16","VK_CSMSBTDCL_FC",2849,"Sunbelt-FloorCareDcl","CAD","308007"]
["M-T16VK_CSMSBTDCL_GT","M-T16","VK_CSMSBTDCL_GT",2849,"Sunbelt-GenTool Dcl","CAD","308007"]
["M-T16VK_CSMSBTDCLECH","M-T16","VK_CSMSBTDCLECH",267,"Sunbelt-ecH2O Decal","CAD","308007"]
["M-T16VK_DATPKG_HO","M-T16","VK_DATPKG_HO",1919,"Hardware Only","CAD","308007"]
["M-T16VK_DTG_FSBD","M-T16","VK_DTG_FSBD","N/C","Solvent Degreaser","CAD","308007"]
["M-T16VK_DTG_SBD","M-T16","VK_DTG_SBD","N/C","Solvent Degreaser","CAD","308007"]
["M-T16VK_DTGMTG","M-T16","VK_DTGMTG",4332,"Detergent Metering","CAD","308007"]
["M-T16VK_DULVACFAN","M-T16","VK_DULVACFAN",1177,"Dual Vacuum Fans","CAD","308007"]
["M-T16VK_FREEXT","M-T16","VK_FREEXT",465,"Fire Extinguisher","CAD","308007"]
["M-T16VK_HLT","M-T16","VK_HLT",540,"Headlight","CAD","308007"]
["M-T16VK_HVYDTYFRTBMP","M-T16","VK_HVYDTYFRTBMP",1280,"Hvy Dty Frnt Bumper","CAD","308007"]
[{"$f":"B1673&C1673","v":"M-T16VK_HVYDTYFRTBMP_OVHGRD"},"M-T16","VK_HVYDTYFRTBMP_OVHGRD",1280,"Hvy Dty Frnt Bumper","CAD","308007"]
["M-T16VK_HVYDTYPRTPKG","M-T16","VK_HVYDTYPRTPKG",4160,"Hvy Duty Protect Pkg","CAD","308007"]
["M-T16VK_HVYDTYSQEPRT","M-T16","VK_HVYDTYSQEPRT",1001,"Hvy Dty Sque Protect","CAD","308007"]
["M-T16VK_MCHCOM","M-T16","VK_MCHCOM",1916,"IRIS Telemetry","CAD","308007"]
["M-T16VK_OPRVID","M-T16","VK_OPRVID","N/C","Operator Video","CAD","308007"]
["M-T16VK_OVHGRD","M-T16","VK_OVHGRD",2771,"Overhead Guard","CAD","308007"]
["M-T16VK_PADTYP_BLKH3","M-T16","VK_PADTYP_BLKH3",35,"Blk Strip (HiPRO) 3M","CAD","308007"]
["M-T16VK_PADTYP_BLU3","M-T16","VK_PADTYP_BLU3",31,"Blu Scrub - 3M","CAD","308007"]
["M-T16VK_PADTYP_BWN3","M-T16","VK_PADTYP_BWN3",31,"Br Stripping - 3M","CAD","308007"]
["M-T16VK_PADTYP_RED3","M-T16","VK_PADTYP_RED3",31,"Red Clean 3M","CAD","308007"]
["M-T16VK_PADTYP_WHT3","M-T16","VK_PADTYP_WHT3",31,"Wh Polish 3M","CAD","308007"]
["M-T16AMRVK_PARMNL","M-T16AMR","VK_PARMNL","N/C","Parts Manual","CAD","308001"]
["M-T16AMRVK_PKG_CRT","M-T16AMR","VK_PKG_CRT",1869,"Crate","CAD","308001"]
["M-T16VK_PKG_CRT","M-T16","VK_PKG_CRT","N/C","Crate","CAD","308007"]
["M-T16AMRVK_PKG_SKD","M-T16AMR","VK_PKG_SKD","N/C","Skid","CAD","308001"]
["M-T16VK_PKG_SKD","M-T16","VK_PKG_SKD","N/C","Skid","CAD","308007"]
["M-T16VK_PRDPKG","M-T16","VK_PRDPKG",7309,"Productivity Package","CAD","308007"]
["M-T16VK_PRESWPSYS","M-T16","VK_PRESWPSYS",8514,"Presweep System","CAD","308007"]
["M-T16VK_PWRVACWND_VACWND","M-T16","VK_PWRVACWND_VACWND",1185,"Vacuum Wand","CAD","308007"]
["M-T16VK_SDEBRSTYP_SCB","M-T16","VK_SDEBRSTYP_SCB",5983,"Side Brush Scrubber","CAD","308007"]
["M-T16VK_SDEBRSTYP_SWP","M-T16","VK_SDEBRSTYP_SWP",4251,"Side Brush Sweeper","CAD","308007"]
["M-T16VK_SDECLNTOL_HDPYP","M-T16","VK_SDECLNTOL_HDPYP","N/C","Side HD Poly Brush","CAD","308007"]
["M-T16VK_SDECLNTOL_NYL","M-T16","VK_SDECLNTOL_NYL","N/C","Side Nylon Brush","CAD","308007"]
["M-T16VK_SDECLNTOL_PAD","M-T16","VK_SDECLNTOL_PAD","N/C","Side Pad Driver","CAD","308007"]
["M-T16VK_SDECLNTOL_SAB","M-T16","VK_SDECLNTOL_SAB",267,"Side Sup Abr Brush","CAD","308007"]
["M-T16VK_SDECLNTOL_SCBPYP","M-T16","VK_SDECLNTOL_SCBPYP","N/C","Side Cln Polypr Scrb","CAD","308007"]
["M-T16VK_SDEPADTYP_BLU3","M-T16","VK_SDEPADTYP_BLU3",22,"Side Blu Scrub 3M","CAD","308007"]
["M-T16VK_SDEPADTYP_BWN3","M-T16","VK_SDEPADTYP_BWN3",22,"Side Br Strip 3M","CAD","308007"]
["M-T16VK_SDEPADTYP_RED3","M-T16","VK_SDEPADTYP_RED3",22,"Side Red Clean 3M","CAD","308007"]
["M-T16VK_SDEPADTYP_WHT3","M-T16","VK_SDEPADTYP_WHT3",22,"Side Wh Polish 3M","CAD","308007"]
["M-T16VK_SET_DLXW","M-T16","VK_SET_DLXW",778,"Deluxe Seat w/Armr.","CAD","308007"]
["M-T16VK_SFYLGTPKG","M-T16","VK_SFYLGTPKG",1189,"Safety Light Package","CAD","308007"]
["M-T16VK_SLNRECTNKDRN","M-T16","VK_SLNRECTNKDRN",2459,"Sol/Rec Tank Drain","CAD","308007"]
["M-T16VK_SPYNOZWTHHSE","M-T16","VK_SPYNOZWTHHSE",1688,"Spray Nozzel w/Hose","CAD","308007"]
["M-T16VK_SQEMAT_G","M-T16","VK_SQEMAT_G","N/C","Squeegee Gum Rubber","CAD","308007"]
["M-T16VK_SQEMAT_L","M-T16","VK_SQEMAT_L","N/C","Squeegee Linatex","CAD","308007"]
["M-T16VK_SQEMAT_U","M-T16","VK_SQEMAT_U","N/C","Squeegee Urethane","CAD","308007"]
["M-T16VK_SQEMAT_U_RER","M-T16","VK_SQEMAT_U_RER","N/C","Squegee Urethane R","CAD","308007"]
["M-T16AMRVK_SRVMNL","M-T16AMR","VK_SRVMNL",342,"Service Manual","CAD","308001"]
["M-T16VK_SRVMNL","M-T16","VK_SRVMNL",333,"Service Manual","CAD","308007"]
["M-T16VK_STLCSE","M-T16","VK_STLCSE",808,"Steel Case","CAD","308007"]
["M-T16VK_SVEEVMSWH_N","M-T16","VK_SVEEVMSWH_N",-598,"No SE Switch Caplty","CAD","308007"]
["M-T16VK_TRLTRTKIT","M-T16","VK_TRLTRTKIT",263,"Transport Kit","CAD","308007"]
["M-T16VK_ULERTG_E","M-T16","VK_ULERTG_E","N/C","UL® Type E","CAD","308007"]
["M-T16VK_ULERTG_ES","M-T16","VK_ULERTG_ES",3920,"UL® Type ES","CAD","308007"]
["M-T16VK_WRNLGTANDALM_AVST","M-T16","VK_WRNLGTANDALM_AVST",915,"AV BU AlrmStrobe Tnk","CAD","308007"]
["M-T16VK_WRNLGTANDALM_SO","M-T16","VK_WRNLGTANDALM_SO",915,"Strobe Light OHG","CAD","308007"]
["M-T20VK_CLNTCH_ES","M-T20","VK_CLNTCH_ES",6775,"ES® Extended Scrub","CAD","308205"]
["M-T20VK_SQEMAT_U","M-T20","VK_SQEMAT_U",1137,"Squeegee Urethane","CAD","308205"]
["M-T20VK_TRLTRTKIT","M-T20","VK_TRLTRTKIT",261,"Transport Kit","CAD","308205"]
["M-T20VK_ULERTG_LPS","M-T20","VK_ULERTG_LPS",6987,"UL® Type LPS","CAD","308205"]
["M-T20VK_SDECLNTOL_SCBPYP","M-T20","VK_SDECLNTOL_SCBPYP","N/C","Side Cln Polypr Scrb","CAD","308205"]
["M-T20VK_PKG_SKD","M-T20","VK_PKG_SKD","N/C","Skid","CAD","308205"]
["M-T20VK_SDECLNTOL_SCBSAB","M-T20","VK_SDECLNTOL_SCBSAB",267,"Side Cln Spr AbrBrsh","CAD","308205"]
["M-T20VK_UPG","M-T20","VK_UPG","N/C","UPG","CAD","308205"]
["M-T20VK_DTGMTG","M-T20","VK_DTGMTG",4332,"Detergent Metering","CAD","308205"]
["M-T20VK_SRVMNL","M-T20","VK_SRVMNL",333,"Service Manual","CAD","308205"]
["M-T20VK_SPYNOZWTHHSE","M-T20","VK_SPYNOZWTHHSE",1699,"Spray Nozzel w/Hose","CAD","308205"]
["M-T20VK_WPFMNLPCH","M-T20","VK_WPFMNLPCH",254,"Weatherproof Manual Pouch","CAD","308205"]
["M-T20VK_FRTSDETIETOWKIT","M-T20","VK_FRTSDETIETOWKIT",2225,"Front / Side Tiedown Tow Kit","CAD","308205"]
["M-T20VK_CSMFRTCVRLTHKIT","M-T20","VK_CSMFRTCVRLTHKIT",870,"Front Cover Latch Kit","CAD","308205"]
["M-T20VK_BLULGT","M-T20","VK_BLULGT",1509,"Blue Light","CAD","308205"]
["M-T20VK_MCHCOM_SBT","M-T20","VK_MCHCOM_SBT",1916,"IRIS Telemetry","CAD","308205"]
["M-T20VK_T20-C-G","M-T20","VK_T20-C-G",92254,"T20 Gas Cyl Scrbbr","CAD","308205"]
[{"$f":"B1737&C1737","v":"M-T20VK_PKG_PAD"},"M-T20","VK_PKG_PAD","N/C","Pad Wrap","CAD","308205"]
["M-T20VK_T20-D-G","M-T20","VK_T20-D-G",92254,"T20 Gas Disk Scrbbr","CAD","308205"]
["M-T20VK_T20-C-DSL","M-T20","VK_T20-C-DSL",98771,"T20 Dsll Cyl Scrbbr","CAD","308205"]
["M-T20VK_CSMSLN_FLLS","M-T20","VK_CSMSLN_FLLS",2768,"Frame Lift Lugs Side","CAD","308205"]
["M-T20VK_BASE_T20-C-DSL_STD","M-T20","VK_BASE_T20-C-DSL_STD",98771,"T20 Diesel Cyl Std Config","CAD","308205"]
["M-T20VK_BASE_T20-C-GAS_STD","M-T20","VK_BASE_T20-C-GAS_STD",92254,"T20 Gas Cyl Std Config","CAD","308205"]
["M-T20VK_BASE_T20-C-LPG_STD","M-T20","VK_BASE_T20-C-LPG_STD",92254,"T20 LP Cyl Std Config","CAD","308205"]
["M-T20VK_BASE_T20-D-DSL_STD","M-T20","VK_BASE_T20-D-DSL_STD",98771,"T20 Diesel Disk Std Config","CAD","308205"]
["M-T20VK_BASE_T20-D-GAS_STD","M-T20","VK_BASE_T20-D-GAS_STD",92254,"T20 Gas Disk Std Config","CAD","308205"]
["M-T20VK_BASE_T20-D-LPG_STD","M-T20","VK_BASE_T20-D-LPG_STD",92254,"T20 LP Disk Std Config","CAD","308205"]
["M-T20VK_ALTSTBFLSLNS_R","M-T20","VK_ALTSTBFLSLNS_R",42,"Alternate Lens-Red","CAD","308205"]
["M-T20VK_ALTSTBFLSLNS_B","M-T20","VK_ALTSTBFLSLNS_B",42,"Alternate Lens-Blue","CAD","308205"]
["M-T20VK_T20-C-LP","M-T20","VK_T20-C-LP",92254,"T20 LP Cyl Scrbbr","CAD","308205"]
["M-T20VK_DATPKG_HO","M-T20","VK_DATPKG_HO",1940,"Hardware Only","CAD","308205"]
["M-T20VK_T20-D-LP","M-T20","VK_T20-D-LP",92254,"T20 LP Disk Scrbbr","CAD","308205"]
["M-T20VK_PKG_CRT_NC","M-T20","VK_PKG_CRT_NC","N/C","Crate","CAD","308205"]
["M-T20VK_CSMSLN_CC","M-T20","VK_CSMSLN_CC","N/C","Custom Color","CAD","308205"]
["M-T20VK_MCHCOM_Y_D_US","M-T20","VK_MCHCOM_Y_D_US","N/C","Machine Comm","CAD","308205"]
["M-T20VK_PWRVACWND_WO_NOZ","M-T20","VK_PWRVACWND_WO_NOZ",1699,"PowerWand w/o Nozzle","CAD","308205"]
["M-T20VK_MCHCOM_Y_US","M-T20","VK_MCHCOM_Y_US","N/C","Machine Comm","CAD","308205"]
["M-T20VK_T20-D-DSL","M-T20","VK_T20-D-DSL",98771,"T20 Dsl Disk Scrbbr","CAD","308205"]
["M-T20VK_SQEMAT_L","M-T20","VK_SQEMAT_L","N/C","Squeegee Linatex","CAD","308205"]
["M-T20VK_ADLOPRMNL","M-T20","VK_ADLOPRMNL",100,"Add Operator Manual","CAD","308205"]
["M-T20VK_SDECLNTOL_SWPPYP","M-T20","VK_SDECLNTOL_SWPPYP","N/C","Side Poly Sweep Brh","CAD","308205"]
["M-T20VK_SDEBRSTYP_D","M-T20","VK_SDEBRSTYP_D",7219,"Side Brush Disk","CAD","308205"]
["M-T20VK_CSMSBTDCL_FC","M-T20","VK_CSMSBTDCL_FC",324,"Sunbelt-FloorCareDcl","CAD","308205"]
["M-T20VK_CSMSBTRERSQE","M-T20","VK_CSMSBTRERSQE",738,"Sunbelt - Sqe Guard","CAD","308205"]
["M-T20VK_CLNTOL_DSAB","M-T20","VK_CLNTOL_DSAB",267,"Disk Brush Spr Abr.","CAD","308205"]
["M-T20VK_CLNTOL_DPYP","M-T20","VK_CLNTOL_DPYP","N/C","Disk Brush Poly","CAD","308205"]
["M-T20VK_CLNTOL_CSASB","M-T20","VK_CLNTOL_CSASB",267,"Cyl Super Abrasive, Stiff Bristle","CAD","308205"]
["M-T20VK_CLNTOL_SASB","M-T20","VK_CLNTOL_SASB",267,"Super Abrasive, Stiff Bristle","CAD","308205"]
["M-T20VK_SBTPARKIT","M-T20","VK_SBTPARKIT",3643,"Sunbelt Parts Kit","CAD","308205"]
["M-T20VK_PRDPKG","M-T20","VK_PRDPKG",8373,"Productivity Package","CAD","308205"]
["M-T20VK_CLNTOL_DPADPYP","M-T20","VK_CLNTOL_DPADPYP","N/C","Disk Poly Pad Driver","CAD","308205"]
["M-T20VK_CLNTOL_DPAD","M-T20","VK_CLNTOL_DPAD","N/C","Disk Pad Driver","CAD","308205"]
["M-T20VK_CLNTOL_CSABW","M-T20","VK_CLNTOL_CSABW",267,"Abr. Brush Cyl","CAD","308205"]
["M-T20VK_CLNTOL_CSAB","M-T20","VK_CLNTOL_CSAB",267,"Cyl Brush Spr Abr.","CAD","308205"]
["M-T20VK_CLNTOL_CPYP","M-T20","VK_CLNTOL_CPYP","N/C","Cyl Brush Poly","CAD","308205"]
["M-T20VK_CLNTOL_CHDPYP","M-T20","VK_CLNTOL_CHDPYP","N/C","Cyl. HD Poly Brush","CAD","308205"]
["M-T20VK_WRNLGTANDALM_ST","M-T20","VK_WRNLGTANDALM_ST",667,"Strobe Light Tank","CAD","308205"]
["M-T20VK_WRNLGTANDALM_SO","M-T20","VK_WRNLGTANDALM_SO",667,"Strobe Light OHG","CAD","308205"]
["M-T20VK_WRNLGTANDALM_FT","M-T20","VK_WRNLGTANDALM_FT",667,"Flashing Light Tank","CAD","308205"]
["M-T20VK_WRNLGTANDALM_FO","M-T20","VK_WRNLGTANDALM_FO",667,"Flashing Light OHG","CAD","308205"]
["M-T20VK_WRNLGTANDALM_AVST","M-T20","VK_WRNLGTANDALM_AVST",977,"AV BU AlrmStrobe Tnk","CAD","308205"]
["M-T20VK_WRNLGTANDALM_AVSO","M-T20","VK_WRNLGTANDALM_AVSO",977,"AV BU AlrmStrobe OHG","CAD","308205"]
["M-T20VK_WRNLGTANDALM_AVFT","M-T20","VK_WRNLGTANDALM_AVFT",977,"AV BU AlarmFlash Tnk","CAD","308205"]
["M-T20VK_WRNLGTANDALM_AVFO","M-T20","VK_WRNLGTANDALM_AVFO",977,"AV BU AlarmFlash OHG","CAD","308205"]
["M-T20VK_WRNLGTANDALM_AU","M-T20","VK_WRNLGTANDALM_AU",457,"Audio BU Alarm","CAD","308205"]
["M-T20VK_CSMSLN_FSTTK","M-T20","VK_CSMSLN_FSTTK",2225,"Front/Side Tie Down","CAD","308205"]
["M-T20VK_DTG_SBD","M-T20","VK_DTG_SBD","N/C","Solvent Degreaser","CAD","308205"]
["M-T20VK_MCHCOM","M-T20","VK_MCHCOM",1916,"IRIS Telemetry","CAD","308205"]
["M-T20VK_CSMSBTDCL_GT","M-T20","VK_CSMSBTDCL_GT",346,"Sunbelt-GenTool Dcl","CAD","308205"]
["M-T20VK_HGHPRSSPY","M-T20","VK_HGHPRSSPY",6544,"High Pressure Spray","CAD","308205"]
["M-T20VK_HVYDTYPRTPKG","M-T20","VK_HVYDTYPRTPKG",2956,"Hvy Duty Protect Pkg","CAD","308205"]
["M-T20VK_TRM_MPAN","M-T20","VK_TRM_MPAN","N/C","Membrane Ctrl Panel","CAD","308205"]
["M-T20VK_TRM_PPAN","M-T20","VK_TRM_PPAN",3996,"ProPanel Ctrls","CAD","308205"]
["M-T20VK_CSMSLN_WPMP","M-T20","VK_CSMSLN_WPMP",254,"Weatherproof pouch","CAD","308205"]
["M-T20VK_CSMSLN_FCLK","M-T20","VK_CSMSLN_FCLK",870,"Front Cover Latch","CAD","308205"]
["M-T20VK_SPYNOZWTHHSE_ES","M-T20","VK_SPYNOZWTHHSE_ES",8549,"Spray Nozzle Hose ES","CAD","308205"]
["M-T20VK_PWRVACWND_PWRWND_ES","M-T20","VK_PWRVACWND_PWRWND_ES",9418,"PwrWnd PrpKit ES","CAD","308205"]
["M-T20VK_PWRVACWND_PWND_ES_NOZ","M-T20","VK_PWRVACWND_PWND_ES_NOZ",11095,"PwrWnd PrpKit ES Noz","CAD","308205"]
["M-T20VK_PWRVACWND_PWRWND","M-T20","VK_PWRVACWND_PWRWND",2571,"Power Wand","CAD","308205"]
["M-T20VK_PWRVACWND_PWRWND_NOZ","M-T20","VK_PWRVACWND_PWRWND_NOZ",4267,"PowerWand w/Nozzle","CAD","308205"]
["M-T20VK_PWRVACWND_VACWND","M-T20","VK_PWRVACWND_VACWND",1332,"Vacuum Wand","CAD","308205"]
[{"$f":"B1801&C1801","v":"M-T20VK_RERTRE_HT"},"M-T20","VK_RERTRE_HT",1180,"Trs Rear High Track","CAD","308205"]
["M-T20VK_SDEBRSTYP_C","M-T20","VK_SDEBRSTYP_C",7219,"Side Brush Cyl","CAD","308205"]
["M-T20VK_CLNTCH_ECH2O","M-T20","VK_CLNTCH_ECH2O",7272,"ec-H2O™","CAD","308205"]
["M-T20VK_BASE_T20-C-DSL","M-T20","VK_BASE_T20-C-DSL",98771,"T20 Dsll Cyl Scrbbr","CAD","308205"]
["M-T20VK_BASE_T20-C-GAS","M-T20","VK_BASE_T20-C-GAS",92254,"T20 Gas Cyl Scrbbr","CAD","308205"]
["M-T20VK_BASE_T20-C-LPG","M-T20","VK_BASE_T20-C-LPG",92254,"T20 LP Cyl Scrbbr","CAD","308205"]
["M-T20VK_BASE_T20-D-DSL","M-T20","VK_BASE_T20-D-DSL",98771,"T20 Dsl Disk Scrbbr","CAD","308205"]
["M-T20VK_BASE_T20-D-GAS","M-T20","VK_BASE_T20-D-GAS",92254,"T20 Gas Disk Scrbbr","CAD","308205"]
["M-T20VK_BASE_T20-D-LPG","M-T20","VK_BASE_T20-D-LPG",92254,"T20 LP Disk Scrbbr","CAD","308205"]
["M-T20VK_FREEXT","M-T20","VK_FREEXT",208,"Fire Extinguisher","CAD","308205"]
["M-T20VK_FRTTRE_HT","M-T20","VK_FRTTRE_HT","N/C","Trs Frnt HighTrack","CAD","308205"]
["M-T20VK_OPRVID","M-T20","VK_OPRVID","N/C","Operator Video","CAD","308205"]
["M-T20VK_OVHGRD","M-T20","VK_OVHGRD",2377,"Overhead Guard","CAD","308205"]
["M-T20VK_PKG_CRT","M-T20","VK_PKG_CRT","N/C","Crate","CAD","308205"]
["M-T20VK_HVYDTYRERBMP","M-T20","VK_HVYDTYRERBMP",1248,"Hvy Dty RearBmpr","CAD","308205"]
["M-T20VK_HVYDTYSQEPRT","M-T20","VK_HVYDTYSQEPRT",1248,"Hvy Dty Sque Protect","CAD","308205"]
["M-T20VK_LPGTNK_E","M-T20","VK_LPGTNK_E","N/C","LPG Tank Empty","CAD","308205"]
["M-T20VK_LPGTNK_F","M-T20","VK_LPGTNK_F","N/C","LPG Tank Full","CAD","308205"]
["M-T17VK_BTY_W750C6","M-T17","VK_BTY_W750C6",9496,"Bty Wet 750AH C6","CAD","308400"]
["M-T17VK_HLT","M-T17","VK_HLT",548,"Headlight","CAD","308400"]
["M-T17VK_SET_DLXW","M-T17","VK_SET_DLXW",786,"Deluxe Seat w/Armr.","CAD","308400"]
["M-T17VK_SQEMAT_G","M-T17","VK_SQEMAT_G","N/C","Squeegee Gum Rubber","CAD","308400"]
["M-T17VK_CHG_120A480V5060H3PLI","M-T17","VK_CHG_120A480V5060H3PLI",5391,"Ch120A 480V 50/60Hz 3Ph","CAD","308400"]
["M-T17VK_BTY_L36V9M","M-T17","VK_BTY_L36V9M",43297,"Bty Li-Ion 36V, 18.4kWh","CAD","308400"]
["M-T17VK_ULERTG_ES","M-T17","VK_ULERTG_ES",5339,"UL® Type ES","CAD","308400"]
["M-T17VK_BASE_T17-D_STD","M-T17","VK_BASE_T17-D_STD",64746,"T17-D Std Config","CAD","308400"]
["M-T17VK_WTY_STD","M-T17","VK_WTY_STD","N/C","Warranty STD","CAD","308400"]
["M-T17VK_ADLBTY_T930C6","M-T17","VK_ADLBTY_T930C6",17742,"Ext.Bty Tub 930 C6","CAD","308400"]
["M-T17VK_SQEMAT_U","M-T17","VK_SQEMAT_U","N/C","Squeegee Urethane","CAD","308400"]
["M-T17VK_CLNTCH_ES","M-T17","VK_CLNTCH_ES",5692,"ES® Extended Scrub","CAD","308400"]
["M-T17VK_TRLTRTKIT","M-T17","VK_TRLTRTKIT",263,"Transport Kit","CAD","308400"]
["M-T17VK_SDECLNTOL_SAB","M-T17","VK_SDECLNTOL_SAB",267,"Side Sup Abr Brush","CAD","308400"]
["M-T17VK_CHG_80A200V5060H3P","M-T17","VK_CHG_80A200V5060H3P",5399,"Ch80A 200V 5060H3P","CAD","308400"]
["M-T17VK_AUTFIL","M-T17","VK_AUTFIL",801,"Auto Fill","CAD","308400"]
["M-T17VK_SDECLNTOL_PAD","M-T17","VK_SDECLNTOL_PAD","N/C","Side Pad Driver","CAD","308400"]
["M-T17VK_BASE_T17-C_STD","M-T17","VK_BASE_T17-C_STD",65930,"T17-C Std Config","CAD","308400"]
["M-T17VK_ALTSTBFLSLNS_B","M-T17","VK_ALTSTBFLSLNS_B","N/C","Alternate Lens-Blue","CAD","308400"]
["M-T17VK_WRNLGTANDALM_AVST","M-T17","VK_WRNLGTANDALM_AVST",915,"AV BU AlrmStrobe Tnk","CAD","308400"]
["M-T17VK_BTYWTRSYS","M-T17","VK_BTYWTRSYS",1011,"Battery Watering Sys","CAD","308400"]
["M-T17VK_BTY_WO","M-T17","VK_BTY_WO","N/C","Without Battery","CAD","308400"]
["M-T17VK_ADLBTY_W510C6_WTR","M-T17","VK_ADLBTY_W510C6_WTR",10499,"Ext.Bty Wet 510 C6 W","CAD","308400"]
["M-T17VK_SRVMNL","M-T17","VK_SRVMNL",333,"Service Manual","CAD","308400"]
["M-T17VK_CHG_80A200V5060H1P_LI","M-T17","VK_CHG_80A200V5060H1P_LI",3483,"Ch80A 200V 50/60Hz 1Ph","CAD","308400"]
["M-T17VK_CHG_80A200V5060H3P_LI","M-T17","VK_CHG_80A200V5060H3P_LI",5887,"Ch80A 200V 50/60Hz 3Ph","CAD","308400"]
["M-T17VK_SPYNOZWTHHSE","M-T17","VK_SPYNOZWTHHSE",1706,"Spray Nozzel w/Hose","CAD","308400"]
["M-T17VK_ADLOPRMNL","M-T17","VK_ADLOPRMNL",253,"Add Operator Manual","CAD","308400"]
["M-T17VK_BLULGT","M-T17","VK_BLULGT",1509,"Blue Light","CAD","308400"]
["M-T17VK_SDECLNTOL_NYL","M-T17","VK_SDECLNTOL_NYL","N/C","Side Nylon Brush","CAD","308400"]
["M-T17VK_PWRVACWND_VACWND","M-T17","VK_PWRVACWND_VACWND",896,"Vacuum Wand","CAD","308400"]
["M-T17VK_CSMDRTWTRLBL","M-T17","VK_CSMDRTWTRLBL",53,"Dirty Water Label","CAD","308400"]
["M-T17VK_BTY_L36V19M","M-T17","VK_BTY_L36V19M",91187,"Bty Li-Ion 36v, 38.8kWh","CAD","308400"]
["M-T17VK_PKG_CRT_NC","M-T17","VK_PKG_CRT_NC","N/C","Crate","CAD","308400"]
["M-T17VK_DATPKG_HO","M-T17","VK_DATPKG_HO",1847,"Hardware Only","CAD","308400"]
["M-T17VK_SDEBRSTYP_SCB_RH","M-T17","VK_SDEBRSTYP_SCB_RH",5983,"Side Brush: RH","CAD","308400"]
["M-T17VK_PKG_PAD","M-T17","VK_PKG_PAD","N/C","Pad Wrap","CAD","308400"]
["M-T17VK_PKG_SKD_NC","M-T17","VK_PKG_SKD_NC","N/C","Skid","CAD","308400"]
["M-T17VK_TRMLVL_PPAN","M-T17","VK_TRMLVL_PPAN",4034,"ProPanel Ctrls","CAD","308400"]
["M-T17VK_BTYCOTAST","M-T17","VK_BTYCOTAST",504,"Bty Connection Assist","CAD","308400"]
["M-T17VK_FUECEL","M-T17","VK_FUECEL",2732,"Fuel Cell","CAD","308400"]
["M-T17VK_HGHPRSSPY","M-T17","VK_HGHPRSSPY",8831,"High Pressure Spray","CAD","308400"]
["M-T17VK_PWRVACWND_LW","M-T17","VK_PWRVACWND_LW",6099,"Live Wand","CAD","308400"]
["M-T17VK_CLNTOL_DPYP","M-T17","VK_CLNTOL_DPYP","N/C","Disk Brush Poly","CAD","308400"]
["M-T17VK_CLNTOL_DNYL","M-T17","VK_CLNTOL_DNYL","N/C","Disk Brush Nylon","CAD","308400"]
["M-T17VK_CLNTOL_CPYP","M-T17","VK_CLNTOL_CPYP","N/C","Cyl Brush Poly","CAD","308400"]
[{"$f":"B1865&C1865","v":"M-T17VK_CLNTOL_CNYL"},"M-T17","VK_CLNTOL_CNYL","N/C","Cyl Brush Nylon","CAD","308400"]
["M-T17VK_DTGMTG","M-T17","VK_DTGMTG",4332,"Detergent Metering","CAD","308400"]
["M-T17VK_BTYWTRSYS_NC","M-T17","VK_BTYWTRSYS_NC","N/C","Battery Watering NC","CAD","308400"]
["M-T17VK_CLNTOL_DSAB","M-T17","VK_CLNTOL_DSAB",267,"Disk Brush Spr Abr.","CAD","308400"]
["M-T17VK_CLNTOL_CSAB","M-T17","VK_CLNTOL_CSAB",267,"Cyl Brush Spr Abr.","CAD","308400"]
["M-T17VK_DTG_SBD","M-T17","VK_DTG_SBD","N/C","Solvent Degreaser","CAD","308400"]
["M-T17VK_PRDPKG","M-T17","VK_PRDPKG",7055,"Productivity Package","CAD","308400"]
["M-T17VK_FREEXT","M-T17","VK_FREEXT",465,"Fire Extinguisher","CAD","308400"]
["M-T17VK_CHG_80A200V5060H1P","M-T17","VK_CHG_80A200V5060H1P",4349,"Ch80A 200V 5060H1P","CAD","308400"]
["M-T17VK_BASE_T17-D","M-T17","VK_BASE_T17-D",64746,"T17 Scrubber Disk","CAD","308400"]
["M-T17VK_RECTNKDRN_DCV","M-T17","VK_RECTNKDRN_DCV",1077,"Drain Control Valve","CAD","308400"]
["M-T17VK_PRESWPSYS","M-T17","VK_PRESWPSYS",9023,"Presweep System","CAD","308400"]
["M-T17VK_OPRVID","M-T17","VK_OPRVID","N/C","Operator Video","CAD","308400"]
["M-T17VK_CHG_100A200V5060H3","M-T17","VK_CHG_100A200V5060H3",5202,"Ch100A 200V 5060H3P","CAD","308400"]
["M-T17VK_SDEBRSTYP_SWP_D","M-T17","VK_SDEBRSTYP_SWP_D",6781,"Side Brush Sweep D","CAD","308400"]
["M-T17VK_SVEEVMSWH_N","M-T17","VK_SVEEVMSWH_N",-598,"No SE Switch Caplty","CAD","308400"]
["M-T17VK_MCHCOM","M-T17","VK_MCHCOM",1916,"IRIS Telemetry","CAD","308400"]
["M-T17VK_BTY_T930C6_OCC","M-T17","VK_BTY_T930C6_OCC",15778,"Bty Tub 930AH C6 OCC","CAD","308400"]
["M-T17VK_CHG_160A600V5060H3P","M-T17","VK_CHG_160A600V5060H3P",9256,"Ch160A 600V 5060H3P","CAD","308400"]
["M-T17VK_SDECLNTOL_PYP_SWP","M-T17","VK_SDECLNTOL_PYP_SWP","N/C","Side Poly Sweeper","CAD","308400"]
["M-T17VK_CLNTOL_PAD","M-T17","VK_CLNTOL_PAD","N/C","Pad Driver","CAD","308400"]
["M-T17VK_WRNLGTANDALM_SO","M-T17","VK_WRNLGTANDALM_SO",642,"Strobe Light OHG","CAD","308400"]
["M-T17VK_RERTRE_HTNM","M-T17","VK_RERTRE_HTNM",480,"Trs Rear HighTractNonMk","CAD","308400"]
["M-T17VK_PWRSTR","M-T17","VK_PWRSTR",4971,"Power Steering","CAD","308400"]
["M-T17VK_RMPCLB","M-T17","VK_RMPCLB",2867,"Ramp Climb Kit","CAD","308400"]
["M-T17VK_HVYDTYSQEPRT","M-T17","VK_HVYDTYSQEPRT",1011,"Hvy Dty Sque Protect","CAD","308400"]
["M-T17VK_SVEEVMSWH","M-T17","VK_SVEEVMSWH","N/C","SE Switch Capability","CAD","308400"]
["M-T17VK_RECTNKDRN_TEL","M-T17","VK_RECTNKDRN_TEL","N/C","Telescopic","CAD","308400"]
["M-T17VK_SDEBRSTYP_SWP_RH","M-T17","VK_SDEBRSTYP_SWP_RH",3628,"Side Brush Sweep RH","CAD","308400"]
["M-T17VK_SFYLGTPKG","M-T17","VK_SFYLGTPKG",1196,"Safety Light Package","CAD","308400"]
["M-T17VK_ADLBTY_W750C6_WTR","M-T17","VK_ADLBTY_W750C6_WTR",13020,"Ext.Bty Wet 750 C6 W","CAD","308400"]
["M-T17VK_SQEMAT_L","M-T17","VK_SQEMAT_L","N/C","Squeegee Linatex","CAD","308400"]
["M-T17VK_PKG_SKD","M-T17","VK_PKG_SKD","N/C","Skid","CAD","308400"]
["M-T17VK_PKG_CRT","M-T17","VK_PKG_CRT",1517,"Crate","CAD","308400"]
["M-T17VK_ALTSTBFLSLNS_R","M-T17","VK_ALTSTBFLSLNS_R","N/C","Alternate Lens-Red","CAD","308400"]
["M-T17VK_ADLBTY_W510C6","M-T17","VK_ADLBTY_W510C6",10087,"Ext.Bty Wet 510 C6","CAD","308400"]
["M-T17VK_UPG","M-T17","VK_UPG","N/C","UPG","CAD","308400"]
["M-T17VK_SDECLNTOL_PYP_SCB","M-T17","VK_SDECLNTOL_PYP_SCB","N/C","Side Poly Scrubber","CAD","308400"]
["M-T17VK_OVHGRD","M-T17","VK_OVHGRD",2908,"Overhead Guard","CAD","308400"]
["M-T17VK_SDEBRSTYP_SCB","M-T17","VK_SDEBRSTYP_SCB",5983,"Side Brush Scrubber","CAD","308400"]
["M-T17VK_ADLBTY_T930C6_WTR","M-T17","VK_ADLBTY_T930C6_WTR",18533,"Ext.Bty Tub 930 C6 W","CAD","308400"]
["M-T17VK_BTYEXCSYS_SO","M-T17","VK_BTYEXCSYS_SO",1595,"Bty Slide Out System","CAD","308400"]
["M-T17VK_BTY_T930C6","M-T17","VK_BTY_T930C6",14396,"Bty Tub 930AH C6","CAD","308400"]
["M-T17VK_BTY_W510C6","M-T17","VK_BTY_W510C6",7892,"Bty Wet 510AH C6","CAD","308400"]
["M-T17VK_FRTTRE_HTNM","M-T17","VK_FRTTRE_HTNM",1011,"Trs Frnt HighTrack","CAD","308400"]
["M-T17VK_ULERTG_E","M-T17","VK_ULERTG_E","N/C","UL® Type E","CAD","308400"]
["M-T17VK_ADLBTY_W750C6","M-T17","VK_ADLBTY_W750C6",12198,"Ext.Bty Wet 750 C6","CAD","308400"]
["M-T17VK_CLNTCH_ECH2O","M-T17","VK_CLNTCH_ECH2O",6219,"ec-H2O™","CAD","308400"]
["M-T17VK_BASE_T17-C","M-T17","VK_BASE_T17-C",65930,"T17 Scrubber Cyl.","CAD","308400"]
["M-T350VK_SVEEVMSWHLKT","M-T350","VK_SVEEVMSWHLKT",88,"SE Switch Lockout","CAD","309100"]
["M-T350VK_RECHSEMAT_PVC","M-T350","VK_RECHSEMAT_PVC","N/C","PVC (Standard)","CAD","309100"]
["M-T350VK_BASE_T350-500-D_STD","M-T350","VK_BASE_T350-500-D_STD",19766,"T350 500mm Disk Std Config","CAD","309100"]
["M-T350VK_BASE_T350-600-D_STD","M-T350","VK_BASE_T350-600-D_STD",21877,"T350 600mm Disk Std Config","CAD","309100"]
["M-T350VK_PADTYP_600BLU3","M-T350","VK_PADTYP_600BLU3",21,"600/24 Bl Scrub 3M","CAD","309100"]
["M-T350VK_PKG_SSKD","M-T350","VK_PKG_SSKD","N/C","Stack Skid/Carton","CAD","309100"]
["M-T350VK_PKG_PAD","M-T350","VK_PKG_PAD","N/C","Pad Wrap","CAD","309100"]
["M-T350VK_PADTYP_500YLW3","M-T350","VK_PADTYP_500YLW3",127,"500/20 Ylw Polish 3M","CAD","309100"]
["M-T350VK_PADTYP_600YLW3","M-T350","VK_PADTYP_600YLW3",67,"600/24 Ylw Polish 3M","CAD","309100"]
["M-T350VK_CLNTOL_600NYL_IC","M-T350","VK_CLNTOL_600NYL_IC",336,"600/24 Nylon Brush-IC","CAD","309100"]
["M-T350VK_CLNTOL_600ABB_IC","M-T350","VK_CLNTOL_600ABB_IC",587,"600/24 Abr Brush-IC","CAD","309100"]
["M-T350VK_CLNTOL_500PYP_IC","M-T350","VK_CLNTOL_500PYP_IC",525,"500/20 Poly Brush-IC","CAD","309100"]
["M-T350VK_CLNTOL_500PAD_IC","M-T350","VK_CLNTOL_500PAD_IC",525,"500/20 Pad Driver-IC","CAD","309100"]
["M-T350VK_CLNTOL_500NYL_IC","M-T350","VK_CLNTOL_500NYL_IC",525,"500/20 Nylon Brush-IC","CAD","309100"]
["M-T350VK_CLNTOL_500ABB_IC","M-T350","VK_CLNTOL_500ABB_IC",794,"500/20 Abr Brush-IC","CAD","309100"]
[{"$f":"B1929&C1929","v":"M-T350VK_CLNTOLATT_IC"},"M-T350","VK_CLNTOLATT_IC","N/C","Clean Tool Attach IC","CAD","309100"]
["M-T350VK_CLNTCH_ECH2ON","M-T350","VK_CLNTCH_ECH2ON",3102,"ec-H2O™ NanoClean","CAD","309100"]
["M-T350VK_CHG_27A85V5060H1P","M-T350","VK_CHG_27A85V5060H1P","N/C","CH27A 85-270V 5060H1P","CAD","309100"]
["M-T350VK_CHG_25A100V5060H1","M-T350","VK_CHG_25A100V5060H1","N/C","Ch25A 100V 5060H1P","CAD","309100"]
["M-T350VK_BTY_WO","M-T350","VK_BTY_WO",-630,"Without Battery","CAD","309100"]
["M-T350VK_BTY_W240C20","M-T350","VK_BTY_W240C20",269,"Bty Wet 240AH C20","CAD","309100"]
["M-T350VK_BTY_W210C20","M-T350","VK_BTY_W210C20","N/C","Bty Wet 210AH C5","CAD","309100"]
["M-T350VK_BTY_A220C20","M-T350","VK_BTY_A220C20",2020,"Bty AGM 220AH C20","CAD","309100"]
["M-T350VK_BTYWTRSYS_SF","M-T350","VK_BTYWTRSYS_SF",1439,"Smart Fill","CAD","309100"]
["M-T350VK_BTYWTRSYS_ML","M-T350","VK_BTYWTRSYS_ML",839,"Battery Watering Manual","CAD","309100"]
["M-T350VK_BASE_T350-600-D","M-T350","VK_BASE_T350-600-D",21877,"T350-600-D","CAD","309100"]
["M-T350VK_BASE_T350-500-D","M-T350","VK_BASE_T350-500-D",19766,"T350-500-D","CAD","309100"]
["M-T350VK_ADLOPRMNL","M-T350","VK_ADLOPRMNL",190,"Add Operator Manual","CAD","309100"]
["M-T350VK_CLNTOL_600PAD_IC","M-T350","VK_CLNTOL_600PAD_IC",336,"600/24 Pad Driver-IC","CAD","309100"]
["M-T350VK_WRNLGTANDALM_AU","M-T350","VK_WRNLGTANDALM_AU","N/C","Audio BU Alarm","CAD","309100"]
["M-T350VK_TRMLVL_PPAN","M-T350","VK_TRMLVL_PPAN",1352,"ProPanel Ctrls","CAD","309100"]
["M-T350VK_TRMLVL_PMEM","M-T350","VK_TRMLVL_PMEM","N/C","Pro Membrane Panel","CAD","309100"]
["M-T350VK_SVEEVMSWH","M-T350","VK_SVEEVMSWH",870,"SE Switch Capability","CAD","309100"]
["M-T350VK_SRVMNL","M-T350","VK_SRVMNL",190,"Service Manual","CAD","309100"]
["M-T350VK_RECHSEMAT_PYPOR","M-T350","VK_RECHSEMAT_PYPOR",185,"Polyurethane (Oil Resistant)","CAD","309100"]
["M-T350VK_RDEPPLSPD","M-T350","VK_RDEPPLSPD","N/C","Reduced Propel Speed","CAD","309100"]
["M-T350VK_QITMOD","M-T350","VK_QITMOD",259,"Quiet Mode","CAD","309100"]
["M-T350VK_PKG_SSKD_NC","M-T350","VK_PKG_SSKD_NC","N/C","Stack Skid/Carton","CAD","309100"]
["M-T350VK_PARMNL","M-T350","VK_PARMNL",78,"Parts Manual","CAD","309100"]
["M-T350VK_PADTYP_600WHT3","M-T350","VK_PADTYP_600WHT3",21,"600/24 Wh Polish 3M","CAD","309100"]
["M-T350VK_PADTYP_600RED3","M-T350","VK_PADTYP_600RED3",21,"600/24 Red Clean 3M","CAD","309100"]
["M-T350VK_PADTYP_600MAR3","M-T350","VK_PADTYP_600MAR3",26,"600/24 MarSur 3M","CAD","309100"]
["M-T350VK_PADTYP_600BWN3","M-T350","VK_PADTYP_600BWN3",22,"600/24 Br Strip 3M","CAD","309100"]
["M-T350VK_PADTYP_600BLKH3","M-T350","VK_PADTYP_600BLKH3",26,"600/24 Blk HiPro 3M","CAD","309100"]
["M-T350VK_PADTYP_500WHT3","M-T350","VK_PADTYP_500WHT3",37,"500/20 Wh Polish 3M","CAD","309100"]
["M-T350VK_PADTYP_500RED3","M-T350","VK_PADTYP_500RED3",37,"500/20 Red Clean 3M","CAD","309100"]
["M-T350VK_PADTYP_500MAR3","M-T350","VK_PADTYP_500MAR3",44,"500/20 MarSur 3M","CAD","309100"]
["M-T350VK_PADTYP_500BWN3","M-T350","VK_PADTYP_500BWN3",39,"500/20 Br Strip 3M","CAD","309100"]
["M-T350VK_PADTYP_500BLU3","M-T350","VK_PADTYP_500BLU3",37,"500/20 Bl Scrub 3M","CAD","309100"]
["M-T350VK_PADTYP_500BLKH3","M-T350","VK_PADTYP_500BLKH3",42,"500/20 Blk HiPro 3M","CAD","309100"]
["M-T350VK_MCHCOM","M-T350","VK_MCHCOM",1916,"IRIS Telemetry","CAD","309100"]
["M-T350VK_IRSSRVRPT_3YP","M-T350","VK_IRSSRVRPT_3YP",259,"Svc Rpt 3 Yr Pre-Paid","CAD","309100"]
["M-T350VK_CLNTOL_600PYP_IC","M-T350","VK_CLNTOL_600PYP_IC",336,"600/24 Poly Brush-IC","CAD","309100"]
["M-SS350VK_BASE_SS350-500-D_STD","M-SS350","VK_BASE_SS350-500-D_STD",19766,"SS350 500mm Disk Std Config","CAD","309200"]
["M-SS350VK_WRNLGTANDALM_AU","M-SS350","VK_WRNLGTANDALM_AU","N/C","Audio BU Alarm","CAD","309200"]
["M-SS350VK_RDEPPLSPD","M-SS350","VK_RDEPPLSPD","N/C","Reduced Propel Speed","CAD","309200"]
["M-SS350VK_RECHSEMAT_PVC","M-SS350","VK_RECHSEMAT_PVC","N/C","PVC (Standard)","CAD","309200"]
["M-SS350VK_PKG_SSKD_NC","M-SS350","VK_PKG_SSKD_NC","N/C","Stack Skid/Carton","CAD","309200"]
["M-SS350VK_SRVMNL","M-SS350","VK_SRVMNL",190,"Service Manual","CAD","309200"]
["M-SS350VK_SVEEVMSWH","M-SS350","VK_SVEEVMSWH",870,"SE Switch Capability","CAD","309200"]
["M-SS350VK_PKG_PAD","M-SS350","VK_PKG_PAD","N/C","Pad Wrap","CAD","309200"]
["M-SS350VK_PKG_SSKD","M-SS350","VK_PKG_SSKD","N/C","Stack Skid/Carton","CAD","309200"]
["M-SS350VK_PADTYP_600WHT3","M-SS350","VK_PADTYP_600WHT3",21,"600/24 Wh Polish 3M","CAD","309200"]
["M-SS350VK_TRMLVL_PMEM","M-SS350","VK_TRMLVL_PMEM","N/C","Pro Membrane Panel","CAD","309200"]
["M-SS350VK_BASE_SS350-600-D_STD","M-SS350","VK_BASE_SS350-600-D_STD",21877,"SS350 600mm Disk Std Config","CAD","309200"]
["M-SS350VK_ACCCLP","M-SS350","VK_ACCCLP","N/C","Accessory Clip","CAD","309200"]
["M-SS350VK_TRMLVL_PPAN","M-SS350","VK_TRMLVL_PPAN",1352,"ProPanel Ctrls","CAD","309200"]
["M-SS350VK_PADTYP_500YLW3","M-SS350","VK_PADTYP_500YLW3",127,"500/20 Ylw Polish 3M","CAD","309200"]
["M-SS350VK_PADTYP_600YLW3","M-SS350","VK_PADTYP_600YLW3",67,"600/24 Ylw Polish 3M","CAD","309200"]
["M-SS350VK_CLNTOL_600NYL_IC","M-SS350","VK_CLNTOL_600NYL_IC",336,"600/24 Nylon Brush-IC","CAD","309200"]
["M-SS350VK_CLNTOL_600ABB_IC","M-SS350","VK_CLNTOL_600ABB_IC",587,"600/24 Abr Brush-IC","CAD","309200"]
["M-SS350VK_CLNTOL_500PYP_IC","M-SS350","VK_CLNTOL_500PYP_IC",522,"500/20 Poly Brush-IC","CAD","309200"]
["M-SS350VK_CLNTOL_500PAD_IC","M-SS350","VK_CLNTOL_500PAD_IC",522,"500/20 Pad Driver-IC","CAD","309200"]
["M-SS350VK_CLNTOL_500NYL_IC","M-SS350","VK_CLNTOL_500NYL_IC",522,"500/20 Nylon Brush-IC","CAD","309200"]
["M-SS350VK_CLNTOL_500ABB_IC","M-SS350","VK_CLNTOL_500ABB_IC",794,"500/20 Abr Brush-IC","CAD","309200"]
["M-SS350VK_CLNTOLATT_IC","M-SS350","VK_CLNTOLATT_IC","N/C","Clean Tool Attach IC","CAD","309200"]
["M-SS350VK_CLNTCH_ECH2ON","M-SS350","VK_CLNTCH_ECH2ON",3102,"ec-H2O™ NanoClean","CAD","309200"]
["M-SS350VK_CHG_27A85V5060H1P","M-SS350","VK_CHG_27A85V5060H1P","N/C","CH27A 85-270V 5060H1P","CAD","309200"]
["M-SS350VK_CHG_25A100V5060H1","M-SS350","VK_CHG_25A100V5060H1","N/C","Ch25A 100V 5060H1P","CAD","309200"]
[{"$f":"B1993&C1993","v":"M-SS350VK_BTY_WO"},"M-SS350","VK_BTY_WO",-630,"Without Battery","CAD","309200"]
["M-SS350VK_BTY_W240C20","M-SS350","VK_BTY_W240C20",269,"Bty Wet 240AH C20","CAD","309200"]
["M-SS350VK_BTY_W210C20","M-SS350","VK_BTY_W210C20","N/C","Bty Wet 210AH C5","CAD","309200"]
["M-SS350VK_BTY_A220C20","M-SS350","VK_BTY_A220C20",2020,"Bty AGM 220AH C20","CAD","309200"]
["M-SS350VK_BTYWTRSYS_SF","M-SS350","VK_BTYWTRSYS_SF",1439,"Smart Fill","CAD","309200"]
["M-SS350VK_BASE_SS350-500-D","M-SS350","VK_BASE_SS350-500-D",19766,"SS350-500-D","CAD","309200"]
["M-SS350VK_ADLOPRMNL","M-SS350","VK_ADLOPRMNL",190,"Add Operator Manual","CAD","309200"]
["M-SS350VK_RECHSEMAT_PYPOR","M-SS350","VK_RECHSEMAT_PYPOR",185,"Polyurethane (Oil Resistant)","CAD","309200"]
["M-SS350VK_QITMOD","M-SS350","VK_QITMOD",259,"Quiet Mode","CAD","309200"]
["M-SS350VK_PARMNL","M-SS350","VK_PARMNL",78,"Parts Manual","CAD","309200"]
["M-SS350VK_PADTYP_600RED3","M-SS350","VK_PADTYP_600RED3",21,"600/24 Red Clean 3M","CAD","309200"]
["M-SS350VK_PADTYP_600MAR3","M-SS350","VK_PADTYP_600MAR3",26,"600/24 MarSur 3M","CAD","309200"]
["M-SS350VK_PADTYP_600BWN3","M-SS350","VK_PADTYP_600BWN3",22,"600/24 Br Strip 3M","CAD","309200"]
["M-SS350VK_PADTYP_600BLU3","M-SS350","VK_PADTYP_600BLU3",21,"600/24 Bl Scrub 3M","CAD","309200"]
["M-SS350VK_PADTYP_600BLKH3","M-SS350","VK_PADTYP_600BLKH3",28,"600/24 Blk HiPro 3M","CAD","309200"]
["M-SS350VK_PADTYP_500WHT3","M-SS350","VK_PADTYP_500WHT3",37,"500/20 Wh Polish 3M","CAD","309200"]
["M-SS350VK_PADTYP_500RED3","M-SS350","VK_PADTYP_500RED3",37,"500/20 Red Clean 3M","CAD","309200"]
["M-SS350VK_PADTYP_500MAR3","M-SS350","VK_PADTYP_500MAR3",44,"500/20 MarSur 3M","CAD","309200"]
["M-SS350VK_PADTYP_500BWN3","M-SS350","VK_PADTYP_500BWN3",39,"500/20 Br Strip 3M","CAD","309200"]
["M-SS350VK_PADTYP_500BLU3","M-SS350","VK_PADTYP_500BLU3",37,"500/20 Bl Scrub 3M","CAD","309200"]
["M-SS350VK_PADTYP_500BLKH3","M-SS350","VK_PADTYP_500BLKH3",42,"500/20 Blk HiPro 3M","CAD","309200"]
["M-SS350VK_MCHCOM","M-SS350","VK_MCHCOM",1916,"IRIS Telemetry","CAD","309200"]
["M-SS350VK_IRSSRVRPT_3YP","M-SS350","VK_IRSSRVRPT_3YP",259,"Svc Rpt 3 Yr Pre-Paid","CAD","309200"]
["M-SS350VK_CLNTOL_600PYP_IC","M-SS350","VK_CLNTOL_600PYP_IC",336,"600/24 Poly Brush-IC","CAD","309200"]
["M-SS350VK_CLNTOL_600PAD_IC","M-SS350","VK_CLNTOL_600PAD_IC",336,"600/24 Pad Driver-IC","CAD","309200"]
["M-SS350VK_BTYWTRSYS_ML","M-SS350","VK_BTYWTRSYS_ML",839,"Battery Watering Manual","CAD","309200"]
["M-SS350VK_BASE_SS350-600-D","M-SS350","VK_BASE_SS350-600-D",21877,"SS350-600-D","CAD","309200"]
["M-SS350VK_SVEEVMSWHLKT","M-SS350","VK_SVEEVMSWHLKT",88,"SE Switch Lockout","CAD","309200"]
["M-M17VK_BLULGT","M-M17","VK_BLULGT",1509,"Blue Light","CAD","311103"]
["M-M17VK_TRM_PPAN","M-M17","VK_TRM_PPAN",4034,"ProPanel Ctrls","CAD","311103"]
["M-M17VK_TRM_MPAN","M-M17","VK_TRM_MPAN","N/C","Membrane Ctrl Panel","CAD","311103"]
["M-M17VK_PKG_SKD_NC","M-M17","VK_PKG_SKD_NC","N/C","Skid","CAD","311103"]
["M-M17VK_CHG_80A200V5060H3P_LI","M-M17","VK_CHG_80A200V5060H3P_LI",5887,"Ch80A 200V 50/60Hz 3Ph","CAD","311103"]
["M-M17VK_CHG_80A200V5060H1P_LI","M-M17","VK_CHG_80A200V5060H1P_LI",3483,"Ch80A 200V 50/60Hz 1Ph","CAD","311103"]
["M-M17VK_BTY_L36V19M","M-M17","VK_BTY_L36V19M",91187,"Bty Li-Ion 36v, 38.8kWh","CAD","311103"]
["M-M17VK_TRMLVL_PPAN","M-M17","VK_TRMLVL_PPAN",3917,"ProPanel Ctrls","CAD","311103"]
["M-M17VK_PKG_PAD","M-M17","VK_PKG_PAD","N/C","Pad Wrap","CAD","311103"]
["M-M17VK_BASE_M17-D_STD","M-M17","VK_BASE_M17-D_STD",87509,"M17 Disk Std Config","CAD","311103"]
["M-M17VK_BASE_M17-C_STD","M-M17","VK_BASE_M17-C_STD",88558,"M17 Cyl Std Config","CAD","311103"]
["M-M17VK_BTYCOTAST","M-M17","VK_BTYCOTAST",504,"Bty Connection Assist","CAD","311103"]
["M-M17VK_EXNOPRSTN","M-M17","VK_EXNOPRSTN",1004,"Extended Ops Station","CAD","311103"]
["M-M17VK_FUECEL","M-M17","VK_FUECEL",2732,"Fuel Cell","CAD","311103"]
["M-M17VK_HGHPRSSPY","M-M17","VK_HGHPRSSPY",8831,"High Pressure Spray","CAD","311103"]
["M-M17VK_MANSWPSYS_DF","M-M17","VK_MANSWPSYS_DF","N/C","Swp Sys-Dual Force","CAD","311103"]
["M-M17VK_MANSWPSYS_DT","M-M17","VK_MANSWPSYS_DT","N/C","Swp Sys-Direct Throw","CAD","311103"]
["M-M17VK_RERTRE_WHT","M-M17","VK_RERTRE_WHT","N/C","Trs Rear Wide HT","CAD","311103"]
["M-M17VK_DTGMTG","M-M17","VK_DTGMTG",4332,"Detergent Metering","CAD","311103"]
["M-M17VK_CLNTOL_PYP_C","M-M17","VK_CLNTOL_PYP_C","N/C","Cyl Brush Poly","CAD","311103"]
["M-M17VK_CLNTOL_PYP_D","M-M17","VK_CLNTOL_PYP_D","N/C","Disk Brush Poly","CAD","311103"]
["M-M17VK_CLNTOL_SAB_C","M-M17","VK_CLNTOL_SAB_C",267,"Cyl Brush Spr Abr.","CAD","311103"]
["M-M17VK_CLNTOL_SAB_D","M-M17","VK_CLNTOL_SAB_D",267,"Disk Brush Spr Abr.","CAD","311103"]
["M-M17VK_DRTWTRLBL","M-M17","VK_DRTWTRLBL","N/C","Dirty Water Label","CAD","311103"]
["M-M17VK_ADLBTY_T930C6_WTR_OC","M-M17","VK_ADLBTY_T930C6_WTR_OC","N/C","Ext.BtyTub930C6 W OC","CAD","311103"]
["M-M17VK_WRNLGTALM_AVST","M-M17","VK_WRNLGTALM_AVST",861,"AV BU AlarmStrobeTnk","CAD","311103"]
["M-M17VK_WRNLGTALM_SO","M-M17","VK_WRNLGTALM_SO",642,"Strobe Light OHG","CAD","311103"]
["M-M17VK_DTG_FSBD","M-M17","VK_DTG_FSBD","N/C","Solvent Degreaser","CAD","311103"]
["M-M17VK_ALTSTBFLSLNS_R","M-M17","VK_ALTSTBFLSLNS_R","N/C","Alternate Lens-Red","CAD","311103"]
["M-M17VK_ADLOPRMNL","M-M17","VK_ADLOPRMNL",253,"Add Operator Manual","CAD","311103"]
["M-M17VK_ADLBTY_W750C6_WTR","M-M17","VK_ADLBTY_W750C6_WTR",13020,"Ext.Bty Wet 750 C6 W","CAD","311103"]
["M-M17VK_ADLBTY_W510C6_WTR","M-M17","VK_ADLBTY_W510C6_WTR",10499,"Ext.Bty Wet 510 C6 W","CAD","311103"]
["M-M17VK_ADLBTY_T930C6_WTR","M-M17","VK_ADLBTY_T930C6_WTR",18533,"Ext.Bty Tub 930 C6 W","CAD","311103"]
["M-M17VK_ADLBTY_T930C6","M-M17","VK_ADLBTY_T930C6",17742,"Ext.Bty Tub 930 C6","CAD","311103"]
["M-M17VK_CHG_100A200V5060H3","M-M17","VK_CHG_100A200V5060H3",5202,"Ch100A 200V 5060H3P","CAD","311103"]
["M-M17VK_BTY_W750C6","M-M17","VK_BTY_W750C6",9496,"Bty Wet 750AH C6","CAD","311103"]
[{"$f":"B2057&C2057","v":"M-M17VK_BTY_W510C6"},"M-M17","VK_BTY_W510C6",7892,"Bty Wet 510AH C6","CAD","311103"]
["M-M17VK_BTYWTRSYS","M-M17","VK_BTYWTRSYS",1011,"Battery Watering Sys","CAD","311103"]
["M-M17VK_BTYEXCSYS_SO","M-M17","VK_BTYEXCSYS_SO",1595,"Bty Slide Out System","CAD","311103"]
["M-M17VK_BASE_M17-C","M-M17","VK_BASE_M17-C",88558,"M17 Scrubber Cyl.","CAD","311103"]
["M-M17VK_SQEMAT_L","M-M17","VK_SQEMAT_L","N/C","Squeegee Linatex","CAD","311103"]
["M-M17VK_SQEMAT_G","M-M17","VK_SQEMAT_G","N/C","Squeegee Gum Rubber","CAD","311103"]
["M-M17VK_SPYNOZWTHHSE","M-M17","VK_SPYNOZWTHHSE",1706,"Spray Nozzel w/Hose","CAD","311103"]
["M-M17VK_SET_DLXW","M-M17","VK_SET_DLXW",786,"Deluxe Seat w/Armr.","CAD","311103"]
["M-M17VK_SDECLNTOL_SAB","M-M17","VK_SDECLNTOL_SAB",267,"Side Sup Abr Brush","CAD","311103"]
["M-M17VK_SDECLNTOL_PYP","M-M17","VK_SDECLNTOL_PYP","N/C","Side Poly Brush","CAD","311103"]
["M-M17VK_SDECLNTOL_PAD","M-M17","VK_SDECLNTOL_PAD","N/C","Side Pad Driver","CAD","311103"]
["M-M17VK_ULERTG_ES","M-M17","VK_ULERTG_ES",5339,"UL® Type ES","CAD","311103"]
["M-M17VK_ULERTG_E","M-M17","VK_ULERTG_E","N/C","UL® Type E","CAD","311103"]
["M-M17VK_TRLTRTKIT","M-M17","VK_TRLTRTKIT",270,"Transport Kit","CAD","311103"]
["M-M17VK_SVEEVMSWH_N","M-M17","VK_SVEEVMSWH_N",-598,"No SE Switch Caplty","CAD","311103"]
["M-M17VK_SRVMNL","M-M17","VK_SRVMNL",333,"Service Manual","CAD","311103"]
["M-M17VK_SQEMAT_U","M-M17","VK_SQEMAT_U","N/C","Squeegee Urethane","CAD","311103"]
["M-M17VK_PKG_SKD","M-M17","VK_PKG_SKD","N/C","Skid","CAD","311103"]
["M-M17VK_OVHGRD","M-M17","VK_OVHGRD",2908,"Overhead Guard","CAD","311103"]
["M-M17VK_OPRVID","M-M17","VK_OPRVID","N/C","Operator Video","CAD","311103"]
["M-M17VK_MCHCOM","M-M17","VK_MCHCOM",1916,"IRIS Telemetry","CAD","311103"]
["M-M17VK_PRDPKG_VACWND","M-M17","VK_PRDPKG_VACWND",7055,"Prod Package- Vac Wand","CAD","311103"]
["M-M17VK_SDEBRSTYP_SCB","M-M17","VK_SDEBRSTYP_SCB",5983,"Side Brush Scrubber","CAD","311103"]
["M-M17VK_RECTNKDRN_TEL","M-M17","VK_RECTNKDRN_TEL","N/C","Telescopic","CAD","311103"]
["M-M17VK_RECTNKDRN_DCV","M-M17","VK_RECTNKDRN_DCV",1077,"Drain Control Valve","CAD","311103"]
["M-M17VK_PWRVACWND_VACWND","M-M17","VK_PWRVACWND_VACWND",896,"Vacuum Wand","CAD","311103"]
["M-M17VK_DTG_SBD","M-M17","VK_DTG_SBD","N/C","Solvent Degreaser","CAD","311103"]
["M-M17VK_CSMDRTWTRLBL","M-M17","VK_CSMDRTWTRLBL","N/C","Dirty Water Label","CAD","311103"]
["M-M17VK_BTYWTRSYS_NC","M-M17","VK_BTYWTRSYS_NC","N/C","Battery Watering NC","CAD","311103"]
["M-M17VK_CLNTOL_CPYP","M-M17","VK_CLNTOL_CPYP","N/C","Cyl Brush Poly","CAD","311103"]
["M-M17VK_CLNTOL_CSAB","M-M17","VK_CLNTOL_CSAB",267,"Cyl Brush Spr Abr.","CAD","311103"]
["M-M17VK_CLNTOL_DNYL","M-M17","VK_CLNTOL_DNYL","N/C","Disk Brush Nylon","CAD","311103"]
["M-M17VK_CLNTOL_DPYP","M-M17","VK_CLNTOL_DPYP","N/C","Disk Brush Poly","CAD","311103"]
["M-M17VK_CLNTOL_DSAB","M-M17","VK_CLNTOL_DSAB",267,"Disk Brush Spr Abr.","CAD","311103"]
["M-M17VK_WRNLGTANDALM_AVST","M-M17","VK_WRNLGTANDALM_AVST",915,"AV BU AlrmStrobe Tnk","CAD","311103"]
["M-M17VK_WRNLGTANDALM_SO","M-M17","VK_WRNLGTANDALM_SO",642,"Strobe Light OHG","CAD","311103"]
["M-M17VK_CLGFLTIND_NC","M-M17","VK_CLGFLTIND_NC","N/C","Clogged Filter Ind. NC","CAD","311103"]
["M-M17VK_HVYDTYSQEPRT","M-M17","VK_HVYDTYSQEPRT",1011,"Hvy Dty Sque Protect","CAD","311103"]
["M-M17VK_HLT","M-M17","VK_HLT",548,"Headlight","CAD","311103"]
["M-M17VK_FREEXT","M-M17","VK_FREEXT",468,"Fire Extinguisher","CAD","311103"]
["M-M17VK_CLNTOL_PAD","M-M17","VK_CLNTOL_PAD","N/C","Pad Driver","CAD","311103"]
["M-M17VK_CLNTCH_ES","M-M17","VK_CLNTCH_ES",5692,"ES® Extended Scrub","CAD","311103"]
["M-M17VK_CLNTCH_ECH2O","M-M17","VK_CLNTCH_ECH2O",6219,"ec-H2O™","CAD","311103"]
["M-M17VK_CLGFLTIND","M-M17","VK_CLGFLTIND",726,"Clogged Filter Indicator","CAD","311103"]
["M-M17VK_CHG_WO","M-M17","VK_CHG_WO","N/C","Without Charger","CAD","311103"]
["M-M17VK_CHG_80A200V5060H3P","M-M17","VK_CHG_80A200V5060H3P",5399,"Ch80A 200V 5060H3P","CAD","311103"]
["M-M17VK_CHG_80A200V5060H1P","M-M17","VK_CHG_80A200V5060H1P",4349,"Ch80A 200V 5060H1P","CAD","311103"]
["M-M17VK_BTY_WO","M-M17","VK_BTY_WO","N/C","Without Battery","CAD","311103"]
["M-M17VK_BTY_T930C6","M-M17","VK_BTY_T930C6",14396,"Bty Tub 930AH C6","CAD","311103"]
["M-M17VK_BASE_M17-D","M-M17","VK_BASE_M17-D",87509,"M17 Scrubber Disk","CAD","311103"]
["M-M17VK_AUTFIL","M-M17","VK_AUTFIL",801,"Auto Fill","CAD","311103"]
["M-M17VK_ALTSTBFLSLNS_B","M-M17","VK_ALTSTBFLSLNS_B","N/C","Alternate Lens-Blue","CAD","311103"]
["M-M17VK_ADLBTY_W750C6","M-M17","VK_ADLBTY_W750C6",12198,"Ext.Bty Wet 750 C6","CAD","311103"]
["M-M17VK_ADLBTY_W510C6","M-M17","VK_ADLBTY_W510C6",10087,"Ext.Bty Wet 510 C6","CAD","311103"]
["M-M17VK_SFYLGTPKG","M-M17","VK_SFYLGTPKG",1196,"Safety Light Package","CAD","311103"]
["M-M17VK_SDEBRSDSTCTL","M-M17","VK_SDEBRSDSTCTL",5186,"Side Brs Dust Control","CAD","311103"]
["M-M17VK_RERTRE_HTNM","M-M17","VK_RERTRE_HTNM",480,"Trs Rear HighTractNonMk","CAD","311103"]
["M-M17VK_PWRVACWND_LW","M-M17","VK_PWRVACWND_LW",6099,"Live Wand","CAD","311103"]
["M-M17VK_PRDPKG_LW","M-M17","VK_PRDPKG_LW",7055,"Prod Package- Live Wand","CAD","311103"]
["M-M17VK_OPRMNL","M-M17","VK_OPRMNL","N/C","Oper Manual","CAD","311103"]
["M-M17VK_SDEBRSTYP_PRP","M-M17","VK_SDEBRSTYP_PRP","N/C","Side Brush: Prep Kit","CAD","311103"]
["M-M17VK_SDEBRSTYP_WO","M-M17","VK_SDEBRSTYP_WO","N/C","Side Brush - Without","CAD","311103"]
["M-M17VK_AUTFIL_NC","M-M17","VK_AUTFIL_NC","N/C","Auto Fill","CAD","311103"]
["M-M17VK_CLNTCH_CNV","M-M17","VK_CLNTCH_CNV","N/C","Conventional","CAD","311103"]
[{"$f":"B2121&C2121","v":"M-M17VK_FRTTRE_NM"},"M-M17","VK_FRTTRE_NM","N/C","Trs Frt HighTractNonMk","CAD","311103"]
["M-M17VK_BTY_T930C6_OCC","M-M17","VK_BTY_T930C6_OCC",15778,"Bty Tub 930AH C6 OCC","CAD","311103"]
["M-M17VK_WTY_STD","M-M17","VK_WTY_STD","N/C","Warranty STD","CAD","311103"]
["M-M17VK_UPG","M-M17","VK_UPG","N/C","UPG","CAD","311103"]
["M-M17VK_RERTRE_NM","M-M17","VK_RERTRE_NM","N/C","Trs Rear HighTract","CAD","311103"]
["M-M17VK_ADLBTY_T930C6_WTR_OCC","M-M17","VK_ADLBTY_T930C6_WTR_OCC",18533,"Ext.Bty T930C6 W OCC","CAD","311103"]
["M-M17VK_CHG_160A600V5060H3P","M-M17","VK_CHG_160A600V5060H3P",9256,"Ch160A 600V 5060H3P","CAD","311103"]
["M-M20VK_RERTRE_HT","M-M20","VK_RERTRE_HT",1180,"Trs Rear High Track","CAD","311302"]
["M-M20VK_SQEMAT_U","M-M20","VK_SQEMAT_U",1137,"Squeegee Urethane","CAD","311302"]
["M-M20VK_WTY_STD","M-M20","VK_WTY_STD","N/C","Warranty STD","CAD","311302"]
["M-M20VK_DTGMTG","M-M20","VK_DTGMTG",4332,"Detergent Metering","CAD","311302"]
["M-M20VK_FREEXT","M-M20","VK_FREEXT",208,"Fire Extinguisher","CAD","311302"]
["M-M20VK_LPGTNK_E","M-M20","VK_LPGTNK_E","N/C","LPG Tank Empty","CAD","311302"]
["M-M20VK_CLNTOL_HDPYP","M-M20","VK_CLNTOL_HDPYP","N/C","HD Poly Brush","CAD","311302"]
["M-M20VK_WRNLGTANDALM_AU","M-M20","VK_WRNLGTANDALM_AU",457,"Audio BU Alarm","CAD","311302"]
["M-M20VK_HVYDTYSQEPRT","M-M20","VK_HVYDTYSQEPRT",1248,"Hvy Dty Sque Protect","CAD","311302"]
["M-M20VK_LPGTNK_F","M-M20","VK_LPGTNK_F","N/C","LPG Tank Full","CAD","311302"]
["M-M20VK_WRNLGTANDALM_AVFT","M-M20","VK_WRNLGTANDALM_AVFT",977,"AV BU AlarmFlash Tnk","CAD","311302"]
["M-M20VK_ULERTG_LPS","M-M20","VK_ULERTG_LPS",6987,"UL® Type LPS","CAD","311302"]
["M-M20VK_ADLOPRMNL","M-M20","VK_ADLOPRMNL",100,"Add Operator Manual","CAD","311302"]
["M-M20VK_TRLTRTKIT","M-M20","VK_TRLTRTKIT",261,"Transport Kit","CAD","311302"]
["M-M20VK_CSMSLN_FLLS","M-M20","VK_CSMSLN_FLLS",2740,"Frame Lift Lugs Side","CAD","311302"]
["M-M20VK_CSMSLN_FSTTK","M-M20","VK_CSMSLN_FSTTK",2315,"Front/Side Tie Down","CAD","311302"]
["M-M20VK_BLULGT","M-M20","VK_BLULGT",1509,"Blue Light","CAD","311302"]
["M-M20VK_CSMSLN_WPMP","M-M20","VK_CSMSLN_WPMP",258,"Weatherproof pouch","CAD","311302"]
["M-M20VK_WPFMNLPCH","M-M20","VK_WPFMNLPCH",258,"Weatherproof Manual Pouch","CAD","311302"]
["M-M20VK_FRTSDETIETOWKIT","M-M20","VK_FRTSDETIETOWKIT",2315,"Front / Side Tiedown Tow Kit","CAD","311302"]
["M-M20VK_CSMFRTCVRLTHKIT","M-M20","VK_CSMFRTCVRLTHKIT",868,"Front Cover Latch Kit","CAD","311302"]
["M-M20VK_CSMFRMLFTLUG_SD","M-M20","VK_CSMFRMLFTLUG_SD",2740,"Frame Lifting Lugs-Side","CAD","311302"]
["M-M20VK_CSMSLN_FCLK","M-M20","VK_CSMSLN_FCLK",868,"Front Cover Latch","CAD","311302"]
["M-M20VK_MCHCOM_SBT","M-M20","VK_MCHCOM_SBT",1916,"IRIS Telemetry","CAD","311302"]
["M-M20VK_PARMNL","M-M20","VK_PARMNL","N/C","Parts Manual","CAD","311302"]
["M-M20VK_SDECLNTOL_HDPYP","M-M20","VK_SDECLNTOL_HDPYP","N/C","Side HD Poly Brush","CAD","311302"]
["M-M20VK_DATPKG_HO","M-M20","VK_DATPKG_HO",1863,"Hardware Only","CAD","311302"]
["M-M20VK_BASE_M20-LPG_STD","M-M20","VK_BASE_M20-LPG_STD",105309,"M20 LPG Std Config","CAD","311302"]
["M-M20VK_BASE_M20-GAS_STD","M-M20","VK_BASE_M20-GAS_STD",105309,"M20 GAS Std Config","CAD","311302"]
["M-M20VK_BASE_M20-DSL_STD","M-M20","VK_BASE_M20-DSL_STD",112136,"M20 DSL Std Config","CAD","311302"]
["M-M20VK_CSMSBTPARKIT","M-M20","VK_CSMSBTPARKIT",3784,"Sunbelt -Parts Kit","CAD","311302"]
["M-M20VK_CLNTOL_SASB","M-M20","VK_CLNTOL_SASB",267,"Super Abrasive, Stiff Bristle","CAD","311302"]
["M-M20VK_PRDPKG","M-M20","VK_PRDPKG",8373,"Productivity Package","CAD","311302"]
["M-M20VK_DATPKG_BSVC","M-M20","VK_DATPKG_BSVC","N/C","Data Pkg w/Service","CAD","311302"]
["M-M20VK_DATPKG_5YR","M-M20","VK_DATPKG_5YR",1953,"Data Package 5 Year","CAD","311302"]
["M-M20VK_DATPKG_3YR","M-M20","VK_DATPKG_3YR",1953,"Data Package 3 Year","CAD","311302"]
["M-M20VK_MCHCOM","M-M20","VK_MCHCOM",1916,"IRIS Telemetry","CAD","311302"]
["M-M20VK_UPG","M-M20","VK_UPG","N/C","UPG","CAD","311302"]
["M-M20VK_SDECLNTOL_PYP_SWP","M-M20","VK_SDECLNTOL_PYP_SWP","N/C","Side Poly Sweeper","CAD","311302"]
["M-M20VK_BASE_M20-DSL","M-M20","VK_BASE_M20-DSL",112136,"M20 DSL","CAD","311302"]
["M-M20VK_BASE_M20-GAS","M-M20","VK_BASE_M20-GAS",105309,"M20 GAS","CAD","311302"]
["M-M20VK_BASE_M20-LPG","M-M20","VK_BASE_M20-LPG",105309,"M20 LPG","CAD","311302"]
["M-M20VK_TRMLVL_WOP","M-M20","VK_TRMLVL_WOP",1932,"ProPanel w/ WOC","CAD","311302"]
["M-M20VK_SDECLNTOL_PYP_SCB","M-M20","VK_SDECLNTOL_PYP_SCB","N/C","Side Poly Scrubber","CAD","311302"]
["M-M20VK_DTG_SBD","M-M20","VK_DTG_SBD","N/C","Solvent Degreaser","CAD","311302"]
["M-M20VK_CSMSBTRERSQE","M-M20","VK_CSMSBTRERSQE",730,"Sunbelt - Sqe Guard","CAD","311302"]
["M-M20VK_HGHPRSSPY","M-M20","VK_HGHPRSSPY",6544,"High Pressure Spray","CAD","311302"]
["M-M20VK_HVYDTYPRTPKG","M-M20","VK_HVYDTYPRTPKG",2956,"Hvy Duty Protect Pkg","CAD","311302"]
["M-M20VK_TRM_MPAN","M-M20","VK_TRM_MPAN","N/C","Membrane Ctrl Panel","CAD","311302"]
["M-M20VK_TRM_PPAN","M-M20","VK_TRM_PPAN",3996,"ProPanel Ctrls","CAD","311302"]
["M-M20VK_CSMSBTDCL_GT","M-M20","VK_CSMSBTDCL_GT",196,"Sunbelt-GenTool Dcl","CAD","311302"]
["M-M20VK_CSMSBTDCL_FC","M-M20","VK_CSMSBTDCL_FC",342,"Sunbelt-FloorCareDcl","CAD","311302"]
["M-M20VK_CSMSBTDCLECH","M-M20","VK_CSMSBTDCLECH",323,"Sunbelt-ecH2O Decal","CAD","311302"]
["M-M20VK_WRNLGTANDALM_AVST","M-M20","VK_WRNLGTANDALM_AVST",977,"AV BU AlrmStrobe Tnk","CAD","311302"]
["M-M20VK_SDEBRSTYP","M-M20","VK_SDEBRSTYP",7219,"Side Brush","CAD","311302"]
["M-M20VK_SDECLNTOL_SAB","M-M20","VK_SDECLNTOL_SAB",267,"Side Sup Abr Brush","CAD","311302"]
["M-M20VK_SPYNOZWTHHSE","M-M20","VK_SPYNOZWTHHSE",1699,"Spray Nozzel w/Hose","CAD","311302"]
[{"$f":"B2185&C2185","v":"M-M20VK_SQEMAT_L"},"M-M20","VK_SQEMAT_L","N/C","Squeegee Linatex","CAD","311302"]
["M-M20VK_SRVMNL","M-M20","VK_SRVMNL",333,"Service Manual","CAD","311302"]
["M-M20VK_ULERTG_D","M-M20","VK_ULERTG_D","N/C","UL® Type D","CAD","311302"]
["M-M20VK_WRNLGTANDALM_AVFO","M-M20","VK_WRNLGTANDALM_AVFO",977,"AV BU AlarmFlash OHG","CAD","311302"]
["M-M20VK_WRNLGTANDALM_AVSO","M-M20","VK_WRNLGTANDALM_AVSO",977,"AV BU AlrmStrobe OHG","CAD","311302"]
["M-M20VK_CLNTCH_ECH2O","M-M20","VK_CLNTCH_ECH2O",7272,"ec-H2O™","CAD","311302"]
["M-M20VK_CLNTCH_ES","M-M20","VK_CLNTCH_ES",6775,"ES® Extended Scrub","CAD","311302"]
["M-M20VK_CLNTOL_PYP","M-M20","VK_CLNTOL_PYP","N/C","Poly Brush","CAD","311302"]
["M-M20VK_CLNTOL_SAB","M-M20","VK_CLNTOL_SAB",267,"Sup Abr Brush","CAD","311302"]
["M-M20VK_OPRVID","M-M20","VK_OPRVID","N/C","Operator Video","CAD","311302"]
["M-M20VK_OVHGRD","M-M20","VK_OVHGRD",2377,"Overhead Guard","CAD","311302"]
["M-M20VK_PKG_CRT","M-M20","VK_PKG_CRT","N/C","Crate","CAD","311302"]
["M-M20VK_PKG_SKD","M-M20","VK_PKG_SKD","N/C","Skid","CAD","311302"]
["M-M20VK_PWRVACWND_VACWND","M-M20","VK_PWRVACWND_VACWND",1332,"Vacuum Wand","CAD","311302"]
["M-M30VK_TRM_PPAN","M-M30","VK_TRM_PPAN",3996,"ProPanel Ctrls","CAD","311402"]
["M-M30VK_SQEMAT_U","M-M30","VK_SQEMAT_U",1137,"Squeegee Urethane","CAD","311402"]
["M-M30VK_SDECLNTOL_PYP","M-M30","VK_SDECLNTOL_PYP","N/C","Side Poly Brush","CAD","311402"]
["M-M30VK_BASE_M30-GAS_STD","M-M30","VK_BASE_M30-GAS_STD",122399,"M30 GAS Std Config","CAD","311402"]
["M-M30VK_WRNLGTANDALM_AVST","M-M30","VK_WRNLGTANDALM_AVST",977,"AV BU AlrmStrobe Tnk","CAD","311402"]
["M-M30VK_PKG_SKD","M-M30","VK_PKG_SKD","N/C","Skid","CAD","311402"]
["M-M30VK_DTGMTG","M-M30","VK_DTGMTG",4332,"Detergent Metering","CAD","311402"]
["M-M30VK_CSM_SBT_KIT","M-M30","VK_CSM_SBT_KIT",2989,"Sunbelt Parts Kit","CAD","311402"]
["M-M30VK_WPFMNLPCH","M-M30","VK_WPFMNLPCH",261,"Weatherproof Manual Pouch","CAD","311402"]
["M-M30VK_CSMWCHHOKKIT","M-M30","VK_CSMWCHHOKKIT",1421,"Winch Hook Frame Kit","CAD","311402"]
["M-M30VK_CSMSELKITDRWLTH","M-M30","VK_CSMSELKITDRWLTH",1306,"Seal Kit w/Draw Latch","CAD","311402"]
["M-M30VK_CSMHEDLGTCVR","M-M30","VK_CSMHEDLGTCVR",324,"Head Light Cover","CAD","311402"]
["M-M30VK_CSMDWTSYS","M-M30","VK_CSMDWTSYS",4790,"Dewatering System","CAD","311402"]
["M-M30VK_BLULGT","M-M30","VK_BLULGT",1509,"Blue Light","CAD","311402"]
["M-M30VK_CSM_SBT_DCL","M-M30","VK_CSM_SBT_DCL",192,"Sunbelt Decal Kit","CAD","311402"]
["M-M30VK_MCHCOM_SBT","M-M30","VK_MCHCOM_SBT",1916,"IRIS Telemetry","CAD","311402"]
["M-M30VK_CLNTOL_SASB","M-M30","VK_CLNTOL_SASB",267,"Super Abrasive, Stiff Bristle","CAD","311402"]
["M-M30VK_SDECLNTOL_SAB","M-M30","VK_SDECLNTOL_SAB",267,"Side Sup Abr Brush","CAD","311402"]
["M-M30VK_BASE_M30-DSL_3A","M-M30","VK_BASE_M30-DSL_3A","N/C","M30 DSL 3A","CAD","311402"]
["M-M30VK_PKG_SKD_NO_CHG","M-M30","VK_PKG_SKD_NO_CHG","N/C","Skid","CAD","311402"]
["M-M30VK_PKG_PAD","M-M30","VK_PKG_PAD","N/C","Pad Wrap","CAD","311402"]
["M-M30VK_TRLTRTKIT","M-M30","VK_TRLTRTKIT",261,"Transport Kit","CAD","311402"]
["M-M30VK_BASE_M30-DSL_S5","M-M30","VK_BASE_M30-DSL_S5",149974,"M30 DSL S5","CAD","311402"]
["M-M30VK_BASE_M30-LPG_STD","M-M30","VK_BASE_M30-LPG_STD",122399,"M30 LPG Std Config","CAD","311402"]
["M-M30VK_BASE_M30-DSL_S5_STD","M-M30","VK_BASE_M30-DSL_S5_STD",149974,"M30 DSL s5 Std Config","CAD","311402"]
["M-M30VK_BASE_M30-DSL_3A_STD","M-M30","VK_BASE_M30-DSL_3A_STD",122399,"M30 DSL 3a Std Config","CAD","311402"]
["M-M30VK_WRNLGTANDALM_AVFO","M-M30","VK_WRNLGTANDALM_AVFO",977,"AV BU AlarmFlash OHG","CAD","311402"]
["M-M30VK_RERTRE_HT","M-M30","VK_RERTRE_HT",1157,"Trs Rear High Track","CAD","311402"]
["M-M30VK_CSMSLN_WPMP","M-M30","VK_CSMSLN_WPMP",258,"Weatherproof pouch","CAD","311402"]
["M-M30VK_CSMSLN_FSTTK","M-M30","VK_CSMSLN_FSTTK",2038,"Front/Side Tie Down","CAD","311402"]
["M-M30VK_CSMSLN_FCLK","M-M30","VK_CSMSLN_FCLK",868,"Front Cover Latch","CAD","311402"]
["M-M30VK_PWRVACWND_VACWND","M-M30","VK_PWRVACWND_VACWND",1332,"Vacuum Wand","CAD","311402"]
["M-M30VK_PKG_SKD_NC","M-M30","VK_PKG_SKD_NC","N/C","Skid","CAD","311402"]
["M-M30VK_DTG_SBD","M-M30","VK_DTG_SBD","N/C","Solvent Degreaser","CAD","311402"]
["M-M30VK_PRDPKG","M-M30","VK_PRDPKG",8373,"Productivity Package","CAD","311402"]
["M-M30VK_DATPKG_BSVC","M-M30","VK_DATPKG_BSVC","N/C","Data Pkg w/Service","CAD","311402"]
["M-M30VK_DATPKG_5YR","M-M30","VK_DATPKG_5YR",1953,"Data Package 5 Year","CAD","311402"]
["M-M30VK_DATPKG_3YR","M-M30","VK_DATPKG_3YR",1953,"Data Package 3 Year","CAD","311402"]
["M-M30VK_FREEXT","M-M30","VK_FREEXT",208,"Fire Extinguisher","CAD","311402"]
["M-M30VK_HGHPRSSPY","M-M30","VK_HGHPRSSPY",5636,"High Pressure Spray","CAD","311402"]
["M-M30VK_HVYDTYPRTPKG","M-M30","VK_HVYDTYPRTPKG",2956,"Hvy Duty Protect Pkg","CAD","311402"]
["M-M30VK_OPRVID","M-M30","VK_OPRVID","N/C","Operator Video","CAD","311402"]
["M-M30VK_OVHGRD","M-M30","VK_OVHGRD",2377,"Overhead Guard","CAD","311402"]
["M-M30VK_ADLOPRMNL_D","M-M30","VK_ADLOPRMNL_D",100,"Add Operator Manual","CAD","311402"]
["M-M30VK_CAB_SC","M-M30","VK_CAB_SC",10688,"Soft Cab","CAD","311402"]
["M-M30VK_CLNTCH_ECH2O","M-M30","VK_CLNTCH_ECH2O",7272,"ec-H2O™","CAD","311402"]
["M-M30VK_CLNTOL_HDPYP","M-M30","VK_CLNTOL_HDPYP","N/C","HD Poly Brush","CAD","311402"]
["M-M30VK_CLNTOL_PYP","M-M30","VK_CLNTOL_PYP","N/C","Poly Brush","CAD","311402"]
["M-M30VK_MCHCOM","M-M30","VK_MCHCOM",1916,"IRIS Telemetry","CAD","311402"]
["M-M30VK_TRMLVL_WOP","M-M30","VK_TRMLVL_WOP",1932,"ProPanel w/ WOC","CAD","311402"]
[{"$f":"B2249&C2249","v":"M-M30VK_BASE_M30-GAS"},"M-M30","VK_BASE_M30-GAS",122399,"M30 GAS","CAD","311402"]
["M-M30VK_BASE_M30-LPG","M-M30","VK_BASE_M30-LPG",122399,"M30 LPG","CAD","311402"]
["M-M30VK_CLMCTL_ACHP_GL","M-M30","VK_CLMCTL_ACHP_GL",11323,"Air Cond./Heater/Pre","CAD","311402"]
["M-M30VK_CLMCTL_ACHP_D","M-M30","VK_CLMCTL_ACHP_D",11323,"Air Cond./Heater/Pre","CAD","311402"]
["M-M30VK_WRNLGTANDALM_AVSO","M-M30","VK_WRNLGTANDALM_AVSO",977,"AV BU AlrmStrobe OHG","CAD","311402"]
["M-M30VK_ULERTG_G","M-M30","VK_ULERTG_G","N/C","UL® Type G","CAD","311402"]
["M-M30VK_SQEMAT_L","M-M30","VK_SQEMAT_L","N/C","Squeegee Linatex","CAD","311402"]
["M-M30VK_TRM_MPAN","M-M30","VK_TRM_MPAN","N/C","Membrane Ctrl Panel","CAD","311402"]
["M-M30VK_CSMSLN_SKDL","M-M30","VK_CSMSLN_SKDL",1306,"Seal Kit w/DrawLatch","CAD","311402"]
["M-M30VK_CSMSLN_HLC","M-M30","VK_CSMSLN_HLC",324,"Head Light Cover","CAD","311402"]
["M-M30VK_CSMSLN_DWS","M-M30","VK_CSMSLN_DWS",4790,"Dewatering System","CAD","311402"]
["M-M30VK_SDEBRSTYP_SWP","M-M30","VK_SDEBRSTYP_SWP",7219,"Side Brush Sweeper","CAD","311402"]
["M-M30VK_LPGTNK_E","M-M30","VK_LPGTNK_E","N/C","LPG Tank Empty","CAD","311402"]
["M-M30VK_ULERTG_LPS","M-M30","VK_ULERTG_LPS",6850,"UL® Type LPS","CAD","311402"]
["M-M30VK_HVYDTYSQEPRT","M-M30","VK_HVYDTYSQEPRT",1248,"Hvy Dty Sque Protect","CAD","311402"]
["M-M30VK_SPYNOZWTHHSE","M-M30","VK_SPYNOZWTHHSE",1699,"Spray Nozzel w/Hose","CAD","311402"]
["M-M30VK_UPG","M-M30","VK_UPG","N/C","UPG","CAD","311402"]
["M-M30VK_WRNLGTANDALM_AVFT","M-M30","VK_WRNLGTANDALM_AVFT",977,"AV BU AlarmFlash Tnk","CAD","311402"]
["M-M30VK_LPGTNK_F","M-M30","VK_LPGTNK_F","N/C","LPG Tank Full","CAD","311402"]
["M-M30VK_SRVMNL","M-M30","VK_SRVMNL",333,"Service Manual","CAD","311402"]
["M-M30VK_ADLOPRMNL","M-M30","VK_ADLOPRMNL",100,"Add Operator Manual","CAD","311402"]
["M-M30VK_WTY_STD","M-M30","VK_WTY_STD","N/C","Warranty STD","CAD","311402"]
["M-M30VK_SDECLNTOL_PYSB","M-M30","VK_SDECLNTOL_PYSB","N/C","Side Poly Sweep Brh","CAD","311402"]
["M-M30VK_SDEBRSTYP_SCB","M-M30","VK_SDEBRSTYP_SCB",7219,"Side Brush Scrubber","CAD","311402"]
["M-M30VK_ULERTG_D","M-M30","VK_ULERTG_D","N/C","UL® Type D","CAD","311402"]
["M-M30VK_ULERTG_LP","M-M30","VK_ULERTG_LP","N/C","UL® Type LP","CAD","311402"]
["M-M30VK_CLNTCH_ES","M-M30","VK_CLNTCH_ES",6775,"ES® Extended Scrub","CAD","311402"]
["M-1610VK_PKG_WSKD","M-1610","VK_PKG_WSKD","N/C","Skid w/Stretch Wrap","CAD","327003"]
["M-1610VK_CHG_WO","M-1610","VK_CHG_WO",-1006,"Without Charger","CAD","327003"]
["M-1610VK_CHG_19A120V5060H1","M-1610","VK_CHG_19A120V5060H1","N/C","Ch19A 120V 5060H1","CAD","327003"]
["M-1610VK_BTY_WO","M-1610","VK_BTY_WO",-1333,"Without Battery","CAD","327003"]
["M-1610VK_BTY_A200C20","M-1610","VK_BTY_A200C20",745,"Bty AGM 200AH C20","CAD","327003"]
["M-1610VK_ADLOPRMNL","M-1610","VK_ADLOPRMNL",65,"Add Operator Manual","CAD","327003"]
["M-1610VK_BASE_1610","M-1610","VK_BASE_1610",26221,"1610 ReadySpace","CAD","327003"]
["M-1610VK_PARMNL","M-1610","VK_PARMNL",27,"Parts Manual","CAD","327003"]
["M-1610VK_PKG_SSKD","M-1610","VK_PKG_SSKD","N/C","Stack Skid/Carton","CAD","327003"]
["M-1610VK_BTY_W240C20","M-1610","VK_BTY_W240C20","N/C","Bty Wet 240AH C20","CAD","327003"]
["M-STRIVEVK_BASE_STRIVE-560","M-STRIVE","VK_BASE_STRIVE-560",26221,"Strive 560/22","CAD","327004"]
["M-STRIVEVK_OPRMNL","M-STRIVE","VK_OPRMNL","N/C","Oper Manual","CAD","327004"]
["M-STRIVEVK_ADLOPRMNL","M-STRIVE","VK_ADLOPRMNL",65,"Add Operator Manual","CAD","327004"]
["M-STRIVEVK_BTY_W240C20","M-STRIVE","VK_BTY_W240C20","N/C","Bty Wet 240AH C20","CAD","327004"]
["M-STRIVEVK_BTY_WO","M-STRIVE","VK_BTY_WO",-1333,"Without Battery","CAD","327004"]
["M-STRIVEVK_CHG_19A100V5060H1","M-STRIVE","VK_CHG_19A100V5060H1","N/C","Ch19A 100V 5060H1P","CAD","327004"]
["M-STRIVEVK_CHG_WO","M-STRIVE","VK_CHG_WO",-1004,"Without Charger","CAD","327004"]
["M-STRIVEVK_PKG_WSKD","M-STRIVE","VK_PKG_WSKD","N/C","Skid w/Stretch Wrap","CAD","327004"]
["M-STRIVEVK_PARMNL","M-STRIVE","VK_PARMNL",27,"Parts Manual","CAD","327004"]
["M-STRIVEVK_PKG_SSKD","M-STRIVE","VK_PKG_SSKD","N/C","Stack Skid/Carton","CAD","327004"]
["M-STRIVEVK_BTY_A200C20","M-STRIVE","VK_BTY_A200C20",745,"Bty AGM 200AH C20","CAD","327004"]
["M-R14VK_ADLOPRMNL","M-R14","VK_ADLOPRMNL",224,"Add Operator Manual","CAD","327005"]
["M-R14VK_BTYWTRSYS","M-R14","VK_BTYWTRSYS",818,"Battery Watering Sys","CAD","327005"]
["M-R14VK_PKG_SCNS","M-R14","VK_PKG_SCNS","N/C","NonStack Skid/Carton","CAD","327005"]
["M-R14VK_SETBLT","M-R14","VK_SETBLT",126,"Seat Belt","CAD","327005"]
["M-R14VK_BASE_R14-700","M-R14","VK_BASE_R14-700",37776,"R14 700/28","CAD","327005"]
["M-R14VK_CHG_25A100V5060H1","M-R14","VK_CHG_25A100V5060H1","N/C","Ch25A 100V 5060H1P","CAD","327005"]
["M-R14VK_PARMNL","M-R14","VK_PARMNL",27,"Parts Manual","CAD","327005"]
["M-R14VK_SRVMNL","M-R14","VK_SRVMNL","N/C","Service Manual","CAD","327005"]
["M-R14VK_BTY_W360C20","M-R14","VK_BTY_W360C20","N/C","Bty Wet 360AH C20","CAD","327005"]
["M-R14VK_WRNLGTANDALM_ST","M-R14","VK_WRNLGTANDALM_ST",1028,"Strobe Light Tank","CAD","327005"]
["M-R14VK_BTY_WO","M-R14","VK_BTY_WO",-922,"Without Battery","CAD","327005"]
["M-R14VK_CHG_WO","M-R14","VK_CHG_WO",-525,"Without Charger","CAD","327005"]
["M-R14VK_PKG_WSKD","M-R14","VK_PKG_WSKD","N/C","Skid w/Stretch Wrap","CAD","327005"]
["M-R14VK_UTLBSK","M-R14","VK_UTLBSK",323,"Utility Basket","CAD","327005"]
["M-STRIVERIDERVK_PKG_SCNS_NC","M-STRIVERIDER","VK_PKG_SCNS_NC",458,"NonStack Skid/Carton","CAD","327006"]
["M-STRIVERIDERVK_BTYWTRSYS","M-STRIVERIDER","VK_BTYWTRSYS",818,"Battery Watering Sys","CAD","327006"]
[{"$f":"B2313&C2313","v":"M-STRIVERIDERVK_PKG_SCNS_NO_CHG"},"M-STRIVERIDER","VK_PKG_SCNS_NO_CHG","N/C","NonStack Skid/Carton","CAD","327006"]
["M-STRIVERIDERVK_PKG_WSKD_NO_CHG","M-STRIVERIDER","VK_PKG_WSKD_NO_CHG","N/C","Skid w/Stretch Wrap","CAD","327006"]
["M-STRIVERIDERVK_SETBLT","M-STRIVERIDER","VK_SETBLT",126,"Seat Belt","CAD","327006"]
["M-STRIVERIDERVK_ADLOPRMNL","M-STRIVERIDER","VK_ADLOPRMNL",222,"Add Operator Manual","CAD","327006"]
["M-STRIVERIDERVK_BTY_W360C20","M-STRIVERIDER","VK_BTY_W360C20","N/C","Bty Wet 360AH C20","CAD","327006"]
["M-STRIVERIDERVK_BTY_WO","M-STRIVERIDER","VK_BTY_WO",-922,"Without Battery","CAD","327006"]
["M-STRIVERIDERVK_PARMNL","M-STRIVERIDER","VK_PARMNL",27,"Parts Manual","CAD","327006"]
["M-STRIVERIDERVK_WRNLGTANDALM_ST","M-STRIVERIDER","VK_WRNLGTANDALM_ST",1028,"Strobe Light Tank","CAD","327006"]
["M-STRIVERIDERVK_BASE_STRIVERIDER","M-STRIVERIDER","VK_BASE_STRIVERIDER",37776,"Strive Rider","CAD","327006"]
["M-STRIVERIDERVK_CHG_30A120V5060H1","M-STRIVERIDER","VK_CHG_30A120V5060H1","N/C","Ch30A 120V 5060H1P","CAD","327006"]
["M-STRIVERIDERVK_CHG_25A100V5060H1","M-STRIVERIDER","VK_CHG_25A100V5060H1","N/C","Ch25A 100V 5060H1P","CAD","327006"]
["M-STRIVERIDERVK_CHG_WO","M-STRIVERIDER","VK_CHG_WO",-525,"Without Charger","CAD","327006"]
["M-STRIVERIDERVK_OPRMNL","M-STRIVERIDER","VK_OPRMNL","N/C","Oper Manual","CAD","327006"]
["M-STRIVERIDERVK_PKG_SCNS","M-STRIVERIDER","VK_PKG_SCNS","N/C","NonStack Skid/Carton","CAD","327006"]
["M-STRIVERIDERVK_PKG_WSKD","M-STRIVERIDER","VK_PKG_WSKD","N/C","Skid w/Stretch Wrap","CAD","327006"]
["M-STRIVERIDERVK_SRVMNL","M-STRIVERIDER","VK_SRVMNL","N/C","Service Manual","CAD","327006"]
["M-STRIVERIDERVK_UTLBSK","M-STRIVERIDER","VK_UTLBSK",323,"Utility Basket","CAD","327006"]
["M-B5VK_PKG_PAD","M-B5","VK_PKG_PAD","N/C","Pad Wrap","CAD","333010"]
["M-B5VK_CHG_WO","M-B5","VK_CHG_WO",-483,"Without Charger","CAD","333010"]
["M-B5VK_CHG_25A85V5060H1P_ON","M-B5","VK_CHG_25A85V5060H1P_ON","N/C","Ch25A 85V 5060Hz On","CAD","333010"]
["M-B5VK_CHG_25A85V5060H1P_AGM","M-B5","VK_CHG_25A85V5060H1P_AGM","N/C","Ch25A 85V 5060H1P","CAD","333010"]
["M-B5VK_BTY_WO","M-B5","VK_BTY_WO",-520,"Without Battery","CAD","333010"]
["M-B5VK_BTY_W225C20_NC","M-B5","VK_BTY_W225C20_NC","N/C","Bty Wet 225AH C20","CAD","333010"]
["M-B5VK_BTY_W225C20","M-B5","VK_BTY_W225C20",578,"Bty Wet 225AH C20","CAD","333010"]
["M-B5VK_BTY_A234C20","M-B5","VK_BTY_A234C20",3703,"Bty AGM 234AH C20","CAD","333010"]
["M-B5VK_BTY_A140C20","M-B5","VK_BTY_A140C20",2984,"Bty AGM 140AH C20","CAD","333010"]
["M-B5VK_BTYWTRSYS","M-B5","VK_BTYWTRSYS",1115,"Battery Watering Sys","CAD","333010"]
["M-B5VK_BASE_B5-510","M-B5","VK_BASE_B5-510",15366,"B5-510","CAD","333010"]
["M-B5VK_ADLOPRMNL","M-B5","VK_ADLOPRMNL",66,"Add Operator Manual","CAD","333010"]
["M-B5VK_SRVMNL","M-B5","VK_SRVMNL",294,"Service Manual","CAD","333010"]
["M-B5VK_PKG_WSKD","M-B5","VK_PKG_WSKD","N/C","Skid w/Stretch Wrap","CAD","333010"]
["M-B5VK_PARMNL","M-B5","VK_PARMNL",28,"Parts Manual","CAD","333010"]
["M-B5VK_DWNPRS_MEC_NC","M-B5","VK_DWNPRS_MEC_NC","N/C","Mech Down Pressure","CAD","333010"]
["M-B5VK_DWNPRS_MEC","M-B5","VK_DWNPRS_MEC",-658,"Mech Down Pressure","CAD","333010"]
["M-B5VK_DSTCTLSYS_PAS","M-B5","VK_DSTCTLSYS_PAS",-580,"Passive Dust Control","CAD","333010"]
["M-B5VK_DSTCTLFLR_PFB","M-B5","VK_DSTCTLFLR_PFB","N/C","Paper Filter Bag","CAD","333010"]
["M-B5VK_DSTCTLFLR_DFLTB","M-B5","VK_DSTCTLFLR_DFLTB",64,"Dust Filter Bag","CAD","333010"]
["M-B5VK_CLNDRT_PBA","M-B5","VK_CLNDRT_PBA","N/C","Pad / Brush Assist","CAD","333010"]
["M-B5VK_MCHCOM","M-B5","VK_MCHCOM",1916,"IRIS Telemetry","CAD","333010"]
["M-B5VK_PKG_SSKD","M-B5","VK_PKG_SSKD","N/C","Stack Skid/Carton","CAD","333010"]
["M-B5VK_PRGBRK","M-B5","VK_PRGBRK",112,"Parking Brake","CAD","333010"]
["M-B5VK_DWNPRS_AUT","M-B5","VK_DWNPRS_AUT","N/C","Auto Down Pressure","CAD","333010"]
["M-B5VK_DSTCTLSYS_ACT","M-B5","VK_DSTCTLSYS_ACT","N/C","Active Dust Control","CAD","333010"]
["M-B5VK_CLNDRT_SP","M-B5","VK_CLNDRT_SP",4240,"Self Propel","CAD","333010"]
["M-B5VK_CHG_25A85V5060H1P_WET","M-B5","VK_CHG_25A85V5060H1P_WET","N/C","Ch25A 85V 5060H1P","CAD","333010"]
["M-B5VK_BTY_W185C20","M-B5","VK_BTY_W185C20","N/C","Bty Wet 185AH C20","CAD","333010"]
["M-B7VK_BTYWTRSYS","M-B7","VK_BTYWTRSYS",1115,"Battery Watering Sys","CAD","333011"]
["M-B7VK_ADLOPRMNL","M-B7","VK_ADLOPRMNL",66,"Add Operator Manual","CAD","333011"]
["M-B7VK_CHG_25A85V5060H1P_OFF","M-B7","VK_CHG_25A85V5060H1P_OFF","N/C","Ch25A 85V 5060Hz Off","CAD","333011"]
["M-B7VK_BTY_W360C20","M-B7","VK_BTY_W360C20",1432,"Bty Wet 360AH C20","CAD","333011"]
["M-B7VK_BTY_W330C20","M-B7","VK_BTY_W330C20",1189,"Bty Wet 330AH C20","CAD","333011"]
["M-B7VK_BTY_W240C20","M-B7","VK_BTY_W240C20",1072,"Bty Wet 240AH C20","CAD","333011"]
["M-B7VK_BTY_A312C20","M-B7","VK_BTY_A312C20",4763,"Bty AGM 312AH C20","CAD","333011"]
["M-B7VK_PKG_PAD","M-B7","VK_PKG_PAD","N/C","Pad Wrap","CAD","333011"]
["M-B7VK_MCHCOM","M-B7","VK_MCHCOM",1916,"IRIS Telemetry","CAD","333011"]
["M-B7VK_PARMNL","M-B7","VK_PARMNL",28,"Parts Manual","CAD","333011"]
["M-B7VK_BASE_B7-690","M-B7","VK_BASE_B7-690",22228,"B7-690","CAD","333011"]
["M-B7VK_BASE_B7-610","M-B7","VK_BASE_B7-610",20238,"B7-610","CAD","333011"]
["M-B7VK_CHG_25A85V5060H1P_ON","M-B7","VK_CHG_25A85V5060H1P_ON","N/C","Ch25A 85V 5060Hz On","CAD","333011"]
["M-B7VK_BTY_WO","M-B7","VK_BTY_WO","N/C","Without Battery","CAD","333011"]
["M-B7VK_SRVMNL","M-B7","VK_SRVMNL",294,"Service Manual","CAD","333011"]
["M-B7VK_PRGBRK","M-B7","VK_PRGBRK",112,"Parking Brake","CAD","333011"]
["M-B7VK_PKG_WSKD","M-B7","VK_PKG_WSKD","N/C","Skid w/Stretch Wrap","CAD","333011"]
["M-B7VK_PKG_SSKD","M-B7","VK_PKG_SSKD","N/C","Stack Skid/Carton","CAD","333011"]
[{"$f":"B2377&C2377","v":"M-B7VK_DWNPRS_MEC"},"M-B7","VK_DWNPRS_MEC",-658,"Mech Down Pressure","CAD","333011"]
["M-B7VK_DWNPRS_AUT","M-B7","VK_DWNPRS_AUT","N/C","Auto Down Pressure","CAD","333011"]
["M-B7VK_DSTCTLSYS_PAS","M-B7","VK_DSTCTLSYS_PAS",-580,"Passive Dust Control","CAD","333011"]
["M-B7VK_DSTCTLSYS_ACT","M-B7","VK_DSTCTLSYS_ACT","N/C","Active Dust Control","CAD","333011"]
["M-B7VK_DSTCTLFLR_PFB","M-B7","VK_DSTCTLFLR_PFB","N/C","Paper Filter Bag","CAD","333011"]
["M-B7VK_DSTCTLFLR_DFLTB","M-B7","VK_DSTCTLFLR_DFLTB",64,"Dust Filter Bag","CAD","333011"]
["M-B7VK_CHG_WO","M-B7","VK_CHG_WO",-483,"Without Charger","CAD","333011"]
["M-SG5VK_PKG_PAD","M-SG5","VK_PKG_PAD","N/C","Pad Wrap","CAD","333012"]
["M-SG5VK_MCHCOM","M-SG5","VK_MCHCOM",1916,"IRIS Telemetry","CAD","333012"]
["M-SG5VK_CLNDRT_SP","M-SG5","VK_CLNDRT_SP",3382,"Self Propel","CAD","333012"]
["M-SG5VK_CLNDRT_PBA","M-SG5","VK_CLNDRT_PBA","N/C","Pad / Brush Assist","CAD","333012"]
["M-SG5VK_BTY_WO","M-SG5","VK_BTY_WO",-520,"Without Battery","CAD","333012"]
["M-SG5VK_BTY_W225C20_NC","M-SG5","VK_BTY_W225C20_NC","N/C","Bty Wet 225AH C20","CAD","333012"]
["M-SG5VK_BTY_W225C20","M-SG5","VK_BTY_W225C20",578,"Bty Wet 225AH C20","CAD","333012"]
["M-SG5VK_BTY_W185C20","M-SG5","VK_BTY_W185C20","N/C","Bty Wet 185AH C20","CAD","333012"]
["M-SG5VK_BTY_A234C20","M-SG5","VK_BTY_A234C20",3703,"Bty AGM 234AH C20","CAD","333012"]
["M-SG5VK_BASE_SG5-510","M-SG5","VK_BASE_SG5-510",14618,"SG5-510","CAD","333012"]
["M-SG5VK_ADLOPRMNL","M-SG5","VK_ADLOPRMNL",66,"Add Operator Manual","CAD","333012"]
["M-SG5VK_SRVMNL","M-SG5","VK_SRVMNL",294,"Service Manual","CAD","333012"]
["M-SG5VK_PKG_WSKD","M-SG5","VK_PKG_WSKD","N/C","Skid w/Stretch Wrap","CAD","333012"]
["M-SG5VK_PKG_SSKD","M-SG5","VK_PKG_SSKD","N/C","Stack Skid/Carton","CAD","333012"]
["M-SG5VK_DWNPRS_MEC","M-SG5","VK_DWNPRS_MEC","N/C","Mech Down Pressure","CAD","333012"]
["M-SG5VK_DWNPRS_AUT","M-SG5","VK_DWNPRS_AUT",886,"Auto Down Pressure","CAD","333012"]
["M-SG5VK_DSTCTLSYS_PAS","M-SG5","VK_DSTCTLSYS_PAS","N/C","Passive Dust Control","CAD","333012"]
["M-SG5VK_DSTCTLFLR_PFB","M-SG5","VK_DSTCTLFLR_PFB","N/C","Paper Filter Bag","CAD","333012"]
["M-SG5VK_DSTCTLFLR_DFLTB","M-SG5","VK_DSTCTLFLR_DFLTB",64,"Dust Filter Bag","CAD","333012"]
["M-SG5VK_PARMNL","M-SG5","VK_PARMNL",27,"Parts Manual","CAD","333012"]
["M-SG5VK_BTYWTRSYS","M-SG5","VK_BTYWTRSYS",1115,"Battery Watering Sys","CAD","333012"]
["M-SG5VK_CHG_WO","M-SG5","VK_CHG_WO",-483,"Without Charger","CAD","333012"]
["M-SG5VK_DSTCTLSYS_ACT","M-SG5","VK_DSTCTLSYS_ACT",762,"Active Dust Control","CAD","333012"]
["M-SG5VK_PRGBRK","M-SG5","VK_PRGBRK",111,"Parking Brake","CAD","333012"]
["M-SG7VK_PKG_WSKD","M-SG7","VK_PKG_WSKD","N/C","Skid w/Stretch Wrap","CAD","333013"]
["M-SG7VK_PKG_PAD","M-SG7","VK_PKG_PAD","N/C","Pad Wrap","CAD","333013"]
["M-SG7VK_DSTCTLFLR_DFLTB","M-SG7","VK_DSTCTLFLR_DFLTB",64,"Dust Filter Bag","CAD","333013"]
["M-SG7VK_CHG_WO","M-SG7","VK_CHG_WO",-483,"Without Charger","CAD","333013"]
["M-SG7VK_BTY_WO","M-SG7","VK_BTY_WO","N/C","Without Battery","CAD","333013"]
["M-SG7VK_BTY_W330C20","M-SG7","VK_BTY_W330C20",1189,"Bty Wet 330AH C20","CAD","333013"]
["M-SG7VK_BTY_W240C20","M-SG7","VK_BTY_W240C20",1072,"Bty Wet 240AH C20","CAD","333013"]
["M-SG7VK_BTYWTRSYS","M-SG7","VK_BTYWTRSYS",1115,"Battery Watering Sys","CAD","333013"]
["M-SG7VK_BASE_SG7-BTY-690","M-SG7","VK_BASE_SG7-BTY-690",20628,"SG7-B-690","CAD","333013"]
["M-SG7VK_BASE_SG7-BTY-610","M-SG7","VK_BASE_SG7-BTY-610",18636,"SG7-B-610","CAD","333013"]
["M-SG7VK_ADLOPRMNL","M-SG7","VK_ADLOPRMNL",66,"Add Operator Manual","CAD","333013"]
["M-SG7VK_SRVMNL","M-SG7","VK_SRVMNL",294,"Service Manual","CAD","333013"]
["M-SG7VK_PRGBRK","M-SG7","VK_PRGBRK",112,"Parking Brake","CAD","333013"]
["M-SG7VK_PKG_SSKD","M-SG7","VK_PKG_SSKD","N/C","Stack Skid/Carton","CAD","333013"]
["M-SG7VK_DWNPRS_MEC","M-SG7","VK_DWNPRS_MEC","N/C","Mech Down Pressure","CAD","333013"]
["M-SG7VK_DWNPRS_AUT","M-SG7","VK_DWNPRS_AUT",865,"Auto Down Pressure","CAD","333013"]
["M-SG7VK_DSTCTLSYS_PAS","M-SG7","VK_DSTCTLSYS_PAS","N/C","Passive Dust Control","CAD","333013"]
["M-SG7VK_DSTCTLFLR_PFB","M-SG7","VK_DSTCTLFLR_PFB","N/C","Paper Filter Bag","CAD","333013"]
["M-SG7VK_MCHCOM","M-SG7","VK_MCHCOM",1916,"IRIS Telemetry","CAD","333013"]
["M-SG7VK_PARMNL","M-SG7","VK_PARMNL",27,"Parts Manual","CAD","333013"]
["M-SG7VK_BTY_A312C20","M-SG7","VK_BTY_A312C20",4763,"Bty AGM 312AH C20","CAD","333013"]
["M-SG7VK_BTY_W360C20","M-SG7","VK_BTY_W360C20",1432,"Bty Wet 360AH C20","CAD","333013"]
["M-SG7VK_DSTCTLSYS_ACT","M-SG7","VK_DSTCTLSYS_ACT",762,"Active Dust Control","CAD","333013"]
["M-B10VK_ADLOPRMNL","M-B10","VK_ADLOPRMNL",225,"Add Operator Manual","CAD","334002"]
["M-B10VK_BTYWTRSYS","M-B10","VK_BTYWTRSYS",1115,"Battery Watering Sys","CAD","334002"]
["M-B10VK_BTY_W435C20","M-B10","VK_BTY_W435C20","N/C","Bty Wet 435AH C20","CAD","334002"]
["M-B10VK_BTY_WO","M-B10","VK_BTY_WO",-1063,"Without Battery","CAD","334002"]
["M-B10VK_CHG_25A120A5060H1_ON","M-B10","VK_CHG_25A120A5060H1_ON","N/C","Ch25A 120V 5060Hz On","CAD","334002"]
["M-B10VK_PARMNL","M-B10","VK_PARMNL",28,"Parts Manual","CAD","334002"]
["M-B10VK_PKG_SCNS","M-B10","VK_PKG_SCNS","N/C","NonStack Skid/Carton","CAD","334002"]
["M-B10VK_PKG_WSKD","M-B10","VK_PKG_WSKD","N/C","Skid w/Stretch Wrap","CAD","334002"]
["M-B10VK_SRVMNL","M-B10","VK_SRVMNL",294,"Service Manual","CAD","334002"]
["M-B10VK_WRNLGTANDALM_ST","M-B10","VK_WRNLGTANDALM_ST",1042,"Strobe Light Tank","CAD","334002"]
[{"$f":"B2441&C2441","v":"M-B10VK_PKG_SCNS_NC"},"M-B10","VK_PKG_SCNS_NC","N/C","NonStack Skid/Carton","CAD","334002"]
["M-B10VK_BASE_B10-690","M-B10","VK_BASE_B10-690",42995,"B10-690","CAD","334002"]
["M-B10VK_BASE_B10-610","M-B10","VK_BASE_B10-610",41824,"B10-610","CAD","334002"]
["M-B10VK_BTY_A390C20","M-B10","VK_BTY_A390C20",1690,"Bty AGM 390AH C20","CAD","334002"]
["M-B10VK_CHG_25A120A5060H1_OFF","M-B10","VK_CHG_25A120A5060H1_OFF",846,"Ch25A 120V 5060H Off","CAD","334002"]
["M-B10VK_CHG_WO","M-B10","VK_CHG_WO",-322,"Without Charger","CAD","334002"]
["M-B10VK_WLLPROROL","M-B10","VK_WLLPROROL",395,"Wall Protect Rollers","CAD","334002"]
["M-SGRVK_WRNLGTANDALM_ST","M-SGR","VK_WRNLGTANDALM_ST",1042,"Strobe Light Tank","CAD","334003"]
["M-SGRVK_SGR-690","M-SGR","VK_SGR-690",39777,"SGR 690/27","CAD","334003"]
["M-SGRVK_WRNLGTALM_ST","M-SGR","VK_WRNLGTALM_ST",1042,"Strobe Light Tank","CAD","334003"]
["M-SGRVK_SGR-610","M-SGR","VK_SGR-610",38662,"SGR 610/24","CAD","334003"]
["M-SGRVK_PARMNL","M-SGR","VK_PARMNL",27,"Parts Manual","CAD","334003"]
["M-SGRVK_BASE_SGR-690","M-SGR","VK_BASE_SGR-690",41765,"SGR 690/27","CAD","334003"]
["M-SGRVK_BASE_SGR-610","M-SGR","VK_BASE_SGR-610",40594,"SGR 610/24","CAD","334003"]
["M-SGRVK_ADLOPRMNL","M-SGR","VK_ADLOPRMNL",225,"Add Operator Manual","CAD","334003"]
["M-SGRVK_BTYWTRSYS","M-SGR","VK_BTYWTRSYS",1115,"Battery Watering Sys","CAD","334003"]
["M-SGRVK_BTY_A390C20","M-SGR","VK_BTY_A390C20",1690,"Bty AGM 390AH C20","CAD","334003"]
["M-SGRVK_BTY_W435C20","M-SGR","VK_BTY_W435C20","N/C","Bty Wet 435AH C20","CAD","334003"]
["M-SGRVK_BTY_WO","M-SGR","VK_BTY_WO",-1063,"Without Battery","CAD","334003"]
["M-SGRVK_CHG_25A120A5060H1_OFF","M-SGR","VK_CHG_25A120A5060H1_OFF",846,"Ch25A 120V 5060H Off","CAD","334003"]
["M-SGRVK_CHG_25A120A5060H1_ON","M-SGR","VK_CHG_25A120A5060H1_ON","N/C","Ch25A 120V 5060Hz On","CAD","334003"]
["M-SGRVK_CHG_WO","M-SGR","VK_CHG_WO",-322,"Without Charger","CAD","334003"]
["M-SGRVK_DSTCTLSYS_ACT","M-SGR","VK_DSTCTLSYS_ACT",1232,"Active Dust Control","CAD","334003"]
["M-SGRVK_DSTCTLSYS_PAS","M-SGR","VK_DSTCTLSYS_PAS","N/C","Passive Dust Control","CAD","334003"]
["M-SGRVK_OPRMNL","M-SGR","VK_OPRMNL","N/C","Oper Manual","CAD","334003"]
["M-SGRVK_PKG_SCNS","M-SGR","VK_PKG_SCNS","N/C","NonStack Skid/Carton","CAD","334003"]
["M-SGRVK_PKG_WSKD","M-SGR","VK_PKG_WSKD","N/C","Skid w/Stretch Wrap","CAD","334003"]
["M-SGRVK_SRVMNL","M-SGR","VK_SRVMNL",294,"Service Manual","CAD","334003"]
["M-SGRVK_WLLPROROL","M-SGR","VK_WLLPROROL",395,"Wall Protect Rollers","CAD","334003"]
["M-T300eVK_TRMLVL_TRD","M-T300e","VK_TRMLVL_TRD",486]

{"sheet":"T600e","index":35,"n_rows":368,"n_cols":16,"rows_kept":368,"cut":false,"hidden":false,"merged":[[0,2,0,3],[1,2,1,3],[2,2,2,3],[3,2,3,3],[11,1,11,5],[46,1,46,5],[47,1,47,5],[182,3,182,4],[182,5,182,6],[45,1,45,5],[41,1,41,5],[42,1,42,5],[43,1,43,5],[44,1,44,5],[205,3,205,4],[205,5,205,6],[206,3,206,4],[206,5,206,6],[184,3,184,4],[184,5,184,6],[197,4,197,8],[199,3,199,6],[201,3,201,4],[202,3,202,4],[204,3,204,4],[204,5,204,6],[351,2,351,4],[351,6,351,8],[247,0,247,1],[247,2,247,5],[248,2,248,5],[249,0,249,1],[249,2,249,5],[250,0,250,1],[250,2,250,5],[252,4,252,6],[254,2,254,5],[255,2,255,5],[256,2,256,5],[265,4,265,5],[246,0,246,1],[246,2,246,5],[219,2,219,6],[238,4,238,6],[240,0,240,1],[240,2,240,5],[242,2,242,5],[243,0,243,1],[243,2,243,5],[244,0,244,1],[244,2,244,5],[241,0,241,1],[241,2,241,5],[210,3,210,4],[210,5,210,6],[207,3,207,4],[207,5,207,6],[208,3,208,4],[208,5,208,6],[209,3,209,4],[209,5,209,6]]}
["T600e",null,{"$f":"Start_Here!$C19","v":"Company Name"}]
[{"$f":"SUM(G177)","v":0},null,{"$f":"Start_Here!$C20","v":"Address"}]
[null,null,{"$f":"Start_Here!$C21","v":"City, State Zip"}]
[null,null,{"$f":"Start_Here!$C22","v":"Contact Name"}]
[null,null,{"$f":"Start_Here!$C$41","v":"Rep Name"}]
[null,null,{"$f":"Start_Here!$C$37","v":"Tennant Sales and Service Company"}]
[null,null,{"$f":"Start_Here!$C$38","v":"10400 Clean Street"}]
[null,null,{"$f":"Start_Here!$C$39","v":"Eden Prairie, MN 55344"}]
[null,null,{"$f":"Start_Here!$C$43","v":"800-553-8033"},null,"Quote Date :",null,{"$f":"Letter!$A$25","v":"2014-10-02"}]
[]
[null,null,{"$f":"Help!C2","v":"CAN Date Rev - 5/6/2025"}]
[null,"BUILT-IN \"TENNANT VALUE\" INCLUDES:"]
[]
[null,"121L/32 gal Solution Tank  & 37 L/140 gal Recovery Tank",null,"Cast Aluminum Squeegee & Scrub Deck (Disk, Cylindrical)"]
[null,"Rugged Duramer™ Rotomold Tank Construction",null,"Automatic: Water On / Off"]
[null,"Fully Sprayable Hygienic® Recovery Tank",null,null,"      Brush On / Off"]
[null,"Two Down Pressure Settings- up to 200 lbs/90 kg ",null,null,"      Brush Shutoff at 80% Discharge"]
[null,"Adjustable Solution Flow",null,"Linatex/Linard Squeegee Blades with Tool-less Replacement"]
[null,"Variable Speed Control Knob",null,"Emergency Stop "]
[null,"Membrane Control Panel ",null,"Free Floating Head Skirt (disk machines)"]
[null,"Supervisor Limiting Controls (Lock Out Feature)",null,"Fill Port w/ Hose Fins"]
[null,"On Board Diagnostics",null,"Auto Fill for Solution Tank (option)"]
[null,"Standard Low Noise Level  (≤70 dBa)",null,"Integrated Heat Sink for Electronics Protection"]
[null,"Standard (6) 6v. 240AH battery pack",null,"Sealed Electrical Connectors"]
[null,"      (Optional  360AH batteries available)",null,"Anti-Static Strap"]
[null,"      (Optional Thin Plate Pure Lead batteries available)",null," 3/4 HP brush motor/ .56 kW (disk)"]
[null,"Smart-Fill™ Automatic Battery Watering (Option)",null,"200 RPM (disk) and 760 RPM (cylindrical) "]
[null,"Quick Release Battery Harness",null,"Recovery Tank Debris Tray"]
[null,"Standard Controlled Battery Compartment Drain",null,"Excellent Ergonomic Controls Design"]
[null,"On-board Charger with 3m/15 ft power cord",null,"Non-Marking Polyurethane Tires"]
[null,"Closed Machine Venting for Battery Charging",null,"Includes Standard Pad Drivers or Scrubbing Brushes (Select One)"]
[null,"Breakaway Squeegee Design",null,"Key Switch for Safety"]
[null,"Factory Set Squeegee Assembly for Maximum Recovery",null,"Hour Meter"]
[null,"Cast Aluminum Squeegee Frame",null,"Jacking Points/Shipping Tie Downs"]
[null,null,null,"Yellow Maintenance Touch Points"]
[null,"Optional ec-H2O NanoClean™ Equipped Models Include:",null,"Integrated Accessory Rails"]
[null,"Electrically Converted Water Technology System",null,"Drain hose with pinch cuff to control water flow"]
[null,"Two Scrubbing Modes: ec-H2O NanoCleanTM & Conventional Scrub"]
[]
[]
[]
[null,"TENNANT COMPANY WARRANTY"]
[null,"3 YEARS OR 2000 HOURS - PARTS"]
[null,"1 YEAR - BATTERY CHARGERS"]
[null,"2 YEARS - LABOR"]
[null,"6 MONTHS - TRAVEL"]
[null,"10 YEARS ON DURAMERTM ROTOMOLD TANKS"]
[]
[]
[null,null,null,null,"                Quote Request Information"]
[null,null,null,null,null,null,"Fax (quote only)"]
[null,null,null,null,null,null,"Mail (quote,lit, specs)"]
[null,null,null,null,null,null,"Fax + Mail"]
[]
[null,null,null,null,"                Primary Use"]
[null,null,null,null,null,null,"Inside"]
[null,null,null,null,null,null,"Outside"]
[]
[null,null,"Description","Reference #","Canada Price","Qty.","Extended Price"]
[null,null,"Cleaning Type",null,null,{"$f":"SUM(F61:F65)","v":0},null,{"$f":"IFERROR(IFERROR(VLOOKUP(D60,Surcharge!A:B,2,FALSE)*F60, VLOOKUP(D60 & \"\",Surcharge!A:B,2,FALSE)*F60), \"\")","v":""},null,null,null,{"$f":"SUM(F60)","v":0},"Surcharge Qty"]
[null,null,"T600e Walk-Behind Scrubber 700 mm / 28\" Disk","T600e-700D",27774,null,{"$f":"F61*E61","v":0},{"$f":"IFERROR(IFERROR(VLOOKUP(D61,Surcharge!A:B,2,FALSE)*F61, VLOOKUP(D61 & \"\",Surcharge!A:B,2,FALSE)*F61), \"\")","v":""},null,null,null,null,null,null,null,"M-T600eVK_BASE_T600E-700D"]
[null,null,"T600e Walk-Behind Scrubber 800 mm / 32\" Disk","T600e-800D",29003,null,0,{"$f":"IFERROR(IFERROR(VLOOKUP(D62,Surcharge!A:B,2,FALSE)*F62, VLOOKUP(D62 & \"\",Surcharge!A:B,2,FALSE)*F62), \"\")","v":""},null,null,null,{"$f":"SUM(F62)","v":0},"Surcharge Qty",null,null,"M-T600eVK_BASE_T600E-800D"]
[null,null,"T600e Walk-Behind Scrubber 900 mm / 36\" Disk","T600e-900D",31460,null,0,{"$f":"IFERROR(IFERROR(VLOOKUP(D63,Surcharge!A:B,2,FALSE)*F63, VLOOKUP(D63 & \"\",Surcharge!A:B,2,FALSE)*F63), \"\")","v":""},null,null,null,null,null,null,null,"M-T600eVK_BASE_T600E-900D"]
[null,null,"T600e Walk-Behind Scrubber 700 mm / 28\" Cylindrical","T600e-700C",30231,null,0,{"$f":"IFERROR(IFERROR(VLOOKUP(D64,Surcharge!A:B,2,FALSE)*F64, VLOOKUP(D64 & \"\",Surcharge!A:B,2,FALSE)*F64), \"\")","v":""},null,null,null,0,"Surcharge Qty",null,null,"M-T600eVK_BASE_T600E-700C"]
[null,null,"T600e Walk-Behind Scrubber 800 mm / 32\" Cylindrical","T600e-800C",31458,null,0,{"$f":"IFERROR(IFERROR(VLOOKUP(D65,Surcharge!A:B,2,FALSE)*F65, VLOOKUP(D65 & \"\",Surcharge!A:B,2,FALSE)*F65), \"\")","v":""},null,null,null,0,"Surcharge Qty",null,null,"M-T600eVK_BASE_T600E-800C"]
[null,null,null,null,null,null,null,{"$f":"IFERROR(IFERROR(VLOOKUP(D66,Surcharge!A:B,2,FALSE)*F66, VLOOKUP(D66 & \"\",Surcharge!A:B,2,FALSE)*F66), \"\")","v":""}]
[null,null,"Cleaning Technology: (conventional is standard,  ec-H2O NanoClean can also operate in conventional mode)",null,null,{"$f":"SUM(F68:F68)","v":0},null,{"$f":"IFERROR(IFERROR(VLOOKUP(D67,Surcharge!A:B,2,FALSE)*F67, VLOOKUP(D67 & \"\",Surcharge!A:B,2,FALSE)*F67), \"\")","v":""}]
[null,null,"ec-H2O NanoClean™","ec-H2O-T600e",4255,null,{"$f":"F68*E68","v":0},{"$f":"IFERROR(IFERROR(VLOOKUP(D68,Surcharge!A:B,2,FALSE)*F68, VLOOKUP(D68 & \"\",Surcharge!A:B,2,FALSE)*F68), \"\")","v":""},null,null,null,0,"Surcharge Qty",null,null,"M-T600eVK_CLNTCH_ECH2ON"]
[null,null,null,null,null,null,null,{"$f":"IFERROR(IFERROR(VLOOKUP(D69,Surcharge!A:B,2,FALSE)*F69, VLOOKUP(D69 & \"\",Surcharge!A:B,2,FALSE)*F69), \"\")","v":""},null,null,null,0,"Surcharge Qty"]
[null,null,"Squeegee Width  (Note 1)",null,null,{"$f":"SUM(F71:F72)","v":0},null,{"$f":"IFERROR(IFERROR(VLOOKUP(D70,Surcharge!A:B,2,FALSE)*F70, VLOOKUP(D70 & \"\",Surcharge!A:B,2,FALSE)*F70), \"\")","v":""},null,null,null,0,"Surcharge Qty"]
[null,null,"Standard","STD-T600e","N/C",null,{"$f":"IF(F71=0,\" \",\"N/C\")","v":" "},{"$f":"IFERROR(IFERROR(VLOOKUP(D71,Surcharge!A:B,2,FALSE)*F71, VLOOKUP(D71 & \"\",Surcharge!A:B,2,FALSE)*F71), \"\")","v":""},null,null,null,0,"Surcharge Qty",null,null,"M-T600eVK_SQEWDT_STD"]
[null,null,"Narrow Aisle","NR-T600e","N/C",null,{"$f":"IF(F72=0,\" \",\"N/C\")","v":" "},{"$f":"IFERROR(IFERROR(VLOOKUP(D72,Surcharge!A:B,2,FALSE)*F72, VLOOKUP(D72 & \"\",Surcharge!A:B,2,FALSE)*F72), \"\")","v":""},null,null,null,0,"Surcharge Qty",null,null,"M-T600e"]
[null,null,null,null,null,null,null,{"$f":"IFERROR(IFERROR(VLOOKUP(D73,Surcharge!A:B,2,FALSE)*F73, VLOOKUP(D73 & \"\",Surcharge!A:B,2,FALSE)*F73), \"\")","v":""},null,null,null,{"$f":"SUM(F73)","v":0},"Surcharge Qty"]
[null,null,"Battery Type  (Note 2)",null,null,{"$f":"SUM(F75:F81)","v":0},null,{"$f":"IFERROR(IFERROR(VLOOKUP(D74,Surcharge!A:B,2,FALSE)*F74, VLOOKUP(D74 & \"\",Surcharge!A:B,2,FALSE)*F74), \"\")","v":""}]
[null,null,"Wet 240AH C/20",9042056,"N/C",null,{"$f":"IF(F75=0,\" \",\"N/C\")","v":" "},{"$f":"IFERROR(IFERROR(VLOOKUP(D75,Surcharge!A:B,2,FALSE)*F75, VLOOKUP(D75 & \"\",Surcharge!A:B,2,FALSE)*F75), \"\")","v":""},null,null,null,{"$f":"SUM(F75)","v":0},"Surcharge Qty",null,null,"M-T600eVK_BTY_W240C20"]
[null,null,"Wet 360AH C/20",9042058,1091,null,{"$f":"F76*E76","v":0},{"$f":"IFERROR(IFERROR(VLOOKUP(D76,Surcharge!A:B,2,FALSE)*F76, VLOOKUP(D76 & \"\",Surcharge!A:B,2,FALSE)*F76), \"\")","v":""},null,null,null,null,null,null,null,"M-T600eVK_BTY_W360C20"]
[null,null,"Sealed/MF Fast Charge 210AH C/20 (TPPL Battery)  (Note 3)",9042061,3392,null,{"$f":"F77*E77","v":0},{"$f":"IFERROR(IFERROR(VLOOKUP(D77,Surcharge!A:B,2,FALSE)*F77, VLOOKUP(D77 & \"\",Surcharge!A:B,2,FALSE)*F77), \"\")","v":""},null,null,null,null,null,null,null,"M-T600eVK_BTY_F186C6"]
[null,null,"Without",9042062,-1050,null,{"$f":"F78*E78","v":0},{"$f":"IFERROR(IFERROR(VLOOKUP(D78,Surcharge!A:B,2,FALSE)*F78, VLOOKUP(D78 & \"\",Surcharge!A:B,2,FALSE)*F78), \"\")","v":""},null,null,null,null,null,null,null,"M-T600eVK_BTY_WO"]
[null,null,null,null," ",null,null,{"$f":"IFERROR(IFERROR(VLOOKUP(D79,Surcharge!A:B,2,FALSE)*F79, VLOOKUP(D79 & \"\",Surcharge!A:B,2,FALSE)*F79), \"\")","v":""},null,null,null,{"$f":"SUM(F79)","v":0},"Surcharge Qty",null,null,""]
[null,null,"Smart-Fill Automatic Battery Watering  (Note 4)",9042063,1650,null,{"$f":"F80*E80","v":0},{"$f":"IFERROR(IFERROR(VLOOKUP(D80,Surcharge!A:B,2,FALSE)*F80, VLOOKUP(D80 & \"\",Surcharge!A:B,2,FALSE)*F80), \"\")","v":""},null,null,null,null,null,null,null,"M-T600eVK_BTYWTRSYS_SF"]
[null,null,"Manual Battery Watering  (Note 4)",9042064,1065,null,{"$f":"F81*E81","v":0},{"$f":"IFERROR(IFERROR(VLOOKUP(D81,Surcharge!A:B,2,FALSE)*F81, VLOOKUP(D81 & \"\",Surcharge!A:B,2,FALSE)*F81), \"\")","v":""},null,null,null,0,"Surcharge Qty",null,null,"M-T600eVK_BTYWTRSYS_ML"]
[null,null,null,null,null,null,null,{"$f":"IFERROR(IFERROR(VLOOKUP(D82,Surcharge!A:B,2,FALSE)*F82, VLOOKUP(D82 & \"\",Surcharge!A:B,2,FALSE)*F82), \"\")","v":""},null,null,null,null,null,null,null,""]
[null,null,"Charger  (Note 5)",null,null,{"$f":"SUM(F84:F86)","v":0},null,{"$f":"IFERROR(IFERROR(VLOOKUP(D83,Surcharge!A:B,2,FALSE)*F83, VLOOKUP(D83 & \"\",Surcharge!A:B,2,FALSE)*F83), \"\")","v":""},null,null,null,0,"Surcharge Qty",null,null,""]
[null,null,"25A 100-240V AC 50/60Hz 1Ph - Off-Board Charger\n (for Wet / Lead Acid Batteries Only)",9042253,"N/C",null,{"$f":"IF(F84=0,\" \",\"N/C\")","v":" "},{"$f":"IFERROR(IFERROR(VLOOKUP(D84,Surcharge!A:B,2,FALSE)*F84, VLOOKUP(D84 & \"\",Surcharge!A:B,2,FALSE)*F84), \"\")","v":""},null,null,null,null,null,null,null,"M-T600eVK_CHG_25A100V5060H1_OFF"]
[null,null,"25A 100-240V AC 50/60Hz 1Ph - On-Board Charger (for Wet / Lead Acid Batteries Only)   (IRIS Battery Metric Compatible)",9042250,"N/C",null," ",{"$f":"IFERROR(IFERROR(VLOOKUP(D85,Surcharge!A:B,2,FALSE)*F85, VLOOKUP(D85 & \"\",Surcharge!A:B,2,FALSE)*F85), \"\")","v":""},null,null,null,0,"Surcharge Qty",null,null,"M-T600eVK_CHG_25A100V5060H1_ON"]
[null,null,"33A 100-240V AC 50/60Hz 1Ph - On-Board Charger (for Wet / Lead Acid Batteries Only) (Mandatory with 186AH TPPL Battery)",9042252,261,null,{"$f":"F86*E86","v":0},null,null,null,null,null,null,null,null,"M-T600eVK_CHG_33A100V5060H1P"]
[null,null,null,null,null,null,null,{"$f":"IFERROR(IFERROR(VLOOKUP(D87,Surcharge!A:B,2,FALSE)*F87, VLOOKUP(D87 & \"\",Surcharge!A:B,2,FALSE)*F87), \"\")","v":""},null,null,null,null,null,null,null,""]
[null,null,"UL/ETL Rating",null,null,{"$f":"SUM(F89)","v":0},null,{"$f":"IFERROR(IFERROR(VLOOKUP(D88,Surcharge!A:B,2,FALSE)*F88, VLOOKUP(D88 & \"\",Surcharge!A:B,2,FALSE)*F88), \"\")","v":""},null,null,null,0,"Surcharge Qty",null,null,""]
[null,null,"UL Type E  (Note 6)",null,"N/C",null,{"$f":"IF(F89=0,\" \",\"N/C\")","v":" "},{"$f":"IFERROR(IFERROR(VLOOKUP(D89,Surcharge!A:B,2,FALSE)*F89, VLOOKUP(D89 & \"\",Surcharge!A:B,2,FALSE)*F89), \"\")","v":""},null,null,null,0,"Surcharge Qty",null,null,"M-T600eVK_ULERTG_E"]
[null,null,null,null,null,null,null,{"$f":"IFERROR(IFERROR(VLOOKUP(D90,Surcharge!A:B,2,FALSE)*F90, VLOOKUP(D90 & \"\",Surcharge!A:B,2,FALSE)*F90), \"\")","v":""},null,null,null,0,"Surcharge Qty",null,null,""]
[null,"Cleaning Performance",null,null,null,{"$f":"SUM(F92)","v":0},null,{"$f":"IFERROR(IFERROR(VLOOKUP(D91,Surcharge!A:B,2,FALSE)*F91, VLOOKUP(D91 & \"\",Surcharge!A:B,2,FALSE)*F91), \"\")","v":""},null,null,null,0,"Surcharge Qty",null,null,""]
[null,null,"Auto Fill",9042169,311,null,{"$f":"F92*E92","v":0},{"$f":"IFERROR(IFERROR(VLOOKUP(D92,Surcharge!A:B,2,FALSE)*F92, VLOOKUP(D92 & \"\",Surcharge!A:B,2,FALSE)*F92), \"\")","v":""},null,null,null,{"$f":"SUM(F92)","v":0},"Surcharge Qty",null,null,"M-T600eVK_AUTFIL"]
[null,null,null,null,null,null,null,{"$f":"IFERROR(IFERROR(VLOOKUP(D93,Surcharge!A:B,2,FALSE)*F93, VLOOKUP(D93 & \"\",Surcharge!A:B,2,FALSE)*F93), \"\")","v":""}]
[null,"Machine Protection & Safety",null,null,null,{"$f":"SUM(F95:F98)","v":0},null,{"$f":"IFERROR(IFERROR(VLOOKUP(D94,Surcharge!A:B,2,FALSE)*F94, VLOOKUP(D94 & \"\",Surcharge!A:B,2,FALSE)*F94), \"\")","v":""}]
[null,null,"Black Foam Filled Rubber  (Non-Marking)",9042099,"N/C",null,{"$f":"IF(F95=0,\" \",\"N/C\")","v":" "},{"$f":"IFERROR(IFERROR(VLOOKUP(D95,Surcharge!A:B,2,FALSE)*F95, VLOOKUP(D95 & \"\",Surcharge!A:B,2,FALSE)*F95), \"\")","v":""},null,null,null,null,null,null,null,"M-T600eVK_NONMKTTRE_BFFR"]
[null,null,"Black Pneumatic Rubber  (Non-Marking)",9042071,"N/C",null," ",{"$f":"IFERROR(IFERROR(VLOOKUP(D96,Surcharge!A:B,2,FALSE)*F96, VLOOKUP(D96 & \"\",Surcharge!A:B,2,FALSE)*F96), \"\")","v":""},null,null,null,null,null,null,null,"M-T600eVK_NONMKTTRE_BPR"]
[null,null,"Parking Brake",9042068,272,null,{"$f":"F97*E97","v":0},{"$f":"IFERROR(IFERROR(VLOOKUP(D97,Surcharge!A:B,2,FALSE)*F97, VLOOKUP(D97 & \"\",Surcharge!A:B,2,FALSE)*F97), \"\")","v":""},null,null,null,null,null,null,null,"M-T600eVK_PRGBRK"]
[null,null,"Trailer Transport Kit",9042165,386,null,{"$f":"F98*E98","v":0},{"$f":"IFERROR(IFERROR(VLOOKUP(D98,Surcharge!A:B,2,FALSE)*F98, VLOOKUP(D98 & \"\",Surcharge!A:B,2,FALSE)*F98), \"\")","v":""},null,null,null,null,null,null,null,"M-T600eVK_TRLTRTKIT"]
[null,null,null,null,null,null,null,{"$f":"IFERROR(IFERROR(VLOOKUP(D99,Surcharge!A:B,2,FALSE)*F99, VLOOKUP(D99 & \"\",Surcharge!A:B,2,FALSE)*F99), \"\")","v":""}]
[null,"Brushes and Pads (Note 7)",null,"Reference Number",null,{"$f":"SUM(F101,F111,F122,F132,F137)","v":0},null,{"$f":"IFERROR(IFERROR(VLOOKUP(D100,Surcharge!A:B,2,FALSE)*F100, VLOOKUP(D100 & \"\",Surcharge!A:B,2,FALSE)*F100), \"\")","v":""}]
[null,null,"700mm/28\" Disk Scrubbing Brushes/Pads (2 Required - 14\" each)",null,null,{"$f":"SUM(F102:F109)","v":0},null,{"$f":"IFERROR(IFERROR(VLOOKUP(D101,Surcharge!A:B,2,FALSE)*F101, VLOOKUP(D101 & \"\",Surcharge!A:B,2,FALSE)*F101), \"\")","v":""}]
[null,null,"Polypropylene Brush",1234464,"N/C",null,{"$f":"IF(F102=0,\" \",\"N/C\")","v":" "},{"$f":"IFERROR(IFERROR(VLOOKUP(D102,Surcharge!A:B,2,FALSE)*F102, VLOOKUP(D102 & \"\",Surcharge!A:B,2,FALSE)*F102), \"\")","v":""},null,null,null,null,null,null,null,"M-T600eVK_CLNTOL_D700PYP"]
[null,null,"Nylon Brush",1234463,"N/C",null,{"$f":"IF(F103=0,\" \",\"N/C\")","v":" "},{"$f":"IFERROR(IFERROR(VLOOKUP(D103,Surcharge!A:B,2,FALSE)*F103, VLOOKUP(D103 & \"\",Surcharge!A:B,2,FALSE)*F103), \"\")","v":""},null,null,null,null,null,null,null,"M-T600eVK_CLNTOL_D700NYL"]
[null,null,null,null,null,null,null,{"$f":"IFERROR(IFERROR(VLOOKUP(D104,Surcharge!A:B,2,FALSE)*F104, VLOOKUP(D104 & \"\",Surcharge!A:B,2,FALSE)*F104), \"\")","v":""}]
[null,null,"Pad Driver",1234467,"N/C",null,{"$f":"IF(F105=0,\" \",\"N/C\")","v":" "},{"$f":"IFERROR(IFERROR(VLOOKUP(D105,Surcharge!A:B,2,FALSE)*F105, VLOOKUP(D105 & \"\",Surcharge!A:B,2,FALSE)*F105), \"\")","v":""},null,null,null,null,null,null,null,"M-T600eVK_CLNTOL_D700PAD"]
[null,null,"Pads",null,null,{"$f":"SUM(F107:F109)","v":0},null,{"$f":"IFERROR(IFERROR(VLOOKUP(D106,Surcharge!A:B,2,FALSE)*F106, VLOOKUP(D106 & \"\",Surcharge!A:B,2,FALSE)*F106), \"\")","v":""}]
[null,null,"Blue Scrubbing - 3M",222326,25.7,null,{"$f":"F107*E107","v":0},{"$f":"IFERROR(IFERROR(VLOOKUP(D107,Surcharge!A:B,2,FALSE)*F107, VLOOKUP(D107 & \"\",Surcharge!A:B,2,FALSE)*F107), \"\")","v":""},null,null,null,null,null,null,null,"M-T600eVK_PADTYP_700BLU3"]
[null,null,"Red Cleaning - 3M",222325,25.7,null,0,{"$f":"IFERROR(IFERROR(VLOOKUP(D108,Surcharge!A:B,2,FALSE)*F108, VLOOKUP(D108 & \"\",Surcharge!A:B,2,FALSE)*F108), \"\")","v":""},null,null,null,null,null,null,null,"M-T600eVK_PADTYP_700RED3"]
[null,null,"White Polishing - 3M",222324,25.7,null,0,{"$f":"IFERROR(IFERROR(VLOOKUP(D109,Surcharge!A:B,2,FALSE)*F109, VLOOKUP(D109 & \"\",Surcharge!A:B,2,FALSE)*F109), \"\")","v":""},null,null,null,null,null,null,null,"M-T600eVK_PADTYP_700WHT3"]
[null,null,null,null,null,null,null,{"$f":"IFERROR(IFERROR(VLOOKUP(D110,Surcharge!A:B,2,FALSE)*F110, VLOOKUP(D110 & \"\",Surcharge!A:B,2,FALSE)*F110), \"\")","v":""}]
[null,null,"800mm/32\" Disk Scrubbing Brushes/Pads (2 Required - 16\" each)",null,null,{"$f":"SUM(F112:F120)","v":0},null,{"$f":"IFERROR(IFERROR(VLOOKUP(D111,Surcharge!A:B,2,FALSE)*F111, VLOOKUP(D111 & \"\",Surcharge!A:B,2,FALSE)*F111), \"\")","v":""}]
[null,null,"Polypropylene Brush",1234524,"N/C",null,{"$f":"IF(F112=0,\" \",\"N/C\")","v":" "},{"$f":"IFERROR(IFERROR(VLOOKUP(D112,Surcharge!A:B,2,FALSE)*F112, VLOOKUP(D112 & \"\",Surcharge!A:B,2,FALSE)*F112), \"\")","v":""},null,null,null,null,null,null,null,"M-T600eVK_CLNTOL_D800PYP"]
[null,null,"Heavy Duty Polypropylene Brush",1234525,"N/C",null," ",{"$f":"IFERROR(IFERROR(VLOOKUP(D113,Surcharge!A:B,2,FALSE)*F113, VLOOKUP(D113 & \"\",Surcharge!A:B,2,FALSE)*F113), \"\")","v":""},null,null,null,null,null,null,null,"M-T600eVK_CLNTOL_D800HDPYP"]
[null,null,"Nylon Brush",1234523,"N/C",null," ",{"$f":"IFERROR(IFERROR(VLOOKUP(D114,Surcharge!A:B,2,FALSE)*F114, VLOOKUP(D114 & \"\",Surcharge!A:B,2,FALSE)*F114), \"\")","v":""},null,null,null,null,null,null,null,"M-T600eVK_CLNTOL_D800NYL"]
[null,null,null,null,null,null,null,{"$f":"IFERROR(IFERROR(VLOOKUP(D115,Surcharge!A:B,2,FALSE)*F115, VLOOKUP(D115 & \"\",Surcharge!A:B,2,FALSE)*F115), \"\")","v":""}]
[null,null,"Pad Driver",1234527,"N/C",null,{"$f":"IF(F116=0,\" \",\"N/C\")","v":" "},{"$f":"IFERROR(IFERROR(VLOOKUP(D116,Surcharge!A:B,2,FALSE)*F116, VLOOKUP(D116 & \"\",Surcharge!A:B,2,FALSE)*F116), \"\")","v":""},null,null,null,null,null,null,null,"M-T600eVK_CLNTOL_D800PAD"]
[null,null,"Pads",null,null,{"$f":"SUM(F118:F120)","v":0},null,{"$f":"IFERROR(IFERROR(VLOOKUP(D117,Surcharge!A:B,2,FALSE)*F117, VLOOKUP(D117 & \"\",Surcharge!A:B,2,FALSE)*F117), \"\")","v":""}]
[null,null,"Blue Scrubbing - 3M","63248-2",28.9,null,{"$f":"F118*E118","v":0},{"$f":"IFERROR(IFERROR(VLOOKUP(D118,Surcharge!A:B,2,FALSE)*F118, VLOOKUP(D118 & \"\",Surcharge!A:B,2,FALSE)*F118), \"\")","v":""},null,null,null,null,null,null,null,"M-T600eVK_PADTYP_800BLU3"]
[null,null,"Red Cleaning - 3M","63248-3",28.9,null,{"$f":"F119*E119","v":0},{"$f":"IFERROR(IFERROR(VLOOKUP(D119,Surcharge!A:B,2,FALSE)*F119, VLOOKUP(D119 & \"\",Surcharge!A:B,2,FALSE)*F119), \"\")","v":""},null,null,null,null,null,null,null,"M-T600eVK_PADTYP_800RED3"]
[null,null,"White Polishing - 3M","63248-4",28.9,null,0,{"$f":"IFERROR(IFERROR(VLOOKUP(D120,Surcharge!A:B,2,FALSE)*F120, VLOOKUP(D120 & \"\",Surcharge!A:B,2,FALSE)*F120), \"\")","v":""},null,null,null,null,null,null,null,"M-T600eVK_PADTYP_800WHT3"]
[null,null,null,null,null,null,null,{"$f":"IFERROR(IFERROR(VLOOKUP(D121,Surcharge!A:B,2,FALSE)*F121, VLOOKUP(D121 & \"\",Surcharge!A:B,2,FALSE)*F121), \"\")","v":""}]
[null,null,"900mm/36\" Disk Scrubbing Brushes/Pads (2 Required - 18\" each)",null,null,{"$f":"SUM(F123:F130)","v":0},null,{"$f":"IFERROR(IFERROR(VLOOKUP(D122,Surcharge!A:B,2,FALSE)*F122, VLOOKUP(D122 & \"\",Surcharge!A:B,2,FALSE)*F122), \"\")","v":""}]
[null,null,"Polypropylene Brush",1230859,"N/C",null,{"$f":"IF(F123=0,\" \",\"N/C\")","v":" "},{"$f":"IFERROR(IFERROR(VLOOKUP(D123,Surcharge!A:B,2,FALSE)*F123, VLOOKUP(D123 & \"\",Surcharge!A:B,2,FALSE)*F123), \"\")","v":""},null,null,null,null,null,null,null,"M-T600eVK_CLNTOL_D900PYP"]
[null,null,"Nylon Brush",1230858,"N/C",null," ",{"$f":"IFERROR(IFERROR(VLOOKUP(D124,Surcharge!A:B,2,FALSE)*F124, VLOOKUP(D124 & \"\",Surcharge!A:B,2,FALSE)*F124), \"\")","v":""},null,null,null,null,null,null,null,"M-T600eVK_CLNTOL_D900NYL"]
[null,null,null,null,null,null,null,{"$f":"IFERROR(IFERROR(VLOOKUP(D125,Surcharge!A:B,2,FALSE)*F125, VLOOKUP(D125 & \"\",Surcharge!A:B,2,FALSE)*F125), \"\")","v":""}]
[null,null,"Pad Driver",1230881,"N/C",null,{"$f":"IF(F126=0,\" \",\"N/C\")","v":" "},{"$f":"IFERROR(IFERROR(VLOOKUP(D126,Surcharge!A:B,2,FALSE)*F126, VLOOKUP(D126 & \"\",Surcharge!A:B,2,FALSE)*F126), \"\")","v":""},null,null,null,null,null,null,null,"M-T600eVK_CLNTOL_D900PAD"]
[null,null,"Pads",null,null,{"$f":"SUM(F128:F130)","v":0},null,{"$f":"IFERROR(IFERROR(VLOOKUP(D127,Surcharge!A:B,2,FALSE)*F127, VLOOKUP(D127 & \"\",Surcharge!A:B,2,FALSE)*F127), \"\")","v":""}]
[null,null,"Blue Scrubbing - 3M",11778,33.200000000000003,null,{"$f":"F128*E128","v":0},{"$f":"IFERROR(IFERROR(VLOOKUP(D128,Surcharge!A:B,2,FALSE)*F128, VLOOKUP(D128 & \"\",Surcharge!A:B,2,FALSE)*F128), \"\")","v":""},null,null,null,null,null,null,null,"M-T600eVK_PADTYP_900BLU3"]
[null,null,"Red Cleaning - 3M",11780,33.200000000000003,null,0,{"$f":"IFERROR(IFERROR(VLOOKUP(D129,Surcharge!A:B,2,FALSE)*F129, VLOOKUP(D129 & \"\",Surcharge!A:B,2,FALSE)*F129), \"\")","v":""},null,null,null,null,null,null,null,"M-T600eVK_PADTYP_900RED3"]
[null,null,"White Polishing - 3M",11781,33.200000000000003,null,0,{"$f":"IFERROR(IFERROR(VLOOKUP(D130,Surcharge!A:B,2,FALSE)*F130, VLOOKUP(D130 & \"\",Surcharge!A:B,2,FALSE)*F130), \"\")","v":""},null,null,null,null,null,null,null,"M-T600EVK_PADTYP_900WHT3"]
[null,null,null,null,null,null,null,{"$f":"IFERROR(IFERROR(VLOOKUP(D131,Surcharge!A:B,2,FALSE)*F131, VLOOKUP(D131 & \"\",Surcharge!A:B,2,FALSE)*F131), \"\")","v":""}]
[null,null,"700mm/28\" Cylindrical Scrubbing Brushes  (2 Required)",null,null,{"$f":"SUM(F133:F135)","v":0},null,{"$f":"IFERROR(IFERROR(VLOOKUP(D132,Surcharge!A:B,2,FALSE)*F132, VLOOKUP(D132 & \"\",Surcharge!A:B,2,FALSE)*F132), \"\")","v":""}]
[null,null,"Polypropylene Brush",222304,"N/C",null,{"$f":"IF(F133=0,\" \",\"N/C\")","v":" "},{"$f":"IFERROR(IFERROR(VLOOKUP(D133,Surcharge!A:B,2,FALSE)*F133, VLOOKUP(D133 & \"\",Surcharge!A:B,2,FALSE)*F133), \"\")","v":""},null,null,null,null,null,null,null,"M-T600eVK_CLNTOL_C700PYP"]
[null,null,"Heavy Duty Polypropylene Brush",374041,"N/C",null," ",{"$f":"IFERROR(IFERROR(VLOOKUP(D134,Surcharge!A:B,2,FALSE)*F134, VLOOKUP(D134 & \"\",Surcharge!A:B,2,FALSE)*F134), \"\")","v":""},null,null,null,null,null,null,null,"M-T600eVK_CLNTOL_C700HDPYP"]
[null,null,"Nylon Brush",222305,"N/C",null," ",{"$f":"IFERROR(IFERROR(VLOOKUP(D135,Surcharge!A:B,2,FALSE)*F135, VLOOKUP(D135 & \"\",Surcharge!A:B,2,FALSE)*F135), \"\")","v":""},null,null,null,null,null,null,null,"M-T600eVK_CLNTOL_C700NYL"]
[null,null,null,null," ",null,null,{"$f":"IFERROR(IFERROR(VLOOKUP(D136,Surcharge!A:B,2,FALSE)*F136, VLOOKUP(D136 & \"\",Surcharge!A:B,2,FALSE)*F136), \"\")","v":""},null,null,null,null,null,null,null,""]
[null,null,"800mm/32\" Cylindrical Scrubbing Brushes  (2 Required)",null," ",{"$f":"SUM(F138:F140)","v":0},null,{"$f":"IFERROR(IFERROR(VLOOKUP(D137,Surcharge!A:B,2,FALSE)*F137, VLOOKUP(D137 & \"\",Surcharge!A:B,2,FALSE)*F137), \"\")","v":""},null,null,null,null,null,null,null,""]
[null,null,"Polypropylene Brush",222307,"N/C",null,{"$f":"IF(F138=0,\" \",\"N/C\")","v":" "},{"$f":"IFERROR(IFERROR(VLOOKUP(D138,Surcharge!A:B,2,FALSE)*F138, VLOOKUP(D138 & \"\",Surcharge!A:B,2,FALSE)*F138), \"\")","v":""},null,null,null,null,null,null,null,"M-T600eVK_CLNTOL_C800HDPYP"]
[null,null,"Heavy Duty Polypropylene Brush",374042,"N/C",null," ",{"$f":"IFERROR(IFERROR(VLOOKUP(D139,Surcharge!A:B,2,FALSE)*F139, VLOOKUP(D139 & \"\",Surcharge!A:B,2,FALSE)*F139), \"\")","v":""},null,null,null,null,null,null,null,"M-T600eVK_CLNTOL_C800HDPYP"]
[null,null,"Nylon Brush",222308,"N/C",null," ",{"$f":"IFERROR(IFERROR(VLOOKUP(D140,Surcharge!A:B,2,FALSE)*F140, VLOOKUP(D140 & \"\",Surcharge!A:B,2,FALSE)*F140), \"\")","v":""},null,null,null,null,null,null,null,"M-T600eVK_CLNTOL_C800NYL"]
[null,null,null,null,null,null,null,{"$f":"IFERROR(IFERROR(VLOOKUP(D141,Surcharge!A:B,2,FALSE)*F141, VLOOKUP(D141 & \"\",Surcharge!A:B,2,FALSE)*F141), \"\")","v":""},null,null,null,null,null,null,null,""]
[null,null,null,null,null,null,null,{"$f":"IFERROR(IFERROR(VLOOKUP(D142,Surcharge!A:B,2,FALSE)*F142, VLOOKUP(D142 & \"\",Surcharge!A:B,2,FALSE)*F142), \"\")","v":""},null,null,null,null,null,null,null,""]
[null,"Support (Note 8)",null,"Reference Number","N/C",{"$f":"SUM(F144:F150)","v":0},null,{"$f":"IFERROR(IFERROR(VLOOKUP(D143,Surcharge!A:B,2,FALSE)*F143, VLOOKUP(D143 & \"\",Surcharge!A:B,2,FALSE)*F143), \"\")","v":""},null,null,null,null,null,null,null,""]
[null,null,"Warranty",null,"N/C",null,{"$f":"IF(F144=0,\" \",\"N/C\")","v":" "},{"$f":"IFERROR(IFERROR(VLOOKUP(D144,Surcharge!A:B,2,FALSE)*F144, VLOOKUP(D144 & \"\",Surcharge!A:B,2,FALSE)*F144), \"\")","v":""},null,null,null,null,null,null,null,"M-T600e"]
[null,null,"Operator Manual - English",9016600,"N/C",null," ",{"$f":"IFERROR(IFERROR(VLOOKUP(D145,Surcharge!A:B,2,FALSE)*F145, VLOOKUP(D145 & \"\",Surcharge!A:B,2,FALSE)*F145), \"\")","v":""},null,null,null,null,null,null,null,"M-T600e"]
[null,null,"Operator Manual - Spanish",9016601,"N/C",null," ",{"$f":"IFERROR(IFERROR(VLOOKUP(D146,Surcharge!A:B,2,FALSE)*F146, VLOOKUP(D146 & \"\",Surcharge!A:B,2,FALSE)*F146), \"\")","v":""},null,null,null,null,null,null,null,"M-T600e"]
[null,null,"Operator Manual - French  (Note 9)",9016602,188,null," ",{"$f":"IFERROR(IFERROR(VLOOKUP(D147,Surcharge!A:B,2,FALSE)*F147, VLOOKUP(D147 & \"\",Surcharge!A:B,2,FALSE)*F147), \"\")","v":""},null,null,null,null,null,null,null,"M-T600e"]
[null,null,"Additional Operator Manual","SEE ABOVE",76,null,{"$f":"F148*E148","v":0},{"$f":"IFERROR(IFERROR(VLOOKUP(D148,Surcharge!A:B,2,FALSE)*F148, VLOOKUP(D148 & \"\",Surcharge!A:B,2,FALSE)*F148), \"\")","v":""},null,null,null,null,null,null,null,"M-T600eVK_ADLOPRMNL"]
[null,null,"Parts Manual",9016599,188,null,0,{"$f":"IFERROR(IFERROR(VLOOKUP(D149,Surcharge!A:B,2,FALSE)*F149, VLOOKUP(D149 & \"\",Surcharge!A:B,2,FALSE)*F149), \"\")","v":""},null,null,null,null,null,null,null,"M-T600eVK_PARMNL"]
[null,null,"Service Manual",9016605,null,null,0,{"$f":"IFERROR(IFERROR(VLOOKUP(D150,Surcharge!A:B,2,FALSE)*F150, VLOOKUP(D150 & \"\",Surcharge!A:B,2,FALSE)*F150), \"\")","v":""},null,null,null,null,null,null,null,"M-T600eVK_SRVMNL"]
[null,null,null,null,null,null,null,{"$f":"IFERROR(IFERROR(VLOOKUP(D151,Surcharge!A:B,2,FALSE)*F151, VLOOKUP(D151 & \"\",Surcharge!A:B,2,FALSE)*F151), \"\")","v":""},null,null,null,null,null,null,null,""]
[null,null,"Packaging",null,null,{"$f":"SUM(F153)","v":0},null,{"$f":"IFERROR(IFERROR(VLOOKUP(D152,Surcharge!A:B,2,FALSE)*F152, VLOOKUP(D152 & \"\",Surcharge!A:B,2,FALSE)*F152), \"\")","v":""},null,null,null,null,null,null,null,""]
[null,null,"Skid w/Carton, Stackable",null,"N/C",null,{"$f":"IF(F153=0,\" \",\"N/C\")","v":" "},{"$f":"IFERROR(IFERROR(VLOOKUP(D153,Surcharge!A:B,2,FALSE)*F153, VLOOKUP(D153 & \"\",Surcharge!A:B,2,FALSE)*F153), \"\")","v":""},null,null,null,null,null,null,null,"M-T600eVK_PKG_SSKD_NC"]
[null,null,null,null,null,null,null,{"$f":"IFERROR(IFERROR(VLOOKUP(D154,Surcharge!A:B,2,FALSE)*F154, VLOOKUP(D154 & \"\",Surcharge!A:B,2,FALSE)*F154), \"\")","v":""}]
[]
[null,"Custom Solution--write in description, qty, price, and PN if applicable",null,null,null,{"$f":"SUM(F157)","v":0}]
[null,null,null,null,"Insert Prices Here",{"$f":"SUM(F158:F161)","v":0}]
[null,null,null,"Custom",null,{"$f":"IF(E158 <> \"\", 1, 0)","v":0},{"$f":"F158*E158","v":0}]
[null,null,null,"Custom",null,{"$f":"IF(E159 <> \"\", 1, 0)","v":0},{"$f":"F159*E159","v":0}]
[null,null,null,"Custom",null,{"$f":"IF(E160 <> \"\", 1, 0)","v":0},{"$f":"F160*E160","v":0}]
[null,null,null,"Custom",null,{"$f":"IF(E161 <> \"\", 1, 0)","v":0},{"$f":"F161*E161","v":0}]
[null,null,null,null,{"$f":"ROUND(SUM(G60:G161), 0)","v":0},{"$f":"SUM(E163)","v":0}]
[null,null,null,"Machine Subtotal ",{"$f":"ROUND(SUM(G60:G161), 0)","v":0},{"$f":"F162","v":0}]
[null,"Discounts",null,null,null,{"$f":"SUM(F165)","v":0}]
[null,null,null,null,null,{"$f":"SUM(F167:F170)","v":0}]
[null,null,null,"Applicable Currency Adj %",null,{"$f":"IF(E166 <> \"\", 1, 0)","v":0},{"$f":"IF(F166*(E166*0.01)*E162 < 0, F166*(E166*0.01)*E162, -(F166*(E166*0.01)*E162))","v":0}]
[null,null,null,"Discount %",null,{"$f":"IF(E167 <> \"\", 1, 0)","v":0},{"$f":"IF(F167*(E167*0.01)*(E162+G166) < 0, F167*(E167*0.01)*(E162+G166), -(F167*(E167*0.01)*(E162+G166)))","v":0}]
[null,null,null,"Discount $",null,{"$f":"IF(E168 <> \"\", 1, 0)","v":0},{"$f":"IF(F168*E168 < 0, F168*E168, -(F168*E168))","v":0}]
[null,null,null,"Discount $",null,{"$f":"IF(E169 <> \"\", 1, 0)","v":0},{"$f":"IF(F169*E169 < 0, F169*E169, -(F169*E169))","v":0}]
[null,null,null,"Discount $",null,{"$f":"IF(E170 <> \"\", 1, 0)","v":0},{"$f":"IF(F170*E170 < 0, F170*E170, -(F170*E170))","v":0}]
[null,null,null,"Discount Total ",{"$f":"SUM(G166:G170)","v":0},{"$f":"SUM(E171)","v":0}]
[null,null,null,null,null,{"$f":"#REF!","v":{"$error":"#REF!"}}]
[null,null,null,null,null,{"$f":"F172","v":{"$error":"#REF!"}}]
[null,null,"Prepaid and Add","Freight",null,{"$f":"IF(E174 <> \"\", 1, 0)","v":0},{"$f":"F174*E174","v":0}]
[null,null,"Subject to all applicable taxes","Tax",null,{"$f":"IF(E175 <> \"\", 1, 0)","v":0},{"$f":"F175*E175","v":0}]
[null,null,null,null,null,{"$f":"SUM(F177)","v":0}]
[null,null,null,"MACHINE TOTAL*",null,{"$f":"SUM(G177)","v":0},{"$f":"SUM(G60:G175)","v":0},null,null,null,"This goes to \"My Documents\""]
[null,null,null,null,null,null,{"$f":"SUM(G177)","v":0}]
[]
[]
[]
[]
[null,null,"First Western Equipment Finance - Leasing Calculation Option:","Option 1",null,"Option 2",null,null,null,{"$f":"Financing!A38","v":"Rates 2025 - Rev 2/4/2025"}]
[null,null,null,"Monthly Payment","Cost Per Day","Monthly Payment","Cost Per Day",null,null,{"$f":"Financing!A39","v":"“Blank Payment Amounts Indicate The Financing Option Or Purchase Options Selected Are Not "}]
[null,null,"Purchase Option:","FWEF:  $1 Buyout Lease",null,"FWEF: Municipal Lease",null,null,null,{"$f":"Financing!A40","v":"Applicable Or The Machine Total Is Below The Minimum Amount For The Selected Vendor”"}]
[null,null,"24 Months",false,0,false,0,null,null,{"$f":"Financing!A41","v":"\"Quoted monthly payments are estimates only and are based on a certain level of credit rating."}]
[null,null,"30 Months",false,0,false,0,null,null,{"$f":"Financing!A42","v":"Actual monthly payments may be higher depending on your credit rating.\""}]
[null,null,"36 Months",false,0,false,0,null,null,{"$f":"Financing!A43","v":"“Financing rates do not include Pre-Paid Service”"}]
[null,null,"48 Months",0,0,0,0,null,{"$f":"Financing!A44","v":0}]
[]
[null,null,null,"Benefits of Equipment Financing:"]
[null,null,null,"• Spreads out investment over time.",null,"• Keep current with latest technology."]
[null,null,null,"• Preserve capital.",null,"• Service and parts bundling available."]
[null,null,null,"• Low monthly payment.",null,"• Pay for labor savings as you go."]
[]
[null,"   TennantTrue",null,null,0,0]
[]
[null,null,"Is customer interested in service program?","Yes","*State/County selection required for TennantTrue service options"]
[]
[null,null,"If not, why?"]
[]
[null,null,"Term:",36,null,null,"AB Brushes","No"]
[null,null,"Monthly machine usage (hrs):","< 30/mo. (Avg. 1hr./day)"]
[]
[null,null,"TennantTrue: ","Gold Contract",null,"Silver Contract"]
[null,null,"Per Visit",null,null,481]
[null,null,"Monthly",141,null,83]
[null,null,"Annually",null,null,972]
[null,null,"Pre-Pay Full Term",4884,null,2858]
[null,null,"Hourly Labor Rate"]
[null,null,"Site Visit"]
[]
[null,null,"* Verify customer current pricing prior to quote. "]
[null,null,"**All rates and fees above reflect service for one (1) unit with the exception of Block of Time service."]
[null,null,"*Block of Time is available in 1 Year Term only and is priced as such no matter the term selection on this template."]
[]
[]
[]
[null,null,"Quote Special Instructions:"]
[]
[]
[null,null,{"$f":"Start_Here!E36","v":"Terms and Conditions"}]
[null,null,{"$f":"Start_Here!E37","v":"Ask your local sales rep for estimated lead times. Verify when placing order"}]
[null,null,{"$f":"Start_Here!E38","v":"All orders subject to acceptance by Tennant Sales and Service Company, Minneapolis, Minnesota"}]
[null,null,{"$f":"Start_Here!E39","v":"Prices subject to change without notice. Subject to any applicable taxes."}]
[null,null,{"$f":"Start_Here!E40","v":"Terms:  Net 30 days.  Payable in Canadian Funds"}]
[null,null,{"$f":"Start_Here!E41","v":"Freight:  Accessories, parts, supplies, detergents, and floor coatings orders delivered DDP "}]
[null,null,{"$f":"Start_Here!E42","v":"shipping point Frt PPD.  Machine orders delivered DDP shipping point Frt PPD and add."}]
[null,null,{"$f":"Start_Here!E43","v":"Returned Merchandise is subject to a restocking fee."}]
[null,null,{"$f":"Start_Here!E45","v":"Printed General Terms and Conditions are also available upon request."}]
[null,null,{"$f":"Start_Here!E46","v":0}]
[]
[]
[null,null,null,null,"Quote Date :",null,{"$f":"Letter!$A$25","v":"2014-10-02"}]
["Order Placement Information:  To place your order, fill in PO# and customer signatures,"]
["call or fax to the numbers listed below. Customer Purchase Order is required."]
["If information is missing, orders will be entered and held until all information is received."]
[null,null,"Customer Number",null,"Cust Grp 3"]
[null,null,{"$f":"Start_Here!$C$25","v":0},null,{"$f":"Start_Here!$C$29","v":0}]
[null,null,{"$f":"Start_Here!$B$18","v":"Who Owns the Machine? (Sold-To Info) (Please Verify)"}]
["Company",null,{"$f":"Start_Here!$C$19","v":"Company Name"}]
["Address",null,{"$f":"Start_Here!$C$20","v":"Address"}]
[null,null,{"$f":"Start_Here!$C$21","v":"City, State Zip"}]
["Name",null,{"$f":"Start_Here!$C$22","v":"Contact Name"}]
["Phone",null,{"$f":"Start_Here!$C$23","v":"Contact Phone"}]
[null,null,{"$f":"Start_Here!$B$11","v":"Where is the Machine Being Shipped? (Ship-To Info) (Please Verify)"}]
["Company",null,{"$f":"Start_Here!$C$12","v":"Company Name"}]
["Address",null,{"$f":"Start_Here!$C$13","v":"Address"}]
[null,null,{"$f":"Start_Here!$C$14","v":"City, State Zip"}]
["Name",null,{"$f":"Start_Here!$C$15","v":"Contact Name"}]
["Phone",null,{"$f":"Start_Here!$C$16","v":"Contact Phone"}]
[null,null,{"$f":"Start_Here!$B$31","v":"Shipping / Carrier Instructions:"},null,"Order Special Instructions:"]
[null,null,{"$f":"Start_Here!$C$32","v":0}]
[]
[null,null,"Customer Purchase Order No."]
[null,null,"(please attach copy)"]
[]
[]
[null,null,"Tax Exempt",null,"Yes"]
[null,null,null,null,"No"]
[null,null,"If Yes, attach a copy of your exemption certificate."]
[]
[null,null,"Requested Delivery Date"]
[null,null,{"$f":"Start_Here!$C$28","v":0}]
[]
[null,null,{"$f":"Start_Here!$C$26","v":0},null,{"$f":"Start_Here!$C$27","v":0}]
[null,null,"Authorized Buyer (please print)",null,"Phone Number"]
[]
[]
[null,null,"Authorized Buyer Signature"]
[]
[null,null,{"$f":"Start_Here!$C$41","v":"Rep Name"}]
[null,null,"Tennant Representative"]
[]
["Specialized Maintenance Equipment"]
[{"$f":"Start_Here!$C$48","v":"TENNANT · 10400 Clean Street · Eden Prairie, MN 55344 ·"}]
[{"$f":"Start_Here!$C$49","v":" PHONE:800-553-8033 · FAX:763-513-2116"}]
[]
[null,"SPECIAL INFORMATION"]
[]
[null,"Notes"]
[]
[null,1,"Narrow Aisle Squeegee is not available on 700mm/28\" units."]
[]
[null,2,"In order to obtain the IRIS Battery Metrics, one of the listed Tennant supplied batteries is required."]
[]
[null,3,"The Sealed/MF Fast Charge 210AH (TPPL) battery requires the 33A 100-240V AC 50/60Hz 1Ph on-board charger."]
[]
[null,4,"Battery Watering is not available with Sealed/MF Fast Charge Battery. "]
[null,null,"Smart-Fill Automatic Battery Watering only available with on-board charger."]
[]
[null,5,"The 25A 100-240V AC 50/60Hz 1Ph On-Board Charger is required to receive IRIS Battery Metrics."]
[]
[null,6,"UL Type E is not available with 900mm/36\" units, ec-H2O NanoClean, or Smart-Fill."]
[]
[null,7,"One set of brushes or pad drivers come standard with Disk or Cylindrical units.  "]
[]
[null,8,"Additional hard copy Operator and Parts Manuals can be ordered or digital copies can be downloaded from www.Tennantco.com."]
[]
[null,9,"A French and English manual will be supplied for all units shipping into Quebec, Canada at no charge.  An additional manual"]
[null,null,"can be ordered (for a total of 3 manuals) for an additional charge as stated under 'Additional Operator Manual'."]
[]
[null,"IRIS","Pre-Paid and Monthly Packages are available for the IRIS Information Service."]
[null,null,"IRIS Module is required and NOT included in the price of the IRIS Information Service:"]
[null,null,"3 Year Pre-Paid IRIS Information Service",350]
[null,null,"5 Year Pre-Paid IRIS Information Service",560]
[null,null,"A monthly contract can be set up at $16 per month w/ 12 month minimum commitment."]
[null,null,"IRIS Telemetry Module only covers the price of the hardware. "]
[null,null,"IRIS Telemetry requires an IRIS Telemetry Module and an IRIS Information Service Package."]
[null,null,"An On-Board Charger and a compatible Tennant supplied battery is required to receive IRIS Battery Manager."]
[null,null,"IRIS Battery Metrics are not guaranteed with third party supplied batteries."]
[]
[null,10,"Shipping Weights and Dimensions",null,"Skid w/Carton"]
[]
[null,null,"700 mm / 28\" Disk"]
[null,null,"Weight",null,"733 lbs / 333 Kg"]
[null,null,"Length",null,"75\" / 1905 mm"]
[null,null,"Width",null,"45\" / 1143 mm"]
[null,null,"Height",null,"52\" / 1321 mm"]
[]
[null,null,"800 mm / 32\" Disk"]
[null,null,"Weight",null,"736 lbs / 334 Kg"]
[null,null,"Length",null,"75\" / 1905 mm"]
[null,null,"Width",null,"45\" / 1143 mm"]
[null,null,"Height",null,"52\" / 1321 mm"]
[]
[null,null,"900 mm / 36\" Disk"]
[null,null,"Weight",null,"740 lbs / 336 Kg"]
[null,null,"Length",null,"75\" / 1905 mm"]
[null,null,"Width",null,"45\" / 1143 mm"]
[null,null,"Height",null,"52\" / 1321 mm"]
[]
[null,null,"700 mm / 28\" Cylindrical"]
[null,null,"Weight",null,"749 lbs / 340 Kg"]
[null,null,"Length",null,"75\" / 1905 mm"]
[null,null,"Width",null,"45\" / 1143 mm"]
[null,null,"Height",null,"52\" / 1321 mm"]
[]
[null,null,"800 mm / 32\" Cylindrical"]
[null,null,"Weight",null,"752 lbs / 341 Kg"]
[null,null,"Length",null,"75\" / 1905 mm"]
[null,null,"Width",null,"45\" / 1143 mm"]
[null,null,"Height",null,"52\" / 1321 mm"]
[]
[null,null,"700 mm / 28\" Orbital"]
[null,null,"Weight",null,"759 lbs / 345 Kg"]
[null,null,"Length",null,"75\" / 1905 mm"]
[]
[]
[]
[]
[null,null,"CURRENT DETERGENT PRODUCT",null,null,null,"NEW DETERGENT PRODUCT"]
[null,null,"Original PN ","Description","Size",null,"New PN ","Description","Size"]
[null,null,"9000755  08682-5","653 & 654 ","5 Gallon",null,9006764,"General Purpose Cleaner","2 -2.5G "]
[null,null,"9000824  08682-15","653 & 654","15 Gallon",null,9006765,"General Purpose Cleaner","15 Gallon"]
[null,null,"9000757  08682-55","653 & 654","55 Gallon",null,9006767,"General Purpose Cleaner","55 Gallon"]
[null,null,"9000758  9000404","653 & 654","275 Gallon",null,9006769,"General Purpose Cleaner","275 Gallon"]
[]
[null,null,"08683-5  08678-5","655 & 658 ","5 Gallon",null,9006776,"High Alkaline Degreaser","2 -2.5G "]
[null,null,"08683-15  08678-15","655 & 658","15 Gallon",null,9006777,"High Alkaline Degreaser","15 Gallon"]
[null,null,"08683-55  08678-55","655 & 658","55 Gallon",null,9006779,"High Alkaline Degreaser","55 Gallon"]
[null,null,"9000405  9000407","655 & 658","275 Gallon",null,9006781,"High Alkaline Degreaser","275 Gallon"]
[]
[null,null,"08690-1  08690-5  08684-5","9960 & 698","5 Gallon",null,9006770,"Solvent Based Degreaser","2 -2.5G "]
[null,null,"08690-55   08684-55","9960 & 698","55 Gallon",null,9006773,"Solvent Based Degreaser","55 Gallon"]
[]
[null,null,"08584-4",601,"22Lb. Carton",null,9006782,"High Alkaline Granular","22Lb. Carton"]
[null,null,"08584-2",601,"250Lb. Drum",null,9006783,"High Alkaline Granular","250Lb. Drum"]

{"sheet":"T600ee","index":36,"n_rows":262,"n_cols":16,"rows_kept":262,"cut":false,"hidden":false,"merged":[[214,4,214,5],[245,2,245,4],[245,6,245,8],[199,0,199,1],[199,2,199,5],[201,4,201,6],[203,2,203,5],[204,2,204,5],[205,2,205,5],[198,0,198,1],[198,2,198,5],[190,0,190,1],[190,2,190,5],[191,2,191,5],[192,0,192,1],[192,2,192,5],[193,0,193,1],[193,2,193,5],[195,0,195,1],[195,2,195,5],[196,0,196,1],[196,2,196,5],[197,2,197,5],[158,3,158,4],[189,0,189,1],[189,2,189,5],[168,2,168,6],[187,4,187,6],[158,5,158,6],[159,3,159,4],[159,5,159,6],[155,3,155,4],[155,5,155,6],[156,3,156,4],[156,5,156,6],[157,3,157,4],[157,5,157,6],[151,3,151,4],[153,3,153,4],[153,5,153,6],[154,3,154,4],[154,5,154,6],[133,3,133,4],[133,5,133,6],[146,4,146,8],[148,3,148,6],[150,3,150,4],[36,1,36,5],[0,2,0,3],[1,2,1,3],[2,2,2,3],[3,2,3,3],[11,1,11,5],[131,3,131,4],[131,5,131,6],[37,1,37,5],[38,1,38,5],[39,1,39,5],[40,1,40,5],[42,1,42,5]]}
["T600ee",null,{"$f":"Start_Here!$C19","v":"Company Name"}]
[{"$f":"SUM(G126)","v":0},null,{"$f":"Start_Here!$C20","v":"Address"}]
[null,null,{"$f":"Start_Here!$C21","v":"City, State Zip"}]
[null,null,{"$f":"Start_Here!$C22","v":"Contact Name"}]
[null,null,{"$f":"Start_Here!$C$41","v":"Rep Name"}]
[null,null,{"$f":"Start_Here!$C$37","v":"Tennant Sales and Service Company"}]
[null,null,{"$f":"Start_Here!$C$38","v":"10400 Clean Street"}]
[null,null,{"$f":"Start_Here!$C$39","v":"Eden Prairie, MN 55344"}]
[null,null,{"$f":"Start_Here!$C$43","v":"800-553-8033"},null,"Quote Date :",null,{"$f":"Letter!$A$25","v":"2014-10-02"}]
[]
[null,null,{"$f":"Help!C2","v":"CAN Date Rev - 5/6/2025"}]
[null,"BUILT-IN \"TENNANT VALUE\" INCLUDES:"]
[]
[null,"121L/32 gal Solution Tank  & 37 L/140 gal Recovery Tank",null,"Automatic: Water On / Off"]
[null,"Rugged Duramer™ Rotomold Tank Construction",null,"      Brush On / Off"]
[null,"Fully Sprayable Hygienic® Recovery Tank",null,"      Brush Shutoff at 80% Discharge"]
[null,"Three Down Pressure Settings- up to 200 lbs/90 kg ",null,"Drain hose with pinch cuff to control water flow"]
[null,"Adjustable Solution Flow",null,"Emergency Stop "]
[null,"Variable Speed Control Knob",null,"Free Floating Head Skirt "]
[null,"Pro-Membrane™ Control Panel w/ 3 Zone Settings™",null,"Fill Port w/ Hose Fins"]
[null,"Supervisor QA ControlsTM settings (Lock Out Features)",null,"Integrated Heat Sync for Electronics Protection"]
[null,"On Board Diagnostics",null,"Sealed Electrical Connectors"]
[null,"Standard Low Noise Level  (≤70 dBa)",null,"Anti-Static Strap"]
[null,"Quiet-Mode™ Sound Reduction all models   (≤62.5dBa)",null,".6 HP brush motor/ 0.45 kW "]
[null,"Standard (6) 6v. 240AH battery pack",null,"300 RPM "]
[null,"Auto Fill (Solution Tank)",null,"Recovery Tank Debris Tray"]
[null,"Quick Release Battery Harness",null,"Excellent Ergonomic Controls Design"]
[null,"Standard Controlled Battery Compartment Drain",null,"Non-Marking Polyurethane Tires"]
[null,"Off Board Charger with 3m/15 ft power cord",null,"Includes Standard Pad Drivers or Scrubbing Brushes (Select One)"]
[null,"Closed Machine Venting for Battery Charging",null,"Key Switch for Safety"]
[null,"Breakaway Squeegee Design",null,"Hour Meter"]
[null,"Factory Set Squeegee Assembly for Maximum Recovery",null,"Jacking Points/Shipping Tie Downs"]
[null,"Cast Aluminum Squeegee Frame & Scrub Deck",null,"Yellow Maintenance Touch Points"]
[null,"Linatex/Linard Squeegee Blades with Tool-less Replacement",null,"Integrated Accessory Rails"]
[]
[]
[null,"TENNANT COMPANY WARRANTY"]
[null,"3 YEARS OR 2000 HOURS - PARTS"]
[null,"1 YEAR - BATTERY CHARGERS"]
[null,"2 YEARS LABOR, 6 MONTH TRAVEL"]
[null,"10 YEARS ON DURAMERTM ROTOMOLD TANKS"]
[]
[]
[]
[null,null,null,null,"                Quote Request Information"]
[null,null,null,null,null,null,"Fax (quote only)"]
[null,null,null,null,null,null,"Mail (quote,lit, specs)"]
[null,null,null,null,null,null,"Fax + Mail"]
[]
[null,null,null,null,"                Primary Use"]
[null,null,null,null,null,null,"Inside"]
[null,null,null,null,null,null,"Outside"]
[]
[null,null,"Description","Reference #","Canada Price","Qty.","Extended Price"]
[null,"Base Configuration",null,null,null,{"$f":"SUM(F56,F59,F63,F68,F71)","v":0}]
[null,null,"Cleaning Type",null,null,{"$f":"SUM(F57:F57)","v":0},null,null,null,null,null,{"$f":"SUM(F56)","v":0},"Surcharge Qty"]
[null,null,"T600ee Walk-Behind Scrubber 800 mm / 32\" Disk","T600ee-800D",54342,null,{"$f":"F57*E57","v":0},{"$f":"IFERROR(IFERROR(VLOOKUP(D57,Surcharge!A:B,2,FALSE)*F57, VLOOKUP(D57 & \"\",Surcharge!A:B,2,FALSE)*F57), \"\")","v":""},null,null,null,{"$f":"SUM(F57)","v":0},"Surcharge Qty",null,null,"M-T600eeVK_BASE_T600EE-800D"]
[null,null,null,null,null,null,null,{"$f":"IFERROR(IFERROR(VLOOKUP(D58,Surcharge!A:B,2,FALSE)*F58, VLOOKUP(D58 & \"\",Surcharge!A:B,2,FALSE)*F58), \"\")","v":""},null,null,null,null,null,null,null,""]
[null,null,"Squeegee Width",null,null,{"$f":"SUM(F60:F61)","v":0},null,{"$f":"IFERROR(IFERROR(VLOOKUP(D59,Surcharge!A:B,2,FALSE)*F59, VLOOKUP(D59 & \"\",Surcharge!A:B,2,FALSE)*F59), \"\")","v":""},null,null,null,0,"Surcharge Qty",null,null,""]
[null,null,"Standard","STD-T600ee","N/C",null,{"$f":"IF(F60=0,\" \",\"N/C\")","v":" "},{"$f":"IFERROR(IFERROR(VLOOKUP(D60,Surcharge!A:B,2,FALSE)*F60, VLOOKUP(D60 & \"\",Surcharge!A:B,2,FALSE)*F60), \"\")","v":""},null,null,null,0,"Surcharge Qty",null,null,"M-T600eeVK_SQEWDT_STD"]
[null,null,"Narrow Aisle","NR-T600ee","N/C",null,{"$f":"IF(F61=0,\" \",\"N/C\")","v":" "},{"$f":"IFERROR(IFERROR(VLOOKUP(D61,Surcharge!A:B,2,FALSE)*F61, VLOOKUP(D61 & \"\",Surcharge!A:B,2,FALSE)*F61), \"\")","v":""},null,null,null,0,"Surcharge Qty",null,null,"M-T600eeVK_SQEWDT_NWA"]
[null,null,null,null,null,null,null,{"$f":"IFERROR(IFERROR(VLOOKUP(D62,Surcharge!A:B,2,FALSE)*F62, VLOOKUP(D62 & \"\",Surcharge!A:B,2,FALSE)*F62), \"\")","v":""},null,null,null,{"$f":"SUM(F62)","v":0},"Surcharge Qty",null,null,""]
[null,null,"Battery Type  ",null,null,{"$f":"SUM(F64:F66)","v":0},null,{"$f":"IFERROR(IFERROR(VLOOKUP(D63,Surcharge!A:B,2,FALSE)*F63, VLOOKUP(D63 & \"\",Surcharge!A:B,2,FALSE)*F63), \"\")","v":""},null,null,null,null,null,null,null,""]
[null,null,"Wet 240AH C/20",9042056,"N/C",null,{"$f":"IF(F64=0,\" \",\"N/C\")","v":" "},{"$f":"IFERROR(IFERROR(VLOOKUP(D64,Surcharge!A:B,2,FALSE)*F64, VLOOKUP(D64 & \"\",Surcharge!A:B,2,FALSE)*F64), \"\")","v":""},null,null,null,{"$f":"SUM(F64)","v":0},"Surcharge Qty",null,null,"M-T600eeVK_BTY_W240C20"]
[null,null,null,null,null,null,null,{"$f":"IFERROR(IFERROR(VLOOKUP(D65,Surcharge!A:B,2,FALSE)*F65, VLOOKUP(D65 & \"\",Surcharge!A:B,2,FALSE)*F65), \"\")","v":""},null,null,null,{"$f":"SUM(F65)","v":0},"Surcharge Qty",null,null,""]
[null,null,"Manual Battery Watering ",9042064,1369,null,{"$f":"F66*E66","v":0},{"$f":"IFERROR(IFERROR(VLOOKUP(D66,Surcharge!A:B,2,FALSE)*F66, VLOOKUP(D66 & \"\",Surcharge!A:B,2,FALSE)*F66), \"\")","v":""},null,null,null,0,"Surcharge Qty",null,null,"M-T600eeVK_BTYWTRSYS_ML"]
[null,null,null,null,null,null,null,{"$f":"IFERROR(IFERROR(VLOOKUP(D67,Surcharge!A:B,2,FALSE)*F67, VLOOKUP(D67 & \"\",Surcharge!A:B,2,FALSE)*F67), \"\")","v":""},null,null,null,null,null,null,null,""]
[null,null,"Charger","Reference Number",null,{"$f":"SUM(F69:F72)","v":0},null,{"$f":"IFERROR(IFERROR(VLOOKUP(D68,Surcharge!A:B,2,FALSE)*F68, VLOOKUP(D68 & \"\",Surcharge!A:B,2,FALSE)*F68), \"\")","v":""},null,null,null,0,"Surcharge Qty",null,null,""]
[null,null,"25A 100-240V AC 50/60Hz 1Ph - Off-Board",9042253,"N/C",null,{"$f":"IF(F69=0,\" \",\"N/C\")","v":" "},{"$f":"IFERROR(IFERROR(VLOOKUP(D69,Surcharge!A:B,2,FALSE)*F69, VLOOKUP(D69 & \"\",Surcharge!A:B,2,FALSE)*F69), \"\")","v":""},null,null,null,null,null,null,null,"M-T600eeVK_CHG_25A100V5060H1_OFF"]
[null,null,null,null,null,null,null,{"$f":"IFERROR(IFERROR(VLOOKUP(D70,Surcharge!A:B,2,FALSE)*F70, VLOOKUP(D70 & \"\",Surcharge!A:B,2,FALSE)*F70), \"\")","v":""},null,null,null,null,null,null,null,""]
[null,null,"UL/ETL Rating",null,null,{"$f":"SUM(F72)","v":0},null,{"$f":"IFERROR(IFERROR(VLOOKUP(D71,Surcharge!A:B,2,FALSE)*F71, VLOOKUP(D71 & \"\",Surcharge!A:B,2,FALSE)*F71), \"\")","v":""},null,null,null,0,"Surcharge Qty",null,null,""]
[null,null,"UL Type EE",null,"N/C",null,{"$f":"IF(F72=0,\" \",\"N/C\")","v":" "},{"$f":"IFERROR(IFERROR(VLOOKUP(D72,Surcharge!A:B,2,FALSE)*F72, VLOOKUP(D72 & \"\",Surcharge!A:B,2,FALSE)*F72), \"\")","v":""},null,null,null,0,"Surcharge Qty",null,null,"M-T600ee"]
[null,null,null,null,null,null,null,{"$f":"IFERROR(IFERROR(VLOOKUP(D73,Surcharge!A:B,2,FALSE)*F73, VLOOKUP(D73 & \"\",Surcharge!A:B,2,FALSE)*F73), \"\")","v":""},null,null,null,0,"Surcharge Qty",null,null,""]
[null,"Machine Protection & Safety",null,null,null,{"$f":"SUM(F75:F77)","v":0},null,{"$f":"IFERROR(IFERROR(VLOOKUP(D74,Surcharge!A:B,2,FALSE)*F74, VLOOKUP(D74 & \"\",Surcharge!A:B,2,FALSE)*F74), \"\")","v":""},null,null,null,null,null,null,null,""]
[null,null,"Black Foam Filled Rubber  (Non-Marking)",9042099,"N/C",null,{"$f":"IF(F75=0,\" \",\"N/C\")","v":" "},{"$f":"IFERROR(IFERROR(VLOOKUP(D75,Surcharge!A:B,2,FALSE)*F75, VLOOKUP(D75 & \"\",Surcharge!A:B,2,FALSE)*F75), \"\")","v":""},null,null,null,null,null,null,null,"M-T600eeVK_NONMKTTRE_BFFR"]
[null,null,"Black Pneumatic Rubber  (Non-Marking)",9042071,"N/C",null," ",{"$f":"IFERROR(IFERROR(VLOOKUP(D76,Surcharge!A:B,2,FALSE)*F76, VLOOKUP(D76 & \"\",Surcharge!A:B,2,FALSE)*F76), \"\")","v":""},null,null,null,null,null,null,null,"M-T600eeVK_NONMKTTRE_BPR"]
[null,null,"Trailer Transport Kit",9042165,496,null,{"$f":"F77*E77","v":0},{"$f":"IFERROR(IFERROR(VLOOKUP(D77,Surcharge!A:B,2,FALSE)*F77, VLOOKUP(D77 & \"\",Surcharge!A:B,2,FALSE)*F77), \"\")","v":""},null,null,null,null,null,null,null,"M-T600eeVK_TRLTRTKIT"]
[null,null,null,null,null,null,null,{"$f":"IFERROR(IFERROR(VLOOKUP(D78,Surcharge!A:B,2,FALSE)*F78, VLOOKUP(D78 & \"\",Surcharge!A:B,2,FALSE)*F78), \"\")","v":""},null,null,null,null,null,null,null,""]
[null,"Brushes and Pads (Note 1)",null,"Reference Number",null,{"$f":"SUM(F80:F89)","v":0},null,{"$f":"IFERROR(IFERROR(VLOOKUP(D79,Surcharge!A:B,2,FALSE)*F79, VLOOKUP(D79 & \"\",Surcharge!A:B,2,FALSE)*F79), \"\")","v":""},null,null,null,null,null,null,null,""]
[null,null,"800mm/32\" Disk Scrubbing Brushes/Pads (2 Required - 16\" each)",null,null,{"$f":"SUM(F81:F89)","v":0},null,{"$f":"IFERROR(IFERROR(VLOOKUP(D80,Surcharge!A:B,2,FALSE)*F80, VLOOKUP(D80 & \"\",Surcharge!A:B,2,FALSE)*F80), \"\")","v":""},null,null,null,null,null,null,null,""]
[null,null,"Polypropylene Brush",1234524,"N/C",null,{"$f":"IF(F81=0,\" \",\"N/C\")","v":" "},{"$f":"IFERROR(IFERROR(VLOOKUP(D81,Surcharge!A:B,2,FALSE)*F81, VLOOKUP(D81 & \"\",Surcharge!A:B,2,FALSE)*F81), \"\")","v":""},null,null,null,null,null,null,null,"M-T600eeVK_CLNTOL_D800PYP"]
[null,null,"Heavy Duty Polypropylene Brush",1234525,"N/C",null," ",{"$f":"IFERROR(IFERROR(VLOOKUP(D82,Surcharge!A:B,2,FALSE)*F82, VLOOKUP(D82 & \"\",Surcharge!A:B,2,FALSE)*F82), \"\")","v":""},null,null,null,null,null,null,null,"M-T600eeVK_CLNTOL_D800HDPYP"]
[null,null,"Nylon Brush",1234523,"N/C",null," ",{"$f":"IFERROR(IFERROR(VLOOKUP(D83,Surcharge!A:B,2,FALSE)*F83, VLOOKUP(D83 & \"\",Surcharge!A:B,2,FALSE)*F83), \"\")","v":""},null,null,null,null,null,null,null,"M-T600eeVK_CLNTOL_D800NYL"]
[null,null,null,null,null,null,null,{"$f":"IFERROR(IFERROR(VLOOKUP(D84,Surcharge!A:B,2,FALSE)*F84, VLOOKUP(D84 & \"\",Surcharge!A:B,2,FALSE)*F84), \"\")","v":""}]
[null,null,"Pad Driver",1234527,"N/C",null,{"$f":"IF(F85=0,\" \",\"N/C\")","v":" "},{"$f":"IFERROR(IFERROR(VLOOKUP(D85,Surcharge!A:B,2,FALSE)*F85, VLOOKUP(D85 & \"\",Surcharge!A:B,2,FALSE)*F85), \"\")","v":""},null,null,null,null,null,null,null,"M-T600eeVK_CLNTOL_D800PAD"]
[null,null,"Pads",null,null,{"$f":"SUM(F87:F89)","v":0},null,{"$f":"IFERROR(IFERROR(VLOOKUP(D86,Surcharge!A:B,2,FALSE)*F86, VLOOKUP(D86 & \"\",Surcharge!A:B,2,FALSE)*F86), \"\")","v":""}]
[null,null,"Blue Scrubbing - 3M","63248-2",30,null,{"$f":"F87*E87","v":0},{"$f":"IFERROR(IFERROR(VLOOKUP(D87,Surcharge!A:B,2,FALSE)*F87, VLOOKUP(D87 & \"\",Surcharge!A:B,2,FALSE)*F87), \"\")","v":""},null,null,null,null,null,null,null,"M-T600eeVK_PADTYP_800BLU3"]
[null,null,"Red Cleaning - 3M","63248-3",30,null,{"$f":"F88*E88","v":0},{"$f":"IFERROR(IFERROR(VLOOKUP(D88,Surcharge!A:B,2,FALSE)*F88, VLOOKUP(D88 & \"\",Surcharge!A:B,2,FALSE)*F88), \"\")","v":""},null,null,null,null,null,null,null,"M-T600eeVK_PADTYP_800RED3"]
[null,null,"White Polishing - 3M","63248-4",30,null,0,{"$f":"IFERROR(IFERROR(VLOOKUP(D89,Surcharge!A:B,2,FALSE)*F89, VLOOKUP(D89 & \"\",Surcharge!A:B,2,FALSE)*F89), \"\")","v":""},null,null,null,null,null,null,null,"M-T600eeVK_PADTYP_800WHT3"]
[null,null,null,null,null,null,null,{"$f":"IFERROR(IFERROR(VLOOKUP(D90,Surcharge!A:B,2,FALSE)*F90, VLOOKUP(D90 & \"\",Surcharge!A:B,2,FALSE)*F90), \"\")","v":""},null,null,null,null,null,null,null,""]
[null,"Support (Note 2)",null,"Reference Number",null,{"$f":"SUM(F92:F98)","v":0},null,{"$f":"IFERROR(IFERROR(VLOOKUP(D91,Surcharge!A:B,2,FALSE)*F91, VLOOKUP(D91 & \"\",Surcharge!A:B,2,FALSE)*F91), \"\")","v":""},null,null,null,null,null,null,null,""]
[null,null,"Warranty",null,"N/C",null,{"$f":"IF(F92=0,\" \",\"N/C\")","v":" "},{"$f":"IFERROR(IFERROR(VLOOKUP(D92,Surcharge!A:B,2,FALSE)*F92, VLOOKUP(D92 & \"\",Surcharge!A:B,2,FALSE)*F92), \"\")","v":""},null,null,null,null,null,null,null,"M-T600ee"]
[null,null,"Operator Manual - English",9016606,"N/C",null," ",{"$f":"IFERROR(IFERROR(VLOOKUP(D93,Surcharge!A:B,2,FALSE)*F93, VLOOKUP(D93 & \"\",Surcharge!A:B,2,FALSE)*F93), \"\")","v":""},null,null,null,null,null,null,null,"M-T600ee"]
[null,null,"Operator Manual - Spanish",9016607,"N/C",null," ",{"$f":"IFERROR(IFERROR(VLOOKUP(D94,Surcharge!A:B,2,FALSE)*F94, VLOOKUP(D94 & \"\",Surcharge!A:B,2,FALSE)*F94), \"\")","v":""},null,null,null,null,null,null,null,"M-T600ee"]
[null,null,"Operator Manual - French  (Note 3)",9016608,"N/C",null," ",{"$f":"IFERROR(IFERROR(VLOOKUP(D95,Surcharge!A:B,2,FALSE)*F95, VLOOKUP(D95 & \"\",Surcharge!A:B,2,FALSE)*F95), \"\")","v":""},null,null,null,null,null,null,null,"M-T600ee"]
[null,null,"Additional Operator Manual","SEE ABOVE",209,null,{"$f":"F96*E96","v":0},{"$f":"IFERROR(IFERROR(VLOOKUP(D96,Surcharge!A:B,2,FALSE)*F96, VLOOKUP(D96 & \"\",Surcharge!A:B,2,FALSE)*F96), \"\")","v":""},null,null,null,null,null,null,null,"M-T600eeVK_ADLOPRMNL"]
[null,null,"Parts Manual",9016609,85,null,0,{"$f":"IFERROR(IFERROR(VLOOKUP(D97,Surcharge!A:B,2,FALSE)*F97, VLOOKUP(D97 & \"\",Surcharge!A:B,2,FALSE)*F97), \"\")","v":""},null,null,null,null,null,null,null,"M-T600eeVK_PARMNL"]
[null,null,"Service Manual",9016605,209,null,0,{"$f":"IFERROR(IFERROR(VLOOKUP(D98,Surcharge!A:B,2,FALSE)*F98, VLOOKUP(D98 & \"\",Surcharge!A:B,2,FALSE)*F98), \"\")","v":""},null,null,null,null,null,null,null,"M-T600eeVK_SRVMNL"]
[null,null,null,null,null,null,null,{"$f":"IFERROR(IFERROR(VLOOKUP(D99,Surcharge!A:B,2,FALSE)*F99, VLOOKUP(D99 & \"\",Surcharge!A:B,2,FALSE)*F99), \"\")","v":""}]
[null,null,"Packaging",null,null,{"$f":"SUM(F101)","v":0},null,{"$f":"IFERROR(IFERROR(VLOOKUP(D100,Surcharge!A:B,2,FALSE)*F100, VLOOKUP(D100 & \"\",Surcharge!A:B,2,FALSE)*F100), \"\")","v":""}]
[null,null,"Skid w/Carton, Stackable",null,"N/C",null,{"$f":"IF(F101=0,\" \",\"N/C\")","v":" "},{"$f":"IFERROR(IFERROR(VLOOKUP(D101,Surcharge!A:B,2,FALSE)*F101, VLOOKUP(D101 & \"\",Surcharge!A:B,2,FALSE)*F101), \"\")","v":""},null,null,null,null,null,null,null,"M-T600eeVK_PKG_SSKD"]
[null,null,null,null,null,null,null,{"$f":"IFERROR(IFERROR(VLOOKUP(D102,Surcharge!A:B,2,FALSE)*F102, VLOOKUP(D102 & \"\",Surcharge!A:B,2,FALSE)*F102), \"\")","v":""}]
[null,null,null,null,null,"  "]
[]
[null,"Custom Solution--write in description, qty, price, and PN if applicable",null,null,null,{"$f":"SUM(F106)","v":0}]
[null,null,null,null,"Insert Prices Here",{"$f":"SUM(F107:F110)","v":0}]
[null,null,null,"Custom",null,{"$f":"IF(E107 <> \"\", 1, 0)","v":0},{"$f":"F107*E107","v":0}]
[null,null,null,"Custom",null,{"$f":"IF(E108 <> \"\", 1, 0)","v":0},{"$f":"F108*E108","v":0}]
[null,null,null,"Custom",null,{"$f":"IF(E109 <> \"\", 1, 0)","v":0},{"$f":"F109*E109","v":0}]
[null,null,null,"Custom",null,{"$f":"IF(E110 <> \"\", 1, 0)","v":0},{"$f":"F110*E110","v":0}]
[null,null,null,null,{"$f":"ROUND(SUM(G57:G110), 0)","v":0},{"$f":"SUM(E112)","v":0}]
[null,null,null,"Machine Subtotal ",{"$f":"ROUND(SUM(G57:G110), 0)","v":0},{"$f":"F111","v":0}]
[null,"Discounts",null,null,null,{"$f":"SUM(F114)","v":0}]
[null,null,null,null,null,{"$f":"SUM(F116:F119)","v":0}]
[null,null,null,"Applicable Currency Adj %",null,{"$f":"IF(E115 <> \"\", 1, 0)","v":0},{"$f":"IF(F115*(E115*0.01)*E111 < 0, F115*(E115*0.01)*E111, -(F115*(E115*0.01)*E111))","v":0}]
[null,null,null,"Discount %",null,{"$f":"IF(E116 <> \"\", 1, 0)","v":0},{"$f":"IF(F116*(E116*0.01)*(E111+G115) < 0, F116*(E116*0.01)*(E111+G115), -(F116*(E116*0.01)*(E111+G115)))","v":0}]
[null,null,null,"Discount $",null,{"$f":"IF(E117 <> \"\", 1, 0)","v":0},{"$f":"IF(F117*E117 < 0, F117*E117, -(F117*E117))","v":0}]
[null,null,null,"Discount $",null,{"$f":"IF(E118 <> \"\", 1, 0)","v":0},{"$f":"IF(F118*E118 < 0, F118*E118, -(F118*E118))","v":0}]
[null,null,null,"Discount $",null,{"$f":"IF(E119 <> \"\", 1, 0)","v":0},{"$f":"IF(F119*E119 < 0, F119*E119, -(F119*E119))","v":0}]
[null,null,null,"Discount Total ",{"$f":"SUM(G115:G119)","v":0},{"$f":"SUM(E120)","v":0}]
[null,null,null,null,null,{"$f":"#REF!","v":{"$error":"#REF!"}}]
[null,null,null,null,null,{"$f":"F121","v":{"$error":"#REF!"}}]
[null,null,"Prepaid and Add","Freight",null,{"$f":"IF(E123 <> \"\", 1, 0)","v":0},{"$f":"F123*E123","v":0}]
[null,null,"Subject to all applicable taxes","Tax",null,{"$f":"IF(E124 <> \"\", 1, 0)","v":0},{"$f":"F124*E124","v":0}]
[null,null,null,null,null,{"$f":"SUM(F126)","v":0}]
[null,null,null,"MACHINE TOTAL*",null,{"$f":"SUM(G126)","v":0},{"$f":"SUM(G57:G124)","v":0},null,null,null,"This goes to \"My Documents\""]
[null,null,null,null,null,null,{"$f":"SUM(G126)","v":0}]
[]
[]
[]
[]
[null,null,"First Western Equipment Finance - Leasing Calculation Option:","Option 1",null,"Option 2",null,null,null,{"$f":"Financing!A38","v":"Rates 2025 - Rev 2/4/2025"}]
[null,null,null,"Monthly Payment","Cost Per Day","Monthly Payment","Cost Per Day",null,null,{"$f":"Financing!A39","v":"“Blank Payment Amounts Indicate The Financing Option Or Purchase Options Selected Are Not "}]
[null,null,"Purchase Option:","FWEF:  $1 Buyout Lease",null,"FWEF: Municipal Lease",null,null,null,{"$f":"Financing!A40","v":"Applicable Or The Machine Total Is Below The Minimum Amount For The Selected Vendor”"}]
[null,null,"24 Months",false,0,false,0,null,null,{"$f":"Financing!A41","v":"\"Quoted monthly payments are estimates only and are based on a certain level of credit rating."}]
[null,null,"30 Months",false,0,false,0,null,null,{"$f":"Financing!A42","v":"Actual monthly payments may be higher depending on your credit rating.\""}]
[null,null,"36 Months",false,0,false,0,null,null,{"$f":"Financing!A43","v":"“Financing rates do not include Pre-Paid Service”"}]
[null,null,"48 Months",0,0,0,0,null,{"$f":"Financing!A44","v":0}]
[]
[null,null,null,"Benefits of Equipment Financing:"]
[null,null,null,"• Spreads out investment over time.",null,"• Keep current with latest technology."]
[null,null,null,"• Preserve capital.",null,"• Service and parts bundling available."]
[null,null,null,"• Low monthly payment.",null,"• Pay for labor savings as you go."]
[]
[null,"   TennantTrue",null,null,0,0]
[]
[null,null,"Is customer interested in service program?","Yes","*State/County selection required for TennantTrue service options"]
[]
[null,null,"If not, why?"]
[]
[null,null,"Term:",36,null,null,"AB Brushes","No"]
[null,null,"Monthly machine usage (hrs):","< 30/mo. (Avg. 1hr./day)"]
[]
[null,null,"TennantTrue: ","Gold Contract",null,"Silver Contract"]
[null,null,"Per Visit",null,null,481]
[null,null,"Monthly",141,null,83]
[null,null,"Annually",null,null,972]
[null,null,"Pre-Pay Full Term",4884,null,2858]
[null,null,"Hourly Labor Rate"]
[null,null,"Site Visit"]
[]
[null,null,"* Verify customer current pricing prior to quote. "]
[null,null,"**All rates and fees above reflect service for one (1) unit with the exception of Block of Time service."]
[null,null,"*Block of Time is available in 1 Year Term only and is priced as such no matter the term selection on this template."]
[]
[]
[]
[null,null,"Quote Special Instructions:"]
[]
[]
[null,null,{"$f":"Start_Here!E36","v":"Terms and Conditions"}]
[null,null,{"$f":"Start_Here!E37","v":"Ask your local sales rep for estimated lead times. Verify when placing order"}]
[null,null,{"$f":"Start_Here!E38","v":"All orders subject to acceptance by Tennant Sales and Service Company, Minneapolis, Minnesota"}]
[null,null,{"$f":"Start_Here!E39","v":"Prices subject to change without notice. Subject to any applicable taxes."}]
[null,null,{"$f":"Start_Here!E40","v":"Terms:  Net 30 days.  Payable in Canadian Funds"}]
[null,null,{"$f":"Start_Here!E41","v":"Freight:  Accessories, parts, supplies, detergents, and floor coatings orders delivered DDP "}]
[null,null,{"$f":"Start_Here!E42","v":"shipping point Frt PPD.  Machine orders delivered DDP shipping point Frt PPD and add."}]
[null,null,{"$f":"Start_Here!E43","v":"Returned Merchandise is subject to a restocking fee."}]
[null,null,{"$f":"Start_Here!E45","v":"Printed General Terms and Conditions are also available upon request."}]
[null,null,{"$f":"Start_Here!E46","v":0}]
[]
[]
[null,null,null,null,"Quote Date :",null,{"$f":"Letter!$A$25","v":"2014-10-02"}]
["Order Placement Information:  To place your order, fill in PO# and customer signatures,"]
["call or fax to the numbers listed below. Customer Purchase Order is required."]
["If information is missing, orders will be entered and held until all information is received."]
[null,null,"Customer Number",null,"Cust Grp 3"]
[null,null,{"$f":"Start_Here!$C$25","v":0},null,{"$f":"Start_Here!$C$29","v":0}]
[null,null,{"$f":"Start_Here!$B$18","v":"Who Owns the Machine? (Sold-To Info) (Please Verify)"}]
["Company",null,{"$f":"Start_Here!$C$19","v":"Company Name"}]
["Address",null,{"$f":"Start_Here!$C$20","v":"Address"}]
[null,null,{"$f":"Start_Here!$C$21","v":"City, State Zip"}]
["Name",null,{"$f":"Start_Here!$C$22","v":"Contact Name"}]
["Phone",null,{"$f":"Start_Here!$C$23","v":"Contact Phone"}]
[null,null,{"$f":"Start_Here!$B$11","v":"Where is the Machine Being Shipped? (Ship-To Info) (Please Verify)"}]
["Company",null,{"$f":"Start_Here!$C$12","v":"Company Name"}]
["Address",null,{"$f":"Start_Here!$C$13","v":"Address"}]
[null,null,{"$f":"Start_Here!$C$14","v":"City, State Zip"}]
["Name",null,{"$f":"Start_Here!$C$15","v":"Contact Name"}]
["Phone",null,{"$f":"Start_Here!$C$16","v":"Contact Phone"}]
[null,null,{"$f":"Start_Here!$B$31","v":"Shipping / Carrier Instructions:"},null,"Order Special Instructions:"]
[null,null,{"$f":"Start_Here!$C$32","v":0}]
[]
[null,null,"Customer Purchase Order No."]
[null,null,"(please attach copy)"]
[]
[]
[null,null,"Tax Exempt",null,"Yes"]
[null,null,null,null,"No"]
[null,null,"If Yes, attach a copy of your exemption certificate."]
[]
[null,null,"Requested Delivery Date"]
[null,null,{"$f":"Start_Here!$C$28","v":0}]
[]
[null,null,{"$f":"Start_Here!$C$26","v":0},null,{"$f":"Start_Here!$C$27","v":0}]
[null,null,"Authorized Buyer (please print)",null,"Phone Number"]
[]
[]
[null,null,"Authorized Buyer Signature"]
[]
[null,null,{"$f":"Start_Here!$C$41","v":"Rep Name"}]
[null,null,"Tennant Representative"]
[]
["Specialized Maintenance Equipment"]
[{"$f":"Start_Here!$C$48","v":"TENNANT · 10400 Clean Street · Eden Prairie, MN 55344 ·"}]
[{"$f":"Start_Here!$C$49","v":" PHONE:800-553-8033 · FAX:763-513-2116"}]
[]
[null,"SPECIAL INFORMATION"]
[]
[null,"Notes"]
[]
[null,1,"One set of brushes or pad drivers come standard with machine."]
[]
[null,2,"Additional hard copy Operator and Parts Manuals can be ordered or digital copies can be downloaded from www.Tennantco.com."]
[]
[null,3,"A French and English manual will be supplied for all units shipping into Quebec, Canada at no charge.  An additional manual"]
[null,null,"can be ordered (for a total of 3 manuals) for an additional charge as stated under 'Additional Operator Manual'."]
[]
[null,4,"Shipping Weights and Dimensions",null,"Skid w/Carton"]
[]
[null,null,"Weight",null,"736 lbs / 334 Kg"]
[null,null,"Length",null,"75\" / 1905 mm"]
[null,null,"Width",null,"45\" / 1143 mm"]
[null,null,"Height",null,"52\" / 1321 mm"]
[]
[null,"5","CURRENT DETERGENT PRODUCT",null,null,null,"NEW DETERGENT PRODUCT"]
[null,null,"Original PN ","Description","Size",null,"New PN ","Description","Size"]
[null,null,"9000755  08682-5","653 & 654 ","5 Gallon",null,9006764,"General Purpose Cleaner","2 -2.5G "]
[null,null,"9000824  08682-15","653 & 654","15 Gallon",null,9006765,"General Purpose Cleaner","15 Gallon"]
[null,null,"9000757  08682-55","653 & 654","55 Gallon",null,9006767,"General Purpose Cleaner","55 Gallon"]
[null,null,"9000758  9000404","653 & 654","275 Gallon",null,9006769,"General Purpose Cleaner","275 Gallon"]
[]
[null,null,"08683-5  08678-5","655 & 658 ","5 Gallon",null,9006776,"High Alkaline Degreaser","2 -2.5G "]
[null,null,"08683-15  08678-15","655 & 658","15 Gallon",null,9006777,"High Alkaline Degreaser","15 Gallon"]
[null,null,"08683-55  08678-55","655 & 658","55 Gallon",null,9006779,"High Alkaline Degreaser","55 Gallon"]
[null,null,"9000405  9000407","655 & 658","275 Gallon",null,9006781,"High Alkaline Degreaser","275 Gallon"]
[]
[null,null,"08690-1  08690-5  08684-5","9960 & 698","5 Gallon",null,9006770,"Solvent Based Degreaser","2 -2.5G "]
[null,null,"08690-55   08684-55","9960 & 698","55 Gallon",null,9006773,"Solvent Based Degreaser","55 Gallon"]
[]
[null,null,"08584-4",601,"22Lb. Carton",null,9006782,"High Alkaline Granular","22Lb. Carton"]
[null,null,"08584-2",601,"250Lb. Drum",null,9006783,"High Alkaline Granular","250Lb. Drum"]

{"sheet":"T7","index":37,"n_rows":269,"n_cols":16,"rows_kept":269,"cut":false,"hidden":false,"merged":[[217,4,217,5],[190,4,190,6],[192,2,192,5],[193,2,193,5],[194,2,194,5],[195,2,195,5],[196,2,196,5],[198,2,198,5],[199,2,199,5],[200,2,200,5],[201,2,201,5],[202,2,202,5],[204,4,204,6],[201,0,201,1],[202,0,202,1],[206,2,206,5],[207,2,207,5],[208,2,208,5],[193,0,193,1],[195,0,195,1],[196,0,196,1],[198,0,198,1],[199,0,199,1],[0,2,0,3],[1,2,1,3],[2,2,2,3],[3,2,3,3],[29,2,29,6],[25,2,25,3],[11,2,11,6],[133,5,133,6],[30,2,30,6],[31,2,31,6],[133,3,133,4],[159,3,159,4],[159,5,159,6],[160,3,160,4],[135,3,135,4],[135,5,135,6],[160,5,160,6],[192,0,192,1],[152,3,152,4],[150,3,150,6],[148,4,148,8],[153,3,153,4],[170,1,170,6],[155,3,155,4],[155,5,155,6],[156,3,156,4],[156,5,156,6],[157,3,157,4],[157,5,157,6],[161,3,161,4],[161,5,161,6],[158,3,158,4],[158,5,158,6]]}
["T7",null,{"$f":"Start_Here!$C19","v":"Company Name"}]
[{"$f":"SUM(G128)","v":0},null,{"$f":"Start_Here!$C20","v":"Address"}]
[null,null,{"$f":"Start_Here!$C21","v":"City, State Zip"}]
[null,null,{"$f":"Start_Here!$C22","v":"Contact Name"}]
[null,null,{"$f":"Start_Here!$C$41","v":"Rep Name"}]
[null,null,{"$f":"Start_Here!$C$37","v":"Tennant Sales and Service Company"}]
[null,null,{"$f":"Start_Here!$C$38","v":"10400 Clean Street"}]
[null,null,{"$f":"Start_Here!$C$39","v":"Eden Prairie, MN 55344"}]
[null,null,{"$f":"Start_Here!$C$43","v":"800-553-8033"},null,"Quote Date :",null,{"$f":"Letter!$A$25","v":"2014-10-02"}]
[]
[null,null,{"$f":"Help!C2","v":"CAN Date Rev - 5/6/2025"}]
[null,null,"BUILT-IN “TENNANT VALUE” INCLUDES:"]
[null,null,"Fully Cleanable HygenicTM Tanks",null,"Unsurpassed Ergonomic Design"]
[null,null,"Extremely Low 67 dBa Noise Levels",null,"Standard 240 AH Battery Pack (Optional 360 AH)"]
[null,null,"Unmatched Solution Recovery",null,"Charger"]
[null,null,"One-Button Scrubbing Operation",null,"Edge & Reach Under Cleaning"]
[null,null,"Economy Mode (extends run time up to 4.5 hours)",null,"No Tool Brush / Squeegee Change"]
[null,null,"On Board Diagnostics",null,"Standard Scrubbing Brushes & Pad Drivers (Select One Type)"]
[null,null,"Touch Panel Controls",null,"Vacuum Fan In-Line Air Filter Cartridge"]
[null,null,"Automatic:",null,"Brush Shutoff When Idle"]
[null,null,"           Squeegee Lift",null,"Brush Shutoff at 80% Discharge"]
[null,null,"           Water Shutoff",null,"Audio Back Up Alarm"]
[]
[null,null,"ec-H2O NanoCleanTM Equipped Models Include:"]
[null,null,"Electrically Converted Water Technology System"]
[null,null,"Two Scrubbing Modes: ec-H2O NanoCleanTM & Conventional Scrubbing"]
[]
[]
[]
[null,null,"TENNANT COMPANY WARRANTY"]
[null,null,"3 YEARS OR 1500 HOURS ON ALL COMPONENTS, 3 YEARS LABOR"]
[null,null,"90 DAYS TRAVEL, 10 YEARS ON DURAMERTM TANKS"]
[]
[]
[]
[null,null,null,null,"                Quote Request Information"]
[null,null,null,null,null,null,"Fax (quote only)"]
[null,null,null,null,null,null,"Mail (quote,lit, specs)"]
[null,null,null,null,null,null,"Fax + Mail"]
[]
[null,null,null,null,"                Primary Use"]
[null,null,null,null,null,null,"Inside"]
[null,null,null,null,null,null,"Outside"]
[]
[null,null,"Description","Reference #","Price Each","Qty","Extended Price"]
[null,"Base Configuration",null,null,"CANADA",{"$f":"SUM(F47,F53,F56,F64)","v":0},null,{"$f":"IFERROR(IFERROR(VLOOKUP(D46,Surcharge!A:B,2,FALSE)*#REF!, VLOOKUP(D46 & \"\",Surcharge!A:B,2,FALSE)*#REF!), \"\")","v":""}]
[null,null,"Cleaning Type",null,null,{"$f":"SUM(F48:F49)","v":0},null,{"$f":"IFERROR(IFERROR(VLOOKUP(D47,Surcharge!A:B,2,FALSE)*F47, VLOOKUP(D47 & \"\",Surcharge!A:B,2,FALSE)*F47), \"\")","v":""}]
[null,null,"T7 Ride-On Scrubber 650 mm/26\"  - Disk","T7-650-D",36606,null,{"$f":"F48*E48","v":0},{"$f":"IFERROR(IFERROR(VLOOKUP(D48,Surcharge!A:B,2,FALSE)*F48, VLOOKUP(D48 & \"\",Surcharge!A:B,2,FALSE)*F48), \"\")","v":0},null,null,null,{"$f":"SUM(F48)","v":0},"Surcharge Qty",null,null,"M-T7VK_BASE_T7-650-D"]
[null,null,"T7 Ride-On Scrubber 800 mm/32\"  - Disk","T7-800-D",39317,null,{"$f":"F49*E49","v":0},{"$f":"IFERROR(IFERROR(VLOOKUP(D49,Surcharge!A:B,2,FALSE)*F49, VLOOKUP(D49 & \"\",Surcharge!A:B,2,FALSE)*F49), \"\")","v":0},null,null,null,{"$f":"SUM(F49)","v":0},"Surcharge Qty",null,null,"M-T7VK_BASE_T7-800-D"]
[null,null,null,null,null,null,null,{"$f":"IFERROR(IFERROR(VLOOKUP(D50,Surcharge!A:B,2,FALSE)*F50, VLOOKUP(D50 & \"\",Surcharge!A:B,2,FALSE)*F50), \"\")","v":""},null,null,null,0,"Surcharge Qty"]
[null,null,"Cleaning Technology: (conventional is standard,  ec-H2O NanoClean can also operate in conventional mode)",null,null,{"$f":"SUM(F52:F52)","v":0},null,{"$f":"IFERROR(IFERROR(VLOOKUP(D51,Surcharge!A:B,2,FALSE)*F51, VLOOKUP(D51 & \"\",Surcharge!A:B,2,FALSE)*F51), \"\")","v":""}]
[null,null,"ec-H2O NanoClean™  (Note 1)","ec-H2ONC-T7",4778,null,{"$f":"F52*E52","v":0},{"$f":"IFERROR(IFERROR(VLOOKUP(D52,Surcharge!A:B,2,FALSE)*F52, VLOOKUP(D52 & \"\",Surcharge!A:B,2,FALSE)*F52), \"\")","v":""},null,null,null,null,null,null,null,"M-T7VK_CLNTCH_ECH2ON"]
[null,null,null,null,null,null,null,{"$f":"IFERROR(IFERROR(VLOOKUP(D53,Surcharge!A:B,2,FALSE)*F53, VLOOKUP(D53 & \"\",Surcharge!A:B,2,FALSE)*F53), \"\")","v":""},null,null,null,0,"Surcharge Qty"]
[null,null,"Battery Type (Note 2)",null,null,{"$f":"SUM(F55:F60)","v":0},null,{"$f":"IFERROR(IFERROR(VLOOKUP(D54,Surcharge!A:B,2,FALSE)*F54, VLOOKUP(D54 & \"\",Surcharge!A:B,2,FALSE)*F54), \"\")","v":""}]
[null,null,"Wet 240AH C/20  (Kit of 4 batteries)",9000814,"N/C",null,{"$f":"IF(F55=0,\" \",\"N/C\")","v":" "},{"$f":"IFERROR(IFERROR(VLOOKUP(D55,Surcharge!A:B,2,FALSE)*F55, VLOOKUP(D55 & \"\",Surcharge!A:B,2,FALSE)*F55), \"\")","v":""},null,null,null,{"$f":"SUM(F55)","v":0},"Surcharge Qty",null,null,"M-T7"]
[null,null,"Wet 360AH C/20  (Kit of 4 batteries)",9000815,1003,null,{"$f":"F56*E56","v":0},{"$f":"IFERROR(IFERROR(VLOOKUP(D56,Surcharge!A:B,2,FALSE)*F56, VLOOKUP(D56 & \"\",Surcharge!A:B,2,FALSE)*F56), \"\")","v":""},null,null,null,{"$f":"SUM(F56)","v":0},"Surcharge Qty",null,null,"M-T7VK_BTY_W360C20"]
[null,null,"Sealed/MF AGM 220AH C/20  (Kit of 4 batteries)",9001915,2496,null,{"$f":"F57*E57","v":0},{"$f":"IFERROR(IFERROR(VLOOKUP(D57,Surcharge!A:B,2,FALSE)*F57, VLOOKUP(D57 & \"\",Surcharge!A:B,2,FALSE)*F57), \"\")","v":""},null,null,null,null,null,null,null,"M-T7VK_BTY_A220C20"]
[null,null,"Without Battery  ",null,-630,null,{"$f":"F58*E58","v":0},{"$f":"IFERROR(IFERROR(VLOOKUP(D58,Surcharge!A:B,2,FALSE)*F58, VLOOKUP(D58 & \"\",Surcharge!A:B,2,FALSE)*F58), \"\")","v":""},null,null,null,null,null,null,null,"M-T7VK_BTY_WO"]
[null,null,null,null," ",null,null,{"$f":"IFERROR(IFERROR(VLOOKUP(D59,Surcharge!A:B,2,FALSE)*F59, VLOOKUP(D59 & \"\",Surcharge!A:B,2,FALSE)*F59), \"\")","v":""},null,null,null,null,null,null,null,""]
[null,null,"Manual Battery Watering Kit  (Note 3)",9009619,861,null,{"$f":"F60*E60","v":0},{"$f":"IFERROR(IFERROR(VLOOKUP(D60,Surcharge!A:B,2,FALSE)*F60, VLOOKUP(D60 & \"\",Surcharge!A:B,2,FALSE)*F60), \"\")","v":""},null,null,null,null,null,null,null,"M-T7VK_BTYWTRSYS"]
[null,null,null,null,null,null,null,{"$f":"IFERROR(IFERROR(VLOOKUP(D61,Surcharge!A:B,2,FALSE)*F61, VLOOKUP(D61 & \"\",Surcharge!A:B,2,FALSE)*F61), \"\")","v":""}]
[null,null,"Charger (Note 4)",null,null,{"$f":"SUM(F63:F67)","v":0},null,{"$f":"IFERROR(IFERROR(VLOOKUP(D62,Surcharge!A:B,2,FALSE)*F62, VLOOKUP(D62 & \"\",Surcharge!A:B,2,FALSE)*F62), \"\")","v":""}]
[null,null,"19A 100-240V AC 50/60Hz 1Ph - standard Off-Board for 240AH and 360AH Batteries",1029256,"N/C",null,{"$f":"IF(F63=0,\" \",\"N/C\")","v":" "},{"$f":"IFERROR(IFERROR(VLOOKUP(D63,Surcharge!A:B,2,FALSE)*F63, VLOOKUP(D63 & \"\",Surcharge!A:B,2,FALSE)*F63), \"\")","v":""},null,null,null,null,null,null,null,"M-T7VK_CHG_19A100V5060H1"]
[null,null,"25A 100-240V AC 50/60Hz 1Ph, - Off-Board for  AGM 220AH Battery",9012519,325,null,{"$f":"F64*E64","v":0},{"$f":"IFERROR(IFERROR(VLOOKUP(D64,Surcharge!A:B,2,FALSE)*F64, VLOOKUP(D64 & \"\",Surcharge!A:B,2,FALSE)*F64), \"\")","v":""},null,null,null,null,null,null,null,"M-T7VK_CHG_25A100V5060H1"]
[null,null,"25A 100-240V AC 50/60Hz 1Ph, - Off-Board, in lieu of standard for 360AH Battery",9009486,325,null,{"$f":"F65*E65","v":0},{"$f":"IFERROR(IFERROR(VLOOKUP(D65,Surcharge!A:B,2,FALSE)*F65, VLOOKUP(D65 & \"\",Surcharge!A:B,2,FALSE)*F65), \"\")","v":""},null,null,null,null,null,null,null,"M-T7VK_CHG_25A100V5060H1"]
[null,null,"25A 115V AC  60Hz 1Ph  - On-Board Charger, in lieu of standard",9001993,1011,null,{"$f":"F66*E66","v":0},{"$f":"IFERROR(IFERROR(VLOOKUP(D66,Surcharge!A:B,2,FALSE)*F66, VLOOKUP(D66 & \"\",Surcharge!A:B,2,FALSE)*F66), \"\")","v":""},null,null,null,null,null,null,null,"M-T7VK_CHG_25A115V60H1P"]
[null,null,"27A 100-240V AC 50/60Hz 1Ph - Off-Board for all Batteries\n     (IRIS Battery Metric Compatible)",1230312,618,null,{"$f":"F67*E67","v":0},{"$f":"IFERROR(IFERROR(VLOOKUP(D67,Surcharge!A:B,2,FALSE)*F67, VLOOKUP(D67 & \"\",Surcharge!A:B,2,FALSE)*F67), \"\")","v":""},null,null,null,null,null,null,null,"M-T7VK_CHG_27A100V5060H1P"]
[null,null,null,null,null,null,null,{"$f":"IFERROR(IFERROR(VLOOKUP(D68,Surcharge!A:B,2,FALSE)*F68, VLOOKUP(D68 & \"\",Surcharge!A:B,2,FALSE)*F68), \"\")","v":""}]
[null,"Machine Protection & Safety",null,null,null,{"$f":"SUM(F70:F71)","v":0},null,{"$f":"IFERROR(IFERROR(VLOOKUP(D69,Surcharge!A:B,2,FALSE)*F69, VLOOKUP(D69 & \"\",Surcharge!A:B,2,FALSE)*F69), \"\")","v":""}]
[null,null,"Seat Belt",9018587,130,null,{"$f":"F70*E70","v":0},{"$f":"IFERROR(IFERROR(VLOOKUP(D70,Surcharge!A:B,2,FALSE)*F70, VLOOKUP(D70 & \"\",Surcharge!A:B,2,FALSE)*F70), \"\")","v":""},null,null,null,null,null,null,null,"M-T7VK_SETBLT"]
[null,null,"Strobe Light On Tank",9000580,1095,null,{"$f":"F71*E71","v":0},{"$f":"IFERROR(IFERROR(VLOOKUP(D71,Surcharge!A:B,2,FALSE)*F71, VLOOKUP(D71 & \"\",Surcharge!A:B,2,FALSE)*F71), \"\")","v":""},null,null,null,null,null,null,null,"M-T7VK_WRNLGTALM_ST"]
[null,null,null,null,null,null,null,{"$f":"IFERROR(IFERROR(VLOOKUP(D72,Surcharge!A:B,2,FALSE)*F72, VLOOKUP(D72 & \"\",Surcharge!A:B,2,FALSE)*F72), \"\")","v":""}]
[null,"Brushes and Pads (Note 5)",null,"Reference Number",null,{"$f":"SUM(F74,F84)","v":0},null,{"$f":"IFERROR(IFERROR(VLOOKUP(D73,Surcharge!A:B,2,FALSE)*F73, VLOOKUP(D73 & \"\",Surcharge!A:B,2,FALSE)*F73), \"\")","v":""}]
[null,null,"650mm/26\" Disk Scrubbing Brushes/Pads (2 Required)",null,null,{"$f":"SUM(F75:F82)","v":0},null,{"$f":"IFERROR(IFERROR(VLOOKUP(D74,Surcharge!A:B,2,FALSE)*F74, VLOOKUP(D74 & \"\",Surcharge!A:B,2,FALSE)*F74), \"\")","v":""}]
[null,null,"Polypropylene",1220223,"N/C",null,{"$f":"IF(F75=0,\" \",\"N/C\")","v":" "},{"$f":"IFERROR(IFERROR(VLOOKUP(D75,Surcharge!A:B,2,FALSE)*F75, VLOOKUP(D75 & \"\",Surcharge!A:B,2,FALSE)*F75), \"\")","v":""},null,null,null,null,null,null,null,"M-T7VK_C650PYP"]
[null,null,"Nylon",1220226,"N/C",null,{"$f":"IF(F76=0,\" \",\"N/C\")","v":" "},{"$f":"IFERROR(IFERROR(VLOOKUP(D76,Surcharge!A:B,2,FALSE)*F76, VLOOKUP(D76 & \"\",Surcharge!A:B,2,FALSE)*F76), \"\")","v":""},null,null,null,null,null,null,null,"M-T7VK_D650NYL"]
[null,null,null,null," ",null,null,{"$f":"IFERROR(IFERROR(VLOOKUP(D77,Surcharge!A:B,2,FALSE)*F77, VLOOKUP(D77 & \"\",Surcharge!A:B,2,FALSE)*F77), \"\")","v":""}]
[null,null,"Pad Driver",1220243,"N/C",null,{"$f":"IF(F78=0,\" \",\"N/C\")","v":" "},{"$f":"IFERROR(IFERROR(VLOOKUP(D78,Surcharge!A:B,2,FALSE)*F78, VLOOKUP(D78 & \"\",Surcharge!A:B,2,FALSE)*F78), \"\")","v":""},null,null,null,null,null,null,null,"M-T7VK_CLNTOL_D650PAD"]
[null,null,"Pads ",null," ",{"$f":"SUM(F80:F82)","v":0},null,{"$f":"IFERROR(IFERROR(VLOOKUP(D79,Surcharge!A:B,2,FALSE)*F79, VLOOKUP(D79 & \"\",Surcharge!A:B,2,FALSE)*F79), \"\")","v":""}]
[null,null,"Blue Scrubbing - 3M   ",89047,23.6,null,{"$f":"F80*E80","v":0},{"$f":"IFERROR(IFERROR(VLOOKUP(D80,Surcharge!A:B,2,FALSE)*F80, VLOOKUP(D80 & \"\",Surcharge!A:B,2,FALSE)*F80), \"\")","v":""},null,null,null,null,null,null,null,"M-T7VK_PADTYP_650BLU3"]
[null,null,"Red Cleaning - 3M         ",89048,23.6,null,{"$f":"F81*E81","v":0},{"$f":"IFERROR(IFERROR(VLOOKUP(D81,Surcharge!A:B,2,FALSE)*F81, VLOOKUP(D81 & \"\",Surcharge!A:B,2,FALSE)*F81), \"\")","v":""},null,null,null,null,null,null,null,"M-T7VK_PADTYP_650RED3"]
[null,null,"White Polishing  - 3M    ",89049,23.6,null,{"$f":"F82*E82","v":0},{"$f":"IFERROR(IFERROR(VLOOKUP(D82,Surcharge!A:B,2,FALSE)*F82, VLOOKUP(D82 & \"\",Surcharge!A:B,2,FALSE)*F82), \"\")","v":""},null,null,null,null,null,null,null,"M-T7VK_PADTYP_650WHT3"]
[null,null,null,null," ",null,null,{"$f":"IFERROR(IFERROR(VLOOKUP(D83,Surcharge!A:B,2,FALSE)*F83, VLOOKUP(D83 & \"\",Surcharge!A:B,2,FALSE)*F83), \"\")","v":""}]
[null,null,"800mm/32\" Disk Scrubbing Brushes/Pads (2 Required)",null," ",{"$f":"SUM(F85:F92)","v":0},null,{"$f":"IFERROR(IFERROR(VLOOKUP(D84,Surcharge!A:B,2,FALSE)*F84, VLOOKUP(D84 & \"\",Surcharge!A:B,2,FALSE)*F84), \"\")","v":""}]
[null,null,"Polypropylene",1220224,"N/C",null,{"$f":"IF(F85=0,\" \",\"N/C\")","v":" "},{"$f":"IFERROR(IFERROR(VLOOKUP(D85,Surcharge!A:B,2,FALSE)*F85, VLOOKUP(D85 & \"\",Surcharge!A:B,2,FALSE)*F85), \"\")","v":""},null,null,null,null,null,null,null,"M-T7VK_CLNTOL_C800PYP"]
[null,null,"Nylon",1220225,"N/C",null,{"$f":"IF(F86=0,\" \",\"N/C\")","v":" "},{"$f":"IFERROR(IFERROR(VLOOKUP(D86,Surcharge!A:B,2,FALSE)*F86, VLOOKUP(D86 & \"\",Surcharge!A:B,2,FALSE)*F86), \"\")","v":""},null,null,null,null,null,null,null,"M-T7VK_CLNTOL_C800NYL"]
[null,null,null,null," ",null,null,{"$f":"IFERROR(IFERROR(VLOOKUP(D87,Surcharge!A:B,2,FALSE)*F87, VLOOKUP(D87 & \"\",Surcharge!A:B,2,FALSE)*F87), \"\")","v":""}]
[null,null,"Pad Driver",1220244,"N/C",null,{"$f":"IF(F88=0,\" \",\"N/C\")","v":" "},{"$f":"IFERROR(IFERROR(VLOOKUP(D88,Surcharge!A:B,2,FALSE)*F88, VLOOKUP(D88 & \"\",Surcharge!A:B,2,FALSE)*F88), \"\")","v":""},null,null,null,null,null,null,null,"M-T7VK_CLNTOL_D800PAD"]
[null,null,"Pads ",null," ",{"$f":"SUM(F90:F92)","v":0},null,{"$f":"IFERROR(IFERROR(VLOOKUP(D89,Surcharge!A:B,2,FALSE)*F89, VLOOKUP(D89 & \"\",Surcharge!A:B,2,FALSE)*F89), \"\")","v":""}]
[null,null,"Blue Scrubbing - 3M   ","63248-2",31.1,null,{"$f":"F90*E90","v":0},{"$f":"IFERROR(IFERROR(VLOOKUP(D90,Surcharge!A:B,2,FALSE)*F90, VLOOKUP(D90 & \"\",Surcharge!A:B,2,FALSE)*F90), \"\")","v":""},null,null,null,null,null,null,null,"M-T7VK_PADTYP_800BLU3"]
[null,null,"Red Cleaning - 3M         ","63248-3",31.1,null,0,{"$f":"IFERROR(IFERROR(VLOOKUP(D91,Surcharge!A:B,2,FALSE)*F91, VLOOKUP(D91 & \"\",Surcharge!A:B,2,FALSE)*F91), \"\")","v":""},null,null,null,null,null,null,null,"M-T7VK_PADTYP_800RED3"]
[null,null,"White Polishing  - 3M    ","63248-4",31.1,null,0,{"$f":"IFERROR(IFERROR(VLOOKUP(D92,Surcharge!A:B,2,FALSE)*F92, VLOOKUP(D92 & \"\",Surcharge!A:B,2,FALSE)*F92), \"\")","v":""},null,null,null,null,null,null,null,"M-T7VK_PADTYP_800WHT3"]
[null,null,null,null,null,null,null,{"$f":"IFERROR(IFERROR(VLOOKUP(D93,Surcharge!A:B,2,FALSE)*F93, VLOOKUP(D93 & \"\",Surcharge!A:B,2,FALSE)*F93), \"\")","v":""},null,null,null,null,null,null,null,""]
[null,"Support (Note 6)",null,"Reference Number",null,{"$f":"SUM(F95:F103)","v":0},null,{"$f":"IFERROR(IFERROR(VLOOKUP(D94,Surcharge!A:B,2,FALSE)*F94, VLOOKUP(D94 & \"\",Surcharge!A:B,2,FALSE)*F94), \"\")","v":""},null,null,null,null,null,null,null,""]
[null,null,"Ultimate Performance Guarantee (UPG)",50619,"N/C",null,{"$f":"IF(F95=0,\" \",\"N/C\")","v":" "},{"$f":"IFERROR(IFERROR(VLOOKUP(D95,Surcharge!A:B,2,FALSE)*F95, VLOOKUP(D95 & \"\",Surcharge!A:B,2,FALSE)*F95), \"\")","v":""},null,null,null,null,null,null,null,"M-T7"]
[null,null,"T7 Operator Manual (English)",331040,"N/C",null,{"$f":"IF(F96=0,\" \",\"N/C\")","v":" "},{"$f":"IFERROR(IFERROR(VLOOKUP(D96,Surcharge!A:B,2,FALSE)*F96, VLOOKUP(D96 & \"\",Surcharge!A:B,2,FALSE)*F96), \"\")","v":""},null,null,null,null,null,null,null,"M-T7"]
[null,null,"T7 Operator Manual (Spanish)",331042,"N/C",null,{"$f":"IF(F97=0,\" \",\"N/C\")","v":" "},{"$f":"IFERROR(IFERROR(VLOOKUP(D97,Surcharge!A:B,2,FALSE)*F97, VLOOKUP(D97 & \"\",Surcharge!A:B,2,FALSE)*F97), \"\")","v":""},null,null,null,null,null,null,null,"M-T7"]
[null,null,"T7 Operator Manual (French) (Note 8)",331043,"N/C",null,{"$f":"IF(F98=0,\" \",\"N/C\")","v":" "},{"$f":"IFERROR(IFERROR(VLOOKUP(D98,Surcharge!A:B,2,FALSE)*F98, VLOOKUP(D98 & \"\",Surcharge!A:B,2,FALSE)*F98), \"\")","v":""},null,null,null,null,null,null,null,"M-T7"]
[null,null,"Additional Operator Manual","see above",200,null,{"$f":"F99*E99","v":0},{"$f":"IFERROR(IFERROR(VLOOKUP(D99,Surcharge!A:B,2,FALSE)*F99, VLOOKUP(D99 & \"\",Surcharge!A:B,2,FALSE)*F99), \"\")","v":""},null,null,null,null,null,null,null,"M-T7VK_ADLOPRMNL"]
[null,null,"T7 Parts Manual",9013606,81,null,{"$f":"F100*E100","v":0},{"$f":"IFERROR(IFERROR(VLOOKUP(D100,Surcharge!A:B,2,FALSE)*F100, VLOOKUP(D100 & \"\",Surcharge!A:B,2,FALSE)*F100), \"\")","v":""},null,null,null,null,null,null,null,"M-T7VK_PARMNL"]
[null,null,"Service Manual",331045,200,null,{"$f":"F101*E101","v":0},{"$f":"IFERROR(IFERROR(VLOOKUP(D101,Surcharge!A:B,2,FALSE)*F101, VLOOKUP(D101 & \"\",Surcharge!A:B,2,FALSE)*F101), \"\")","v":""},null,null,null,null,null,null,null,"M-T7VK_SRVMNL"]
[null,null,null,null,null,null,null,{"$f":"IFERROR(IFERROR(VLOOKUP(D102,Surcharge!A:B,2,FALSE)*F102, VLOOKUP(D102 & \"\",Surcharge!A:B,2,FALSE)*F102), \"\")","v":""},null,null,null,null,null,null,null,""]
[null,null,"Packaging",null,null,{"$f":"SUM(F104:F104)","v":0},null,{"$f":"IFERROR(IFERROR(VLOOKUP(D103,Surcharge!A:B,2,FALSE)*F103, VLOOKUP(D103 & \"\",Surcharge!A:B,2,FALSE)*F103), \"\")","v":""},null,null,null,null,null,null,null,""]
[null,null,"Skid w/Carton, Non-Stackable",9000550,"N/C",null,{"$f":"IF(F104=0,\" \",\"N/C\")","v":" "},{"$f":"IFERROR(IFERROR(VLOOKUP(D104,Surcharge!A:B,2,FALSE)*F104, VLOOKUP(D104 & \"\",Surcharge!A:B,2,FALSE)*F104), \"\")","v":""},null,null,null,null,null,null,null,"M-T7VK_PKG_SCNS"]
[null,null,null,null,null,null,null,{"$f":"IFERROR(IFERROR(VLOOKUP(D105,Surcharge!A:B,2,FALSE)*F105, VLOOKUP(D105 & \"\",Surcharge!A:B,2,FALSE)*F105), \"\")","v":""}]
[]
[null,"Custom Solution--write in description, qty, price, and PN if applicable",null,null,null,{"$f":"SUM(F108)","v":0}]
[null,null,null,null,"Insert Prices Here",{"$f":"SUM(F109:F112)","v":0}]
[null,null,null,"Custom",null,{"$f":"IF(E109 <> \"\", 1, 0)","v":0},{"$f":"F109*E109","v":0}]
[null,null,null,"Custom",null,{"$f":"IF(E110 <> \"\", 1, 0)","v":0},{"$f":"F110*E110","v":0}]
[null,null,null,"Custom",null,{"$f":"IF(E111 <> \"\", 1, 0)","v":0},{"$f":"F111*E111","v":0}]
[null,null,null,"Custom",null,{"$f":"IF(E112 <> \"\", 1, 0)","v":0},{"$f":"F112*E112","v":0}]
[null,null,null,null,{"$f":"ROUND(SUM(G46:G112), 0)","v":0},{"$f":"SUM(E114)","v":0}]
[null,null,null,"Machine Subtotal ",{"$f":"ROUND(SUM(G46:G112), 0)","v":0},{"$f":"F113","v":0}]
[null,"Discounts",null,null,null,{"$f":"SUM(F116)","v":0}]
[null,null,null,null,null,{"$f":"SUM(F118:F121)","v":0}]
[null,null,null,"Applicable Currency Adj %",null,{"$f":"IF(E117 <> \"\", 1, 0)","v":0},{"$f":"IF(F117*(E117*0.01)*E113 < 0, F117*(E117*0.01)*E113, -(F117*(E117*0.01)*E113))","v":0}]
[null,null,null,"Discount %",null,{"$f":"IF(E118 <> \"\", 1, 0)","v":0},{"$f":"IF(F118*(E118*0.01)*(E113+G117) < 0, F118*(E118*0.01)*(E113+G117), -(F118*(E118*0.01)*(E113+G117)))","v":0}]
[null,null,null,"Discount $",null,{"$f":"IF(E119 <> \"\", 1, 0)","v":0},{"$f":"IF(F119*E119 < 0, F119*E119, -(F119*E119))","v":0}]
[null,null,null,"Discount $",null,{"$f":"IF(E120 <> \"\", 1, 0)","v":0},{"$f":"IF(F120*E120 < 0, F120*E120, -(F120*E120))","v":0}]
[null,null,null,"Discount $",null,{"$f":"IF(E121 <> \"\", 1, 0)","v":0},{"$f":"IF(F121*E121 < 0, F121*E121, -(F121*E121))","v":0}]
[null,null,null,"Discount Total ",{"$f":"SUM(G117:G121)","v":0},{"$f":"SUM(E122)","v":0}]
[null,null,null,null,null,{"$f":"#REF!","v":{"$error":"#REF!"}}]
[null,null,null,null,null,{"$f":"F123","v":{"$error":"#REF!"}}]
[null,null,"Prepaid and Add","Freight",null,{"$f":"IF(E125 <> \"\", 1, 0)","v":0},{"$f":"F125*E125","v":0}]
[null,null,"Subject to all applicable taxes","Tax",null,{"$f":"IF(E126 <> \"\", 1, 0)","v":0},{"$f":"F126*E126","v":0}]
[null,null,null,null,null,{"$f":"SUM(F128)","v":0}]
[null,null,null,"MACHINE TOTAL*",null,{"$f":"SUM(G128)","v":0},{"$f":"SUM(G46:G126)","v":0},null,null,null,null,null,null,"This goes to \"My Documents\""]
[null,null,null,null,null,null,{"$f":"SUM(G128)","v":0}]
[]
[]
[]
[]
[null,null,"First Western Equipment Finance - Leasing Calculation Option:","Option 1",null,"Option 2",null,null,null,{"$f":"Financing!A38","v":"Rates 2025 - Rev 2/4/2025"}]
[null,null,null,"Monthly Payment","Cost Per Day","Monthly Payment","Cost Per Day",null,null,{"$f":"Financing!A39","v":"“Blank Payment Amounts Indicate The Financing Option Or Purchase Options Selected Are Not "}]
[null,null,"Purchase Option:","FWEF:  $1 Buyout Lease",null,"FWEF: Municipal Lease",null,null,null,{"$f":"Financing!A40","v":"Applicable Or The Machine Total Is Below The Minimum Amount For The Selected Vendor”"}]
[null,null,"24 Months",false,0,false,0,null,null,{"$f":"Financing!A41","v":"\"Quoted monthly payments are estimates only and are based on a certain level of credit rating."}]
[null,null,"30 Months",false,0,false,0,null,null,{"$f":"Financing!A42","v":"Actual monthly payments may be higher depending on your credit rating.\""}]
[null,null,"36 Months",false,0,false,0,null,null,{"$f":"Financing!A43","v":"“Financing rates do not include Pre-Paid Service”"}]
[null,null,"48 Months",0,0,0,0,null,{"$f":"Financing!A44","v":0}]
[]
[null,null,null,"Benefits of Equipment Financing:"]
[null,null,null,"• Spreads out investment over time.",null,"• Keep current with latest technology."]
[null,null,null,"• Preserve capital.",null,"• Service and parts bundling available."]
[null,null,null,"• Low monthly payment.",null,"• Pay for labor savings as you go."]
[]
[null,"   TennantTrue",null,null,0,0]
[]
[null,null,"Is customer interested in service program?","Yes","*State/County selection required for TennantTrue service options"]
[]
[null,null,"If not, why?"]
[]
[null,null,"Term:",36,null,null,"AB Brushes","No"]
[null,null,"Monthly machine usage (hrs):","< 30/mo. (Avg. 1hr./day)"]
[]
[null,null,"TennantTrue: ","Gold Contract",null,"Silver Contract"]
[null,null,"Per Visit",null,null,501]
[null,null,"Monthly",173,null,88]
[null,null,"Annually",null,null,1035]
[null,null,"Pre-Pay Full Term",5964,null,3042]
[null,null,"Hourly Labor Rate"]
[null,null,"Site Visit"]
[]
[null,null,"* Verify customer current pricing prior to quote. "]
[null,null,"**All rates and fees above reflect service for one (1) unit with the exception of Block of Time service."]
[null,null,"*Block of Time is available in 1 Year Term only and is priced as such no matter the term selection on this template."]
[]
[]
[]
[null,"Quote Special Instructions:"]
[]
[]
[null,{"$f":"Start_Here!E36","v":"Terms and Conditions"}]
[null,{"$f":"Start_Here!E37","v":"Ask your local sales rep for estimated lead times. Verify when placing order"}]
[null,{"$f":"Start_Here!E38","v":"All orders subject to acceptance by Tennant Sales and Service Company, Minneapolis, Minnesota"}]
[null,{"$f":"Start_Here!E39","v":"Prices subject to change without notice. Subject to any applicable taxes."}]
[null,{"$f":"Start_Here!E40","v":"Terms:  Net 30 days.  Payable in Canadian Funds"}]
[null,{"$f":"Start_Here!E41","v":"Freight:  Accessories, parts, supplies, detergents, and floor coatings orders delivered DDP "}]
[null,{"$f":"Start_Here!E42","v":"shipping point Frt PPD.  Machine orders delivered DDP shipping point Frt PPD and add."}]
[null,{"$f":"Start_Here!E43","v":"Returned Merchandise is subject to a restocking fee."}]
[null,{"$f":"Start_Here!E45","v":"Printed General Terms and Conditions are also available upon request."}]
[null,{"$f":"Start_Here!E46","v":0}]
[]
[]
[]
[null,null,null,null,"Quote Date :",null,{"$f":"Letter!$A$25","v":"2014-10-02"}]
["Order Placement Information:  To place your order, fill in PO# and customer signatures,"]
["call or fax to the numbers listed below. Customer Purchase Order is required."]
["If information is missing, orders will be entered and held until all information is received."]
[null,null,"Customer Number",null,"Cust Grp 3"]
[null,null,{"$f":"Start_Here!$C$25","v":0},null,{"$f":"Start_Here!$C$29","v":0}]
[null,null,{"$f":"Start_Here!$B$18","v":"Who Owns the Machine? (Sold-To Info) (Please Verify)"}]
["Company",null,{"$f":"Start_Here!$C$19","v":"Company Name"}]
["Address",null,{"$f":"Start_Here!$C$20","v":"Address"}]
[null,null,{"$f":"Start_Here!$C$21","v":"City, State Zip"}]
["Name",null,{"$f":"Start_Here!$C$22","v":"Contact Name"}]
["Phone",null,{"$f":"Start_Here!$C$23","v":"Contact Phone"}]
[null,null,{"$f":"Start_Here!$B$11","v":"Where is the Machine Being Shipped? (Ship-To Info) (Please Verify)"}]
["Company",null,{"$f":"Start_Here!$C$12","v":"Company Name"}]
["Address",null,{"$f":"Start_Here!$C$13","v":"Address"}]
[null,null,{"$f":"Start_Here!$C$14","v":"City, State Zip"}]
["Name",null,{"$f":"Start_Here!$C$15","v":"Contact Name"}]
["Phone",null,{"$f":"Start_Here!$C$16","v":"Contact Phone"}]
[null,null,{"$f":"Start_Here!$B$31","v":"Shipping / Carrier Instructions:"},null,"Order Special Instructions:"]
[null,null,{"$f":"Start_Here!$C$32","v":0}]
[]
[null,null,"Customer Purchase Order No."]
[null,null,"(please attach copy)"]
[]
[]
[null,null,"Tax Exempt",null,"Yes"]
[null,null,null,null,"No"]
[null,null,"If Yes, attach a copy of your exemption certificate."]
[]
[null,null,"Requested Delivery Date"]
[null,null,{"$f":"Start_Here!$C$28","v":0}]
[]
[null,null,{"$f":"Start_Here!$C$26","v":0},null,{"$f":"Start_Here!$C$27","v":0}]
[null,null,"Authorized Buyer (please print)",null,"Phone Number"]
[]
[]
[null,null,"Authorized Buyer Signature"]
[]
[null,null,{"$f":"Start_Here!$C$41","v":"Rep Name"}]
[null,null,"Tennant Representative"]
[]
["Specialized Maintenance Equipment"]
[{"$f":"Start_Here!$C$48","v":"TENNANT · 10400 Clean Street · Eden Prairie, MN 55344 ·"}]
[{"$f":"Start_Here!$C$49","v":" PHONE:800-553-8033 · FAX:763-513-2116"}]
[]
[null,"SPECIAL INFORMATION"]
[null,"Notes"]
[null,"1a","Pre-Configured Machines cannot add or change options.  All units are shipped via stackable skid with carton."]
[null,null,"When ordering, provide the reference number listed above.  Price does not include freight or tax.  Availability of units "]
[null,null,"and lead time may vary."]
[]
[null,null,"ec-H2O NanoCleanTM Equipped Models Include:"]
[null,null,"Electrically Converted Water Technology System"]
[null,null,"Two Scrubbing Modes: ec-H2O NanoCleanTM& Conventional Scrubbing"]
[]
[null,1,"In order to obtain the IRIS Battery Metrics, one of the listed Tennant supplied batteries is required."]
[]
[null,2,"Only available on wet batteries, not sealed."]
[]
[null,3,"27A 100-240V AC 50/60Hz 1Ph - Off-Board Charger is required to receive IRIS Battery Metrics."]
[]
[null,4,"One set of brushes or pad drivers come standard with a T7."]
[]
[null,5,"Additional hard copy Operator and Parts Manuals can be ordered or digital copies can be downloaded from www.Tennantco.com."]
[]
[null,6,"A French and English manual will be supplied for all units shipping into Quebec, Canada at no charge.  An additional manual"]
[null,null,"can be ordered (for a total of 3 manuals) for an additional charge as stated under 'Additional Operator Manual'."]
[]
[null,7,"Pre-Paid and Monthly Packages are available for the IRIS Information Service."]
[null,null,"IRIS Module is required and NOT included in the price of the IRIS Information Service:"]
[null,null,"3 Year Pre-Paid IRIS Information Service",350]
[null,null,"5 Year Pre-Paid IRIS Information Service",560]
[null,null,"A monthly contract can be set up at $14 per month w/ 12 month minimum commitment."]
[null,null,"IRIS Telemetry Module only covers the price of the hardware. "]
[null,null,"IRIS Telemetry requires an IRIS Telemetry Module and an IRIS Information Service Package."]
[null,null,"27A 100-240V AC 50/60Hz 1Ph - Off-Board Charger and a compatible Tennant supplied battery is required to receive IRIS Battery Manager."]
[null,null,"Availability of IRIS Battery Metrics is not guaranteed with third party supplied batteries."]
[]
[null,8,"Shipping Weights and Dimensions","Pad Wrap","Skid w/Carton"]
[]
[null,null,"Weight (with 235AH batteries)","975 lbs / 443 kg","1000 lbs / 454 kg"]
[null,null,"Length","60\" / 1,524mm","62\" / 1,574mm"]
[null,null,"Width","39\" / 991mm","33\" / 838mm"]
[null,null,"Height","50\" / 1,270","48\" / 1,219mm"]

{"sheet":"T12_Built_to_Order","index":38,"n_rows":333,"n_cols":16,"rows_kept":333,"cut":false,"hidden":false,"merged":[[236,0,236,1],[236,2,236,5],[237,2,237,5],[238,0,238,1],[238,2,238,5],[260,4,260,5],[239,0,239,1],[239,2,239,5],[241,0,241,1],[241,2,241,5],[242,0,242,1],[242,2,242,5],[244,0,244,1],[244,2,244,5],[245,0,245,1],[245,2,245,5],[247,4,247,6],[243,2,243,5],[249,2,249,5],[250,2,250,5],[251,2,251,5],[235,0,235,1],[235,2,235,5],[215,1,215,6],[200,3,200,4],[200,5,200,6],[201,3,201,4],[201,5,201,6],[202,3,202,4],[202,5,202,6],[206,3,206,4],[206,5,206,6],[203,3,203,4],[203,5,203,6],[204,3,204,4],[198,3,198,4],[233,4,233,6],[204,5,204,6],[205,3,205,4],[205,5,205,6],[178,5,178,6],[180,3,180,4],[180,5,180,6],[197,3,197,4],[193,4,193,8],[195,3,195,6],[0,2,0,3],[1,2,1,3],[2,2,2,3],[3,2,3,3],[178,3,178,4],[12,1,12,5],[23,1,23,2],[35,1,35,5],[11,2,11,6],[36,1,36,5],[37,1,37,5],[38,1,38,5],[40,1,40,5],[39,1,39,5]]}
["T12_Built_to_Order",null,{"$f":"Start_Here!$C19","v":"Company Name"}]
[{"$f":"SUM(G173)","v":0},null,{"$f":"Start_Here!$C20","v":"Address"}]
[null,null,{"$f":"Start_Here!$C21","v":"City, State Zip"}]
[null,null,{"$f":"Start_Here!$C22","v":"Contact Name"}]
[null,null,{"$f":"Start_Here!$C$41","v":"Rep Name"}]
[null,null,{"$f":"Start_Here!$C$37","v":"Tennant Sales and Service Company"}]
[null,null,{"$f":"Start_Here!$C$38","v":"10400 Clean Street"}]
[null,null,{"$f":"Start_Here!$C$39","v":"Eden Prairie, MN 55344"}]
[null,null,{"$f":"Start_Here!$C$43","v":"800-553-8033"},null,"Quote Date :",null,{"$f":"Letter!$A$25","v":"2014-10-02"}]
[]
[null,null,{"$f":"Help!C2","v":"CAN Date Rev - 5/6/2025"}]
[]
[null,"BUILT-IN “TENNANT VALUE” INCLUDES:"]
[]
[null,"Wet, 240 AH C/20 Battery Pack",null,"No Tool Squeegee and Brush Change"]
[null,"20 Amp, 115 Volt 60 Hz Charger",null,"In-Line Vacuum Fan Air Filter"]
[null,"Two Speed Electronic Transmission with AC Propel Motor",null,"High Visibility Maintenance Touch Points"]
[null,"Disk or Cylindrcial Scrubbing - 32 in (800 mm) path",null,"Underwriters Laboratory (UL®) \"E\" Certification"]
[null,"Standard Cylindrical or Disk Scrubbing Brushes (Select One)",null,"Cup Holder"]
[null,"Non-Corrosive Duramer™ Solution and Recovery Tanks",null,"Operator Manual and Video"]
[null,null,"35 gal (132 L) Solution Tank","Front and Rear Non-Marking Tires "]
[null,null,"44 gal (166 L) Recovery Tank"]
[null,null,"9 gal (34 L) Demisting Chamber","T12 Controls:"]
[null,"Parabolic Rear Squeegee w/SmartRelease™ Breakaway System",null,"1-Step™ One-Button Scrub Operation"]
[null,"Automatic Functions:",null,"3 Down-Pressure Settings"]
[null,null,"Parking Brake","On Board Diagnostics"]
[null,null,"Squeegee Lift","Water Shutoff Switch"]
[null,null,"Water Shutoff","T12 XP Only Controls and Features:"]
[null,null,"Brush Shutoff When Idle","T12 Controls, plus"]
[null,null,"Brush Shutoff at 80% Battery Discharge","Steering Wheel Mounted, Touch-N-GO Control Module (XP Only)"]
[null,null,null,"AV Back-up Alarm w/Strobe Light"]
[null,null,null,"Water Shutoff Thumb Switch on Control Module"]
[null,null,null,"Head and Tail Lights"]
[null,null,null,"Deluxe Seat with Arm Rests"]
[]
[null,"TENNANT COMPANY WARRANTY"]
[null,"36 MONTHS OR 2000 HOURS - PARTS"]
[null,"24 MONTHS - LABOR"]
[null,"6 MONTHS - TRAVEL"]
[null,"10 YEARS ON DURAMERTM TANKS"]
[null,"CUSTOM options may add 1 week or more to standard lead times."]
[]
[]
[]
[]
[]
[null,null,null,null,"                Quote Request Information"]
[null,null,null,null,null,null,"Fax (quote only)"]
[null,null,null,null,null,null,"Mail (quote,lit, specs)"]
[null,null,null,null,null,null,"Fax + Mail"]
[]
[null,null,null,null,"                Primary Use"]
[null,null,null,null,null,null,"Inside"]
[null,null,null,null,null,null,"Outside"]
[]
[null,null,"Description","Reference #","Price Each","Qty","Extended Price"]
[null,"Base Configuration",null,null,"CANADA",{"$f":"SUM(F58,F64,F67,F72,F83,F91)","v":0}]
[null,null,"Cleaning Type",null,null,{"$f":"SUM(F59:F62)","v":0},null,null,null,null,null,{"$f":"SUM(F58)","v":0},"Surcharge Qty"]
[null,null,"T12 Rider - Conventional Disk Scrubbing","T12-D",42379,null,{"$f":"F59*E59","v":0},{"$f":"IFERROR(IFERROR(VLOOKUP(D59,Surcharge!A:B,2,FALSE)*F59, VLOOKUP(D59 & \"\",Surcharge!A:B,2,FALSE)*F59), \"\")","v":0},null,null,null,{"$f":"SUM(F59)","v":0},"Surcharge Qty",null,null,"M-T12VK_BASE_T12-D"]
[null,null,"T12 Rider - Conventional Cylindrical Scrubbing","T12-C",43556,null,{"$f":"F60*E60","v":0},{"$f":"IFERROR(IFERROR(VLOOKUP(D60,Surcharge!A:B,2,FALSE)*F60, VLOOKUP(D60 & \"\",Surcharge!A:B,2,FALSE)*F60), \"\")","v":0},null,null,null,{"$f":"SUM(F60)","v":0},"Surcharge Qty",null,null,"M-T12VK_BASE_T12-C"]
[null,null,"T12 XP Rider - Conventional Disk Scrubbing","T12-XP-D",46109,null,{"$f":"F61*E61","v":0},{"$f":"IFERROR(IFERROR(VLOOKUP(D61,Surcharge!A:B,2,FALSE)*F61, VLOOKUP(D61 & \"\",Surcharge!A:B,2,FALSE)*F61), \"\")","v":0},null,null,null,{"$f":"SUM(F61)","v":0},"Surcharge Qty",null,null,"M-T12VK_BASE_T12-XP-D"]
[null,null,"T12 XP Rider - Conventional Cylindrical Scrubbing","T12-XP-C",47288,null,{"$f":"F62*E62","v":0},{"$f":"IFERROR(IFERROR(VLOOKUP(D62,Surcharge!A:B,2,FALSE)*F62, VLOOKUP(D62 & \"\",Surcharge!A:B,2,FALSE)*F62), \"\")","v":0},null,null,null,null,null,null,null,"M-T12VK_BASE_T12-XP-C"]
[null,null,null,null,null,null,null,{"$f":"IFERROR(IFERROR(VLOOKUP(D63,Surcharge!A:B,2,FALSE)*F63, VLOOKUP(D63 & \"\",Surcharge!A:B,2,FALSE)*F63), \"\")","v":""}]
[null,null,"Cleaning Technology: (conventional is standard, ec-H2O can also operate in conventional mode)",null,null,{"$f":"SUM(F65)","v":0},null,{"$f":"IFERROR(IFERROR(VLOOKUP(D64,Surcharge!A:B,2,FALSE)*F64, VLOOKUP(D64 & \"\",Surcharge!A:B,2,FALSE)*F64), \"\")","v":""}]
[null,null,"ec-H2O™","ec-H2O-T12",5936,null,{"$f":"F65*E65","v":0},{"$f":"IFERROR(IFERROR(VLOOKUP(D65,Surcharge!A:B,2,FALSE)*F65, VLOOKUP(D65 & \"\",Surcharge!A:B,2,FALSE)*F65), \"\")","v":""},null,null,null,null,null,null,null,"M-T12VK_CLNTCH_ECH2O"]
[null,null,null,null,null,null,null,{"$f":"IFERROR(IFERROR(VLOOKUP(D66,Surcharge!A:B,2,FALSE)*F66, VLOOKUP(D66 & \"\",Surcharge!A:B,2,FALSE)*F66), \"\")","v":""}]
[null,null,"Squeegee Material ",null,null,{"$f":"SUM(F68:F70)","v":0},null,{"$f":"IFERROR(IFERROR(VLOOKUP(D67,Surcharge!A:B,2,FALSE)*F67, VLOOKUP(D67 & \"\",Surcharge!A:B,2,FALSE)*F67), \"\")","v":""}]
[null,null,"Linatex",9009818,"N/C",null,{"$f":"IF(F68=0,\" \",\"N/C\")","v":" "},{"$f":"IFERROR(IFERROR(VLOOKUP(D68,Surcharge!A:B,2,FALSE)*F68, VLOOKUP(D68 & \"\",Surcharge!A:B,2,FALSE)*F68), \"\")","v":""},null,null,null,null,null,null,null,"M-T12"]
[null,null,"Gum Rubber",9009822,"N/C",null,{"$f":"IF(F69=0,\" \",\"N/C\")","v":" "},{"$f":"IFERROR(IFERROR(VLOOKUP(D69,Surcharge!A:B,2,FALSE)*F69, VLOOKUP(D69 & \"\",Surcharge!A:B,2,FALSE)*F69), \"\")","v":""},null,null,null,null,null,null,null,"M-T12"]
[null,null,"Urethane",9009820,"N/C",null,{"$f":"IF(F70=0,\" \",\"N/C\")","v":" "},{"$f":"IFERROR(IFERROR(VLOOKUP(D70,Surcharge!A:B,2,FALSE)*F70, VLOOKUP(D70 & \"\",Surcharge!A:B,2,FALSE)*F70), \"\")","v":""},null,null,null,null,null,null,null,"M-T12VK_SQEMAT_U"]
[null,null,null,null,null,null,null,{"$f":"IFERROR(IFERROR(VLOOKUP(D71,Surcharge!A:B,2,FALSE)*F71, VLOOKUP(D71 & \"\",Surcharge!A:B,2,FALSE)*F71), \"\")","v":""},null,null,null,null,null,null,null,""]
[null,null,"Battery Type (Notes 2-6)",null,null,{"$f":"SUM(F73:F81)","v":0},null,{"$f":"IFERROR(IFERROR(VLOOKUP(D72,Surcharge!A:B,2,FALSE)*F72, VLOOKUP(D72 & \"\",Surcharge!A:B,2,FALSE)*F72), \"\")","v":""},null,null,null,null,null,null,null,""]
[null,null,"Wet 240 AH C/20",9009862," ",null,{"$f":"IF(F73=0,\" \",\"N/C\")","v":" "},{"$f":"IFERROR(IFERROR(VLOOKUP(D73,Surcharge!A:B,2,FALSE)*F73, VLOOKUP(D73 & \"\",Surcharge!A:B,2,FALSE)*F73), \"\")","v":""},null,null,null,null,null,null,null,"M-T12"]
[null,null,"Wet 360 AH C/20 (in lieu of standard)",9009863,1631,null,{"$f":"F74*E74","v":0},{"$f":"IFERROR(IFERROR(VLOOKUP(D74,Surcharge!A:B,2,FALSE)*F74, VLOOKUP(D74 & \"\",Surcharge!A:B,2,FALSE)*F74), \"\")","v":""},null,null,null,null,null,null,null,"M-T12VK_BTY_W360C20"]
[null,null,"Sealed/MF AGM 350AH C/6",325988,7040,null,{"$f":"F75*E75","v":0},{"$f":"IFERROR(IFERROR(VLOOKUP(D75,Surcharge!A:B,2,FALSE)*F75, VLOOKUP(D75 & \"\",Surcharge!A:B,2,FALSE)*F75), \"\")","v":""},null,null,null,null,null,null,null,"M-T12VK_BTY_A312C20"]
[null,null,"Li-Ion 160 AH (Kit of 2 batteries) (Note 6A)",9023273,6981,null,{"$f":"F76*E76","v":0}]
[null,null,"Li-Ion 240 AH (Kit of 3 batteries) (Note 6A)",9023274,10472,null,0]
[null,null,"Li-Ion 320 AH (Kit of 4 batteries) (Note 6A)",9023275,13962,null,0]
[null,null,"Less Battery, DEDUCT",null,-693,null,{"$f":"F79*E79","v":0},{"$f":"IFERROR(IFERROR(VLOOKUP(D79,Surcharge!A:B,2,FALSE)*F79, VLOOKUP(D79 & \"\",Surcharge!A:B,2,FALSE)*F79), \"\")","v":""},null,null,null,null,null,null,null,"M-T12VK_BTY_WO"]
[null,null,null,null," ",null,null,{"$f":"IFERROR(IFERROR(VLOOKUP(D80,Surcharge!A:B,2,FALSE)*F80, VLOOKUP(D80 & \"\",Surcharge!A:B,2,FALSE)*F80), \"\")","v":""},null,null,null,null,null,null,null,""]
[null,null,"Manual Battery Watering Kit  (Note 7)",9009620,1126,null,{"$f":"F81*E81","v":0},{"$f":"IFERROR(IFERROR(VLOOKUP(D81,Surcharge!A:B,2,FALSE)*F81, VLOOKUP(D81 & \"\",Surcharge!A:B,2,FALSE)*F81), \"\")","v":""},null,null,null,null,null,null,null,"M-T12VK_BTYWTRSYS"]
[null,null,null,null,null,null,null,{"$f":"IFERROR(IFERROR(VLOOKUP(D82,Surcharge!A:B,2,FALSE)*F82, VLOOKUP(D82 & \"\",Surcharge!A:B,2,FALSE)*F82), \"\")","v":""},null,null,null,null,null,null,null,""]
[null,null,"Charger  (Note 8)",null,null,{"$f":"SUM(F84:F89)","v":0},null,{"$f":"IFERROR(IFERROR(VLOOKUP(D83,Surcharge!A:B,2,FALSE)*F83, VLOOKUP(D83 & \"\",Surcharge!A:B,2,FALSE)*F83), \"\")","v":""},null,null,null,null,null,null,null,""]
[null,null,"21A 85-265V AC 50/60Hz 1Ph - Off-Board (for 240AH Battery)",9001051,"N/C",null,{"$f":"IF(F84=0,\" \",\"N/C\")","v":" "},{"$f":"IFERROR(IFERROR(VLOOKUP(D84,Surcharge!A:B,2,FALSE)*F84, VLOOKUP(D84 & \"\",Surcharge!A:B,2,FALSE)*F84), \"\")","v":""},null,null,null,null,null,null,null,"M-T12VK_CHG_21A85V5060H1P"]
[null,null,"21A 85-265V AC 50/60Hz 1Ph - Off-Board (for 360AH Battery)",9004241,"N/C",null,{"$f":"IF(F85=0,\" \",\"N/C\")","v":" "},{"$f":"IFERROR(IFERROR(VLOOKUP(D85,Surcharge!A:B,2,FALSE)*F85, VLOOKUP(D85 & \"\",Surcharge!A:B,2,FALSE)*F85), \"\")","v":""},null,null,null,null,null,null,null,"M-T12VK_CHG_21A85V5060H1P"]
[null,null,"20A 85-130V AC 50/60Hz 1Ph - On-Board (for all Lead Acid)",9009865,1245,null,{"$f":"F86*E86","v":0},null,null,null,null,null,null,null,null,"M-T12VK_CHG_20A85V5060H1P"]
[null,null,"21A 85-265V AC 50/60Hz 1Ph - Off-Board (for AGM 350AH Battery)",314787,1130,null,{"$f":"F87*E87","v":0},{"$f":"IFERROR(IFERROR(VLOOKUP(D87,Surcharge!A:B,2,FALSE)*F87, VLOOKUP(D87 & \"\",Surcharge!A:B,2,FALSE)*F87), \"\")","v":""},null,null,null,null,null,null,null,"M-T12VK_CHG_21A85V5060H1PA312"]
[null,null,"33A 100-240V AC 50/60Hz 1Ph- Off-board (for All Lithium-Ion)",9023334,735,null,{"$f":"F88*E88","v":0}]
[null,null,"Less Charger, DEDUCT",null,-453,null,{"$f":"F89*E89","v":0},{"$f":"IFERROR(IFERROR(VLOOKUP(D89,Surcharge!A:B,2,FALSE)*F89, VLOOKUP(D89 & \"\",Surcharge!A:B,2,FALSE)*F89), \"\")","v":""},null,null,null,null,null,null,null,"M-T12VK_CHG_WO"]
[null,null,null,null,null,null,null,{"$f":"IFERROR(IFERROR(VLOOKUP(D90,Surcharge!A:B,2,FALSE)*F90, VLOOKUP(D90 & \"\",Surcharge!A:B,2,FALSE)*F90), \"\")","v":""},null,null,null,null,null,null,null,""]
[null,null,"UL Rating ",null,null,{"$f":"SUM(F92:F93)","v":0},null,{"$f":"IFERROR(IFERROR(VLOOKUP(D91,Surcharge!A:B,2,FALSE)*F91, VLOOKUP(D91 & \"\",Surcharge!A:B,2,FALSE)*F91), \"\")","v":""},null,null,null,null,null,null,null,""]
[null,null,"UL® Type E",null,"N/C",null,{"$f":"IF(F92=0,\" \",\"N/C\")","v":" "},{"$f":"IFERROR(IFERROR(VLOOKUP(D92,Surcharge!A:B,2,FALSE)*F92, VLOOKUP(D92 & \"\",Surcharge!A:B,2,FALSE)*F92), \"\")","v":""},null,null,null,null,null,null,null,"M-T12"]
[null,null,"UL® Type ES",9009908,4317,null,{"$f":"F93*E93","v":0},{"$f":"IFERROR(IFERROR(VLOOKUP(D93,Surcharge!A:B,2,FALSE)*F93, VLOOKUP(D93 & \"\",Surcharge!A:B,2,FALSE)*F93), \"\")","v":""},null,null,null,null,null,null,null,"M-T12VK_ULERTG_ES"]
[null,null,null,null,null,null,null,{"$f":"IFERROR(IFERROR(VLOOKUP(D94,Surcharge!A:B,2,FALSE)*F94, VLOOKUP(D94 & \"\",Surcharge!A:B,2,FALSE)*F94), \"\")","v":""},null,null,null,null,null,null,null,""]
[null,"Packages",null,null,null,{"$f":"SUM(F96:F100)","v":0},null,{"$f":"IFERROR(IFERROR(VLOOKUP(D95,Surcharge!A:B,2,FALSE)*F95, VLOOKUP(D95 & \"\",Surcharge!A:B,2,FALSE)*F95), \"\")","v":""},null,null,null,null,null,null,null,""]
[null,null,"Heavy Duty Protection Package",9009854,2281,null,{"$f":"F96*E96","v":0},{"$f":"IFERROR(IFERROR(VLOOKUP(D96,Surcharge!A:B,2,FALSE)*F96, VLOOKUP(D96 & \"\",Surcharge!A:B,2,FALSE)*F96), \"\")","v":""},null,null,null,null,null,null,null,"M-T12VK_HVYDTYPRTPKG_Y"]
[null,null,"Includes:  Front Bumper & Rear Squeegee Protection",null,null,{"$f":"SUM(F96)","v":0},null,{"$f":"IFERROR(IFERROR(VLOOKUP(D97,Surcharge!A:B,2,FALSE)*F97, VLOOKUP(D97 & \"\",Surcharge!A:B,2,FALSE)*F97), \"\")","v":""},null,null,null,null,null,null,null,""]
[null,null,"Productivity Package",9009855,8048,null,{"$f":"F98*E98","v":0},{"$f":"IFERROR(IFERROR(VLOOKUP(D98,Surcharge!A:B,2,FALSE)*F98, VLOOKUP(D98 & \"\",Surcharge!A:B,2,FALSE)*F98), \"\")","v":""},null,null,null,null,null,null,null,"M-T12VK_PRDPKG_Y"]
[null,null,"Includes:  Scrubbing Side Brush, Vac Wand, Spray Hose",null,null,{"$f":"SUM(F98)","v":0},null,{"$f":"IFERROR(IFERROR(VLOOKUP(D99,Surcharge!A:B,2,FALSE)*F99, VLOOKUP(D99 & \"\",Surcharge!A:B,2,FALSE)*F99), \"\")","v":""},null,null,null,null,null,null,null,""]
[null,null,"Safety Light Package",9009909,1310,null,{"$f":"F100*E100","v":0},{"$f":"IFERROR(IFERROR(VLOOKUP(D100,Surcharge!A:B,2,FALSE)*F100, VLOOKUP(D100 & \"\",Surcharge!A:B,2,FALSE)*F100), \"\")","v":""},null,null,null,null,null,null,null,"M-T12VK_SFYLGTPKG_Y"]
[null,null,"Includes:  LED Head Light and AV Backup Alarm w/Strobe Light",null,null,{"$f":"SUM(F100)","v":0},null,{"$f":"IFERROR(IFERROR(VLOOKUP(D101,Surcharge!A:B,2,FALSE)*F101, VLOOKUP(D101 & \"\",Surcharge!A:B,2,FALSE)*F101), \"\")","v":""},null,null,null,null,null,null,null,""]
[null,null,null,null,null,null,null,{"$f":"IFERROR(IFERROR(VLOOKUP(D102,Surcharge!A:B,2,FALSE)*F102, VLOOKUP(D102 & \"\",Surcharge!A:B,2,FALSE)*F102), \"\")","v":""},null,null,null,null,null,null,null,""]
[null,"Cleaning Performance",null,null,null,{"$f":"SUM(F104:F106)","v":0},null,{"$f":"IFERROR(IFERROR(VLOOKUP(D103,Surcharge!A:B,2,FALSE)*F103, VLOOKUP(D103 & \"\",Surcharge!A:B,2,FALSE)*F103), \"\")","v":""},null,null,null,null,null,null,null,""]
[null,null,"Side Brush, Right Hand Scrubbing",9009824,6588,null,{"$f":"F104*E104","v":0},{"$f":"IFERROR(IFERROR(VLOOKUP(D104,Surcharge!A:B,2,FALSE)*F104, VLOOKUP(D104 & \"\",Surcharge!A:B,2,FALSE)*F104), \"\")","v":""},null,null,null,null,null,null,null,"M-T12VK_SDEBRSTYP_SCB"]
[null,null,"Vacuum  Wand",9010355,1306,null,{"$f":"F105*E105","v":0},{"$f":"IFERROR(IFERROR(VLOOKUP(D105,Surcharge!A:B,2,FALSE)*F105, VLOOKUP(D105 & \"\",Surcharge!A:B,2,FALSE)*F105), \"\")","v":""},null,null,null,null,null,null,null,"M-T12VK_PWRVACWND_VACWND"]
[null,null,"Spray Nozzle with Hose",9009851,1859,null,{"$f":"F106*E106","v":0},{"$f":"IFERROR(IFERROR(VLOOKUP(D106,Surcharge!A:B,2,FALSE)*F106, VLOOKUP(D106 & \"\",Surcharge!A:B,2,FALSE)*F106), \"\")","v":""},null,null,null,null,null,null,null,"M-T12VK_SPYNOZHSE_Y"]
[null,null,null,null,null,null,null,{"$f":"IFERROR(IFERROR(VLOOKUP(D107,Surcharge!A:B,2,FALSE)*F107, VLOOKUP(D107 & \"\",Surcharge!A:B,2,FALSE)*F107), \"\")","v":""},null,null,null,null,null,null,null,""]
[null,"Machine Protection & Safety",null,"Reference #",null,{"$f":"SUM(F109:F116)","v":0},null,{"$f":"IFERROR(IFERROR(VLOOKUP(D108,Surcharge!A:B,2,FALSE)*F108, VLOOKUP(D108 & \"\",Surcharge!A:B,2,FALSE)*F108), \"\")","v":""},null,null,null,null,null,null,null,""]
[null,null,"Heavy Duty Front Bumper",9009856,1411,null,{"$f":"F109*E109","v":0},{"$f":"IFERROR(IFERROR(VLOOKUP(D109,Surcharge!A:B,2,FALSE)*F109, VLOOKUP(D109 & \"\",Surcharge!A:B,2,FALSE)*F109), \"\")","v":""}]
[null,null,"Heavy Duty Squeegee Protection",9009858,1104,null,0,{"$f":"IFERROR(IFERROR(VLOOKUP(D110,Surcharge!A:B,2,FALSE)*F110, VLOOKUP(D110 & \"\",Surcharge!A:B,2,FALSE)*F110), \"\")","v":""},null,null,null,null,null,null,null,"M-T12VK_HVYDTYSQEPRT_Y"]
[null,null,"Deluxe Seat (Standard on XP-includes Seat Belt)  (Note 9)",9009835,858,null,0,{"$f":"IFERROR(IFERROR(VLOOKUP(D111,Surcharge!A:B,2,FALSE)*F111, VLOOKUP(D111 & \"\",Surcharge!A:B,2,FALSE)*F111), \"\")","v":""},null,null,null,null,null,null,null,"M-T12VK_SET_DLXW"]
[null,null,"Headlight(s) LED (Standard on XP)",9009849,595,null,0,{"$f":"IFERROR(IFERROR(VLOOKUP(D112,Surcharge!A:B,2,FALSE)*F112, VLOOKUP(D112 & \"\",Surcharge!A:B,2,FALSE)*F112), \"\")","v":""},null,null,null,null,null,null,null,"M-T12VK_HLT_Y"]
[null,null,"AV BU Alarm - Strobe on Tank (Standard on XP)",9010352,1008,null,0,{"$f":"IFERROR(IFERROR(VLOOKUP(D113,Surcharge!A:B,2,FALSE)*F113, VLOOKUP(D113 & \"\",Surcharge!A:B,2,FALSE)*F113), \"\")","v":""},null,null,null,null,null,null,null,"M-T12VK_WRNLGTALM_AVST"]
[null,null,"Blue Light  (Note 10)",9020971,1505,null,{"$f":"F114*E114","v":0},null,null,null,null,null,null,null,null,"M-T12VK_BLULGT"]
[null,null,"Fire Extinguisher",9009878,513,null,{"$f":"F115*E115","v":0},{"$f":"IFERROR(IFERROR(VLOOKUP(D115,Surcharge!A:B,2,FALSE)*F115, VLOOKUP(D115 & \"\",Surcharge!A:B,2,FALSE)*F115), \"\")","v":""},null,null,null,null,null,null,null,"M-T12VK_FREEXT_Y"]
[null,null,"Trailer Transport Kit (cover latches for trailering)",9009907,290,null,{"$f":"F116*E116","v":0},{"$f":"IFERROR(IFERROR(VLOOKUP(D116,Surcharge!A:B,2,FALSE)*F116, VLOOKUP(D116 & \"\",Surcharge!A:B,2,FALSE)*F116), \"\")","v":""},null,null,null,null,null,null,null,"M-T12VK_TRLTRTKIT_Y"]
[null,null,null,null,null,null,null,{"$f":"IFERROR(IFERROR(VLOOKUP(D117,Surcharge!A:B,2,FALSE)*F117, VLOOKUP(D117 & \"\",Surcharge!A:B,2,FALSE)*F117), \"\")","v":""},null,null,null,null,null,null,null,""]
[null,"Brushes and Pads",null,null,null,{"$f":"SUM(F119,F126,F131)","v":0},null,{"$f":"IFERROR(IFERROR(VLOOKUP(D118,Surcharge!A:B,2,FALSE)*F118, VLOOKUP(D118 & \"\",Surcharge!A:B,2,FALSE)*F118), \"\")","v":""},null,null,null,null,null,null,null,""]
[null,null,"Disk Scrubbing Brushes/Pads (2 Required)",null,null,{"$f":"SUM(F120:F124)","v":0},null,{"$f":"IFERROR(IFERROR(VLOOKUP(D119,Surcharge!A:B,2,FALSE)*F119, VLOOKUP(D119 & \"\",Surcharge!A:B,2,FALSE)*F119), \"\")","v":""},null,null,null,null,null,null,null,""]
[null,null,"Polypropylene Brush",1220241,"N/C",null,{"$f":"IF(F120=0,\" \",\"N/C\")","v":" "},{"$f":"IFERROR(IFERROR(VLOOKUP(D120,Surcharge!A:B,2,FALSE)*F120, VLOOKUP(D120 & \"\",Surcharge!A:B,2,FALSE)*F120), \"\")","v":""},null,null,null,null,null,null,null,"M-T12VK_DHDPYP"]
[null,null,"Heavy Duty Polypropylene",1220236,"N/C",null,{"$f":"IF(F121=0,\" \",\"N/C\")","v":" "},{"$f":"IFERROR(IFERROR(VLOOKUP(D121,Surcharge!A:B,2,FALSE)*F121, VLOOKUP(D121 & \"\",Surcharge!A:B,2,FALSE)*F121), \"\")","v":""},null,null,null,null,null,null,null,"M-T12VK_DPYP"]
[null,null,"Super Abrasive Brush",1221543,295,null,{"$f":"F122*E122","v":0},{"$f":"IFERROR(IFERROR(VLOOKUP(D122,Surcharge!A:B,2,FALSE)*F122, VLOOKUP(D122 & \"\",Surcharge!A:B,2,FALSE)*F122), \"\")","v":""},null,null,null,null,null,null,null,"M-T12VK_DSAB"]
[null,null,null,null,null,null,null,{"$f":"IFERROR(IFERROR(VLOOKUP(D123,Surcharge!A:B,2,FALSE)*F123, VLOOKUP(D123 & \"\",Surcharge!A:B,2,FALSE)*F123), \"\")","v":""},null,null,null,null,null,null,null,""]
[null,null,"Pad Driver",1220199,"N/C",null,{"$f":"IF(F124=0,\" \",\"N/C\")","v":" "},{"$f":"IFERROR(IFERROR(VLOOKUP(D124,Surcharge!A:B,2,FALSE)*F124, VLOOKUP(D124 & \"\",Surcharge!A:B,2,FALSE)*F124), \"\")","v":""},null,null,null,null,null,null,null,"M-T12VK_DPAD"]
[null,null,null,null,null,null,null,{"$f":"IFERROR(IFERROR(VLOOKUP(D125,Surcharge!A:B,2,FALSE)*F125, VLOOKUP(D125 & \"\",Surcharge!A:B,2,FALSE)*F125), \"\")","v":""},null,null,null,null,null,null,null,""]
[null,null,"Cylindrical Scrubbing Brushes (2 Required)",null,null,{"$f":"SUM(F127:F129)","v":0},null,{"$f":"IFERROR(IFERROR(VLOOKUP(D126,Surcharge!A:B,2,FALSE)*F126, VLOOKUP(D126 & \"\",Surcharge!A:B,2,FALSE)*F126), \"\")","v":""},null,null,null,null,null,null,null,""]
[null,null,"Polypropylene Brush",1201572,"N/C",null,{"$f":"IF(F127=0,\" \",\"N/C\")","v":" "},{"$f":"IFERROR(IFERROR(VLOOKUP(D127,Surcharge!A:B,2,FALSE)*F127, VLOOKUP(D127 & \"\",Surcharge!A:B,2,FALSE)*F127), \"\")","v":""},null,null,null,null,null,null,null,"M-T12VK_CPYS"]
[null,null,"Heavy Duty Polypropylene",1201926,"N/C",null,{"$f":"IF(F128=0,\" \",\"N/C\")","v":" "},{"$f":"IFERROR(IFERROR(VLOOKUP(D128,Surcharge!A:B,2,FALSE)*F128, VLOOKUP(D128 & \"\",Surcharge!A:B,2,FALSE)*F128), \"\")","v":""},null,null,null,null,null,null,null,"M-T12VK_DHDPYP"]
[null,null,"Super Abrasive Brush",1201928,295,null,{"$f":"F129*E129","v":0},{"$f":"IFERROR(IFERROR(VLOOKUP(D129,Surcharge!A:B,2,FALSE)*F129, VLOOKUP(D129 & \"\",Surcharge!A:B,2,FALSE)*F129), \"\")","v":""},null,null,null,null,null,null,null,"M-T12VK_CSAB"]
[null,null,null,null,null,null,null,{"$f":"IFERROR(IFERROR(VLOOKUP(D130,Surcharge!A:B,2,FALSE)*F130, VLOOKUP(D130 & \"\",Surcharge!A:B,2,FALSE)*F130), \"\")","v":""},null,null,null,null,null,null,null,""]
[null,null,"Disk Scrubbing Brush/Pad and Sweeping Brush for Side Brush Option (1 Required)",null,null,{"$f":"SUM(F132:F136)","v":0},null,{"$f":"IFERROR(IFERROR(VLOOKUP(D131,Surcharge!A:B,2,FALSE)*F131, VLOOKUP(D131 & \"\",Surcharge!A:B,2,FALSE)*F131), \"\")","v":""},null,null,null,null,null,null,null,""]
[null,null,"Polypropylene Brush",1220240,"N/C",null,{"$f":"IF(F132=0,\" \",\"N/C\")","v":" "},{"$f":"IFERROR(IFERROR(VLOOKUP(D132,Surcharge!A:B,2,FALSE)*F132, VLOOKUP(D132 & \"\",Surcharge!A:B,2,FALSE)*F132), \"\")","v":""},null,null,null,null,null,null,null,"M-T12VK_SDECLNTOL_SCBPYP"]
[null,null,"Heavy Duty Polypropylene",1220231,"N/C",null,{"$f":"IF(F133=0,\" \",\"N/C\")","v":" "},{"$f":"IFERROR(IFERROR(VLOOKUP(D133,Surcharge!A:B,2,FALSE)*F133, VLOOKUP(D133 & \"\",Surcharge!A:B,2,FALSE)*F133), \"\")","v":""},null,null,null,null,null,null,null,"M-T12VK_SDECLNTOL_HDPYP"]
[null,null,"Super Abrasive Brush",1220232,295,null,{"$f":"F134*E134","v":0},{"$f":"IFERROR(IFERROR(VLOOKUP(D134,Surcharge!A:B,2,FALSE)*F134, VLOOKUP(D134 & \"\",Surcharge!A:B,2,FALSE)*F134), \"\")","v":""},null,null,null,null,null,null,null,"M-T12VK_SDECLNTOL_SAB"]
[null,null,null,null,null,null,null,{"$f":"IFERROR(IFERROR(VLOOKUP(D135,Surcharge!A:B,2,FALSE)*F135, VLOOKUP(D135 & \"\",Surcharge!A:B,2,FALSE)*F135), \"\")","v":""},null,null,null,null,null,null,null,""]
[null,null,"Pad Driver",1220243,"N/C",null,{"$f":"IF(F136=0,\" \",\"N/C\")","v":" "},{"$f":"IFERROR(IFERROR(VLOOKUP(D136,Surcharge!A:B,2,FALSE)*F136, VLOOKUP(D136 & \"\",Surcharge!A:B,2,FALSE)*F136), \"\")","v":""},null,null,null,null,null,null,null,"M-T12VK_SDECLNTOL_PAD"]
[null,null,null,null,null,null,null,{"$f":"IFERROR(IFERROR(VLOOKUP(D137,Surcharge!A:B,2,FALSE)*F137, VLOOKUP(D137 & \"\",Surcharge!A:B,2,FALSE)*F137), \"\")","v":""},null,null,null,null,null,null,null,""]
[null,"Support (Note 11)",null,"Reference #",null,{"$f":"SUM(F139:F148)","v":0},null,{"$f":"IFERROR(IFERROR(VLOOKUP(D138,Surcharge!A:B,2,FALSE)*F138, VLOOKUP(D138 & \"\",Surcharge!A:B,2,FALSE)*F138), \"\")","v":""},null,null,null,null,null,null,null,""]
[null,null,"Standard Warranty",null," ",null,{"$f":"IF(F139=0,\" \",\"N/C\")","v":" "},{"$f":"IFERROR(IFERROR(VLOOKUP(D139,Surcharge!A:B,2,FALSE)*F139, VLOOKUP(D139 & \"\",Surcharge!A:B,2,FALSE)*F139), \"\")","v":""},null,null,null,null,null,null,null,"M-T12"]
[null,null,"Ultimate Performance Guarantee",50619,"N/C",null," ",{"$f":"IFERROR(IFERROR(VLOOKUP(D140,Surcharge!A:B,2,FALSE)*F140, VLOOKUP(D140 & \"\",Surcharge!A:B,2,FALSE)*F140), \"\")","v":""},null,null,null,null,null,null,null,"M-T12VK_UPG_Y"]
[null,null,"Operator Manual (English)",9009910,"N/C",null," ",{"$f":"IFERROR(IFERROR(VLOOKUP(D141,Surcharge!A:B,2,FALSE)*F141, VLOOKUP(D141 & \"\",Surcharge!A:B,2,FALSE)*F141), \"\")","v":""},null,null,null,null,null,null,null,"M-T12VK_OPRMNL"]
[null,null,"Operator Manual (Spanish)  ",9009911," ",null," ",{"$f":"IFERROR(IFERROR(VLOOKUP(D142,Surcharge!A:B,2,FALSE)*F142, VLOOKUP(D142 & \"\",Surcharge!A:B,2,FALSE)*F142), \"\")","v":""},null,null,null,null,null,null,null,"M-T12"]
[null,null,"Operator Manual (French)  (Note 12)",9009912," ",null," ",{"$f":"IFERROR(IFERROR(VLOOKUP(D143,Surcharge!A:B,2,FALSE)*F143, VLOOKUP(D143 & \"\",Surcharge!A:B,2,FALSE)*F143), \"\")","v":""},null,null,null,null,null,null,null,"M-T12"]
[null,null,"Additional Operator Manual","Select from Above",111,null,{"$f":"F144*E144","v":0},{"$f":"IFERROR(IFERROR(VLOOKUP(D144,Surcharge!A:B,2,FALSE)*F144, VLOOKUP(D144 & \"\",Surcharge!A:B,2,FALSE)*F144), \"\")","v":""},null,null,null,null,null,null,null,"M-T12VK_ADLOPRMNL"]
[null,null,"Parts Manual",9009916,"N/C",null," ",{"$f":"IFERROR(IFERROR(VLOOKUP(D145,Surcharge!A:B,2,FALSE)*F145, VLOOKUP(D145 & \"\",Surcharge!A:B,2,FALSE)*F145), \"\")","v":""},null,null,null,null,null,null,null,"M-T12"]
[null,null,"Service Manual",9009917,368,null,{"$f":"F146*E146","v":0},{"$f":"IFERROR(IFERROR(VLOOKUP(D146,Surcharge!A:B,2,FALSE)*F146, VLOOKUP(D146 & \"\",Surcharge!A:B,2,FALSE)*F146), \"\")","v":""},null,null,null,null,null,null,null,"M-T12VK_SRVMNL"]
[null,null,null,null," ",null,null,{"$f":"IFERROR(IFERROR(VLOOKUP(D147,Surcharge!A:B,2,FALSE)*F147, VLOOKUP(D147 & \"\",Surcharge!A:B,2,FALSE)*F147), \"\")","v":""},null,null,null,null,null,null,null,""]
[null,null,"Packaging  (Note 13)",null,null,{"$f":"SUM(F149)","v":0},null,{"$f":"IFERROR(IFERROR(VLOOKUP(D148,Surcharge!A:B,2,FALSE)*F148, VLOOKUP(D148 & \"\",Surcharge!A:B,2,FALSE)*F148), \"\")","v":""},null,null,null,null,null,null,null,""]
[null,null,"Skid w/Carton, Non-Stackable",9009900,"N/C",null,{"$f":"IF(F149=0,\" \",\"N/C\")","v":" "},{"$f":"IFERROR(IFERROR(VLOOKUP(D149,Surcharge!A:B,2,FALSE)*F149, VLOOKUP(D149 & \"\",Surcharge!A:B,2,FALSE)*F149), \"\")","v":""},null,null,null,null,null,null,null,"M-T12VK_PKG_SCNS"]
[null,null,null,null,null,null,null,{"$f":"IFERROR(IFERROR(VLOOKUP(D150,Surcharge!A:B,2,FALSE)*F150, VLOOKUP(D150 & \"\",Surcharge!A:B,2,FALSE)*F150), \"\")","v":""}]
[]
[null,"Custom Solution--write in description, qty, price, and PN if applicable",null,null,null,{"$f":"SUM(F153)","v":0}]
[null,null,null,null,"Insert Prices Here",{"$f":"SUM(F154:F157)","v":0}]
[null,null,null,"Custom",null,{"$f":"IF(E154 <> \"\", 1, 0)","v":0},{"$f":"F154*E154","v":0}]
[null,null,null,"Custom",null,{"$f":"IF(E155 <> \"\", 1, 0)","v":0},{"$f":"F155*E155","v":0}]
[null,null,null,"Custom",null,{"$f":"IF(E156 <> \"\", 1, 0)","v":0},{"$f":"F156*E156","v":0}]
[null,null,null,"Custom",null,{"$f":"IF(E157 <> \"\", 1, 0)","v":0},{"$f":"F157*E157","v":0}]
[null,null,null,null,{"$f":"ROUND(SUM(G57:G157), 0)","v":0},{"$f":"SUM(E159)","v":0}]
[null,null,null,"Machine Subtotal ",{"$f":"ROUND(SUM(G57:G157), 0)","v":0},{"$f":"F158","v":0}]
[null,"Discounts",null,null,null,{"$f":"SUM(F161)","v":0}]
[null,null,null,null,null,{"$f":"SUM(F163:F166)","v":0}]
[null,null,null,"Applicable Currency Adj %",null,{"$f":"IF(E162 <> \"\", 1, 0)","v":0},{"$f":"IF(F162*(E162*0.01)*E158 < 0, F162*(E162*0.01)*E158, -(F162*(E162*0.01)*E158))","v":0}]
[null,null,null,"Discount %",null,{"$f":"IF(E163 <> \"\", 1, 0)","v":0},{"$f":"IF(F163*(E163*0.01)*(E158+G162) < 0, F163*(E163*0.01)*(E158+G162), -(F163*(E163*0.01)*(E158+G162)))","v":0}]
[null,null,null,"Discount $",null,{"$f":"IF(E164 <> \"\", 1, 0)","v":0},{"$f":"IF(F164*E164 < 0, F164*E164, -(F164*E164))","v":0}]
[null,null,null,"Discount $",null,{"$f":"IF(E165 <> \"\", 1, 0)","v":0},{"$f":"IF(F165*E165 < 0, F165*E165, -(F165*E165))","v":0}]
[null,null,null,"Discount $",null,{"$f":"IF(E166 <> \"\", 1, 0)","v":0},{"$f":"IF(F166*E166 < 0, F166*E166, -(F166*E166))","v":0}]
[null,null,null,"Discount Total ",{"$f":"SUM(G162:G166)","v":0},{"$f":"SUM(E167)","v":0}]
[null,null,null,null,null,{"$f":"#REF!","v":{"$error":"#REF!"}}]
[null,null,null,null,null,{"$f":"F168","v":{"$error":"#REF!"}}]
[null,null,"Prepaid and Add","Freight",null,{"$f":"IF(E170 <> \"\", 1, 0)","v":0},{"$f":"F170*E170","v":0}]
[null,null,"Subject to all applicable taxes","Tax",null,{"$f":"IF(E171 <> \"\", 1, 0)","v":0},{"$f":"F171*E171","v":0}]
[null,null,null,null,null,{"$f":"SUM(F173)","v":0}]
[null,null,null,"MACHINE TOTAL*",null,{"$f":"SUM(G173)","v":0},{"$f":"SUM(G57:G171)","v":0},null,null,null,null,null,null,"This goes to \"My Documents\""]
[null,null,null,null,null,null,{"$f":"SUM(G173)","v":0}]
[]
[]
[]
[]
[null,null,"First Western Equipment Finance - Leasing Calculation Option:","Option 1",null,"Option 2",null,null,null,{"$f":"Financing!A38","v":"Rates 2025 - Rev 2/4/2025"}]
[null,null,null,"Monthly Payment","Cost Per Day","Monthly Payment","Cost Per Day",null,null,{"$f":"Financing!A39","v":"“Blank Payment Amounts Indicate The Financing Option Or Purchase Options Selected Are Not "}]
[null,null,"Purchase Option:","FWEF:  $1 Buyout Lease",null,"FWEF: Municipal Lease",null,null,null,{"$f":"Financing!A40","v":"Applicable Or The Machine Total Is Below The Minimum Amount For The Selected Vendor”"}]
[null,null,"24 Months",false,0,false,0,null,null,{"$f":"Financing!A41","v":"\"Quoted monthly payments are estimates only and are based on a certain level of credit rating."}]
[null,null,"30 Months",false,0,false,0,null,null,{"$f":"Financing!A42","v":"Actual monthly payments may be higher depending on your credit rating.\""}]
[null,null,"36 Months",false,0,false,0,null,null,{"$f":"Financing!A43","v":"“Financing rates do not include Pre-Paid Service”"}]
[null,null,"48 Months",0,0,0,0]
[]
[null,null,null,"Benefits of Equipment Financing:"]
[null,null,null,"• Spreads out investment over time.",null,"• Keep current with latest technology."]
[null,null,null,"• Preserve capital.",null,"• Service and parts bundling available."]
[null,null,null,"• Low monthly payment.",null,"• Pay for labor savings as you go."]
[]
[null,"   TennantTrue",null,null,0,0]
[]
[null,null,"Is customer interested in service program?","Yes","*State/County selection required for TennantTrue service options"]
[]
[null,null,"If not, why?"]
[]
[null,null,"Term:",36,null,null,"AB Brushes","No"]
[null,null,"Monthly machine usage (hrs):","< 30/mo. (Avg. 1hr./day)"]
[]
[null,null,"TennantTrue: ","Gold Contract",null,"Silver Contract"]
[null,null,"Per Visit",null,null,501]
[null,null,"Monthly",189,null,88]
[null,null,"Annually",null,null,1035]
[null,null,"Pre-Pay Full Term",6526,null,3042]
[null,null,"Hourly Labor Rate"]
[null,null,"Site Visit"]
[]
[null,null,"* Verify customer current pricing prior to quote. "]
[null,null,"**All rates and fees above reflect service for one (1) unit with the exception of Block of Time service."]
[null,null,"*Block of Time is available in 1 Year Term only and is priced as such no matter the term selection on this template."]
[]
[]
[]
[null,"Quote Special Instructions:"]
[]
[]
[null,{"$f":"Start_Here!E36","v":"Terms and Conditions"}]
[null,{"$f":"Start_Here!E37","v":"Ask your local sales rep for estimated lead times. Verify when placing order"}]
[null,{"$f":"Start_Here!E38","v":"All orders subject to acceptance by Tennant Sales and Service Company, Minneapolis, Minnesota"}]
[null,{"$f":"Start_Here!E39","v":"Prices subject to change without notice. Subject to any applicable taxes."}]
[null,{"$f":"Start_Here!E40","v":"Terms:  Net 30 days.  Payable in Canadian Funds"}]
[null,{"$f":"Start_Here!E41","v":"Freight:  Accessories, parts, supplies, detergents, and floor coatings orders delivered DDP "}]
[null,{"$f":"Start_Here!E42","v":"shipping point Frt PPD.  Machine orders delivered DDP shipping point Frt PPD and add."}]
[null,{"$f":"Start_Here!E43","v":"Returned Merchandise is subject to a restocking fee."}]
[null,{"$f":"Start_Here!E45","v":"Printed General Terms and Conditions are also available upon request."}]
[null,{"$f":"Start_Here!E46","v":0}]
[]
[null,null,null,null,"Quote Date :",null,{"$f":"Letter!$A$25","v":"2014-10-02"}]
["Order Placement Information:  To place your order, fill in PO# and customer signatures,"]
["call or fax to the numbers listed below. Customer Purchase Order is required."]
["If information is missing, orders will be entered and held until all information is received."]
[null,null,"Customer Number",null,"Cust Grp 3"]
[null,null,{"$f":"Start_Here!$C$25","v":0},null,{"$f":"Start_Here!$C$29","v":0}]
[null,null,{"$f":"Start_Here!$B$18","v":"Who Owns the Machine? (Sold-To Info) (Please Verify)"}]
["Company",null,{"$f":"Start_Here!$C$19","v":"Company Name"}]
["Address",null,{"$f":"Start_Here!$C$20","v":"Address"}]
[null,null,{"$f":"Start_Here!$C$21","v":"City, State Zip"}]
["Name",null,{"$f":"Start_Here!$C$22","v":"Contact Name"}]
["Phone",null,{"$f":"Start_Here!$C$23","v":"Contact Phone"}]
[null,null,{"$f":"Start_Here!$B$11","v":"Where is the Machine Being Shipped? (Ship-To Info) (Please Verify)"}]
["Company",null,{"$f":"Start_Here!$C$12","v":"Company Name"}]
["Address",null,{"$f":"Start_Here!$C$13","v":"Address"}]
[null,null,{"$f":"Start_Here!$C$14","v":"City, State Zip"}]
["Name",null,{"$f":"Start_Here!$C$15","v":"Contact Name"}]
["Phone",null,{"$f":"Start_Here!$C$16","v":"Contact Phone"}]
[null,null,{"$f":"Start_Here!$B$31","v":"Shipping / Carrier Instructions:"},null,"Order Special Instructions:"]
[null,null,{"$f":"Start_Here!$C$32","v":0}]
[]
[null,null,"Customer Purchase Order No."]
[null,null,"(please attach copy)"]
[]
[]
[null,null,"Tax Exempt",null,"Yes"]
[null,null,null,null,"No"]
[null,null,"If Yes, attach a copy of your exemption certificate."]
[]
[null,null,"Requested Delivery Date"]
[null,null,{"$f":"Start_Here!$C$28","v":0}]
[]
[null,null,{"$f":"Start_Here!$C$26","v":0},null,{"$f":"Start_Here!$C$27","v":0}]
[null,null,"Authorized Buyer (please print)",null,"Phone Number"]
[]
[]
[null,null,"Authorized Buyer Signature"]
[]
[null,null,{"$f":"Start_Here!$C$41","v":"Rep Name"}]
[null,null,"Tennant Representative"]
[]
["Specialized Maintenance Equipment"]
[]
[]
[]
[]
[null,"SPECIAL INFORMATION"]
[]
[null,2,"The battery compartment will fit six 6-volt batteries of this size:",null,"Length       Width"]
[null,null,"Battery Size",null,"11.70 in      6.95 in"]
[null,null,null,null,"297 mm     177 mm"]
[]
[null,3,"Overall Battery Compartment Size:",null,"Length       Width"]
[null,null,"(these are the \"full compartment\" dimensions, allow space on top ",null,"21.5 in     23.89 in"]
[null,null,"of battery for watering system clearance, etc)",null,"545 mm      605 mm"]
[]
[null,4,"Model T12 Continuous Runtime Chart.",null,"Standard"]
[null,null,null,null,"Capacity"]
[null,null,null,null,"240AH"]
[null,null,"T12 Base Unit (economy mode, main scrub only)",null,"2.9 hours"]
[null,null,"T12 Base Unit with RH Sidebrush ( economy mode ) ",null,"2.4 hours"]
[null,null,"The above runtimes are guidelines.  Actual times will vary based on floor conditions, final machine configuration & usage"]
[]
[null,5,"To calculate weights with batteries add the following to the product “Net” or “Ship” weights:"]
[null,null,"240 AH Battery Pack = + 6 Batteries @ 67 lbs (30.4kg) each = 402 lbs (182.5 kg)"]
[null,null,"360 AH Battery Pack = + 6 Batteries @ 98 lbs (45 kg) each = 588 lbs (267 kg)"]
[]
[null,"6A","Lithium-Ion batteries require the use of an approved Lithium-Ion compatible charger."]
[null,null,"Use of an unproved charger may damage battery and void warranty."]
[]
[null,6,"Expected Cycle Life:  Cycle life is the number of charge cycles a battery is expected to last."]
[null,null,"240 AH Battery = 500 Cycles"]
[null,null,"360 AH Battery = 500 Cycles"]
[]
[null,7,"ONLY available with Wet (Lead Acid) batteries.  Cannot be used with Sealed Gel / AGM."]
[]
[null,8,"The battery charger connector is a 50 amp Anderson ( gray ). The battery connector is an Anderson 175 amp connector ( gray )."]
[]
[null,9,"A seatbelt is not offered with the basic seat, but the deluxe seat features a retractable seat belt standard."]
[null,null,"at an additional charge and will increase the lead time.  For pricing and lead time impact information "]
[null,null,"contact our Custom Engineering Group."]
[]
[null,10,"Blue Light requires that the AV BU Alarm - Strobe on Tank is also configured on the unit."]
[null,null,"The Blue Light is not available with the Strobe Light on Overhead Guard."]
[]
[null,11,"Additional hard copy Operator and Parts Manuals can be ordered or digital copies can be downloaded from www.Tennantco.com."]
[]
[null,12,"A French and English manual will be supplied for all units shipping into Quebec, Canada at no charge.  An additional manual"]
[null,null,"can be ordered (for a total of 3 manuals) for an additional charge as stated under 'Additional Operator Manual'."]
[]
[null,"IRIS","Pre-Paid and Monthly Packages are available for the IRIS Information Service. IRIS Module is required and NOT included in the price of the IRIS Information Service:"]
[null,null,"3 Year Pre-Paid IRIS Information Service",350]
[null,null,"5 Year Pre-Paid IRIS Information Service",560]
[null,null,"A monthly contract can be set up at $14 per month w/ 12 month minimum commitment."]
[null,null,"IRIS Telemetry Module only covers the price of the hardware. IRIS Telemetry requires an IRIS Telemetry Module and an IRIS Information Service Package."]
[]
[null,13,"Skid w/Carton, Non-Stackable is the default packaging method and will be added to the configuration unless otherwise specified."]
[null,null,"The Skid w/Carton, Non-Stackable (PN 9009900) includes the crate and all bracketry for shipping."]
[]
[null,14,"Shipping Weights and Dimensions","Skid w/Carton"]
[]
[null,null,"Weight  (w/240AH Batteries)","2200 lbs / 998 Kg"]
[null,null,"Length","85\" / 2159 mm"]
[null,null,"Width","46\" / 1169 mm"]
[null,null,"Height","63\" / 1600 mm"]

{"sheet":"T1581_Built_to_Order","index":39,"n_rows":218,"n_cols":16,"rows_kept":218,"cut":false,"hidden":false,"merged":[[12,1,12,5],[0,2,0,3],[1,2,1,3],[2,2,2,3],[3,2,3,3],[11,2,11,6],[30,1,30,5],[31,1,31,5],[32,1,32,5],[33,1,33,5],[34,1,34,5],[35,1,35,5],[106,3,106,4],[106,5,106,6],[108,3,108,4],[108,5,108,6],[121,4,121,8],[123,3,123,6],[125,3,125,4],[126,3,126,4],[128,3,128,4],[128,5,128,6],[129,3,129,4],[129,5,129,6],[130,3,130,4],[130,5,130,6],[131,3,131,4],[131,5,131,6],[132,3,132,4],[132,5,132,6],[133,3,133,4],[133,5,133,6],[134,3,134,4],[134,5,134,6],[143,1,143,6],[161,4,161,6],[163,0,163,1],[163,2,163,5],[164,0,164,1],[164,2,164,5],[173,0,173,1],[173,2,173,5],[165,2,165,5],[166,0,166,1],[166,2,166,5],[167,0,167,1],[167,2,167,5],[169,0,169,1],[169,2,169,5],[170,0,170,1],[170,2,170,5],[171,2,171,5],[172,0,172,1],[172,2,172,5],[175,4,175,6],[177,2,177,5],[178,2,178,5],[179,2,179,5],[188,4,188,5]]}
["T1581_Built_to_Order",null,{"$f":"Start_Here!$C19","v":"Company Name"}]
[{"$f":"SUM(G101)","v":0},null,{"$f":"Start_Here!$C20","v":"Address"}]
[null,null,{"$f":"Start_Here!$C21","v":"City, State Zip"}]
[null,null,{"$f":"Start_Here!$C22","v":"Contact Name"}]
[null,null,{"$f":"Start_Here!$C$41","v":"Rep Name"}]
[null,null,{"$f":"Start_Here!$C$37","v":"Tennant Sales and Service Company"}]
[null,null,{"$f":"Start_Here!$C$38","v":"10400 Clean Street"}]
[null,null,{"$f":"Start_Here!$C$39","v":"Eden Prairie, MN 55344"}]
[null,null,{"$f":"Start_Here!$C$43","v":"800-553-8033"},null,"Quote Date :",null,{"$f":"Letter!$A$25","v":"2014-10-02"}]
[]
[null,null,{"$f":"Help!C2","v":"CAN Date Rev - 5/6/2025"}]
[]
[null,"BUILT-IN “TENNANT VALUE” INCLUDES:"]
[]
[null,null,"Wet, 360 AH C/20 Battery Pack","No Tool Squeegee and Brush Change"]
[null,null,"36VDC, 21A 85-265 VAC 45/65 Hz Charger","High Visibility Maintenance Touch Points"]
[null,null,"DC Propel Motor","Multi-Language Operator Manual and Video"]
[null,null,"Disk Scrubbing - 41 in (1050 mm) path"]
[null,null,"Cylindrical Scrubbing - 39 in (1000 mm) path","T1581 Controls:"]
[null,null,"Standard Sweeping Side Brushes (Cylindrical model only)","3 Preset Scrub Operation Programs"]
[null,null,"Standard Cylindrical or Disk Scrubbing Brushes (Select One)","On Board Diagnostics"]
[null,null,"Non-Corrosive Solution and Recovery Tanks","Spin on/spin off brush attachment (Disk model only)"]
[null,null,"58 gal (218 L) Solution Tank"]
[null,null,"63 gal (237 L) Recovery Tank"]
[null,null,"V-shaped Rear Squeegee Breakaway System"]
[null,null,"Automatic Functions:"]
[null,null,"Parking Brake"]
[null,null,"Squeegee Lift"]
[null,null,"One Scrubbing Mode: Conventional Scrubbing"]
[]
[null,"TENNANT COMPANY WARRANTY"]
[null,"36 MONTHS OR 1500 HOURS - PARTS"]
[null,"24 MONTHS - LABOR"]
[null,"6 MONTHS - TRAVEL"]
[null,"10 YEARS ON DURAMERTM TANKS"]
[null,"CUSTOM options may add 1 week or more to standard lead times."]
[]
[]
[]
[]
[]
[null,null,null,null,"                Quote Request Information"]
[null,null,null,null,null,null,"Fax (quote only)"]
[null,null,null,null,null,null,"Mail (quote,lit, specs)"]
[null,null,null,null,null,null,"Fax + Mail"]
[]
[null,null,null,null,"                Primary Use"]
[null,null,null,null,null,null,"Inside"]
[null,null,null,null,null,null,"Outside"]
[]
[null,null,"Description","Reference #","Price Each","Qty","Extended Price"]
[null,"Base Configuration",null,null,"CANADA",{"$f":"SUM(F53)","v":0}]
[null,null,"Cleaning Type",null,null,{"$f":"SUM(F54:F55)","v":0},null,{"$f":"IFERROR(IFERROR(VLOOKUP(D53,Surcharge!A:B,2,FALSE)*F53, VLOOKUP(D53 & \"\",Surcharge!A:B,2,FALSE)*F53), \"\")","v":""},null,null,null,{"$f":"SUM(F53)","v":0},"Surcharge Qty",null,null,"M-T12VK_BASE_T12-D"]
[null,null,"T1581 Ride-On Scrubber 1000 mm / 39\" - Cylindrical","T1581-1000-C",45379,null,{"$f":"F54*E54","v":0},{"$f":"IFERROR(IFERROR(VLOOKUP(D54,Surcharge!A:B,2,FALSE)*F54, VLOOKUP(D54 & \"\",Surcharge!A:B,2,FALSE)*F54), \"\")","v":""},null,null,null,{"$f":"SUM(F54)","v":0},"Surcharge Qty",null,null,"M-T12VK_BASE_T12-C"]
[null,null,"T1581 Ride-On Scrubber 1050 mm / 41\" - Disk","T1581-1050-D",45379,null,0,{"$f":"IFERROR(IFERROR(VLOOKUP(D55,Surcharge!A:B,2,FALSE)*F55, VLOOKUP(D55 & \"\",Surcharge!A:B,2,FALSE)*F55), \"\")","v":""},null,null,null,{"$f":"SUM(F55)","v":0},"Surcharge Qty",null,null,"M-T12VK_BASE_T12-XP-D"]
[null,null,null,null,null,null,null,{"$f":"IFERROR(IFERROR(VLOOKUP(D56,Surcharge!A:B,2,FALSE)*F56, VLOOKUP(D56 & \"\",Surcharge!A:B,2,FALSE)*F56), \"\")","v":""},null,null,null,null,null,null,null,"M-T12VK_BASE_T12-XP-C"]
[null,null,"Battery Type  (Note 1)",null,null,{"$f":"SUM(F58:F60)","v":0},null,{"$f":"IFERROR(IFERROR(VLOOKUP(D57,Surcharge!A:B,2,FALSE)*F57, VLOOKUP(D57 & \"\",Surcharge!A:B,2,FALSE)*F57), \"\")","v":""}]
[null,null,"Wet 360AH C/20  (Kit of 6 batteries)",9022562,"N/C",null,{"$f":"IF(F58=0,\" \",\"N/C\")","v":" "},{"$f":"IFERROR(IFERROR(VLOOKUP(D58,Surcharge!A:B,2,FALSE)*F58, VLOOKUP(D58 & \"\",Surcharge!A:B,2,FALSE)*F58), \"\")","v":""}]
[null,null,"Sealed/MF AGM 350AH C/20  (Kit of 6 batteries)",9022563,1707,null,{"$f":"F59*E59","v":0},{"$f":"IFERROR(IFERROR(VLOOKUP(D59,Surcharge!A:B,2,FALSE)*F59, VLOOKUP(D59 & \"\",Surcharge!A:B,2,FALSE)*F59), \"\")","v":""},null,null,null,null,null,null,null,"M-T12VK_CLNTCH_ECH2O"]
[null,null,"Less Battery, DEDUCT (Note 1)",null,-983,null,{"$f":"F60*E60","v":0},{"$f":"IFERROR(IFERROR(VLOOKUP(D60,Surcharge!A:B,2,FALSE)*F60, VLOOKUP(D60 & \"\",Surcharge!A:B,2,FALSE)*F60), \"\")","v":""}]
[null,null,null,null,null,null,null,{"$f":"IFERROR(IFERROR(VLOOKUP(D61,Surcharge!A:B,2,FALSE)*F61, VLOOKUP(D61 & \"\",Surcharge!A:B,2,FALSE)*F61), \"\")","v":""}]
[null,null,"Charger  (Note 1)",null,null,{"$f":"SUM(F63:F65)","v":0},null,{"$f":"IFERROR(IFERROR(VLOOKUP(D62,Surcharge!A:B,2,FALSE)*F62, VLOOKUP(D62 & \"\",Surcharge!A:B,2,FALSE)*F62), \"\")","v":""},null,null,null,null,null,null,null,"M-T12"]
[null,null,"21A 85-265V AC 50/60Hz 1Ph - Off-Board",9022564,"N/C",null,{"$f":"IF(F63=0,\" \",\"N/C\")","v":" "},{"$f":"IFERROR(IFERROR(VLOOKUP(D63,Surcharge!A:B,2,FALSE)*F63, VLOOKUP(D63 & \"\",Surcharge!A:B,2,FALSE)*F63), \"\")","v":""},null,null,null,null,null,null,null,"M-T12"]
[null,null,"Without Charger",null,-417,null,{"$f":"IF(F64=0,\" \",\"N/C\")","v":" "},{"$f":"IFERROR(IFERROR(VLOOKUP(D64,Surcharge!A:B,2,FALSE)*F64, VLOOKUP(D64 & \"\",Surcharge!A:B,2,FALSE)*F64), \"\")","v":""},null,null,null,null,null,null,null,"M-T12VK_SQEMAT_U"]
[null,null,"Charger Power Cord",9022565,"N/C",null,{"$f":"IF(F65=0,\" \",\"N/C\")","v":" "},{"$f":"IFERROR(IFERROR(VLOOKUP(D65,Surcharge!A:B,2,FALSE)*F65, VLOOKUP(D65 & \"\",Surcharge!A:B,2,FALSE)*F65), \"\")","v":""},null,null,null,null,null,null,null,""]
[null,null,null,null,null,null,null,{"$f":"IFERROR(IFERROR(VLOOKUP(D66,Surcharge!A:B,2,FALSE)*F66, VLOOKUP(D66 & \"\",Surcharge!A:B,2,FALSE)*F66), \"\")","v":""},null,null,null,null,null,null,null,""]
[null,"Brushes and Pads  (Note 2)",null,null,null,{"$f":"SUM(F68:F72)","v":0},null,{"$f":"IFERROR(IFERROR(VLOOKUP(D67,Surcharge!A:B,2,FALSE)*F67, VLOOKUP(D67 & \"\",Surcharge!A:B,2,FALSE)*F67), \"\")","v":""},null,null,null,null,null,null,null,"M-T12"]
[null,null,"1000mm/39\" Cylindrical Scrubbing Brush",null,null,{"$f":"SUM(F69)","v":0},null,{"$f":"IFERROR(IFERROR(VLOOKUP(D68,Surcharge!A:B,2,FALSE)*F68, VLOOKUP(D68 & \"\",Surcharge!A:B,2,FALSE)*F68), \"\")","v":""},null,null,null,null,null,null,null,"M-T12VK_BTY_W360C20"]
[null,null,"Polypropylene",null,"N/C",null,{"$f":"IF(F69=0,\" \",\"N/C\")","v":" "},{"$f":"IFERROR(IFERROR(VLOOKUP(D69,Surcharge!A:B,2,FALSE)*F69, VLOOKUP(D69 & \"\",Surcharge!A:B,2,FALSE)*F69), \"\")","v":""},null,null,null,null,null,null,null,"M-T12VK_BTY_A312C20"]
[null,null,null,null,null,null,null,{"$f":"IFERROR(IFERROR(VLOOKUP(D70,Surcharge!A:B,2,FALSE)*F70, VLOOKUP(D70 & \"\",Surcharge!A:B,2,FALSE)*F70), \"\")","v":""},null,null,null,null,null,null,null,"M-T12VK_BTY_WO"]
[null,null,"1050mm/41\" Disk Scrubbing Brush/Pads (2 Required)",null,null,{"$f":"SUM(F72)","v":0},null,{"$f":"IFERROR(IFERROR(VLOOKUP(D71,Surcharge!A:B,2,FALSE)*F71, VLOOKUP(D71 & \"\",Surcharge!A:B,2,FALSE)*F71), \"\")","v":""},null,null,null,null,null,null,null,""]
[null,null,"Polypropylene",null,"N/C",null,{"$f":"IF(F72=0,\" \",\"N/C\")","v":" "},{"$f":"IFERROR(IFERROR(VLOOKUP(D72,Surcharge!A:B,2,FALSE)*F72, VLOOKUP(D72 & \"\",Surcharge!A:B,2,FALSE)*F72), \"\")","v":""},null,null,null,null,null,null,null,"M-T12VK_BTYWTRSYS"]
[null,null,null,null,null,null,null,{"$f":"IFERROR(IFERROR(VLOOKUP(D73,Surcharge!A:B,2,FALSE)*F73, VLOOKUP(D73 & \"\",Surcharge!A:B,2,FALSE)*F73), \"\")","v":""},null,null,null,null,null,null,null,""]
[null,"Support",null,null,null,{"$f":"SUM(F75:F76)","v":0},null,{"$f":"IFERROR(IFERROR(VLOOKUP(D74,Surcharge!A:B,2,FALSE)*F74, VLOOKUP(D74 & \"\",Surcharge!A:B,2,FALSE)*F74), \"\")","v":""},null,null,null,null,null,null,null,""]
[null,null,"Packaging  ",null,null,{"$f":"SUM(F76)","v":0},null,{"$f":"IFERROR(IFERROR(VLOOKUP(D75,Surcharge!A:B,2,FALSE)*F75, VLOOKUP(D75 & \"\",Surcharge!A:B,2,FALSE)*F75), \"\")","v":""},null,null,null,null,null,null,null,"M-T12VK_CHG_21A85V5060H1P"]
[null,null,"Skid w/Carton, Non-Stackable","T1581-SKD","N/C",null,{"$f":"IF(F76=0,\" \",\"N/C\")","v":" "},{"$f":"IFERROR(IFERROR(VLOOKUP(D76,Surcharge!A:B,2,FALSE)*F76, VLOOKUP(D76 & \"\",Surcharge!A:B,2,FALSE)*F76), \"\")","v":""},null,null,null,null,null,null,null,"M-T12VK_CHG_21A85V5060H1P"]
[null,null,null,null,null,null,null,{"$f":"IFERROR(IFERROR(VLOOKUP(D77,Surcharge!A:B,2,FALSE)*F77, VLOOKUP(D77 & \"\",Surcharge!A:B,2,FALSE)*F77), \"\")","v":""}]
[null,null,null,null,null,"  "]
[]
[null,"Custom Solution--write in description, qty, price, and PN if applicable",null,null,null,{"$f":"SUM(F81)","v":0}]
[null,null,null,null,"Insert Prices Here",{"$f":"SUM(F82:F85)","v":0}]
[null,null,null,"Custom",null,{"$f":"IF(E82 <> \"\", 1, 0)","v":0},{"$f":"F82*E82","v":0}]
[null,null,null,"Custom",null,{"$f":"IF(E83 <> \"\", 1, 0)","v":0},{"$f":"F83*E83","v":0}]
[null,null,null,"Custom",null,{"$f":"IF(E84 <> \"\", 1, 0)","v":0},{"$f":"F84*E84","v":0}]
[null,null,null,"Custom",null,{"$f":"IF(E85 <> \"\", 1, 0)","v":0},{"$f":"F85*E85","v":0}]
[null,null,null,null,{"$f":"ROUND(SUM(G52:G85), 0)","v":0},{"$f":"SUM(E87)","v":0}]
[null,null,null,"Machine Subtotal ",{"$f":"ROUND(SUM(G52:G85), 0)","v":0},{"$f":"F86","v":0}]
[null,"Discounts",null,null,null,{"$f":"SUM(F89)","v":0}]
[null,null,null,null,null,{"$f":"SUM(F91:F94)","v":0}]
[null,null,null,"Applicable Currency Adj %",null,{"$f":"IF(E90 <> \"\", 1, 0)","v":0},{"$f":"IF(F90*(E90*0.01)*E86 < 0, F90*(E90*0.01)*E86, -(F90*(E90*0.01)*E86))","v":0}]
[null,null,null,"Discount %",null,{"$f":"IF(E91 <> \"\", 1, 0)","v":0},{"$f":"IF(F91*(E91*0.01)*(E86+G90) < 0, F91*(E91*0.01)*(E86+G90), -(F91*(E91*0.01)*(E86+G90)))","v":0}]
[null,null,null,"Discount $",null,{"$f":"IF(E92 <> \"\", 1, 0)","v":0},{"$f":"IF(F92*E92 < 0, F92*E92, -(F92*E92))","v":0}]
[null,null,null,"Discount $",null,{"$f":"IF(E93 <> \"\", 1, 0)","v":0},{"$f":"IF(F93*E93 < 0, F93*E93, -(F93*E93))","v":0}]
[null,null,null,"Discount $",null,{"$f":"IF(E94 <> \"\", 1, 0)","v":0},{"$f":"IF(F94*E94 < 0, F94*E94, -(F94*E94))","v":0}]
[null,null,null,"Discount Total ",{"$f":"SUM(G90:G94)","v":0},{"$f":"SUM(E95)","v":0}]
[null,null,null,null,null,{"$f":"#REF!","v":{"$error":"#REF!"}}]
[null,null,null,null,null,{"$f":"F96","v":{"$error":"#REF!"}}]
[null,null,"Prepaid and Add","Freight",null,{"$f":"IF(E98 <> \"\", 1, 0)","v":0},{"$f":"F98*E98","v":0}]
[null,null,"Subject to all applicable taxes","Tax",null,{"$f":"IF(E99 <> \"\", 1, 0)","v":0},{"$f":"F99*E99","v":0}]
[null,null,null,null,null,{"$f":"SUM(F101)","v":0}]
[null,null,null,"MACHINE TOTAL*",null,{"$f":"SUM(G101)","v":0},{"$f":"SUM(G52:G99)","v":0},null,null,null,null,null,null,"This goes to \"My Documents\""]
[null,null,null,null,null,null,{"$f":"SUM(G101)","v":0}]
[]
[]
[]
[]
[null,null,"First Western Equipment Finance - Leasing Calculation Option:","Option 1",null,"Option 2",null,null,null,{"$f":"Financing!A38","v":"Rates 2025 - Rev 2/4/2025"}]
[null,null,null,"Monthly Payment","Cost Per Day","Monthly Payment","Cost Per Day",null,null,{"$f":"Financing!A39","v":"“Blank Payment Amounts Indicate The Financing Option Or Purchase Options Selected Are Not "}]
[null,null,"Purchase Option:","FWEF:  $1 Buyout Lease",null,"FWEF: Municipal Lease",null,null,null,{"$f":"Financing!A40","v":"Applicable Or The Machine Total Is Below The Minimum Amount For The Selected Vendor”"}]
[null,null,"24 Months",false,0,false,0,null,null,{"$f":"Financing!A41","v":"\"Quoted monthly payments are estimates only and are based on a certain level of credit rating."}]
[null,null,"30 Months",false,0,false,0,null,null,{"$f":"Financing!A42","v":"Actual monthly payments may be higher depending on your credit rating.\""}]
[null,null,"36 Months",false,0,false,0,null,null,{"$f":"Financing!A43","v":"“Financing rates do not include Pre-Paid Service”"}]
[null,null,"48 Months",0,0,0,0]
[]
[null,null,null,"Benefits of Equipment Financing:"]
[null,null,null,"• Spreads out investment over time.",null,"• Keep current with latest technology."]
[null,null,null,"• Preserve capital.",null,"• Service and parts bundling available."]
[null,null,null,"• Low monthly payment.",null,"• Pay for labor savings as you go."]
[]
[null,"   TennantTrue",null,null,0,0]
[]
[null,null,"Is customer interested in service program?","Yes","*State/County selection required for TennantTrue service options"]
[]
[null,null,"If not, why?"]
[]
[null,null,"Term:",36,null,null,"AB Brushes","No"]
[null,null,"Monthly machine usage (hrs):","< 30/mo. (Avg. 1hr./day)"]
[]
[null,null,"TennantTrue: ","Gold Contract",null,"Silver Contract"]
[null,null,"Per Visit",null,null,611]
[null,null,"Monthly",231,null,127]
[null,null,"Annually",null,null,1490]
[null,null,"Pre-Pay Full Term",7977,null,4379]
[null,null,"Hourly Labor Rate"]
[null,null,"Site Visit"]
[]
[null,null,"* Verify customer current pricing prior to quote. "]
[null,null,"**All rates and fees above reflect service for one (1) unit with the exception of Block of Time service."]
[null,null,"*Block of Time is available in 1 Year Term only and is priced as such no matter the term selection on this template."]
[]
[]
[]
[null,"Quote Special Instructions:"]
[]
[]
[null,{"$f":"Start_Here!E36","v":"Terms and Conditions"}]
[null,{"$f":"Start_Here!E37","v":"Ask your local sales rep for estimated lead times. Verify when placing order"}]
[null,{"$f":"Start_Here!E38","v":"All orders subject to acceptance by Tennant Sales and Service Company, Minneapolis, Minnesota"}]
[null,{"$f":"Start_Here!E39","v":"Prices subject to change without notice. Subject to any applicable taxes."}]
[null,{"$f":"Start_Here!E40","v":"Terms:  Net 30 days.  Payable in Canadian Funds"}]
[null,{"$f":"Start_Here!E41","v":"Freight:  Accessories, parts, supplies, detergents, and floor coatings orders delivered DDP "}]
[null,{"$f":"Start_Here!E42","v":"shipping point Frt PPD.  Machine orders delivered DDP shipping point Frt PPD and add."}]
[null,{"$f":"Start_Here!E43","v":"Returned Merchandise is subject to a restocking fee."}]
[null,{"$f":"Start_Here!E45","v":"Printed General Terms and Conditions are also available upon request."}]
[null,{"$f":"Start_Here!E46","v":0}]
[]
[null,null,null,null,"Quote Date :",null,{"$f":"Letter!$A$25","v":"2014-10-02"}]
["Order Placement Information:  To place your order, fill in PO# and customer signatures,"]
["call or fax to the numbers listed below. Customer Purchase Order is required."]
["If information is missing, orders will be entered and held until all information is received."]
[null,null,"Customer Number",null,"Cust Grp 3"]
[null,null,{"$f":"Start_Here!$C$25","v":0},null,{"$f":"Start_Here!$C$29","v":0}]
[null,null,{"$f":"Start_Here!$B$18","v":"Who Owns the Machine? (Sold-To Info) (Please Verify)"}]
["Company",null,{"$f":"Start_Here!$C$19","v":"Company Name"}]
["Address",null,{"$f":"Start_Here!$C$20","v":"Address"}]
[null,null,{"$f":"Start_Here!$C$21","v":"City, State Zip"}]
["Name",null,{"$f":"Start_Here!$C$22","v":"Contact Name"}]
["Phone",null,{"$f":"Start_Here!$C$23","v":"Contact Phone"}]
[null,null,{"$f":"Start_Here!$B$11","v":"Where is the Machine Being Shipped? (Ship-To Info) (Please Verify)"}]
["Company",null,{"$f":"Start_Here!$C$12","v":"Company Name"}]
["Address",null,{"$f":"Start_Here!$C$13","v":"Address"}]
[null,null,{"$f":"Start_Here!$C$14","v":"City, State Zip"}]
["Name",null,{"$f":"Start_Here!$C$15","v":"Contact Name"}]
["Phone",null,{"$f":"Start_Here!$C$16","v":"Contact Phone"}]
[null,null,{"$f":"Start_Here!$B$31","v":"Shipping / Carrier Instructions:"},null,"Order Special Instructions:"]
[null,null,{"$f":"Start_Here!$C$32","v":0}]
[]
[null,null,"Customer Purchase Order No."]
[null,null,"(please attach copy)"]
[]
[]
[null,null,"Tax Exempt",null,"Yes"]
[null,null,null,null,"No"]
[null,null,"If Yes, attach a copy of your exemption certificate."]
[]
[null,null,"Requested Delivery Date"]
[null,null,{"$f":"Start_Here!$C$28","v":0}]
[]
[null,null,{"$f":"Start_Here!$C$26","v":0},null,{"$f":"Start_Here!$C$27","v":0}]
[null,null,"Authorized Buyer (please print)",null,"Phone Number"]
[]
[]
[null,null,"Authorized Buyer Signature"]
[]
[null,null,{"$f":"Start_Here!$C$41","v":"Rep Name"}]
[null,null,"Tennant Representative"]
[]
["Specialized Maintenance Equipment"]
[]
[]
[null,"Notes"]
[null,1,"A Charger is required when either the Wet 360AH C/20 or AGM 350AH C/20 battery is selected."]
[]
[null,2,"A Polypropylene Brush comes standard with a T1581."]
[]
[null,3,"Shipping Weights and Dimensions (Cylindrical)","Skid w/Carton"]
[]
[null,null,"Weight - 1000 mm / 40\" Cylindrical (w/ Wet 360Ah)","1,239 lbs / 562 kg"]
[null,null,"Length","79 in / 2,010 mm"]
[null,null,"Width","50 in / 1,280 mm"]
[null,null,"Height","62 in / 1,580 mm"]
[]
[null,4,"Shipping Weights and Dimensions (Disk)","Skid w/Carton"]
[]
[null,null,"Weight - 1050 mm / 42\" Disk (w/ Wet 360Ah)","1,190 lbs / 540 kg"]
[null,null,"Length","79 in / 2,010 mm"]
[null,null,"Width","50 in / 1,280 mm"]
[null,null,"Height","62 in / 1,580 mm"]

{"sheet":"T16_Built_to_Order","index":40,"n_rows":396,"n_cols":16,"rows_kept":396,"cut":false,"hidden":false,"merged":[[248,0,248,1],[248,2,248,5],[249,0,249,1],[249,2,249,5],[246,0,246,1],[247,2,247,5],[246,2,246,5],[259,2,259,5],[260,2,260,5],[261,2,261,5],[270,4,270,5],[254,0,254,1],[254,2,254,5],[255,0,255,1],[255,2,255,5],[257,4,257,6],[251,0,251,1],[251,2,251,5],[252,0,252,1],[252,2,252,5],[253,2,253,5],[223,1,223,6],[243,4,243,6],[245,0,245,1],[245,2,245,5],[209,3,209,4],[209,5,209,6],[210,3,210,4],[210,5,210,6],[211,3,211,4],[211,5,211,6],[212,5,212,6],[213,3,213,4],[213,5,213,6],[214,3,214,4],[214,5,214,6],[212,3,212,4],[201,4,201,8],[203,3,203,6],[205,3,205,4],[206,3,206,4],[208,3,208,4],[208,5,208,6],[186,3,186,4],[186,5,186,6],[188,3,188,4],[188,5,188,6],[0,2,0,3],[1,2,1,3],[2,2,2,3],[3,2,3,3],[11,2,11,6],[54,2,54,3],[33,2,33,6],[34,2,34,6],[35,2,35,6],[36,2,36,6],[37,2,37,6]]}
["T16_Built_to_Order",null,{"$f":"Start_Here!$C19","v":"Company Name"}]
[{"$f":"SUM(G181)","v":0},null,{"$f":"Start_Here!$C20","v":"Address"}]
[null,null,{"$f":"Start_Here!$C21","v":"City, State Zip"}]
[null,null,{"$f":"Start_Here!$C22","v":"Contact Name"}]
[null,null,{"$f":"Start_Here!$C$41","v":"Rep Name"}]
[null,null,{"$f":"Start_Here!$C$37","v":"Tennant Sales and Service Company"}]
[null,null,{"$f":"Start_Here!$C$38","v":"10400 Clean Street"}]
[null,null,{"$f":"Start_Here!$C$39","v":"Eden Prairie, MN 55344"}]
[null,null,{"$f":"Start_Here!$C$43","v":"800-553-8033"},null,"Quote Date :",null,{"$f":"Letter!$A$25","v":"2014-10-02"}]
[]
[null,null,{"$f":"Help!C2","v":"CAN Date Rev - 5/6/2025"}]
[null,null,"BUILT-IN “TENNANT VALUE” INCLUDES:"]
[]
[null,null,"36V, 235 AH Battery Pack",null,"Removable Tool Caddy and Large Cargo Net Storage Area"]
[null,null,"20 Amp, 115 Volt 60 Hz Charger",null,"Standard Cylindrical or Disk Scrubbing Brushes (Select One)"]
[null,null,"Two Speed Electronic Overdrive Transmission with",null,"Hygienic Non-Corrosive Duramer™ Solution and Recovery Tanks"]
[null,null,"AC Propel Motor",null,"50 gal (190 L) Solution Tank"]
[null,null,"Disk or Cylindrcial Scrubbing - 36 in (910 mm) path",null,"60 gal (225 L) Recovery Tank"]
[null,null,"Steering Wheel Mounted, Touch-N-GO Control Module ",null,"10 gal (38 L) Demisting Chamber"]
[null,null,"     1-Step™ One-Button Scrub Operation",null,"Parabolic Rear Squeegee"]
[null,null,"     3 Down-Pressure Settings",null,"SmartRelease™ Breakaway System"]
[null,null,"     Steering Wheel Mounted Horn",null,"Linatex Squeegee Blades"]
[null,null,"     On Board Diagnostics",null,"Cast Aluminum Rear Squeegee Frame"]
[null,null,"     Water Shutoff Thumb Switch",null,"No Tool Squeegee and Brush Change"]
[null,null,"Automatic:",null,"In-Line Vacuum Fan Air Filter"]
[null,null,"     Parking Brake",null,"High Visibility Maintenance Touch Points"]
[null,null,"     Squeegee Lift",null,"Underwriters Laboratory (UL®) \"E\" Certification"]
[null,null,"     Water Shutoff",null,"Cup Holder"]
[null,null,"     Brush Shutoff When Idle",null,"Operator Manual and Video"]
[null,null,"     Brush Shutoff at 80% Battery Discharge",null,"Front and Rear Non-Marking Tires "]
[]
[]
[]
[null,null,"TENNANT COMPANY WARRANTY"]
[null,null,"36 MONTHS OR 2000 HOURS - PARTS"]
[null,null,"24 MONTHS - LABOR"]
[null,null,"6 MONTHS - TRAVEL"]
[null,null,"10 YEARS ON DURAMERTM TANKS"]
[]
[null,null,null,null,"                Quote Request Information"]
[null,null,null,null,null,null,"Fax (quote only)"]
[null,null,null,null,null,null,"Mail (quote,lit, specs)"]
[null,null,null,null,null,null,"Fax + Mail"]
[]
[null,null,null,null,"                Primary Use"]
[null,null,null,null,null,null,"Inside"]
[null,null,null,null,null,null,"Outside"]
[]
[null,null,"Description","Reference #","Price Each","Qty","Extended Price"]
[null,"Base Configuration",null,null,"CANADA ",{"$f":"SUM(F51,F55,F62,F67,F77,F83,F93)","v":0},null,{"$f":"IFERROR(IFERROR(VLOOKUP(D50,Surcharge!A:B,2,FALSE)*F50, VLOOKUP(D50 & \"\",Surcharge!A:B,2,FALSE)*F50), \"\")","v":""}]
[null,null,"Cleaning Type",null,null,{"$f":"SUM(F52:F53)","v":0},null,{"$f":"IFERROR(IFERROR(VLOOKUP(D51,Surcharge!A:B,2,FALSE)*F51, VLOOKUP(D51 & \"\",Surcharge!A:B,2,FALSE)*F51), \"\")","v":""},null,null,null,{"$f":"SUM(F51)","v":0},"Surcharge Qty"]
[null,null,"T16 Rider - Conventional Disk Scrubbing","T16-910-D",52691,null,{"$f":"F52*E52","v":0},{"$f":"IFERROR(IFERROR(VLOOKUP(D52,Surcharge!A:B,2,FALSE)*F52, VLOOKUP(D52 & \"\",Surcharge!A:B,2,FALSE)*F52), \"\")","v":0},null,null,null,{"$f":"SUM(F52)","v":0},"Surcharge Qty",null,null,"M-T16VK_BASE_T16-910-D"]
[null,null,"T16 Rider - Conventional Cylindrical Scrubbing","T16-910-C",52691,null,{"$f":"F53*E53","v":0},{"$f":"IFERROR(IFERROR(VLOOKUP(D53,Surcharge!A:B,2,FALSE)*F53, VLOOKUP(D53 & \"\",Surcharge!A:B,2,FALSE)*F53), \"\")","v":0},null,null,null,null,null,null,null,"M-T16VK_BASE_T16-910-C"]
[null,null,null,null,null,null,null,{"$f":"IFERROR(IFERROR(VLOOKUP(D54,Surcharge!A:B,2,FALSE)*F54, VLOOKUP(D54 & \"\",Surcharge!A:B,2,FALSE)*F54), \"\")","v":""}]
[null,null,"Cleaning Technology: (conventional is standard,  ec-H2O can also operate in conventional mode) (Note 2)",null,null,{"$f":"SUM(F56:F60)","v":0},null,{"$f":"IFERROR(IFERROR(VLOOKUP(D55,Surcharge!A:B,2,FALSE)*F55, VLOOKUP(D55 & \"\",Surcharge!A:B,2,FALSE)*F55), \"\")","v":""}]
[null,null,"ec-H2O™ with S.E. Switch Capability","ec-H2O-T16",6768,null,{"$f":"F56*E56","v":0},{"$f":"IFERROR(IFERROR(VLOOKUP(D56,Surcharge!A:B,2,FALSE)*F56, VLOOKUP(D56 & \"\",Surcharge!A:B,2,FALSE)*F56), \"\")","v":""},null,null,null,null,null,null,null,"M-T16VK_CLNTCH_ECH2O"]
[null,null,"ES® Extended Scrub  (Note 3)","ES-T16",6763,null,{"$f":"F57*E57","v":0},{"$f":"IFERROR(IFERROR(VLOOKUP(D57,Surcharge!A:B,2,FALSE)*F57, VLOOKUP(D57 & \"\",Surcharge!A:B,2,FALSE)*F57), \"\")","v":""},null,null,null,null,null,null,null,"M-T16VK_CLNTCH_ES"]
[null,null,null,null," "]
[null,null,"S.E. Switch Capability DEDUCT",null,-598,null,{"$f":"F59*E59","v":0},null,null,null,null,null,null,null,null,"M-T16VK_SVEEVMSWH_N"]
[null,null,"Detergent Metering  (Note 4)",9020977,4771,null,{"$f":"F60*E60","v":0},null,null,null,null,null,null,null,null,"M-T16VK_DTGMTG"]
[null,null,null,null," ",null,null,{"$f":"IFERROR(IFERROR(VLOOKUP(D61,Surcharge!A:B,2,FALSE)*F61, VLOOKUP(D61 & \"\",Surcharge!A:B,2,FALSE)*F61), \"\")","v":""}]
[null,null,"Squeegee Material ",null," ",{"$f":"SUM(F63:F65)","v":0},null,{"$f":"IFERROR(IFERROR(VLOOKUP(D62,Surcharge!A:B,2,FALSE)*F62, VLOOKUP(D62 & \"\",Surcharge!A:B,2,FALSE)*F62), \"\")","v":""}]
[null,null,"Linatex",null,"N/C",null,{"$f":"IF(F63=0,\" \",\"N/C\")","v":" "},{"$f":"IFERROR(IFERROR(VLOOKUP(D63,Surcharge!A:B,2,FALSE)*F63, VLOOKUP(D63 & \"\",Surcharge!A:B,2,FALSE)*F63), \"\")","v":""},null,null,null,null,null,null,null,"M-T16VK_SQEMAT_L"]
[null,null,"Gum Rubber",null,"N/C",null,{"$f":"IF(F64=0,\" \",\"N/C\")","v":" "},{"$f":"IFERROR(IFERROR(VLOOKUP(D64,Surcharge!A:B,2,FALSE)*F64, VLOOKUP(D64 & \"\",Surcharge!A:B,2,FALSE)*F64), \"\")","v":""},null,null,null,null,null,null,null,"M-T16VK_SQEMAT_G"]
[null,null,"Urethane",null,"N/C",null,{"$f":"IF(F65=0,\" \",\"N/C\")","v":" "},{"$f":"IFERROR(IFERROR(VLOOKUP(D65,Surcharge!A:B,2,FALSE)*F65, VLOOKUP(D65 & \"\",Surcharge!A:B,2,FALSE)*F65), \"\")","v":""},null,null,null,null,null,null,null,"M-T16VK_SQEMAT_U"]
[null,null,null,null," ",null,null,{"$f":"IFERROR(IFERROR(VLOOKUP(D66,Surcharge!A:B,2,FALSE)*F66, VLOOKUP(D66 & \"\",Surcharge!A:B,2,FALSE)*F66), \"\")","v":""}]
[null,null,"Battery Type  (Notes 5-8)",null," ",{"$f":"SUM(F68:F75)","v":0},null,{"$f":"IFERROR(IFERROR(VLOOKUP(D67,Surcharge!A:B,2,FALSE)*F67, VLOOKUP(D67 & \"\",Surcharge!A:B,2,FALSE)*F67), \"\")","v":""}]
[null,null,"Wet 240 AH",9008140,"N/C",null,{"$f":"IF(F68=0,\" \",\"N/C\")","v":" "},{"$f":"IFERROR(IFERROR(VLOOKUP(D68,Surcharge!A:B,2,FALSE)*F68, VLOOKUP(D68 & \"\",Surcharge!A:B,2,FALSE)*F68), \"\")","v":""},null,null,null,null,null,null,null,"M-T16VK_BTY_W240C20"]
[null,null,"Wet 360 AH (in lieu of standard)",9008141,1631,null,{"$f":"F69*E69","v":0},{"$f":"IFERROR(IFERROR(VLOOKUP(D69,Surcharge!A:B,2,FALSE)*F69, VLOOKUP(D69 & \"\",Surcharge!A:B,2,FALSE)*F69), \"\")","v":""},null,null,null,null,null,null,null,"M-T16VK_BTY_W360C20"]
[null,null,"Sealed/MF AGM 312AH C/6",325818,7040,null,{"$f":"F70*E70","v":0},{"$f":"IFERROR(IFERROR(VLOOKUP(D70,Surcharge!A:B,2,FALSE)*F70, VLOOKUP(D70 & \"\",Surcharge!A:B,2,FALSE)*F70), \"\")","v":""},null,null,null,null,null,null,null,"M-T16VK_BTY_A312C20"]
[null,null,"Li-Ion 240 AH (Kit of 3 batteries) (Note 8)",9023271,10472,null,{"$f":"F71*E71","v":0}]
[null,null,"Li-Ion 320 AH (Kit of 4 batteries) (Note 8)",9023272,13962,null,0]
[null,null,"Less Battery, DEDUCT","LESS BATTERY",-693,null,{"$f":"F73*E73","v":0},{"$f":"IFERROR(IFERROR(VLOOKUP(D73,Surcharge!A:B,2,FALSE)*F73, VLOOKUP(D73 & \"\",Surcharge!A:B,2,FALSE)*F73), \"\")","v":""},null,null,null,null,null,null,null,"M-T16VK_BTY_WO"]
[null,null,null,null," ",null,null,{"$f":"IFERROR(IFERROR(VLOOKUP(D74,Surcharge!A:B,2,FALSE)*F74, VLOOKUP(D74 & \"\",Surcharge!A:B,2,FALSE)*F74), \"\")","v":""}]
[null,null,"Manual Battery Watering System  (Note 9)",9009620,1126,null,{"$f":"F75*E75","v":0},{"$f":"IFERROR(IFERROR(VLOOKUP(D75,Surcharge!A:B,2,FALSE)*F75, VLOOKUP(D75 & \"\",Surcharge!A:B,2,FALSE)*F75), \"\")","v":""},null,null,null,null,null,null,null,"M-T16VK_BTYWTRSYS"]
[null,null,null,null," ",null,null,{"$f":"IFERROR(IFERROR(VLOOKUP(D76,Surcharge!A:B,2,FALSE)*F76, VLOOKUP(D76 & \"\",Surcharge!A:B,2,FALSE)*F76), \"\")","v":""}]
[null,null,"Battery Exchange System  (Notes 10 & 11)","Reference Number"," ",{"$f":"SUM(F78:F81)","v":0},null,{"$f":"IFERROR(IFERROR(VLOOKUP(D77,Surcharge!A:B,2,FALSE)*F77, VLOOKUP(D77 & \"\",Surcharge!A:B,2,FALSE)*F77), \"\")","v":""}]
[null,null,"Rollout Battery System (roll-out gear in machine & battery case (no batteries)\n  (Note 11a)",9008082,5217,null,{"$f":"F78*E78","v":0},{"$f":"IFERROR(IFERROR(VLOOKUP(D78,Surcharge!A:B,2,FALSE)*F78, VLOOKUP(D78 & \"\",Surcharge!A:B,2,FALSE)*F78), \"\")","v":""},null,null,null,null,null,null,null,"M-T16VK_BTYEXCSYS_RO"]
[null,null,"Extra Battery, 360 AH Wet (Note 12a)",9008523,3480,null,{"$f":"F79*E79","v":0},{"$f":"IFERROR(IFERROR(VLOOKUP(D79,Surcharge!A:B,2,FALSE)*F79, VLOOKUP(D79 & \"\",Surcharge!A:B,2,FALSE)*F79), \"\")","v":""},null,null,null,null,null,null,null,"M-T16VK_ADLBTY_W360C20"]
[null,null,"Extra Rollout Steel Battery Case (no battery)",369483,891,null,{"$f":"F80*E80","v":0},{"$f":"IFERROR(IFERROR(VLOOKUP(D80,Surcharge!A:B,2,FALSE)*F80, VLOOKUP(D80 & \"\",Surcharge!A:B,2,FALSE)*F80), \"\")","v":""},null,null,null,null,null,null,null,"M-T16VK_STLCSE"]
[null,null,"EasyGlide™ Battery Cart (Note 12)",9007087,3717,null,{"$f":"F81*E81","v":0},{"$f":"IFERROR(IFERROR(VLOOKUP(D81,Surcharge!A:B,2,FALSE)*F81, VLOOKUP(D81 & \"\",Surcharge!A:B,2,FALSE)*F81), \"\")","v":""},null,null,null,null,null,null,null,"M-T16VK_BTYCRT"]
[null,null,null,null," ",null,null,{"$f":"IFERROR(IFERROR(VLOOKUP(D82,Surcharge!A:B,2,FALSE)*F82, VLOOKUP(D82 & \"\",Surcharge!A:B,2,FALSE)*F82), \"\")","v":""}]
[null,null,"Charger  (Note 13)",null," ",{"$f":"SUM(F84:F91)","v":0},null,{"$f":"IFERROR(IFERROR(VLOOKUP(D83,Surcharge!A:B,2,FALSE)*F83, VLOOKUP(D83 & \"\",Surcharge!A:B,2,FALSE)*F83), \"\")","v":""}]
[null,null,"21A 85-265V AC 50/60Hz 1Ph - Off-Board (for Wet / Lead Acid Batteries)",9003372,"N/C",null,{"$f":"IF(F84=0,\" \",\"N/C\")","v":" "},{"$f":"IFERROR(IFERROR(VLOOKUP(D84,Surcharge!A:B,2,FALSE)*F84, VLOOKUP(D84 & \"\",Surcharge!A:B,2,FALSE)*F84), \"\")","v":""},null,null,null,null,null,null,null,"M-T16VK_CHG_21A85V5060H1P"]
[null,null,"21A 85-265V AC 50/60Hz 1Ph - Off-Board for Rollout System (for Wet / Lead Acid Batteries)",9003373,"N/C",null,{"$f":"IF(F85=0,\" \",\"N/C\")","v":" "},{"$f":"IFERROR(IFERROR(VLOOKUP(D85,Surcharge!A:B,2,FALSE)*F85, VLOOKUP(D85 & \"\",Surcharge!A:B,2,FALSE)*F85), \"\")","v":""},null,null,null,null,null,null,null,"M-T16VK_CHG_21A85V5060H1P"]
[null,null,"20A 85-130V AC 50/60Hz 1Ph - On-Board (for Wet / Lead Acid Batteries)",9008080,1245,null,{"$f":"F86*E86","v":0},{"$f":"IFERROR(IFERROR(VLOOKUP(D86,Surcharge!A:B,2,FALSE)*F86, VLOOKUP(D86 & \"\",Surcharge!A:B,2,FALSE)*F86), \"\")","v":""},null,null,null,null,null,null,null,"M-T16VK_CHG_20A85V5060H1P"]
[null,null,"21A 85-265V AC 50/60Hz 1Ph - Off-Board (for AGM Battery)",314787,1130,null,0,{"$f":"IFERROR(IFERROR(VLOOKUP(D87,Surcharge!A:B,2,FALSE)*F87, VLOOKUP(D87 & \"\",Surcharge!A:B,2,FALSE)*F87), \"\")","v":""},null,null,null,null,null,null,null,"M-T16VK_CHG_21A85V5060H1P_AGM"]
[null,null,"21A 85-265V AC 50/60Hz 1Ph - On-Board (for AGM Battery)    (Custom Solution)",325824,3335,null,0,{"$f":"IFERROR(IFERROR(VLOOKUP(D88,Surcharge!A:B,2,FALSE)*F88, VLOOKUP(D88 & \"\",Surcharge!A:B,2,FALSE)*F88), \"\")","v":""},null,null,null,null,null,null,null,"M-T16"]
[null,null,"33A 100-240V AC 50/60Hz 1Ph- Off-board (for All Lithium-Ion) (Note 8)",9052019,735,null,0]
[null,null,"90A 200-240V AC 50/60Hz 1Ph - Off-Board (for Li-Ion Batteries) (Note 8)",1253031,1708,null,0]
[null,null,"Less Charger, DEDUCT","LESS CHARGER",-453,null,0,{"$f":"IFERROR(IFERROR(VLOOKUP(D91,Surcharge!A:B,2,FALSE)*F91, VLOOKUP(D91 & \"\",Surcharge!A:B,2,FALSE)*F91), \"\")","v":""},null,null,null,null,null,null,null,"M-T16VK_CHG_WO"]
[null,null,null,null," ",null,null,{"$f":"IFERROR(IFERROR(VLOOKUP(D92,Surcharge!A:B,2,FALSE)*F92, VLOOKUP(D92 & \"\",Surcharge!A:B,2,FALSE)*F92), \"\")","v":""}]
[null,null,"UL Rating ",null," ",{"$f":"SUM(F94:F95)","v":0},null,{"$f":"IFERROR(IFERROR(VLOOKUP(D93,Surcharge!A:B,2,FALSE)*F93, VLOOKUP(D93 & \"\",Surcharge!A:B,2,FALSE)*F93), \"\")","v":""}]
[null,null,"UL® Type E",null,"N/C",null,{"$f":"IF(F94=0,\" \",\"N/C\")","v":" "},{"$f":"IFERROR(IFERROR(VLOOKUP(D94,Surcharge!A:B,2,FALSE)*F94, VLOOKUP(D94 & \"\",Surcharge!A:B,2,FALSE)*F94), \"\")","v":""},null,null,null,null,null,null,null,"M-T16VK_ULERTG_E"]
[null,null,"UL® Type ES",325825,4317,null,{"$f":"F95*E95","v":0},{"$f":"IFERROR(IFERROR(VLOOKUP(D95,Surcharge!A:B,2,FALSE)*F95, VLOOKUP(D95 & \"\",Surcharge!A:B,2,FALSE)*F95), \"\")","v":""},null,null,null,null,null,null,null,"M-T16VK_ULERTG_ES"]
[null,null,null,null," ",null,null,{"$f":"IFERROR(IFERROR(VLOOKUP(D96,Surcharge!A:B,2,FALSE)*F96, VLOOKUP(D96 & \"\",Surcharge!A:B,2,FALSE)*F96), \"\")","v":""}]
[null,"Packages  (Note 14)",null,null," ",{"$f":"SUM(F99:F103)","v":0},null,{"$f":"IFERROR(IFERROR(VLOOKUP(D97,Surcharge!A:B,2,FALSE)*F97, VLOOKUP(D97 & \"\",Surcharge!A:B,2,FALSE)*F97), \"\")","v":""}]
[null,null,"Heavy Duty Protection Package: ",null,null,{"$f":"SUM(F99)","v":0},null,{"$f":"IFERROR(IFERROR(VLOOKUP(D98,Surcharge!A:B,2,FALSE)*F98, VLOOKUP(D98 & \"\",Surcharge!A:B,2,FALSE)*F98), \"\")","v":""}]
[null,null,"    OHG, Front Bumper, & Rear Squeegee Protection",9008530,4581,null,{"$f":"F99*E99","v":0},{"$f":"IFERROR(IFERROR(VLOOKUP(D99,Surcharge!A:B,2,FALSE)*F99, VLOOKUP(D99 & \"\",Surcharge!A:B,2,FALSE)*F99), \"\")","v":""},null,null,null,null,null,null,null,"M-T16VK_HVYDTYPRTPKG"]
[null,null,"Productivity Package - Scrubbing: ",null," ",{"$f":"SUM(F101)","v":0},null,{"$f":"IFERROR(IFERROR(VLOOKUP(D100,Surcharge!A:B,2,FALSE)*F100, VLOOKUP(D100 & \"\",Surcharge!A:B,2,FALSE)*F100), \"\")","v":""}]
[null,null,"Side Scrub Brush, Vac Wand, Spray Hose",9008531,8048,null,0,{"$f":"IFERROR(IFERROR(VLOOKUP(D101,Surcharge!A:B,2,FALSE)*F101, VLOOKUP(D101 & \"\",Surcharge!A:B,2,FALSE)*F101), \"\")","v":""},null,null,null,null,null,null,null,"M-T16VK_PRDPKG"]
[null,null,"Safety Light Package: ",null," ",{"$f":"SUM(F103)","v":0},null,{"$f":"IFERROR(IFERROR(VLOOKUP(D102,Surcharge!A:B,2,FALSE)*F102, VLOOKUP(D102 & \"\",Surcharge!A:B,2,FALSE)*F102), \"\")","v":""}]
[null,null,"LED Head Light and AV Backup Alarm (strobe warning light)",9008529,1310,null,0,{"$f":"IFERROR(IFERROR(VLOOKUP(D103,Surcharge!A:B,2,FALSE)*F103, VLOOKUP(D103 & \"\",Surcharge!A:B,2,FALSE)*F103), \"\")","v":""},null,null,null,null,null,null,null,"M-T16VK_SFYLGTPKG"]
[null,null,null,null," ",null,null,{"$f":"IFERROR(IFERROR(VLOOKUP(D104,Surcharge!A:B,2,FALSE)*F104, VLOOKUP(D104 & \"\",Surcharge!A:B,2,FALSE)*F104), \"\")","v":""}]
[null,"Cleaning Performance",null,"Reference Number"," ",{"$f":"SUM(F106:F111)","v":0},null,{"$f":"IFERROR(IFERROR(VLOOKUP(D105,Surcharge!A:B,2,FALSE)*F105, VLOOKUP(D105 & \"\",Surcharge!A:B,2,FALSE)*F105), \"\")","v":""}]
[null,null,"Pre-Sweep with Dual Side Brush (Note 3, 15, & 16)"," 9008048 ",9375,null,{"$f":"F106*E106","v":0},{"$f":"IFERROR(IFERROR(VLOOKUP(D106,Surcharge!A:B,2,FALSE)*F106, VLOOKUP(D106 & \"\",Surcharge!A:B,2,FALSE)*F106), \"\")","v":""},null,null,null,null,null,null,null,"M-T16VK_PRESWPSYS"]
[null,null,"Side Brush: RH Scrubbing",9008038,6588,null,0,{"$f":"IFERROR(IFERROR(VLOOKUP(D107,Surcharge!A:B,2,FALSE)*F107, VLOOKUP(D107 & \"\",Surcharge!A:B,2,FALSE)*F107), \"\")","v":""},null,null,null,null,null,null,null,"M-T16VK_SDEBRSTYP_SCB"]
[null,null,"Vacuum  Wand",9008046,1306,null,0,{"$f":"IFERROR(IFERROR(VLOOKUP(D108,Surcharge!A:B,2,FALSE)*F108, VLOOKUP(D108 & \"\",Surcharge!A:B,2,FALSE)*F108), \"\")","v":""},null,null,null,null,null,null,null,"M-T16VK_PWRVACWND_VACWND"]
[null,null,"Spray Nozzle with Hose",9008042,1859,null,0,{"$f":"IFERROR(IFERROR(VLOOKUP(D109,Surcharge!A:B,2,FALSE)*F109, VLOOKUP(D109 & \"\",Surcharge!A:B,2,FALSE)*F109), \"\")","v":""},null,null,null,null,null,null,null,"M-T16VK_SPYNOZWTHHSE"]
[null,null,"Dual Vacuum Fans  (Note 17)",9008036,1297,null,0,{"$f":"IFERROR(IFERROR(VLOOKUP(D110,Surcharge!A:B,2,FALSE)*F110, VLOOKUP(D110 & \"\",Surcharge!A:B,2,FALSE)*F110), \"\")","v":""},null,null,null,null,null,null,null,"M-T16VK_DULVACFAN"]
[null,null,"Drain Control Valve - Solution and Recover  (Note 18)",9021383,2709,null,0,{"$f":"IFERROR(IFERROR(VLOOKUP(D111,Surcharge!A:B,2,FALSE)*F111, VLOOKUP(D111 & \"\",Surcharge!A:B,2,FALSE)*F111), \"\")","v":""},null,null,null,null,null,null,null,"M-T16VK_SLNRECTNKDRN"]
[null,null,null,null," ",null,null,{"$f":"IFERROR(IFERROR(VLOOKUP(D112,Surcharge!A:B,2,FALSE)*F112, VLOOKUP(D112 & \"\",Surcharge!A:B,2,FALSE)*F112), \"\")","v":""}]
[null,"Machine Protection & Safety",null,null," ",{"$f":"SUM(F114:F123)","v":0},null,{"$f":"IFERROR(IFERROR(VLOOKUP(D113,Surcharge!A:B,2,FALSE)*F113, VLOOKUP(D113 & \"\",Surcharge!A:B,2,FALSE)*F113), \"\")","v":""}]
[null,null,"Heavy Duty Front Bumper  (Note 19)",9006922,1411,null,{"$f":"F114*E114","v":0},{"$f":"IFERROR(IFERROR(VLOOKUP(D114,Surcharge!A:B,2,FALSE)*F114, VLOOKUP(D114 & \"\",Surcharge!A:B,2,FALSE)*F114), \"\")","v":""}]
[null,null,"Heavy Duty Squeegee Protection",9008066,1104,null,0,{"$f":"IFERROR(IFERROR(VLOOKUP(D115,Surcharge!A:B,2,FALSE)*F115, VLOOKUP(D115 & \"\",Surcharge!A:B,2,FALSE)*F115), \"\")","v":""},null,null,null,null,null,null,null,"M-T16VK_HVYDTYSQEPRT"]
[null,null,"Overhead Guard (order SE Front Bumper 9008060 also) (Note 20)",9008018,3052,null,0,{"$f":"IFERROR(IFERROR(VLOOKUP(D116,Surcharge!A:B,2,FALSE)*F116, VLOOKUP(D116 & \"\",Surcharge!A:B,2,FALSE)*F116), \"\")","v":""},null,null,null,null,null,null,null,"M-T16VK_OVHGRD"]
[null,null,"Deluxe Seat with Arm Rest (In Lieu of Standard) (Note 21)",9008032,858,null,0,{"$f":"IFERROR(IFERROR(VLOOKUP(D117,Surcharge!A:B,2,FALSE)*F117, VLOOKUP(D117 & \"\",Surcharge!A:B,2,FALSE)*F117), \"\")","v":""},null,null,null,null,null,null,null,"M-T16VK_SET_DLXW"]
[null,null,"Headlight(s) LED",9008068,595,null,0,{"$f":"IFERROR(IFERROR(VLOOKUP(D118,Surcharge!A:B,2,FALSE)*F118, VLOOKUP(D118 & \"\",Surcharge!A:B,2,FALSE)*F118), \"\")","v":""},null,null,null,null,null,null,null,"M-T16VK_HLT"]
[null,null,"AV BU Alarm-Strobe on Tank",9008138,1008,null,0,{"$f":"IFERROR(IFERROR(VLOOKUP(D119,Surcharge!A:B,2,FALSE)*F119, VLOOKUP(D119 & \"\",Surcharge!A:B,2,FALSE)*F119), \"\")","v":""},null,null,null,null,null,null,null,"M-T16VK_WRNLGTANDALM_AVST"]
[null,null,"Strobe Light on OHG",9008134,1008,null,0,{"$f":"IFERROR(IFERROR(VLOOKUP(D120,Surcharge!A:B,2,FALSE)*F120, VLOOKUP(D120 & \"\",Surcharge!A:B,2,FALSE)*F120), \"\")","v":""},null,null,null,null,null,null,null,"M-T16VK_WRNLGTANDALM_SO"]
[null,null,"Blue Light  (Note 22)",9020971,1505,null,{"$f":"F121*E121","v":0},null,null,null,null,null,null,null,null,"M-T16VK_BLULGT"]
[null,null,"Fire Extinguisher",9008079,513,null,{"$f":"F122*E122","v":0},{"$f":"IFERROR(IFERROR(VLOOKUP(D122,Surcharge!A:B,2,FALSE)*F122, VLOOKUP(D122 & \"\",Surcharge!A:B,2,FALSE)*F122), \"\")","v":""},null,null,null,null,null,null,null,"M-T16VK_FREEXT"]
[null,null,"Trailer Transport Kit (cover latches for trailering)",9008057,290,null,{"$f":"F123*E123","v":0},{"$f":"IFERROR(IFERROR(VLOOKUP(D123,Surcharge!A:B,2,FALSE)*F123, VLOOKUP(D123 & \"\",Surcharge!A:B,2,FALSE)*F123), \"\")","v":""},null,null,null,null,null,null,null,"M-T16VK_TRLTRTKIT"]
[null,null,null,null," ",null,null,{"$f":"IFERROR(IFERROR(VLOOKUP(D124,Surcharge!A:B,2,FALSE)*F124, VLOOKUP(D124 & \"\",Surcharge!A:B,2,FALSE)*F124), \"\")","v":""}]
[null,"Brushes and Pads",null,null,null,{"$f":"SUM(F126,F132,F136)","v":0},null,{"$f":"IFERROR(IFERROR(VLOOKUP(D125,Surcharge!A:B,2,FALSE)*F125, VLOOKUP(D125 & \"\",Surcharge!A:B,2,FALSE)*F125), \"\")","v":""}]
[null,null,"Disk Scrubbing Brushes/Pads (2 Required)",null," ",{"$f":"SUM(F127:F130)","v":0},null,{"$f":"IFERROR(IFERROR(VLOOKUP(D126,Surcharge!A:B,2,FALSE)*F126, VLOOKUP(D126 & \"\",Surcharge!A:B,2,FALSE)*F126), \"\")","v":""}]
[null,null,"Polypropylene Brush",1220188,"N/C",null,{"$f":"IF(F127=0,\" \",\"N/C\")","v":" "},{"$f":"IFERROR(IFERROR(VLOOKUP(D127,Surcharge!A:B,2,FALSE)*F127, VLOOKUP(D127 & \"\",Surcharge!A:B,2,FALSE)*F127), \"\")","v":""},null,null,null,null,null,null,null,"M-T16VK_CLNTOL_DPYP"]
[null,null,"Super Abrasive Brush",1220190,295,null,{"$f":"F128*E128","v":0},{"$f":"IFERROR(IFERROR(VLOOKUP(D128,Surcharge!A:B,2,FALSE)*F128, VLOOKUP(D128 & \"\",Surcharge!A:B,2,FALSE)*F128), \"\")","v":""},null,null,null,null,null,null,null,"M-T16VK_CLNTOL_DSAB"]
[null,null,null,null," ",null,null,{"$f":"IFERROR(IFERROR(VLOOKUP(D129,Surcharge!A:B,2,FALSE)*F129, VLOOKUP(D129 & \"\",Surcharge!A:B,2,FALSE)*F129), \"\")","v":""}]
[null,null,"Pad Driver",1220200,"N/C",null,{"$f":"IF(F130=0,\" \",\"N/C\")","v":" "},{"$f":"IFERROR(IFERROR(VLOOKUP(D130,Surcharge!A:B,2,FALSE)*F130, VLOOKUP(D130 & \"\",Surcharge!A:B,2,FALSE)*F130), \"\")","v":""},null,null,null,null,null,null,null,"M-T16VK_CLNTOL_PAD"]
[null,null,null,null," ",null,null,{"$f":"IFERROR(IFERROR(VLOOKUP(D131,Surcharge!A:B,2,FALSE)*F131, VLOOKUP(D131 & \"\",Surcharge!A:B,2,FALSE)*F131), \"\")","v":""}]
[null,null,"Cylindrical Scrubbing Brushes (2 Required)",null," ",{"$f":"SUM(F133:F134)","v":0},null,{"$f":"IFERROR(IFERROR(VLOOKUP(D132,Surcharge!A:B,2,FALSE)*F132, VLOOKUP(D132 & \"\",Surcharge!A:B,2,FALSE)*F132), \"\")","v":""}]
[null,null,"Polypropylene Brush",1053893,"N/C",null,{"$f":"IF(F133=0,\" \",\"N/C\")","v":" "},{"$f":"IFERROR(IFERROR(VLOOKUP(D133,Surcharge!A:B,2,FALSE)*F133, VLOOKUP(D133 & \"\",Surcharge!A:B,2,FALSE)*F133), \"\")","v":""},null,null,null,null,null,null,null,"M-T16VK_CLNTOL_CPYP"]
[null,null,"Super Abrasive Brush",1062578,295,null,{"$f":"F134*E134","v":0},{"$f":"IFERROR(IFERROR(VLOOKUP(D134,Surcharge!A:B,2,FALSE)*F134, VLOOKUP(D134 & \"\",Surcharge!A:B,2,FALSE)*F134), \"\")","v":""},null,null,null,null,null,null,null,"M-T16VK_CLNTOL_CSAB"]
[null,null,null,null," ",null,null,{"$f":"IFERROR(IFERROR(VLOOKUP(D135,Surcharge!A:B,2,FALSE)*F135, VLOOKUP(D135 & \"\",Surcharge!A:B,2,FALSE)*F135), \"\")","v":""}]
[null,null,"Disk Scrubbing Brush/Pad and Sweeping Brush for Side Brush Option (1 Required)",null," ",{"$f":"SUM(F137:F140)","v":0},null,{"$f":"IFERROR(IFERROR(VLOOKUP(D136,Surcharge!A:B,2,FALSE)*F136, VLOOKUP(D136 & \"\",Surcharge!A:B,2,FALSE)*F136), \"\")","v":""}]
[null,null,"Polypropylene Scrubbing Brush",1220240,"N/C",null,{"$f":"IF(F137=0,\" \",\"N/C\")","v":" "},{"$f":"IFERROR(IFERROR(VLOOKUP(D137,Surcharge!A:B,2,FALSE)*F137, VLOOKUP(D137 & \"\",Surcharge!A:B,2,FALSE)*F137), \"\")","v":""},null,null,null,null,null,null,null,"M-T16VK_SDECLNTOL_SCBPYP"]
[null,null,"Super Abrasive Brush",1220232,295,null,{"$f":"F138*E138","v":0},{"$f":"IFERROR(IFERROR(VLOOKUP(D138,Surcharge!A:B,2,FALSE)*F138, VLOOKUP(D138 & \"\",Surcharge!A:B,2,FALSE)*F138), \"\")","v":""},null,null,null,null,null,null,null,"M-T16VK_SDECLNTOL_SAB"]
[null,null,null,null," ",null,null,{"$f":"IFERROR(IFERROR(VLOOKUP(D139,Surcharge!A:B,2,FALSE)*F139, VLOOKUP(D139 & \"\",Surcharge!A:B,2,FALSE)*F139), \"\")","v":""}]
[null,null,"Pad Driver",1220243,"N/C",null,{"$f":"IF(F140=0,\" \",\"N/C\")","v":" "},{"$f":"IFERROR(IFERROR(VLOOKUP(D140,Surcharge!A:B,2,FALSE)*F140, VLOOKUP(D140 & \"\",Surcharge!A:B,2,FALSE)*F140), \"\")","v":""},null,null,null,null,null,null,null,"M-T16VK_SDECLNTOL_PAD"]
[null,null,null,null," ",null,null,{"$f":"IFERROR(IFERROR(VLOOKUP(D141,Surcharge!A:B,2,FALSE)*F141, VLOOKUP(D141 & \"\",Surcharge!A:B,2,FALSE)*F141), \"\")","v":""}]
[null,"Support (Note 23)",null,"Reference Number"," ",{"$f":"SUM(F143:F155)","v":0},null,{"$f":"IFERROR(IFERROR(VLOOKUP(D142,Surcharge!A:B,2,FALSE)*F142, VLOOKUP(D142 & \"\",Surcharge!A:B,2,FALSE)*F142), \"\")","v":""}]
[null,null,"Standard Warranty",null,"N/C",null,{"$f":"IF(F143=0,\" \",\"N/C\")","v":" "},{"$f":"IFERROR(IFERROR(VLOOKUP(D143,Surcharge!A:B,2,FALSE)*F143, VLOOKUP(D143 & \"\",Surcharge!A:B,2,FALSE)*F143), \"\")","v":""},null,null,null,null,null,null,null,"M-T16"]
[null,null,"Ultimate Performance Guarantee",50619,"N/C",null,{"$f":"IF(F144=0,\" \",\"N/C\")","v":" "},{"$f":"IFERROR(IFERROR(VLOOKUP(D144,Surcharge!A:B,2,FALSE)*F144, VLOOKUP(D144 & \"\",Surcharge!A:B,2,FALSE)*F144), \"\")","v":""},null,null,null,null,null,null,null,"M-T16"]
[null,null,"Operator Manual (English)",9008142,"N/C",null,{"$f":"IF(F145=0,\" \",\"N/C\")","v":" "},{"$f":"IFERROR(IFERROR(VLOOKUP(D145,Surcharge!A:B,2,FALSE)*F145, VLOOKUP(D145 & \"\",Surcharge!A:B,2,FALSE)*F145), \"\")","v":""},null,null,null,null,null,null,null,"M-T16"]
[null,null,"Operator Manual (Spanish)",9008143,"N/C",null,{"$f":"IF(F146=0,\" \",\"N/C\")","v":" "},{"$f":"IFERROR(IFERROR(VLOOKUP(D146,Surcharge!A:B,2,FALSE)*F146, VLOOKUP(D146 & \"\",Surcharge!A:B,2,FALSE)*F146), \"\")","v":""},null,null,null,null,null,null,null,"M-T16"]
[null,null,"Operator Manual (French)  (Note 24)",9008144," ",null,{"$f":"IF(F147=0,\" \",\"N/C\")","v":" "},{"$f":"IFERROR(IFERROR(VLOOKUP(D147,Surcharge!A:B,2,FALSE)*F147, VLOOKUP(D147 & \"\",Surcharge!A:B,2,FALSE)*F147), \"\")","v":""},null,null,null,null,null,null,null,"M-T16"]
[null,null,"Additional Operator Manual","SEE ABOVE",111,null,{"$f":"F148*E148","v":0},{"$f":"IFERROR(IFERROR(VLOOKUP(D148,Surcharge!A:B,2,FALSE)*F148, VLOOKUP(D148 & \"\",Surcharge!A:B,2,FALSE)*F148), \"\")","v":""},null,null,null,null,null,null,null,"M-T16VK_ADLOPRMNL"]
[null,null,"T16 Parts Manual",9008148," ",null,{"$f":"IF(F149=0,\" \",\"N/C\")","v":" "},{"$f":"IFERROR(IFERROR(VLOOKUP(D149,Surcharge!A:B,2,FALSE)*F149, VLOOKUP(D149 & \"\",Surcharge!A:B,2,FALSE)*F149), \"\")","v":""},null,null,null,null,null,null,null,"M-T16"]
[null,null,"Service Manual",9008149,368,null,0,{"$f":"IFERROR(IFERROR(VLOOKUP(D150,Surcharge!A:B,2,FALSE)*F150, VLOOKUP(D150 & \"\",Surcharge!A:B,2,FALSE)*F150), \"\")","v":""},null,null,null,null,null,null,null,"M-T16VK_SRVMNL"]
[null,null,null,null," ",null,null,{"$f":"IFERROR(IFERROR(VLOOKUP(D151,Surcharge!A:B,2,FALSE)*F151, VLOOKUP(D151 & \"\",Surcharge!A:B,2,FALSE)*F151), \"\")","v":""}]
[null,null,"Machine Communication  (Note Iris)",null," ",{"$f":"SUM(F153)","v":0},null,{"$f":"IFERROR(IFERROR(VLOOKUP(D152,Surcharge!A:B,2,FALSE)*F152, VLOOKUP(D152 & \"\",Surcharge!A:B,2,FALSE)*F152), \"\")","v":""}]
[null,null,"IRIS Telemetry Module",null,1916,null,{"$f":"F153*E153","v":0},{"$f":"IFERROR(IFERROR(VLOOKUP(D153,Surcharge!A:B,2,FALSE)*F153, VLOOKUP(D153 & \"\",Surcharge!A:B,2,FALSE)*F153), \"\")","v":""},{"$f":"IF(F153=0,\"\",\"Please select a required package in the IRIS Machine Communication below.\")","v":""},null,null,null,null,null,null,"M-T16VK_MCHCOM"]
[null,null,null,null,null,null,null,{"$f":"IFERROR(IFERROR(VLOOKUP(D154,Surcharge!A:B,2,FALSE)*F154, VLOOKUP(D154 & \"\",Surcharge!A:B,2,FALSE)*F154), \"\")","v":""}]
[null,null,"Packaging",null,null,{"$f":"SUM(F156:F157)","v":0},null,{"$f":"IFERROR(IFERROR(VLOOKUP(D155,Surcharge!A:B,2,FALSE)*F155, VLOOKUP(D155 & \"\",Surcharge!A:B,2,FALSE)*F155), \"\")","v":""}]
[null,null,"Crate - Non-Pre-Sweep ",9008063,"N/C",null,{"$f":"IF(F156=0,\" \",\"N/C\")","v":" "},{"$f":"IFERROR(IFERROR(VLOOKUP(D156,Surcharge!A:B,2,FALSE)*F156, VLOOKUP(D156 & \"\",Surcharge!A:B,2,FALSE)*F156), \"\")","v":""},null,null,null,null,null,null,null,"M-T16VK_PKG_CRT"]
[null,null,"Crate - Pre-Sweep",9008056,"N/C",null,{"$f":"IF(F157=0,\" \",\"N/C\")","v":" "},{"$f":"IFERROR(IFERROR(VLOOKUP(D157,Surcharge!A:B,2,FALSE)*F157, VLOOKUP(D157 & \"\",Surcharge!A:B,2,FALSE)*F157), \"\")","v":""},null,null,null,null,null,null,null,"M-T16VK_PKG_CRT"]
[null,null,null,null,null,null,null,{"$f":"IFERROR(IFERROR(VLOOKUP(D158,Surcharge!A:B,2,FALSE)*F158, VLOOKUP(D158 & \"\",Surcharge!A:B,2,FALSE)*F158), \"\")","v":""}]
[]
[null,"Custom Solution--write in description, qty, price, and PN if applicable",null,null,null,{"$f":"SUM(F161)","v":0}]
[null,null,null,null,"Insert Prices Here",{"$f":"SUM(F162:F165)","v":0}]
[null,null,null,"Custom",null,{"$f":"IF(E162 <> \"\", 1, 0)","v":0},{"$f":"F162*E162","v":0}]
[null,null,null,"Custom",null,{"$f":"IF(E163 <> \"\", 1, 0)","v":0},{"$f":"F163*E163","v":0}]
[null,null,null,"Custom",null,{"$f":"IF(E164 <> \"\", 1, 0)","v":0},{"$f":"F164*E164","v":0}]
[null,null,null,"Custom",null,{"$f":"IF(E165 <> \"\", 1, 0)","v":0},{"$f":"F165*E165","v":0}]
[null,null,null,null,{"$f":"ROUND(SUM(G50:G165), 0)","v":0},{"$f":"SUM(E167)","v":0}]
[null,null,null,"Machine Subtotal ",{"$f":"ROUND(SUM(G50:G165), 0)","v":0},{"$f":"F166","v":0}]
[null,"Discounts",null,null,null,{"$f":"SUM(F169)","v":0}]
[null,null,null,null,null,{"$f":"SUM(F171:F174)","v":0}]
[null,null,null,"Applicable Currency Adj %",null,{"$f":"IF(E170 <> \"\", 1, 0)","v":0},{"$f":"IF(F170*(E170*0.01)*E166 < 0, F170*(E170*0.01)*E166, -(F170*(E170*0.01)*E166))","v":0}]
[null,null,null,"Discount %",null,{"$f":"IF(E171 <> \"\", 1, 0)","v":0},{"$f":"IF(F171*(E171*0.01)*(E166+G170) < 0, F171*(E171*0.01)*(E166+G170), -(F171*(E171*0.01)*(E166+G170)))","v":0}]
[null,null,null,"Discount $",null,{"$f":"IF(E172 <> \"\", 1, 0)","v":0},{"$f":"IF(F172*E172 < 0, F172*E172, -(F172*E172))","v":0}]
[null,null,null,"Discount $",null,{"$f":"IF(E173 <> \"\", 1, 0)","v":0},{"$f":"IF(F173*E173 < 0, F173*E173, -(F173*E173))","v":0}]
[null,null,null,"Discount $",null,{"$f":"IF(E174 <> \"\", 1, 0)","v":0},{"$f":"IF(F174*E174 < 0, F174*E174, -(F174*E174))","v":0}]
[null,null,null,"Discount Total ",{"$f":"SUM(G170:G174)","v":0},{"$f":"SUM(E175)","v":0}]
[null,null,null,null,null,{"$f":"#REF!","v":{"$error":"#REF!"}}]
[null,null,null,null,null,{"$f":"F176","v":{"$error":"#REF!"}}]
[null,null,"Prepaid and Add","Freight",null,{"$f":"IF(E178 <> \"\", 1, 0)","v":0},{"$f":"F178*E178","v":0}]
[null,null,"Subject to all applicable taxes","Tax",null,{"$f":"IF(E179 <> \"\", 1, 0)","v":0},{"$f":"F179*E179","v":0}]
[null,null,null,null,null,{"$f":"SUM(F181)","v":0}]
[null,null,null,"MACHINE TOTAL*",null,{"$f":"SUM(G181)","v":0},{"$f":"SUM(G50:G179)","v":0},null,null,null,null,null,null,"This goes to \"My Documents\""]
[null,null,null,null,null,null,{"$f":"SUM(G181)","v":0}]
[]
[]
[]
[]
[null,null,"First Western Equipment Finance - Leasing Calculation Option:","Option 1",null,"Option 2",null,null,null,{"$f":"Financing!A38","v":"Rates 2025 - Rev 2/4/2025"}]
[null,null,null,"Monthly Payment","Cost Per Day","Monthly Payment","Cost Per Day",null,null,{"$f":"Financing!A39","v":"“Blank Payment Amounts Indicate The Financing Option Or Purchase Options Selected Are Not "}]
[null,null,"Purchase Option:","FWEF:  $1 Buyout Lease",null,"FWEF: Municipal Lease",null,null,null,{"$f":"Financing!A40","v":"Applicable Or The Machine Total Is Below The Minimum Amount For The Selected Vendor”"}]
[null,null,"24 Months",false,0,false,0,null,null,{"$f":"Financing!A41","v":"\"Quoted monthly payments are estimates only and are based on a certain level of credit rating."}]
[null,null,"30 Months",false,0,false,0,null,null,{"$f":"Financing!A42","v":"Actual monthly payments may be higher depending on your credit rating.\""}]
[null,null,"36 Months",false,0,false,0,null,null,{"$f":"Financing!A43","v":"“Financing rates do not include Pre-Paid Service”"}]
[null,null,"48 Months",0,0,0,0,null,{"$f":"Financing!A44","v":0}]
[]
[null,null,null,"Benefits of Equipment Financing:"]
[null,null,null,"• Spreads out investment over time.",null,"• Keep current with latest technology."]
[null,null,null,"• Preserve capital.",null,"• Service and parts bundling available."]
[null,null,null,"• Low monthly payment.",null,"• Pay for labor savings as you go."]
[]
[null,"   TennantTrue",null,null,0,0]
[]
[null,null,"Is customer interested in service program?","Yes","*State/County selection required for TennantTrue service options"]
[]
[null,null,"If not, why?"]
[]
[null,null,"Term:",36,null,null,"AB Brushes","No"]
[null,null,"Monthly machine usage (hrs):","< 30/mo. (Avg. 1hr./day)"]
[]
[null,null,"TennantTrue: ","Gold Contract",null,"Silver Contract"]
[null,null,"Per Visit",null,null,611]
[null,null,"Monthly",231,null,127]
[null,null,"Annually",null,null,1490]
[null,null,"Pre-Pay Full Term",7977,null,4379]
[null,null,"Hourly Labor Rate"]
[null,null,"Site Visit"]
[]
[null,null,"* Verify customer current pricing prior to quote. "]
[null,null,"**All rates and fees above reflect service for one (1) unit with the exception of Block of Time service."]
[null,null,"*Block of Time is available in 1 Year Term only and is priced as such no matter the term selection on this template."]
[]
[]
[]
[null,"Quote Special Instructions:"]
[]
[]
[null,{"$f":"Start_Here!E36","v":"Terms and Conditions"}]
[null,{"$f":"Start_Here!E37","v":"Ask your local sales rep for estimated lead times. Verify when placing order"}]
[null,{"$f":"Start_Here!E38","v":"All orders subject to acceptance by Tennant Sales and Service Company, Minneapolis, Minnesota"}]
[null,{"$f":"Start_Here!E39","v":"Prices subject to change without notice. Subject to any applicable taxes."}]
[null,{"$f":"Start_Here!E40","v":"Terms:  Net 30 days.  Payable in Canadian Funds"}]
[null,{"$f":"Start_Here!E41","v":"Freight:  Accessories, parts, supplies, detergents, and floor coatings orders delivered DDP "}]
[null,{"$f":"Start_Here!E42","v":"shipping point Frt PPD.  Machine orders delivered DDP shipping point Frt PPD and add."}]
[null,{"$f":"Start_Here!E43","v":"Returned Merchandise is subject to a restocking fee."}]
[null,{"$f":"Start_Here!E45","v":"Printed General Terms and Conditions are also available upon request."}]
[null,{"$f":"Start_Here!E46","v":0}]
[]
[]
[]
[null,null,null,null,"Quote Date :",null,{"$f":"Letter!$A$25","v":"2014-10-02"}]
["Order Placement Information:  To place your order, fill in PO# and customer signatures,"]
["call or fax to the numbers listed below. Customer Purchase Order is required."]
["If information is missing, orders will be entered and held until all information is received."]
[null,null,"Customer Number",null,"Cust Grp 3"]
[null,null,{"$f":"Start_Here!$C$25","v":0},null,{"$f":"Start_Here!$C$29","v":0}]
[null,null,{"$f":"Start_Here!$B$18","v":"Who Owns the Machine? (Sold-To Info) (Please Verify)"}]
["Company",null,{"$f":"Start_Here!$C$19","v":"Company Name"}]
["Address",null,{"$f":"Start_Here!$C$20","v":"Address"}]
[null,null,{"$f":"Start_Here!$C$21","v":"City, State Zip"}]
["Name",null,{"$f":"Start_Here!$C$22","v":"Contact Name"}]
["Phone",null,{"$f":"Start_Here!$C$23","v":"Contact Phone"}]
[null,null,{"$f":"Start_Here!$B$11","v":"Where is the Machine Being Shipped? (Ship-To Info) (Please Verify)"}]
["Company",null,{"$f":"Start_Here!$C$12","v":"Company Name"}]
["Address",null,{"$f":"Start_Here!$C$13","v":"Address"}]
[null,null,{"$f":"Start_Here!$C$14","v":"City, State Zip"}]
["Name",null,{"$f":"Start_Here!$C$15","v":"Contact Name"}]
["Phone",null,{"$f":"Start_Here!$C$16","v":"Contact Phone"}]
[null,null,{"$f":"Start_Here!$B$31","v":"Shipping / Carrier Instructions:"},null,"Order Special Instructions:"]
[null,null,{"$f":"Start_Here!$C$32","v":0}]
[]
[null,null,"Customer Purchase Order No."]
[null,null,"(please attach copy)"]
[]
[]
[null,null,"Tax Exempt",null,"Yes"]
[null,null,null,null,"No"]
[null,null,"If Yes, attach a copy of your exemption certificate."]
[]
[null,null,"Requested Delivery Date"]
[null,null,{"$f":"Start_Here!$C$28","v":0}]
[]
[null,null,{"$f":"Start_Here!$C$26","v":0},null,{"$f":"Start_Here!$C$27","v":0}]
[null,null,"Authorized Buyer (please print)",null,"Phone Number"]
[]
[]
[null,null,"Authorized Buyer Signature"]
[]
[null,null,{"$f":"Start_Here!$C$41","v":"Rep Name"}]
[null,null,"Tennant Representative"]
[]
["Specialized Maintenance Equipment"]
[{"$f":"Start_Here!$C$48","v":"TENNANT · 10400 Clean Street · Eden Prairie, MN 55344 ·"}]
[{"$f":"Start_Here!$C$49","v":" PHONE:800-553-8033 · FAX:763-513-2116"}]
[]
[]
[null,"SPECIAL INFORMATION"]
[null,1,"Standard Configurations are set configurations as listed and cannot be altered."]
[null,null,"However, these are partial configurations which require the selection of "]
[null,null,"Brushes, Operator Manuals, Service Manual, and Shipment Packaging."]
[]
[null,2,"Cleaning Solutions are available factory installed only; Select only one, none are available combined with another:"]
[null,null,"   ES Extended Scrubbing system"]
[null,null,"ec-H2O™ option (Disk)"]
[null,null,"ec-H2O™ option (Cylindrical)"]
[null,null,"T16 ES does have the continuous cleaning ES filter system and detergent dispensing."]
[]
[null,3,"ES Extended Scrubbing System is not available with the Pre-Sweep System."]
[]
[null,4,"Detergent Metering is only available with Conventional Cleaning Technology."]
[]
[null,5,"The battery compartment will fit six 6-volt batteries of this size:",null,"Length          Width"]
[null,null,"Battery Size",null,"11.66 in           6.94 in"]
[null,null,null,null,"295mm         175 mm"]
[]
[]
[null,6,"Model T16 Continuous Runtime Chart.",null,"Standard"]
[null,null,null,null,"Capacity"]
[null,null,null,null,"235AH"]
[null,null,"T16 Base Unit (economy mode, main scrub only)",null,"2.75 hours"]
[null,null,"T16 Base Unit with RH Sidebrush",null,"2.25 hours"]
[null,null,"T16 with Dual Vacuum Fans",null,"2.0 hours"]
[null,null,"T16 with Pre-Sweep (dust control \"off\")",null,"N/A "]
[null,null,"T16 with Pre-Sweep (dust control \"on\")",null,"N/A "]
[null,null,"The above runtimes are guidelines.  Actual times will vary based on floor conditions, final machine configuration & usage"]
[null,null,"The battery charger connector is a 50 amp Anderson ( gray ). The battery connector is an Anderson 175 amp connector ( gray )."]
[]
[null,7,"To calculate weights with batteries add the following to the product “Net” or “Ship” weights:"]
[null,null,"235 AH Battery Pack = + 6 Batteries @ 67 lbs (30.4kg) each = 402 lbs (182.5 kg)"]
[null,null,"360 AH Battery Pack = + 6 Batteries @ 97 lbs (44 kg) each = 582 lbs (264.2 kg)"]
[]
[null,8,"Lithium-Ion batteries require the use of an approved Lithium-Ion compatible charger."]
[null,null,"Use of an unproved charger may damage battery and void warranty."]
[null,null,"The 90A Charger for the Lithium Battery pack is a 90A DC output charger.  It requires single phase 220-240V AC "]
[null,null,"30 amp circuit and comes with a plug that fits a NEMA L6-30r twist lock recepticle. "]
[]
[null,null,"Expected Cycle Life:  Cycle life is the number of charge cycles a battery is expected to last."]
[null,null,"235 AH Battery = 500 Cycles"]
[null,null,"360 AH Battery = 500 Cycles"]
[]
[null,9,"ONLY available with Wet (Lead Acid) batteries.  Cannot be used with Sealed AGM Batteries."]
[]
[null,10,"Only the 21A 85-265V AC 50/60Hz 1Ph charger (9003373 or 314787) is available with"]
[null,null,"the Roll-Out Battery Exchange System."]
[]
[null,"11a","Rollout carts must be ordered separately. When ordering the Rollout Battery System, it is  "]
[null,null,"recommended that the customer upgrades to the 360 AH battery pack.  System does not include batteries."]
[null,null,"Should the customer wish to use their own battery supplier, they have 2 options:"]
[null,null,"a.  Buy batteries to fit in Tennant steel case - see below for internal dimensions."]
[null,null,"b.  Buy their own steel case battery (there is no deduction for this) - see below for external dimensions."]
[null,null,null,null,"Width          Length"]
[null,null,"External Dimensions:  ",null,"19.56 in          29.13 in"]
[null,null,null,null,"495 mm          740 mm"]
[]
[null,null,"Internal Dimensions:  ",null,"19.185 in         28.75 in"]
[null,null,null,null,"485 mm          730 mm"]
[null,null,"An extra steel case can be ordered without batteries; part number is 369483."]
[]
[null,12,"Recommend purchase of two (2) 9007087 carts if you do not have a station to roll off the batteries on to. "]
[null,"12a","9008523 Extra Battery Pack (360 AH) in Steel Case for Rollout, may also order two (2) additional with Machine. "]
[]
[null,13,"The battery charger connector is a 50 amp Anderson ( gray ). The battery connector is an Anderson 175 amp connector ( gray )."]
[null,null,"The On-Board Charger for AGM batteries is a Custom Solution only.  Custom Solutions may add to lead time of unit."]
[]
[null,14,"In order to receive the kit offer the kit part # MUST be ordered.  "]
[]
[null,15,"When ordering the Presweep, the customer can NOT order the RH Sidebrush, Head Light or SE Front Bumper"]
[null,null,"Due to the additional power consumption of the Presweep, it is recommended that the 360 AH batteries be purchased"]
[null,null,"Otherwise, the run-time will ONLY be 1 hour."]
[]
[null,16,"If unit is being sold for a Silica Dust application, only a Scrubbing Side Brush can be used.  Pre-Sweep systems and Sweeping"]
[null,null,"Side Brushes are prohibited."]
[]
[null,17,"When ordering the dual fans please note that both fans operate and runtime is affected, see note 5."]
[]
[null,18,"Drain Control Valve - is available with dual drains only.  No deduction is available for a single drain."]
[null,null,"The length of hose for the Positive Drain control system is 10 ft (3 m)."]
[null,null,"Drain Control Valve is not compatible with the Heavy Duty Squeegee Guard."]
[]
[null,19,"The 9006922 SE Front Bumper bolts directly to the Frame.  Front Corner Rollers are Removed.   "]
[null,null,"If ordering OHG order 9008060 SE Front Bumper with OHG instead.  "]
[]
[null,20,"When ordering the Overhead Guard, the SE Bumper w/OHG PN 9008060 must also be ordered -Unless ordering Presweep.  "]
[]
[null,21,"A seatbelt is not offered with the basic seat, but the deluxe seat features a retractable seat belt standard."]
[]
[null,22,"Blue Light requires that the AV BU Alarm - Strobe on Tank is also configured on the unit."]
[null,null,"The Blue Light is not available with the Strobe Light on Overhead Guard."]
[]
[null,23,"Additional hard copy Operator and Parts Manuals can be ordered or digital copies can be downloaded from www.Tennantco.com."]
[]
[null,24,"A French and English manual will be supplied for all units shipping into Quebec, Canada at no charge.  An additional manual"]
[null,null,"can be ordered (for a total of 3 manuals) for an additional charge as stated under 'Additional Operator Manual'."]
[]
[null,"IRIS","Pre-Paid and Monthly Packages are available for the IRIS Information Service."]
[null,null,"IRIS Module is required and NOT included in the price of the IRIS Information Service:"]
[null,null,"3 Year Pre-Paid IRIS Information Service",350]
[null,null,"5 Year Pre-Paid IRIS Information Service",560]
[null,null,"A monthly contract can be set up at $14 per month w/ 12 month minimum commitment."]
[null,null,"IRIS Telemetry Module only covers the price of the hardware. "]
[null,null,"IRIS Telemetry requires an IRIS Telemetry Module and an IRIS Information Service Package."]
[]
[null,25,"Shipping Weight and Dimensions","Crate"]
[]
[null,null,"Weight (w/240AH Battery)","2100 lbs / 953 Kg"]
[null,null,"Length","90\" / 2,286 mm"]
[null,null,"Width","55\" / 1,397mm"]
[null,null,"Height","66\" / 1,677 mm"]

{"sheet":"Pricezones","index":41,"n_rows":56,"n_cols":13,"rows_kept":56,"cut":false,"hidden":true,"merged":[]}
["Sheetname","Green discount","Yellow","Red"," ","Product subcategories","PH2",null,"Discounts Dropdown",null,null,"Canada","2025-04-14"]
[null,"Level A","Level B","Level C","Level D",null,null,null,"Select a Trade-in","Select Tennant Program"]
["Specialty",0,0.35000000000000003,0.5,null,"scrubber","341074",null,"Trade-in Scrap","Strategic Accts"]
["T2",0,0.2,0.4,null,"scrubber","306300",null,"Recon Trade-in","Strategic Alliance"]
["T2_Std_Config",0,0.2,0.4,null,"scrubber","306300",null,null,"Recon Sale"]
[5700,0,0.2,0.4,null,"scrubber","306501",null,null,"Recon Trade-in"]
[5680,0,0.2,0.4,null,"scrubber","306500",null,null,"Industrial Bundling"]
["T1_T1B",0,0.2,0.4,null,"scrubber","306200",null,null,"Demonstrator units, greater than 3 months, full warranty"]
["CS5_CS16",0,0.2,0.4,null,"scrubber",null,null,null,"Distributor - Commercial or Industrial"]
["i_mop_Lite",0,0.2,0.4,null,"scrubber",null,null,null,"Contracts (example GSA, Local Gov)"]
["i_mop_XL",0,0.2,0.4,null,"scrubber"]
["i_mop_XXL",0,0.2,0.4,null,"scrubber","306301"]
["T3_plus_Orbital",0,0.2,0.4,null,"scrubber"]
["T300",0,0.2,0.4,null,"scrubber"]
["T300e",0,0.2,0.4,null,"scrubber"]
["T300_Series_Std_Config",0,0.2,0.4,null,"scrubber"]
["T300_T300e_Quick_Ship",0,0.2,0.4,null,"scrubber"]
["T350",0,0.2,0.25,null,"scrubber"]
["T350_Std_Config",0,0.2,0.25,null,"scrubber","306400"]
["T5",0,0.2,0.4,null,"scrubber","306400"]
["T5e",0,0.2,0.4,null,"scrubber","306400"]
["T500",0,0.2,0.4,null,"scrubber","306400"]
["T581_T390_T290",0,0.2,0.4,null,"scrubber","306400"]
["T500e",0,0.2,0.4,null,"scrubber"]
["T500_Series_Std_Config",0,0.2,0.4,null,"scrubber"]
["T600",0,0.2,0.4,null,"scrubber"]
["T600e",0,0.2,0.4,null,"scrubber","307500"]
["T600ee",0,0.2,0.4,null,"scrubber","307500"]
["T600_Series_Std_Config",0,0.2,0.4,null,"scrubber","307500"]
["T7",0,0.2,0.4,null,"scrubber","307600"]
["T7AMR",0,0.05,0.1,null,"scrubber","307600"]
["T380AMR",0,0.05,0.1,null,"scrubber","307600"]
["T16AMR_Standard_Config",0,0.05,0.1,null,"scrubber","307600"]
["T7_Std_Config",0,0.2,0.4,null,"scrubber","308007"]
["T12_Built_to_Order",0,0.2,0.4,null,"scrubber","308007"]
["T12_Standard_Config",0,0.2,0.4,null,"scrubber","308400"]
["T16_Built_to_Order",0,0.11,0.35000000000000003,null,"scrubber","308400"]
["T16_Standard_Config",0,0.11,0.35000000000000003,null,"scrubber","311102"]
["T17_Built_to_Order",0,0.11,0.35000000000000003,null,"scrubber","311102"]
["T17_Standard_Config",0,0.11,0.35000000000000003,null,"scrubber","311102"]
[8300,0,0.11,0.35000000000000003,null,"scrubber","308205"]
["M17_Built_to_Order",0,0.11,0.35000000000000003,null,"scrubber","308205"]
["M17_Standard_Config",0,0.11,0.35000000000000003,null,"scrubber","311302"]
["T20_Built_to_Order",0,0.11,0.35000000000000003,null,"scrubber","311302"]
["T20_Standard_Config",0,0.11,0.35000000000000003,null,"scrubber","311402"]
["M20_Built_to_Order",0,0.11,0.35000000000000003,null,"scrubber","311402"]
["M20_Standard_Config",0,0.11,0.35000000000000003,null,"scrubber","336233"]
["M30_Built_to_Order",0,0.11,0.35000000000000003,null,"scrubber","333010"]
["M30_Standard_Config",0,0.11,0.35,null,"scrubber"]
["T681",0,0.2,0.4,null,"scrubber","306400"]
["T981",0,0.16,0.3,null,"scrubber","306400"]
["T260",0,0.2,0.4,null,"scrubber","306400"]
["T391_T291",0,0.2,0.4,null,"scrubber","306400"]
["T1581_Built_to_Order",0,0.2,0.3,null,"scrubber","308500"]
["M_X4ROVR",0,0.05,0.1,null,"scrubber"]
["M_X6ROVR",0,0.05,0.1,null,"scrubber"]

{"sheet":"PricezonesUsers","index":42,"n_rows":21,"n_cols":11,"rows_kept":21,"cut":false,"hidden":true,"merged":[]}
["Green","Yellow","Red",null,"Level A name","Level B name","Level C name",null,null,"Governance"]
[null,"kbs6","p1g",null,null,"Boris, Kenneth","Gee, Paul",null,null,"cpn8","Peterson, Charlie"]
[null,"bcd","jws25",null,null,"Chatfield, Brant","Watters, Josh",null,null,"azn","Alicia Zahn"]
[null,"bpc","tjw",null,null,"Clifton, Brian","Watson, Terry",null,null,"lty","Lindsay Trickey"]
[null,"nck","cpn8",null,null,"Cork, William","Peterson, Charlie"]
[null,"sft2","azn",null,null,"Forrest, Stephen","Alicia Zahn"]
[null,"jhk5","lty",null,null,"Hamrick, James","Lindsay Trickey"]
[null,"kje","afd",null,null,"Josche, Kevin","Amanda Fristed"]
[null,"dek","pbn7",null,null,"Kortsha, Dennis","Bannon, Patrick"]
[null,"dlr4",null,null,null,"Lancaster, David"]
[null,"jdl",null,null,null,"Laubach, James"]
[null,"rdr3",null,null,null,"Demar, Ryan"]
[null,"mco5",null,null,null,"Cayado, Maria"]
[null,"ptn",null,null,null,"Thompson, Phil"]
[null,"jey2",null,null,null,"Emery, Josh"]
[null,"cgn13",null,null,null,"Groen, Caleb"]
[null,"msm4",null,null,null,"Satterstrom, Mike"]
[null,"jss24",null,null,null,"Stevens, Jonathan"]
[null,"rla7",null,null,null,"Lua, Raul"]
[null,"pls5",null,null,null,"Landis, Pat"]
[null,"jtt5",null,null,null,"Tolbert, Jeff"]

{"sheet":"Contact","index":43,"n_rows":43,"n_cols":6,"rows_kept":43,"cut":false,"hidden":false,"merged":[[39,0,39,5],[6,4,7,4],[18,5,19,5],[15,3,15,4],[16,0,16,2],[16,3,16,4],[18,0,19,0],[18,1,19,1],[18,2,19,2],[18,4,19,4],[18,3,19,3],[37,0,37,5]]}
["Wells Fargo Capital Solutions"]
["Equipment Finance",null,null,"Client Services:  (800) 535-1480"]
["300 E. John Carpenter Freeway, Irving, TX 75062",null,null,"Sales & Operations:  (800) 233-5103"]
["Name","Location","Function","Phone Number","Fax Number","E-Mail Address"]
["Levi Wessel","Rosemount, IL","Relationship Manager","800-258-6649 x-69235",null,"TennantSales@wellsfargo.com"]
["Pedro Hernandez","Rosemount, IL","Manufacturer Services Group","847-607-6355","888-375-3288","Pedro.Hernandez2@wellsfargo.com"]
["Customer Support Center -\nJoe Sims","Cedar Rapids, IA","Existing leases – Questions re: billing, payoffs, taxes, insurance, returns, etc.","(319) 841-7325","Please help save time & have the Account Schedule Number (Lease Number) when calling.","joseph.sims@ge.com"]
["Asset Management - \nJohn Rasmussen","Danbury, CT","Expiring leases - Questions re: Buyout to Return invoices, Payoff invoices, etc.","(203) 749-2120",null,"john.rasmussen@ge.com"]
["Canada",null,null,"Main Phone:  905-288-3689"]
["2300 Meadowvale Boulevard, Suite 200; Mississauga, ON  L5N 5P9"]
["Name","Location","Function","Phone Number","Fax Number","E-Mail Address"]
["Trevor Lee","Toronto",null,"905-288-3689",null,"trevor.lee@wellsfargo.com"]
["* All inquires for existing leases (i.e. buy out quotes, billing questions, etc.) should be directed to the Customer Support Center."]
[]
["U.S. Bank"]
["U.S.A.",null,null,"Main Phone:  (800) 934-7444"]
["1310 Madrid Street, Ste. 101, Marshall, MN 56258",null,null,"Fax to Credit:  (800) 328-9092"]
["Name","Location","Function","Phone Number","Fax Number","E-Mail Address"]
["Mark Maltese","Carol Stream, IL","Relationship Manager","(224) 363-1558",null,"mark.maltese@usbank.com"]
[]
["Kirk Grannes","Marshall, MN","Program Manager","(507) 532-1695",null,"kirk.grannes@usbank.com"]
["Brandon Pingeon","Marshall, MN","FMV end of lease buyout, off lease equipment","507-532-8535",null,"brandon.pingeon@usbank.com"]
["Josh Coil","Marshall, MN","Existing leases - All questions: billing, payoffs, taxes, insurance, returns, etc.","507-532-8495",null,"josh.coil@usbank.com"]
[]
["First Western Equipment Finance"]
["U.S.A.",null,null,"Main Phone:  (800) 477-5855 or (952) 516-7360"]
["100 Prairie Center Drive, Eden Prairie, MN 55344",null,null,"Fax to Credit:  (800) 288-4959 or (952) 516-7321"]
["Name","Location","Function","Phone Number","Fax Number","E-Mail Address"]
["Duncan Leighton","Eden Prairie, MN","Relationship Manager","952-516-7331 (office)\n612-272-1790 (cell)","(800) 288-4959\n(952) 516-7321","Duncan.Leighton@firstwesternef.com"]
[]
["National Leasing"]
["Canada",null,null,"Main Phone:  (866) 208 4540"]
["1525 Buffalo Place,Winnipeg, Manitoba, R3T 1L9",null,null,"Fax to Credit:  (877) 871-2199"]
["Name","Location","Function","Phone Number","Fax Number","E-Mail Address"]
["John Tersigni","Markham, Ontario","District Manager","(866) 208-4540","(877) 871-2199","john.tersigni@nationalleasing.com"]
["Karen Mckerracher","Winnipeg","Sales Coordinator","(877) 599-4966","(877) 871-2199","karen.mckerracher@nationalleasing.com"]
[]
["Tennant"]
["U.S.A.",null,null,"Main Phone:  (763) 540-1200"]
["P. O. Box 1452\nMinneapolis, MN 55440-1452"]
["Name","Location","Function","Phone Number","Fax Number","E-Mail Address"]
["Chris Lund","Minneapolis (Plant 1)","Product Manager, Service","(763) 513-1879","(763) 513-2112","chris.lund@tennantco.com"]
["Jodie Cooke","Minneapolis (Plant 1)","End of Lease Administrator (inspections, returns, etc.)","(763) 540-2507","(763) 513-1725","jodie.cooke@tennantco.com"]

{"sheet":"Help","index":44,"n_rows":167,"n_cols":3,"rows_kept":167,"cut":false,"hidden":false,"merged":[]}
[null,"Instructions For The Use Of The Quote/Order Spreadsheet","05/19/2025 Prices"]
[null,null,"CAN Date Rev - 5/6/2025"]
[null,"TO CUSTOMIZE your cover letter with your own name and region phone number, do the following:"]
[null,"1.  Change the template (adding your name and region office address/phone number to the Start Here Tab (Seller Info)"]
[null,"2.  Click on FILE , click on SAVE AS"]
[null,"3.  In the \"Save as type\" box, select Template from the drop down list"]
[null,"4.  In the \"File Name\" box, enter the name you want to use for this file"]
[null,"5.  File name should be QT25ScrubberCDMay.xltm"]
[null,"6.  Click Save"]
[]
[null,"When SAVING the template after working on it, always make sure it is save as: "]
[null,"** Excel Macro-Enabled Workbook (*.xlsm)"]
[null,"This ensure that all macros remain and the template functions properly."]
[null,"Example:"]
[]
[]
[]
[]
[]
[]
[]
[]
[]
[]
[]
[null,"TennantTrue:"]
[null,"1. On ‘Start Here’ Sheet"]
[null,"a. Select both State and County information from drop down"]
[null,"b. If customer is a National Account, select ‘Yes’"]
[null,"c. If you choose to discount, enter a percent in the TennantTrue Discount area"]
[null,"2. After completing a machine quote, select ‘Yes’ next to “Is customer interested in service program?” NOTE: if ‘Yes’ is not an option, make sure Step 1 above has been completed."]
[null,"3. Select anticipated Monthly machine usage"]
[null,"4. Click ‘Add to Summary’ to add data to TennantTrue Summary"]
[null,"5. When emailing to a customer:"]
[null,"a. First delete all worksheets you do not want to include.  To do this, while holding down "]
[null,"the SHIFT key, select the worksheets you wish to delete."]
[null,"b. Right Click while still pointing to one of the selected worksheets"]
[null,"c. Select 'Delete'"]
[null,"d. When the message \"Data may exist in the sheet(s) selected for deletion.  To "]
[null,"permanently delete the data, press Delete.\" appears, select 'Delete' "]
[null,"e. Go to File -> Save As -> and save as a separate file"]
[]
[null,"TO USE THE QUOTE/ORDER FORM:"]
[null,"1.  Enter all pertinent information on the Start Here sheet.  This information will be carried over to the Cover Letter and Quotation sheets.  Get as much information as you can regarding ordering information—this will save a lot of time later (and be easier to read if it is typed)."]
[null,"2 If you have access to the Tennant Intranet, you can verify leadtimes from this address:"]
[null,"Machine availablility Minneapolis, MN"]
[null,"Machine availablility Holland, MI"]
[]
[null,"3.  You may edit and customize the letter where/when appropriate."]
[null,"4.  Click on the tab of the machine you want to quote.  Scroll down the list of machine power sources and options and enter the number desired in the Quantity box.  "]
[null,"5.  Use the arrows on the bottom left to scroll to machine family tabs not visible (back and forth)."]
[null,"6.  Use the Specials area for  Freight and Tax. You may also use this space to add Trade-In, Special promotional discounts, Additional product lines being included in the quote.   Fill in the description, price, and quantity. Note: You may enter a negative amount for discounts or trade-in allowances for example"]
[null,"7.  After all items you want to quote have a quantity entered, click on Tools on your menu bar.  Click on \"Hide Blank Qty\".  The list will automatically shorten to only the items you selected to quote.  To see the entire list again, click on Tools again, click on \"Show All Qty\"."]
[]
[null,"QUOTING"]
[null,"1.  To the customer:"]
[null,"**Print or fax quote (see Fax information below)"]
[null,"2.  To Minneapolis for a formal SAP quote. "]
[null,"**Email or fax to your quote coordinator (See Fax or Email information below)"]
[null,"**Sales Support fax for Quotes (763) 513-2116"]
[]
[null,"ORDERING"]
[null,"1.  Fill in the information under Order Placement Information. "]
[null,"      "]
[null,"The following information is required to place the order:"]
[null,"   1  Order info (one of the following is attached):"]
[null,"       - Hard copy purchase order (complete)"]
[null,"       - Sales order form (complete) and signed by customer"]
[null,"   2.  Full company name and billing address (sold-to)"]
[null,"   3.  Complete Ship-to information"]
[null,"   4.  Ship-to contact name and phone number"]
[null,"   5.  Buyer’s name and phone number"]
[null,"   6.  Requested delivery date for the machine"]
[null,"   7  Complete configuration with part numbers (including brushes and detergent)"]
[null,"   8.  Credit Info: "]
[null,"       - New account or location: Completed credit application"]
[null,"       - Existing account: Updated credit info included (or not required per _______ in Credit)"]
[null,"   9.   Tax exemption certificate for ship-to state if customer wants exemption"]
[null,"   10.  SAP quotation number, if applicable, and quote is consistent with PO"]
[]
[null,"2.  Fax the form, PO, tax exemption certificate, etc. to: (763) 513-2116"]
[]
[null,"FAX"]
[null,"1.  Fax by selecting Winfax as your printer.  "]
[null,"2.  Only one excel TAB will fax at a time.  If you have multiple tabs, you must send each tab individually."]
[]
[null,"EMAIL"]
[null,"1. EMail one tab or several tabs.  When you have completed your quote, click on Option, Hide Blank Qty."]
[null,"2.  Select the tab(s) to be deleted (hold the control button down to select multiple tabs)"]
[null,"   - Note: do not select Start_Here page. If you keep this sheet, your links to your company name, contact, etc will be preserved on your quote when the customer or Customer Service gets it. You will be able to change the quote later as well because the hide/show quantities will stay in tact."]
[null,"3.  Click on Edit, click on \"Delete Sheet\", click OK."]
[null,"4.  If you intend to email the quote and do not want the Special Information at the bottom of the machine to be transmitted to your customer, delete the Special Information.  These cells have been left unprotected for this purpose."]
[null,"5.  Click File, Send and address your EMail"]
[]
[null,"FAQ"]
[null,"Q: How to I add price in the Specials area (discounts, freight, tax, etc)?  It wants a password.:"]
[null,"A. Fill in the description, price (under the heading “insert price here”), and quantity.  The extended price will calculate automatically."]
[]
[null,"Q: Who do I call for questions?"]
[null,"A. If you have any questions regarding the use of this template, please contact your local Tennant Rep or Customer Service @ (800) 553-8033 and ask for extension 2180."]
[null,"A. If you have questions regarding pricing, contact Customer Service @ (800) 553-8033 and ask for extension 2177."]
[null,"A. If you have questions regarding quotes or machine orders, contact Customer Service @ (800) 553-8033 to speak with your Quote Coordinator or Machine Specialist."]
[]
[null,"Q: I tried to take an item off the machine and the price column says --  #Value!  -- .  How do I get rid of it?"]
[null,"A: Move your cursor to the quantity column and press the delete key on your keyboard.  To avoid it in the future, do not use the space bar in the quantity column."]
[]
[null,"Finance Quote Templates Cheat Sheet"]
[]
[null,"1. Payments are calculated based on Machines Total, Purchase Options, and Terms. Any changes made to these will be calculated automatically."]
[null,"2. The Machine Total must be a minimum of $2000 for All-Lines Leasing and $5000 for GE and US bank or the payment amount will be blank."]
[null,"3. To change \"Purchase Options\" or \"Terms\", simply click on the cell. The drop down arrow will show up on the right. Click on the drop down arrow to select a value."]
[null,"4. \"Rent To Own\" is only available for 9, 12, or 18 months. Those terms AND \"Rent To Own\" option MUST be selected together to show payment, otherwise, the cell will be blank."]
[null,"5. To change vendor (All-Lines Leasing, GE, or US Bank), go to the \"Start_Here\" tab, and scroll down to \"Leasing Options\" at the end of the sheet. Select the vendor via the drop down, and then click the \"Apply Change\" button. (US Only)"]
[null,"6. Rates are updated quarterly (or more frequently if necessary). Since it is built-in the quote templates, the downloaded templates always contain the current rates. CAUTION: Make sure any version you've saved to your hard drive are the most current version."]
[null,"7. For the contract document, please contact All-Lines Leasing at 800-477-5855, GE at 800-876-6015, or US Bank at 800-934-7444."]
[]
[null,"Note: Macros – If you encounter a pop-up box bout macros when opening the file you should select “Enable Macros”. You can also go to “Tools>Macros>Security” on your menu bar and change the setting to medium to allow macros. Macros must be enabled for the worksheet to function properly."]
[]
[null,"LOGO:"]
[null,"The “Cover_Letter” tab is not protected and therefore the distributor can put their logos on it. The tennant logo itself on all the machine tabs is not protected, and can be removed if choose to. To remove the logo, just do a single left click on it and press delete.\n"]
[]
[]
[]
[]
[]
[]
[]
[]
[]
[]
[]
[]
[]
[]
[]
[]
[]
[]
[]
[]
[]
[]
[]
[]
[]
[]
[]
[]
[]
[]
[]
[]
[]
[]
[]
[]
[]
[]
[]
[]
[]
[]
[]
[]
[]
[]
[null,null,"or,"]

{"sheet":"Security","index":45,"n_rows":15,"n_cols":5,"rows_kept":15,"cut":false,"hidden":true,"merged":[]}
["T16AMR_Flexclean",null,null,"AMR Autonomy"]
["plo","Pao Leepalao",null,"plo","Pao Leepalao"]
["cvn3","Chris Volan",null,"rbh","Raminder Badh"]
["dmy8","Dan McSweeney"]
["bhn2","Brian Hoffman"]
["kwn","Kevin Nicholson"]
["tjw","Terry Watson"]
["jtt2","John Tackett"]
["p1g","Paul Gee"]
["rbh","Raminder Badh"]
["lml","Lynn Lewis"]
["dcs5","Collins, Dennis"]
["srn9","Rosenstein, Sam"]
["kgb","Bremer, Kurt"]
["jdl","Laubach, James"]

{"sheet":"Surcharge","index":46,"n_rows":318,"n_cols":9,"rows_kept":318,"cut":false,"hidden":true,"merged":[[0,4,0,5]]}
["Material","Surcharge","PH Category*","Prod Hier 1 - nav","ProdHier*",null,"Material","Description","Surcharge"]
["1070589",{"$f":"12.5","v":12.5},"Consumables","Batteries","515010","6V Battery","1070589","BATTERY, WET, 06V 360A, HLREP.BYNONE[TR]",{"$f":"12.5","v":12.5}]
["1204144",12.5,"Consumables","Batteries","515010","6V Battery","1204144","BATTERY, WET, 06VDC 435AH, HL, W/BOX[TR]",12.5]
["1205632",12.5,"Consumables","Batteries","515010","6V Battery","1205632","BATTERY, WET, 6VDC 330AH C/20, W/CA [TR]",12.5]
["1031914",12.5,"Consumables","Batteries","515010010","6V AGM Battery","1031914","BATTERY, AGM, 06VDC 0312AH [DISCOVER]",12.5]
["1021446",12.5,"Consumables","Batteries","515010010030","6V AGM 151-200 AH Battery","1021446","BATTERY, 06VDC 0200AH [AGM]",12.5]
["1074042",12.5,"Consumables","Batteries","515010010040","6V AGM 201-300 AH Battery","1074042","BATTERY, AGM, 06VDC 0220AH [DISCOVER]",12.5]
["1038630",12.5,"Consumables","Batteries","515010020030","6V Wet 151-200 AH Battery","1038630","BATTERY, WET, 06VDC 0185AH [TR]",12.5]
["10155",12.5,"Consumables","Batteries","515010020040","6V Wet 201-300 AH Battery","10155","BATTERY, WET, 06VDC, 225AH [TR]",12.5]
["1027944",12.5,"Consumables","Batteries","515010020040","6V Wet 201-300 AH Battery","1027944","BATTERY, WET, 06VDC 0240AH, W/O CARTON",12.5]
["1028282",12.5,"Consumables","Batteries","515010020040","6V Wet 201-300 AH Battery","1028282","BATTERY, 06VDC 0220AH",12.5]
["1028600",12.5,"Consumables","Batteries","515010020040","6V Wet 201-300 AH Battery","1028600","BATTERY, WET, 06VDC 0244AH [LOC SOURCE]",12.5]
["130986",12.5,"Consumables","Batteries","515010020040","6V Wet 201-300 AH Battery","130986","BATTERY, 06VDC 0250AH [9C11]",12.5]
["222280",12.5,"Consumables","Batteries","515010020040","6V Wet 201-300 AH Battery","222280","BATTERY, WET, 06VDC 0240AH",12.5]
["222778",12.5,"Consumables","Batteries","515010020040","6V Wet 201-300 AH Battery","222778","BATTERY KIT, WET, 06VDC 0240AH, CI",12.5]
["223373",12.5,"Consumables","Batteries","515010020040","6V Wet 201-300 AH Battery","223373","BATTERY KIT, WET, 06VDC 0240AH, CI",12.5]
["390825",12.5,"Consumables","Batteries","515010020040","6V Wet 201-300 AH Battery","390825","BATTERY, WET, 06VDC 0260AH [TR]",12.5]
["10138",12.5,"Consumables","Batteries","515010020050","6V Wet 301-400 AH Battery","10138","BATTERY, WET, 06VDC 0330AH [TR]",12.5]
["1028597",12.5,"Consumables","Batteries","515010020050","6V Wet 301-400 AH Battery","1028597","BATTERY, WET, 06VDC 0335AH [LOC SOURCE]",12.5]
["1028611",12.5,"Consumables","Batteries","515010020050","6V Wet 301-400 AH Battery","1028611","BATTERY, WET, 06VDC 0350AH [LOC SOURCE]",12.5]
["1028612",12.5,"Consumables","Batteries","515010020050","6V Wet 301-400 AH Battery","1028612","BATTERY, WET, 06VDC 0305AH [LOC SOURCE]",12.5]
["1070586",12.5,"Consumables","Batteries","515010020050","6V Wet 301-400 AH Battery","1070586","BATTERY, WET, 06VDC 0360AH, W/O CARTON",12.5]
["1070587",12.5,"Consumables","Batteries","515010020050","6V Wet 301-400 AH Battery","1070587","BATTERY, WET, 06VDC 0360AH, W/ CART [TR]",12.5]
["222777",12.5,"Consumables","Batteries","515010020050","6V Wet 301-400 AH Battery","222777","BATTERY KIT, WET, 06VDC 0360AH, CI",12.5]
["222852",12.5,"Consumables","Batteries","515010020050","6V Wet 301-400 AH Battery","222852","BATTERY KIT, WET, 06VDC 0360AH, REPLMT",12.5]
["10157",12.5,"Consumables","Batteries","515010020060","6V Wet 401-500 AH Battery","10157","BATTERY, WET, 06VDC 420AH [TR]",12.5]
["1204146",12.5,"Consumables","Batteries","515010020060","6V Wet 401-500 AH Battery","1204146","BATTERY, WET, 06VDC 435AH, W/ BOX [TR]",12.5]
["390764",12.5,"Consumables","Batteries","515010030030","6V Gel 151-200 AH Battery","390764","BATTERY, GEL, 06V 0180AH [MAINT FREE TR]",12.5]
["1028279",12.5,"Consumables","Batteries","515020","12V Battery","1028279","BATTERY, 12VDC 0260CCA",12.5]
["1028284",12.5,"Consumables","Batteries","515020","12V Battery","1028284","BATTERY, 12VDC 0530CCA",12.5]
["1028285",12.5,"Consumables","Batteries","515020","12V Battery","1028285","BATTERY, 12VDC 0700CCA",12.5]
["1070603",12.5,"Consumables","Batteries","515020","12V Battery","1070603","BATTERY, WET, 12V 225A, HLREP.BYNONE[TR]",12.5]
["1206317",12.5,"Consumables","Batteries","515020","12V Battery","1206317","BATTERY, WET, 12VDC 185AH C/20, W/CA[TR]",12.5]
["9008732",{"$f":"12.5","v":12.5},"Consumables","Batteries","515020","12V Battery","9008732","BATTERY KIT, 12VDC 0040AH, CI [LI-ION]",{"$f":"12.5","v":12.5}]
["1016203",12.5,"Consumables","Batteries","515020010010","12V AGM Less than 100 AH Battery","1016203","BATTERY, AGM, 12VDC 0042AH [3610 AM, MK]",12.5]
["1065086",12.5,"Consumables","Batteries","515020010010","12V AGM Less than 100 AH Battery","1065086","BATTERY, AGM, 12VDC 0050AH [T1B, S5, MK]",12.5]
["1068827",12.5,"Consumables","Batteries","515020010010","12V AGM Less than 100 AH Battery","1068827","BATTERY, AGM, 12VDC 0026AH  [S3B, MK]",12.5]
["1053408",12.5,"Consumables","Batteries","515020010020","12V AGM 101-150 AH Battery","1053408","BATTERY, 12VDC 0140AH [AGM]",12.5]
["1053427",12.5,"Consumables","Batteries","515020010040","12V AGM 201-300 AH Battery","1053427","BATTERY, 12VDC EV185A 234AH DISCOVER AGM",12.5]
["10134",12.5,"Consumables","Batteries","515020020","12V Wet Battery","10134","BATTERY, WET, 12VDC 0260CCA",12.5]
["10137",12.5,"Consumables","Batteries","515020020","12V Wet Battery","10137","BATTERY, WET, 12VDC 0475CCA [TR]",12.5]
["10143",12.5,"Consumables","Batteries","515020020","12V Wet Battery","10143","BATTERY, WET, 12VDC 0600CCA [TR]",12.5]
["77602",12.5,"Consumables","Batteries","515020020","12V Wet Battery","77602","BATTERY, WET, 12VDC 0700CCA [TR]",12.5]
["EM011",12.5,"Consumables","Batteries","515020020010","12V Wet Less than 100 AH Battery","EM011","BATTERY  70 AMP HR DIN 570 144 064",12.5]
["1028287",12.5,"Consumables","Batteries","515020020020","12V Wet 101-150 AH Battery","1028287","BATTERY, 12VDC 0130AH",12.5]
["1073553",12.5,"Consumables","Batteries","515020020020","12V Wet 101-150 AH Battery","1073553","BATTERY, WET, 12VDC 1000CCA",12.5]
["130869",12.5,"Consumables","Batteries","515020020020","12V Wet 101-150 AH Battery","130869","BATTERY, WET, 12VDC 0130AH[30XHS-WNT TR]",12.5]
["578426",12.5,"Consumables","Batteries","515020020020","12V Wet 101-150 AH Battery","578426","BATTERY, WET, 12V 0105AH [S8, 27TMX TR]",12.5]
["602240",12.5,"Consumables","Batteries","515020020020","12V Wet 101-150 AH Battery","602240","BATTERY, 06VDC 0350AH [L16G-LT TR]",12.5]
["61355",12.5,"Consumables","Batteries","515020020020","12V Wet 101-150 AH Battery","61355","BATTERY, WET, 12VDC 0105AH 0530CCA [TR]",12.5]
["80063",12.5,"Consumables","Batteries","515020020020","12V Wet 101-150 AH Battery","80063","BATTERY, WET, 12VDC 0130AH [TR]",12.5]
["1015046",12.5,"Consumables","Batteries","515020020030","12V Wet 151-200 AH Battery","1015046","BATTERY, WET, 12VDC 0150AH",12.5]
["1028286",12.5,"Consumables","Batteries","515020020040","12V Wet 201-300 AH Battery","1028286","BATTERY, 12VDC 0215AH",12.5]
["1070591",12.5,"Consumables","Batteries","515020020040","12V Wet 201-300 AH Battery","1070591","BATTERY, WET, 12VDC 0225AH, W/ CART [TR]",12.5]
["600394",12.5,"Consumables","Batteries","515020020040","12V Wet 201-300 AH Battery","600394","BATTERY, WET, 12V 225AH, DUAL POST [TR]",12.5]
["61384",12.5,"Consumables","Batteries","515020020040","12V Wet 201-300 AH Battery","61384","BATTERY KIT, WET, F/10146, REPLMT",12.5]
["80031",12.5,"Consumables","Batteries","515020020040","12V Wet 201-300 AH Battery","80031","BATTERY, WET, 12VDC 0225AH [TR]",12.5]
["611867",12.5,"Consumables","Batteries","515020030010","12V Gel Less than 100 AH Battery","611867","BATTERY, GEL, 12VDC 0100AH [S8, CROWN]",12.5]
["994200",12.5,"Consumables","Batteries","515020030010","12V Gel Less than 100 AH Battery","994200","BATTERY, GEL, 12VDC 0076AH [GF12076V]",12.5]
["1071125",12.5,"Consumables","Batteries","515020030020","12V Gel 101-150 AH Battery","1071125","BATTERY, GEL, 12V 102AH [TRJN 31-GEL TR]",12.5]
["386334",25,"Consumables","Batteries","515030","18V Battery","386334","BATTERY, 36VDC 0600AH, SEALED",25]
["386939",25,"Consumables","Batteries","515030","18V Battery","386939","BATTERY KIT, 36VDC 1000AH, WET, CI",25]
["1049972",25,"Consumables","Batteries","515030020050","18V Wet 301-400 AH Battery","1049972","BATTERY, WET, 18VDC 0340AH",25]
["1049973",25,"Consumables","Batteries","515030020060","18V Wet 401-500 AH Battery","1049973","BATTERY, WET, 18VDC 0440AH",25]
["06564",25,"Consumables","Batteries","515030020070","18V Wet 501-600 AH Battery","06564","BATTERY SET [(2)-18VDC TYPE E]",25]
["33520",25,"Consumables","Batteries","515030020070","18V Wet 501-600 AH Battery","33520","BATTERY SET [(2)-18VDC TYPE EE]",25]
["80232",25,"Consumables","Batteries","515040020020","24V Wet 101-150 AH Battery","80232","BATTERY KIT, 24VDC, 130AH, WET, CI[3640]",25]
["383951",50,"Consumables","Batteries","515050020040","36V Wet 201-300 AH Battery","383951","BATTERY KIT, WET, 36VDC 0235AH, CI",50]
["390829",50,"Consumables","Batteries","515050020040","36V Wet 201-300 AH Battery","390829","BATTERY KIT, 36VDC, 244AH, WET, CI",50]
["83255",50,"Consumables","Batteries","515050020040","36V Wet 201-300 AH Battery","83255","BATTERY KIT, WET, 36VDC 0220AH, CI[6100]",50]
["223377",50,"Consumables","Batteries","515050020050","36V Wet 301-400 AH Battery","223377","BATTERY KIT, WET, 36VDC 0360AH, CI",50]
["383955",50,"Consumables","Batteries","515050020050","36V Wet 301-400 AH Battery","383955","BATTERY KIT, WET, 36VDC 0360AH, CI",50]
["387322",50,"Consumables","Batteries","515050020050","36V Wet 301-400 AH Battery","387322","BATTERY, WET, 36VDC 0380AH [TR]",50]
["387324",50,"Consumables","Batteries","515050020050","36V Wet 301-400 AH Battery","387324","BATTERY KIT, WET, 36VDC 0380AH, CI",50]
["386335",50,"Consumables","Batteries","515050020060","36V Wet 401-500 AH Battery","386335","BATTERY, WET, 36VDC 0500AH",50]
["386932",50,"Consumables","Batteries","515050020060","36V Wet 401-500 AH Battery","386932","BATTERY KIT, WET, 36VDC 0500AH, CI",50]
["1207937",50,"Consumables","Batteries","515050020070","36V Wet 501-600 AH Battery","1207937","BATTERY, WET, 36VDC, 510AH",50]
["1018515",50,"Consumables","Batteries","515050020090","36V Wet 701-800 AH Battery","1018515","BATTERY, WET, 36VDC 0750AH",50]
["1210315",50,"Consumables","Batteries","515050020090","36V Wet 701-800 AH Battery","1210315","BATTERY, WET, 36VDC, 750AH [W/WATERING]",50]
["386936",50,"Consumables","Batteries","515050020090","36V Wet 701-800 AH Battery","386936","BATTERY KIT, WET, 36VDC 0750AH, CI",50]
["386337",50,"Consumables","Batteries","515050020110","36V Wet 900 or higher AH Battery","386337","BATTERY, WET, 36VDC 1000AH",50]
["1028283",12.5,"Consumables","Batteries","515070","Batteries - Other","1028283","BATTERY, 06VDC 0360AH",12.5]
["1204248",12.5,"Consumables","Batteries","515070","Batteries - Other","1204248","BATTERY, 06VDC EVL16A 390AH DISCOVER AGM",12.5]
["1213281","N/A","Consumables","Batteries","515070","Batteries - Other","1213281","HOSE KIT, WATERING, BATTERY, 20FT","N/A"]
["387043","N/A","Consumables","Batteries","515070","Batteries - Other","387043","BATTERY KIT, R/O, CI","N/A"]
["9008688","N/A","Consumables","Batteries","515070","Batteries - Other","9008688","BATTERY KIT, CONV. [LI TO AGM]","N/A"]
["9008689","N/A","Consumables","Batteries","515070","Batteries - Other","9008689"," BATTERY KIT, CONV. W/O BAT [AGM TO Li+]","N/A"]
["9008690","N/A","Consumables","Batteries","515070","Batteries - Other","9008690","BATTERY REPLMT KIT, [Li+]","N/A"]
["T17-D",150,"T17"]
["T17-C",150,"T17"]
["M17-D",150,"M17"]
["M17-C",150,"M17"]
["T12-D",100,"T12"]
["T12-C",100,"T12"]
["T12-XP-D",100,"T12"]
["T12-XP-C",100,"T12"]
["T16-910-D",100,"T16"]
["T16-910-C",100,"T16"]
["6100-B",100,6100]
["6200-B",100,6200]
["S20-B",100,"S20EV"]
["MV-B5-0010",100,"B5"]
["MV-B5-0011",100,"B5"]
["MV-SG5-0006",100,"SpeedGleam5"]
["MV-B7-0008",100,"B7"]
["MV-B7-0009",100,"B7"]
["MV-SG7-0005",100,"SpeedGleam7"]
["B10-610",100,"B10"]
["B10-690",100,"B10"]
["SGR-610",100,"SpeedGleam_Rider"]
["SGR-690",100,"SpeedGleam_Rider"]
["MV-5680-0030",100,5680]
["MV-5680-0031",100,5680]
["MV-5680-0032",100,5680]
["MV-5680-0033",100,5680]
["MV-5680-0034",100,5680]
["MV-5680-0035",100,5680]
["5680-700-D",100,5680]
["5680-800-D",100,5680]
["5680-900-D",100,5680]
["5680-700-C",100,5680]
["5680-800-C",100,5680]
["5680-900-C",100,5680]
["5700-700-D",100,5700]
["5700-800-D",100,5700]
["5700-900-D",100,5700]
["5700-700-C",100,5700]
["5700-800-C",100,5700]
["5700-900-C",100,5700]
["MV-1610-0001",50,"Dual_Tech_ReadySpace_1610"]
["MV-1610-0002",50,"Dual_Tech_ReadySpace_1610"]
["MV-1610-0008",50,"Dual_Tech_ReadySpace_1610"]
["1610-560",50,"Dual_Tech_ReadySpace_1610"]
["R14-700",50,"Dual_Tech_ReadySpace_R14"]
["MV-STRV-0001",50,"DualTech_ReadySpace_Strive"]
["MV-STRV-0002",50,"DualTech_ReadySpace_Strive"]
["MV-STRV-0004",50,"DualTech_ReadySpace_Strive"]
["Strive-560",50,"DualTech_ReadySpace_Strive"]
["Strive-700",50,"DualTech_ReadySpace_StriveRider"]
["MV-SS350-0001",50,"SS350"]
["MV-SS350-0002",50,"SS350"]
["MV-SS350-0003",50,"SS350"]
["MV-SS350-0004",50,"SS350"]
["MV-SS350-0005",50,"SS350"]
["MV-SS350-0006",50,"SS350"]
["MV-SS350-0007",50,"SS350"]
["MV-SS350-0008",50,"SS350"]
["SS350-500-D",50,"SS350"]
["SS350-600-D",50,"SS350"]
["MV-SSR-0044",50,"SSR"]
["MV-SSR-0045",50,"SSR"]
["SSR-650-D",50,"SSR"]
["SSR-800-D",50,"SSR"]
["SSR-700-C",50,"SSR"]
["SSR-800-C",50,"SSR"]
["MV-T350-0001",50,"T350"]
["MV-T350-0002",50,"T350"]
["MV-T350-0003",50,"T350"]
["MV-T350-0004",50,"T350"]
["MV-T350-0005",50,"T350"]
["MV-T350-0006",50,"T350"]
["MV-T350-0007",50,"T350"]
["MV-T350-0008",50,"T350"]
["MV-T350-0009",50,"T350"]
["MV-T350-0010",50,"T350"]
["MV-T350-0011",50,"T350"]
["MV-T350-0012",50,"T350"]
["T350-500-D",50,"T350"]
["T350-600-D",50,"T350"]
["MV-T7-0051",50,"T7"]
["MV-T7-0052",50,"T7"]
["MV-T7-0053",50,"T7"]
["T7-650-D",50,"T7"]
["T7-800-D",50,"T7"]
["T7-700-C",50,"T7"]
["T7-800-C",50,"T7"]
["MV-SS300-0001",50,"SS300"]
["MV-SS300-0002",50,"SS300"]
["MV-SS300-0003",50,"SS300"]
["MV-SS300-0004",50,"SS300"]
["MV-SS300-0005",50,"SS300"]
["MV-SS300-0006",50,"SS300"]
["MV-SS300-0007",50,"SS300"]
["MV-SS300-0008",50,"SS300"]
["MV-SS300-0015",50,"SS300"]
["MV-SS300-0016",50,"SS300"]
["MV-SS300-0017",50,"SS300"]
["MV-SS300-0018",50,"SS300"]
["MV-SS300-0019",50,"SS300"]
["MV-SS300-0020",50,"SS300"]
["MV-SS300-0011",50,"SS300"]
["MV-SS300-0009",50,"SS300"]
["MV-SS300-0010",50,"SS300"]
["MV-SS300-0021",50,"SS300"]
["SS300-430-D",50,"SS300"]
["SS300-500-D",50,"SS300"]
["SS300-600-D",50,"SS300"]
["SS300-500-C",50,"SS300"]
["SS300-500-O",50,"SS300"]
["MV-SS500-0001",50,"SS500"]
["MV-SS500-0005",50,"SS500"]
["MV-SS500-0009",50,"SS500"]
["MV-SS500-0002",50,"SS500"]
["MV-SS500-0006",50,"SS500"]
["MV-SS500-0010",50,"SS500"]
["MV-SS500-0003",50,"SS500"]
["MV-SS500-0007",50,"SS500"]
["MV-SS500-0011",50,"SS500"]
["MV-SS500-0004",50,"SS500"]
["MV-SS500-0008",50,"SS500"]
["MV-SS500-0012",50,"SS500"]
["SS500-650-D",50,"SS500"]
["SS500-700-D",50,"SS500"]
["SS500-800-D",50,"SS500"]
["SS500-700-C",50,"SS500"]
["SS500-700-O",50,"SS500"]
["T12-D",50,"T12"]
["T12-C",50,"T12"]
["T12-XP-D",50,"T12"]
["T12-XP-C",50,"T12"]
["MV-T300-0001",50,"T300"]
["MV-T300-0079",50,"T300"]
["MV-T300-0080",50,"T300"]
["MV-T300-0003",50,"T300"]
["MV-T300-0004",50,"T300"]
["MV-T300-0005",50,"T300"]
["MV-T300-0006",50,"T300"]
["MV-T300-0007",50,"T300"]
["MV-T300-0008",50,"T300"]
["MV-T300-0009",50,"T300"]
["MV-T300-0066",50,"T300"]
["MV-T300-0077",50,"T300"]
["MV-T300-0078",50,"T300"]
["MV-T300-0067",50,"T300"]
["MV-T300-0068",50,"T300"]
["MV-T300-0069",50,"T300"]
["MV-T300-0070",50,"T300"]
["MV-T300-0071",50,"T300"]
["MV-T300-0072",50,"T300"]
["MV-T300-0073",50,"T300"]
["MV-T300-0012",50,"T300"]
["MV-T300-0010",50,"T300"]
["MV-T300-0011",50,"T300"]
["MV-T300-0074",50,"T300"]
["MV-T300-0075",50,"T300"]
["T300-430-D",50,"T300"]
["T300-500-D",50,"T300"]
["T300-600-D",50,"T300"]
["T300-500-C",50,"T300"]
["T300-500-O",50,"T300"]
["MV-T300e-0001",50,"T300e"]
["MV-T300e-0002",50,"T300e"]
["MV-T300e-0003",50,"T300e"]
["MV-T300e-0004",50,"T300e"]
["MV-T300e-0005",50,"T300e"]
["MV-T300e-0006",50,"T300e"]
["MV-T300e-0007",50,"T300e"]
["MV-T300e-0008",50,"T300e"]
["MV-T300e-0043",50,"T300e"]
["MV-T300e-0044",50,"T300e"]
["MV-T300e-0045",50,"T300e"]
["MV-T300e-0046",50,"T300e"]
["MV-T300e-0047",50,"T300e"]
["MV-T300e-0011",50,"T300e"]
["MV-T300e-0009",50,"T300e"]
["MV-T300e-0010",50,"T300e"]
["MV-T300e-0048",50,"T300e"]
["T300e-430-D",50,"T300e"]
["T300e-500-D",50,"T300e"]
["T300e-600-D",50,"T300e"]
["T300e-500-C",50,"T300e"]
["T300e-500-O",50,"T300e"]
["MV-T500-0001",50,"T500"]
["MV-T500-0006",50,"T500"]
["MV-T500-0002",50,"T500"]
["MV-T500-0007",50,"T500"]
["MV-T500-0011",50,"T500"]
["MV-T500-0003",50,"T500"]
["MV-T500-0008",50,"T500"]
["MV-T500-0012",50,"T500"]
["MV-T500-0004",50,"T500"]
["MV-T500-0009",50,"T500"]
["MV-T500-0013",50,"T500"]
["MV-T500-0005",50,"T500"]
["MV-T500-0010",50,"T500"]
["T500-650-D",50,"T500"]
["T500-700-D",50,"T500"]
["T500-800-D",50,"T500"]
["T500-700-C",50,"T500"]
["T500-700-O",50,"T500"]
["MV-T500e-0003",50,"T500e"]
["MV-T500e-0007",50,"T500e"]
["MV-T500e-0011",50,"T500e"]
["MV-T500e-0004",50,"T500e"]
["MV-T500e-0008",50,"T500e"]
["MV-T500e-0012",50,"T500e"]
["MV-T500e-0005",50,"T500e"]
["MV-T500e-0009",50,"T500e"]
["MV-T500e-0013",50,"T500e"]
["MV-T500e-0006",50,"T500e"]
["MV-T500e-0010",50,"T500e"]
["MV-T500e-0014",50,"T500e"]
["T500e-650-D",50,"T500e"]
["T500e-700-D",50,"T500e"]
["T500e-800-D",50,"T500e"]
["T500e-700-C",50,"T500e"]
["T500e-700-O",50,"T500e"]
["3640-E",50,3640]
["S10-B",50,"S10"]
[9008635,50,"T1b"]
[9008637,50,"SS15b"]
[1071366,50,"S9"]
[9010139,50,"Scout 9"]
[1069647,50,"S5"]
[1071118,50,"Scout 5"]
[9007471,50,"V-WD- 16B"]
[614002,50,1510]
[608351,50,"Falcon Ultra"]

{"sheet":"Lists","index":47,"n_rows":79,"n_cols":17,"rows_kept":79,"cut":false,"hidden":true,"merged":[]}
["FlexClean Regions",null,null,null,null,null,"Tab Name","Machine","Product",2009,"Material","PH","Type","Rider_WB",null,null,"All Tabs"]
["Description","Region Key",null,null,null,null,"Dual_Tech_ReadySpace_1610",1610,"Comm","Y",9000500,350010080,"Scrubber","WB",null,null,"Specialty"]
["CA - All Other","CA00",null,"Tab name: ","GM_636",null,3640,3640,"Comm","Y","M3640",300020070,"Sweeper","WB",null,null,5680]
["CA - British Columbia","BCCA",null,"Material: ",{"$f":"VLOOKUP($E$3, G2:M98, 5, FALSE)","v":"M636"},null,5400,5400,"Comm","N","M5400",320010110,"Scrubber","WB",null,null,"T600"]
["US - All Other","US00",null,"Type: ",{"$f":"VLOOKUP($E$3, G2:M99, 7, FALSE)","v":"Sweeper"},null,5680,5680,"Comm","Y","M5680",320020155,"Scrubber","WB",null,null,"T600e"]
["US - California","CAUS",null,"Type 2: ",{"$f":"VLOOKUP($E$3, G2:N100, 8, FALSE)","v":"Rider"},null,5700,5700,"Comm","Y","M5700",320020160,"Scrubber","WB",null,null,"T600ee"]
["US - Conneticut","CTUS",null,null,null,null,6100,6100,"Ind","Y","M6100",300030010,"Sweeper","Rider",null,null,"T600_Series_Std_Config"]
["US - DC","DCUS",null,null,null,null,6200,6200,"Ind","Y","M6200",300030020,"Sweeper","Rider",null,null,5700]
["US - Massuchusetts","MAUS",null,null,null,null,"6400LC",6400,"Ind","Y","M6400",300040050,"Sweeper","Rider",null,null,"T1_T1B"]
["US - New Jersey","NJUS",null,null,null,null,"6400EV",6400,"Ind","Y","M6400",300040050,"Sweeper","Rider",null,null,"i_mop_Lite"]
["US - New York","NYUS",null,null,null,null,6600,6600,"Ind","N","M6600",300040220,"Sweeper","Rider",null,null,"i_mop_XL"]
["US - Pennsylvania","PAUS",null,null,null,null,6650,6650,"Ind","N","M6650",300040230,"Sweeper","Rider",null,null,"i_mop_XXL"]
["US - Rhode Island","RIUS",null,null,null,null,7100,7100,"Ind","Y","M7100",320040005,"Scrubber","Rider",null,null,"CS5_CS16"]
[null,null,null,null,null,null,7200,7200,"Ind","N","M7200",320040010,"Scrubber","Rider",null,null,"T2"]
[null,null,null,null,null,null,7300,7300,"Ind","Y","M7300",320050065,"Scrubber","Rider",null,null,"T2_Std_Config"]
[null,null,null,null,null,null,7400,7400,"Ind","N","M7400",320050070,"Scrubber","Rider",null,null,"T3"]
[null,null,null,null,null,null,8210,8210,"Ind","N","M8210",340020060,"Scrubber","Rider",null,null,"T3_plus_Orbital"]
[null,null,null,null,null,null,8300,8300,"Ind","Y","M8300",340020015,"Scrubber","Rider",null,null,"T300"]
[null,null,null,null,null,null,8410,8410,"Ind","N","M8410",340020030,"Scrubber","Rider",null,null,"T300e"]
[null,null,null,null,null,null,"M20","M20","Ind","Y","M20",340020070,"Scrubber","Rider",null,null,"T300_Series_Std_Config"]
[null,null,null,null,null,null,"M30","M30","Ind","Y","MM30",340020080,"Scrubber","Rider",null,null,"T300_T300e_Quick_Ship"]
[null,null,null,null,"Template",null,"T3","T3","Comm","Y",9003577,320010540,"Scrubber","WB",null,null,"T350"]
[null,null,null,null,"Scrubber",null,"T300","T300","Comm","Y",9003577,320010540,"Scrubber","WB",null,null,"T350_Std_Config"]
[null,null,null,null,"Sweeper",null,"T300e","T300e","Comm","Y",9003577,320010540,"Scrubber","WB",null,null,"T380AMR"]
[null,null,null,null,"Nobles",null,"T3_Orbital","T3_Orbital","Comm","Y",9003577,320010540,"Scrubber","WB",null,null,"T5"]
[null,null,null,null,null,null,"T3_plus_Orbital","T3 +","Comm","Y",9007539,320010540,"Scrubber","WB",null,null,"T5e"]
[null,null,null,null,null,null,"T5","T5","Comm","Y","MT5",320020500,"Scrubber","WB",null,null,"T500"]
[null,null,null,null,null,null,"T5e","T5e","Comm","Y","MT5e",320020500,"Scrubber","WB",null,null,"T500e"]
[null,null,null,null,null,null,"T7","T7","Comm","Y","MT7",320040050,"Scrubber","Rider",null,null,"T500_Series_Std_Config"]
[null,null,null,null,null,null,"T12","T12","Comm","Y","MT12",320040050,"Scrubber","Rider",null,null,"T260"]
[null,null,null,null,null,null,"T15","T15","Ind","Y","MT15",320040060,"Scrubber","Rider",null,null,"T391_T291"]
[null,null,null,null,null,null,"T20","T20","Ind","Y","MT20",320050110,"Scrubber","Rider",null,null,"T581_T390_T290"]
[null,null,null,null,null,null,"Dual_Tech_ReadySpace_R14","R14","Comm","Y","MR14",350090010,"Scrubber","Rider",null,null,"T681"]
[null,null,null,null,null,null,"S8","S8","Comm","Y",9001400,300020200,"Sweeper","WB",null,null,"T981"]
[null,null,null,null,null,null,"S10","S10","Ind","Y","MS10",300020210,"Sweeper","WB",null,null,"T1581_Built_to_Order"]
[null,null,null,null,null,null,"S30","S30","Ind","Y","MS30",300040310,"Sweeper","Rider",null,null,"T7"]
[null,null,null,null,null,null,"DualTech_ReadySpace_Strive","Strive","Comm","Y",9000503,350010090,"Scrubber","WB",null,null,"T7AMR"]
[null,null,null,null,null,null,"DualTech_ReadySpace_StriveRider","Strive Rider","Comm","Y","Mstriverider",350090020,"Scrubber","Rider",null,null,"T7_Std_Config"]
[null,null,null,null,null,null,"SS_24_32","SS5","Comm","Y","Mss5",320020510,"Scrubber","WB",null,null,"T12_Built_to_Order"]
[null,null,null,null,null,null,550,550,"Ind","Y","M550",320050090,"Scrubber","Rider",null,null,"T12_Standard_Config"]
[null,null,null,null,null,null,1550,1550,"Ind","Y","M1550",320050100,"Scrubber","Rider",null,null,7100]
[null,null,null,null,null,null,"Burnishers",2550,"Comm","Y",9003536,400020018,"Sweeper","WB",null,null,"T15"]
[null,null,null,null,null,null,"Burnishers",2510,"Comm","Y",9003532,400020018,"Sweeper","WB",null,null,"T16AMR_Standard_Config"]
[null,null,null,null,null,null,"Carpet_Extractors",1510,"Comm","Y",614002,350010040,"Scrubber","WB",null,null,"T16_Built_to_Order"]
[null,null,null,null,null,null,"SSR","SSR","Comm","Y","MSSR",null,"Scrubber","Rider",null,null,"T16_Standard_Config"]
[null,null,null,null,null,null,"EZ_Rider","EZ_Rider","Comm","Y","MEZRIDERHP",null,"Scrubber","Rider",null,null,"M_X4ROVR"]
[null,null,null,null,null,null,"SpeedGleam","SpeedGleam_Plus","Comm","Y",9003538,null,"Sweeper","WB",null,null,"M_X6ROVR"]
[null,null,null,null,null,null,"SS_17_20","SS17","Comm","Y",9002885,null,"Scrubber","WB",null,null,"T17_Built_to_Order"]
[null,null,null,null,null,null,"SS_XC","SS17+","Comm","Y",9007634,null,"Scrubber","WB",null,null,"T17_Standard_Config"]
[null,null,null,null,null,null,"S20_GLPD","S20_GLPD","Ind","Y","MS20",null,"Sweeper","Rider",null,null,"Orbio 5000-Sc"]
[null,null,null,null,null,null,"S20EV","S20EV","Ind","Y","MS20",null,"Sweeper","Rider",null,null,7300]
[null,null,null,null,null,null,"GM_400","GM_400","Ind","Y","M400",null,"Sweeper","Rider",null,null,7400]
[null,null,null,null,null,null,"GM_636","GM_636","Ind","Y","M636",null,"Sweeper","Rider",null,null,8200]
[null,null,null,null,null,null,800,800,"Ind","Y","M800",null,"Sweeper","Rider",null,null,8210]
[null,null,null,null,null,null,810,810,"Ind","Y","M810",null,"Sweeper","Rider",null,null,8300]
[null,null,null,null,null,null,4300,4300,"Ind","Y","ATLV",null,"Sweeper","Rider",null,null,8400]
[null,null,null,null,null,null,"M17","M17","Ind","Y","M17",340020015,"Scrubber","Rider",null,null,8410]
[null,null,null,null,null,null,"T500","T500","Comm","Y","MT500",320020500,"Scrubber","WB",null,null,"M17_Built_to_Order"]
[null,null,null,null,null,null,"T500e","T500e","Comm","Y","MT500e",320020500,"Scrubber","WB",null,null,"M17_Standard_Config"]
[null,null,null,null,null,null,"T350","T350","Comm","Y","MT350",320010540,"Scrubber","WB",null,null,"M20_Built_to_Order"]
[null,null,null,null,null,null,"T600","T600","Comm","Y","T600",null,"Scrubber","WB",null,null,"M20_Standard_Config"]
[null,null,null,null,null,null,"T600e","T600e","Comm","Y","T600e",null,"Scrubber","WB",null,null,"T20_Built_to_Order"]
[null,null,null,null,null,null,"T600ee","T600ee","Comm","Y","T600ee",null,"Scrubber","WB",null,null,"T20_Standard_Config"]
[null,null,null,null,null,null,"T7AMR","T7AMR","Comm","Y","T7AMR",320040050,"Scrubber","Rider",null,null,"M30_Built_to_Order"]
[null,null,null,null,null,null,"T581_T390_T290","T581_T390_T290","Comm","Y","T581_T390_T290",320020500,"Scrubber","WB",null,null,"M30_Standard_Config"]
[null,null,null,null,null,null,"T681","T681","Comm","Y","T681",320020500,"Scrubber","WB",null,null,550]
[null,null,null,null,null,null,"T981","T981","Comm","Y","T981",320020500,"Scrubber","WB",null,null,1550]
[null,null,null,null,null,null,"T260","T260","Comm","Y","T260",320020500,"Scrubber","WB",null,null,"510E"]
[null,null,null,null,null,null,"T391_T291","T391_T291","Comm","Y","T391",320020500,"Scrubber","WB",null,null,7200]
[null,null,null,null,null,null,"T1581_Built_to_Order","T1581_Built_to_Order","Comm","Y","T1581",320020500,"Scrubber","WB",null,null,5100]
[null,null,null,null,null,null,"M_X4ROVR","M_X4ROVR","Comm","Y","M_X4ROVR",null,"Scrubber",null,null,null,5200]
[null,null,null,null,null,null,"M_X6ROVR","M_X6ROVR","Comm","Y","M_X6ROVR",null,"Scrubber",null,null,null,5280]
[null,null,null,null,null,null,null,null,null,null,null,null,null,null,null,null,5300]
[null,null,null,null,null,null,null,null,null,null,null,null,null,null,null,null,5400]
[null,null,null,null,null,null,null,null,null,null,null,null,null,null,null,null,5500]
[null,null,null,null,null,null,null,null,null,null,null,null,null,null,null,null,5520]
[null,null,null,null,null,null,null,null,null,null,null,null,null,null,null,null,5540]
[null,null,null,null,null,null,null,null,null,null,null,null,null,null,null,null,5560]
[null,null,null,null,null,null,null,null,null,null,null,null,null,null,null,null,5680]

{"sheet":"TennantTrue Rate","index":48,"n_rows":246,"n_cols":58,"rows_kept":246,"cut":false,"hidden":true,"merged":[[2,46,2,49],[2,50,2,53],[2,54,2,57],[2,34,2,37],[2,38,2,41],[2,42,2,45],[2,30,2,32],[3,30,3,32],[3,22,3,24],[3,26,3,28],[2,22,2,24],[2,26,2,29],[2,2,2,4],[2,18,2,20],[3,2,3,4],[3,18,3,20],[2,6,2,8],[3,6,3,8],[2,10,2,12],[2,14,2,16],[3,10,3,12],[3,14,3,16]]}
["TennantTrue Service Rates","2025-04-14"]
["2025 Service Pricing_v5.2"]
[null,null,"GOLD",null,null,null,"GOLD  36 PRE PAY",null,null,null,"GOLD w/AB Brushes",null,null,null,"GOLD w/AB Brushes PrePay",null,null,null,"SILVER",null,null,null,"SILVER  ANNUALLY",null,null,null,"SILVER  PRE PAY",null,null,null,"SILVER  PER VISIT",null,null,null,"Block of Time  Commercial; Weekly\nWeekly Visits",null,null,null,"Block of Time  Commercial; BiWeekly\nBiWeekly Visits",null,null,null,"Block of Time  Industrial; Weekly\nWeekly Visits",null,null,null,"Block of Time  Industrial; BiWeekly\nBiweekly visits",null,null,null,"AMR Core  Prepay",null,null,null,"AMR Core Monthly"]
[null,null,"Term",null,null,null,"Term",null,null,null,"Term",null,null,null,"Term",null,null,null,"Term",null,null,null,"Term",null,null,null,"Term",null,null,null,"Term",null,null,null,null,null,null,"Term",null,null,null,"Term",null,null,null,"Term ",null,null,null,"Term",null,null,null,"Term",null,null,null,"Term"]
["Model","Hours",36,48,60,null,36,48,60,null,36,48,60,null,36,48,60,null,36,48,60,null,36,48,60,null,36,48,60,12,36,48,60,null,36,48,60,12,36,48,60,12,36,48,60,12,36,48,60,12,36,48,60,12,36,48,60,12]
[5680,"30/mo or  <1/day",null,null,null,null,null,null,null,null,null,null,null,null,null,null,null,null,82.689143496632752,85.356535222330564,88.023926948028404,null,972.43261456265554,1003.5090230173876,1034.5854314721196,null,2857.7347274830631,3892.3201589551836,4964.4562506434368,972.43261456265554,481.46420648845827,493.46746925409866,509.47181960828556,null,null,null,null,2814.0982706112104,null,null,null,1459.0632739567129,null,null,null,3160.8591949519291,null,null,null,1632.443736127072,0,0,0,0,0,0,0,0]
[5680,"60/mo or <2/day",null,null,null,null,null,null,null,null,null,null,null,null,null,null,null,null,184.05002907315034,189.38481252454591,194.71959597594164,null,2164.9897890129964,2227.1426059224605,2289.2954228319236,null,6360.3049304018177,8635.356999358657,10981.625837690919,2164.9897890129964,481.46420648845827,493.46746925409866,509.47181960828556,null,null,null,null,2814.0982706112104,null,null,null,1459.0632739567129,null,null,null,3160.8591949519291,null,null,null,1632.443736127072,0,0,0,0,0,0,0,0]
[5680,"90/mo or <3/day",null,null,null,null,null,null,null,null,null,null,null,null,null,null,null,null,308.08374431809943,318.75331122089074,329.4228781236821,null,3622.9912856808387,3748.591769852047,3874.1922540232563,null,10647.554446802553,14534.695204348613,18579.807704872896,3622.9912856808387,481.46420648845827,493.46746925409866,509.47181960828556,null,null,null,null,2814.0982706112104,null,null,null,1459.0632739567129,null,null,null,3160.8591949519291,null,null,null,1632.443736127072,0,0,0,0,0,0,0,0]
["Specialty","30/mo or  <1/day",0,null,null,null,0,null,null,null,null,null,null,null,null,null,null,null,0,null,null,null,0,null,null,null,0,null,null,null,0,null,null,null,null,null,null,2814.0982706112104,null,null,null,1459.0632739567129,null,null,null,3160.8591949519291,null,null,null,1632.443736127072,0,0,0,0,0,0,0,0]
["Specialty","60/mo or <2/day",null,null,null,null,null,null,null,null,null,null,null,null,null,null,null,null,null,null,null,null,null,null,null,null,null,null,null,null,null,null,null,null,null,null,null,2814.0982706112104,null,null,null,1459.0632739567129,null,null,null,3160.8591949519291,null,null,null,1632.443736127072,0,0,0,0,0,0,0,0]
["Specialty","90/mo or <3/day",null,null,null,null,null,null,null,null,null,null,null,null,null,null,null,null,null,null,null,null,null,null,null,null,null,null,null,null,null,null,null,null,null,null,null,2814.0982706112104,null,null,null,1459.0632739567129,null,null,null,3160.8591949519291,null,null,null,1632.443736127072,0,0,0,0,0,0,0,0]
[5700,"30/mo or  <1/day",null,null,null,null,null,null,null,null,230.80974670856085,248.70229608904739,257.64077876063055,null,7976.5295973007514,11340.626240701349,14529.980943357301,null,82.689143496632752,85.356535222330564,88.023926948028404,null,972.43261456265554,1003.5090230173876,1034.5854314721196,null,2857.7347274830631,3892.3201589551836,4964.4562506434368,972.43261456265554,481.46420648845827,493.46746925409866,509.47181960828556,null,null,null,null,2814.0982706112104,null,null,null,1459.0632739567129,null,null,null,3160.8591949519291,null,null,null,1632.443736127072,0,0,0,0,0,0,0,0]
[5700,"60/mo or <2/day",null,null,null,null,null,null,null,null,407.92758070761255,445.49167525805552,456.25466859946238,null,14097.526068420901,20314.064895631651,25731.065058715798,null,184.05002907315034,189.38481252454591,194.71959597594164,null,2164.9897890129964,2227.1426059224605,2289.2954228319236,null,6360.3049304018177,8635.356999358657,10981.625837690919,2164.9897890129964,481.46420648845827,493.46746925409866,509.47181960828556,null,null,null,null,2814.0982706112104,null,null,null,1459.0632739567129,null,null,null,3160.8591949519291,null,null,null,1632.443736127072,0,0,0,0,0,0,0,0]
[5700,"90/mo or <3/day",null,null,null,null,null,null,null,null,694.21169522240746,null,null,null,23991.188468855402,null,null,null,308.08374431809943,318.75331122089074,329.4228781236821,null,3622.9912856808387,3748.591769852047,3874.1922540232563,null,10647.554446802553,14534.695204348613,18579.807704872896,3622.9912856808387,481.46420648845827,493.46746925409866,509.47181960828556,null,null,null,null,2814.0982706112104,null,null,null,1459.0632739567129,null,null,null,3160.8591949519291,null,null,null,1632.443736127072,0,0,0,0,0,0,0,0]
["T1_T1B","30/mo or  <1/day",0,null,null,null,0,null,null,null,null,null,null,null,null,null,null,null,0,null,null,null,0,null,null,null,0,null,null,null,0,null,null,null,null,null,null,2814.0982706112104,null,null,null,1459.0632739567129,null,null,null,3160.8591949519291,null,null,null,1632.443736127072,0,0,0,0,0,0,0,0]
["T1_T1B","60/mo or <2/day",null,null,null,null,null,null,null,null,null,null,null,null,null,null,null,null,null,null,null,null,null,null,null,null,null,null,null,null,null,null,null,null,null,null,null,2814.0982706112104,null,null,null,1459.0632739567129,null,null,null,3160.8591949519291,null,null,null,1632.443736127072,0,0,0,0,0,0,0,0]
["T1_T1B","90/mo or <3/day",null,null,null,null,null,null,null,null,null,null,null,null,null,null,null,null,null,null,null,null,null,null,null,null,null,null,null,null,null,null,null,null,null,null,null,2814.0982706112104,null,null,null,1459.0632739567129,null,null,null,3160.8591949519291,null,null,null,1632.443736127072,0,0,0,0,0,0,0,0]
["CS5_CS16","30/mo or  <1/day",0,null,null,null,0,null,null,null,null,null,null,null,null,null,null,null,0,null,null,null,0,null,null,null,0,null,null,null,0,null,null,null,null,null,null,2814.0982706112104,null,null,null,1459.0632739567129,null,null,null,3160.8591949519291,null,null,null,1632.443736127072,0,0,0,0,0,0,0,0]
["CS5_CS16","60/mo or <2/day",null,null,null,null,null,null,null,null,null,null,null,null,null,null,null,null,null,null,null,null,null,null,null,null,null,null,null,null,null,null,null,null,null,null,null,2814.0982706112104,null,null,null,1459.0632739567129,null,null,null,3160.8591949519291,null,null,null,1632.443736127072,0,0,0,0,0,0,0,0]
["CS5_CS16","90/mo or <3/day",null,null,null,null,null,null,null,null,null,null,null,null,null,null,null,null,null,null,null,null,null,null,null,null,null,null,null,null,null,null,null,null,null,null,null,2814.0982706112104,null,null,null,1459.0632739567129,null,null,null,3160.8591949519291,null,null,null,1632.443736127072,0,0,0,0,0,0,0,0]
["i_mop_Lite","30/mo or  <1/day",0,null,null,null,0,null,null,null,null,null,null,null,null,null,null,null,0,null,null,null,0,null,null,null,0,null,null,null,0,null,null,null,null,null,null,2814.0982706112104,null,null,null,1459.0632739567129,null,null,null,3160.8591949519291,null,null,null,1632.443736127072,0,0,0,0,0,0,0,0]
["i_mop_Lite","60/mo or <2/day",null,null,null,null,null,null,null,null,null,null,null,null,null,null,null,null,null,null,null,null,null,null,null,null,null,null,null,null,null,null,null,null,null,null,null,2814.0982706112104,null,null,null,1459.0632739567129,null,null,null,3160.8591949519291,null,null,null,1632.443736127072,0,0,0,0,0,0,0,0]
["i_mop_Lite","90/mo or <3/day",null,null,null,null,null,null,null,null,null,null,null,null,null,null,null,null,null,null,null,null,null,null,null,null,null,null,null,null,null,null,null,null,null,null,null,2814.0982706112104,null,null,null,1459.0632739567129,null,null,null,3160.8591949519291,null,null,null,1632.443736127072,0,0,0,0,0,0,0,0]
["i_mop_XL","30/mo or  <1/day",0,null,null,null,0,null,null,null,null,null,null,null,null,null,null,null,0,null,null,null,0,null,null,null,0,null,null,null,0,null,null,null,null,null,null,2814.0982706112104,null,null,null,1459.0632739567129,null,null,null,3160.8591949519291,null,null,null,1632.443736127072,0,0,0,0,0,0,0,0]
["i_mop_XL","60/mo or <2/day",null,null,null,null,null,null,null,null,null,null,null,null,null,null,null,null,null,null,null,null,null,null,null,null,null,null,null,null,null,null,null,null,null,null,null,2814.0982706112104,null,null,null,1459.0632739567129,null,null,null,3160.8591949519291,null,null,null,1632.443736127072,0,0,0,0,0,0,0,0]
["i_mop_XL","90/mo or <3/day",null,null,null,null,null,null,null,null,null,null,null,null,null,null,null,null,null,null,null,null,null,null,null,null,null,null,null,null,null,null,null,null,null,null,null,2814.0982706112104,null,null,null,1459.0632739567129,null,null,null,3160.8591949519291,null,null,null,1632.443736127072,0,0,0,0,0,0,0,0]
["i_mop_XXL","30/mo or  <1/day",0,null,null,null,0,null,null,null,null,null,null,null,null,null,null,null,0,null,null,null,0,null,null,null,0,null,null,null,0,null,null,null,null,null,null,2814.0982706112104,null,null,null,1459.0632739567129,null,null,null,3160.8591949519291,null,null,null,1632.443736127072,0,0,0,0,0,0,0,0]
["i_mop_XXL","60/mo or <2/day",null,null,null,null,null,null,null,null,null,null,null,null,null,null,null,null,null,null,null,null,null,null,null,null,null,null,null,null,null,null,null,null,null,null,null,2814.0982706112104,null,null,null,1459.0632739567129,null,null,null,3160.8591949519291,null,null,null,1632.443736127072,0,0,0,0,0,0,0,0]
["i_mop_XXL","90/mo or <3/day",null,null,null,null,null,null,null,null,null,null,null,null,null,null,null,null,null,null,null,null,null,null,null,null,null,null,null,null,null,null,null,null,null,null,null,2814.0982706112104,null,null,null,1459.0632739567129,null,null,null,3160.8591949519291,null,null,null,1632.443736127072,0,0,0,0,0,0,0,0]
["T2","30/mo or  <1/day",120.44303725012531,128.61059874242395,136.73373740419689,null,4162.3781712628506,5864.5406731927496,7711.2738455229,null,190.46805890717491,201.8345537820548,209.98236164778851,null,6582.3654801365992,9203.4945913063511,11842.223610177001,null,69.352184868143581,72.019576593841421,74.686968319539247,null,815.75572193671496,846.83213039144698,877.908538846179,null,2396.7680020712055,3283.7404933833482,4212.148195968467,815.75572193671496,425.44898024880393,440.11963474014198,453.45659336863116,null,null,null,null,2814.0982706112104,null,null,null,1459.0632739567129,null,null,null,3160.8591949519291,null,null,null,1632.443736127072,0,0,0,0,0,0,0,0]
["T2","60/mo or <2/day",252.30833777314081,276.71266443252074,296.24900066869526,null,8719.4971295316009,12617.876685280951,16707.3409532115,null,328.80840039380337,353.21736143364103,371.12487675945124,null,11363.25469345965,16106.429818852201,20930.06166516315,null,162.71089526756759,168.0456787189633,173.38046217035892,null,1913.7888206705793,1975.9416375800429,2039.3893048417876,null,5623.5350799542111,7662.9243847959997,9778.7098604223374,1913.7888206705793,425.44898024880393,440.11963474014198,453.45659336863116,null,null,null,null,2814.0982706112104,null,null,null,1459.0632739567129,null,null,null,3160.8591949519291,null,null,null,1632.443736127072,0,0,0,0,0,0,0,0]
["T2","90/mo or <3/day",421.60519532737914,null,null,null,14570.2093038165,null,null,null,553.43411921576762,null,null,null,19126.071125820901,null,null,null,274.7413477468765,282.74352292397003,290.74569810106345,null,3230.6516289398473,3325.1757046563243,3419.6997803728009,null,9495.1376332729069,12892.82495765694,16397.984861280253,3230.6516289398473,425.44898024880393,440.11963474014198,453.45659336863116,null,null,null,null,2814.0982706112104,null,null,null,1459.0632739567129,null,null,null,3160.8591949519291,null,null,null,1632.443736127072,0,0,0,0,0,0,0,0]
["T2_Std_Config","30/mo or  <1/day",120.44303725012531,128.61059874242395,136.73373740419689,null,4162.3781712628506,5864.5406731927496,7711.2738455229,null,190.46805890717491,201.8345537820548,209.98236164778851,null,6582.3654801365992,9203.4945913063511,11842.223610177001,null,69.352184868143581,72.019576593841421,74.686968319539247,null,815.75572193671496,846.83213039144698,877.908538846179,null,2396.7680020712055,3283.7404933833482,4212.148195968467,815.75572193671496,425.44898024880393,440.11963474014198,453.45659336863116,null,null,null,null,2814.0982706112104,null,null,null,1459.0632739567129,null,null,null,3160.8591949519291,null,null,null,1632.443736127072,0,0,0,0,0,0,0,0]
["T2_Std_Config","60/mo or <2/day",252.30833777314081,276.71266443252074,296.24900066869526,null,8719.4971295316009,12617.876685280951,16707.3409532115,null,328.80840039380337,353.21736143364103,371.12487675945124,null,11363.25469345965,16106.429818852201,20930.06166516315,null,162.71089526756759,168.0456787189633,173.38046217035892,null,1913.7888206705793,1975.9416375800429,2039.3893048417876,null,5623.5350799542111,7662.9243847959997,9778.7098604223374,1913.7888206705793,425.44898024880393,440.11963474014198,453.45659336863116,null,null,null,null,2814.0982706112104,null,null,null,1459.0632739567129,null,null,null,3160.8591949519291,null,null,null,1632.443736127072,0,0,0,0,0,0,0,0]
["T2_Std_Config","90/mo or <3/day",421.60519532737914,null,null,null,14570.2093038165,null,null,null,553.43411921576762,null,null,null,19126.071125820901,null,null,null,274.7413477468765,282.74352292397003,290.74569810106345,null,3230.6516289398473,3325.1757046563243,3419.6997803728009,null,9495.1376332729069,12892.82495765694,16397.984861280253,3230.6516289398473,425.44898024880393,440.11963474014198,453.45659336863116,null,null,null,null,2814.0982706112104,null,null,null,1459.0632739567129,null,null,null,3160.8591949519291,null,null,null,1632.443736127072,0,0,0,0,0,0,0,0]
["T3","30/mo or  <1/day",null,null,null,null,null,null,null,null,null,null,null,null,null,null,null,null,69.352184868143581,72.019576593841421,74.686968319539247,null,815.75572193671496,846.83213039144698,877.908538846179,null,2396.7680020712055,3283.7404933833482,4212.148195968467,815.75572193671496,425.44898024880393,440.11963474014198,453.45659336863116,null,null,null,null,2814.0982706112104,null,null,null,1459.0632739567129,null,null,null,3160.8591949519291,null,null,null,1632.443736127072,0,0,0,0,0,0,0,0]
["T3","60/mo or <2/day",null,null,null,null,null,null,null,null,null,null,null,null,null,null,null,null,162.71089526756759,168.0456787189633,173.38046217035892,null,1913.7888206705793,1975.9416375800429,2039.3893048417876,null,5623.5350799542111,7662.9243847959997,9778.7098604223374,1913.7888206705793,425.44898024880393,440.11963474014198,453.45659336863116,null,null,null,null,2814.0982706112104,null,null,null,1459.0632739567129,null,null,null,3160.8591949519291,null,null,null,1632.443736127072,0,0,0,0,0,0,0,0]
["T3","90/mo or <3/day",null,null,null,null,null,null,null,null,null,null,null,null,null,null,null,null,274.7413477468765,282.74352292397003,290.74569810106345,null,3230.6516289398473,3325.1757046563243,3419.6997803728009,null,9495.1376332729069,12892.82495765694,16397.984861280253,3230.6516289398473,425.44898024880393,440.11963474014198,453.45659336863116,null,null,null,null,2814.0982706112104,null,null,null,1459.0632739567129,null,null,null,3160.8591949519291,null,null,null,1632.443736127072,0,0,0,0,0,0,0,0]
["T3_plus_Orbital","30/mo or  <1/day",null,null,null,null,null,null,null,null,null,null,null,null,null,null,null,null,69.352184868143581,72.019576593841421,74.686968319539247,null,815.75572193671496,846.83213039144698,877.908538846179,null,2396.7680020712055,3283.7404933833482,4212.148195968467,815.75572193671496,425.44898024880393,440.11963474014198,453.45659336863116,null,null,null,null,2814.0982706112104,null,null,null,1459.0632739567129,null,null,null,3160.8591949519291,null,null,null,1632.443736127072,0,0,0,0,0,0,0,0]
["T3_plus_Orbital","60/mo or <2/day",null,null,null,null,null,null,null,null,null,null,null,null,null,null,null,null,162.71089526756759,168.0456787189633,173.38046217035892,null,1913.7888206705793,1975.9416375800429,2039.3893048417876,null,5623.5350799542111,7662.9243847959997,9778.7098604223374,1913.7888206705793,425.44898024880393,440.11963474014198,453.45659336863116,null,null,null,null,2814.0982706112104,null,null,null,1459.0632739567129,null,null,null,3160.8591949519291,null,null,null,1632.443736127072,0,0,0,0,0,0,0,0]
["T3_plus_Orbital","90/mo or <3/day",null,null,null,null,null,null,null,null,null,null,null,null,null,null,null,null,274.7413477468765,282.74352292397003,290.74569810106345,null,3230.6516289398473,3325.1757046563243,3419.6997803728009,null,9495.1376332729069,12892.82495765694,16397.984861280253,3230.6516289398473,425.44898024880393,440.11963474014198,453.45659336863116,null,null,null,null,2814.0982706112104,null,null,null,1459.0632739567129,null,null,null,3160.8591949519291,null,null,null,1632.443736127072,0,0,0,0,0,0,0,0]
["T300","30/mo or  <1/day",120.44303725012531,128.61059874242395,136.73373740419689,null,4162.3781712628506,5864.5406731927496,7711.2738455229,null,190.46805890717491,201.8345537820548,209.98236164778851,null,6582.3654801365992,9203.4945913063511,11842.223610177001,null,69.352184868143581,72.019576593841421,74.686968319539247,null,815.75572193671496,846.83213039144698,877.908538846179,null,2396.7680020712055,3283.7404933833482,4212.148195968467,815.75572193671496,425.44898024880393,440.11963474014198,453.45659336863116,null,null,null,null,2814.0982706112104,null,null,null,1459.0632739567129,null,null,null,3160.8591949519291,null,null,null,1632.443736127072,0,0,0,0,0,0,0,0]
["T300","60/mo or <2/day",252.30833777314081,276.71266443252074,296.24900066869526,null,8719.4971295316009,12617.876685280951,16707.3409532115,null,328.80840039380337,353.21736143364103,371.12487675945124,null,11363.25469345965,16106.429818852201,20930.06166516315,null,162.71089526756759,168.0456787189633,173.38046217035892,null,1913.7888206705793,1975.9416375800429,2039.3893048417876,null,5623.5350799542111,7662.9243847959997,9778.7098604223374,1913.7888206705793,425.44898024880393,440.11963474014198,453.45659336863116,null,null,null,null,2814.0982706112104,null,null,null,1459.0632739567129,null,null,null,3160.8591949519291,null,null,null,1632.443736127072,0,0,0,0,0,0,0,0]
["T300","90/mo or <3/day",421.60519532737914,null,null,null,14570.2093038165,null,null,null,553.43411921576762,null,null,null,19126.071125820901,null,null,null,274.7413477468765,282.74352292397003,290.74569810106345,null,3230.6516289398473,3325.1757046563243,3419.6997803728009,null,9495.1376332729069,12892.82495765694,16397.984861280253,3230.6516289398473,425.44898024880393,440.11963474014198,453.45659336863116,null,null,null,null,2814.0982706112104,null,null,null,1459.0632739567129,null,null,null,3160.8591949519291,null,null,null,1632.443736127072,0,0,0,0,0,0,0,0]
["T300e","30/mo or  <1/day",120.44303725012531,128.61059874242395,136.73373740419689,null,4162.3781712628506,5864.5406731927496,7711.2738455229,null,190.46805890717491,201.8345537820548,209.98236164778851,null,6582.3654801365992,9203.4945913063511,11842.223610177001,null,69.352184868143581,72.019576593841421,74.686968319539247,null,815.75572193671496,846.83213039144698,877.908538846179,null,2396.7680020712055,3283.7404933833482,4212.148195968467,815.75572193671496,425.44898024880393,440.11963474014198,453.45659336863116,null,null,null,null,2814.0982706112104,null,null,null,1459.0632739567129,null,null,null,3160.8591949519291,null,null,null,1632.443736127072,0,0,0,0,0,0,0,0]
["T300e","60/mo or <2/day",252.30833777314081,276.71266443252074,296.24900066869526,null,8719.4971295316009,12617.876685280951,16707.3409532115,null,328.80840039380337,353.21736143364103,371.12487675945124,null,11363.25469345965,16106.429818852201,20930.06166516315,null,162.71089526756759,168.0456787189633,173.38046217035892,null,1913.7888206705793,1975.9416375800429,2039.3893048417876,null,5623.5350799542111,7662.9243847959997,9778.7098604223374,1913.7888206705793,425.44898024880393,440.11963474014198,453.45659336863116,null,null,null,null,2814.0982706112104,null,null,null,1459.0632739567129,null,null,null,3160.8591949519291,null,null,null,1632.443736127072,0,0,0,0,0,0,0,0]
["T300e","90/mo or <3/day",421.60519532737914,null,null,null,14570.2093038165,null,null,null,553.43411921576762,null,null,null,19126.071125820901,null,null,null,274.7413477468765,282.74352292397003,290.74569810106345,null,3230.6516289398473,3325.1757046563243,3419.6997803728009,null,9495.1376332729069,12892.82495765694,16397.984861280253,3230.6516289398473,425.44898024880393,440.11963474014198,453.45659336863116,null,null,null,null,2814.0982706112104,null,null,null,1459.0632739567129,null,null,null,3160.8591949519291,null,null,null,1632.443736127072,0,0,0,0,0,0,0,0]
["T300_Series_Std_Config","30/mo or  <1/day",120.44303725012531,128.61059874242395,136.73373740419689,null,4162.3781712628506,5864.5406731927496,7711.2738455229,null,190.46805890717491,201.8345537820548,209.98236164778851,null,6582.3654801365992,9203.4945913063511,11842.223610177001,null,69.352184868143581,72.019576593841421,74.686968319539247,null,815.75572193671496,846.83213039144698,877.908538846179,null,2396.7680020712055,3283.7404933833482,4212.148195968467,815.75572193671496,425.44898024880393,440.11963474014198,453.45659336863116,null,null,null,null,2814.0982706112104,null,null,null,1459.0632739567129,null,null,null,3160.8591949519291,null,null,null,1632.443736127072,0,0,0,0,0,0,0,0]
["T300_Series_Std_Config","60/mo or <2/day",252.30833777314081,276.71266443252074,296.24900066869526,null,8719.4971295316009,12617.876685280951,16707.3409532115,null,328.80840039380337,353.21736143364103,371.12487675945124,null,11363.25469345965,16106.429818852201,20930.06166516315,null,162.71089526756759,168.0456787189633,173.38046217035892,null,1913.7888206705793,1975.9416375800429,2039.3893048417876,null,5623.5350799542111,7662.9243847959997,9778.7098604223374,1913.7888206705793,425.44898024880393,440.11963474014198,453.45659336863116,null,null,null,null,2814.0982706112104,null,null,null,1459.0632739567129,null,null,null,3160.8591949519291,null,null,null,1632.443736127072,0,0,0,0,0,0,0,0]
["T300_Series_Std_Config","90/mo or <3/day",421.60519532737914,null,null,null,14570.2093038165,null,null,null,553.43411921576762,null,null,null,19126.071125820901,null,null,null,274.7413477468765,282.74352292397003,290.74569810106345,null,3230.6516289398473,3325.1757046563243,3419.6997803728009,null,9495.1376332729069,12892.82495765694,16397.984861280253,3230.6516289398473,425.44898024880393,440.11963474014198,453.45659336863116,null,null,null,null,2814.0982706112104,null,null,null,1459.0632739567129,null,null,null,3160.8591949519291,null,null,null,1632.443736127072,0,0,0,0,0,0,0,0]
["T300_T300e_Quick_Ship","30/mo or  <1/day",120.44303725012531,128.61059874242395,136.73373740419689,null,4162.3781712628506,5864.5406731927496,7711.2738455229,null,190.46805890717491,201.8345537820548,209.98236164778851,null,6582.3654801365992,9203.4945913063511,11842.223610177001,null,69.352184868143581,72.019576593841421,74.686968319539247,null,815.75572193671496,846.83213039144698,877.908538846179,null,2396.7680020712055,3283.7404933833482,4212.148195968467,815.75572193671496,425.44898024880393,440.11963474014198,453.45659336863116,null,null,null,null,2814.0982706112104,null,null,null,1459.0632739567129,null,null,null,3160.8591949519291,null,null,null,1632.443736127072,0,0,0,0,0,0,0,0]
["T300_T300e_Quick_Ship","60/mo or <2/day",252.30833777314081,276.71266443252074,296.24900066869526,null,8719.4971295316009,12617.876685280951,16707.3409532115,null,328.80840039380337,353.21736143364103,371.12487675945124,null,11363.25469345965,16106.429818852201,20930.06166516315,null,162.71089526756759,168.0456787189633,173.38046217035892,null,1913.7888206705793,1975.9416375800429,2039.3893048417876,null,5623.5350799542111,7662.9243847959997,9778.7098604223374,1913.7888206705793,425.44898024880393,440.11963474014198,453.45659336863116,null,null,null,null,2814.0982706112104,null,null,null,1459.0632739567129,null,null,null,3160.8591949519291,null,null,null,1632.443736127072,0,0,0,0,0,0,0,0]
["T300_T300e_Quick_Ship","90/mo or <3/day",421.60519532737914,null,null,null,14570.2093038165,null,null,null,553.43411921576762,null,null,null,19126.071125820901,null,null,null,274.7413477468765,282.74352292397003,290.74569810106345,null,3230.6516289398473,3325.1757046563243,3419.6997803728009,null,9495.1376332729069,12892.82495765694,16397.984861280253,3230.6516289398473,425.44898024880393,440.11963474014198,453.45659336863116,null,null,null,null,2814.0982706112104,null,null,null,1459.0632739567129,null,null,null,3160.8591949519291,null,null,null,1632.443736127072,0,0,0,0,0,0,0,0]
["T581_T390_T290","30/mo or  <1/day",128.591403406582,148.12963495027734,156.2607595701696,null,4443.97669447725,6754.593148352551,8812.5252130935005,null,201.81756891081099,218.10041728859932,226.25488011943247,null,6974.5919946138001,9945.2049872728494,12759.933083152502,null,69.352184868143581,72.019576593841421,74.686968319539247,null,815.75572193671496,846.83213039144698,877.908538846179,null,2396.7680020712055,3283.7404933833482,4212.148195968467,815.75572193671496,425.44898024880393,440.11963474014198,453.45659336863116,null,null,null,null,2814.0982706112104,null,null,null,1459.0632739567129,null,null,null,3160.8591949519291,null,null,null,1632.443736127072,0,0,0,0,0,0,0,0]
["T581_T390_T290","60/mo or <2/day",268.60507008605418,296.23170064037413,312.54381026153328,null,9282.6941759604015,13507.92916044075,17626.307562451351,null,345.10513270671669,371.13738055102067,389.02464707825959,null,11926.451739888451,16923.568390679698,21939.542085436206,null,162.71089526756759,168.0456787189633,173.38046217035892,null,1913.7888206705793,1975.9416375800429,2039.3893048417876,null,5623.5350799542111,7662.9243847959997,9778.7098604223374,1913.7888206705793,425.44898024880393,440.11963474014198,453.45659336863116,null,null,null,null,2814.0982706112104,null,null,null,1459.0632739567129,null,null,null,3160.8591949519291,null,null,null,1632.443736127072,0,0,0,0,0,0,0,0]
["T581_T390_T290","90/mo or <3/day",472.05958755508192,null,null,null,16313.857302469951,null,null,null,603.8521348088434,null,null,null,20868.461988210005,null,null,null,274.7413477468765,282.74352292397003,290.74569810106345,null,3230.6516289398473,3325.1757046563243,3419.6997803728009,null,9495.1376332729069,12892.82495765694,16397.984861280253,3230.6516289398473,425.44898024880393,440.11963474014198,453.45659336863116,null,null,null,null,2814.0982706112104,null,null,null,1459.0632739567129,null,null,null,3160.8591949519291,null,null,null,1632.443736127072,0,0,0,0,0,0,0,0]
["T350","30/mo or  <1/day",128.591403406582,148.12963495027734,156.2607595701696,null,4443.97669447725,6754.593148352551,8812.5252130935005,null,201.81756891081099,218.10041728859932,226.25488011943247,null,6974.5919946138001,9945.2049872728494,12759.933083152502,null,69.352184868143581,72.019576593841421,74.686968319539247,null,815.75572193671496,846.83213039144698,877.908538846179,null,2396.7680020712055,3283.7404933833482,4212.148195968467,815.75572193671496,425.44898024880393,440.11963474014198,453.45659336863116,null,null,null,null,2814.0982706112104,null,null,null,1459.0632739567129,null,null,null,3160.8591949519291,null,null,null,1632.443736127072,0,0,0,0,0,0,0,0]
["T350","60/mo or <2/day",268.60507008605418,296.23170064037413,312.54381026153328,null,9282.6941759604015,13507.92916044075,17626.307562451351,null,345.10513270671669,371.13738055102067,389.02464707825959,null,11926.451739888451,16923.568390679698,21939.542085436206,null,162.71089526756759,168.0456787189633,173.38046217035892,null,1913.7888206705793,1975.9416375800429,2039.3893048417876,null,5623.5350799542111,7662.9243847959997,9778.7098604223374,1913.7888206705793,425.44898024880393,440.11963474014198,453.45659336863116,null,null,null,null,2814.0982706112104,null,null,null,1459.0632739567129,null,null,null,3160.8591949519291,null,null,null,1632.443736127072,0,0,0,0,0,0,0,0]
["T350","90/mo or <3/day",472.05958755508192,null,null,null,16313.857302469951,null,null,null,603.8521348088434,null,null,null,20868.461988210005,null,null,null,274.7413477468765,282.74352292397003,290.74569810106345,null,3230.6516289398473,3325.1757046563243,3419.6997803728009,null,9495.1376332729069,12892.82495765694,16397.984861280253,3230.6516289398473,425.44898024880393,440.11963474014198,453.45659336863116,null,null,null,null,2814.0982706112104,null,null,null,1459.0632739567129,null,null,null,3160.8591949519291,null,null,null,1632.443736127072,0,0,0,0,0,0,0,0]
["T350_Std_Config","30/mo or  <1/day",128.591403406582,148.12963495027734,156.2607595701696,null,4443.97669447725,6754.593148352551,8812.5252130935005,null,201.81756891081099,218.10041728859932,226.25488011943247,null,6974.5919946138001,9945.2049872728494,12759.933083152502,null,69.352184868143581,72.019576593841421,74.686968319539247,null,815.75572193671496,846.83213039144698,877.908538846179,null,2396.7680020712055,3283.7404933833482,4212.148195968467,815.75572193671496,425.44898024880393,440.11963474014198,453.45659336863116,null,null,null,null,2814.0982706112104,null,null,null,1459.0632739567129,null,null,null,3160.8591949519291,null,null,null,1632.443736127072,0,0,0,0,0,0,0,0]
["T350_Std_Config","60/mo or <2/day",268.60507008605418,296.23170064037413,312.54381026153328,null,9282.6941759604015,13507.92916044075,17626.307562451351,null,345.10513270671669,371.13738055102067,389.02464707825959,null,11926.451739888451,16923.568390679698,21939.542085436206,null,162.71089526756759,168.0456787189633,173.38046217035892,null,1913.7888206705793,1975.9416375800429,2039.3893048417876,null,5623.5350799542111,7662.9243847959997,9778.7098604223374,1913.7888206705793,425.44898024880393,440.11963474014198,453.45659336863116,null,null,null,null,2814.0982706112104,null,null,null,1459.0632739567129,null,null,null,3160.8591949519291,null,null,null,1632.443736127072,0,0,0,0,0,0,0,0]
["T350_Std_Config","90/mo or <3/day",472.05958755508192,null,null,null,16313.857302469951,null,null,null,603.8521348088434,null,null,null,20868.461988210005,null,null,null,274.7413477468765,282.74352292397003,290.74569810106345,null,3230.6516289398473,3325.1757046563243,3419.6997803728009,null,9495.1376332729069,12892.82495765694,16397.984861280253,3230.6516289398473,425.44898024880393,440.11963474014198,453.45659336863116,null,null,null,null,2814.0982706112104,null,null,null,1459.0632739567129,null,null,null,3160.8591949519291,null,null,null,1632.443736127072,0,0,0,0,0,0,0,0]
["T5","30/mo or  <1/day",null,null,null,null,null,null,null,null,null,null,null,null,null,null,null,null,69.352184868143581,72.019576593841421,74.686968319539247,null,815.75572193671496,846.83213039144698,877.908538846179,null,2396.7680020712055,3283.7404933833482,4212.148195968467,815.75572193671496,425.44898024880393,440.11963474014198,453.45659336863116,null,null,null,null,2814.0982706112104,null,null,null,1459.0632739567129,null,null,null,3160.8591949519291,null,null,null,1632.443736127072,0,0,0,0,0,0,0,0]
["T5","60/mo or <2/day",null,null,null,null,null,null,null,null,null,null,null,null,null,null,null,null,162.71089526756759,168.0456787189633,173.38046217035892,null,1913.7888206705793,1975.9416375800429,2039.3893048417876,null,5623.5350799542111,7662.9243847959997,9778.7098604223374,1913.7888206705793,425.44898024880393,440.11963474014198,453.45659336863116,null,null,null,null,2814.0982706112104,null,null,null,1459.0632739567129,null,null,null,3160.8591949519291,null,null,null,1632.443736127072,0,0,0,0,0,0,0,0]
["T5","90/mo or <3/day",null,null,null,null,null,null,null,null,null,null,null,null,null,null,null,null,274.7413477468765,282.74352292397003,290.74569810106345,null,3230.6516289398473,3325.1757046563243,3419.6997803728009,null,9495.1376332729069,12892.82495765694,16397.984861280253,3230.6516289398473,425.44898024880393,440.11963474014198,453.45659336863116,null,null,null,null,2814.0982706112104,null,null,null,1459.0632739567129,null,null,null,3160.8591949519291,null,null,null,1632.443736127072,0,0,0,0,0,0,0,0]
["T5e","30/mo or  <1/day",null,null,null,null,null,null,null,null,null,null,null,null,null,null,null,null,69.352184868143581,72.019576593841421,74.686968319539247,null,815.75572193671496,846.83213039144698,877.908538846179,null,2396.7680020712055,3283.7404933833482,4212.148195968467,815.75572193671496,425.44898024880393,440.11963474014198,453.45659336863116,null,null,null,null,2814.0982706112104,null,null,null,1459.0632739567129,null,null,null,3160.8591949519291,null,null,null,1632.443736127072,0,0,0,0,0,0,0,0]
["T5e","60/mo or <2/day",null,null,null,null,null,null,null,null,null,null,null,null,null,null,null,null,162.71089526756759,168.0456787189633,173.38046217035892,null,1913.7888206705793,1975.9416375800429,2039.3893048417876,null,5623.5350799542111,7662.9243847959997,9778.7098604223374,1913.7888206705793,425.44898024880393,440.11963474014198,453.45659336863116,null,null,null,null,2814.0982706112104,null,null,null,1459.0632739567129,null,null,null,3160.8591949519291,null,null,null,1632.443736127072,0,0,0,0,0,0,0,0]
["T5e","90/mo or <3/day",null,null,null,null,null,null,null,null,null,null,null,null,null,null,null,null,274.7413477468765,282.74352292397003,290.74569810106345,null,3230.6516289398473,3325.1757046563243,3419.6997803728009,null,9495.1376332729069,12892.82495765694,16397.984861280253,3230.6516289398473,425.44898024880393,440.11963474014198,453.45659336863116,null,null,null,null,2814.0982706112104,null,null,null,1459.0632739567129,null,null,null,3160.8591949519291,null,null,null,1632.443736127072,0,0,0,0,0,0,0,0]
["T500","30/mo or  <1/day",128.591403406582,148.12963495027734,156.2607595701696,null,4443.97669447725,6754.593148352551,8812.5252130935005,null,201.81756891081099,218.10041728859932,226.25488011943247,null,6974.5919946138001,9945.2049872728494,12759.933083152502,null,69.352184868143581,72.019576593841421,74.686968319539247,null,815.75572193671496,846.83213039144698,877.908538846179,null,2396.7680020712055,3283.7404933833482,4212.148195968467,815.75572193671496,425.44898024880393,440.11963474014198,453.45659336863116,null,null,null,null,2814.0982706112104,null,null,null,1459.0632739567129,null,null,null,3160.8591949519291,null,null,null,1632.443736127072,0,0,0,0,0,0,0,0]
["T500","60/mo or <2/day",268.60507008605418,296.23170064037413,312.54381026153328,null,9282.6941759604015,13507.92916044075,17626.307562451351,null,345.10513270671669,371.13738055102067,389.02464707825959,null,11926.451739888451,16923.568390679698,21939.542085436206,null,162.71089526756759,168.0456787189633,173.38046217035892,null,1913.7888206705793,1975.9416375800429,2039.3893048417876,null,5623.5350799542111,7662.9243847959997,9778.7098604223374,1913.7888206705793,425.44898024880393,440.11963474014198,453.45659336863116,null,null,null,null,2814.0982706112104,null,null,null,1459.0632739567129,null,null,null,3160.8591949519291,null,null,null,1632.443736127072,0,0,0,0,0,0,0,0]
["T500","90/mo or <3/day",472.05958755508192,null,null,null,16313.857302469951,null,null,null,603.8521348088434,null,null,null,20868.461988210005,null,null,null,274.7413477468765,282.74352292397003,290.74569810106345,null,3230.6516289398473,3325.1757046563243,3419.6997803728009,null,9495.1376332729069,12892.82495765694,16397.984861280253,3230.6516289398473,425.44898024880393,440.11963474014198,453.45659336863116,null,null,null,null,2814.0982706112104,null,null,null,1459.0632739567129,null,null,null,3160.8591949519291,null,null,null,1632.443736127072,0,0,0,0,0,0,0,0]
["T500e","30/mo or  <1/day",128.591403406582,148.12963495027734,156.2607595701696,null,4443.97669447725,6754.593148352551,8812.5252130935005,null,201.81756891081099,218.10041728859932,226.25488011943247,null,6974.5919946138001,9945.2049872728494,12759.933083152502,null,69.352184868143581,72.019576593841421,74.686968319539247,null,815.75572193671496,846.83213039144698,877.908538846179,null,2396.7680020712055,3283.7404933833482,4212.148195968467,815.75572193671496,425.44898024880393,440.11963474014198,453.45659336863116,null,null,null,null,2814.0982706112104,null,null,null,1459.0632739567129,null,null,null,3160.8591949519291,null,null,null,1632.443736127072,0,0,0,0,0,0,0,0]
["T500e","60/mo or <2/day",268.60507008605418,296.23170064037413,312.54381026153328,null,9282.6941759604015,13507.92916044075,17626.307562451351,null,345.10513270671669,371.13738055102067,389.02464707825959,null,11926.451739888451,16923.568390679698,21939.542085436206,null,162.71089526756759,168.0456787189633,173.38046217035892,null,1913.7888206705793,1975.9416375800429,2039.3893048417876,null,5623.5350799542111,7662.9243847959997,9778.7098604223374,1913.7888206705793,425.44898024880393,440.11963474014198,453.45659336863116,null,null,null,null,2814.0982706112104,null,null,null,1459.0632739567129,null,null,null,3160.8591949519291,null,null,null,1632.443736127072,0,0,0,0,0,0,0,0]
["T500e","90/mo or <3/day",472.05958755508192,null,null,null,16313.857302469951,null,null,null,603.8521348088434,null,null,null,20868.461988210005,null,null,null,274.7413477468765,282.74352292397003,290.74569810106345,null,3230.6516289398473,3325.1757046563243,3419.6997803728009,null,9495.1376332729069,12892.82495765694,16397.984861280253,3230.6516289398473,425.44898024880393,440.11963474014198,453.45659336863116,null,null,null,null,2814.0982706112104,null,null,null,1459.0632739567129,null,null,null,3160.8591949519291,null,null,null,1632.443736127072,0,0,0,0,0,0,0,0]
["T500_Series_Std_Config","30/mo or  <1/day",128.591403406582,148.12963495027734,156.2607595701696,null,4443.97669447725,6754.593148352551,8812.5252130935005,null,201.81756891081099,218.10041728859932,226.25488011943247,null,6974.5919946138001,9945.2049872728494,12759.933083152502,null,69.352184868143581,72.019576593841421,74.686968319539247,null,815.75572193671496,846.83213039144698,877.908538846179,null,2396.7680020712055,3283.7404933833482,4212.148195968467,815.75572193671496,425.44898024880393,440.11963474014198,453.45659336863116,null,null,null,null,2814.0982706112104,null,null,null,1459.0632739567129,null,null,null,3160.8591949519291,null,null,null,1632.443736127072,0,0,0,0,0,0,0,0]
["T500_Series_Std_Config","60/mo or <2/day",268.60507008605418,296.23170064037413,312.54381026153328,null,9282.6941759604015,13507.92916044075,17626.307562451351,null,345.10513270671669,371.13738055102067,389.02464707825959,null,11926.451739888451,16923.568390679698,21939.542085436206,null,162.71089526756759,168.0456787189633,173.38046217035892,null,1913.7888206705793,1975.9416375800429,2039.3893048417876,null,5623.5350799542111,7662.9243847959997,9778.7098604223374,1913.7888206705793,425.44898024880393,440.11963474014198,453.45659336863116,null,null,null,null,2814.0982706112104,null,null,null,1459.0632739567129,null,null,null,3160.8591949519291,null,null,null,1632.443736127072,0,0,0,0,0,0,0,0]
["T500_Series_Std_Config","90/mo or <3/day",472.05958755508192,null,null,null,16313.857302469951,null,null,null,603.8521348088434,null,null,null,20868.461988210005,null,null,null,274.7413477468765,282.74352292397003,290.74569810106345,null,3230.6516289398473,3325.1757046563243,3419.6997803728009,null,9495.1376332729069,12892.82495765694,16397.984861280253,3230.6516289398473,425.44898024880393,440.11963474014198,453.45659336863116,null,null,null,null,2814.0982706112104,null,null,null,1459.0632739567129,null,null,null,3160.8591949519291,null,null,null,1632.443736127072,0,0,0,0,0,0,0,0]
["T500_T500e_Quick_Ship","30/mo or  <1/day",128.591403406582,148.12963495027734,156.2607595701696,null,4443.97669447725,6754.593148352551,8812.5252130935005,null,201.81756891081099,218.10041728859932,226.25488011943247,null,6974.5919946138001,9945.2049872728494,12759.933083152502,null,69.352184868143581,72.019576593841421,74.686968319539247,null,815.75572193671496,846.83213039144698,877.908538846179,null,2396.7680020712055,3283.7404933833482,4212.148195968467,815.75572193671496,425.44898024880393,440.11963474014198,453.45659336863116,null,null,null,null,2814.0982706112104,null,null,null,1459.0632739567129,null,null,null,3160.8591949519291,null,null,null,1632.443736127072,0,0,0,0,0,0,0,0]
["T500_T500e_Quick_Ship","60/mo or <2/day",268.60507008605418,296.23170064037413,312.54381026153328,null,9282.6941759604015,13507.92916044075,17626.307562451351,null,345.10513270671669,371.13738055102067,389.02464707825959,null,11926.451739888451,16923.568390679698,21939.542085436206,null,162.71089526756759,168.0456787189633,173.38046217035892,null,1913.7888206705793,1975.9416375800429,2039.3893048417876,null,5623.5350799542111,7662.9243847959997,9778.7098604223374,1913.7888206705793,425.44898024880393,440.11963474014198,453.45659336863116,null,null,null,null,2814.0982706112104,null,null,null,1459.0632739567129,null,null,null,3160.8591949519291,null,null,null,1632.443736127072,0,0,0,0,0,0,0,0]
["T500_T500e_Quick_Ship","90/mo or <3/day",472.05958755508192,null,null,null,16313.857302469951,null,null,null,603.8521348088434,null,null,null,20868.461988210005,null,null,null,274.7413477468765,282.74352292397003,290.74569810106345,null,3230.6516289398473,3325.1757046563243,3419.6997803728009,null,9495.1376332729069,12892.82495765694,16397.984861280253,3230.6516289398473,425.44898024880393,440.11963474014198,453.45659336863116,null,null,null,null,2814.0982706112104,null,null,null,1459.0632739567129,null,null,null,3160.8591949519291,null,null,null,1632.443736127072,0,0,0,0,0,0,0,0]
["T7","30/mo or  <1/day",172.57075467067185,188.82186297681923,198.59159871763782,null,5963.8544380764006,8610.1262745331514,11199.82697909415,null,278.31763153147352,296.23170064037413,304.38525990451723,null,9618.3495585418514,13507.92916044075,17166.195689699252,null,88.023926948028404,90.691318673726244,93.358710399424069,null,1034.5854314721196,1066.9566902791321,1098.0330987338641,null,3041.6034775068952,4135.7520251839169,5264.8615323725135,1034.5854314721196,501.46964443119214,516.14029892253018,529.47725755101931,null,null,null,null,2814.0982706112104,null,null,null,1459.0632739567129,null,null,null,3160.8591949519291,null,null,null,1632.443736127072,0,0,0,0,0,0,0,0]
["T7","60/mo or <2/day",353.21712222854637,387.37567479738453,405.3194566710975,null,12206.7931268385,17664.021650381848,22858.508694676053,null,467.14874188043177,501.3194271237378,517.64441636782863,null,16144.1439067827,22859.765830940403,29193.218330735697,null,210.7239463301286,217.39242564437319,224.06090495861773,null,2478.3435742648771,2556.0345954017066,2635.0204668908182,null,7282.238381225533,9913.3742970595085,12636.4445879054,2478.3435742648771,501.46964443119214,516.14029892253018,529.47725755101931,null,null,null,null,2814.0982706112104,null,null,null,1459.0632739567129,null,null,null,3160.8591949519291,null,null,null,1632.443736127072,0,0,0,0,0,0,0,0]
["T7","90/mo or <3/day",605.48908336705995,null,null,null,20925.033120105752,null,null,null,828.47785363080777,null,null,null,28631.278420571249,null,null,null,330.75657398653101,340.0924450264734,349.42831606641579,null,3889.7304582506222,3999.7927381944646,4109.8550181383071,null,11430.938909932252,15508.422669263548,19707.622361709211,3889.7304582506222,501.46964443119214,516.14029892253018,529.47725755101931,null,null,null,null,2814.0982706112104,null,null,null,1459.0632739567129,null,null,null,3160.8591949519291,null,null,null,1632.443736127072,0,0,0,0,0,0,0,0]
["T7_Std_Config","30/mo or  <1/day",172.57075467067185,188.82186297681923,198.59159871763782,null,5963.8544380764006,8610.1262745331514,11199.82697909415,null,278.31763153147352,296.23170064037413,304.38525990451723,null,9618.3495585418514,13507.92916044075,17166.195689699252,null,88.023926948028404,90.691318673726244,93.358710399424069,null,1034.5854314721196,1066.9566902791321,1098.0330987338641,null,3041.6034775068952,4135.7520251839169,5264.8615323725135,1034.5854314721196,501.46964443119214,516.14029892253018,529.47725755101931,null,null,null,null,2814.0982706112104,null,null,null,1459.0632739567129,null,null,null,3160.8591949519291,null,null,null,1632.443736127072,0,0,0,0,0,0,0,0]
["T7_Std_Config","60/mo or <2/day",353.21712222854637,387.37567479738453,405.3194566710975,null,12206.7931268385,17664.021650381848,22858.508694676053,null,467.14874188043177,501.3194271237378,517.64441636782863,null,16144.1439067827,22859.765830940403,29193.218330735697,null,210.7239463301286,217.39242564437319,224.06090495861773,null,2478.3435742648771,2556.0345954017066,2635.0204668908182,null,7282.238381225533,9913.3742970595085,12636.4445879054,2478.3435742648771,501.46964443119214,516.14029892253018,529.47725755101931,null,null,null,null,2814.0982706112104,null,null,null,1459.0632739567129,null,null,null,3160.8591949519291,null,null,null,1632.443736127072,0,0,0,0,0,0,0,0]
["T7_Std_Config","90/mo or <3/day",605.48908336705995,null,null,null,20925.033120105752,null,null,null,828.47785363080777,null,null,null,28631.278420571249,null,null,null,330.75657398653101,340.0924450264734,349.42831606641579,null,3889.7304582506222,3999.7927381944646,4109.8550181383071,null,11430.938909932252,15508.422669263548,19707.622361709211,3889.7304582506222,501.46964443119214,516.14029892253018,529.47725755101931,null,null,null,null,2814.0982706112104,null,null,null,1459.0632739567129,null,null,null,3160.8591949519291,null,null,null,1632.443736127072,0,0,0,0,0,0,0,0]
["T7AMR","30/mo or  <1/day",197,229,259,null,7092,10996,15527,2364,null,null,null,null,null,null,null,null,69,79,85,null,825,944,1023,null,2475,3777,5116,825,545,572,601,null,null,null,null,2814,null,null,null,1459,null,null,null,3161,null,null,null,1632]
["T7AMR","60/mo or <2/day",336,389,438,null,12082,18695,26257,4032,null,null,null,null,null,null,null,null,146,167,181,null,1756,2009,2178,null,5268,8038,10888,1756,545,572,601,null,null,null,null,2814,null,null,null,1459,null,null,null,3161,null,null,null,1632]
["T7AMR","90/mo or <3/day",484,560,625,null,17433,26902,37529,5808,null,null,null,null,null,null,null,null,263,301,327,null,3161,3617,3920,null,9482,14468,19598,3161,545,572,601,null,null,null,null,2814,null,null,null,1459,null,null,null,3161,null,null,null,1632]
["T7AMR","120/mo or <4/day",604,698,777,null,21729,33501,46623,7248,null,null,null,null,null,null,null,null,351,402,436,null,4214,4823,5226,null,12643,19291,26131,4214,545,572,601,null,null,null,null,2814,null,null,null,1459,null,null,null,3161,null,null,null,1632]
["T380AMR","30/mo or  <1/day",177,191,210,null,6355,9160,12614,2124,null,null,null,null,null,null,null,null,71,77,86,null,855,929,1028,null,2564,3714,5140,855,545,572,601,null,null,null,null,2814,null,null,null,1459,null,null,null,3161,null,null,null,1632]
["T380AMR","60/mo or <2/day",284,307,338,null,10218,14733,20297,3408,null,null,null,null,null,null,null,null,127,138,153,null,1525,1657,1835,null,4576,6629,9174,1525,545,572,601,null,null,null,null,2814,null,null,null,1459,null,null,null,3161,null,null,null,1632]
["T380AMR","90/mo or <3/day",412,446,491,null,14819,21388,29490,4944,null,null,null,null,null,null,null,null,229,249,275,null,2745,2983,3303,null,8236,11933,16513,2745,545,572,601,null,null,null,null,2814,null,null,null,1459,null,null,null,3161,null,null,null,1632]
["T380AMR","120/mo or <4/day",514,557,614,null,18505,26716,36848,6168,null,null,null,null,null,null,null,null,305,331,367,null,3661,3978,4403,null,10982,15911,22017,3661,545,572,601,null,null,null,null,2814,null,null,null,1459,null,null,null,3161,null,null,null,1632]
["T16AMR_Standard_Config","30/mo or  <1/day",239,267,294,null,8606,12821,17621,2868,null,null,null,null,null,null,null,null,131,136,139,null,1567,1629,1672,null,4565,6325,8115,1522,677,711,746,null,null,null,null,2814,null,null,null,1459,null,null,null,3161,null,null,null,1632]
["T16AMR_Standard_Config","60/mo or <2/day",297,331,363,null,10674,15875,21786,3564,null,null,null,null,null,null,null,null,165,172,176,null,1984,2062,2116,null,5779,8008,10274,1926,677,711,746,null,null,null,null,2814,null,null,null,1459,null,null,null,3161,null,null,null,1632]
["T16AMR_Standard_Config","90/mo or <3/day",549,598,643,null,19757,28719,38603,6588,null,null,null,null,null,null,null,null,392,407,418,null,4702,4886,5015,null,13694,18975,24344,4565,677,711,746,null,null,null,null,2814,null,null,null,1459,null,null,null,3161,null,null,null,1632]
["T16AMR_Standard_Config","120/mo or <4/day",704,764,818,null,25332,36668,49094,8448,null,null,null,null,null,null,null,null,522,543,557,null,6269,6515,6687,null,18258,25300,32459,6086,677,711,746,null,null,null,null,2814,null,null,null,1459,null,null,null,3161,null,null,null,1632]
["T16AMR_Standard_Config","150/mo or <5/day",816,886,948,null,29385,42509,56881,9792,null,null,null,null,null,null,null,null,609,633,650,null,7313,7601,7801,null,21301,29517,37869,7100,677,711,746,null,null,null,null,2814,null,null,null,1459,null,null,null,3161,null,null,null,1632]
[7100,"30/mo or  <1/day",null,null,null,null,null,null,null,null,null,null,null,null,null,null,null,null,88.023926948028404,90.691318673726244,93.358710399424069,null,1034.5854314721196,1066.9566902791321,1098.0330987338641,null,3041.6034775068952,4135.7520251839169,5264.8615323725135,1034.5854314721196,501.46964443119214,516.14029892253018,529.47725755101931,null,null,null,null,2814.0982706112104,null,null,null,1459.0632739567129,null,null,null,3160.8591949519291,null,null,null,1632.443736127072,0,0,0,0,0,0,0,0]
[7100,"60/mo or <2/day",null,null,null,null,null,null,null,null,null,null,null,null,null,null,null,null,210.7239463301286,217.39242564437319,224.06090495861773,null,2478.3435742648771,2556.0345954017066,2635.0204668908182,null,7282.238381225533,9913.3742970595085,12636.4445879054,2478.3435742648771,501.46964443119214,516.14029892253018,529.47725755101931,null,null,null,null,2814.0982706112104,null,null,null,1459.0632739567129,null,null,null,3160.8591949519291,null,null,null,1632.443736127072,0,0,0,0,0,0,0,0]
[7100,"90/mo or <3/day",null,null,null,null,null,null,null,null,null,null,null,null,null,null,null,null,330.75657398653101,340.0924450264734,349.42831606641579,null,3889.7304582506222,3999.7927381944646,4109.8550181383071,null,11430.938909932252,15508.422669263548,19707.622361709211,3889.7304582506222,501.46964443119214,516.14029892253018,529.47725755101931,null,null,null,null,2814.0982706112104,null,null,null,1459.0632739567129,null,null,null,3160.8591949519291,null,null,null,1632.443736127072,0,0,0,0,0,0,0,0]
["T12","30/mo or  <1/day",188.83111034895819,208.34089918467262,216.49136903644612,null,6525.79434824085,9500.1787496929519,12209.307399367201,null,296.25131240260362,314.1517197577536,322.30732134451955,null,10238.117736866401,14325.067732268248,18176.933246236651,null,88.023926948028404,90.691318673726244,93.358710399424069,null,1034.5854314721196,1066.9566902791321,1098.0330987338641,null,3041.6034775068952,4135.7520251839169,5264.8615323725135,1034.5854314721196,501.46964443119214,516.14029892253018,529.47725755101931,null,null,null,null,2814.0982706112104,null,null,null,1459.0632739567129,null,null,null,3160.8591949519291,null,null,null,1632.443736127072,0,0,0,0,0,0,0,0]
["T12","60/mo or <2/day",429.75356148383582,472.04087281195774,496.46785123349753,null,14851.807827030902,21524.687118200702,27998.9388796032,null,545.28575305931088,587.58364222878481,612.0473146245572,null,18844.472602606504,26793.34520209155,34517.19041025795,null,210.7239463301286,217.39242564437319,224.06090495861773,null,2478.3435742648771,2556.0345954017066,2635.0204668908182,null,7282.238381225533,9913.3742970595085,12636.4445879054,2478.3435742648771,501.46964443119214,516.14029892253018,529.47725755101931,null,null,null,null,2814.0982706112104,null,null,null,1459.0632739567129,null,null,null,3160.8591949519291,null,null,null,1632.443736127072,0,0,0,0,0,0,0,0]
["T12","90/mo or <3/day",681.9891459877224,750.35255433495217,782.93104969801232,null,23568.790684033804,34215.477706813952,44154.397012765054,null,906.61486480968676,976.58590337682404,1009.2082209386389,null,31331.607116395047,44531.53789207006,56915.587232181897,null,330.75657398653101,340.0924450264734,349.42831606641579,null,3889.7304582506222,3999.7927381944646,4109.8550181383071,null,11430.938909932252,15508.422669263548,19707.622361709211,3889.7304582506222,501.46964443119214,516.14029892253018,529.47725755101931,null,null,null,null,2814.0982706112104,null,null,null,1459.0632739567129,null,null,null,3160.8591949519291,null,null,null,1632.443736127072,0,0,0,0,0,0,0,0]
["T12_Built_to_Order","30/mo or  <1/day",188.83111034895819,208.34089918467262,216.49136903644612,null,6525.79434824085,9500.1787496929519,12209.307399367201,null,296.25131240260362,314.1517197577536,322.30732134451955,null,10238.117736866401,14325.067732268248,18176.933246236651,null,88.023926948028404,90.691318673726244,93.358710399424069,null,1034.5854314721196,1066.9566902791321,1098.0330987338641,null,3041.6034775068952,4135.7520251839169,5264.8615323725135,1034.5854314721196,501.46964443119214,516.14029892253018,529.47725755101931,null,null,null,null,2814.0982706112104,null,null,null,1459.0632739567129,null,null,null,3160.8591949519291,null,null,null,1632.443736127072,0,0,0,0,0,0,0,0]
["T12_Built_to_Order","60/mo or <2/day",429.75356148383582,472.04087281195774,496.46785123349753,null,14851.807827030902,21524.687118200702,27998.9388796032,null,545.28575305931088,587.58364222878481,612.0473146245572,null,18844.472602606504,26793.34520209155,34517.19041025795,null,210.7239463301286,217.39242564437319,224.06090495861773,null,2478.3435742648771,2556.0345954017066,2635.0204668908182,null,7282.238381225533,9913.3742970595085,12636.4445879054,2478.3435742648771,501.46964443119214,516.14029892253018,529.47725755101931,null,null,null,null,2814.0982706112104,null,null,null,1459.0632739567129,null,null,null,3160.8591949519291,null,null,null,1632.443736127072,0,0,0,0,0,0,0,0]
["T12_Built_to_Order","90/mo or <3/day",681.9891459877224,750.35255433495217,782.93104969801232,null,23568.790684033804,34215.477706813952,44154.397012765054,null,906.61486480968676,976.58590337682404,1009.2082209386389,null,31331.607116395047,44531.53789207006,56915.587232181897,null,330.75657398653101,340.0924450264734,349.42831606641579,null,3889.7304582506222,3999.7927381944646,4109.8550181383071,null,11430.938909932252,15508.422669263548,19707.622361709211,3889.7304582506222,501.46964443119214,516.14029892253018,529.47725755101931,null,null,null,null,2814.0982706112104,null,null,null,1459.0632739567129,null,null,null,3160.8591949519291,null,null,null,1632.443736127072,0,0,0,0,0,0,0,0]
["T12_Standard_Config","30/mo or  <1/day",188.83111034895819,208.34089918467262,216.49136903644612,null,6525.79434824085,9500.1787496929519,12209.307399367201,null,296.25131240260362,314.1517197577536,322.30732134451955,null,10238.117736866401,14325.067732268248,18176.933246236651,null,88.023926948028404,90.691318673726244,93.358710399424069,null,1034.5854314721196,1066.9566902791321,1098.0330987338641,null,3041.6034775068952,4135.7520251839169,5264.8615323725135,1034.5854314721196,501.46964443119214,516.14029892253018,529.47725755101931,null,null,null,null,2814.0982706112104,null,null,null,1459.0632739567129,null,null,null,3160.8591949519291,null,null,null,1632.443736127072,0,0,0,0,0,0,0,0]
["T12_Standard_Config","60/mo or <2/day",429.75356148383582,472.04087281195774,496.46785123349753,null,14851.807827030902,21524.687118200702,27998.9388796032,null,545.28575305931088,587.58364222878481,612.0473146245572,null,18844.472602606504,26793.34520209155,34517.19041025795,null,210.7239463301286,217.39242564437319,224.06090495861773,null,2478.3435742648771,2556.0345954017066,2635.0204668908182,null,7282.238381225533,9913.3742970595085,12636.4445879054,2478.3435742648771,501.46964443119214,516.14029892253018,529.47725755101931,null,null,null,null,2814.0982706112104,null,null,null,1459.0632739567129,null,null,null,3160.8591949519291,null,null,null,1632.443736127072,0,0,0,0,0,0,0,0]
["T12_Standard_Config","90/mo or <3/day",681.9891459877224,750.35255433495217,782.93104969801232,null,23568.790684033804,34215.477706813952,44154.397012765054,null,906.61486480968676,976.58590337682404,1009.2082209386389,null,31331.607116395047,44531.53789207006,56915.587232181897,null,330.75657398653101,340.0924450264734,349.42831606641579,null,3889.7304582506222,3999.7927381944646,4109.8550181383071,null,11430.938909932252,15508.422669263548,19707.622361709211,3889.7304582506222,501.46964443119214,516.14029892253018,529.47725755101931,null,null,null,null,2814.0982706112104,null,null,null,1459.0632739567129,null,null,null,3160.8591949519291,null,null,null,1632.443736127072,0,0,0,0,0,0,0,0]
["T15","30/mo or  <1/day",null,null,null,null,null,null,null,null,null,null,null,null,null,null,null,null,126.70110697064693,130.70219455919369,136.03697801058934,null,1490.3727554748555,1536.9873681569538,1600.4350354186979,null,4379.1838914126511,5960.1961715471425,7671.9883372619634,1490.3727554748555,610.83270518480322,632.17183899038594,652.17727693311974,null,null,null,null,2814.0982706112104,null,null,null,1459.0632739567129,null,null,null,3160.8591949519291,null,null,null,1632.443736127072,0,0,0,0,0,0,0,0]
["T15","60/mo or <2/day",null,null,null,null,null,null,null,null,null,null,null,null,null,null,null,null,294.74678568961025,302.74896086670373,312.08483190664612,null,3466.3143930548986,3560.8384687713751,3669.6058983629373,null,10186.587721390693,13805.694456014691,17602.195688901116,3466.3143930548986,610.83270518480322,632.17183899038594,652.17727693311974,null,null,null,null,2814.0982706112104,null,null,null,1459.0632739567129,null,null,null,3160.8591949519291,null,null,null,1632.443736127072,0,0,0,0,0,0,0,0]
["T15","90/mo or <3/day",null,null,null,null,null,null,null,null,null,null,null,null,null,null,null,null,493.46746925409866,510.80551547113447,525.47616996247245,null,5803.5192789212006,6006.8107842292384,6179.0258810825462,null,17054.473989886468,23293.062987173922,29636.534862996083,5803.5192789212006,610.83270518480322,632.17183899038594,652.17727693311974,null,null,null,null,2814.0982706112104,null,null,null,1459.0632739567129,null,null,null,3160.8591949519291,null,null,null,1632.443736127072,0,0,0,0,0,0,0,0]
["T16_Built_to_Order","30/mo or  <1/day",230.80974670856085,256.83522784231968,265.5095445421241,null,7976.5295973007514,11711.481438684599,14973.75004467285,null,343.6136906870081,371.33036537228469,380.04132523706437,null,11874.909153050099,16932.36834453015,21432.91617090315,null,126.70110697064693,130.70219455919369,136.03697801058934,null,1490.3727554748555,1536.9873681569538,1600.4350354186979,null,4379.1838914126511,5960.1961715471425,7671.9883372619634,1490.3727554748555,610.83270518480322,632.17183899038594,652.17727693311974,null,null,null,null,2814.0982706112104,null,null,null,1459.0632739567129,null,null,null,3160.8591949519291,null,null,null,1632.443736127072,0,0,0,0,0,0,0,0]
["T16_Built_to_Order","60/mo or <2/day",503.2343634304541,557.00933268851725,576.1586095021645,null,17391.223081017903,25399.181084927397,32493.201024654449,null,626.44202491223439,681.9532198269236,699.33934522038953,null,21649.143608371345,31096.522634961602,39440.136021452548,null,294.74678568961025,302.74896086670373,312.08483190664612,null,3466.3143930548986,3560.8384687713751,3669.6058983629373,null,10186.587721390693,13805.694456014691,17602.195688901116,3466.3143930548986,610.83270518480322,632.17183899038594,652.17727693311974,null,null,null,null,2814.0982706112104,null,null,null,1459.0632739567129,null,null,null,3160.8591949519291,null,null,null,1632.443736127072,0,0,0,0,0,0,0,0]
["T16_Built_to_Order","90/mo or <3/day",817.31022680030662,898.8681589277578,944.02898256728702,null,28245.337587415797,40987.670762867398,53239.720795222507,null,1058.5236910122007,1141.8084796390631,1186.9799124610499,null,36581.408156320656,52065.555524319607,66941.24894037316,null,493.46746925409866,510.80551547113447,525.47616996247245,null,5803.5192789212006,6006.8107842292384,6179.0258810825462,null,17054.473989886468,23293.062987173922,29636.534862996083,5803.5192789212006,610.83270518480322,632.17183899038594,652.17727693311974,null,null,null,null,2814.0982706112104,null,null,null,1459.0632739567129,null,null,null,3160.8591949519291,null,null,null,1632.443736127072,0,0,0,0,0,0,0,0]
["T16_Standard_Config","30/mo or  <1/day",230.80974670856085,256.83522784231968,265.5095445421241,null,7976.5295973007514,11711.481438684599,14973.75004467285,null,343.6136906870081,371.33036537228469,380.04132523706437,null,11874.909153050099,16932.36834453015,21432.91617090315,null,126.70110697064693,130.70219455919369,136.03697801058934,null,1490.3727554748555,1536.9873681569538,1600.4350354186979,null,4379.1838914126511,5960.1961715471425,7671.9883372619634,1490.3727554748555,610.83270518480322,632.17183899038594,652.17727693311974,null,null,null,null,2814.0982706112104,null,null,null,1459.0632739567129,null,null,null,3160.8591949519291,null,null,null,1632.443736127072,0,0,0,0,0,0,0,0]
["T16_Standard_Config","60/mo or <2/day",503.2343634304541,557.00933268851725,576.1586095021645,null,17391.223081017903,25399.181084927397,32493.201024654449,null,626.44202491223439,681.9532198269236,699.33934522038953,null,21649.143608371345,31096.522634961602,39440.136021452548,null,294.74678568961025,302.74896086670373,312.08483190664612,null,3466.3143930548986,3560.8384687713751,3669.6058983629373,null,10186.587721390693,13805.694456014691,17602.195688901116,3466.3143930548986,610.83270518480322,632.17183899038594,652.17727693311974,null,null,null,null,2814.0982706112104,null,null,null,1459.0632739567129,null,null,null,3160.8591949519291,null,null,null,1632.443736127072,0,0,0,0,0,0,0,0]
["T16_Standard_Config","90/mo or <3/day",817.31022680030662,898.8681589277578,944.02898256728702,null,28245.337587415797,40987.670762867398,53239.720795222507,null,1058.5236910122007,1141.8084796390631,1186.9799124610499,null,36581.408156320656,52065.555524319607,66941.24894037316,null,493.46746925409866,510.80551547113447,525.47616996247245,null,5803.5192789212006,6006.8107842292384,6179.0258810825462,null,17054.473989886468,23293.062987173922,29636.534862996083,5803.5192789212006,610.83270518480322,632.17183899038594,652.17727693311974,null,null,null,null,2814.0982706112104,null,null,null,1459.0632739567129,null,null,null,3160.8591949519291,null,null,null,1632.443736127072,0,0,0,0,0,0,0,0]
["T17_Built_to_Order","30/mo or  <1/day",258.0558460442129,286.08621289391925,299.19142866630756,null,8918.124659298901,13045.303015159951,16873.282940105702,null,381.48176733375539,409.48622146221282,420.72262141617409,null,13183.588004238451,18672.244934390554,23727.189853341904,null,145.37284905053173,149.37393663907849,153.37502422762526,null,1709.2024650102601,1757.1119280446387,1803.7265407267364,null,5024.0193668483398,6810.9128529954305,8650.895203586022,1709.2024650102601,673.51641073870212,694.85554454428461,714.86098248701853,null,null,null,null,2814.0982706112104,null,null,null,1459.0632739567129,null,null,null,3160.8591949519291,null,null,null,1632.443736127072,0,0,0,0,0,0,0,0]
["T17_Built_to_Order","60/mo or <2/day",600.21447134613948,658.18851755126025,686.25445707949245,null,20742.748361775,30012.871175091899,38702.197034279096,null,734.84439610080983,792.80921501305158,824.61544633085373,null,25395.40967613435,36151.467553912946,46505.241827099555,null,330.75657398653101,340.0924450264734,349.42831606641579,null,3889.7304582506222,3999.7927381944646,4109.8550181383071,null,11430.938909932252,15508.422669263548,19707.622361709211,3889.7304582506222,673.51641073870212,694.85554454428461,714.86098248701853,null,null,null,null,2814.0982706112104,null,null,null,1459.0632739567129,null,null,null,3160.8591949519291,null,null,null,1632.443736127072,0,0,0,0,0,0,0,0]
["T17_Built_to_Order","90/mo or <3/day",968.56427357953385,1073.2712988301316,1142.5091256789547,null,33472.510174583098,48940.314771145502,64433.262092994904,null,1230.3305363557051,1338.7632743691545,1408.0186702210788,null,42518.862732845708,61046.53699683601,79407.012137667742,null,542.81421617950843,558.8185665336955,574.82291688788234,null,6383.6122367428661,6571.3655378235389,6760.4136892564902,null,18759.791903839887,25482.654932880243,32420.463120399163,6383.6122367428661,673.51641073870212,694.85554454428461,714.86098248701853,null,null,null,null,2814.0982706112104,null,null,null,1459.0632739567129,null,null,null,3160.8591949519291,null,null,null,1632.443736127072,0,0,0,0,0,0,0,0]
["T17_Standard_Config","30/mo or  <1/day",258.0558460442129,286.08621289391925,299.19142866630756,null,8918.124659298901,13045.303015159951,16873.282940105702,null,381.48176733375539,409.48622146221282,420.72262141617409,null,13183.588004238451,18672.244934390554,23727.189853341904,null,145.37284905053173,149.37393663907849,153.37502422762526,null,1709.2024650102601,1757.1119280446387,1803.7265407267364,null,5024.0193668483398,6810.9128529954305,8650.895203586022,1709.2024650102601,673.51641073870212,694.85554454428461,714.86098248701853,null,null,null,null,2814.0982706112104,null,null,null,1459.0632739567129,null,null,null,3160.8591949519291,null,null,null,1632.443736127072,0,0,0,0,0,0,0,0]
["T17_Standard_Config","60/mo or <2/day",600.21447134613948,658.18851755126025,686.25445707949245,null,20742.748361775,30012.871175091899,38702.197034279096,null,734.84439610080983,792.80921501305158,824.61544633085373,null,25395.40967613435,36151.467553912946,46505.241827099555,null,330.75657398653101,340.0924450264734,349.42831606641579,null,3889.7304582506222,3999.7927381944646,4109.8550181383071,null,11430.938909932252,15508.422669263548,19707.622361709211,3889.7304582506222,673.51641073870212,694.85554454428461,714.86098248701853,null,null,null,null,2814.0982706112104,null,null,null,1459.0632739567129,null,null,null,3160.8591949519291,null,null,null,1632.443736127072,0,0,0,0,0,0,0,0]
["T17_Standard_Config","90/mo or <3/day",968.56427357953385,1073.2712988301316,1142.5091256789547,null,33472.510174583098,48940.314771145502,64433.262092994904,null,1230.3305363557051,1338.7632743691545,1408.0186702210788,null,42518.862732845708,61046.53699683601,79407.012137667742,null,542.81421617950843,558.8185665336955,574.82291688788234,null,6383.6122367428661,6571.3655378235389,6760.4136892564902,null,18759.791903839887,25482.654932880243,32420.463120399163,6383.6122367428661,673.51641073870212,694.85554454428461,714.86098248701853,null,null,null,null,2814.0982706112104,null,null,null,1459.0632739567129,null,null,null,3160.8591949519291,null,null,null,1632.443736127072,0,0,0,0,0,0,0,0]
[7300,"30/mo or  <1/day",null,null,null,null,null,null,null,null,null,null,null,null,null,null,null,null,150.70763250192741,154.70872009047412,158.70980767902091,null,1772.6501322720044,1819.2647449541028,1865.8793576362009,null,5207.8881168721709,7054.3447192241638,8951.3004853150978,1772.6501322720044,708.19250317277397,728.19794111550766,748.20337905824147,null,null,null,null,2814.0982706112104,null,null,null,1459.0632739567129,null,null,null,3160.8591949519291,null,null,null,1632.443736127072,0,0,0,0,0,0,0,0]
[7300,"60/mo or <2/day",null,null,null,null,null,null,null,null,null,null,null,null,null,null,null,null,344.09353261502008,354.76309951781138,365.4326664206028,null,4046.4073508765628,4172.0078350477716,4297.6083192189799,null,11891.90563534411,16176.565451040287,20610.13305724872,4046.4073508765628,708.19250317277397,728.19794111550766,748.20337905824147,null,null,null,null,2814.0982706112104,null,null,null,1459.0632739567129,null,null,null,3160.8591949519291,null,null,null,1632.443736127072,0,0,0,0,0,0,0,0]
[7300,"90/mo or <3/day",null,null,null,null,null,null,null,null,null,null,null,null,null,null,null,null,569.48813343648669,585.49248379067376,605.49792173340745,null,6696.9660219947455,6886.0141734276995,7120.3820871904718,null,19681.725354663602,26698.519413671631,34150.383191045905,6696.9660219947455,708.19250317277397,728.19794111550766,748.20337905824147,null,null,null,null,2814.0982706112104,null,null,null,1459.0632739567129,null,null,null,3160.8591949519291,null,null,null,1632.443736127072,0,0,0,0,0,0,0,0]
[7400,"30/mo or  <1/day",null,null,null,null,null,null,null,null,null,null,null,null,null,null,null,null,165.3782869932655,170.71307044466113,176.04785389605681,null,1944.8652291253111,2007.0180460347751,2070.4657132965199,null,5715.4694549661262,7784.6403179103672,9928.9125012868735,1944.8652291253111,782.87947149231331,804.21860529789581,824.22404324062961,null,null,null,null,2814.0982706112104,null,null,null,1459.0632739567129,null,null,null,3160.8591949519291,null,null,null,1632.443736127072,0,0,0,0,0,0,0,0]
[7400,"60/mo or <2/day",null,null,null,null,null,null,null,null,null,null,null,null,null,null,null,null,382.77071263763867,393.44027954042997,406.77723816891915,null,4500.8998245270177,4626.5003086982269,4783.1772013241671,null,13228.19119889759,17941.446481198611,22942.1585417059,4500.8998245270177,782.87947149231331,804.21860529789581,824.22404324062961,null,null,null,null,2814.0982706112104,null,null,null,1459.0632739567129,null,null,null,3160.8591949519291,null,null,null,1632.443736127072,0,0,0,0,0,0,0,0]
[7400,"90/mo or <3/day",null,null,null,null,null,null,null,null,null,null,null,null,null,null,null,null,632.17183899038594,650.84358107027037,669.51532315015538,null,7433.735872442352,7653.860432330036,7873.9849922177209,null,21848.009994028875,29677.970074269069,37760.42597320395,7433.735872442352,782.87947149231331,804.21860529789581,824.22404324062961,null,null,null,null,2814.0982706112104,null,null,null,1459.0632739567129,null,null,null,3160.8591949519291,null,null,null,1632.443736127072,0,0,0,0,0,0,0,0]
[8200,"30/mo or  <1/day",null,null,null,null,null,null,null,null,null,null,null,null,null,null,null,null,169.37937458181224,174.71415803320789,180.04894148460357,null,1991.4798418074097,2054.9275090691535,2117.0803259786176,null,5854.0184426601409,7967.2142175819172,10154.216462583683,1991.4798418074097,797.55012598365124,817.55556392638482,837.56100186911885,null,null,null,null,2814.0982706112104,null,null,null,1459.0632739567129,null,null,null,3160.8591949519291,null,null,null,1632.443736127072,0,0,0,0,0,0,0,0]
[8200,"60/mo or <2/day",null,null,null,null,null,null,null,null,null,null,null,null,null,null,null,null,384.10440850048752,394.77397540327888,408.11093403176801,null,4516.4380287543845,4642.0385129255928,4800.0102559038141,null,13274.805811579685,18002.304447755796,23017.259862138169,4516.4380287543845,797.55012598365124,817.55556392638482,837.56100186911885,null,null,null,null,2814.0982706112104,null,null,null,1459.0632739567129,null,null,null,3160.8591949519291,null,null,null,1632.443736127072,0,0,0,0,0,0,0,0]
[8200,"90/mo or <3/day",null,null,null,null,null,null,null,null,null,null,null,null,null,null,null,null,645.50879761887495,664.18053969875973,685.51967350434222,null,7591.7076154205724,7810.5373249559761,8061.7382932983937,null,22308.976719440736,30286.549739840899,38662.936668743452,7591.7076154205724,797.55012598365124,817.55556392638482,837.56100186911885,null,null,null,null,2814.0982706112104,null,null,null,1459.0632739567129,null,null,null,3160.8591949519291,null,null,null,1632.443736127072,0,0,0,0,0,0,0,0]
[8210,"30/mo or  <1/day",null,null,null,null,null,null,null,null,null,null,null,null,null,null,null,null,169.37937458181224,174.71415803320789,180.04894148460357,null,1991.4798418074097,2054.9275090691535,2117.0803259786176,null,5854.0184426601409,7967.2142175819172,10154.216462583683,1991.4798418074097,797.55012598365124,817.55556392638482,837.56100186911885,null,null,null,null,2814.0982706112104,null,null,null,1459.0632739567129,null,null,null,3160.8591949519291,null,null,null,1632.443736127072,0,0,0,0,0,0,0,0]
[8210,"60/mo or <2/day",null,null,null,null,null,null,null,null,null,null,null,null,null,null,null,null,384.10440850048752,394.77397540327888,408.11093403176801,null,4516.4380287543845,4642.0385129255928,4800.0102559038141,null,13274.805811579685,18002.304447755796,23017.259862138169,4516.4380287543845,797.55012598365124,817.55556392638482,837.56100186911885,null,null,null,null,2814.0982706112104,null,null,null,1459.0632739567129,null,null,null,3160.8591949519291,null,null,null,1632.443736127072,0,0,0,0,0,0,0,0]
[8210,"90/mo or <3/day",null,null,null,null,null,null,null,null,null,null,null,null,null,null,null,null,645.50879761887495,664.18053969875973,685.51967350434222,null,7591.7076154205724,7810.5373249559761,8061.7382932983937,null,22308.976719440736,30286.549739840899,38662.936668743452,7591.7076154205724,797.55012598365124,817.55556392638482,837.56100186911885,null,null,null,null,2814.0982706112104,null,null,null,1459.0632739567129,null,null,null,3160.8591949519291,null,null,null,1632.443736127072,0,0,0,0,0,0,0,0]
[8300,"30/mo or  <1/day",null,null,null,null,null,null,null,null,null,null,null,null,null,null,null,null,165.3782869932655,170.71307044466113,176.04785389605681,null,1944.8652291253111,2007.0180460347751,2070.4657132965199,null,5715.4694549661262,7784.6403179103672,9928.9125012868735,1944.8652291253111,782.87947149231331,804.21860529789581,824.22404324062961,null,null,null,null,2814.0982706112104,null,null,null,1459.0632739567129,null,null,null,3160.8591949519291,null,null,null,1632.443736127072,0,0,0,0,0,0,0,0]
[8300,"60/mo or <2/day",null,null,null,null,null,null,null,null,null,null,null,null,null,null,null,null,382.77071263763867,393.44027954042997,406.77723816891915,null,4500.8998245270177,4626.5003086982269,4783.1772013241671,null,13228.19119889759,17941.446481198611,22942.1585417059,4500.8998245270177,782.87947149231331,804.21860529789581,824.22404324062961,null,null,null,null,2814.0982706112104,null,null,null,1459.0632739567129,null,null,null,3160.8591949519291,null,null,null,1632.443736127072,0,0,0,0,0,0,0,0]
[8300,"90/mo or <3/day",null,null,null,null,null,null,null,null,null,null,null,null,null,null,null,null,632.17183899038594,650.84358107027037,669.51532315015538,null,7433.735872442352,7653.860432330036,7873.9849922177209,null,21848.009994028875,29677.970074269069,37760.42597320395,7433.735872442352,782.87947149231331,804.21860529789581,824.22404324062961,null,null,null,null,2814.0982706112104,null,null,null,1459.0632739567129,null,null,null,3160.8591949519291,null,null,null,1632.443736127072,0,0,0,0,0,0,0,0]
[8400,"30/mo or  <1/day",null,null,null,null,null,null,null,null,null,null,null,null,null,null,null,null,169.37937458181224,174.71415803320789,180.04894148460357,null,1991.4798418074097,2054.9275090691535,2117.0803259786176,null,5854.0184426601409,7967.2142175819172,10154.216462583683,1991.4798418074097,797.55012598365124,817.55556392638482,837.56100186911885,null,null,null,null,2814.0982706112104,null,null,null,1459.0632739567129,null,null,null,3160.8591949519291,null,null,null,1632.443736127072,0,0,0,0,0,0,0,0]
[8400,"60/mo or <2/day",null,null,null,null,null,null,null,null,null,null,null,null,null,null,null,null,384.10440850048752,394.77397540327888,408.11093403176801,null,4516.4380287543845,4642.0385129255928,4800.0102559038141,null,13274.805811579685,18002.304447755796,23017.259862138169,4516.4380287543845,797.55012598365124,817.55556392638482,837.56100186911885,null,null,null,null,2814.0982706112104,null,null,null,1459.0632739567129,null,null,null,3160.8591949519291,null,null,null,1632.443736127072,0,0,0,0,0,0,0,0]
[8400,"90/mo or <3/day",null,null,null,null,null,null,null,null,null,null,null,null,null,null,null,null,645.50879761887495,664.18053969875973,685.51967350434222,null,7591.7076154205724,7810.5373249559761,8061.7382932983937,null,22308.976719440736,30286.549739840899,38662.936668743452,7591.7076154205724,797.55012598365124,817.55556392638482,837.56100186911885,null,null,null,null,2814.0982706112104,null,null,null,1459.0632739567129,null,null,null,3160.8591949519291,null,null,null,1632.443736127072,0,0,0,0,0,0,0,0]
[8410,"30/mo or  <1/day",null,null,null,null,null,null,null,null,null,null,null,null,null,null,null,null,169.37937458181224,174.71415803320789,180.04894148460357,null,1991.4798418074097,2054.9275090691535,2117.0803259786176,null,5854.0184426601409,7967.2142175819172,10154.216462583683,1991.4798418074097,797.55012598365124,817.55556392638482,837.56100186911885,null,null,null,null,2814.0982706112104,null,null,null,1459.0632739567129,null,null,null,3160.8591949519291,null,null,null,1632.443736127072,0,0,0,0,0,0,0,0]
[8410,"60/mo or <2/day",null,null,null,null,null,null,null,null,null,null,null,null,null,null,null,null,384.10440850048752,394.77397540327888,408.11093403176801,null,4516.4380287543845,4642.0385129255928,4800.0102559038141,null,13274.805811579685,18002.304447755796,23017.259862138169,4516.4380287543845,797.55012598365124,817.55556392638482,837.56100186911885,null,null,null,null,2814.0982706112104,null,null,null,1459.0632739567129,null,null,null,3160.8591949519291,null,null,null,1632.443736127072,0,0,0,0,0,0,0,0]
[8410,"90/mo or <3/day",null,null,null,null,null,null,null,null,null,null,null,null,null,null,null,null,645.50879761887495,664.18053969875973,685.51967350434222,null,7591.7076154205724,7810.5373249559761,8061.7382932983937,null,22308.976719440736,30286.549739840899,38662.936668743452,7591.7076154205724,797.55012598365124,817.55556392638482,837.56100186911885,null,null,null,null,2814.0982706112104,null,null,null,1459.0632739567129,null,null,null,3160.8591949519291,null,null,null,1632.443736127072,0,0,0,0,0,0,0,0]
["M17_Built_to_Order","30/mo or  <1/day",268.60507008605418,293.00609719924574,310.89426729317478,null,9282.6941759604015,13360.844217511802,17533.279478889453,null,375.98889550507261,400.41593486280073,419.96472329557702,null,12993.760428321601,18258.6471034194,23684.447220354003,null,165.3782869932655,170.71307044466113,176.04785389605681,null,1944.8652291253111,2007.0180460347751,2070.4657132965199,null,5715.4694549661262,7784.6403179103672,9928.9125012868735,1944.8652291253111,782.87947149231331,804.21860529789581,824.22404324062961,null,null,null,null,2814.0982706112104,null,null,null,1459.0632739567129,null,null,null,3160.8591949519291,null,null,null,1632.443736127072,0,0,0,0,0,0,0,0]
["M17_Built_to_Order","60/mo or <2/day",613.63744952351669,673.84785733383194,708.05517360725639,null,21206.63164332015,30726.924573242701,39931.6763008134,null,734.1168634082693,794.29795506280288,828.51639253980932,null,25370.266950847352,36219.352912187853,46725.2406733608,null,382.77071263763867,393.44027954042997,406.77723816891915,null,4500.8998245270177,4626.5003086982269,4783.1772013241671,null,13228.19119889759,17941.446481198611,22942.1585417059,4500.8998245270177,782.87947149231331,804.21860529789581,824.22404324062961,null,null,null,null,2814.0982706112104,null,null,null,1459.0632739567129,null,null,null,3160.8591949519291,null,null,null,1632.443736127072,0,0,0,0,0,0,0,0]
["M17_Built_to_Order","90/mo or <3/day",1018.9459125379825,1121.4623656257922,1170.3284449291077,null,35213.643900707852,51137.788961229307,66002.168150903701,null,1251.6836208817767,1354.2020600702817,1407.9963790998845,null,43256.801720019146,61750.533304872006,79405.755001403391,null,632.17183899038594,650.84358107027037,669.51532315015538,null,7433.735872442352,7653.860432330036,7873.9849922177209,null,21848.009994028875,29677.970074269069,37760.42597320395,7433.735872442352,782.87947149231331,804.21860529789581,824.22404324062961,null,null,null,null,2814.0982706112104,null,null,null,1459.0632739567129,null,null,null,3160.8591949519291,null,null,null,1632.443736127072,0,0,0,0,0,0,0,0]
["M17_Standard_Config","30/mo or  <1/day",268.60507008605418,293.00609719924574,310.89426729317478,null,9282.6941759604015,13360.844217511802,17533.279478889453,null,375.98889550507261,400.41593486280073,419.96472329557702,null,12993.760428321601,18258.6471034194,23684.447220354003,null,165.3782869932655,170.71307044466113,176.04785389605681,null,1944.8652291253111,2007.0180460347751,2070.4657132965199,null,5715.4694549661262,7784.6403179103672,9928.9125012868735,1944.8652291253111,782.87947149231331,804.21860529789581,824.22404324062961,null,null,null,null,2814.0982706112104,null,null,null,1459.0632739567129,null,null,null,3160.8591949519291,null,null,null,1632.443736127072,0,0,0,0,0,0,0,0]
["M17_Standard_Config","60/mo or <2/day",613.63744952351669,673.84785733383194,708.05517360725639,null,21206.63164332015,30726.924573242701,39931.6763008134,null,734.1168634082693,794.29795506280288,828.51639253980932,null,25370.266950847352,36219.352912187853,46725.2406733608,null,382.77071263763867,393.44027954042997,406.77723816891915,null,4500.8998245270177,4626.5003086982269,4783.1772013241671,null,13228.19119889759,17941.446481198611,22942.1585417059,4500.8998245270177,782.87947149231331,804.21860529789581,824.22404324062961,null,null,null,null,2814.0982706112104,null,null,null,1459.0632739567129,null,null,null,3160.8591949519291,null,null,null,1632.443736127072,0,0,0,0,0,0,0,0]
["M17_Standard_Config","90/mo or <3/day",1018.9459125379825,1121.4623656257922,1170.3284449291077,null,35213.643900707852,51137.788961229307,66002.168150903701,null,1251.6836208817767,1354.2020600702817,1407.9963790998845,null,43256.801720019146,61750.533304872006,79405.755001403391,null,632.17183899038594,650.84358107027037,669.51532315015538,null,7433.735872442352,7653.860432330036,7873.9849922177209,null,21848.009994028875,29677.970074269069,37760.42597320395,7433.735872442352,782.87947149231331,804.21860529789581,824.22404324062961,null,null,null,null,2814.0982706112104,null,null,null,1459.0632739567129,null,null,null,3160.8591949519291,null,null,null,1632.443736127072,0,0,0,0,0,0,0,0]
["M20_Built_to_Order","30/mo or  <1/day",356.49101934497969,393.46848129729364,410.3126678185609,null,12319.93539063,17941.848764803195,23140.107217890447,null,467.43975495744797,504.46232278432444,522.94970321200844,null,16154.200996897498,23003.079365076301,29492.416761650999,null,165.3782869932655,170.71307044466113,176.04785389605681,null,1944.8652291253111,2007.0180460347751,2070.4657132965199,null,5715.4694549661262,7784.6403179103672,9928.9125012868735,1944.8652291253111,782.87947149231331,804.21860529789581,824.22404324062961,null,null,null,null,2814.0982706112104,null,null,null,1459.0632739567129,null,null,null,3160.8591949519291,null,null,null,1632.443736127072,0,0,0,0,0,0,0,0]
["M20_Built_to_Order","60/mo or <2/day",827.31380132274239,914.72048353159357,948.37575120012343,null,28591.050060112051,41710.524114868655,53484.862366770743,null,953.39521694005873,1042.5040044686,1079.5367083058122,null,32948.284352349154,47537.350700130912,60881.852146206162,null,382.77071263763867,393.44027954042997,406.77723816891915,null,4500.8998245270177,4626.5003086982269,4783.1772013241671,null,13228.19119889759,17941.446481198611,22942.1585417059,4500.8998245270177,782.87947149231331,804.21860529789581,824.22404324062961,null,null,null,null,2814.0982706112104,null,null,null,1459.0632739567129,null,null,null,3160.8591949519291,null,null,null,1632.443736127072,0,0,0,0,0,0,0,0]
["M20_Built_to_Order","90/mo or <3/day",1350.2279240864243,1488.1059567673778,1548.7202271978135,null,46662.383860143302,67856.444140819949,87342.056238244972,null,1597.4071563771524,1738.6278240283436,1800.9442635082944,null,55204.62477640155,79280.041374968408,101566.55306936521,null,632.17183899038594,650.84358107027037,669.51532315015538,null,7433.735872442352,7653.860432330036,7873.9849922177209,null,21848.009994028875,29677.970074269069,37760.42597320395,7433.735872442352,782.87947149231331,804.21860529789581,824.22404324062961,null,null,null,null,2814.0982706112104,null,null,null,1459.0632739567129,null,null,null,3160.8591949519291,null,null,null,1632.443736127072,0,0,0,0,0,0,0,0]
["M20_Standard_Config","30/mo or  <1/day",356.49101934497969,393.46848129729364,410.3126678185609,null,12319.93539063,17941.848764803195,23140.107217890447,null,467.43975495744797,504.46232278432444,522.94970321200844,null,16154.200996897498,23003.079365076301,29492.416761650999,null,165.3782869932655,170.71307044466113,176.04785389605681,null,1944.8652291253111,2007.0180460347751,2070.4657132965199,null,5715.4694549661262,7784.6403179103672,9928.9125012868735,1944.8652291253111,782.87947149231331,804.21860529789581,824.22404324062961,null,null,null,null,2814.0982706112104,null,null,null,1459.0632739567129,null,null,null,3160.8591949519291,null,null,null,1632.443736127072,0,0,0,0,0,0,0,0]
["M20_Standard_Config","60/mo or <2/day",827.31380132274239,914.72048353159357,948.37575120012343,null,28591.050060112051,41710.524114868655,53484.862366770743,null,953.39521694005873,1042.5040044686,1079.5367083058122,null,32948.284352349154,47537.350700130912,60881.852146206162,null,382.77071263763867,393.44027954042997,406.77723816891915,null,4500.8998245270177,4626.5003086982269,4783.1772013241671,null,13228.19119889759,17941.446481198611,22942.1585417059,4500.8998245270177,782.87947149231331,804.21860529789581,824.22404324062961,null,null,null,null,2814.0982706112104,null,null,null,1459.0632739567129,null,null,null,3160.8591949519291,null,null,null,1632.443736127072,0,0,0,0,0,0,0,0]
["M20_Standard_Config","90/mo or <3/day",1350.2279240864243,1488.1059567673778,1548.7202271978135,null,46662.383860143302,67856.444140819949,87342.056238244972,null,1597.4071563771524,1738.6278240283436,1800.9442635082944,null,55204.62477640155,79280.041374968408,101566.55306936521,null,632.17183899038594,650.84358107027037,669.51532315015538,null,7433.735872442352,7653.860432330036,7873.9849922177209,null,21848.009994028875,29677.970074269069,37760.42597320395,7433.735872442352,782.87947149231331,804.21860529789581,824.22404324062961,null,null,null,null,2814.0982706112104,null,null,null,1459.0632739567129,null,null,null,3160.8591949519291,null,null,null,1632.443736127072,0,0,0,0,0,0,0,0]
["T20_Built_to_Order","30/mo or  <1/day",285.33832201449195,313.57276529396131,330.53274506511769,null,9860.9768575613998,14298.667870716899,18640.816527781801,null,378.53525992896522,408.2180354939058,423.75421389856268,null,13081.759966826099,18614.416666230452,23898.160385293497,null,165.3782869932655,170.71307044466113,176.04785389605681,null,1944.8652291253111,2007.0180460347751,2070.4657132965199,null,5715.4694549661262,7784.6403179103672,9928.9125012868735,1944.8652291253111,782.87947149231331,804.21860529789581,824.22404324062961,null,null,null,null,2814.0982706112104,null,null,null,1459.0632739567129,null,null,null,3160.8591949519291,null,null,null,1632.443736127072,0,0,0,0,0,0,0,0]
["T20_Built_to_Order","60/mo or <2/day",665.25589405928451,731.63302667233575,768.39723867950306,null,22990.508002432798,33361.882183320296,43334.744168408855,null,772.63971947830305,838.98772581552953,875.75127834996454,null,26701.574254793999,38257.170796699203,49389.112417518452,null,382.77071263763867,393.44027954042997,406.77723816891915,null,4500.8998245270177,4626.5003086982269,4783.1772013241671,null,13228.19119889759,17941.446481198611,22942.1585417059,4500.8998245270177,782.87947149231331,804.21860529789581,824.22404324062961,null,null,null,null,2814.0982706112104,null,null,null,1459.0632739567129,null,null,null,3160.8591949519291,null,null,null,1632.443736127072,0,0,0,0,0,0,0,0]
["T20_Built_to_Order","90/mo or <3/day",1089.0073108296594,1199.1525408146779,1250.0637854401627,null,37634.888345845946,54680.398954167598,70498.944568483654,null,1296.645141280796,1409.5887037730747,1460.5142606330257,null,44810.622142755754,64276.120059951158,82367.568040212005,null,632.17183899038594,650.84358107027037,669.51532315015538,null,7433.735872442352,7653.860432330036,7873.9849922177209,null,21848.009994028875,29677.970074269069,37760.42597320395,7433.735872442352,782.87947149231331,804.21860529789581,824.22404324062961,null,null,null,null,2814.0982706112104,null,null,null,1459.0632739567129,null,null,null,3160.8591949519291,null,null,null,1632.443736127072,0,0,0,0,0,0,0,0]
["T20_Standard_Config","30/mo or  <1/day",285.33832201449195,313.57276529396131,330.53274506511769,null,9860.9768575613998,14298.667870716899,18640.816527781801,null,378.53525992896522,408.2180354939058,423.75421389856268,null,13081.759966826099,18614.416666230452,23898.160385293497,null,165.3782869932655,170.71307044466113,176.04785389605681,null,1944.8652291253111,2007.0180460347751,2070.4657132965199,null,5715.4694549661262,7784.6403179103672,9928.9125012868735,1944.8652291253111,782.87947149231331,804.21860529789581,824.22404324062961,null,null,null,null,2814.0982706112104,null,null,null,1459.0632739567129,null,null,null,3160.8591949519291,null,null,null,1632.443736127072,0,0,0,0,0,0,0,0]
["T20_Standard_Config","60/mo or <2/day",665.25589405928451,731.63302667233575,768.39723867950306,null,22990.508002432798,33361.882183320296,43334.744168408855,null,772.63971947830305,838.98772581552953,875.75127834996454,null,26701.574254793999,38257.170796699203,49389.112417518452,null,382.77071263763867,393.44027954042997,406.77723816891915,null,4500.8998245270177,4626.5003086982269,4783.1772013241671,null,13228.19119889759,17941.446481198611,22942.1585417059,4500.8998245270177,782.87947149231331,804.21860529789581,824.22404324062961,null,null,null,null,2814.0982706112104,null,null,null,1459.0632739567129,null,null,null,3160.8591949519291,null,null,null,1632.443736127072,0,0,0,0,0,0,0,0]
["T20_Standard_Config","90/mo or <3/day",1089.0073108296594,1199.1525408146779,1250.0637854401627,null,37634.888345845946,54680.398954167598,70498.944568483654,null,1296.645141280796,1409.5887037730747,1460.5142606330257,null,44810.622142755754,64276.120059951158,82367.568040212005,null,632.17183899038594,650.84358107027037,669.51532315015538,null,7433.735872442352,7653.860432330036,7873.9849922177209,null,21848.009994028875,29677.970074269069,37760.42597320395,7433.735872442352,782.87947149231331,804.21860529789581,824.22404324062961,null,null,null,null,2814.0982706112104,null,null,null,1459.0632739567129,null,null,null,3160.8591949519291,null,null,null,1632.443736127072,0,0,0,0,0,0,0,0]
["M30_Built_to_Order","30/mo or  <1/day",356.49101934497969,393.46848129729364,410.3126678185609,null,12319.93539063,17941.848764803195,23140.107217890447,null,467.43975495744797,504.46232278432444,522.94970321200844,null,16154.200996897498,23003.079365076301,29492.416761650999,null,165.3782869932655,170.71307044466113,176.04785389605681,null,1944.8652291253111,2007.0180460347751,2070.4657132965199,null,5715.4694549661262,7784.6403179103672,9928.9125012868735,1944.8652291253111,782.87947149231331,804.21860529789581,824.22404324062961,null,null,null,null,2814.0982706112104,null,null,null,1459.0632739567129,null,null,null,3160.8591949519291,null,null,null,1632.443736127072,0,0,0,0,0,0,0,0]
["M30_Built_to_Order","60/mo or <2/day",827.31380132274239,914.72048353159357,948.37575120012343,null,28591.050060112051,41710.524114868655,53484.862366770743,null,953.39521694005873,1042.5040044686,1079.5367083058122,null,32948.284352349154,47537.350700130912,60881.852146206162,null,382.77071263763867,393.44027954042997,406.77723816891915,null,4500.8998245270177,4626.5003086982269,4783.1772013241671,null,13228.19119889759,17941.446481198611,22942.1585417059,4500.8998245270177,782.87947149231331,804.21860529789581,824.22404324062961,null,null,null,null,2814.0982706112104,null,null,null,1459.0632739567129,null,null,null,3160.8591949519291,null,null,null,1632.443736127072,0,0,0,0,0,0,0,0]
["M30_Built_to_Order","90/mo or <3/day",1350.2279240864243,1488.1059567673778,1548.7202271978135,null,46662.383860143302,67856.444140819949,87342.056238244972,null,1597.4071563771524,1738.6278240283436,1800.9442635082944,null,55204.62477640155,79280.041374968408,101566.55306936521,null,632.17183899038594,650.84358107027037,669.51532315015538,null,7433.735872442352,7653.860432330036,7873.9849922177209,null,21848.009994028875,29677.970074269069,37760.42597320395,7433.735872442352,782.87947149231331,804.21860529789581,824.22404324062961,null,null,null,null,2814.0982706112104,null,null,null,1459.0632739567129,null,null,null,3160.8591949519291,null,null,null,1632.443736127072,0,0,0,0,0,0,0,0]
["M30_Standard_Config","30/mo or  <1/day",356.49101934497969,393.46848129729364,410.3126678185609,null,12319.93539063,17941.848764803195,23140.107217890447,null,467.43975495744797,504.46232278432444,522.94970321200844,null,16154.200996897498,23003.079365076301,29492.416761650999,null,165.3782869932655,170.71307044466113,176.04785389605681,null,1944.8652291253111,2007.0180460347751,2070.4657132965199,null,5715.4694549661262,7784.6403179103672,9928.9125012868735,1944.8652291253111,782.87947149231331,804.21860529789581,824.22404324062961,null,null,null,null,2814.0982706112104,null,null,null,1459.0632739567129,null,null,null,3160.8591949519291,null,null,null,1632.443736127072,0,0,0,0,0,0,0,0]
["M30_Standard_Config","60/mo or <2/day",827.31380132274239,914.72048353159357,948.37575120012343,null,28591.050060112051,41710.524114868655,53484.862366770743,null,953.39521694005873,1042.5040044686,1079.5367083058122,null,32948.284352349154,47537.350700130912,60881.852146206162,null,382.77071263763867,393.44027954042997,406.77723816891915,null,4500.8998245270177,4626.5003086982269,4783.1772013241671,null,13228.19119889759,17941.446481198611,22942.1585417059,4500.8998245270177,782.87947149231331,804.21860529789581,824.22404324062961,null,null,null,null,2814.0982706112104,null,null,null,1459.0632739567129,null,null,null,3160.8591949519291,null,null,null,1632.443736127072,0,0,0,0,0,0,0,0]
["M30_Standard_Config","90/mo or <3/day",1350.2279240864243,1488.1059567673778,1548.7202271978135,null,46662.383860143302,67856.444140819949,87342.056238244972,null,1597.4071563771524,1738.6278240283436,1800.9442635082944,null,55204.62477640155,79280.041374968408,101566.55306936521,null,632.17183899038594,650.84358107027037,669.51532315015538,null,7433.735872442352,7653.860432330036,7873.9849922177209,null,21848.009994028875,29677.970074269069,37760.42597320395,7433.735872442352,782.87947149231331,804.21860529789581,824.22404324062961,null,null,null,null,2814.0982706112104,null,null,null,1459.0632739567129,null,null,null,3160.8591949519291,null,null,null,1632.443736127072,0,0,0,0,0,0,0,0]
[550,"30/mo or  <1/day",null,null,null,null,null,null,null,null,null,null,null,null,null,null,null,null,170.71307044466113,176.04785389605681,181.38263734745249,null,2007.0180460347751,2070.4657132965199,2132.6185302059839,null,5899.3382049899583,8028.0721841391005,10230.61263336823,2007.0180460347751,804.21860529789581,830.89252255487418,850.89796049760787,null,null,null,null,2814.0982706112104,null,null,null,1459.0632739567129,null,null,null,3160.8591949519291,null,null,null,1632.443736127072,0,0,0,0,0,0,0,0]
[550,"60/mo or <2/day",null,null,null,null,null,null,null,null,null,null,null,null,null,null,null,null,389.43919195188329,401.44245471752356,416.11310920886149,null,4579.8856960161283,4721.0243844147035,4893.2394812680086,null,13458.674561603517,18305.299430189432,23469.162635084067,4579.8856960161283,804.21860529789581,830.89252255487418,850.89796049760787,null,null,null,null,2814.0982706112104,null,null,null,1459.0632739567129,null,null,null,3160.8591949519291,null,null,null,1632.443736127072,0,0,0,0,0,0,0,0]
[550,"90/mo or <3/day",null,null,null,null,null,null,null,null,null,null,null,null,null,null,null,null,652.17727693311974,670.84901901300418,693.5218486814357,null,7669.3986365574019,7889.5231964450859,8156.2623690148712,null,22539.460082146663,30590.839572626817,39114.83944168935,7669.3986365574019,804.21860529789581,830.89252255487418,850.89796049760787,null,null,null,null,2814.0982706112104,null,null,null,1459.0632739567129,null,null,null,3160.8591949519291,null,null,null,1632.443736127072,0,0,0,0,0,0,0,0]
[1550,"30/mo or  <1/day",null,null,null,null,null,null,null,null,null,null,null,null,null,null,null,null,170.71307044466113,176.04785389605681,181.38263734745249,null,2007.0180460347751,2070.4657132965199,2132.6185302059839,null,5899.3382049899583,8028.0721841391005,10230.61263336823,2007.0180460347751,804.21860529789581,830.89252255487418,850.89796049760787,null,null,null,null,2814.0982706112104,null,null,null,1459.0632739567129,null,null,null,3160.8591949519291,null,null,null,1632.443736127072,0,0,0,0,0,0,0,0]
[1550,"60/mo or <2/day",null,null,null,null,null,null,null,null,null,null,null,null,null,null,null,null,389.43919195188329,401.44245471752356,416.11310920886149,null,4579.8856960161283,4721.0243844147035,4893.2394812680086,null,13458.674561603517,18305.299430189432,23469.162635084067,4579.8856960161283,804.21860529789581,830.89252255487418,850.89796049760787,null,null,null,null,2814.0982706112104,null,null,null,1459.0632739567129,null,null,null,3160.8591949519291,null,null,null,1632.443736127072,0,0,0,0,0,0,0,0]
[1550,"90/mo or <3/day",null,null,null,null,null,null,null,null,null,null,null,null,null,null,null,null,652.17727693311974,670.84901901300418,693.5218486814357,null,7669.3986365574019,7889.5231964450859,8156.2623690148712,null,22539.460082146663,30590.839572626817,39114.83944168935,7669.3986365574019,804.21860529789581,830.89252255487418,850.89796049760787,null,null,null,null,2814.0982706112104,null,null,null,1459.0632739567129,null,null,null,3160.8591949519291,null,null,null,1632.443736127072,0,0,0,0,0,0,0,0]
["510E","30/mo or  <1/day",null,null,null,null,null,null,null,null,null,null,null,null,null,null,null,null,150.70763250192741,154.70872009047412,158.70980767902091,null,1772.6501322720044,1819.2647449541028,1865.8793576362009,null,5207.8881168721709,7054.3447192241638,8951.3004853150978,1772.6501322720044,708.19250317277397,728.19794111550766,748.20337905824147,null,null,null,null,2814.0982706112104,null,null,null,1459.0632739567129,null,null,null,3160.8591949519291,null,null,null,1632.443736127072,0,0,0,0,0,0,0,0]
["510E","60/mo or <2/day",null,null,null,null,null,null,null,null,null,null,null,null,null,null,null,null,344.09353261502008,354.76309951781138,365.4326664206028,null,4046.4073508765628,4172.0078350477716,4297.6083192189799,null,11891.90563534411,16176.565451040287,20610.13305724872,4046.4073508765628,708.19250317277397,728.19794111550766,748.20337905824147,null,null,null,null,2814.0982706112104,null,null,null,1459.0632739567129,null,null,null,3160.8591949519291,null,null,null,1632.443736127072,0,0,0,0,0,0,0,0]
["510E","90/mo or <3/day",null,null,null,null,null,null,null,null,null,null,null,null,null,null,null,null,569.48813343648669,585.49248379067376,605.49792173340745,null,6696.9660219947455,6886.0141734276995,7120.3820871904718,null,19681.725354663602,26698.519413671631,34150.383191045905,6696.9660219947455,708.19250317277397,728.19794111550766,748.20337905824147,null,null,null,null,2814.0982706112104,null,null,null,1459.0632739567129,null,null,null,3160.8591949519291,null,null,null,1632.443736127072,0,0,0,0,0,0,0,0]
[7200,"30/mo or  <1/day",null,null,null,null,null,null,null,null,null,null,null,null,null,null,null,null,126.70110697064693,130.70219455919369,136.03697801058934,null,1490.3727554748555,1536.9873681569538,1600.4350354186979,null,4379.1838914126511,5960.1961715471425,7671.9883372619634,1490.3727554748555,610.83270518480322,632.17183899038594,652.17727693311974,null,null,null,null,2814.0982706112104,null,null,null,1459.0632739567129,null,null,null,3160.8591949519291,null,null,null,1632.443736127072,0,0,0,0,0,0,0,0]
[7200,"60/mo or <2/day",null,null,null,null,null,null,null,null,null,null,null,null,null,null,null,null,294.74678568961025,302.74896086670373,312.08483190664612,null,3466.3143930548986,3560.8384687713751,3669.6058983629373,null,10186.587721390693,13805.694456014691,17602.195688901116,3466.3143930548986,610.83270518480322,632.17183899038594,652.17727693311974,null,null,null,null,2814.0982706112104,null,null,null,1459.0632739567129,null,null,null,3160.8591949519291,null,null,null,1632.443736127072,0,0,0,0,0,0,0,0]
[7200,"90/mo or <3/day",null,null,null,null,null,null,null,null,null,null,null,null,null,null,null,null,493.46746925409866,510.80551547113447,525.47616996247245,null,5803.5192789212006,6006.8107842292384,6179.0258810825462,null,17054.473989886468,23293.062987173922,29636.534862996083,5803.5192789212006,610.83270518480322,632.17183899038594,652.17727693311974,null,null,null,null,2814.0982706112104,null,null,null,1459.0632739567129,null,null,null,3160.8591949519291,null,null,null,1632.443736127072,0,0,0,0,0,0,0,0]
[5100,"30/mo or  <1/day",null,null,null,null,null,null,null,null,null,null,null,null,null,null,null,null,69.352184868143581,72.019576593841421,74.686968319539247,null,815.75572193671496,846.83213039144698,877.908538846179,null,2396.7680020712055,3283.7404933833482,4212.148195968467,815.75572193671496,425.44898024880393,440.11963474014198,453.45659336863116,null,null,null,null,2814.0982706112104,null,null,null,1459.0632739567129,null,null,null,3160.8591949519291,null,null,null,1632.443736127072,0,0,0,0,0,0,0,0]
[5100,"60/mo or <2/day",null,null,null,null,null,null,null,null,null,null,null,null,null,null,null,null,162.71089526756759,168.0456787189633,173.38046217035892,null,1913.7888206705793,1975.9416375800429,2039.3893048417876,null,5623.5350799542111,7662.9243847959997,9778.7098604223374,1913.7888206705793,425.44898024880393,440.11963474014198,453.45659336863116,null,null,null,null,2814.0982706112104,null,null,null,1459.0632739567129,null,null,null,3160.8591949519291,null,null,null,1632.443736127072,0,0,0,0,0,0,0,0]
[5100,"90/mo or <3/day",null,null,null,null,null,null,null,null,null,null,null,null,null,null,null,null,274.7413477468765,282.74352292397003,290.74569810106345,null,3230.6516289398473,3325.1757046563243,3419.6997803728009,null,9495.1376332729069,12892.82495765694,16397.984861280253,3230.6516289398473,425.44898024880393,440.11963474014198,453.45659336863116,null,null,null,null,2814.0982706112104,null,null,null,1459.0632739567129,null,null,null,3160.8591949519291,null,null,null,1632.443736127072,0,0,0,0,0,0,0,0]
[5200,"30/mo or  <1/day",null,null,null,null,null,null,null,null,null,null,null,null,null,null,null,null,69.352184868143581,72.019576593841421,74.686968319539247,null,815.75572193671496,846.83213039144698,877.908538846179,null,2396.7680020712055,3283.7404933833482,4212.148195968467,815.75572193671496,425.44898024880393,440.11963474014198,453.45659336863116,null,null,null,null,2814.0982706112104,null,null,null,1459.0632739567129,null,null,null,3160.8591949519291,null,null,null,1632.443736127072,0,0,0,0,0,0,0,0]
[5200,"60/mo or <2/day",null,null,null,null,null,null,null,null,null,null,null,null,null,null,null,null,162.71089526756759,168.0456787189633,173.38046217035892,null,1913.7888206705793,1975.9416375800429,2039.3893048417876,null,5623.5350799542111,7662.9243847959997,9778.7098604223374,1913.7888206705793,425.44898024880393,440.11963474014198,453.45659336863116,null,null,null,null,2814.0982706112104,null,null,null,1459.0632739567129,null,null,null,3160.8591949519291,null,null,null,1632.443736127072,0,0,0,0,0,0,0,0]
[5200,"90/mo or <3/day",null,null,null,null,null,null,null,null,null,null,null,null,null,null,null,null,274.7413477468765,282.74352292397003,290.74569810106345,null,3230.6516289398473,3325.1757046563243,3419.6997803728009,null,9495.1376332729069,12892.82495765694,16397.984861280253,3230.6516289398473,425.44898024880393,440.11963474014198,453.45659336863116,null,null,null,null,2814.0982706112104,null,null,null,1459.0632739567129,null,null,null,3160.8591949519291,null,null,null,1632.443736127072,0,0,0,0,0,0,0,0]
[5280,"30/mo or  <1/day",null,null,null,null,null,null,null,null,null,null,null,null,null,null,null,null,69.352184868143581,72.019576593841421,74.686968319539247,null,815.75572193671496,846.83213039144698,877.908538846179,null,2396.7680020712055,3283.7404933833482,4212.148195968467,815.75572193671496,425.44898024880393,440.11963474014198,453.45659336863116,null,null,null,null,2814.0982706112104,null,null,null,1459.0632739567129,null,null,null,3160.8591949519291,null,null,null,1632.443736127072,0,0,0,0,0,0,0,0]
[5280,"60/mo or <2/day",null,null,null,null,null,null,null,null,null,null,null,null,null,null,null,null,162.71089526756759,168.0456787189633,173.38046217035892,null,1913.7888206705793,1975.9416375800429,2039.3893048417876,null,5623.5350799542111,7662.9243847959997,9778.7098604223374,1913.7888206705793,425.44898024880393,440.11963474014198,453.45659336863116,null,null,null,null,2814.0982706112104,null,null,null,1459.0632739567129,null,null,null,3160.8591949519291,null,null,null,1632.443736127072,0,0,0,0,0,0,0,0]
[5280,"90/mo or <3/day",null,null,null,null,null,null,null,null,null,null,null,null,null,null,null,null,274.7413477468765,282.74352292397003,290.74569810106345,null,3230.6516289398473,3325.1757046563243,3419.6997803728009,null,9495.1376332729069,12892.82495765694,16397.984861280253,3230.6516289398473,425.44898024880393,440.11963474014198,453.45659336863116,null,null,null,null,2814.0982706112104,null,null,null,1459.0632739567129,null,null,null,3160.8591949519291,null,null,null,1632.443736127072,0,0,0,0,0,0,0,0]
[5300,"30/mo or  <1/day",null,null,null,null,null,null,null,null,null,null,null,null,null,null,null,null,69.352184868143581,72.019576593841421,74.686968319539247,null,815.75572193671496,846.83213039144698,877.908538846179,null,2396.7680020712055,3283.7404933833482,4212.148195968467,815.75572193671496,425.44898024880393,440.11963474014198,453.45659336863116,null,null,null,null,2814.0982706112104,null,null,null,1459.0632739567129,null,null,null,3160.8591949519291,null,null,null,1632.443736127072,0,0,0,0,0,0,0,0]
[5300,"60/mo or <2/day",null,null,null,null,null,null,null,null,null,null,null,null,null,null,null,null,162.71089526756759,168.0456787189633,173.38046217035892,null,1913.7888206705793,1975.9416375800429,2039.3893048417876,null,5623.5350799542111,7662.9243847959997,9778.7098604223374,1913.7888206705793,425.44898024880393,440.11963474014198,453.45659336863116,null,null,null,null,2814.0982706112104,null,null,null,1459.0632739567129,null,null,null,3160.8591949519291,null,null,null,1632.443736127072,0,0,0,0,0,0,0,0]
[5300,"90/mo or <3/day",null,null,null,null,null,null,null,null,null,null,null,null,null,null,null,null,274.7413477468765,282.74352292397003,290.74569810106345,null,3230.6516289398473,3325.1757046563243,3419.6997803728009,null,9495.1376332729069,12892.82495765694,16397.984861280253,3230.6516289398473,425.44898024880393,440.11963474014198,453.45659336863116,null,null,null,null,2814.0982706112104,null,null,null,1459.0632739567129,null,null,null,3160.8591949519291,null,null,null,1632.443736127072,0,0,0,0,0,0,0,0]
[5400,"30/mo or  <1/day",null,null,null,null,null,null,null,null,null,null,null,null,null,null,null,null,69.352184868143581,72.019576593841421,74.686968319539247,null,815.75572193671496,846.83213039144698,877.908538846179,null,2396.7680020712055,3283.7404933833482,4212.148195968467,815.75572193671496,425.44898024880393,440.11963474014198,453.45659336863116,null,null,null,null,2814.0982706112104,null,null,null,1459.0632739567129,null,null,null,3160.8591949519291,null,null,null,1632.443736127072,0,0,0,0,0,0,0,0]
[5400,"60/mo or <2/day",null,null,null,null,null,null,null,null,null,null,null,null,null,null,null,null,162.71089526756759,168.0456787189633,173.38046217035892,null,1913.7888206705793,1975.9416375800429,2039.3893048417876,null,5623.5350799542111,7662.9243847959997,9778.7098604223374,1913.7888206705793,425.44898024880393,440.11963474014198,453.45659336863116,null,null,null,null,2814.0982706112104,null,null,null,1459.0632739567129,null,null,null,3160.8591949519291,null,null,null,1632.443736127072,0,0,0,0,0,0,0,0]
[5400,"90/mo or <3/day",null,null,null,null,null,null,null,null,null,null,null,null,null,null,null,null,274.7413477468765,282.74352292397003,290.74569810106345,null,3230.6516289398473,3325.1757046563243,3419.6997803728009,null,9495.1376332729069,12892.82495765694,16397.984861280253,3230.6516289398473,425.44898024880393,440.11963474014198,453.45659336863116,null,null,null,null,2814.0982706112104,null,null,null,1459.0632739567129,null,null,null,3160.8591949519291,null,null,null,1632.443736127072,0,0,0,0,0,0,0,0]
[5500,"30/mo or  <1/day",null,null,null,null,null,null,null,null,null,null,null,null,null,null,null,null,69.352184868143581,72.019576593841421,74.686968319539247,null,815.75572193671496,846.83213039144698,877.908538846179,null,2396.7680020712055,3283.7404933833482,4212.148195968467,815.75572193671496,425.44898024880393,440.11963474014198,453.45659336863116,null,null,null,null,2814.0982706112104,null,null,null,1459.0632739567129,null,null,null,3160.8591949519291,null,null,null,1632.443736127072,0,0,0,0,0,0,0,0]
[5500,"60/mo or <2/day",null,null,null,null,null,null,null,null,null,null,null,null,null,null,null,null,162.71089526756759,168.0456787189633,173.38046217035892,null,1913.7888206705793,1975.9416375800429,2039.3893048417876,null,5623.5350799542111,7662.9243847959997,9778.7098604223374,1913.7888206705793,425.44898024880393,440.11963474014198,453.45659336863116,null,null,null,null,2814.0982706112104,null,null,null,1459.0632739567129,null,null,null,3160.8591949519291,null,null,null,1632.443736127072,0,0,0,0,0,0,0,0]
[5500,"90/mo or <3/day",null,null,null,null,null,null,null,null,null,null,null,null,null,null,null,null,274.7413477468765,282.74352292397003,290.74569810106345,null,3230.6516289398473,3325.1757046563243,3419.6997803728009,null,9495.1376332729069,12892.82495765694,16397.984861280253,3230.6516289398473,425.44898024880393,440.11963474014198,453.45659336863116,null,null,null,null,2814.0982706112104,null,null,null,1459.0632739567129,null,null,null,3160.8591949519291,null,null,null,1632.443736127072,0,0,0,0,0,0,0,0]
[5520,"30/mo or  <1/day",null,null,null,null,null,null,null,null,null,null,null,null,null,null,null,null,69.352184868143581,72.019576593841421,74.686968319539247,null,815.75572193671496,846.83213039144698,877.908538846179,null,2396.7680020712055,3283.7404933833482,4212.148195968467,815.75572193671496,425.44898024880393,440.11963474014198,453.45659336863116,null,null,null,null,2814.0982706112104,null,null,null,1459.0632739567129,null,null,null,3160.8591949519291,null,null,null,1632.443736127072,0,0,0,0,0,0,0,0]
[5520,"60/mo or <2/day",null,null,null,null,null,null,null,null,null,null,null,null,null,null,null,null,162.71089526756759,168.0456787189633,173.38046217035892,null,1913.7888206705793,1975.9416375800429,2039.3893048417876,null,5623.5350799542111,7662.9243847959997,9778.7098604223374,1913.7888206705793,425.44898024880393,440.11963474014198,453.45659336863116,null,null,null,null,2814.0982706112104,null,null,null,1459.0632739567129,null,null,null,3160.8591949519291,null,null,null,1632.443736127072,0,0,0,0,0,0,0,0]
[5520,"90/mo or <3/day",null,null,null,null,null,null,null,null,null,null,null,null,null,null,null,null,274.7413477468765,282.74352292397003,290.74569810106345,null,3230.6516289398473,3325.1757046563243,3419.6997803728009,null,9495.1376332729069,12892.82495765694,16397.984861280253,3230.6516289398473,425.44898024880393,440.11963474014198,453.45659336863116,null,null,null,null,2814.0982706112104,null,null,null,1459.0632739567129,null,null,null,3160.8591949519291,null,null,null,1632.443736127072,0,0,0,0,0,0,0,0]
[5540,"30/mo or  <1/day",null,null,null,null,null,null,null,null,null,null,null,null,null,null,null,null,69.352184868143581,72.019576593841421,74.686968319539247,null,815.75572193671496,846.83213039144698,877.908538846179,null,2396.7680020712055,3283.7404933833482,4212.148195968467,815.75572193671496,425.44898024880393,440.11963474014198,453.45659336863116,null,null,null,null,2814.0982706112104,null,null,null,1459.0632739567129,null,null,null,3160.8591949519291,null,null,null,1632.443736127072,0,0,0,0,0,0,0,0]
[5540,"60/mo or <2/day",null,null,null,null,null,null,null,null,null,null,null,null,null,null,null,null,162.71089526756759,168.0456787189633,173.38046217035892,null,1913.7888206705793,1975.9416375800429,2039.3893048417876,null,5623.5350799542111,7662.9243847959997,9778.7098604223374,1913.7888206705793,425.44898024880393,440.11963474014198,453.45659336863116,null,null,null,null,2814.0982706112104,null,null,null,1459.0632739567129,null,null,null,3160.8591949519291,null,null,null,1632.443736127072,0,0,0,0,0,0,0,0]
[5540,"90/mo or <3/day",null,null,null,null,null,null,null,null,null,null,null,null,null,null,null,null,274.7413477468765,282.74352292397003,290.74569810106345,null,3230.6516289398473,3325.1757046563243,3419.6997803728009,null,9495.1376332729069,12892.82495765694,16397.984861280253,3230.6516289398473,425.44898024880393,440.11963474014198,453.45659336863116,null,null,null,null,2814.0982706112104,null,null,null,1459.0632739567129,null,null,null,3160.8591949519291,null,null,null,1632.443736127072,0,0,0,0,0,0,0,0]
[5560,"30/mo or  <1/day",null,null,null,null,null,null,null,null,null,null,null,null,null,null,null,null,69.352184868143581,72.019576593841421,74.686968319539247,null,815.75572193671496,846.83213039144698,877.908538846179,null,2396.7680020712055,3283.7404933833482,4212.148195968467,815.75572193671496,425.44898024880393,440.11963474014198,453.45659336863116,null,null,null,null,2814.0982706112104,null,null,null,1459.0632739567129,null,null,null,3160.8591949519291,null,null,null,1632.443736127072,0,0,0,0,0,0,0,0]
[5560,"60/mo or <2/day",null,null,null,null,null,null,null,null,null,null,null,null,null,null,null,null,162.71089526756759,168.0456787189633,173.38046217035892,null,1913.7888206705793,1975.9416375800429,2039.3893048417876,null,5623.5350799542111,7662.9243847959997,9778.7098604223374,1913.7888206705793,425.44898024880393,440.11963474014198,453.45659336863116,null,null,null,null,2814.0982706112104,null,null,null,1459.0632739567129,null,null,null,3160.8591949519291,null,null,null,1632.443736127072,0,0,0,0,0,0,0,0]
[5560,"90/mo or <3/day",null,null,null,null,null,null,null,null,null,null,null,null,null,null,null,null,274.7413477468765,282.74352292397003,290.74569810106345,null,3230.6516289398473,3325.1757046563243,3419.6997803728009,null,9495.1376332729069,12892.82495765694,16397.984861280253,3230.6516289398473,425.44898024880393,440.11963474014198,453.45659336863116,null,null,null,null,2814.0982706112104,null,null,null,1459.0632739567129,null,null,null,3160.8591949519291,null,null,null,1632.443736127072,0,0,0,0,0,0,0,0]
["T600","30/mo or  <1/day",141.32322552604558,162.82405062652856,171.75308880002234,null,4883.974386999751,7424.6467772510996,9686.2349168167511,null,221.86109459030936,239.74228653035769,248.70203916182339,null,7667.2740762706499,10932.056954787598,14025.86930135295,null,82.689143496632752,85.356535222330564,88.023926948028404,null,972.43261456265554,1003.5090230173876,1034.5854314721196,null,2857.7347274830631,3892.3201589551836,4964.4562506434368,972.43261456265554,481.46420648845827,493.46746925409866,509.47181960828556,null,null,null,null,2814.0982706112104,null,null,null,1459.0632739567129,null,null,null,3160.8591949519291,null,null,null,1632.443736127072,0,0,0,0,0,0,0,0]
["T600","60/mo or <2/day",314.87614933164741,343.51298185007556,361.40594791885303,null,10881.771504213602,15663.917853801,20381.950253906551,null,397.19647349263624,427.59922540085637,445.53263930513265,null,13726.670870437652,19498.183460068503,25126.382515563451,null,184.05002907315034,189.38481252454591,194.71959597594164,null,2164.9897890129964,2227.1426059224605,2289.2954228319236,null,6360.3049304018177,8635.356999358657,10981.625837690919,2164.9897890129964,481.46420648845827,493.46746925409866,509.47181960828556,null,null,null,null,2814.0982706112104,null,null,null,1459.0632739567129,null,null,null,3160.8591949519291,null,null,null,1632.443736127072,0,0,0,0,0,0,0,0]
["T600","90/mo or <3/day",536.77362055658398,null,null,null,18550.3027167486,null,null,null,681.66175627607936,null,null,null,23557.476457654651,null,null,null,308.08374431809943,318.75331122089074,329.4228781236821,null,3622.9912856808387,3748.591769852047,3874.1922540232563,null,10647.554446802553,14534.695204348613,18579.807704872896,3622.9912856808387,481.46420648845827,493.46746925409866,509.47181960828556,null,null,null,null,2814.0982706112104,null,null,null,1459.0632739567129,null,null,null,3160.8591949519291,null,null,null,1632.443736127072,0,0,0,0,0,0,0,0]
["T600e","30/mo or  <1/day",141.32322552604558,162.82405062652856,171.75308880002234,null,4883.974386999751,7424.6467772510996,9686.2349168167511,null,221.86109459030936,239.74228653035769,248.70203916182339,null,7667.2740762706499,10932.056954787598,14025.86930135295,null,82.689143496632752,85.356535222330564,88.023926948028404,null,972.43261456265554,1003.5090230173876,1034.5854314721196,null,2857.7347274830631,3892.3201589551836,4964.4562506434368,972.43261456265554,481.46420648845827,493.46746925409866,509.47181960828556,null,null,null,null,2814.0982706112104,null,null,null,1459.0632739567129,null,null,null,3160.8591949519291,null,null,null,1632.443736127072,0,0,0,0,0,0,0,0]
["T600e","60/mo or <2/day",314.87614933164741,343.51298185007556,361.40594791885303,null,10881.771504213602,15663.917853801,20381.950253906551,null,397.19647349263624,427.59922540085637,445.53263930513265,null,13726.670870437652,19498.183460068503,25126.382515563451,null,184.05002907315034,189.38481252454591,194.71959597594164,null,2164.9897890129964,2227.1426059224605,2289.2954228319236,null,6360.3049304018177,8635.356999358657,10981.625837690919,2164.9897890129964,481.46420648845827,493.46746925409866,509.47181960828556,null,null,null,null,2814.0982706112104,null,null,null,1459.0632739567129,null,null,null,3160.8591949519291,null,null,null,1632.443736127072,0,0,0,0,0,0,0,0]
["T600e","90/mo or <3/day",536.77362055658398,null,null,null,18550.3027167486,null,null,null,681.66175627607936,null,null,null,23557.476457654651,null,null,null,308.08374431809943,318.75331122089074,329.4228781236821,null,3622.9912856808387,3748.591769852047,3874.1922540232563,null,10647.554446802553,14534.695204348613,18579.807704872896,3622.9912856808387,481.46420648845827,493.46746925409866,509.47181960828556,null,null,null,null,2814.0982706112104,null,null,null,1459.0632739567129,null,null,null,3160.8591949519291,null,null,null,1632.443736127072,0,0,0,0,0,0,0,0]
["T600ee","30/mo or  <1/day",141.32322552604558,162.82405062652856,171.75308880002234,null,4883.974386999751,7424.6467772510996,9686.2349168167511,null,221.86109459030936,239.74228653035769,248.70203916182339,null,7667.2740762706499,10932.056954787598,14025.86930135295,null,82.689143496632752,85.356535222330564,88.023926948028404,null,972.43261456265554,1003.5090230173876,1034.5854314721196,null,2857.7347274830631,3892.3201589551836,4964.4562506434368,972.43261456265554,481.46420648845827,493.46746925409866,509.47181960828556,null,null,null,null,2814.0982706112104,null,null,null,1459.0632739567129,null,null,null,3160.8591949519291,null,null,null,1632.443736127072,0,0,0,0,0,0,0,0]
["T600ee","60/mo or <2/day",314.87614933164741,343.51298185007556,361.40594791885303,null,10881.771504213602,15663.917853801,20381.950253906551,null,397.19647349263624,427.59922540085637,445.53263930513265,null,13726.670870437652,19498.183460068503,25126.382515563451,null,184.05002907315034,189.38481252454591,194.71959597594164,null,2164.9897890129964,2227.1426059224605,2289.2954228319236,null,6360.3049304018177,8635.356999358657,10981.625837690919,2164.9897890129964,481.46420648845827,493.46746925409866,509.47181960828556,null,null,null,null,2814.0982706112104,null,null,null,1459.0632739567129,null,null,null,3160.8591949519291,null,null,null,1632.443736127072,0,0,0,0,0,0,0,0]
["T600ee","90/mo or <3/day",536.77362055658398,null,null,null,18550.3027167486,null,null,null,681.66175627607936,null,null,null,23557.476457654651,null,null,null,308.08374431809943,318.75331122089074,329.4228781236821,null,3622.9912856808387,3748.591769852047,3874.1922540232563,null,10647.554446802553,14534.695204348613,18579.807704872896,3622.9912856808387,481.46420648845827,493.46746925409866,509.47181960828556,null,null,null,null,2814.0982706112104,null,null,null,1459.0632739567129,null,null,null,3160.8591949519291,null,null,null,1632.443736127072,0,0,0,0,0,0,0,0]
["T600_Series_Std_Config","30/mo or  <1/day",141.32322552604558,162.82405062652856,171.75308880002234,null,4883.974386999751,7424.6467772510996,9686.2349168167511,null,221.86109459030936,239.74228653035769,248.70203916182339,null,7667.2740762706499,10932.056954787598,14025.86930135295,null,82.689143496632752,85.356535222330564,88.023926948028404,null,972.43261456265554,1003.5090230173876,1034.5854314721196,null,2857.7347274830631,3892.3201589551836,4964.4562506434368,972.43261456265554,481.46420648845827,493.46746925409866,509.47181960828556,null,null,null,null,2814.0982706112104,null,null,null,1459.0632739567129,null,null,null,3160.8591949519291,null,null,null,1632.443736127072,0,0,0,0,0,0,0,0]
["T600_Series_Std_Config","60/mo or <2/day",314.87614933164741,343.51298185007556,361.40594791885303,null,10881.771504213602,15663.917853801,20381.950253906551,null,397.19647349263624,427.59922540085637,445.53263930513265,null,13726.670870437652,19498.183460068503,25126.382515563451,null,184.05002907315034,189.38481252454591,194.71959597594164,null,2164.9897890129964,2227.1426059224605,2289.2954228319236,null,6360.3049304018177,8635.356999358657,10981.625837690919,2164.9897890129964,481.46420648845827,493.46746925409866,509.47181960828556,null,null,null,null,2814.0982706112104,null,null,null,1459.0632739567129,null,null,null,3160.8591949519291,null,null,null,1632.443736127072,0,0,0,0,0,0,0,0]
["T600_Series_Std_Config","90/mo or <3/day",536.77362055658398,null,null,null,18550.3027167486,null,null,null,681.66175627607936,null,null,null,23557.476457654651,null,null,null,308.08374431809943,318.75331122089074,329.4228781236821,null,3622.9912856808387,3748.591769852047,3874.1922540232563,null,10647.554446802553,14534.695204348613,18579.807704872896,3622.9912856808387,481.46420648845827,493.46746925409866,509.47181960828556,null,null,null,null,2814.0982706112104,null,null,null,1459.0632739567129,null,null,null,3160.8591949519291,null,null,null,1632.443736127072,0,0,0,0,0,0,0,0]
["T681","30/mo or  <1/day",172.57075467067185,188.82186297681923,198.59159871763782,null,5963.8544380764006,8610.1262745331514,11199.82697909415,null,278.31763153147352,296.23170064037413,304.38525990451723,null,9618.3495585418514,13507.92916044075,17166.195689699252,null,88.023926948028404,90.691318673726244,93.358710399424069,null,1034.5854314721196,1066.9566902791321,1098.0330987338641,null,3041.6034775068952,4135.7520251839169,5264.8615323725135,1034.5854314721196,501.46964443119214,516.14029892253018,529.47725755101931,null,null,null,null,2814.0982706112104,null,null,null,1459.0632739567129,null,null,null,3160.8591949519291,null,null,null,1632.443736127072]
["T681","60/mo or <2/day",353.21712222854637,387.37567479738453,405.3194566710975,null,12206.7931268385,17664.021650381848,22858.508694676053,null,467.14874188043177,501.3194271237378,517.64441636782863,null,16144.1439067827,22859.765830940403,29193.218330735697,null,210.7239463301286,217.39242564437319,224.06090495861773,null,2478.3435742648771,2556.0345954017066,2635.0204668908182,null,7282.238381225533,9913.3742970595085,12636.4445879054,2478.3435742648771,501.46964443119214,516.14029892253018,529.47725755101931,null,null,null,null,2814.0982706112104,null,null,null,1459.0632739567129,null,null,null,3160.8591949519291,null,null,null,1632.443736127072]
["T681","90/mo or <3/day",605.48908336705995,null,null,null,20925.033120105752,null,null,null,828.47785363080777,null,null,null,28631.278420571249,null,null,null,330.75657398653101,340.0924450264734,349.42831606641579,null,3889.7304582506222,3999.7927381944646,4109.8550181383071,null,11430.938909932252,15508.422669263548,19707.622361709211,3889.7304582506222,501.46964443119214,516.14029892253018,529.47725755101931,null,null,null,null,2814.0982706112104,null,null,null,1459.0632739567129,null,null,null,3160.8591949519291,null,null,null,1632.443736127072]
["T981","30/mo or  <1/day",188.83111034895819,208.34089918467262,216.49136903644612,null,6525.79434824085,9500.1787496929519,12209.307399367201,null,296.25131240260362,314.1517197577536,322.30732134451955,null,10238.117736866401,14325.067732268248,18176.933246236651,null,88.023926948028404,90.691318673726244,93.358710399424069,null,1034.5854314721196,1066.9566902791321,1098.0330987338641,null,3041.6034775068952,4135.7520251839169,5264.8615323725135,1034.5854314721196,501.46964443119214,516.14029892253018,529.47725755101931,null,null,null,null,2814.0982706112104,null,null,null,1459.0632739567129,null,null,null,3160.8591949519291,null,null,null,1632.443736127072]
["T981","60/mo or <2/day",429.75356148383582,472.04087281195774,496.46785123349753,null,14851.807827030902,21524.687118200702,27998.9388796032,null,545.28575305931088,587.58364222878481,612.0473146245572,null,18844.472602606504,26793.34520209155,34517.19041025795,null,210.7239463301286,217.39242564437319,224.06090495861773,null,2478.3435742648771,2556.0345954017066,2635.0204668908182,null,7282.238381225533,9913.3742970595085,12636.4445879054,2478.3435742648771,501.46964443119214,516.14029892253018,529.47725755101931,null,null,null,null,2814.0982706112104,null,null,null,1459.0632739567129,null,null,null,3160.8591949519291,null,null,null,1632.443736127072]
["T981","90/mo or <3/day",681.9891459877224,750.35255433495217,782.93104969801232,null,23568.790684033804,34215.477706813952,44154.397012765054,null,906.61486480968676,976.58590337682404,1009.2082209386389,null,31331.607116395047,44531.53789207006,56915.587232181897,null,330.75657398653101,340.0924450264734,349.42831606641579,null,3889.7304582506222,3999.7927381944646,4109.8550181383071,null,11430.938909932252,15508.422669263548,19707.622361709211,3889.7304582506222,501.46964443119214,516.14029892253018,529.47725755101931,null,null,null,null,2814.0982706112104,null,null,null,1459.0632739567129,null,null,null,3160.8591949519291,null,null,null,1632.443736127072]
["T260","30/mo or  <1/day",0,null,null,null,0,null,null,null,null,null,null,null,null,null,null,null,69.352184868143581,72.019576593841421,74.686968319539247,null,815.75572193671496,846.83213039144698,877.908538846179,null,2396.7680020712055,3283.7404933833482,4212.148195968467,815.75572193671496,425.44898024880393,440.11963474014198,453.45659336863116,null,null,null,null,2814.0982706112104,null,null,null,1459.0632739567129,null,null,null,3160.8591949519291,null,null,null,1632.443736127072]
["T260","60/mo or <2/day",null,null,null,null,null,null,null,null,null,null,null,null,null,null,null,null,162.71089526756759,168.0456787189633,173.38046217035892,null,1913.7888206705793,1975.9416375800429,2039.3893048417876,null,5623.5350799542111,7662.9243847959997,9778.7098604223374,1913.7888206705793,425.44898024880393,440.11963474014198,453.45659336863116,null,null,null,null,2814.0982706112104,null,null,null,1459.0632739567129,null,null,null,3160.8591949519291,null,null,null,1632.443736127072]
["T260","90/mo or <3/day",null,null,null,null,null,null,null,null,null,null,null,null,null,null,null,null,274.7413477468765,282.74352292397003,290.74569810106345,null,3230.6516289398473,3325.1757046563243,3419.6997803728009,null,9495.1376332729069,12892.82495765694,16397.984861280253,3230.6516289398473,425.44898024880393,440.11963474014198,453.45659336863116,null,null,null,null,2814.0982706112104,null,null,null,1459.0632739567129,null,null,null,3160.8591949519291,null,null,null,1632.443736127072]
["T391_T291","30/mo or  <1/day",128.591403406582,null,null,null,4443.97669447725,null,null,null,201.81756891081099,null,null,null,6974.5919946138001,null,null,null,69.352184868143581,72.019576593841421,74.686968319539247,null,815.75572193671496,846.83213039144698,877.908538846179,null,2396.7680020712055,3283.7404933833482,4212.148195968467,815.75572193671496,425.44898024880393,440.11963474014198,453.45659336863116,null,null,null,null,2814.0982706112104,null,null,null,1459.0632739567129,null,null,null,3160.8591949519291,null,null,null,1632.443736127072]
["T391_T291","60/mo or <2/day",268.60507008605418,null,null,null,9282.6941759604015,null,null,null,345.10513270671669,null,null,null,11926.451739888451,null,null,null,162.71089526756759,168.0456787189633,173.38046217035892,null,1913.7888206705793,1975.9416375800429,2039.3893048417876,null,5623.5350799542111,7662.9243847959997,9778.7098604223374,1913.7888206705793,425.44898024880393,440.11963474014198,453.45659336863116,null,null,null,null,2814.0982706112104,null,null,null,1459.0632739567129,null,null,null,3160.8591949519291,null,null,null,1632.443736127072]
["T391_T291","90/mo or <3/day",472.05958755508192,null,null,null,16313.857302469951,null,null,null,603.8521348088434,null,null,null,20868.461988210005,null,null,null,274.7413477468765,282.74352292397003,290.74569810106345,null,3230.6516289398473,3325.1757046563243,3419.6997803728009,null,9495.1376332729069,12892.82495765694,16397.984861280253,3230.6516289398473,425.44898024880393,440.11963474014198,453.45659336863116,null,null,null,null,2814.0982706112104,null,null,null,1459.0632739567129,null,null,null,3160.8591949519291,null,null,null,1632.443736127072]
["T1581_Built_to_Order","30/mo or  <1/day",230.80974670856085,256.83522784231968,265.5095445421241,null,7976.5295973007514,11711.481438684599,14973.75004467285,null,343.6136906870081,371.33036537228469,380.04132523706437,null,11874.909153050099,16932.36834453015,21432.91617090315,null,126.70110697064693,130.70219455919369,136.03697801058934,null,1490.3727554748555,1536.9873681569538,1600.4350354186979,null,4379.1838914126511,5960.1961715471425,7671.9883372619634,1490.3727554748555,610.83270518480322,632.17183899038594,652.17727693311974,null,null,null,null,2814.0982706112104,null,null,null,1459.0632739567129,null,null,null,3160.8591949519291,null,null,null,1632.443736127072]
["T1581_Built_to_Order","60/mo or <2/day",503.2343634304541,557.00933268851725,576.1586095021645,null,17391.223081017903,25399.181084927397,32493.201024654449,null,626.44202491223439,681.9532198269236,699.33934522038953,null,21649.143608371345,31096.522634961602,39440.136021452548,null,294.74678568961025,302.74896086670373,312.08483190664612,null,3466.3143930548986,3560.8384687713751,3669.6058983629373,null,10186.587721390693,13805.694456014691,17602.195688901116,3466.3143930548986,610.83270518480322,632.17183899038594,652.17727693311974,null,null,null,null,2814.0982706112104,null,null,null,1459.0632739567129,null,null,null,3160.8591949519291,null,null,null,1632.443736127072]
["T1581_Built_to_Order","90/mo or <3/day",817.31022680030662,null,null,null,28245.337587415797,null,null,null,1058.5236910122007,null,null,null,36581.408156320656,null,null,null,493.46746925409866,510.80551547113447,525.47616996247245,null,5803.5192789212006,6006.8107842292384,6179.0258810825462,null,17054.473989886468,23293.062987173922,29636.534862996083,5803.5192789212006,610.83270518480322,632.17183899038594,652.17727693311974,null,null,null,null,2814.0982706112104,null,null,null,1459.0632739567129,null,null,null,3160.8591949519291,null,null,null,1632.443736127072]
["M_X4ROVR","30/mo or  <1/day",216,216,216,null,7776,10368,12960,2592,null,null,null,null,null,null,null,null,110,120,135,null,1320,1440,1620,null,3960,5760,8100,1320,0,null,null,null,null,null,null,2814,null,null,null,1459,null,null,null,3161,null,null,null,1632]
["M_X4ROVR","60/mo or <2/day",232,232,232,null,8352,11136,13920,2784,null,null,null,null,null,null,null,null,120,130,145,null,1440,1560,1740,null,4320,6240,8700,1440,null,null,null,null,null,null,null,2814,null,null,null,1459,null,null,null,3161,null,null,null,1632]
["M_X4ROVR","90/mo or <3/day",289,289,289,null,10404,13872,17340,3468,null,null,null,null,null,null,null,null,190,210,230,null,2280,2520,2760,null,6840,10080,13800,2280,null,null,null,null,null,null,null,2814,null,null,null,1459,null,null,null,3161,null,null,null,1632]
["M_X4ROVR","120/mo or <4/day",427,427,427,null,15372,20496,25620,5124,null,null,null,null,null,null,null,null,290,320,350,null,3480,3840,4200,null,10440,15360,21000,3480,null,null,null,null,null,null,null,2814,null,null,null,1459,null,null,null,3161,null,null,null,1632]
["M_X6ROVR","30/mo or  <1/day",230,250,275,null,8280,12000,16500,2760,null,null,null,null,null,null,null,null,115,130,145,null,1380,1560,1740,null,4140,6240,8700,1380,0,null,null,null,null,null,null,2814,null,null,null,1459,null,null,null,3161,null,null,null,1632]
["M_X6ROVR","60/mo or <2/day",250,275,300,null,9000,13200,18000,3000,null,null,null,null,null,null,null,null,130,145,160,null,1560,1740,1920,null,4680,6960,9600,1560,null,null,null,null,null,null,null,2814,null,null,null,1459,null,null,null,3161,null,null,null,1632]
["M_X6ROVR","90/mo or <3/day",310,340,375,null,11160,16320,22500,3720,null,null,null,null,null,null,null,null,205,225,250,null,2460,2700,3000,null,7380,10800,15000,2460,null,null,null,null,null,null,null,2814,null,null,null,1459,null,null,null,3161,null,null,null,1632]
["M_X6ROVR","120/mo or <4/day",460,500,550,null,16560,24000,33000,5520,null,null,null,null,null,null,null,null,315,350,385,null,3780,4200,4620,null,11340,16800,23100,3780,null,null,null,null,null,null,null,2814,null,null,null,1459,null,null,null,3161,null,null,null,1632]
[0]

{"sheet":"County Tier","index":49,"n_rows":146,"n_cols":6,"rows_kept":146,"cut":false,"hidden":true,"merged":[]}
["State","Code","County","PM","Reg","Trip"]
["Alberta",null,"ALL OTHER COUNTIES",133,171,127]
["Alaska",null,"ALL OTHER COUNTIES",148,175,138]
["Alabama",null,"ALL OTHER COUNTIES",121,150,122]
["Arkansas",null,"ALL OTHER COUNTIES",128,152,122]
["Arizona",null,"ALL OTHER COUNTIES",130,151,127]
["British Columbia",null,"ALL OTHER COUNTIES",133,171,127]
["California",1,"Alameda",145,173,138]
["California",13,"Contra Costa",145,173,138]
["California",41,"Marin",145,173,138]
["California",51,"Mono",136,166,127]
["California",53,"Monterey",145,173,138]
["California",55,"Napa",145,173,138]
["California",69,"San Benito",145,173,138]
["California",75,"San Francisco",145,173,138]
["California",81,"San Mateo",145,173,138]
["California",85,"Santa Clara",145,173,138]
["California",87,"Santa Cruz",145,173,138]
["California",95,"Solano",145,173,138]
["California",97,"Sonoma",145,173,138]
["California",null,"ALL OTHER COUNTIES",136,166,135]
["Colorado",7,"Archuleta",129,157,126]
["Colorado",null,"ALL OTHER COUNTIES",129,157,126]
["Connecticut",null,"ALL OTHER COUNTIES",135,169,130]
["District of Columbia",null,"ALL OTHER COUNTIES",133,163,129]
["Delaware",null,"ALL OTHER COUNTIES",135,169,130]
["Florida",111,"St Lucie",128,150,122]
["Florida",null,"ALL OTHER COUNTIES",128,150,122]
["Georgia",127,"Glynn",128,155,122]
["Georgia",null,"ALL OTHER COUNTIES",128,155,122]
["Hawaii",null,"ALL OTHER COUNTIES",148,175,138]
["Iowa",149,"Plymouth",128,145,122]
["Iowa",null,"ALL OTHER COUNTIES",128,145,122]
["Idaho",1,"Ada",128,140,122]
["Idaho",null,"ALL OTHER COUNTIES",128,140,122]
["Illinois",5,"Bond",132,166,136]
["Illinois",null,"ALL OTHER COUNTIES",132,166,136]
["Indiana",5,"Bartholomew",134,168,136]
["Indiana",7,"Benton",128,152,122]
["Indiana",9,"Blackford",134,168,136]
["Indiana",11,"Boone",134,168,136]
["Indiana",15,"Carroll",134,168,136]
["Indiana",33,"De Kalb",134,168,136]
["Indiana",47,"Franklin",134,168,136]
["Indiana",59,"Hancock",134,168,136]
["Indiana",61,"Harrison",134,168,136]
["Indiana",73,"Jasper",134,168,136]
["Indiana",91,"La Porte",134,168,136]
["Indiana",89,"Lake",134,168,136]
["Indiana",111,"Newton",134,168,136]
["Indiana",127,"Porter",134,168,136]
["Indiana",131,"Pulaski",134,168,136]
["Indiana",149,"Starke",134,168,136]
["Indiana",null,"ALL OTHER COUNTIES",128,152,122]
["Kansas",81,"Haskell",128,158,128]
["Kansas",null,"ALL OTHER COUNTIES",128,158,128]
["Kentucky",85,"Grayson",128,150,122]
["Kentucky",null,"ALL OTHER COUNTIES",128,150,122]
["Louisiana",103,"St Tammany",128,144,122]
["Louisiana",null,"ALL OTHER COUNTIES",128,144,122]
["Massachusetts",13,"Hampden",137,169,138]
["Massachusetts",null,"ALL OTHER COUNTIES",137,169,138]
["Manitoba",null,"ALL OTHER COUNTIES",133,171,127]
["Maryland",null,"ALL OTHER COUNTIES",133,163,129]
["Maine",null,"ALL OTHER COUNTIES",129,157,126]
["Michigan",153,"Schoolcraft",128,156,128]
["Michigan",null,"ALL OTHER COUNTIES",128,156,128]
["Minnesota",null,"ALL OTHER COUNTIES",128,162,129]
["Missouri",510,"St Louis City",128,157,127]
["Missouri",null,"ALL OTHER COUNTIES",128,157,127]
["Mississippi",null,"ALL OTHER COUNTIES",128,152,122]
["Montana",null,"ALL OTHER COUNTIES",148,175,138]
["New Brunswick",null,"ALL OTHER COUNTIES",133,171,127]
["North Carolina",1,"Alamance",128,152,126]
["North Carolina",null,"ALL OTHER COUNTIES",128,152,126]
["North Dakota",13,"Burke",128,145,122]
["North Dakota",null,"ALL OTHER COUNTIES",128,145,122]
["Nebraska",41,"Custer",128,145,122]
["Nebraska",null,"ALL OTHER COUNTIES",128,145,122]
["New Hampshire",null,"ALL OTHER COUNTIES",140,169,138]
["New Jersey",1,"Atlantic",137,172,132]
["New Jersey",5,"Burlington",137,172,132]
["New Jersey",7,"Camden",137,172,132]
["New Jersey",9,"Cape May",137,172,132]
["New Jersey",11,"Cumberland",137,172,132]
["New Jersey",15,"Gloucester",137,172,132]
["New Jersey",33,"Salem",137,172,132]
["New Jersey",null,"ALL OTHER COUNTIES",144,172,137]
["Newfoundland and Labrador",null,"ALL OTHER COUNTIES",133,171,127]
["New Mexico",null,"ALL OTHER COUNTIES",128,150,122]
["Nova Scotia",null,"ALL OTHER COUNTIES",133,171,127]
["Nevada",7,"Elko",132,164,129]
["Nevada",null,"ALL OTHER COUNTIES",132,164,129]
["New York",1,"Albany",144,172,137]
["New York",5,"Bronx",144,172,137]
["New York",47,"Kings",144,172,137]
["New York",59,"Nassau",144,172,137]
["New York",61,"New York",144,172,137]
["New York",73,"Orleans",134,168,129]
["New York",81,"Queens",144,172,137]
["New York",85,"Richmond",144,172,137]
["New York",91,"Saratoga",144,172,137]
["New York",89,"St Lawrence",144,172,137]
["New York",103,"Suffolk",144,172,137]
["New York",111,"Ulster",144,172,137]
["New York",null,"ALL OTHER COUNTIES",134,168,129]
["Ohio",5,"Ashland",128,158,128]
["Ohio",null,"ALL OTHER COUNTIES",128,158,128]
["Oklahoma",7,"Beaver",128,145,122]
["Oklahoma",null,"ALL OTHER COUNTIES",128,145,122]
["Ontario",null,"ALL OTHER COUNTIES",133,171,127]
["Oregon",9,"Columbia",128,157,127]
["Oregon",null,"ALL OTHER COUNTIES",128,157,127]
["Pennsylvania",11,"Berks",132,166,128]
["Pennsylvania",null,"ALL OTHER COUNTIES",132,166,128]
["Prince Edward Island",null,"ALL OTHER COUNTIES",133,171,127]
["Quebec",null,"ALL OTHER COUNTIES",133,171,127]
["Rhode Island",null,"ALL OTHER COUNTIES",135,169,130]
["South Carolina",33,"Dillon",128,156,128]
["South Carolina",null,"ALL OTHER COUNTIES",128,156,128]
["South Dakota",5,"Beadle",128,145,122]
["South Dakota",null,"ALL OTHER COUNTIES",128,145,122]
["Saskatchewan",null,"ALL OTHER COUNTIES",133,171,127]
["Tennessee",47,"Fayette",128,152,122]
["Tennessee",null,"ALL OTHER COUNTIES",128,152,122]
["Texas",59,"Callahan",128,156,128]
["Texas",null,"ALL OTHER COUNTIES",128,156,128]
["Utah",null,"ALL OTHER COUNTIES",128,150,122]
["Virginia",510,"Alexandria City",126,152,120]
["Virginia",13,"Arlington",134,164,128]
["Virginia",59,"Fairfax",134,164,128]
["Virginia",600,"Fairfax City",126,152,120]
["Virginia",81,"Greensville",128,149,122]
["Virginia",85,"Hanover",134,164,128]
["Virginia",103,"Lancaster",134,164,128]
["Virginia",107,"Loudoun",126,152,120]
["Virginia",683,"Manassas City",126,152,120]
["Virginia",153,"Prince William",126,152,120]
["Virginia",179,"Stafford",126,152,120]
["Virginia",null,"ALL OTHER COUNTIES",128,149,122]
["Vermont",null,"ALL OTHER COUNTIES",135,168,130]
["Washington",null,"ALL OTHER COUNTIES",132,158,128]
["Wisconsin",null,"ALL OTHER COUNTIES",129,157,126]
["West Virginia",null,"ALL OTHER COUNTIES",128,158,128]
["Wyoming",null,"ALL OTHER COUNTIES",129,157,126]
["Yukon",null,"ALL OTHER COUNTIES",133,171,127]

{"sheet":"Settings","index":50,"n_rows":35,"n_cols":3,"rows_kept":35,"cut":false,"hidden":true,"merged":[]}
["Type Of Discounts","Low","High"]
["TTDiscount",0,5]
["TTNationalAccount",0,8]
[]
[]
["If No Option"]
["1 - Has Capital "]
["2 - Has own financing option"]
["3 - Does not qualify"]
["4 - Does not like Tennant offering"]
["5 - Other"]
[]
[]
[]
["Monthly Machine Usage"]
["< 30/mo. (Avg. 1hr./day)",25]
["< 60/mo. (Avg. 2hrs./day)",40]
["< 90/mo. (Avg. 3hrs./day)",60]
[null,80]
[null,100]
[null,125]
[null,150]
[]
["Terms"]
[36]
[48]
[60]
[]
["Contract"]
["Gold Contract"]
["Silver Contract"]
["Block of Time Weekly Agreement"]
["Block of Time Bi-Weekly Agreement"]
["Pay As You Go Agreement"]
["No Agreement"]

{"sheet":"Financing","index":51,"n_rows":69,"n_cols":110,"rows_kept":69,"cut":false,"hidden":true,"merged":[[37,3,37,4],[22,79,22,85],[22,87,22,93],[22,35,22,41],[22,43,22,49],[22,51,22,57],[22,59,22,65],[22,67,22,69],[22,71,22,77],[22,3,22,9],[22,11,22,17],[22,19,22,25],[22,27,22,33],[1,71,1,77],[1,79,1,85],[1,19,1,25],[1,27,1,33],[1,67,1,69],[1,59,1,65],[16,3,16,4],[1,35,1,41],[1,43,1,49],[1,51,1,57],[1,3,1,9],[1,11,1,17],[1,103,1,109],[22,103,22,109],[1,87,1,93],[1,95,1,101],[22,95,22,101]]}
["Finance Partner","First Western Equipment Finance",null,{"$f":"C8","v":"National Leasing"},null,"2025-02-04"]
["Equipment Cost",0,null,{"$f":"B8","v":"$1 Buyout Lease"},null,null,null,null,null,null,null,{"$f":"B9","v":"Fair Market Value Sweeper Lease"},null,null,null,null,null,null,null,{"$f":"B10","v":"Fair Market Value Scrubber Lease"},null,null,null,null,null,null,null,{"$f":"B11","v":"10% Option"},null,null,null,null,null,null,null,{"$f":"B12","v":"Municipal $1 Buyout Lease - Monthly Pmt"},null,null,null,null,null,null,null,{"$f":"B13","v":"Muni $1 Out Quarterly"},null,null,null,null,null,null,null,{"$f":"B14","v":"Muni $1 Out Semi-Annually"},null,null,null,null,null,null,null,{"$f":"B15","v":"Municipal $1 Buyout Lease - Annual Pmt"},null,null,null,null,null,null,null,{"$f":"B16","v":"Rent To Own"},null,null,null,{"$f":"B17","v":"10% PUT"},null,null,null,null,null,null,null,{"$f":"B18","v":"$1 Buyout Lease - 90 days no pmt"},null,null,null,null,null,null,null,{"$f":"B19","v":"Fair Market Value Sweeper Lease - 90 days no pmt"},null,null,null,null,null,null,null,{"$f":"B20","v":"Fair Market Value Scrubber Lease - 90 days no pmt"},null,null,null,null,null,null,null,{"$f":"B21","v":"FMV Sweeper - Promo"}]
["Term:",48,null,null,null,5000,10000,25000,50000,100000,null,null,null,5000,10000,25000,50000,100000,null,null,null,5000,10000,25000,50000,100000,null,null,null,5000,10000,25000,50000,100000,null,null,null,5000,10000,25000,50000,100000,null,null,null,5000,10000,25000,50000,100000,null,null,null,5000,10000,25000,50000,100000,null,null,null,5000,10000,25000,50000,100000,null,null,null,1,null,null,null,5000,10000,25000,50000,100000,null,null,null,5000,10000,25000,50000,100000,null,null,null,5000,10000,25000,50000,100000,null,null,null,5000,10000,25000,50000,100000,null,null,null,5000,10000,25000,50000,100000]
["Purchase Option:","FWEF: Municipal Lease",null,null,null,"to","to","to","to","to",null,null,null,"to","to","to","to","to",null,null,null,"to","to","to","to","to",null,null,null,"to","to","to","to","to",null,null,null,"to","to","to","to","to",null,null,null,"to","to","to","to","to",null,null,null,"to","to","to","to","to",null,null,null,"to","to","to","to","to",null,null,null,"to",null,null,null,"to","to","to","to","to",null,null,null,"to","to","to","to","to",null,null,null,"to","to","to","to","to",null,null,null,"to","to","to","to","to",null,null,null,"to","to","to","to","to"]
["No money down and payments of:",{"$f":"IF(B1=C8,D17, IF(B1=C9,D38))","v":false},null,"Term","Adv",9999,24999,49999,99999,null,null,"Term","Adv",9999,24999,49999,99999,null,null,"Term","Adv",9999,24999,49999,99999,null,null,"Term","Adv",9999,24999,49999,99999,null,null,"Term","Adv",9999,24999,49999,99999,null,null,"Term","Adv",9999,24999,49999,99999,null,null,"Term","Adv",9999,24999,49999,99999,null,null,"Term","Adv",9999,24999,49999,99999,null,null,"Term","Adv",null,null,"Term","Adv",9999,24999,49999,99999,null,null,"Term","Adv",9999,24999,49999,99999,null,null,"Term","Adv",9999,24999,49999,99999,null,null,"Term","Adv",9999,24999,49999,99999,null,null,"Term","Adv",9999,24999,49999,99999]
["For Calculation",null,null,12,0,null,null,null,null,null,null,12,0,null,null,null,null,null,null,12,0,null,null,null,null,null,null,12,0,null,null,null,null,null,null,12,0,null,null,null,null,null,null,12,0,null,null,null,null,null,null,12,0,null,null,null,null,null,null,12,0,null,null,null,null,null,null,9,0,0.125,null,12,0,null,null,null,null,null,null,12,0,null,null,null,null,null,null,12,0,null,null,null,null,null,null,12,0,null,null,null,null,null,null,12,0]
["Term","Purchase Opt","Select a Finance Partner",24,0,4.7109999999999999E-2,4.6359999999999998E-2,4.6039999999999998E-2,4.5809999999999997E-2,4.5679999999999998E-2,null,24,0,4.1540000000000001E-2,4.0689999999999997E-2,4.0320000000000002E-2,4.0079999999999998E-2,3.9910000000000001E-2,null,24,0,4.3400000000000001E-2,4.258E-2,4.2229999999999997E-2,4.2000000000000003E-2,4.1829999999999999E-2,null,24,0,4.3400000000000001E-2,4.258E-2,4.2229999999999997E-2,4.2000000000000003E-2,4.1829999999999999E-2,null,24,0,null,null,null,null,null,null,24,0,null,null,null,null,null,null,24,0,null,null,null,null,null,null,24,0,null,null,null,null,null,null,12,0,0.1,null,24,0,null,null,null,null,null,null,24,0,null,null,null,null,null,null,24,0,null,null,null,null,null,null,24,0,null,null,null,null,null,null,24,0]
[12,"$1 Buyout Lease","National Leasing",36,0,3.3090000000000001E-2,3.2309999999999998E-2,3.1969999999999998E-2,3.1699999999999999E-2,3.1600000000000003E-2,null,36,0,2.9590000000000002E-2,2.87E-2,2.8330000000000001E-2,2.8080000000000001E-2,2.7900000000000001E-2,null,36,0,3.1919999999999997E-2,3.1099999999999999E-2,3.0759999999999999E-2,3.0530000000000002E-2,3.0370000000000001E-2,null,36,0,3.075E-2,2.9899999999999999E-2,2.954E-2,2.93E-2,2.913E-2,null,36,0,null,null,null,null,null,null,36,0,null,null,null,null,null,null,36,0,null,null,null,null,null,null,36,0,null,null,null,null,null,null,18,0,7.4999999999999997E-2,null,36,0,null,null,null,null,null,null,36,0,null,null,null,null,null,null,36,0,null,null,null,null,null,null,36,0,null,null,null,null,null,null,36,0]
[24,"Fair Market Value Sweeper Lease","Wells Fargo Vendor Solutions",48,0,2.6120000000000001E-2,2.5309999999999999E-2,2.496E-2,2.4709999999999999E-2,2.4580000000000001E-2,null,48,0,2.3970000000000002E-2,2.308E-2,2.2700000000000001E-2,2.2440000000000002E-2,2.2270000000000002E-2,null,48,0,2.53E-2,2.445E-2,2.409E-2,2.385E-2,2.3689999999999999E-2,null,48,0,2.4469999999999999E-2,2.359E-2,2.3220000000000001E-2,2.2970000000000001E-2,2.2800000000000001E-2,null,48,0,null,null,null,null,null,null,48,0,null,null,null,null,null,null,48,0,null,null,null,null,null,null,48,0,null,null,null,null,null,null,null,null,null,null,48,0,null,null,null,null,null,null,48,0,null,null,null,null,null,null,48,0,null,null,null,null,null,null,48,0,null,null,null,null,null,null,48,0]
[36,"Fair Market Value Scrubber Lease",null,60,0,2.198E-2,2.1129999999999999E-2,2.078E-2,2.051E-2,2.0379999999999999E-2,null,60,0,2.1350000000000001E-2,2.0480000000000002E-2,2.0109999999999999E-2,1.9869999999999999E-2,1.9699999999999999E-2,null,60,0,2.1350000000000001E-2,2.0480000000000002E-2,2.0109999999999999E-2,1.9869999999999999E-2,1.9699999999999999E-2,null,60,0,2.0729999999999998E-2,1.984E-2,1.9449999999999999E-2,1.9189999999999999E-2,1.9019999999999999E-2,null,60,0,null,null,null,null,null,null,60,0,null,null,null,null,null,null,60,0,null,null,null,null,null,null,60,0,null,null,null,null,null,null,null,null,null,null,60,0,null,null,null,null,null,null,60,0,null,null,null,null,null,null,60,0,null,null,null,null,null,null,60,0,null,null,null,null,null,null,60,0]
[48,"10% Option"]
[60,"Municipal $1 Buyout Lease - Monthly Pmt",null,12,0,{"$f":"IF(AND(F$3<=$B$2,$B$2<G$3,$B$3=$A$8,$B$4=D2),F6*$B$2,0)","v":0},{"$f":"IF(AND(G$3<=$B$2,$B$2<H$3,$B$3=$A$8,$B$4=D2),G6*$B$2,0)","v":0},{"$f":"IF(AND(H$3<=$B$2,$B$2<I$3,$B$3=$A$8,$B$4=D2),H6*$B$2,0)","v":0},{"$f":"IF(AND(I$3<=$B$2,$B$2<J$3,$B$3=$A$8,$B$4=D2),I6*$B$2,0)","v":0},{"$f":"IF(AND(J$3<=$B$2,$B$3=$A$8,$B$4=D2),J6*$B$2,0)","v":0},null,12,0,{"$f":"IF(AND(N$3<=$B$2,$B$2<O$3,$B$3=$A$8,$B$4=L2),N6*$B$2,0)","v":0},{"$f":"IF(AND(O$3<=$B$2,$B$2<P$3,$B$3=$A$8,$B$4=L2),O6*$B$2,0)","v":0},{"$f":"IF(AND(P$3<=$B$2,$B$2<Q$3,$B$3=$A$8,$B$4=L2),P6*$B$2,0)","v":0},{"$f":"IF(AND(Q$3<=$B$2,$B$2<R$3,$B$3=$A$8,$B$4=L2),Q6*$B$2,0)","v":0},{"$f":"IF(AND(R$3<=$B$2,$B$3=$A$8,$B$4=L2),R6*$B$2,0)","v":0},null,12,0,{"$f":"IF(AND(V$3<=$B$2,$B$2<W$3,$B$3=$A$8,$B$4=T2),V6*$B$2,0)","v":0},{"$f":"IF(AND(W$3<=$B$2,$B$2<X$3,$B$3=$A$8,$B$4=T2),W6*$B$2,0)","v":0},{"$f":"IF(AND(X$3<=$B$2,$B$2<Y$3,$B$3=$A$8,$B$4=T2),X6*$B$2,0)","v":0},{"$f":"IF(AND(Y$3<=$B$2,$B$2<Z$3,$B$3=$A$8,$B$4=T2),Y6*$B$2,0)","v":0},{"$f":"IF(AND(Z$3<=$B$2,$B$3=$A$8,$B$4=T2),Z6*$B$2,0)","v":0},null,12,0,{"$f":"IF(AND(AD$3<=$B$2,$B$2<AE$3,$B$3=$A$8,$B$4=AB2),AD6*$B$2,0)","v":0},{"$f":"IF(AND(AE$3<=$B$2,$B$2<AF$3,$B$3=$A$8,$B$4=AB2),AE6*$B$2,0)","v":0},{"$f":"IF(AND(AF$3<=$B$2,$B$2<AG$3,$B$3=$A$8,$B$4=AB2),AF6*$B$2,0)","v":0},{"$f":"IF(AND(AG$3<=$B$2,$B$2<AH$3,$B$3=$A$8,$B$4=AB2),AG6*$B$2,0)","v":0},{"$f":"IF(AND(AH$3<=$B$2,$B$3=$A$8,$B$4=AB2),AH6*$B$2,0)","v":0},null,12,0,{"$f":"IF(AND(AL$3<=$B$2,$B$2<AM$3,$B$3=$A$8,$B$4=AJ2),AL6*$B$2,0)","v":0},{"$f":"IF(AND(AM$3<=$B$2,$B$2<AN$3,$B$3=$A$8,$B$4=AJ2),AM6*$B$2,0)","v":0},{"$f":"IF(AND(AN$3<=$B$2,$B$2<AO$3,$B$3=$A$8,$B$4=AJ2),AN6*$B$2,0)","v":0},{"$f":"IF(AND(AO$3<=$B$2,$B$2<AP$3,$B$3=$A$8,$B$4=AJ2),AO6*$B$2,0)","v":0},{"$f":"IF(AND(AP$3<=$B$2,$B$3=$A$8,$B$4=AJ2),AP6*$B$2,0)","v":0},null,12,0,{"$f":"IF(AND(AT$3<=$B$2,$B$2<AU$3,$B$3=$A$8,$B$4=AR2),AT6*$B$2,0)","v":0},{"$f":"IF(AND(AU$3<=$B$2,$B$2<AV$3,$B$3=$A$8,$B$4=AR2),AU6*$B$2,0)","v":0},{"$f":"IF(AND(AV$3<=$B$2,$B$2<AW$3,$B$3=$A$8,$B$4=AR2),AV6*$B$2,0)","v":0},{"$f":"IF(AND(AW$3<=$B$2,$B$2<AX$3,$B$3=$A$8,$B$4=AR2),AW6*$B$2,0)","v":0},{"$f":"IF(AND(AX$3<=$B$2,$B$3=$A$8,$B$4=AR2),AX6*$B$2,0)","v":0},null,12,0,{"$f":"IF(AND(BB$3<=$B$2,$B$2<BC$3,$B$3=$A$8,$B$4=AZ2),BB6*$B$2,0)","v":0},{"$f":"IF(AND(BC$3<=$B$2,$B$2<BD$3,$B$3=$A$8,$B$4=AZ2),BC6*$B$2,0)","v":0},{"$f":"IF(AND(BD$3<=$B$2,$B$2<BE$3,$B$3=$A$8,$B$4=AZ2),BD6*$B$2,0)","v":0},{"$f":"IF(AND(BE$3<=$B$2,$B$2<BF$3,$B$3=$A$8,$B$4=AZ2),BE6*$B$2,0)","v":0},{"$f":"IF(AND(BF$3<=$B$2,$B$3=$A$8,$B$4=AZ2),BF6*$B$2,0)","v":0},null,12,0,{"$f":"IF(AND(BJ$3<=$B$2,$B$2<BK$3,$B$3=$A$8,$B$4=BH2),BJ6*$B$2,0)","v":0},{"$f":"IF(AND(BK$3<=$B$2,$B$2<BL$3,$B$3=$A$8,$B$4=BH2),BK6*$B$2,0)","v":0},{"$f":"IF(AND(BL$3<=$B$2,$B$2<BM$3,$B$3=$A$8,$B$4=BH2),BL6*$B$2,0)","v":0},{"$f":"IF(AND(BM$3<=$B$2,$B$2<BN$3,$B$3=$A$8,$B$4=BH2),BM6*$B$2,0)","v":0},{"$f":"IF(AND(BN$3<=$B$2,$B$3=$A$8,$B$4=BH2),BN6*$B$2,0)","v":0},null,9,0,{"$f":"IF(AND(BR$3<=$B$2,$B$3=$A$13,$B$4=BP2),BR6*$B$2,0)","v":0},null,12,0,{"$f":"IF(AND(BV$3<=$B$2,$B$2<BW$3,$B$3=$A$8,$B$4=BT2),BV6*$B$2,0)","v":0},{"$f":"IF(AND(BW$3<=$B$2,$B$2<BX$3,$B$3=$A$8,$B$4=BT2),BW6*$B$2,0)","v":0},{"$f":"IF(AND(BX$3<=$B$2,$B$2<BY$3,$B$3=$A$8,$B$4=BT2),BX6*$B$2,0)","v":0},{"$f":"IF(AND(BY$3<=$B$2,$B$2<BZ$3,$B$3=$A$8,$B$4=BT2),BY6*$B$2,0)","v":0},{"$f":"IF(AND(BZ$3<=$B$2,$B$3=$A$8,$B$4=BT2),BZ6*$B$2,0)","v":0},null,12,0,{"$f":"IF(AND(CD$3<=$B$2,$B$2<CE$3,$B$3=$A$8,$B$4=CB2),CD6*$B$2,0)","v":0},{"$f":"IF(AND(CE$3<=$B$2,$B$2<CF$3,$B$3=$A$8,$B$4=CB2),CE6*$B$2,0)","v":0},{"$f":"IF(AND(CF$3<=$B$2,$B$2<CG$3,$B$3=$A$8,$B$4=CB2),CF6*$B$2,0)","v":0},{"$f":"IF(AND(CG$3<=$B$2,$B$2<CH$3,$B$3=$A$8,$B$4=CB2),CG6*$B$2,0)","v":0},{"$f":"IF(AND(CH$3<=$B$2,$B$3=$A$8,$B$4=CB2),CH6*$B$2,0)","v":0},null,12,0,{"$f":"IF(AND(CL$3<=$B$2,$B$2<CM$3,$B$3=$A$8,$B$4=CJ2),CL6*$B$2,0)","v":0},{"$f":"IF(AND(CM$3<=$B$2,$B$2<CN$3,$B$3=$A$8,$B$4=CJ2),CM6*$B$2,0)","v":0},{"$f":"IF(AND(CN$3<=$B$2,$B$2<CO$3,$B$3=$A$8,$B$4=CJ2),CN6*$B$2,0)","v":0},{"$f":"IF(AND(CO$3<=$B$2,$B$2<CP$3,$B$3=$A$8,$B$4=CJ2),CO6*$B$2,0)","v":0},{"$f":"IF(AND(CP$3<=$B$2,$B$3=$A$8,$B$4=CJ2),CP6*$B$2,0)","v":0},null,12,0,{"$f":"IF(AND(CT$3<=$B$2,$B$2<CU$3,$B$3=$A$8,$B$4=CR2),CT6*$B$2,0)","v":0},{"$f":"IF(AND(CU$3<=$B$2,$B$2<CV$3,$B$3=$A$8,$B$4=CR2),CU6*$B$2,0)","v":0},{"$f":"IF(AND(CV$3<=$B$2,$B$2<CW$3,$B$3=$A$8,$B$4=CR2),CV6*$B$2,0)","v":0},{"$f":"IF(AND(CW$3<=$B$2,$B$2<CX$3,$B$3=$A$8,$B$4=CR2),CW6*$B$2,0)","v":0},{"$f":"IF(AND(CX$3<=$B$2,$B$3=$A$8,$B$4=CR2),CX6*$B$2,0)","v":0},null,12,0,{"$f":"IF(AND(DB$3<=$B$2,$B$2<DC$3,$B$3=$A$8,$B$4=CZ2),DB6*$B$2,0)","v":0},{"$f":"IF(AND(DC$3<=$B$2,$B$2<DD$3,$B$3=$A$8,$B$4=CZ2),DC6*$B$2,0)","v":0},{"$f":"IF(AND(DD$3<=$B$2,$B$2<DE$3,$B$3=$A$8,$B$4=CZ2),DD6*$B$2,0)","v":0},{"$f":"IF(AND(DE$3<=$B$2,$B$2<DF$3,$B$3=$A$8,$B$4=CZ2),DE6*$B$2,0)","v":0},{"$f":"IF(AND(DF$3<=$B$2,$B$3=$A$8,$B$4=CZ2),DF6*$B$2,0)","v":0}]
[9,"Muni $1 Out Quarterly",null,24,0,{"$f":"IF(AND(F$3<=$B$2,$B$2<G$3,$B$3=$A$9,$B$4=D2),F7*$B$2,0)","v":0},{"$f":"IF(AND(G$3<=$B$2,$B$2<H$3,$B$3=$A$9,$B$4=D2),G7*$B$2,0)","v":0},{"$f":"IF(AND(H$3<=$B$2,$B$2<I$3,$B$3=$A$9,$B$4=D2),H7*$B$2,0)","v":0},{"$f":"IF(AND(I$3<=$B$2,$B$2<J$3,$B$3=$A$9,$B$4=D2),I7*$B$2,0)","v":0},{"$f":"IF(AND(J$3<=$B$2,$B$3=$A$9,$B$4=D2),J7*$B$2,0)","v":0},null,24,0,{"$f":"IF(AND(N$3<=$B$2,$B$2<O$3,$B$3=$A$9,$B$4=L2),N7*$B$2,0)","v":0},{"$f":"IF(AND(O$3<=$B$2,$B$2<P$3,$B$3=$A$9,$B$4=L2),O7*$B$2,0)","v":0},{"$f":"IF(AND(P$3<=$B$2,$B$2<Q$3,$B$3=$A$9,$B$4=L2),P7*$B$2,0)","v":0},{"$f":"IF(AND(Q$3<=$B$2,$B$2<R$3,$B$3=$A$9,$B$4=L2),Q7*$B$2,0)","v":0},{"$f":"IF(AND(R$3<=$B$2,$B$3=$A$9,$B$4=L2),R7*$B$2,0)","v":0},null,24,0,{"$f":"IF(AND(V$3<=$B$2,$B$2<W$3,$B$3=$A$9,$B$4=T2),V7*$B$2,0)","v":0},{"$f":"IF(AND(W$3<=$B$2,$B$2<X$3,$B$3=$A$9,$B$4=T2),W7*$B$2,0)","v":0},{"$f":"IF(AND(X$3<=$B$2,$B$2<Y$3,$B$3=$A$9,$B$4=T2),X7*$B$2,0)","v":0},{"$f":"IF(AND(Y$3<=$B$2,$B$2<Z$3,$B$3=$A$9,$B$4=T2),Y7*$B$2,0)","v":0},{"$f":"IF(AND(Z$3<=$B$2,$B$3=$A$9,$B$4=T2),Z7*$B$2,0)","v":0},null,24,0,{"$f":"IF(AND(AD$3<=$B$2,$B$2<AE$3,$B$3=$A$9,$B$4=AB2),AD7*$B$2,0)","v":0},{"$f":"IF(AND(AE$3<=$B$2,$B$2<AF$3,$B$3=$A$9,$B$4=AB2),AE7*$B$2,0)","v":0},{"$f":"IF(AND(AF$3<=$B$2,$B$2<AG$3,$B$3=$A$9,$B$4=AB2),AF7*$B$2,0)","v":0},{"$f":"IF(AND(AG$3<=$B$2,$B$2<AH$3,$B$3=$A$9,$B$4=AB2),AG7*$B$2,0)","v":0},{"$f":"IF(AND(AH$3<=$B$2,$B$3=$A$9,$B$4=AB2),AH7*$B$2,0)","v":0},null,24,0,{"$f":"IF(AND(AL$3<=$B$2,$B$2<AM$3,$B$3=$A$9,$B$4=AJ2),AL7*$B$2,0)","v":0},{"$f":"IF(AND(AM$3<=$B$2,$B$2<AN$3,$B$3=$A$9,$B$4=AJ2),AM7*$B$2,0)","v":0},{"$f":"IF(AND(AN$3<=$B$2,$B$2<AO$3,$B$3=$A$9,$B$4=AJ2),AN7*$B$2,0)","v":0},{"$f":"IF(AND(AO$3<=$B$2,$B$2<AP$3,$B$3=$A$9,$B$4=AJ2),AO7*$B$2,0)","v":0},{"$f":"IF(AND(AP$3<=$B$2,$B$3=$A$9,$B$4=AJ2),AP7*$B$2,0)","v":0},null,24,0,{"$f":"IF(AND(AT$3<=$B$2,$B$2<AU$3,$B$3=$A$9,$B$4=AR2),AT7*$B$2,0)","v":0},{"$f":"IF(AND(AU$3<=$B$2,$B$2<AV$3,$B$3=$A$9,$B$4=AR2),AU7*$B$2,0)","v":0},{"$f":"IF(AND(AV$3<=$B$2,$B$2<AW$3,$B$3=$A$9,$B$4=AR2),AV7*$B$2,0)","v":0},{"$f":"IF(AND(AW$3<=$B$2,$B$2<AX$3,$B$3=$A$9,$B$4=AR2),AW7*$B$2,0)","v":0},{"$f":"IF(AND(AX$3<=$B$2,$B$3=$A$9,$B$4=AR2),AX7*$B$2,0)","v":0},null,24,0,{"$f":"IF(AND(BB$3<=$B$2,$B$2<BC$3,$B$3=$A$9,$B$4=AZ2),BB7*$B$2,0)","v":0},{"$f":"IF(AND(BC$3<=$B$2,$B$2<BD$3,$B$3=$A$9,$B$4=AZ2),BC7*$B$2,0)","v":0},{"$f":"IF(AND(BD$3<=$B$2,$B$2<BE$3,$B$3=$A$9,$B$4=AZ2),BD7*$B$2,0)","v":0},{"$f":"IF(AND(BE$3<=$B$2,$B$2<BF$3,$B$3=$A$9,$B$4=AZ2),BE7*$B$2,0)","v":0},{"$f":"IF(AND(BF$3<=$B$2,$B$3=$A$9,$B$4=AZ2),BF7*$B$2,0)","v":0},null,24,0,{"$f":"IF(AND(BJ$3<=$B$2,$B$2<BK$3,$B$3=$A$9,$B$4=BH2),BJ7*$B$2,0)","v":0},{"$f":"IF(AND(BK$3<=$B$2,$B$2<BL$3,$B$3=$A$9,$B$4=BH2),BK7*$B$2,0)","v":0},{"$f":"IF(AND(BL$3<=$B$2,$B$2<BM$3,$B$3=$A$9,$B$4=BH2),BL7*$B$2,0)","v":0},{"$f":"IF(AND(BM$3<=$B$2,$B$2<BN$3,$B$3=$A$9,$B$4=BH2),BM7*$B$2,0)","v":0},{"$f":"IF(AND(BN$3<=$B$2,$B$3=$A$9,$B$4=BH2),BN7*$B$2,0)","v":0},null,12,0,{"$f":"IF(AND(BR$3<=$B$2,$B$3=$A$8,$B$4=BP2),BR7*$B$2,0)","v":0},null,24,0,{"$f":"IF(AND(BV$3<=$B$2,$B$2<BW$3,$B$3=$A$9,$B$4=BT2),BV7*$B$2,0)","v":0},{"$f":"IF(AND(BW$3<=$B$2,$B$2<BX$3,$B$3=$A$9,$B$4=BT2),BW7*$B$2,0)","v":0},{"$f":"IF(AND(BX$3<=$B$2,$B$2<BY$3,$B$3=$A$9,$B$4=BT2),BX7*$B$2,0)","v":0},{"$f":"IF(AND(BY$3<=$B$2,$B$2<BZ$3,$B$3=$A$9,$B$4=BT2),BY7*$B$2,0)","v":0},{"$f":"IF(AND(BZ$3<=$B$2,$B$3=$A$9,$B$4=BT2),BZ7*$B$2,0)","v":0},null,24,0,{"$f":"IF(AND(CD$3<=$B$2,$B$2<CE$3,$B$3=$A$9,$B$4=CB2),CD7*$B$2,0)","v":0},{"$f":"IF(AND(CE$3<=$B$2,$B$2<CF$3,$B$3=$A$9,$B$4=CB2),CE7*$B$2,0)","v":0},{"$f":"IF(AND(CF$3<=$B$2,$B$2<CG$3,$B$3=$A$9,$B$4=CB2),CF7*$B$2,0)","v":0},{"$f":"IF(AND(CG$3<=$B$2,$B$2<CH$3,$B$3=$A$9,$B$4=CB2),CG7*$B$2,0)","v":0},{"$f":"IF(AND(CH$3<=$B$2,$B$3=$A$9,$B$4=CB2),CH7*$B$2,0)","v":0},null,24,0,{"$f":"IF(AND(CL$3<=$B$2,$B$2<CM$3,$B$3=$A$9,$B$4=CJ2),CL7*$B$2,0)","v":0},{"$f":"IF(AND(CM$3<=$B$2,$B$2<CN$3,$B$3=$A$9,$B$4=CJ2),CM7*$B$2,0)","v":0},{"$f":"IF(AND(CN$3<=$B$2,$B$2<CO$3,$B$3=$A$9,$B$4=CJ2),CN7*$B$2,0)","v":0},{"$f":"IF(AND(CO$3<=$B$2,$B$2<CP$3,$B$3=$A$9,$B$4=CJ2),CO7*$B$2,0)","v":0},{"$f":"IF(AND(CP$3<=$B$2,$B$3=$A$9,$B$4=CJ2),CP7*$B$2,0)","v":0},null,24,0,{"$f":"IF(AND(CT$3<=$B$2,$B$2<CU$3,$B$3=$A$9,$B$4=CR2),CT7*$B$2,0)","v":0},{"$f":"IF(AND(CU$3<=$B$2,$B$2<CV$3,$B$3=$A$9,$B$4=CR2),CU7*$B$2,0)","v":0},{"$f":"IF(AND(CV$3<=$B$2,$B$2<CW$3,$B$3=$A$9,$B$4=CR2),CV7*$B$2,0)","v":0},{"$f":"IF(AND(CW$3<=$B$2,$B$2<CX$3,$B$3=$A$9,$B$4=CR2),CW7*$B$2,0)","v":0},{"$f":"IF(AND(CX$3<=$B$2,$B$3=$A$9,$B$4=CR2),CX7*$B$2,0)","v":0},null,24,0,{"$f":"IF(AND(DB$3<=$B$2,$B$2<DC$3,$B$3=$A$9,$B$4=CZ2),DB7*$B$2,0)","v":0},{"$f":"IF(AND(DC$3<=$B$2,$B$2<DD$3,$B$3=$A$9,$B$4=CZ2),DC7*$B$2,0)","v":0},{"$f":"IF(AND(DD$3<=$B$2,$B$2<DE$3,$B$3=$A$9,$B$4=CZ2),DD7*$B$2,0)","v":0},{"$f":"IF(AND(DE$3<=$B$2,$B$2<DF$3,$B$3=$A$9,$B$4=CZ2),DE7*$B$2,0)","v":0},{"$f":"IF(AND(DF$3<=$B$2,$B$3=$A$9,$B$4=CZ2),DF7*$B$2,0)","v":0}]
[18,"Muni $1 Out Semi-Annually",null,36,0,{"$f":"IF(AND(F$3<=$B$2,$B$2<G$3,$B$3=$A$10,$B$4=D2),F8*$B$2,0)","v":0},{"$f":"IF(AND(G$3<=$B$2,$B$2<H$3,$B$3=$A$10,$B$4=D2),G8*$B$2,0)","v":0},{"$f":"IF(AND(H$3<=$B$2,$B$2<I$3,$B$3=$A$10,$B$4=D2),H8*$B$2,0)","v":0},{"$f":"IF(AND(I$3<=$B$2,$B$2<J$3,$B$3=$A$10,$B$4=D2),I8*$B$2,0)","v":0},{"$f":"IF(AND(J$3<=$B$2,$B$3=$A$10,$B$4=D2),J8*$B$2,0)","v":0},null,36,0,{"$f":"IF(AND(N$3<=$B$2,$B$2<O$3,$B$3=$A$10,$B$4=L2),N8*$B$2,0)","v":0},{"$f":"IF(AND(O$3<=$B$2,$B$2<P$3,$B$3=$A$10,$B$4=L2),O8*$B$2,0)","v":0},{"$f":"IF(AND(P$3<=$B$2,$B$2<Q$3,$B$3=$A$10,$B$4=L2),P8*$B$2,0)","v":0},{"$f":"IF(AND(Q$3<=$B$2,$B$2<R$3,$B$3=$A$10,$B$4=L2),Q8*$B$2,0)","v":0},{"$f":"IF(AND(R$3<=$B$2,$B$3=$A$10,$B$4=L2),R8*$B$2,0)","v":0},null,36,0,{"$f":"IF(AND(V$3<=$B$2,$B$2<W$3,$B$3=$A$10,$B$4=T2),V8*$B$2,0)","v":0},{"$f":"IF(AND(W$3<=$B$2,$B$2<X$3,$B$3=$A$10,$B$4=T2),W8*$B$2,0)","v":0},{"$f":"IF(AND(X$3<=$B$2,$B$2<Y$3,$B$3=$A$10,$B$4=T2),X8*$B$2,0)","v":0},{"$f":"IF(AND(Y$3<=$B$2,$B$2<Z$3,$B$3=$A$10,$B$4=T2),Y8*$B$2,0)","v":0},{"$f":"IF(AND(Z$3<=$B$2,$B$3=$A$10,$B$4=T2),Z8*$B$2,0)","v":0},null,36,0,{"$f":"IF(AND(AD$3<=$B$2,$B$2<AE$3,$B$3=$A$10,$B$4=AB2),AD8*$B$2,0)","v":0},{"$f":"IF(AND(AE$3<=$B$2,$B$2<AF$3,$B$3=$A$10,$B$4=AB2),AE8*$B$2,0)","v":0},{"$f":"IF(AND(AF$3<=$B$2,$B$2<AG$3,$B$3=$A$10,$B$4=AB2),AF8*$B$2,0)","v":0},{"$f":"IF(AND(AG$3<=$B$2,$B$2<AH$3,$B$3=$A$10,$B$4=AB2),AG8*$B$2,0)","v":0},{"$f":"IF(AND(AH$3<=$B$2,$B$3=$A$10,$B$4=AB2),AH8*$B$2,0)","v":0},null,36,0,{"$f":"IF(AND(AL$3<=$B$2,$B$2<AM$3,$B$3=$A$10,$B$4=AJ2),AL8*$B$2,0)","v":0},{"$f":"IF(AND(AM$3<=$B$2,$B$2<AN$3,$B$3=$A$10,$B$4=AJ2),AM8*$B$2,0)","v":0},{"$f":"IF(AND(AN$3<=$B$2,$B$2<AO$3,$B$3=$A$10,$B$4=AJ2),AN8*$B$2,0)","v":0},{"$f":"IF(AND(AO$3<=$B$2,$B$2<AP$3,$B$3=$A$10,$B$4=AJ2),AO8*$B$2,0)","v":0},{"$f":"IF(AND(AP$3<=$B$2,$B$3=$A$10,$B$4=AJ2),AP8*$B$2,0)","v":0},null,36,0,{"$f":"IF(AND(AT$3<=$B$2,$B$2<AU$3,$B$3=$A$10,$B$4=AR2),AT8*$B$2,0)","v":0},{"$f":"IF(AND(AU$3<=$B$2,$B$2<AV$3,$B$3=$A$10,$B$4=AR2),AU8*$B$2,0)","v":0},{"$f":"IF(AND(AV$3<=$B$2,$B$2<AW$3,$B$3=$A$10,$B$4=AR2),AV8*$B$2,0)","v":0},{"$f":"IF(AND(AW$3<=$B$2,$B$2<AX$3,$B$3=$A$10,$B$4=AR2),AW8*$B$2,0)","v":0},{"$f":"IF(AND(AX$3<=$B$2,$B$3=$A$10,$B$4=AR2),AX8*$B$2,0)","v":0},null,36,0,{"$f":"IF(AND(BB$3<=$B$2,$B$2<BC$3,$B$3=$A$10,$B$4=AZ2),BB8*$B$2,0)","v":0},{"$f":"IF(AND(BC$3<=$B$2,$B$2<BD$3,$B$3=$A$10,$B$4=AZ2),BC8*$B$2,0)","v":0},{"$f":"IF(AND(BD$3<=$B$2,$B$2<BE$3,$B$3=$A$10,$B$4=AZ2),BD8*$B$2,0)","v":0},{"$f":"IF(AND(BE$3<=$B$2,$B$2<BF$3,$B$3=$A$10,$B$4=AZ2),BE8*$B$2,0)","v":0},{"$f":"IF(AND(BF$3<=$B$2,$B$3=$A$10,$B$4=AZ2),BF8*$B$2,0)","v":0},null,36,0,{"$f":"IF(AND(BJ$3<=$B$2,$B$2<BK$3,$B$3=$A$10,$B$4=BH2),BJ8*$B$2,0)","v":0},{"$f":"IF(AND(BK$3<=$B$2,$B$2<BL$3,$B$3=$A$10,$B$4=BH2),BK8*$B$2,0)","v":0},{"$f":"IF(AND(BL$3<=$B$2,$B$2<BM$3,$B$3=$A$10,$B$4=BH2),BL8*$B$2,0)","v":0},{"$f":"IF(AND(BM$3<=$B$2,$B$2<BN$3,$B$3=$A$10,$B$4=BH2),BM8*$B$2,0)","v":0},{"$f":"IF(AND(BN$3<=$B$2,$B$3=$A$10,$B$4=BH2),BN8*$B$2,0)","v":0},null,18,0,{"$f":"IF(AND(BR$3<=$B$2,$B$3=$A$14,$B$4=BP2),BR8*$B$2,0)","v":0},null,36,0,{"$f":"IF(AND(BV$3<=$B$2,$B$2<BW$3,$B$3=$A$10,$B$4=BT2),BV8*$B$2,0)","v":0},{"$f":"IF(AND(BW$3<=$B$2,$B$2<BX$3,$B$3=$A$10,$B$4=BT2),BW8*$B$2,0)","v":0},{"$f":"IF(AND(BX$3<=$B$2,$B$2<BY$3,$B$3=$A$10,$B$4=BT2),BX8*$B$2,0)","v":0},{"$f":"IF(AND(BY$3<=$B$2,$B$2<BZ$3,$B$3=$A$10,$B$4=BT2),BY8*$B$2,0)","v":0},{"$f":"IF(AND(BZ$3<=$B$2,$B$3=$A$10,$B$4=BT2),BZ8*$B$2,0)","v":0},null,36,0,{"$f":"IF(AND(CD$3<=$B$2,$B$2<CE$3,$B$3=$A$10,$B$4=CB2),CD8*$B$2,0)","v":0},{"$f":"IF(AND(CE$3<=$B$2,$B$2<CF$3,$B$3=$A$10,$B$4=CB2),CE8*$B$2,0)","v":0},{"$f":"IF(AND(CF$3<=$B$2,$B$2<CG$3,$B$3=$A$10,$B$4=CB2),CF8*$B$2,0)","v":0},{"$f":"IF(AND(CG$3<=$B$2,$B$2<CH$3,$B$3=$A$10,$B$4=CB2),CG8*$B$2,0)","v":0},{"$f":"IF(AND(CH$3<=$B$2,$B$3=$A$10,$B$4=CB2),CH8*$B$2,0)","v":0},null,36,0,{"$f":"IF(AND(CL$3<=$B$2,$B$2<CM$3,$B$3=$A$10,$B$4=CJ2),CL8*$B$2,0)","v":0},{"$f":"IF(AND(CM$3<=$B$2,$B$2<CN$3,$B$3=$A$10,$B$4=CJ2),CM8*$B$2,0)","v":0},{"$f":"IF(AND(CN$3<=$B$2,$B$2<CO$3,$B$3=$A$10,$B$4=CJ2),CN8*$B$2,0)","v":0},{"$f":"IF(AND(CO$3<=$B$2,$B$2<CP$3,$B$3=$A$10,$B$4=CJ2),CO8*$B$2,0)","v":0},{"$f":"IF(AND(CP$3<=$B$2,$B$3=$A$10,$B$4=CJ2),CP8*$B$2,0)","v":0},null,36,0,{"$f":"IF(AND(CT$3<=$B$2,$B$2<CU$3,$B$3=$A$10,$B$4=CR2),CT8*$B$2,0)","v":0},{"$f":"IF(AND(CU$3<=$B$2,$B$2<CV$3,$B$3=$A$10,$B$4=CR2),CU8*$B$2,0)","v":0},{"$f":"IF(AND(CV$3<=$B$2,$B$2<CW$3,$B$3=$A$10,$B$4=CR2),CV8*$B$2,0)","v":0},{"$f":"IF(AND(CW$3<=$B$2,$B$2<CX$3,$B$3=$A$10,$B$4=CR2),CW8*$B$2,0)","v":0},{"$f":"IF(AND(CX$3<=$B$2,$B$3=$A$10,$B$4=CR2),CX8*$B$2,0)","v":0},null,36,0,{"$f":"IF(AND(DB$3<=$B$2,$B$2<DC$3,$B$3=$A$10,$B$4=CZ2),DB8*$B$2,0)","v":0},{"$f":"IF(AND(DC$3<=$B$2,$B$2<DD$3,$B$3=$A$10,$B$4=CZ2),DC8*$B$2,0)","v":0},{"$f":"IF(AND(DD$3<=$B$2,$B$2<DE$3,$B$3=$A$10,$B$4=CZ2),DD8*$B$2,0)","v":0},{"$f":"IF(AND(DE$3<=$B$2,$B$2<DF$3,$B$3=$A$10,$B$4=CZ2),DE8*$B$2,0)","v":0},{"$f":"IF(AND(DF$3<=$B$2,$B$3=$A$10,$B$4=CZ2),DF8*$B$2,0)","v":0}]
[null,"Municipal $1 Buyout Lease - Annual Pmt",null,48,0,{"$f":"IF(AND(F$3<=$B$2,$B$2<G$3,$B$3=$A$11,$B$4=D2),F9*$B$2,0)","v":0},{"$f":"IF(AND(G$3<=$B$2,$B$2<H$3,$B$3=$A$11,$B$4=D2),G9*$B$2,0)","v":0},{"$f":"IF(AND(H$3<=$B$2,$B$2<I$3,$B$3=$A$11,$B$4=D2),H9*$B$2,0)","v":0},{"$f":"IF(AND(I$3<=$B$2,$B$2<J$3,$B$3=$A$11,$B$4=D2),I9*$B$2,0)","v":0},{"$f":"IF(AND(J$3<=$B$2,$B$3=$A$11,$B$4=D2),J9*$B$2,0)","v":0},null,48,0,{"$f":"IF(AND(N$3<=$B$2,$B$2<O$3,$B$3=$A$11,$B$4=L2),N9*$B$2,0)","v":0},{"$f":"IF(AND(O$3<=$B$2,$B$2<P$3,$B$3=$A$11,$B$4=L2),O9*$B$2,0)","v":0},{"$f":"IF(AND(P$3<=$B$2,$B$2<Q$3,$B$3=$A$11,$B$4=L2),P9*$B$2,0)","v":0},{"$f":"IF(AND(Q$3<=$B$2,$B$2<R$3,$B$3=$A$11,$B$4=L2),Q9*$B$2,0)","v":0},{"$f":"IF(AND(R$3<=$B$2,$B$3=$A$11,$B$4=L2),R9*$B$2,0)","v":0},null,48,0,{"$f":"IF(AND(V$3<=$B$2,$B$2<W$3,$B$3=$A$11,$B$4=T2),V9*$B$2,0)","v":0},{"$f":"IF(AND(W$3<=$B$2,$B$2<X$3,$B$3=$A$11,$B$4=T2),W9*$B$2,0)","v":0},{"$f":"IF(AND(X$3<=$B$2,$B$2<Y$3,$B$3=$A$11,$B$4=T2),X9*$B$2,0)","v":0},{"$f":"IF(AND(Y$3<=$B$2,$B$2<Z$3,$B$3=$A$11,$B$4=T2),Y9*$B$2,0)","v":0},{"$f":"IF(AND(Z$3<=$B$2,$B$3=$A$11,$B$4=T2),Z9*$B$2,0)","v":0},null,48,0,{"$f":"IF(AND(AD$3<=$B$2,$B$2<AE$3,$B$3=$A$11,$B$4=AB2),AD9*$B$2,0)","v":0},{"$f":"IF(AND(AE$3<=$B$2,$B$2<AF$3,$B$3=$A$11,$B$4=AB2),AE9*$B$2,0)","v":0},{"$f":"IF(AND(AF$3<=$B$2,$B$2<AG$3,$B$3=$A$11,$B$4=AB2),AF9*$B$2,0)","v":0},{"$f":"IF(AND(AG$3<=$B$2,$B$2<AH$3,$B$3=$A$11,$B$4=AB2),AG9*$B$2,0)","v":0},{"$f":"IF(AND(AH$3<=$B$2,$B$3=$A$11,$B$4=AB2),AH9*$B$2,0)","v":0},null,48,0,{"$f":"IF(AND(AL$3<=$B$2,$B$2<AM$3,$B$3=$A$11,$B$4=AJ2),AL9*$B$2,0)","v":0},{"$f":"IF(AND(AM$3<=$B$2,$B$2<AN$3,$B$3=$A$11,$B$4=AJ2),AM9*$B$2,0)","v":0},{"$f":"IF(AND(AN$3<=$B$2,$B$2<AO$3,$B$3=$A$11,$B$4=AJ2),AN9*$B$2,0)","v":0},{"$f":"IF(AND(AO$3<=$B$2,$B$2<AP$3,$B$3=$A$11,$B$4=AJ2),AO9*$B$2,0)","v":0},{"$f":"IF(AND(AP$3<=$B$2,$B$3=$A$11,$B$4=AJ2),AP9*$B$2,0)","v":0},null,48,0,{"$f":"IF(AND(AT$3<=$B$2,$B$2<AU$3,$B$3=$A$11,$B$4=AR2),AT9*$B$2,0)","v":0},{"$f":"IF(AND(AU$3<=$B$2,$B$2<AV$3,$B$3=$A$11,$B$4=AR2),AU9*$B$2,0)","v":0},{"$f":"IF(AND(AV$3<=$B$2,$B$2<AW$3,$B$3=$A$11,$B$4=AR2),AV9*$B$2,0)","v":0},{"$f":"IF(AND(AW$3<=$B$2,$B$2<AX$3,$B$3=$A$11,$B$4=AR2),AW9*$B$2,0)","v":0},{"$f":"IF(AND(AX$3<=$B$2,$B$3=$A$11,$B$4=AR2),AX9*$B$2,0)","v":0},null,48,0,{"$f":"IF(AND(BB$3<=$B$2,$B$2<BC$3,$B$3=$A$11,$B$4=AZ2),BB9*$B$2,0)","v":0},{"$f":"IF(AND(BC$3<=$B$2,$B$2<BD$3,$B$3=$A$11,$B$4=AZ2),BC9*$B$2,0)","v":0},{"$f":"IF(AND(BD$3<=$B$2,$B$2<BE$3,$B$3=$A$11,$B$4=AZ2),BD9*$B$2,0)","v":0},{"$f":"IF(AND(BE$3<=$B$2,$B$2<BF$3,$B$3=$A$11,$B$4=AZ2),BE9*$B$2,0)","v":0},{"$f":"IF(AND(BF$3<=$B$2,$B$3=$A$11,$B$4=AZ2),BF9*$B$2,0)","v":0},null,48,0,{"$f":"IF(AND(BJ$3<=$B$2,$B$2<BK$3,$B$3=$A$11,$B$4=BH2),BJ9*$B$2,0)","v":0},{"$f":"IF(AND(BK$3<=$B$2,$B$2<BL$3,$B$3=$A$11,$B$4=BH2),BK9*$B$2,0)","v":0},{"$f":"IF(AND(BL$3<=$B$2,$B$2<BM$3,$B$3=$A$11,$B$4=BH2),BL9*$B$2,0)","v":0},{"$f":"IF(AND(BM$3<=$B$2,$B$2<BN$3,$B$3=$A$11,$B$4=BH2),BM9*$B$2,0)","v":0},{"$f":"IF(AND(BN$3<=$B$2,$B$3=$A$11,$B$4=BH2),BN9*$B$2,0)","v":0},null,null,null,null,null,48,0,{"$f":"IF(AND(BV$3<=$B$2,$B$2<BW$3,$B$3=$A$11,$B$4=BT2),BV9*$B$2,0)","v":0},{"$f":"IF(AND(BW$3<=$B$2,$B$2<BX$3,$B$3=$A$11,$B$4=BT2),BW9*$B$2,0)","v":0},{"$f":"IF(AND(BX$3<=$B$2,$B$2<BY$3,$B$3=$A$11,$B$4=BT2),BX9*$B$2,0)","v":0},{"$f":"IF(AND(BY$3<=$B$2,$B$2<BZ$3,$B$3=$A$11,$B$4=BT2),BY9*$B$2,0)","v":0},{"$f":"IF(AND(BZ$3<=$B$2,$B$3=$A$11,$B$4=BT2),BZ9*$B$2,0)","v":0},null,48,0,{"$f":"IF(AND(CD$3<=$B$2,$B$2<CE$3,$B$3=$A$11,$B$4=CB2),CD9*$B$2,0)","v":0},{"$f":"IF(AND(CE$3<=$B$2,$B$2<CF$3,$B$3=$A$11,$B$4=CB2),CE9*$B$2,0)","v":0},{"$f":"IF(AND(CF$3<=$B$2,$B$2<CG$3,$B$3=$A$11,$B$4=CB2),CF9*$B$2,0)","v":0},{"$f":"IF(AND(CG$3<=$B$2,$B$2<CH$3,$B$3=$A$11,$B$4=CB2),CG9*$B$2,0)","v":0},{"$f":"IF(AND(CH$3<=$B$2,$B$3=$A$11,$B$4=CB2),CH9*$B$2,0)","v":0},null,48,0,{"$f":"IF(AND(CL$3<=$B$2,$B$2<CM$3,$B$3=$A$11,$B$4=CJ2),CL9*$B$2,0)","v":0},{"$f":"IF(AND(CM$3<=$B$2,$B$2<CN$3,$B$3=$A$11,$B$4=CJ2),CM9*$B$2,0)","v":0},{"$f":"IF(AND(CN$3<=$B$2,$B$2<CO$3,$B$3=$A$11,$B$4=CJ2),CN9*$B$2,0)","v":0},{"$f":"IF(AND(CO$3<=$B$2,$B$2<CP$3,$B$3=$A$11,$B$4=CJ2),CO9*$B$2,0)","v":0},{"$f":"IF(AND(CP$3<=$B$2,$B$3=$A$11,$B$4=CJ2),CP9*$B$2,0)","v":0},null,48,0,{"$f":"IF(AND(CT$3<=$B$2,$B$2<CU$3,$B$3=$A$11,$B$4=CR2),CT9*$B$2,0)","v":0},{"$f":"IF(AND(CU$3<=$B$2,$B$2<CV$3,$B$3=$A$11,$B$4=CR2),CU9*$B$2,0)","v":0},{"$f":"IF(AND(CV$3<=$B$2,$B$2<CW$3,$B$3=$A$11,$B$4=CR2),CV9*$B$2,0)","v":0},{"$f":"IF(AND(CW$3<=$B$2,$B$2<CX$3,$B$3=$A$11,$B$4=CR2),CW9*$B$2,0)","v":0},{"$f":"IF(AND(CX$3<=$B$2,$B$3=$A$11,$B$4=CR2),CX9*$B$2,0)","v":0},null,48,0,{"$f":"IF(AND(DB$3<=$B$2,$B$2<DC$3,$B$3=$A$11,$B$4=CZ2),DB9*$B$2,0)","v":0},{"$f":"IF(AND(DC$3<=$B$2,$B$2<DD$3,$B$3=$A$11,$B$4=CZ2),DC9*$B$2,0)","v":0},{"$f":"IF(AND(DD$3<=$B$2,$B$2<DE$3,$B$3=$A$11,$B$4=CZ2),DD9*$B$2,0)","v":0},{"$f":"IF(AND(DE$3<=$B$2,$B$2<DF$3,$B$3=$A$11,$B$4=CZ2),DE9*$B$2,0)","v":0},{"$f":"IF(AND(DF$3<=$B$2,$B$3=$A$11,$B$4=CZ2),DF9*$B$2,0)","v":0}]
[null,"Rent To Own",null,60,0,{"$f":"IF(AND(F$3<=$B$2,$B$2<G$3,$B$3=$A$12,$B$4=D2),F10*$B$2,0)","v":0},{"$f":"IF(AND(G$3<=$B$2,$B$2<H$3,$B$3=$A$12,$B$4=D2),G10*$B$2,0)","v":0},{"$f":"IF(AND(H$3<=$B$2,$B$2<I$3,$B$3=$A$12,$B$4=D2),H10*$B$2,0)","v":0},{"$f":"IF(AND(I$3<=$B$2,$B$2<J$3,$B$3=$A$12,$B$4=D2),I10*$B$2,0)","v":0},{"$f":"IF(AND(J$3<=$B$2,$B$3=$A$12,$B$4=D2),J10*$B$2,0)","v":0},null,60,0,{"$f":"IF(AND(N$3<=$B$2,$B$2<O$3,$B$3=$A$12,$B$4=L2),N10*$B$2,0)","v":0},{"$f":"IF(AND(O$3<=$B$2,$B$2<P$3,$B$3=$A$12,$B$4=L2),O10*$B$2,0)","v":0},{"$f":"IF(AND(P$3<=$B$2,$B$2<Q$3,$B$3=$A$12,$B$4=L2),P10*$B$2,0)","v":0},{"$f":"IF(AND(Q$3<=$B$2,$B$2<R$3,$B$3=$A$12,$B$4=L2),Q10*$B$2,0)","v":0},{"$f":"IF(AND(R$3<=$B$2,$B$3=$A$12,$B$4=L2),R10*$B$2,0)","v":0},null,60,0,{"$f":"IF(AND(V$3<=$B$2,$B$2<W$3,$B$3=$A$12,$B$4=T2),V10*$B$2,0)","v":0},{"$f":"IF(AND(W$3<=$B$2,$B$2<X$3,$B$3=$A$12,$B$4=T2),W10*$B$2,0)","v":0},{"$f":"IF(AND(X$3<=$B$2,$B$2<Y$3,$B$3=$A$12,$B$4=T2),X10*$B$2,0)","v":0},{"$f":"IF(AND(Y$3<=$B$2,$B$2<Z$3,$B$3=$A$12,$B$4=T2),Y10*$B$2,0)","v":0},{"$f":"IF(AND(Z$3<=$B$2,$B$3=$A$12,$B$4=T2),Z10*$B$2,0)","v":0},null,60,0,{"$f":"IF(AND(AD$3<=$B$2,$B$2<AE$3,$B$3=$A$12,$B$4=AB2),AD10*$B$2,0)","v":0},{"$f":"IF(AND(AE$3<=$B$2,$B$2<AF$3,$B$3=$A$12,$B$4=AB2),AE10*$B$2,0)","v":0},{"$f":"IF(AND(AF$3<=$B$2,$B$2<AG$3,$B$3=$A$12,$B$4=AB2),AF10*$B$2,0)","v":0},{"$f":"IF(AND(AG$3<=$B$2,$B$2<AH$3,$B$3=$A$12,$B$4=AB2),AG10*$B$2,0)","v":0},{"$f":"IF(AND(AH$3<=$B$2,$B$3=$A$12,$B$4=AB2),AH10*$B$2,0)","v":0},null,60,0,{"$f":"IF(AND(AL$3<=$B$2,$B$2<AM$3,$B$3=$A$12,$B$4=AJ2),AL10*$B$2,0)","v":0},{"$f":"IF(AND(AM$3<=$B$2,$B$2<AN$3,$B$3=$A$12,$B$4=AJ2),AM10*$B$2,0)","v":0},{"$f":"IF(AND(AN$3<=$B$2,$B$2<AO$3,$B$3=$A$12,$B$4=AJ2),AN10*$B$2,0)","v":0},{"$f":"IF(AND(AO$3<=$B$2,$B$2<AP$3,$B$3=$A$12,$B$4=AJ2),AO10*$B$2,0)","v":0},{"$f":"IF(AND(AP$3<=$B$2,$B$3=$A$12,$B$4=AJ2),AP10*$B$2,0)","v":0},null,60,0,{"$f":"IF(AND(AT$3<=$B$2,$B$2<AU$3,$B$3=$A$12,$B$4=AR2),AT10*$B$2,0)","v":0},{"$f":"IF(AND(AU$3<=$B$2,$B$2<AV$3,$B$3=$A$12,$B$4=AR2),AU10*$B$2,0)","v":0},{"$f":"IF(AND(AV$3<=$B$2,$B$2<AW$3,$B$3=$A$12,$B$4=AR2),AV10*$B$2,0)","v":0},{"$f":"IF(AND(AW$3<=$B$2,$B$2<AX$3,$B$3=$A$12,$B$4=AR2),AW10*$B$2,0)","v":0},{"$f":"IF(AND(AX$3<=$B$2,$B$3=$A$12,$B$4=AR2),AX10*$B$2,0)","v":0},null,60,0,{"$f":"IF(AND(BB$3<=$B$2,$B$2<BC$3,$B$3=$A$12,$B$4=AZ2),BB10*$B$2,0)","v":0},{"$f":"IF(AND(BC$3<=$B$2,$B$2<BD$3,$B$3=$A$12,$B$4=AZ2),BC10*$B$2,0)","v":0},{"$f":"IF(AND(BD$3<=$B$2,$B$2<BE$3,$B$3=$A$12,$B$4=AZ2),BD10*$B$2,0)","v":0},{"$f":"IF(AND(BE$3<=$B$2,$B$2<BF$3,$B$3=$A$12,$B$4=AZ2),BE10*$B$2,0)","v":0},{"$f":"IF(AND(BF$3<=$B$2,$B$3=$A$12,$B$4=AZ2),BF10*$B$2,0)","v":0},null,60,0,{"$f":"IF(AND(BJ$3<=$B$2,$B$2<BK$3,$B$3=$A$12,$B$4=BH2),BJ10*$B$2,0)","v":0},{"$f":"IF(AND(BK$3<=$B$2,$B$2<BL$3,$B$3=$A$12,$B$4=BH2),BK10*$B$2,0)","v":0},{"$f":"IF(AND(BL$3<=$B$2,$B$2<BM$3,$B$3=$A$12,$B$4=BH2),BL10*$B$2,0)","v":0},{"$f":"IF(AND(BM$3<=$B$2,$B$2<BN$3,$B$3=$A$12,$B$4=BH2),BM10*$B$2,0)","v":0},{"$f":"IF(AND(BN$3<=$B$2,$B$3=$A$12,$B$4=BH2),BN10*$B$2,0)","v":0},null,null,null,null,null,60,0,{"$f":"IF(AND(BV$3<=$B$2,$B$2<BW$3,$B$3=$A$12,$B$4=BT2),BV10*$B$2,0)","v":0},{"$f":"IF(AND(BW$3<=$B$2,$B$2<BX$3,$B$3=$A$12,$B$4=BT2),BW10*$B$2,0)","v":0},{"$f":"IF(AND(BX$3<=$B$2,$B$2<BY$3,$B$3=$A$12,$B$4=BT2),BX10*$B$2,0)","v":0},{"$f":"IF(AND(BY$3<=$B$2,$B$2<BZ$3,$B$3=$A$12,$B$4=BT2),BY10*$B$2,0)","v":0},{"$f":"IF(AND(BZ$3<=$B$2,$B$3=$A$12,$B$4=BT2),BZ10*$B$2,0)","v":0},null,60,0,{"$f":"IF(AND(CD$3<=$B$2,$B$2<CE$3,$B$3=$A$12,$B$4=CB2),CD10*$B$2,0)","v":0},{"$f":"IF(AND(CE$3<=$B$2,$B$2<CF$3,$B$3=$A$12,$B$4=CB2),CE10*$B$2,0)","v":0},{"$f":"IF(AND(CF$3<=$B$2,$B$2<CG$3,$B$3=$A$12,$B$4=CB2),CF10*$B$2,0)","v":0},{"$f":"IF(AND(CG$3<=$B$2,$B$2<CH$3,$B$3=$A$12,$B$4=CB2),CG10*$B$2,0)","v":0},{"$f":"IF(AND(CH$3<=$B$2,$B$3=$A$12,$B$4=CB2),CH10*$B$2,0)","v":0},null,60,0,{"$f":"IF(AND(CL$3<=$B$2,$B$2<CM$3,$B$3=$A$12,$B$4=CJ2),CL10*$B$2,0)","v":0},{"$f":"IF(AND(CM$3<=$B$2,$B$2<CN$3,$B$3=$A$12,$B$4=CJ2),CM10*$B$2,0)","v":0},{"$f":"IF(AND(CN$3<=$B$2,$B$2<CO$3,$B$3=$A$12,$B$4=CJ2),CN10*$B$2,0)","v":0},{"$f":"IF(AND(CO$3<=$B$2,$B$2<CP$3,$B$3=$A$12,$B$4=CJ2),CO10*$B$2,0)","v":0},{"$f":"IF(AND(CP$3<=$B$2,$B$3=$A$12,$B$4=CJ2),CP10*$B$2,0)","v":0},null,60,0,{"$f":"IF(AND(CT$3<=$B$2,$B$2<CU$3,$B$3=$A$12,$B$4=CR2),CT10*$B$2,0)","v":0},{"$f":"IF(AND(CU$3<=$B$2,$B$2<CV$3,$B$3=$A$12,$B$4=CR2),CU10*$B$2,0)","v":0},{"$f":"IF(AND(CV$3<=$B$2,$B$2<CW$3,$B$3=$A$12,$B$4=CR2),CV10*$B$2,0)","v":0},{"$f":"IF(AND(CW$3<=$B$2,$B$2<CX$3,$B$3=$A$12,$B$4=CR2),CW10*$B$2,0)","v":0},{"$f":"IF(AND(CX$3<=$B$2,$B$3=$A$12,$B$4=CR2),CX10*$B$2,0)","v":0},null,60,0,{"$f":"IF(AND(DB$3<=$B$2,$B$2<DC$3,$B$3=$A$12,$B$4=CZ2),DB10*$B$2,0)","v":0},{"$f":"IF(AND(DC$3<=$B$2,$B$2<DD$3,$B$3=$A$12,$B$4=CZ2),DC10*$B$2,0)","v":0},{"$f":"IF(AND(DD$3<=$B$2,$B$2<DE$3,$B$3=$A$12,$B$4=CZ2),DD10*$B$2,0)","v":0},{"$f":"IF(AND(DE$3<=$B$2,$B$2<DF$3,$B$3=$A$12,$B$4=CZ2),DE10*$B$2,0)","v":0},{"$f":"IF(AND(DF$3<=$B$2,$B$3=$A$12,$B$4=CZ2),DF10*$B$2,0)","v":0}]
[null,"10% PUT",null,{"$f":"SUM(F17:DF17)","v":0},null,{"$f":"SUM(F12:F16)","v":0},{"$f":"SUM(G12:G16)","v":0},{"$f":"SUM(H12:H16)","v":0},{"$f":"SUM(I12:I16)","v":0},{"$f":"SUM(J12:J16)","v":0},null,null,null,{"$f":"SUM(N12:N16)","v":0},{"$f":"SUM(O12:O16)","v":0},{"$f":"SUM(P12:P16)","v":0},{"$f":"SUM(Q12:Q16)","v":0},{"$f":"SUM(R12:R16)","v":0},null,null,null,{"$f":"SUM(V12:V16)","v":0},{"$f":"SUM(W12:W16)","v":0},{"$f":"SUM(X12:X16)","v":0},{"$f":"SUM(Y12:Y16)","v":0},{"$f":"SUM(Z12:Z16)","v":0},null,null,null,{"$f":"SUM(AD12:AD16)","v":0},{"$f":"SUM(AE12:AE16)","v":0},{"$f":"SUM(AF12:AF16)","v":0},{"$f":"SUM(AG12:AG16)","v":0},{"$f":"SUM(AH12:AH16)","v":0},null,null,null,{"$f":"SUM(AL12:AL16)","v":0},{"$f":"SUM(AM12:AM16)","v":0},{"$f":"SUM(AN12:AN16)","v":0},{"$f":"SUM(AO12:AO16)","v":0},{"$f":"SUM(AP12:AP16)","v":0},null,null,null,{"$f":"SUM(AT12:AT16)","v":0},{"$f":"SUM(AU12:AU16)","v":0},{"$f":"SUM(AV12:AV16)","v":0},{"$f":"SUM(AW12:AW16)","v":0},{"$f":"SUM(AX12:AX16)","v":0},null,null,null,{"$f":"SUM(BB12:BB16)","v":0},{"$f":"SUM(BC12:BC16)","v":0},{"$f":"SUM(BD12:BD16)","v":0},{"$f":"SUM(BE12:BE16)","v":0},{"$f":"SUM(BF12:BF16)","v":0},null,null,null,{"$f":"SUM(BJ12:BJ16)","v":0},{"$f":"SUM(BK12:BK16)","v":0},{"$f":"SUM(BL12:BL16)","v":0},{"$f":"SUM(BM12:BM16)","v":0},{"$f":"SUM(BN12:BN16)","v":0},null,null,null,{"$f":"SUM(BR12:BR16)","v":0},null,null,null,{"$f":"SUM(BV12:BV16)","v":0},{"$f":"SUM(BW12:BW16)","v":0},{"$f":"SUM(BX12:BX16)","v":0},{"$f":"SUM(BY12:BY16)","v":0},{"$f":"SUM(BZ12:BZ16)","v":0},null,null,null,{"$f":"SUM(CD12:CD16)","v":0},{"$f":"SUM(CE12:CE16)","v":0},{"$f":"SUM(CF12:CF16)","v":0},{"$f":"SUM(CG12:CG16)","v":0},{"$f":"SUM(CH12:CH16)","v":0},null,null,null,{"$f":"SUM(CL12:CL16)","v":0},{"$f":"SUM(CM12:CM16)","v":0},{"$f":"SUM(CN12:CN16)","v":0},{"$f":"SUM(CO12:CO16)","v":0},{"$f":"SUM(CP12:CP16)","v":0},null,null,null,{"$f":"SUM(CT12:CT16)","v":0},{"$f":"SUM(CU12:CU16)","v":0},{"$f":"SUM(CV12:CV16)","v":0},{"$f":"SUM(CW12:CW16)","v":0},{"$f":"SUM(CX12:CX16)","v":0},null,null,null,{"$f":"SUM(DB12:DB16)","v":0},{"$f":"SUM(DC12:DC16)","v":0},{"$f":"SUM(DD12:DD16)","v":0},{"$f":"SUM(DE12:DE16)","v":0},{"$f":"SUM(DF12:DF16)","v":0}]
[null,"$1 Buyout Lease - 90 days no pmt"]
[null,"Fair Market Value Sweeper Lease - 90 days no pmt"]
[null,"Fair Market Value Scrubber Lease - 90 days no pmt"]
[null,"FMV Sweeper - Promo"]
[null,null,null,{"$f":"C9","v":"Wells Fargo Vendor Solutions"},null,"2013-10-01"]
[null,null,null,{"$f":"B8","v":"$1 Buyout Lease"},null,null,null,null,null,null,null,{"$f":"B9","v":"Fair Market Value Sweeper Lease"},null,null,null,null,null,null,null,{"$f":"B10","v":"Fair Market Value Scrubber Lease"},null,null,null,null,null,null,null,{"$f":"B11","v":"10% Option"},null,null,null,null,null,null,null,{"$f":"B12","v":"Municipal $1 Buyout Lease - Monthly Pmt"},null,null,null,null,null,null,null,{"$f":"B13","v":"Muni $1 Out Quarterly"},null,null,null,null,null,null,null,{"$f":"B14","v":"Muni $1 Out Semi-Annually"},null,null,null,null,null,null,null,{"$f":"B15","v":"Municipal $1 Buyout Lease - Annual Pmt"},null,null,null,null,null,null,null,{"$f":"B16","v":"Rent To Own"},null,null,null,{"$f":"B17","v":"10% PUT"},null,null,null,null,null,null,null,{"$f":"B18","v":"$1 Buyout Lease - 90 days no pmt"},null,null,null,null,null,null,null,{"$f":"B19","v":"Fair Market Value Sweeper Lease - 90 days no pmt"},null,null,null,null,null,null,null,{"$f":"B20","v":"Fair Market Value Scrubber Lease - 90 days no pmt"},null,null,null,null,null,null,null,{"$f":"B21","v":"FMV Sweeper - Promo"}]
["For Drop Down","PurchaseOptNL","PurchaseOptTFS",null,null,5000,10000,25000,50000,100000,null,null,null,5000,10000,25000,50000,100000,null,null,null,5000,10000,25000,50000,100000,null,null,null,5000,10000,25000,50000,100000,null,null,null,5000,10000,25000,50000,100000,null,null,null,5000,10000,25000,50000,100000,null,null,null,5000,10000,25000,50000,100000,null,null,null,5000,10000,25000,50000,100000,null,null,null,1,null,null,null,5000,10000,25000,50000,100000,null,null,null,5000,10000,25000,50000,100000,null,null,null,5000,10000,25000,50000,100000,null,null,null,5000,10000,25000,50000,100000,null,null,null,5000,10000,25000,50000,100000]
["Term","Purchase Opt - NL","Purchase Opt - TFS",null,null,"to","to","to","to","to",null,null,null,"to","to","to","to","to",null,null,null,"to","to","to","to","to",null,null,null,"to","to","to","to","to",null,null,null,"to","to","to","to","to",null,null,null,"to","to","to","to","to",null,null,null,"to","to","to","to","to",null,null,null,"to","to","to","to","to",null,null,null,"to",null,null,null,"to","to","to","to","to",null,null,null,"to","to","to","to","to",null,null,null,"to","to","to","to","to",null,null,null,"to","to","to","to","to",null,null,null,"to","to","to","to","to"]
["None","None","None","Term","Adv",9999,24999,49999,99999,null,null,"Term","Adv",9999,24999,49999,99999,null,null,"Term","Adv",9999,24999,49999,99999,null,null,"Term","Adv",9999,24999,49999,99999,null,null,"Term","Adv",9999,24999,49999,99999,null,null,"Term","Adv",9999,24999,49999,99999,null,null,"Term","Adv",9999,24999,49999,99999,null,null,"Term","Adv",9999,24999,49999,99999,null,null,"Term","Adv",null,null,"Term","Adv",9999,24999,49999,99999,null,null,"Term","Adv",9999,24999,49999,99999,null,null,"Term","Adv",9999,24999,49999,99999,null,null,"Term","Adv",9999,24999,49999,99999,null,null,"Term","Adv",9999,24999,49999,99999]
["24 Months","$1 Buyout Lease","$1 Buyout Lease",12,0,null,null,null,null,null,null,12,0,null,null,null,null,null,null,12,0,null,null,null,null,null,null,12,0,null,null,null,null,null,null,12,0,null,null,null,null,null,null,12,0,null,null,null,null,null,null,12,0,null,null,null,null,null,null,12,0,null,null,null,null,null,null,9,0,null,null,12,0,null,null,null,null,null,null,12,0,null,null,null,null,null,null,12,0,null,null,null,null,null,null,12,0,null,null,null,null,null,null,12,0]
["36 Months","Fair Market Value Sweeper Lease","$1 Buyout Lease - 90 days no pmt",24,0,4.9391302575159689E-2,4.9391302575159689E-2,4.8668031941964687E-2,4.8452261703151478E-2,4.8452261703151478E-2,null,24,0,3.7140724425741914E-2,3.7140724425741914E-2,3.6058428296601018E-2,3.5596230207767011E-2,3.5596230207767011E-2,null,24,0,4.1390092998970326E-2,4.1390092998970326E-2,4.0382603738295726E-2,3.9952769079215439E-2,3.9952769079215439E-2,null,24,0,4.5787823040414101E-2,4.5787823040414101E-2,4.5010461292826452E-2,4.4778344998994933E-2,4.4778344998994933E-2,null,24,0,null,null,null,null,null,null,24,0,null,null,null,null,null,null,24,0,null,null,null,null,null,null,24,0,null,null,null,null,null,null,12,0,null,null,24,0,null,null,null,null,null,null,24,0,null,null,null,null,null,null,24,0,null,null,null,null,null,null,24,0,null,null,null,null,null,null,24,0]
["48 Months","Fair Market Value Scrubber Lease","Fair Market Value Sweeper Lease",36,0,3.516442345894117E-2,3.516442345894117E-2,3.4152336714166863E-2,3.4005676693967903E-2,3.4005676693967903E-2,null,36,0,2.9375548172221246E-2,2.9375548172221246E-2,2.7949491775059215E-2,2.7197363009538782E-2,2.7197363009538782E-2,null,36,0,3.262570318070275E-2,3.262570318070275E-2,3.1320374305267046E-2,3.0633816927312724E-2,3.0633816927312724E-2,null,36,0,3.2934478132777861E-2,3.2934478132777861E-2,3.1850782245334372E-2,3.1693500658488249E-2,3.1693500658488249E-2,null,36,0,null,null,null,null,null,null,36,0,null,null,null,null,null,null,36,0,null,null,null,null,null,null,36,0,null,null,null,null,null,null,18,0,null,null,36,0,null,null,null,null,null,null,36,0,null,null,null,null,null,null,36,0,null,null,null,null,null,null,36,0,null,null,null,null,null,null,36,0]
["60 Months","10% Option","Fair Market Value Sweeper Lease - 90 days no pmt",48,0,2.7932317998093606E-2,2.7932317998093606E-2,2.6544020372267736E-2,2.6296031690327928E-2,2.6296031690327928E-2,null,48,0,2.5045539431140938E-2,2.5045539431140938E-2,2.3740526638023077E-2,2.2978788905342103E-2,2.2978788905342103E-2,null,48,0,2.7469040504582522E-2,2.7469040504582522E-2,2.6279922523132791E-2,2.558859756323521E-2,2.558859756323521E-2,null,48,0,2.6370176203977878E-2,2.6370176203977878E-2,2.4888819521860426E-2,2.4623476789130405E-2,2.4623476789130405E-2,null,48,0,null,null,null,null,null,null,48,0,null,null,null,null,null,null,48,0,null,null,null,null,null,null,48,0,null,null,null,null,null,null,null,null,null,null,48,0,null,null,null,null,null,null,48,0,null,null,null,null,null,null,48,0,null,null,null,null,null,null,48,0,null,null,null,null,null,null,48,0]
[null,null,"Fair Market Value Scrubber Lease",60,0,2.364530817395654E-2,2.364530817395654E-2,2.2092329854151389E-2,2.2092329854151389E-2,2.2092329854151389E-2,null,60,0,2.2430519106157294E-2,2.2430519106157294E-2,2.067684706766915E-2,2.0103296612794464E-2,2.0103296612794464E-2,null,60,0,2.3996788013787285E-2,2.3996788013787285E-2,2.2375837302217781E-2,2.1848361771530649E-2,2.1848361771530649E-2,null,60,0,2.2479876554978188E-2,2.2479876554978188E-2,2.0829151011624521E-2,2.0829151011624521E-2,2.0829151011624521E-2,null,60,0,null,null,null,null,null,null,60,0,null,null,null,null,null,null,60,0,null,null,null,null,null,null,60,0,null,null,null,null,null,null,null,null,null,null,60,0,null,null,null,null,null,null,60,0,null,null,null,null,null,null,60,0,null,null,null,null,null,null,60,0,null,null,null,null,null,null,60,0]
[null,null,"Fair Market Value Scrubber Lease - 90 days no pmt"]
[null,null,"Municipal $1 Buyout Lease - Monthly Pmt",12,0,{"$f":"IF(AND(F$24<=$B$2,$B$2<G$24,$B$3=$A$8,$B$4=D23),F27*$B$2,0)","v":0},{"$f":"IF(AND(G$24<=$B$2,$B$2<H$24,$B$3=$A$8,$B$4=D23),G27*$B$2,0)","v":0},{"$f":"IF(AND(H$24<=$B$2,$B$2<I$24,$B$3=$A$8,$B$4=D23),H27*$B$2,0)","v":0},{"$f":"IF(AND(I$24<=$B$2,$B$2<J$24,$B$3=$A$8,$B$4=D23),I27*$B$2,0)","v":0},{"$f":"IF(AND(J$24<=$B$2,$B$3=$A$8,$B$4=D23),J27*$B$2,0)","v":0},null,12,0,{"$f":"IF(AND(N$24<=$B$2,$B$2<O$24,$B$3=$A$8,$B$4=L23),N27*$B$2,0)","v":0},{"$f":"IF(AND(O$24<=$B$2,$B$2<P$24,$B$3=$A$8,$B$4=L23),O27*$B$2,0)","v":0},{"$f":"IF(AND(P$24<=$B$2,$B$2<Q$24,$B$3=$A$8,$B$4=L23),P27*$B$2,0)","v":0},{"$f":"IF(AND(Q$24<=$B$2,$B$2<R$24,$B$3=$A$8,$B$4=L23),Q27*$B$2,0)","v":0},{"$f":"IF(AND(R$24<=$B$2,$B$3=$A$8,$B$4=L23),R27*$B$2,0)","v":0},null,12,0,{"$f":"IF(AND(V$24<=$B$2,$B$2<W$24,$B$3=$A$8,$B$4=T23),V27*$B$2,0)","v":0},{"$f":"IF(AND(W$24<=$B$2,$B$2<X$24,$B$3=$A$8,$B$4=T23),W27*$B$2,0)","v":0},{"$f":"IF(AND(X$24<=$B$2,$B$2<Y$24,$B$3=$A$8,$B$4=T23),X27*$B$2,0)","v":0},{"$f":"IF(AND(Y$24<=$B$2,$B$2<Z$24,$B$3=$A$8,$B$4=T23),Y27*$B$2,0)","v":0},{"$f":"IF(AND(Z$24<=$B$2,$B$3=$A$8,$B$4=T23),Z27*$B$2,0)","v":0},null,12,0,{"$f":"IF(AND(AD$24<=$B$2,$B$2<AE$24,$B$3=$A$8,$B$4=AB23),AD27*$B$2,0)","v":0},{"$f":"IF(AND(AE$24<=$B$2,$B$2<AF$24,$B$3=$A$8,$B$4=AB23),AE27*$B$2,0)","v":0},{"$f":"IF(AND(AF$24<=$B$2,$B$2<AG$24,$B$3=$A$8,$B$4=AB23),AF27*$B$2,0)","v":0},{"$f":"IF(AND(AG$24<=$B$2,$B$2<AH$24,$B$3=$A$8,$B$4=AB23),AG27*$B$2,0)","v":0},{"$f":"IF(AND(AH$24<=$B$2,$B$3=$A$8,$B$4=AB23),AH27*$B$2,0)","v":0},null,12,0,{"$f":"IF(AND(AL$24<=$B$2,$B$2<AM$24,$B$3=$A$8,$B$4=AJ23),AL27*$B$2,0)","v":0},{"$f":"IF(AND(AM$24<=$B$2,$B$2<AN$24,$B$3=$A$8,$B$4=AJ23),AM27*$B$2,0)","v":0},{"$f":"IF(AND(AN$24<=$B$2,$B$2<AO$24,$B$3=$A$8,$B$4=AJ23),AN27*$B$2,0)","v":0},{"$f":"IF(AND(AO$24<=$B$2,$B$2<AP$24,$B$3=$A$8,$B$4=AJ23),AO27*$B$2,0)","v":0},{"$f":"IF(AND(AP$24<=$B$2,$B$3=$A$8,$B$4=AJ23),AP27*$B$2,0)","v":0},null,12,0,{"$f":"IF(AND(AT$24<=$B$2,$B$2<AU$24,$B$3=$A$8,$B$4=AR23),AT27*$B$2,0)","v":0},{"$f":"IF(AND(AU$24<=$B$2,$B$2<AV$24,$B$3=$A$8,$B$4=AR23),AU27*$B$2,0)","v":0},{"$f":"IF(AND(AV$24<=$B$2,$B$2<AW$24,$B$3=$A$8,$B$4=AR23),AV27*$B$2,0)","v":0},{"$f":"IF(AND(AW$24<=$B$2,$B$2<AX$24,$B$3=$A$8,$B$4=AR23),AW27*$B$2,0)","v":0},{"$f":"IF(AND(AX$24<=$B$2,$B$3=$A$8,$B$4=AR23),AX27*$B$2,0)","v":0},null,12,0,{"$f":"IF(AND(BB$24<=$B$2,$B$2<BC$24,$B$3=$A$8,$B$4=AZ23),BB27*$B$2,0)","v":0},{"$f":"IF(AND(BC$24<=$B$2,$B$2<BD$24,$B$3=$A$8,$B$4=AZ23),BC27*$B$2,0)","v":0},{"$f":"IF(AND(BD$24<=$B$2,$B$2<BE$24,$B$3=$A$8,$B$4=AZ23),BD27*$B$2,0)","v":0},{"$f":"IF(AND(BE$24<=$B$2,$B$2<BF$24,$B$3=$A$8,$B$4=AZ23),BE27*$B$2,0)","v":0},{"$f":"IF(AND(BF$24<=$B$2,$B$3=$A$8,$B$4=AZ23),BF27*$B$2,0)","v":0},null,12,0,{"$f":"IF(AND(BJ$24<=$B$2,$B$2<BK$24,$B$3=$A$8,$B$4=BH23),BJ27*$B$2,0)","v":0},{"$f":"IF(AND(BK$24<=$B$2,$B$2<BL$24,$B$3=$A$8,$B$4=BH23),BK27*$B$2,0)","v":0},{"$f":"IF(AND(BL$24<=$B$2,$B$2<BM$24,$B$3=$A$8,$B$4=BH23),BL27*$B$2,0)","v":0},{"$f":"IF(AND(BM$24<=$B$2,$B$2<BN$24,$B$3=$A$8,$B$4=BH23),BM27*$B$2,0)","v":0},{"$f":"IF(AND(BN$24<=$B$2,$B$3=$A$8,$B$4=BH23),BN27*$B$2,0)","v":0},null,9,0,{"$f":"IF(AND(BR$3<=$B$2,$B$3=$A$13,$B$4=BP23),BR27*$B$2,0)","v":0},null,12,0,{"$f":"IF(AND(BV$24<=$B$2,$B$2<BW$24,$B$3=$A$8,$B$4=BT23),BV27*$B$2,0)","v":0},{"$f":"IF(AND(BW$24<=$B$2,$B$2<BX$24,$B$3=$A$8,$B$4=BT23),BW27*$B$2,0)","v":0},{"$f":"IF(AND(BX$24<=$B$2,$B$2<BY$24,$B$3=$A$8,$B$4=BT23),BX27*$B$2,0)","v":0},{"$f":"IF(AND(BY$24<=$B$2,$B$2<BZ$24,$B$3=$A$8,$B$4=BT23),BY27*$B$2,0)","v":0},{"$f":"IF(AND(BZ$24<=$B$2,$B$3=$A$8,$B$4=BT23),BZ27*$B$2,0)","v":0},null,12,0,{"$f":"IF(AND(CD$24<=$B$2,$B$2<CE$24,$B$3=$A$8,$B$4=CB23),CD27*$B$2,0)","v":0},{"$f":"IF(AND(CE$24<=$B$2,$B$2<CF$24,$B$3=$A$8,$B$4=CB23),CE27*$B$2,0)","v":0},{"$f":"IF(AND(CF$24<=$B$2,$B$2<CG$24,$B$3=$A$8,$B$4=CB23),CF27*$B$2,0)","v":0},{"$f":"IF(AND(CG$24<=$B$2,$B$2<CH$24,$B$3=$A$8,$B$4=CB23),CG27*$B$2,0)","v":0},{"$f":"IF(AND(CH$24<=$B$2,$B$3=$A$8,$B$4=CB23),CH27*$B$2,0)","v":0},null,12,0,{"$f":"IF(AND(CL$24<=$B$2,$B$2<CM$24,$B$3=$A$8,$B$4=CJ23),CL27*$B$2,0)","v":0},{"$f":"IF(AND(CM$24<=$B$2,$B$2<CN$24,$B$3=$A$8,$B$4=CJ23),CM27*$B$2,0)","v":0},{"$f":"IF(AND(CN$24<=$B$2,$B$2<CO$24,$B$3=$A$8,$B$4=CJ23),CN27*$B$2,0)","v":0},{"$f":"IF(AND(CO$24<=$B$2,$B$2<CP$24,$B$3=$A$8,$B$4=CJ23),CO27*$B$2,0)","v":0},{"$f":"IF(AND(CP$24<=$B$2,$B$3=$A$8,$B$4=CJ23),CP27*$B$2,0)","v":0},null,12,0,{"$f":"IF(AND(CT$24<=$B$2,$B$2<CU$24,$B$3=$A$8,$B$4=CR23),CT27*$B$2,0)","v":0},{"$f":"IF(AND(CU$24<=$B$2,$B$2<CV$24,$B$3=$A$8,$B$4=CR23),CU27*$B$2,0)","v":0},{"$f":"IF(AND(CV$24<=$B$2,$B$2<CW$24,$B$3=$A$8,$B$4=CR23),CV27*$B$2,0)","v":0},{"$f":"IF(AND(CW$24<=$B$2,$B$2<CX$24,$B$3=$A$8,$B$4=CR23),CW27*$B$2,0)","v":0},{"$f":"IF(AND(CX$24<=$B$2,$B$3=$A$8,$B$4=CR23),CX27*$B$2,0)","v":0},null,12,0,{"$f":"IF(AND(DB$24<=$B$2,$B$2<DC$24,$B$3=$A$8,$B$4=CZ23),DB27*$B$2,0)","v":0},{"$f":"IF(AND(DC$24<=$B$2,$B$2<DD$24,$B$3=$A$8,$B$4=CZ23),DC27*$B$2,0)","v":0},{"$f":"IF(AND(DD$24<=$B$2,$B$2<DE$24,$B$3=$A$8,$B$4=CZ23),DD27*$B$2,0)","v":0},{"$f":"IF(AND(DE$24<=$B$2,$B$2<DF$24,$B$3=$A$8,$B$4=CZ23),DE27*$B$2,0)","v":0},{"$f":"IF(AND(DF$24<=$B$2,$B$3=$A$8,$B$4=CZ23),DF27*$B$2,0)","v":0}]
[null,null,"Municipal $1 Buyout Lease - Annual Pmt",24,0,{"$f":"IF(AND(F$24<=$B$2,$B$2<G$24,$B$3=$A$9,$B$4=D23),F28*$B$2,0)","v":0},{"$f":"IF(AND(G$24<=$B$2,$B$2<H$24,$B$3=$A$9,$B$4=D23),G28*$B$2,0)","v":0},{"$f":"IF(AND(H$24<=$B$2,$B$2<I$24,$B$3=$A$9,$B$4=D23),H28*$B$2,0)","v":0},{"$f":"IF(AND(I$24<=$B$2,$B$2<J$24,$B$3=$A$9,$B$4=D23),I28*$B$2,0)","v":0},{"$f":"IF(AND(J$24<=$B$2,$B$3=$A$9,$B$4=D23),J28*$B$2,0)","v":0},null,24,0,{"$f":"IF(AND(N$24<=$B$2,$B$2<O$24,$B$3=$A$9,$B$4=L23),N28*$B$2,0)","v":0},{"$f":"IF(AND(O$24<=$B$2,$B$2<P$24,$B$3=$A$9,$B$4=L23),O28*$B$2,0)","v":0},{"$f":"IF(AND(P$24<=$B$2,$B$2<Q$24,$B$3=$A$9,$B$4=L23),P28*$B$2,0)","v":0},{"$f":"IF(AND(Q$24<=$B$2,$B$2<R$24,$B$3=$A$9,$B$4=L23),Q28*$B$2,0)","v":0},{"$f":"IF(AND(R$24<=$B$2,$B$3=$A$9,$B$4=L23),R28*$B$2,0)","v":0},null,24,0,{"$f":"IF(AND(V$24<=$B$2,$B$2<W$24,$B$3=$A$9,$B$4=T23),V28*$B$2,0)","v":0},{"$f":"IF(AND(W$24<=$B$2,$B$2<X$24,$B$3=$A$9,$B$4=T23),W28*$B$2,0)","v":0},{"$f":"IF(AND(X$24<=$B$2,$B$2<Y$24,$B$3=$A$9,$B$4=T23),X28*$B$2,0)","v":0},{"$f":"IF(AND(Y$24<=$B$2,$B$2<Z$24,$B$3=$A$9,$B$4=T23),Y28*$B$2,0)","v":0},{"$f":"IF(AND(Z$24<=$B$2,$B$3=$A$9,$B$4=T23),Z28*$B$2,0)","v":0},null,24,0,{"$f":"IF(AND(AD$24<=$B$2,$B$2<AE$24,$B$3=$A$9,$B$4=AB23),AD28*$B$2,0)","v":0},{"$f":"IF(AND(AE$24<=$B$2,$B$2<AF$24,$B$3=$A$9,$B$4=AB23),AE28*$B$2,0)","v":0},{"$f":"IF(AND(AF$24<=$B$2,$B$2<AG$24,$B$3=$A$9,$B$4=AB23),AF28*$B$2,0)","v":0},{"$f":"IF(AND(AG$24<=$B$2,$B$2<AH$24,$B$3=$A$9,$B$4=AB23),AG28*$B$2,0)","v":0},{"$f":"IF(AND(AH$24<=$B$2,$B$3=$A$9,$B$4=AB23),AH28*$B$2,0)","v":0},null,24,0,{"$f":"IF(AND(AL$24<=$B$2,$B$2<AM$24,$B$3=$A$9,$B$4=AJ23),AL28*$B$2,0)","v":0},{"$f":"IF(AND(AM$24<=$B$2,$B$2<AN$24,$B$3=$A$9,$B$4=AJ23),AM28*$B$2,0)","v":0},{"$f":"IF(AND(AN$24<=$B$2,$B$2<AO$24,$B$3=$A$9,$B$4=AJ23),AN28*$B$2,0)","v":0},{"$f":"IF(AND(AO$24<=$B$2,$B$2<AP$24,$B$3=$A$9,$B$4=AJ23),AO28*$B$2,0)","v":0},{"$f":"IF(AND(AP$24<=$B$2,$B$3=$A$9,$B$4=AJ23),AP28*$B$2,0)","v":0},null,24,0,{"$f":"IF(AND(AT$24<=$B$2,$B$2<AU$24,$B$3=$A$9,$B$4=AR23),AT28*$B$2,0)","v":0},{"$f":"IF(AND(AU$24<=$B$2,$B$2<AV$24,$B$3=$A$9,$B$4=AR23),AU28*$B$2,0)","v":0},{"$f":"IF(AND(AV$24<=$B$2,$B$2<AW$24,$B$3=$A$9,$B$4=AR23),AV28*$B$2,0)","v":0},{"$f":"IF(AND(AW$24<=$B$2,$B$2<AX$24,$B$3=$A$9,$B$4=AR23),AW28*$B$2,0)","v":0},{"$f":"IF(AND(AX$24<=$B$2,$B$3=$A$9,$B$4=AR23),AX28*$B$2,0)","v":0},null,24,0,{"$f":"IF(AND(BB$24<=$B$2,$B$2<BC$24,$B$3=$A$9,$B$4=AZ23),BB28*$B$2,0)","v":0},{"$f":"IF(AND(BC$24<=$B$2,$B$2<BD$24,$B$3=$A$9,$B$4=AZ23),BC28*$B$2,0)","v":0},{"$f":"IF(AND(BD$24<=$B$2,$B$2<BE$24,$B$3=$A$9,$B$4=AZ23),BD28*$B$2,0)","v":0},{"$f":"IF(AND(BE$24<=$B$2,$B$2<BF$24,$B$3=$A$9,$B$4=AZ23),BE28*$B$2,0)","v":0},{"$f":"IF(AND(BF$24<=$B$2,$B$3=$A$9,$B$4=AZ23),BF28*$B$2,0)","v":0},null,24,0,{"$f":"IF(AND(BJ$24<=$B$2,$B$2<BK$24,$B$3=$A$9,$B$4=BH23),BJ28*$B$2,0)","v":0},{"$f":"IF(AND(BK$24<=$B$2,$B$2<BL$24,$B$3=$A$9,$B$4=BH23),BK28*$B$2,0)","v":0},{"$f":"IF(AND(BL$24<=$B$2,$B$2<BM$24,$B$3=$A$9,$B$4=BH23),BL28*$B$2,0)","v":0},{"$f":"IF(AND(BM$24<=$B$2,$B$2<BN$24,$B$3=$A$9,$B$4=BH23),BM28*$B$2,0)","v":0},{"$f":"IF(AND(BN$24<=$B$2,$B$3=$A$9,$B$4=BH23),BN28*$B$2,0)","v":0},null,12,0,{"$f":"IF(AND(BR$3<=$B$2,$B$3=$A$8,$B$4=BP23),BR28*$B$2,0)","v":0},null,24,0,{"$f":"IF(AND(BV$24<=$B$2,$B$2<BW$24,$B$3=$A$9,$B$4=BT23),BV28*$B$2,0)","v":0},{"$f":"IF(AND(BW$24<=$B$2,$B$2<BX$24,$B$3=$A$9,$B$4=BT23),BW28*$B$2,0)","v":0},{"$f":"IF(AND(BX$24<=$B$2,$B$2<BY$24,$B$3=$A$9,$B$4=BT23),BX28*$B$2,0)","v":0},{"$f":"IF(AND(BY$24<=$B$2,$B$2<BZ$24,$B$3=$A$9,$B$4=BT23),BY28*$B$2,0)","v":0},{"$f":"IF(AND(BZ$24<=$B$2,$B$3=$A$9,$B$4=BT23),BZ28*$B$2,0)","v":0},null,24,0,{"$f":"IF(AND(CD$24<=$B$2,$B$2<CE$24,$B$3=$A$9,$B$4=CB23),CD28*$B$2,0)","v":0},{"$f":"IF(AND(CE$24<=$B$2,$B$2<CF$24,$B$3=$A$9,$B$4=CB23),CE28*$B$2,0)","v":0},{"$f":"IF(AND(CF$24<=$B$2,$B$2<CG$24,$B$3=$A$9,$B$4=CB23),CF28*$B$2,0)","v":0},{"$f":"IF(AND(CG$24<=$B$2,$B$2<CH$24,$B$3=$A$9,$B$4=CB23),CG28*$B$2,0)","v":0},{"$f":"IF(AND(CH$24<=$B$2,$B$3=$A$9,$B$4=CB23),CH28*$B$2,0)","v":0},null,24,0,{"$f":"IF(AND(CL$24<=$B$2,$B$2<CM$24,$B$3=$A$9,$B$4=CJ23),CL28*$B$2,0)","v":0},{"$f":"IF(AND(CM$24<=$B$2,$B$2<CN$24,$B$3=$A$9,$B$4=CJ23),CM28*$B$2,0)","v":0},{"$f":"IF(AND(CN$24<=$B$2,$B$2<CO$24,$B$3=$A$9,$B$4=CJ23),CN28*$B$2,0)","v":0},{"$f":"IF(AND(CO$24<=$B$2,$B$2<CP$24,$B$3=$A$9,$B$4=CJ23),CO28*$B$2,0)","v":0},{"$f":"IF(AND(CP$24<=$B$2,$B$3=$A$9,$B$4=CJ23),CP28*$B$2,0)","v":0},null,24,0,{"$f":"IF(AND(CT$24<=$B$2,$B$2<CU$24,$B$3=$A$9,$B$4=CR23),CT28*$B$2,0)","v":0},{"$f":"IF(AND(CU$24<=$B$2,$B$2<CV$24,$B$3=$A$9,$B$4=CR23),CU28*$B$2,0)","v":0},{"$f":"IF(AND(CV$24<=$B$2,$B$2<CW$24,$B$3=$A$9,$B$4=CR23),CV28*$B$2,0)","v":0},{"$f":"IF(AND(CW$24<=$B$2,$B$2<CX$24,$B$3=$A$9,$B$4=CR23),CW28*$B$2,0)","v":0},{"$f":"IF(AND(CX$24<=$B$2,$B$3=$A$9,$B$4=CR23),CX28*$B$2,0)","v":0},null,24,0,{"$f":"IF(AND(DB$24<=$B$2,$B$2<DC$24,$B$3=$A$9,$B$4=CZ23),DB28*$B$2,0)","v":0},{"$f":"IF(AND(DC$24<=$B$2,$B$2<DD$24,$B$3=$A$9,$B$4=CZ23),DC28*$B$2,0)","v":0},{"$f":"IF(AND(DD$24<=$B$2,$B$2<DE$24,$B$3=$A$9,$B$4=CZ23),DD28*$B$2,0)","v":0},{"$f":"IF(AND(DE$24<=$B$2,$B$2<DF$24,$B$3=$A$9,$B$4=CZ23),DE28*$B$2,0)","v":0},{"$f":"IF(AND(DF$24<=$B$2,$B$3=$A$9,$B$4=CZ23),DF28*$B$2,0)","v":0}]
[null,null,"10% Option",36,0,{"$f":"IF(AND(F$24<=$B$2,$B$2<G$24,$B$3=$A$10,$B$4=D23),F29*$B$2,0)","v":0},{"$f":"IF(AND(G$24<=$B$2,$B$2<H$24,$B$3=$A$10,$B$4=D23),G29*$B$2,0)","v":0},{"$f":"IF(AND(H$24<=$B$2,$B$2<I$24,$B$3=$A$10,$B$4=D23),H29*$B$2,0)","v":0},{"$f":"IF(AND(I$24<=$B$2,$B$2<J$24,$B$3=$A$10,$B$4=D23),I29*$B$2,0)","v":0},{"$f":"IF(AND(J$24<=$B$2,$B$3=$A$10,$B$4=D23),J29*$B$2,0)","v":0},null,36,0,{"$f":"IF(AND(N$24<=$B$2,$B$2<O$24,$B$3=$A$10,$B$4=L23),N29*$B$2,0)","v":0},{"$f":"IF(AND(O$24<=$B$2,$B$2<P$24,$B$3=$A$10,$B$4=L23),O29*$B$2,0)","v":0},{"$f":"IF(AND(P$24<=$B$2,$B$2<Q$24,$B$3=$A$10,$B$4=L23),P29*$B$2,0)","v":0},{"$f":"IF(AND(Q$24<=$B$2,$B$2<R$24,$B$3=$A$10,$B$4=L23),Q29*$B$2,0)","v":0},{"$f":"IF(AND(R$24<=$B$2,$B$3=$A$10,$B$4=L23),R29*$B$2,0)","v":0},null,36,0,{"$f":"IF(AND(V$24<=$B$2,$B$2<W$24,$B$3=$A$10,$B$4=T23),V29*$B$2,0)","v":0},{"$f":"IF(AND(W$24<=$B$2,$B$2<X$24,$B$3=$A$10,$B$4=T23),W29*$B$2,0)","v":0},{"$f":"IF(AND(X$24<=$B$2,$B$2<Y$24,$B$3=$A$10,$B$4=T23),X29*$B$2,0)","v":0},{"$f":"IF(AND(Y$24<=$B$2,$B$2<Z$24,$B$3=$A$10,$B$4=T23),Y29*$B$2,0)","v":0},{"$f":"IF(AND(Z$24<=$B$2,$B$3=$A$10,$B$4=T23),Z29*$B$2,0)","v":0},null,36,0,{"$f":"IF(AND(AD$24<=$B$2,$B$2<AE$24,$B$3=$A$10,$B$4=AB23),AD29*$B$2,0)","v":0},{"$f":"IF(AND(AE$24<=$B$2,$B$2<AF$24,$B$3=$A$10,$B$4=AB23),AE29*$B$2,0)","v":0},{"$f":"IF(AND(AF$24<=$B$2,$B$2<AG$24,$B$3=$A$10,$B$4=AB23),AF29*$B$2,0)","v":0},{"$f":"IF(AND(AG$24<=$B$2,$B$2<AH$24,$B$3=$A$10,$B$4=AB23),AG29*$B$2,0)","v":0},{"$f":"IF(AND(AH$24<=$B$2,$B$3=$A$10,$B$4=AB23),AH29*$B$2,0)","v":0},null,36,0,{"$f":"IF(AND(AL$24<=$B$2,$B$2<AM$24,$B$3=$A$10,$B$4=AJ23),AL29*$B$2,0)","v":0},{"$f":"IF(AND(AM$24<=$B$2,$B$2<AN$24,$B$3=$A$10,$B$4=AJ23),AM29*$B$2,0)","v":0},{"$f":"IF(AND(AN$24<=$B$2,$B$2<AO$24,$B$3=$A$10,$B$4=AJ23),AN29*$B$2,0)","v":0},{"$f":"IF(AND(AO$24<=$B$2,$B$2<AP$24,$B$3=$A$10,$B$4=AJ23),AO29*$B$2,0)","v":0},{"$f":"IF(AND(AP$24<=$B$2,$B$3=$A$10,$B$4=AJ23),AP29*$B$2,0)","v":0},null,36,0,{"$f":"IF(AND(AT$24<=$B$2,$B$2<AU$24,$B$3=$A$10,$B$4=AR23),AT29*$B$2,0)","v":0},{"$f":"IF(AND(AU$24<=$B$2,$B$2<AV$24,$B$3=$A$10,$B$4=AR23),AU29*$B$2,0)","v":0},{"$f":"IF(AND(AV$24<=$B$2,$B$2<AW$24,$B$3=$A$10,$B$4=AR23),AV29*$B$2,0)","v":0},{"$f":"IF(AND(AW$24<=$B$2,$B$2<AX$24,$B$3=$A$10,$B$4=AR23),AW29*$B$2,0)","v":0},{"$f":"IF(AND(AX$24<=$B$2,$B$3=$A$10,$B$4=AR23),AX29*$B$2,0)","v":0},null,36,0,{"$f":"IF(AND(BB$24<=$B$2,$B$2<BC$24,$B$3=$A$10,$B$4=AZ23),BB29*$B$2,0)","v":0},{"$f":"IF(AND(BC$24<=$B$2,$B$2<BD$24,$B$3=$A$10,$B$4=AZ23),BC29*$B$2,0)","v":0},{"$f":"IF(AND(BD$24<=$B$2,$B$2<BE$24,$B$3=$A$10,$B$4=AZ23),BD29*$B$2,0)","v":0},{"$f":"IF(AND(BE$24<=$B$2,$B$2<BF$24,$B$3=$A$10,$B$4=AZ23),BE29*$B$2,0)","v":0},{"$f":"IF(AND(BF$24<=$B$2,$B$3=$A$10,$B$4=AZ23),BF29*$B$2,0)","v":0},null,36,0,{"$f":"IF(AND(BJ$24<=$B$2,$B$2<BK$24,$B$3=$A$10,$B$4=BH23),BJ29*$B$2,0)","v":0},{"$f":"IF(AND(BK$24<=$B$2,$B$2<BL$24,$B$3=$A$10,$B$4=BH23),BK29*$B$2,0)","v":0},{"$f":"IF(AND(BL$24<=$B$2,$B$2<BM$24,$B$3=$A$10,$B$4=BH23),BL29*$B$2,0)","v":0},{"$f":"IF(AND(BM$24<=$B$2,$B$2<BN$24,$B$3=$A$10,$B$4=BH23),BM29*$B$2,0)","v":0},{"$f":"IF(AND(BN$24<=$B$2,$B$3=$A$10,$B$4=BH23),BN29*$B$2,0)","v":0},null,18,0,{"$f":"IF(AND(BR$3<=$B$2,$B$3=$A$14,$B$4=BP23),BR29*$B$2,0)","v":0},null,36,0,{"$f":"IF(AND(BV$24<=$B$2,$B$2<BW$24,$B$3=$A$10,$B$4=BT23),BV29*$B$2,0)","v":0},{"$f":"IF(AND(BW$24<=$B$2,$B$2<BX$24,$B$3=$A$10,$B$4=BT23),BW29*$B$2,0)","v":0},{"$f":"IF(AND(BX$24<=$B$2,$B$2<BY$24,$B$3=$A$10,$B$4=BT23),BX29*$B$2,0)","v":0},{"$f":"IF(AND(BY$24<=$B$2,$B$2<BZ$24,$B$3=$A$10,$B$4=BT23),BY29*$B$2,0)","v":0},{"$f":"IF(AND(BZ$24<=$B$2,$B$3=$A$10,$B$4=BT23),BZ29*$B$2,0)","v":0},null,36,0,{"$f":"IF(AND(CD$24<=$B$2,$B$2<CE$24,$B$3=$A$10,$B$4=CB23),CD29*$B$2,0)","v":0},{"$f":"IF(AND(CE$24<=$B$2,$B$2<CF$24,$B$3=$A$10,$B$4=CB23),CE29*$B$2,0)","v":0},{"$f":"IF(AND(CF$24<=$B$2,$B$2<CG$24,$B$3=$A$10,$B$4=CB23),CF29*$B$2,0)","v":0},{"$f":"IF(AND(CG$24<=$B$2,$B$2<CH$24,$B$3=$A$10,$B$4=CB23),CG29*$B$2,0)","v":0},{"$f":"IF(AND(CH$24<=$B$2,$B$3=$A$10,$B$4=CB23),CH29*$B$2,0)","v":0},null,36,0,{"$f":"IF(AND(CL$24<=$B$2,$B$2<CM$24,$B$3=$A$10,$B$4=CJ23),CL29*$B$2,0)","v":0},{"$f":"IF(AND(CM$24<=$B$2,$B$2<CN$24,$B$3=$A$10,$B$4=CJ23),CM29*$B$2,0)","v":0},{"$f":"IF(AND(CN$24<=$B$2,$B$2<CO$24,$B$3=$A$10,$B$4=CJ23),CN29*$B$2,0)","v":0},{"$f":"IF(AND(CO$24<=$B$2,$B$2<CP$24,$B$3=$A$10,$B$4=CJ23),CO29*$B$2,0)","v":0},{"$f":"IF(AND(CP$24<=$B$2,$B$3=$A$10,$B$4=CJ23),CP29*$B$2,0)","v":0},null,36,0,{"$f":"IF(AND(CT$24<=$B$2,$B$2<CU$24,$B$3=$A$10,$B$4=CR23),CT29*$B$2,0)","v":0},{"$f":"IF(AND(CU$24<=$B$2,$B$2<CV$24,$B$3=$A$10,$B$4=CR23),CU29*$B$2,0)","v":0},{"$f":"IF(AND(CV$24<=$B$2,$B$2<CW$24,$B$3=$A$10,$B$4=CR23),CV29*$B$2,0)","v":0},{"$f":"IF(AND(CW$24<=$B$2,$B$2<CX$24,$B$3=$A$10,$B$4=CR23),CW29*$B$2,0)","v":0},{"$f":"IF(AND(CX$24<=$B$2,$B$3=$A$10,$B$4=CR23),CX29*$B$2,0)","v":0},null,36,0,{"$f":"IF(AND(DB$24<=$B$2,$B$2<DC$24,$B$3=$A$10,$B$4=CZ23),DB29*$B$2,0)","v":0},{"$f":"IF(AND(DC$24<=$B$2,$B$2<DD$24,$B$3=$A$10,$B$4=CZ23),DC29*$B$2,0)","v":0},{"$f":"IF(AND(DD$24<=$B$2,$B$2<DE$24,$B$3=$A$10,$B$4=CZ23),DD29*$B$2,0)","v":0},{"$f":"IF(AND(DE$24<=$B$2,$B$2<DF$24,$B$3=$A$10,$B$4=CZ23),DE29*$B$2,0)","v":0},{"$f":"IF(AND(DF$24<=$B$2,$B$3=$A$10,$B$4=CZ23),DF29*$B$2,0)","v":0}]
[null,null,null,48,0,{"$f":"IF(AND(F$24<=$B$2,$B$2<G$24,$B$3=$A$11,$B$4=D23),F30*$B$2,0)","v":0},{"$f":"IF(AND(G$24<=$B$2,$B$2<H$24,$B$3=$A$11,$B$4=D23),G30*$B$2,0)","v":0},{"$f":"IF(AND(H$24<=$B$2,$B$2<I$24,$B$3=$A$11,$B$4=D23),H30*$B$2,0)","v":0},{"$f":"IF(AND(I$24<=$B$2,$B$2<J$24,$B$3=$A$11,$B$4=D23),I30*$B$2,0)","v":0},{"$f":"IF(AND(J$24<=$B$2,$B$3=$A$11,$B$4=D23),J30*$B$2,0)","v":0},null,48,0,{"$f":"IF(AND(N$24<=$B$2,$B$2<O$24,$B$3=$A$11,$B$4=L23),N30*$B$2,0)","v":0},{"$f":"IF(AND(O$24<=$B$2,$B$2<P$24,$B$3=$A$11,$B$4=L23),O30*$B$2,0)","v":0},{"$f":"IF(AND(P$24<=$B$2,$B$2<Q$24,$B$3=$A$11,$B$4=L23),P30*$B$2,0)","v":0},{"$f":"IF(AND(Q$24<=$B$2,$B$2<R$24,$B$3=$A$11,$B$4=L23),Q30*$B$2,0)","v":0},{"$f":"IF(AND(R$24<=$B$2,$B$3=$A$11,$B$4=L23),R30*$B$2,0)","v":0},null,48,0,{"$f":"IF(AND(V$24<=$B$2,$B$2<W$24,$B$3=$A$11,$B$4=T23),V30*$B$2,0)","v":0},{"$f":"IF(AND(W$24<=$B$2,$B$2<X$24,$B$3=$A$11,$B$4=T23),W30*$B$2,0)","v":0},{"$f":"IF(AND(X$24<=$B$2,$B$2<Y$24,$B$3=$A$11,$B$4=T23),X30*$B$2,0)","v":0},{"$f":"IF(AND(Y$24<=$B$2,$B$2<Z$24,$B$3=$A$11,$B$4=T23),Y30*$B$2,0)","v":0},{"$f":"IF(AND(Z$24<=$B$2,$B$3=$A$11,$B$4=T23),Z30*$B$2,0)","v":0},null,48,0,{"$f":"IF(AND(AD$24<=$B$2,$B$2<AE$24,$B$3=$A$11,$B$4=AB23),AD30*$B$2,0)","v":0},{"$f":"IF(AND(AE$24<=$B$2,$B$2<AF$24,$B$3=$A$11,$B$4=AB23),AE30*$B$2,0)","v":0},{"$f":"IF(AND(AF$24<=$B$2,$B$2<AG$24,$B$3=$A$11,$B$4=AB23),AF30*$B$2,0)","v":0},{"$f":"IF(AND(AG$24<=$B$2,$B$2<AH$24,$B$3=$A$11,$B$4=AB23),AG30*$B$2,0)","v":0},{"$f":"IF(AND(AH$24<=$B$2,$B$3=$A$11,$B$4=AB23),AH30*$B$2,0)","v":0},null,48,0,{"$f":"IF(AND(AL$24<=$B$2,$B$2<AM$24,$B$3=$A$11,$B$4=AJ23),AL30*$B$2,0)","v":0},{"$f":"IF(AND(AM$24<=$B$2,$B$2<AN$24,$B$3=$A$11,$B$4=AJ23),AM30*$B$2,0)","v":0},{"$f":"IF(AND(AN$24<=$B$2,$B$2<AO$24,$B$3=$A$11,$B$4=AJ23),AN30*$B$2,0)","v":0},{"$f":"IF(AND(AO$24<=$B$2,$B$2<AP$24,$B$3=$A$11,$B$4=AJ23),AO30*$B$2,0)","v":0},{"$f":"IF(AND(AP$24<=$B$2,$B$3=$A$11,$B$4=AJ23),AP30*$B$2,0)","v":0},null,48,0,{"$f":"IF(AND(AT$24<=$B$2,$B$2<AU$24,$B$3=$A$11,$B$4=AR23),AT30*$B$2,0)","v":0},{"$f":"IF(AND(AU$24<=$B$2,$B$2<AV$24,$B$3=$A$11,$B$4=AR23),AU30*$B$2,0)","v":0},{"$f":"IF(AND(AV$24<=$B$2,$B$2<AW$24,$B$3=$A$11,$B$4=AR23),AV30*$B$2,0)","v":0},{"$f":"IF(AND(AW$24<=$B$2,$B$2<AX$24,$B$3=$A$11,$B$4=AR23),AW30*$B$2,0)","v":0},{"$f":"IF(AND(AX$24<=$B$2,$B$3=$A$11,$B$4=AR23),AX30*$B$2,0)","v":0},null,48,0,{"$f":"IF(AND(BB$24<=$B$2,$B$2<BC$24,$B$3=$A$11,$B$4=AZ23),BB30*$B$2,0)","v":0},{"$f":"IF(AND(BC$24<=$B$2,$B$2<BD$24,$B$3=$A$11,$B$4=AZ23),BC30*$B$2,0)","v":0},{"$f":"IF(AND(BD$24<=$B$2,$B$2<BE$24,$B$3=$A$11,$B$4=AZ23),BD30*$B$2,0)","v":0},{"$f":"IF(AND(BE$24<=$B$2,$B$2<BF$24,$B$3=$A$11,$B$4=AZ23),BE30*$B$2,0)","v":0},{"$f":"IF(AND(BF$24<=$B$2,$B$3=$A$11,$B$4=AZ23),BF30*$B$2,0)","v":0},null,48,0,{"$f":"IF(AND(BJ$24<=$B$2,$B$2<BK$24,$B$3=$A$11,$B$4=BH23),BJ30*$B$2,0)","v":0},{"$f":"IF(AND(BK$24<=$B$2,$B$2<BL$24,$B$3=$A$11,$B$4=BH23),BK30*$B$2,0)","v":0},{"$f":"IF(AND(BL$24<=$B$2,$B$2<BM$24,$B$3=$A$11,$B$4=BH23),BL30*$B$2,0)","v":0},{"$f":"IF(AND(BM$24<=$B$2,$B$2<BN$24,$B$3=$A$11,$B$4=BH23),BM30*$B$2,0)","v":0},{"$f":"IF(AND(BN$24<=$B$2,$B$3=$A$11,$B$4=BH23),BN30*$B$2,0)","v":0},null,null,null,null,null,48,0,{"$f":"IF(AND(BV$24<=$B$2,$B$2<BW$24,$B$3=$A$11,$B$4=BT23),BV30*$B$2,0)","v":0},{"$f":"IF(AND(BW$24<=$B$2,$B$2<BX$24,$B$3=$A$11,$B$4=BT23),BW30*$B$2,0)","v":0},{"$f":"IF(AND(BX$24<=$B$2,$B$2<BY$24,$B$3=$A$11,$B$4=BT23),BX30*$B$2,0)","v":0},{"$f":"IF(AND(BY$24<=$B$2,$B$2<BZ$24,$B$3=$A$11,$B$4=BT23),BY30*$B$2,0)","v":0},{"$f":"IF(AND(BZ$24<=$B$2,$B$3=$A$11,$B$4=BT23),BZ30*$B$2,0)","v":0},null,48,0,{"$f":"IF(AND(CD$24<=$B$2,$B$2<CE$24,$B$3=$A$11,$B$4=CB23),CD30*$B$2,0)","v":0},{"$f":"IF(AND(CE$24<=$B$2,$B$2<CF$24,$B$3=$A$11,$B$4=CB23),CE30*$B$2,0)","v":0},{"$f":"IF(AND(CF$24<=$B$2,$B$2<CG$24,$B$3=$A$11,$B$4=CB23),CF30*$B$2,0)","v":0},{"$f":"IF(AND(CG$24<=$B$2,$B$2<CH$24,$B$3=$A$11,$B$4=CB23),CG30*$B$2,0)","v":0},{"$f":"IF(AND(CH$24<=$B$2,$B$3=$A$11,$B$4=CB23),CH30*$B$2,0)","v":0},null,48,0,{"$f":"IF(AND(CL$24<=$B$2,$B$2<CM$24,$B$3=$A$11,$B$4=CJ23),CL30*$B$2,0)","v":0},{"$f":"IF(AND(CM$24<=$B$2,$B$2<CN$24,$B$3=$A$11,$B$4=CJ23),CM30*$B$2,0)","v":0},{"$f":"IF(AND(CN$24<=$B$2,$B$2<CO$24,$B$3=$A$11,$B$4=CJ23),CN30*$B$2,0)","v":0},{"$f":"IF(AND(CO$24<=$B$2,$B$2<CP$24,$B$3=$A$11,$B$4=CJ23),CO30*$B$2,0)","v":0},{"$f":"IF(AND(CP$24<=$B$2,$B$3=$A$11,$B$4=CJ23),CP30*$B$2,0)","v":0},null,48,0,{"$f":"IF(AND(CT$24<=$B$2,$B$2<CU$24,$B$3=$A$11,$B$4=CR23),CT30*$B$2,0)","v":0},{"$f":"IF(AND(CU$24<=$B$2,$B$2<CV$24,$B$3=$A$11,$B$4=CR23),CU30*$B$2,0)","v":0},{"$f":"IF(AND(CV$24<=$B$2,$B$2<CW$24,$B$3=$A$11,$B$4=CR23),CV30*$B$2,0)","v":0},{"$f":"IF(AND(CW$24<=$B$2,$B$2<CX$24,$B$3=$A$11,$B$4=CR23),CW30*$B$2,0)","v":0},{"$f":"IF(AND(CX$24<=$B$2,$B$3=$A$11,$B$4=CR23),CX30*$B$2,0)","v":0},null,48,0,{"$f":"IF(AND(DB$24<=$B$2,$B$2<DC$24,$B$3=$A$11,$B$4=CZ23),DB30*$B$2,0)","v":0},{"$f":"IF(AND(DC$24<=$B$2,$B$2<DD$24,$B$3=$A$11,$B$4=CZ23),DC30*$B$2,0)","v":0},{"$f":"IF(AND(DD$24<=$B$2,$B$2<DE$24,$B$3=$A$11,$B$4=CZ23),DD30*$B$2,0)","v":0},{"$f":"IF(AND(DE$24<=$B$2,$B$2<DF$24,$B$3=$A$11,$B$4=CZ23),DE30*$B$2,0)","v":0},{"$f":"IF(AND(DF$24<=$B$2,$B$3=$A$11,$B$4=CZ23),DF30*$B$2,0)","v":0}]
["Change this Quarter when have new rates.",null,null,60,0,{"$f":"IF(AND(F$24<=$B$2,$B$2<G$24,$B$3=$A$12,$B$4=D23),F31*$B$2,0)","v":0},{"$f":"IF(AND(G$24<=$B$2,$B$2<H$24,$B$3=$A$12,$B$4=D23),G31*$B$2,0)","v":0},{"$f":"IF(AND(H$24<=$B$2,$B$2<I$24,$B$3=$A$12,$B$4=D23),H31*$B$2,0)","v":0},{"$f":"IF(AND(I$24<=$B$2,$B$2<J$24,$B$3=$A$12,$B$4=D23),I31*$B$2,0)","v":0},{"$f":"IF(AND(J$24<=$B$2,$B$3=$A$12,$B$4=D23),J31*$B$2,0)","v":0},null,60,0,{"$f":"IF(AND(N$24<=$B$2,$B$2<O$24,$B$3=$A$12,$B$4=L23),N31*$B$2,0)","v":0},{"$f":"IF(AND(O$24<=$B$2,$B$2<P$24,$B$3=$A$12,$B$4=L23),O31*$B$2,0)","v":0},{"$f":"IF(AND(P$24<=$B$2,$B$2<Q$24,$B$3=$A$12,$B$4=L23),P31*$B$2,0)","v":0},{"$f":"IF(AND(Q$24<=$B$2,$B$2<R$24,$B$3=$A$12,$B$4=L23),Q31*$B$2,0)","v":0},{"$f":"IF(AND(R$24<=$B$2,$B$3=$A$12,$B$4=L23),R31*$B$2,0)","v":0},null,60,0,{"$f":"IF(AND(V$24<=$B$2,$B$2<W$24,$B$3=$A$12,$B$4=T23),V31*$B$2,0)","v":0},{"$f":"IF(AND(W$24<=$B$2,$B$2<X$24,$B$3=$A$12,$B$4=T23),W31*$B$2,0)","v":0},{"$f":"IF(AND(X$24<=$B$2,$B$2<Y$24,$B$3=$A$12,$B$4=T23),X31*$B$2,0)","v":0},{"$f":"IF(AND(Y$24<=$B$2,$B$2<Z$24,$B$3=$A$12,$B$4=T23),Y31*$B$2,0)","v":0},{"$f":"IF(AND(Z$24<=$B$2,$B$3=$A$12,$B$4=T23),Z31*$B$2,0)","v":0},null,60,0,{"$f":"IF(AND(AD$24<=$B$2,$B$2<AE$24,$B$3=$A$12,$B$4=AB23),AD31*$B$2,0)","v":0},{"$f":"IF(AND(AE$24<=$B$2,$B$2<AF$24,$B$3=$A$12,$B$4=AB23),AE31*$B$2,0)","v":0},{"$f":"IF(AND(AF$24<=$B$2,$B$2<AG$24,$B$3=$A$12,$B$4=AB23),AF31*$B$2,0)","v":0},{"$f":"IF(AND(AG$24<=$B$2,$B$2<AH$24,$B$3=$A$12,$B$4=AB23),AG31*$B$2,0)","v":0},{"$f":"IF(AND(AH$24<=$B$2,$B$3=$A$12,$B$4=AB23),AH31*$B$2,0)","v":0},null,60,0,{"$f":"IF(AND(AL$24<=$B$2,$B$2<AM$24,$B$3=$A$12,$B$4=AJ23),AL31*$B$2,0)","v":0},{"$f":"IF(AND(AM$24<=$B$2,$B$2<AN$24,$B$3=$A$12,$B$4=AJ23),AM31*$B$2,0)","v":0},{"$f":"IF(AND(AN$24<=$B$2,$B$2<AO$24,$B$3=$A$12,$B$4=AJ23),AN31*$B$2,0)","v":0},{"$f":"IF(AND(AO$24<=$B$2,$B$2<AP$24,$B$3=$A$12,$B$4=AJ23),AO31*$B$2,0)","v":0},{"$f":"IF(AND(AP$24<=$B$2,$B$3=$A$12,$B$4=AJ23),AP31*$B$2,0)","v":0},null,60,0,{"$f":"IF(AND(AT$24<=$B$2,$B$2<AU$24,$B$3=$A$12,$B$4=AR23),AT31*$B$2,0)","v":0},{"$f":"IF(AND(AU$24<=$B$2,$B$2<AV$24,$B$3=$A$12,$B$4=AR23),AU31*$B$2,0)","v":0},{"$f":"IF(AND(AV$24<=$B$2,$B$2<AW$24,$B$3=$A$12,$B$4=AR23),AV31*$B$2,0)","v":0},{"$f":"IF(AND(AW$24<=$B$2,$B$2<AX$24,$B$3=$A$12,$B$4=AR23),AW31*$B$2,0)","v":0},{"$f":"IF(AND(AX$24<=$B$2,$B$3=$A$12,$B$4=AR23),AX31*$B$2,0)","v":0},null,60,0,{"$f":"IF(AND(BB$24<=$B$2,$B$2<BC$24,$B$3=$A$12,$B$4=AZ23),BB31*$B$2,0)","v":0},{"$f":"IF(AND(BC$24<=$B$2,$B$2<BD$24,$B$3=$A$12,$B$4=AZ23),BC31*$B$2,0)","v":0},{"$f":"IF(AND(BD$24<=$B$2,$B$2<BE$24,$B$3=$A$12,$B$4=AZ23),BD31*$B$2,0)","v":0},{"$f":"IF(AND(BE$24<=$B$2,$B$2<BF$24,$B$3=$A$12,$B$4=AZ23),BE31*$B$2,0)","v":0},{"$f":"IF(AND(BF$24<=$B$2,$B$3=$A$12,$B$4=AZ23),BF31*$B$2,0)","v":0},null,60,0,{"$f":"IF(AND(BJ$24<=$B$2,$B$2<BK$24,$B$3=$A$12,$B$4=BH23),BJ31*$B$2,0)","v":0},{"$f":"IF(AND(BK$24<=$B$2,$B$2<BL$24,$B$3=$A$12,$B$4=BH23),BK31*$B$2,0)","v":0},{"$f":"IF(AND(BL$24<=$B$2,$B$2<BM$24,$B$3=$A$12,$B$4=BH23),BL31*$B$2,0)","v":0},{"$f":"IF(AND(BM$24<=$B$2,$B$2<BN$24,$B$3=$A$12,$B$4=BH23),BM31*$B$2,0)","v":0},{"$f":"IF(AND(BN$24<=$B$2,$B$3=$A$12,$B$4=BH23),BN31*$B$2,0)","v":0},null,null,null,null,null,60,0,{"$f":"IF(AND(BV$24<=$B$2,$B$2<BW$24,$B$3=$A$12,$B$4=BT23),BV31*$B$2,0)","v":0},{"$f":"IF(AND(BW$24<=$B$2,$B$2<BX$24,$B$3=$A$12,$B$4=BT23),BW31*$B$2,0)","v":0},{"$f":"IF(AND(BX$24<=$B$2,$B$2<BY$24,$B$3=$A$12,$B$4=BT23),BX31*$B$2,0)","v":0},{"$f":"IF(AND(BY$24<=$B$2,$B$2<BZ$24,$B$3=$A$12,$B$4=BT23),BY31*$B$2,0)","v":0},{"$f":"IF(AND(BZ$24<=$B$2,$B$3=$A$12,$B$4=BT23),BZ31*$B$2,0)","v":0},null,60,0,{"$f":"IF(AND(CD$24<=$B$2,$B$2<CE$24,$B$3=$A$12,$B$4=CB23),CD31*$B$2,0)","v":0},{"$f":"IF(AND(CE$24<=$B$2,$B$2<CF$24,$B$3=$A$12,$B$4=CB23),CE31*$B$2,0)","v":0},{"$f":"IF(AND(CF$24<=$B$2,$B$2<CG$24,$B$3=$A$12,$B$4=CB23),CF31*$B$2,0)","v":0},{"$f":"IF(AND(CG$24<=$B$2,$B$2<CH$24,$B$3=$A$12,$B$4=CB23),CG31*$B$2,0)","v":0},{"$f":"IF(AND(CH$24<=$B$2,$B$3=$A$12,$B$4=CB23),CH31*$B$2,0)","v":0},null,60,0,{"$f":"IF(AND(CL$24<=$B$2,$B$2<CM$24,$B$3=$A$12,$B$4=CJ23),CL31*$B$2,0)","v":0},{"$f":"IF(AND(CM$24<=$B$2,$B$2<CN$24,$B$3=$A$12,$B$4=CJ23),CM31*$B$2,0)","v":0},{"$f":"IF(AND(CN$24<=$B$2,$B$2<CO$24,$B$3=$A$12,$B$4=CJ23),CN31*$B$2,0)","v":0},{"$f":"IF(AND(CO$24<=$B$2,$B$2<CP$24,$B$3=$A$12,$B$4=CJ23),CO31*$B$2,0)","v":0},{"$f":"IF(AND(CP$24<=$B$2,$B$3=$A$12,$B$4=CJ23),CP31*$B$2,0)","v":0},null,60,0,{"$f":"IF(AND(CT$24<=$B$2,$B$2<CU$24,$B$3=$A$12,$B$4=CR23),CT31*$B$2,0)","v":0},{"$f":"IF(AND(CU$24<=$B$2,$B$2<CV$24,$B$3=$A$12,$B$4=CR23),CU31*$B$2,0)","v":0},{"$f":"IF(AND(CV$24<=$B$2,$B$2<CW$24,$B$3=$A$12,$B$4=CR23),CV31*$B$2,0)","v":0},{"$f":"IF(AND(CW$24<=$B$2,$B$2<CX$24,$B$3=$A$12,$B$4=CR23),CW31*$B$2,0)","v":0},{"$f":"IF(AND(CX$24<=$B$2,$B$3=$A$12,$B$4=CR23),CX31*$B$2,0)","v":0},null,60,0,{"$f":"IF(AND(DB$24<=$B$2,$B$2<DC$24,$B$3=$A$12,$B$4=CZ23),DB31*$B$2,0)","v":0},{"$f":"IF(AND(DC$24<=$B$2,$B$2<DD$24,$B$3=$A$12,$B$4=CZ23),DC31*$B$2,0)","v":0},{"$f":"IF(AND(DD$24<=$B$2,$B$2<DE$24,$B$3=$A$12,$B$4=CZ23),DD31*$B$2,0)","v":0},{"$f":"IF(AND(DE$24<=$B$2,$B$2<DF$24,$B$3=$A$12,$B$4=CZ23),DE31*$B$2,0)","v":0},{"$f":"IF(AND(DF$24<=$B$2,$B$3=$A$12,$B$4=CZ23),DF31*$B$2,0)","v":0}]
["Rates 2025 - Rev 2/4/2025",null,null,{"$f":"SUM(F38:DF38)","v":0},null,{"$f":"SUM(F33:F37)","v":0},{"$f":"SUM(G33:G37)","v":0},{"$f":"SUM(H33:H37)","v":0},{"$f":"SUM(I33:I37)","v":0},{"$f":"SUM(J33:J37)","v":0},null,null,null,{"$f":"SUM(N33:N37)","v":0},{"$f":"SUM(O33:O37)","v":0},{"$f":"SUM(P33:P37)","v":0},{"$f":"SUM(Q33:Q37)","v":0},{"$f":"SUM(R33:R37)","v":0},null,null,null,{"$f":"SUM(V33:V37)","v":0},{"$f":"SUM(W33:W37)","v":0},{"$f":"SUM(X33:X37)","v":0},{"$f":"SUM(Y33:Y37)","v":0},{"$f":"SUM(Z33:Z37)","v":0},null,null,null,{"$f":"SUM(AD33:AD37)","v":0},{"$f":"SUM(AE33:AE37)","v":0},{"$f":"SUM(AF33:AF37)","v":0},{"$f":"SUM(AG33:AG37)","v":0},{"$f":"SUM(AH33:AH37)","v":0},null,null,null,{"$f":"SUM(AL33:AL37)","v":0},{"$f":"SUM(AM33:AM37)","v":0},{"$f":"SUM(AN33:AN37)","v":0},{"$f":"SUM(AO33:AO37)","v":0},{"$f":"SUM(AP33:AP37)","v":0},null,null,null,{"$f":"SUM(AT33:AT37)","v":0},{"$f":"SUM(AU33:AU37)","v":0},{"$f":"SUM(AV33:AV37)","v":0},{"$f":"SUM(AW33:AW37)","v":0},{"$f":"SUM(AX33:AX37)","v":0},null,null,null,{"$f":"SUM(BB33:BB37)","v":0},{"$f":"SUM(BC33:BC37)","v":0},{"$f":"SUM(BD33:BD37)","v":0},{"$f":"SUM(BE33:BE37)","v":0},{"$f":"SUM(BF33:BF37)","v":0},null,null,null,{"$f":"SUM(BJ33:BJ37)","v":0},{"$f":"SUM(BK33:BK37)","v":0},{"$f":"SUM(BL33:BL37)","v":0},{"$f":"SUM(BM33:BM37)","v":0},{"$f":"SUM(BN33:BN37)","v":0},null,null,null,{"$f":"SUM(BR33:BR37)","v":0},null,null,null,{"$f":"SUM(BV33:BV37)","v":0},{"$f":"SUM(BW33:BW37)","v":0},{"$f":"SUM(BX33:BX37)","v":0},{"$f":"SUM(BY33:BY37)","v":0},{"$f":"SUM(BZ33:BZ37)","v":0},null,null,null,{"$f":"SUM(CD33:CD37)","v":0},{"$f":"SUM(CE33:CE37)","v":0},{"$f":"SUM(CF33:CF37)","v":0},{"$f":"SUM(CG33:CG37)","v":0},{"$f":"SUM(CH33:CH37)","v":0},null,null,null,{"$f":"SUM(CL33:CL37)","v":0},{"$f":"SUM(CM33:CM37)","v":0},{"$f":"SUM(CN33:CN37)","v":0},{"$f":"SUM(CO33:CO37)","v":0},{"$f":"SUM(CP33:CP37)","v":0},null,null,null,{"$f":"SUM(CT33:CT37)","v":0},{"$f":"SUM(CU33:CU37)","v":0},{"$f":"SUM(CV33:CV37)","v":0},{"$f":"SUM(CW33:CW37)","v":0},{"$f":"SUM(CX33:CX37)","v":0},null,null,null,{"$f":"SUM(DB33:DB37)","v":0},{"$f":"SUM(DC33:DC37)","v":0},{"$f":"SUM(DD33:DD37)","v":0},{"$f":"SUM(DE33:DE37)","v":0},{"$f":"SUM(DF33:DF37)","v":0}]
["“Blank Payment Amounts Indicate The Financing Option Or Purchase Options Selected Are Not "]
["Applicable Or The Machine Total Is Below The Minimum Amount For The Selected Vendor”"]
["\"Quoted monthly payments are estimates only and are based on a certain level of credit rating."]
["Actual monthly payments may be higher depending on your credit rating.\"","Promotion"]
["“Financing rates do not include Pre-Paid Service”","PurchaseOptTCS_Promo","PurchaseOptTFS_Promo"]
[null,"Purchase Opt - TCS","Purchase Opt - TCS"]
[null,"None","None"]
[null,1,1]
[null,"$1.00 - 90 days deferred","$1.00 - 90 days deferred"]
[null,"FMV Sweeper","FMV Sweeper"]
[null,"FMV Sweeper - Promo","FMV Sweeper - Promo"]
["Purchase Opt - AMR","FMV Sweeper - 90 days deferred","FMV Sweeper - 90 days deferred"]
["None","FMV Scrubber","FMV Scrubber"]
["$1 Buyout Lease","FMV Scrubber - 90 days deferred","FMV Scrubber - 90 days deferred"]
["$1 Buyout Lease - 90 days no pmt","10% Option","10% Option"]
["Municipal $1 Buyout Lease - Monthly Pmt","10% PUT","10% PUT"]
["Municipal $1 Buyout Lease - Annual Pmt","Muni $1 Out Monthly","Muni $1 Out Monthly"]
[null,"Muni $1 Out Quarterly","Muni $1 Out Quarterly"]
[null,"Muni $1 Out Semi-Annually","Muni $1 Out Semi-Annually"]
[null,"Muni $1 Out Annually","Muni $1 Out Annually"]
[null,"Rent To Own","Rent To Own"]
[]
[]
[]
["PurchaseOptIPC"]
["None"]
["$1 Buyout Lease"]
["$1 Buyout Lease - 90 days no pmt"]
["Municipal $1 Buyout Lease - Monthly Pmt"]
["Municipal $1 Buyout Lease - Annual Pmt"]
["10% Option"]