{"text_format":"1","workbook":"xlsx","n_sheets":49,"sheets":["Letter","CRM Mapping","Log","Start_Here","Cover_Letter","TennantTrue Summary_","DualTech_ReadySpace_Strive","DualTech_ReadySpace_StriveRider","Cord_Electric","Carpet_Extractors","Specialty","Vacuums","Floor_Machine","Burnishers","SpeedGleam5","MPF SAP Canada Pre-Configured","SpeedGleam7","SpeedGleam_Rider","T260","T391_T291","T581_T390_T290","T681","T981","SS_15","i_mop_Lite","i_mop_XL","i_mop_XXL","CS5_CS16","Sweepers","S680","S880","SS350_Std_Config","SS300_Std_Config","SS500_Std_Config","SSR_Std_Config","SS300","SS350","SS500","SSR","Pricezones","PricezonesUsers","Contact","Help","Surcharge","TennantTrue Rate","List","County Tier","Settings","Financing"],"not_rendered":{"charts":0,"images":24,"macros":1,"external_links":6,"defined_names":584,"comments":1,"pivot_tables":0},"unopened":[],"bounds":{"document_bytes":16777216,"sheet_cells":100000,"rows_first":2000,"rows_last":500,"rows_between":2000,"halvings":0,"cell_chars":16384,"cell_head_chars":4096},"cells_cut":0,"cells_raw":0,"read":"whole","date_system":"1900"}

{"sheet":"Letter","index":0,"n_rows":37,"n_cols":2,"rows_kept":37,"cut":false,"hidden":true,"merged":[]}
["clean"]
["Important!!"]
["If you accidentally stumbled into this page do not change any information on this page."]
[]
["Contact Name","Contact Name"]
["Company Name","Co Name"]
["Address","Address"]
[{"$f":"B8&\", \"&C8&\" \"&D8","v":"City, State, Zip,  "},"City, State, Zip"]
["Dear ","Dear"]
["Rep Name","Rep Name"]
["Contact Phone","Contact Phone"]
[null,"SAP ID"]
[null,"Cust Grp 3"]
["Date","Date"]
[]
[]
[]
[]
[]
[]
[]
[]
[]
["Please do not change cell A25."]
["2023-08-01","Quote Date"]
[]
[]
[]
[]
[]
[]
[]
[]
[]
[]
["Equipment Type","Sweeper"]
["Country","USA"]

{"sheet":"CRM Mapping","index":1,"n_rows":0,"n_cols":0,"rows_kept":0,"cut":false,"hidden":true,"merged":[]}

{"sheet":"Log","index":2,"n_rows":19,"n_cols":3,"rows_kept":19,"cut":false,"hidden":true,"merged":[]}
["Date","UpdatedBy","Description"]
["2019-08-23","Pao Leepalao","show user ID instead of full name on approve box"]
["2019-08-23","Pao Leepalao","date stamp when it's approved (yellow and red)"]
["2019-08-23","Pao Leepalao","revision date on all machine tabs"]
["2019-08-23","Pao Leepalao","change log (date, name, what changed) - hide tab"]
["2019-08-23","Pao Leepalao","fix T6 quick ship hide/show blank qty issue"]
["2019-08-23","Jeannie Smallish","T300/SS300: removed drain hose/cap"]
["2019-08-23","Jeannie Smallish","T20/M20/M30/S30/800/T16 quick ship: update built-in values"]
["2019-08-23","Jeannie Smallish","T16: update preconfigured machines"]
["2019-08-23","Jeannie Smallish","T20/S30: prices correction"]
["2019-09-16","Jeannie Smallish","corrected column issue on Extractors"]
["2019-09-16","Jeannie Smallish","Add new machine S10_Quick_Ship"]
["2019-09-16","Pao Leepalao","Discount/Service rates for S10_Quick_Ship"]
["2019-09-16","Pao Leepalao","Update leasing contact for Tennant"]
["2019-10-02","Pao Leepalao","Update finance rates - US  Bank"]
["2019-10-02","Pao Leepalao","Add governance approval process"]
["2019-11-08","Pao Leepalao","Fix GT formatting issue"]
["2019-12-04","Pao/Jeannie","New 2020 price increase"]
["2019-12-04","Pao Leepalao","Only positive allow in custom solution"]

{"sheet":"Start_Here","index":3,"n_rows":60,"n_cols":17,"rows_kept":60,"cut":false,"hidden":false,"merged":[[17,5,17,7],[30,2,33,3],[0,2,0,7],[3,5,3,7],[10,1,10,2],[10,5,10,7],[30,1,31,1]]}
["Distributor",null,"Please fill out as much buyer information as you can.  Overkey addresses and contacts for proper display on the machine sheets.",null,null,null,null,null,null,null,null,null,null,null,"Alabama","Discount","ALL OTHER COUNTIES"]
[null,null,null,null,null,null,null,null,null,null,null,null,null,null,"Arkansas",{"$f":"TTDiscountLow","v":0}]
["Buyer Information",null,null,null,null,null,null,null,null,null,null,null,null,null,"Arizona",{"$f":"TTDiscountHigh","v":5}]
[null,"CRM Address Information",null,null,null,"Who is Buying the Machine? (Bill-To for Machine Aquisition Info) (Please Verify)",null,null,"Select One",null,null,null,null,null,"British Columbia",null,"DALE"]
[null,"Company",{"$f":"Letter!$A$6","v":"Company Name"},null,null,"Company",null,"Company Name",null,null,null,null,null,null,"Canada",null,"ESCAMBIA"]
[null,"Address",{"$f":"Address","v":"Address"},null,null,"Address",null,"Address",null,null,null,null,null,null,"California",null,"GENEVA"]
[null,"City, State Zip",{"$f":"CityStateZip","v":"City, State, Zip,  "},null,null,"City, State Zip",null,"City, State Zip",null,null,null,null,null,null,"Colorado",null,"HENRY"]
[null,"Name",{"$f":"ContactName","v":"Contact Name"},null,null,"Name",null,"Contact Name",null,null,null,null,null,null,"Connecticut",null,"HOUSTON"]
[null,"Phone",{"$f":"Letter!$A$11","v":"Contact Phone"},null,null,"Phone",null,"Contact Phone",null,null,null,null,null,null,"District of Columbia",null,"LEE"]
[null,null,null,null,null,null,null,null,null,null,null,null,null,null,"Delaware",null,"RUSSELL"]
[null,"Where is the Machine Being Shipped? (Ship-To Info) (Please Verify)",null,"Select One",null,"Where is the Machine Being Used? (Machine Use Location - Specific) (Please Verify)",null,null,"Select One",null,null,null,null,null,"Florida"]
[null,"Company","Company Name",null,null,"Company",null,"Company Name",null,null,null,null,null,null,"Georgia"]
[null,"Address","Address",null,null,"Address",null,"Address",null,null,null,null,null,null,"Hawaii"]
[null,"City, State Zip","City, State Zip",null,null,"City, State Zip",null,"City, State Zip",null,null,null,null,null,null,"Iowa"]
[null,"Name","Contact Name",null,null,"Name",null,"Contact Name",null,null,null,null,null,null,"Idaho"]
[null,"Phone","Contact Phone",null,null,"Phone",null,"Contact Phone",null,null,null,null,null,null,"Illinois"]
[null,null,null,null,null,null,null,null,null,null,null,null,null,null,"Indiana"]
[null,"Who Owns the Machine? (Sold-To Info) (Please Verify)",null,"Select One",null,"Who Pays for Service on the Machine? (Service Bill-To Info) (Please Verify)",null,null,"Select One",null,null,null,null,null,"Kansas"]
[null,"Company","Company Name",null,null,"Company",null,"Company Name",null,null,null,null,null,null,"Kentucky"]
[null,"Address","Address",null,null,"Address",null,"Address",null,null,null,null,null,null,"Louisiana"]
[null,"City, State Zip","City, State Zip",null,null,"City, State Zip",null,"City, State Zip",null,null,null,null,null,null,"Massachusetts"]
[null,"Name","Contact Name",null,null,"Name",null,"Contact Name",null,null,null,null,null,null,"Maryland"]
[null,"Phone","Contact Phone",null,null,"Phone",null,"Contact Phone",null,null,null,null,null,null,"Maine"]
[null,null,null,null,null,null,null,null,null,null,null,null,null,null,"Michigan"]
[null,"Customer Number",{"$f":"Letter!$A$12","v":0},null,null,"Select Market",null,"TennantTrue Details",null,null,null,null,null,null,"Minnesota"]
[null,"Authorized Buyer's Name",null,null,null,"Internal use only",null,"State",null,null,null,null,null,null,"Missouri"]
[null,"Buyer's Phone #",null,null,null,null,null,null,null,null,null,null,null,null,"Mississippi"]
[null,"Requested Delivery Date",null,null,null,"Quote Service",null,"County",null,null,null,null,null,null,"Montana"]
[null,"Cust Grp 3",{"$f":"Letter!$A$13","v":0},null,null,"Yes",null,null,null,null,null,null,null,null,"North Carolina"]
[null,null,null,null,null,null,null,"National Account",null,null,null,null,null,null,"North Dakota"]
[null,"Shipping / Carrier Instructions:",null,null,null,null,null,null,null,null,null,null,null,null,"Nebraska"]
[null,null,null,null,null,null,null,"TennantTrue Discount (%)",null,null,null,null,null,null,"New Hampshire"]
[null,null,null,null,null,null,null,null,null,null,null,null,null,null,"New Jersey"]
[null,null,null,null,null,null,null,null,null,null,null,null,null,null,"New Mexico"]
[null,"Seller Info",null,null,null,null,null,null,null,null,null,null,null,null,"Nevada"]
[null,"Letter/Quote",null,null,"Terms and Conditions",null,null,null,null,null,null,null,null,null,"New York"]
[null,"Company","Tennant Sales and Service Company",null,"Ask your local sales rep for estimated lead times. Verify when placing order",null,null,null,null,null,null,null,null,null,"Ohio"]
[null,"Address","10400 Clean Street",null,"All orders subject to acceptance by Tennant Sales and Service Company, Minneapolis, Minnesota",null,null,null,null,null,null,null,null,null,"Oklahoma"]
[null,null,"Eden Prairie, MN 55344",null,"Prices subject to change without notice. Subject to any applicable taxes.",null,null,null,null,null,null,null,null,null,"Ontario"]
[null,null,null,null,"Terms:  Net 30 days.  Payable in Canadian Funds",null,null,null,null,null,null,null,null,null,"Oregon"]
[null,"Name",{"$f":"RepName","v":"Rep Name"},null,"Freight:  Accessories, parts, supplies, detergents, and floor coatings orders delivered DDP ",null,null,null,null,null,null,null,null,null,"Pennsylvania"]
[null,null,null,null,"shipping point Frt PPD.  Machine orders delivered DDP shipping point Frt PPD and add.",null,null,null,null,null,null,null,null,null,"Prince Edward Isle"]
[null,"Phone","800-553-8033",null,"Returned Merchandise is subject to a restocking fee.",null,null,null,null,null,null,null,null,null,"Rhode Island"]
[null,"Fax","763-513-2116",null,"All orders are subject to Tennant’s General Terms and Conditions available at http://www.tennantco.com/terms.",null,null,null,null,null,null,null,null,null,"Quebec"]
[null,null,null,null,"Printed General Terms and Conditions are also available upon request.",null,null,null,null,null,null,null,null,null,"South Carolina"]
[null,null,null,null,null,null,null,null,null,null,null,null,null,null,"South Dakota"]
[null,"Footer",null,null,null,null,null,null,null,null,null,null,null,null,"Tennessee"]
[null,"Line 1","TENNANT · 10400 Clean Street · Eden Prairie, MN 55344 ·",null,null,null,null,null,null,null,null,null,null,null,"Texas"]
[null,"Line 2"," PHONE:800-553-8033 · FAX:763-513-2116",null,null,null,null,null,null,null,null,null,null,null,"Utah"]
[null,null,null,null,null,null,null,null,null,null,null,null,null,null,"Virginia"]
[null,null,null,null,null,null,null,null,null,null,null,null,null,null,"Vermont"]
[null,null,null,null,null,null,null,null,null,null,null,null,null,null,"Washington"]
[null,null,null,null,null,null,null,null,null,null,null,null,null,null,"West Virginia"]
[null,null,null,null,null,null,null,null,null,null,null,null,null,null,"Wisconsin"]
[null,null,null,null,null,null,null,null,null,null,null,null,null,null,"Wyoming"]
[]
[null,null,"Battery Surcharge","Price"]
[null,null,"36 Volt Machines",0]
[null,null,"24 Volt Machines",0]
[null,null,"Small 24 Volt Machines",0]

{"sheet":"Cover_Letter","index":4,"n_rows":36,"n_cols":1,"rows_kept":36,"cut":false,"hidden":false,"merged":[[8,0,8,1]]}
[{"$f":"Letter!$A$25","v":"2023-08-01"}]
[]
[]
[{"$f":"Start_Here!C37","v":"Tennant Sales and Service Company"}]
[{"$f":"Start_Here!C38","v":"10400 Clean Street"}]
[{"$f":"Start_Here!C39","v":"Eden Prairie, MN 55344"}]
[{"$f":"Start_Here!C40","v":0}]
[]
[{"$f":"Start_Here!$C$22","v":"Contact Name"}]
[{"$f":"Start_Here!$C$19","v":"Company Name"}]
[{"$f":"Start_Here!$C$20","v":"Address"}]
[{"$f":"Start_Here!$C$21","v":"City, State Zip"}]
[]
[{"$f":"Salutation","v":"Dear "}]
[]
["Thank you for your interest in Nobles maintenance equipment.  We are pleased to send you the attached quotation and literature on the products you are considering."]
[]
["A variety of lease and finance programs are available that will allow you to maximize the cost savings and productivity advantages that Nobles provides. "]
[]
["I will be in contact with you, but in the meantime, feel free to call my sales office listed below, should you need to--your questions are invited and your orders will be given prompt attention."]
[]
["Yours Truly,"]
[]
["                                                                                                                "]
["                                                                                                                "]
[{"$f":"Start_Here!$C$41","v":"Rep Name"}]
[{"$f":"Start_Here!C37","v":"Tennant Sales and Service Company"}]
[{"$f":"Start_Here!C38","v":"10400 Clean Street"}]
[{"$f":"Start_Here!$C$39","v":"Eden Prairie, MN 55344"}]
[{"$f":"Start_Here!$C$43","v":"800-553-8033"}]
[]
["attachment"]
[]
[]
[{"$f":"Start_Here!C48","v":"TENNANT · 10400 Clean Street · Eden Prairie, MN 55344 ·"}]
[{"$f":"Start_Here!C49","v":" PHONE:800-553-8033 · FAX:763-513-2116"}]

{"sheet":"TennantTrue Summary_","index":5,"n_rows":66,"n_cols":15,"rows_kept":66,"cut":false,"hidden":true,"merged":[[9,17,10,17],[9,18,10,18],[9,19,10,19],[1,2,3,6],[1,15,3,19],[4,2,5,10],[4,16,5,19],[7,14,8,17],[11,18,18,18],[11,19,18,19],[15,9,15,10],[19,14,24,16],[19,17,24,17],[19,18,24,18],[19,19,24,19],[27,9,27,10],[34,3,35,3],[34,4,35,5],[11,14,18,16],[11,17,18,17],[41,14,43,19],[25,14,35,16],[25,17,35,17],[25,18,35,18],[25,19,35,19],[36,14,39,16],[36,17,39,17],[36,18,39,18],[36,19,39,19],[39,9,39,10],[69,0,69,11],[46,3,47,3],[46,4,47,5],[51,1,52,11],[53,1,54,11],[59,3,59,5],[60,3,60,5],[61,3,61,5],[62,3,62,5],[63,2,64,6],[67,0,67,11],[68,0,68,11]]}
[]
[]
[]
[]
[]
[]
[]
[null,null,null,null,null,null,null,null,null,null,null,null,null,null,"Choose the best plan for you"]
[null,"Prepared for:",null,null,null,null,null,null,null,null,"Prepared On:"]
[null,{"$f":"Start_Here!$C$22","v":"Contact Name"},null,null,null,null,null,null,null,null,{"$f":"Letter!$A$25","v":"2023-08-01"}]
[null,{"$f":"Start_Here!$C$19","v":"Company Name"}]
[null,{"$f":"Start_Here!$C$20","v":"Address"}]
[null,{"$f":"Start_Here!$C$21","v":"City, State Zip"}]
[]
[]
[null,null,"Machine 1",null,"Term",null,null,null,"Service Hours"]
[]
[null,null,"Used Machine?",null,"Gold","Silver","Pay As You Go","Block of Time - Weekly","Block of Time - Bi-Weekly",null,"On Demand"]
[null,null,"Monthly Rate"]
[null,null,"Annually"]
[null,null,"Pre Pay 12 mo"]
[null,null,"Per Visit"]
[null,null,"Hourly Labor Rate",null,"See Below"]
[null,null,"Site Visit Charge",null,null,null,null,null,null,null,null," "]
[]
[]
[]
[null,null,"Machine 2",null,"Term",null,null,null,"Service Hours"]
[]
[null,null,"Used Machine?",null,"Gold","Silver","Pay As You Go","Block of Time - Weekly","Block of Time - Bi-Weekly",null,"On Demand"]
[null,null,"Monthly Rate"]
[null,null,"Annually"]
[null,null,"Pre Pay 36 mo"]
[null,null,"Per Visit"]
[null,null,"Hourly Labor Rate",null,"See Below"]
[null,null,"Site Visit Charge"]
[]
[]
[]
[null,null,"Machine 3",null,"Term",null,null,null,"Service Hours"]
[]
[null,null,"Used Machine?",null,"Gold","Silver","Pay As You Go","Block of Time - Weekly","Block of Time - Bi-Weekly",null,"On Demand"]
[null,null,"Monthly Rate"]
[null,null,"Annually"]
[null,null,"Pre Pay 36 mo"]
[null,null,"Per Visit"]
[null,null,"Hourly Labor Rate",null,"See Below"]
[null,null,"Site Visit Charge",null,null,null,null,null,null,null,null," "]
[]
[null,"**All rates and fees above reflect service for one (1) unit with the exception of Block of Time service."]
[]
[null," **   Breakdown service calls for Silver customers include a Site Visit Charge and will be billed at the current \"Pay As You Go\" Hourly Labor Rate.  Parts will be billed at list price."]
[]
[]
[]
[null," ",null,null,null," "]
[null,"Tennant Company Sales Representative:",null,null,null,null,{"$f":"Start_Here!$C$41","v":"Rep Name"}]
[]
[null,"Customer"]
[null,"Accepted By*:"]
[null,"Print Name:"]
[null,"Title:"]
[null,"Date:"]
[null,null,"*Acceptance is contingent upon customer review and approval of the Master Usage \nAgreement and the Usage Schedule / Equipment Schedule.\n"]
[]
[null,null,"**This quote is good for 60 days from the above date."]

{"sheet":"DualTech_ReadySpace_Strive","index":6,"n_rows":205,"n_cols":14,"rows_kept":205,"cut":false,"hidden":false,"merged":[[158,2,158,5],[160,0,160,1],[155,0,155,1],[155,2,155,5],[156,2,156,5],[157,0,157,1],[157,2,157,5],[160,2,160,5],[154,0,154,1],[154,2,154,5],[130,1,130,6],[179,4,179,5],[164,0,164,1],[164,2,164,5],[166,4,166,6],[168,2,168,5],[169,2,169,5],[170,2,170,5],[161,0,161,1],[161,2,161,5],[162,2,162,5],[163,0,163,1],[163,2,163,5],[158,0,158,1],[119,3,119,4],[119,5,119,6],[152,4,152,6],[120,3,120,4],[120,5,120,6],[121,3,121,4],[121,5,121,6],[116,3,116,4],[116,5,116,6],[117,3,117,4],[117,5,117,6],[118,3,118,4],[118,5,118,6],[110,3,110,6],[113,3,113,4],[112,3,112,4],[115,3,115,4],[115,5,115,6],[0,2,0,3],[1,2,1,3],[2,2,2,3],[3,2,3,3],[11,2,11,6],[21,2,21,6],[22,2,22,6],[23,2,23,6],[41,1,41,3],[108,4,108,8],[93,3,93,4],[93,5,93,6],[95,3,95,4],[95,5,95,6]]}
["DualTech_ReadySpace_Strive",null,{"$f":"Start_Here!$C19","v":"Company Name"}]
[{"$f":"SUM(G88)","v":0},null,{"$f":"Start_Here!$C20","v":"Address"}]
[null,null,{"$f":"Start_Here!$C21","v":"City, State Zip"}]
[null,null,{"$f":"Start_Here!$C22","v":"Contact Name"}]
[null,null,{"$f":"Start_Here!$C$41","v":"Rep Name"}]
[null,null,{"$f":"Start_Here!$C$37","v":"Tennant Sales and Service Company"}]
[null,null,{"$f":"Start_Here!$C$38","v":"10400 Clean Street"}]
[null,null,{"$f":"Start_Here!$C$39","v":"Eden Prairie, MN 55344"}]
[null,null,{"$f":"Start_Here!$C$43","v":"800-553-8033"},null,"Quote Date :",null,{"$f":"Letter!$A$25","v":"2023-08-01"}]
[]
[null,null,{"$f":"Help!C2","v":"CAN Date Rev - 5/6/2025"}]
[null,null,"BUILT-IN “NOBLES VALUE” INCLUDES:"]
[]
[null,"ReadySpace® cleaning technology and deep extraction",null,"Standard (4) 6V 240 AH battery pack "]
[null,"560mm/22\" cleaning path",null,"Battery Tray"]
[null,"72 l/21-gal. solution and recovery tanks",null,"19 Amp Off-board charger"]
[null,"One set of ReadySpace® rollers & extraction brushes",null,"Rugged DuramerTM Tank Construction"]
[null,"Battery Discharger Indicator",null,"Operators video"]
[null,"Hour meter ",null,"Operators manual"]
[null,"Carton with stackable skid",null,"CRI certified, Bronze Cleaning Performance"]
[]
[null,null,"NOBLES WARRANTY"]
[null,null,"3 YEARS OR 2500 HOURS ON ALL COMPONENTS, 3 YEARS LABOR"]
[null,null,"90 DAYS TRAVEL, 10 YEARS ON DURAMERTM TANKS"]
[]
[]
[null,null,null,null,"                Quote Request Information"]
[null,null,null,null,null,null,"Fax (quote only)"]
[null,null,null,null,null,null,"Mail (quote,lit, specs)"]
[null,null,null,null,null,null,"Fax + Mail"]
[]
[null,null,null,null,"                Primary Use"]
[null,null,null,null,null,null,"Inside"]
[null,null,null,null,null,null,"Outside"]
[]
[]
[null,null,"Description","Reference#","CAD 2025 Price Each","Qty","Extended Price"]
[null,null,null,null,null,"*"]
[null,"Pre-Configured Machines (Note 1)",null,null,"CANADA Price",{"$f":"SUM(F40:F41)","v":0}]
[null,null,"Strive ReadySpace Walk-Behind  w/ Wet 240AH Battery and Charger","MV-STRV-0001",28057,null,{"$f":"F40*E40","v":0},{"$f":"IFERROR(IFERROR(VLOOKUP(D40,Surcharge!A:B,2,FALSE)*F40, VLOOKUP(D40 & \"\",Surcharge!A:B,2,FALSE)*F40), \"\")","v":0}]
[null,null,"Strive ReadySpace Walk-Behind  w/ AGM 200AH Battery and Charger","MV-STRV-0002",28855,null,{"$f":"F41*E41","v":0},{"$f":"IFERROR(IFERROR(VLOOKUP(D41,Surcharge!A:B,2,FALSE)*F41, VLOOKUP(D41 & \"\",Surcharge!A:B,2,FALSE)*F41), \"\")","v":0}]
[null,"All Pre-Configured Machines are packaged in a Skid w/Carton for shipment via LTL carriers.  No additional options can be added or changed.",null,null,null,{"$f":"SUM(F40:F41)","v":0},null,{"$f":"IFERROR(IFERROR(VLOOKUP(D42,Surcharge!A:B,2,FALSE)*F42, VLOOKUP(D42 & \"\",Surcharge!A:B,2,FALSE)*F42), \"\")","v":""}]
[null,null,null,null,null,null,null,{"$f":"IFERROR(IFERROR(VLOOKUP(D43,Surcharge!A:B,2,FALSE)*F43, VLOOKUP(D43 & \"\",Surcharge!A:B,2,FALSE)*F43), \"\")","v":""}]
[null,"Base Configuration",null,null,null,{"$f":"SUM(F45,F48,F53)","v":0},null,{"$f":"IFERROR(IFERROR(VLOOKUP(D44,Surcharge!A:B,2,FALSE)*F44, VLOOKUP(D44 & \"\",Surcharge!A:B,2,FALSE)*F44), \"\")","v":""}]
[null,null,"Cleaning Type",null,null,{"$f":"SUM(F46)","v":0},null,{"$f":"IFERROR(IFERROR(VLOOKUP(D45,Surcharge!A:B,2,FALSE)*F45, VLOOKUP(D45 & \"\",Surcharge!A:B,2,FALSE)*F45), \"\")","v":""}]
[null,null,"Strive Walk-Behind Dual Technolgy Carpet Maintainer 560mm / 22\"","Strive-560",28057,null,{"$f":"F46*E46","v":0},{"$f":"IFERROR(IFERROR(VLOOKUP(D46,Surcharge!A:B,2,FALSE)*F46, VLOOKUP(D46 & \"\",Surcharge!A:B,2,FALSE)*F46), \"\")","v":0}]
[null,null,null,null,null,null,null,{"$f":"IFERROR(IFERROR(VLOOKUP(D47,Surcharge!A:B,2,FALSE)*F47, VLOOKUP(D47 & \"\",Surcharge!A:B,2,FALSE)*F47), \"\")","v":""}]
[null,null,"Battery Type",null,null,{"$f":"SUM(F49:F51)","v":0},null,{"$f":"IFERROR(IFERROR(VLOOKUP(D48,Surcharge!A:B,2,FALSE)*F48, VLOOKUP(D48 & \"\",Surcharge!A:B,2,FALSE)*F48), \"\")","v":""}]
[null,null,"Wet 240AH C/20 (kit of 4 Batteries)",9012452,"N/C",null,{"$f":"IF(F49=0,\" \",\"N/C\")","v":" "},{"$f":"IFERROR(IFERROR(VLOOKUP(D49,Surcharge!A:B,2,FALSE)*F49, VLOOKUP(D49 & \"\",Surcharge!A:B,2,FALSE)*F49), \"\")","v":""}]
[null,null,"Sealed/MF AGM 200AH C/20 (kit of 4 Batteries)",9012454,798,null,{"$f":"F50*E50","v":0},{"$f":"IFERROR(IFERROR(VLOOKUP(D50,Surcharge!A:B,2,FALSE)*F50, VLOOKUP(D50 & \"\",Surcharge!A:B,2,FALSE)*F50), \"\")","v":""}]
[null,null,"Without Battery ",null,-1333,null,{"$f":"F51*E51","v":0},{"$f":"IFERROR(IFERROR(VLOOKUP(D51,Surcharge!A:B,2,FALSE)*F51, VLOOKUP(D51 & \"\",Surcharge!A:B,2,FALSE)*F51), \"\")","v":""}]
[null,null,null,null,null,null,null,{"$f":"IFERROR(IFERROR(VLOOKUP(D52,Surcharge!A:B,2,FALSE)*F52, VLOOKUP(D52 & \"\",Surcharge!A:B,2,FALSE)*F52), \"\")","v":""}]
[null,null,"Charger",null,null,{"$f":"SUM(F54:F56)","v":0},null,{"$f":"IFERROR(IFERROR(VLOOKUP(D53,Surcharge!A:B,2,FALSE)*F53, VLOOKUP(D53 & \"\",Surcharge!A:B,2,FALSE)*F53), \"\")","v":""}]
[null,null,"19A 120V-240V AC 50/60Hz 1Ph ",1029256,"N/C",null,{"$f":"IF(F54=0,\" \",\"N/C\")","v":" "},{"$f":"IFERROR(IFERROR(VLOOKUP(D54,Surcharge!A:B,2,FALSE)*F54, VLOOKUP(D54 & \"\",Surcharge!A:B,2,FALSE)*F54), \"\")","v":""}]
[null,null,"19A 120V-240V AC 50/60Hz 1Ph (for sealed batteries)",1058164,"N/C",null,{"$f":"IF(F55=0,\" \",\"N/C\")","v":" "},{"$f":"IFERROR(IFERROR(VLOOKUP(D55,Surcharge!A:B,2,FALSE)*F55, VLOOKUP(D55 & \"\",Surcharge!A:B,2,FALSE)*F55), \"\")","v":""}]
[null,null,"Without  Charger",null,-1004,null,{"$f":"F56*E56","v":0},{"$f":"IFERROR(IFERROR(VLOOKUP(D56,Surcharge!A:B,2,FALSE)*F56, VLOOKUP(D56 & \"\",Surcharge!A:B,2,FALSE)*F56), \"\")","v":""}]
[null,null,null,null,null,null,null,{"$f":"IFERROR(IFERROR(VLOOKUP(D57,Surcharge!A:B,2,FALSE)*F57, VLOOKUP(D57 & \"\",Surcharge!A:B,2,FALSE)*F57), \"\")","v":""}]
[null,"Support",null,"Reference Number",null,{"$f":"SUM(F59:F64)","v":0},null,{"$f":"IFERROR(IFERROR(VLOOKUP(D58,Surcharge!A:B,2,FALSE)*F58, VLOOKUP(D58 & \"\",Surcharge!A:B,2,FALSE)*F58), \"\")","v":""}]
[null,null,"Strive Operator Manual (English/Spanish/French)",9003506,"N/C",null,{"$f":"IF(F59=0,\" \",\"N/C\")","v":" "},{"$f":"IFERROR(IFERROR(VLOOKUP(D59,Surcharge!A:B,2,FALSE)*F59, VLOOKUP(D59 & \"\",Surcharge!A:B,2,FALSE)*F59), \"\")","v":""}]
[null,null,"Additional Operator Manual","see above",70,null,{"$f":"F60*E60","v":0},{"$f":"IFERROR(IFERROR(VLOOKUP(D60,Surcharge!A:B,2,FALSE)*F60, VLOOKUP(D60 & \"\",Surcharge!A:B,2,FALSE)*F60), \"\")","v":""}]
[null,null,"Parts Manual (English)",9003507,29,null,{"$f":"F61*E61","v":0},{"$f":"IFERROR(IFERROR(VLOOKUP(D61,Surcharge!A:B,2,FALSE)*F61, VLOOKUP(D61 & \"\",Surcharge!A:B,2,FALSE)*F61), \"\")","v":""}]
[null,null,null,null,null,null,null,{"$f":"IFERROR(IFERROR(VLOOKUP(D62,Surcharge!A:B,2,FALSE)*F62, VLOOKUP(D62 & \"\",Surcharge!A:B,2,FALSE)*F62), \"\")","v":""}]
[null,null,"Packaging",null,null,{"$f":"SUM(F64:F64)","v":0},null,{"$f":"IFERROR(IFERROR(VLOOKUP(D63,Surcharge!A:B,2,FALSE)*F63, VLOOKUP(D63 & \"\",Surcharge!A:B,2,FALSE)*F63), \"\")","v":""}]
[null,null,"Skid w/Carton, Stackable",9012455,"N/C",null,{"$f":"IF(F64=0,\" \",\"N/C\")","v":" "},{"$f":"IFERROR(IFERROR(VLOOKUP(D64,Surcharge!A:B,2,FALSE)*F64, VLOOKUP(D64 & \"\",Surcharge!A:B,2,FALSE)*F64), \"\")","v":""}]
[null,null,null,null,null,null,null,{"$f":"IFERROR(IFERROR(VLOOKUP(D65,Surcharge!A:B,2,FALSE)*F65, VLOOKUP(D65 & \"\",Surcharge!A:B,2,FALSE)*F65), \"\")","v":""}]
[]
[null,"Custom Solution--write in description, qty, price, and PN if applicable",null,null,null,{"$f":"SUM(F68)","v":0}]
[null,null,null,null,"Insert Prices Here",{"$f":"SUM(F69:F72)","v":0}]
[null,null,null,"Custom",null,{"$f":"IF(E69 <> \"\", 1, 0)","v":0},{"$f":"F69*E69","v":0}]
[null,null,null,"Custom",null,{"$f":"IF(E70 <> \"\", 1, 0)","v":0},{"$f":"F70*E70","v":0}]
[null,null,null,"Custom",null,0,{"$f":"F71*E71","v":0}]
[null,null,null,"Custom",null,0,{"$f":"F72*E72","v":0}]
[null,null,null,null,{"$f":"ROUND(SUM(G40:G72), 0)","v":0},{"$f":"SUM(E74)","v":0}]
[null,null,null,"Machine Subtotal ",{"$f":"ROUND(SUM(G40:G72), 0)","v":0},{"$f":"F73","v":0}]
[null,"Discounts",null,null,null,{"$f":"SUM(F76)","v":0}]
[null,null,null,null,null,{"$f":"SUM(F77:F81)","v":0}]
[null,null,null,"Applicable Currency Adj %",null,{"$f":"IF(E77 <> \"\", 1, 0)","v":0},{"$f":"IF(F77*(E77*0.01)*E73 < 0, F77*(E77*0.01)*E73, -(F77*(E77*0.01)*E73))","v":0}]
[null,null,null,"Discount %",null,{"$f":"IF(E78 <> \"\", 1, 0)","v":0},{"$f":"IF(F78*(E78*0.01)*(E73+G77) < 0, F78*(E78*0.01)*(E73+G77), -(F78*(E78*0.01)*(E73+G77)))","v":0}]
[null,null,null,"Discount $",null,0,{"$f":"IF(F79*E79 < 0, F79*E79, -(F79*E79))","v":0}]
[null,null,null,"Discount $",null,{"$f":"IF(E80 <> \"\", 1, 0)","v":0},{"$f":"IF(F80*E80 < 0, F80*E80, -(F80*E80))","v":0}]
[null,null,null,"Discount $",null,0,{"$f":"IF(F81*E81 < 0, F81*E81, -(F81*E81))","v":0}]
[null,null,null,"Discount Total ",{"$f":"SUM(G77:G81)","v":0},{"$f":"SUM(E82)","v":0}]
[null,null,null,null,null,{"$f":"#REF!","v":{"$error":"#REF!"}}]
[null,null,null,null,null,{"$f":"F83","v":{"$error":"#REF!"}}]
[null,null,"Prepaid and Add","Freight",null,{"$f":"IF(E85 <> \"\", 1, 0)","v":0},{"$f":"F85*E85","v":0}]
[null,null,"Subject to all applicable taxes","Tax",null,0,{"$f":"F86*E86","v":0}]
[null,null,null,null,null,{"$f":"SUM(F88)","v":0}]
[null,null,null,"MACHINE TOTAL*",null,{"$f":"SUM(G88)","v":0},{"$f":"SUM(G40:G86)","v":0},null,null,null,null,null,null,"This goes to \"My Documents\""]
[null,null,null,null,null,null,{"$f":"SUM(G88)","v":0}]
[]
[]
[]
[]
[null,null,"Wells Fargo - Leasing Calculation Option:","Option 1",null,"Option 2",null,null,null,{"$f":"Financing!A38","v":"Rates 2025 - Rev.2/4/2025"}]
[null,null,null,"Monthly Payment","Cost Per Day","Monthly Payment","Cost Per Day",null,null,{"$f":"Financing!A39","v":"“Blank Payment Amounts Indicate The Financing Option Or Purchase Options Selected Are Not "}]
[null,null,"Purchase Option:","$1 Buyout Lease",null,"None",null,null,null,{"$f":"Financing!A40","v":"Applicable Or The Machine Total Is Below The Minimum Amount For The Selected Vendor”"}]
[null,null,"24 Months",0,0,0,0,null,null,{"$f":"Financing!A41","v":"\"Quoted monthly payments are estimates only and are based on a certain level of credit rating."}]
[null,null,"36 Months",0,0,0,0,null,null,{"$f":"Financing!A42","v":"Actual monthly payments may be higher depending on your credit rating.\""}]
[null,null,"48 Months",0,0,0,0,null,null,{"$f":"Financing!A43","v":"“Financing rates do not include Pre-Paid Service”"}]
[null,null,"60 Months",0,0,0,0,null,{"$f":"Financing!A44","v":0}]
[]
[null,null,null,"Benefits of Equipment Financing:"]
[null,null,null,"• Spreads out investment over time.",null,"• Keep current with latest technology."]
[null,null,null,"• Preserve capital.",null,"• Service and parts bundling available."]
[null,null,null,"• Low monthly payment.",null,"• Pay for labor savings as you go."]
[]
[null,"  TennantTrue",null,0,0]
[]
[null,null,"Is customer interested in service program?","Yes","*State/County selection required for TennantTrue service options"]
[]
[null,null,"If not, why?"]
[]
[null,null,"Term:",36,null,null,"AB Brushes","No"]
[null,null,"Monthly machine usage (hrs):","< 30/mo. (Avg. 1hr./day)"]
[]
[null,null,"TennantTrue: ","Gold Contract",null,"Silver Contract"]
[null,null,"Per Visit",null,null,392]
[null,null,"Monthly",120,null,67]
[null,null,"Annually",null,null,785]
[null,null,"Pre-Pay Full Term",4162,null,2305]
[null,null,"Hourly Labor Rate"]
[null,null,"Site Visit"]
[]
[null,null,"* Verify customer current pricing prior to quote. "]
[null,null,"**All rates and fees above reflect service for one (1) unit with the exception of Block of Time service."]
[null,null,"*Block of Time is available in 1 Year Term only and is priced as such no matter the term selection on this template."]
[]
[]
[]
[null,"Quote Special Instructions:"]
[]
[]
[]
[null,{"$f":"Start_Here!E36","v":"Terms and Conditions"}]
[null,{"$f":"Start_Here!E37","v":"Ask your local sales rep for estimated lead times. Verify when placing order"}]
[null,{"$f":"Start_Here!E38","v":"All orders subject to acceptance by Tennant Sales and Service Company, Minneapolis, Minnesota"}]
[null,{"$f":"Start_Here!E39","v":"Prices subject to change without notice. Subject to any applicable taxes."}]
[null,{"$f":"Start_Here!E40","v":"Terms:  Net 30 days.  Payable in Canadian Funds"}]
[null,{"$f":"Start_Here!E41","v":"Freight:  Accessories, parts, supplies, detergents, and floor coatings orders delivered DDP "}]
[null,{"$f":"Start_Here!E42","v":"shipping point Frt PPD.  Machine orders delivered DDP shipping point Frt PPD and add."}]
[null,{"$f":"Start_Here!E43","v":"Returned Merchandise is subject to a restocking fee."}]
[null,{"$f":"Start_Here!E44","v":"All orders are subject to Tennant’s General Terms and Conditions available at http://www.tennantco.com/terms."}]
[null,{"$f":"Start_Here!E45","v":"Printed General Terms and Conditions are also available upon request."}]
[null,{"$f":"Start_Here!E46","v":0}]
[null,{"$f":"Start_Here!E47","v":0}]
[null,{"$f":"Start_Here!E48","v":0}]
[null,null,null,null,"Quote Date :",null,{"$f":"Letter!$A$25","v":"2023-08-01"}]
[null,"Order Placement Information:  To place your order, fill in PO# and customer signatures,"]
[null,"call or fax to the numbers listed below. Customer Purchase Order is required."]
[null,"If information is missing, orders will be entered and held until all information is received."]
[]
[null,null,"Customer Number",null,"Cust Grp 3"]
[null,null,{"$f":"Start_Here!$C$25","v":0},null,{"$f":"Start_Here!$C$29","v":0}]
[null,null,{"$f":"Start_Here!$B$18","v":"Who Owns the Machine? (Sold-To Info) (Please Verify)"}]
["Company",null,{"$f":"Start_Here!$C$19","v":"Company Name"}]
["Address",null,{"$f":"Start_Here!$C$20","v":"Address"}]
[null,null,{"$f":"Start_Here!$C$21","v":"City, State Zip"}]
["Name",null,{"$f":"Start_Here!$C$22","v":"Contact Name"}]
["Phone",null,{"$f":"Start_Here!$C$23","v":"Contact Phone"}]
[null,null,{"$f":"Start_Here!$B$11","v":"Where is the Machine Being Shipped? (Ship-To Info) (Please Verify)"}]
["Company",null,{"$f":"Start_Here!$C$12","v":"Company Name"}]
["Address",null,{"$f":"Start_Here!$C$13","v":"Address"}]
[null,null,{"$f":"Start_Here!$C$14","v":"City, State Zip"}]
["Name",null,{"$f":"Start_Here!$C$15","v":"Contact Name"}]
["Phone",null,{"$f":"Start_Here!$C$16","v":"Contact Phone"}]
[null,null,{"$f":"Start_Here!$B$31","v":"Shipping / Carrier Instructions:"},null,"Order Special Instructions:"]
[null,null,{"$f":"Start_Here!$C$32","v":0}]
[]
[null,null,"Customer Purchase Order No."]
[null,null,"(please attach copy)"]
[]
[]
[null,null,"Tax Exempt",null,"Yes"]
[null,null,null,null,"No"]
[null,null,"If Yes, attach a copy of your exemption certificate."]
[]
[null,null,"Requested Delivery Date"]
[null,null,{"$f":"Start_Here!$C$28","v":0}]
[]
[null,null,{"$f":"Start_Here!$C$26","v":0},null,{"$f":"Start_Here!$C$27","v":0}]
[null,null,"Authorized Buyer (please print)",null,"Phone Number"]
[]
[]
[null,null,"Authorized Buyer Signature"]
[]
[null,null,{"$f":"Start_Here!$C$41","v":"Rep Name"}]
[null,null,"Tennant Representative"]
[]
[null,null,null,"Specialized Maintenance Equipment"]
[null,null,{"$f":"Start_Here!$C$51","v":0}]
[null,null,null,{"$f":"Start_Here!$C$52","v":0}]
[]
[]
[null,"Notes"]
[]
[null,1,"Pre-Configured Machines cannot have options changed or added.  All units are packaged on a Skid w/Carton and will ship"]
[null,null,"via LTL Carrier.  When ordering, provide the reference number listed above.  Price does not include freight or tax.  "]
[null,null,"Availability of units and lead time may vary."]
[]
[null,2,"Shipping Weights and Dimensions","Skid w/ Carton"]
[]
[null,null,"Weight (w/ 240AH Battery)","670 lbs / 304 Kg"]
[null,null,"Length","67\" / 1,702mm"]
[null,null,"Width","33\" / 838mm"]
[null,null,"Height","48\" / 1,219mm"]

{"sheet":"DualTech_ReadySpace_StriveRider","index":7,"n_rows":213,"n_cols":14,"rows_kept":213,"cut":false,"hidden":false,"merged":[[167,0,167,1],[167,2,167,5],[168,2,168,5],[169,0,169,1],[169,2,169,5],[186,4,186,5],[170,0,170,1],[170,2,170,5],[173,4,173,6],[175,2,175,5],[176,2,176,5],[177,2,177,5],[163,0,163,1],[163,2,163,5],[166,0,166,1],[135,1,135,6],[157,4,157,6],[160,0,160,1],[160,2,160,5],[161,2,161,5],[162,0,162,1],[162,2,162,5],[166,2,166,5],[159,0,159,1],[159,2,159,5],[98,5,98,6],[125,5,125,6],[121,3,121,4],[121,5,121,6],[122,3,122,4],[122,5,122,6],[123,3,123,4],[123,5,123,6],[117,3,117,4],[113,4,113,8],[115,3,115,6],[118,3,118,4],[120,3,120,4],[120,5,120,6],[126,3,126,4],[126,5,126,6],[0,2,0,3],[1,2,1,3],[2,2,2,3],[3,2,3,3],[11,2,11,6],[124,3,124,4],[124,5,124,6],[125,3,125,4],[24,2,24,6],[25,2,25,6],[26,2,26,6],[100,3,100,4],[100,5,100,6],[98,3,98,4]]}
["DualTech_ReadySpace_StriveRider",null,{"$f":"Start_Here!$C19","v":"Company Name"}]
[{"$f":"SUM(G93)","v":0},null,{"$f":"Start_Here!$C20","v":"Address"}]
[null,null,{"$f":"Start_Here!$C21","v":"City, State Zip"}]
[null,null,{"$f":"Start_Here!$C22","v":"Contact Name"}]
[null,null,{"$f":"Start_Here!$C$41","v":"Rep Name"}]
[null,null,{"$f":"Start_Here!$C$37","v":"Tennant Sales and Service Company"}]
[null,null,{"$f":"Start_Here!$C$38","v":"10400 Clean Street"}]
[null,null,{"$f":"Start_Here!$C$39","v":"Eden Prairie, MN 55344"}]
[null,null,{"$f":"Start_Here!$C$43","v":"800-553-8033"},null,"Quote Date :",null,{"$f":"Letter!$A$25","v":"2023-08-01"}]
[]
[null,null,{"$f":"Help!C2","v":"CAN Date Rev - 5/6/2025"}]
[null,null,"BUILT-IN “NOBLES VALUE” INCLUDES:"]
[]
[null,"ReadySpace® cleaning technology and deep extraction",null,"Standard (4) 6V 360AH battery pack "]
[null,"700mm/28\" cleaning path",null,"Battery Tray"]
[null,"121 l/32-gal. solution & 106 l/28-gal. recovery tanks",null,"25 Amp Off-board charger"]
[null,"Hygenic® fully cleanable solution/recovery tanks",null,"One set of ReadySpace® rollers & extraction brushes"]
[null,"Solution tank empty indicator",null,"Rugged DuramerTM Tank Construction"]
[null,"Recovery tank full indicator",null,"Vacuum fan in-line air filter"]
[null,"Touch Panel Controls ",null,"Virtual DVD manual"]
[null,null,"Featuring on-board diagnostics ","Operators manual"]
[null,null,"One-button operation","CRI certified, Bronze Cleaning Performance"]
[null,"E-stop, hour meter and horn"]
[]
[null,null,"NOBLES WARRANTY"]
[null,null,"3 YEARS OR 1500 HOURS ON ALL COMPONENTS, 3 YEARS LABOR"]
[null,null,"90 DAYS TRAVEL, 10 YEARS ON DURAMERTM TANKS"]
[]
[]
[null,null,null,null,"                Quote Request Information"]
[null,null,null,null,null,null,"Fax (quote only)"]
[null,null,null,null,null,null,"Mail (quote,lit, specs)"]
[null,null,null,null,null,null,"Fax + Mail"]
[]
[null,null,null,null,"                Primary Use"]
[null,null,null,null,null,null,"Inside"]
[null,null,null,null,null,null,"Outside"]
[]
[]
[null,null,"Description","Reference#","Price Each","Qty","Extended Price"]
[null,"Base Configuration",null,null,null,{"$f":"SUM(F42,F45,F51)","v":0}]
[null,null,"Cleaning Type",null,"CANADA Price",{"$f":"SUM(F43)","v":0}]
[null,null,"Strive Rider Dual Technolgy Carpet Maintainer 700mm/28\"","Strive-700",40421,null,{"$f":"F43*E43","v":0},{"$f":"IFERROR(IFERROR(VLOOKUP(D43,Surcharge!A:B,2,FALSE)*F43, VLOOKUP(D43 & \"\",Surcharge!A:B,2,FALSE)*F43), \"\")","v":0}]
[null,null,null,null,null,{"$f":"SUM(F43)","v":0},null,{"$f":"IFERROR(IFERROR(VLOOKUP(D44,Surcharge!A:B,2,FALSE)*F44, VLOOKUP(D44 & \"\",Surcharge!A:B,2,FALSE)*F44), \"\")","v":""}]
[null,null,"Battery Type",null,null,{"$f":"SUM(F46:F49)","v":0},null,{"$f":"IFERROR(IFERROR(VLOOKUP(D45,Surcharge!A:B,2,FALSE)*F45, VLOOKUP(D45 & \"\",Surcharge!A:B,2,FALSE)*F45), \"\")","v":""}]
[null,null,"Wet 360AH C/20  (kit of 4 batteries)",9000815,"N/C",null,{"$f":"IF(F46=0,\" \",\"N/C\")","v":" "},{"$f":"IFERROR(IFERROR(VLOOKUP(D46,Surcharge!A:B,2,FALSE)*F46, VLOOKUP(D46 & \"\",Surcharge!A:B,2,FALSE)*F46), \"\")","v":""}]
[null,null,"Without Battery",null,-922,null,{"$f":"F47*E47","v":0},{"$f":"IFERROR(IFERROR(VLOOKUP(D47,Surcharge!A:B,2,FALSE)*F47, VLOOKUP(D47 & \"\",Surcharge!A:B,2,FALSE)*F47), \"\")","v":""}]
[null,null,null,null,null,null,null,{"$f":"IFERROR(IFERROR(VLOOKUP(D48,Surcharge!A:B,2,FALSE)*F48, VLOOKUP(D48 & \"\",Surcharge!A:B,2,FALSE)*F48), \"\")","v":""}]
[null,null,"Manual Battery Watering Kit (See Note 1)",9009619,876,null,{"$f":"F49*E49","v":0},{"$f":"IFERROR(IFERROR(VLOOKUP(D49,Surcharge!A:B,2,FALSE)*F49, VLOOKUP(D49 & \"\",Surcharge!A:B,2,FALSE)*F49), \"\")","v":""}]
[null,null,null,null,null,null,null,{"$f":"IFERROR(IFERROR(VLOOKUP(D50,Surcharge!A:B,2,FALSE)*F50, VLOOKUP(D50 & \"\",Surcharge!A:B,2,FALSE)*F50), \"\")","v":""}]
[null,null,"Charger","Reference Number",null,{"$f":"SUM(F52:F53)","v":0},null,{"$f":"IFERROR(IFERROR(VLOOKUP(D51,Surcharge!A:B,2,FALSE)*F51, VLOOKUP(D51 & \"\",Surcharge!A:B,2,FALSE)*F51), \"\")","v":""}]
[null,null,"25A 100-240V AC 50/60Hz 1Ph",1043663,"N/C",null,{"$f":"IF(F52=0,\" \",\"N/C\")","v":" "},{"$f":"IFERROR(IFERROR(VLOOKUP(D52,Surcharge!A:B,2,FALSE)*F52, VLOOKUP(D52 & \"\",Surcharge!A:B,2,FALSE)*F52), \"\")","v":""}]
[null,null,"Without  Charger",null,-525,null,{"$f":"F53*E53","v":0},{"$f":"IFERROR(IFERROR(VLOOKUP(D53,Surcharge!A:B,2,FALSE)*F53, VLOOKUP(D53 & \"\",Surcharge!A:B,2,FALSE)*F53), \"\")","v":""}]
[null,null,null,null,null,null,null,{"$f":"IFERROR(IFERROR(VLOOKUP(D54,Surcharge!A:B,2,FALSE)*F54, VLOOKUP(D54 & \"\",Surcharge!A:B,2,FALSE)*F54), \"\")","v":""}]
[null,"Machine Protection & Safety",null,"Reference Number",null,{"$f":"SUM(F56:F58)","v":0},null,{"$f":"IFERROR(IFERROR(VLOOKUP(D55,Surcharge!A:B,2,FALSE)*F55, VLOOKUP(D55 & \"\",Surcharge!A:B,2,FALSE)*F55), \"\")","v":""}]
[null,null,"Seat Belt",9018587,135,null,{"$f":"F56*E56","v":0},{"$f":"IFERROR(IFERROR(VLOOKUP(D56,Surcharge!A:B,2,FALSE)*F56, VLOOKUP(D56 & \"\",Surcharge!A:B,2,FALSE)*F56), \"\")","v":""}]
[null,null,"Strobe Light on Tank",9000580,1100,null,{"$f":"F57*E57","v":0},{"$f":"IFERROR(IFERROR(VLOOKUP(D57,Surcharge!A:B,2,FALSE)*F57, VLOOKUP(D57 & \"\",Surcharge!A:B,2,FALSE)*F57), \"\")","v":""}]
[null,null,"Utility Basket (small storage)",1018315,346,null,{"$f":"F58*E58","v":0},{"$f":"IFERROR(IFERROR(VLOOKUP(D58,Surcharge!A:B,2,FALSE)*F58, VLOOKUP(D58 & \"\",Surcharge!A:B,2,FALSE)*F58), \"\")","v":""}]
[null,null,null,null,null,null,null,{"$f":"IFERROR(IFERROR(VLOOKUP(D59,Surcharge!A:B,2,FALSE)*F59, VLOOKUP(D59 & \"\",Surcharge!A:B,2,FALSE)*F59), \"\")","v":""}]
[null,"Support",null,"Reference Number",null,{"$f":"SUM(F61:F69)","v":0},null,{"$f":"IFERROR(IFERROR(VLOOKUP(D60,Surcharge!A:B,2,FALSE)*F60, VLOOKUP(D60 & \"\",Surcharge!A:B,2,FALSE)*F60), \"\")","v":""}]
[null,null,"Strive Rider Operator Manual (English)",1032130,"N/C",null,{"$f":"IF(F61=0,\" \",\"N/C\")","v":" "},{"$f":"IFERROR(IFERROR(VLOOKUP(D61,Surcharge!A:B,2,FALSE)*F61, VLOOKUP(D61 & \"\",Surcharge!A:B,2,FALSE)*F61), \"\")","v":""}]
[null,null,"Strive Rider Operator Manual (Spanish)",1032132,"N/C",null,{"$f":"IF(F62=0,\" \",\"N/C\")","v":" "},{"$f":"IFERROR(IFERROR(VLOOKUP(D62,Surcharge!A:B,2,FALSE)*F62, VLOOKUP(D62 & \"\",Surcharge!A:B,2,FALSE)*F62), \"\")","v":""}]
[null,null,"Strive Rider Operator Manual (French) (Note 2)",1032133,"N/C",null,{"$f":"IF(F63=0,\" \",\"N/C\")","v":" "},{"$f":"IFERROR(IFERROR(VLOOKUP(D63,Surcharge!A:B,2,FALSE)*F63, VLOOKUP(D63 & \"\",Surcharge!A:B,2,FALSE)*F63), \"\")","v":""}]
[null,null,"Additional Operator Manual","see above",238,null,{"$f":"F64*E64","v":0},{"$f":"IFERROR(IFERROR(VLOOKUP(D64,Surcharge!A:B,2,FALSE)*F64, VLOOKUP(D64 & \"\",Surcharge!A:B,2,FALSE)*F64), \"\")","v":""}]
[null,null,"Strive Rider Parts Manual",1032134,29,null,{"$f":"F65*E65","v":0},{"$f":"IFERROR(IFERROR(VLOOKUP(D65,Surcharge!A:B,2,FALSE)*F65, VLOOKUP(D65 & \"\",Surcharge!A:B,2,FALSE)*F65), \"\")","v":""}]
[null,null,"Service Manual",1032139,"N/C",null,{"$f":"IF(F66=0,\" \",\"N/C\")","v":" "},{"$f":"IFERROR(IFERROR(VLOOKUP(D66,Surcharge!A:B,2,FALSE)*F66, VLOOKUP(D66 & \"\",Surcharge!A:B,2,FALSE)*F66), \"\")","v":""}]
[null,null,null,null,null,null,null,{"$f":"IFERROR(IFERROR(VLOOKUP(D67,Surcharge!A:B,2,FALSE)*F67, VLOOKUP(D67 & \"\",Surcharge!A:B,2,FALSE)*F67), \"\")","v":""}]
[null,null,"Packaging",null,null,{"$f":"SUM(F69:F69)","v":0},null,{"$f":"IFERROR(IFERROR(VLOOKUP(D68,Surcharge!A:B,2,FALSE)*F68, VLOOKUP(D68 & \"\",Surcharge!A:B,2,FALSE)*F68), \"\")","v":""}]
[null,null,"Skid w/Carton, Non-Stackable",9002882,"N/C",null,{"$f":"IF(F69=0,\" \",\"N/C\")","v":" "},{"$f":"IFERROR(IFERROR(VLOOKUP(D69,Surcharge!A:B,2,FALSE)*F69, VLOOKUP(D69 & \"\",Surcharge!A:B,2,FALSE)*F69), \"\")","v":""}]
[null,null,null,null,null,null,null,{"$f":"IFERROR(IFERROR(VLOOKUP(D70,Surcharge!A:B,2,FALSE)*F70, VLOOKUP(D70 & \"\",Surcharge!A:B,2,FALSE)*F70), \"\")","v":""}]
[]
[null,"Custom Solution--write in description, qty, price, and PN if applicable",null,null,null,{"$f":"SUM(F73)","v":0}]
[null,null,null,null,"Insert Prices Here",{"$f":"SUM(F74:F77)","v":0}]
[null,null,null,"Custom",null,{"$f":"IF(E74 <> \"\", 1, 0)","v":0},{"$f":"F74*E74","v":0}]
[null,null,null,"Custom",null,{"$f":"IF(E75 <> \"\", 1, 0)","v":0},{"$f":"F75*E75","v":0}]
[null,null,null,"Custom",null,0,{"$f":"F76*E76","v":0}]
[null,null,null,"Custom",null,0,{"$f":"F77*E77","v":0}]
[null,null,null,null,{"$f":"ROUND(SUM(G43:G77), 0)","v":0},{"$f":"SUM(E79)","v":0}]
[null,null,null,"Machine Subtotal ",{"$f":"ROUND(SUM(G43:G77), 0)","v":0},{"$f":"F78","v":0}]
[null,"Discounts",null,null,null,{"$f":"SUM(F81)","v":0}]
[null,null,null,null,null,{"$f":"SUM(F83:F86)","v":0}]
[null,null,null,"Applicable Currency Adj %",null,{"$f":"IF(E82 <> \"\", 1, 0)","v":0},{"$f":"IF(F82*(E82*0.01)*E78 < 0, F82*(E82*0.01)*E78, -(F82*(E82*0.01)*E78))","v":0}]
[null,null,null,"Discount %",null,{"$f":"IF(E83 <> \"\", 1, 0)","v":0},{"$f":"IF(F83*(E83*0.01)*(E78+G82) < 0, F83*(E83*0.01)*(E78+G82), -(F83*(E83*0.01)*(E78+G82)))","v":0}]
[null,null,null,"Discount $",null,0,{"$f":"IF(F84*E84 < 0, F84*E84, -(F84*E84))","v":0}]
[null,null,null,"Discount $",null,0,{"$f":"IF(F85*E85 < 0, F85*E85, -(F85*E85))","v":0}]
[null,null,null,"Discount $",null,0,{"$f":"IF(F86*E86 < 0, F86*E86, -(F86*E86))","v":0}]
[null,null,null,"Discount Total ",{"$f":"SUM(G82:G86)","v":0},{"$f":"SUM(E87)","v":0}]
[null,null,null,null,null,{"$f":"#REF!","v":{"$error":"#REF!"}}]
[null,null,null,null,null,{"$f":"F88","v":{"$error":"#REF!"}}]
[null,null,"Prepaid and Add","Freight",null,{"$f":"IF(E90 <> \"\", 1, 0)","v":0},{"$f":"F90*E90","v":0}]
[null,null,"Subject to all applicable taxes","Tax",null,0,0]
[null,null,null,null,null,{"$f":"SUM(F93)","v":0}]
[null,null,null,"MACHINE TOTAL*",null,{"$f":"SUM(G93)","v":0},{"$f":"SUM(G43:G91)","v":0},null,null,null,null,null,null,"This goes to \"My Documents\""]
[null,null,null,null,null,null,{"$f":"SUM(G93)","v":0}]
[]
[]
[]
[]
[null,null,"Wells Fargo - Leasing Calculation Option:","Option 1",null,"Option 2",null,null,null,{"$f":"Financing!A38","v":"Rates 2025 - Rev.2/4/2025"}]
[null,null,null,"Monthly Payment","Cost Per Day","Monthly Payment","Cost Per Day",null,null,{"$f":"Financing!A39","v":"“Blank Payment Amounts Indicate The Financing Option Or Purchase Options Selected Are Not "}]
[null,null,"Purchase Option:","$1 Buyout Lease",null,"None",null,null,null,{"$f":"Financing!A40","v":"Applicable Or The Machine Total Is Below The Minimum Amount For The Selected Vendor”"}]
[null,null,"24 Months",0,0,0,0,null,null,{"$f":"Financing!A41","v":"\"Quoted monthly payments are estimates only and are based on a certain level of credit rating."}]
[null,null,"36 Months",0,0,0,0,null,null,{"$f":"Financing!A42","v":"Actual monthly payments may be higher depending on your credit rating.\""}]
[null,null,"48 Months",0,0,0,0,null,null,{"$f":"Financing!A43","v":"“Financing rates do not include Pre-Paid Service”"}]
[null,null,"60 Months",0,0,0,0,null,{"$f":"Financing!A44","v":0}]
[]
[null,null,null,"Benefits of Equipment Financing:"]
[null,null,null,"• Spreads out investment over time.",null,"• Keep current with latest technology."]
[null,null,null,"• Preserve capital.",null,"• Service and parts bundling available."]
[null,null,null,"• Low monthly payment.",null,"• Pay for labor savings as you go."]
[]
[null,"  TennantTrue",null,0,0]
[]
[null,null,"Is customer interested in service program?","Yes","*State/County selection required for TennantTrue service options"]
[]
[null,null,"If not, why?"]
[]
[null,null,"Term:",36,null,null,"AB Brushes","No"]
[null,null,"Monthly machine usage (hrs):","< 30/mo. (Avg. 1hr./day)"]
[]
[null,null,"TennantTrue: ","Gold Contract",null,"Silver Contract"]
[null,null,"Per Visit",null,null,501]
[null,null,"Monthly",164,null,88]
[null,null,"Annually",null,null,1035]
[null,null,"Pre-Pay Full Term",5682,null,3042]
[null,null,"Hourly Labor Rate"]
[null,null,"Site Visit"]
[]
[null,null,"* Verify customer current pricing prior to quote. "]
[null,null,"**All rates and fees above reflect service for one (1) unit with the exception of Block of Time service."]
[null,null,"*Block of Time is available in 1 Year Term only and is priced as such no matter the term selection on this template."]
[]
[]
[]
[null,"Quote Special Instructions:"]
[]
[]
[]
[null,{"$f":"Start_Here!E36","v":"Terms and Conditions"}]
[null,{"$f":"Start_Here!E37","v":"Ask your local sales rep for estimated lead times. Verify when placing order"}]
[null,{"$f":"Start_Here!E38","v":"All orders subject to acceptance by Tennant Sales and Service Company, Minneapolis, Minnesota"}]
[null,{"$f":"Start_Here!E39","v":"Prices subject to change without notice. Subject to any applicable taxes."}]
[null,{"$f":"Start_Here!E40","v":"Terms:  Net 30 days.  Payable in Canadian Funds"}]
[null,{"$f":"Start_Here!E41","v":"Freight:  Accessories, parts, supplies, detergents, and floor coatings orders delivered DDP "}]
[null,{"$f":"Start_Here!E42","v":"shipping point Frt PPD.  Machine orders delivered DDP shipping point Frt PPD and add."}]
[null,{"$f":"Start_Here!E43","v":"Returned Merchandise is subject to a restocking fee."}]
[null,{"$f":"Start_Here!E44","v":"All orders are subject to Tennant’s General Terms and Conditions available at http://www.tennantco.com/terms."}]
[null,{"$f":"Start_Here!E45","v":"Printed General Terms and Conditions are also available upon request."}]
[null,{"$f":"Start_Here!E46","v":0}]
[null,{"$f":"Start_Here!E47","v":0}]
[null,{"$f":"Start_Here!E48","v":0}]
[null,null,null,null,"Quote Date :",null,{"$f":"Letter!$A$25","v":"2023-08-01"}]
[null,"Order Placement Information:  To place your order, fill in PO# and customer signatures,"]
[null,"call or fax to the numbers listed below. Customer Purchase Order is required."]
[null,"If information is missing, orders will be entered and held until all information is received."]
[]
[null,null,"Customer Number",null,"Cust Grp 3"]
[null,null,{"$f":"Start_Here!$C$25","v":0},null,{"$f":"Start_Here!$C$29","v":0}]
[null,null,{"$f":"Start_Here!$B$18","v":"Who Owns the Machine? (Sold-To Info) (Please Verify)"}]
["Company",null,{"$f":"Start_Here!$C$19","v":"Company Name"}]
["Address",null,{"$f":"Start_Here!$C$20","v":"Address"}]
[null,null,{"$f":"Start_Here!$C$21","v":"City, State Zip"}]
["Name",null,{"$f":"Start_Here!$C$22","v":"Contact Name"}]
["Phone",null,{"$f":"Start_Here!$C$23","v":"Contact Phone"}]
[]
[null,null,{"$f":"Start_Here!$B$11","v":"Where is the Machine Being Shipped? (Ship-To Info) (Please Verify)"}]
["Company",null,{"$f":"Start_Here!$C$12","v":"Company Name"}]
["Address",null,{"$f":"Start_Here!$C$13","v":"Address"}]
[null,null,{"$f":"Start_Here!$C$14","v":"City, State Zip"}]
["Name",null,{"$f":"Start_Here!$C$15","v":"Contact Name"}]
["Phone",null,{"$f":"Start_Here!$C$16","v":"Contact Phone"}]
[]
[null,null,{"$f":"Start_Here!$B$31","v":"Shipping / Carrier Instructions:"},null,"Order Special Instructions:"]
[null,null,{"$f":"Start_Here!$C$32","v":0}]
[]
[null,null,"Customer Purchase Order No."]
[null,null,"(please attach copy)"]
[]
[]
[null,null,"Tax Exempt",null,"Yes"]
[null,null,null,null,"No"]
[null,null,"If Yes, attach a copy of your exemption certificate."]
[]
[null,null,"Requested Delivery Date"]
[null,null,{"$f":"Start_Here!$C$28","v":0}]
[]
[null,null,{"$f":"Start_Here!$C$26","v":0},null,{"$f":"Start_Here!$C$27","v":0}]
[null,null,"Authorized Buyer (please print)",null,"Phone Number"]
[]
[]
[null,null,"Authorized Buyer Signature"]
[]
[null,null,{"$f":"Start_Here!$C$41","v":"Rep Name"}]
[null,null,"Tennant Representative"]
[]
[null,null,null,"Specialized Maintenance Equipment"]
[null,null,{"$f":"Start_Here!$C$51","v":0}]
[null,null,null,{"$f":"Start_Here!$C$52","v":0}]
[]
[]
[null,"Notes"]
[]
[null,1,"Only available as factory-installed when batteries are ordered with machine."]
[]
[null,2,"A French and English manual will be supplied for all units shipping into Quebec, Canada at no charge.  An additional manual"]
[null,null,"can be ordered (for a total of 3 manuals) for an additional charge as stated under 'Additional Operator Manual'."]
[null,null,null," "]
[null,3,"Shipping Weights and Dimensions","Skid w/Carton"]
[]
[null,null,"Weight (w/360AH Battery)","650 lbs / 295 Kg"]
[null,null,"Length","68\" / 1,727mm"]
[null,null,"Width","33\" / 838mm"]
[null,null,"Height","48\" / 1,219mm"]

{"sheet":"Cord_Electric","index":8,"n_rows":174,"n_cols":16,"rows_kept":174,"cut":false,"hidden":false,"merged":[[126,0,126,1],[126,2,126,5],[125,0,125,1],[125,2,125,5],[94,1,94,6],[116,4,116,6],[118,0,118,1],[118,2,118,5],[119,0,119,1],[119,2,119,5],[120,2,120,5],[121,0,121,1],[121,2,121,5],[122,0,122,1],[122,2,122,5],[128,0,128,1],[128,2,128,5],[145,4,145,5],[129,0,129,1],[129,2,129,5],[132,4,132,6],[134,2,134,5],[135,2,135,5],[136,2,136,5],[79,3,79,4],[79,5,79,6],[80,3,80,4],[80,5,80,6],[127,2,127,5],[85,5,85,6],[84,3,84,4],[84,5,84,6],[85,3,85,4],[81,3,81,4],[81,5,81,6],[82,3,82,4],[82,5,82,6],[83,3,83,4],[83,5,83,6],[57,5,57,6],[59,3,59,4],[59,5,59,6],[72,4,72,8],[74,3,74,6],[76,3,76,4],[77,3,77,4],[0,2,0,3],[1,2,1,3],[2,2,2,3],[3,2,3,3],[57,3,57,4]]}
["Cord_Electric",null,{"$f":"Start_Here!$C19","v":"Company Name"}]
[{"$f":"SUM(G52)","v":0},null,{"$f":"Start_Here!$C20","v":"Address"}]
[null,null,{"$f":"Start_Here!$C21","v":"City, State Zip"}]
[null,null,{"$f":"Start_Here!$C22","v":"Contact Name"}]
[null,null,{"$f":"Start_Here!$C$41","v":"Rep Name"}]
[null,null,{"$f":"Start_Here!$C$37","v":"Tennant Sales and Service Company"}]
[null,null,{"$f":"Start_Here!$C$38","v":"10400 Clean Street"}]
[null,null,{"$f":"Start_Here!$C$39","v":"Eden Prairie, MN 55344"}]
[null,null,{"$f":"Start_Here!$C$43","v":"800-553-8033"},null,"Quote Date :",null,{"$f":"Letter!$A$25","v":"2023-08-01"}]
[]
[null,null,{"$f":"Help!C2","v":"CAN Date Rev - 5/6/2025"}]
[]
[null,null,"New Machine Warranty"]
[null,null,"36 MONTHS OR 2500 HOURS ON PARTS",null,null,null,"Fax (quote only)"]
[null,null,"36 MONTHS – LABOR",null,null,null,"Mail (quote,lit, specs)"]
[null,null,"90 DAYS – TRAVEL ON BATTERY UNITS ONLY",null,null,null,"Fax + Mail"]
[null,null,"10 YEARS ON ROTOMOLDED PARTS"]
[null,null,"BATTERIES ARE PRORATED OVER 12 MONTHS"]
[null,null,null,null,null,null,"Inside"]
[null,null,null,null,null,null,"Outside"]
[]
[]
[null,null,"Description","Reference#"," Canada Price Each","Qty","Extended Price"]
[null,null,null,null,null,{"$f":"SUM(F25)","v":0}]
[null,null,"Strive® Compact - Cord Electric 5-gal. ReadySpace® Interim Carpet Cleaner",9004202,8181,null,{"$f":"F25*E25","v":0},{"$f":"IFERROR(IFERROR(VLOOKUP(D25,Surcharge!A:B,2,FALSE)*F25, VLOOKUP(D25 & \"\",Surcharge!A:B,2,FALSE)*F25), \"\")","v":""},null,null,null,null,null,null,null,{"$f":"VLOOKUP(D25,'MPF SAP Canada Pre-Configured'!C:E,3,FALSE)","v":8181}]
[null,null,"15\" cleaning path.  Complete package includes removable, Hygenic® fully cleanable 5 gallon (19 liter) solution/recovery tanks, Insta-Adjust™ handle, two ReadySpace® rollers, 50-ft (15-m) \"safety yellow\" power cord and multi-language operator manual.  CRI certified, Bronze Cleaning Performance.",null,null,{"$f":"SUM(F25)","v":0},null,{"$f":"IFERROR(IFERROR(VLOOKUP(D26,Surcharge!A:B,2,FALSE)*F26, VLOOKUP(D26 & \"\",Surcharge!A:B,2,FALSE)*F26), \"\")","v":""}]
[null,null,"Boxed Dimensions:  34\" L x 22\" W x 37\" H (860 mm x 560 mm x 940 mm). *",null,null,{"$f":"SUM(F26)","v":0},null,{"$f":"IFERROR(IFERROR(VLOOKUP(D27,Surcharge!A:B,2,FALSE)*F27, VLOOKUP(D27 & \"\",Surcharge!A:B,2,FALSE)*F27), \"\")","v":""}]
[null,null,"Shipping Weight:   154 lbs. (70 kg) ",null,null,{"$f":"SUM(F27)","v":0},null,{"$f":"IFERROR(IFERROR(VLOOKUP(D28,Surcharge!A:B,2,FALSE)*F28, VLOOKUP(D28 & \"\",Surcharge!A:B,2,FALSE)*F28), \"\")","v":""}]
[null,null,null,null,null,null,null,{"$f":"IFERROR(IFERROR(VLOOKUP(D29,Surcharge!A:B,2,FALSE)*F29, VLOOKUP(D29 & \"\",Surcharge!A:B,2,FALSE)*F29), \"\")","v":""}]
[null,null,null,null,null,{"$f":"SUM(F31)","v":0},null,{"$f":"IFERROR(IFERROR(VLOOKUP(D30,Surcharge!A:B,2,FALSE)*F30, VLOOKUP(D30 & \"\",Surcharge!A:B,2,FALSE)*F30), \"\")","v":""}]
[null,null,"Speed Ex™ - Cord Electric 5-gal. Extractor",9004201,6484,null,{"$f":"F31*E31","v":0},{"$f":"IFERROR(IFERROR(VLOOKUP(D31,Surcharge!A:B,2,FALSE)*F31, VLOOKUP(D31 & \"\",Surcharge!A:B,2,FALSE)*F31), \"\")","v":""},null,null,null,null,null,null,null,{"$f":"VLOOKUP(D31,'MPF SAP Canada Pre-Configured'!C:E,3,FALSE)","v":6484}]
[null,null,"15\" cleaning path.  Complete package includes removable, Hygenic® fully cleanable 5 gallon (19 liter) solution/recovery tanks, Insta-Adjust™ handle, one double-tuft reverse pattern chevron brush, 50-ft (15-m) \"safety yellow\" power cord and multi-language operator manual.  CRI certified, Silver Cleaning Performance.",null,null,{"$f":"SUM(F31)","v":0},null,{"$f":"IFERROR(IFERROR(VLOOKUP(D32,Surcharge!A:B,2,FALSE)*F32, VLOOKUP(D32 & \"\",Surcharge!A:B,2,FALSE)*F32), \"\")","v":""}]
[null,null,"Boxed Dimensions:  34\" L x 22\" W x 37\" H (860 mm x 560 mm x 940 mm). *",null,null,{"$f":"SUM(F32)","v":0},null,{"$f":"IFERROR(IFERROR(VLOOKUP(D33,Surcharge!A:B,2,FALSE)*F33, VLOOKUP(D33 & \"\",Surcharge!A:B,2,FALSE)*F33), \"\")","v":""}]
[null,null,"Shipping Weight:   138 lbs. (63 kg) ",null,null,{"$f":"SUM(F33)","v":0},null,{"$f":"IFERROR(IFERROR(VLOOKUP(D34,Surcharge!A:B,2,FALSE)*F34, VLOOKUP(D34 & \"\",Surcharge!A:B,2,FALSE)*F34), \"\")","v":""}]
[]
[]
[null,null,null,null,{"$f":"ROUND(SUM(G25:G36), 0)","v":0},{"$f":"SUM(E38)","v":0}]
[null,null,null,"Machine Subtotal ",{"$f":"ROUND(SUM(G25:G36), 0)","v":0},{"$f":"F37","v":0}]
[null,"Discounts",null,null,null,{"$f":"SUM(F40)","v":0}]
[null,null,null,null,null,{"$f":"SUM(F42:F45)","v":0}]
[null,null,null,"Applicable Currency Adj %",null,{"$f":"IF(E41 <> \"\", 1, 0)","v":0},{"$f":"IF(F41*(E41*0.01)*E37 < 0, F41*(E41*0.01)*E37, -(F41*(E41*0.01)*E37))","v":0}]
[null,null,null,"Discount %",null,{"$f":"IF(E42 <> \"\", 1, 0)","v":0},{"$f":"IF(F42*(E42*0.01)*(E37+G41) < 0, F42*(E42*0.01)*(E37+G41), -(F42*(E42*0.01)*(E37+G41)))","v":0}]
[null,null,null,"Discount $",null,0,{"$f":"IF(F43*E43 < 0, F43*E43, -(F43*E43))","v":0}]
[null,null,null,"Discount $",null,0,{"$f":"IF(F44*E44 < 0, F44*E44, -(F44*E44))","v":0}]
[null,null,null,"Discount $",null,0,{"$f":"IF(F45*E45 < 0, F45*E45, -(F45*E45))","v":0}]
[null,null,null,"Discount Total ",{"$f":"SUM(G41:G45)","v":0},{"$f":"SUM(E46)","v":0}]
[null,null,null,null,null,{"$f":"#REF!","v":{"$error":"#REF!"}}]
[null,null,null,null,null,{"$f":"F47","v":{"$error":"#REF!"}}]
[null,null,"Prepaid and Add","Freight",null,{"$f":"IF(E49 <> \"\", 1, 0)","v":0},{"$f":"F49*E49","v":0}]
[null,null,"Subject to all applicable taxes","Tax",null,0,0]
[null,null,null,null,null,{"$f":"SUM(F52)","v":0}]
[null,null,null,"MACHINE TOTAL*",null,{"$f":"SUM(G52)","v":0},{"$f":"SUM(G25:G50)","v":0},null,null,null,null,null,null,"This goes to \"My Documents\""]
[null,null,null,null,null,null,{"$f":"SUM(G52)","v":0}]
[]
[]
[]
[]
[null,null,"Wells Fargo - Leasing Calculation Option:","Option 1",null,"Option 2",null,null,null,{"$f":"Financing!A38","v":"Rates 2025 - Rev.2/4/2025"}]
[null,null,null,"Monthly Payment","Cost Per Day","Monthly Payment","Cost Per Day",null,null,{"$f":"Financing!A39","v":"“Blank Payment Amounts Indicate The Financing Option Or Purchase Options Selected Are Not "}]
[null,null,"Purchase Option:","$1 Buyout Lease",null,"None",null,null,null,{"$f":"Financing!A40","v":"Applicable Or The Machine Total Is Below The Minimum Amount For The Selected Vendor”"}]
[null,null,"24 Months",0,0,0,0,null,null,{"$f":"Financing!A41","v":"\"Quoted monthly payments are estimates only and are based on a certain level of credit rating."}]
[null,null,"36 Months",0,0,0,0,null,null,{"$f":"Financing!A42","v":"Actual monthly payments may be higher depending on your credit rating.\""}]
[null,null,"48 Months",0,0,0,0,null,null,{"$f":"Financing!A43","v":"“Financing rates do not include Pre-Paid Service”"}]
[null,null,"60 Months",0,0,0,0,null,{"$f":"Financing!A44","v":0}]
[]
[null,null,null,"Benefits of Equipment Financing:"]
[null,null,null,"• Spreads out investment over time.",null,"• Keep current with latest technology."]
[null,null,null,"• Preserve capital.",null,"• Service and parts bundling available."]
[null,null,null,"• Low monthly payment.",null,"• Pay for labor savings as you go."]
[]
[null,"  TennantTrue",null,0,0]
[]
[null,null,"Is customer interested in service program?","Yes","*State/County selection required for TennantTrue service options"]
[]
[null,null,"If not, why?"]
[]
[null,null,"Term:",36,null,null,"AB Brushes","No"]
[null,null,"Monthly machine usage (hrs):","< 30/mo. (Avg. 1hr./day)"]
[]
[null,null,"TennantTrue: ","Gold Contract",null,"Silver Contract"]
[null,null,"Per Visit"]
[null,null,"Monthly"]
[null,null,"Annually"]
[null,null,"Pre-Pay Full Term"]
[null,null,"Hourly Labor Rate"]
[null,null,"Site Visit"]
[]
[null,null,"* Verify customer current pricing prior to quote. "]
[null,null,"**All rates and fees above reflect service for one (1) unit with the exception of Block of Time service."]
[null,null,"*Block of Time is available in 1 Year Term only and is priced as such no matter the term selection on this template."]
[]
[]
[]
[null,"Quote Special Instructions:"]
[]
[]
[]
[null,{"$f":"Start_Here!E36","v":"Terms and Conditions"}]
[null,{"$f":"Start_Here!E37","v":"Ask your local sales rep for estimated lead times. Verify when placing order"}]
[null,{"$f":"Start_Here!E38","v":"All orders subject to acceptance by Tennant Sales and Service Company, Minneapolis, Minnesota"}]
[null,{"$f":"Start_Here!E39","v":"Prices subject to change without notice. Subject to any applicable taxes."}]
[null,{"$f":"Start_Here!E40","v":"Terms:  Net 30 days.  Payable in Canadian Funds"}]
[null,{"$f":"Start_Here!E41","v":"Freight:  Accessories, parts, supplies, detergents, and floor coatings orders delivered DDP "}]
[null,{"$f":"Start_Here!E42","v":"shipping point Frt PPD.  Machine orders delivered DDP shipping point Frt PPD and add."}]
[null,{"$f":"Start_Here!E43","v":"Returned Merchandise is subject to a restocking fee."}]
[null,{"$f":"Start_Here!E44","v":"All orders are subject to Tennant’s General Terms and Conditions available at http://www.tennantco.com/terms."}]
[null,{"$f":"Start_Here!E45","v":"Printed General Terms and Conditions are also available upon request."}]
[null,{"$f":"Start_Here!E46","v":0}]
[null,{"$f":"Start_Here!E47","v":0}]
[null,{"$f":"Start_Here!E48","v":0}]
[null,null,null,null,"Quote Date :",null,{"$f":"Letter!$A$25","v":"2023-08-01"}]
[null,"Order Placement Information:  To place your order, fill in PO# and customer signatures,"]
[null,"call or fax to the numbers listed below. Customer Purchase Order is required."]
[null,"If information is missing, orders will be entered and held until all information is received."]
[]
[null,null,"Customer Number",null,"Cust Grp 3"]
[null,null,{"$f":"Start_Here!$C$25","v":0},null,{"$f":"Start_Here!$C$29","v":0}]
[null,null,{"$f":"Start_Here!$B$18","v":"Who Owns the Machine? (Sold-To Info) (Please Verify)"}]
["Company",null,{"$f":"Start_Here!$C$19","v":"Company Name"}]
["Address",null,{"$f":"Start_Here!$C$20","v":"Address"}]
[null,null,{"$f":"Start_Here!$C$21","v":"City, State Zip"}]
["Name",null,{"$f":"Start_Here!$C$22","v":"Contact Name"}]
["Phone",null,{"$f":"Start_Here!$C$23","v":"Contact Phone"}]
[]
[null,null,{"$f":"Start_Here!$B$11","v":"Where is the Machine Being Shipped? (Ship-To Info) (Please Verify)"}]
["Company",null,{"$f":"Start_Here!$C$12","v":"Company Name"}]
["Address",null,{"$f":"Start_Here!$C$13","v":"Address"}]
[null,null,{"$f":"Start_Here!$C$14","v":"City, State Zip"}]
["Name",null,{"$f":"Start_Here!$C$15","v":"Contact Name"}]
["Phone",null,{"$f":"Start_Here!$C$16","v":"Contact Phone"}]
[]
[null,null,{"$f":"Start_Here!$B$31","v":"Shipping / Carrier Instructions:"},null,"Order Special Instructions:"]
[null,null,{"$f":"Start_Here!$C$32","v":0}]
[]
[null,null,"Customer Purchase Order No."]
[null,null,"(please attach copy)"]
[]
[]
[null,null,"Tax Exempt",null,"Yes"]
[null,null,null,null,"No"]
[null,null,"If Yes, attach a copy of your exemption certificate."]
[]
[null,null,"Requested Delivery Date"]
[null,null,{"$f":"Start_Here!$C$28","v":0}]
[]
[null,null,{"$f":"Start_Here!$C$26","v":0},null,{"$f":"Start_Here!$C$27","v":0}]
[null,null,"Authorized Buyer (please print)",null,"Phone Number"]
[]
[]
[null,null,"Authorized Buyer Signature"]
[]
[null,null,{"$f":"Start_Here!$C$41","v":"Rep Name"}]
[null,null,"Tennant Representative"]
[]
[null,null,null,"Specialized Maintenance Equipment"]
[null,null,{"$f":"Start_Here!$C$51","v":0}]
[null,null,null,{"$f":"Start_Here!$C$52","v":0}]
[]
[]
[null,"Notes"]
[]
[null,1,"Only available as factory-installed when batteries are ordered with machine."]
[]
[null,2,"A French and English manual will be supplied for all units shipping into Quebec, Canada at no charge.  An additional manual"]
[null,null,"can be ordered (for a total of 3 manuals) for an additional charge as stated under 'Additional Operator Manual'."]
[null,null,null," "]
[null,3,"Skid w/Carton, Non-Stackable is the default packaging method and will be added to the configuration unless otherwise specified."]
[]
[null,4,"Shipping Weights and Dimensions","Skid w/Carton"]
[]
[null,null,"Weight (w/360AH Battery)","650 lbs / 295 Kg"]
[null,null,"Length","68\" / 1,727mm"]
[null,null,"Width","33\" / 838mm"]
[null,null,"Height","48\" / 1,219mm"]

{"sheet":"Carpet_Extractors","index":9,"n_rows":203,"n_cols":16,"rows_kept":203,"cut":false,"hidden":false,"merged":[[147,0,147,1],[154,0,154,1],[154,2,154,5],[148,0,148,1],[148,2,148,5],[151,2,151,5],[151,0,151,1],[150,0,150,1],[150,2,150,5],[174,4,174,5],[155,0,155,1],[155,2,155,5],[156,2,156,5],[157,0,157,1],[157,2,157,5],[158,0,158,1],[158,2,158,5],[165,2,165,5],[163,2,163,5],[164,2,164,5],[161,4,161,6],[0,2,0,3],[1,2,1,3],[2,2,2,3],[3,2,3,3],[86,3,86,4],[88,5,88,6],[103,3,103,6],[105,3,105,4],[113,5,113,6],[147,2,147,5],[108,3,108,4],[108,5,108,6],[109,3,109,4],[109,5,109,6],[86,5,86,6],[88,3,88,4],[106,3,106,4],[101,4,101,8],[149,2,149,5],[110,3,110,4],[110,5,110,6],[114,3,114,4],[114,5,114,6],[111,3,111,4],[111,5,111,6],[112,3,112,4],[112,5,112,6],[113,3,113,4],[123,1,123,6],[145,4,145,6]]}
["Carpet_Extractors",null,{"$f":"Start_Here!$C19","v":"Company Name"}]
[{"$f":"SUM(G81)","v":0},null,{"$f":"Start_Here!$C20","v":"Address"}]
[null,null,{"$f":"Start_Here!$C21","v":"City, State Zip"}]
[null,null,{"$f":"Start_Here!$C22","v":"Contact Name"}]
[null,null,{"$f":"Start_Here!$C$41","v":"Rep Name"}]
[null,null,{"$f":"Start_Here!$C$37","v":"Tennant Sales and Service Company"}]
[null,null,{"$f":"Start_Here!$C$38","v":"10400 Clean Street"}]
[null,null,{"$f":"Start_Here!$C$39","v":"Eden Prairie, MN 55344"}]
[null,null,{"$f":"Start_Here!$C$43","v":"800-553-8033"},null,"Quote Date :",null,{"$f":"Letter!$A$25","v":"2023-08-01"}]
[]
[null,null,{"$f":"Help!C2","v":"CAN Date Rev - 5/6/2025"}]
[]
[]
[null,null,null,null,null,null,"Fax (quote only)"]
[null,null,null,null,null,null,"Mail (quote,lit, specs)"]
[null,null,"New Machine Warranty",null,null,null,"Fax + Mail"]
[null,null,"36 MONTHS OR 2500 HOURS ON PARTS"]
[null,null,"36 MONTHS – LABOR"]
[null,null,"90 DAYS – TRAVEL ON BATTERY UNITS ONLY",null,null,null,"Inside"]
[null,null,"10 YEARS ON ROTOMOLDED PARTS",null,null,null,"Outside"]
[null,null,"BATTERIES ARE PRORATED OVER 12 MONTHS"]
[null,null,"  EC2 & EH5"]
[null,null,"      2 Years Parts"]
[null,null,"1 Year Labor, 90 days Travel"]
[]
[null,null,"Description","Reference#","CAD Price Each","Qty","Extended Price"]
[null,null,null,null,null,{"$f":"SUM(F28)","v":0}]
[null,null,"Falcon™ Ultra Battery ",608351,21383,null,{"$f":"F28*E28","v":0},{"$f":"IFERROR(IFERROR(VLOOKUP(D28,Surcharge!A:B,2,FALSE)*F28, VLOOKUP(D28 & \"\",Surcharge!A:B,2,FALSE)*F28), \"\")","v":0},null,null,null,null,null,null,null,{"$f":"VLOOKUP(D28,'MPF SAP Canada Pre-Configured'!C:E,3,FALSE)","v":19984}]
[null,null,"17 gal., 22\" (559mm) cleaning path, 100 psi, 81\" (2057mm) waterlift, two 12 volt, 215 amp hours batteries and 24 volt automatic charger.  ",null,null,{"$f":"SUM(F28)","v":0},null,{"$f":"IFERROR(IFERROR(VLOOKUP(D29,Surcharge!A:B,2,FALSE)*F29, VLOOKUP(D29 & \"\",Surcharge!A:B,2,FALSE)*F29), \"\")","v":""}]
[null,null,"Boxed dimensions: 54L x 30W x 42H (1372mm x 762mm x 1067mm)",null,null,{"$f":"SUM(F29)","v":0},null,{"$f":"IFERROR(IFERROR(VLOOKUP(D30,Surcharge!A:B,2,FALSE)*F30, VLOOKUP(D30 & \"\",Surcharge!A:B,2,FALSE)*F30), \"\")","v":""}]
[null,null,"Shipping Weight:  235 lbs. / Cu. Ft.: 39.97",null,null,{"$f":"SUM(F30)","v":0},null,{"$f":"IFERROR(IFERROR(VLOOKUP(D31,Surcharge!A:B,2,FALSE)*F31, VLOOKUP(D31 & \"\",Surcharge!A:B,2,FALSE)*F31), \"\")","v":""}]
[null,null,null,null,null,{"$f":"SUM(F33)","v":0},null,{"$f":"IFERROR(IFERROR(VLOOKUP(D32,Surcharge!A:B,2,FALSE)*F32, VLOOKUP(D32 & \"\",Surcharge!A:B,2,FALSE)*F32), \"\")","v":""}]
[null,null,"Falcon™ Ultra Battery - Same as above without batteries.  Order batteries separately.",609255,19328,null,{"$f":"F33*E33","v":0},{"$f":"IFERROR(IFERROR(VLOOKUP(D33,Surcharge!A:B,2,FALSE)*F33, VLOOKUP(D33 & \"\",Surcharge!A:B,2,FALSE)*F33), \"\")","v":""},null,null,null,null,null,null,null,{"$f":"VLOOKUP(D33,'MPF SAP Canada Pre-Configured'!C:E,3,FALSE)","v":18667}]
[null,null,null,null,null,null,null,{"$f":"IFERROR(IFERROR(VLOOKUP(D34,Surcharge!A:B,2,FALSE)*F34, VLOOKUP(D34 & \"\",Surcharge!A:B,2,FALSE)*F34), \"\")","v":""}]
[null,null,null,null,null,{"$f":"SUM(F36)","v":0},null,{"$f":"IFERROR(IFERROR(VLOOKUP(D35,Surcharge!A:B,2,FALSE)*F35, VLOOKUP(D35 & \"\",Surcharge!A:B,2,FALSE)*F35), \"\")","v":""}]
[null,null,"Falcon™ 2800 Plus ** ",609260,19662,null,{"$f":"F36*E36","v":0},{"$f":"IFERROR(IFERROR(VLOOKUP(D36,Surcharge!A:B,2,FALSE)*F36, VLOOKUP(D36 & \"\",Surcharge!A:B,2,FALSE)*F36), \"\")","v":""},null,null,null,null,null,null,null,{"$f":"VLOOKUP(D36,'MPF SAP Canada Pre-Configured'!C:E,3,FALSE)","v":18375}]
[null,null,"28-gal., 22\" (559mm) cleaning path, 100 psi, 137\" (3480mm) waterlift, detachable 75-ft. (23m) power cord.  Interim/Restorative cleaning modes. ",null,null,{"$f":"SUM(F36)","v":0},null,{"$f":"IFERROR(IFERROR(VLOOKUP(D37,Surcharge!A:B,2,FALSE)*F37, VLOOKUP(D37 & \"\",Surcharge!A:B,2,FALSE)*F37), \"\")","v":""}]
[null,null,"Boxed dimensions: 54L x 24W x 46H. (1372mm x 610mm x 1168mm)",null,null,{"$f":"SUM(F37)","v":0},null,{"$f":"IFERROR(IFERROR(VLOOKUP(D38,Surcharge!A:B,2,FALSE)*F38, VLOOKUP(D38 & \"\",Surcharge!A:B,2,FALSE)*F38), \"\")","v":""}]
[null,null,"Shipping Weight:  295 lbs. / Cu. Ft.: 34.5",null,null,{"$f":"SUM(F38)","v":0},null,{"$f":"IFERROR(IFERROR(VLOOKUP(D39,Surcharge!A:B,2,FALSE)*F39, VLOOKUP(D39 & \"\",Surcharge!A:B,2,FALSE)*F39), \"\")","v":""}]
[null,null,null,null,null,null,null,{"$f":"IFERROR(IFERROR(VLOOKUP(D40,Surcharge!A:B,2,FALSE)*F40, VLOOKUP(D40 & \"\",Surcharge!A:B,2,FALSE)*F40), \"\")","v":""}]
[null,null,null,null,null,{"$f":"SUM(F42)","v":0},null,{"$f":"IFERROR(IFERROR(VLOOKUP(D41,Surcharge!A:B,2,FALSE)*F41, VLOOKUP(D41 & \"\",Surcharge!A:B,2,FALSE)*F41), \"\")","v":""}]
[null,null,"EX-SC-1020 - Self-Contained Extractor ",9007486,7126,null,{"$f":"F42*E42","v":0},{"$f":"IFERROR(IFERROR(VLOOKUP(D42,Surcharge!A:B,2,FALSE)*F42, VLOOKUP(D42 & \"\",Surcharge!A:B,2,FALSE)*F42), \"\")","v":""},null,null,null,null,null,null,null,{"$f":"VLOOKUP(D42,'MPF SAP Canada Pre-Configured'!C:E,3,FALSE)","v":6659}]
[null,null,"Patented 10-gal. Expansion cavity, 20\" (508mm) cleaning path, 100 psi, 137\" (3480mm) waterlift. U.S. Patent #4,956,891. ETL US/C*  CRI certified, Bronze Cleaning Performance.",null,null,{"$f":"SUM(F42)","v":0},null,{"$f":"IFERROR(IFERROR(VLOOKUP(D43,Surcharge!A:B,2,FALSE)*F43, VLOOKUP(D43 & \"\",Surcharge!A:B,2,FALSE)*F43), \"\")","v":""}]
[null,null,"Boxed dimensions: 41L x 22W x 45H (1041mm x 559mm x 1143mm) ",null,null,{"$f":"SUM(F43)","v":0},null,{"$f":"IFERROR(IFERROR(VLOOKUP(D44,Surcharge!A:B,2,FALSE)*F44, VLOOKUP(D44 & \"\",Surcharge!A:B,2,FALSE)*F44), \"\")","v":""}]
[null,null,"Shipping Weight:  142 lbs. / Cu. Ft.: 23.5",null,null,{"$f":"SUM(F44)","v":0},null,{"$f":"IFERROR(IFERROR(VLOOKUP(D45,Surcharge!A:B,2,FALSE)*F45, VLOOKUP(D45 & \"\",Surcharge!A:B,2,FALSE)*F45), \"\")","v":""}]
[null,null,null,null,null,null,null,{"$f":"IFERROR(IFERROR(VLOOKUP(D46,Surcharge!A:B,2,FALSE)*F46, VLOOKUP(D46 & \"\",Surcharge!A:B,2,FALSE)*F46), \"\")","v":""}]
[null,null,null,null,null,{"$f":"SUM(F48)","v":0},null,{"$f":"IFERROR(IFERROR(VLOOKUP(D47,Surcharge!A:B,2,FALSE)*F47, VLOOKUP(D47 & \"\",Surcharge!A:B,2,FALSE)*F47), \"\")","v":""}]
[null,null,"EH5 Heated Canister Extractor",9011454,13208,null,{"$f":"F48*E48","v":0},{"$f":"IFERROR(IFERROR(VLOOKUP(D48,Surcharge!A:B,2,FALSE)*F48, VLOOKUP(D48 & \"\",Surcharge!A:B,2,FALSE)*F48), \"\")","v":""},null,null,null,null,null,null,null,{"$f":"VLOOKUP(D48,'MPF SAP Canada Pre-Configured'!C:E,3,FALSE)","v":11983}]
[null,null,"15 gal. capacity, 50-500 psi, Heated, 13\" (330mm) High Airflow Titanium Carpet wand with 2 Unijets,  15-ft. (4.5m) vacuum and solution hoses.2-40 ft(12.2m) Hospital Grade safety yellow electrical cords. Hand tool sold separately. CRI certified  - Gold Cleaning Performance with High Airflow Titanium wand.",null,null,{"$f":"SUM(F48)","v":0},null,{"$f":"IFERROR(IFERROR(VLOOKUP(D49,Surcharge!A:B,2,FALSE)*F49, VLOOKUP(D49 & \"\",Surcharge!A:B,2,FALSE)*F49), \"\")","v":""}]
[null,null,"ETL-certified to UL & CSA Standards. ",null,null,{"$f":"SUM(F49)","v":0},null,{"$f":"IFERROR(IFERROR(VLOOKUP(D50,Surcharge!A:B,2,FALSE)*F50, VLOOKUP(D50 & \"\",Surcharge!A:B,2,FALSE)*F50), \"\")","v":""}]
[null,null,"Boxed Dimensions:  28.5in x 38in x 55in   724mm x 965mm x 1397mm",null,null,{"$f":"SUM(F50)","v":0},null,{"$f":"IFERROR(IFERROR(VLOOKUP(D51,Surcharge!A:B,2,FALSE)*F51, VLOOKUP(D51 & \"\",Surcharge!A:B,2,FALSE)*F51), \"\")","v":""}]
[null,null,"Shipping Weight:  185lb/84kg",null,null,{"$f":"SUM(F51)","v":0},null,{"$f":"IFERROR(IFERROR(VLOOKUP(D52,Surcharge!A:B,2,FALSE)*F52, VLOOKUP(D52 & \"\",Surcharge!A:B,2,FALSE)*F52), \"\")","v":""}]
[null,null,null,null,null,null,null,{"$f":"IFERROR(IFERROR(VLOOKUP(D53,Surcharge!A:B,2,FALSE)*F53, VLOOKUP(D53 & \"\",Surcharge!A:B,2,FALSE)*F53), \"\")","v":""}]
[null,null,null,null,null,null,null,{"$f":"IFERROR(IFERROR(VLOOKUP(D54,Surcharge!A:B,2,FALSE)*F54, VLOOKUP(D54 & \"\",Surcharge!A:B,2,FALSE)*F54), \"\")","v":""}]
[null,null," EC2 Canister Extractor",null,null,{"$f":"SUM(F60:F62)","v":0},null,{"$f":"IFERROR(IFERROR(VLOOKUP(D55,Surcharge!A:B,2,FALSE)*F55, VLOOKUP(D55 & \"\",Surcharge!A:B,2,FALSE)*F55), \"\")","v":""}]
[null,null,"15 gal. capacity, 200 psi, 13\" (330mm) Stainless Steel or Titanium Carpet wand with 2 Unijets, 15-ft. (4.5m) vacuum and solution hoses, 40 ft(12.2m) Hospital Grade safety yellow electrical cords. Hand tool sold separately. CRI certified, Gold Cleaning Performance when used with titanium wand.\nHand tool sold separately. CRI certified, Gold Cleaning Performance",null,null,{"$f":"SUM(F55)","v":0},null,{"$f":"IFERROR(IFERROR(VLOOKUP(D56,Surcharge!A:B,2,FALSE)*F56, VLOOKUP(D56 & \"\",Surcharge!A:B,2,FALSE)*F56), \"\")","v":""}]
[null,null,"ETL-certified to UL & CSA Standards. ",null,null,{"$f":"SUM(F56)","v":0},null,{"$f":"IFERROR(IFERROR(VLOOKUP(D57,Surcharge!A:B,2,FALSE)*F57, VLOOKUP(D57 & \"\",Surcharge!A:B,2,FALSE)*F57), \"\")","v":""}]
[null,null,"Boxed Dimensions:   28.5in x 38in x 55in   724mm x 965mm x 1397mm",null,null,{"$f":"SUM(F57)","v":0},null,{"$f":"IFERROR(IFERROR(VLOOKUP(D58,Surcharge!A:B,2,FALSE)*F58, VLOOKUP(D58 & \"\",Surcharge!A:B,2,FALSE)*F58), \"\")","v":""}]
[null,null,"Shipping Weight:  152lb/69kg",null,null,{"$f":"SUM(F58)","v":0},null,{"$f":"IFERROR(IFERROR(VLOOKUP(D59,Surcharge!A:B,2,FALSE)*F59, VLOOKUP(D59 & \"\",Surcharge!A:B,2,FALSE)*F59), \"\")","v":""}]
[null,null,null,null,null,{"$f":"SUM(F61:F62)","v":0},null,{"$f":"IFERROR(IFERROR(VLOOKUP(D60,Surcharge!A:B,2,FALSE)*F60, VLOOKUP(D60 & \"\",Surcharge!A:B,2,FALSE)*F60), \"\")","v":""}]
[null,null,"EC2, 200 psi (15.2 bar) Canister Extractor w/ Stainless Steel carpet wand and vacuum and solution hoses",9011638,7954,null,{"$f":"F61*E61","v":0},{"$f":"IFERROR(IFERROR(VLOOKUP(D61,Surcharge!A:B,2,FALSE)*F61, VLOOKUP(D61 & \"\",Surcharge!A:B,2,FALSE)*F61), \"\")","v":""},null,null,null,null,null,null,null,{"$f":"VLOOKUP(D61,'MPF SAP Canada Pre-Configured'!C:E,3,FALSE)","v":7216}]
[null,null,"EC2, 200 psi (15.2 bar) Canister Extractor w/ High Airflow Titanium carpet wand and vacuum and solution hoses",9012278,8562,null,{"$f":"F62*E62","v":0},{"$f":"IFERROR(IFERROR(VLOOKUP(D62,Surcharge!A:B,2,FALSE)*F62, VLOOKUP(D62 & \"\",Surcharge!A:B,2,FALSE)*F62), \"\")","v":""},null,null,null,null,null,null,null,{"$f":"VLOOKUP(D62,'MPF SAP Canada Pre-Configured'!C:E,3,FALSE)","v":7767}]
[null,null,null,null,null,null,null,{"$f":"IFERROR(IFERROR(VLOOKUP(D63,Surcharge!A:B,2,FALSE)*F63, VLOOKUP(D63 & \"\",Surcharge!A:B,2,FALSE)*F63), \"\")","v":""}]
[]
[]
[null,null,null,null,{"$f":"ROUND(SUM(G28:G65), 0)","v":0},{"$f":"SUM(E67)","v":0}]
[null,null,null,"Machine Subtotal ",{"$f":"ROUND(SUM(G28:G65), 0)","v":0},{"$f":"F66","v":0}]
[null,"Discounts",null,null,null,{"$f":"SUM(F69)","v":0}]
[null,null,null,null,null,{"$f":"SUM(F71:F74)","v":0}]
[null,null,null,"Applicable Currency Adj %",null,{"$f":"IF(E70 <> \"\", 1, 0)","v":0},{"$f":"IF(F70*(E70*0.01)*E66 < 0, F70*(E70*0.01)*E66, -(F70*(E70*0.01)*E66))","v":0}]
[null,null,null,"Discount %",null,{"$f":"IF(E71 <> \"\", 1, 0)","v":0},{"$f":"IF(F71*(E71*0.01)*(E66+G70) < 0, F71*(E71*0.01)*(E66+G70), -(F71*(E71*0.01)*(E66+G70)))","v":0}]
[null,null,null,"Discount $",null,0,{"$f":"IF(F72*E72 < 0, F72*E72, -(F72*E72))","v":0}]
[null,null,null,"Discount $",null,0,{"$f":"IF(F73*E73 < 0, F73*E73, -(F73*E73))","v":0}]
[null,null,null,"Discount $",null,0,{"$f":"IF(F74*E74 < 0, F74*E74, -(F74*E74))","v":0}]
[null,null,null,"Discount Total ",{"$f":"SUM(G70:G74)","v":0},{"$f":"SUM(E75)","v":0}]
[null,null,null,null,null,{"$f":"#REF!","v":{"$error":"#REF!"}}]
[null,null,null,null,null,{"$f":"F76","v":{"$error":"#REF!"}}]
[null,null,"Prepaid and Add","Freight",null,{"$f":"IF(E78 <> \"\", 1, 0)","v":0},{"$f":"F78*E78","v":0}]
[null,null,"Subject to all applicable taxes","Tax",null,0,0]
[null,null,null,null,null,{"$f":"SUM(F81)","v":0}]
[null,null,null,"MACHINE TOTAL*",null,{"$f":"SUM(G81)","v":0},{"$f":"SUM(G28:G79)","v":0},null,null,null,null,null,null,"This goes to \"My Documents\""]
[null,null,null,null,null,null,{"$f":"SUM(G81)","v":0}]
[]
[]
[]
[]
[null,null,"Wells Fargo - Leasing Calculation Option:","Option 1",null,"Option 2",null,null,null,{"$f":"Financing!A38","v":"Rates 2025 - Rev.2/4/2025"}]
[null,null,null,"Monthly Payment","Cost Per Day","Monthly Payment","Cost Per Day",null,null,{"$f":"Financing!A39","v":"“Blank Payment Amounts Indicate The Financing Option Or Purchase Options Selected Are Not "}]
[null,null,"Purchase Option:","$1 Buyout Lease",null,"None",null,null,null,{"$f":"Financing!A40","v":"Applicable Or The Machine Total Is Below The Minimum Amount For The Selected Vendor”"}]
[null,null,"24 Months",0,0,0,0,null,null,{"$f":"Financing!A41","v":"\"Quoted monthly payments are estimates only and are based on a certain level of credit rating."}]
[null,null,"36 Months",0,0,0,0,null,null,{"$f":"Financing!A42","v":"Actual monthly payments may be higher depending on your credit rating.\""}]
[null,null,"48 Months",0,0,0,0,null,null,{"$f":"Financing!A43","v":"“Financing rates do not include Pre-Paid Service”"}]
[null,null,"60 Months",0,0,0,0,null,{"$f":"Financing!A44","v":0}]
[]
[null,null,null,"Benefits of Equipment Financing:"]
[null,null,null,"• Spreads out investment over time.",null,"• Keep current with latest technology."]
[null,null,null,"• Preserve capital.",null,"• Service and parts bundling available."]
[null,null,null,"• Low monthly payment.",null,"• Pay for labor savings as you go."]
[]
[null,"  TennantTrue",null,0,0]
[]
[null,null,"Is customer interested in service program?","Yes","*State/County selection required for TennantTrue service options"]
[]
[null,null,"If not, why?"]
[]
[null,null,"Term:",36,null,null,"AB Brushes","No"]
[null,null,"Monthly machine usage (hrs):","< 30/mo. (Avg. 1hr./day)"]
[]
[null,null,"TennantTrue: ","Gold Contract",null,"Silver Contract"]
[null,null,"Per Visit",null,null,336]
[null,null,"Monthly",112,null,56]
[null,null,"Annually",null,null,659]
[null,null,"Pre-Pay Full Term",3882,null,1936]
[null,null,"Hourly Labor Rate"]
[null,null,"Site Visit"]
[]
[null,null,"* Verify customer current pricing prior to quote. "]
[null,null,"**All rates and fees above reflect service for one (1) unit with the exception of Block of Time service."]
[null,null,"*Block of Time is available in 1 Year Term only and is priced as such no matter the term selection on this template."]
[]
[]
[]
[null,"Quote Special Instructions:"]
[]
[]
[]
[null,{"$f":"Start_Here!E36","v":"Terms and Conditions"}]
[null,{"$f":"Start_Here!E37","v":"Ask your local sales rep for estimated lead times. Verify when placing order"}]
[null,{"$f":"Start_Here!E38","v":"All orders subject to acceptance by Tennant Sales and Service Company, Minneapolis, Minnesota"}]
[null,{"$f":"Start_Here!E39","v":"Prices subject to change without notice. Subject to any applicable taxes."}]
[null,{"$f":"Start_Here!E40","v":"Terms:  Net 30 days.  Payable in Canadian Funds"}]
[null,{"$f":"Start_Here!E41","v":"Freight:  Accessories, parts, supplies, detergents, and floor coatings orders delivered DDP "}]
[null,{"$f":"Start_Here!E42","v":"shipping point Frt PPD.  Machine orders delivered DDP shipping point Frt PPD and add."}]
[null,{"$f":"Start_Here!E43","v":"Returned Merchandise is subject to a restocking fee."}]
[null,{"$f":"Start_Here!E44","v":"All orders are subject to Tennant’s General Terms and Conditions available at http://www.tennantco.com/terms."}]
[null,{"$f":"Start_Here!E45","v":"Printed General Terms and Conditions are also available upon request."}]
[null,{"$f":"Start_Here!E46","v":0}]
[null,{"$f":"Start_Here!E47","v":0}]
[null,{"$f":"Start_Here!E48","v":0}]
[null,null,null,null,"Quote Date :",null,{"$f":"Letter!$A$25","v":"2023-08-01"}]
[null,"Order Placement Information:  To place your order, fill in PO# and customer signatures,"]
[null,"call or fax to the numbers listed below. Customer Purchase Order is required."]
[null,"If information is missing, orders will be entered and held until all information is received."]
[]
[null,null,"Customer Number",null,"Cust Grp 3"]
[null,null,{"$f":"Start_Here!$C$25","v":0},null,{"$f":"Start_Here!$C$29","v":0}]
[null,null,{"$f":"Start_Here!$B$18","v":"Who Owns the Machine? (Sold-To Info) (Please Verify)"}]
["Company",null,{"$f":"Start_Here!$C$19","v":"Company Name"}]
["Address",null,{"$f":"Start_Here!$C$20","v":"Address"}]
[null,null,{"$f":"Start_Here!$C$21","v":"City, State Zip"}]
["Name",null,{"$f":"Start_Here!$C$22","v":"Contact Name"}]
["Phone",null,{"$f":"Start_Here!$C$23","v":"Contact Phone"}]
[]
[null,null,{"$f":"Start_Here!$B$11","v":"Where is the Machine Being Shipped? (Ship-To Info) (Please Verify)"}]
["Company",null,{"$f":"Start_Here!$C$12","v":"Company Name"}]
["Address",null,{"$f":"Start_Here!$C$13","v":"Address"}]
[null,null,{"$f":"Start_Here!$C$14","v":"City, State Zip"}]
["Name",null,{"$f":"Start_Here!$C$15","v":"Contact Name"}]
["Phone",null,{"$f":"Start_Here!$C$16","v":"Contact Phone"}]
[]
[null,null,{"$f":"Start_Here!$B$31","v":"Shipping / Carrier Instructions:"},null,"Order Special Instructions:"]
[null,null,{"$f":"Start_Here!$C$32","v":0}]
[]
[null,null,"Customer Purchase Order No."]
[null,null,"(please attach copy)"]
[]
[]
[null,null,"Tax Exempt",null,"Yes"]
[null,null,null,null,"No"]
[null,null,"If Yes, attach a copy of your exemption certificate."]
[]
[null,null,"Requested Delivery Date"]
[null,null,{"$f":"Start_Here!$C$28","v":0}]
[]
[null,null,{"$f":"Start_Here!$C$26","v":0},null,{"$f":"Start_Here!$C$27","v":0}]
[null,null,"Authorized Buyer (please print)",null,"Phone Number"]
[]
[]
[null,null,"Authorized Buyer Signature"]
[]
[null,null,{"$f":"Start_Here!$C$41","v":"Rep Name"}]
[null,null,"Tennant Representative"]
[]
[null,null,null,"Specialized Maintenance Equipment"]
[null,null,{"$f":"Start_Here!$C$51","v":0}]
[null,null,null,{"$f":"Start_Here!$C$52","v":0}]
[]
[]
[null,"Notes"]
[]
[null,1,"Only available as factory-installed when batteries are ordered with machine."]
[]
[null,2,"A French and English manual will be supplied for all units shipping into Quebec, Canada at no charge.  An additional manual"]
[null,null,"can be ordered (for a total of 3 manuals) for an additional charge as stated under 'Additional Operator Manual'."]
[null,null,null," "]
[null,3,"Skid w/Carton, Non-Stackable is the default packaging method and will be added to the configuration unless otherwise specified."]
[]
[null,4,"Shipping Weights and Dimensions","Skid w/Carton"]
[]
[null,null,"Weight (w/360AH Battery)","650 lbs / 295 Kg"]
[null,null,"Length","68\" / 1,727mm"]
[null,null,"Width","33\" / 838mm"]
[null,null,"Height","48\" / 1,219mm"]

{"sheet":"Specialty","index":10,"n_rows":188,"n_cols":17,"rows_kept":188,"cut":false,"hidden":false,"merged":[[95,3,95,4],[95,5,95,6],[99,3,99,4],[99,5,99,6],[96,3,96,4],[96,5,96,6],[97,3,97,4],[97,5,97,6],[98,3,98,4],[98,5,98,6],[73,3,73,4],[73,5,73,6],[93,3,93,4],[93,5,93,6],[94,3,94,4],[94,5,94,6],[140,0,140,1],[140,2,140,5],[141,2,141,5],[142,0,142,1],[142,2,142,5],[134,2,134,5],[139,2,139,5],[108,1,108,6],[135,0,135,1],[135,2,135,5],[136,0,136,1],[136,2,136,5],[139,0,139,1],[150,2,150,5],[159,4,159,5],[143,0,143,1],[143,2,143,5],[146,4,146,6],[148,2,148,5],[149,2,149,5],[0,2,0,3],[1,2,1,3],[2,2,2,3],[3,2,3,3],[133,0,133,1],[133,2,133,5],[130,4,130,6],[132,0,132,1],[132,2,132,5],[91,3,91,4],[46,2,46,3],[86,4,86,8],[88,3,88,6],[90,3,90,4],[71,3,71,4],[71,5,71,6]]}
["Specialty",null,{"$f":"Start_Here!$C19","v":"Company Name"}]
[{"$f":"SUM(G66)","v":0},null,{"$f":"Start_Here!$C20","v":"Address"}]
[null,null,{"$f":"Start_Here!$C21","v":"City, State Zip"}]
[null,null,{"$f":"Start_Here!$C22","v":"Contact Name"}]
[null,null,{"$f":"Start_Here!$C$41","v":"Rep Name"}]
[null,null,{"$f":"Start_Here!$C$37","v":"Tennant Sales and Service Company"}]
[null,null,{"$f":"Start_Here!$C$38","v":"10400 Clean Street"}]
[null,null,{"$f":"Start_Here!$C$39","v":"Eden Prairie, MN 55344"}]
[null,null,{"$f":"Start_Here!$C$43","v":"800-553-8033"},null,"Quote Date :",null,{"$f":"Letter!$A$25","v":"2023-08-01"}]
[]
[null,null,{"$f":"Help!C2","v":"CAN Date Rev - 5/6/2025"}]
[]
[null,null,"New Machine Warranty"]
[null,null,"  Q12"]
[null,null,"       2 YEARS PARTS or 2500 hrs "]
[null,null,"       1 YEAR LABOR"]
[null,null,"       90 DAYS TRAVEL",null,null,null,"Fax (quote only)"]
[null,null,"BLOWER",null,null,null,"Mail (quote,lit, specs)"]
[null,null,"12 MONTHS ON PARTS & LABOR",null,null,null,"Fax + Mail"]
[null,null,"ASC 15"]
[null,null,"36 MONTHS"]
[null,null,"36 MONTHS – LABOR",null,null,null,"Inside"]
[null,null,"NO TRAVEL",null,null,null,"Outside"]
[]
[]
[null,null,"Description","Reference#","Canada Price Each","Qty","Extended Price"]
[]
[null,null,"Q12 Multi-Surface Cleaner",null,null,{"$f":"SUM(F34:F35)","v":0}]
[null,null,"15 gal (57 L) capacity, variable 400-1200 psi (27.6 to 83 bar), Hard Surface Turbo Tool option, 25 ft (8 m) vacuum and solution hoses, and two 40 ft (12 m) hospital grade safety yellow electrical cords. ",null,null,{"$f":"SUM(F28)","v":0}]
[null,null,"ETL (US/C) certified to UL & CSA Standards. ",null,null,{"$f":"SUM(F29)","v":0}]
[null,null,"Boxed Dimensions:  28.5 in x 38 in x 55 in (724 mm x 965 mm x 1397 mm)",null,null,{"$f":"SUM(F30)","v":0}]
[null,null,"Shipping Weight:  205 lb (93 kg)",null,null,{"$f":"SUM(F31)","v":0}]
[]
[null,null,"Q12, 400-1200 psi (27.6 to 83 bar) Multi-Surface Cleaner w/ vacuum and solution hoses.",1072856,16728,null,{"$f":"F34*E34","v":0},null,null,null,null,null,null,null,null,null,{"$f":"VLOOKUP(D34,'MPF SAP Canada Pre-Configured'!C:E,3,FALSE)","v":15633}]
[null,null,"Q12, 400-1200 psi (27.6 to 83 bar) Multi-Surface Cleaner w/ hard surface turbo tool, vacuum, and solution hoses.",9011458,20401,null,{"$f":"F35*E35","v":0},null,null,null,null,null,null,null,null,null,{"$f":"VLOOKUP(D35,'MPF SAP Canada Pre-Configured'!C:E,3,FALSE)","v":19066}]
[]
[null,null,null,null,null,{"$f":"SUM(F38)","v":0},null,{"$f":"IFERROR(IFERROR(VLOOKUP(D37,Surcharge!A:B,2,FALSE)*F37, VLOOKUP(D37 & \"\",Surcharge!A:B,2,FALSE)*F37), \"\")","v":""}]
[null,null,"ASC-15  All Surface Cleaner ",9007449,9698,null,{"$f":"F38*E38","v":0},{"$f":"IFERROR(IFERROR(VLOOKUP(D38,Surcharge!A:B,2,FALSE)*F38, VLOOKUP(D38 & \"\",Surcharge!A:B,2,FALSE)*F38), \"\")","v":""},null,null,null,null,null,null,null,null,{"$f":"VLOOKUP(D38,'MPF SAP Canada Pre-Configured'!C:E,3,FALSE)","v":9063}]
[null,null,"15-gal. (57L) solution capacity 19-gal. (72L) recovery capacity.  Includes double-bend telescopic aluminum wand, 25-ft. (7.6m) recovery hose, scrub brush, standard 6-ft. (1.8m) to 25-ft. (7.6m) expandable blower hose, 25-ft. (7.6m) high pressure hose with variable pressure gun, floor squeegee tool, hand squeegee tool, blower tool, gulper floor drain tool, fill hose and metering tip packet with 3 different dilution ratio tips.",null,null,{"$f":"SUM(F38)","v":0},null,{"$f":"IFERROR(IFERROR(VLOOKUP(D39,Surcharge!A:B,2,FALSE)*F39, VLOOKUP(D39 & \"\",Surcharge!A:B,2,FALSE)*F39), \"\")","v":""}]
[null,null,"Boxed dimensions:  45L x 22.25W x 42H (1143mm x 565mm x 1067mm)",null,null,{"$f":"SUM(F39)","v":0},null,{"$f":"IFERROR(IFERROR(VLOOKUP(D40,Surcharge!A:B,2,FALSE)*F40, VLOOKUP(D40 & \"\",Surcharge!A:B,2,FALSE)*F40), \"\")","v":""}]
[null,null,"Shipping Weight:  190 lbs. (86 kg) / Cu. Ft.: 19 (Cu.M. .54)",null,null,{"$f":"SUM(F40)","v":0},null,{"$f":"IFERROR(IFERROR(VLOOKUP(D41,Surcharge!A:B,2,FALSE)*F41, VLOOKUP(D41 & \"\",Surcharge!A:B,2,FALSE)*F41), \"\")","v":""}]
[null,null,null,null,null,null,null,{"$f":"IFERROR(IFERROR(VLOOKUP(D42,Surcharge!A:B,2,FALSE)*F42, VLOOKUP(D42 & \"\",Surcharge!A:B,2,FALSE)*F42), \"\")","v":""}]
[null,null,null,null,null,null,null,{"$f":"IFERROR(IFERROR(VLOOKUP(D43,Surcharge!A:B,2,FALSE)*F43, VLOOKUP(D43 & \"\",Surcharge!A:B,2,FALSE)*F43), \"\")","v":""}]
[null,null,"Blower - Three-speed Air Mover",9014819,587,null,{"$f":"F44*E44","v":0},{"$f":"IFERROR(IFERROR(VLOOKUP(D44,Surcharge!A:B,2,FALSE)*F44, VLOOKUP(D44 & \"\",Surcharge!A:B,2,FALSE)*F44), \"\")","v":""},null,null,null,null,null,null,null,null,{"$f":"VLOOKUP(D44,'MPF SAP Canada Pre-Configured'!C:E,3,FALSE)","v":587}]
[null,null,"1/2 Horsepower, 120V, Three speeds, Stackable",null,null,{"$f":"SUM(F44)","v":0},null,{"$f":"IFERROR(IFERROR(VLOOKUP(D45,Surcharge!A:B,2,FALSE)*F45, VLOOKUP(D45 & \"\",Surcharge!A:B,2,FALSE)*F45), \"\")","v":""}]
[null,null,"ETL-certified to UL & CSA Standards. ",null,null,{"$f":"SUM(F45)","v":0},null,{"$f":"IFERROR(IFERROR(VLOOKUP(D46,Surcharge!A:B,2,FALSE)*F46, VLOOKUP(D46 & \"\",Surcharge!A:B,2,FALSE)*F46), \"\")","v":""}]
[null,null,"Boxed dimensions:  17.25L x 14.75W x 18.25H (438mm x 375mmx 464mm)",null,null,{"$f":"SUM(F46)","v":0},null,{"$f":"IFERROR(IFERROR(VLOOKUP(D47,Surcharge!A:B,2,FALSE)*F47, VLOOKUP(D47 & \"\",Surcharge!A:B,2,FALSE)*F47), \"\")","v":""}]
[null,null,"Shipping Weight: 24 lbs.",null,null,{"$f":"SUM(F47)","v":0},null,{"$f":"IFERROR(IFERROR(VLOOKUP(D48,Surcharge!A:B,2,FALSE)*F48, VLOOKUP(D48 & \"\",Surcharge!A:B,2,FALSE)*F48), \"\")","v":""}]
[]
[]
[null,null,null,null,{"$f":"ROUND(SUM(G27:G50), 0)","v":0},{"$f":"SUM(E52)","v":0}]
[null,null,null,"Machine Subtotal ",{"$f":"ROUND(SUM(G27:G50), 0)","v":0},{"$f":"F51","v":0}]
[null,"Discounts",null,null,null,{"$f":"SUM(F54)","v":0}]
[null,null,null,null,null,{"$f":"SUM(F56:F59)","v":0}]
[null,null,null,"Applicable Currency Adj %",null,{"$f":"IF(E55 <> \"\", 1, 0)","v":0},{"$f":"IF(F55*(E55*0.01)*E51 < 0, F55*(E55*0.01)*E51, -(F55*(E55*0.01)*E51))","v":0}]
[null,null,null,"Discount %",null,{"$f":"IF(E56 <> \"\", 1, 0)","v":0},{"$f":"IF(F56*(E56*0.01)*(E51+G55) < 0, F56*(E56*0.01)*(E51+G55), -(F56*(E56*0.01)*(E51+G55)))","v":0}]
[null,null,null,"Discount $",null,0,{"$f":"IF(F57*E57 < 0, F57*E57, -(F57*E57))","v":0}]
[null,null,null,"Discount $",null,0,{"$f":"IF(F58*E58 < 0, F58*E58, -(F58*E58))","v":0}]
[null,null,null,"Discount $",null,0,{"$f":"IF(F59*E59 < 0, F59*E59, -(F59*E59))","v":0}]
[null,null,null,"Discount Total ",{"$f":"SUM(G55:G59)","v":0},{"$f":"SUM(E60)","v":0}]
[null,null,null,null,null,{"$f":"#REF!","v":{"$error":"#REF!"}}]
[null,null,null,null,null,{"$f":"F61","v":{"$error":"#REF!"}}]
[null,null,"Prepaid and Add","Freight",null,{"$f":"IF(E63 <> \"\", 1, 0)","v":0},{"$f":"F63*E63","v":0}]
[null,null,"Subject to all applicable taxes","Tax",null,0,0]
[null,null,null,null,null,{"$f":"SUM(F66)","v":0}]
[null,null,null,"MACHINE TOTAL*",null,{"$f":"SUM(G66)","v":0},{"$f":"SUM(G27:G64)","v":0},null,null,null,null,null,null,"This goes to \"My Documents\""]
[null,null,null,null,null,null,{"$f":"SUM(G66)","v":0}]
[]
[]
[]
[]
[null,null,"Wells Fargo - Leasing Calculation Option:","Option 1",null,"Option 2",null,null,null,{"$f":"Financing!A38","v":"Rates 2025 - Rev.2/4/2025"}]
[null,null,null,"Monthly Payment","Cost Per Day","Monthly Payment","Cost Per Day",null,null,{"$f":"Financing!A39","v":"“Blank Payment Amounts Indicate The Financing Option Or Purchase Options Selected Are Not "}]
[null,null,"Purchase Option:","$1 Buyout Lease",null,"None",null,null,null,{"$f":"Financing!A40","v":"Applicable Or The Machine Total Is Below The Minimum Amount For The Selected Vendor”"}]
[null,null,"24 Months",0,0,0,0,null,null,{"$f":"Financing!A41","v":"\"Quoted monthly payments are estimates only and are based on a certain level of credit rating."}]
[null,null,"36 Months",0,0,0,0,null,null,{"$f":"Financing!A42","v":"Actual monthly payments may be higher depending on your credit rating.\""}]
[null,null,"48 Months",0,0,0,0,null,null,{"$f":"Financing!A43","v":"“Financing rates do not include Pre-Paid Service”"}]
[null,null,"60 Months",0,0,0,0,null,{"$f":"Financing!A44","v":0}]
[]
[null,null,null,"Benefits of Equipment Financing:"]
[null,null,null,"• Spreads out investment over time.",null,"• Keep current with latest technology."]
[null,null,null,"• Preserve capital.",null,"• Service and parts bundling available."]
[null,null,null,"• Low monthly payment.",null,"• Pay for labor savings as you go."]
[]
[null,"  TennantTrue",null,0,0]
[]
[null,null,"Is customer interested in service program?","Yes","*State/County selection required for TennantTrue service options"]
[]
[null,null,"If not, why?"]
[]
[null,null,"Term:",36,null,null,"AB Brushes","No"]
[null,null,"Monthly machine usage (hrs):","< 30/mo. (Avg. 1hr./day)"]
[]
[null,null,"TennantTrue: ","Gold Contract",null,"Silver Contract"]
[null,null,"Per Visit"]
[null,null,"Monthly"]
[null,null,"Annually"]
[null,null,"Pre-Pay Full Term"]
[null,null,"Hourly Labor Rate"]
[null,null,"Site Visit"]
[]
[null,null,"* Verify customer current pricing prior to quote. "]
[null,null,"**All rates and fees above reflect service for one (1) unit with the exception of Block of Time service."]
[null,null,"*Block of Time is available in 1 Year Term only and is priced as such no matter the term selection on this template."]
[]
[]
[]
[null,"Quote Special Instructions:"]
[]
[]
[]
[null,{"$f":"Start_Here!E36","v":"Terms and Conditions"}]
[null,{"$f":"Start_Here!E37","v":"Ask your local sales rep for estimated lead times. Verify when placing order"}]
[null,{"$f":"Start_Here!E38","v":"All orders subject to acceptance by Tennant Sales and Service Company, Minneapolis, Minnesota"}]
[null,{"$f":"Start_Here!E39","v":"Prices subject to change without notice. Subject to any applicable taxes."}]
[null,{"$f":"Start_Here!E40","v":"Terms:  Net 30 days.  Payable in Canadian Funds"}]
[null,{"$f":"Start_Here!E41","v":"Freight:  Accessories, parts, supplies, detergents, and floor coatings orders delivered DDP "}]
[null,{"$f":"Start_Here!E42","v":"shipping point Frt PPD.  Machine orders delivered DDP shipping point Frt PPD and add."}]
[null,{"$f":"Start_Here!E43","v":"Returned Merchandise is subject to a restocking fee."}]
[null,{"$f":"Start_Here!E44","v":"All orders are subject to Tennant’s General Terms and Conditions available at http://www.tennantco.com/terms."}]
[null,{"$f":"Start_Here!E45","v":"Printed General Terms and Conditions are also available upon request."}]
[null,{"$f":"Start_Here!E46","v":0}]
[null,{"$f":"Start_Here!E47","v":0}]
[null,{"$f":"Start_Here!E48","v":0}]
[null,null,null,null,"Quote Date :",null,{"$f":"Letter!$A$25","v":"2023-08-01"}]
[null,"Order Placement Information:  To place your order, fill in PO# and customer signatures,"]
[null,"call or fax to the numbers listed below. Customer Purchase Order is required."]
[null,"If information is missing, orders will be entered and held until all information is received."]
[]
[null,null,"Customer Number",null,"Cust Grp 3"]
[null,null,{"$f":"Start_Here!$C$25","v":0},null,{"$f":"Start_Here!$C$29","v":0}]
[null,null,{"$f":"Start_Here!$B$18","v":"Who Owns the Machine? (Sold-To Info) (Please Verify)"}]
["Company",null,{"$f":"Start_Here!$C$19","v":"Company Name"}]
["Address",null,{"$f":"Start_Here!$C$20","v":"Address"}]
[null,null,{"$f":"Start_Here!$C$21","v":"City, State Zip"}]
["Name",null,{"$f":"Start_Here!$C$22","v":"Contact Name"}]
["Phone",null,{"$f":"Start_Here!$C$23","v":"Contact Phone"}]
[]
[null,null,{"$f":"Start_Here!$B$11","v":"Where is the Machine Being Shipped? (Ship-To Info) (Please Verify)"}]
["Company",null,{"$f":"Start_Here!$C$12","v":"Company Name"}]
["Address",null,{"$f":"Start_Here!$C$13","v":"Address"}]
[null,null,{"$f":"Start_Here!$C$14","v":"City, State Zip"}]
["Name",null,{"$f":"Start_Here!$C$15","v":"Contact Name"}]
["Phone",null,{"$f":"Start_Here!$C$16","v":"Contact Phone"}]
[]
[null,null,{"$f":"Start_Here!$B$31","v":"Shipping / Carrier Instructions:"},null,"Order Special Instructions:"]
[null,null,{"$f":"Start_Here!$C$32","v":0}]
[]
[null,null,"Customer Purchase Order No."]
[null,null,"(please attach copy)"]
[]
[]
[null,null,"Tax Exempt",null,"Yes"]
[null,null,null,null,"No"]
[null,null,"If Yes, attach a copy of your exemption certificate."]
[]
[null,null,"Requested Delivery Date"]
[null,null,{"$f":"Start_Here!$C$28","v":0}]
[]
[null,null,{"$f":"Start_Here!$C$26","v":0},null,{"$f":"Start_Here!$C$27","v":0}]
[null,null,"Authorized Buyer (please print)",null,"Phone Number"]
[]
[]
[null,null,"Authorized Buyer Signature"]
[]
[null,null,{"$f":"Start_Here!$C$41","v":"Rep Name"}]
[null,null,"Tennant Representative"]
[]
[null,null,null,"Specialized Maintenance Equipment"]
[null,null,{"$f":"Start_Here!$C$51","v":0}]
[null,null,null,{"$f":"Start_Here!$C$52","v":0}]
[]
[]
[null,"Notes"]
[]
[null,1,"Only available as factory-installed when batteries are ordered with machine."]
[]
[null,2,"A French and English manual will be supplied for all units shipping into Quebec, Canada at no charge.  An additional manual"]
[null,null,"can be ordered (for a total of 3 manuals) for an additional charge as stated under 'Additional Operator Manual'."]
[null,null,null," "]
[null,3,"Skid w/Carton, Non-Stackable is the default packaging method and will be added to the configuration unless otherwise specified."]
[]
[null,4,"Shipping Weights and Dimensions","Skid w/Carton"]
[]
[null,null,"Weight (w/360AH Battery)","650 lbs / 295 Kg"]
[null,null,"Length","68\" / 1,727mm"]
[null,null,"Width","33\" / 838mm"]
[null,null,"Height","48\" / 1,219mm"]

{"sheet":"Vacuums","index":11,"n_rows":303,"n_cols":16,"rows_kept":303,"cut":false,"hidden":false,"merged":[[214,5,214,6],[211,3,211,4],[211,5,211,6],[212,3,212,4],[212,5,212,6],[213,3,213,4],[213,5,213,6],[132,2,132,3],[71,2,71,3],[186,3,186,4],[186,5,186,6],[188,3,188,4],[188,5,188,6],[106,2,106,3],[124,2,124,3],[115,2,115,3],[201,4,201,8],[203,3,203,6],[205,3,205,4],[206,3,206,4],[274,4,274,5],[265,2,265,5],[249,2,249,5],[255,2,255,5],[256,2,256,5],[208,3,208,4],[208,5,208,6],[209,3,209,4],[209,5,209,6],[210,3,210,4],[210,5,210,6],[214,3,214,4],[258,0,258,1],[258,2,258,5],[261,4,261,6],[263,2,263,5],[264,2,264,5],[250,0,250,1],[250,2,250,5],[251,0,251,1],[251,2,251,5],[223,1,223,6],[245,4,245,6],[247,0,247,1],[247,2,247,5],[248,0,248,1],[248,2,248,5],[257,0,257,1],[257,2,257,5],[254,0,254,1],[254,2,254,5],[255,0,255,1],[0,2,0,3],[1,2,1,3],[2,2,2,3],[3,2,3,3],[123,2,123,3],[114,2,114,3]]}
["Vacuums",null,{"$f":"Start_Here!$C19","v":"Company Name"}]
[{"$f":"SUM(G181)","v":0},null,{"$f":"Start_Here!$C20","v":"Address"}]
[null,null,{"$f":"Start_Here!$C21","v":"City, State Zip"}]
[null,null,{"$f":"Start_Here!$C22","v":"Contact Name"}]
[null,null,{"$f":"Start_Here!$C$41","v":"Rep Name"}]
[null,null,{"$f":"Start_Here!$C$37","v":"Tennant Sales and Service Company"}]
[null,null,{"$f":"Start_Here!$C$38","v":"10400 Clean Street"}]
[null,null,{"$f":"Start_Here!$C$39","v":"Eden Prairie, MN 55344"}]
[null,null,{"$f":"Start_Here!$C$43","v":"800-553-8033"},null,"Quote Date :",null,{"$f":"Letter!$A$25","v":"2023-08-01"}]
[]
[null,null,{"$f":"Help!C2","v":"CAN Date Rev - 5/6/2025"}]
[]
[null,null,"New Machine Warranty"]
[null,null,"12 MONTHS ON PARTS",null,null,null,"Fax (quote only)"]
[null,null,"12 MONTHS - LABOR",null,null,null,"Mail (quote,lit, specs)"]
[null,null,"NO TRAVEL",null,null,null,"Fax + Mail"]
[null,null,"Battery Pro-rated 12 months"]
[]
[null,null,null,null,null,null,"Inside"]
[null,null,null,null,null,null,"Outside"]
[]
[]
[]
[]
[]
[null,null,"Description","Reference#","Canada Price Each","Qty","Extended Price"]
[null,null,null,null,null,{"$f":"SUM(F28)","v":0}]
[null,null,"V-WA-30  30\" (762mm) Wide Area Vacuum",1068029,6042,null,{"$f":"F28*E28","v":0},{"$f":"IFERROR(IFERROR(VLOOKUP(D28,Surcharge!A:B,2,FALSE)*F28, VLOOKUP(D28 & \"\",Surcharge!A:B,2,FALSE)*F28), \"\")","v":""},null,null,null,null,null,null,null,{"$f":"VLOOKUP(D28,'MPF SAP Canada Pre-Configured'!C:E,3,FALSE)","v":5646}]
[null,null,"Certified CRI Bronze Cleaning Performance.   Comes standard with HEPA filtration, and spare bag and 75 ft. (23m) safety-yellow power cord.  \nETL US/C",null,null,{"$f":"SUM(F28)","v":0},null,{"$f":"IFERROR(IFERROR(VLOOKUP(D29,Surcharge!A:B,2,FALSE)*F29, VLOOKUP(D29 & \"\",Surcharge!A:B,2,FALSE)*F29), \"\")","v":""}]
[null,null,"Boxed Dimensions: 18\"L x 32.25 \"W x 43.25 \"H (457mm x 819mm x 196mm) *",null,null,{"$f":"SUM(F29)","v":0},null,{"$f":"IFERROR(IFERROR(VLOOKUP(D30,Surcharge!A:B,2,FALSE)*F30, VLOOKUP(D30 & \"\",Surcharge!A:B,2,FALSE)*F30), \"\")","v":""}]
[null,null,"Shipping Weight: 100 lbs. (45.36kg)",null,null,{"$f":"SUM(F30)","v":0},null,{"$f":"IFERROR(IFERROR(VLOOKUP(D31,Surcharge!A:B,2,FALSE)*F31, VLOOKUP(D31 & \"\",Surcharge!A:B,2,FALSE)*F31), \"\")","v":""}]
[null,null,"Made in the USA with Globally sourced components",null,null,{"$f":"SUM(F31)","v":0},null,{"$f":"IFERROR(IFERROR(VLOOKUP(D32,Surcharge!A:B,2,FALSE)*F32, VLOOKUP(D32 & \"\",Surcharge!A:B,2,FALSE)*F32), \"\")","v":""}]
[null,null,null,null,null,null,null,{"$f":"IFERROR(IFERROR(VLOOKUP(D33,Surcharge!A:B,2,FALSE)*F33, VLOOKUP(D33 & \"\",Surcharge!A:B,2,FALSE)*F33), \"\")","v":""}]
[null,null,null,null,null,null,null,{"$f":"IFERROR(IFERROR(VLOOKUP(D34,Surcharge!A:B,2,FALSE)*F34, VLOOKUP(D34 & \"\",Surcharge!A:B,2,FALSE)*F34), \"\")","v":""}]
[null,null,"Independence Battery Light Weight Upright Commercial Vacuum ",1236915,1421,null,{"$f":"F35*E35","v":0},{"$f":"IFERROR(IFERROR(VLOOKUP(D35,Surcharge!A:B,2,FALSE)*F35, VLOOKUP(D35 & \"\",Surcharge!A:B,2,FALSE)*F35), \"\")","v":""},null,null,null,null,null,null,null,{"$f":"VLOOKUP(D35,'MPF SAP Canada Pre-Configured'!C:E,3,FALSE)","v":1328}]
[null,null,"Certified CRI Bronze Cleaning Performance.   44 VDC / 2.9 Ah lithium ion powered vacuum.  Runtime 50 minutes.  Weighs only 11 lbs (4.99 kg).  Comes standard with HEPA filtration, spare belt and bag.  Comes with battery and charger, UL certified.",null,null,{"$f":"SUM(F35)","v":0},null,{"$f":"IFERROR(IFERROR(VLOOKUP(D36,Surcharge!A:B,2,FALSE)*F36, VLOOKUP(D36 & \"\",Surcharge!A:B,2,FALSE)*F36), \"\")","v":""}]
[null,null,null,null,null,{"$f":"SUM(F36)","v":0},null,{"$f":"IFERROR(IFERROR(VLOOKUP(D37,Surcharge!A:B,2,FALSE)*F37, VLOOKUP(D37 & \"\",Surcharge!A:B,2,FALSE)*F37), \"\")","v":""}]
[null,null,"Boxed Dimensions: 35\"L x  15\"W x 7 \"H (889mm x 381mm x 178mm) ",null,null,0,null,{"$f":"IFERROR(IFERROR(VLOOKUP(D38,Surcharge!A:B,2,FALSE)*F38, VLOOKUP(D38 & \"\",Surcharge!A:B,2,FALSE)*F38), \"\")","v":""}]
[null,null,"Shipping Weight: 17 lbs. (7.7kg)",null,null,0,null,{"$f":"IFERROR(IFERROR(VLOOKUP(D39,Surcharge!A:B,2,FALSE)*F39, VLOOKUP(D39 & \"\",Surcharge!A:B,2,FALSE)*F39), \"\")","v":""}]
[null,null,"Made in the USA with Globally sourced components",null,null,0,null,{"$f":"IFERROR(IFERROR(VLOOKUP(D40,Surcharge!A:B,2,FALSE)*F40, VLOOKUP(D40 & \"\",Surcharge!A:B,2,FALSE)*F40), \"\")","v":""}]
[null,null,null,null,null,null,null,{"$f":"IFERROR(IFERROR(VLOOKUP(D41,Surcharge!A:B,2,FALSE)*F41, VLOOKUP(D41 & \"\",Surcharge!A:B,2,FALSE)*F41), \"\")","v":""}]
[null,null,null,null,null,{"$f":"SUM(F43)","v":0},null,{"$f":"IFERROR(IFERROR(VLOOKUP(D42,Surcharge!A:B,2,FALSE)*F42, VLOOKUP(D42 & \"\",Surcharge!A:B,2,FALSE)*F42), \"\")","v":""}]
[null,null,"V-SMU-14 - 14\" (356mm) Single Motor Vacuum ",1060829,866,null,{"$f":"F43*E43","v":0},{"$f":"IFERROR(IFERROR(VLOOKUP(D43,Surcharge!A:B,2,FALSE)*F43, VLOOKUP(D43 & \"\",Surcharge!A:B,2,FALSE)*F43), \"\")","v":""},null,null,null,null,null,null,null,{"$f":"VLOOKUP(D43,'MPF SAP Canada Pre-Configured'!C:E,3,FALSE)","v":866}]
[null,null,"Certified CRI Silver Cleaning Performance. 1.5-gallon (5.5-liter) bag capacity.  Comes standard with 3-stage HEPA filtration, easy access crevice tool and dusting brush , 4:1 stretch hose, telescopic aluminum wand, spare belt and bag and 50 ft. (15m) safety-yellow power cord.  ETL US/C",null,null,{"$f":"SUM(F43)","v":0},null,{"$f":"IFERROR(IFERROR(VLOOKUP(D44,Surcharge!A:B,2,FALSE)*F44, VLOOKUP(D44 & \"\",Surcharge!A:B,2,FALSE)*F44), \"\")","v":""}]
[null,null,"Boxed Dimensions: 42.75\"L x 17.25\"W x 9.75\"H (1090mm x 440mm x 250mm) *",null,null,{"$f":"SUM(F44)","v":0},null,{"$f":"IFERROR(IFERROR(VLOOKUP(D45,Surcharge!A:B,2,FALSE)*F45, VLOOKUP(D45 & \"\",Surcharge!A:B,2,FALSE)*F45), \"\")","v":""}]
[null,null,"Shipping Weight: 21.75 lbs. (9.9 kg)",null,null,{"$f":"SUM(F45)","v":0},null,{"$f":"IFERROR(IFERROR(VLOOKUP(D46,Surcharge!A:B,2,FALSE)*F46, VLOOKUP(D46 & \"\",Surcharge!A:B,2,FALSE)*F46), \"\")","v":""}]
[null,null,null,null,null,null,null,{"$f":"IFERROR(IFERROR(VLOOKUP(D47,Surcharge!A:B,2,FALSE)*F47, VLOOKUP(D47 & \"\",Surcharge!A:B,2,FALSE)*F47), \"\")","v":""}]
[null,null,null,null,null,{"$f":"SUM(F49)","v":0},null,{"$f":"IFERROR(IFERROR(VLOOKUP(D48,Surcharge!A:B,2,FALSE)*F48, VLOOKUP(D48 & \"\",Surcharge!A:B,2,FALSE)*F48), \"\")","v":""}]
[null,null,"V-DMU-14 - 14\" (356mm) Dual Motor Vacuum ",1068027,1131,null,{"$f":"F49*E49","v":0},{"$f":"IFERROR(IFERROR(VLOOKUP(D49,Surcharge!A:B,2,FALSE)*F49, VLOOKUP(D49 & \"\",Surcharge!A:B,2,FALSE)*F49), \"\")","v":""},null,null,null,null,null,null,null,{"$f":"VLOOKUP(D49,'MPF SAP Canada Pre-Configured'!C:E,3,FALSE)","v":1131}]
[null,null,"Certified CRI Silver Cleaning Performance. 1.5-gallon (5.5-liter) bag capacity.  Comes standard with 3-stage HEPA filtration, easy access crevice tool and dusting brush , 4:1 stretch hose, telescopic aluminum wand, spare bag and 50 ft. (15m) safety-yellow power cord. ETL US/C",null,null,{"$f":"SUM(F49)","v":0},null,{"$f":"IFERROR(IFERROR(VLOOKUP(D50,Surcharge!A:B,2,FALSE)*F50, VLOOKUP(D50 & \"\",Surcharge!A:B,2,FALSE)*F50), \"\")","v":""}]
[null,null,"Boxed Dimensions: 42.75\"L x 17.25\"W x 9.75\"H (1090mm x 440mm x 250mm) *",null,null,{"$f":"SUM(F50)","v":0},null,{"$f":"IFERROR(IFERROR(VLOOKUP(D51,Surcharge!A:B,2,FALSE)*F51, VLOOKUP(D51 & \"\",Surcharge!A:B,2,FALSE)*F51), \"\")","v":""}]
[null,null,"Shipping Weight: 22.75 lbs. (9.9 kg)",null,null,{"$f":"SUM(F51)","v":0},null,{"$f":"IFERROR(IFERROR(VLOOKUP(D52,Surcharge!A:B,2,FALSE)*F52, VLOOKUP(D52 & \"\",Surcharge!A:B,2,FALSE)*F52), \"\")","v":""}]
[null,null,null,null,null,null,null,{"$f":"IFERROR(IFERROR(VLOOKUP(D53,Surcharge!A:B,2,FALSE)*F53, VLOOKUP(D53 & \"\",Surcharge!A:B,2,FALSE)*F53), \"\")","v":""}]
[null,null,null,null,null,null,null,{"$f":"IFERROR(IFERROR(VLOOKUP(D54,Surcharge!A:B,2,FALSE)*F54, VLOOKUP(D54 & \"\",Surcharge!A:B,2,FALSE)*F54), \"\")","v":""}]
[null,null,"DENALI-16 Premium Dry Canister Vacuum Cleaner",1252619,810,null,{"$f":"F55*E55","v":0},null,null,null,null,null,null,null,null,{"$f":"VLOOKUP(D55,'MPF SAP Canada Pre-Configured'!C:E,3,FALSE)","v":764}]
[null,null,"CRI certified Bronze with optional high performance tool. 4.2 gallon (16 liter) capacity with multi-stage filtration including cloth filter, fleece bag and downstream HEPA cartridge.  Comes standard with speed regulator, full bag indicator, chrome telescopic tube, wand with air flow regulator, floor tool, flat lance, round brush and small tool, 6.5 ft (2 m) hose, 40 ft (12m) detachable safety-yellow power cord.  UL / CSA",null,null,{"$f":"SUM(F55)","v":0}]
[null,null,null,null,null,{"$f":"SUM(F56)","v":0}]
[null,null,"Boxed Dimensions: 16 x 17 x 20 in (400 x 435 x 515 mm)",null,null,0]
[null,null,"Shipping Weight: 20 lb / 9 kg ",null,null,0]
[]
[]
[null,null,"DENALI-12 Standard Dry Canister Vacuum Cleaner",1252617,659,null,{"$f":"F62*E62","v":0},null,null,null,null,null,null,null,null,{"$f":"VLOOKUP(D62,'MPF SAP Canada Pre-Configured'!C:E,3,FALSE)","v":621}]
[null,null,"CRI certified Bronze with optional high performance tool. 3.2 gallon (12 liter) capacity with multi-stage filtration including cloth filter, fleece bag and downstream foam filter.  Comes standard with chrome tube, wand with air flow regulator, floor tool, flat lance, round brush and small tool, 6.5 ft (2.5 m) hose, 40 ft (12m) detachable safety-yellow power cord.  UL / CSA",null,null,{"$f":"SUM(F62)","v":0}]
[null,null,null,null,null,{"$f":"SUM(F63)","v":0}]
[null,null,"Boxed Dimensions: 15.5 x 15.5 x 20 in (395 x 395 x 510 mm)",null,null,0]
[null,null,"Shipping Weight: 19.4 lb / 8.8 kg",null,null,0]
[]
[]
[null,null,"DENALI-10 Compact Dry Canister Vacuum Cleaner",1244294,476,null,{"$f":"F69*E69","v":0},null,null,null,null,null,null,null,null,{"$f":"VLOOKUP(D69,'MPF SAP Canada Pre-Configured'!C:E,3,FALSE)","v":449}]
[null,null,"2.6 gallon (10 liter) capacity, comes standard with paper bag, floor tool/crevice tool/dusting brush, 2-piece wand, 5 ft (1.9 m) hose and 26 ft (8 m) yellow power cord.  Intertek ETL (US-Can)",null,null,{"$f":"SUM(F69)","v":0}]
[null,null,null,null,null,{"$f":"SUM(F70)","v":0}]
[null,null,"Boxed Dimensions: 13.2 x 13 x 13 in (335 x 330 x 330 mm). ",null,null,0]
[null,null,"Shipping Weight: 15 lb / 6.7kg ",null,null,0]
[]
[null,null,null,null,null,{"$f":"SUM(F76)","v":0},null,{"$f":"IFERROR(IFERROR(VLOOKUP(D75,Surcharge!A:B,2,FALSE)*F75, VLOOKUP(D75 & \"\",Surcharge!A:B,2,FALSE)*F75), \"\")","v":""}]
[null,null,"Nobles Aspen 6 Backpack Vacuum - Base Kit",9013476,1058,null,{"$f":"F76*E76","v":0},{"$f":"IFERROR(IFERROR(VLOOKUP(D76,Surcharge!A:B,2,FALSE)*F76, VLOOKUP(D76 & \"\",Surcharge!A:B,2,FALSE)*F76), \"\")","v":""},null,null,null,null,null,null,null,{"$f":"VLOOKUP(D76,'MPF SAP Canada Pre-Configured'!C:E,3,FALSE)","v":1058}]
[null,null,"Ergonomic Commercial Backpack Vacuum - 10 amp vac motor, 6 qt. (5.7 litre) capacity,  comes standard with 4-stage HEPA filtration, Deuter branded hiking harness, 14\" (356 mm) hard floor tool, 14\" (356mm) carpet floor tool, 15-ft (5m) crush proof 4:1 stretch hose and lightweight, two-piece aluminum wand, dust brush, crevice and upholstery tool.  50 ft. (15m) safety-yellow power cord.  UL-CSA. CRI certified Gold with optional Hi-performance tool.",null,null,{"$f":"SUM(F76)","v":0},null,{"$f":"IFERROR(IFERROR(VLOOKUP(D77,Surcharge!A:B,2,FALSE)*F77, VLOOKUP(D77 & \"\",Surcharge!A:B,2,FALSE)*F77), \"\")","v":""}]
[null,null,null,null,null,{"$f":"SUM(F77)","v":0},null,{"$f":"IFERROR(IFERROR(VLOOKUP(D78,Surcharge!A:B,2,FALSE)*F78, VLOOKUP(D78 & \"\",Surcharge!A:B,2,FALSE)*F78), \"\")","v":""}]
[null,null,"Vacuum Boxed Dimensions: 26.8\"L x 15.2\"W x 14.2\"H (680mm x 385mm x 360mm)",null,null,0,null,{"$f":"IFERROR(IFERROR(VLOOKUP(D79,Surcharge!A:B,2,FALSE)*F79, VLOOKUP(D79 & \"\",Surcharge!A:B,2,FALSE)*F79), \"\")","v":""}]
[null,null,"Tools Boxed Dimensions:  32\"L x 11\" W x 4.5\"H (813mm x 279mm x 114mm)",null,null,0,null,{"$f":"IFERROR(IFERROR(VLOOKUP(D80,Surcharge!A:B,2,FALSE)*F80, VLOOKUP(D80 & \"\",Surcharge!A:B,2,FALSE)*F80), \"\")","v":""}]
[null,null,"Shipping Weight: vacuum 21.2 lbs. (9.6 kg) + tools 3.6 lbs (1.6 kg) = total 24.8 lbs (11.2 kg)",null,null,0,null,{"$f":"IFERROR(IFERROR(VLOOKUP(D81,Surcharge!A:B,2,FALSE)*F81, VLOOKUP(D81 & \"\",Surcharge!A:B,2,FALSE)*F81), \"\")","v":""}]
[null,null,"*3 Total boxes will come with the order (in addition to the two above there will be a small accessory box. ",null,null,0,null,{"$f":"IFERROR(IFERROR(VLOOKUP(D82,Surcharge!A:B,2,FALSE)*F82, VLOOKUP(D82 & \"\",Surcharge!A:B,2,FALSE)*F82), \"\")","v":""}]
[null,null,null,null,null,{"$f":"SUM(F84)","v":0},null,{"$f":"IFERROR(IFERROR(VLOOKUP(D83,Surcharge!A:B,2,FALSE)*F83, VLOOKUP(D83 & \"\",Surcharge!A:B,2,FALSE)*F83), \"\")","v":""}]
[null,null,"Nobles Aspen 6 Backpack Vacuum - Standard Kit",9013477,1092,null,{"$f":"F84*E84","v":0},{"$f":"IFERROR(IFERROR(VLOOKUP(D84,Surcharge!A:B,2,FALSE)*F84, VLOOKUP(D84 & \"\",Surcharge!A:B,2,FALSE)*F84), \"\")","v":""},null,null,null,null,null,null,null,{"$f":"VLOOKUP(D84,'MPF SAP Canada Pre-Configured'!C:E,3,FALSE)","v":1092}]
[null,null,"Ergonomic Commercial Backpack Vacuum - 10 amp vac motor, 6 qt. (5.7 litre) capacity,  comes standard with 4-stage HEPA filtration, Deuter branded hiking harness, 14\" (356 mm) hard floor tool, 14\" (356mm) carpet floor tool, 15-ft (5m) crush proof 4:1 stretch hose and robust one-piece chrome telescoping wand, dust brush, crevice and upholstery tool.  50 ft. (15m) safety-yellow power cord.  UL-CSA. CRI certified Gold with optional Hi-performance tool.",null,null,{"$f":"SUM(F84)","v":0},null,{"$f":"IFERROR(IFERROR(VLOOKUP(D85,Surcharge!A:B,2,FALSE)*F85, VLOOKUP(D85 & \"\",Surcharge!A:B,2,FALSE)*F85), \"\")","v":""}]
[null,null,null,null,null,{"$f":"SUM(F85)","v":0},null,{"$f":"IFERROR(IFERROR(VLOOKUP(D86,Surcharge!A:B,2,FALSE)*F86, VLOOKUP(D86 & \"\",Surcharge!A:B,2,FALSE)*F86), \"\")","v":""}]
[null,null,"Vacuum Boxed Dimensions: 26.8\"L x 15.2\"W x 14.2\"H (680mm x 385mm x 360mm)",null,null,0,null,{"$f":"IFERROR(IFERROR(VLOOKUP(D87,Surcharge!A:B,2,FALSE)*F87, VLOOKUP(D87 & \"\",Surcharge!A:B,2,FALSE)*F87), \"\")","v":""}]
[null,null,"Tools Boxed Dimensions:  44.5\"L x 7.5\" W x 3.5\"H (1130mm x 191mm x 89mm)",null,null,0,null,{"$f":"IFERROR(IFERROR(VLOOKUP(D88,Surcharge!A:B,2,FALSE)*F88, VLOOKUP(D88 & \"\",Surcharge!A:B,2,FALSE)*F88), \"\")","v":""}]
[null,null,"Shipping Weight: vacuum 21.2 lbs. (9.6 kg) + tools 4.8 lbs (2.2 kg) = total 26 lbs (11.8 kg)",null,null,0,null,{"$f":"IFERROR(IFERROR(VLOOKUP(D89,Surcharge!A:B,2,FALSE)*F89, VLOOKUP(D89 & \"\",Surcharge!A:B,2,FALSE)*F89), \"\")","v":""}]
[null,null,"*3 Total boxes will come with the order (in addition to the two above there will be a small accessory box. ",null,null,0,null,{"$f":"IFERROR(IFERROR(VLOOKUP(D90,Surcharge!A:B,2,FALSE)*F90, VLOOKUP(D90 & \"\",Surcharge!A:B,2,FALSE)*F90), \"\")","v":""}]
[null,null,null,null,null,{"$f":"SUM(F92)","v":0},null,{"$f":"IFERROR(IFERROR(VLOOKUP(D91,Surcharge!A:B,2,FALSE)*F91, VLOOKUP(D91 & \"\",Surcharge!A:B,2,FALSE)*F91), \"\")","v":""}]
[null,null,"Nobles Aspen 6 Backpack Vacuum - Premium Kit (Sidewinder Tools)",9013478,1248,null,{"$f":"F92*E92","v":0},{"$f":"IFERROR(IFERROR(VLOOKUP(D92,Surcharge!A:B,2,FALSE)*F92, VLOOKUP(D92 & \"\",Surcharge!A:B,2,FALSE)*F92), \"\")","v":""},null,null,null,null,null,null,null,{"$f":"VLOOKUP(D92,'MPF SAP Canada Pre-Configured'!C:E,3,FALSE)","v":1248}]
[null,null,"Ergonomic Commercial Backpack Vacuum - 10 amp vac motor, 6 qt. (5.7 litre) capacity,  comes standard with 4-stage HEPA filtration, Deuter branded hiking harness, 18\" (457 mm) Sidewinder branded hard floor tool, 18\" (457 mm) Sidewinder branded carpet floor tool, 15-ft (5m) crush proof 4:1 stretch hose and two-piece anodized aluminum wand, dust brush, crevice and upholstery tool.  50 ft. (15m) safety-yellow power cord.  UL-CSA. CRI certified Gold with optional Hi-performance tool.",null,null,{"$f":"SUM(F92)","v":0},null,{"$f":"IFERROR(IFERROR(VLOOKUP(D93,Surcharge!A:B,2,FALSE)*F93, VLOOKUP(D93 & \"\",Surcharge!A:B,2,FALSE)*F93), \"\")","v":""}]
[null,null,null,null,null,{"$f":"SUM(F93)","v":0},null,{"$f":"IFERROR(IFERROR(VLOOKUP(D94,Surcharge!A:B,2,FALSE)*F94, VLOOKUP(D94 & \"\",Surcharge!A:B,2,FALSE)*F94), \"\")","v":""}]
[null,null,"Vacuum Boxed Dimensions: 26.8\"L x 15.2\"W x 14.2\"H (680mm x 385mm x 360mm)",null,null,0,null,{"$f":"IFERROR(IFERROR(VLOOKUP(D95,Surcharge!A:B,2,FALSE)*F95, VLOOKUP(D95 & \"\",Surcharge!A:B,2,FALSE)*F95), \"\")","v":""}]
[null,null,"Tools Boxed Dimensions:  32\"L x 11\" W x 4.5\"H (813mm x 279mm x 114mm)",null,null,0,null,{"$f":"IFERROR(IFERROR(VLOOKUP(D96,Surcharge!A:B,2,FALSE)*F96, VLOOKUP(D96 & \"\",Surcharge!A:B,2,FALSE)*F96), \"\")","v":""}]
[null,null,"Shipping Weight: vacuum 21.2 lbs. (9.6 kg) + tools 3.4 lbs (1.5 kg) = total 24.6 lbs (11.2 kg)",null,null,0,null,{"$f":"IFERROR(IFERROR(VLOOKUP(D97,Surcharge!A:B,2,FALSE)*F97, VLOOKUP(D97 & \"\",Surcharge!A:B,2,FALSE)*F97), \"\")","v":""}]
[null,null,"*3 Total boxes will come with the order (in addition to the two above there will be a small accessory box. ",null,null,0,null,{"$f":"IFERROR(IFERROR(VLOOKUP(D98,Surcharge!A:B,2,FALSE)*F98, VLOOKUP(D98 & \"\",Surcharge!A:B,2,FALSE)*F98), \"\")","v":""}]
[null,null,null,null,null,null,null,{"$f":"IFERROR(IFERROR(VLOOKUP(D99,Surcharge!A:B,2,FALSE)*F99, VLOOKUP(D99 & \"\",Surcharge!A:B,2,FALSE)*F99), \"\")","v":""}]
[null,null,"Aspen 6B Battery Backpack Vacuum - Base Kit",9017568,2722,null,{"$f":"F100*E100","v":0},{"$f":"IFERROR(IFERROR(VLOOKUP(D100,Surcharge!A:B,2,FALSE)*F100, VLOOKUP(D100 & \"\",Surcharge!A:B,2,FALSE)*F100), \"\")","v":""},null,null,null,null,null,null,null,{"$f":"VLOOKUP(D100,'MPF SAP Canada Pre-Configured'!C:E,3,FALSE)","v":2722}]
[null,null,"Ergonomic Commercial Backpack Vacuum - 36 VDC / 10.4 Ah lithium ion powered battery vacuum.  Runtime 55 minutes. 6 qt. (5.7 liter) capacity,  comes standard with 4-stage HEPA filtration, Deuter branded hiking harness, 14\" (356 mm) hard floor tool, 14\" (356mm) carpet floor tool, 15-ft (5m) crush proof 4:1 stretch hose and lightweight, two-piece aluminum wand, dust brush, crevice and upholstery tool.  ETL certified. CRI certified Silver with optional Hi-performance tool.  Battery and charger included in price, battery ships separately.",null,null,{"$f":"SUM(F100)","v":0},null,{"$f":"IFERROR(IFERROR(VLOOKUP(D101,Surcharge!A:B,2,FALSE)*F101, VLOOKUP(D101 & \"\",Surcharge!A:B,2,FALSE)*F101), \"\")","v":""}]
[null,null,null,null,null,{"$f":"SUM(F101)","v":0},null,{"$f":"IFERROR(IFERROR(VLOOKUP(D102,Surcharge!A:B,2,FALSE)*F102, VLOOKUP(D102 & \"\",Surcharge!A:B,2,FALSE)*F102), \"\")","v":""}]
[null,null,"Vacuum Boxed Dimensions: 33.25\"L x 16\"W x 15\"H (844.6mm x 406mm x 381mm)",null,null,0,null,{"$f":"IFERROR(IFERROR(VLOOKUP(D103,Surcharge!A:B,2,FALSE)*F103, VLOOKUP(D103 & \"\",Surcharge!A:B,2,FALSE)*F103), \"\")","v":""}]
[null,null,"Tools Boxed Dimensions:  32\"L x 11\" W x 4.5\"H (813mm x 279mm x 114mm)",null,null,0,null,{"$f":"IFERROR(IFERROR(VLOOKUP(D104,Surcharge!A:B,2,FALSE)*F104, VLOOKUP(D104 & \"\",Surcharge!A:B,2,FALSE)*F104), \"\")","v":""}]
[null,null,"Battery Box Dimensions:  13.5\"L x 4.5\"W x 6.25\"H (343mm x 114mm x 159mm)",null,null,0,null,{"$f":"IFERROR(IFERROR(VLOOKUP(D105,Surcharge!A:B,2,FALSE)*F105, VLOOKUP(D105 & \"\",Surcharge!A:B,2,FALSE)*F105), \"\")","v":""}]
[null,null,"Shipping Weight: vacuum 23 lbs. (10.4 kg) + tools 3.6 lbs (1.6 kg) + battery box 6.2 lbs (2.8 kg) = total 32.8 lbs (14.8 kg)",null,null,0,null,{"$f":"IFERROR(IFERROR(VLOOKUP(D106,Surcharge!A:B,2,FALSE)*F106, VLOOKUP(D106 & \"\",Surcharge!A:B,2,FALSE)*F106), \"\")","v":""}]
[null,null,"*4 Total boxes will come with the order (in addition to the three above there will be a small accessory box).",null,null,0,null,{"$f":"IFERROR(IFERROR(VLOOKUP(D107,Surcharge!A:B,2,FALSE)*F107, VLOOKUP(D107 & \"\",Surcharge!A:B,2,FALSE)*F107), \"\")","v":""}]
[null,null,null,null,null,null,null,{"$f":"IFERROR(IFERROR(VLOOKUP(D108,Surcharge!A:B,2,FALSE)*F108, VLOOKUP(D108 & \"\",Surcharge!A:B,2,FALSE)*F108), \"\")","v":""}]
[null,null,"Aspen 6B Battery Backpack Vacuum - Standard Kit",9017569,2815,null,{"$f":"F109*E109","v":0},{"$f":"IFERROR(IFERROR(VLOOKUP(D109,Surcharge!A:B,2,FALSE)*F109, VLOOKUP(D109 & \"\",Surcharge!A:B,2,FALSE)*F109), \"\")","v":""},null,null,null,null,null,null,null,{"$f":"VLOOKUP(D109,'MPF SAP Canada Pre-Configured'!C:E,3,FALSE)","v":2815}]
[null,null,"Ergonomic Commercial Backpack Vacuum - 36 VDC / 10.4 Ah lithium ion battery powered vacuum.  Runtime 55 minutes.  6 qt. (5.7 liter) capacity,  comes standard with 4-stage HEPA filtration, Deuter branded hiking harness, 14\" (356 mm) hard floor tool, 14\" (356mm) carpet floor tool, 15-ft (5m) crush proof 4:1 stretch hose and chrome telescoping wand, dust brush, crevice and upholstery tool.  ETL certified. CRI certified Silver with optional Hi-performance tool.  Battery and charger included in price, battery ships separately.",null,null,{"$f":"SUM(F109)","v":0},null,{"$f":"IFERROR(IFERROR(VLOOKUP(D110,Surcharge!A:B,2,FALSE)*F110, VLOOKUP(D110 & \"\",Surcharge!A:B,2,FALSE)*F110), \"\")","v":""}]
[null,null,null,null,null,{"$f":"SUM(F110)","v":0},null,{"$f":"IFERROR(IFERROR(VLOOKUP(D111,Surcharge!A:B,2,FALSE)*F111, VLOOKUP(D111 & \"\",Surcharge!A:B,2,FALSE)*F111), \"\")","v":""}]
[null,null,"Vacuum Boxed Dimensions: 33.25\"L x 16\"W x 15\"H (844.6mm x 406mm x 381mm)",null,null,0,null,{"$f":"IFERROR(IFERROR(VLOOKUP(D112,Surcharge!A:B,2,FALSE)*F112, VLOOKUP(D112 & \"\",Surcharge!A:B,2,FALSE)*F112), \"\")","v":""}]
[null,null,"Tools Boxed Dimensions:  44.5\"L x 7.5\" W x 3.5\"H (1130mm x 191mm x 89mm)",null,null,0,null,{"$f":"IFERROR(IFERROR(VLOOKUP(D113,Surcharge!A:B,2,FALSE)*F113, VLOOKUP(D113 & \"\",Surcharge!A:B,2,FALSE)*F113), \"\")","v":""}]
[null,null,"Battery Box Dimensions:  13.5\"L x 4.5\"W x 6.25\"H (343mm x 114mm x 159mm)",null,null,0,null,{"$f":"IFERROR(IFERROR(VLOOKUP(D114,Surcharge!A:B,2,FALSE)*F114, VLOOKUP(D114 & \"\",Surcharge!A:B,2,FALSE)*F114), \"\")","v":""}]
[null,null,"Shipping Weight: vacuum 23 lbs. (10.4 kg) + tools 3.6 lbs (1.6 kg) + battery box 6.2 lbs (2.8 kg) = total 32.8 lbs (14.8 kg)",null,null,0,null,{"$f":"IFERROR(IFERROR(VLOOKUP(D115,Surcharge!A:B,2,FALSE)*F115, VLOOKUP(D115 & \"\",Surcharge!A:B,2,FALSE)*F115), \"\")","v":""}]
[null,null,"*4 Total boxes will come with the order (in addition to the three above there will be a small accessory box).",null,null,0,null,{"$f":"IFERROR(IFERROR(VLOOKUP(D116,Surcharge!A:B,2,FALSE)*F116, VLOOKUP(D116 & \"\",Surcharge!A:B,2,FALSE)*F116), \"\")","v":""}]
[null,null,null,null,null,null,null,{"$f":"IFERROR(IFERROR(VLOOKUP(D117,Surcharge!A:B,2,FALSE)*F117, VLOOKUP(D117 & \"\",Surcharge!A:B,2,FALSE)*F117), \"\")","v":""}]
[null,null,"Aspen 6B Battery Backpack Vacuum - Premium Kit (Sidewinder Tools)",9017572,3001,null,{"$f":"F118*E118","v":0},{"$f":"IFERROR(IFERROR(VLOOKUP(D118,Surcharge!A:B,2,FALSE)*F118, VLOOKUP(D118 & \"\",Surcharge!A:B,2,FALSE)*F118), \"\")","v":""},null,null,null,null,null,null,null,{"$f":"VLOOKUP(D118,'MPF SAP Canada Pre-Configured'!C:E,3,FALSE)","v":3001}]
[null,null,"Ergonomic Commercial Backpack Vacuum - 36 VDC / 10.4 Ah lithium ion powered vacuum. Runtime 55 minutes.  6 qt. (5.7 litre) capacity,  comes standard with 4-stage HEPA filtration, Deuter branded hiking harness, 18\" (457 mm) Sidewinder branded hard floor tool, 18\" (457 mm) Sidewinder branded carpet floor tool, 15-ft (5m) crush proof 4:1 stretch hose and two-piece anodized aluminum wand, dust brush, crevice and upholstery tool.  ETL certified. CRI certified Silver with optional Hi-performance tool.  Battery and charger included in price, battery ships separately.",null,null,{"$f":"SUM(F118)","v":0},null,{"$f":"IFERROR(IFERROR(VLOOKUP(D119,Surcharge!A:B,2,FALSE)*F119, VLOOKUP(D119 & \"\",Surcharge!A:B,2,FALSE)*F119), \"\")","v":""}]
[null,null,null,null,null,{"$f":"SUM(F119)","v":0},null,{"$f":"IFERROR(IFERROR(VLOOKUP(D120,Surcharge!A:B,2,FALSE)*F120, VLOOKUP(D120 & \"\",Surcharge!A:B,2,FALSE)*F120), \"\")","v":""}]
[null,null,"Vacuum Boxed Dimensions: 33.25\"L x 16\"W x 15\"H (844.6mm x 406mm x 381mm)",null,null,0,null,{"$f":"IFERROR(IFERROR(VLOOKUP(D121,Surcharge!A:B,2,FALSE)*F121, VLOOKUP(D121 & \"\",Surcharge!A:B,2,FALSE)*F121), \"\")","v":""}]
[null,null,"Tools Boxed Dimensions:  32\"L x 11\" W x 4.5\"H (813mm x 279mm x 114mm)",null,null,0,null,{"$f":"IFERROR(IFERROR(VLOOKUP(D122,Surcharge!A:B,2,FALSE)*F122, VLOOKUP(D122 & \"\",Surcharge!A:B,2,FALSE)*F122), \"\")","v":""}]
[null,null,"Battery Box Dimensions:  13.5\"L x 4.5\"W x 6.25\"H (343mm x 114mm x 159mm)",null,null,0,null,{"$f":"IFERROR(IFERROR(VLOOKUP(D123,Surcharge!A:B,2,FALSE)*F123, VLOOKUP(D123 & \"\",Surcharge!A:B,2,FALSE)*F123), \"\")","v":""}]
[null,null,"Shipping Weight: vacuum 23 lbs. (10.4 kg) + tools 3.4 lbs (1.5 kg) + battery box 6.2 lbs (2.8 kg) = total 32.6 lbs (14.7 kg)",null,null,0,null,{"$f":"IFERROR(IFERROR(VLOOKUP(D124,Surcharge!A:B,2,FALSE)*F124, VLOOKUP(D124 & \"\",Surcharge!A:B,2,FALSE)*F124), \"\")","v":""}]
[null,null,"*4 Total boxes will come with the order (in addition to the three above there will be a small accessory box).",null,null,0,null,{"$f":"IFERROR(IFERROR(VLOOKUP(D125,Surcharge!A:B,2,FALSE)*F125, VLOOKUP(D125 & \"\",Surcharge!A:B,2,FALSE)*F125), \"\")","v":""}]
[]
[null,null,null,null,null,null,null,{"$f":"IFERROR(IFERROR(VLOOKUP(D127,Surcharge!A:B,2,FALSE)*F127, VLOOKUP(D127 & \"\",Surcharge!A:B,2,FALSE)*F127), \"\")","v":""}]
[null,"Wet/Dry Vacuums",null,null,null,{"$f":"SUM(F130,F137,F144,F152)","v":0},null,{"$f":"IFERROR(IFERROR(VLOOKUP(D128,Surcharge!A:B,2,FALSE)*F128, VLOOKUP(D128 & \"\",Surcharge!A:B,2,FALSE)*F128), \"\")","v":""}]
[]
[null,null,"V-WD-24P  24-gal. Wet/Dry Vacuum with Pump & Front Mount Squeegee",9019349,3222,null,{"$f":"F130*E130","v":0},null,null,null,null,null,null,null,null,{"$f":"VLOOKUP(D130,'MPF SAP Canada Pre-Configured'!C:E,3,FALSE)","v":3128}]
[null,null,"22.7 gallon gross volume tank capacity/14.5 gallon water volume tank capacity. 100\" (2530 mm) waterlift with powerful submersible pump and front mount squeegee. Includes 16-ft. (5 m) vacuum hose, a 40-ft. (12 m) power cord, 2-pc. Aluminum/plastic wand, wand with air flor regulator and wet floor tool.  \nOptions include: dual filtration system, dust floor tool, flat lance, round brush and adaptor.",null,null,{"$f":"SUM(F130)","v":0}]
[null,null,null,"Dual Filtration System sold as option",null,{"$f":"SUM(F131)","v":0}]
[null,null,"Boxed dimensions:  24L x 19W x 37H (620mm x 495mm x 950mm)",null,null,0]
[null,null,"Shipping Weight: 87 lbs. (39.5 kg) ",null,null,0]
[null,null,null,null,null,null,null,{"$f":"IFERROR(IFERROR(VLOOKUP(D135,Surcharge!A:B,2,FALSE)*F135, VLOOKUP(D135 & \"\",Surcharge!A:B,2,FALSE)*F135), \"\")","v":""}]
[null,null,null,null,null,null,null,{"$f":"IFERROR(IFERROR(VLOOKUP(D136,Surcharge!A:B,2,FALSE)*F136, VLOOKUP(D136 & \"\",Surcharge!A:B,2,FALSE)*F136), \"\")","v":""}]
[null,null,"V-WD-24P  24-gal. Wet/Dry Vacuum with Pump ",1244346,2595,null,{"$f":"F137*E137","v":0},{"$f":"IFERROR(IFERROR(VLOOKUP(D137,Surcharge!A:B,2,FALSE)*F137, VLOOKUP(D137 & \"\",Surcharge!A:B,2,FALSE)*F137), \"\")","v":""},null,null,null,null,null,null,null,{"$f":"VLOOKUP(D137,'MPF SAP Canada Pre-Configured'!C:E,3,FALSE)","v":2519}]
[null,null,"22.7 gallon gross volume tank capacity/14.5 gallon water volume tank capacity. 100\" (2530 mm) waterlift with powerful submersible pump. Includes 16-ft. (5 m) vacuum hose, a 40-ft. (12 m) power cord, 2-pc. Aluminum/plastic wand, wand with air flor regulator and wet floor tool.  \nOptions include: front mount squeegee kit, dual filtration system, dust floor tool, flat lance, round brush and adaptor.","Squeegee sold as option",null,{"$f":"SUM(F137)","v":0},null,{"$f":"IFERROR(IFERROR(VLOOKUP(D138,Surcharge!A:B,2,FALSE)*F138, VLOOKUP(D138 & \"\",Surcharge!A:B,2,FALSE)*F138), \"\")","v":""}]
[null,null,null,"Dual Filtration System sold as option",null,{"$f":"SUM(F138)","v":0},null,{"$f":"IFERROR(IFERROR(VLOOKUP(D139,Surcharge!A:B,2,FALSE)*F139, VLOOKUP(D139 & \"\",Surcharge!A:B,2,FALSE)*F139), \"\")","v":""}]
[null,null,"Boxed dimensions:  24L x 19W x 37H (620mm x 495mm x 950mm)",null,null,0,null,{"$f":"IFERROR(IFERROR(VLOOKUP(D140,Surcharge!A:B,2,FALSE)*F140, VLOOKUP(D140 & \"\",Surcharge!A:B,2,FALSE)*F140), \"\")","v":""}]
[null,null,"Shipping Weight: 65 lbs. (29.6 kg) ",null,null,0,null,{"$f":"IFERROR(IFERROR(VLOOKUP(D141,Surcharge!A:B,2,FALSE)*F141, VLOOKUP(D141 & \"\",Surcharge!A:B,2,FALSE)*F141), \"\")","v":""}]
[null,null,null,null,null,null,null,{"$f":"IFERROR(IFERROR(VLOOKUP(D142,Surcharge!A:B,2,FALSE)*F142, VLOOKUP(D142 & \"\",Surcharge!A:B,2,FALSE)*F142), \"\")","v":""}]
[]
[null,null,"V-WD-24  24-gal. Wet/Dry Vacuum with front mount squeegee",9019348,1939,null,{"$f":"F144*E144","v":0},null,null,null,null,null,null,null,null,{"$f":"VLOOKUP(D144,'MPF SAP Canada Pre-Configured'!C:E,3,FALSE)","v":1882}]
[null,null,"24 gallon gross volume tank capacity/15.59 gallon water volume tank capacity.100\" (2530 mm) waterlift with front mount squeegee. Includes 16-ft. (5 m) vacuum hose, a 40-ft. (12 m) power cord, 2-pc. Aluminum/plastic wand, wand with air flor regulator, cloth filter,  paper bag, dust floor tool, wet floor tool, flat lance, round brush and adaptor.  \nOptions include: carpet brush tool and upstream HEPA filter.",null,null,{"$f":"SUM(F144)","v":0}]
[null,null,"   ",null,null,{"$f":"SUM(F145)","v":0}]
[null,null,"Boxed dimensions:  24L x 19W x 37H (620mm x 495mm x 950mm)",null,null,0]
[null,null,"Shipping Weight: 79 lbs. (35.8 kg)",null,null,0]
[]
[null,null,null,null,null,null,null,{"$f":"IFERROR(IFERROR(VLOOKUP(D150,Surcharge!A:B,2,FALSE)*F150, VLOOKUP(D150 & \"\",Surcharge!A:B,2,FALSE)*F150), \"\")","v":""}]
[null,null,"V-WD-24  24-gal. Wet/Dry Vacuum",null,null,{"$f":"SUM(F152)","v":0},null,{"$f":"IFERROR(IFERROR(VLOOKUP(D151,Surcharge!A:B,2,FALSE)*F151, VLOOKUP(D151 & \"\",Surcharge!A:B,2,FALSE)*F151), \"\")","v":""}]
[null,null,"24 gallon gross volume tank capacity/15.59 gallon water volume tank capacity. 100\" (2530 mm) waterlift. Includes 16-ft. (5 m) vacuum hose, a 40-ft. (12 m) power cord, 2-pc. Aluminum/plastic wand, wand with air flor regulator, cloth filter,  paper bag, dust floor tool, wet floor tool, flat lance, round brush and adaptor.  \nOptions include: front mount squeegee kit, carpet brush tool and upstream HEPA filter.",1245656,1312,null,{"$f":"F152*E152","v":0},{"$f":"IFERROR(IFERROR(VLOOKUP(D152,Surcharge!A:B,2,FALSE)*F152, VLOOKUP(D152 & \"\",Surcharge!A:B,2,FALSE)*F152), \"\")","v":""},null,null,null,null,null,null,null,{"$f":"VLOOKUP(D152,'MPF SAP Canada Pre-Configured'!C:E,3,FALSE)","v":1273}]
[null,null,null,"Squeegee sold as option",null,{"$f":"SUM(F152)","v":0},null,{"$f":"IFERROR(IFERROR(VLOOKUP(D153,Surcharge!A:B,2,FALSE)*F153, VLOOKUP(D153 & \"\",Surcharge!A:B,2,FALSE)*F153), \"\")","v":""}]
[null,null,"Boxed dimensions:  24L x 19W x 37H (620mm x 495mm x 950mm)",null,null,{"$f":"SUM(F153)","v":0},null,{"$f":"IFERROR(IFERROR(VLOOKUP(D154,Surcharge!A:B,2,FALSE)*F154, VLOOKUP(D154 & \"\",Surcharge!A:B,2,FALSE)*F154), \"\")","v":""}]
[null,null,"Shipping Weight: 59 lbs. (26.8 kg)",null,null,0]
[null,null,null,null,null,null,null,{"$f":"IFERROR(IFERROR(VLOOKUP(D156,Surcharge!A:B,2,FALSE)*F156, VLOOKUP(D156 & \"\",Surcharge!A:B,2,FALSE)*F156), \"\")","v":""}]
[]
[null,null,"V-WD-9  9-gal. Wet/Dry Vacuum",1244345,829,null,{"$f":"F158*E158","v":0},{"$f":"IFERROR(IFERROR(VLOOKUP(D158,Surcharge!A:B,2,FALSE)*F158, VLOOKUP(D158 & \"\",Surcharge!A:B,2,FALSE)*F158), \"\")","v":""},null,null,null,null,null,null,null,{"$f":"VLOOKUP(D158,'MPF SAP Canada Pre-Configured'!C:E,3,FALSE)","v":804}]
[null,null,"9 gallon gross volume tank capacity/6.6 gallon water volume tank capacity.  100\" (2530 mm) waterlift.  Includes 8-ft. (2.5 m) vacuum hose, a 28-ft. (8.5 m) power cord, 2-pc. Aluminum/plastic wand, wand with air flor regulator, cloth filter,  paper bag, dust floor tool, wet floor tool, flat lance, round brush and adaptor.  \nOptions include: carpet brush tool and upstream HEPA filter.",null,null,{"$f":"SUM(F158)","v":0},null,{"$f":"IFERROR(IFERROR(VLOOKUP(D159,Surcharge!A:B,2,FALSE)*F159, VLOOKUP(D159 & \"\",Surcharge!A:B,2,FALSE)*F159), \"\")","v":""}]
[null,null,null,null,null,{"$f":"SUM(F159)","v":0},null,{"$f":"IFERROR(IFERROR(VLOOKUP(D160,Surcharge!A:B,2,FALSE)*F160, VLOOKUP(D160 & \"\",Surcharge!A:B,2,FALSE)*F160), \"\")","v":""}]
[null,null,"Boxed dimensions:  17L x 17W x 32H (420mm x 420mm x 820mm) ",null,null,{"$f":"SUM(F160)","v":0},null,{"$f":"IFERROR(IFERROR(VLOOKUP(D161,Surcharge!A:B,2,FALSE)*F161, VLOOKUP(D161 & \"\",Surcharge!A:B,2,FALSE)*F161), \"\")","v":""}]
[null,null,"Shipping Weight:  31 lbs. (13.9 kg)",null,null,{"$f":"SUM(F161)","v":0},null,{"$f":"IFERROR(IFERROR(VLOOKUP(D162,Surcharge!A:B,2,FALSE)*F162, VLOOKUP(D162 & \"\",Surcharge!A:B,2,FALSE)*F162), \"\")","v":""}]
[null,null,null,null,null,null,null,{"$f":"IFERROR(IFERROR(VLOOKUP(D163,Surcharge!A:B,2,FALSE)*F163, VLOOKUP(D163 & \"\",Surcharge!A:B,2,FALSE)*F163), \"\")","v":""}]
[]
[]
[null,null,null,null,{"$f":"ROUND(SUM(G28:G164), 0)","v":0},{"$f":"SUM(E167)","v":0}]
[null,null,null,"Machine Subtotal ",{"$f":"ROUND(SUM(G28:G164), 0)","v":0},{"$f":"F166","v":0}]
[null,"Discounts",null,null,null,{"$f":"SUM(F169)","v":0}]
[null,null,null,null,null,{"$f":"SUM(F171:F174)","v":0}]
[null,null,null,"Applicable Currency Adj %",null,{"$f":"IF(E170 <> \"\", 1, 0)","v":0},{"$f":"IF(F170*(E170*0.01)*E166 < 0, F170*(E170*0.01)*E166, -(F170*(E170*0.01)*E166))","v":0}]
[null,null,null,"Discount %",null,{"$f":"IF(E171 <> \"\", 1, 0)","v":0},{"$f":"IF(F171*(E171*0.01)*(E166+G170) < 0, F171*(E171*0.01)*(E166+G170), -(F171*(E171*0.01)*(E166+G170)))","v":0}]
[null,null,null,"Discount $",null,0,{"$f":"IF(F172*E172 < 0, F172*E172, -(F172*E172))","v":0}]
[null,null,null,"Discount $",null,0,{"$f":"IF(F173*E173 < 0, F173*E173, -(F173*E173))","v":0}]
[null,null,null,"Discount $",null,0,{"$f":"IF(F174*E174 < 0, F174*E174, -(F174*E174))","v":0}]
[null,null,null,"Discount Total ",{"$f":"SUM(G170:G174)","v":0},{"$f":"SUM(E175)","v":0}]
[null,null,null,null,null,{"$f":"#REF!","v":{"$error":"#REF!"}}]
[null,null,null,null,null,{"$f":"F176","v":{"$error":"#REF!"}}]
[null,null,"Prepaid and Add","Freight",null,{"$f":"IF(E178 <> \"\", 1, 0)","v":0},{"$f":"F178*E178","v":0}]
[null,null,"Subject to all applicable taxes","Tax",null,0,0]
[null,null,null,null,null,{"$f":"SUM(F181)","v":0}]
[null,null,null,"MACHINE TOTAL*",null,{"$f":"SUM(G181)","v":0},{"$f":"SUM(G28:G179)","v":0},null,null,null,null,null,null,"This goes to \"My Documents\""]
[null,null,null,null,null,null,{"$f":"SUM(G181)","v":0}]
[]
[]
[]
[]
[null,null,"Wells Fargo - Leasing Calculation Option:","Option 1",null,"Option 2",null,null,null,{"$f":"Financing!A38","v":"Rates 2025 - Rev.2/4/2025"}]
[null,null,null,"Monthly Payment","Cost Per Day","Monthly Payment","Cost Per Day",null,null,{"$f":"Financing!A39","v":"“Blank Payment Amounts Indicate The Financing Option Or Purchase Options Selected Are Not "}]
[null,null,"Purchase Option:","$1 Buyout Lease",null,"None",null,null,null,{"$f":"Financing!A40","v":"Applicable Or The Machine Total Is Below The Minimum Amount For The Selected Vendor”"}]
[null,null,"24 Months",0,0,0,0,null,null,{"$f":"Financing!A41","v":"\"Quoted monthly payments are estimates only and are based on a certain level of credit rating."}]
[null,null,"36 Months",0,0,0,0,null,null,{"$f":"Financing!A42","v":"Actual monthly payments may be higher depending on your credit rating.\""}]
[null,null,"48 Months",0,0,0,0,null,null,{"$f":"Financing!A43","v":"“Financing rates do not include Pre-Paid Service”"}]
[null,null,"60 Months",0,0,0,0]
[]
[null,null,null,"Benefits of Equipment Financing:"]
[null,null,null,"• Spreads out investment over time.",null,"• Keep current with latest technology."]
[null,null,null,"• Preserve capital.",null,"• Service and parts bundling available."]
[null,null,null,"• Low monthly payment.",null,"• Pay for labor savings as you go."]
[]
[null,"  TennantTrue",null,0,0]
[]
[null,null,"Is customer interested in service program?","Yes","*State/County selection required for TennantTrue service options"]
[]
[null,null,"If not, why?"]
[]
[null,null,"Term:",36,null,null,"AB Brushes","No"]
[null,null,"Monthly machine usage (hrs):","< 30/mo. (Avg. 1hr./day)"]
[]
[null,null,"TennantTrue: ","Gold Contract",null,"Silver Contract"]
[null,null,"Per Visit"]
[null,null,"Monthly"]
[null,null,"Annually"]
[null,null,"Pre-Pay Full Term"]
[null,null,"Hourly Labor Rate"]
[null,null,"Site Visit"]
[]
[null,null,"* Verify customer current pricing prior to quote. "]
[null,null,"**All rates and fees above reflect service for one (1) unit with the exception of Block of Time service."]
[null,null,"*Block of Time is available in 1 Year Term only and is priced as such no matter the term selection on this template."]
[]
[]
[]
[null,"Quote Special Instructions:"]
[]
[]
[]
[null,{"$f":"Start_Here!E36","v":"Terms and Conditions"}]
[null,{"$f":"Start_Here!E37","v":"Ask your local sales rep for estimated lead times. Verify when placing order"}]
[null,{"$f":"Start_Here!E38","v":"All orders subject to acceptance by Tennant Sales and Service Company, Minneapolis, Minnesota"}]
[null,{"$f":"Start_Here!E39","v":"Prices subject to change without notice. Subject to any applicable taxes."}]
[null,{"$f":"Start_Here!E40","v":"Terms:  Net 30 days.  Payable in Canadian Funds"}]
[null,{"$f":"Start_Here!E41","v":"Freight:  Accessories, parts, supplies, detergents, and floor coatings orders delivered DDP "}]
[null,{"$f":"Start_Here!E42","v":"shipping point Frt PPD.  Machine orders delivered DDP shipping point Frt PPD and add."}]
[null,{"$f":"Start_Here!E43","v":"Returned Merchandise is subject to a restocking fee."}]
[null,{"$f":"Start_Here!E44","v":"All orders are subject to Tennant’s General Terms and Conditions available at http://www.tennantco.com/terms."}]
[null,{"$f":"Start_Here!E45","v":"Printed General Terms and Conditions are also available upon request."}]
[null,{"$f":"Start_Here!E46","v":0}]
[null,{"$f":"Start_Here!E47","v":0}]
[null,{"$f":"Start_Here!E48","v":0}]
[null,null,null,null,"Quote Date :",null,{"$f":"Letter!$A$25","v":"2023-08-01"}]
[null,"Order Placement Information:  To place your order, fill in PO# and customer signatures,"]
[null,"call or fax to the numbers listed below. Customer Purchase Order is required."]
[null,"If information is missing, orders will be entered and held until all information is received."]
[]
[null,null,"Customer Number",null,"Cust Grp 3"]
[null,null,{"$f":"Start_Here!$C$25","v":0},null,0]
[null,null,{"$f":"Start_Here!$B$18","v":"Who Owns the Machine? (Sold-To Info) (Please Verify)"}]
["Company",null,{"$f":"Start_Here!$C$19","v":"Company Name"}]
["Address",null,{"$f":"Start_Here!$C$20","v":"Address"}]
[null,null,{"$f":"Start_Here!$C$21","v":"City, State Zip"}]
["Name",null,{"$f":"Start_Here!$C$22","v":"Contact Name"}]
["Phone",null,{"$f":"Start_Here!$C$23","v":"Contact Phone"}]
[]
[null,null,{"$f":"Start_Here!$B$11","v":"Where is the Machine Being Shipped? (Ship-To Info) (Please Verify)"}]
["Company",null,{"$f":"Start_Here!$C$12","v":"Company Name"}]
["Address",null,{"$f":"Start_Here!$C$13","v":"Address"}]
[null,null,{"$f":"Start_Here!$C$14","v":"City, State Zip"}]
["Name",null,{"$f":"Start_Here!$C$15","v":"Contact Name"}]
["Phone",null,{"$f":"Start_Here!$C$16","v":"Contact Phone"}]
[]
[null,null,{"$f":"Start_Here!$B$31","v":"Shipping / Carrier Instructions:"},null,"Order Special Instructions:"]
[null,null,{"$f":"Start_Here!$C$32","v":0}]
[]
[null,null,"Customer Purchase Order No."]
[null,null,"(please attach copy)"]
[]
[]
[null,null,"Tax Exempt",null,"Yes"]
[null,null,null,null,"No"]
[null,null,"If Yes, attach a copy of your exemption certificate."]
[]
[null,null,"Requested Delivery Date"]
[null,null,{"$f":"Start_Here!$C$28","v":0}]
[]
[null,null,{"$f":"Start_Here!$C$26","v":0},null,0]
[null,null,"Authorized Buyer (please print)",null,"Phone Number"]
[]
[]
[null,null,"Authorized Buyer Signature"]
[]
[null,null,{"$f":"Start_Here!$C$41","v":"Rep Name"}]
[null,null,"Tennant Representative"]
[]
[null,null,null,"Specialized Maintenance Equipment"]
[null,null,{"$f":"Start_Here!$C$51","v":0}]
[null,null,null,{"$f":"Start_Here!$C$52","v":0}]
[]
[]
[null,"Notes"]
[]
[null,1,"Only available as factory-installed when batteries are ordered with machine."]
[]
[null,2,"A French and English manual will be supplied for all units shipping into Quebec, Canada at no charge.  An additional manual"]
[null,null,"can be ordered (for a total of 3 manuals) for an additional charge as stated under 'Additional Operator Manual'."]
[null,null,null," "]
[null,3,"Skid w/Carton, Non-Stackable is the default packaging method and will be added to the configuration unless otherwise specified."]
[]
[null,4,"Shipping Weights and Dimensions","Skid w/Carton"]
[]
[null,null,"Weight (w/360AH Battery)","650 lbs / 295 Kg"]
[null,null,"Length","68\" / 1,727mm"]
[null,null,"Width","33\" / 838mm"]
[null,null,"Height","48\" / 1,219mm"]

{"sheet":"Floor_Machine","index":12,"n_rows":177,"n_cols":16,"rows_kept":177,"cut":false,"hidden":false,"merged":[[60,3,60,4],[60,5,60,6],[62,3,62,4],[62,5,62,6],[82,3,82,4],[82,5,82,6],[75,4,75,8],[77,3,77,6],[79,3,79,4],[80,3,80,4],[125,0,125,1],[125,2,125,5],[87,3,87,4],[87,5,87,6],[88,3,88,4],[88,5,88,6],[130,2,130,5],[86,3,86,4],[86,5,86,6],[124,2,124,5],[83,3,83,4],[83,5,83,6],[84,3,84,4],[84,5,84,6],[85,3,85,4],[85,5,85,6],[131,0,131,1],[131,2,131,5],[148,4,148,5],[132,0,132,1],[132,2,132,5],[135,4,135,6],[137,2,137,5],[138,2,138,5],[139,2,139,5],[0,2,0,3],[1,2,1,3],[2,2,2,3],[3,2,3,3],[129,0,129,1],[129,2,129,5],[128,0,128,1],[128,2,128,5],[97,1,97,6],[119,4,119,6],[121,0,121,1],[121,2,121,5],[122,0,122,1],[122,2,122,5],[123,2,123,5],[124,0,124,1]]}
["Floor_Machine",null,{"$f":"Start_Here!$C19","v":"Company Name"}]
[{"$f":"SUM(G55)","v":0},null,{"$f":"Start_Here!$C20","v":"Address"}]
[null,null,{"$f":"Start_Here!$C21","v":"City, State Zip"}]
[null,null,{"$f":"Start_Here!$C22","v":"Contact Name"}]
[null,null,{"$f":"Start_Here!$C$41","v":"Rep Name"}]
[null,null,{"$f":"Start_Here!$C$37","v":"Tennant Sales and Service Company"}]
[null,null,{"$f":"Start_Here!$C$38","v":"10400 Clean Street"}]
[null,null,{"$f":"Start_Here!$C$39","v":"Eden Prairie, MN 55344"}]
[null,null,{"$f":"Start_Here!$C$43","v":"800-553-8033"},null,"Quote Date :",null,{"$f":"Letter!$A$25","v":"2023-08-01"}]
[]
[null,null,{"$f":"Help!C2","v":"CAN Date Rev - 5/6/2025"}]
[]
[null,null,"New Machine Warranty"]
[null,null,"FM 20SS, FM20DS"]
[null,null,"36 MONTHS or 2500 HOURS ON PARTS"]
[null,null,"36 MONTHS – LABOR",null,null,null,"Fax (quote only)"]
[null,null,"NO TRAVEL",null,null,null,"Mail (quote,lit, specs)"]
[null,null,"10 YEARS ON ROTOMOLDED PLASTIC PARTS",null,null,null,"Fax + Mail"]
[]
[]
[null,null,null,null,null,null,"Inside"]
[null,null,null,null,null,null,"Outside"]
[]
[]
[null,null,"Description","Reference#","Canada Price Each","Qty","Extended Price"]
[null,null,null,null,null,{"$f":"SUM(F27)","v":0},null,{"$f":"IFERROR(IFERROR(VLOOKUP(D26,Surcharge!A:B,2,FALSE)*F26, VLOOKUP(D26 & \"\",Surcharge!A:B,2,FALSE)*F26), \"\")","v":""}]
[null,null,"FM-20-SS - 20\" Heavy Duty 20\" (508mm) Floor Machine",9007336,2556,null,{"$f":"F27*E27","v":0},{"$f":"IFERROR(IFERROR(VLOOKUP(D27,Surcharge!A:B,2,FALSE)*F27, VLOOKUP(D27 & \"\",Surcharge!A:B,2,FALSE)*F27), \"\")","v":""},null,null,null,null,null,null,null,{"$f":"VLOOKUP(D27,'MPF SAP Canada Pre-Configured'!C:E,3,FALSE)","v":2388}]
[null,null,"175 rpm floor machine (1.50 hp). Includes pad driver.  CSA US/C*"," ",null,{"$f":"SUM(F27)","v":0},null,{"$f":"IFERROR(IFERROR(VLOOKUP(D28,Surcharge!A:B,2,FALSE)*F28, VLOOKUP(D28 & \"\",Surcharge!A:B,2,FALSE)*F28), \"\")","v":""}]
[null,null,"Boxed dimensions: 25L x 22W x 51H (635mm x 559mm x 1295mm)",null,null,{"$f":"SUM(F28)","v":0},null,{"$f":"IFERROR(IFERROR(VLOOKUP(D29,Surcharge!A:B,2,FALSE)*F29, VLOOKUP(D29 & \"\",Surcharge!A:B,2,FALSE)*F29), \"\")","v":""}]
[null,null,"Shipping Weight: 110 lbs. (50 kg) / Cu. Ft.: 16.25 (Cu. M. .46)",null,null,{"$f":"SUM(F29)","v":0},null,{"$f":"IFERROR(IFERROR(VLOOKUP(D30,Surcharge!A:B,2,FALSE)*F30, VLOOKUP(D30 & \"\",Surcharge!A:B,2,FALSE)*F30), \"\")","v":""}]
[null,null,null,null,null,null,null,{"$f":"IFERROR(IFERROR(VLOOKUP(D31,Surcharge!A:B,2,FALSE)*F31, VLOOKUP(D31 & \"\",Surcharge!A:B,2,FALSE)*F31), \"\")","v":""}]
[null,null,null,null,null,{"$f":"SUM(F33)","v":0},null,{"$f":"IFERROR(IFERROR(VLOOKUP(D32,Surcharge!A:B,2,FALSE)*F32, VLOOKUP(D32 & \"\",Surcharge!A:B,2,FALSE)*F32), \"\")","v":""}]
[null,null,"FM-20-DS - 20\" Heavy Duty Dual Speed 20\" (508mm) Floor Machine",9007334,3972,null,{"$f":"F33*E33","v":0},{"$f":"IFERROR(IFERROR(VLOOKUP(D33,Surcharge!A:B,2,FALSE)*F33, VLOOKUP(D33 & \"\",Surcharge!A:B,2,FALSE)*F33), \"\")","v":""},null,null,null,null,null,null,null,{"$f":"VLOOKUP(D33,'MPF SAP Canada Pre-Configured'!C:E,3,FALSE)","v":3712}]
[null,null,"185/330 rpm floor machine (1.50 hp). Includes pad driver.  CSA US/C*",null,null,{"$f":"SUM(F33)","v":0},null,{"$f":"IFERROR(IFERROR(VLOOKUP(D34,Surcharge!A:B,2,FALSE)*F34, VLOOKUP(D34 & \"\",Surcharge!A:B,2,FALSE)*F34), \"\")","v":""}]
[null,null,"Boxed dimensions: 25L x 22W x 51H (635mm x 559mm x 1295mm)",null,null,{"$f":"SUM(F34)","v":0},null,{"$f":"IFERROR(IFERROR(VLOOKUP(D35,Surcharge!A:B,2,FALSE)*F35, VLOOKUP(D35 & \"\",Surcharge!A:B,2,FALSE)*F35), \"\")","v":""}]
[null,null,"Shipping Weight:  96 lbs. (44 kg) / Cu. Ft.: 16.25 (Cu. M. .46)",null,null,{"$f":"SUM(F35)","v":0},null,{"$f":"IFERROR(IFERROR(VLOOKUP(D36,Surcharge!A:B,2,FALSE)*F36, VLOOKUP(D36 & \"\",Surcharge!A:B,2,FALSE)*F36), \"\")","v":""}]
[null,null,null,null,null,null,null,{"$f":"IFERROR(IFERROR(VLOOKUP(D37,Surcharge!A:B,2,FALSE)*F37, VLOOKUP(D37 & \"\",Surcharge!A:B,2,FALSE)*F37), \"\")","v":""}]
[]
[]
[null,null,null,null,{"$f":"ROUND(SUM(G26:G39), 0)","v":0},{"$f":"SUM(E41)","v":0}]
[null,null,null,"Machine Subtotal ",{"$f":"ROUND(SUM(G26:G39), 0)","v":0},{"$f":"F40","v":0}]
[null,"Discounts",null,null,null,{"$f":"SUM(F43)","v":0}]
[null,null,null,null,null,{"$f":"SUM(F45:F48)","v":0}]
[null,null,null,"Applicable Currency Adj %",null,{"$f":"IF(E44 <> \"\", 1, 0)","v":0},{"$f":"IF(F44*(E44*0.01)*E40 < 0, F44*(E44*0.01)*E40, -(F44*(E44*0.01)*E40))","v":0}]
[null,null,null,"Discount %",null,{"$f":"IF(E45 <> \"\", 1, 0)","v":0},{"$f":"IF(F45*(E45*0.01)*(E40+G44) < 0, F45*(E45*0.01)*(E40+G44), -(F45*(E45*0.01)*(E40+G44)))","v":0}]
[null,null,null,"Discount $",null,0,{"$f":"IF(F46*E46 < 0, F46*E46, -(F46*E46))","v":0}]
[null,null,null,"Discount $",null,0,{"$f":"IF(F47*E47 < 0, F47*E47, -(F47*E47))","v":0}]
[null,null,null,"Discount $",null,0,{"$f":"IF(F48*E48 < 0, F48*E48, -(F48*E48))","v":0}]
[null,null,null,"Discount Total ",{"$f":"SUM(G44:G48)","v":0},{"$f":"SUM(E49)","v":0}]
[null,null,null,null,null,{"$f":"#REF!","v":{"$error":"#REF!"}}]
[null,null,null,null,null,{"$f":"F50","v":{"$error":"#REF!"}}]
[null,null,"Prepaid and Add","Freight",null,{"$f":"IF(E52 <> \"\", 1, 0)","v":0},{"$f":"F52*E52","v":0}]
[null,null,"Subject to all applicable taxes","Tax",null,0,0]
[null,null,null,null,null,{"$f":"SUM(F55)","v":0}]
[null,null,null,"MACHINE TOTAL*",null,{"$f":"SUM(G55)","v":0},{"$f":"SUM(G26:G53)","v":0},null,null,null,null,null,null,"This goes to \"My Documents\""]
[null,null,null,null,null,null,{"$f":"SUM(G55)","v":0}]
[]
[]
[]
[]
[null,null,"Wells Fargo - Leasing Calculation Option:","Option 1",null,"Option 2",null,null,null,{"$f":"Financing!A38","v":"Rates 2025 - Rev.2/4/2025"}]
[null,null,null,"Monthly Payment","Cost Per Day","Monthly Payment","Cost Per Day",null,null,{"$f":"Financing!A39","v":"“Blank Payment Amounts Indicate The Financing Option Or Purchase Options Selected Are Not "}]
[null,null,"Purchase Option:","$1 Buyout Lease",null,"None",null,null,null,{"$f":"Financing!A40","v":"Applicable Or The Machine Total Is Below The Minimum Amount For The Selected Vendor”"}]
[null,null,"24 Months",0,0,0,0,null,null,{"$f":"Financing!A41","v":"\"Quoted monthly payments are estimates only and are based on a certain level of credit rating."}]
[null,null,"36 Months",0,0,0,0,null,null,{"$f":"Financing!A42","v":"Actual monthly payments may be higher depending on your credit rating.\""}]
[null,null,"48 Months",0,0,0,0,null,null,{"$f":"Financing!A43","v":"“Financing rates do not include Pre-Paid Service”"}]
[null,null,"60 Months",0,0,0,0]
[]
[null,null,null,"Benefits of Equipment Financing:"]
[null,null,null,"• Spreads out investment over time.",null,"• Keep current with latest technology."]
[null,null,null,"• Preserve capital.",null,"• Service and parts bundling available."]
[null,null,null,"• Low monthly payment.",null,"• Pay for labor savings as you go."]
[]
[null,"  TennantTrue",null,0,0]
[]
[null,null,"Is customer interested in service program?","Yes","*State/County selection required for TennantTrue service options"]
[]
[null,null,"If not, why?"]
[]
[null,null,"Term:",36,null,null,"AB Brushes","No"]
[null,null,"Monthly machine usage (hrs):","< 30/mo. (Avg. 1hr./day)"]
[]
[null,null,"TennantTrue: ","Gold Contract",null,"Silver Contract"]
[null,null,"Per Visit"]
[null,null,"Monthly"]
[null,null,"Annually"]
[null,null,"Pre-Pay Full Term"]
[null,null,"Hourly Labor Rate"]
[null,null,"Site Visit"]
[]
[null,null,"* Verify customer current pricing prior to quote. "]
[null,null,"**All rates and fees above reflect service for one (1) unit with the exception of Block of Time service."]
[null,null,"*Block of Time is available in 1 Year Term only and is priced as such no matter the term selection on this template."]
[]
[]
[]
[null,"Quote Special Instructions:"]
[]
[]
[]
[null,{"$f":"Start_Here!E36","v":"Terms and Conditions"}]
[null,{"$f":"Start_Here!E37","v":"Ask your local sales rep for estimated lead times. Verify when placing order"}]
[null,{"$f":"Start_Here!E38","v":"All orders subject to acceptance by Tennant Sales and Service Company, Minneapolis, Minnesota"}]
[null,{"$f":"Start_Here!E39","v":"Prices subject to change without notice. Subject to any applicable taxes."}]
[null,{"$f":"Start_Here!E40","v":"Terms:  Net 30 days.  Payable in Canadian Funds"}]
[null,{"$f":"Start_Here!E41","v":"Freight:  Accessories, parts, supplies, detergents, and floor coatings orders delivered DDP "}]
[null,{"$f":"Start_Here!E42","v":"shipping point Frt PPD.  Machine orders delivered DDP shipping point Frt PPD and add."}]
[null,{"$f":"Start_Here!E43","v":"Returned Merchandise is subject to a restocking fee."}]
[null,{"$f":"Start_Here!E44","v":"All orders are subject to Tennant’s General Terms and Conditions available at http://www.tennantco.com/terms."}]
[null,{"$f":"Start_Here!E45","v":"Printed General Terms and Conditions are also available upon request."}]
[null,{"$f":"Start_Here!E46","v":0}]
[null,{"$f":"Start_Here!E47","v":0}]
[null,{"$f":"Start_Here!E48","v":0}]
[null,null,null,null,"Quote Date :",null,{"$f":"Letter!$A$25","v":"2023-08-01"}]
[null,"Order Placement Information:  To place your order, fill in PO# and customer signatures,"]
[null,"call or fax to the numbers listed below. Customer Purchase Order is required."]
[null,"If information is missing, orders will be entered and held until all information is received."]
[]
[null,null,"Customer Number",null,"Cust Grp 3"]
[null,null,{"$f":"Start_Here!$C$25","v":0},null,{"$f":"Start_Here!$C$29","v":0}]
[null,null,{"$f":"Start_Here!$B$18","v":"Who Owns the Machine? (Sold-To Info) (Please Verify)"}]
["Company",null,{"$f":"Start_Here!$C$19","v":"Company Name"}]
["Address",null,{"$f":"Start_Here!$C$20","v":"Address"}]
[null,null,{"$f":"Start_Here!$C$21","v":"City, State Zip"}]
["Name",null,{"$f":"Start_Here!$C$22","v":"Contact Name"}]
["Phone",null,{"$f":"Start_Here!$C$23","v":"Contact Phone"}]
[]
[null,null,{"$f":"Start_Here!$B$11","v":"Where is the Machine Being Shipped? (Ship-To Info) (Please Verify)"}]
["Company",null,{"$f":"Start_Here!$C$12","v":"Company Name"}]
["Address",null,{"$f":"Start_Here!$C$13","v":"Address"}]
[null,null,{"$f":"Start_Here!$C$14","v":"City, State Zip"}]
["Name",null,{"$f":"Start_Here!$C$15","v":"Contact Name"}]
["Phone",null,{"$f":"Start_Here!$C$16","v":"Contact Phone"}]
[]
[null,null,{"$f":"Start_Here!$B$31","v":"Shipping / Carrier Instructions:"},null,"Order Special Instructions:"]
[null,null,{"$f":"Start_Here!$C$32","v":0}]
[]
[null,null,"Customer Purchase Order No."]
[null,null,"(please attach copy)"]
[]
[]
[null,null,"Tax Exempt",null,"Yes"]
[null,null,null,null,"No"]
[null,null,"If Yes, attach a copy of your exemption certificate."]
[]
[null,null,"Requested Delivery Date"]
[null,null,{"$f":"Start_Here!$C$28","v":0}]
[]
[null,null,{"$f":"Start_Here!$C$26","v":0},null,{"$f":"Start_Here!$C$27","v":0}]
[null,null,"Authorized Buyer (please print)",null,"Phone Number"]
[]
[]
[null,null,"Authorized Buyer Signature"]
[]
[null,null,{"$f":"Start_Here!$C$41","v":"Rep Name"}]
[null,null,"Tennant Representative"]
[]
[null,null,null,"Specialized Maintenance Equipment"]
[null,null,{"$f":"Start_Here!$C$51","v":0}]
[null,null,null,{"$f":"Start_Here!$C$52","v":0}]
[]
[]
[null,"Notes"]
[]
[null,1,"Only available as factory-installed when batteries are ordered with machine."]
[]
[null,2,"A French and English manual will be supplied for all units shipping into Quebec, Canada at no charge.  An additional manual"]
[null,null,"can be ordered (for a total of 3 manuals) for an additional charge as stated under 'Additional Operator Manual'."]
[null,null,null," "]
[null,3,"Skid w/Carton, Non-Stackable is the default packaging method and will be added to the configuration unless otherwise specified."]
[]
[null,4,"Shipping Weights and Dimensions","Skid w/Carton"]
[]
[null,null,"Weight (w/360AH Battery)","650 lbs / 295 Kg"]
[null,null,"Length","68\" / 1,727mm"]
[null,null,"Width","33\" / 838mm"]
[null,null,"Height","48\" / 1,219mm"]

{"sheet":"Burnishers","index":13,"n_rows":168,"n_cols":16,"rows_kept":168,"cut":false,"hidden":false,"merged":[[76,5,76,6],[77,3,77,4],[77,5,77,6],[78,3,78,4],[78,5,78,6],[112,0,112,1],[112,2,112,5],[113,0,113,1],[113,2,113,5],[51,3,51,4],[51,5,51,6],[53,3,53,4],[53,5,53,6],[88,1,88,6],[110,4,110,6],[73,3,73,4],[73,5,73,6],[74,3,74,4],[74,5,74,6],[75,3,75,4],[75,5,75,6],[123,0,123,1],[123,2,123,5],[114,2,114,5],[115,0,115,1],[115,2,115,5],[116,0,116,1],[116,2,116,5],[119,0,119,1],[119,2,119,5],[120,0,120,1],[122,0,122,1],[120,2,120,5],[121,2,121,5],[122,2,122,5],[0,2,0,3],[1,2,1,3],[2,2,2,3],[3,2,3,3],[139,4,139,5],[66,4,66,8],[68,3,68,6],[70,3,70,4],[71,3,71,4],[130,2,130,5],[126,4,126,6],[128,2,128,5],[129,2,129,5],[79,3,79,4],[79,5,79,6],[76,3,76,4]]}
["Burnishers",null,{"$f":"Start_Here!$C19","v":"Company Name"}]
[{"$f":"SUM(G46)","v":0},null,{"$f":"Start_Here!$C20","v":"Address"}]
[null,null,{"$f":"Start_Here!$C21","v":"City, State Zip"}]
[null,null,{"$f":"Start_Here!$C22","v":"Contact Name"}]
[null,null,{"$f":"Start_Here!$C$41","v":"Rep Name"}]
[null,null,{"$f":"Start_Here!$C$37","v":"Tennant Sales and Service Company"}]
[null,null,{"$f":"Start_Here!$C$38","v":"10400 Clean Street"}]
[null,null,{"$f":"Start_Here!$C$39","v":"Eden Prairie, MN 55344"}]
[null,null,{"$f":"Start_Here!$C$43","v":"800-553-8033"},null,"Quote Date :",null,{"$f":"Letter!$A$25","v":"2023-08-01"}]
[]
[null,null,{"$f":"Help!C2","v":"CAN Date Rev - 5/6/2025"}]
[]
[null,null,"New Machine Warranty",null,null,null,"Fax (quote only)"]
[null,null,"36 MONTHS or 2500 HOURS ON PARTS",null,null,null,"Mail (quote,lit, specs)"]
[null,null,"36 MONTHS – LABOR",null,null,null,"Fax + Mail"]
[null,null,"90 DAYS - TRAVEL ON BATTERY UNITS ONLY"]
[null,null,"10 YEARS ON ROTOMOLDED PLASTIC PARTS"]
[null,null,"BATTERIES ARE PRORATED OVER 1 YEAR",null,null,null,"Inside"]
[null,null,null,null,null,null,"Outside"]
[]
[]
[null,null,"Description","Reference#","Canada Price Each","Qty","Extended Price"]
[null,null,null,null,null,{"$f":"SUM(F24)","v":0}]
[null,null,"BR-2000-DC  Dust Control Burnisher* - 2000 rpm 20\" (508mm)",9007349,5528,null,{"$f":"F24*E24","v":0},{"$f":"IFERROR(IFERROR(VLOOKUP(D24,Surcharge!A:B,2,FALSE)*F24, VLOOKUP(D24 & \"\",Surcharge!A:B,2,FALSE)*F24), \"\")","v":""},null,null,null,null,null,null,null,{"$f":"VLOOKUP(D24,'MPF SAP Canada Pre-Configured'!C:E,3,FALSE)","v":5166}]
[null,null,"Complete package includes flexible pad driver, 75-ft. (23m) power cord, cloth filter bag and 1 pad.  CSA US/C*",null,null,{"$f":"SUM(F24)","v":0},null,{"$f":"IFERROR(IFERROR(VLOOKUP(D25,Surcharge!A:B,2,FALSE)*F25, VLOOKUP(D25 & \"\",Surcharge!A:B,2,FALSE)*F25), \"\")","v":""}]
[null,null,"Boxed dimensions: 34L x 27W x 51H (864mm x 686mm x 1295mm) ",null,null,{"$f":"SUM(F25)","v":0},null,{"$f":"IFERROR(IFERROR(VLOOKUP(D26,Surcharge!A:B,2,FALSE)*F26, VLOOKUP(D26 & \"\",Surcharge!A:B,2,FALSE)*F26), \"\")","v":""}]
[null,null,"Shipping Weight:  93 lbs. (42 kg) / Cu. Ft.:  27.093 (Cu. M. .76)",null,null,{"$f":"SUM(F26)","v":0},null,{"$f":"IFERROR(IFERROR(VLOOKUP(D27,Surcharge!A:B,2,FALSE)*F27, VLOOKUP(D27 & \"\",Surcharge!A:B,2,FALSE)*F27), \"\")","v":""}]
[null,null,null,null,null,null,null,{"$f":"IFERROR(IFERROR(VLOOKUP(D28,Surcharge!A:B,2,FALSE)*F28, VLOOKUP(D28 & \"\",Surcharge!A:B,2,FALSE)*F28), \"\")","v":""}]
[]
[]
[null,null,null,null,{"$f":"ROUND(SUM(G24:G30), 0)","v":0},{"$f":"SUM(E32)","v":0}]
[null,null,null,"Machine Subtotal ",{"$f":"ROUND(SUM(G24:G30), 0)","v":0},{"$f":"F31","v":0}]
[null,"Discounts",null,null,null,{"$f":"SUM(F34)","v":0}]
[null,null,null,null,null,{"$f":"SUM(F36:F39)","v":0}]
[null,null,null,"Applicable Currency Adj %",null,{"$f":"IF(E35 <> \"\", 1, 0)","v":0},{"$f":"IF(F35*(E35*0.01)*E31 < 0, F35*(E35*0.01)*E31, -(F35*(E35*0.01)*E31))","v":0}]
[null,null,null,"Discount %",null,{"$f":"IF(E36 <> \"\", 1, 0)","v":0},{"$f":"IF(F36*(E36*0.01)*(E31+G35) < 0, F36*(E36*0.01)*(E31+G35), -(F36*(E36*0.01)*(E31+G35)))","v":0}]
[null,null,null,"Discount $",null,0,{"$f":"IF(F37*E37 < 0, F37*E37, -(F37*E37))","v":0}]
[null,null,null,"Discount $",null,0,{"$f":"IF(F38*E38 < 0, F38*E38, -(F38*E38))","v":0}]
[null,null,null,"Discount $",null,0,{"$f":"IF(F39*E39 < 0, F39*E39, -(F39*E39))","v":0}]
[null,null,null,"Discount Total ",{"$f":"SUM(G35:G39)","v":0},{"$f":"SUM(E40)","v":0}]
[null,null,null,null,null,{"$f":"#REF!","v":{"$error":"#REF!"}}]
[null,null,null,null,null,{"$f":"F41","v":{"$error":"#REF!"}}]
[null,null,"Prepaid and Add","Freight",null,{"$f":"IF(E43 <> \"\", 1, 0)","v":0},{"$f":"F43*E43","v":0}]
[null,null,"Subject to all applicable taxes","Tax",null,0,0]
[null,null,null,null,null,{"$f":"SUM(F46)","v":0}]
[null,null,null,"MACHINE TOTAL*",null,{"$f":"SUM(G46)","v":0},{"$f":"SUM(G24:G44)","v":0},null,null,null,null,null,null,"This goes to \"My Documents\""]
[null,null,null,null,null,null,{"$f":"SUM(G46)","v":0}]
[]
[]
[]
[]
[null,null,"Wells Fargo - Leasing Calculation Option:","Option 1",null,"Option 2",null,null,null,{"$f":"Financing!A38","v":"Rates 2025 - Rev.2/4/2025"}]
[null,null,null,"Monthly Payment","Cost Per Day","Monthly Payment","Cost Per Day",null,null,{"$f":"Financing!A39","v":"“Blank Payment Amounts Indicate The Financing Option Or Purchase Options Selected Are Not "}]
[null,null,"Purchase Option:","$1 Buyout Lease",null,"None",null,null,null,{"$f":"Financing!A40","v":"Applicable Or The Machine Total Is Below The Minimum Amount For The Selected Vendor”"}]
[null,null,"24 Months",0,0,0,0,null,null,{"$f":"Financing!A41","v":"\"Quoted monthly payments are estimates only and are based on a certain level of credit rating."}]
[null,null,"36 Months",0,0,0,0,null,null,{"$f":"Financing!A42","v":"Actual monthly payments may be higher depending on your credit rating.\""}]
[null,null,"48 Months",0,0,0,0,null,null,{"$f":"Financing!A43","v":"“Financing rates do not include Pre-Paid Service”"}]
[null,null,"60 Months",0,0,0,0]
[]
[null,null,null,"Benefits of Equipment Financing:"]
[null,null,null,"• Spreads out investment over time.",null,"• Keep current with latest technology."]
[null,null,null,"• Preserve capital.",null,"• Service and parts bundling available."]
[null,null,null,"• Low monthly payment.",null,"• Pay for labor savings as you go."]
[]
[null,"  TennantTrue",null,0,0]
[]
[null,null,"Is customer interested in service program?","Yes","*State/County selection required for TennantTrue service options"]
[]
[null,null,"If not, why?"]
[]
[null,null,"Term:",36,null,null,"AB Brushes","No"]
[null,null,"Monthly machine usage (hrs):","< 30/mo. (Avg. 1hr./day)"]
[]
[null,null,"TennantTrue: ","Gold Contract",null,"Silver Contract"]
[null,null,"Per Visit"]
[null,null,"Monthly"]
[null,null,"Annually"]
[null,null,"Pre-Pay Full Term"]
[null,null,"Hourly Labor Rate"]
[null,null,"Site Visit"]
[]
[null,null,"* Verify customer current pricing prior to quote. "]
[null,null,"**All rates and fees above reflect service for one (1) unit with the exception of Block of Time service."]
[null,null,"*Block of Time is available in 1 Year Term only and is priced as such no matter the term selection on this template."]
[]
[]
[]
[null,"Quote Special Instructions:"]
[]
[]
[]
[null,{"$f":"Start_Here!E36","v":"Terms and Conditions"}]
[null,{"$f":"Start_Here!E37","v":"Ask your local sales rep for estimated lead times. Verify when placing order"}]
[null,{"$f":"Start_Here!E38","v":"All orders subject to acceptance by Tennant Sales and Service Company, Minneapolis, Minnesota"}]
[null,{"$f":"Start_Here!E39","v":"Prices subject to change without notice. Subject to any applicable taxes."}]
[null,{"$f":"Start_Here!E40","v":"Terms:  Net 30 days.  Payable in Canadian Funds"}]
[null,{"$f":"Start_Here!E41","v":"Freight:  Accessories, parts, supplies, detergents, and floor coatings orders delivered DDP "}]
[null,{"$f":"Start_Here!E42","v":"shipping point Frt PPD.  Machine orders delivered DDP shipping point Frt PPD and add."}]
[null,{"$f":"Start_Here!E43","v":"Returned Merchandise is subject to a restocking fee."}]
[null,{"$f":"Start_Here!E44","v":"All orders are subject to Tennant’s General Terms and Conditions available at http://www.tennantco.com/terms."}]
[null,{"$f":"Start_Here!E45","v":"Printed General Terms and Conditions are also available upon request."}]
[null,{"$f":"Start_Here!E46","v":0}]
[null,{"$f":"Start_Here!E47","v":0}]
[null,{"$f":"Start_Here!E48","v":0}]
[null,null,null,null,"Quote Date :",null,{"$f":"Letter!$A$25","v":"2023-08-01"}]
[null,"Order Placement Information:  To place your order, fill in PO# and customer signatures,"]
[null,"call or fax to the numbers listed below. Customer Purchase Order is required."]
[null,"If information is missing, orders will be entered and held until all information is received."]
[]
[null,null,"Customer Number",null,"Cust Grp 3"]
[null,null,{"$f":"Start_Here!$C$25","v":0},null,{"$f":"Start_Here!$C$29","v":0}]
[null,null,{"$f":"Start_Here!$B$18","v":"Who Owns the Machine? (Sold-To Info) (Please Verify)"}]
["Company",null,{"$f":"Start_Here!$C$19","v":"Company Name"}]
["Address",null,{"$f":"Start_Here!$C$20","v":"Address"}]
[null,null,{"$f":"Start_Here!$C$21","v":"City, State Zip"}]
["Name",null,{"$f":"Start_Here!$C$22","v":"Contact Name"}]
["Phone",null,{"$f":"Start_Here!$C$23","v":"Contact Phone"}]
[]
[null,null,{"$f":"Start_Here!$B$11","v":"Where is the Machine Being Shipped? (Ship-To Info) (Please Verify)"}]
["Company",null,{"$f":"Start_Here!$C$12","v":"Company Name"}]
["Address",null,{"$f":"Start_Here!$C$13","v":"Address"}]
[null,null,{"$f":"Start_Here!$C$14","v":"City, State Zip"}]
["Name",null,{"$f":"Start_Here!$C$15","v":"Contact Name"}]
["Phone",null,{"$f":"Start_Here!$C$16","v":"Contact Phone"}]
[]
[null,null,{"$f":"Start_Here!$B$31","v":"Shipping / Carrier Instructions:"},null,"Order Special Instructions:"]
[null,null,{"$f":"Start_Here!$C$32","v":0}]
[]
[null,null,"Customer Purchase Order No."]
[null,null,"(please attach copy)"]
[]
[]
[null,null,"Tax Exempt",null,"Yes"]
[null,null,null,null,"No"]
[null,null,"If Yes, attach a copy of your exemption certificate."]
[]
[null,null,"Requested Delivery Date"]
[null,null,{"$f":"Start_Here!$C$28","v":0}]
[]
[null,null,{"$f":"Start_Here!$C$26","v":0},null,{"$f":"Start_Here!$C$27","v":0}]
[null,null,"Authorized Buyer (please print)",null,"Phone Number"]
[]
[]
[null,null,"Authorized Buyer Signature"]
[]
[null,null,{"$f":"Start_Here!$C$41","v":"Rep Name"}]
[null,null,"Tennant Representative"]
[]
[null,null,null,"Specialized Maintenance Equipment"]
[null,null,{"$f":"Start_Here!$C$51","v":0}]
[null,null,null,{"$f":"Start_Here!$C$52","v":0}]
[]
[]
[null,"Notes"]
[]
[null,1,"Only available as factory-installed when batteries are ordered with machine."]
[]
[null,2,"A French and English manual will be supplied for all units shipping into Quebec, Canada at no charge.  An additional manual"]
[null,null,"can be ordered (for a total of 3 manuals) for an additional charge as stated under 'Additional Operator Manual'."]
[null,null,null," "]
[null,3,"Skid w/Carton, Non-Stackable is the default packaging method and will be added to the configuration unless otherwise specified."]
[]
[null,4,"Shipping Weights and Dimensions","Skid w/Carton"]
[]
[null,null,"Weight (w/360AH Battery)","650 lbs / 295 Kg"]
[null,null,"Length","68\" / 1,727mm"]
[null,null,"Width","33\" / 838mm"]
[null,null,"Height","48\" / 1,219mm"]

{"sheet":"SpeedGleam5","index":14,"n_rows":225,"n_cols":14,"rows_kept":225,"cut":false,"hidden":false,"merged":[[133,3,133,4],[133,5,133,6],[130,3,130,4],[130,5,130,6],[131,3,131,4],[131,5,131,6],[132,3,132,4],[132,5,132,6],[127,3,127,4],[127,5,127,6],[128,3,128,4],[128,5,128,6],[129,3,129,4],[129,5,129,6],[107,5,107,6],[32,1,32,5],[11,1,11,5],[27,1,27,5],[28,1,28,5],[29,1,29,5],[30,1,30,5],[193,4,193,5],[170,0,170,1],[184,2,184,5],[173,0,173,1],[173,2,173,5],[182,2,182,5],[177,0,177,1],[183,2,183,5],[176,2,176,5],[180,4,180,6],[176,0,176,1],[177,2,177,5],[174,2,174,5],[170,2,170,5],[167,0,167,1],[167,2,167,5],[175,2,175,5],[169,0,169,1],[174,0,174,1],[168,2,168,5],[169,2,169,5],[0,2,0,3],[1,2,1,3],[2,2,2,3],[3,2,3,3],[166,0,166,1],[166,2,166,5],[125,3,125,4],[120,4,120,8],[122,3,122,6],[124,3,124,4],[164,4,164,6],[142,1,142,6],[31,1,31,5],[105,3,105,4],[105,5,105,6],[107,3,107,4]]}
["SpeedGleam5",null,{"$f":"Start_Here!$C19","v":"Company Name"}]
[{"$f":"SUM(G100)","v":0},null,{"$f":"Start_Here!$C20","v":"Address"}]
[null,null,{"$f":"Start_Here!$C21","v":"City, State Zip"}]
[null,null,{"$f":"Start_Here!$C22","v":"Contact Name"}]
[null,null,{"$f":"Start_Here!$C$41","v":"Rep Name"}]
[null,null,{"$f":"Start_Here!$C$37","v":"Tennant Sales and Service Company"}]
[null,null,{"$f":"Start_Here!$C$38","v":"10400 Clean Street"}]
[null,null,{"$f":"Start_Here!$C$39","v":"Eden Prairie, MN 55344"}]
[null,null,{"$f":"Start_Here!$C$43","v":"800-553-8033"},null,"Quote Date :",null,{"$f":"Letter!$A$25","v":"2023-08-01"}]
[]
[null,null,{"$f":"Help!C2","v":"CAN Date Rev - 5/6/2025"}]
[null,"BUILT-IN “NOBLES VALUE” INCLUDES:"]
[]
[null,"510mm/20\" Burnishing Path",null,"On Board Charger"]
[null,"Push or Self-Propel Available",null,"3m/15 ft power cord"]
[null,"Passive Dust Control",null,"Standard (3) 12V 185 AH Battery Pack for  Pad/Brush Assist "]
[null,"Tooless Felt Dust skirt",null,"Standard (3) 12V 225 AH Battery Pack for Self Propel Unit"]
[null,"Pad RPM - 2100",null,"Battery Tray"]
[null,"Mechanical Set and Forget TM   Down Pressure",null,"On-Board Trouble Shooting Guide"]
[null,"True Free Floating Head",null,"ETL Listed for the US and Canada"]
[null,"Rugged DuramerTM Tank Construction",null,"64 dBa"]
[null,"Two-Way Gas Assist Shock for Tank Open/Close",null,"Emergency Stop"]
[null,"Anti-Static Straps",null,"Key Switch"]
[null,"Clamshell Tank Design",null,"Hour Meter"]
[null,"Jacking Points/Shipping Tie Downs",null,"Operators manual"]
[null,"Unit shipped with 1 burnishing pad and 1 paper dust bag"]
[]
[null,"NOBLES WARRANTY"]
[null,"3 YEARS OR 2000 HOURS - PARTS"]
[null,"1 YEAR - BATTERY CHARGERS"]
[null,"2 YEARS - LABOR"]
[null,"6 MONTHS - TRAVEL"]
[null,"10 YEARS ON DURAMERTM TANKS"]
[null,null,null,null,null,null,"Fax (quote only)"]
[null,null,null,null,null,null,"Mail (quote,lit, specs)"]
[null,null,null,null,null,null,"Fax + Mail"]
[]
[null,null,null,null,"                Primary Use"]
[null,null,null,null,null,null,"Inside"]
[null,null,null,null,null,null,"Outside"]
[]
[]
[null,null,"Description","Reference #","Price Each","Qty","Extended Price"]
[null,"Base Configuration",null,null,"CANADA",{"$f":"SUM(F45,F48,F52,F59,F62)","v":0}]
[null,null,"Cleaning Type",null,null,{"$f":"SUM(F46)","v":0},null,null,null,null,null,{"$f":"SUM(F45)","v":0},"Surcharge Qty"]
[null,null,"SpeedGleam 5 Battery Walk-Behind Burnisher 510mm/20\"  (Note 1) ","SG5-510",15642,null,{"$f":"F46*E46","v":0},{"$f":"IFERROR(IFERROR(VLOOKUP(D46,Surcharge!A:B,2,FALSE)*F46, VLOOKUP(D46 & \"\",Surcharge!A:B,2,FALSE)*F46), \"\")","v":""}]
[null,null,null,null,null,null,null,{"$f":"IFERROR(IFERROR(VLOOKUP(D47,Surcharge!A:B,2,FALSE)*F47, VLOOKUP(D47 & \"\",Surcharge!A:B,2,FALSE)*F47), \"\")","v":""}]
[null,null,"Drive Type",null,null,{"$f":"SUM(F49:F50)","v":0},null,{"$f":"IFERROR(IFERROR(VLOOKUP(D48,Surcharge!A:B,2,FALSE)*F48, VLOOKUP(D48 & \"\",Surcharge!A:B,2,FALSE)*F48), \"\")","v":""}]
[null,null,"Pad Assist","Pad-SG5","N/C",null,{"$f":"IF(F49=0,\" \",\"N/C\")","v":" "},{"$f":"IFERROR(IFERROR(VLOOKUP(D49,Surcharge!A:B,2,FALSE)*F49, VLOOKUP(D49 & \"\",Surcharge!A:B,2,FALSE)*F49), \"\")","v":""}]
[null,null,"Self Propel","Self-SG5",3619,null,{"$f":"F50*E50","v":0},{"$f":"IFERROR(IFERROR(VLOOKUP(D50,Surcharge!A:B,2,FALSE)*F50, VLOOKUP(D50 & \"\",Surcharge!A:B,2,FALSE)*F50), \"\")","v":""}]
[null,null,null,null,null,null,null,{"$f":"IFERROR(IFERROR(VLOOKUP(D51,Surcharge!A:B,2,FALSE)*F51, VLOOKUP(D51 & \"\",Surcharge!A:B,2,FALSE)*F51), \"\")","v":""}]
[null,null,"Battery Type",null,null,{"$f":"SUM(F53:F57)","v":0},null,{"$f":"IFERROR(IFERROR(VLOOKUP(D52,Surcharge!A:B,2,FALSE)*F52, VLOOKUP(D52 & \"\",Surcharge!A:B,2,FALSE)*F52), \"\")","v":""}]
[null,null,"Wet 185AH C/20  (kit of 3 batteries)",9012670,"N/C",null,{"$f":"IF(F53=0,\" \",\"N/C\")","v":" "},{"$f":"IFERROR(IFERROR(VLOOKUP(D53,Surcharge!A:B,2,FALSE)*F53, VLOOKUP(D53 & \"\",Surcharge!A:B,2,FALSE)*F53), \"\")","v":""}]
[null,null,"Wet 225AH C/20 (kit of 3 batteries) (Note 2)",9012671,619,null,{"$f":"F54*E54","v":0},{"$f":"IFERROR(IFERROR(VLOOKUP(D54,Surcharge!A:B,2,FALSE)*F54, VLOOKUP(D54 & \"\",Surcharge!A:B,2,FALSE)*F54), \"\")","v":""}]
[null,null,"Sealed/MF AGM 234AH C/20 (kit of 3 batteries)",9012672,3963,null,{"$f":"F55*E55","v":0},{"$f":"IFERROR(IFERROR(VLOOKUP(D55,Surcharge!A:B,2,FALSE)*F55, VLOOKUP(D55 & \"\",Surcharge!A:B,2,FALSE)*F55), \"\")","v":""}]
[null,null,null,null,null,null,null,{"$f":"IFERROR(IFERROR(VLOOKUP(D56,Surcharge!A:B,2,FALSE)*F56, VLOOKUP(D56 & \"\",Surcharge!A:B,2,FALSE)*F56), \"\")","v":""}]
[null,null,"Manual Battery Watering Kit  (Note 3)",9009620,1194,null,{"$f":"F57*E57","v":0},{"$f":"IFERROR(IFERROR(VLOOKUP(D57,Surcharge!A:B,2,FALSE)*F57, VLOOKUP(D57 & \"\",Surcharge!A:B,2,FALSE)*F57), \"\")","v":""}]
[null,null,null,null,null,null,null,{"$f":"IFERROR(IFERROR(VLOOKUP(D58,Surcharge!A:B,2,FALSE)*F58, VLOOKUP(D58 & \"\",Surcharge!A:B,2,FALSE)*F58), \"\")","v":""}]
[null,null,"Charger","Reference Number",null,{"$f":"SUM(F60:F60)","v":0},null,{"$f":"IFERROR(IFERROR(VLOOKUP(D59,Surcharge!A:B,2,FALSE)*F59, VLOOKUP(D59 & \"\",Surcharge!A:B,2,FALSE)*F59), \"\")","v":""}]
[null,null,"25A 85-265V AC 50/60Hz 1Ph On-Board for 185AH and 225AH",9012668,"N/C",null,{"$f":"IF(F60=0,\" \",\"N/C\")","v":" "},{"$f":"IFERROR(IFERROR(VLOOKUP(D60,Surcharge!A:B,2,FALSE)*F60, VLOOKUP(D60 & \"\",Surcharge!A:B,2,FALSE)*F60), \"\")","v":""}]
[null,null,null,null,null,null,null,{"$f":"IFERROR(IFERROR(VLOOKUP(D61,Surcharge!A:B,2,FALSE)*F61, VLOOKUP(D61 & \"\",Surcharge!A:B,2,FALSE)*F61), \"\")","v":""}]
[null,null,"Down Pressure",null,null,{"$f":"SUM(F63:F64)","v":0},null,{"$f":"IFERROR(IFERROR(VLOOKUP(D62,Surcharge!A:B,2,FALSE)*F62, VLOOKUP(D62 & \"\",Surcharge!A:B,2,FALSE)*F62), \"\")","v":""}]
[null,null,"Automated Down Pressure",9012641,949,null,{"$f":"F63*E63","v":0},{"$f":"IFERROR(IFERROR(VLOOKUP(D63,Surcharge!A:B,2,FALSE)*F63, VLOOKUP(D63 & \"\",Surcharge!A:B,2,FALSE)*F63), \"\")","v":""}]
[null,null,"Mechanical Set and Forget TM Down Pressure (Note 1)",9012640,"N/C",null,{"$f":"IF(F64=0,\" \",\"N/C\")","v":" "},{"$f":"IFERROR(IFERROR(VLOOKUP(D64,Surcharge!A:B,2,FALSE)*F64, VLOOKUP(D64 & \"\",Surcharge!A:B,2,FALSE)*F64), \"\")","v":""}]
[null,null,null,null,null,null,null,{"$f":"IFERROR(IFERROR(VLOOKUP(D65,Surcharge!A:B,2,FALSE)*F65, VLOOKUP(D65 & \"\",Surcharge!A:B,2,FALSE)*F65), \"\")","v":""}]
[null,"Cleaning Performance",null,null,null,{"$f":"SUM(F67:F69)","v":0},null,{"$f":"IFERROR(IFERROR(VLOOKUP(D66,Surcharge!A:B,2,FALSE)*F66, VLOOKUP(D66 & \"\",Surcharge!A:B,2,FALSE)*F66), \"\")","v":""}]
[null,null,"Dust Control System, Active - HEPA Filtration to 99.97% @ .3 microns",9012657,816,null,{"$f":"F67*E67","v":0},{"$f":"IFERROR(IFERROR(VLOOKUP(D67,Surcharge!A:B,2,FALSE)*F67, VLOOKUP(D67 & \"\",Surcharge!A:B,2,FALSE)*F67), \"\")","v":""}]
[null,null,"Dust Control System, Passive - 95% @ .3 microns ","PASSIVE","N/C",null,{"$f":"IF(F68=0,\" \",\"N/C\")","v":" "},{"$f":"IFERROR(IFERROR(VLOOKUP(D68,Surcharge!A:B,2,FALSE)*F68, VLOOKUP(D68 & \"\",Surcharge!A:B,2,FALSE)*F68), \"\")","v":""}]
[null,null,"Dust Control Filter, Paper Filter Bag",1210869,"N/C",null,{"$f":"IF(F69=0,\" \",\"N/C\")","v":" "},{"$f":"IFERROR(IFERROR(VLOOKUP(D69,Surcharge!A:B,2,FALSE)*F69, VLOOKUP(D69 & \"\",Surcharge!A:B,2,FALSE)*F69), \"\")","v":""}]
[null,null,null,null,null,null,null,{"$f":"IFERROR(IFERROR(VLOOKUP(D70,Surcharge!A:B,2,FALSE)*F70, VLOOKUP(D70 & \"\",Surcharge!A:B,2,FALSE)*F70), \"\")","v":""}]
[null,"Support (Note 4)",null,null,null,{"$f":"SUM(F72:F75)","v":0},null,{"$f":"IFERROR(IFERROR(VLOOKUP(D71,Surcharge!A:B,2,FALSE)*F71, VLOOKUP(D71 & \"\",Surcharge!A:B,2,FALSE)*F71), \"\")","v":""}]
[null,null,"SpeedGleam 5 Operator Manual - English",9011615,"N/C",null,{"$f":"IF(F72=0,\" \",\"N/C\")","v":" "},{"$f":"IFERROR(IFERROR(VLOOKUP(D72,Surcharge!A:B,2,FALSE)*F72, VLOOKUP(D72 & \"\",Surcharge!A:B,2,FALSE)*F72), \"\")","v":""}]
[null,null,"SpeedGleam 5 Operator Manual - French ",9011618,"N/C",null,{"$f":"IF(F73=0,\" \",\"N/C\")","v":" "},{"$f":"IFERROR(IFERROR(VLOOKUP(D73,Surcharge!A:B,2,FALSE)*F73, VLOOKUP(D73 & \"\",Surcharge!A:B,2,FALSE)*F73), \"\")","v":""}]
[null,null,null,null,null,null,null,{"$f":"IFERROR(IFERROR(VLOOKUP(D74,Surcharge!A:B,2,FALSE)*F74, VLOOKUP(D74 & \"\",Surcharge!A:B,2,FALSE)*F74), \"\")","v":""}]
[null,null,"Packaging",null,null,{"$f":"SUM(F76:F76)","v":0},null,{"$f":"IFERROR(IFERROR(VLOOKUP(D75,Surcharge!A:B,2,FALSE)*F75, VLOOKUP(D75 & \"\",Surcharge!A:B,2,FALSE)*F75), \"\")","v":""}]
[null,null,"Skid w/Carton, Stackable",9012678,"N/C",null,{"$f":"IF(F76=0,\" \",\"N/C\")","v":" "},{"$f":"IFERROR(IFERROR(VLOOKUP(D76,Surcharge!A:B,2,FALSE)*F76, VLOOKUP(D76 & \"\",Surcharge!A:B,2,FALSE)*F76), \"\")","v":""}]
[null,null,null,null,null,null,null,{"$f":"IFERROR(IFERROR(VLOOKUP(D77,Surcharge!A:B,2,FALSE)*F77, VLOOKUP(D77 & \"\",Surcharge!A:B,2,FALSE)*F77), \"\")","v":""}]
[]
[null,"Custom Solution--write in description, qty, price, and PN if applicable",null,null,null,{"$f":"SUM(F80)","v":0}]
[null,null,null,null,"Insert Prices Here",{"$f":"SUM(F81:F84)","v":0}]
[null,null,null,"Custom",null,{"$f":"IF(E81 <> \"\", 1, 0)","v":0},{"$f":"F81*E81","v":0}]
[null,null,null,"Custom",null,{"$f":"IF(E82 <> \"\", 1, 0)","v":0},{"$f":"F82*E82","v":0}]
[null,null,null,"Custom",null,0,{"$f":"F83*E83","v":0}]
[null,null,null,"Custom",null,0,{"$f":"F84*E84","v":0}]
[null,null,null,null,{"$f":"ROUND(SUM(G46:G84), 0)","v":0},{"$f":"SUM(E86)","v":0}]
[null,null,null,"Machine Subtotal ",{"$f":"ROUND(SUM(G46:G84), 0)","v":0},{"$f":"F85","v":0}]
[null,"Discounts",null,null,null,{"$f":"SUM(F88)","v":0}]
[null,null,null,null,null,{"$f":"SUM(F90:F93)","v":0}]
[null,null,null,"Applicable Currency Adj %",null,{"$f":"IF(E89 <> \"\", 1, 0)","v":0},{"$f":"IF(F89*(E89*0.01)*E85 < 0, F89*(E89*0.01)*E85, -(F89*(E89*0.01)*E85))","v":0}]
[null,null,null,"Discount %",null,{"$f":"IF(E90 <> \"\", 1, 0)","v":0},{"$f":"IF(F90*(E90*0.01)*(E85+G89) < 0, F90*(E90*0.01)*(E85+G89), -(F90*(E90*0.01)*(E85+G89)))","v":0}]
[null,null,null,"Discount $",null,0,{"$f":"IF(F91*E91 < 0, F91*E91, -(F91*E91))","v":0}]
[null,null,null,"Discount $",null,0,{"$f":"IF(F92*E92 < 0, F92*E92, -(F92*E92))","v":0}]
[null,null,null,"Discount $",null,0,{"$f":"IF(F93*E93 < 0, F93*E93, -(F93*E93))","v":0}]
[null,null,null,"Discount Total ",{"$f":"SUM(G89:G93)","v":0},{"$f":"SUM(E94)","v":0}]
[null,null,null,null,null,{"$f":"#REF!","v":{"$error":"#REF!"}}]
[null,null,null,null,null,{"$f":"F95","v":{"$error":"#REF!"}}]
[null,null,"Prepaid and Add","Freight",null,{"$f":"IF(E97 <> \"\", 1, 0)","v":0},{"$f":"F97*E97","v":0}]
[null,null,"Subject to all applicable taxes","Tax",null,0,0]
[null,null,null,null,null,{"$f":"SUM(F100)","v":0}]
[null,null,null,"MACHINE TOTAL*",null,{"$f":"SUM(G100)","v":0},{"$f":"SUM(G46:G98)","v":0},null,null,null,null,null,null,"This goes to \"My Documents\""]
[null,null,null,null,null,null,{"$f":"SUM(G100)","v":0}]
[]
[]
[]
[]
[null,null,"Wells Fargo - Leasing Calculation Option:","Option 1",null,"Option 2",null,null,null,{"$f":"Financing!A38","v":"Rates 2025 - Rev.2/4/2025"}]
[null,null,null,"Monthly Payment","Cost Per Day","Monthly Payment","Cost Per Day",null,null,{"$f":"Financing!A39","v":"“Blank Payment Amounts Indicate The Financing Option Or Purchase Options Selected Are Not "}]
[null,null,"Purchase Option:","$1 Buyout Lease",null,"None",null,null,null,{"$f":"Financing!A40","v":"Applicable Or The Machine Total Is Below The Minimum Amount For The Selected Vendor”"}]
[null,null,"24 Months",0,0,0,0,null,null,{"$f":"Financing!A41","v":"\"Quoted monthly payments are estimates only and are based on a certain level of credit rating."}]
[null,null,"36 Months",0,0,0,0,null,null,{"$f":"Financing!A42","v":"Actual monthly payments may be higher depending on your credit rating.\""}]
[null,null,"48 Months",0,0,0,0,null,null,{"$f":"Financing!A43","v":"“Financing rates do not include Pre-Paid Service”"}]
[null,null,"60 Months",0,0,0,0,null,{"$f":"Financing!A44","v":0}]
[]
[null,null,null,"Benefits of Equipment Financing:"]
[null,null,null,"• Spreads out investment over time.",null,"• Keep current with latest technology."]
[null,null,null,"• Preserve capital.",null,"• Service and parts bundling available."]
[null,null,null,"• Low monthly payment.",null,"• Pay for labor savings as you go."]
[]
[null,"  TennantTrue",null,0,0]
[]
[null,null,"Is customer interested in service program?","Yes","*State/County selection required for TennantTrue service options"]
[]
[null,null,"If not, why?"]
[]
[null,null,"Term:",36,null,null,"AB Brushes","No"]
[null,null,"Monthly machine usage (hrs):","< 30/mo. (Avg. 1hr./day)"]
[]
[null,null,"TennantTrue: ","Gold Contract",null,"Silver Contract"]
[null,null,"Per Visit",null,null,336]
[null,null,"Monthly",112,null,56]
[null,null,"Annually",null,null,659]
[null,null,"Pre-Pay Full Term",3882,null,1936]
[null,null,"Hourly Labor Rate"]
[null,null,"Site Visit"]
[]
[null,null,"* Verify customer current pricing prior to quote. "]
[null,null,"**All rates and fees above reflect service for one (1) unit with the exception of Block of Time service."]
[null,null,"*Block of Time is available in 1 Year Term only and is priced as such no matter the term selection on this template."]
[]
[]
[]
[null,"Quote Special Instructions:"]
[]
[]
[]
[null,{"$f":"Start_Here!E36","v":"Terms and Conditions"}]
[null,{"$f":"Start_Here!E37","v":"Ask your local sales rep for estimated lead times. Verify when placing order"}]
[null,{"$f":"Start_Here!E38","v":"All orders subject to acceptance by Tennant Sales and Service Company, Minneapolis, Minnesota"}]
[null,{"$f":"Start_Here!E39","v":"Prices subject to change without notice. Subject to any applicable taxes."}]
[null,{"$f":"Start_Here!E40","v":"Terms:  Net 30 days.  Payable in Canadian Funds"}]
[null,{"$f":"Start_Here!E41","v":"Freight:  Accessories, parts, supplies, detergents, and floor coatings orders delivered DDP "}]
[null,{"$f":"Start_Here!E42","v":"shipping point Frt PPD.  Machine orders delivered DDP shipping point Frt PPD and add."}]
[null,{"$f":"Start_Here!E43","v":"Returned Merchandise is subject to a restocking fee."}]
[null,{"$f":"Start_Here!E44","v":"All orders are subject to Tennant’s General Terms and Conditions available at http://www.tennantco.com/terms."}]
[null,{"$f":"Start_Here!E45","v":"Printed General Terms and Conditions are also available upon request."}]
[null,{"$f":"Start_Here!E46","v":0}]
[null,{"$f":"Start_Here!E47","v":0}]
[null,{"$f":"Start_Here!E48","v":0}]
[null,null,null,null,"Quote Date :",null,{"$f":"Letter!$A$25","v":"2023-08-01"}]
[null,"Order Placement Information:  To place your order, fill in PO# and customer signatures,"]
[null,"call or fax to the numbers listed below. Customer Purchase Order is required."]
[null,"If information is missing, orders will be entered and held until all information is received."]
[]
[null,null,"Customer Number",null,"Cust Grp 3"]
[null,null,{"$f":"Start_Here!$C$25","v":0},null,{"$f":"Start_Here!$C$29","v":0}]
[null,null,{"$f":"Start_Here!$B$18","v":"Who Owns the Machine? (Sold-To Info) (Please Verify)"}]
["Company",null,{"$f":"Start_Here!$C$19","v":"Company Name"}]
["Address",null,{"$f":"Start_Here!$C$20","v":"Address"}]
[null,null,{"$f":"Start_Here!$C$21","v":"City, State Zip"}]
["Name",null,{"$f":"Start_Here!$C$22","v":"Contact Name"}]
["Phone",null,{"$f":"Start_Here!$C$23","v":"Contact Phone"}]
[]
[null,null,{"$f":"Start_Here!$B$11","v":"Where is the Machine Being Shipped? (Ship-To Info) (Please Verify)"}]
["Company",null,{"$f":"Start_Here!$C$12","v":"Company Name"}]
["Address",null,{"$f":"Start_Here!$C$13","v":"Address"}]
[null,null,{"$f":"Start_Here!$C$14","v":"City, State Zip"}]
["Name",null,{"$f":"Start_Here!$C$15","v":"Contact Name"}]
["Phone",null,{"$f":"Start_Here!$C$16","v":"Contact Phone"}]
[]
[null,null,{"$f":"Start_Here!$B$31","v":"Shipping / Carrier Instructions:"},null,"Order Special Instructions:"]
[null,null,{"$f":"Start_Here!$C$32","v":0}]
[]
[null,null,"Customer Purchase Order No."]
[null,null,"(please attach copy)"]
[]
[]
[null,null,"Tax Exempt",null,"Yes"]
[null,null,null,null,"No"]
[null,null,"If Yes, attach a copy of your exemption certificate."]
[]
[null,null,"Requested Delivery Date"]
[null,null,{"$f":"Start_Here!$C$28","v":0}]
[]
[null,null,{"$f":"Start_Here!$C$26","v":0},null,{"$f":"Start_Here!$C$27","v":0}]
[null,null,"Authorized Buyer (please print)",null,"Phone Number"]
[]
[]
[null,null,"Authorized Buyer Signature"]
[]
[null,null,{"$f":"Start_Here!$C$41","v":"Rep Name"}]
[null,null,"Tennant Representative"]
[]
[null,null,null,"Specialized Maintenance Equipment"]
[null,null,{"$f":"Start_Here!$C$51","v":0}]
[null,null,null,{"$f":"Start_Here!$C$52","v":0}]
[]
[]
[null,"Notes"]
[]
[null,1,"When pad/brush assist unit is chosen, only mechanical Set and ForgetTM downpressure is available."]
[]
[null,2,"225AH Battery is standard with Self Propel and will be included at No Charge when that option is selected."]
[]
[null,3,"Factory installed pricing.  Only available on wet batteries, not sealed. "]
[]
[null,4,"A French and English manual will be supplied for all units shipping into Quebec, Canada at no charge. Additional manuals "]
[null,null,"can be ordered at Nobles.com at no charge and service manuals on My Account at no charge."]
[]
[null,5,"Shipping Weights and Dimensions",null,"Skid w/Carton"]
[]
[null,null,"Weight - Pad Drive w/185AH Battery",null,"587 lbs / 267 Kg"]
[null,null,"Weight - Self Propel w/225AH Battery",null,"652 lbs / 296 Kg"]
[null,null,"Length",null,"60\" / 1524 mm"]
[null,null,"Width",null,"31\" / 788 mm"]
[null,null,"Height",null,"50\" / 1270 mm"]

{"sheet":"MPF SAP Canada Pre-Configured","index":15,"n_rows":224,"n_cols":5,"rows_kept":224,"cut":false,"hidden":true,"merged":[]}
["Master Price File Canada (Canadian MPF) - PreConfigured Machines"]
[]
["Download Date:",null,"2022-11-01"]
["Price Adj Effective Date:",null,"2023-01-01"]
["Table name =",null,"MPF_Table_Canada_PreConfigured"]
[]
["Product Hierarchy","Description","Material","Material Description","2023 List"]
["301003","CS5",1251580,"SCRUBBER [CS5 BATTERY  NAM]",4224]
["301004135","CS16","LPTB03328","SCRUBBER [CS16 BATTERY  NA]",5944]
["302404","S8",9001401,"SWEEPER, 28INCH, 12VDC, GEL, TJ",7569]
["302506","S9 (Battery Sweeper)",1069648,"SWEEPER, 90CM, 12V [S9 NA, W/O B,W/ C]",6792]
["302508","S6",1251268,"SWEEPER [S6 NA EX W/ BATT, CORD]",4606]
["302509","Scout 6",1251270,"SWEEPER [SCOUT 6  W/ BATT, CORD]",4606]
["302510","S7",1251272,"SWEEPER [S7 NA W/ BATT, CORD]",9206]
["302511","Scout 7",1251274,"SWEEPER [SCOUT 7  W BATT, CORD]",9206]
["302601","SS10",9003573,"SWEEPER, NA, FI [S10]",17231]
["304053","S20","MS20-1781","MODEL S20 SWEEPER",52297]
["304053","S20","MS20-5902","MODEL S20 SWEEPER",45502]
["304215","S30","MS30-3567","MODEL S30 RIDER SWEEPER",29211]
["304215","S30","MS30-1766","MODEL S30 RIDER SWEEPER",44940]
["306200","T1",9004191,"SCRUBBER, 38CM, 11L, 120VAC [T1]",6663]
["306200","T1","9004191-H","SCRUBBER, 38CM, 11L, 120VAC [T1]",6663]
["306201","Speed Scrub 15\" (3gal, Cord Elec Cyli","9004200-H","SCRUBBER, 38CM, 11L, 120VAC [SS-15\"]",6663]
["306201","Speed Scrub 15\" (3gal, Cord Elec Cyli",9004200,"SCRUBBER, 38CM, 11L, 120VAC [SS-15]",6663]
["306202","T1B",9008635,"SCRUBBER, 38CM, 11L, 12VDC [T1B NA, AGM]",8611]
["306202","T1B",9016537,"SCRUBBER, 38CM, 11L, 12VDC [T1B AGM IRIS",10176]
["306202","T1B",9008638,"SCRUBBER, 38CM, 11L, 12VDC [T1B NA, Li]",11109]
["306203","SPEEDSCRUB BATT 15\"",9008640,"SCRUBBER, 2 GAL, Li BATT [NOB SS15]",11109]
["306203","SPEEDSCRUB BATT 15\"",9008637,"SCRUBBER, 38CM, 11L, 12VDC [SS-15\", AGM]",8611]
["306300","T2","MV-T2-0001","SCRUBBER, 43CM, PUSH [T2, NA]",11537]
["306300","T2","MV-T2-0008","SCRUBBER, 43CM, PUSH [T2, NA GEL W/BRSH]",10916]
["306304","WB-20  20\" Autoscrub",9002791,"SCRUBBER, 20INCH, 24VDC[WB-20B CTX CMPT]",9715]
["306307","T300","MV-T300-0001","SCRUBBER, 430D, PUSH, MEM [T300D NA]",11848]
["306307","T300","MV-T300-0003","SCRUBBER, 500D, PUSH, MEM [T300D NA]",13316]
["306307","T300","MV-T300-0011","SCRUBBER, 500O, DR, MEM, ECNC[T300 O NA]",19549]
["306307","T300","MV-T300-0007","SCRUBBER, 500D, DR, PRO, ECNC [T300D NA]",19379]
["306307","T300","MV-T300-0010","SCRUBBER, 500O, DR, MEM [T300 O NA]",16644]
["306307","T300","MV-T300-0008","SCRUBBER, 600D, DR, MEM [T300D NA]",17738]
["306307","T300","MV-T300-0004","SCRUBBER, 500D, DR, MEM [T300D NA]",15594]
["306307","T300","MV-T300-0006","SCRUBBER, 500D, DR, PRO [T300D NA]",16474]
["306307","T300","MV-T300-0135","SCRUBBER, 500D, DR, ECNC[T300D, ARMKCB]Y",21894]
["306307","T300","MV-T300-0134","SCRUBBER,500D, DR, ECNC [T300D,ARMK]PW Y",21484]
["306307","T300","MV-T300-0009","SCRUBBER, 600D, DR, PRO, ECNC [T300 NA]",21524]
["306307","T300","MV-T300-0005","SCRUBBER, 500D, DR, MEM, ECNC [T300D NA]",18499]
["306308","T300e","MV-T300E-0007","SCRUBBER, 600D, DR [T300e D NA]",13973]
["306308","T300e","MV-T300E-0002","SCRUBBER, 430D, PUSH [T300e D ECNC NA]",12507]
["306308","T300e","MV-T300E-0004","SCRUBBER, 500D, PUSH, IC,ECN[T300e D NA]",14321]
["306308","T300e","MV-T300E-0010","SCRUBBER, 500O, DR, ECNC [T300e O NA]",17225]
["306308","T300e","MV-T300E-0008","SCRUBBER, 600D, DR, IC, ECNC[T300e D NA]",17914]
["306308","T300e","MV-T300E-0085","SCRUBBER, EX, 500D, PUSH, CNV, 130AH[CA]",11272]
["306308","T300e","MV-T300E-0003","SCRUBBER, 500D, PUSH [T300e D NA]",10752]
["306308","T300e","MV-T300E-0086","SCRUBBER, EX, 500D, PUSH, CNV, AGM [CA]",12992]
["306308","T300e","MV-T300E-0006","SCRUBBER, 500D, DR, IC, ECNC[T300e D NA]",16895]
["306308","T300e","MV-T300E-0027","SCRUBBER, 500O, DR, ECNC [T300e O WM]",19207]
["306308","T300e","MV-T300E-0005","SCRUBBER, 500D,DR,IC,130AH [T300e D NA]",13989]
["306308","T300e","MV-T300E-0009","SCRUBBER, 500O, DR [T300e O NA]",14320]
["306309","SS300","MV-SS300-0006","SCRUBBER, 500D, DR, IC,ECN,130AH[SS300D]",16886]
["306309","SS300","MV-SS300-0003","SCRUBBER, 500D, PUSH, 130AH [SS300D]",10752]
["306309","SS300","MV-SS300-0005","SCRUBBER, 500D, DR, IC, 130AH [SS300D]",13981]
["306309","SS300","MV-SS300-0009","SCRUBBER, 500O, DR, 150AH [SS300 O]",14324]
["306309","SS300","MV-SS300-0010","SCRUBBER, 500O, DR, ECNC, 150AH[SS300 O]",17230]
["306309","SS300","MV-SS300-0012","SCRUBBER, 430D, P, IC,ECNC,130AH[SS300D]",13122]
["306309","SS300","MV-SS300-0001","SCRUBBER, 430D, PUSH, 130AH [SS300D]",9609]
["306309","SS300","MV-SS300-0007","SCRUBBER, 600D, DR, 150AH [SS300D]",13978]
["306309","SS300","MV-SS300-0002","SCRUBBER, 430D, PUSH, ECNC,130AH[SS300D]",12514]
["306309","SS300","MV-SS300-0004","SCRUBBER, 500D, P, IC,ECNC,130AH[SS300D]",14299]
["306309","SS300","MV-SS300-0008","SCRUBBER, 600D, DR, IC,ECNC,150A[SS300D]",17924]
["306327","T290",9022001,"SCRUBBER [T290 50CM, PA, 150AH WET, NA]",8676]
["306327","T290",9022004,"SCRUBBER [T290 50CM, 150AH WET, NA]",10585]
["306327","T290",1255468,"SCRUBBER [T290 50CM, W/O BATT, NA]",9836]
["306327","T290",9022003,"SCRUBBER [T290 50CM, 130AH WET, NA]",10403]
["306327","T290",1255467,"SCRUBBER [T290 50CM, PA, W/O BATT, NA]",7931]
["306327","T290",9022002,"SCRUBBER [T290 50CM, PA, 140AH AGM, NA]",10188]
["306327","T290",9022000,"SCRUBBER [T290 50CM, PA, 130AH WET, NA]",8497]
["306327","T290",9022005,"SCRUBBER [T290 50CM, 140AH AGM, NA]",12094]
["306407","T500","MV-T500-0019","SCRUBBER,T500,650D,MEM,ECNC,225AH,OBC,CA",27165]
["306407","T500","MV-T500-0017","SCRUBBER,T500, 700O, MEM, 225AH, OBC, CA",26040]
["306407","T500","MV-T500-0026","SCRUBBER,T500, 700O, PPAN, 225AH, OBC,CA",31409]
["306407","T500","MV-T500-0023","SCRUBBER,T500,700C,MEM,ECNC,225AH,OBC,CA",30674]
["306407","T500","MV-T500-0025","SCRUBBER,T500, 800D, PPAN, 225AH, OBC,CA",31593]
["306407","T500","MV-T500-0020","SCRUBBER,T500,700D,MEM,ECNC,225AH,OBC,CA",28671]
["306407","T500","MV-T500-0021","SCRUBBER,T500,800D,MEM,ECNC,225AH,OBC,CA",30386]
["306407","T500","MV-T500-0014","SCRUBBER,T500, 650D, MEM, 225AH, OBC, CA",23188]
["306407","T500","MV-T500-0016","SCRUBBER,T500, 800D, MEM, 225AH, OBC, CA",26411]
["306407","T500","MV-T500-0022","SCRUBBER,T500,700O,MEM,ECNC,225AH,OBC,CA",30015]
["306407","T500","MV-T500-0018","SCRUBBER,T500, 700C, MEM, 225AH, OBC, CA",26699]
["306407","T500","MV-T500-0015","SCRUBBER,T500, 700D, MEM, 225AH, OBC, CA",25119]
["306407","T500","MV-T500-0024","SCRUBBER,T500, 700D, PPAN, 225AH, OBC,CA",30463]
["306408","T500e","MV-T500E-0023","SCRUBBER,T500E,650D,ECNC,225AH,OBC,SF,CA",25570]
["306408","T500e","MV-T500E-0017","SCRUBBER, T500E, 800D, 225AH, OBC, CA",22534]
["306408","T500e","MV-T500E-0050","SCRUBBER, T500E,800D,CNV,225AH,OBC,PW,WM",25920]
["306408","T500e","MV-T500E-0024","SCRUBBER,T500E,700D,ECNC,225AH,OBC,SF,CA",26260]
["306408","T500e","MV-T500E-0021","SCRUBBER, T500E, 800D, 225AH, OBC, SF,CA",23818]
["306408","T500e","MV-T500E-0025","SCRUBBER,T500E,800D,ECNC,225AH,OBC,SF,CA",27792]
["306408","T500e","MV-T500E-0018","SCRUBBER, T500E, 700O, 225AH, OBC, CA",22343]
["306408","T500e","MV-T500E-0015","SCRUBBER, T500E, 650D, 225AH, OBC, CA",20312]
["306408","T500e","MV-T500E-0016","SCRUBBER, T500E, 700D, 225AH, OBC, CA",20955]
["306408","T500e","MV-T500E-0020","SCRUBBER, T500E, 700D, 225AH, OBC, SF,CA",22659]
["306408","T500e","MV-T500E-0026","SCRUBBER,T500E,700O,ECNC,225AH,OBC,SF,CA",27601]
["306408","T500e","MV-T500E-0022","SCRUBBER, T500E, 700O, 225AH, OBC, SF,CA",23626]
["306408","T500e","MV-T500E-0051","SCRUBBER,T500E, 700D,CNV,225AH,OBC,PW,WM",24753]
["306408","T500e","MV-T500E-0019","SCRUBBER, T500E, 650D, 225AH, OBC, SF,CA",21595]
["306408","T500e","MV-T500E-0049","SCRUBBER, T500E 800D, CNV, 225AH,OBC,WM",26348]
["306409","SS500","MV-SS500-0015","SCRUBBER, SS500, 800D, 225AH, OBC, CA",22534]
["306409","SS500","MV-SS500-0016","SCRUBBER, SS500, 700O, 225AH, OBC, CA",22343]
["306409","SS500","MV-SS500-0020","SCRUBBER, SS500, 700O, 225AH, OBC, SF,CA",23626]
["306409","SS500","MV-SS500-0024","SCRUBBER,SS500,700O,ECNC,225AH,OBC,SF,CA",27601]
["306409","SS500","MV-SS500-0021","SCRUBBER,SS500,650D,ECNC,225AH,OBC,SF,CA",25570]
["306409","SS500","MV-SS500-0019","SCRUBBER, SS500, 800D, 225AH, OBC, SF,CA",23818]
["306409","SS500","MV-SS500-0010","SCRUBBER,SS500,700D,ECNC,225AH,OBC,SF,PW",26631]
["306409","SS500","MV-SS500-0022","SCRUBBER,SS500,700D,ECNC,225AH,OBC,SF,CA",26786]
["306409","SS500","MV-SS500-0023","SCRUBBER,SS500,800D,ECNC,225AH,OBC,SF,CA",27792]
["306409","SS500","MV-SS500-0014","SCRUBBER, SS500, 700D, 225AH, OBC, CA",21376]
["306409","SS500","MV-SS500-0013","SCRUBBER, SS500, 650D, 225AH, OBC, CA",20309]
["306409","SS500","MV-SS500-0018","SCRUBBER SS500, 700D, 225AH, OBC, SF, CA",22659]
["306409","SS500","MV-SS500-0017","SCRUBBER, SS500, 650D, 225AH, OBC, SF,CA",21595]
["306413","T390",9022007,"SCRUBBER [T390, 70CM, 140AH AGM, NA]",15919]
["306413","T390",9022006,"SCRUBBER [T390, 70CM, 150AH WET, NA]",14408]
["306413","T390",1255469,"SCRUBBER [T390, 70CM, W/O BATT, NA]",13842]
["306505","T600e","MV-T600E-0001","SCRUBBER, T600E, 700D, CNV, 360AH [CA]",26975]
["306505","T600e","MV-T600E-0012","SCRUBBER,T600E,800D, CNV, 360AH [CA]",28123]
["307200","2180SR",9017766,"SCRUBBER [2180SR 50CM NA AND EXPORT]",14295]
["307202","T581",9022009,"SCRUBBER [T581, 50CM, 140AH AGM, NA]",18320]
["307202","T581",1255470,"SCRUBBER [T581, 50CM, W/O BATT, NA]",16243]
["307202","T581",9022008,"SCRUBBER [T581, 50CM, 150AH WET, NA]",16810]
["307500","T7","MV-T7-0049","SCRUBBER, T7, 650D, CNV, 220AH AGM [CA]",36542]
["307500","T7","MV-T7-0073","MV T7 SCRUBBER, 800 DISK [WM]",41069]
["307500","T7","MV-T7-0001","SCRUBBER, 650MM, DISK [T7 RIDER]",32400]
["307500","T7","MV-T7-0048","SCRUBBER, T7, 650D, ECNC, 240AH [CA]",38675]
["307500","T7","MV-T7-0047","SCRUBBER, T7, 650D, CNV, 240AH [CA]",34211]
["307500","T7","MV-T7-0050","SCRUBBER, T7, 650D, ECNC, 220AH AGM [CA]",41006]
["307500","T7","MV-T7-0045","SCRUBBER, 800MM, DISK, 360AH[T7 WALMART",37550]
["307500","T7","MV-T7-0078","SCRUBBER, 650MM, DISK, CNV [T7], [MX]",34859]
["307500","T7","MV-T7-0074","MV T7 SCRUBBER, 800 DISK [WM] PW",40608]
["307600","T12","MV-T12-0011","SCRUBBER MODEL T12, DISK, GRAINGER [US]",38684]
["307600","T12","MV-T12-0012","SCRUBBER MODEL T12, CYL, GRAINGER [US]",39735]
["309100","T350","MV-T350-0013","SCRUBBER,T350,500D,MEM,CNV,210AH,OBC[CA]",20289]
["309100","T350","MV-T350-0017","SCRUBBER,T350,600D,MEM,ECNC,240AH,OBC[CA",27354]
["309100","T350","MV-T350-0033","SCRUBBER,T350,500D,MEM,CNV,210AH,OBC[CA]",21516]
["309100","T350","MV-T350-0016","SCRUBBER,T350,600D,MEM,CNV,210AH,OBC[CA]",22548]
["309100","T350","MV-T350-0015","SCRUBBER, T350,500D,PPAN,ECNC,240AH [CA]",26447]
["309100","T350","MV-T350-0018","SCRUBBER, T350,600D,PPAN,ECNC,240AH [CA]",28705]
["309100","T350","MV-T350-0032","SCRUBBER,T350,600D,MEM,CNV,210AH,SF [CA]",23426]
["309100","T350","MV-T350-0014","SCRUBBER,T350,500D,MEM,ECNC,240AH,OBC[CA",25095]
["309200","SS350","MV-SS350-0011","SCRUBBER,SS350,600D,MEM,CNV,210AH,OBC[CA",22548]
["309200","SS350","MV-SS350-0012","SCRUBBER, SS350,600D,MEM,ECNC,240AH [CA]",27354]
["309200","SS350","MV-SS350-0010","SCRUBBER, SS350,500D,MEM,ECNC,240AH [CA]",25092]
["309200","SS350","MV-SS350-0009","SCRUBBER, SS350,500D,MEM,CNV,210AH [CA]",20286]
["311302","M20","MM20-2032","MODEL M20 SCRUBBER/SWEEPER",32582]
["311302","M20","MV-M20-0032","M20, LP, MEM, CNV [BRAZIL]",110504]
["311302","M20","MM20-3250","MODEL M20 SCRUBBER/SWEEPER",50558]
["311302","M20","MM20-3461","MODEL M20 SCRUBBER/SWEEPER",44812]
["321020","V-BP-6",1217839,"VACUUM, V-BP-6, 120V [TENNANT MEX]",859]
["321020","V-BP-6",9013473,"VACUUM, BACKPACK, W/BASE TOOLS [V-BP-6]",1058]
["321020","V-BP-6",9013475,"VACUUM, BACKPACK, W/PREM TOOLS [V-BP-6]",1248]
["321020","V-BP-6",1060830,"VACUUM, V-BP-6, 120V",950]
["321020","V-BP-6",1215364,"VACUUM, BACKPACK, 120V [TENNANT V-BP-6]",800]
["321020","V-BP-6",9013474,"VACUUM, BACKPACK, W/STD TOOLS [V-BP-6]",1092]
["321023","Aspen 6",1215365,"VACUUM, BACKPACK, 120V [NOBLES ASPEN 6]",830]
["321023","Aspen 6",9013476,"VACUUM, BACKPACK, W/BASE TOOLS [ASPEN 6]",1058]
["321023","Aspen 6",9013478,"VACUUM, BACKPACK, W/PREM TOOLS [ASPEN 6]",1248]
["321023","Aspen 6",9013477,"VACUUM, BACKPACK, W/STD TOOLS [ASPEN 6]",1092]
["321025","V-BP-6B",9017571,"VACUUM, BACKPACK, W/PREM TOOLS[V-BP-6B]",3001]
["321025","V-BP-6B",1236569,"VACUUM, BATTERY [TENNANT, V-BP-6B]",1550]
["321025","V-BP-6B",9017567,"VACUUM, BACKPACK, W/BASIC TOOLS[V-BP-6B]",2722]
["321025","V-BP-6B",9017570,"VACUUM, BACKPACK, W/STD TOOLS [V-BP-6B]",2815]
["321026","Aspen 6B",9017569,"VACUUM, BACKPACK, W/STD TOOLS [ASPEN 6B]",2815]
["321026","Aspen 6B",9017572,"VACUUM, BACKPACK, W/PREM TOOLS[ASPEN 6B]",3001]
["321026","Aspen 6B",9017568,"VACUUM, BACKPACK, W/BASIC TOOLS[ASPEN6B]",2722]
["322075","V-CAN-10",1244292,"VACUUM, CANISTER, 120V [V-CAN-10, NA]",449]
["322076","V-CAN-12",1252616,"VACUUM, CANISTER, 120V [V-CAN-12,NA,STD]",621]
["322077","V-CAN-16",1252618,"VACUUM, CANISTER, 120V [V-CAN-16,NA,STD]",764]
["322078","Denali-10",1244294,"VACUUM, CANISTER, 120V [DENALI-10, NA]",449]
["322079","Denali-12",1252617,"VACUUM, CANISTER,120V [DENALI-12,NA,STD]",621]
["322080","Denali-16",1252619,"VACUUM, CANISTER,120V [DENALI-16,NA,STD]",764]
["323123","V-SMU-14",1060829,"VACUUM, V-SMU-14, 120V",866]
["323126","V-DMU-14",1068027,"VACUUM, V-DMU-14, 120V",1131]
["323129","V-WA-30",1068029,"VACUUM, 120VAC [V-WA-30]",5646]
["323132","V-LWU-13B",1236914,"VACUUM, BATTERY [TENNANT, V-LWU-13B]",1328]
["323133","Independence",1236915,"VACUUM, BATTERY [NOBLES,INDEPENDENCE]",1328]
["324075","V-WD-9",1244345,"VACUUM, WET/DRY, 120V [V-WD-9, NA]",804]
["324076","V-WD-24P",9019349,"VACUUM, WET/DRY, 120V [V-WD-24P, W/SQGE]",3128]
["324076","V-WD-24P",1244346,"VACUUM, WET/DRY, 120V [V-WD-24P, NA]",2519]
["324077","V-WD-24",9019348,"VACUUM, WET/DRY, 120V [V-WD-24, W/SQGE]",1882]
["324077","V-WD-24",1245656,"VACUUM, WET/DRY, 120V [V-WD-24, NA]",1273]
["326025","EX-CAN-10",9007483,"CANISTER, 10GAL [EX-CAN-10]PAC120VCSA-SI",3844]
["326026","EX-CAN-15-HPH",9007628,"CANISTER, 15G [EX-CAN-15-HP]120V CSA-SI",4358]
["326036","EH5",1072858,"EXTRACTOR, 120V, 500PSI, HEAT [EH5]",10023]
["326036","EH5",9011454,"EXTRACTOR, FLOOR TOOL [TCO EH5 PAC]",11983]
["326038","EC2",1072862,"EXTRACTOR, 120V, 200PSI, HEAT [EC2]",5810]
["326038","EC2",9011638,"EXTRACTOR, FLOOR TOOL [TCO EC2 PAC]",7216]
["326038","EC2",9012278,"EXTRACTOR, FLOOR TOOL, TI [TCO EC2 PAC]",7767]
["327002","R3 ReadySpace (15\" Cord Electric)",9004192,"READYSPACE, 5 GAL, 120VAC, TCO [R3]",8181]
["327002","R3 ReadySpace (15\" Cord Electric)","9004192-H","READYSPACE, 5 GAL, 120VAC, TCO [R3]",8181]
["327003","1610 w/ ReadySpace (Tennant)","MV-1610-0001","READYSPACE, 21GAL TCO [1610]",26221]
["327003","1610 w/ ReadySpace (Tennant)","MV-1610-0002","READYSPACE, 21GAL TCO [1610 AGM BAT]",26964]
["327004","Strive w/ ReadySpace (Nobles)",9000504,"READYSPACE, 21GAL [STRIVE]  W/O BAT",23192]
["327004","Strive w/ ReadySpace (Nobles)","MV-STRV-0001","READYSPACE, 21GAL NOB [STRIVE]",26221]
["327004","Strive w/ ReadySpace (Nobles)","MV-STRV-0002","READYSPACE, 21GAL NOB [STRIVE AGM BAT]",26964]
["327007","Nobles ReadySpace (15\" Cord Electric)","9004202-H","READYSPACE, 5 GAL, NOB [STRIVE COMPACT]",8181]
["327007","Nobles ReadySpace (15\" Cord Electric)",9004202,"READYSPACE, 5 GAL, NOB [STRIVE COMPACT]",8181]
["328033","EX-SC-1020",9007486,"EXTRACTOR, 10GAL 20W[120V UL EX-SC-1020]",6659]
["329006","EX-SPOT-2-KIT",9007827,"EXTRACTOR, 2GAL, PAC CSA-SI",1888]
["331018","Nobles E5 (5-Gal Cord)",9004201,"EXTRACTOR, 5GAL, NOB [SPEED EX-15]",6484]
["331018","Nobles E5 (5-Gal Cord)","9004201-H","EXTRACTOR, 5GAL, NOB [SPEED EX-15\"]",6484]
["331019","E5 (5-Gal Cord Electric)","9004194-H","EXTRACTOR, 5GAL, 120VAC, TCO [E5]]",6484]
["331019","E5 (5-Gal Cord Electric)",9004194,"EXTRACTOR, 5GAL, 120VAC, TCO [E5]",6484]
["331021","Falcon 2800 Plus",608352,"EXTRACTOR, 28GAL [NOB FACN 2800 PLS]120V",18376]
["331021","Falcon 2800 Plus",609260,"EXTRACTOR, 28GAL [NOB 2800 PLS]CSA-SI",18375]
["331022","Falcon Ultra B",608351,"EXTRACTOR, 17GAL [NOB FLCN ULTRA] PAC",19984]
["331022","Falcon Ultra B",608350,"EXTRACTOR, 17GAL [NOB FLCN ULTRA]24VDC",17722]
["331022","Falcon Ultra B",609255,"FALCON ULTRA B PAC NOBLES CAN",18667]
["331023","1510 Battery",614002,"EXTRACTOR, 21GAL 22W, 24V W/ BAT [1510]",23196]
["331023","1510 Battery",614001,"EXTRACTOR, 21GAL 22W, 24V W/O BAT[1510]",20700]
["331024","1530 Cord Electric",614000,"EXTRACTOR, 30GAL 22W, 120V [1530]",18241]
["332107","BR-2000-DC",9007349,"BURNISHER, 20INCH [BR-2000-DC] 120V",5166]
["336235","FM-20-SS",9007336,"FLOOR MACH, 20\" HD [FM-20-SS] 120/60",2388]
["336236","FM-20-DS",9007334,"FLOOR MACH, 20 DS [FM-20-DS] 120/60",3712]
["341076","ASC-15",9007449,"CANISTER, 15 GAL [ASC-15] 120V CSA-SI",9063]
["341081","Dryer (Generic)",9014819,"BLOWER, FLOOR, 3-SPEED, 120V",587]
["341141","Q12",9011458,"CLEANER, FLOOR TOOL [TCO Q12 PAC]",19066]
["341141","Q12",1072856,"CLEANER, HARD SURF, 120V, 1200PSI [Q12]",15633]
["341150","iCart",1232057,"MOP CART KIT [i-mop I-CART L]",2756]
["341151","I-mop Cabinet",1233400,"CABINET ASSY, STORAGE [IMOP]",1872]

{"sheet":"SpeedGleam7","index":16,"n_rows":219,"n_cols":14,"rows_kept":219,"cut":false,"hidden":false,"merged":[[127,5,127,6],[128,3,128,4],[128,5,128,6],[101,5,101,6],[27,1,27,5],[28,1,28,5],[29,1,29,5],[30,1,30,5],[31,1,31,5],[32,1,32,5],[178,2,178,5],[179,2,179,5],[180,2,180,5],[103,3,103,4],[103,5,103,6],[123,3,123,4],[123,5,123,6],[124,3,124,4],[124,5,124,6],[125,3,125,4],[125,5,125,6],[129,3,129,4],[129,5,129,6],[126,3,126,4],[126,5,126,6],[127,3,127,4],[189,4,189,5],[173,0,173,1],[173,2,173,5],[164,2,164,5],[170,0,170,1],[170,2,170,5],[171,2,171,5],[172,0,172,1],[172,2,172,5],[165,0,165,1],[165,2,165,5],[166,0,166,1],[166,2,166,5],[169,0,169,1],[169,2,169,5],[176,4,176,6],[0,2,0,3],[1,2,1,3],[2,2,2,3],[3,2,3,3],[163,0,163,1],[163,2,163,5],[116,4,116,8],[118,3,118,6],[120,3,120,4],[121,3,121,4],[138,1,138,6],[160,4,160,6],[162,0,162,1],[162,2,162,5],[11,1,11,5],[101,3,101,4]]}
["SpeedGleam7",null,{"$f":"Start_Here!$C19","v":"Company Name"}]
[{"$f":"SUM(G96)","v":0},null,{"$f":"Start_Here!$C20","v":"Address"}]
[null,null,{"$f":"Start_Here!$C21","v":"City, State Zip"}]
[null,null,{"$f":"Start_Here!$C22","v":"Contact Name"}]
[null,null,{"$f":"Start_Here!$C$41","v":"Rep Name"}]
[null,null,{"$f":"Start_Here!$C$37","v":"Tennant Sales and Service Company"}]
[null,null,{"$f":"Start_Here!$C$38","v":"10400 Clean Street"}]
[null,null,{"$f":"Start_Here!$C$39","v":"Eden Prairie, MN 55344"}]
[null,null,{"$f":"Start_Here!$C$43","v":"800-553-8033"},null,"Quote Date :",null,{"$f":"Letter!$A$25","v":"2023-08-01"}]
[]
[null,null,{"$f":"Help!C2","v":"CAN Date Rev - 5/6/2025"}]
[null,"BUILT-IN “NOBLES\" VALUE” INCLUDES:"]
[]
[null,"610mm/690mm or 24\"/27\" Burnishing Path",null,"On Board Charger"]
[null,"Transaxel drive",null,"3m/15 ft power cord"]
[null,"Passive Dust Control",null,"Battery Tray"]
[null,"Tooless Felt Dust skirt",null,"Variable Bail"]
[null,"Pad RPM - 1850 ",null,"On-Board Trouble Shooting Guide"]
[null,"Mechanical Set and Forget TM   Down Pressure",null,"ETL Listed for the US and Canada"]
[null,"True Free Floating Head",null,"64 dBa"]
[null,"Rugged DuramerTM Tank Construction",null,"Emergency Stop"]
[null,"Two-Way Gas Assist Shock for Tank Open/Close",null,"Key Switch"]
[null,"Anti-Static Straps",null,"Hour Meter"]
[null,"Clamshell Tank Design",null,"Operators manual"]
[null,"Unit shipped with 1 burnishing pad, paper bag and HEPA filter"]
[null,"Jacking Points/Shipping Tie Downs"]
[]
[null,"NOBLES WARRANTY"]
[null,"3 YEARS OR 2000 HOURS - PARTS"]
[null,"1 YEAR - BATTERY CHARGERS"]
[null,"2 YEARS - LABOR"]
[null,"6 MONTHS - TRAVEL"]
[null,"10 YEARS ON DURAMERTM TANKS"]
[null,null,null,null,null,null,"Fax (quote only)"]
[null,null,null,null,null,null,"Mail (quote,lit, specs)"]
[null,null,null,null,null,null,"Fax + Mail"]
[]
[null,null,null,null,"                Primary Use"]
[null,null,null,null,null,null,"Inside"]
[null,null,null,null,null,null,"Outside"]
[]
[]
[null,null,"Description","Reference # ","Price Each","Qty","Extended Price"]
[null,"Base Configuration",null,null,"CANADA",{"$f":"SUM(F45,F49,F53,F56,F59)","v":0}]
[null,null,"Cleaning Type",null,null,{"$f":"SUM(F46:F47)","v":0}]
[null,null,"Speed Gleam 7 Battery  Walk-Behind Burnisher 610mm/24\"","SG7-610",19941,null,{"$f":"F46*E46","v":0},{"$f":"IFERROR(IFERROR(VLOOKUP(D46,Surcharge!A:B,2,FALSE)*F46, VLOOKUP(D46 & \"\",Surcharge!A:B,2,FALSE)*F46), \"\")","v":""}]
[null,null,"Speed Gleam 7 Battery Walk-Behind Burnisher 690mm/27\"","SG7-690",22072,null,{"$f":"F47*E47","v":0},{"$f":"IFERROR(IFERROR(VLOOKUP(D47,Surcharge!A:B,2,FALSE)*F47, VLOOKUP(D47 & \"\",Surcharge!A:B,2,FALSE)*F47), \"\")","v":""}]
[null,null,null,null,null,null,null,{"$f":"IFERROR(IFERROR(VLOOKUP(D48,Surcharge!A:B,2,FALSE)*F48, VLOOKUP(D48 & \"\",Surcharge!A:B,2,FALSE)*F48), \"\")","v":""}]
[null,null,"Battery Type",null,null,{"$f":"SUM(F50:F51)","v":0},null,{"$f":"IFERROR(IFERROR(VLOOKUP(D49,Surcharge!A:B,2,FALSE)*F49, VLOOKUP(D49 & \"\",Surcharge!A:B,2,FALSE)*F49), \"\")","v":""}]
[null,null,"Wet 330AH C/20 (kit of 6 batteries)",9012674,1273,null,{"$f":"F50*E50","v":0},{"$f":"IFERROR(IFERROR(VLOOKUP(D50,Surcharge!A:B,2,FALSE)*F50, VLOOKUP(D50 & \"\",Surcharge!A:B,2,FALSE)*F50), \"\")","v":""}]
[null,null,"Sealed/MF AGM 312AH C/20",9012676,5097,null,{"$f":"F51*E51","v":0},{"$f":"IFERROR(IFERROR(VLOOKUP(D51,Surcharge!A:B,2,FALSE)*F51, VLOOKUP(D51 & \"\",Surcharge!A:B,2,FALSE)*F51), \"\")","v":""}]
[null,null,null,null,null,null,null,{"$f":"IFERROR(IFERROR(VLOOKUP(D52,Surcharge!A:B,2,FALSE)*F52, VLOOKUP(D52 & \"\",Surcharge!A:B,2,FALSE)*F52), \"\")","v":""}]
[null,null,"Battery Watering System",null,null,{"$f":"SUM(F54)","v":0},null,{"$f":"IFERROR(IFERROR(VLOOKUP(D53,Surcharge!A:B,2,FALSE)*F53, VLOOKUP(D53 & \"\",Surcharge!A:B,2,FALSE)*F53), \"\")","v":""}]
[null,null,"Manual Battery Watering Kit  (Note 1)",9009620,1194,null,{"$f":"F54*E54","v":0},{"$f":"IFERROR(IFERROR(VLOOKUP(D54,Surcharge!A:B,2,FALSE)*F54, VLOOKUP(D54 & \"\",Surcharge!A:B,2,FALSE)*F54), \"\")","v":""}]
[null,null,null,null,null,null,null,{"$f":"IFERROR(IFERROR(VLOOKUP(D55,Surcharge!A:B,2,FALSE)*F55, VLOOKUP(D55 & \"\",Surcharge!A:B,2,FALSE)*F55), \"\")","v":""}]
[null,null,"Charger",null,null,{"$f":"SUM(F57:F57)","v":0},null,{"$f":"IFERROR(IFERROR(VLOOKUP(D56,Surcharge!A:B,2,FALSE)*F56, VLOOKUP(D56 & \"\",Surcharge!A:B,2,FALSE)*F56), \"\")","v":""}]
[null,null,"25A 85-265V AC 50/60Hz 1Ph (on board)",9012668,"N/C",null,{"$f":"IF(F57=0,\" \",\"N/C\")","v":" "},{"$f":"IFERROR(IFERROR(VLOOKUP(D57,Surcharge!A:B,2,FALSE)*F57, VLOOKUP(D57 & \"\",Surcharge!A:B,2,FALSE)*F57), \"\")","v":""}]
[null,null,null,null,null,null,null,{"$f":"IFERROR(IFERROR(VLOOKUP(D58,Surcharge!A:B,2,FALSE)*F58, VLOOKUP(D58 & \"\",Surcharge!A:B,2,FALSE)*F58), \"\")","v":""}]
[null,null,"Down Pressure",null,null,{"$f":"SUM(F60:F61)","v":0},null,{"$f":"IFERROR(IFERROR(VLOOKUP(D59,Surcharge!A:B,2,FALSE)*F59, VLOOKUP(D59 & \"\",Surcharge!A:B,2,FALSE)*F59), \"\")","v":""}]
[null,null,"Mechanical Set and Forget TM Down Pressure",9012640,"N/C",null,{"$f":"IF(F60=0,\" \",\"N/C\")","v":" "},{"$f":"IFERROR(IFERROR(VLOOKUP(D60,Surcharge!A:B,2,FALSE)*F60, VLOOKUP(D60 & \"\",Surcharge!A:B,2,FALSE)*F60), \"\")","v":""}]
[null,null,"Automated Down Pressure",9012641,926,null,{"$f":"F61*E61","v":0},{"$f":"IFERROR(IFERROR(VLOOKUP(D61,Surcharge!A:B,2,FALSE)*F61, VLOOKUP(D61 & \"\",Surcharge!A:B,2,FALSE)*F61), \"\")","v":""}]
[null,null,null,null,null,null,null,{"$f":"IFERROR(IFERROR(VLOOKUP(D62,Surcharge!A:B,2,FALSE)*F62, VLOOKUP(D62 & \"\",Surcharge!A:B,2,FALSE)*F62), \"\")","v":""}]
[null,"Cleaning Performance",null,"Reference Number",null,{"$f":"SUM(F64:F66)","v":0},null,{"$f":"IFERROR(IFERROR(VLOOKUP(D63,Surcharge!A:B,2,FALSE)*F63, VLOOKUP(D63 & \"\",Surcharge!A:B,2,FALSE)*F63), \"\")","v":""}]
[null,null,"Dust Control System, Passive - 95% @ .3 microns ","PASSIVE","N/C",null,{"$f":"IF(F64=0,\" \",\"N/C\")","v":" "},{"$f":"IFERROR(IFERROR(VLOOKUP(D64,Surcharge!A:B,2,FALSE)*F64, VLOOKUP(D64 & \"\",Surcharge!A:B,2,FALSE)*F64), \"\")","v":""}]
[null,null,"Dust Control System, Active - HEPA Filtration to 99.97% @ .3 microns",9012657,816,null,{"$f":"F65*E65","v":0},{"$f":"IFERROR(IFERROR(VLOOKUP(D65,Surcharge!A:B,2,FALSE)*F65, VLOOKUP(D65 & \"\",Surcharge!A:B,2,FALSE)*F65), \"\")","v":""}]
[null,null,"Dust Control Filter, Paper Filter Bag",1210869,"N/C",null,{"$f":"IF(F66=0,\" \",\"N/C\")","v":" "},{"$f":"IFERROR(IFERROR(VLOOKUP(D66,Surcharge!A:B,2,FALSE)*F66, VLOOKUP(D66 & \"\",Surcharge!A:B,2,FALSE)*F66), \"\")","v":""}]
[null,null,null,null,null,null,null,{"$f":"IFERROR(IFERROR(VLOOKUP(D67,Surcharge!A:B,2,FALSE)*F67, VLOOKUP(D67 & \"\",Surcharge!A:B,2,FALSE)*F67), \"\")","v":""}]
[null,"Support (Note 2)",null,null,null,{"$f":"SUM(F69:F73)","v":0},null,{"$f":"IFERROR(IFERROR(VLOOKUP(D68,Surcharge!A:B,2,FALSE)*F68, VLOOKUP(D68 & \"\",Surcharge!A:B,2,FALSE)*F68), \"\")","v":""}]
[null,null,"Speed Gleam 7 Operator Manual  - English",9011615,"N/C",null,{"$f":"IF(F69=0,\" \",\"N/C\")","v":" "},{"$f":"IFERROR(IFERROR(VLOOKUP(D69,Surcharge!A:B,2,FALSE)*F69, VLOOKUP(D69 & \"\",Surcharge!A:B,2,FALSE)*F69), \"\")","v":""}]
[null,null,"Speed Gleam 7 Operator Manual - French  ",9011618,"N/C",null,{"$f":"IF(F70=0,\" \",\"N/C\")","v":" "},{"$f":"IFERROR(IFERROR(VLOOKUP(D70,Surcharge!A:B,2,FALSE)*F70, VLOOKUP(D70 & \"\",Surcharge!A:B,2,FALSE)*F70), \"\")","v":""}]
[null,null,null,null,null,null,null,{"$f":"IFERROR(IFERROR(VLOOKUP(D71,Surcharge!A:B,2,FALSE)*F71, VLOOKUP(D71 & \"\",Surcharge!A:B,2,FALSE)*F71), \"\")","v":""}]
[null,null,"Packaging",null,null,{"$f":"SUM(F73:F73)","v":0},null,{"$f":"IFERROR(IFERROR(VLOOKUP(D72,Surcharge!A:B,2,FALSE)*F72, VLOOKUP(D72 & \"\",Surcharge!A:B,2,FALSE)*F72), \"\")","v":""}]
[null,null,"Skid w/Carton, Stackable",9012681,"N/C",null,{"$f":"IF(F73=0,\" \",\"N/C\")","v":" "},{"$f":"IFERROR(IFERROR(VLOOKUP(D73,Surcharge!A:B,2,FALSE)*F73, VLOOKUP(D73 & \"\",Surcharge!A:B,2,FALSE)*F73), \"\")","v":""}]
[]
[null,"Custom Solution--write in description, qty, price, and PN if applicable",null,null,null,{"$f":"SUM(F76)","v":0}]
[null,null,null,null,"Insert Prices Here",{"$f":"SUM(F77:F80)","v":0}]
[null,null,null,"Custom",null,{"$f":"IF(E77 <> \"\", 1, 0)","v":0},{"$f":"F77*E77","v":0}]
[null,null,null,"Custom",null,{"$f":"IF(E78 <> \"\", 1, 0)","v":0},{"$f":"F78*E78","v":0}]
[null,null,null,"Custom",null,0,{"$f":"F79*E79","v":0}]
[null,null,null,"Custom",null,0,{"$f":"F80*E80","v":0}]
[null,null,null,null,{"$f":"ROUND(SUM(G46:G80), 0)","v":0},{"$f":"SUM(E82)","v":0}]
[null,null,null,"Machine Subtotal ",{"$f":"ROUND(SUM(G46:G80), 0)","v":0},{"$f":"F81","v":0}]
[null,"Discounts",null,null,null,{"$f":"SUM(F84)","v":0}]
[null,null,null,null,null,{"$f":"SUM(F86:F89)","v":0}]
[null,null,null,"Applicable Currency Adj %",null,{"$f":"IF(E85 <> \"\", 1, 0)","v":0},{"$f":"IF(F85*(E85*0.01)*E81 < 0, F85*(E85*0.01)*E81, -(F85*(E85*0.01)*E81))","v":0}]
[null,null,null,"Discount %",null,{"$f":"IF(E86 <> \"\", 1, 0)","v":0},{"$f":"IF(F86*(E86*0.01)*(E81+G85) < 0, F86*(E86*0.01)*(E81+G85), -(F86*(E86*0.01)*(E81+G85)))","v":0}]
[null,null,null,"Discount $",null,0,{"$f":"IF(F87*E87 < 0, F87*E87, -(F87*E87))","v":0}]
[null,null,null,"Discount $",null,0,{"$f":"IF(F88*E88 < 0, F88*E88, -(F88*E88))","v":0}]
[null,null,null,"Discount $",null,0,{"$f":"IF(F89*E89 < 0, F89*E89, -(F89*E89))","v":0}]
[null,null,null,"Discount Total ",{"$f":"SUM(G85:G89)","v":0},{"$f":"SUM(E90)","v":0}]
[null,null,null,null,null,{"$f":"#REF!","v":{"$error":"#REF!"}}]
[null,null,null,null,null,{"$f":"F91","v":{"$error":"#REF!"}}]
[null,null,"Prepaid and Add","Freight",null,{"$f":"IF(E93 <> \"\", 1, 0)","v":0},{"$f":"F93*E93","v":0}]
[null,null,"Subject to all applicable taxes","Tax",null,0,0]
[null,null,null,null,null,{"$f":"SUM(F96)","v":0}]
[null,null,null,"MACHINE TOTAL*",null,{"$f":"SUM(G96)","v":0},{"$f":"SUM(G46:G94)","v":0},null,null,null,null,null,null,"This goes to \"My Documents\""]
[null,null,null,null,null,null,{"$f":"SUM(G96)","v":0}]
[]
[]
[]
[]
[null,null,"Wells Fargo - Leasing Calculation Option:","Option 1",null,"Option 2",null,null,null,{"$f":"Financing!A38","v":"Rates 2025 - Rev.2/4/2025"}]
[null,null,null,"Monthly Payment","Cost Per Day","Monthly Payment","Cost Per Day",null,null,{"$f":"Financing!A39","v":"“Blank Payment Amounts Indicate The Financing Option Or Purchase Options Selected Are Not "}]
[null,null,"Purchase Option:","$1 Buyout Lease",null,"None",null,null,null,{"$f":"Financing!A40","v":"Applicable Or The Machine Total Is Below The Minimum Amount For The Selected Vendor”"}]
[null,null,"24 Months",0,0,0,0,null,null,{"$f":"Financing!A41","v":"\"Quoted monthly payments are estimates only and are based on a certain level of credit rating."}]
[null,null,"36 Months",0,0,0,0,null,null,{"$f":"Financing!A42","v":"Actual monthly payments may be higher depending on your credit rating.\""}]
[null,null,"48 Months",0,0,0,0,null,null,{"$f":"Financing!A43","v":"“Financing rates do not include Pre-Paid Service”"}]
[null,null,"60 Months",0,0,0,0]
[]
[null,null,null,"Benefits of Equipment Financing:"]
[null,null,null,"• Spreads out investment over time.",null,"• Keep current with latest technology."]
[null,null,null,"• Preserve capital.",null,"• Service and parts bundling available."]
[null,null,null,"• Low monthly payment.",null,"• Pay for labor savings as you go."]
[]
[null,"  TennantTrue",null,0,0]
[]
[null,null,"Is customer interested in service program?","Yes","*State/County selection required for TennantTrue service options"]
[]
[null,null,"If not, why?"]
[]
[null,null,"Term:",36,null,null,"AB Brushes","No"]
[null,null,"Monthly machine usage (hrs):","< 30/mo. (Avg. 1hr./day)"]
[]
[null,null,"TennantTrue: ","Gold Contract",null,"Silver Contract"]
[null,null,"Per Visit",null,null,336]
[null,null,"Monthly",112,null,56]
[null,null,"Annually",null,null,659]
[null,null,"Pre-Pay Full Term",3882,null,1936]
[null,null,"Hourly Labor Rate"]
[null,null,"Site Visit"]
[]
[null,null,"* Verify customer current pricing prior to quote. "]
[null,null,"**All rates and fees above reflect service for one (1) unit with the exception of Block of Time service."]
[null,null,"*Block of Time is available in 1 Year Term only and is priced as such no matter the term selection on this template."]
[]
[]
[]
[null,"Quote Special Instructions:"]
[]
[]
[]
[null,{"$f":"Start_Here!E36","v":"Terms and Conditions"}]
[null,{"$f":"Start_Here!E37","v":"Ask your local sales rep for estimated lead times. Verify when placing order"}]
[null,{"$f":"Start_Here!E38","v":"All orders subject to acceptance by Tennant Sales and Service Company, Minneapolis, Minnesota"}]
[null,{"$f":"Start_Here!E39","v":"Prices subject to change without notice. Subject to any applicable taxes."}]
[null,{"$f":"Start_Here!E40","v":"Terms:  Net 30 days.  Payable in Canadian Funds"}]
[null,{"$f":"Start_Here!E41","v":"Freight:  Accessories, parts, supplies, detergents, and floor coatings orders delivered DDP "}]
[null,{"$f":"Start_Here!E42","v":"shipping point Frt PPD.  Machine orders delivered DDP shipping point Frt PPD and add."}]
[null,{"$f":"Start_Here!E43","v":"Returned Merchandise is subject to a restocking fee."}]
[null,{"$f":"Start_Here!E44","v":"All orders are subject to Tennant’s General Terms and Conditions available at http://www.tennantco.com/terms."}]
[null,{"$f":"Start_Here!E45","v":"Printed General Terms and Conditions are also available upon request."}]
[null,{"$f":"Start_Here!E46","v":0}]
[null,{"$f":"Start_Here!E47","v":0}]
[null,{"$f":"Start_Here!E48","v":0}]
[null,null,null,null,"Quote Date :",null,{"$f":"Letter!$A$25","v":"2023-08-01"}]
[null,"Order Placement Information:  To place your order, fill in PO# and customer signatures,"]
[null,"call or fax to the numbers listed below. Customer Purchase Order is required."]
[null,"If information is missing, orders will be entered and held until all information is received."]
[]
[null,null,"Customer Number",null,"Cust Grp 3"]
[null,null,{"$f":"Start_Here!$C$25","v":0},null,{"$f":"Start_Here!$C$29","v":0}]
[null,null,{"$f":"Start_Here!$B$18","v":"Who Owns the Machine? (Sold-To Info) (Please Verify)"}]
["Company",null,{"$f":"Start_Here!$C$19","v":"Company Name"}]
["Address",null,{"$f":"Start_Here!$C$20","v":"Address"}]
[null,null,{"$f":"Start_Here!$C$21","v":"City, State Zip"}]
["Name",null,{"$f":"Start_Here!$C$22","v":"Contact Name"}]
["Phone",null,{"$f":"Start_Here!$C$23","v":"Contact Phone"}]
[]
[null,null,{"$f":"Start_Here!$B$11","v":"Where is the Machine Being Shipped? (Ship-To Info) (Please Verify)"}]
["Company",null,{"$f":"Start_Here!$C$12","v":"Company Name"}]
["Address",null,{"$f":"Start_Here!$C$13","v":"Address"}]
[null,null,{"$f":"Start_Here!$C$14","v":"City, State Zip"}]
["Name",null,{"$f":"Start_Here!$C$15","v":"Contact Name"}]
["Phone",null,{"$f":"Start_Here!$C$16","v":"Contact Phone"}]
[]
[null,null,{"$f":"Start_Here!$B$31","v":"Shipping / Carrier Instructions:"},null,"Order Special Instructions:"]
[null,null,{"$f":"Start_Here!$C$32","v":0}]
[]
[null,null,"Customer Purchase Order No."]
[null,null,"(please attach copy)"]
[]
[]
[null,null,"Tax Exempt",null,"Yes"]
[null,null,null,null,"No"]
[null,null,"If Yes, attach a copy of your exemption certificate."]
[]
[null,null,"Requested Delivery Date"]
[null,null,{"$f":"Start_Here!$C$28","v":0}]
[]
[null,null,{"$f":"Start_Here!$C$26","v":0},null,{"$f":"Start_Here!$C$27","v":0}]
[null,null,"Authorized Buyer (please print)",null,"Phone Number"]
[]
[]
[null,null,"Authorized Buyer Signature"]
[]
[null,null,{"$f":"Start_Here!$C$41","v":"Rep Name"}]
[null,null,"Tennant Representative"]
[]
[null,null,null,"Specialized Maintenance Equipment"]
[null,null,{"$f":"Start_Here!$C$51","v":0}]
[null,"Notes"]
[null,1,"Factory installed pricing.   Only available on wet batteries, not sealed. "]
[]
[null,2,"Additional hard copy Operator and Parts Manuals can be ordered or digital copies can be downloaded from www.nobles.com."]
[null,null,"and service manuals on My Account at no charge."]
[null,null,"A French and English manual will be supplied for all units shipping into Quebec, Canada at no charge. "]
[]
[null,3,"Machine Weights and Dimensions","Skid w/Carton"]
[null,null,"SG7-610"]
[null,null,"Weight","712 lbs / 323 Kg"]
[null,null,"Length","73\" / 1855 mm"]
[null,null,"Width","43\" / 1092 mm"]
[null,null,"Height","51\" / 1296 mm"]
[]
[null,null,"SG7-690"]
[null,null,"Weight","892 lbs / 405 Kg"]
[null,null,"Length","73\" / 1855 mm"]
[null,null,"Width","43\" / 1092 mm"]
[null,null,"Height","51\" / 1296 mm"]

{"sheet":"SpeedGleam_Rider","index":17,"n_rows":216,"n_cols":14,"rows_kept":216,"cut":false,"hidden":false,"merged":[[118,3,118,4],[118,5,118,6],[173,2,173,5],[174,2,174,5],[159,2,159,5],[119,3,119,4],[119,5,119,6],[120,3,120,4],[120,5,120,6],[121,3,121,4],[121,5,121,6],[184,4,184,5],[12,2,12,3],[23,2,23,3],[24,2,24,3],[25,2,25,3],[175,2,175,5],[171,4,171,6],[133,1,133,6],[155,4,155,6],[157,0,157,1],[157,2,157,5],[165,0,165,1],[165,2,165,5],[166,2,166,5],[168,0,168,1],[168,2,168,5],[167,0,167,1],[167,2,167,5],[160,0,160,1],[160,2,160,5],[161,0,161,1],[161,2,161,5],[164,0,164,1],[164,2,164,5],[96,3,96,4],[96,5,96,6],[98,3,98,4],[98,5,98,6],[158,0,158,1],[158,2,158,5],[123,5,123,6],[124,3,124,4],[124,5,124,6],[122,3,122,4],[122,5,122,6],[123,3,123,4],[115,3,115,4],[116,3,116,4],[111,4,111,8],[113,3,113,6],[0,2,0,3],[1,2,1,3],[2,2,2,3],[3,2,3,3],[26,2,26,6]]}
["SpeedGleam_Rider",null,{"$f":"Start_Here!$C19","v":"Company Name"}]
[{"$f":"SUM(G91)","v":0},null,{"$f":"Start_Here!$C20","v":"Address"}]
[null,null,{"$f":"Start_Here!$C21","v":"City, State Zip"}]
[null,null,{"$f":"Start_Here!$C22","v":"Contact Name"}]
[null,null,{"$f":"Start_Here!$C$41","v":"Rep Name"}]
[null,null,{"$f":"Start_Here!$C$37","v":"Tennant Sales and Service Company"}]
[null,null,{"$f":"Start_Here!$C$38","v":"10400 Clean Street"}]
[null,null,{"$f":"Start_Here!$C$39","v":"Eden Prairie, MN 55344"}]
[null,null,{"$f":"Start_Here!$C$43","v":"800-553-8033"},null,"Quote Date :",null,{"$f":"Letter!$A$25","v":"2023-08-01"}]
[]
[null,null,{"$f":"Help!C2","v":"CAN Date Rev - 5/6/2025"}]
[]
[null,null,"BUILT-IN “NOBLES VALUE” INCLUDES:"]
[]
[null,"610mm/690mm or 24\"/27\" burnishing path",null,"Standard (6) 6V 435AH battery pack "]
[null,"Passive Dust Control",null,"Battery Tray"]
[null,"Automated Head Lift",null,"On Board Charger"]
[null,"True free floating Head",null,"Rugged DuramerTM Tank Construction"]
[null,"Supervisor lock-out",null,"69 dBa"]
[null,"Back up Alarm",null,"Emergency Stop"]
[null,"Adjustable Seat",null,"Anti-Static Straps"]
[null,"Operators manual",null,"Hour Meter"]
[]
[null,null,"NOBLES WARRANTY"]
[null,null,"3 YEARS OR 2000 HOURS ON ALL COMPONENTS, 2 YEARS LABOR"]
[null,null,"180 DAYS TRAVEL, 10 YEARS ON DURAMERTM TANKS"]
[]
[]
[null,null,null,null,"                Quote Request Information"]
[null,null,null,null,null,null,"Fax (quote only)"]
[null,null,null,null,null,null,"Mail (quote,lit, specs)"]
[null,null,null,null,null,null,"Fax + Mail"]
[]
[null,null,null,null,"                Primary Use"]
[null,null,null,null,null,null,"Inside"]
[null,null,null,null,null,null,"Outside"]
[]
[]
[null,null,"Description","Reference #","Price Each","Qty","Extended Price"]
[null,null,null,null,null,"*"]
[null,"Base Configuration (SSR)",null,null,"CANADA",{"$f":"SUM(F42,F46,F52)","v":0}]
[null,null,"Cleaning Type",null,null,{"$f":"SUM(F43:F44)","v":0}]
[null,null,"Speed Gleam Battery Rider Burnisher 610mm/24\"","SGR-610",43436,null,{"$f":"F43*E43","v":0},{"$f":"IFERROR(IFERROR(VLOOKUP(D43,Surcharge!A:B,2,FALSE)*F43, VLOOKUP(D43 & \"\",Surcharge!A:B,2,FALSE)*F43), \"\")","v":0}]
[null,null,"Speed Gleam Battery Rider Burnisher 690mm/27\"","SGR-690",44689,null,{"$f":"F44*E44","v":0},{"$f":"IFERROR(IFERROR(VLOOKUP(D44,Surcharge!A:B,2,FALSE)*F44, VLOOKUP(D44 & \"\",Surcharge!A:B,2,FALSE)*F44), \"\")","v":0}]
[null,null,null,null,null,null,null,{"$f":"IFERROR(IFERROR(VLOOKUP(D45,Surcharge!A:B,2,FALSE)*F45, VLOOKUP(D45 & \"\",Surcharge!A:B,2,FALSE)*F45), \"\")","v":""}]
[null,null,"Battery Type",null,null,{"$f":"SUM(F47:F50)","v":0},null,{"$f":"IFERROR(IFERROR(VLOOKUP(D46,Surcharge!A:B,2,FALSE)*F46, VLOOKUP(D46 & \"\",Surcharge!A:B,2,FALSE)*F46), \"\")","v":""}]
[null,null,"Wet 435AH C/20 (kit of 6 batteries) ",9010885,"N/C",null,{"$f":"IF(F47=0,\" \",\"N/C\")","v":" "},{"$f":"IFERROR(IFERROR(VLOOKUP(D47,Surcharge!A:B,2,FALSE)*F47, VLOOKUP(D47 & \"\",Surcharge!A:B,2,FALSE)*F47), \"\")","v":""}]
[null,null,"Sealed/MF AGM 390AH C/20 (kit of 6 batteries)",9010886,1809,null,{"$f":"F48*E48","v":0},{"$f":"IFERROR(IFERROR(VLOOKUP(D48,Surcharge!A:B,2,FALSE)*F48, VLOOKUP(D48 & \"\",Surcharge!A:B,2,FALSE)*F48), \"\")","v":""}]
[null,null,null,null,null,null,null,{"$f":"IFERROR(IFERROR(VLOOKUP(D49,Surcharge!A:B,2,FALSE)*F49, VLOOKUP(D49 & \"\",Surcharge!A:B,2,FALSE)*F49), \"\")","v":""}]
[null,null,"Manual Battery Watering Kit  (Note 1)",9009620,1194,null,{"$f":"F50*E50","v":0},{"$f":"IFERROR(IFERROR(VLOOKUP(D50,Surcharge!A:B,2,FALSE)*F50, VLOOKUP(D50 & \"\",Surcharge!A:B,2,FALSE)*F50), \"\")","v":""}]
[null,null,null,null,null,null,null,{"$f":"IFERROR(IFERROR(VLOOKUP(D51,Surcharge!A:B,2,FALSE)*F51, VLOOKUP(D51 & \"\",Surcharge!A:B,2,FALSE)*F51), \"\")","v":""}]
[null,null,"Charger",null,null,{"$f":"SUM(F53:F53)","v":0},null,{"$f":"IFERROR(IFERROR(VLOOKUP(D52,Surcharge!A:B,2,FALSE)*F52, VLOOKUP(D52 & \"\",Surcharge!A:B,2,FALSE)*F52), \"\")","v":""}]
[null,null,"25A 120V AC 50/60Hz 1Ph (on board)",9010881,"N/C",null,{"$f":"IF(F53=0,\" \",\"N/C\")","v":" "},{"$f":"IFERROR(IFERROR(VLOOKUP(D53,Surcharge!A:B,2,FALSE)*F53, VLOOKUP(D53 & \"\",Surcharge!A:B,2,FALSE)*F53), \"\")","v":""}]
[null,null,null,null,null,null,null,{"$f":"IFERROR(IFERROR(VLOOKUP(D54,Surcharge!A:B,2,FALSE)*F54, VLOOKUP(D54 & \"\",Surcharge!A:B,2,FALSE)*F54), \"\")","v":""}]
[null,"Cleaning Performance",null,"Reference Number",null,{"$f":"SUM(F56:F57)","v":0},null,{"$f":"IFERROR(IFERROR(VLOOKUP(D55,Surcharge!A:B,2,FALSE)*F55, VLOOKUP(D55 & \"\",Surcharge!A:B,2,FALSE)*F55), \"\")","v":""}]
[null,null,"Dust Control, Passive","PASSIVE","N/C",null,{"$f":"IF(F56=0,\" \",\"N/C\")","v":" "},{"$f":"IFERROR(IFERROR(VLOOKUP(D56,Surcharge!A:B,2,FALSE)*F56, VLOOKUP(D56 & \"\",Surcharge!A:B,2,FALSE)*F56), \"\")","v":""}]
[null,null,"Dust Control, Active (HEPA 99.97@.3 microns)",9010877,1319,null,{"$f":"F57*E57","v":0},{"$f":"IFERROR(IFERROR(VLOOKUP(D57,Surcharge!A:B,2,FALSE)*F57, VLOOKUP(D57 & \"\",Surcharge!A:B,2,FALSE)*F57), \"\")","v":""}]
[null,null,null,null,null,null,null,{"$f":"IFERROR(IFERROR(VLOOKUP(D58,Surcharge!A:B,2,FALSE)*F58, VLOOKUP(D58 & \"\",Surcharge!A:B,2,FALSE)*F58), \"\")","v":""}]
[null,"Machine Protection & Safety",null,"Reference Number",null,{"$f":"SUM(F60:F60)","v":0},null,{"$f":"IFERROR(IFERROR(VLOOKUP(D59,Surcharge!A:B,2,FALSE)*F59, VLOOKUP(D59 & \"\",Surcharge!A:B,2,FALSE)*F59), \"\")","v":""}]
[null,null,"Strobe Light on Tank",9010878,1115,null,{"$f":"F60*E60","v":0},{"$f":"IFERROR(IFERROR(VLOOKUP(D60,Surcharge!A:B,2,FALSE)*F60, VLOOKUP(D60 & \"\",Surcharge!A:B,2,FALSE)*F60), \"\")","v":""}]
[null,null,null,null,null,null,null,{"$f":"IFERROR(IFERROR(VLOOKUP(D61,Surcharge!A:B,2,FALSE)*F61, VLOOKUP(D61 & \"\",Surcharge!A:B,2,FALSE)*F61), \"\")","v":""}]
[null,"Support (Note 2)",null,"Reference Number",null,{"$f":"SUM(F63:F66)","v":0},null,{"$f":"IFERROR(IFERROR(VLOOKUP(D62,Surcharge!A:B,2,FALSE)*F62, VLOOKUP(D62 & \"\",Surcharge!A:B,2,FALSE)*F62), \"\")","v":""}]
[null,null,"SpeedGleam Operator Manual  - English",9010727,"N/C",null,{"$f":"IF(F63=0,\" \",\"N/C\")","v":" "},{"$f":"IFERROR(IFERROR(VLOOKUP(D63,Surcharge!A:B,2,FALSE)*F63, VLOOKUP(D63 & \"\",Surcharge!A:B,2,FALSE)*F63), \"\")","v":""}]
[null,null,"SpeedGleam Operator Manual  - French ",9010725,"N/C",null,{"$f":"IF(F64=0,\" \",\"N/C\")","v":" "},{"$f":"IFERROR(IFERROR(VLOOKUP(D64,Surcharge!A:B,2,FALSE)*F64, VLOOKUP(D64 & \"\",Surcharge!A:B,2,FALSE)*F64), \"\")","v":""}]
[null,null,null,null,null,null,null,{"$f":"IFERROR(IFERROR(VLOOKUP(D65,Surcharge!A:B,2,FALSE)*F65, VLOOKUP(D65 & \"\",Surcharge!A:B,2,FALSE)*F65), \"\")","v":""}]
[null,null,"Packaging",null,null,{"$f":"SUM(F67:F67)","v":0},null,{"$f":"IFERROR(IFERROR(VLOOKUP(D66,Surcharge!A:B,2,FALSE)*F66, VLOOKUP(D66 & \"\",Surcharge!A:B,2,FALSE)*F66), \"\")","v":""}]
[null,null,"Skid w/Carton, Non-Stackable",9010888,"N/C",null,{"$f":"IF(F67=0,\" \",\"N/C\")","v":" "},{"$f":"IFERROR(IFERROR(VLOOKUP(D67,Surcharge!A:B,2,FALSE)*F67, VLOOKUP(D67 & \"\",Surcharge!A:B,2,FALSE)*F67), \"\")","v":""}]
[null,null,null,null,null,null,null,{"$f":"IFERROR(IFERROR(VLOOKUP(D68,Surcharge!A:B,2,FALSE)*F68, VLOOKUP(D68 & \"\",Surcharge!A:B,2,FALSE)*F68), \"\")","v":""}]
[]
[null,"Custom Solution--write in description, qty, price, and PN if applicable",null,null,null,{"$f":"SUM(F71)","v":0}]
[null,null,null,null,"Insert Prices Here",{"$f":"SUM(F72:F75)","v":0}]
[null,null,null,"Custom",null,{"$f":"IF(E72 <> \"\", 1, 0)","v":0},{"$f":"F72*E72","v":0}]
[null,null,null,"Custom",null,{"$f":"IF(E73 <> \"\", 1, 0)","v":0},{"$f":"F73*E73","v":0}]
[null,null,null,"Custom",null,0,{"$f":"F74*E74","v":0}]
[null,null,null,"Custom",null,0,{"$f":"F75*E75","v":0}]
[null,null,null,null,{"$f":"ROUND(SUM(G43:G75), 0)","v":0},{"$f":"SUM(E77)","v":0}]
[null,null,null,"Machine Subtotal ",{"$f":"ROUND(SUM(G43:G75), 0)","v":0},{"$f":"F76","v":0}]
[null,"Discounts",null,null,null,{"$f":"SUM(F79)","v":0}]
[null,null,null,null,null,{"$f":"SUM(F81:F84)","v":0}]
[null,null,null,"Applicable Currency Adj %",null,{"$f":"IF(E80 <> \"\", 1, 0)","v":0},{"$f":"IF(F80*(E80*0.01)*E76 < 0, F80*(E80*0.01)*E76, -(F80*(E80*0.01)*E76))","v":0}]
[null,null,null,"Discount %",null,{"$f":"IF(E81 <> \"\", 1, 0)","v":0},{"$f":"IF(F81*(E81*0.01)*(E76+G80) < 0, F81*(E81*0.01)*(E76+G80), -(F81*(E81*0.01)*(E76+G80)))","v":0}]
[null,null,null,"Discount $",null,0,{"$f":"IF(F82*E82 < 0, F82*E82, -(F82*E82))","v":0}]
[null,null,null,"Discount $",null,0,{"$f":"IF(F83*E83 < 0, F83*E83, -(F83*E83))","v":0}]
[null,null,null,"Discount $",null,0,{"$f":"IF(F84*E84 < 0, F84*E84, -(F84*E84))","v":0}]
[null,null,null,"Discount Total ",{"$f":"SUM(G80:G84)","v":0},{"$f":"SUM(E85)","v":0}]
[null,null,null,null,null,{"$f":"#REF!","v":{"$error":"#REF!"}}]
[null,null,null,null,null,{"$f":"F86","v":{"$error":"#REF!"}}]
[null,null,"Prepaid and Add","Freight",null,{"$f":"IF(E88 <> \"\", 1, 0)","v":0},{"$f":"F88*E88","v":0}]
[null,null,"Subject to all applicable taxes","Tax",null,0,0]
[null,null,null,null,null,{"$f":"SUM(F91)","v":0}]
[null,null,null,"MACHINE TOTAL*",null,{"$f":"SUM(G91)","v":0},{"$f":"SUM(G43:G89)","v":0},null,null,null,null,null,null,"This goes to \"My Documents\""]
[null,null,null,null,null,null,{"$f":"SUM(G91)","v":0}]
[]
[]
[]
[]
[null,null,"Wells Fargo - Leasing Calculation Option:","Option 1",null,"Option 2",null,null,null,{"$f":"Financing!A38","v":"Rates 2025 - Rev.2/4/2025"}]
[null,null,null,"Monthly Payment","Cost Per Day","Monthly Payment","Cost Per Day",null,null,{"$f":"Financing!A39","v":"“Blank Payment Amounts Indicate The Financing Option Or Purchase Options Selected Are Not "}]
[null,null,"Purchase Option:","$1 Buyout Lease",null,"None",null,null,null,{"$f":"Financing!A40","v":"Applicable Or The Machine Total Is Below The Minimum Amount For The Selected Vendor”"}]
[null,null,"24 Months",0,0,0,0,null,null,{"$f":"Financing!A41","v":"\"Quoted monthly payments are estimates only and are based on a certain level of credit rating."}]
[null,null,"36 Months",0,0,0,0,null,null,{"$f":"Financing!A42","v":"Actual monthly payments may be higher depending on your credit rating.\""}]
[null,null,"48 Months",0,0,0,0,null,null,{"$f":"Financing!A43","v":"“Financing rates do not include Pre-Paid Service”"}]
[null,null,"60 Months",0,0,0,0]
[]
[null,null,null,"Benefits of Equipment Financing:"]
[null,null,null,"• Spreads out investment over time.",null,"• Keep current with latest technology."]
[null,null,null,"• Preserve capital.",null,"• Service and parts bundling available."]
[null,null,null,"• Low monthly payment.",null,"• Pay for labor savings as you go."]
[]
[null,"  TennantTrue",null,0,0]
[]
[null,null,"Is customer interested in service program?","Yes","*State/County selection required for TennantTrue service options"]
[]
[null,null,"If not, why?"]
[]
[null,null,"Term:",36,null,null,"AB Brushes","No"]
[null,null,"Monthly machine usage (hrs):","< 30/mo. (Avg. 1hr./day)"]
[]
[null,null,"TennantTrue: ","Gold Contract",null,"Silver Contract"]
[null,null,"Per Visit",null,null,501]
[null,null,"Monthly",148,null,88]
[null,null,"Annually",null,null,1035]
[null,null,"Pre-Pay Full Term",5119,null,3042]
[null,null,"Hourly Labor Rate"]
[null,null,"Site Visit"]
[]
[null,null,"* Verify customer current pricing prior to quote. "]
[null,null,"**All rates and fees above reflect service for one (1) unit with the exception of Block of Time service."]
[null,null,"*Block of Time is available in 1 Year Term only and is priced as such no matter the term selection on this template."]
[]
[]
[]
[null,"Quote Special Instructions:"]
[]
[]
[]
[null,{"$f":"Start_Here!E36","v":"Terms and Conditions"}]
[null,{"$f":"Start_Here!E37","v":"Ask your local sales rep for estimated lead times. Verify when placing order"}]
[null,{"$f":"Start_Here!E38","v":"All orders subject to acceptance by Tennant Sales and Service Company, Minneapolis, Minnesota"}]
[null,{"$f":"Start_Here!E39","v":"Prices subject to change without notice. Subject to any applicable taxes."}]
[null,{"$f":"Start_Here!E40","v":"Terms:  Net 30 days.  Payable in Canadian Funds"}]
[null,{"$f":"Start_Here!E41","v":"Freight:  Accessories, parts, supplies, detergents, and floor coatings orders delivered DDP "}]
[null,{"$f":"Start_Here!E42","v":"shipping point Frt PPD.  Machine orders delivered DDP shipping point Frt PPD and add."}]
[null,{"$f":"Start_Here!E43","v":"Returned Merchandise is subject to a restocking fee."}]
[null,{"$f":"Start_Here!E44","v":"All orders are subject to Tennant’s General Terms and Conditions available at http://www.tennantco.com/terms."}]
[null,{"$f":"Start_Here!E45","v":"Printed General Terms and Conditions are also available upon request."}]
[null,{"$f":"Start_Here!E46","v":0}]
[null,{"$f":"Start_Here!E47","v":0}]
[null,{"$f":"Start_Here!E48","v":0}]
[null,null,null,null,"Quote Date :",null,{"$f":"Letter!$A$25","v":"2023-08-01"}]
[null,"Order Placement Information:  To place your order, fill in PO# and customer signatures,"]
[null,"call or fax to the numbers listed below. Customer Purchase Order is required."]
[null,"If information is missing, orders will be entered and held until all information is received."]
[]
[null,null,"Customer Number",null,"Cust Grp 3"]
[null,null,{"$f":"Start_Here!$C$25","v":0},null,{"$f":"Start_Here!$C$29","v":0}]
[null,null,{"$f":"Start_Here!$B$18","v":"Who Owns the Machine? (Sold-To Info) (Please Verify)"}]
["Company",null,{"$f":"Start_Here!$C$19","v":"Company Name"}]
["Address",null,{"$f":"Start_Here!$C$20","v":"Address"}]
[null,null,{"$f":"Start_Here!$C$21","v":"City, State Zip"}]
["Name",null,{"$f":"Start_Here!$C$22","v":"Contact Name"}]
["Phone",null,{"$f":"Start_Here!$C$23","v":"Contact Phone"}]
[]
[null,null,{"$f":"Start_Here!$B$11","v":"Where is the Machine Being Shipped? (Ship-To Info) (Please Verify)"}]
["Company",null,{"$f":"Start_Here!$C$12","v":"Company Name"}]
["Address",null,{"$f":"Start_Here!$C$13","v":"Address"}]
[null,null,{"$f":"Start_Here!$C$14","v":"City, State Zip"}]
["Name",null,{"$f":"Start_Here!$C$15","v":"Contact Name"}]
["Phone",null,{"$f":"Start_Here!$C$16","v":"Contact Phone"}]
[]
[null,null,{"$f":"Start_Here!$B$31","v":"Shipping / Carrier Instructions:"},null,"Order Special Instructions:"]
[null,null,{"$f":"Start_Here!$C$32","v":0}]
[]
[null,null,"Customer Purchase Order No."]
[null,null,"(please attach copy)"]
[]
[]
[null,null,"Tax Exempt",null,"Yes"]
[null,null,null,null,"No"]
[null,null,"If Yes, attach a copy of your exemption certificate."]
[]
[null,null,"Requested Delivery Date"]
[null,null,{"$f":"Start_Here!$C$28","v":0}]
[]
[null,null,{"$f":"Start_Here!$C$26","v":0},null,{"$f":"Start_Here!$C$27","v":0}]
[null,null,"Authorized Buyer (please print)",null,"Phone Number"]
[]
[]
[null,null,"Authorized Buyer Signature"]
[]
[null,null,{"$f":"Start_Here!$C$41","v":"Rep Name"}]
[null,null,"Tennant Representative"]
[]
[null,null,null,"Specialized Maintenance Equipment"]
[null,null,{"$f":"Start_Here!$C$51","v":0}]
[null,null,null,{"$f":"Start_Here!$C$52","v":0}]
[]
[null,"Notes"]
[null,1,"Only available on wet batteries, not sealed. "]
[]
[null,2,"A French and English manual will be supplied for all units shipping into Quebec, Canada at no charge.  An additional manual"]
[null,null,"can be ordered at no charge at Nobles.com and Service Manuals on My Account."]
[]
[null,3,"Shipping Weights and dimensions","Skid w/ Carton"]
[]
[null,null,"24\" / 610mm Cleaning Path"]
[null,null,"Weight (w/ 435AH Battery)","1,346 lbs / 610 Kg"]
[null,null,"Length","85\" / 2,159mm"]
[null,null,"Width","46\" / 1,169mm"]
[null,null,"Height","63\" / 1,600mm"]
[]
[null,null,"27\" / 690mm Cleaning Path"]
[null,null,"Weight (w/ 435AH Battery)","1,350 lbs / 612 Kg"]
[null,null,"Length","85\" / 2,159mm"]
[null,null,"Width","46\" / 1,169mm"]
[null,null,"Height","63\" / 1,600mm"]

{"sheet":"T260","index":18,"n_rows":185,"n_cols":17,"rows_kept":185,"cut":false,"hidden":false,"merged":[[149,4,149,5],[125,2,125,5],[126,2,126,5],[127,2,127,5],[128,2,128,5],[130,2,130,5],[131,2,131,5],[132,2,132,5],[133,2,133,5],[134,2,134,5],[136,4,136,7],[140,2,140,5],[124,2,124,5],[85,3,85,4],[85,5,85,6],[86,3,86,4],[86,5,86,6],[87,3,87,4],[87,5,87,6],[88,3,88,4],[88,5,88,6],[99,3,100,6],[103,1,103,6],[122,4,122,7],[82,3,82,4],[82,5,82,6],[83,3,83,4],[83,5,83,6],[84,3,84,4],[84,5,84,6],[59,5,59,6],[30,2,30,3],[80,3,80,4],[0,2,0,3],[1,2,1,3],[2,2,2,3],[3,2,3,3],[59,3,59,4],[61,3,61,4],[61,5,61,6],[75,4,75,8],[77,3,77,6],[79,3,79,4]]}
["T260",null,{"$f":"Start_Here!$C19","v":"Company Name"}]
[{"$f":"SUM(G54)","v":0},null,{"$f":"Start_Here!$C20","v":"Address"}]
[null,null,{"$f":"Start_Here!$C21","v":"City, State Zip"}]
[null,null,{"$f":"Start_Here!$C22","v":"Contact Name"}]
[null,null,{"$f":"Start_Here!$C$41","v":"Rep Name"}]
[null,null,{"$f":"Start_Here!$C$37","v":"Tennant Sales and Service Company"}]
[null,null,{"$f":"Start_Here!$C$38","v":"10400 Clean Street"}]
[null,null,{"$f":"Start_Here!$C$39","v":"Eden Prairie, MN 55344"}]
[null,null,{"$f":"Start_Here!$C$43","v":"800-553-8033"},null,"Quote Date :",null,{"$f":"Letter!$A$25","v":"2023-08-01"}]
[]
[null,null,{"$f":"Help!C2","v":"CAN Date Rev - 5/6/2025"}]
[]
[null,null,"TENNANT COMPANY WARRANTY"]
[null,null,"3 YEARS OR 1000 HOURS - PARTS"]
[null,null,"1 YEAR - BATTERY CHARGERS"]
[null,null,"1 YEAR - LABOR"]
[null,null,"3 MONTHS - TRAVEL",null,"                Quote Request Information"]
[null,null,"10 YEARS ON DURAMERTM ROTOMOLD TANKS",null,null,null,"Fax (quote only)"]
[null,null,null,null,null,null,"Mail (quote,lit, specs)"]
[null,null,null,null,null,null,"Fax + Mail"]
[]
[null,null,null,null,"                Primary Use"]
[null,null,null,null,null,null,"Inside"]
[null,null,null,null,null,null,"Outside"]
[null,null,"Description","Reference # ","List Price","Qty.","Extended Price"]
[]
[]
[null,null,"T260 Walk Behind Scrubber - Pad Assist - 135AH Sealed Gel Batteries","TN8001004",6878,null,{"$f":"F28*E28","v":0},null,null,null,null,null,null,null,null,null,{"$f":"VLOOKUP(D28,'MPF SAP Canada Pre-Configured'!C:E,3,FALSE)","v":{"$error":"#N/A"}}]
[null,null,"20in (50cm) single disk cleaning path, Linatex squeegee blades. Includes off-board charger, 2-12V sealed gel batteries, nylon brush, pad driver, and 1 red pad.",null,null,{"$f":"SUM(F28)","v":0}]
[null,null,null,null,null,{"$f":"SUM(F31)","v":0}]
[null,null,"Shipped on skid.",null,null,{"$f":"SUM(F28)","v":0},null,null,null,null,null,null,null,null,null,null,{"$f":"VLOOKUP(D31,'MPF SAP Canada Pre-Configured'!C:E,3,FALSE)","v":{"$error":"#N/A"}}]
[null,null,"T260 - Pad Assist - Shipping Weight and Dimensions","Skid w/Carton",null,{"$f":"SUM(F29)","v":0}]
[null,null,"Weight (w/ batteries)","364 lb ",null,0,null,null,null,null,null,null,null,null,null,null,{"$f":"VLOOKUP(D33,'MPF SAP Canada Pre-Configured'!C:E,3,FALSE)","v":{"$error":"#N/A"}}]
[null,null,"Length","54.3 in / 138 cm",null,0]
[null,null,"Width","24 in / 61cm",null,0]
[null,null,"Height","47.24 in / 120 cm",null,0]
[]
[null,null,null,null,0,{"$f":"SUM(E40)","v":0}]
[null,null,null,null,{"$f":"ROUND(SUM(G28:G38), 0)","v":0},{"$f":"SUM(E40)","v":0}]
[null,null,null,"Machine Subtotal ",{"$f":"ROUND(SUM(G28:G38), 0)","v":0},{"$f":"F38","v":0}]
[null,"Discounts",null,null,null,{"$f":"SUM(F42)","v":0}]
[null,null,null,null,null,{"$f":"SUM(F44:F47)","v":0}]
[null,null,null,"Applicable Currency Adj %",null,{"$f":"IF(E43 <> \"\", 1, 0)","v":0},{"$f":"IF(F43*(E43*0.01)*E39 < 0, F43*(E43*0.01)*E39, -(F43*(E43*0.01)*E39))","v":0}]
[null,null,null,"Discount %",null,0,{"$f":"IF(F44*(E44*0.01)*(E39+G43) < 0, F44*(E44*0.01)*(E39+G43), -(F44*(E44*0.01)*(E39+G43)))","v":0}]
[null,null,null,"Discount $",null,0,{"$f":"IF(F45*E45 < 0, F45*E45, -(F45*E45))","v":0}]
[null,null,null,"Discount $",null,0,{"$f":"IF(F46*E46 < 0, F46*E46, -(F46*E46))","v":0}]
[null,null,null,"Discount $",null,0,{"$f":"IF(F47*E47 < 0, F47*E47, -(F47*E47))","v":0}]
[null,null,null,"Discount Total ",{"$f":"SUM(G43:G47)","v":0},{"$f":"SUM(E48)","v":0}]
[null,null,null,null,null,{"$f":"#REF!","v":{"$error":"#REF!"}}]
[null,null,null,null,null,{"$f":"F49","v":{"$error":"#REF!"}}]
[null,null,"Prepaid and Add","Freight",null,{"$f":"IF(E51 <> \"\", 1, 0)","v":0},{"$f":"F51*E51","v":0}]
[null,null,"Subject to all applicable taxes","Tax",null,0,0]
[null,null,null,null,null,{"$f":"SUM(F54)","v":0}]
[null,null,null,"MACHINE TOTAL*",null,{"$f":"SUM(G54)","v":0},{"$f":"SUM(G28:G52)","v":0},null,null,null,null,null,null,"This goes to \"My Documents\""]
[null,null,null,null,null,null,{"$f":"G54","v":0}]
[]
[]
[]
[]
[null,null,"Wells Fargo - Leasing Calculation Option:","Option 1",null,"Option 2",null,null,null,{"$f":"Financing!A38","v":"Rates 2025 - Rev.2/4/2025"}]
[null,null,null,"Monthly Payment","Cost Per Day","Monthly Payment","Cost Per Day",null,null,{"$f":"Financing!A39","v":"“Blank Payment Amounts Indicate The Financing Option Or Purchase Options Selected Are Not "}]
[null,null,"Purchase Option:","$1 Buyout Lease",null,"None",null,null,null,{"$f":"Financing!A40","v":"Applicable Or The Machine Total Is Below The Minimum Amount For The Selected Vendor”"}]
[null,null,"24 Months",0,0,0,0,null,null,{"$f":"Financing!A41","v":"\"Quoted monthly payments are estimates only and are based on a certain level of credit rating."}]
[null,null,"36 Months",0,0,0,0,null,null,{"$f":"Financing!A42","v":"Actual monthly payments may be higher depending on your credit rating.\""}]
[null,null,"48 Months",0,0,0,0,null,null,{"$f":"Financing!A43","v":"“Financing rates do not include Pre-Paid Service”"}]
[null,null,"60 Months",0,0,0,0,null,{"$f":"Financing!A44","v":0}]
[]
[null,null,null,"Benefits of Equipment Financing:"]
[null,null,null,"• Spreads out investment over time.",null,"• Keep current with latest technology."]
[null,null,null,"• Preserve capital.",null,"• Service and parts bundling available."]
[null,null,null,"• Low monthly payment.",null,"• Pay for labor savings as you go."]
[]
[]
[null,"  TennantTrue"]
[]
[null,null,"Is customer interested in service program?","Yes","*State/County selection required for TennantTrue service options"]
[]
[null,null,"If not, why?"]
[]
[null,null,"Term:",36,null,"AB Brushes","No"]
[null,null,"Monthly machine usage (hrs):","< 30/mo. (Avg. 1hr./day)"]
[]
[null,null,"TennantTrue: ","Gold Contract",null,"Silver Contract"]
[null,null,"Per Visit",null,null,425]
[null,null,"Monthly",null,null,69]
[null,null,"Annually",null,null,816]
[null,null,"Pre-Pay Full Term",null,null,2397]
[null,null,"Hourly Labor Rate"]
[null,null,"Site Visit"]
[]
[null,null,"* Verify customer current pricing prior to quote. "]
[null,null,"**All rates and fees above reflect service for one (1) unit with the exception of Block of Time service."]
[null,null,"*Block of Time is available in 1 Year Term only and is priced as such no matter the term selection on this template."]
[]
[]
[null,"Servicing"]
[]
[null,null,"Is customer interested in a service plan?","No"]
[]
[null,null,"If not, why?"]
[]
[]
[null,"Quote Special Instructions:"]
[]
[]
[null,null,{"$f":"Start_Here!E36","v":"Terms and Conditions"}]
[null,null,{"$f":"Start_Here!E37","v":"Ask your local sales rep for estimated lead times. Verify when placing order"}]
[null,null,{"$f":"Start_Here!E38","v":"All orders subject to acceptance by Tennant Sales and Service Company, Minneapolis, Minnesota"}]
[null,null,{"$f":"Start_Here!E39","v":"Prices subject to change without notice. Subject to any applicable taxes."}]
[null,null,{"$f":"Start_Here!E40","v":"Terms:  Net 30 days.  Payable in Canadian Funds"}]
[null,null,{"$f":"Start_Here!E41","v":"Freight:  Accessories, parts, supplies, detergents, and floor coatings orders delivered DDP "}]
[null,null,{"$f":"Start_Here!E42","v":"shipping point Frt PPD.  Machine orders delivered DDP shipping point Frt PPD and add."}]
[null,null,{"$f":"Start_Here!E43","v":"Returned Merchandise is subject to a restocking fee."}]
[null,null,{"$f":"Start_Here!E44","v":"All orders are subject to Tennant’s General Terms and Conditions available at http://www.tennantco.com/terms."}]
[null,null,{"$f":"Start_Here!E45","v":"Printed General Terms and Conditions are also available upon request."}]
[null,null,{"$f":"Start_Here!E46","v":0}]
[]
[null,null,null,null,"Quote Date :",null,{"$f":"Letter!$A$25","v":"2023-08-01"}]
["Order Placement Information:  To place your order, fill in PO# and customer signatures,"]
["call or fax to the numbers listed below. Customer Purchase Order is required."]
["If information is missing, orders will be entered and held until all information is received."]
[null,null,"Customer Number",null,"Cust Grp 3"]
[null,null,{"$f":"Start_Here!$C$25","v":0},null,{"$f":"Start_Here!$C$29","v":0}]
[null,null,{"$f":"Start_Here!$B$18","v":"Who Owns the Machine? (Sold-To Info) (Please Verify)"}]
["Company",null,{"$f":"Start_Here!$C$19","v":"Company Name"}]
["Address",null,{"$f":"Start_Here!$C$20","v":"Address"}]
[null,null,{"$f":"Start_Here!$C$21","v":"City, State Zip"}]
["Name",null,{"$f":"Start_Here!$C$22","v":"Contact Name"}]
["Phone",null,{"$f":"Start_Here!$C$23","v":"Contact Phone"}]
[null,null,{"$f":"Start_Here!$B$11","v":"Where is the Machine Being Shipped? (Ship-To Info) (Please Verify)"}]
["Company",null,{"$f":"Start_Here!$C$12","v":"Company Name"}]
["Address",null,{"$f":"Start_Here!$C$13","v":"Address"}]
[null,null,{"$f":"Start_Here!$C$14","v":"City, State Zip"}]
["Name",null,{"$f":"Start_Here!$C$15","v":"Contact Name"}]
["Phone",null,{"$f":"Start_Here!$C$16","v":"Contact Phone"}]
[null,null,{"$f":"Start_Here!$B$31","v":"Shipping / Carrier Instructions:"},null,"Order Special Instructions:"]
[null,null,{"$f":"Start_Here!$C$32","v":0}]
[]
[null,null,"Customer Purchase Order No."]
[null,null,"(please attach copy)"]
[]
[]
[null,null,"Tax Exempt",null,"Yes"]
[null,null,null,null,"No"]
[null,null,"If Yes, attach a copy of your exemption certificate."]
[]
[null,null,"Requested Delivery Date"]
[null,null,{"$f":"Start_Here!$C$28","v":0}]
[]
[null,null,{"$f":"Start_Here!$C$26","v":0},null,{"$f":"Start_Here!$C$27","v":0}]
[null,0,"Authorized Buyer (please print)",null,"Phone Number"]
[]
[]
[null,0,"Authorized Buyer Signature"]
[]
[null,null,{"$f":"Start_Here!$C$41","v":"Rep Name"}]
[null,null,"Tennant Representative"]
[]
["Specialized Maintenance Equipment"]
[{"$f":"Start_Here!$C$48","v":"TENNANT · 10400 Clean Street · Eden Prairie, MN 55344 ·"}]
[{"$f":"Start_Here!$C$49","v":" PHONE:800-553-8033 · FAX:763-513-2116"}]
[]
[]
[null,null,"Special Information "]
[null,"Notes"]
[]
[null,1,"Pre-Configured Machines cannot add or change options.  All units will be packaged and shipped as stated above."]
[null,null,"When ordering, provide the reference number listed above.  Price does not include freight or tax.  Availability of units "]
[null,null,"and lead time may vary."]
[]
[null,2,"Customer MUST order Skid w/Carton, Stackable if WITHOUT BATTERY is selected.  Continental USA orders ONLY. "]
[]
[null,3,"One pad driver comes standard with a T2."]
[]
[null,4,"Pad wrap available only in the Continental US and is the default packaging method."]
[null,null,"Customer MUST order Skid w/Carton, Stackable if WITHOUT BATTERY is selected."]
[null,null,"Skid w/Carton, Stackable is mandatory when shipping to AK and HI.  Packaging is added at No Charge when shipping"]
[null,null,"to these locations."]
[null,null,null," "]
[null,5,"Machine Weights and dimensions","Pad Wrap","Skid w/Carton"]
[]
[null,null,"Weight (w/105AH battery)","300 lbs / 136 Kg","331 lbs / 150 Kg"]
[null,null,"Length","44\" / 1120mm","47\" / 1200mm"]
[null,null,"Width","19\" / 478mm","30\" / 750mm"]
[null,null,"Height","37\" / 930mm","45\" / 1150mm"]

{"sheet":"T391_T291","index":19,"n_rows":266,"n_cols":17,"rows_kept":266,"cut":false,"hidden":false,"merged":[[230,4,230,5],[206,2,206,5],[207,2,207,5],[208,2,208,5],[209,2,209,5],[211,2,211,5],[212,2,212,5],[213,2,213,5],[214,2,214,5],[215,2,215,5],[217,4,217,7],[221,2,221,5],[205,2,205,5],[166,3,166,4],[166,5,166,6],[167,3,167,4],[167,5,167,6],[168,3,168,4],[168,5,168,6],[169,3,169,4],[169,5,169,6],[180,3,181,6],[184,1,184,6],[203,4,203,7],[163,3,163,4],[163,5,163,6],[164,3,164,4],[164,5,164,6],[165,3,165,4],[165,5,165,6],[140,5,140,6],[161,3,161,4],[0,2,0,3],[1,2,1,3],[2,2,2,3],[3,2,3,3],[140,3,140,4],[142,3,142,4],[142,5,142,6],[156,4,156,8],[158,3,158,6],[160,3,160,4]]}
["T391_T291",null,{"$f":"Start_Here!$C19","v":"Company Name"}]
[{"$f":"SUM(G135)","v":0},null,{"$f":"Start_Here!$C20","v":"Address"}]
[null,null,{"$f":"Start_Here!$C21","v":"City, State Zip"}]
[null,null,{"$f":"Start_Here!$C22","v":"Contact Name"}]
[null,null,{"$f":"Start_Here!$C$41","v":"Rep Name"}]
[null,null,{"$f":"Start_Here!$C$37","v":"Tennant Sales and Service Company"}]
[null,null,{"$f":"Start_Here!$C$38","v":"10400 Clean Street"}]
[null,null,{"$f":"Start_Here!$C$39","v":"Eden Prairie, MN 55344"}]
[null,null,{"$f":"Start_Here!$C$43","v":"800-553-8033"},null,"Quote Date :",null,{"$f":"Letter!$A$25","v":"2023-08-01"}]
[]
[null,null,{"$f":"Help!C2","v":"CAN Date Rev - 5/6/2025"}]
[]
[null,null,"TENNANT COMPANY WARRANTY"]
[null,null,"3 YEARS OR 1500 HOURS - PARTS"]
[null,null,"1 YEAR - BATTERY CHARGERS"]
[null,null,"2 YEARS - LABOR"]
[null,null,"6 MONTHS - TRAVEL",null,"                Quote Request Information"]
[null,null,"10 YEARS ON DURAMERTM ROTOMOLD TANKS",null,null,null,"Fax (quote only)"]
[null,null,null,null,null,null,"Mail (quote,lit, specs)"]
[null,null,null,null,null,null,"Fax + Mail"]
[]
[null,null,null,null,"                Primary Use"]
[null,null,null,null,null,null,"Inside"]
[null,null,null,null,null,null,"Outside"]
[null,null,"Description","Reference # ","List Price","Qty.","Extended Price"]
[]
[]
[null,null,"T391 - Walk Behind Scrubber 130AH Wet Batteries",9022790,15067,null,{"$f":"F28*E28","v":0},null,null,null,null,null,null,null,null,null,{"$f":"VLOOKUP(D28,'MPF SAP Canada Pre-Configured'!C:E,3,FALSE)","v":{"$error":"#N/A"}}]
[null,null,"28in (70cm) dual disk cleaning path, conventional, pad driver, red pads, Linatex squeegee blades. Includes onboard charger, 2-12V batteries",null,null,{"$f":"SUM(F28)","v":0}]
[null,null,null,null,null,{"$f":"SUM(F31)","v":0}]
[null,null,"T391 - Walk Behind Scrubber 140AH Sealed AGM Batteries",9022789,16576,null,{"$f":"F31*E31","v":0},null,null,null,null,null,null,null,null,null,{"$f":"VLOOKUP(D31,'MPF SAP Canada Pre-Configured'!C:E,3,FALSE)","v":{"$error":"#N/A"}}]
[null,null,"28in (70cm) dual disk cleaning path, conventional, pad driver, red pads, Linatex squeegee blades. Includes onboard charger, 2-12V batteries",null,null,{"$f":"SUM(F33)","v":0}]
[null,null,null,null,null,{"$f":"SUM(F34)","v":0},null,null,null,null,null,null,null,null,null,null,{"$f":"VLOOKUP(D33,'MPF SAP Canada Pre-Configured'!C:E,3,FALSE)","v":{"$error":"#N/A"}}]
[null,null,"T391 - Walk Behind Scrubber 90 AH Li-Ion  Battery",9300496,18567,null,{"$f":"F34*E34","v":0}]
[null,null,"28in (70cm) dual disk cleaning path, conventional, pad driver, red pads, Linatex squeegee blades. Includes onboard charger, 1-24V battery",null,null,{"$f":"SUM(F36)","v":0}]
[]
[null,null,"T391 - Walk Behind Scrubber 130AH Wet Batteries w/ EcH2O nanoclean",9022792,19044,null,{"$f":"F37*E37","v":0}]
[null,null,"28in (70cm) dual disk cleaning path, ecH2O nanoclean with severe environment, pad driver, red pads, Linatex squeegee blades. Includes onboard charger, 2-12V batteries",null,null,{"$f":"SUM(F37)","v":0}]
[null,null,null,null,null,{"$f":"SUM(F28:F33)","v":0}]
[null,null,"T391 - Walk Behind Scrubber 140AH Sealed AGM Batteries w/ EcH2O nanoclean",9022791,20553,null,{"$f":"F40*E40","v":0}]
[null,null,"28in (70cm) dual disk cleaning path, ecH2O nanoclean with severe environment, pad driver, red pads, Linatex squeegee blades. Includes onboard charger, 2-12V batteries",null,null,{"$f":"SUM(F40)","v":0}]
[null,null,null,null,null,{"$f":"SUM(F31:F36)","v":0}]
[null,null,"T391 - Walk Behind Scrubber 90AH Li-Ion Battery w/ EcH2O nanoclean",9300497,22545,null,{"$f":"F43*E43","v":0}]
[null,null,"28in (70cm) dual disk cleaning path, ecH2O nanoclean with severe environment, pad driver, red pads, Linatex squeegee blades. Includes onboard charger, 1-24V battery",null,null,{"$f":"SUM(F43)","v":0}]
[]
[null,null,"T391 - Walk Behind Scrubber 130AH Wet Batteries",9022794,16229,null,{"$f":"F46*E46","v":0}]
[null,null,"32in (80cm) dual disk cleaning path, conventional, pad driver, red pads, Linatex squeegee blades. Includes onboard charger, 2-12V batteries",null,null,{"$f":"SUM(F46)","v":0}]
[]
[null,null,"T391 - Walk Behind Scrubber 140AH Sealed AGM Batteries",9022793,17738,null,{"$f":"F49*E49","v":0}]
[null,null,"32in (80cm) dual disk cleaning path, conventional, pad driver, red pads, Linatex squeegee blades. Includes onboard charger, 2-12V batteries",null,null,{"$f":"SUM(F49)","v":0},null,null,null,null,null,null,null,null,null,null,{"$f":"VLOOKUP(D50,'MPF SAP Canada Pre-Configured'!C:E,3,FALSE)","v":{"$error":"#N/A"}}]
[]
[null,null,"T391 - Walk Behind Scrubber 90AH Li-Ion Battery",9300498,19729,null,{"$f":"F52*E52","v":0}]
[null,null,"32in (80cm) dual disk cleaning path, conventional, pad driver, red pads, Linatex squeegee blades. Includes onboard charger, 1-24V battery",null,null,{"$f":"SUM(F52)","v":0}]
[]
[null,null,"T391 - Walk Behind Scrubber 130AH Wet Batteries w/ EcH2O nanoclean",9022796,20206,null,{"$f":"F55*E55","v":0}]
[null,null,"32in (80cm) dual disk cleaning path, ecH2O nanoclean with severe environment, pad driver, red pads, Linatex squeegee blades. Includes onboard charger, 2-12V batteries",null,null,{"$f":"SUM(F55)","v":0},null,null,null,null,null,null,null,null,null,null,{"$f":"VLOOKUP(D56,'MPF SAP Canada Pre-Configured'!C:E,3,FALSE)","v":{"$error":"#N/A"}}]
[null,null,null,null,null,{"$f":"SUM(F58)","v":0}]
[null,null,"T391 - Walk Behind Scrubber 140AH Sealed AGM Batteries w/ EcH2O nanoclean",9022795,21715,null,{"$f":"F58*E58","v":0},null,null,null,null,null,null,null,null,null,{"$f":"VLOOKUP(D58,'MPF SAP Canada Pre-Configured'!C:E,3,FALSE)","v":{"$error":"#N/A"}}]
[null,null,"32in (80cm) dual disk cleaning path, ecH2O nanoclean with severe environment, pad driver, red pads, Linatex squeegee blades. Includes onboard charger, 2-12V batteries",null,null,{"$f":"SUM(F58)","v":0}]
[null,null,null,null,null,{"$f":"SUM(F61)","v":0}]
[null,null,"T391 - Walk Behind Scrubber 90AH Battery w/ EcH2O nanoclean",9300499,23707,null,{"$f":"F61*E61","v":0}]
[null,null,"32in (80cm) dual disk cleaning path, ecH2O nanoclean with severe environment, pad driver, red pads, Linatex squeegee blades. Includes onboard charger, 1-24V battery",null,null,{"$f":"SUM(F61)","v":0}]
[]
[]
[null,null,"T391 - Shipping Weight and Dimensions","Skid w/Carton",null,{"$f":"SUM(F50:F58)","v":0}]
[null,null,"Weight (w/ heaviest batteries)","438 lb / 199 kg",null,{"$f":"SUM(F65)","v":0}]
[null,null,"Length","50 in / 127 cm",null,{"$f":"SUM(F66)","v":0}]
[null,null,"Width","33 in / 84cm",null,0]
[null,null,"Height","45 in / 114.5 cm",null,0]
[]
[]
[null,null,"T291 - Walk Behind Scrubber - Pad Assist - 130AH Wet Batteries",9300480,8809,null,{"$f":"F72*E72","v":0}]
[null,null,"20in (50cm) single disk cleaning path, conventional cleaning,  Linatex squeegee blades. Includes on-board charger, splash guard, 2-12V batteries, pad driver, and 1 red pad.",null,null,{"$f":"SUM(F72)","v":0}]
[null,null,null,null,null,{"$f":"SUM(F75)","v":0}]
[null,null,"T291 - Walk Behind Scrubber - Pad Assist - 140AH Sealed AGM Batteries",9300484,10318,null,{"$f":"F75*E75","v":0}]
[null,null,null,null,null,{"$f":"SUM(F75)","v":0}]
[null,null,"T291 - Walk Behind Scrubber - Pad Assist - 90AH Li-Ion Battery",9300488,12309,null,{"$f":"F77*E77","v":0}]
[null,null,null,null,null,{"$f":"SUM(F77)","v":0}]
[null,null,"T291 - Walk Behind Scrubber - Pad Assist - No Battery",9300492,8179,null,{"$f":"F79*E79","v":0}]
[null,null,null,null,null,{"$f":"SUM(F79)","v":0}]
[]
[null,null,"T291 - Walk Behind Scrubber - Self Propel - 130AH Wet Batteries",9300482,10629,null,{"$f":"F82*E82","v":0}]
[null,null,"20in (50cm) single disk cleaning path, conventional cleaning, self-propel, Linatex squeegee blades. Includes on-board charger, splash guard, 2-12V batteries, pad driver, and 1 red pad.",null,null,{"$f":"SUM(F82)","v":0}]
[]
[null,null,"T291 - Walk Behind Scrubber - Self Propel - 140AH Sealed AGM Batteries",9300486,12138,null,{"$f":"F85*E85","v":0}]
[]
[null,null,"T291 - Walk Behind Scrubber - Self Propel - 90AH Li-Ion Battery",9300490,14129,null,{"$f":"F87*E87","v":0}]
[null,null,null,null,null,{"$f":"SUM(F85)","v":0}]
[null,null,"T291 - Walk Behind Scrubber - Self Propel - No Battery",9300494,9999,null,{"$f":"F89*E89","v":0}]
[null,null,null,null,null,{"$f":"SUM(F89)","v":0}]
[]
[null,null,"T291 - Walk Behind Scrubber - Pad Assist - ec-H20 NanoClean w/ severe environment - 130AH Wet Batteries",9300481,11715,null,{"$f":"F92*E92","v":0}]
[null,null,"20in (50cm) single disk cleaning path, ec-H20 NanoClean w/ severe environment, pad-assist, Linatex squeegee blades. Includes on-board charger, splash guard, 2-12V batteries, pad driver, and 1 red pad.",null,null,{"$f":"SUM(F92)","v":0}]
[]
[null,null,"T291 - Walk Behind Scrubber - Pad Assist - ec-H20 NanoClean w/ severe environment - 140AH AGM Batteries",9300485,13224,null,{"$f":"F95*E95","v":0}]
[]
[null,null,"T291 - Walk Behind Scrubber - Pad Assist - ec-H20 NanoClean w/ severe environment - 90AH Li-Ion Battery",9300489,15216,null,{"$f":"F97*E97","v":0}]
[null,null,null,null,null,{"$f":"SUM(F95)","v":0}]
[null,null,"T291 - Walk Behind Scrubber - Pad Assist - ec-H20 NanoClean w/ severe environment - No Battery",9300493,11085,null,{"$f":"F99*E99","v":0}]
[null,null,null,null,null,{"$f":"SUM(F99)","v":0}]
[]
[null,null,"T291 - Walk Behind Scrubber - Self Propel - ec-H20 NanoClean w/ severe environment - 130AH Wet Batteries",9300483,13535,null,{"$f":"F102*E102","v":0}]
[null,null,"20in (50cm) single disk cleaning path, ec-H20 NanoClean w/ severe environment, self-propel, Linatex squeegee blades. Includes on-board charger, splash guard, 2-12V batteries, pad driver, and 1 red pad.",null,null,{"$f":"SUM(F102)","v":0}]
[]
[null,null,"T291 - Walk Behind Scrubber - Self Propel - ec-H20 NanoClean w/ severe environment - 140AH AGM Batteries",9300487,15044,null,{"$f":"F105*E105","v":0}]
[]
[null,null,"T291 - Walk Behind Scrubber - Self Propel - ec-H20 NanoClean w/ severe environment - 90AH Li-Ion Battery",9300491,17036,null,{"$f":"F107*E107","v":0}]
[null,null,null,null,null,{"$f":"SUM(F105)","v":0}]
[null,null,"T291 - Walk Behind Scrubber - Self Propel - ec-H20 NanoClean w/ severe environment - No Battery",9300495,12905,null,{"$f":"F109*E109","v":0}]
[null,null,null,null,null,{"$f":"SUM(F109)","v":0}]
[]
[null,null,"T291 - Shipping Weight and Dimensions",null,null,{"$f":"SUM(F72:F109)","v":0}]
[null,null,"Weight (w/ heaviest batteries)","390.22 lbs",null,{"$f":"SUM(F112)","v":0}]
[null,null,"Length","53.74 in / 137 cm",null,{"$f":"SUM(F113)","v":0}]
[null,null,"Width","27.36 in / 70 cm",null,0]
[null,null,"Height","45.11 in / 115 cm",null,0]
[]
[]
[null,null,null,null,0,{"$f":"SUM(E121)","v":0}]
[null,null,null,null,{"$f":"ROUND(SUM(G28:G119), 0)","v":0},{"$f":"SUM(E121)","v":0}]
[null,null,null,"Machine Subtotal ",{"$f":"ROUND(SUM(G28:G119), 0)","v":0},{"$f":"F119","v":0}]
[null,"Discounts",null,null,null,{"$f":"SUM(F123)","v":0}]
[null,null,null,null,null,{"$f":"SUM(F125:F128)","v":0}]
[null,null,null,"Applicable Currency Adj %",null,{"$f":"IF(E124 <> \"\", 1, 0)","v":0},{"$f":"IF(F124*(E124*0.01)*E120 < 0, F124*(E124*0.01)*E120, -(F124*(E124*0.01)*E120))","v":0}]
[null,null,null,"Discount %",null,0,{"$f":"IF(F125*(E125*0.01)*(E120+G124) < 0, F125*(E125*0.01)*(E120+G124), -(F125*(E125*0.01)*(E120+G124)))","v":0}]
[null,null,null,"Discount $",null,0,{"$f":"IF(F126*E126 < 0, F126*E126, -(F126*E126))","v":0}]
[null,null,null,"Discount $",null,0,{"$f":"IF(F127*E127 < 0, F127*E127, -(F127*E127))","v":0}]
[null,null,null,"Discount $",null,0,{"$f":"IF(F128*E128 < 0, F128*E128, -(F128*E128))","v":0}]
[null,null,null,"Discount Total ",{"$f":"SUM(G124:G128)","v":0},{"$f":"SUM(E129)","v":0}]
[null,null,null,null,null,{"$f":"#REF!","v":{"$error":"#REF!"}}]
[null,null,null,null,null,{"$f":"F130","v":{"$error":"#REF!"}}]
[null,null,"Prepaid and Add","Freight",null,{"$f":"IF(E132 <> \"\", 1, 0)","v":0},{"$f":"F132*E132","v":0}]
[null,null,"Subject to all applicable taxes","Tax",null,0,0]
[null,null,null,null,null,{"$f":"SUM(F135)","v":0}]
[null,null,null,"MACHINE TOTAL*",null,{"$f":"SUM(G135)","v":0},{"$f":"SUM(G28:G133)","v":0},null,null,null,null,null,null,"This goes to \"My Documents\""]
[null,null,null,null,null,null,{"$f":"G135","v":0}]
[]
[]
[]
[]
[null,null,"Wells Fargo - Leasing Calculation Option:","Option 1",null,"Option 2",null,null,null,{"$f":"Financing!A38","v":"Rates 2025 - Rev.2/4/2025"}]
[null,null,null,"Monthly Payment","Cost Per Day","Monthly Payment","Cost Per Day",null,null,{"$f":"Financing!A39","v":"“Blank Payment Amounts Indicate The Financing Option Or Purchase Options Selected Are Not "}]
[null,null,"Purchase Option:","$1 Buyout Lease",null,"None",null,null,null,{"$f":"Financing!A40","v":"Applicable Or The Machine Total Is Below The Minimum Amount For The Selected Vendor”"}]
[null,null,"24 Months",0,0,0,0,null,null,{"$f":"Financing!A41","v":"\"Quoted monthly payments are estimates only and are based on a certain level of credit rating."}]
[null,null,"36 Months",0,0,0,0,null,null,{"$f":"Financing!A42","v":"Actual monthly payments may be higher depending on your credit rating.\""}]
[null,null,"48 Months",0,0,0,0,null,null,{"$f":"Financing!A43","v":"“Financing rates do not include Pre-Paid Service”"}]
[null,null,"60 Months",0,0,0,0,null,{"$f":"Financing!A44","v":0}]
[]
[null,null,null,"Benefits of Equipment Financing:"]
[null,null,null,"• Spreads out investment over time.",null,"• Keep current with latest technology."]
[null,null,null,"• Preserve capital.",null,"• Service and parts bundling available."]
[null,null,null,"• Low monthly payment.",null,"• Pay for labor savings as you go."]
[]
[]
[null,"  TennantTrue"]
[]
[null,null,"Is customer interested in service program?","Yes","*State/County selection required for TennantTrue service options"]
[]
[null,null,"If not, why?"]
[]
[null,null,"Term:",36,null,"AB Brushes","No"]
[null,null,"Monthly machine usage (hrs):","< 30/mo. (Avg. 1hr./day)"]
[]
[null,null,"TennantTrue: ","Gold Contract",null,"Silver Contract"]
[null,null,"Per Visit",null,null,425]
[null,null,"Monthly",129,null,69]
[null,null,"Annually",null,null,816]
[null,null,"Pre-Pay Full Term",4444,null,2397]
[null,null,"Hourly Labor Rate"]
[null,null,"Site Visit"]
[]
[null,null,"* Verify customer current pricing prior to quote. "]
[null,null,"**All rates and fees above reflect service for one (1) unit with the exception of Block of Time service."]
[null,null,"*Block of Time is available in 1 Year Term only and is priced as such no matter the term selection on this template."]
[]
[]
[null,"Servicing"]
[]
[null,null,"Is customer interested in a service plan?","No"]
[]
[null,null,"If not, why?"]
[]
[]
[null,"Quote Special Instructions:"]
[]
[]
[null,null,{"$f":"Start_Here!E36","v":"Terms and Conditions"}]
[null,null,{"$f":"Start_Here!E37","v":"Ask your local sales rep for estimated lead times. Verify when placing order"}]
[null,null,{"$f":"Start_Here!E38","v":"All orders subject to acceptance by Tennant Sales and Service Company, Minneapolis, Minnesota"}]
[null,null,{"$f":"Start_Here!E39","v":"Prices subject to change without notice. Subject to any applicable taxes."}]
[null,null,{"$f":"Start_Here!E40","v":"Terms:  Net 30 days.  Payable in Canadian Funds"}]
[null,null,{"$f":"Start_Here!E41","v":"Freight:  Accessories, parts, supplies, detergents, and floor coatings orders delivered DDP "}]
[null,null,{"$f":"Start_Here!E42","v":"shipping point Frt PPD.  Machine orders delivered DDP shipping point Frt PPD and add."}]
[null,null,{"$f":"Start_Here!E43","v":"Returned Merchandise is subject to a restocking fee."}]
[null,null,{"$f":"Start_Here!E44","v":"All orders are subject to Tennant’s General Terms and Conditions available at http://www.tennantco.com/terms."}]
[null,null,{"$f":"Start_Here!E45","v":"Printed General Terms and Conditions are also available upon request."}]
[null,null,{"$f":"Start_Here!E46","v":0}]
[]
[null,null,null,null,"Quote Date :",null,{"$f":"Letter!$A$25","v":"2023-08-01"}]
["Order Placement Information:  To place your order, fill in PO# and customer signatures,"]
["call or fax to the numbers listed below. Customer Purchase Order is required."]
["If information is missing, orders will be entered and held until all information is received."]
[null,null,"Customer Number",null,"Cust Grp 3"]
[null,null,{"$f":"Start_Here!$C$25","v":0},null,{"$f":"Start_Here!$C$29","v":0}]
[null,null,{"$f":"Start_Here!$B$18","v":"Who Owns the Machine? (Sold-To Info) (Please Verify)"}]
["Company",null,{"$f":"Start_Here!$C$19","v":"Company Name"}]
["Address",null,{"$f":"Start_Here!$C$20","v":"Address"}]
[null,null,{"$f":"Start_Here!$C$21","v":"City, State Zip"}]
["Name",null,{"$f":"Start_Here!$C$22","v":"Contact Name"}]
["Phone",null,{"$f":"Start_Here!$C$23","v":"Contact Phone"}]
[null,null,{"$f":"Start_Here!$B$11","v":"Where is the Machine Being Shipped? (Ship-To Info) (Please Verify)"}]
["Company",null,{"$f":"Start_Here!$C$12","v":"Company Name"}]
["Address",null,{"$f":"Start_Here!$C$13","v":"Address"}]
[null,null,{"$f":"Start_Here!$C$14","v":"City, State Zip"}]
["Name",null,{"$f":"Start_Here!$C$15","v":"Contact Name"}]
["Phone",null,{"$f":"Start_Here!$C$16","v":"Contact Phone"}]
[null,null,{"$f":"Start_Here!$B$31","v":"Shipping / Carrier Instructions:"},null,"Order Special Instructions:"]
[null,null,{"$f":"Start_Here!$C$32","v":0}]
[]
[null,null,"Customer Purchase Order No."]
[null,null,"(please attach copy)"]
[]
[]
[null,null,"Tax Exempt",null,"Yes"]
[null,null,null,null,"No"]
[null,null,"If Yes, attach a copy of your exemption certificate."]
[]
[null,null,"Requested Delivery Date"]
[null,null,{"$f":"Start_Here!$C$28","v":0}]
[]
[null,null,{"$f":"Start_Here!$C$26","v":0},null,{"$f":"Start_Here!$C$27","v":0}]
[null,0,"Authorized Buyer (please print)",null,"Phone Number"]
[]
[]
[null,0,"Authorized Buyer Signature"]
[]
[null,null,{"$f":"Start_Here!$C$41","v":"Rep Name"}]
[null,null,"Tennant Representative"]
[]
["Specialized Maintenance Equipment"]
[{"$f":"Start_Here!$C$48","v":"TENNANT · 10400 Clean Street · Eden Prairie, MN 55344 ·"}]
[{"$f":"Start_Here!$C$49","v":" PHONE:800-553-8033 · FAX:763-513-2116"}]
[]
[]
[null,null,"Special Information "]
[null,"Notes"]
[]
[null,1,"Pre-Configured Machines cannot add or change options.  All units will be packaged and shipped as stated above."]
[null,null,"When ordering, provide the reference number listed above.  Price does not include freight or tax.  Availability of units "]
[null,null,"and lead time may vary."]
[]
[null,2,"Customer MUST order Skid w/Carton, Stackable if WITHOUT BATTERY is selected.  Continental USA orders ONLY. "]
[]
[null,3,"One pad driver comes standard with a T2."]
[]
[null,4,"Pad wrap available only in the Continental US and is the default packaging method."]
[null,null,"Customer MUST order Skid w/Carton, Stackable if WITHOUT BATTERY is selected."]
[null,null,"Skid w/Carton, Stackable is mandatory when shipping to AK and HI.  Packaging is added at No Charge when shipping"]
[null,null,"to these locations."]
[null,null,null," "]
[null,5,"Machine Weights and dimensions","Pad Wrap","Skid w/Carton"]
[]
[null,null,"Weight (w/105AH battery)","300 lbs / 136 Kg","331 lbs / 150 Kg"]
[null,null,"Length","44\" / 1120mm","47\" / 1200mm"]
[null,null,"Width","19\" / 478mm","30\" / 750mm"]
[null,null,"Height","37\" / 930mm","45\" / 1150mm"]

{"sheet":"T581_T390_T290","index":20,"n_rows":245,"n_cols":17,"rows_kept":245,"cut":false,"hidden":false,"merged":[[119,3,119,4],[119,5,119,6],[0,2,0,3],[1,2,1,3],[2,2,2,3],[3,2,3,3],[121,3,121,4],[121,5,121,6],[140,3,140,4],[135,4,135,8],[137,3,137,6],[139,3,139,4],[142,3,142,4],[142,5,142,6],[143,3,143,4],[143,5,143,6],[144,3,144,4],[144,5,144,6],[184,2,184,5],[145,3,145,4],[145,5,145,6],[146,3,146,4],[146,5,146,6],[147,3,147,4],[147,5,147,6],[148,3,148,4],[148,5,148,6],[159,3,160,6],[163,1,163,6],[182,4,182,7],[209,4,209,5],[185,2,185,5],[186,2,186,5],[187,2,187,5],[188,2,188,5],[190,2,190,5],[191,2,191,5],[192,2,192,5],[193,2,193,5],[194,2,194,5],[196,4,196,7],[200,2,200,5]]}
["T581_T390_T290",null,{"$f":"Start_Here!$C19","v":"Company Name"}]
[{"$f":"SUM(G114)","v":0},null,{"$f":"Start_Here!$C20","v":"Address"}]
[null,null,{"$f":"Start_Here!$C21","v":"City, State Zip"}]
[null,null,{"$f":"Start_Here!$C22","v":"Contact Name"}]
[null,null,{"$f":"Start_Here!$C$41","v":"Rep Name"}]
[null,null,{"$f":"Start_Here!$C$37","v":"Tennant Sales and Service Company"}]
[null,null,{"$f":"Start_Here!$C$38","v":"10400 Clean Street"}]
[null,null,{"$f":"Start_Here!$C$39","v":"Eden Prairie, MN 55344"}]
[null,null,{"$f":"Start_Here!$C$43","v":"800-553-8033"},null,"Quote Date :",null,{"$f":"Letter!$A$25","v":"2023-08-01"}]
[]
[null,null,{"$f":"Help!C2","v":"CAN Date Rev - 5/6/2025"}]
[]
[null,null,"TENNANT COMPANY WARRANTY"]
[null,null,"3 YEARS OR 2000 HOURS - PARTS"]
[null,null,"1 YEAR - BATTERY CHARGERS"]
[null,null,"2 YEARS - LABOR"]
[null,null,"6 MONTHS - TRAVEL",null,"                Quote Request Information"]
[null,null,"10 YEARS ON DURAMERTM ROTOMOLD TANKS",null,null,null,"Fax (quote only)"]
[null,null,null,null,null,null,"Mail (quote,lit, specs)"]
[null,null,null,null,null,null,"Fax + Mail"]
[]
[null,null,null,null,"                Primary Use"]
[null,null,null,null,null,null,"Inside"]
[null,null,null,null,null,null,"Outside"]
[null,null,"Description","Reference # ","List Price","Qty.","Extended Price"]
[null,null,null,null,null,{"$f":"SUM(F65,F66)","v":0}]
[]
[null,null,"T581 - Ride-On Micro-Scrubber - 150AH Wet Batteries",9022008,17483,null,{"$f":"F28*E28","v":0},null,null,null,null,null,null,null,null,null,{"$f":"VLOOKUP(D28,'MPF SAP Canada Pre-Configured'!C:E,3,FALSE)","v":16810}]
[null,null,"20in (50cm) single disk cleaning path, Linatex squeegee blades. Includes onboard charger, 2-12V batteries, pad driver, and 1 red pad.",null,null,{"$f":"SUM(F28)","v":0}]
[null,null,null,null,null,{"$f":"SUM(F31)","v":0}]
[null,null,"T581 - Ride-On Micro-Scrubber - 140AH Sealed AGM Batteries",9022009,19053,null,{"$f":"F31*E31","v":0},null,null,null,null,null,null,null,null,null,{"$f":"VLOOKUP(D31,'MPF SAP Canada Pre-Configured'!C:E,3,FALSE)","v":18320}]
[null,null,null,null,null,{"$f":"SUM(F39)","v":0}]
[null,null,"T581 -  Ride-On Micro-Scrubber - 90AH Li-Ion Battery",9300510,20984,null,{"$f":"F33*E33","v":0}]
[null,null,"20in (50cm) single disk cleaning path, Linatex squeegee blades. Includes onboard charger, 1-24V battery, pad driver, and 1 red pad.",null,null,{"$f":"SUM(F41)","v":0}]
[]
[null,null,"T581 -  Ride-On Micro-Scrubber - 180AH Li-Ion Batteries",9300511,24064,null,{"$f":"F36*E36","v":0}]
[null,null,"20in (50cm) single disk cleaning path, Linatex squeegee blades. Includes onboard charger, 2-24V batteries, pad driver, and 1 red pad.",null,null,{"$f":"SUM(F36)","v":0}]
[null,null,null,null,null,{"$f":"SUM(F39)","v":0}]
[null,null,"T581 - Ride-On Micro Scrubber  - NO Batteries",1255470,16893,null,{"$f":"F39*E39","v":0},null,null,null,null,null,null,null,null,null,{"$f":"VLOOKUP(D39,'MPF SAP Canada Pre-Configured'!C:E,3,FALSE)","v":16243}]
[null,null,null,null,null,{"$f":"SUM(F39)","v":0}]
[null,null,"Shipped on skid."]
[null,null,"T581 - Self-Propel - Shipping Weight and Dimensions","Skid w/Carton",null,{"$f":"SUM(F28:F39)","v":0}]
[null,null,"Weight (w/ heaviest batteries)","520 lb / 236 kg",null,{"$f":"SUM(F42)","v":0}]
[null,null,"Length","57 in / 145 cm",null,{"$f":"SUM(F43)","v":0}]
[null,null,"Width","32 in / 82cm",null,0]
[null,null,"Height","45 in / 114.5 cm",null,0]
[]
[]
[]
[null,null,"T390 - Walk Behind Scrubber -Self-Propel - 150AH Wet Batteries",9022006,15128,null,{"$f":"F50*E50","v":0},null,null,null,null,null,null,null,null,null,{"$f":"VLOOKUP(D50,'MPF SAP Canada Pre-Configured'!C:E,3,FALSE)","v":14408}]
[null,null,"28in (70cm), dual disk cleaning path, Linatex squeegee blades. Includes onboard charger,  2-12V batteries, pad driver, and 1 red pad.",null,null,{"$f":"SUM(F50)","v":0}]
[null,null,null,null,null,{"$f":"SUM(F53)","v":0}]
[null,null,"T390 - Walk Behind Scrubber -Self-Propel - 140AH Sealed AGM Batteries",9022007,16715,null,{"$f":"F53*E53","v":0},null,null,null,null,null,null,null,null,null,{"$f":"VLOOKUP(D53,'MPF SAP Canada Pre-Configured'!C:E,3,FALSE)","v":15919}]
[null,null,null,null,null,{"$f":"SUM(F55)","v":0}]
[null,null,"T390 - Walk Behind Scrubber - Self-Propel - NO Batteries",1255469,14534,null,{"$f":"F55*E55","v":0},null,null,null,null,null,null,null,null,null,{"$f":"VLOOKUP(D55,'MPF SAP Canada Pre-Configured'!C:E,3,FALSE)","v":13842}]
[null,null,null,null,null,{"$f":"SUM(F53)","v":0}]
[null,null,"Shipped on skid."]
[null,null,"T390 - Self-Propel - Shipping Weight and Dimensions","Skid w/Carton",null,{"$f":"SUM(F50:F55)","v":0}]
[null,null,"Weight (w/ heaviest batteries)","438 lb / 199 kg",null,{"$f":"SUM(F58)","v":0}]
[null,null,"Length","50 in / 127 cm",null,{"$f":"SUM(F59)","v":0}]
[null,null,"Width","33 in / 84cm",null,0]
[null,null,"Height","45 in / 114.5 cm",null,0]
[]
[]
[null,null,"T290 - Walk Behind Scrubber - Pad Assist - 130AH Wet Batteries",9022000,8752,null,{"$f":"F65*E65","v":0},null,null,null,null,null,null,null,null,null,{"$f":"VLOOKUP(D65,'MPF SAP Canada Pre-Configured'!C:E,3,FALSE)","v":8497}]
[null,null,"20in (50cm) single disk cleaning path, Linatex squeegee blades. Includes on-board charger, 2-12V batteries, pad driver, and 1 red pad.",null,null,{"$f":"SUM(F65)","v":0}]
[null,null,null,null,null,{"$f":"SUM(F68)","v":0}]
[null,null,"T290 - Walk Behind Scrubber - Pad Assist - 150AH Wet Batteries",9022001,8937,null,{"$f":"F68*E68","v":0},null,null,null,null,null,null,null,null,null,{"$f":"VLOOKUP(D68,'MPF SAP Canada Pre-Configured'!C:E,3,FALSE)","v":8676}]
[null,null,null,null,null,{"$f":"SUM(F70)","v":0}]
[null,null,"T290 - Walk Behind Scrubber -Pad Assist - 140AH Sealed AGM Batteries",9022002,10494,null,{"$f":"F70*E70","v":0},null,null,null,null,null,null,null,null,null,{"$f":"VLOOKUP(D70,'MPF SAP Canada Pre-Configured'!C:E,3,FALSE)","v":10188}]
[null,null,null,null,null,{"$f":"SUM(F72)","v":0}]
[null,null,"T290 - Walk Behind Scrubber - Pad Assist - NO Batteries",1255467,8169,null,{"$f":"F72*E72","v":0},null,null,null,null,null,null,null,null,null,{"$f":"VLOOKUP(D72,'MPF SAP Canada Pre-Configured'!C:E,3,FALSE)","v":7931}]
[]
[null,null,null,null,null,{"$f":"SUM(F75)","v":0}]
[null,null,"T290 - Walk Behind Scrubber - Self-Propel - 130AH Wet Batteries",9022003,10716,null,{"$f":"F75*E75","v":0},null,null,null,null,null,null,null,null,null,{"$f":"VLOOKUP(D75,'MPF SAP Canada Pre-Configured'!C:E,3,FALSE)","v":10403}]
[null,null,"20in (50cm) single disk cleaning path, Linatex squeegee blades. Includes on-board charger, 2-12V batteries, pad driver, and 1 red pad.",null,null,{"$f":"SUM(F75)","v":0}]
[null,null,null,null,null,{"$f":"SUM(F78)","v":0}]
[null,null,"T290 - Walk Behind Scrubber - Self Propel - 150AH Wet Batteries",9022004,10903,null,{"$f":"F78*E78","v":0},null,null,null,null,null,null,null,null,null,{"$f":"VLOOKUP(D78,'MPF SAP Canada Pre-Configured'!C:E,3,FALSE)","v":10585}]
[null,null,null,null,null,{"$f":"SUM(F80)","v":0}]
[null,null,"T290 - Walk Behind Scrubber - Self Propel - 140AH Sealed AGM Batteries",9022005,12457,null,{"$f":"F80*E80","v":0},null,null,null,null,null,null,null,null,null,{"$f":"VLOOKUP(D80,'MPF SAP Canada Pre-Configured'!C:E,3,FALSE)","v":12094}]
[null,null,null,null,null,{"$f":"SUM(F82)","v":0}]
[null,null,"T290 - Walk Behind Scrubber - Self Propel - NO Batteries",1255468,10132,null,{"$f":"F82*E82","v":0},null,null,null,null,null,null,null,null,null,{"$f":"VLOOKUP(D82,'MPF SAP Canada Pre-Configured'!C:E,3,FALSE)","v":9836}]
[]
[null,null,"Shipped on skid.",null,null,{"$f":"SUM(F65:F72)","v":0},{"$f":"IFERROR(IFERROR(VLOOKUP(#REF!,Surcharge!A:B,2,FALSE)*E84, VLOOKUP(#REF! & \"\",Surcharge!A:B,2,FALSE)*E84), \"\")","v":""},null,null,null,null,{"$f":"SUM(E84)","v":0},"Surcharge Qty"]
[null,null,"T290 - Pad Assist - Shipping Weight and Dimensions","Skid w/Carton",null,{"$f":"SUM(F84)","v":0}]
[null,null,"Weight","390 lb / 177 kg",null,{"$f":"SUM(F85)","v":0}]
[null,null,"Length","50 in / 127 cm",null,0]
[null,null,"Width","27 in / 69cm",null,0]
[null,null,"Height","45 in / 114.5 cm",null,0]
[]
[null,null,"T290 - Self-Propel - Shipping Weight and Dimensions",null,null,{"$f":"SUM(F75:F82)","v":0}]
[null,null,"Weight","401 lb / 182 kg",null,{"$f":"SUM(F91)","v":0}]
[null,null,"Length","50 in / 127 cm",null,{"$f":"SUM(F92)","v":0}]
[null,null,"Width","27 in / 69cm",null,0]
[null,null,"Height","45 in / 114.5 cm",null,0]
[]
[]
[null,null,null,null,0,{"$f":"SUM(E100)","v":0}]
[null,null,null,null,{"$f":"ROUND(SUM(G28:G98), 0)","v":0},{"$f":"SUM(E100)","v":0}]
[null,null,null,"Machine Subtotal ",{"$f":"ROUND(SUM(G28:G98), 0)","v":0},{"$f":"F98","v":0}]
[null,"Discounts",null,null,null,{"$f":"SUM(F102)","v":0}]
[null,null,null,null,null,{"$f":"SUM(F104:F107)","v":0}]
[null,null,null,"Applicable Currency Adj %",null,{"$f":"IF(E103 <> \"\", 1, 0)","v":0},{"$f":"IF(F103*(E103*0.01)*E99 < 0, F103*(E103*0.01)*E99, -(F103*(E103*0.01)*E99))","v":0}]
[null,null,null,"Discount %",null,{"$f":"IF(E104 <> \"\", 1, 0)","v":0},{"$f":"IF(F104*(E104*0.01)*(E99+G103) < 0, F104*(E104*0.01)*(E99+G103), -(F104*(E104*0.01)*(E99+G103)))","v":0}]
[null,null,null,"Discount $",null,0,{"$f":"IF(F105*E105 < 0, F105*E105, -(F105*E105))","v":0}]
[null,null,null,"Discount $",null,0,{"$f":"IF(F106*E106 < 0, F106*E106, -(F106*E106))","v":0}]
[null,null,null,"Discount $",null,0,{"$f":"IF(F107*E107 < 0, F107*E107, -(F107*E107))","v":0}]
[null,null,null,"Discount Total ",{"$f":"SUM(G103:G107)","v":0},{"$f":"SUM(E108)","v":0}]
[null,null,null,null,null,{"$f":"#REF!","v":{"$error":"#REF!"}}]
[null,null,null,null,null,{"$f":"F109","v":{"$error":"#REF!"}}]
[null,null,"Prepaid and Add","Freight",null,{"$f":"IF(E111 <> \"\", 1, 0)","v":0},{"$f":"F111*E111","v":0}]
[null,null,"Subject to all applicable taxes","Tax",null,0,0]
[null,null,null,null,null,{"$f":"SUM(F114)","v":0}]
[null,null,null,"MACHINE TOTAL*",null,{"$f":"SUM(G114)","v":0},{"$f":"SUM(G28:G112)","v":0},null,null,null,null,null,null,"This goes to \"My Documents\""]
[null,null,null,null,null,null,{"$f":"G114","v":0}]
[]
[]
[]
[]
[null,null,"Wells Fargo - Leasing Calculation Option:","Option 1",null,"Option 2",null,null,null,{"$f":"Financing!A38","v":"Rates 2025 - Rev.2/4/2025"}]
[null,null,null,"Monthly Payment","Cost Per Day","Monthly Payment","Cost Per Day",null,null,{"$f":"Financing!A39","v":"“Blank Payment Amounts Indicate The Financing Option Or Purchase Options Selected Are Not "}]
[null,null,"Purchase Option:","$1 Buyout Lease",null,"None",null,null,null,{"$f":"Financing!A40","v":"Applicable Or The Machine Total Is Below The Minimum Amount For The Selected Vendor”"}]
[null,null,"24 Months",0,0,0,0,null,null,{"$f":"Financing!A41","v":"\"Quoted monthly payments are estimates only and are based on a certain level of credit rating."}]
[null,null,"36 Months",0,0,0,0,null,null,{"$f":"Financing!A42","v":"Actual monthly payments may be higher depending on your credit rating.\""}]
[null,null,"48 Months",0,0,0,0,null,null,{"$f":"Financing!A43","v":"“Financing rates do not include Pre-Paid Service”"}]
[null,null,"60 Months",0,0,0,0,null,{"$f":"Financing!A44","v":0}]
[]
[null,null,null,"Benefits of Equipment Financing:"]
[null,null,null,"• Spreads out investment over time.",null,"• Keep current with latest technology."]
[null,null,null,"• Preserve capital.",null,"• Service and parts bundling available."]
[null,null,null,"• Low monthly payment.",null,"• Pay for labor savings as you go."]
[]
[]
[null,"  TennantTrue"]
[]
[null,null,"Is customer interested in service program?","Yes","*State/County selection required for TennantTrue service options"]
[]
[null,null,"If not, why?"]
[]
[null,null,"Term:",36,null,"AB Brushes","No"]
[null,null,"Monthly machine usage (hrs):","< 30/mo. (Avg. 1hr./day)"]
[]
[null,null,"TennantTrue: ","Gold Contract",null,"Silver Contract"]
[null,null,"Per Visit",null,null,425]
[null,null,"Monthly",129,null,69]
[null,null,"Annually",null,null,816]
[null,null,"Pre-Pay Full Term",4444,null,2397]
[null,null,"Hourly Labor Rate"]
[null,null,"Site Visit"]
[]
[null,null,"* Verify customer current pricing prior to quote. "]
[null,null,"**All rates and fees above reflect service for one (1) unit with the exception of Block of Time service."]
[null,null,"*Block of Time is available in 1 Year Term only and is priced as such no matter the term selection on this template."]
[]
[]
[null,"Servicing"]
[]
[null,null,"Is customer interested in a service plan?","No"]
[]
[null,null,"If not, why?"]
[]
[]
[null,"Quote Special Instructions:"]
[]
[]
[null,null,{"$f":"Start_Here!E36","v":"Terms and Conditions"}]
[null,null,{"$f":"Start_Here!E37","v":"Ask your local sales rep for estimated lead times. Verify when placing order"}]
[null,null,{"$f":"Start_Here!E38","v":"All orders subject to acceptance by Tennant Sales and Service Company, Minneapolis, Minnesota"}]
[null,null,{"$f":"Start_Here!E39","v":"Prices subject to change without notice. Subject to any applicable taxes."}]
[null,null,{"$f":"Start_Here!E40","v":"Terms:  Net 30 days.  Payable in Canadian Funds"}]
[null,null,{"$f":"Start_Here!E41","v":"Freight:  Accessories, parts, supplies, detergents, and floor coatings orders delivered DDP "}]
[null,null,{"$f":"Start_Here!E42","v":"shipping point Frt PPD.  Machine orders delivered DDP shipping point Frt PPD and add."}]
[null,null,{"$f":"Start_Here!E43","v":"Returned Merchandise is subject to a restocking fee."}]
[null,null,{"$f":"Start_Here!E44","v":"All orders are subject to Tennant’s General Terms and Conditions available at http://www.tennantco.com/terms."}]
[null,null,{"$f":"Start_Here!E45","v":"Printed General Terms and Conditions are also available upon request."}]
[null,null,{"$f":"Start_Here!E46","v":0}]
[]
[null,null,null,null,"Quote Date :",null,{"$f":"Letter!$A$25","v":"2023-08-01"}]
["Order Placement Information:  To place your order, fill in PO# and customer signatures,"]
["call or fax to the numbers listed below. Customer Purchase Order is required."]
["If information is missing, orders will be entered and held until all information is received."]
[null,null,"Customer Number",null,"Cust Grp 3"]
[null,null,{"$f":"Start_Here!$C$25","v":0},null,{"$f":"Start_Here!$C$29","v":0}]
[null,null,{"$f":"Start_Here!$B$18","v":"Who Owns the Machine? (Sold-To Info) (Please Verify)"}]
["Company",null,{"$f":"Start_Here!$C$19","v":"Company Name"}]
["Address",null,{"$f":"Start_Here!$C$20","v":"Address"}]
[null,null,{"$f":"Start_Here!$C$21","v":"City, State Zip"}]
["Name",null,{"$f":"Start_Here!$C$22","v":"Contact Name"}]
["Phone",null,{"$f":"Start_Here!$C$23","v":"Contact Phone"}]
[null,null,{"$f":"Start_Here!$B$11","v":"Where is the Machine Being Shipped? (Ship-To Info) (Please Verify)"}]
["Company",null,{"$f":"Start_Here!$C$12","v":"Company Name"}]
["Address",null,{"$f":"Start_Here!$C$13","v":"Address"}]
[null,null,{"$f":"Start_Here!$C$14","v":"City, State Zip"}]
["Name",null,{"$f":"Start_Here!$C$15","v":"Contact Name"}]
["Phone",null,{"$f":"Start_Here!$C$16","v":"Contact Phone"}]
[null,null,{"$f":"Start_Here!$B$31","v":"Shipping / Carrier Instructions:"},null,"Order Special Instructions:"]
[null,null,{"$f":"Start_Here!$C$32","v":0}]
[]
[null,null,"Customer Purchase Order No."]
[null,null,"(please attach copy)"]
[]
[]
[null,null,"Tax Exempt",null,"Yes"]
[null,null,null,null,"No"]
[null,null,"If Yes, attach a copy of your exemption certificate."]
[]
[null,null,"Requested Delivery Date"]
[null,null,{"$f":"Start_Here!$C$28","v":0}]
[]
[null,null,{"$f":"Start_Here!$C$26","v":0},null,{"$f":"Start_Here!$C$27","v":0}]
[null,0,"Authorized Buyer (please print)",null,"Phone Number"]
[]
[]
[null,0,"Authorized Buyer Signature"]
[]
[null,null,{"$f":"Start_Here!$C$41","v":"Rep Name"}]
[null,null,"Tennant Representative"]
[]
["Specialized Maintenance Equipment"]
[{"$f":"Start_Here!$C$48","v":"TENNANT · 10400 Clean Street · Eden Prairie, MN 55344 ·"}]
[{"$f":"Start_Here!$C$49","v":" PHONE:800-553-8033 · FAX:763-513-2116"}]
[]
[]
[null,null,"Special Information "]
[null,"Notes"]
[]
[null,1,"Pre-Configured Machines cannot add or change options.  All units will be packaged and shipped as stated above."]
[null,null,"When ordering, provide the reference number listed above.  Price does not include freight or tax.  Availability of units "]
[null,null,"and lead time may vary."]
[]
[null,2,"Customer MUST order Skid w/Carton, Stackable if WITHOUT BATTERY is selected.  Continental USA orders ONLY. "]
[]
[null,3,"One pad driver comes standard with a T2."]
[]
[null,4,"Pad wrap available only in the Continental US and is the default packaging method."]
[null,null,"Customer MUST order Skid w/Carton, Stackable if WITHOUT BATTERY is selected."]
[null,null,"Skid w/Carton, Stackable is mandatory when shipping to AK and HI.  Packaging is added at No Charge when shipping"]
[null,null,"to these locations."]
[null,null,null," "]
[null,5,"Machine Weights and dimensions","Pad Wrap","Skid w/Carton"]
[]
[null,null,"Weight (w/105AH battery)","300 lbs / 136 Kg","331 lbs / 150 Kg"]
[null,null,"Length","44\" / 1120mm","47\" / 1200mm"]
[null,null,"Width","19\" / 478mm","30\" / 750mm"]
[null,null,"Height","37\" / 930mm","45\" / 1150mm"]

{"sheet":"T681","index":21,"n_rows":212,"n_cols":17,"rows_kept":212,"cut":false,"hidden":false,"merged":[[86,5,86,6],[107,3,107,4],[0,2,0,3],[1,2,1,3],[2,2,2,3],[3,2,3,3],[86,3,86,4],[88,3,88,4],[88,5,88,6],[102,4,102,8],[104,3,104,6],[106,3,106,4],[109,3,109,4],[109,5,109,6],[110,3,110,4],[110,5,110,6],[111,3,111,4],[111,5,111,6],[151,2,151,5],[112,3,112,4],[112,5,112,6],[113,3,113,4],[113,5,113,6],[114,3,114,4],[114,5,114,6],[115,3,115,4],[115,5,115,6],[126,3,127,6],[130,1,130,6],[149,4,149,7],[176,4,176,5],[152,2,152,5],[153,2,153,5],[154,2,154,5],[155,2,155,5],[157,2,157,5],[158,2,158,5],[159,2,159,5],[160,2,160,5],[161,2,161,5],[163,4,163,7],[167,2,167,5]]}
["T681",null,{"$f":"Start_Here!$C19","v":"Company Name"}]
[{"$f":"SUM(G81)","v":0},null,{"$f":"Start_Here!$C20","v":"Address"}]
[null,null,{"$f":"Start_Here!$C21","v":"City, State Zip"}]
[null,null,{"$f":"Start_Here!$C22","v":"Contact Name"}]
[null,null,{"$f":"Start_Here!$C$41","v":"Rep Name"}]
[null,null,{"$f":"Start_Here!$C$37","v":"Tennant Sales and Service Company"}]
[null,null,{"$f":"Start_Here!$C$38","v":"10400 Clean Street"}]
[null,null,{"$f":"Start_Here!$C$39","v":"Eden Prairie, MN 55344"}]
[null,null,{"$f":"Start_Here!$C$43","v":"800-553-8033"},null,"Quote Date :",null,{"$f":"Letter!$A$25","v":"2023-08-01"}]
[]
[null,null,{"$f":"Help!C2","v":"CAN Date Rev - 5/6/2025"}]
[]
[null,null,"NOBLES WARRANTY"]
[null,null,"3 YEARS OR 2000 HOURS - PARTS"]
[null,null,"1 YEAR - BATTERY CHARGERS"]
[null,null,"2 YEARS - LABOR"]
[null,null,"6 MONTHS - TRAVEL",null,"                Quote Request Information"]
[null,null,"10 YEARS ON DURAMERTM ROTOMOLD TANKS",null,null,null,"Fax (quote only)"]
[null,null,null,null,null,null,"Mail (quote,lit, specs)"]
[null,null,null,null,null,null,"Fax + Mail"]
[]
[null,null,null,null,"                Primary Use"]
[null,null,null,null,null,null,"Inside"]
[null,null,null,null,null,null,"Outside"]
[null,null,"Description","Reference # ","List Price","Qty.","Extended Price"]
[]
[]
[null,null,"T681 - Small Ride-On Scrubber - 240AH Wet Batteries",9052040,32778,null,{"$f":"F28*E28","v":0},null,null,null,null,null,null,null,null,null,{"$f":"VLOOKUP(D28,'MPF SAP Canada Pre-Configured'!C:E,3,FALSE)","v":{"$error":"#N/A"}}]
[null,null,"32in (80cm) dual disk cleaning path, pad driver, Linatex squeegee blades. Includes onboard charger, 4-6V batteries",null,null,{"$f":"SUM(F28)","v":0}]
[]
[null,null,"T681 - Small Ride-On Scrubber - 240AH Wet Batteries",9052043,32778,null,{"$f":"F31*E31","v":0},null,null,null,null,null,null,null,null,null,{"$f":"VLOOKUP(D31,'MPF SAP Canada Pre-Configured'!C:E,3,FALSE)","v":{"$error":"#N/A"}}]
[null,null,"32in (80cm) dual disk cleaning path, brush driver, Linatex squeegee blades. Includes onboard charger, 4-6V batteries",null,null,{"$f":"SUM(F31)","v":0}]
[null,null,null,null,null,null,null,null,null,null,null,null,null,null,null,null,{"$f":"VLOOKUP(D33,'MPF SAP Canada Pre-Configured'!C:E,3,FALSE)","v":{"$error":"#N/A"}}]
[null,null,"T681 - Small Ride-On Scrubber - 210AH Sealed AGM Batteries",9052041,34831,null,{"$f":"F34*E34","v":0}]
[null,null,"32in (80cm) dual disk cleaning path, pad driver, Linatex squeegee blades. Includes onboard charger, 4-6V batteries",null,null,{"$f":"SUM(F34)","v":0}]
[null,null,null,null,null,{"$f":"SUM(F35)","v":0}]
[null,null,"T681 - Small Ride-On Scrubber - 210AH Sealed AGM Batteries",9052044,34831,null,{"$f":"F37*E37","v":0}]
[null,null,"32in (80cm) dual disk cleaning path, brush driver, Linatex squeegee blades. Includes onboard charger, 4-6V batteries",null,null,{"$f":"SUM(F37)","v":0}]
[null,null,null,null,null,{"$f":"SUM(F38)","v":0}]
[null,null,"T681 - Small Ride-On Scrubber - 90AH Li-Ion Battery",9023481,36279,null,{"$f":"F40*E40","v":0}]
[null,null,"32in (80cm) dual disk cleaning path, pad driver, Linatex squeegee blades. Includes onboard charger, 1-24V battery",null,null,{"$f":"SUM(F40)","v":0}]
[null,null,null,null,null,{"$f":"SUM(F41)","v":0}]
[null,null,"T681 - Small Ride-On Scrubber - 90AH Li-Ion Battery",9023483,36279,null,{"$f":"F43*E43","v":0}]
[null,null,"32in (80cm) dual disk cleaning path, brush driver, Linatex squeegee blades. Includes onboard charger, 1-24V battery",null,null,{"$f":"SUM(F43)","v":0}]
[null,null,null,null,null,{"$f":"SUM(F44)","v":0}]
[null,null,"T681 - Small Ride-On Scrubber - 180 AH Li-Ion Batteries",9023482,39359,null,{"$f":"F46*E46","v":0}]
[null,null,"32in (80cm) dual disk cleaning path, pad driver, Linatex squeegee blades. Includes onboard charger, 2-24V batteries",null,null,{"$f":"SUM(F46)","v":0}]
[null,null,null,null,null,{"$f":"SUM(F47)","v":0}]
[null,null,"T681 - Small Ride-On Scrubber - 180 AH Li-Ion Batteries",9023484,39359,null,{"$f":"F49*E49","v":0}]
[null,null,"32in (80cm) dual disk cleaning path, brush driver, Linatex squeegee blades. Includes onboard charger, 2-24V batteries",null,null,{"$f":"SUM(F49)","v":0}]
[]
[null,null,"T681 - Small Ride-On Scrubber - NO Batteries",9052042,29621,null,{"$f":"F52*E52","v":0}]
[null,null,"32in (80cm) dual disk cleaning path, pad driver, Linatex squeegee blades. Includes onboard charger",null,null,{"$f":"SUM(F52)","v":0}]
[]
[null,null,"T681 - Small Ride-On Scrubber - NO Batteries",9052045,29621,null,{"$f":"F55*E55","v":0}]
[null,null,"32in (80cm) dual disk cleaning path, brush driver, Linatex squeegee blades. Includes onboard charger",null,null,{"$f":"SUM(F55)","v":0},null,null,null,null,null,null,null,null,null,null,{"$f":"VLOOKUP(D56,'MPF SAP Canada Pre-Configured'!C:E,3,FALSE)","v":{"$error":"#N/A"}}]
[]
[]
[null,null,"Shipping Weight and Dimensions","Pallet w/ ramp",null,{"$f":"SUM(F28:F55)","v":0},null,null,null,null,null,null,null,null,null,null,{"$f":"VLOOKUP(D59,'MPF SAP Canada Pre-Configured'!C:E,3,FALSE)","v":{"$error":"#N/A"}}]
[null,null,"Weight (w/ heaviest batteries)","950 lb / 431 kg",null,{"$f":"SUM(F29:F56)","v":0}]
[null,null,"Length","59.6 in / 151.5 cm",null,{"$f":"SUM(F30:F57)","v":0},null,null,null,null,null,null,null,null,null,null,{"$f":"VLOOKUP(D61,'MPF SAP Canada Pre-Configured'!C:E,3,FALSE)","v":{"$error":"#N/A"}}]
[null,null,"Width","48.8 in / 124 cm",null,{"$f":"SUM(F31:F58)","v":0}]
[null,null,"Height","42.9 in / 109 cm",null,{"$f":"SUM(F32:F59)","v":0}]
[]
[null,null,null,null,0,{"$f":"SUM(E67)","v":0}]
[null,null,null,null,{"$f":"ROUND(SUM(G28:G65), 0)","v":0},{"$f":"SUM(E67)","v":0}]
[null,null,null,"Machine Subtotal ",{"$f":"ROUND(SUM(G28:G65), 0)","v":0},{"$f":"F65","v":0}]
[null,"Discounts",null,null,null,{"$f":"SUM(F69)","v":0}]
[null,null,null,null,null,{"$f":"SUM(F71:F74)","v":0}]
[null,null,null,"Applicable Currency Adj %",null,{"$f":"IF(E70 <> \"\", 1, 0)","v":0},{"$f":"IF(F70*(E70*0.01)*E66 < 0, F70*(E70*0.01)*E66, -(F70*(E70*0.01)*E66))","v":0}]
[null,null,null,"Discount %",null,0,{"$f":"IF(F71*(E71*0.01)*(E66+G70) < 0, F71*(E71*0.01)*(E66+G70), -(F71*(E71*0.01)*(E66+G70)))","v":0}]
[null,null,null,"Discount $",null,0,{"$f":"IF(F72*E72 < 0, F72*E72, -(F72*E72))","v":0}]
[null,null,null,"Discount $",null,0,{"$f":"IF(F73*E73 < 0, F73*E73, -(F73*E73))","v":0}]
[null,null,null,"Discount $",null,0,{"$f":"IF(F74*E74 < 0, F74*E74, -(F74*E74))","v":0}]
[null,null,null,"Discount Total ",{"$f":"SUM(G70:G74)","v":0},{"$f":"SUM(E75)","v":0}]
[null,null,null,null,null,{"$f":"#REF!","v":{"$error":"#REF!"}}]
[null,null,null,null,null,{"$f":"F76","v":{"$error":"#REF!"}}]
[null,null,"Prepaid and Add","Freight",null,{"$f":"IF(E78 <> \"\", 1, 0)","v":0},{"$f":"F78*E78","v":0}]
[null,null,"Subject to all applicable taxes","Tax",null,0,0]
[null,null,null,null,null,{"$f":"SUM(F81)","v":0}]
[null,null,null,"MACHINE TOTAL*",null,{"$f":"SUM(G81)","v":0},{"$f":"SUM(G28:G79)","v":0},null,null,null,null,null,null,"This goes to \"My Documents\""]
[null,null,null,null,null,null,{"$f":"G81","v":0}]
[]
[]
[]
[]
[null,null,"Wells Fargo - Leasing Calculation Option:","Option 1",null,"Option 2",null,null,null,{"$f":"Financing!A38","v":"Rates 2025 - Rev.2/4/2025"}]
[null,null,null,"Monthly Payment","Cost Per Day","Monthly Payment","Cost Per Day",null,null,{"$f":"Financing!A39","v":"“Blank Payment Amounts Indicate The Financing Option Or Purchase Options Selected Are Not "}]
[null,null,"Purchase Option:","$1 Buyout Lease",null,"None",null,null,null,{"$f":"Financing!A40","v":"Applicable Or The Machine Total Is Below The Minimum Amount For The Selected Vendor”"}]
[null,null,"24 Months",0,0,0,0,null,null,{"$f":"Financing!A41","v":"\"Quoted monthly payments are estimates only and are based on a certain level of credit rating."}]
[null,null,"36 Months",0,0,0,0,null,null,{"$f":"Financing!A42","v":"Actual monthly payments may be higher depending on your credit rating.\""}]
[null,null,"48 Months",0,0,0,0,null,null,{"$f":"Financing!A43","v":"“Financing rates do not include Pre-Paid Service”"}]
[null,null,"60 Months",0,0,0,0,null,{"$f":"Financing!A44","v":0}]
[]
[null,null,null,"Benefits of Equipment Financing:"]
[null,null,null,"• Spreads out investment over time.",null,"• Keep current with latest technology."]
[null,null,null,"• Preserve capital.",null,"• Service and parts bundling available."]
[null,null,null,"• Low monthly payment.",null,"• Pay for labor savings as you go."]
[]
[]
[null,"  TennantTrue"]
[]
[null,null,"Is customer interested in service program?","Yes","*State/County selection required for TennantTrue service options"]
[]
[null,null,"If not, why?"]
[]
[null,null,"Term:",36,null,"AB Brushes","No"]
[null,null,"Monthly machine usage (hrs):","< 30/mo. (Avg. 1hr./day)"]
[]
[null,null,"TennantTrue: ","Gold Contract",null,"Silver Contract"]
[null,null,"Per Visit",null,null,501]
[null,null,"Monthly",173,null,88]
[null,null,"Annually",null,null,1035]
[null,null,"Pre-Pay Full Term",5964,null,3042]
[null,null,"Hourly Labor Rate"]
[null,null,"Site Visit"]
[]
[null,null,"* Verify customer current pricing prior to quote. "]
[null,null,"**All rates and fees above reflect service for one (1) unit with the exception of Block of Time service."]
[null,null,"*Block of Time is available in 1 Year Term only and is priced as such no matter the term selection on this template."]
[]
[]
[null,"Servicing"]
[]
[null,null,"Is customer interested in a service plan?","No"]
[]
[null,null,"If not, why?"]
[]
[]
[null,"Quote Special Instructions:"]
[]
[]
[null,null,{"$f":"Start_Here!E36","v":"Terms and Conditions"}]
[null,null,{"$f":"Start_Here!E37","v":"Ask your local sales rep for estimated lead times. Verify when placing order"}]
[null,null,{"$f":"Start_Here!E38","v":"All orders subject to acceptance by Tennant Sales and Service Company, Minneapolis, Minnesota"}]
[null,null,{"$f":"Start_Here!E39","v":"Prices subject to change without notice. Subject to any applicable taxes."}]
[null,null,{"$f":"Start_Here!E40","v":"Terms:  Net 30 days.  Payable in Canadian Funds"}]
[null,null,{"$f":"Start_Here!E41","v":"Freight:  Accessories, parts, supplies, detergents, and floor coatings orders delivered DDP "}]
[null,null,{"$f":"Start_Here!E42","v":"shipping point Frt PPD.  Machine orders delivered DDP shipping point Frt PPD and add."}]
[null,null,{"$f":"Start_Here!E43","v":"Returned Merchandise is subject to a restocking fee."}]
[null,null,{"$f":"Start_Here!E44","v":"All orders are subject to Tennant’s General Terms and Conditions available at http://www.tennantco.com/terms."}]
[null,null,{"$f":"Start_Here!E45","v":"Printed General Terms and Conditions are also available upon request."}]
[null,null,{"$f":"Start_Here!E46","v":0}]
[]
[null,null,null,null,"Quote Date :",null,{"$f":"Letter!$A$25","v":"2023-08-01"}]
["Order Placement Information:  To place your order, fill in PO# and customer signatures,"]
["call or fax to the numbers listed below. Customer Purchase Order is required."]
["If information is missing, orders will be entered and held until all information is received."]
[null,null,"Customer Number",null,"Cust Grp 3"]
[null,null,{"$f":"Start_Here!$C$25","v":0},null,{"$f":"Start_Here!$C$29","v":0}]
[null,null,{"$f":"Start_Here!$B$18","v":"Who Owns the Machine? (Sold-To Info) (Please Verify)"}]
["Company",null,{"$f":"Start_Here!$C$19","v":"Company Name"}]
["Address",null,{"$f":"Start_Here!$C$20","v":"Address"}]
[null,null,{"$f":"Start_Here!$C$21","v":"City, State Zip"}]
["Name",null,{"$f":"Start_Here!$C$22","v":"Contact Name"}]
["Phone",null,{"$f":"Start_Here!$C$23","v":"Contact Phone"}]
[null,null,{"$f":"Start_Here!$B$11","v":"Where is the Machine Being Shipped? (Ship-To Info) (Please Verify)"}]
["Company",null,{"$f":"Start_Here!$C$12","v":"Company Name"}]
["Address",null,{"$f":"Start_Here!$C$13","v":"Address"}]
[null,null,{"$f":"Start_Here!$C$14","v":"City, State Zip"}]
["Name",null,{"$f":"Start_Here!$C$15","v":"Contact Name"}]
["Phone",null,{"$f":"Start_Here!$C$16","v":"Contact Phone"}]
[null,null,{"$f":"Start_Here!$B$31","v":"Shipping / Carrier Instructions:"},null,"Order Special Instructions:"]
[null,null,{"$f":"Start_Here!$C$32","v":0}]
[]
[null,null,"Customer Purchase Order No."]
[null,null,"(please attach copy)"]
[]
[]
[null,null,"Tax Exempt",null,"Yes"]
[null,null,null,null,"No"]
[null,null,"If Yes, attach a copy of your exemption certificate."]
[]
[null,null,"Requested Delivery Date"]
[null,null,{"$f":"Start_Here!$C$28","v":0}]
[]
[null,null,{"$f":"Start_Here!$C$26","v":0},null,{"$f":"Start_Here!$C$27","v":0}]
[null,0,"Authorized Buyer (please print)",null,"Phone Number"]
[]
[]
[null,0,"Authorized Buyer Signature"]
[]
[null,null,{"$f":"Start_Here!$C$41","v":"Rep Name"}]
[null,null,"Tennant Representative"]
[]
["Specialized Maintenance Equipment"]
[{"$f":"Start_Here!$C$48","v":"TENNANT · 10400 Clean Street · Eden Prairie, MN 55344 ·"}]
[{"$f":"Start_Here!$C$49","v":" PHONE:800-553-8033 · FAX:763-513-2116"}]
[]
[]
[null,null,"Special Information "]
[null,"Notes"]
[]
[null,1,"Pre-Configured Machines cannot add or change options.  All units will be packaged and shipped as stated above."]
[null,null,"When ordering, provide the reference number listed above.  Price does not include freight or tax.  Availability of units "]
[null,null,"and lead time may vary."]
[]
[null,2,"Customer MUST order Skid w/Carton, Stackable if WITHOUT BATTERY is selected.  Continental USA orders ONLY. "]
[]
[null,3,"One pad driver comes standard with a T2."]
[]
[null,4,"Pad wrap available only in the Continental US and is the default packaging method."]
[null,null,"Customer MUST order Skid w/Carton, Stackable if WITHOUT BATTERY is selected."]
[null,null,"Skid w/Carton, Stackable is mandatory when shipping to AK and HI.  Packaging is added at No Charge when shipping"]
[null,null,"to these locations."]
[null,null,null," "]
[null,5,"Machine Weights and dimensions","Pad Wrap","Skid w/Carton"]
[]
[null,null,"Weight (w/105AH battery)","300 lbs / 136 Kg","331 lbs / 150 Kg"]
[null,null,"Length","44\" / 1120mm","47\" / 1200mm"]
[null,null,"Width","19\" / 478mm","30\" / 750mm"]
[null,null,"Height","37\" / 930mm","45\" / 1150mm"]

{"sheet":"T981","index":22,"n_rows":220,"n_cols":14,"rows_kept":220,"cut":false,"hidden":false,"merged":[[0,2,0,3],[1,2,1,3],[2,2,2,3],[3,2,3,3],[12,2,12,3],[104,3,104,4],[104,5,104,6],[106,3,106,4],[106,5,106,6],[30,2,30,3],[31,2,31,3],[32,2,32,3],[33,2,33,3],[34,2,34,3],[35,2,35,3],[119,4,119,8],[121,3,121,6],[123,3,123,4],[124,3,124,4],[126,3,126,4],[126,5,126,6],[132,3,132,4],[132,5,132,6],[127,3,127,4],[127,5,127,6],[128,3,128,4],[128,5,128,6],[129,3,129,4],[129,5,129,6],[130,3,130,4],[130,5,130,6],[131,3,131,4],[131,5,131,6],[168,0,168,1],[168,2,168,5],[169,0,169,1],[169,2,169,5],[172,0,172,1],[172,2,172,5],[182,2,182,5],[183,2,183,5],[192,4,192,5],[173,0,173,1],[173,2,173,5],[174,2,174,5],[175,0,175,1],[175,2,175,5],[176,0,176,1],[176,2,176,5],[179,4,179,6],[181,2,181,5],[167,2,167,5],[141,1,141,6],[163,4,163,6],[165,0,165,1],[165,2,165,5],[166,0,166,1],[166,2,166,5]]}
["T981",null,{"$f":"Start_Here!$C19","v":"Company Name"}]
[{"$f":"SUM(G99)","v":0},null,{"$f":"Start_Here!$C20","v":"Address"}]
[null,null,{"$f":"Start_Here!$C21","v":"City, State Zip"}]
[null,null,{"$f":"Start_Here!$C22","v":"Contact Name"}]
[null,null,{"$f":"Start_Here!$C$41","v":"Rep Name"}]
[null,null,{"$f":"Start_Here!$C$37","v":"Tennant Sales and Service Company"}]
[null,null,{"$f":"Start_Here!$C$38","v":"10400 Clean Street"}]
[null,null,{"$f":"Start_Here!$C$39","v":"Eden Prairie, MN 55344"}]
[null,null,{"$f":"Start_Here!$C$43","v":"800-553-8033"},null,"Quote Date :",null,{"$f":"Letter!$A$25","v":"2023-08-01"}]
[]
[null,null,{"$f":"Help!C2","v":"CAN Date Rev - 5/6/2025"}]
[]
[null,null,"BUILT-IN “NOBLES VALUE” INCLUDES:"]
[]
[null,null,"Wet, 360 AH C/20 Battery Pack",null,"No Tool Squeegee and Brush Change"]
[null,null,"36VDC, 21A 85-265 VAC 45/65 Hz Charger",null,"In-Line Vacuum Fan Air Filter"]
[null,null,"DC Propel Motor",null,"High Visibility Maintenance Touch Points"]
[null,null,"Disk Scrubbing - 36 in (900 mm) path",null,"Cup Holder"]
[null,null,"Cylindrical Scrubbing - 30 in (750 mm) path",null,"Multi-Language Operator Manual and Video"]
[null,null,"Standard Sweeping Side Brushes (Cylindrical model only)"]
[null,null,"Standard Cylindrical or Disk Scrubbing Brushes (Select One)",null,"T981 Controls:"]
[null,null,"Non-Corrosive Solution and Recovery Tanks",null,"3 Preset Scrub Operation Programs"]
[null,null,"33 gal (125 L) Solution Tank",null,"On Board Diagnostics"]
[null,null,"35.6 gal (135 L) Recovery Tank",null,"Spin on/spin off brush attachment (Disk model only)"]
[null,null,"Parabolic Rear Squeegee Breakaway System"]
[null,null,"Automatic Functions:"]
[null,null,"Parking Brake"]
[null,null,"Squeegee Lift"]
[]
[]
[null,null,"NOBLES WARRANTY"]
[null,null,"3 YEARS OR 2000 HOURS - PARTS"]
[null,null,"2 YEARS - LABOR"]
[null,null,"6 MONTHS - TRAVEL"]
[null,null,"10 YEARS ON DURAMERTM ROTOMOLD TANKS"]
[]
[]
[]
[null,null,null,null,"                Quote Request Information"]
[null,null,null,null,null,null,"Fax (quote only)"]
[null,null,null,null,null,null,"Mail (quote,lit, specs)"]
[null,null,null,null,null,null,"Fax + Mail"]
[]
[null,null,null,null,"                Primary Use"]
[null,null,null,null,null,null,"Inside"]
[null,null,null,null,null,null,"Outside"]
[]
[]
[null,null,"Description","Reference #","Price Each","Qty","Extended Price"]
[null,null,null,null,null,"*"]
[null,"Base Configuration",null,null,"Price",{"$f":"SUM(F52,F56,F61)","v":0}]
[null,null,"Cleaning Type",null,null,{"$f":"SUM(F53:F54)","v":0}]
[null,null,"T981 Ride-On Scrubber 750 mm/30\" - Cylindrical","T981-750-C",35961,null,{"$f":"F53*E53","v":0},{"$f":"IFERROR(IFERROR(VLOOKUP(D53,Surcharge!A:B,2,FALSE)*F53, VLOOKUP(D53 & \"\",Surcharge!A:B,2,FALSE)*F53), \"\")","v":""}]
[null,null,"T981 Ride-On Scrubber 900 mm/36\" - Disk","T981-900-D",35889,null,{"$f":"F54*E54","v":0},{"$f":"IFERROR(IFERROR(VLOOKUP(D54,Surcharge!A:B,2,FALSE)*F54, VLOOKUP(D54 & \"\",Surcharge!A:B,2,FALSE)*F54), \"\")","v":""}]
[null,null,null,null,null,null,null,{"$f":"IFERROR(IFERROR(VLOOKUP(D55,Surcharge!A:B,2,FALSE)*F55, VLOOKUP(D55 & \"\",Surcharge!A:B,2,FALSE)*F55), \"\")","v":""}]
[null,null,"Battery Type  (Note 1)",null,null,{"$f":"SUM(F57:F59)","v":0},null,{"$f":"IFERROR(IFERROR(VLOOKUP(D56,Surcharge!A:B,2,FALSE)*F56, VLOOKUP(D56 & \"\",Surcharge!A:B,2,FALSE)*F56), \"\")","v":""}]
[null,null,"Wet 360AH C/20  (Kit of 6 batteries)",9022562,"N/C",null,{"$f":"IF(F57=0,\" \",\"N/C\")","v":" "},{"$f":"IFERROR(IFERROR(VLOOKUP(D57,Surcharge!A:B,2,FALSE)*F57, VLOOKUP(D57 & \"\",Surcharge!A:B,2,FALSE)*F57), \"\")","v":""}]
[null,null,"Sealed/MF AGM 350AH C/20  (Kit of 6 batteries)",9022563,1492,null,{"$f":"F58*E58","v":0},{"$f":"IFERROR(IFERROR(VLOOKUP(D58,Surcharge!A:B,2,FALSE)*F58, VLOOKUP(D58 & \"\",Surcharge!A:B,2,FALSE)*F58), \"\")","v":""}]
[null,null,"Less Battery, DEDUCT (Note 1)",null,-982,null,{"$f":"F59*E59","v":0},{"$f":"IFERROR(IFERROR(VLOOKUP(D59,Surcharge!A:B,2,FALSE)*F59, VLOOKUP(D59 & \"\",Surcharge!A:B,2,FALSE)*F59), \"\")","v":""}]
[null,null,null,null,null,null,null,{"$f":"IFERROR(IFERROR(VLOOKUP(D60,Surcharge!A:B,2,FALSE)*F60, VLOOKUP(D60 & \"\",Surcharge!A:B,2,FALSE)*F60), \"\")","v":""}]
[null,null,"Charger",null,null,{"$f":"SUM(F62:F64)","v":0},null,{"$f":"IFERROR(IFERROR(VLOOKUP(D61,Surcharge!A:B,2,FALSE)*F61, VLOOKUP(D61 & \"\",Surcharge!A:B,2,FALSE)*F61), \"\")","v":""}]
[null,null,"21A 85-265V AC 50/60Hz 1Ph - Off-Board",9022564,"N/C",null,{"$f":"IF(F62=0,\" \",\"N/C\")","v":" "},{"$f":"IFERROR(IFERROR(VLOOKUP(D62,Surcharge!A:B,2,FALSE)*F62, VLOOKUP(D62 & \"\",Surcharge!A:B,2,FALSE)*F62), \"\")","v":""}]
[null,null,"Without Charger (Note 1)",null,-417,null,{"$f":"F63*E63","v":0},{"$f":"IFERROR(IFERROR(VLOOKUP(D63,Surcharge!A:B,2,FALSE)*F63, VLOOKUP(D63 & \"\",Surcharge!A:B,2,FALSE)*F63), \"\")","v":""}]
[null,null,"Charger Power Cord",1017079,"N/C",null,{"$f":"IF(F64=0,\" \",\"N/C\")","v":" "},{"$f":"IFERROR(IFERROR(VLOOKUP(D64,Surcharge!A:B,2,FALSE)*F64, VLOOKUP(D64 & \"\",Surcharge!A:B,2,FALSE)*F64), \"\")","v":""}]
[null,null,null,null,null,null,null,{"$f":"IFERROR(IFERROR(VLOOKUP(D65,Surcharge!A:B,2,FALSE)*F65, VLOOKUP(D65 & \"\",Surcharge!A:B,2,FALSE)*F65), \"\")","v":""}]
[null,"Brushes and Pads  (Note 2)",null,null,null,{"$f":"SUM(F67:F71)","v":0},null,{"$f":"IFERROR(IFERROR(VLOOKUP(D66,Surcharge!A:B,2,FALSE)*F66, VLOOKUP(D66 & \"\",Surcharge!A:B,2,FALSE)*F66), \"\")","v":""}]
[null,null,"750mm/30\" Cylindrical Scrubbing Brush",null,null,{"$f":"SUM(F68)","v":0},null,{"$f":"IFERROR(IFERROR(VLOOKUP(D67,Surcharge!A:B,2,FALSE)*F67, VLOOKUP(D67 & \"\",Surcharge!A:B,2,FALSE)*F67), \"\")","v":""}]
[null,null,"Polypropylene",null,"N/C",null,{"$f":"IF(F68=0,\" \",\"N/C\")","v":" "},{"$f":"IFERROR(IFERROR(VLOOKUP(D68,Surcharge!A:B,2,FALSE)*F68, VLOOKUP(D68 & \"\",Surcharge!A:B,2,FALSE)*F68), \"\")","v":""}]
[null,null,null,null,null,null,null,{"$f":"IFERROR(IFERROR(VLOOKUP(D69,Surcharge!A:B,2,FALSE)*F69, VLOOKUP(D69 & \"\",Surcharge!A:B,2,FALSE)*F69), \"\")","v":""}]
[null,null,"900mm/36\" Disk Scrubbing Brush/Pads (2 Required)",null,null,{"$f":"SUM(F71)","v":0},null,{"$f":"IFERROR(IFERROR(VLOOKUP(D70,Surcharge!A:B,2,FALSE)*F70, VLOOKUP(D70 & \"\",Surcharge!A:B,2,FALSE)*F70), \"\")","v":""}]
[null,null,"Polypropylene",null,"N/C",null,{"$f":"IF(F71=0,\" \",\"N/C\")","v":" "},{"$f":"IFERROR(IFERROR(VLOOKUP(D71,Surcharge!A:B,2,FALSE)*F71, VLOOKUP(D71 & \"\",Surcharge!A:B,2,FALSE)*F71), \"\")","v":""}]
[null,null,null,null,null,null,null,{"$f":"IFERROR(IFERROR(VLOOKUP(D72,Surcharge!A:B,2,FALSE)*F72, VLOOKUP(D72 & \"\",Surcharge!A:B,2,FALSE)*F72), \"\")","v":""}]
[null,"Support",null,null,null,null,null,{"$f":"IFERROR(IFERROR(VLOOKUP(D73,Surcharge!A:B,2,FALSE)*F73, VLOOKUP(D73 & \"\",Surcharge!A:B,2,FALSE)*F73), \"\")","v":""}]
[null,null,"Packaging  (Note 3)",null,null,{"$f":"SUM(F75:F75)","v":0},null,{"$f":"IFERROR(IFERROR(VLOOKUP(D74,Surcharge!A:B,2,FALSE)*F74, VLOOKUP(D74 & \"\",Surcharge!A:B,2,FALSE)*F74), \"\")","v":""}]
[null,null,"Skid w/Carton, Non-Stackable","T981-SKD","N/C",null,{"$f":"IF(F75=0,\" \",\"N/C\")","v":" "},{"$f":"IFERROR(IFERROR(VLOOKUP(D75,Surcharge!A:B,2,FALSE)*F75, VLOOKUP(D75 & \"\",Surcharge!A:B,2,FALSE)*F75), \"\")","v":""}]
[null,null,null,null,null,null,null,{"$f":"IFERROR(IFERROR(VLOOKUP(D76,Surcharge!A:B,2,FALSE)*F76, VLOOKUP(D76 & \"\",Surcharge!A:B,2,FALSE)*F76), \"\")","v":""}]
[]
[null,"Custom Solution--write in description, qty, price, and PN if applicable",null,null,null,{"$f":"SUM(F79)","v":0}]
[null,null,null,null,"Insert Prices Here",{"$f":"SUM(F80:F83)","v":0}]
[null,null,null,"Custom",null,{"$f":"IF(E80 <> \"\", 1, 0)","v":0},{"$f":"F80*E80","v":0}]
[null,null,null,"Custom",null,{"$f":"IF(E81 <> \"\", 1, 0)","v":0},{"$f":"F81*E81","v":0}]
[null,null,null,"Custom",null,0,{"$f":"F82*E82","v":0}]
[null,null,null,"Custom",null,0,{"$f":"F83*E83","v":0}]
[null,null,null,null,{"$f":"ROUND(SUM(G53:G83), 0)","v":0},{"$f":"SUM(E85)","v":0}]
[null,null,null,"Machine Subtotal ",{"$f":"ROUND(SUM(G53:G83), 0)","v":0},{"$f":"F84","v":0}]
[null,"Discounts",null,null,null,{"$f":"SUM(F87)","v":0}]
[null,null,null,null,null,{"$f":"SUM(F89:F92)","v":0}]
[null,null,null,"Applicable Currency Adj %",null,{"$f":"IF(E88 <> \"\", 1, 0)","v":0},{"$f":"IF(F88*(E88*0.01)*E84 < 0, F88*(E88*0.01)*E84, -(F88*(E88*0.01)*E84))","v":0}]
[null,null,null,"Discount %",null,0,{"$f":"IF(F89*(E89*0.01)*(E84+G88) < 0, F89*(E89*0.01)*(E84+G88), -(F89*(E89*0.01)*(E84+G88)))","v":0}]
[null,null,null,"Discount $",null,0,{"$f":"IF(F90*E90 < 0, F90*E90, -(F90*E90))","v":0}]
[null,null,null,"Discount $",null,0,{"$f":"IF(F91*E91 < 0, F91*E91, -(F91*E91))","v":0}]
[null,null,null,"Discount $",null,0,{"$f":"IF(F92*E92 < 0, F92*E92, -(F92*E92))","v":0}]
[null,null,null,"Discount Total ",{"$f":"SUM(G88:G92)","v":0},{"$f":"SUM(E93)","v":0}]
[null,null,null,null,null,{"$f":"#REF!","v":{"$error":"#REF!"}}]
[null,null,null,null,null,{"$f":"F94","v":{"$error":"#REF!"}}]
[null,null,"Prepaid and Add","Freight",null,{"$f":"IF(E96 <> \"\", 1, 0)","v":0},{"$f":"F96*E96","v":0}]
[null,null,"Subject to all applicable taxes","Tax",null,0,0]
[null,null,null,null,null,{"$f":"SUM(F99)","v":0}]
[null,null,null,"MACHINE TOTAL*",null,{"$f":"SUM(G99)","v":0},{"$f":"SUM(G53:G97)","v":0},null,null,null,null,null,null,"This goes to \"My Documents\""]
[null,null,null,null,null,null,{"$f":"SUM(G99)","v":0}]
[]
[]
[]
[]
[null,null,"Wells Fargo - Leasing Calculation Option:","Option 1",null,"Option 2",null,null,null,{"$f":"Financing!A38","v":"Rates 2025 - Rev.2/4/2025"}]
[null,null,null,"Monthly Payment","Cost Per Day","Monthly Payment","Cost Per Day",null,null,{"$f":"Financing!A39","v":"“Blank Payment Amounts Indicate The Financing Option Or Purchase Options Selected Are Not "}]
[null,null,"Purchase Option:","$1 Buyout Lease",null,"None",null,null,null,{"$f":"Financing!A40","v":"Applicable Or The Machine Total Is Below The Minimum Amount For The Selected Vendor”"}]
[null,null,"24 Months",0,0,0,0,null,null,{"$f":"Financing!A41","v":"\"Quoted monthly payments are estimates only and are based on a certain level of credit rating."}]
[null,null,"36 Months",0,0,0,0,null,null,{"$f":"Financing!A42","v":"Actual monthly payments may be higher depending on your credit rating.\""}]
[null,null,"48 Months",0,0,0,0,null,null,{"$f":"Financing!A43","v":"“Financing rates do not include Pre-Paid Service”"}]
[null,null,"60 Months",0,0,0,0]
[]
[null,null,null,"Benefits of Equipment Financing:"]
[null,null,null,"• Spreads out investment over time.",null,"• Keep current with latest technology."]
[null,null,null,"• Preserve capital.",null,"• Service and parts bundling available."]
[null,null,null,"• Low monthly payment.",null,"• Pay for labor savings as you go."]
[]
[null,"  TennantTrue",null,0,0]
[]
[null,null,"Is customer interested in service program?","Yes","*State/County selection required for TennantTrue service options"]
[]
[null,null,"If not, why?"]
[]
[null,null,"Term:",36,null,null,"AB Brushes","No"]
[null,null,"Monthly machine usage (hrs):","< 30/mo. (Avg. 1hr./day)"]
[]
[null,null,"TennantTrue: ","Gold Contract",null,"Silver Contract"]
[null,null,"Per Visit",null,null,501]
[null,null,"Monthly",189,null,88]
[null,null,"Annually",null,null,1035]
[null,null,"Pre-Pay Full Term",6526,null,3042]
[null,null,"Hourly Labor Rate"]
[null,null,"Site Visit"]
[]
[null,null,"* Verify customer current pricing prior to quote. "]
[null,null,"**All rates and fees above reflect service for one (1) unit with the exception of Block of Time service."]
[null,null,"*Block of Time is available in 1 Year Term only and is priced as such no matter the term selection on this template."]
[]
[]
[]
[null,"Quote Special Instructions:"]
[]
[]
[]
[null,{"$f":"Start_Here!E36","v":"Terms and Conditions"}]
[null,{"$f":"Start_Here!E37","v":"Ask your local sales rep for estimated lead times. Verify when placing order"}]
[null,{"$f":"Start_Here!E38","v":"All orders subject to acceptance by Tennant Sales and Service Company, Minneapolis, Minnesota"}]
[null,{"$f":"Start_Here!E39","v":"Prices subject to change without notice. Subject to any applicable taxes."}]
[null,{"$f":"Start_Here!E40","v":"Terms:  Net 30 days.  Payable in Canadian Funds"}]
[null,{"$f":"Start_Here!E41","v":"Freight:  Accessories, parts, supplies, detergents, and floor coatings orders delivered DDP "}]
[null,{"$f":"Start_Here!E42","v":"shipping point Frt PPD.  Machine orders delivered DDP shipping point Frt PPD and add."}]
[null,{"$f":"Start_Here!E43","v":"Returned Merchandise is subject to a restocking fee."}]
[null,{"$f":"Start_Here!E44","v":"All orders are subject to Tennant’s General Terms and Conditions available at http://www.tennantco.com/terms."}]
[null,{"$f":"Start_Here!E45","v":"Printed General Terms and Conditions are also available upon request."}]
[null,{"$f":"Start_Here!E46","v":0}]
[null,{"$f":"Start_Here!E47","v":0}]
[null,{"$f":"Start_Here!E48","v":0}]
[null,null,null,null,"Quote Date :",null,{"$f":"Letter!$A$25","v":"2023-08-01"}]
[null,"Order Placement Information:  To place your order, fill in PO# and customer signatures,"]
[null,"call or fax to the numbers listed below. Customer Purchase Order is required."]
[null,"If information is missing, orders will be entered and held until all information is received."]
[]
[null,null,"Customer Number",null,"Cust Grp 3"]
[null,null,{"$f":"Start_Here!$C$25","v":0},null,{"$f":"Start_Here!$C$29","v":0}]
[null,null,{"$f":"Start_Here!$B$18","v":"Who Owns the Machine? (Sold-To Info) (Please Verify)"}]
["Company",null,{"$f":"Start_Here!$C$19","v":"Company Name"}]
["Address",null,{"$f":"Start_Here!$C$20","v":"Address"}]
[null,null,{"$f":"Start_Here!$C$21","v":"City, State Zip"}]
["Name",null,{"$f":"Start_Here!$C$22","v":"Contact Name"}]
["Phone",null,{"$f":"Start_Here!$C$23","v":"Contact Phone"}]
[]
[null,null,{"$f":"Start_Here!$B$11","v":"Where is the Machine Being Shipped? (Ship-To Info) (Please Verify)"}]
["Company",null,{"$f":"Start_Here!$C$12","v":"Company Name"}]
["Address",null,{"$f":"Start_Here!$C$13","v":"Address"}]
[null,null,{"$f":"Start_Here!$C$14","v":"City, State Zip"}]
["Name",null,{"$f":"Start_Here!$C$15","v":"Contact Name"}]
["Phone",null,{"$f":"Start_Here!$C$16","v":"Contact Phone"}]
[]
[null,null,{"$f":"Start_Here!$B$31","v":"Shipping / Carrier Instructions:"},null,"Order Special Instructions:"]
[null,null,{"$f":"Start_Here!$C$32","v":0}]
[]
[null,null,"Customer Purchase Order No."]
[null,null,"(please attach copy)"]
[]
[]
[null,null,"Tax Exempt",null,"Yes"]
[null,null,null,null,"No"]
[null,null,"If Yes, attach a copy of your exemption certificate."]
[]
[null,null,"Requested Delivery Date"]
[null,null,{"$f":"Start_Here!$C$28","v":0}]
[]
[null,null,{"$f":"Start_Here!$C$26","v":0},null,{"$f":"Start_Here!$C$27","v":0}]
[null,null,"Authorized Buyer (please print)",null,"Phone Number"]
[]
[]
[null,null,"Authorized Buyer Signature"]
[]
[null,null,{"$f":"Start_Here!$C$41","v":"Rep Name"}]
[null,null,"Tennant Representative"]
[]
[null,null,null,"Specialized Maintenance Equipment"]
[null,null,{"$f":"Start_Here!$C$51","v":0}]
[null,null,null,{"$f":"Start_Here!$C$52","v":0}]
[]
[null,1,"Customer MUST order Skid w/Carton, Non-Stackable if WITHOUT BATTERY is selected.  "]
[null,null,"Continental USA orders ONLY."]
[]
[null,2,"A Polypropylene Brush comes standard with a T981."]
[]
[null,3,"Customer MUST order Skid w/Carton, Non-Stackable if WITHOUT BATTERY is selected."]
[null,null,"Skid w/Carton, Non-Stackable is mandatory when shipping to AK and HI."]
[]
[null,4,"Shipping Weights and Dimensions","Pad Wrap","Skid w/Carton"]
[]
[null,null,"Weight - 750 mm / 30\" Cylindrical",null,"836 lbs / 379 Kg"]
[null,null,"Weight - 900 mm / 36\" Disk",null,"748 lbs / 339 Kg"]
[null,null,"Length",null,"79 in / 2,000 mm"]
[null,null,"Width",null,"51 in / 1,280 mm"]
[null,null,"Height",null,"66 in / 1,670 mm"]

{"sheet":"SS_15","index":23,"n_rows":178,"n_cols":17,"rows_kept":178,"cut":false,"hidden":false,"merged":[[86,5,86,6],[87,3,87,4],[87,5,87,6],[88,3,88,4],[88,5,88,6],[122,0,122,1],[122,2,122,5],[123,0,123,1],[123,2,123,5],[61,3,61,4],[61,5,61,6],[63,3,63,4],[63,5,63,6],[98,1,98,6],[120,4,120,6],[83,3,83,4],[83,5,83,6],[84,3,84,4],[84,5,84,6],[85,3,85,4],[85,5,85,6],[133,0,133,1],[133,2,133,5],[124,2,124,5],[125,0,125,1],[125,2,125,5],[126,0,126,1],[126,2,126,5],[129,0,129,1],[129,2,129,5],[130,0,130,1],[132,0,132,1],[130,2,130,5],[131,2,131,5],[132,2,132,5],[0,2,0,3],[1,2,1,3],[2,2,2,3],[3,2,3,3],[149,4,149,5],[76,4,76,8],[78,3,78,6],[80,3,80,4],[81,3,81,4],[140,2,140,5],[136,4,136,6],[138,2,138,5],[139,2,139,5],[89,3,89,4],[89,5,89,6],[86,3,86,4]]}
["SS_15",null,{"$f":"Start_Here!$C19","v":"Company Name"}]
[{"$f":"SUM(G56)","v":0},null,{"$f":"Start_Here!$C20","v":"Address"}]
[null,null,{"$f":"Start_Here!$C21","v":"City, State Zip"}]
[null,null,{"$f":"Start_Here!$C22","v":"Contact Name"}]
[null,null,{"$f":"Start_Here!$C$41","v":"Rep Name"}]
[null,null,{"$f":"Start_Here!$C$37","v":"Tennant Sales and Service Company"}]
[null,null,{"$f":"Start_Here!$C$38","v":"10400 Clean Street"}]
[null,null,{"$f":"Start_Here!$C$39","v":"Eden Prairie, MN 55344"}]
[null,null,{"$f":"Start_Here!$C$43","v":"800-553-8033"},null,"Quote Date :",null,{"$f":"Letter!$A$25","v":"2023-08-01"}]
[]
[null,null,{"$f":"Help!C2","v":"CAN Date Rev - 5/6/2025"}]
[]
[null,null,"New Machine Warranty",null,null,null,"Fax (quote only)"]
[null,null,"36 MONTHS OR 2500 HOURS ON PARTS",null,null,null,"Mail (quote,lit, specs)"]
[null,null,"36 MONTHS – LABOR",null,null,null,"Fax + Mail"]
[null,null,"90 DAYS – TRAVEL ON BATTERY UNITS ONLY"]
[null,null,"10 YEARS ON ROTOMOLDED PARTS"]
[null,null,"BATTERIES ARE AGM PRORATED 6 MONTHS",null,null,null,"Inside"]
[null,null,"LITHUM ION 2 YEARS (Full Replacement)",null,null,null,"Outside"]
[]
[]
[null,null,"Description","Reference#","CAD price Each","Qty","Extended Price"]
[null,null,null,null,null,{"$f":"SUM(F24)","v":0}]
[null,null,"Speed Scrub® 15 Cord-Electric Cylindrical Scrubber",9004200,6663,null,{"$f":"F24*E24","v":0},{"$f":"IFERROR(IFERROR(VLOOKUP(D24,Surcharge!A:B,2,FALSE)*F24, VLOOKUP(D24 & \"\",Surcharge!A:B,2,FALSE)*F24), \"\")","v":""},null,null,null,null,null,null,null,null,{"$f":"VLOOKUP(D24,'MPF SAP Canada Pre-Configured'!C:E,3,FALSE)","v":6663}]
[null,null,"15\" (380 mm) cleaning path.  Complete package includes removable, Hygenic® fully cleanable 3 gallon (11.4 liter) solution/ 4.5 gallon (17 liters) recovery tanks, Insta-AdjustTM handle, nylon brush, 50-ft (15-m) \"safety yellow\" power cord and multi-language operator manual.",null,null,{"$f":"SUM(F24)","v":0},null,{"$f":"IFERROR(IFERROR(VLOOKUP(D25,Surcharge!A:B,2,FALSE)*F25, VLOOKUP(D25 & \"\",Surcharge!A:B,2,FALSE)*F25), \"\")","v":""}]
[null,null,"Boxed Dimensions:  34\" L x 22\" W x 32\" H (864  mm x 559  mm x 813  mm). *",null,null,{"$f":"SUM(F25)","v":0},null,{"$f":"IFERROR(IFERROR(VLOOKUP(D26,Surcharge!A:B,2,FALSE)*F26, VLOOKUP(D26 & \"\",Surcharge!A:B,2,FALSE)*F26), \"\")","v":""}]
[null,null,"Shipping Weight / Volume:   125 lb (57 kg) / 13.9 ft3 (.39 m3)",null,null,{"$f":"SUM(F26)","v":0},null,{"$f":"IFERROR(IFERROR(VLOOKUP(D27,Surcharge!A:B,2,FALSE)*F27, VLOOKUP(D27 & \"\",Surcharge!A:B,2,FALSE)*F27), \"\")","v":""}]
[null,null,null,null,null,null,null,{"$f":"IFERROR(IFERROR(VLOOKUP(D28,Surcharge!A:B,2,FALSE)*F28, VLOOKUP(D28 & \"\",Surcharge!A:B,2,FALSE)*F28), \"\")","v":""}]
[null,null,null,null,null,null,null,{"$f":"IFERROR(IFERROR(VLOOKUP(D29,Surcharge!A:B,2,FALSE)*F29, VLOOKUP(D29 & \"\",Surcharge!A:B,2,FALSE)*F29), \"\")","v":""}]
[null,null,"SS-15 Battery Cylindrical Scrubber  - 15\" cleaning path.  Complete package includes removable, Hygenic® fully cleanable 2.5 gallon (9.5liter) solution/ 3.4 gallon (12.9 liters) recovery tanks, Insta-AdjustTM handle, nylon brush, appropriate off board world charger with power cord and multi-language operator manual.",null,null,{"$f":"SUM(F34:F37)","v":0},null,{"$f":"IFERROR(IFERROR(VLOOKUP(D30,Surcharge!A:B,2,FALSE)*F30, VLOOKUP(D30 & \"\",Surcharge!A:B,2,FALSE)*F30), \"\")","v":""}]
[null,null,"Boxed Dimensions:  32\" L x 24\" W x 37\" H (813 mm x 610 mm x 940 mm). *",null,null,{"$f":"SUM(F30)","v":0},null,{"$f":"IFERROR(IFERROR(VLOOKUP(D31,Surcharge!A:B,2,FALSE)*F31, VLOOKUP(D31 & \"\",Surcharge!A:B,2,FALSE)*F31), \"\")","v":""}]
[null,null,"Shipping Weight (see battery options below)",null,null,{"$f":"SUM(F31)","v":0},null,{"$f":"IFERROR(IFERROR(VLOOKUP(D32,Surcharge!A:B,2,FALSE)*F32, VLOOKUP(D32 & \"\",Surcharge!A:B,2,FALSE)*F32), \"\")","v":""}]
[null,null,null,null,null,{"$f":"SUM(F34)","v":0},null,{"$f":"IFERROR(IFERROR(VLOOKUP(D33,Surcharge!A:B,2,FALSE)*F33, VLOOKUP(D33 & \"\",Surcharge!A:B,2,FALSE)*F33), \"\")","v":""}]
[null,null,"Speed Scrub® 15\" - Battery Cylindrical Scrubber (with AGM batteries)",9008637,9214,null,{"$f":"F34*E34","v":0},{"$f":"IFERROR(IFERROR(VLOOKUP(D34,Surcharge!A:B,2,FALSE)*F34, VLOOKUP(D34 & \"\",Surcharge!A:B,2,FALSE)*F34), \"\")","v":0},null,null,null,null,null,null,null,null,{"$f":"VLOOKUP(D34,'MPF SAP Canada Pre-Configured'!C:E,3,FALSE)","v":8611}]
[null,null,"Shipping Weight: 158 lbs/ 72 kg",null,null,{"$f":"SUM(F34)","v":0},null,{"$f":"IFERROR(IFERROR(VLOOKUP(D35,Surcharge!A:B,2,FALSE)*F35, VLOOKUP(D35 & \"\",Surcharge!A:B,2,FALSE)*F35), \"\")","v":""}]
[null,null,null,null,null,{"$f":"SUM(F37)","v":0}]
[null,null,"Speed Scrub® 15\" - Battery Cylindrical Scrubber (with Lithium Ion batteries)",9008640,11887,null,{"$f":"F37*E37","v":0},{"$f":"IFERROR(IFERROR(VLOOKUP(D37,Surcharge!A:B,2,FALSE)*F37, VLOOKUP(D37 & \"\",Surcharge!A:B,2,FALSE)*F37), \"\")","v":""},null,null,null,null,null,null,null,null,{"$f":"VLOOKUP(D37,'MPF SAP Canada Pre-Configured'!C:E,3,FALSE)","v":11109}]
[null,null,"Shipping Weight: 143 lbs/ 65 kg",null,null,{"$f":"SUM(F37)","v":0},null,{"$f":"IFERROR(IFERROR(VLOOKUP(D38,Surcharge!A:B,2,FALSE)*F38, VLOOKUP(D38 & \"\",Surcharge!A:B,2,FALSE)*F38), \"\")","v":""}]
[]
[]
[null,null,null,null,{"$f":"ROUND(SUM(G24:G40), 0)","v":0},{"$f":"SUM(E42)","v":0}]
[null,null,null,"Machine Subtotal ",{"$f":"ROUND(SUM(G24:G40), 0)","v":0},{"$f":"F41","v":0}]
[null,"Discounts",null,null,null,{"$f":"SUM(F44)","v":0}]
[null,null,null,null,null,{"$f":"SUM(F46:F49)","v":0}]
[null,null,null,"Applicable Currency Adj %",null,{"$f":"IF(E45 <> \"\", 1, 0)","v":0},{"$f":"IF(F45*(E45*0.01)*E41 < 0, F45*(E45*0.01)*E41, -(F45*(E45*0.01)*E41))","v":0}]
[null,null,null,"Discount %",null,{"$f":"IF(E46 <> \"\", 1, 0)","v":0},{"$f":"IF(F46*(E46*0.01)*(E41+G45) < 0, F46*(E46*0.01)*(E41+G45), -(F46*(E46*0.01)*(E41+G45)))","v":0}]
[null,null,null,"Discount $",null,0,{"$f":"IF(F47*E47 < 0, F47*E47, -(F47*E47))","v":0}]
[null,null,null,"Discount $",null,0,{"$f":"IF(F48*E48 < 0, F48*E48, -(F48*E48))","v":0}]
[null,null,null,"Discount $",null,0,{"$f":"IF(F49*E49 < 0, F49*E49, -(F49*E49))","v":0}]
[null,null,null,"Discount Total ",{"$f":"SUM(G45:G49)","v":0},{"$f":"SUM(E50)","v":0}]
[null,null,null,null,null,{"$f":"#REF!","v":{"$error":"#REF!"}}]
[null,null,null,null,null,{"$f":"F51","v":{"$error":"#REF!"}}]
[null,null,"Prepaid and Add","Freight",null,{"$f":"IF(E53 <> \"\", 1, 0)","v":0},{"$f":"F53*E53","v":0}]
[null,null,"Subject to all applicable taxes","Tax",null,0,0]
[null,null,null,null,null,{"$f":"SUM(F56)","v":0}]
[null,null,null,"MACHINE TOTAL*",null,{"$f":"SUM(G56)","v":0},{"$f":"SUM(G24:G54)","v":0},null,null,null,null,null,null,"This goes to \"My Documents\""]
[null,null,null,null,null,null,{"$f":"SUM(G56)","v":0}]
[]
[]
[]
[]
[null,null,"Wells Fargo - Leasing Calculation Option:","Option 1",null,"Option 2",null,null,null,{"$f":"Financing!A38","v":"Rates 2025 - Rev.2/4/2025"}]
[null,null,null,"Monthly Payment","Cost Per Day","Monthly Payment","Cost Per Day",null,null,{"$f":"Financing!A39","v":"“Blank Payment Amounts Indicate The Financing Option Or Purchase Options Selected Are Not "}]
[null,null,"Purchase Option:","$1 Buyout Lease",null,"None",null,null,null,{"$f":"Financing!A40","v":"Applicable Or The Machine Total Is Below The Minimum Amount For The Selected Vendor”"}]
[null,null,"24 Months",0,0,0,0,null,null,{"$f":"Financing!A41","v":"\"Quoted monthly payments are estimates only and are based on a certain level of credit rating."}]
[null,null,"36 Months",0,0,0,0,null,null,{"$f":"Financing!A42","v":"Actual monthly payments may be higher depending on your credit rating.\""}]
[null,null,"48 Months",0,0,0,0,null,null,{"$f":"Financing!A43","v":"“Financing rates do not include Pre-Paid Service”"}]
[null,null,"60 Months",0,0,0,0]
[]
[null,null,null,"Benefits of Equipment Financing:"]
[null,null,null,"• Spreads out investment over time.",null,"• Keep current with latest technology."]
[null,null,null,"• Preserve capital.",null,"• Service and parts bundling available."]
[null,null,null,"• Low monthly payment.",null,"• Pay for labor savings as you go."]
[]
[null,"  TennantTrue",null,0,0]
[]
[null,null,"Is customer interested in service program?","Yes","*State/County selection required for TennantTrue service options"]
[]
[null,null,"If not, why?"]
[]
[null,null,"Term:",36,null,null,"AB Brushes","No"]
[null,null,"Monthly machine usage (hrs):","< 30/mo. (Avg. 1hr./day)"]
[]
[null,null,"TennantTrue: ","Gold Contract",null,"Silver Contract"]
[null,null,"Per Visit"]
[null,null,"Monthly"]
[null,null,"Annually"]
[null,null,"Pre-Pay Full Term"]
[null,null,"Hourly Labor Rate"]
[null,null,"Site Visit"]
[]
[null,null,"* Verify customer current pricing prior to quote. "]
[null,null,"**All rates and fees above reflect service for one (1) unit with the exception of Block of Time service."]
[null,null,"*Block of Time is available in 1 Year Term only and is priced as such no matter the term selection on this template."]
[]
[]
[]
[null,"Quote Special Instructions:"]
[]
[]
[]
[null,{"$f":"Start_Here!E36","v":"Terms and Conditions"}]
[null,{"$f":"Start_Here!E37","v":"Ask your local sales rep for estimated lead times. Verify when placing order"}]
[null,{"$f":"Start_Here!E38","v":"All orders subject to acceptance by Tennant Sales and Service Company, Minneapolis, Minnesota"}]
[null,{"$f":"Start_Here!E39","v":"Prices subject to change without notice. Subject to any applicable taxes."}]
[null,{"$f":"Start_Here!E40","v":"Terms:  Net 30 days.  Payable in Canadian Funds"}]
[null,{"$f":"Start_Here!E41","v":"Freight:  Accessories, parts, supplies, detergents, and floor coatings orders delivered DDP "}]
[null,{"$f":"Start_Here!E42","v":"shipping point Frt PPD.  Machine orders delivered DDP shipping point Frt PPD and add."}]
[null,{"$f":"Start_Here!E43","v":"Returned Merchandise is subject to a restocking fee."}]
[null,{"$f":"Start_Here!E44","v":"All orders are subject to Tennant’s General Terms and Conditions available at http://www.tennantco.com/terms."}]
[null,{"$f":"Start_Here!E45","v":"Printed General Terms and Conditions are also available upon request."}]
[null,{"$f":"Start_Here!E46","v":0}]
[null,{"$f":"Start_Here!E47","v":0}]
[null,{"$f":"Start_Here!E48","v":0}]
[null,null,null,null,"Quote Date :",null,{"$f":"Letter!$A$25","v":"2023-08-01"}]
[null,"Order Placement Information:  To place your order, fill in PO# and customer signatures,"]
[null,"call or fax to the numbers listed below. Customer Purchase Order is required."]
[null,"If information is missing, orders will be entered and held until all information is received."]
[]
[null,null,"Customer Number",null,"Cust Grp 3"]
[null,null,{"$f":"Start_Here!$C$25","v":0},null,{"$f":"Start_Here!$C$29","v":0}]
[null,null,{"$f":"Start_Here!$B$18","v":"Who Owns the Machine? (Sold-To Info) (Please Verify)"}]
["Company",null,{"$f":"Start_Here!$C$19","v":"Company Name"}]
["Address",null,{"$f":"Start_Here!$C$20","v":"Address"}]
[null,null,{"$f":"Start_Here!$C$21","v":"City, State Zip"}]
["Name",null,{"$f":"Start_Here!$C$22","v":"Contact Name"}]
["Phone",null,{"$f":"Start_Here!$C$23","v":"Contact Phone"}]
[]
[null,null,{"$f":"Start_Here!$B$11","v":"Where is the Machine Being Shipped? (Ship-To Info) (Please Verify)"}]
["Company",null,{"$f":"Start_Here!$C$12","v":"Company Name"}]
["Address",null,{"$f":"Start_Here!$C$13","v":"Address"}]
[null,null,{"$f":"Start_Here!$C$14","v":"City, State Zip"}]
["Name",null,{"$f":"Start_Here!$C$15","v":"Contact Name"}]
["Phone",null,{"$f":"Start_Here!$C$16","v":"Contact Phone"}]
[]
[null,null,{"$f":"Start_Here!$B$31","v":"Shipping / Carrier Instructions:"},null,"Order Special Instructions:"]
[null,null,{"$f":"Start_Here!$C$32","v":0}]
[]
[null,null,"Customer Purchase Order No."]
[null,null,"(please attach copy)"]
[]
[]
[null,null,"Tax Exempt",null,"Yes"]
[null,null,null,null,"No"]
[null,null,"If Yes, attach a copy of your exemption certificate."]
[]
[null,null,"Requested Delivery Date"]
[null,null,{"$f":"Start_Here!$C$28","v":0}]
[]
[null,null,{"$f":"Start_Here!$C$26","v":0},null,{"$f":"Start_Here!$C$27","v":0}]
[null,null,"Authorized Buyer (please print)",null,"Phone Number"]
[]
[]
[null,null,"Authorized Buyer Signature"]
[]
[null,null,{"$f":"Start_Here!$C$41","v":"Rep Name"}]
[null,null,"Tennant Representative"]
[]
[null,null,null,"Specialized Maintenance Equipment"]
[null,null,{"$f":"Start_Here!$C$51","v":0}]
[null,null,null,{"$f":"Start_Here!$C$52","v":0}]
[]
[]
[null,"Notes"]
[]
[null,1,"Only available as factory-installed when batteries are ordered with machine."]
[]
[null,2,"A French and English manual will be supplied for all units shipping into Quebec, Canada at no charge.  An additional manual"]
[null,null,"can be ordered (for a total of 3 manuals) for an additional charge as stated under 'Additional Operator Manual'."]
[null,null,null," "]
[null,3,"Skid w/Carton, Non-Stackable is the default packaging method and will be added to the configuration unless otherwise specified."]
[]
[null,4,"Shipping Weights and Dimensions","Skid w/Carton"]
[]
[null,null,"Weight (w/360AH Battery)","650 lbs / 295 Kg"]
[null,null,"Length","68\" / 1,727mm"]
[null,null,"Width","33\" / 838mm"]
[null,null,"Height","48\" / 1,219mm"]

{"sheet":"i_mop_Lite","index":24,"n_rows":175,"n_cols":16,"rows_kept":175,"cut":false,"hidden":false,"merged":[[58,3,58,4],[58,5,58,6],[60,3,60,4],[60,5,60,6],[0,2,0,3],[1,2,1,3],[2,2,2,3],[3,2,3,3],[73,4,73,8],[75,3,75,6],[77,3,77,4],[78,3,78,4],[80,3,80,4],[80,5,80,6],[81,3,81,4],[81,5,81,6],[82,3,82,4],[82,5,82,6],[83,3,83,4],[83,5,83,6],[84,3,84,4],[84,5,84,6],[85,3,85,4],[85,5,85,6],[86,3,86,4],[86,5,86,6],[95,1,95,6],[117,4,117,6],[119,0,119,1],[119,2,119,5],[120,0,120,1],[120,2,120,5],[130,0,130,1],[130,2,130,5],[121,2,121,5],[122,0,122,1],[122,2,122,5],[123,0,123,1],[123,2,123,5],[126,0,126,1],[126,2,126,5],[127,0,127,1],[127,2,127,5],[128,2,128,5],[129,0,129,1],[129,2,129,5],[133,4,133,6],[135,2,135,5],[136,2,136,5],[137,2,137,5],[146,4,146,5]]}
["i_mop_Lite",null,{"$f":"Start_Here!$C19","v":"Company Name"}]
[{"$f":"SUM(G53)","v":0},null,{"$f":"Start_Here!$C20","v":"Address"}]
[null,null,{"$f":"Start_Here!$C21","v":"City, State Zip"}]
[null,null,{"$f":"Start_Here!$C22","v":"Contact Name"}]
[null,null,{"$f":"Start_Here!$C$41","v":"Rep Name"}]
[null,null,{"$f":"Start_Here!$C$37","v":"Tennant Sales and Service Company"}]
[null,null,{"$f":"Start_Here!$C$38","v":"10400 Clean Street"}]
[null,null,{"$f":"Start_Here!$C$39","v":"Eden Prairie, MN 55344"}]
[null,null,{"$f":"Start_Here!$C$43","v":"800-553-8033"},null,"Quote Date :",null,{"$f":"Letter!$A$25","v":"2023-08-01"}]
[]
[null,null,{"$f":"Help!C2","v":"CAN Date Rev - 5/6/2025"}]
[]
[null,null,"New Machine Warranty",null,null,null,"Fax (quote only)"]
[null,null,"12 MONTHS ON PARTS",null,null,null,"Mail (quote,lit, specs)"]
[null,null,"12 MONTHS – LABOR",null,null,null,"Fax + Mail"]
[null,null,"12 MONTHS – BATTERY"]
[null,null,"90 DAYS – TRAVEL "]
[null,null,null,null,null,null,"Inside"]
[null,null,null,null,null,null,"Outside"]
[]
[]
[null,null,"Description","Reference#","CAD price Each","Qty","Extended Price"]
[]
[null,null,"i-mop® Lite - Lithium-Ion Auto Disk Scrubber",1263271,6489,null,{"$f":"F24*E24","v":0},null,null,null,null,null,null,null,null,{"$f":"VLOOKUP(D24,'MPF SAP Canada Pre-Configured'!C:E,3,FALSE)","v":{"$error":"#N/A"}}]
[null,null,"14.1\" (37 cm) cleaning path.  Includes battery pack, removable .79 gal (3 L)  solution and 1.0 gal (4 L) recovery tank with ball float, battery safe guard switch, angle switch, charger w/ power cord, 2 medium blue brushes, squeegee, and multi-language operator manual.",null,null,{"$f":"SUM(F24)","v":0}]
[null,null,null,null,null,{"$f":"SUM(F25)","v":0}]
[null,null,"Boxed Dimensions:  48\" H x 15.7\" W  x 15\" L (1220 mm x 400 mm x 380 mm)",null,null,0]
[null,null,"Shipping Weight with Batteries:  46.4 lbs (21.0 kg)",null,null,0]
[]
[]
[null,null,"i-mop® Lite - Lithium-Ion Auto Disk Scrubber + Extra Battery Pack",9022310,7859,null,{"$f":"F31*E31","v":0},null,null,null,null,null,null,null,null,{"$f":"VLOOKUP(D31,'MPF SAP Canada Pre-Configured'!C:E,3,FALSE)","v":{"$error":"#N/A"}}]
[null,null,"14.1\" (37 cm) cleaning path.  Includes TWO battery packs, removable .79 gal (3 L)  solution and 1.0 gal (4 L) recovery tank with ball float, battery safe guard switch, angle switch, charger w/ power cord, 2 medium blue brushes, squeegee, and multi-language operator manual.",null,null,{"$f":"SUM(F31)","v":0}]
[null,null,null,null,null,{"$f":"SUM(F32)","v":0}]
[null,null,"Note: Batteries do not ship in machine box, but separately.",null,null,0]
[]
[]
[]
[null,null,null,null,{"$f":"ROUND(SUM(G24:G37), 0)","v":0},{"$f":"SUM(E39)","v":0}]
[null,null,null,"Machine Subtotal ",{"$f":"ROUND(SUM(G24:G37), 0)","v":0},{"$f":"F38","v":0}]
[null,"Discounts",null,null,null,{"$f":"SUM(F41)","v":0}]
[null,null,null,null,null,{"$f":"SUM(F43:F46)","v":0}]
[null,null,null,"Applicable Currency Adj %",null,{"$f":"IF(E42 <> \"\", 1, 0)","v":0},{"$f":"IF(F42*(E42*0.01)*E38 < 0, F42*(E42*0.01)*E38, -(F42*(E42*0.01)*E38))","v":0}]
[null,null,null,"Discount %",null,0,{"$f":"IF(F43*(E43*0.01)*(E38+G42) < 0, F43*(E43*0.01)*(E38+G42), -(F43*(E43*0.01)*(E38+G42)))","v":0}]
[null,null,null,"Discount $",null,0,{"$f":"IF(F44*E44 < 0, F44*E44, -(F44*E44))","v":0}]
[null,null,null,"Discount $",null,0,{"$f":"IF(F45*E45 < 0, F45*E45, -(F45*E45))","v":0}]
[null,null,null,"Discount $",null,0,{"$f":"IF(F46*E46 < 0, F46*E46, -(F46*E46))","v":0}]
[null,null,null,"Discount Total ",{"$f":"SUM(G42:G46)","v":0},{"$f":"SUM(E47)","v":0}]
[null,null,null,null,null,{"$f":"#REF!","v":{"$error":"#REF!"}}]
[null,null,null,null,null,{"$f":"F48","v":{"$error":"#REF!"}}]
[null,null,"Prepaid and Add","Freight",null,{"$f":"IF(E50 <> \"\", 1, 0)","v":0},{"$f":"F50*E50","v":0}]
[null,null,"Subject to all applicable taxes","Tax",null,0,0]
[null,null,null,null,null,{"$f":"SUM(F53)","v":0}]
[null,null,null,"MACHINE TOTAL*",null,{"$f":"SUM(G53)","v":0},{"$f":"SUM(G24:G51)","v":0},null,null,null,null,null,null,"This goes to \"My Documents\""]
[null,null,null,null,null,null,{"$f":"SUM(G53)","v":0}]
[]
[]
[]
[]
[null,null,"Wells Fargo - Leasing Calculation Option:","Option 1",null,"Option 2",null,null,null,{"$f":"Financing!A38","v":"Rates 2025 - Rev.2/4/2025"}]
[null,null,null,"Monthly Payment","Cost Per Day","Monthly Payment","Cost Per Day",null,null,{"$f":"Financing!A39","v":"“Blank Payment Amounts Indicate The Financing Option Or Purchase Options Selected Are Not "}]
[null,null,"Purchase Option:","$1 Buyout Lease",null,"None",null,null,null,{"$f":"Financing!A40","v":"Applicable Or The Machine Total Is Below The Minimum Amount For The Selected Vendor”"}]
[null,null,"24 Months",0,0,0,0,null,null,{"$f":"Financing!A41","v":"\"Quoted monthly payments are estimates only and are based on a certain level of credit rating."}]
[null,null,"36 Months",0,0,0,0,null,null,{"$f":"Financing!A42","v":"Actual monthly payments may be higher depending on your credit rating.\""}]
[null,null,"48 Months",0,0,0,0,null,null,{"$f":"Financing!A43","v":"“Financing rates do not include Pre-Paid Service”"}]
[null,null,"60 Months",0,0,0,0]
[]
[null,null,null,"Benefits of Equipment Financing:"]
[null,null,null,"• Spreads out investment over time.",null,"• Keep current with latest technology."]
[null,null,null,"• Preserve capital.",null,"• Service and parts bundling available."]
[null,null,null,"• Low monthly payment.",null,"• Pay for labor savings as you go."]
[]
[null,"  TennantTrue",null,0,0]
[]
[null,null,"Is customer interested in service program?","Yes","*State/County selection required for TennantTrue service options"]
[]
[null,null,"If not, why?"]
[]
[null,null,"Term:",36,null,null,"AB Brushes","No"]
[null,null,"Monthly machine usage (hrs):","< 30/mo. (Avg. 1hr./day)"]
[]
[null,null,"TennantTrue: ","Gold Contract",null,"Silver Contract"]
[null,null,"Per Visit"]
[null,null,"Monthly"]
[null,null,"Annually"]
[null,null,"Pre-Pay Full Term"]
[null,null,"Hourly Labor Rate"]
[null,null,"Site Visit"]
[]
[null,null,"* Verify customer current pricing prior to quote. "]
[null,null,"**All rates and fees above reflect service for one (1) unit with the exception of Block of Time service."]
[null,null,"*Block of Time is available in 1 Year Term only and is priced as such no matter the term selection on this template."]
[]
[]
[]
[null,"Quote Special Instructions:"]
[]
[]
[]
[null,{"$f":"Start_Here!E36","v":"Terms and Conditions"}]
[null,{"$f":"Start_Here!E37","v":"Ask your local sales rep for estimated lead times. Verify when placing order"}]
[null,{"$f":"Start_Here!E38","v":"All orders subject to acceptance by Tennant Sales and Service Company, Minneapolis, Minnesota"}]
[null,{"$f":"Start_Here!E39","v":"Prices subject to change without notice. Subject to any applicable taxes."}]
[null,{"$f":"Start_Here!E40","v":"Terms:  Net 30 days.  Payable in Canadian Funds"}]
[null,{"$f":"Start_Here!E41","v":"Freight:  Accessories, parts, supplies, detergents, and floor coatings orders delivered DDP "}]
[null,{"$f":"Start_Here!E42","v":"shipping point Frt PPD.  Machine orders delivered DDP shipping point Frt PPD and add."}]
[null,{"$f":"Start_Here!E43","v":"Returned Merchandise is subject to a restocking fee."}]
[null,{"$f":"Start_Here!E44","v":"All orders are subject to Tennant’s General Terms and Conditions available at http://www.tennantco.com/terms."}]
[null,{"$f":"Start_Here!E45","v":"Printed General Terms and Conditions are also available upon request."}]
[null,{"$f":"Start_Here!E46","v":0}]
[null,{"$f":"Start_Here!E47","v":0}]
[null,{"$f":"Start_Here!E48","v":0}]
[null,null,null,null,"Quote Date :",null,{"$f":"Letter!$A$25","v":"2023-08-01"}]
[null,"Order Placement Information:  To place your order, fill in PO# and customer signatures,"]
[null,"call or fax to the numbers listed below. Customer Purchase Order is required."]
[null,"If information is missing, orders will be entered and held until all information is received."]
[]
[null,null,"Customer Number",null,"Cust Grp 3"]
[null,null,{"$f":"Start_Here!$C$25","v":0},null,{"$f":"Start_Here!$C$29","v":0}]
[null,null,{"$f":"Start_Here!$B$18","v":"Who Owns the Machine? (Sold-To Info) (Please Verify)"}]
["Company",null,{"$f":"Start_Here!$C$19","v":"Company Name"}]
["Address",null,{"$f":"Start_Here!$C$20","v":"Address"}]
[null,null,{"$f":"Start_Here!$C$21","v":"City, State Zip"}]
["Name",null,{"$f":"Start_Here!$C$22","v":"Contact Name"}]
["Phone",null,{"$f":"Start_Here!$C$23","v":"Contact Phone"}]
[]
[null,null,{"$f":"Start_Here!$B$11","v":"Where is the Machine Being Shipped? (Ship-To Info) (Please Verify)"}]
["Company",null,{"$f":"Start_Here!$C$12","v":"Company Name"}]
["Address",null,{"$f":"Start_Here!$C$13","v":"Address"}]
[null,null,{"$f":"Start_Here!$C$14","v":"City, State Zip"}]
["Name",null,{"$f":"Start_Here!$C$15","v":"Contact Name"}]
["Phone",null,{"$f":"Start_Here!$C$16","v":"Contact Phone"}]
[]
[null,null,{"$f":"Start_Here!$B$31","v":"Shipping / Carrier Instructions:"},null,"Order Special Instructions:"]
[null,null,{"$f":"Start_Here!$C$32","v":0}]
[]
[null,null,"Customer Purchase Order No."]
[null,null,"(please attach copy)"]
[]
[]
[null,null,"Tax Exempt",null,"Yes"]
[null,null,null,null,"No"]
[null,null,"If Yes, attach a copy of your exemption certificate."]
[]
[null,null,"Requested Delivery Date"]
[null,null,{"$f":"Start_Here!$C$28","v":0}]
[]
[null,null,{"$f":"Start_Here!$C$26","v":0},null,{"$f":"Start_Here!$C$27","v":0}]
[null,null,"Authorized Buyer (please print)",null,"Phone Number"]
[]
[]
[null,null,"Authorized Buyer Signature"]
[]
[null,null,{"$f":"Start_Here!$C$41","v":"Rep Name"}]
[null,null,"Tennant Representative"]
[]
[null,null,null,"Specialized Maintenance Equipment"]
[null,null,{"$f":"Start_Here!$C$51","v":0}]
[null,null,null,{"$f":"Start_Here!$C$52","v":0}]
[]
[]
[null,"Notes"]
[]
[null,1,"Only available as factory-installed when batteries are ordered with machine."]
[]
[null,2,"A French and English manual will be supplied for all units shipping into Quebec, Canada at no charge.  An additional manual"]
[null,null,"can be ordered (for a total of 3 manuals) for an additional charge as stated under 'Additional Operator Manual'."]
[null,null,null," "]
[null,3,"Skid w/Carton, Non-Stackable is the default packaging method and will be added to the configuration unless otherwise specified."]
[]
[null,4,"Shipping Weights and Dimensions","Skid w/Carton"]
[]
[null,null,"Weight (w/360AH Battery)","650 lbs / 295 Kg"]
[null,null,"Length","68\" / 1,727mm"]
[null,null,"Width","33\" / 838mm"]
[null,null,"Height","48\" / 1,219mm"]

{"sheet":"i_mop_XL","index":25,"n_rows":186,"n_cols":14,"rows_kept":186,"cut":false,"hidden":false,"merged":[[93,3,93,4],[93,5,93,6],[94,3,94,4],[94,5,94,6],[95,3,95,4],[130,0,130,1],[130,2,130,5],[38,2,38,3],[39,2,39,3],[84,4,84,8],[86,3,86,6],[88,3,88,4],[97,5,97,6],[69,3,69,4],[69,5,69,6],[71,3,71,4],[71,5,71,6],[91,3,91,4],[91,5,91,6],[92,3,92,4],[92,5,92,6],[132,2,132,5],[133,0,133,1],[133,2,133,5],[138,0,138,1],[138,2,138,5],[140,0,140,1],[140,2,140,5],[134,0,134,1],[134,2,134,5],[137,0,137,1],[137,2,137,5],[139,2,139,5],[157,4,157,5],[148,2,148,5],[89,3,89,4],[147,2,147,5],[95,5,95,6],[96,3,96,4],[96,5,96,6],[97,3,97,4],[146,2,146,5],[106,1,106,6],[128,4,128,6],[141,0,141,1],[141,2,141,5],[144,4,144,6],[131,0,131,1],[131,2,131,5],[27,2,27,3],[0,2,0,3],[1,2,1,3],[2,2,2,3],[3,2,3,3],[26,2,26,3]]}
["i_mop_XL",null,{"$f":"Start_Here!$C19","v":"Company Name"}]
[{"$f":"SUM(G64)","v":0},null,{"$f":"Start_Here!$C20","v":"Address"}]
[null,null,{"$f":"Start_Here!$C21","v":"City, State Zip"}]
[null,null,{"$f":"Start_Here!$C22","v":"Contact Name"}]
[null,null,{"$f":"Start_Here!$C$41","v":"Rep Name"}]
[null,null,{"$f":"Start_Here!$C$37","v":"Tennant Sales and Service Company"}]
[null,null,{"$f":"Start_Here!$C$38","v":"10400 Clean Street"}]
[null,null,{"$f":"Start_Here!$C$39","v":"Eden Prairie, MN 55344"}]
[null,null,{"$f":"Start_Here!$C$43","v":"800-553-8033"},null,"Quote Date :",null,{"$f":"Letter!$A$25","v":"2023-08-01"}]
[]
[null,null,{"$f":"Help!C2","v":"CAN Date Rev - 5/6/2025"}]
[]
[null,null,"New Machine Warranty",null,null,null,"Fax (quote only)"]
[null,null,"12 MONTHS ON PARTS",null,null,null,"Mail (quote,lit, specs)"]
[null,null,"12 MONTHS – LABOR",null,null,null,"Fax + Mail"]
[null,null,"12 MONTHS – BATTERY"]
[null,null,"90 DAYS – TRAVEL "]
[null,null,null,null,null,null,"Inside"]
[null,null,null,null,null,null,"Outside"]
[]
[]
[null,null,"Description","Reference#","CAD price Each","Qty","Extended Price"]
[]
[null,null,"i-mop XL Plus Lithium-Ion Auto Disk Scrubber",1264254,8732,null,{"$f":"F24*E24","v":0},{"$f":"IFERROR(IFERROR(VLOOKUP(D24,Surcharge!A:B,2,FALSE)*F24, VLOOKUP(D24 & \"\",Surcharge!A:B,2,FALSE)*F24), \"\")","v":""}]
[null,null,"18.1\" (46 cm) cleaning path.  Includes white batteries, removable 1 gal (4 L)  solution and 1.5 gal (6 L) recovery tank with ball float, battery safe guard switch, angle switch & i-Balance lever, removable splash guards, XL Plus charger w/ power cord, 2 medium blue brushes, quick change squeegee assembly with Linatex blades, and multi-language operator manual.",null,null,{"$f":"SUM(F24)","v":0},null,{"$f":"IFERROR(IFERROR(VLOOKUP(D25,Surcharge!A:B,2,FALSE)*F25, VLOOKUP(D25 & \"\",Surcharge!A:B,2,FALSE)*F25), \"\")","v":""}]
[null,null,null,null,null,{"$f":"SUM(F25)","v":0},null,{"$f":"IFERROR(IFERROR(VLOOKUP(D26,Surcharge!A:B,2,FALSE)*F26, VLOOKUP(D26 & \"\",Surcharge!A:B,2,FALSE)*F26), \"\")","v":""}]
[null,null,"Boxed Dimensions:  49.6\" H x 22.4\" W  x 14.6\" L (1260 mm x 570 mm x 370 mm)",null,null,0,null,{"$f":"IFERROR(IFERROR(VLOOKUP(D27,Surcharge!A:B,2,FALSE)*F27, VLOOKUP(D27 & \"\",Surcharge!A:B,2,FALSE)*F27), \"\")","v":""}]
[null,null,"Shipping Weight with Batteries: 77.2 lbs (35 kg)",null,null,0,null,{"$f":"IFERROR(IFERROR(VLOOKUP(D28,Surcharge!A:B,2,FALSE)*F28, VLOOKUP(D28 & \"\",Surcharge!A:B,2,FALSE)*F28), \"\")","v":""}]
[null,null,null,null,null,null,null,{"$f":"IFERROR(IFERROR(VLOOKUP(D29,Surcharge!A:B,2,FALSE)*F29, VLOOKUP(D29 & \"\",Surcharge!A:B,2,FALSE)*F29), \"\")","v":""}]
[null,null,"i-mop XL Plus Lithium-Ion Auto Disk Scrubber + 2 Sets of Batteries",9022386,10445,null,{"$f":"F30*E30","v":0},{"$f":"IFERROR(IFERROR(VLOOKUP(D30,Surcharge!A:B,2,FALSE)*F30, VLOOKUP(D30 & \"\",Surcharge!A:B,2,FALSE)*F30), \"\")","v":""}]
[null,null,"18.1\" (46 cm) cleaning path.  Includes i-mop XL Plus (1264254) with white battery and charger, as well as a second set of spare white batteries (two sets in total).",null,null,{"$f":"SUM(F30)","v":0},null,{"$f":"IFERROR(IFERROR(VLOOKUP(D31,Surcharge!A:B,2,FALSE)*F31, VLOOKUP(D31 & \"\",Surcharge!A:B,2,FALSE)*F31), \"\")","v":""}]
[null,null,null,null,null,{"$f":"SUM(F31)","v":0},null,{"$f":"IFERROR(IFERROR(VLOOKUP(D32,Surcharge!A:B,2,FALSE)*F32, VLOOKUP(D32 & \"\",Surcharge!A:B,2,FALSE)*F32), \"\")","v":""}]
[null,null,"Note: Batteries do not ship in the machine box, but separately.",null,null,0,null,{"$f":"IFERROR(IFERROR(VLOOKUP(D33,Surcharge!A:B,2,FALSE)*F33, VLOOKUP(D33 & \"\",Surcharge!A:B,2,FALSE)*F33), \"\")","v":""}]
[null,null,null,null,null,null,null,{"$f":"IFERROR(IFERROR(VLOOKUP(D34,Surcharge!A:B,2,FALSE)*F34, VLOOKUP(D34 & \"\",Surcharge!A:B,2,FALSE)*F34), \"\")","v":""}]
[null,null,null,null,null,null,null,{"$f":"IFERROR(IFERROR(VLOOKUP(D35,Surcharge!A:B,2,FALSE)*F35, VLOOKUP(D35 & \"\",Surcharge!A:B,2,FALSE)*F35), \"\")","v":""}]
[null,null,"iCart L Integrated Work Cart",1232057,3008.6,null,{"$f":"F36*E36","v":0},{"$f":"IFERROR(IFERROR(VLOOKUP(D36,Surcharge!A:B,2,FALSE)*F36, VLOOKUP(D36 & \"\",Surcharge!A:B,2,FALSE)*F36), \"\")","v":""}]
[null,null,"Transports the i-mop XL, includes ramp, and has storage.  i-mop XL only.",null,null,{"$f":"SUM(F36)","v":0},null,{"$f":"IFERROR(IFERROR(VLOOKUP(D37,Surcharge!A:B,2,FALSE)*F37, VLOOKUP(D37 & \"\",Surcharge!A:B,2,FALSE)*F37), \"\")","v":""}]
[null,null,null,null,null,{"$f":"SUM(F37)","v":0},null,{"$f":"IFERROR(IFERROR(VLOOKUP(D38,Surcharge!A:B,2,FALSE)*F38, VLOOKUP(D38 & \"\",Surcharge!A:B,2,FALSE)*F38), \"\")","v":""}]
[null,null,"Boxed Dimensions:  42.5\" x 34.6\" x 25.2\" (1080 mm x 880 mm x 640 mm)",null,null,0,null,{"$f":"IFERROR(IFERROR(VLOOKUP(D39,Surcharge!A:B,2,FALSE)*F39, VLOOKUP(D39 & \"\",Surcharge!A:B,2,FALSE)*F39), \"\")","v":""}]
[null,null,"Shipping Weight:   132.2 lbs (60 kg)",null,null,0,null,{"$f":"IFERROR(IFERROR(VLOOKUP(D40,Surcharge!A:B,2,FALSE)*F40, VLOOKUP(D40 & \"\",Surcharge!A:B,2,FALSE)*F40), \"\")","v":""}]
[null,null,null,null,null,null,null,{"$f":"IFERROR(IFERROR(VLOOKUP(D41,Surcharge!A:B,2,FALSE)*F41, VLOOKUP(D41 & \"\",Surcharge!A:B,2,FALSE)*F41), \"\")","v":""}]
[null,null,null,null,null,null,null,{"$f":"IFERROR(IFERROR(VLOOKUP(D42,Surcharge!A:B,2,FALSE)*F42, VLOOKUP(D42 & \"\",Surcharge!A:B,2,FALSE)*F42), \"\")","v":""}]
[null,null,"Cabinet Assy, Storage (iMop)",1233400,1929,null,{"$f":"F43*E43","v":0},{"$f":"IFERROR(IFERROR(VLOOKUP(D43,Surcharge!A:B,2,FALSE)*F43, VLOOKUP(D43 & \"\",Surcharge!A:B,2,FALSE)*F43), \"\")","v":""}]
[null,null,"iMop Storage Cabinet",null,null,{"$f":"SUM(F43)","v":0},null,{"$f":"IFERROR(IFERROR(VLOOKUP(D44,Surcharge!A:B,2,FALSE)*F44, VLOOKUP(D44 & \"\",Surcharge!A:B,2,FALSE)*F44), \"\")","v":""}]
[]
[null,null,null,null,null,null,null,{"$f":"IFERROR(IFERROR(VLOOKUP(D46,Surcharge!A:B,2,FALSE)*F46, VLOOKUP(D46 & \"\",Surcharge!A:B,2,FALSE)*F46), \"\")","v":""}]
[]
[]
[null,null,null,null,{"$f":"ROUND(SUM(G23:G48), 0)","v":0},{"$f":"SUM(E50)","v":0}]
[null,null,null,"Machine Subtotal ",{"$f":"ROUND(SUM(G23:G48), 0)","v":0},{"$f":"F49","v":0}]
[null,"Discounts",null,null,null,{"$f":"SUM(F52)","v":0}]
[null,null,null,null,null,{"$f":"SUM(F54:F57)","v":0}]
[null,null,null,"Applicable Currency Adj %",null,{"$f":"IF(E53 <> \"\", 1, 0)","v":0},{"$f":"IF(F53*(E53*0.01)*E49 < 0, F53*(E53*0.01)*E49, -(F53*(E53*0.01)*E49))","v":0}]
[null,null,null,"Discount %",null,{"$f":"IF(E54 <> \"\", 1, 0)","v":0},{"$f":"IF(F54*(E54*0.01)*(E49+G53) < 0, F54*(E54*0.01)*(E49+G53), -(F54*(E54*0.01)*(E49+G53)))","v":0}]
[null,null,null,"Discount $",null,0,{"$f":"IF(F55*E55 < 0, F55*E55, -(F55*E55))","v":0}]
[null,null,null,"Discount $",null,0,{"$f":"IF(F56*E56 < 0, F56*E56, -(F56*E56))","v":0}]
[null,null,null,"Discount $",null,0,{"$f":"IF(F57*E57 < 0, F57*E57, -(F57*E57))","v":0}]
[null,null,null,"Discount Total ",{"$f":"SUM(G53:G57)","v":0},{"$f":"SUM(E58)","v":0}]
[null,null,null,null,null,{"$f":"#REF!","v":{"$error":"#REF!"}}]
[null,null,null,null,null,{"$f":"F59","v":{"$error":"#REF!"}}]
[null,null,"Prepaid and Add","Freight",null,{"$f":"IF(E61 <> \"\", 1, 0)","v":0},{"$f":"F61*E61","v":0}]
[null,null,"Subject to all applicable taxes","Tax",null,0,0]
[null,null,null,null,null,{"$f":"SUM(F64)","v":0}]
[null,null,null,"MACHINE TOTAL*",null,{"$f":"SUM(G64)","v":0},{"$f":"SUM(G23:G62)","v":0},null,null,null,null,null,null,"This goes to \"My Documents\""]
[null,null,null,null,null,null,{"$f":"SUM(G64)","v":0}]
[]
[]
[]
[]
[null,null,"Wells Fargo - Leasing Calculation Option:","Option 1",null,"Option 2",null,null,null,{"$f":"Financing!A38","v":"Rates 2025 - Rev.2/4/2025"}]
[null,null,null,"Monthly Payment","Cost Per Day","Monthly Payment","Cost Per Day",null,null,{"$f":"Financing!A39","v":"“Blank Payment Amounts Indicate The Financing Option Or Purchase Options Selected Are Not "}]
[null,null,"Purchase Option:","$1 Buyout Lease",null,"None",null,null,null,{"$f":"Financing!A40","v":"Applicable Or The Machine Total Is Below The Minimum Amount For The Selected Vendor”"}]
[null,null,"24 Months",0,0,0,0,null,null,{"$f":"Financing!A41","v":"\"Quoted monthly payments are estimates only and are based on a certain level of credit rating."}]
[null,null,"36 Months",0,0,0,0,null,null,{"$f":"Financing!A42","v":"Actual monthly payments may be higher depending on your credit rating.\""}]
[null,null,"48 Months",0,0,0,0,null,null,{"$f":"Financing!A43","v":"“Financing rates do not include Pre-Paid Service”"}]
[null,null,"60 Months",0,0,0,0]
[]
[null,null,null,"Benefits of Equipment Financing:"]
[null,null,null,"• Spreads out investment over time.",null,"• Keep current with latest technology."]
[null,null,null,"• Preserve capital.",null,"• Service and parts bundling available."]
[null,null,null,"• Low monthly payment.",null,"• Pay for labor savings as you go."]
[]
[null,"  TennantTrue",null,0,0]
[]
[null,null,"Is customer interested in service program?","Yes","*State/County selection required for TennantTrue service options"]
[]
[null,null,"If not, why?"]
[]
[null,null,"Term:",36,null,null,"AB Brushes","No"]
[null,null,"Monthly machine usage (hrs):","< 30/mo. (Avg. 1hr./day)"]
[]
[null,null,"TennantTrue: ","Gold Contract",null,"Silver Contract"]
[null,null,"Per Visit"]
[null,null,"Monthly"]
[null,null,"Annually"]
[null,null,"Pre-Pay Full Term"]
[null,null,"Hourly Labor Rate"]
[null,null,"Site Visit"]
[]
[null,null,"* Verify customer current pricing prior to quote. "]
[null,null,"**All rates and fees above reflect service for one (1) unit with the exception of Block of Time service."]
[null,null,"*Block of Time is available in 1 Year Term only and is priced as such no matter the term selection on this template."]
[]
[]
[]
[null,"Quote Special Instructions:"]
[]
[]
[]
[null,{"$f":"Start_Here!E36","v":"Terms and Conditions"}]
[null,{"$f":"Start_Here!E37","v":"Ask your local sales rep for estimated lead times. Verify when placing order"}]
[null,{"$f":"Start_Here!E38","v":"All orders subject to acceptance by Tennant Sales and Service Company, Minneapolis, Minnesota"}]
[null,{"$f":"Start_Here!E39","v":"Prices subject to change without notice. Subject to any applicable taxes."}]
[null,{"$f":"Start_Here!E40","v":"Terms:  Net 30 days.  Payable in Canadian Funds"}]
[null,{"$f":"Start_Here!E41","v":"Freight:  Accessories, parts, supplies, detergents, and floor coatings orders delivered DDP "}]
[null,{"$f":"Start_Here!E42","v":"shipping point Frt PPD.  Machine orders delivered DDP shipping point Frt PPD and add."}]
[null,{"$f":"Start_Here!E43","v":"Returned Merchandise is subject to a restocking fee."}]
[null,{"$f":"Start_Here!E44","v":"All orders are subject to Tennant’s General Terms and Conditions available at http://www.tennantco.com/terms."}]
[null,{"$f":"Start_Here!E45","v":"Printed General Terms and Conditions are also available upon request."}]
[null,{"$f":"Start_Here!E46","v":0}]
[null,{"$f":"Start_Here!E47","v":0}]
[null,{"$f":"Start_Here!E48","v":0}]
[null,null,null,null,"Quote Date :",null,{"$f":"Letter!$A$25","v":"2023-08-01"}]
[null,"Order Placement Information:  To place your order, fill in PO# and customer signatures,"]
[null,"call or fax to the numbers listed below. Customer Purchase Order is required."]
[null,"If information is missing, orders will be entered and held until all information is received."]
[]
[null,null,"Customer Number",null,"Cust Grp 3"]
[null,null,{"$f":"Start_Here!$C$25","v":0},null,{"$f":"Start_Here!$C$29","v":0}]
[null,null,{"$f":"Start_Here!$B$18","v":"Who Owns the Machine? (Sold-To Info) (Please Verify)"}]
["Company",null,{"$f":"Start_Here!$C$19","v":"Company Name"}]
["Address",null,{"$f":"Start_Here!$C$20","v":"Address"}]
[null,null,{"$f":"Start_Here!$C$21","v":"City, State Zip"}]
["Name",null,{"$f":"Start_Here!$C$22","v":"Contact Name"}]
["Phone",null,{"$f":"Start_Here!$C$23","v":"Contact Phone"}]
[]
[null,null,{"$f":"Start_Here!$B$11","v":"Where is the Machine Being Shipped? (Ship-To Info) (Please Verify)"}]
["Company",null,{"$f":"Start_Here!$C$12","v":"Company Name"}]
["Address",null,{"$f":"Start_Here!$C$13","v":"Address"}]
[null,null,{"$f":"Start_Here!$C$14","v":"City, State Zip"}]
["Name",null,{"$f":"Start_Here!$C$15","v":"Contact Name"}]
["Phone",null,{"$f":"Start_Here!$C$16","v":"Contact Phone"}]
[]
[null,null,{"$f":"Start_Here!$B$31","v":"Shipping / Carrier Instructions:"},null,"Order Special Instructions:"]
[null,null,{"$f":"Start_Here!$C$32","v":0}]
[]
[null,null,"Customer Purchase Order No."]
[null,null,"(please attach copy)"]
[]
[]
[null,null,"Tax Exempt",null,"Yes"]
[null,null,null,null,"No"]
[null,null,"If Yes, attach a copy of your exemption certificate."]
[]
[null,null,"Requested Delivery Date"]
[null,null,{"$f":"Start_Here!$C$28","v":0}]
[]
[null,null,{"$f":"Start_Here!$C$26","v":0},null,{"$f":"Start_Here!$C$27","v":0}]
[null,null,"Authorized Buyer (please print)",null,"Phone Number"]
[]
[]
[null,null,"Authorized Buyer Signature"]
[]
[null,null,{"$f":"Start_Here!$C$41","v":"Rep Name"}]
[null,null,"Tennant Representative"]
[]
[null,null,null,"Specialized Maintenance Equipment"]
[null,null,{"$f":"Start_Here!$C$51","v":0}]
[null,null,null,{"$f":"Start_Here!$C$52","v":0}]
[]
[]
[null,"Notes"]
[]
[null,1,"Only available as factory-installed when batteries are ordered with machine."]
[]
[null,2,"A French and English manual will be supplied for all units shipping into Quebec, Canada at no charge.  An additional manual"]
[null,null,"can be ordered (for a total of 3 manuals) for an additional charge as stated under 'Additional Operator Manual'."]
[null,null,null," "]
[null,3,"Skid w/Carton, Non-Stackable is the default packaging method and will be added to the configuration unless otherwise specified."]
[]
[null,4,"Shipping Weights and Dimensions","Skid w/Carton"]
[]
[null,null,"Weight (w/360AH Battery)","650 lbs / 295 Kg"]
[null,null,"Length","68\" / 1,727mm"]
[null,null,"Width","33\" / 838mm"]
[null,null,"Height","48\" / 1,219mm"]

{"sheet":"i_mop_XXL","index":26,"n_rows":177,"n_cols":14,"rows_kept":177,"cut":false,"hidden":false,"merged":[[90,5,90,6],[91,3,91,4],[91,5,91,6],[92,3,92,4],[92,5,92,6],[90,3,90,4],[147,4,147,5],[132,0,132,1],[132,2,132,5],[134,4,134,6],[136,2,136,5],[137,2,137,5],[138,2,138,5],[131,0,131,1],[131,2,131,5],[123,0,123,1],[123,2,123,5],[124,2,124,5],[125,0,125,1],[125,2,125,5],[126,0,126,1],[126,2,126,5],[128,0,128,1],[128,2,128,5],[129,0,129,1],[129,2,129,5],[130,2,130,5],[122,0,122,1],[122,2,122,5],[101,2,101,6],[120,4,120,6],[79,4,79,8],[81,3,81,6],[83,3,83,4],[84,3,84,4],[86,3,86,4],[86,5,86,6],[87,3,87,4],[87,5,87,6],[88,3,88,4],[88,5,88,6],[89,3,89,4],[89,5,89,6],[29,2,29,3],[34,2,34,3],[64,3,64,4],[64,5,64,6],[66,3,66,4],[66,5,66,6],[0,2,0,3],[1,2,1,3],[2,2,2,3],[3,2,3,3],[28,2,28,3]]}
["i_mop_XXL",null,{"$f":"Start_Here!$C19","v":"Company Name"}]
[{"$f":"SUM(G59)","v":0},null,{"$f":"Start_Here!$C20","v":"Address"}]
[null,null,{"$f":"Start_Here!$C21","v":"City, State Zip"}]
[null,null,{"$f":"Start_Here!$C22","v":"Contact Name"}]
[null,null,{"$f":"Start_Here!$C$41","v":"Rep Name"}]
[null,null,{"$f":"Start_Here!$C$37","v":"Tennant Sales and Service Company"}]
[null,null,{"$f":"Start_Here!$C$38","v":"10400 Clean Street"}]
[null,null,{"$f":"Start_Here!$C$39","v":"Eden Prairie, MN 55344"}]
[null,null,{"$f":"Start_Here!$C$43","v":"800-553-8033"},null,"Quote Date :",null,{"$f":"Letter!$A$25","v":"2023-08-01"}]
[]
[null,null,{"$f":"Help!C2","v":"CAN Date Rev - 5/6/2025"}]
[]
[null,null,"EXCLUSIVE FACTORY-DIRECT WARRANTY"]
[null,null,"12 MONTHS - PARTS"]
[null,null,"12 MONTHS LABOR"]
[null,null,"12 MONTHS BATTERY",null,"                Quote Request Information"]
[null,null,"90 DAYS – TRAVEL",null,null,null,"Fax (quote only)"]
[null,null,null,null,null,null,"Mail (quote,lit, specs)"]
[null,null,null,null,null,null,"Fax + Mail"]
[]
[null,null,null,null,null,null,"Inside"]
[null,null,null,null,null,null,"Outside"]
[]
[null,null,"Description","Reference No.","Canada Price","Qty.","Extended Price"]
[null,null,null,null,null,"*"]
[null,null,"i-mop XXL Plus Lithium-Ion Auto Disk Scrubber",1264255,11721,null,{"$f":"F26*E26","v":0},{"$f":"IFERROR(IFERROR(VLOOKUP(D26,Surcharge!A:B,2,FALSE)*F26, VLOOKUP(D26 & \"\",Surcharge!A:B,2,FALSE)*F26), \"\")","v":""}]
[null,null,"24.4\" (62 cm) cleaning path.  Includes gray batteries, removable 1.25 gal (5 L)  solution and 2 gal (8 L) recovery tank with ball float, battery safe guard switch, angle switch & i-Balance lever, removable splash guards, XXL Plus charger w/ power cord, 2 medium blue brushes, quick change squeegee assembly with Linatex blades, and multi-language operator manual.",null,"",{"$f":"SUM(F26)","v":0},null,{"$f":"IFERROR(IFERROR(VLOOKUP(D27,Surcharge!A:B,2,FALSE)*F27, VLOOKUP(D27 & \"\",Surcharge!A:B,2,FALSE)*F27), \"\")","v":""}]
[null,null,null,null,null,{"$f":"SUM(F27)","v":0},null,{"$f":"IFERROR(IFERROR(VLOOKUP(D28,Surcharge!A:B,2,FALSE)*F28, VLOOKUP(D28 & \"\",Surcharge!A:B,2,FALSE)*F28), \"\")","v":""}]
[null,null,"Boxed Dimensions:  49\" H x 25\" W  x 13\" L (1240 mm x 640 mm x 330 mm)",null,null,0,null,{"$f":"IFERROR(IFERROR(VLOOKUP(D29,Surcharge!A:B,2,FALSE)*F29, VLOOKUP(D29 & \"\",Surcharge!A:B,2,FALSE)*F29), \"\")","v":""}]
[null,null,"Shipping Weight with Batteries:  90.2 lbs (40.9 kg)",null,null,0,null,{"$f":"IFERROR(IFERROR(VLOOKUP(D30,Surcharge!A:B,2,FALSE)*F30, VLOOKUP(D30 & \"\",Surcharge!A:B,2,FALSE)*F30), \"\")","v":""}]
[null,null,null,null,null,null,null,{"$f":"IFERROR(IFERROR(VLOOKUP(D31,Surcharge!A:B,2,FALSE)*F31, VLOOKUP(D31 & \"\",Surcharge!A:B,2,FALSE)*F31), \"\")","v":""}]
[null,null,null,null,null,null,null,{"$f":"IFERROR(IFERROR(VLOOKUP(D32,Surcharge!A:B,2,FALSE)*F32, VLOOKUP(D32 & \"\",Surcharge!A:B,2,FALSE)*F32), \"\")","v":""}]
[null,null,"i-mop XXL Plus Lithium-Ion Auto Disk Scrubber + 2 Sets of Batteries",9022387,13901,null,{"$f":"F33*E33","v":0},{"$f":"IFERROR(IFERROR(VLOOKUP(D33,Surcharge!A:B,2,FALSE)*F33, VLOOKUP(D33 & \"\",Surcharge!A:B,2,FALSE)*F33), \"\")","v":""}]
[null,null,"24.4\" (62 cm) cleaning path.  Includes i-mop XXL Plus (1264255) with grey battery and charger, as well as a second set of spare grey batteries (two sets in total).",null,null,{"$f":"SUM(F33)","v":0},null,{"$f":"IFERROR(IFERROR(VLOOKUP(D34,Surcharge!A:B,2,FALSE)*F34, VLOOKUP(D34 & \"\",Surcharge!A:B,2,FALSE)*F34), \"\")","v":""}]
[null,null,"Note: Extra batteries do not ship in machine box, but separately.",null,null,{"$f":"SUM(F34)","v":0},null,{"$f":"IFERROR(IFERROR(VLOOKUP(D35,Surcharge!A:B,2,FALSE)*F35, VLOOKUP(D35 & \"\",Surcharge!A:B,2,FALSE)*F35), \"\")","v":""}]
[null,null,null,null,null,null,null,{"$f":"IFERROR(IFERROR(VLOOKUP(D36,Surcharge!A:B,2,FALSE)*F36, VLOOKUP(D36 & \"\",Surcharge!A:B,2,FALSE)*F36), \"\")","v":""}]
[]
[null,"Custom Solution--write in description, qty, price, and PN if applicable",null,null,null,{"$f":"SUM(F39)","v":0}]
[null,null,null,null,"Insert Prices Here",{"$f":"SUM(F40:F43)","v":0}]
[null,null,null,"Custom",null,{"$f":"IF(E40 <> \"\", 1, 0)","v":0},{"$f":"F40*E40","v":0}]
[null,null,null,"Custom",null,{"$f":"IF(E41 <> \"\", 1, 0)","v":0},{"$f":"F41*E41","v":0}]
[null,null,null,"Custom",null,{"$f":"IF(E42 <> \"\", 1, 0)","v":0},{"$f":"F42*E42","v":0}]
[null,null,null,"Custom",null,{"$f":"IF(E43 <> \"\", 1, 0)","v":0},{"$f":"F43*E43","v":0}]
[null,null,null,null,{"$f":"ROUND(SUM(G26:G43), 0)","v":0},{"$f":"SUM(E45)","v":0}]
[null,null,null,"Machine Subtotal ",{"$f":"ROUND(SUM(G26:G43), 0)","v":0},{"$f":"F44","v":0}]
[null,"Discounts",null,null,null,{"$f":"SUM(F47)","v":0}]
[null,null,null,null,null,{"$f":"SUM(F49:F52)","v":0}]
[null,null,null,"Applicable Currency Adj %",null,{"$f":"IF(E48 <> \"\", 1, 0)","v":0},{"$f":"IF(F48*(E48*0.01)*E44 < 0, F48*(E48*0.01)*E44, -(F48*(E48*0.01)*E44))","v":0}]
[null,null,null,"Discount %",null,{"$f":"IF(E49 <> \"\", 1, 0)","v":0},{"$f":"IF(F49*(E49*0.01)*(E44+G48) < 0, F49*(E49*0.01)*(E44+G48), -(F49*(E49*0.01)*(E44+G48)))","v":0}]
[null,null,null,"Discount $",null,0,{"$f":"IF(F50*E50 < 0, F50*E50, -(F50*E50))","v":0}]
[null,null,null,"Discount $",null,0,{"$f":"IF(F51*E51 < 0, F51*E51, -(F51*E51))","v":0}]
[null,null,null,"Discount $",null,0,{"$f":"IF(F52*E52 < 0, F52*E52, -(F52*E52))","v":0}]
[null,null,null,"Discount Total ",{"$f":"SUM(G48:G52)","v":0},{"$f":"SUM(E53)","v":0}]
[null,null,null,null,null,{"$f":"#REF!","v":{"$error":"#REF!"}}]
[null,null,null,null,null,{"$f":"F54","v":{"$error":"#REF!"}}]
[null,null,"Prepaid and Add","Freight",null,{"$f":"IF(E56 <> \"\", 1, 0)","v":0},{"$f":"F56*E56","v":0}]
[null,null,"Subject to all applicable taxes","Tax",null,{"$f":"IF(E57 <> \"\", 1, 0)","v":0},{"$f":"F57*E57","v":0}]
[null,null,null,null,null,{"$f":"SUM(F59)","v":0}]
[null,null,null,"MACHINE TOTAL*",null,{"$f":"SUM(G59)","v":0},{"$f":"SUM(G26:G57)","v":0},null,null,null,null,null,null,"This goes to \"My Documents\""]
[null,null,null,null,null,null,{"$f":"SUM(G59)","v":0}]
[]
[]
[]
[]
[null,null,"Wells Fargo - Leasing Calculation Option:","Option 1",null,"Option 2",null,null,null,{"$f":"Financing!A38","v":"Rates 2025 - Rev.2/4/2025"}]
[null,null,null,"Monthly Payment","Cost Per Day","Monthly Payment","Cost Per Day",null,null,{"$f":"Financing!A39","v":"“Blank Payment Amounts Indicate The Financing Option Or Purchase Options Selected Are Not "}]
[null,null,"Purchase Option:","$1 Buyout Lease",null,"None",null,null,null,{"$f":"Financing!A40","v":"Applicable Or The Machine Total Is Below The Minimum Amount For The Selected Vendor”"}]
[null,null,"24 Months",0,0,0,0,null,null,{"$f":"Financing!A41","v":"\"Quoted monthly payments are estimates only and are based on a certain level of credit rating."}]
[null,null,"36 Months",0,0,0,0,null,null,{"$f":"Financing!A42","v":"Actual monthly payments may be higher depending on your credit rating.\""}]
[null,null,"48 Months",0,0,0,0,null,null,{"$f":"Financing!A43","v":"“Financing rates do not include Pre-Paid Service”"}]
[null,null,"60 Months",0,0,0,0,null,{"$f":"Financing!A44","v":0}]
[]
[null,null,null,"Benefits of Equipment Financing:"]
[null,null,null,"• Spreads out investment over time.",null,"• Keep current with latest technology."]
[null,null,null,"• Preserve capital.",null,"• Service and parts bundling available."]
[null,null,null,"• Low monthly payment.",null,"• Pay for labor savings as you go."]
[]
[null,"   TennantTrue",null,null,0,0]
[]
[null,null,"Is customer interested in service program?","Yes","*State/County selection required for TennantTrue service options"]
[]
[null,null,"If not, why?"]
[]
[null,null,"Term:",36,null,null,"AB Brushes","No"]
[null,null,"Monthly machine usage (hrs):","< 30/mo. (Avg. 1hr./day)"]
[]
[null,null,"TennantTrue: ","Gold Contract",null,"Silver Contract"]
[null,null,"Per Visit"]
[null,null,"Monthly"]
[null,null,"Annually"]
[null,null,"Pre-Pay Full Term"]
[null,null,"Hourly Labor Rate"]
[null,null,"Site Visit"]
[]
[null,null,"* Verify customer current pricing prior to quote. "]
[null,null,"**All rates and fees above reflect service for one (1) unit with the exception of Block of Time service."]
[null,null,"*Block of Time is available in 1 Year Term only and is priced as such no matter the term selection on this template."]
[]
[]
[]
[null,null,"Quote Special Instructions:"]
[]
[]
[null,null,{"$f":"Start_Here!E36","v":"Terms and Conditions"}]
[null,null,{"$f":"Start_Here!E37","v":"Ask your local sales rep for estimated lead times. Verify when placing order"}]
[null,null,{"$f":"Start_Here!E38","v":"All orders subject to acceptance by Tennant Sales and Service Company, Minneapolis, Minnesota"}]
[null,null,{"$f":"Start_Here!E39","v":"Prices subject to change without notice. Subject to any applicable taxes."}]
[null,null,{"$f":"Start_Here!E40","v":"Terms:  Net 30 days.  Payable in Canadian Funds"}]
[null,null,{"$f":"Start_Here!E41","v":"Freight:  Accessories, parts, supplies, detergents, and floor coatings orders delivered DDP "}]
[null,null,{"$f":"Start_Here!E42","v":"shipping point Frt PPD.  Machine orders delivered DDP shipping point Frt PPD and add."}]
[null,null,{"$f":"Start_Here!E43","v":"Returned Merchandise is subject to a restocking fee."}]
[null,null,{"$f":"Start_Here!E45","v":"Printed General Terms and Conditions are also available upon request."}]
[null,null,{"$f":"Start_Here!E46","v":0}]
[]
[]
[null,null,null,null,"Quote Date :",null,{"$f":"Letter!$A$25","v":"2023-08-01"}]
["Order Placement Information:  To place your order, fill in PO# and customer signatures,"]
["call or fax to the numbers listed below. Customer Purchase Order is required."]
["If information is missing, orders will be entered and held until all information is received."]
[null,null,"Customer Number",null,"Cust Grp 3"]
[null,null,{"$f":"Start_Here!$C$25","v":0},null,{"$f":"Start_Here!$C$29","v":0}]
[null,null,{"$f":"Start_Here!$B$18","v":"Who Owns the Machine? (Sold-To Info) (Please Verify)"}]
["Company",null,{"$f":"Start_Here!$C$19","v":"Company Name"}]
["Address",null,{"$f":"Start_Here!$C$20","v":"Address"}]
[null,null,{"$f":"Start_Here!$C$21","v":"City, State Zip"}]
["Name",null,{"$f":"Start_Here!$C$22","v":"Contact Name"}]
["Phone",null,{"$f":"Start_Here!$C$23","v":"Contact Phone"}]
[null,null,{"$f":"Start_Here!$B$11","v":"Where is the Machine Being Shipped? (Ship-To Info) (Please Verify)"}]
["Company",null,{"$f":"Start_Here!$C$12","v":"Company Name"}]
["Address",null,{"$f":"Start_Here!$C$13","v":"Address"}]
[null,null,{"$f":"Start_Here!$C$14","v":"City, State Zip"}]
["Name",null,{"$f":"Start_Here!$C$15","v":"Contact Name"}]
["Phone",null,{"$f":"Start_Here!$C$16","v":"Contact Phone"}]
[null,null,{"$f":"Start_Here!$B$31","v":"Shipping / Carrier Instructions:"},null,"Order Special Instructions:"]
[null,null,{"$f":"Start_Here!$C$32","v":0}]
[]
[null,null,"Customer Purchase Order No."]
[null,null,"(please attach copy)"]
[]
[]
[null,null,"Tax Exempt",null,"Yes"]
[null,null,null,null,"No"]
[null,null,"If Yes, attach a copy of your exemption certificate."]
[]
[null,null,"Requested Delivery Date"]
[null,null,{"$f":"Start_Here!$C$28","v":0}]
[]
[null,null,{"$f":"Start_Here!$C$26","v":0},null,{"$f":"Start_Here!$C$27","v":0}]
[null,null,"Authorized Buyer (please print)",null,"Phone Number"]
[]
[]
[null,null,"Authorized Buyer Signature"]
[]
[null,null,{"$f":"Start_Here!$C$41","v":"Rep Name"}]
[null,null,"Tennant Representative"]
[]
["Specialized Maintenance Equipment"]
[{"$f":"Start_Here!$C$48","v":"TENNANT · 10400 Clean Street · Eden Prairie, MN 55344 ·"}]
[{"$f":"Start_Here!$C$49","v":" PHONE:800-553-8033 · FAX:763-513-2116"}]
[]
[null,"Special Information "]
[]
[]
[null,"1","Pre-Configured Machines cannot add or change options.  All units are packaged on a Skid w/Carton and will ship via LTL Carrier."]
[null,null,"When ordering, provide the reference number listed above.  Price does not include freight or tax.  Availability of units "]
[null,null,"and lead time may vary."]
[]
[null,"2","One pad driver comes standard with a T2."]
[]
[null,3,"Skid w/Carton, Stackable is the default packaging method and will be added to the configuration unless otherwise specified."]
[]
[null,4,"Machine Weights and dimensions","Skid w/Carton"]
[]
[null,null,"Weight (w/105AH battery)","331 lbs / 150 Kg"]
[null,null,"Length","47\" / 1200mm"]
[null,null,"Width","30\" / 750mm"]
[null,null,"Height","45\" / 1150mm"]

{"sheet":"CS5_CS16","index":27,"n_rows":162,"n_cols":17,"rows_kept":162,"cut":false,"hidden":false,"merged":[[0,2,0,3],[1,2,1,3],[2,2,2,3],[3,2,3,3],[28,2,28,3],[29,2,29,3],[60,3,60,4],[60,5,60,6],[62,3,62,4],[62,5,62,6],[37,2,37,3],[38,2,38,3],[78,3,78,6],[76,4,76,8],[80,3,80,4],[81,3,81,4],[83,3,83,4],[83,5,83,6],[84,3,84,4],[84,5,84,6],[85,3,85,4],[85,5,85,6],[86,3,86,4],[86,5,86,6],[87,3,87,4],[87,5,87,6],[129,2,129,5],[88,3,88,4],[88,5,88,6],[89,3,89,4],[89,5,89,6],[100,3,101,6],[104,1,104,6],[123,4,123,7],[125,2,125,5],[126,2,126,5],[127,2,127,5],[128,2,128,5],[141,2,141,5],[150,4,150,5],[131,2,131,5],[132,2,132,5],[133,2,133,5],[134,2,134,5],[135,2,135,5],[137,4,137,7]]}
["CS5_CS16",null,{"$f":"Start_Here!$C19","v":"Company Name"}]
[{"$f":"SUM(G56)","v":0},null,{"$f":"Start_Here!$C20","v":"Address"}]
[null,null,{"$f":"Start_Here!$C21","v":"City, State Zip"}]
[null,null,{"$f":"Start_Here!$C22","v":"Contact Name"}]
[null,null,{"$f":"Start_Here!$C$41","v":"Rep Name"}]
[null,null,{"$f":"Start_Here!$C$37","v":"Tennant Sales and Service Company"}]
[null,null,{"$f":"Start_Here!$C$38","v":"10400 Clean Street"}]
[null,null,{"$f":"Start_Here!$C$39","v":"Eden Prairie, MN 55344"}]
[null,null,{"$f":"Start_Here!$C$43","v":"800-553-8033"},null,"Quote Date :",null,{"$f":"Letter!$A$25","v":"2023-08-01"}]
[]
[null,null,{"$f":"Help!C2","v":"CAN Date Rev - 5/6/2025"}]
[]
[]
[null,null,"EXCLUSIVE FACTORY-DIRECT WARRANTY-CS5"]
[null,null,"12 MONTHS - PARTS"]
[null,null,"12 MONTHS BATTERY",null,"                Quote Request Information"]
[null,null,null,null,null,null,"Fax (quote only)"]
[null,null,"EXCLUSIVE FACTORY-DIRECT WARRANTY -CS16",null,null,null,"Mail (quote,lit, specs)"]
[null,null,"12 MONTHS PARTS AND LABOR",null,null,null,"Fax + Mail"]
[null,null,"12 MONTHS BATTERY"]
[null,null,"3 MONTHS TRAVEL",null,"                Primary Use"]
[null,null,"1 YEAR ON Rotationally Molded Components",null,null,null,"Inside"]
[null,null,null,null,null,null,"Outside"]
[null,null,"Description","Reference # ","Price","Qty.","Extended Price"]
[]
[null,null,"CS5 Li-ON Battery Micro-scrubber ",1251580,3802,null,{"$f":"F26*E26","v":0},null,null,null,null,null,null,null,null,null,{"$f":"VLOOKUP(D26,'MPF SAP Canada Pre-Configured'!C:E,3,FALSE)","v":4224}]
[null,null,"11\" cleaning path.  Includes 5.5 AH Lithium ion battery, removable, fill and dump nearly anywhere 1.3 gallon (5 liter) solution & recovery tanks, forward and reverse dry system, foldable handle, medium polyproplylene brush, Linatex squeegees, charger with power cord and multi-language operator manual.",null,null,{"$f":"SUM(F26)","v":0}]
[null,null,null,null,null,{"$f":"SUM(F27)","v":0}]
[null,null,"Boxed Dimensions:  31.5\" L x 15.74\" W x 18.5\" H (800 mm x 400 mm x 470 mm)",null,null,0]
[null,null,"Shipping Weight 48.62 lbs/ 22 kg",null,null,0]
[]
[]
[null,null,"CS16 Sealed AGM Battery Micro-Scrubber","LPTB03328",6123,null,{"$f":"F33*E33","v":0},null,null,null,null,null,null,null,null,null,{"$f":"VLOOKUP(D33,'MPF SAP Canada Pre-Configured'!C:E,3,FALSE)","v":5944}]
[null,null,"14\" cleaning path. Includes 2 x12V Sealed AGM battery, foldable handle, removeable 3.9 gal (15 L) solution and 4.4 gal (16.5 L) recovery tank. Plus charger w/ power cord, medium bristle polypropylene brush, squeegee, and multi-language operator manual.",null,null,{"$f":"SUM(F33)","v":0}]
[null,null,"CS16 Li-Ion Battery Micro-Scrubber","LPTB03794",6544,null,{"$f":"F35*E35","v":0}]
[null,null,"14\" cleaning path. Includes 1 x 24V Li-Ion battery, foldable handle, removeable 3.9 gal (15 L) solution and 4.4 gal (16.5 L) recovery tank. Plus onboard charger, medium bristle polypropylene brush, squeegee, and multi-language operator manual.",null,null,{"$f":"SUM(F35)","v":0}]
[]
[null,null,"Boxed Dimensions: 31.9\" L x 18.1\" W x 27.6\" H (810 mm x 460 mm x 700 mm)",null,null,{"$f":"SUM(F37)","v":0}]
[null,null,"Shipping Weight: 125.7 lbs/ 57 kg",null,null,{"$f":"SUM(F38)","v":0}]
[]
[]
[null,null,null,null,{"$f":"ROUND(SUM(G26:G41), 0)","v":0},{"$f":"SUM(E43)","v":0}]
[null,null,null,"Machine Subtotal ",{"$f":"ROUND(SUM(G26:G41), 0)","v":0},{"$f":"F42","v":0}]
[null,"Discounts",null,null,null,{"$f":"SUM(F45)","v":0}]
[null,null,null,null,null,{"$f":"SUM(F47:F50)","v":0}]
[null,null,null,"Applicable Currency Adj %",null,{"$f":"IF(E46 <> \"\", 1, 0)","v":0},{"$f":"IF(F46*(E46*0.01)*E42 < 0, F46*(E46*0.01)*E42, -(F46*(E46*0.01)*E42))","v":0}]
[null,null,null,"Discount %",null,{"$f":"IF(E47 <> \"\", 1, 0)","v":0},{"$f":"IF(F47*(E47*0.01)*(E42+G46) < 0, F47*(E47*0.01)*(E42+G46), -(F47*(E47*0.01)*(E42+G46)))","v":0}]
[null,null,null,"Discount $",null,0,{"$f":"IF(F48*E48 < 0, F48*E48, -(F48*E48))","v":0}]
[null,null,null,"Discount $",null,0,{"$f":"IF(F49*E49 < 0, F49*E49, -(F49*E49))","v":0}]
[null,null,null,"Discount $",null,0,{"$f":"IF(F50*E50 < 0, F50*E50, -(F50*E50))","v":0}]
[null,null,null,"Discount Total ",{"$f":"SUM(G46:G50)","v":0},{"$f":"SUM(E51)","v":0}]
[null,null,null,null,null,{"$f":"#REF!","v":{"$error":"#REF!"}}]
[null,null,"Prepaid and Add","Freight",null,{"$f":"IF(E53 <> \"\", 1, 0)","v":0},{"$f":"F53*E53","v":0}]
[null,null,"Subject to all applicable taxes","Tax",null,0,0]
[null,null,null,null,null,{"$f":"SUM(F56)","v":0}]
[null,null,null,"MACHINE TOTAL*",null,{"$f":"SUM(G56)","v":0},{"$f":"SUM(G26:G54)","v":0},null,null,null,null,null,null,"This goes to \"My Documents\""]
[null,null,null,null,null,null,{"$f":"G56","v":0}]
[]
[]
[]
[null,null,"Wells Fargo - Leasing Calculation Option:","Option 1",null,"Option 2",null,null,null,{"$f":"Financing!A38","v":"Rates 2025 - Rev.2/4/2025"}]
[null,null,null,"Monthly Payment","Cost Per Day","Monthly Payment","Cost Per Day",null,null,{"$f":"Financing!A39","v":"“Blank Payment Amounts Indicate The Financing Option Or Purchase Options Selected Are Not "}]
[null,null,"Purchase Option:","$1 Buyout Lease",null,"None",null,null,null,{"$f":"Financing!A40","v":"Applicable Or The Machine Total Is Below The Minimum Amount For The Selected Vendor”"}]
[null,null,"24 Months",0,0,0,0,null,null,{"$f":"Financing!A41","v":"\"Quoted monthly payments are estimates only and are based on a certain level of credit rating."}]
[null,null,"36 Months",0,0,0,0,null,null,{"$f":"Financing!A42","v":"Actual monthly payments may be higher depending on your credit rating.\""}]
[null,null,"48 Months",0,0,0,0,null,null,{"$f":"Financing!A43","v":"“Financing rates do not include Pre-Paid Service”"}]
[null,null,"60 Months",0,0,0,0,null,{"$f":"Financing!A44","v":0}]
[]
[null,null,null,"Benefits of Equipment Financing:"]
[null,null,null,"• Spreads out investment over time.",null,"• Keep current with latest technology."]
[null,null,null,"• Preserve capital.",null,"• Service and parts bundling available."]
[null,null,null,"• Low monthly payment.",null,"• Pay for labor savings as you go."]
[]
[]
[null,"  TennantTrue"]
[]
[null,null,"Is customer interested in service program?","Yes","*State/County selection required for TennantTrue service options"]
[]
[null,null,"If not, why?"]
[]
[null,null,"Term:",36,null,"AB Brushes","No"]
[null,null,"Monthly machine usage (hrs):","< 30/mo. (Avg. 1hr./day)"]
[]
[null,null,"TennantTrue: ","Gold Contract",null,"Silver Contract"]
[null,null,"Per Visit"]
[null,null,"Monthly"]
[null,null,"Annually"]
[null,null,"Pre-Pay Full Term"]
[null,null,"Hourly Labor Rate"]
[null,null,"Site Visit"]
[]
[null,null,"* Verify customer current pricing prior to quote. "]
[null,null,"**All rates and fees above reflect service for one (1) unit with the exception of Block of Time service."]
[null,null,"*Block of Time is available in 1 Year Term only and is priced as such no matter the term selection on this template."]
[]
[]
[null,"Servicing"]
[]
[null,null,"Is customer interested in a service plan?","No"]
[]
[null,null,"If not, why?"]
[]
[]
[null,"Quote Special Instructions:"]
[]
[]
[null,null,{"$f":"Start_Here!E36","v":"Terms and Conditions"}]
[null,null,{"$f":"Start_Here!E37","v":"Ask your local sales rep for estimated lead times. Verify when placing order"}]
[null,null,{"$f":"Start_Here!E38","v":"All orders subject to acceptance by Tennant Sales and Service Company, Minneapolis, Minnesota"}]
[null,null,{"$f":"Start_Here!E39","v":"Prices subject to change without notice. Subject to any applicable taxes."}]
[null,null,{"$f":"Start_Here!E40","v":"Terms:  Net 30 days.  Payable in Canadian Funds"}]
[null,null,{"$f":"Start_Here!E41","v":"Freight:  Accessories, parts, supplies, detergents, and floor coatings orders delivered DDP "}]
[null,null,{"$f":"Start_Here!E42","v":"shipping point Frt PPD.  Machine orders delivered DDP shipping point Frt PPD and add."}]
[null,null,{"$f":"Start_Here!E43","v":"Returned Merchandise is subject to a restocking fee."}]
[null,null,{"$f":"Start_Here!E44","v":"All orders are subject to Tennant’s General Terms and Conditions available at http://www.tennantco.com/terms."}]
[null,null,{"$f":"Start_Here!E45","v":"Printed General Terms and Conditions are also available upon request."}]
[null,null,{"$f":"Start_Here!E46","v":0}]
[]
[null,null,null,null,"Quote Date :",null,{"$f":"Letter!$A$25","v":"2023-08-01"}]
["Order Placement Information:  To place your order, fill in PO# and customer signatures,"]
["call or fax to the numbers listed below. Customer Purchase Order is required."]
["If information is missing, orders will be entered and held until all information is received."]
[null,null,"Customer Number",null,"Cust Grp 3"]
[null,null,{"$f":"Start_Here!$C$25","v":0},null,{"$f":"Start_Here!$C$29","v":0}]
[null,null,{"$f":"Start_Here!$B$18","v":"Who Owns the Machine? (Sold-To Info) (Please Verify)"}]
["Company",null,{"$f":"Start_Here!$C$19","v":"Company Name"}]
["Address",null,{"$f":"Start_Here!$C$20","v":"Address"}]
[null,null,{"$f":"Start_Here!$C$21","v":"City, State Zip"}]
["Name",null,{"$f":"Start_Here!$C$22","v":"Contact Name"}]
["Phone",null,{"$f":"Start_Here!$C$23","v":"Contact Phone"}]
[null,null,{"$f":"Start_Here!$B$11","v":"Where is the Machine Being Shipped? (Ship-To Info) (Please Verify)"}]
["Company",null,{"$f":"Start_Here!$C$12","v":"Company Name"}]
["Address",null,{"$f":"Start_Here!$C$13","v":"Address"}]
[null,null,{"$f":"Start_Here!$C$14","v":"City, State Zip"}]
["Name",null,{"$f":"Start_Here!$C$15","v":"Contact Name"}]
["Phone",null,{"$f":"Start_Here!$C$16","v":"Contact Phone"}]
[null,null,{"$f":"Start_Here!$B$31","v":"Shipping / Carrier Instructions:"},null,"Order Special Instructions:"]
[null,null,{"$f":"Start_Here!$C$32","v":0}]
[]
[null,null,"Customer Purchase Order No."]
[null,null,"(please attach copy)"]
[]
[]
[null,null,"Tax Exempt",null,"Yes"]
[null,null,null,null,"No"]
[null,null,"If Yes, attach a copy of your exemption certificate."]
[]
[null,null,"Requested Delivery Date"]
[null,null,{"$f":"Start_Here!$C$28","v":0}]
[]
[null,null,{"$f":"Start_Here!$C$26","v":0},null,{"$f":"Start_Here!$C$27","v":0}]
[null,0,"Authorized Buyer (please print)",null,"Phone Number"]
[]
[]
[null,0,"Authorized Buyer Signature"]
[]
[null,null,{"$f":"Start_Here!$C$41","v":"Rep Name"}]
[null,null,"Tennant Representative"]
[]
["Specialized Maintenance Equipment"]
[{"$f":"Start_Here!$C$48","v":"TENNANT · 10400 Clean Street · Eden Prairie, MN 55344 ·"}]
[{"$f":"Start_Here!$C$49","v":" PHONE:800-553-8033 · FAX:763-513-2116"}]

{"sheet":"Sweepers","index":28,"n_rows":173,"n_cols":16,"rows_kept":173,"cut":false,"hidden":false,"merged":[[117,0,117,1],[117,2,117,5],[118,0,118,1],[118,2,118,5],[115,4,115,6],[56,3,56,4],[56,5,56,6],[58,3,58,4],[58,5,58,6],[93,1,93,6],[78,3,78,4],[78,5,78,6],[79,3,79,4],[79,5,79,6],[80,3,80,4],[80,5,80,6],[83,5,83,6],[128,0,128,1],[128,2,128,5],[119,2,119,5],[120,0,120,1],[120,2,120,5],[121,0,121,1],[121,2,121,5],[124,0,124,1],[124,2,124,5],[125,0,125,1],[127,0,127,1],[125,2,125,5],[126,2,126,5],[127,2,127,5],[144,4,144,5],[71,4,71,8],[73,3,73,6],[75,3,75,4],[76,3,76,4],[135,2,135,5],[131,4,131,6],[133,2,133,5],[134,2,134,5],[84,3,84,4],[84,5,84,6],[81,3,81,4],[81,5,81,6],[82,3,82,4],[82,5,82,6],[83,3,83,4],[24,2,24,3],[0,2,0,3],[1,2,1,3],[2,2,2,3],[3,2,3,3]]}
["Sweepers",null,{"$f":"Start_Here!$C19","v":"Company Name"}]
[{"$f":"SUM(G51)","v":0},null,{"$f":"Start_Here!$C20","v":"Address"}]
[null,null,{"$f":"Start_Here!$C21","v":"City, State Zip"}]
[null,null,{"$f":"Start_Here!$C22","v":"Contact Name"}]
[null,null,{"$f":"Start_Here!$C$41","v":"Rep Name"}]
[null,null,{"$f":"Start_Here!$C$37","v":"Tennant Sales and Service Company"}]
[null,null,{"$f":"Start_Here!$C$38","v":"10400 Clean Street"}]
[null,null,{"$f":"Start_Here!$C$39","v":"Eden Prairie, MN 55344"}]
[null,null,{"$f":"Start_Here!$C$43","v":"800-553-8033"},null,"Quote Date :",null,{"$f":"Letter!$A$25","v":"2023-08-01"}]
[]
[null,null,{"$f":"Help!C2","v":"CAN Date Rev - 5/6/2025"}]
[null,null,null,null,null,null,"Fax (quote only)"]
[null,null,"New Machine Warranty",null,null,null,"Mail (quote,lit, specs)"]
[null,null,"SCOUT 6 & 7",null,null,null,"Fax + Mail"]
[null,null,"12 MONTHS - PARTS"]
[null,null,"12 MONTHS - LABOR"]
[null,null,"3 MONTHS TRAVEL",null,null,null,"Inside"]
[null,null,null,null,null,null,"Outside"]
[]
[]
[null,null,"Description","Reference#","Canada Price Each","Qty","Extended Price"]
[null,null,null,null,null,{"$f":"SUM(F23)","v":0},null,{"$f":"IFERROR(IFERROR(VLOOKUP(D22,Surcharge!A:B,2,FALSE)*F22, VLOOKUP(D22 & \"\",Surcharge!A:B,2,FALSE)*F22), \"\")","v":""}]
[null,null,"Scout 6 - 25 in (635 mm) Battery Walk-Behind Sweeper ",1251270,4745,null,{"$f":"F23*E23","v":0},{"$f":"IFERROR(IFERROR(VLOOKUP(D29,Surcharge!A:B,2,FALSE)*F23, VLOOKUP(D29 & \"\",Surcharge!A:B,2,FALSE)*F23), \"\")","v":""},null,null,null,null,null,null,null,{"$f":"VLOOKUP(D23,'MPF SAP Canada Pre-Configured'!C:E,3,FALSE)","v":4606}]
[null,null,"25\" (635mm) cleaning path, 1.25 cu. Ft (35 L) hopper capacity, 42 AH sealed battery and on-board charger.",null,null,{"$f":"SUM(F23)","v":0}]
[null,null,"Boxed dimensions on pallet: 34.25 in x 21.75 in x 25 in  (L 870 x W 550 x H 630) ",null,null,{"$f":"SUM(F24)","v":0}]
[null,null,"Shipping Weight :  123lb/56kg  / Cu. Ft.: 10.8 ",null,null,0]
[]
[null,null,null,null,null,{"$f":"SUM(F29)","v":0},null,{"$f":"IFERROR(IFERROR(VLOOKUP(D28,Surcharge!A:B,2,FALSE)*F28, VLOOKUP(D28 & \"\",Surcharge!A:B,2,FALSE)*F28), \"\")","v":""}]
[null,null,"Scout 7 - 28 in (700 mm) Battery Walk-Behind Sweeper ",1251274,9483,null,{"$f":"F29*E29","v":0},{"$f":"IFERROR(IFERROR(VLOOKUP(#REF!,Surcharge!A:B,2,FALSE)*F29, VLOOKUP(#REF! & \"\",Surcharge!A:B,2,FALSE)*F29), \"\")","v":""},null,null,null,null,null,null,null,{"$f":"VLOOKUP(D29,'MPF SAP Canada Pre-Configured'!C:E,3,FALSE)","v":9206}]
[null,null,"28\" (700mm) cleaning path, 1.6 cu. Ft (45 L) hopper capacity,  140AH sealed battery on-board charger.",null,null,{"$f":"SUM(F29)","v":0}]
[null,null,"Boxed dimensions: 47.25 in x 31.5 in x 41.5 in  (L 1200 x W 800 x H 1050) ",null,null,{"$f":"SUM(F30)","v":0}]
[null,null,"Shipping Weight :  319 lb/144.5kg  / Cu. Ft.: 35.75 ",null,null,0]
[]
[]
[]
[null,null,null,null,{"$f":"ROUND(SUM(G22:G35), 0)","v":0},{"$f":"SUM(E37)","v":0}]
[null,null,null,"Machine Subtotal ",{"$f":"ROUND(SUM(G22:G35), 0)","v":0},{"$f":"F36","v":0}]
[null,"Discounts",null,null,null,{"$f":"SUM(F39)","v":0}]
[null,null,null,null,null,{"$f":"SUM(F41:F44)","v":0}]
[null,null,null,"Applicable Currency Adj %",null,{"$f":"IF(E40 <> \"\", 1, 0)","v":0},{"$f":"IF(F40*(E40*0.01)*E36 < 0, F40*(E40*0.01)*E36, -(F40*(E40*0.01)*E36))","v":0}]
[null,null,null,"Discount %",null,{"$f":"IF(E41 <> \"\", 1, 0)","v":0},{"$f":"IF(F41*(E41*0.01)*(E36+G40) < 0, F41*(E41*0.01)*(E36+G40), -(F41*(E41*0.01)*(E36+G40)))","v":0}]
[null,null,null,"Discount $",null,0,{"$f":"IF(F42*E42 < 0, F42*E42, -(F42*E42))","v":0}]
[null,null,null,"Discount $",null,0,{"$f":"IF(F43*E43 < 0, F43*E43, -(F43*E43))","v":0}]
[null,null,null,"Discount $",null,0,{"$f":"IF(F44*E44 < 0, F44*E44, -(F44*E44))","v":0}]
[null,null,null,"Discount Total ",{"$f":"SUM(G40:G44)","v":0},{"$f":"SUM(E45)","v":0}]
[null,null,null,null,null,{"$f":"#REF!","v":{"$error":"#REF!"}}]
[null,null,null,null,null,{"$f":"F46","v":{"$error":"#REF!"}}]
[null,null,"Prepaid and Add","Freight",null,{"$f":"IF(E48 <> \"\", 1, 0)","v":0},{"$f":"F48*E48","v":0}]
[null,null,"Subject to all applicable taxes","Tax",null,0,0]
[null,null,null,null,null,{"$f":"SUM(F51)","v":0}]
[null,null,null,"MACHINE TOTAL*",null,{"$f":"SUM(G51)","v":0},{"$f":"SUM(G22:G49)","v":0},null,null,null,null,null,null,"This goes to \"My Documents\""]
[null,null,null,null,null,null,{"$f":"SUM(G51)","v":0}]
[]
[]
[]
[]
[null,null,"Wells Fargo - Leasing Calculation Option:","Option 1",null,"Option 2",null,null,null,{"$f":"Financing!A38","v":"Rates 2025 - Rev.2/4/2025"}]
[null,null,null,"Monthly Payment","Cost Per Day","Monthly Payment","Cost Per Day",null,null,{"$f":"Financing!A39","v":"“Blank Payment Amounts Indicate The Financing Option Or Purchase Options Selected Are Not "}]
[null,null,"Purchase Option:","$1 Buyout Lease",null,"None",null,null,null,{"$f":"Financing!A40","v":"Applicable Or The Machine Total Is Below The Minimum Amount For The Selected Vendor”"}]
[null,null,"24 Months",0,0,0,0,null,null,{"$f":"Financing!A41","v":"\"Quoted monthly payments are estimates only and are based on a certain level of credit rating."}]
[null,null,"36 Months",0,0,0,0,null,null,{"$f":"Financing!A42","v":"Actual monthly payments may be higher depending on your credit rating.\""}]
[null,null,"48 Months",0,0,0,0,null,null,{"$f":"Financing!A43","v":"“Financing rates do not include Pre-Paid Service”"}]
[null,null,"60 Months",0,0,0,0,null,null,{"$f":"Financing!A44","v":0}]
[]
[null,null,null,"Benefits of Equipment Financing:"]
[null,null,null,"• Spreads out investment over time.",null,"• Keep current with latest technology."]
[null,null,null,"• Preserve capital.",null,"• Service and parts bundling available."]
[null,null,null,"• Low monthly payment.",null,"• Pay for labor savings as you go."]
[]
[null,"  TennantTrue",null,0,0]
[]
[null,null,"Is customer interested in service program?","Yes","*State/County selection required for TennantTrue service options"]
[]
[null,null,"If not, why?"]
[]
[null,null,"Term:",36,null,null,"AB Brushes","No"]
[null,null,"Monthly machine usage (hrs):","< 30/mo. (Avg. 1hr./day)"]
[]
[null,null,"TennantTrue: ","Gold Contract",null,"Silver Contract"]
[null,null,"Per Visit",null,null,425]
[null,null,"Monthly",112,null,69]
[null,null,"Annually",null,null,816]
[null,null,"Pre-Pay Full Term",3882,null,2397]
[null,null,"Hourly Labor Rate"]
[null,null,"Site Visit"]
[]
[null,null,"* Verify customer current pricing prior to quote. "]
[null,null,"**All rates and fees above reflect service for one (1) unit with the exception of Block of Time service."]
[null,null,"*Block of Time is available in 1 Year Term only and is priced as such no matter the term selection on this template."]
[]
[]
[]
[null,"Quote Special Instructions:"]
[]
[]
[]
[null,{"$f":"Start_Here!E36","v":"Terms and Conditions"}]
[null,{"$f":"Start_Here!E37","v":"Ask your local sales rep for estimated lead times. Verify when placing order"}]
[null,{"$f":"Start_Here!E38","v":"All orders subject to acceptance by Tennant Sales and Service Company, Minneapolis, Minnesota"}]
[null,{"$f":"Start_Here!E39","v":"Prices subject to change without notice. Subject to any applicable taxes."}]
[null,{"$f":"Start_Here!E40","v":"Terms:  Net 30 days.  Payable in Canadian Funds"}]
[null,{"$f":"Start_Here!E41","v":"Freight:  Accessories, parts, supplies, detergents, and floor coatings orders delivered DDP "}]
[null,{"$f":"Start_Here!E42","v":"shipping point Frt PPD.  Machine orders delivered DDP shipping point Frt PPD and add."}]
[null,{"$f":"Start_Here!E43","v":"Returned Merchandise is subject to a restocking fee."}]
[null,{"$f":"Start_Here!E44","v":"All orders are subject to Tennant’s General Terms and Conditions available at http://www.tennantco.com/terms."}]
[null,{"$f":"Start_Here!E45","v":"Printed General Terms and Conditions are also available upon request."}]
[null,{"$f":"Start_Here!E46","v":0}]
[null,{"$f":"Start_Here!E47","v":0}]
[null,{"$f":"Start_Here!E48","v":0}]
[null,null,null,null,"Quote Date :",null,{"$f":"Letter!$A$25","v":"2023-08-01"}]
[null,"Order Placement Information:  To place your order, fill in PO# and customer signatures,"]
[null,"call or fax to the numbers listed below. Customer Purchase Order is required."]
[null,"If information is missing, orders will be entered and held until all information is received."]
[]
[null,null,"Customer Number",null,"Cust Grp 3"]
[null,null,{"$f":"Start_Here!$C$25","v":0},null,{"$f":"Start_Here!$C$29","v":0}]
[null,null,{"$f":"Start_Here!$B$18","v":"Who Owns the Machine? (Sold-To Info) (Please Verify)"}]
["Company",null,{"$f":"Start_Here!$C$19","v":"Company Name"}]
["Address",null,{"$f":"Start_Here!$C$20","v":"Address"}]
[null,null,{"$f":"Start_Here!$C$21","v":"City, State Zip"}]
["Name",null,{"$f":"Start_Here!$C$22","v":"Contact Name"}]
["Phone",null,{"$f":"Start_Here!$C$23","v":"Contact Phone"}]
[]
[null,null,{"$f":"Start_Here!$B$11","v":"Where is the Machine Being Shipped? (Ship-To Info) (Please Verify)"}]
["Company",null,{"$f":"Start_Here!$C$12","v":"Company Name"}]
["Address",null,{"$f":"Start_Here!$C$13","v":"Address"}]
[null,null,{"$f":"Start_Here!$C$14","v":"City, State Zip"}]
["Name",null,{"$f":"Start_Here!$C$15","v":"Contact Name"}]
["Phone",null,{"$f":"Start_Here!$C$16","v":"Contact Phone"}]
[]
[null,null,{"$f":"Start_Here!$B$31","v":"Shipping / Carrier Instructions:"},null,"Order Special Instructions:"]
[null,null,{"$f":"Start_Here!$C$32","v":0}]
[]
[null,null,"Customer Purchase Order No."]
[null,null,"(please attach copy)"]
[]
[]
[null,null,"Tax Exempt",null,"Yes"]
[null,null,null,null,"No"]
[null,null,"If Yes, attach a copy of your exemption certificate."]
[]
[null,null,"Requested Delivery Date"]
[null,null,{"$f":"Start_Here!$C$28","v":0}]
[]
[null,null,{"$f":"Start_Here!$C$26","v":0},null,{"$f":"Start_Here!$C$27","v":0}]
[null,null,"Authorized Buyer (please print)",null,"Phone Number"]
[]
[]
[null,null,"Authorized Buyer Signature"]
[]
[null,null,{"$f":"Start_Here!$C$41","v":"Rep Name"}]
[null,null,"Tennant Representative"]
[]
[null,null,null,"Specialized Maintenance Equipment"]
[null,null,{"$f":"Start_Here!$C$51","v":0}]
[null,null,null,{"$f":"Start_Here!$C$52","v":0}]
[]
[]
[null,"Notes"]
[]
[null,1,"Only available as factory-installed when batteries are ordered with machine."]
[]
[null,2,"A French and English manual will be supplied for all units shipping into Quebec, Canada at no charge.  An additional manual"]
[null,null,"can be ordered (for a total of 3 manuals) for an additional charge as stated under 'Additional Operator Manual'."]
[null,null,null," "]
[null,3,"Skid w/Carton, Non-Stackable is the default packaging method and will be added to the configuration unless otherwise specified."]
[]
[null,4,"Shipping Weights and Dimensions","Skid w/Carton"]
[]
[null,null,"Weight (w/360AH Battery)","650 lbs / 295 Kg"]
[null,null,"Length","68\" / 1,727mm"]
[null,null,"Width","33\" / 838mm"]
[null,null,"Height","48\" / 1,219mm"]

{"sheet":"S680","index":29,"n_rows":218,"n_cols":14,"rows_kept":218,"cut":false,"hidden":false,"merged":[[196,4,196,5],[29,2,29,6],[30,2,30,6],[31,2,31,6],[32,2,32,6],[33,2,33,6],[187,2,187,5],[136,3,136,4],[136,5,136,6],[145,1,145,6],[167,4,167,6],[169,0,169,1],[169,2,169,5],[133,3,133,4],[133,5,133,6],[134,3,134,4],[180,0,180,1],[180,2,180,5],[183,4,183,6],[185,2,185,5],[186,2,186,5],[179,0,179,1],[179,2,179,5],[170,0,170,1],[170,2,170,5],[171,2,171,5],[172,0,172,1],[172,2,172,5],[173,0,173,1],[173,2,173,5],[176,0,176,1],[176,2,176,5],[177,0,177,1],[177,2,177,5],[178,2,178,5],[134,5,134,6],[135,3,135,4],[135,5,135,6],[128,3,128,4],[130,3,130,4],[130,5,130,6],[131,3,131,4],[131,5,131,6],[132,3,132,4],[132,5,132,6],[108,5,108,6],[110,3,110,4],[110,5,110,6],[123,4,123,8],[125,3,125,6],[127,3,127,4],[34,2,34,3],[108,3,108,4],[0,2,0,3],[1,2,1,3],[2,2,2,3],[3,2,3,3],[12,2,12,3]]}
["S680",null,{"$f":"Start_Here!$C19","v":"Company Name"}]
[{"$f":"SUM(G103)","v":0},null,{"$f":"Start_Here!$C20","v":"Address"}]
[null,null,{"$f":"Start_Here!$C21","v":"City, State Zip"}]
[null,null,{"$f":"Start_Here!$C22","v":"Contact Name"}]
[null,null,{"$f":"Start_Here!$C$41","v":"Rep Name"}]
[null,null,{"$f":"Start_Here!$C$37","v":"Tennant Sales and Service Company"}]
[null,null,{"$f":"Start_Here!$C$38","v":"10400 Clean Street"}]
[null,null,{"$f":"Start_Here!$C$39","v":"Eden Prairie, MN 55344"}]
[null,null,{"$f":"Start_Here!$C$43","v":"800-553-8033"},null,"Quote Date :",null,{"$f":"Letter!$A$25","v":"2023-08-01"}]
[]
[null,null,{"$f":"Help!C2","v":"CAN Date Rev - 5/6/2025"}]
[]
[null,null,"BUILT-IN “NOBLES VALUE” INCLUDES:"]
[]
[null,null,"42\" (1050 mm) Sweep Path",null,"Horn"]
[null,null,"2.5 ft3 / 70L Low-Dump Hopper Volume Capacity",null,"Low Effort Steering"]
[null,null,"Corrosion-Proof Hopper & Shrouds",null,"Adjustable Side Brush RPM"]
[null,null,"Front Corner Rollers",null,"360o Visibility"]
[null,null,"Flap and Trap Debris Pedal",null,"Self-Leveling Main Brush"]
[null,null,"High Visibility Operation Decals",null,"Amber Strobe Light"]
[null,null,"Glide-In/Out Wheeled Hopper",null,"Thermo-Sentry™ Hopper Fire Sensor"]
[null,null,"Retractable Side Brush Assemblies",null,"Wet 225AH C/20 Batteries"]
[null,null,"Hour Meter",null,"27A 85-270V AC 50/60Hz 1Ph Charger"]
[null,null,"Standard Main Sweeping Brush (Select One)",null,"Battery Discharge Indicator"]
[null,null,"Standard Dual Side Sweeping Brushes",null,"Power Shutdown Switch"]
[null,null,"No-Tool Main Brush & Filter Change",null,"Operator Manual"]
[null,null,"Seat occupancy interlock safety switch"]
[]
[]
[null,null,"TENNANT COMPANY WARRANTY"]
[null,null,"2 YEARS OR 1000 HOURS - PARTS"]
[null,null,"6 MONTHS - LABOR"]
[null,null,"6 MONTHS - TRAVEL"]
[null,null,"10 YEARS ON DURAMERTM HOPPER"]
[]
[]
[]
[null,null,null,null,"                Quote Request Information"]
[null,null,null,null,null,null,"Fax (quote only)"]
[null,null,null,null,null,null,"Mail (quote,lit, specs)"]
[null,null,null,null,null,null,"Fax + Mail"]
[]
[null,null,null,null,"                Primary Use"]
[null,null,null,null,null,null,"Inside"]
[null,null,null,null,null,null,"Outside"]
[]
[]
[null,null,"Description","Reference #","Price Each","Qty","Extended Price"]
[null,null,null,null,null,"*"]
[null,"Base Configuration",null,null,"Price",{"$f":"SUM(F51,F55,F60)","v":0}]
[null,null,"Cleaning Type",null,null,{"$f":"SUM(F52:F53)","v":0}]
[null,null,"S680 Ride-On Sweeper 1050 mm/42\" w/ Dual Side Brushes","S680_1050",22907,null,{"$f":"F52*E52","v":0},{"$f":"IFERROR(IFERROR(VLOOKUP(D52,Surcharge!A:B,2,FALSE)*F52, VLOOKUP(D52 & \"\",Surcharge!A:B,2,FALSE)*F52), \"\")","v":""}]
[null,null,null,null,null,null,null,{"$f":"IFERROR(IFERROR(VLOOKUP(D53,Surcharge!A:B,2,FALSE)*F53, VLOOKUP(D53 & \"\",Surcharge!A:B,2,FALSE)*F53), \"\")","v":""}]
[null,null,"Battery Type",null,null,{"$f":"SUM(F55:F57)","v":0},null,{"$f":"IFERROR(IFERROR(VLOOKUP(D54,Surcharge!A:B,2,FALSE)*F54, VLOOKUP(D54 & \"\",Surcharge!A:B,2,FALSE)*F54), \"\")","v":""}]
[null,null,"Wet 225AH C/20",9022613,"N/C",null,{"$f":"IF(F55=0,\" \",\"N/C\")","v":" "},{"$f":"IFERROR(IFERROR(VLOOKUP(D55,Surcharge!A:B,2,FALSE)*F55, VLOOKUP(D55 & \"\",Surcharge!A:B,2,FALSE)*F55), \"\")","v":""}]
[null,null,"Sealed/MF AGM 245AH C/20",9022614,1556,null,{"$f":"F56*E56","v":0},{"$f":"IFERROR(IFERROR(VLOOKUP(D56,Surcharge!A:B,2,FALSE)*F56, VLOOKUP(D56 & \"\",Surcharge!A:B,2,FALSE)*F56), \"\")","v":""}]
[null,null,"Without Battery","LESS BATTERY",-630,null,{"$f":"F57*E57","v":0},{"$f":"IFERROR(IFERROR(VLOOKUP(D57,Surcharge!A:B,2,FALSE)*F57, VLOOKUP(D57 & \"\",Surcharge!A:B,2,FALSE)*F57), \"\")","v":""}]
[null,null,null,null,null,null,null,{"$f":"IFERROR(IFERROR(VLOOKUP(D58,Surcharge!A:B,2,FALSE)*F58, VLOOKUP(D58 & \"\",Surcharge!A:B,2,FALSE)*F58), \"\")","v":""}]
[null,null,"Charger",null,null,{"$f":"SUM(F60:F61)","v":0},null,{"$f":"IFERROR(IFERROR(VLOOKUP(D59,Surcharge!A:B,2,FALSE)*F59, VLOOKUP(D59 & \"\",Surcharge!A:B,2,FALSE)*F59), \"\")","v":""}]
[null,null,"27A 85-270V AC 50/60Hz 1Ph - Off Board",9015391,"N/C",null,{"$f":"IF(F60=0,\" \",\"N/C\")","v":" "},{"$f":"IFERROR(IFERROR(VLOOKUP(D60,Surcharge!A:B,2,FALSE)*F60, VLOOKUP(D60 & \"\",Surcharge!A:B,2,FALSE)*F60), \"\")","v":""}]
[null,null,"Without Charger","LESS CHARGER",-378,null,{"$f":"F61*E61","v":0},{"$f":"IFERROR(IFERROR(VLOOKUP(D61,Surcharge!A:B,2,FALSE)*F61, VLOOKUP(D61 & \"\",Surcharge!A:B,2,FALSE)*F61), \"\")","v":""}]
[null,null,null,null,null,null,null,{"$f":"IFERROR(IFERROR(VLOOKUP(D62,Surcharge!A:B,2,FALSE)*F62, VLOOKUP(D62 & \"\",Surcharge!A:B,2,FALSE)*F62), \"\")","v":""}]
[null,"Packages",null,null,null,{"$f":"SUM(F64)","v":0},null,{"$f":"IFERROR(IFERROR(VLOOKUP(D63,Surcharge!A:B,2,FALSE)*F63, VLOOKUP(D63 & \"\",Surcharge!A:B,2,FALSE)*F63), \"\")","v":""}]
[null,null,"Carpet Care Package  (Note 1)",9022636,69,null,{"$f":"F64*E64","v":0},{"$f":"IFERROR(IFERROR(VLOOKUP(D64,Surcharge!A:B,2,FALSE)*F64, VLOOKUP(D64 & \"\",Surcharge!A:B,2,FALSE)*F64), \"\")","v":""}]
[null,null,null,null,null,{"$f":"SUM(F64)","v":0},null,{"$f":"IFERROR(IFERROR(VLOOKUP(D65,Surcharge!A:B,2,FALSE)*F65, VLOOKUP(D65 & \"\",Surcharge!A:B,2,FALSE)*F65), \"\")","v":""}]
[null,"Brushes and Pads",null,null,null,{"$f":"SUM(F67,F72)","v":0},null,{"$f":"IFERROR(IFERROR(VLOOKUP(D66,Surcharge!A:B,2,FALSE)*F66, VLOOKUP(D66 & \"\",Surcharge!A:B,2,FALSE)*F66), \"\")","v":""}]
[null,null,"Main Sweeping Brushes",null,null,{"$f":"SUM(F68:F70)","v":0},null,{"$f":"IFERROR(IFERROR(VLOOKUP(D67,Surcharge!A:B,2,FALSE)*F67, VLOOKUP(D67 & \"\",Surcharge!A:B,2,FALSE)*F67), \"\")","v":""}]
[null,null,"Polypropylene Brush",9022617,"N/C",null,{"$f":"IF(F68=0,\" \",\"N/C\")","v":" "},{"$f":"IFERROR(IFERROR(VLOOKUP(D68,Surcharge!A:B,2,FALSE)*F68, VLOOKUP(D68 & \"\",Surcharge!A:B,2,FALSE)*F68), \"\")","v":""}]
[null,null,"Polypropylene and Wire Brush",9022619,"N/C",null," ",{"$f":"IFERROR(IFERROR(VLOOKUP(D69,Surcharge!A:B,2,FALSE)*F69, VLOOKUP(D69 & \"\",Surcharge!A:B,2,FALSE)*F69), \"\")","v":""}]
[null,null,"Natural Fiber Brush  (Note 1)",9022618,231,null,{"$f":"F70*E70","v":0},{"$f":"IFERROR(IFERROR(VLOOKUP(D70,Surcharge!A:B,2,FALSE)*F70, VLOOKUP(D70 & \"\",Surcharge!A:B,2,FALSE)*F70), \"\")","v":""}]
[null,null,null,null,null,null,null,{"$f":"IFERROR(IFERROR(VLOOKUP(D71,Surcharge!A:B,2,FALSE)*F71, VLOOKUP(D71 & \"\",Surcharge!A:B,2,FALSE)*F71), \"\")","v":""}]
[null,null,"Side Sweeping Brushes",null,null,{"$f":"SUM(F73)","v":0},null,{"$f":"IFERROR(IFERROR(VLOOKUP(D72,Surcharge!A:B,2,FALSE)*F72, VLOOKUP(D72 & \"\",Surcharge!A:B,2,FALSE)*F72), \"\")","v":""}]
[null,null,"Polypropylene Brush",null,"N/C",null,{"$f":"IF(F73=0,\" \",\"N/C\")","v":" "},{"$f":"IFERROR(IFERROR(VLOOKUP(D73,Surcharge!A:B,2,FALSE)*F73, VLOOKUP(D73 & \"\",Surcharge!A:B,2,FALSE)*F73), \"\")","v":""}]
[null,null,null,null,null,null,null,{"$f":"IFERROR(IFERROR(VLOOKUP(D74,Surcharge!A:B,2,FALSE)*F74, VLOOKUP(D74 & \"\",Surcharge!A:B,2,FALSE)*F74), \"\")","v":""}]
[null,"Support",null,null,null,{"$f":"SUM(F76)","v":0},null,{"$f":"IFERROR(IFERROR(VLOOKUP(D75,Surcharge!A:B,2,FALSE)*F75, VLOOKUP(D75 & \"\",Surcharge!A:B,2,FALSE)*F75), \"\")","v":""}]
[null,null,"Standard Warranty",null,"N/C",null,{"$f":"IF(F76=0,\" \",\"N/C\")","v":" "}]
[]
[null,null,"Packaging  ",null,null,{"$f":"SUM(F79:F79)","v":0},null,{"$f":"IFERROR(IFERROR(VLOOKUP(D78,Surcharge!A:B,2,FALSE)*F78, VLOOKUP(D78 & \"\",Surcharge!A:B,2,FALSE)*F78), \"\")","v":""}]
[null,null,"Skid w/Carton, Non-Stackable",null,"N/C",null,{"$f":"IF(F79=0,\" \",\"N/C\")","v":" "}]
[]
[]
[null,"Custom Solution--write in description, qty, price, and PN if applicable",null,null,null,{"$f":"SUM(F83)","v":0}]
[null,null,null,null,"Insert Prices Here",{"$f":"SUM(F84:F87)","v":0}]
[null,null,null,"Custom",null,{"$f":"IF(E84 <> \"\", 1, 0)","v":0},{"$f":"F84*E84","v":0}]
[null,null,null,"Custom",null,{"$f":"IF(E85 <> \"\", 1, 0)","v":0},{"$f":"F85*E85","v":0}]
[null,null,null,"Custom",null,0,{"$f":"F86*E86","v":0}]
[null,null,null,"Custom",null,0,{"$f":"F87*E87","v":0}]
[null,null,null,null,{"$f":"ROUND(SUM(G52:G87), 0)","v":0},{"$f":"SUM(E89)","v":0}]
[null,null,null,"Machine Subtotal ",{"$f":"ROUND(SUM(G52:G87), 0)","v":0},{"$f":"F88","v":0}]
[null,"Discounts",null,null,null,{"$f":"SUM(F91)","v":0}]
[null,null,null,null,null,{"$f":"SUM(F93:F96)","v":0}]
[null,null,null,"Applicable Currency Adj %",null,{"$f":"IF(E92 <> \"\", 1, 0)","v":0},{"$f":"IF(F92*(E92*0.01)*E88 < 0, F92*(E92*0.01)*E88, -(F92*(E92*0.01)*E88))","v":0}]
[null,null,null,"Discount %",null,0,{"$f":"IF(F93*(E93*0.01)*(E88+G92) < 0, F93*(E93*0.01)*(E88+G92), -(F93*(E93*0.01)*(E88+G92)))","v":0}]
[null,null,null,"Discount $",null,0,{"$f":"IF(F94*E94 < 0, F94*E94, -(F94*E94))","v":0}]
[null,null,null,"Discount $",null,0,{"$f":"IF(F95*E95 < 0, F95*E95, -(F95*E95))","v":0}]
[null,null,null,"Discount $",null,0,{"$f":"IF(F96*E96 < 0, F96*E96, -(F96*E96))","v":0}]
[null,null,null,"Discount Total ",{"$f":"SUM(G92:G96)","v":0},{"$f":"SUM(E97)","v":0}]
[null,null,null,null,null,{"$f":"#REF!","v":{"$error":"#REF!"}}]
[null,null,null,null,null,{"$f":"F98","v":{"$error":"#REF!"}}]
[null,null,"Prepaid and Add","Freight",null,{"$f":"IF(E100 <> \"\", 1, 0)","v":0},{"$f":"F100*E100","v":0}]
[null,null,"Subject to all applicable taxes","Tax",null,0,0]
[null,null,null,null,null,{"$f":"SUM(F103)","v":0}]
[null,null,null,"MACHINE TOTAL*",null,{"$f":"SUM(G103)","v":0},{"$f":"SUM(G52:G101)","v":0},null,null,null,null,null,null,"This goes to \"My Documents\""]
[null,null,null,null,null,null,{"$f":"SUM(G103)","v":0}]
[]
[]
[]
[]
[null,null,"Wells Fargo - Leasing Calculation Option:","Option 1",null,"Option 2",null,null,null,{"$f":"Financing!A38","v":"Rates 2025 - Rev.2/4/2025"}]
[null,null,null,"Monthly Payment","Cost Per Day","Monthly Payment","Cost Per Day",null,null,{"$f":"Financing!A39","v":"“Blank Payment Amounts Indicate The Financing Option Or Purchase Options Selected Are Not "}]
[null,null,"Purchase Option:","$1 Buyout Lease",null,"None",null,null,null,{"$f":"Financing!A40","v":"Applicable Or The Machine Total Is Below The Minimum Amount For The Selected Vendor”"}]
[null,null,"24 Months",0,0,0,0,null,null,{"$f":"Financing!A41","v":"\"Quoted monthly payments are estimates only and are based on a certain level of credit rating."}]
[null,null,"36 Months",0,0,0,0,null,null,{"$f":"Financing!A42","v":"Actual monthly payments may be higher depending on your credit rating.\""}]
[null,null,"48 Months",0,0,0,0,null,null,{"$f":"Financing!A43","v":"“Financing rates do not include Pre-Paid Service”"}]
[null,null,"60 Months",0,0,0,0]
[]
[null,null,null,"Benefits of Equipment Financing:"]
[null,null,null,"• Spreads out investment over time.",null,"• Keep current with latest technology."]
[null,null,null,"• Preserve capital.",null,"• Service and parts bundling available."]
[null,null,null,"• Low monthly payment.",null,"• Pay for labor savings as you go."]
[]
[null,"  TennantTrue",null,0,0]
[]
[null,null,"Is customer interested in service program?","Yes","*State/County selection required for TennantTrue service options"]
[]
[null,null,"If not, why?"]
[]
[null,null,"Term:",36,null,null,"AB Brushes","No"]
[null,null,"Monthly machine usage (hrs):","< 30/mo. (Avg. 1hr./day)"]
[]
[null,null,"TennantTrue: ","Gold Contract",null,"Silver Contract"]
[null,null,"Per Visit",null,null,473]
[null,null,"Monthly",208,null,99]
[null,null,"Annually",null,null,1160]
[null,null,"Pre-Pay Full Term",7200,null,3411]
[null,null,"Hourly Labor Rate"]
[null,null,"Site Visit"]
[]
[null,null,"* Verify customer current pricing prior to quote. "]
[null,null,"**All rates and fees above reflect service for one (1) unit with the exception of Block of Time service."]
[null,null,"*Block of Time is available in 1 Year Term only and is priced as such no matter the term selection on this template."]
[]
[]
[]
[null,"Quote Special Instructions:"]
[]
[]
[]
[null,{"$f":"Start_Here!E36","v":"Terms and Conditions"}]
[null,{"$f":"Start_Here!E37","v":"Ask your local sales rep for estimated lead times. Verify when placing order"}]
[null,{"$f":"Start_Here!E38","v":"All orders subject to acceptance by Tennant Sales and Service Company, Minneapolis, Minnesota"}]
[null,{"$f":"Start_Here!E39","v":"Prices subject to change without notice. Subject to any applicable taxes."}]
[null,{"$f":"Start_Here!E40","v":"Terms:  Net 30 days.  Payable in Canadian Funds"}]
[null,{"$f":"Start_Here!E41","v":"Freight:  Accessories, parts, supplies, detergents, and floor coatings orders delivered DDP "}]
[null,{"$f":"Start_Here!E42","v":"shipping point Frt PPD.  Machine orders delivered DDP shipping point Frt PPD and add."}]
[null,{"$f":"Start_Here!E43","v":"Returned Merchandise is subject to a restocking fee."}]
[null,{"$f":"Start_Here!E44","v":"All orders are subject to Tennant’s General Terms and Conditions available at http://www.tennantco.com/terms."}]
[null,{"$f":"Start_Here!E45","v":"Printed General Terms and Conditions are also available upon request."}]
[null,{"$f":"Start_Here!E46","v":0}]
[null,{"$f":"Start_Here!E47","v":0}]
[null,{"$f":"Start_Here!E48","v":0}]
[null,null,null,null,"Quote Date :",null,{"$f":"Letter!$A$25","v":"2023-08-01"}]
[null,"Order Placement Information:  To place your order, fill in PO# and customer signatures,"]
[null,"call or fax to the numbers listed below. Customer Purchase Order is required."]
[null,"If information is missing, orders will be entered and held until all information is received."]
[]
[null,null,"Customer Number",null,"Cust Grp 3"]
[null,null,{"$f":"Start_Here!$C$25","v":0},null,{"$f":"Start_Here!$C$29","v":0}]
[null,null,{"$f":"Start_Here!$B$18","v":"Who Owns the Machine? (Sold-To Info) (Please Verify)"}]
["Company",null,{"$f":"Start_Here!$C$19","v":"Company Name"}]
["Address",null,{"$f":"Start_Here!$C$20","v":"Address"}]
[null,null,{"$f":"Start_Here!$C$21","v":"City, State Zip"}]
["Name",null,{"$f":"Start_Here!$C$22","v":"Contact Name"}]
["Phone",null,{"$f":"Start_Here!$C$23","v":"Contact Phone"}]
[]
[null,null,{"$f":"Start_Here!$B$11","v":"Where is the Machine Being Shipped? (Ship-To Info) (Please Verify)"}]
["Company",null,{"$f":"Start_Here!$C$12","v":"Company Name"}]
["Address",null,{"$f":"Start_Here!$C$13","v":"Address"}]
[null,null,{"$f":"Start_Here!$C$14","v":"City, State Zip"}]
["Name",null,{"$f":"Start_Here!$C$15","v":"Contact Name"}]
["Phone",null,{"$f":"Start_Here!$C$16","v":"Contact Phone"}]
[]
[null,null,{"$f":"Start_Here!$B$31","v":"Shipping / Carrier Instructions:"},null,"Order Special Instructions:"]
[null,null,{"$f":"Start_Here!$C$32","v":0}]
[]
[null,null,"Customer Purchase Order No."]
[null,null,"(please attach copy)"]
[]
[]
[null,null,"Tax Exempt",null,"Yes"]
[null,null,null,null,"No"]
[null,null,"If Yes, attach a copy of your exemption certificate."]
[]
[null,null,"Requested Delivery Date"]
[null,null,{"$f":"Start_Here!$C$28","v":0}]
[]
[null,null,{"$f":"Start_Here!$C$26","v":0},null,{"$f":"Start_Here!$C$27","v":0}]
[null,null,"Authorized Buyer (please print)",null,"Phone Number"]
[]
[]
[null,null,"Authorized Buyer Signature"]
[]
[null,null,{"$f":"Start_Here!$C$41","v":"Rep Name"}]
[null,null,"Tennant Representative"]
[]
[null,null,null,"Specialized Maintenance Equipment"]
[null,null,{"$f":"Start_Here!$C$51","v":0}]
[null,null,null,{"$f":"Start_Here!$C$52","v":0}]
[null,"Notes"]
[]
[null,1,"Natural Fiber Brush is mandator when the Carpet Care Package is selected."]
[]
[null,2,"Shipping Weights and Dimensions",null,"Crate"]
[]
[null,null,"Weight",null,"184 Kg / 406 lbs"]
[null,null,"Length",null,"1530 mm / 61\""]
[null,null,"Width",null,"950 mm / 38\""]
[null,null,"Height",null,"1460 mm / 58\""]

{"sheet":"S880","index":30,"n_rows":213,"n_cols":14,"rows_kept":213,"cut":false,"hidden":false,"merged":[[193,4,193,5],[177,0,177,1],[177,2,177,5],[180,4,180,6],[182,2,182,5],[183,2,183,5],[184,2,184,5],[176,0,176,1],[176,2,176,5],[167,0,167,1],[167,2,167,5],[168,2,168,5],[169,0,169,1],[169,2,169,5],[170,0,170,1],[170,2,170,5],[173,0,173,1],[173,2,173,5],[174,0,174,1],[174,2,174,5],[175,2,175,5],[133,3,133,4],[133,5,133,6],[142,1,142,6],[164,4,164,6],[166,0,166,1],[166,2,166,5],[130,3,130,4],[130,5,130,6],[131,3,131,4],[131,5,131,6],[132,3,132,4],[132,5,132,6],[127,3,127,4],[127,5,127,6],[128,3,128,4],[128,5,128,6],[129,3,129,4],[129,5,129,6],[125,3,125,4],[30,2,30,6],[31,2,31,6],[32,2,32,6],[33,2,33,6],[34,2,34,3],[105,3,105,4],[105,5,105,6],[107,3,107,4],[107,5,107,6],[120,4,120,8],[122,3,122,6],[124,3,124,4],[29,2,29,6],[0,2,0,3],[1,2,1,3],[2,2,2,3],[3,2,3,3],[12,2,12,3]]}
["S880",null,{"$f":"Start_Here!$C19","v":"Company Name"}]
[{"$f":"SUM(G100)","v":0},null,{"$f":"Start_Here!$C20","v":"Address"}]
[null,null,{"$f":"Start_Here!$C21","v":"City, State Zip"}]
[null,null,{"$f":"Start_Here!$C22","v":"Contact Name"}]
[null,null,{"$f":"Start_Here!$C$41","v":"Rep Name"}]
[null,null,{"$f":"Start_Here!$C$37","v":"Tennant Sales and Service Company"}]
[null,null,{"$f":"Start_Here!$C$38","v":"10400 Clean Street"}]
[null,null,{"$f":"Start_Here!$C$39","v":"Eden Prairie, MN 55344"}]
[null,null,{"$f":"Start_Here!$C$43","v":"800-553-8033"},null,"Quote Date :",null,{"$f":"Letter!$A$25","v":"2023-08-01"}]
[]
[null,null,{"$f":"Help!C2","v":"CAN Date Rev - 5/6/2025"}]
[]
[null,null,"BUILT-IN “NOBLES VALUE” INCLUDES:"]
[]
[null,null,"48\" (1200 mm) Sweep Path",null,"Hour Meter"]
[null,null,"2.4 ft3 / 67L High-Dump Hopper Volume Capacity",null,"Low Effort Steering"]
[null,null,"Corrosion-Proof Shrouds",null,"Adjustable Side Brush RPM"]
[null,null,"Front Corner Rollers",null,"360o Visibility"]
[null,null,"Front Bumpers",null,"Seat occupancy interlock safety switch"]
[null,null,"Flap and Trap Debris Pedal",null,"Amber Strobe Light"]
[null,null,"High Visibility Operation Decals",null,"Thermo-Sentry™ Hopper Fire Sensor"]
[null,null,"Horn",null,"Wet 225AH C/20 Batteries"]
[null,null,"Retractable Side Brush Assemblies",null,"27A 85-270V AC 50/60Hz 1Ph Charger"]
[null,null,"Standard Main Sweeping Brush (Select One)",null,"Battery Discharge Indicator"]
[null,null,"Standard Dual Side Sweeping Brushes",null,"Power Shutdown Switch"]
[null,null,"No-Tool Main Brush Change",null,"Operator Manual"]
[]
[]
[]
[null,null,"TENNANT COMPANY WARRANTY"]
[null,null,"2 YEARS OR 1000 HOURS - PARTS"]
[null,null,"6 MONTHS - LABOR"]
[null,null,"6 MONTHS - TRAVEL"]
[]
[]
[]
[]
[null,null,null,null,"                Quote Request Information"]
[null,null,null,null,null,null,"Fax (quote only)"]
[null,null,null,null,null,null,"Mail (quote,lit, specs)"]
[null,null,null,null,null,null,"Fax + Mail"]
[]
[null,null,null,null,"                Primary Use"]
[null,null,null,null,null,null,"Inside"]
[null,null,null,null,null,null,"Outside"]
[]
[]
[null,null,"Description","Reference #","Price Each","Qty","Extended Price"]
[null,null,null,null,null,"*"]
[null,"Base Configuration",null,null,"Price",{"$f":"SUM(F51,F54,F59)","v":0}]
[null,null,"Cleaning Type",null,null,{"$f":"SUM(F52:F53)","v":0}]
[null,null,"S880 Ride-On Sweeper 1200 mm/48\" w/ Dual Side Brushes","S880_1200",32051,null,{"$f":"F52*E52","v":0},{"$f":"IFERROR(IFERROR(VLOOKUP(D52,Surcharge!A:B,2,FALSE)*F52, VLOOKUP(D52 & \"\",Surcharge!A:B,2,FALSE)*F52), \"\")","v":""}]
[null,null,null,null,null,null,null,{"$f":"IFERROR(IFERROR(VLOOKUP(D53,Surcharge!A:B,2,FALSE)*F53, VLOOKUP(D53 & \"\",Surcharge!A:B,2,FALSE)*F53), \"\")","v":""}]
[null,null,"Battery Type",null,null,{"$f":"SUM(F55:F57)","v":0},null,{"$f":"IFERROR(IFERROR(VLOOKUP(D54,Surcharge!A:B,2,FALSE)*F54, VLOOKUP(D54 & \"\",Surcharge!A:B,2,FALSE)*F54), \"\")","v":""}]
[null,null,"Wet 225AH C/20",9022613,"N/C",null,{"$f":"IF(F55=0,\" \",\"N/C\")","v":" "},{"$f":"IFERROR(IFERROR(VLOOKUP(D55,Surcharge!A:B,2,FALSE)*F55, VLOOKUP(D55 & \"\",Surcharge!A:B,2,FALSE)*F55), \"\")","v":""}]
[null,null,"Sealed/MF AGM 245AH C/20",9022614,1556,null,{"$f":"F56*E56","v":0},{"$f":"IFERROR(IFERROR(VLOOKUP(D56,Surcharge!A:B,2,FALSE)*F56, VLOOKUP(D56 & \"\",Surcharge!A:B,2,FALSE)*F56), \"\")","v":""}]
[null,null,"Without Battery","LESS BATTERY",-630,null,{"$f":"F57*E57","v":0},{"$f":"IFERROR(IFERROR(VLOOKUP(D57,Surcharge!A:B,2,FALSE)*F57, VLOOKUP(D57 & \"\",Surcharge!A:B,2,FALSE)*F57), \"\")","v":""}]
[null,null,null,null,null,null,null,{"$f":"IFERROR(IFERROR(VLOOKUP(D58,Surcharge!A:B,2,FALSE)*F58, VLOOKUP(D58 & \"\",Surcharge!A:B,2,FALSE)*F58), \"\")","v":""}]
[null,null,"Charger",null,null,{"$f":"SUM(F60:F61)","v":0},null,{"$f":"IFERROR(IFERROR(VLOOKUP(D59,Surcharge!A:B,2,FALSE)*F59, VLOOKUP(D59 & \"\",Surcharge!A:B,2,FALSE)*F59), \"\")","v":""}]
[null,null,"27A 85-270V AC 50/60Hz 1Ph - Off Board",9015391,"N/C",null,{"$f":"IF(F60=0,\" \",\"N/C\")","v":" "},{"$f":"IFERROR(IFERROR(VLOOKUP(D60,Surcharge!A:B,2,FALSE)*F60, VLOOKUP(D60 & \"\",Surcharge!A:B,2,FALSE)*F60), \"\")","v":""}]
[null,null,"Without Charger","LESS CHARGER",-378,null,{"$f":"F61*E61","v":0},{"$f":"IFERROR(IFERROR(VLOOKUP(D61,Surcharge!A:B,2,FALSE)*F61, VLOOKUP(D61 & \"\",Surcharge!A:B,2,FALSE)*F61), \"\")","v":""}]
[null,null,null,null,null,null,null,{"$f":"IFERROR(IFERROR(VLOOKUP(D62,Surcharge!A:B,2,FALSE)*F62, VLOOKUP(D62 & \"\",Surcharge!A:B,2,FALSE)*F62), \"\")","v":""}]
[null,"Brushes and Pads",null,"Reference Number",null,{"$f":"SUM(F64)","v":0},null,{"$f":"IFERROR(IFERROR(VLOOKUP(D63,Surcharge!A:B,2,FALSE)*F63, VLOOKUP(D63 & \"\",Surcharge!A:B,2,FALSE)*F63), \"\")","v":""}]
[null,null,"Main Sweeping Brushes",null,null,{"$f":"SUM(F65:F67)","v":0},null,{"$f":"IFERROR(IFERROR(VLOOKUP(D64,Surcharge!A:B,2,FALSE)*F64, VLOOKUP(D64 & \"\",Surcharge!A:B,2,FALSE)*F64), \"\")","v":""}]
[null,null,"Polypropylene Brush",9022622,"N/C",null,{"$f":"IF(F65=0,\" \",\"N/C\")","v":" "},{"$f":"IFERROR(IFERROR(VLOOKUP(D65,Surcharge!A:B,2,FALSE)*F65, VLOOKUP(D65 & \"\",Surcharge!A:B,2,FALSE)*F65), \"\")","v":""}]
[null,null,"Polypropylene and Wire Brush",9022623,"N/C",null," ",{"$f":"IFERROR(IFERROR(VLOOKUP(D66,Surcharge!A:B,2,FALSE)*F66, VLOOKUP(D66 & \"\",Surcharge!A:B,2,FALSE)*F66), \"\")","v":""}]
[null,null,"Natural Fiber Brush",9022624,238,null,{"$f":"F67*E67","v":0},{"$f":"IFERROR(IFERROR(VLOOKUP(D67,Surcharge!A:B,2,FALSE)*F67, VLOOKUP(D67 & \"\",Surcharge!A:B,2,FALSE)*F67), \"\")","v":""}]
[null,null,null,null,null,null,null,{"$f":"IFERROR(IFERROR(VLOOKUP(D68,Surcharge!A:B,2,FALSE)*F68, VLOOKUP(D68 & \"\",Surcharge!A:B,2,FALSE)*F68), \"\")","v":""}]
[null,null,"Side Sweeping Brushes",null,null,{"$f":"SUM(F70)","v":0},null,{"$f":"IFERROR(IFERROR(VLOOKUP(D69,Surcharge!A:B,2,FALSE)*F69, VLOOKUP(D69 & \"\",Surcharge!A:B,2,FALSE)*F69), \"\")","v":""}]
[null,null,"Polypropylene Brush",null,"N/C",null,{"$f":"IF(F70=0,\" \",\"N/C\")","v":" "},{"$f":"IFERROR(IFERROR(VLOOKUP(D70,Surcharge!A:B,2,FALSE)*F70, VLOOKUP(D70 & \"\",Surcharge!A:B,2,FALSE)*F70), \"\")","v":""}]
[null,null,null,null,null,null,null,{"$f":"IFERROR(IFERROR(VLOOKUP(D71,Surcharge!A:B,2,FALSE)*F71, VLOOKUP(D71 & \"\",Surcharge!A:B,2,FALSE)*F71), \"\")","v":""}]
[null,"Support",null,null,null,{"$f":"SUM(F73)","v":0},null,{"$f":"IFERROR(IFERROR(VLOOKUP(D72,Surcharge!A:B,2,FALSE)*F72, VLOOKUP(D72 & \"\",Surcharge!A:B,2,FALSE)*F72), \"\")","v":""}]
[null,null,"Standard Warranty",null,"N/C",null,{"$f":"IF(F73=0,\" \",\"N/C\")","v":" "},{"$f":"IFERROR(IFERROR(VLOOKUP(D73,Surcharge!A:B,2,FALSE)*F73, VLOOKUP(D73 & \"\",Surcharge!A:B,2,FALSE)*F73), \"\")","v":""}]
[null,null,null,null,null,null,null,{"$f":"IFERROR(IFERROR(VLOOKUP(D74,Surcharge!A:B,2,FALSE)*F74, VLOOKUP(D74 & \"\",Surcharge!A:B,2,FALSE)*F74), \"\")","v":""}]
[null,null,"Packaging",null,null,{"$f":"SUM(F76:F76)","v":0},null,{"$f":"IFERROR(IFERROR(VLOOKUP(D75,Surcharge!A:B,2,FALSE)*F75, VLOOKUP(D75 & \"\",Surcharge!A:B,2,FALSE)*F75), \"\")","v":""}]
[null,null,"Skid w/Carton, Non-Stackable",9022625,"N/C",null,{"$f":"IF(F76=0,\" \",\"N/C\")","v":" "}]
[]
[]
[null,"Custom Solution--write in description, qty, price, and PN if applicable",null,null,null,{"$f":"SUM(F80)","v":0}]
[null,null,null,null,"Insert Prices Here",{"$f":"SUM(F81:F84)","v":0}]
[null,null,null,"Custom",null,{"$f":"IF(E81 <> \"\", 1, 0)","v":0},{"$f":"F81*E81","v":0}]
[null,null,null,"Custom",null,{"$f":"IF(E82 <> \"\", 1, 0)","v":0},{"$f":"F82*E82","v":0}]
[null,null,null,"Custom",null,0,{"$f":"F83*E83","v":0}]
[null,null,null,"Custom",null,0,{"$f":"F84*E84","v":0}]
[null,null,null,null,{"$f":"ROUND(SUM(G52:G84), 0)","v":0},{"$f":"SUM(E86)","v":0}]
[null,null,null,"Machine Subtotal ",{"$f":"ROUND(SUM(G52:G84), 0)","v":0},{"$f":"F85","v":0}]
[null,"Discounts",null,null,null,{"$f":"SUM(F88)","v":0}]
[null,null,null,null,null,{"$f":"SUM(F90:F93)","v":0}]
[null,null,null,"Applicable Currency Adj %",null,{"$f":"IF(E89 <> \"\", 1, 0)","v":0},{"$f":"IF(F89*(E89*0.01)*E85 < 0, F89*(E89*0.01)*E85, -(F89*(E89*0.01)*E85))","v":0}]
[null,null,null,"Discount %",null,0,{"$f":"IF(F90*(E90*0.01)*(E85+G89) < 0, F90*(E90*0.01)*(E85+G89), -(F90*(E90*0.01)*(E85+G89)))","v":0}]
[null,null,null,"Discount $",null,0,{"$f":"IF(F91*E91 < 0, F91*E91, -(F91*E91))","v":0}]
[null,null,null,"Discount $",null,0,{"$f":"IF(F92*E92 < 0, F92*E92, -(F92*E92))","v":0}]
[null,null,null,"Discount $",null,0,{"$f":"IF(F93*E93 < 0, F93*E93, -(F93*E93))","v":0}]
[null,null,null,"Discount Total ",{"$f":"SUM(G89:G93)","v":0},{"$f":"SUM(E94)","v":0}]
[null,null,null,null,null,{"$f":"#REF!","v":{"$error":"#REF!"}}]
[null,null,null,null,null,{"$f":"F95","v":{"$error":"#REF!"}}]
[null,null,"Prepaid and Add","Freight",null,{"$f":"IF(E97 <> \"\", 1, 0)","v":0},{"$f":"F97*E97","v":0}]
[null,null,"Subject to all applicable taxes","Tax",null,0,0]
[null,null,null,null,null,{"$f":"SUM(F100)","v":0}]
[null,null,null,"MACHINE TOTAL*",null,{"$f":"SUM(G100)","v":0},{"$f":"SUM(G52:G98)","v":0},null,null,null,null,null,null,"This goes to \"My Documents\""]
[null,null,null,null,null,null,{"$f":"SUM(G100)","v":0}]
[]
[]
[]
[]
[null,null,"Wells Fargo - Leasing Calculation Option:","Option 1",null,"Option 2",null,null,null,{"$f":"Financing!A38","v":"Rates 2025 - Rev.2/4/2025"}]
[null,null,null,"Monthly Payment","Cost Per Day","Monthly Payment","Cost Per Day",null,null,{"$f":"Financing!A39","v":"“Blank Payment Amounts Indicate The Financing Option Or Purchase Options Selected Are Not "}]
[null,null,"Purchase Option:","$1 Buyout Lease",null,"None",null,null,null,{"$f":"Financing!A40","v":"Applicable Or The Machine Total Is Below The Minimum Amount For The Selected Vendor”"}]
[null,null,"24 Months",0,0,0,0,null,null,{"$f":"Financing!A41","v":"\"Quoted monthly payments are estimates only and are based on a certain level of credit rating."}]
[null,null,"36 Months",0,0,0,0,null,null,{"$f":"Financing!A42","v":"Actual monthly payments may be higher depending on your credit rating.\""}]
[null,null,"48 Months",0,0,0,0,null,null,{"$f":"Financing!A43","v":"“Financing rates do not include Pre-Paid Service”"}]
[null,null,"60 Months",0,0,0,0]
[]
[null,null,null,"Benefits of Equipment Financing:"]
[null,null,null,"• Spreads out investment over time.",null,"• Keep current with latest technology."]
[null,null,null,"• Preserve capital.",null,"• Service and parts bundling available."]
[null,null,null,"• Low monthly payment.",null,"• Pay for labor savings as you go."]
[]
[null,"  TennantTrue",null,0,0]
[]
[null,null,"Is customer interested in service program?","Yes","*State/County selection required for TennantTrue service options"]
[]
[null,null,"If not, why?"]
[]
[null,null,"Term:",36,null,null,"AB Brushes","No"]
[null,null,"Monthly machine usage (hrs):","< 30/mo. (Avg. 1hr./day)"]
[]
[null,null,"TennantTrue: ","Gold Contract",null,"Silver Contract"]
[null,null,"Per Visit",null,null,473]
[null,null,"Monthly",208,null,99]
[null,null,"Annually",null,null,1160]
[null,null,"Pre-Pay Full Term",7200,null,3411]
[null,null,"Hourly Labor Rate"]
[null,null,"Site Visit"]
[]
[null,null,"* Verify customer current pricing prior to quote. "]
[null,null,"**All rates and fees above reflect service for one (1) unit with the exception of Block of Time service."]
[null,null,"*Block of Time is available in 1 Year Term only and is priced as such no matter the term selection on this template."]
[]
[]
[]
[null,"Quote Special Instructions:"]
[]
[]
[]
[null,{"$f":"Start_Here!E36","v":"Terms and Conditions"}]
[null,{"$f":"Start_Here!E37","v":"Ask your local sales rep for estimated lead times. Verify when placing order"}]
[null,{"$f":"Start_Here!E38","v":"All orders subject to acceptance by Tennant Sales and Service Company, Minneapolis, Minnesota"}]
[null,{"$f":"Start_Here!E39","v":"Prices subject to change without notice. Subject to any applicable taxes."}]
[null,{"$f":"Start_Here!E40","v":"Terms:  Net 30 days.  Payable in Canadian Funds"}]
[null,{"$f":"Start_Here!E41","v":"Freight:  Accessories, parts, supplies, detergents, and floor coatings orders delivered DDP "}]
[null,{"$f":"Start_Here!E42","v":"shipping point Frt PPD.  Machine orders delivered DDP shipping point Frt PPD and add."}]
[null,{"$f":"Start_Here!E43","v":"Returned Merchandise is subject to a restocking fee."}]
[null,{"$f":"Start_Here!E44","v":"All orders are subject to Tennant’s General Terms and Conditions available at http://www.tennantco.com/terms."}]
[null,{"$f":"Start_Here!E45","v":"Printed General Terms and Conditions are also available upon request."}]
[null,{"$f":"Start_Here!E46","v":0}]
[null,{"$f":"Start_Here!E47","v":0}]
[null,{"$f":"Start_Here!E48","v":0}]
[null,null,null,null,"Quote Date :",null,{"$f":"Letter!$A$25","v":"2023-08-01"}]
[null,"Order Placement Information:  To place your order, fill in PO# and customer signatures,"]
[null,"call or fax to the numbers listed below. Customer Purchase Order is required."]
[null,"If information is missing, orders will be entered and held until all information is received."]
[]
[null,null,"Customer Number",null,"Cust Grp 3"]
[null,null,{"$f":"Start_Here!$C$25","v":0},null,{"$f":"Start_Here!$C$29","v":0}]
[null,null,{"$f":"Start_Here!$B$18","v":"Who Owns the Machine? (Sold-To Info) (Please Verify)"}]
["Company",null,{"$f":"Start_Here!$C$19","v":"Company Name"}]
["Address",null,{"$f":"Start_Here!$C$20","v":"Address"}]
[null,null,{"$f":"Start_Here!$C$21","v":"City, State Zip"}]
["Name",null,{"$f":"Start_Here!$C$22","v":"Contact Name"}]
["Phone",null,{"$f":"Start_Here!$C$23","v":"Contact Phone"}]
[]
[null,null,{"$f":"Start_Here!$B$11","v":"Where is the Machine Being Shipped? (Ship-To Info) (Please Verify)"}]
["Company",null,{"$f":"Start_Here!$C$12","v":"Company Name"}]
["Address",null,{"$f":"Start_Here!$C$13","v":"Address"}]
[null,null,{"$f":"Start_Here!$C$14","v":"City, State Zip"}]
["Name",null,{"$f":"Start_Here!$C$15","v":"Contact Name"}]
["Phone",null,{"$f":"Start_Here!$C$16","v":"Contact Phone"}]
[]
[null,null,{"$f":"Start_Here!$B$31","v":"Shipping / Carrier Instructions:"},null,"Order Special Instructions:"]
[null,null,{"$f":"Start_Here!$C$32","v":0}]
[]
[null,null,"Customer Purchase Order No."]
[null,null,"(please attach copy)"]
[]
[]
[null,null,"Tax Exempt",null,"Yes"]
[null,null,null,null,"No"]
[null,null,"If Yes, attach a copy of your exemption certificate."]
[]
[null,null,"Requested Delivery Date"]
[null,null,{"$f":"Start_Here!$C$28","v":0}]
[]
[null,null,{"$f":"Start_Here!$C$26","v":0},null,{"$f":"Start_Here!$C$27","v":0}]
[null,null,"Authorized Buyer (please print)",null,"Phone Number"]
[]
[]
[null,null,"Authorized Buyer Signature"]
[]
[null,null,{"$f":"Start_Here!$C$41","v":"Rep Name"}]
[null,null,"Tennant Representative"]
[]
[null,null,null,"Specialized Maintenance Equipment"]
[null,null,{"$f":"Start_Here!$C$51","v":0}]
[null,null,null,{"$f":"Start_Here!$C$52","v":0}]
[null,"Notes"]
[]
[null,1,"Shipping Weights and Dimensions",null,"Crate"]
[]
[null,null,"Weight",null,"348 Kg / 768 lbs"]
[null,null,"Length",null,"1730 mm / 69\""]
[null,null,"Width",null,"1080 mm / 43\""]
[null,null,"Height",null,"1360 mm / 54\""]

{"sheet":"SS350_Std_Config","index":31,"n_rows":203,"n_cols":14,"rows_kept":203,"cut":false,"hidden":false,"merged":[[125,5,125,6],[126,3,126,4],[126,5,126,6],[127,3,127,4],[127,5,127,6],[125,3,125,4],[15,1,15,2],[0,2,0,3],[1,2,1,3],[2,2,2,3],[3,2,3,3],[11,2,11,6],[99,3,99,4],[99,5,99,6],[101,3,101,4],[101,5,101,6],[36,1,36,5],[37,1,37,5],[38,1,38,5],[39,1,39,5],[40,1,40,5],[41,1,41,5],[114,4,114,8],[116,3,116,6],[118,3,118,4],[119,3,119,4],[121,3,121,4],[121,5,121,6],[122,3,122,4],[122,5,122,6],[123,3,123,4],[123,5,123,6],[124,3,124,4],[124,5,124,6],[160,0,160,1],[160,2,160,5],[136,1,136,6],[158,4,158,6],[170,0,170,1],[170,2,170,5],[161,0,161,1],[161,2,161,5],[162,2,162,5],[163,0,163,1],[163,2,163,5],[164,0,164,1],[164,2,164,5],[167,0,167,1],[167,2,167,5],[168,0,168,1],[168,2,168,5],[169,2,169,5],[187,4,187,5],[171,0,171,1],[171,2,171,5],[174,4,174,6],[176,2,176,5],[177,2,177,5],[178,2,178,5]]}
["SS350_Std_Config",null,{"$f":"Start_Here!$C19","v":"Company Name"}]
[{"$f":"SUM(G94)","v":0},null,{"$f":"Start_Here!$C20","v":"Address"}]
[null,null,{"$f":"Start_Here!$C21","v":"City, State Zip"}]
[null,null,{"$f":"Start_Here!$C22","v":"Contact Name"}]
[null,null,{"$f":"Start_Here!$C$41","v":"Rep Name"}]
[null,null,{"$f":"Start_Here!$C$37","v":"Tennant Sales and Service Company"}]
[null,null,{"$f":"Start_Here!$C$38","v":"10400 Clean Street"}]
[null,null,{"$f":"Start_Here!$C$39","v":"Eden Prairie, MN 55344"}]
[null,null,{"$f":"Start_Here!$C$43","v":"800-553-8033"},null,"Quote Date :",null,{"$f":"Letter!$A$25","v":"2023-08-01"}]
[]
[null,null,{"$f":"Help!C2","v":"CAN Date Rev - 5/6/2025"}]
[null,null,"BUILT-IN “NOBLES VALUE” INCLUDES:"]
[]
[null,"53L/14.1 gal Solution Tank  & 70 L/18.4 gal Recovery Tank",null,"Quick Release Squeegee Attachment/Removal"]
[null,"Rugged Duramer™ Rotomold Tank Construction",null,"Linatex Squeegee Blades With Tool-less Replacement"]
[null,"Insta-Click™ Pad Driver and Brush Attachment",null,"Emergency Stop"]
[null,"Hygienic™ Recovery Tank",null,"Free Floating Head Skirt"]
[null,"Multiple Setting Down Pressure",null,"Fill Port w/ Hose Hook"]
[null,"Adjustable Solution Flow",null,"Integrated Heat Sync For Electronics Protection"]
[null,"Variable Speed Control Knob",null,"Sealed Electrical Connectors"]
[null,"Pro-Membrane™ Control Panel With Multiple Zone Settings™",null,"Anti-Static Straps"]
[null,"Supervisor QA Controls™ Settings (Lock Out Features)",null,"24 VDC, 0.87 HP / 0.65 kW brush motor"]
[null,"On Board Diagnostics",null,"215 RPM (500 mm/20\") and 275 RPM (600 mm/24\") "]
[null,"Extremely Low Noise Level  (as low as 63.7 dBa)",null,"Recovery Tank Debris Tray"]
[null,"Quiet-Mode™ Sound Reduction Optional  ( as low as 59.7 dBa)",null,"Unsurpassed Ergonomic Design"]
[null,"Wet 210AH, Wet 240AH, and Sealed 220AH AGM Available.",null,"Non-Marking Wheels"]
[null,"Smart-Fill™ Automatic Battery Watering ",null,"2.5 cm /1\" Edge & Reach Under Cleaning"]
[null,"Quick Release Battery Harness",null,"Key Switch for Safety"]
[null,"Drain hose with pinch cuff to control water flow",null,"Hour Meter"]
[null,"On-board Charger With 3m/15 ft Power Cord",null,"Operators manual"]
[null,"Closed Machine Venting For Battery Charging",null,"Jacking Points/Shipping Tie Downs"]
[null,"Breakaway Squeegee Design",null,"Yellow Maintenance Touch Points"]
[null,"Factory Set Squeegee Assembly For Maximium Recovery",null,"Integrated Accessory Rail"]
[null,"Cast Aluminum Squeegee Frame",null,"Composite Scrub Deck (Single Disk)"]
[null,null,null,"Cast Aluminum Scrub Deck (Dual Disk)"]
[]
[null,"NOBLES WARRANTY"]
[null,"3 YEARS OR 2500 HOURS ON ALL COMPONENTS, 3 YEARS LABOR"]
[null,"90 DAYS TRAVEL, 10 YEARS ON DURAMERTM TANKS"]
[]
[]
[]
[null,null,null,null,"                Quote Request Information"]
[null,null,null,null,null,null,"Fax (quote only)"]
[null,null,null,null,null,null,"Mail (quote,lit, specs)"]
[null,null,null,null,null,null,"Fax + Mail"]
[]
[null,null,null,null,"                Primary Use"]
[null,null,null,null,null,null,"Inside"]
[null,null,null,null,null,null,"Outside"]
[]
[]
[null,null,"Description","Material#","CAD Price Each","Qty","Extended Price"]
[null,"Standard Configurion Machines",null,null,null,{"$f":"SUM(F56:F60)","v":0}]
[]
[null,null,"SS350 Rider - Disk Scrubber, 500mm/20\" disk scrub head, 210AH lead acid battery, on-board charger, conventional cleaning, operators manual                                                (Pad Driver will default unless otherwise specified)","SS350-1001D",21709,null,{"$f":"F56*E56","v":0},{"$f":"IFERROR(IFERROR(VLOOKUP(D56,Surcharge!A:B,2,FALSE)*F56, VLOOKUP(D56 & \"\",Surcharge!A:B,2,FALSE)*F56), \"\")","v":""}]
[null,null,"SS350 Rider - Disk Scrubber, 600mm/24\" disk scrub head, 210AH lead acid battery, on-board charger, conventional cleaning, pad driver, operators manual                               (Pad Driver will default unless otherwise specified)","SS350-1002D",24129,null,0,{"$f":"IFERROR(IFERROR(VLOOKUP(D57,Surcharge!A:B,2,FALSE)*F57, VLOOKUP(D57 & \"\",Surcharge!A:B,2,FALSE)*F57), \"\")","v":""}]
[]
[null,null,"SS350 Rider - Disk Scrubber, 500 mm/20\" disk scrub head, ec-H20 NanoClean, 240AH lead acid battery with Smart Fill battery watering, on-board charger, quiet mode,operators manual  (Pad Driver will default unless otherwise specified)","SS350-2001D",27135,null,0,{"$f":"IFERROR(IFERROR(VLOOKUP(D59,Surcharge!A:B,2,FALSE)*F59, VLOOKUP(D59 & \"\",Surcharge!A:B,2,FALSE)*F59), \"\")","v":""}]
[null,null,"SS350 Rider - Disk Scrubber, 600mm/24\" disk scrub head, ec-H20 NanoClean, 240AH lead acid battery with Smart Fill battery watering, on-board charger, quiet mode,operators manual  (Pad Driver will default unless otherwise specified)","SS350-2002D",29555,null,0,{"$f":"IFERROR(IFERROR(VLOOKUP(D60,Surcharge!A:B,2,FALSE)*F60, VLOOKUP(D60 & \"\",Surcharge!A:B,2,FALSE)*F60), \"\")","v":""}]
[null,null,null,null,null,null,null,{"$f":"IFERROR(IFERROR(VLOOKUP(D61,Surcharge!A:B,2,FALSE)*F61, VLOOKUP(D61 & \"\",Surcharge!A:B,2,FALSE)*F61), \"\")","v":""}]
[null,"OPTIONAL","Brushes - in place of Pad Driver  (Note 1)",null,null,{"$f":"SUM(F63:F66)","v":0},null,{"$f":"IFERROR(IFERROR(VLOOKUP(D62,Surcharge!A:B,2,FALSE)*F62, VLOOKUP(D62 & \"\",Surcharge!A:B,2,FALSE)*F62), \"\")","v":""}]
[null,null,"500mm/20\" Polypropylene Brush",1213032,"N/C     ",null,{"$f":"IF(F63=0,\" \",\"N/C\")","v":" "},{"$f":"IFERROR(IFERROR(VLOOKUP(D63,Surcharge!A:B,2,FALSE)*F63, VLOOKUP(D63 & \"\",Surcharge!A:B,2,FALSE)*F63), \"\")","v":""}]
[null,null,"500mm/20\" Nylon Brush",1210386,"N/C     ",null," ",{"$f":"IFERROR(IFERROR(VLOOKUP(D64,Surcharge!A:B,2,FALSE)*F64, VLOOKUP(D64 & \"\",Surcharge!A:B,2,FALSE)*F64), \"\")","v":""}]
[null,null,"600mm/24\" Polypropylene Brush  (2 Required)",1213040,"N/C     ",null," ",{"$f":"IFERROR(IFERROR(VLOOKUP(D65,Surcharge!A:B,2,FALSE)*F65, VLOOKUP(D65 & \"\",Surcharge!A:B,2,FALSE)*F65), \"\")","v":""}]
[null,null,"600mm/24\" Nylon Brush  (2 Required)",1210136,"N/C     ",null," ",{"$f":"IFERROR(IFERROR(VLOOKUP(D66,Surcharge!A:B,2,FALSE)*F66, VLOOKUP(D66 & \"\",Surcharge!A:B,2,FALSE)*F66), \"\")","v":""}]
[]
[null,"OPTIONAL","Manuals  (Note 2)",null,null,{"$f":"SUM(F69:F72)","v":0},null,{"$f":"IFERROR(IFERROR(VLOOKUP(D68,Surcharge!A:B,2,FALSE)*F68, VLOOKUP(D68 & \"\",Surcharge!A:B,2,FALSE)*F68), \"\")","v":""}]
[null,null,"Operator Manual (Spanish) - in place of English manual",9020161,"N/C     ",null,{"$f":"IF(F69=0,\" \",\"N/C\")","v":" "},{"$f":"IFERROR(IFERROR(VLOOKUP(D69,Surcharge!A:B,2,FALSE)*F69, VLOOKUP(D69 & \"\",Surcharge!A:B,2,FALSE)*F69), \"\")","v":""}]
[null,null,"Operator Manual (French) - in place of English manual",9020162,"N/C     ",null,{"$f":"IF(F70=0,\" \",\"N/C\")","v":" "},{"$f":"IFERROR(IFERROR(VLOOKUP(D70,Surcharge!A:B,2,FALSE)*F70, VLOOKUP(D70 & \"\",Surcharge!A:B,2,FALSE)*F70), \"\")","v":""}]
[null,null,"Parts Manual",9020166,84,null,{"$f":"F71*E71","v":0},{"$f":"IFERROR(IFERROR(VLOOKUP(D71,Surcharge!A:B,2,FALSE)*F71, VLOOKUP(D71 & \"\",Surcharge!A:B,2,FALSE)*F71), \"\")","v":""}]
[null,null,"Service Manual",9020167,204,null,{"$f":"F72*E72","v":0},{"$f":"IFERROR(IFERROR(VLOOKUP(D72,Surcharge!A:B,2,FALSE)*F72, VLOOKUP(D72 & \"\",Surcharge!A:B,2,FALSE)*F72), \"\")","v":""}]
[]
[null,"Required","Packaging  (Note 3)",null,null,{"$f":"SUM(F75)","v":0}]
[null,null,"Skid w/Carton, Stackable",9040253,"N/C     ",null,{"$f":"IF(F75=0,\" \",\"N/C\")","v":" "},{"$f":"IFERROR(IFERROR(VLOOKUP(D75,Surcharge!A:B,2,FALSE)*F75, VLOOKUP(D75 & \"\",Surcharge!A:B,2,FALSE)*F75), \"\")","v":""}]
[null,null,null,null," ",null,null,{"$f":"IFERROR(IFERROR(VLOOKUP(D76,Surcharge!A:B,2,FALSE)*F76, VLOOKUP(D76 & \"\",Surcharge!A:B,2,FALSE)*F76), \"\")","v":""}]
[]
[null,null,null,null,null,"  "]
[null,null,null,null,{"$f":"ROUND(SUM(G56:G78), 0)","v":0},{"$f":"SUM(E80)","v":0}]
[null,null,null,"Machine Subtotal ",{"$f":"ROUND(SUM(G56:G78), 0)","v":0},{"$f":"F79","v":0}]
[null,"Discounts",null,null,null,{"$f":"SUM(F82)","v":0}]
[null,null,null,null,null,{"$f":"SUM(F84:F87)","v":0}]
[null,null,null,"Applicable Currency Adj %",null,{"$f":"IF(E83 <> \"\", 1, 0)","v":0},{"$f":"IF(F83*(E83*0.01)*E79 < 0, F83*(E83*0.01)*E79, -(F83*(E83*0.01)*E79))","v":0}]
[null,null,null,"Discount %",null,{"$f":"IF(E84 <> \"\", 1, 0)","v":0},{"$f":"IF(F84*(E84*0.01)*(E79+G83) < 0, F84*(E84*0.01)*(E79+G83), -(F84*(E84*0.01)*(E79+G83)))","v":0}]
[null,null,null,"Discount $",null,0,{"$f":"IF(F85*E85 < 0, F85*E85, -(F85*E85))","v":0}]
[null,null,null,"Discount $",null,0,{"$f":"IF(F86*E86 < 0, F86*E86, -(F86*E86))","v":0}]
[null,null,null,"Discount $",null,0,{"$f":"IF(F87*E87 < 0, F87*E87, -(F87*E87))","v":0}]
[null,null,null,"Discount Total ",{"$f":"SUM(G83:G87)","v":0},{"$f":"SUM(E88)","v":0}]
[null,null,null,null,null,{"$f":"#REF!","v":{"$error":"#REF!"}}]
[null,null,null,null,null,{"$f":"F89","v":{"$error":"#REF!"}}]
[null,null,"Prepaid and Add","Freight",null,{"$f":"IF(E91 <> \"\", 1, 0)","v":0},{"$f":"F91*E91","v":0}]
[null,null,"Subject to all applicable taxes","Tax",null,0,0]
[null,null,null,null,null,{"$f":"SUM(F94)","v":0}]
[null,null,null,"MACHINE TOTAL*",null,{"$f":"SUM(G94)","v":0},{"$f":"SUM(G56:G92)","v":0},null,null,null,null,null,null,"This goes to \"My Documents\""]
[null,null,null,null,null,null,{"$f":"SUM(G94)","v":0}]
[]
[]
[]
[]
[null,null,"Wells Fargo - Leasing Calculation Option:","Option 1",null,"Option 2",null,null,null,{"$f":"Financing!A38","v":"Rates 2025 - Rev.2/4/2025"}]
[null,null,null,"Monthly Payment","Cost Per Day","Monthly Payment","Cost Per Day",null,null,{"$f":"Financing!A39","v":"“Blank Payment Amounts Indicate The Financing Option Or Purchase Options Selected Are Not "}]
[null,null,"Purchase Option:","$1 Buyout Lease",null,"None",null,null,null,{"$f":"Financing!A40","v":"Applicable Or The Machine Total Is Below The Minimum Amount For The Selected Vendor”"}]
[null,null,"24 Months",0,0,0,0,null,null,{"$f":"Financing!A41","v":"\"Quoted monthly payments are estimates only and are based on a certain level of credit rating."}]
[null,null,"36 Months",0,0,0,0,null,null,{"$f":"Financing!A42","v":"Actual monthly payments may be higher depending on your credit rating.\""}]
[null,null,"48 Months",0,0,0,0,null,null,{"$f":"Financing!A43","v":"“Financing rates do not include Pre-Paid Service”"}]
[null,null,"60 Months",0,0,0,0,null,{"$f":"Financing!A44","v":0}]
[]
[null,null,null,"Benefits of Equipment Financing:"]
[null,null,null,"• Spreads out investment over time.",null,"• Keep current with latest technology."]
[null,null,null,"• Preserve capital.",null,"• Service and parts bundling available."]
[null,null,null,"• Low monthly payment.",null,"• Pay for labor savings as you go."]
[]
[null,"  TennantTrue",null,0,0]
[]
[null,null,"Is customer interested in service program?","Yes","*State/County selection required for TennantTrue service options"]
[]
[null,null,"If not, why?"]
[]
[null,null,"Term:",36,null,null,"AB Brushes","No"]
[null,null,"Monthly machine usage (hrs):","< 30/mo. (Avg. 1hr./day)"]
[]
[null,null,"TennantTrue: ","Gold Contract",null,"Silver Contract"]
[null,null,"Per Visit",null,null,425]
[null,null,"Monthly",129,null,69]
[null,null,"Annually",null,null,816]
[null,null,"Pre-Pay Full Term",4444,null,2397]
[null,null,"Hourly Labor Rate"]
[null,null,"Site Visit"]
[]
[null,null,"* Verify customer current pricing prior to quote. "]
[null,null,"**All rates and fees above reflect service for one (1) unit with the exception of Block of Time service."]
[null,null,"*Block of Time is available in 1 Year Term only and is priced as such no matter the term selection on this template."]
[]
[]
[]
[null,"Quote Special Instructions:"]
[]
[]
[]
[null,{"$f":"Start_Here!E36","v":"Terms and Conditions"}]
[null,{"$f":"Start_Here!E37","v":"Ask your local sales rep for estimated lead times. Verify when placing order"}]
[null,{"$f":"Start_Here!E38","v":"All orders subject to acceptance by Tennant Sales and Service Company, Minneapolis, Minnesota"}]
[null,{"$f":"Start_Here!E39","v":"Prices subject to change without notice. Subject to any applicable taxes."}]
[null,{"$f":"Start_Here!E40","v":"Terms:  Net 30 days.  Payable in Canadian Funds"}]
[null,{"$f":"Start_Here!E41","v":"Freight:  Accessories, parts, supplies, detergents, and floor coatings orders delivered DDP "}]
[null,{"$f":"Start_Here!E42","v":"shipping point Frt PPD.  Machine orders delivered DDP shipping point Frt PPD and add."}]
[null,{"$f":"Start_Here!E43","v":"Returned Merchandise is subject to a restocking fee."}]
[null,{"$f":"Start_Here!E44","v":"All orders are subject to Tennant’s General Terms and Conditions available at http://www.tennantco.com/terms."}]
[null,{"$f":"Start_Here!E45","v":"Printed General Terms and Conditions are also available upon request."}]
[null,{"$f":"Start_Here!E46","v":0}]
[null,{"$f":"Start_Here!E47","v":0}]
[null,{"$f":"Start_Here!E48","v":0}]
[null,null,null,null,"Quote Date :",null,{"$f":"Letter!$A$25","v":"2023-08-01"}]
[null,"Order Placement Information:  To place your order, fill in PO# and customer signatures,"]
[null,"call or fax to the numbers listed below. Customer Purchase Order is required."]
[null,"If information is missing, orders will be entered and held until all information is received."]
[]
[null,null,"Customer Number",null,"Cust Grp 3"]
[null,null,{"$f":"Start_Here!$C$25","v":0},null,{"$f":"Start_Here!$C$29","v":0}]
[null,null,{"$f":"Start_Here!$B$18","v":"Who Owns the Machine? (Sold-To Info) (Please Verify)"}]
["Company",null,{"$f":"Start_Here!$C$19","v":"Company Name"}]
["Address",null,{"$f":"Start_Here!$C$20","v":"Address"}]
[null,null,{"$f":"Start_Here!$C$21","v":"City, State Zip"}]
["Name",null,{"$f":"Start_Here!$C$22","v":"Contact Name"}]
["Phone",null,{"$f":"Start_Here!$C$23","v":"Contact Phone"}]
[]
[null,null,{"$f":"Start_Here!$B$11","v":"Where is the Machine Being Shipped? (Ship-To Info) (Please Verify)"}]
["Company",null,{"$f":"Start_Here!$C$12","v":"Company Name"}]
["Address",null,{"$f":"Start_Here!$C$13","v":"Address"}]
[null,null,{"$f":"Start_Here!$C$14","v":"City, State Zip"}]
["Name",null,{"$f":"Start_Here!$C$15","v":"Contact Name"}]
["Phone",null,{"$f":"Start_Here!$C$16","v":"Contact Phone"}]
[]
[null,null,{"$f":"Start_Here!$B$31","v":"Shipping / Carrier Instructions:"},null,"Order Special Instructions:"]
[null,null,{"$f":"Start_Here!$C$32","v":0}]
[]
[null,null,"Customer Purchase Order No."]
[null,null,"(please attach copy)"]
[]
[]
[null,null,"Tax Exempt",null,"Yes"]
[null,null,null,null,"No"]
[null,null,"If Yes, attach a copy of your exemption certificate."]
[]
[null,null,"Requested Delivery Date"]
[null,null,{"$f":"Start_Here!$C$28","v":0}]
[]
[null,null,{"$f":"Start_Here!$C$26","v":0},null,{"$f":"Start_Here!$C$27","v":0}]
[null,null,"Authorized Buyer (please print)",null,"Phone Number"]
[]
[]
[null,null,"Authorized Buyer Signature"]
[]
[null,null,{"$f":"Start_Here!$C$41","v":"Rep Name"}]
[null,null,"Tennant Representative"]
[]
[null,null,null,"Specialized Maintenance Equipment"]
[null,null,{"$f":"Start_Here!$C$51","v":0}]
[null,null,null,{"$f":"Start_Here!$C$52","v":0}]
[null,"Notes"]
[null,1,"One set of pad drivers come standard. A different brush may be chosen as an option at no additional charge."]
[null,2,"One English manual comes standard.  A manual in a different language may be chosen as an option."]
[null,3,"Skid with carton packaging must be chosen as an option"]

{"sheet":"SS300_Std_Config","index":32,"n_rows":224,"n_cols":14,"rows_kept":224,"cut":false,"hidden":false,"merged":[[41,1,41,5],[0,2,0,3],[1,2,1,3],[2,2,2,3],[3,2,3,3],[11,2,11,6],[17,1,17,2],[36,1,36,5],[37,1,37,5],[38,1,38,5],[39,1,39,5],[40,1,40,5],[98,3,98,4],[98,5,98,6],[100,3,100,4],[100,5,100,6],[113,4,113,8],[115,3,115,6],[117,3,117,4],[118,3,118,4],[120,3,120,4],[120,5,120,6],[121,3,121,4],[121,5,121,6],[122,3,122,4],[159,0,159,1],[159,2,159,5],[135,1,135,6],[157,4,157,6],[125,3,125,4],[125,5,125,6],[126,3,126,4],[126,5,126,6],[122,5,122,6],[123,3,123,4],[123,5,123,6],[124,3,124,4],[124,5,124,6],[169,0,169,1],[169,2,169,5],[160,0,160,1],[160,2,160,5],[161,2,161,5],[162,0,162,1],[162,2,162,5],[163,0,163,1],[163,2,163,5],[166,0,166,1],[166,2,166,5],[167,0,167,1],[167,2,167,5],[168,2,168,5],[186,4,186,5],[206,4,207,4],[213,4,214,4],[170,0,170,1],[170,2,170,5],[173,4,173,6],[175,2,175,5],[176,2,176,5],[177,2,177,5]]}
["SS300_Std_Config",null,{"$f":"Start_Here!$C19","v":"Company Name"}]
[{"$f":"SUM(G93)","v":0},null,{"$f":"Start_Here!$C20","v":"Address"}]
[null,null,{"$f":"Start_Here!$C21","v":"City, State Zip"}]
[null,null,{"$f":"Start_Here!$C22","v":"Contact Name"}]
[null,null,{"$f":"Start_Here!$C$41","v":"Rep Name"}]
[null,null,{"$f":"Start_Here!$C$37","v":"Tennant Sales and Service Company"}]
[null,null,{"$f":"Start_Here!$C$38","v":"10400 Clean Street"}]
[null,null,{"$f":"Start_Here!$C$39","v":"Eden Prairie, MN 55344"}]
[null,null,{"$f":"Start_Here!$C$43","v":"800-553-8033"},null,"Quote Date :",null,{"$f":"Letter!$A$25","v":"2023-08-01"}]
[]
[null,null,{"$f":"Help!C2","v":"CAN Date Rev - 5/6/2025"}]
[null,null,"BUILT-IN “NOBLES VALUE” INCLUDES:"]
[]
[null,"42L/11 gal Solution Tank  & 53 L/14 gal Recovery Tank",null,"Wet 130AH and Wet 150AH Battery options available."]
[null,"Rugged DuramerTM Rotomold Tank Construction",null,"Emergency Stop  (standard on all drive units)"]
[null,"HygienicTM Recovery Tank",null,"Free Floating Head Skirt (disk machines)"]
[null,"Single Setting Down Pressure (Standard)"]
[null,"Multiple Setting Down Pressure (Optional)",null,"Front Water Fill Port w/ Hose Hook"]
[null,"Adjustable Solution Flow",null,"Integrated Heat Sync for Electronics Protection"]
[null,"Standard Low Noise Level  (≤65 dBa)",null,"Sealed Electrical Connectors"]
[null,"0.50kW/1 HP brush motor, 150 RPM (disk)",null,"Quick Release Battery Harness"]
[null,"0.45 kW/0.6 HP brush motor, 2200 RPM (orbital)",null,"Battery Tray"]
[null,"Composite Scrub Deck (Single Disk)",null,"On-board Charger with 3m/15 ft power cord"]
[null,"Cast Aluminum Scrub Deck (Dual Disk)",null,"Closed Machine Venting for Battery Charging"]
[null,"11 Gauge Steel Scrub Deck (Orbital Only)",null,"Recovery Tank Debris Tray with Deflector"]
[null,"Three Lug Pad Driver System (Standard Disk Machine)",null,"Unsurpassed Ergonomic Design"]
[null,"Insta-ClickTM Pad Driver Attachment (Option Disk machines)",null,"Gray Non-Marking Tires"]
[null,"Cast Aluminum Squeegee Frame",null,"10cm /4\" Edge & Reach Under Cleaning"]
[null,"Breakaway Squeegee Design w/ Integrated P-Trap",null,"Anti-Static Straps"]
[null,"Factory Set Squeegee Assembly for Maximium Recovery",null,"Key Switch for Safety"]
[null,"Linatex Squeegee Blades with Tool-less Replacement",null,"Hour Meter"]
[null,"Yellow Maintenance Touch Points",null,"Operators manual"]
[null,"Integrated Accessory Rails w/Squegee & Bag Hang ",null,"Drain hose with pinch cuff to control water flow"]
[null,"Jacking Points/Shipping Tie Downs",null,"Available with Optional ec-H2O NanoClean™ Technology"]
[]
[]
[null,"NOBLES WARRANTY"]
[null,"3 YEARS OR 2000 HOURS - PARTS"]
[null,"1 YEAR - BATTERY CHARGERS"]
[null,"2 YEARS - LABOR"]
[null,"6 MONTHS - TRAVEL"]
[null,"10 YEARS ON DURAMERTM ROTOMOLD TANKS"]
[null,null,null,null,"                Quote Request Information"]
[null,null,null,null,null,null,"Fax (quote only)"]
[null,null,null,null,null,null,"Mail (quote,lit, specs)"]
[null,null,null,null,null,null,"Fax + Mail"]
[]
[null,null,null,null,"                Primary Use"]
[null,null,null,null,null,null,"Inside"]
[null,null,null,null,null,null,"Outside"]
[]
[]
[null,null,"Description","Material#","CAD Price Each","Qty","Extended Price"]
[null,"Standard Configuration Machines",null,null,null,{"$f":"SUM(F55:F57)","v":0}]
[null,null,"SS300 Walk-Behind - Disk Scrubber, 20\" disk scrub head, pad assist, 3-lug head, 130AH lead acid battery, on-board charger, single mechanical down pressure setting, conventional cleaning, operators manual  (Pad Driver will default unless otherwise specified)","SS300-1001D",11508,null,{"$f":"F55*E55","v":0},{"$f":"IFERROR(IFERROR(VLOOKUP(D55,Surcharge!A:B,2,FALSE)*F55, VLOOKUP(D55 & \"\",Surcharge!A:B,2,FALSE)*F55), \"\")","v":""},null,null,null,{"$f":"SUM(F55)","v":0},"Surcharge Qty"]
[null,null,"SS300 Walk-Behind - Disk Scrubber, 20\" disk scrub head, self-propel, Instaclick head, 130AH lead acid battery, on-board charger, two mechanical down pressure settings, conventional cleaning, operators manual  (Pad Driver will default unless otherwise specified)","SS300-2001D",14969,null,{"$f":"F56*E56","v":0},{"$f":"IFERROR(IFERROR(VLOOKUP(D56,Surcharge!A:B,2,FALSE)*F56, VLOOKUP(D56 & \"\",Surcharge!A:B,2,FALSE)*F56), \"\")","v":""}]
[null,null,"SS300 Walk-Behind - Disk Scrubber, 20\" disk scrub head, self-propel, Instaclick head, 130AH lead acid battery, on-board charger, two mechanical down pressure settings, ec-H20 NanoClean, operators manual  (Pad Driver will default unless otherwise specified)","SS300-2002D",18080,null,{"$f":"F57*E57","v":0},{"$f":"IFERROR(IFERROR(VLOOKUP(D57,Surcharge!A:B,2,FALSE)*F57, VLOOKUP(D57 & \"\",Surcharge!A:B,2,FALSE)*F57), \"\")","v":""}]
[]
[null,"OPTIONAL","Brushes - in place of Pad Driver  (Note 1)",null,null,{"$f":"SUM(F60:F63)","v":0}]
[null,null,"3-lug head, 500mm/20\" Polypropylene Brush",1016811,"N/C     ",null,{"$f":"IF(F60=0,\" \",\"N/C\")","v":" "},{"$f":"IFERROR(IFERROR(VLOOKUP(D60,Surcharge!A:B,2,FALSE)*F60, VLOOKUP(D60 & \"\",Surcharge!A:B,2,FALSE)*F60), \"\")","v":""}]
[null,null,"3-lug head, 500mm/20\" Nylon Brush",1016810,"N/C     ",null," ",{"$f":"IFERROR(IFERROR(VLOOKUP(D61,Surcharge!A:B,2,FALSE)*F61, VLOOKUP(D61 & \"\",Surcharge!A:B,2,FALSE)*F61), \"\")","v":""}]
[null,null,"Instaclick head, 500mm/20\" Polypropylene Brush",1213032,"N/C     ",null," ",{"$f":"IFERROR(IFERROR(VLOOKUP(D62,Surcharge!A:B,2,FALSE)*F62, VLOOKUP(D62 & \"\",Surcharge!A:B,2,FALSE)*F62), \"\")","v":""}]
[null,null,"Instaclick head, 500mm/20\" Nylon Brush",1210386,"N/C     ",null," ",{"$f":"IFERROR(IFERROR(VLOOKUP(D63,Surcharge!A:B,2,FALSE)*F63, VLOOKUP(D63 & \"\",Surcharge!A:B,2,FALSE)*F63), \"\")","v":""}]
[null,null,null,null," ",null,null,{"$f":"IFERROR(IFERROR(VLOOKUP(D64,Surcharge!A:B,2,FALSE)*F64, VLOOKUP(D64 & \"\",Surcharge!A:B,2,FALSE)*F64), \"\")","v":""}]
[null,null,null,null,null,null,null,{"$f":"IFERROR(IFERROR(VLOOKUP(D65,Surcharge!A:B,2,FALSE)*F65, VLOOKUP(D65 & \"\",Surcharge!A:B,2,FALSE)*F65), \"\")","v":""}]
[null,"OPTIONAL","Manuals  (Note 2)",null,null,{"$f":"SUM(F67:F71)","v":0}]
[null,null,"SS300 Operator Manual (Spanish) - in place of English manual",9014513,"N/C     ",null,{"$f":"IF(F67=0,\" \",\"N/C\")","v":" "},{"$f":"IFERROR(IFERROR(VLOOKUP(D67,Surcharge!A:B,2,FALSE)*F67, VLOOKUP(D67 & \"\",Surcharge!A:B,2,FALSE)*F67), \"\")","v":""}]
[null,null,"SS300 Operator Manual (French) - in place of English manual",9014514,"N/C     ",null,{"$f":"IF(F68=0,\" \",\"N/C\")","v":" "},{"$f":"IFERROR(IFERROR(VLOOKUP(D68,Surcharge!A:B,2,FALSE)*F68, VLOOKUP(D68 & \"\",Surcharge!A:B,2,FALSE)*F68), \"\")","v":""}]
[null,null,"Additional Operator Manual","See Above",188,null,{"$f":"F69*E69","v":0}]
[null,null,"SS300 Parts Manual",9014511,78,null,0,{"$f":"IFERROR(IFERROR(VLOOKUP(D70,Surcharge!A:B,2,FALSE)*F70, VLOOKUP(D70 & \"\",Surcharge!A:B,2,FALSE)*F70), \"\")","v":""}]
[null,null,"SS300 Service Manual",9014516,191,null,0,{"$f":"IFERROR(IFERROR(VLOOKUP(D71,Surcharge!A:B,2,FALSE)*F71, VLOOKUP(D71 & \"\",Surcharge!A:B,2,FALSE)*F71), \"\")","v":""}]
[null,null,null,null,null,null,null,{"$f":"IFERROR(IFERROR(VLOOKUP(D72,Surcharge!A:B,2,FALSE)*F72, VLOOKUP(D72 & \"\",Surcharge!A:B,2,FALSE)*F72), \"\")","v":""}]
[null,null,null,null,null,null,null,{"$f":"IFERROR(IFERROR(VLOOKUP(D73,Surcharge!A:B,2,FALSE)*F73, VLOOKUP(D73 & \"\",Surcharge!A:B,2,FALSE)*F73), \"\")","v":""}]
[null,"Required","Packaging  (Note 3)",null,null,{"$f":"SUM(F75)","v":0}]
[null,null,"Skid w/Carton, Stackable",9013860,"N/C",null,{"$f":"IF(F75=0,\" \",\"N/C\")","v":" "},{"$f":"IFERROR(IFERROR(VLOOKUP(D75,Surcharge!A:B,2,FALSE)*F75, VLOOKUP(D75 & \"\",Surcharge!A:B,2,FALSE)*F75), \"\")","v":""}]
[null,null,null,null,null,null,null,{"$f":"IFERROR(IFERROR(VLOOKUP(D76,Surcharge!A:B,2,FALSE)*F76, VLOOKUP(D76 & \"\",Surcharge!A:B,2,FALSE)*F76), \"\")","v":""}]
[null,null,null,null,null,"  "]
[null,null,null,null,{"$f":"ROUND(SUM(G55:G77), 0)","v":0},{"$f":"SUM(E79)","v":0}]
[null,null,null,"Machine Subtotal ",{"$f":"ROUND(SUM(G55:G77), 0)","v":0},{"$f":"F78","v":0}]
[null,"Discounts",null,null,null,{"$f":"SUM(F81)","v":0}]
[null,null,null,null,null,{"$f":"SUM(F83:F86)","v":0}]
[null,null,null,"Applicable Currency Adj %",null,{"$f":"IF(E82 <> \"\", 1, 0)","v":0},{"$f":"IF(F82*(E82*0.01)*E78 < 0, F82*(E82*0.01)*E78, -(F82*(E82*0.01)*E78))","v":0}]
[null,null,null,"Discount %",null,{"$f":"IF(E83 <> \"\", 1, 0)","v":0},{"$f":"IF(F83*(E83*0.01)*(E78+G82) < 0, F83*(E83*0.01)*(E78+G82), -(F83*(E83*0.01)*(E78+G82)))","v":0}]
[null,null,null,"Discount $",null,0,{"$f":"IF(F84*E84 < 0, F84*E84, -(F84*E84))","v":0}]
[null,null,null,"Discount $",null,0,{"$f":"IF(F85*E85 < 0, F85*E85, -(F85*E85))","v":0}]
[null,null,null,"Discount $",null,0,{"$f":"IF(F86*E86 < 0, F86*E86, -(F86*E86))","v":0}]
[null,null,null,"Discount Total ",{"$f":"SUM(G82:G86)","v":0},{"$f":"SUM(E87)","v":0}]
[null,null,null,null,null,{"$f":"#REF!","v":{"$error":"#REF!"}}]
[null,null,null,null,null,{"$f":"F88","v":{"$error":"#REF!"}}]
[null,null,"Prepaid and Add","Freight",null,{"$f":"IF(E90 <> \"\", 1, 0)","v":0},{"$f":"F90*E90","v":0}]
[null,null,"Subject to all applicable taxes","Tax",null,0,0]
[null,null,null,null,null,{"$f":"SUM(F93)","v":0}]
[null,null,null,"MACHINE TOTAL*",null,{"$f":"SUM(G93)","v":0},{"$f":"SUM(G55:G91)","v":0},null,null,null,null,null,null,"This goes to \"My Documents\""]
[null,null,null,null,null,null,{"$f":"SUM(G93)","v":0}]
[]
[]
[]
[]
[null,null,"Wells Fargo - Leasing Calculation Option:","Option 1",null,"Option 2",null,null,null,{"$f":"Financing!A38","v":"Rates 2025 - Rev.2/4/2025"}]
[null,null,null,"Monthly Payment","Cost Per Day","Monthly Payment","Cost Per Day",null,null,{"$f":"Financing!A39","v":"“Blank Payment Amounts Indicate The Financing Option Or Purchase Options Selected Are Not "}]
[null,null,"Purchase Option:","$1 Buyout Lease",null,"None",null,null,null,{"$f":"Financing!A40","v":"Applicable Or The Machine Total Is Below The Minimum Amount For The Selected Vendor”"}]
[null,null,"24 Months",0,0,0,0,null,null,{"$f":"Financing!A41","v":"\"Quoted monthly payments are estimates only and are based on a certain level of credit rating."}]
[null,null,"36 Months",0,0,0,0,null,null,{"$f":"Financing!A42","v":"Actual monthly payments may be higher depending on your credit rating.\""}]
[null,null,"48 Months",0,0,0,0,null,null,{"$f":"Financing!A43","v":"“Financing rates do not include Pre-Paid Service”"}]
[null,null,"60 Months",0,0,0,0,null,{"$f":"Financing!A44","v":0}]
[]
[null,null,null,"Benefits of Equipment Financing:"]
[null,null,null,"• Spreads out investment over time.",null,"• Keep current with latest technology."]
[null,null,null,"• Preserve capital.",null,"• Service and parts bundling available."]
[null,null,null,"• Low monthly payment.",null,"• Pay for labor savings as you go."]
[]
[null,"  TennantTrue",null,0,0]
[]
[null,null,"Is customer interested in service program?","Yes","*State/County selection required for TennantTrue service options"]
[]
[null,null,"If not, why?"]
[]
[null,null,"Term:",36,null,null,"AB Brushes","No"]
[null,null,"Monthly machine usage (hrs):","< 30/mo. (Avg. 1hr./day)"]
[]
[null,null,"TennantTrue: ","Gold Contract",null,"Silver Contract"]
[null,null,"Per Visit",null,null,425]
[null,null,"Monthly",120,null,69]
[null,null,"Annually",null,null,816]
[null,null,"Pre-Pay Full Term",4162,null,2397]
[null,null,"Hourly Labor Rate"]
[null,null,"Site Visit"]
[]
[null,null,"* Verify customer current pricing prior to quote. "]
[null,null,"**All rates and fees above reflect service for one (1) unit with the exception of Block of Time service."]
[null,null,"*Block of Time is available in 1 Year Term only and is priced as such no matter the term selection on this template."]
[]
[]
[]
[null,"Quote Special Instructions:"]
[]
[]
[]
[null,{"$f":"Start_Here!E36","v":"Terms and Conditions"}]
[null,{"$f":"Start_Here!E37","v":"Ask your local sales rep for estimated lead times. Verify when placing order"}]
[null,{"$f":"Start_Here!E38","v":"All orders subject to acceptance by Tennant Sales and Service Company, Minneapolis, Minnesota"}]
[null,{"$f":"Start_Here!E39","v":"Prices subject to change without notice. Subject to any applicable taxes."}]
[null,{"$f":"Start_Here!E40","v":"Terms:  Net 30 days.  Payable in Canadian Funds"}]
[null,{"$f":"Start_Here!E41","v":"Freight:  Accessories, parts, supplies, detergents, and floor coatings orders delivered DDP "}]
[null,{"$f":"Start_Here!E42","v":"shipping point Frt PPD.  Machine orders delivered DDP shipping point Frt PPD and add."}]
[null,{"$f":"Start_Here!E43","v":"Returned Merchandise is subject to a restocking fee."}]
[null,{"$f":"Start_Here!E44","v":"All orders are subject to Tennant’s General Terms and Conditions available at http://www.tennantco.com/terms."}]
[null,{"$f":"Start_Here!E45","v":"Printed General Terms and Conditions are also available upon request."}]
[null,{"$f":"Start_Here!E46","v":0}]
[null,{"$f":"Start_Here!E47","v":0}]
[null,{"$f":"Start_Here!E48","v":0}]
[null,null,null,null,"Quote Date :",null,{"$f":"Letter!$A$25","v":"2023-08-01"}]
[null,"Order Placement Information:  To place your order, fill in PO# and customer signatures,"]
[null,"call or fax to the numbers listed below. Customer Purchase Order is required."]
[null,"If information is missing, orders will be entered and held until all information is received."]
[]
[null,null,"Customer Number",null,"Cust Grp 3"]
[null,null,{"$f":"Start_Here!$C$25","v":0},null,{"$f":"Start_Here!$C$29","v":0}]
[null,null,{"$f":"Start_Here!$B$18","v":"Who Owns the Machine? (Sold-To Info) (Please Verify)"}]
["Company",null,{"$f":"Start_Here!$C$19","v":"Company Name"}]
["Address",null,{"$f":"Start_Here!$C$20","v":"Address"}]
[null,null,{"$f":"Start_Here!$C$21","v":"City, State Zip"}]
["Name",null,{"$f":"Start_Here!$C$22","v":"Contact Name"}]
["Phone",null,{"$f":"Start_Here!$C$23","v":"Contact Phone"}]
[]
[null,null,{"$f":"Start_Here!$B$11","v":"Where is the Machine Being Shipped? (Ship-To Info) (Please Verify)"}]
["Company",null,{"$f":"Start_Here!$C$12","v":"Company Name"}]
["Address",null,{"$f":"Start_Here!$C$13","v":"Address"}]
[null,null,{"$f":"Start_Here!$C$14","v":"City, State Zip"}]
["Name",null,{"$f":"Start_Here!$C$15","v":"Contact Name"}]
["Phone",null,{"$f":"Start_Here!$C$16","v":"Contact Phone"}]
[]
[null,null,{"$f":"Start_Here!$B$31","v":"Shipping / Carrier Instructions:"},null,"Order Special Instructions:"]
[null,null,{"$f":"Start_Here!$C$32","v":0}]
[]
[null,null,"Customer Purchase Order No."]
[null,null,"(please attach copy)"]
[]
[]
[null,null,"Tax Exempt",null,"Yes"]
[null,null,null,null,"No"]
[null,null,"If Yes, attach a copy of your exemption certificate."]
[]
[null,null,"Requested Delivery Date"]
[null,null,{"$f":"Start_Here!$C$28","v":0}]
[]
[null,null,{"$f":"Start_Here!$C$26","v":0},null,{"$f":"Start_Here!$C$27","v":0}]
[null,null,"Authorized Buyer (please print)",null,"Phone Number"]
[]
[]
[null,null,"Authorized Buyer Signature"]
[]
[null,null,{"$f":"Start_Here!$C$41","v":"Rep Name"}]
[null,null,"Tennant Representative"]
[]
[null,null,null,"Specialized Maintenance Equipment"]
[null,null,{"$f":"Start_Here!$C$51","v":0}]
[null,null,null,{"$f":"Start_Here!$C$52","v":0}]
[null,"Notes"]
[null,1,"One set of pad drivers come standard. A different brush may be chosen as an option"]
[null,2,"One English manual comes standard.  A manual in a different language may be chosen as an option."]
[null,3,"Skid with carton packaging must be chosen as an option"]
[]
[null,4,"Shipping Weights and Dimensions",null,"Skid w/Carton"]
[]
[null,null,"430 mm/17\" Single Model"]
[null,null,"Weight (w/105AH Battery Pad Drive)",null,"500 lbs / 227 Kg"]
[null,null,"Weight (w/130AH Battery Self Propel Drive)"]
[null,null,"Length",null,"59\" / 1500 mm"]
[null,null,"Width",null,"31\" / 787 mm"]
[null,null,"Height",null,"44\" / 1118 mm"]
[]
[null,null,"500 mm /20\" single Disk Model"]
[null,null,"Weight (w/130AH Battery Pad Drive)",null,"500 lbs / 227 Kg"]
[null,null,"Weight (w/150AH Battery Self Propel)"]
[null,null,"Length",null,"59\" / 1500 mm"]
[null,null,"Width",null,"31\" / 787 mm"]
[null,null,"Height",null,"44\" / 1118 mm"]
[]
[null,null,"600 mm/24\" Dual Disk Model"]
[null,null,"Weight (w/150AH Battery)",null,"538 lbs / 244 Kg"]
[null,null,"Length",null,"59\" / 1500 mm"]
[null,null,"Width",null,"31\" / 787 mm"]
[null,null,"Height",null,"44\" / 1118 mm"]

{"sheet":"SS500_Std_Config","index":33,"n_rows":236,"n_cols":14,"rows_kept":236,"cut":false,"hidden":false,"merged":[[137,5,137,6],[138,3,138,4],[138,5,138,6],[139,3,139,4],[139,5,139,6],[137,3,137,4],[33,1,33,4],[0,2,0,3],[1,2,1,3],[2,2,2,3],[3,2,3,3],[11,2,11,6],[111,3,111,4],[111,5,111,6],[113,3,113,4],[113,5,113,6],[34,1,34,4],[35,1,35,4],[36,1,36,4],[37,1,37,4],[38,1,38,4],[45,3,46,3],[126,4,126,8],[128,3,128,6],[130,3,130,4],[131,3,131,4],[133,3,133,4],[133,5,133,6],[134,3,134,4],[134,5,134,6],[135,3,135,4],[135,5,135,6],[136,3,136,4],[136,5,136,6],[171,0,171,1],[171,2,171,5],[148,1,148,6],[169,4,169,6],[181,0,181,1],[181,2,181,5],[172,0,172,1],[172,2,172,5],[173,2,173,5],[174,0,174,1],[174,2,174,5],[175,0,175,1],[175,2,175,5],[178,0,178,1],[178,2,178,5],[179,0,179,1],[179,2,179,5],[180,2,180,5],[198,4,198,5],[182,0,182,1],[182,2,182,5],[185,4,185,6],[187,2,187,5],[188,2,188,5],[189,2,189,5]]}
["SS500_Std_Config",null,{"$f":"Start_Here!$C19","v":"Company Name"}]
[{"$f":"SUM(G106)","v":0},null,{"$f":"Start_Here!$C20","v":"Address"}]
[null,null,{"$f":"Start_Here!$C21","v":"City, State Zip"}]
[null,null,{"$f":"Start_Here!$C22","v":"Contact Name"}]
[null,null,{"$f":"Start_Here!$C$41","v":"Rep Name"}]
[null,null,{"$f":"Start_Here!$C$37","v":"Tennant Sales and Service Company"}]
[null,null,{"$f":"Start_Here!$C$38","v":"10400 Clean Street"}]
[null,null,{"$f":"Start_Here!$C$39","v":"Eden Prairie, MN 55344"}]
[null,null,{"$f":"Start_Here!$C$43","v":"800-553-8033"},null,"Quote Date :",null,{"$f":"Letter!$A$25","v":"2023-08-01"}]
[]
[null,null,{"$f":"Help!C2","v":"CAN Date Rev - 5/6/2025"}]
[null,null,"BUILT-IN “NOBLES VALUE” INCLUDES:"]
[]
[null,"Tanks: 85 L/22.5 gal Solution & 102 L/27 gal Recovery",null,"Yellow maintenance touch points"]
[null,"1-STEP™ Button Memory Controls",null,"Emergency Stop Kit"]
[null,"Extremely Low Noise Levels Standard  (≤68.5 dBA)",null,"Key Switch for Safety"]
[null,"On Board Diagnostics",null,"Standard (4) 6 V 225AH Battery Pack (Optional AGM Batteries)"]
[null,"Cast Aluminum Squeegee Frame & Scrub Decks (D/C)",null,"Drain hose with pinch cuff to control water flow"]
[null,"11 Gauge Steel Scrub Deck (Orbital Only)",null,"On-board Charger with power cord"]
[null,"2 selectable down pressures",null,"Closed Machine Venting for Battery Charging"]
[null,"4 Selectable water flow settings",null,"100% Water recovery in 180º  turns w/ standard squeegee"]
[null,"Front Water Fill Port",null,"Insta-Fit™ No-Tool Pad Driver and Brush Attachment (Disk machines)"]
[null,"Automatic: Water On / Off ",null,"No-Tool Squeegee Change"]
[null,null,"      Brush On / Off","Breakaway Squeegee Design w/ Integrated P-Trap"]
[null,null,"      Brush Shutoff at 80% Discharge","Factory Set Squeegee Assembly for Maximum Recovery"]
[null,"Integrated Accessory Rails with Bag Hang hooks",null,"Front Linard/Rear Linatex Squeegee Blades with Tool-less Replacement"]
[null,"Excellent Ergonomic Controls Design",null,"Includes Standard Pad Drivers or Scrubbing Brushes (Select One)"]
[null,"Optional ec-H2O NanoClean™ Equipped Models Include:",null,"Free Floating Head Skirt (disk machines)"]
[null,"Electrically Converted Water Technology System",null,"Hour Meter"]
[null,"Two Scrubbing Modes: ec-H2O NanoCleanTM & Conventional Scrub",null,"Operators manual"]
[null,"Rugged Duramer™ Tank Construction",null,"Jacking Points/Shipping Tie Downs"]
[null,"Gray Non-Marking Tires",null,"Sealed Electrical Connectors in key areas"]
[]
[null,"NOBLES WARRANTY"]
[null,"3 YEARS OR 2000 HOURS - PARTS"]
[null,"1 YEAR - BATTERY CHARGERS"]
[null,"3 YEARS OR 2000 HOURS ORBITAL SCRUB HEAD ISOLATORS"]
[null,"2 YEARS - LABOR, 6 MONTHS - TRAVEL"]
[null,"10 YEARS ON DURAMERTM ROTOMOLD TANKS"]
[]
[null,null,null,null,"                Quote Request Information"]
[null,null,null,null,null,null,"Fax (quote only)"]
[null,null,null,null,null,null,"Mail (quote,lit, specs)"]
[null,null,null,null,null,null,"Fax + Mail"]
[]
[null,null,null,null,"                Primary Use"]
[null,null,null,null,null,null,"Inside"]
[null,null,null,null,null,null,"Outside"]
[]
[]
[]
[]
[null,null,"Description","Reference #","Price Each","Qty","Extended Price"]
[null,"Standard Configurations",null,null,null,{"$f":"SUM(F56:F66)","v":0}]
[]
[null,null,"SS500 Walk-Behind - Disk Scrubber, 650mm/26\" disk scrub head, 225AH lead acid battery, on-board charger, two down pressure settings, conventional cleaning, operators manual  (Pad Driver will default unless otherwise specified)","SS500-1001D",21734,null,{"$f":"F56*E56","v":0},{"$f":"IFERROR(IFERROR(VLOOKUP(D56,Surcharge!A:B,2,FALSE)*F56, VLOOKUP(D56 & \"\",Surcharge!A:B,2,FALSE)*F56), \"\")","v":""}]
[null,null,"SS500 Walk-Behind - Disk Scrubber, 700mm/28\" disk scrub head, 225AH lead acid battery, on-board charger, two down pressure settings, conventional cleaning, operators manual (Pad Driver will default unless otherwise specified) ","SS500-1002D",22873,null,0,{"$f":"IFERROR(IFERROR(VLOOKUP(D57,Surcharge!A:B,2,FALSE)*F57, VLOOKUP(D57 & \"\",Surcharge!A:B,2,FALSE)*F57), \"\")","v":""}]
[null,null,"SS500 Walk-Behind - Disk Scrubber, 800mm/32\" disk scrub head, 225AH lead acid battery, on-board charger, two down pressure settings, conventional cleaning, operators manual  (Pad Driver will default unless otherwise specified)","SS500-1003D",24112,null,0,{"$f":"IFERROR(IFERROR(VLOOKUP(D58,Surcharge!A:B,2,FALSE)*F58, VLOOKUP(D58 & \"\",Surcharge!A:B,2,FALSE)*F58), \"\")","v":""}]
[]
[null,null,"SS500 Walk-Behind - Disk Scrubber, 650mm/26\" disk scrub head, 225AH lead acid battery, on-board charger, two down pressure settings, \nec-H20 NanoClean, operators manual                                                          (Pad Driver will default unless otherwise specified)","SS500-2001D",25989,null,0,{"$f":"IFERROR(IFERROR(VLOOKUP(D60,Surcharge!A:B,2,FALSE)*F60, VLOOKUP(D60 & \"\",Surcharge!A:B,2,FALSE)*F60), \"\")","v":""}]
[null,null,"SS500 Walk-Behind - Disk Scrubber, 700mm/28\" disk scrub head, 225AH lead acid battery, on-board charger, two down pressure settings, \nec-H20 NanoClean, operators manual                                                               (Pad Driver will default unless otherwise specified)","SS500-2002D",27128,null,0,{"$f":"IFERROR(IFERROR(VLOOKUP(D61,Surcharge!A:B,2,FALSE)*F61, VLOOKUP(D61 & \"\",Surcharge!A:B,2,FALSE)*F61), \"\")","v":""}]
[null,null,"SS500 Walk-Behind - Disk Scrubber, 800mm/32\" disk scrub head, 225AH lead acid battery, on-board charger, two down pressure settings, \nec-H20 NanoClean, operators manual                                                         (Pad Driver will default unless otherwise specified)","SS500-2003D",28367,null,0,{"$f":"IFERROR(IFERROR(VLOOKUP(D62,Surcharge!A:B,2,FALSE)*F62, VLOOKUP(D62 & \"\",Surcharge!A:B,2,FALSE)*F62), \"\")","v":""}]
[]
[null,null,"SS500 Walk-Behind - Disk Scrubber, 650mm/26\" disk scrub head, 225AH lead acid battery with Smart Fill battery watering, on-board charger, two down pressure settings, ec-H20 NanoClean, operators manual                                (Pad Driver will default unless otherwise specified)","SS500-3001D",27363,null,0,{"$f":"IFERROR(IFERROR(VLOOKUP(D64,Surcharge!A:B,2,FALSE)*F64, VLOOKUP(D64 & \"\",Surcharge!A:B,2,FALSE)*F64), \"\")","v":""}]
[null,null,"SS500 Walk-Behind - Disk Scrubber, 700mm/28\"\" disk scrub head, 225AH lead acid battery with Smart Fill battery watering, on-board charger, two down pressure settings, ec-H20 NanoClean, operators manual                                      (Pad Driver will default unless otherwise specified)","SS500-3002D",28502,null,0,{"$f":"IFERROR(IFERROR(VLOOKUP(D65,Surcharge!A:B,2,FALSE)*F65, VLOOKUP(D65 & \"\",Surcharge!A:B,2,FALSE)*F65), \"\")","v":""}]
[null,null,"SS500 Walk-Behind - Disk Scrubber, 800mm/32\" disk scrub head, 225AH lead acid battery with Smart Fill battery watering, on-board charger, two down pressure settings, ec-H20 NanoClean, operators manual                                   (Pad Driver will default unless otherwise specified)","SS500-3003D",29741,null,0,{"$f":"IFERROR(IFERROR(VLOOKUP(D66,Surcharge!A:B,2,FALSE)*F66, VLOOKUP(D66 & \"\",Surcharge!A:B,2,FALSE)*F66), \"\")","v":""}]
[]
[null,"OPTIONAL","Brushes - in place of Pad Driver (2 Required)  (Note 1)",null,null,{"$f":"SUM(F69:F74)","v":0},null,{"$f":"IFERROR(IFERROR(VLOOKUP(D68,Surcharge!A:B,2,FALSE)*F68, VLOOKUP(D68 & \"\",Surcharge!A:B,2,FALSE)*F68), \"\")","v":""}]
[null,null,"650mm / 26\" Disk Polypropylene Brush",1223989,"N/C     ",null,{"$f":"IF(F69=0,\" \",\"N/C\")","v":" "},{"$f":"IFERROR(IFERROR(VLOOKUP(D69,Surcharge!A:B,2,FALSE)*F69, VLOOKUP(D69 & \"\",Surcharge!A:B,2,FALSE)*F69), \"\")","v":""}]
[null,null,"650mm / 26\" Disk Nylon Brush",1223991,"N/C     ",null," ",{"$f":"IFERROR(IFERROR(VLOOKUP(D70,Surcharge!A:B,2,FALSE)*F70, VLOOKUP(D70 & \"\",Surcharge!A:B,2,FALSE)*F70), \"\")","v":""}]
[null,null,"700mm / 28\" Disk Polypropylene Brush",1220218,"N/C     ",null," ",{"$f":"IFERROR(IFERROR(VLOOKUP(D71,Surcharge!A:B,2,FALSE)*F71, VLOOKUP(D71 & \"\",Surcharge!A:B,2,FALSE)*F71), \"\")","v":""}]
[null,null,"700mm / 28\" Disk Nylon Brush",1221541,"N/C     ",null," ",{"$f":"IFERROR(IFERROR(VLOOKUP(D72,Surcharge!A:B,2,FALSE)*F72, VLOOKUP(D72 & \"\",Surcharge!A:B,2,FALSE)*F72), \"\")","v":""}]
[null,null,"800mm / 32\" Disk Polypropylene Brush",1220216,"N/C     ",null," ",{"$f":"IFERROR(IFERROR(VLOOKUP(D73,Surcharge!A:B,2,FALSE)*F73, VLOOKUP(D73 & \"\",Surcharge!A:B,2,FALSE)*F73), \"\")","v":""}]
[null,null,"800mm / 32\" Disk Nylon Brush",1220215,"N/C     ",null," ",{"$f":"IFERROR(IFERROR(VLOOKUP(D74,Surcharge!A:B,2,FALSE)*F74, VLOOKUP(D74 & \"\",Surcharge!A:B,2,FALSE)*F74), \"\")","v":""}]
[]
[]
[null,"OPTIONAL","Manuals  (Note 2)",null,null,{"$f":"SUM(F78:F82)","v":0}]
[null,null,"SS500 Operator Manual (Spanish) - in place of English manual",9015514,"N/C     ",null,{"$f":"IF(F78=0,\" \",\"N/C\")","v":" "},{"$f":"IFERROR(IFERROR(VLOOKUP(D78,Surcharge!A:B,2,FALSE)*F78, VLOOKUP(D78 & \"\",Surcharge!A:B,2,FALSE)*F78), \"\")","v":""}]
[null,null,"SS500 Operator Manual (French) - in place of English manual",9015515,"N/C     ",null," ",{"$f":"IFERROR(IFERROR(VLOOKUP(D79,Surcharge!A:B,2,FALSE)*F79, VLOOKUP(D79 & \"\",Surcharge!A:B,2,FALSE)*F79), \"\")","v":""}]
[null,null,"Additional Operator Manual","See Above",188,null,{"$f":"F80*E80","v":0}]
[null,null,"SS500 Parts Manual",9015512,76,null,0,{"$f":"IFERROR(IFERROR(VLOOKUP(D81,Surcharge!A:B,2,FALSE)*F81, VLOOKUP(D81 & \"\",Surcharge!A:B,2,FALSE)*F81), \"\")","v":""}]
[null,null,"SS500 Service Manual",9015517,188,null,0,{"$f":"IFERROR(IFERROR(VLOOKUP(D82,Surcharge!A:B,2,FALSE)*F82, VLOOKUP(D82 & \"\",Surcharge!A:B,2,FALSE)*F82), \"\")","v":""}]
[]
[]
[null,"REQUIRED","Packaging  (Note 3)",null," ",{"$f":"SUM(F86)","v":0},null,{"$f":"IFERROR(IFERROR(VLOOKUP(D85,Surcharge!A:B,2,FALSE)*F85, VLOOKUP(D85 & \"\",Surcharge!A:B,2,FALSE)*F85), \"\")","v":""}]
[null,null,"Skid w/Carton, Stackable",9015450,"N/C     ",null,{"$f":"IF(F86=0,\" \",\"N/C\")","v":" "},{"$f":"IFERROR(IFERROR(VLOOKUP(D86,Surcharge!A:B,2,FALSE)*F86, VLOOKUP(D86 & \"\",Surcharge!A:B,2,FALSE)*F86), \"\")","v":""}]
[]
[]
[]
[]
[null,null,null,null,{"$f":"ROUND(SUM(G56:G90), 0)","v":0},{"$f":"SUM(E92)","v":0}]
[null,null,null,"Machine Subtotal ",{"$f":"ROUND(SUM(G56:G90), 0)","v":0},{"$f":"F91","v":0}]
[null,"Discounts",null,null,null,{"$f":"SUM(F94)","v":0}]
[null,null,null,null,null,{"$f":"SUM(F96:F99)","v":0}]
[null,null,null,"Applicable Currency Adj %",null,{"$f":"IF(E95 <> \"\", 1, 0)","v":0},{"$f":"IF(F95*(E95*0.01)*E91 < 0, F95*(E95*0.01)*E91, -(F95*(E95*0.01)*E91))","v":0}]
[null,null,null,"Discount %",null,{"$f":"IF(E96 <> \"\", 1, 0)","v":0},{"$f":"IF(F96*(E96*0.01)*(E91+G95) < 0, F96*(E96*0.01)*(E91+G95), -(F96*(E96*0.01)*(E91+G95)))","v":0}]
[null,null,null,"Discount $",null,0,{"$f":"IF(F97*E97 < 0, F97*E97, -(F97*E97))","v":0}]
[null,null,null,"Discount $",null,0,{"$f":"IF(F98*E98 < 0, F98*E98, -(F98*E98))","v":0}]
[null,null,null,"Discount $",null,0,{"$f":"IF(F99*E99 < 0, F99*E99, -(F99*E99))","v":0}]
[null,null,null,"Discount Total ",{"$f":"SUM(G95:G99)","v":0},{"$f":"SUM(E100)","v":0}]
[null,null,null,null,null,{"$f":"#REF!","v":{"$error":"#REF!"}}]
[null,null,null,null,null,{"$f":"F101","v":{"$error":"#REF!"}}]
[null,null,"Prepaid and Add","Freight",null,{"$f":"IF(E103 <> \"\", 1, 0)","v":0},{"$f":"F103*E103","v":0}]
[null,null,"Subject to all applicable taxes","Tax",null,0,0]
[null,null,null,null,null,{"$f":"SUM(F106)","v":0}]
[null,null,null,"MACHINE TOTAL*",null,{"$f":"SUM(G106)","v":0},{"$f":"SUM(G56:G104)","v":0},null,null,null,null,null,null,"This goes to \"My Documents\""]
[null,null,null,null,null,null,{"$f":"SUM(G106)","v":0}]
[]
[]
[]
[]
[null,null,"Wells Fargo - Leasing Calculation Option:","Option 1",null,"Option 2",null,null,null,{"$f":"Financing!A38","v":"Rates 2025 - Rev.2/4/2025"}]
[null,null,null,"Monthly Payment","Cost Per Day","Monthly Payment","Cost Per Day",null,null,{"$f":"Financing!A39","v":"“Blank Payment Amounts Indicate The Financing Option Or Purchase Options Selected Are Not "}]
[null,null,"Purchase Option:","$1 Buyout Lease",null,"None",null,null,null,{"$f":"Financing!A40","v":"Applicable Or The Machine Total Is Below The Minimum Amount For The Selected Vendor”"}]
[null,null,"24 Months",0,0,0,0,null,null,{"$f":"Financing!A41","v":"\"Quoted monthly payments are estimates only and are based on a certain level of credit rating."}]
[null,null,"36 Months",0,0,0,0,null,null,{"$f":"Financing!A42","v":"Actual monthly payments may be higher depending on your credit rating.\""}]
[null,null,"48 Months",0,0,0,0,null,null,{"$f":"Financing!A43","v":"“Financing rates do not include Pre-Paid Service”"}]
[null,null,"60 Months",0,0,0,0,null,{"$f":"Financing!A44","v":0}]
[]
[null,null,null,"Benefits of Equipment Financing:"]
[null,null,null,"• Spreads out investment over time.",null,"• Keep current with latest technology."]
[null,null,null,"• Preserve capital.",null,"• Service and parts bundling available."]
[null,null,null,"• Low monthly payment.",null,"• Pay for labor savings as you go."]
[]
[null,"  TennantTrue",null,0,0]
[]
[null,null,"Is customer interested in service program?","Yes","*State/County selection required for TennantTrue service options"]
[]
[null,null,"If not, why?"]
[]
[null,null,"Term:",36,null,null,"AB Brushes","No"]
[null,null,"Monthly machine usage (hrs):","< 30/mo. (Avg. 1hr./day)"]
[]
[null,null,"TennantTrue: ","Gold Contract",null,"Silver Contract"]
[null,null,"Per Visit",null,null,425]
[null,null,"Monthly",129,null,69]
[null,null,"Annually",null,null,816]
[null,null,"Pre-Pay Full Term",4444,null,2397]
[null,null,"Hourly Labor Rate"]
[null,null,"Site Visit"]
[]
[null,null,"* Verify customer current pricing prior to quote. "]
[null,null,"**All rates and fees above reflect service for one (1) unit with the exception of Block of Time service."]
[null,null,"*Block of Time is available in 1 Year Term only and is priced as such no matter the term selection on this template."]
[]
[]
[]
[null,"Quote Special Instructions:"]
[]
[]
[null,{"$f":"Start_Here!E36","v":"Terms and Conditions"}]
[null,{"$f":"Start_Here!E37","v":"Ask your local sales rep for estimated lead times. Verify when placing order"}]
[null,{"$f":"Start_Here!E38","v":"All orders subject to acceptance by Tennant Sales and Service Company, Minneapolis, Minnesota"}]
[null,{"$f":"Start_Here!E39","v":"Prices subject to change without notice. Subject to any applicable taxes."}]
[null,{"$f":"Start_Here!E40","v":"Terms:  Net 30 days.  Payable in Canadian Funds"}]
[null,{"$f":"Start_Here!E41","v":"Freight:  Accessories, parts, supplies, detergents, and floor coatings orders delivered DDP "}]
[null,{"$f":"Start_Here!E42","v":"shipping point Frt PPD.  Machine orders delivered DDP shipping point Frt PPD and add."}]
[null,{"$f":"Start_Here!E43","v":"Returned Merchandise is subject to a restocking fee."}]
[null,{"$f":"Start_Here!E44","v":"All orders are subject to Tennant’s General Terms and Conditions available at http://www.tennantco.com/terms."}]
[null,{"$f":"Start_Here!E45","v":"Printed General Terms and Conditions are also available upon request."}]
[null,{"$f":"Start_Here!E46","v":0}]
[null,{"$f":"Start_Here!E47","v":0}]
[null,{"$f":"Start_Here!E48","v":0}]
[null,null,null,null,"Quote Date :",null,{"$f":"Letter!$A$25","v":"2023-08-01"}]
[null,"Order Placement Information:  To place your order, fill in PO# and customer signatures,"]
[null,"call or fax to the numbers listed below. Customer Purchase Order is required."]
[null,"If information is missing, orders will be entered and held until all information is received."]
[]
[null,null,"Customer Number",null,"Cust Grp 3"]
[null,null,{"$f":"Start_Here!$C$25","v":0},null,{"$f":"Start_Here!$C$29","v":0}]
[null,null,{"$f":"Start_Here!$B$18","v":"Who Owns the Machine? (Sold-To Info) (Please Verify)"}]
["Company",null,{"$f":"Start_Here!$C$19","v":"Company Name"}]
["Address",null,{"$f":"Start_Here!$C$20","v":"Address"}]
[null,null,{"$f":"Start_Here!$C$21","v":"City, State Zip"}]
["Name",null,{"$f":"Start_Here!$C$22","v":"Contact Name"}]
["Phone",null,{"$f":"Start_Here!$C$23","v":"Contact Phone"}]
[]
[null,null,{"$f":"Start_Here!$B$11","v":"Where is the Machine Being Shipped? (Ship-To Info) (Please Verify)"}]
["Company",null,{"$f":"Start_Here!$C$12","v":"Company Name"}]
["Address",null,{"$f":"Start_Here!$C$13","v":"Address"}]
[null,null,{"$f":"Start_Here!$C$14","v":"City, State Zip"}]
["Name",null,{"$f":"Start_Here!$C$15","v":"Contact Name"}]
["Phone",null,{"$f":"Start_Here!$C$16","v":"Contact Phone"}]
[]
[null,null,{"$f":"Start_Here!$B$31","v":"Shipping / Carrier Instructions:"},null,"Order Special Instructions:"]
[null,null,{"$f":"Start_Here!$C$32","v":0}]
[]
[null,null,"Customer Purchase Order No."]
[null,null,"(please attach copy)"]
[]
[]
[null,null,"Tax Exempt",null,"Yes"]
[null,null,null,null,"No"]
[null,null,"If Yes, attach a copy of your exemption certificate."]
[]
[null,null,"Requested Delivery Date"]
[null,null,{"$f":"Start_Here!$C$28","v":0}]
[]
[null,null,{"$f":"Start_Here!$C$26","v":0},null,{"$f":"Start_Here!$C$27","v":0}]
[null,null,"Authorized Buyer (please print)",null,"Phone Number"]
[]
[]
[null,null,"Authorized Buyer Signature"]
[]
[null,null,{"$f":"Start_Here!$C$41","v":"Rep Name"}]
[null,null,"Tennant Representative"]
[]
[null,null,null,"Specialized Maintenance Equipment"]
[null,null,{"$f":"Start_Here!$C$51","v":0}]
[null,null,null,{"$f":"Start_Here!$C$52","v":0}]
[]
[]
[null,"Notes:"]
[null,1,"One set of pad drivers come standard. A different brush may be chosen as an option"]
[null,2,"One English manual comes standard.  A manual in a different language may be chosen as an option."]
[null,3,"Skid with carton packaging must be chosen as an option"]
[]
[null,4,"Shipping Weights and Dimensions",null,"Skid w/Carton"]
[]
[null,null,"26\" / 650mm Disk"]
[null,null,"Weight",null,"635 lbs / 289 Kg"]
[null,null,"Length",null,"73\" / 1,855mm"]
[null,null,"Width",null,"43\" / 1,093mm"]
[null,null,"Height",null,"52\" / 1,321mm"]
[]
[null,null,"28\" / 700mm Disk"]
[null,null,"Weight",null,"645 lbs / 293 Kg"]
[null,null,"Length",null,"73\" / 1,855mm"]
[null,null,"Width",null,"43\" / 1,093mm"]
[null,null,"Height",null,"52\" / 1,321mm"]
[]
[null,null,"32\" / 800mm Disk"]
[null,null,"Weight",null,"770 lbs / 350 Kg"]
[null,null,"Length",null,"73\" / 1,855mm"]
[null,null,"Width",null,"43\" / 1,093mm"]
[null,null,"Height",null,"52\" / 1,321mm"]

{"sheet":"SSR_Std_Config","index":34,"n_rows":207,"n_cols":14,"rows_kept":207,"cut":false,"hidden":false,"merged":[[123,3,123,4],[123,5,123,6],[120,3,120,4],[120,5,120,6],[121,3,121,4],[121,5,121,6],[122,3,122,4],[122,5,122,6],[117,3,117,4],[117,5,117,6],[118,3,118,4],[118,5,118,6],[119,3,119,4],[119,5,119,6],[28,2,28,6],[0,2,0,3],[1,2,1,3],[2,2,2,3],[3,2,3,3],[11,2,11,6],[115,3,115,4],[29,2,29,6],[30,2,30,6],[95,3,95,4],[95,5,95,6],[97,3,97,4],[97,5,97,6],[110,4,110,8],[112,3,112,6],[114,3,114,4],[132,1,132,6],[153,4,153,6],[155,0,155,1],[155,2,155,5],[156,0,156,1],[156,2,156,5],[166,0,166,1],[166,2,166,5],[157,2,157,5],[158,0,158,1],[158,2,158,5],[159,0,159,1],[159,2,159,5],[162,0,162,1],[162,2,162,5],[163,0,163,1],[163,2,163,5],[164,2,164,5],[165,0,165,1],[165,2,165,5],[169,4,169,6],[171,2,171,5],[172,2,172,5],[173,2,173,5],[182,4,182,5]]}
["SSR_Std_Config",null,{"$f":"Start_Here!$C19","v":"Company Name"}]
[{"$f":"SUM(G90)","v":0},null,{"$f":"Start_Here!$C20","v":"Address"}]
[null,null,{"$f":"Start_Here!$C21","v":"City, State Zip"}]
[null,null,{"$f":"Start_Here!$C22","v":"Contact Name"}]
[null,null,{"$f":"Start_Here!$C$41","v":"Rep Name"}]
[null,null,{"$f":"Start_Here!$C$37","v":"Tennant Sales and Service Company"}]
[null,null,{"$f":"Start_Here!$C$38","v":"10400 Clean Street"}]
[null,null,{"$f":"Start_Here!$C$39","v":"Eden Prairie, MN 55344"}]
[null,null,{"$f":"Start_Here!$C$43","v":"800-553-8033"},null,"Quote Date :",null,{"$f":"Letter!$A$25","v":"2023-08-01"}]
[]
[null,null,{"$f":"Help!C2","v":"CAN Date Rev - 5/6/2025"}]
[null,null,"BUILT-IN “NOBLES VALUE” INCLUDES:"]
[]
[null,"Fully Cleanable HygenicTM Tanks",null,"Unsurpassed Ergonomic Design"]
[null,"Extremely Low 67 dBa Noise Levels",null,"Standard 240 AH Battery Pack (Optional 360 AH)"]
[null,"Unmatched Solution Recovery",null,"Charger"]
[null,"One-Button Scrubbing Operation",null,"Edge & Reach Under Cleaning"]
[null,"Economy Mode (extends run time up to 4.5 hours)",null,"No Tool Brush / Squegee Change"]
[null,"On Board Diagnostics",null,"Standard Scrubbing Brushes & Pad Drivers (Select One Type)"]
[null,"Touch Panel Controls",null,"Vacuum Fan In-Line Air Filter Cartridge"]
[null,"Automatic:",null,"Brush Shutoff When Idle"]
[null,null,"Squeegee Lift","Brush Shutoff at 80% Discharge"]
[null,null,"Water Shutoff","FaSTTM Equipped Models Include:"]
[null,"ec-H2O NanoCleanTM Equipped Models Include:",null,"Foam Scrubbing Technology System"]
[null,"Electrically Converted Water Technology System",null,"Two Scrubbing Modes: FaSTTM & Conventional Scrubbing"]
[null,"Two Scrubbing Modes: ec-H2O NanoCleanTM & Conventional Scrubbing",null,"On-Board  FaST-PAKTM 2L Detergent Cartridge (Select One)"]
[null,"Audio Back Up Alarm",null,"Operator DVD"]
[]
[null,null,"NOBLES WARRANTY"]
[null,null,"3 YEARS OR 1500 HOURS ON ALL COMPONENTS, 3 YEARS LABOR"]
[null,null,"90 DAYS TRAVEL, 10 YEARS ON DURAMERTM TANKS"]
[]
[null,null,null,null,"                Quote Request Information"]
[null,null,null,null,null,null,"Fax (quote only)"]
[null,null,null,null,null,null,"Mail (quote,lit, specs)"]
[null,null,null,null,null,null,"Fax + Mail"]
[]
[null,null,null,null,"                Primary Use"]
[null,null,null,null,null,null,"Inside"]
[null,null,null,null,null,null,"Outside"]
[]
[]
[null,null,"Description","Reference #","Price Each","Qty","Extended Price"]
[null,"Standard Configurations (SSR)",null,null,"CANADA",{"$f":"SUM(F45)","v":0},null,{"$f":"IFERROR(IFERROR(VLOOKUP(D44,Surcharge!A:B,2,FALSE)*F44, VLOOKUP(D44 & \"\",Surcharge!A:B,2,FALSE)*F44), \"\")","v":""}]
[null,null,"Description",null,null,{"$f":"SUM(F46:F53)","v":0},null,{"$f":"IFERROR(IFERROR(VLOOKUP(D45,Surcharge!A:B,2,FALSE)*F45, VLOOKUP(D45 & \"\",Surcharge!A:B,2,FALSE)*F45), \"\")","v":""}]
[null,null,"SSR Rider - Disk Scrubber, 26\" disk scrub head, 240AH lead acid battery, conventional cleaning, on-board charger, pad driver, operators manual","SSR-1001D",37617,null,{"$f":"F46*E46","v":0},{"$f":"IFERROR(IFERROR(VLOOKUP(D46,Surcharge!A:B,2,FALSE)*F46, VLOOKUP(D46 & \"\",Surcharge!A:B,2,FALSE)*F46), \"\")","v":""}]
[null,null,"SSR Rider - Disk Scrubber, 32\" disk scrub head, 240AH lead acid battery, conventional cleaning, on-board charger, pad driver, operators manual ","SSR-1002D",40328,null,{"$f":"F47*E47","v":0},{"$f":"IFERROR(IFERROR(VLOOKUP(D47,Surcharge!A:B,2,FALSE)*F47, VLOOKUP(D47 & \"\",Surcharge!A:B,2,FALSE)*F47), \"\")","v":""}]
[]
[null,null,"SSR Rider - Disk Scrubber, 26\" disk scrub head, ec-H20 NanoClean, 240AH lead acid battery, on-board charger, pad driver, operators manual","SSR-2001D",42395,null,0,{"$f":"IFERROR(IFERROR(VLOOKUP(D49,Surcharge!A:B,2,FALSE)*F49, VLOOKUP(D49 & \"\",Surcharge!A:B,2,FALSE)*F49), \"\")","v":""}]
[null,null,"SSR Rider - Disk Scrubber, 32\" disk scrub head, ec-H20 NanoClean, 240AH lead acid battery, on-board charger, pad driver, operators manual","SSR-2002D",45106,null,0,{"$f":"IFERROR(IFERROR(VLOOKUP(D50,Surcharge!A:B,2,FALSE)*F50, VLOOKUP(D50 & \"\",Surcharge!A:B,2,FALSE)*F50), \"\")","v":""}]
[]
[null,null,"SSR Rider - Disk Scrubber, 26\" disk scrub head, ec-H20 NanoClean, 360AH lead acid battery with Manual watering system, \non-board charger, pad driver, operators manual","SSR-3001D",44259,null,0,{"$f":"IFERROR(IFERROR(VLOOKUP(D52,Surcharge!A:B,2,FALSE)*F52, VLOOKUP(D52 & \"\",Surcharge!A:B,2,FALSE)*F52), \"\")","v":""}]
[null,null,"SSR Rider - Disk Scrubber, 32\" disk scrub head, ec-H20 NanoClean, 360AH lead acid battery with Manual watering system, \non-board charger, pad driver, operators manual","SSR-3002D",46970,null,0,{"$f":"IFERROR(IFERROR(VLOOKUP(D53,Surcharge!A:B,2,FALSE)*F53, VLOOKUP(D53 & \"\",Surcharge!A:B,2,FALSE)*F53), \"\")","v":""}]
[]
[]
[null,"OPTIONAL","Brushes - in place of Pad Driver (2 Required)  (Note 1)",null,null,{"$f":"SUM(F57:F60)","v":0}]
[null,null,"650mm / 26\" Disk Nylon Brush",1220226,"N/C     ",null,{"$f":"IF(F57=0,\" \",\"N/C\")","v":" "},{"$f":"IFERROR(IFERROR(VLOOKUP(D57,Surcharge!A:B,2,FALSE)*F57, VLOOKUP(D57 & \"\",Surcharge!A:B,2,FALSE)*F57), \"\")","v":""}]
[null,null,"650mm / 26\" Disk Polypropylene Brush",1220223,"N/C     ",null," ",{"$f":"IFERROR(IFERROR(VLOOKUP(D58,Surcharge!A:B,2,FALSE)*F58, VLOOKUP(D58 & \"\",Surcharge!A:B,2,FALSE)*F58), \"\")","v":""}]
[null,null,"800mm / 32\" Disk Nylon Brush",1220225,"N/C     ",null," ",{"$f":"IFERROR(IFERROR(VLOOKUP(D59,Surcharge!A:B,2,FALSE)*F59, VLOOKUP(D59 & \"\",Surcharge!A:B,2,FALSE)*F59), \"\")","v":""}]
[null,null,"800mm / 32\" Disk Polypropylene Brush",1220224,"N/C     ",null," ",{"$f":"IFERROR(IFERROR(VLOOKUP(D60,Surcharge!A:B,2,FALSE)*F60, VLOOKUP(D60 & \"\",Surcharge!A:B,2,FALSE)*F60), \"\")","v":""}]
[null,null,null,null,null,null,null,{"$f":"IFERROR(IFERROR(VLOOKUP(D61,Surcharge!A:B,2,FALSE)*F61, VLOOKUP(D61 & \"\",Surcharge!A:B,2,FALSE)*F61), \"\")","v":""}]
[]
[null,"OPTIONAL","Manuals  (Note 2)",null,null,{"$f":"SUM(F64:F66)","v":0},null,{"$f":"IFERROR(IFERROR(VLOOKUP(D63,Surcharge!A:B,2,FALSE)*F63, VLOOKUP(D63 & \"\",Surcharge!A:B,2,FALSE)*F63), \"\")","v":""}]
[null,null,"SSR Operator Manual (Spanish) - in place of English manual",331142,"N/C     ",null,{"$f":"IF(F64=0,\" \",\"N/C\")","v":" "},{"$f":"IFERROR(IFERROR(VLOOKUP(D64,Surcharge!A:B,2,FALSE)*F64, VLOOKUP(D64 & \"\",Surcharge!A:B,2,FALSE)*F64), \"\")","v":""}]
[null,null,"SSR Operator Manual (French) - in place of English manual",331143,"N/C     ",null," ",{"$f":"IFERROR(IFERROR(VLOOKUP(D65,Surcharge!A:B,2,FALSE)*F65, VLOOKUP(D65 & \"\",Surcharge!A:B,2,FALSE)*F65), \"\")","v":""}]
[null,null,"SSR Service Manual",331145,200,null,{"$f":"F66*E66","v":0},{"$f":"IFERROR(IFERROR(VLOOKUP(D66,Surcharge!A:B,2,FALSE)*F66, VLOOKUP(D66 & \"\",Surcharge!A:B,2,FALSE)*F66), \"\")","v":""}]
[]
[]
[null,"REQUIRED","Packaging  (Note 3)",null," ",{"$f":"SUM(F70)","v":0}]
[null,null,"Skid w/Carton, Stackable",9000550,"N/C     ",null,{"$f":"IF(F70=0,\" \",\"N/C\")","v":" "}]
[]
[]
[]
[]
[null,null,null,null,{"$f":"ROUND(SUM(G44:G74), 0)","v":0},{"$f":"SUM(E76)","v":0}]
[null,null,null,"Machine Subtotal ",{"$f":"ROUND(SUM(G44:G74), 0)","v":0},{"$f":"F75","v":0}]
[null,"Discounts",null,null,null,{"$f":"SUM(F78)","v":0}]
[null,null,null,null,null,{"$f":"SUM(F80:F83)","v":0}]
[null,null,null,"Applicable Currency Adj %",null,{"$f":"IF(E79 <> \"\", 1, 0)","v":0},{"$f":"IF(F79*(E79*0.01)*E75 < 0, F79*(E79*0.01)*E75, -(F79*(E79*0.01)*E75))","v":0}]
[null,null,null,"Discount %",null,{"$f":"IF(E80 <> \"\", 1, 0)","v":0},{"$f":"IF(F80*(E80*0.01)*(E75+G79) < 0, F80*(E80*0.01)*(E75+G79), -(F80*(E80*0.01)*(E75+G79)))","v":0}]
[null,null,null,"Discount $",null,0,{"$f":"IF(F81*E81 < 0, F81*E81, -(F81*E81))","v":0}]
[null,null,null,"Discount $",null,0,{"$f":"IF(F82*E82 < 0, F82*E82, -(F82*E82))","v":0}]
[null,null,null,"Discount $",null,0,{"$f":"IF(F83*E83 < 0, F83*E83, -(F83*E83))","v":0}]
[null,null,null,"Discount Total ",{"$f":"SUM(G79:G83)","v":0},{"$f":"SUM(E84)","v":0}]
[null,null,null,null,null,{"$f":"#REF!","v":{"$error":"#REF!"}}]
[null,null,null,null,null,{"$f":"F85","v":{"$error":"#REF!"}}]
[null,null,"Prepaid and Add","Freight",null,{"$f":"IF(E87 <> \"\", 1, 0)","v":0},{"$f":"F87*E87","v":0}]
[null,null,"Subject to all applicable taxes","Tax",null,0,0]
[null,null,null,null,null,{"$f":"SUM(F90)","v":0}]
[null,null,null,"MACHINE TOTAL*",null,{"$f":"SUM(G90)","v":0},{"$f":"SUM(G44:G88)","v":0},null,null,null,null,null,null,"This goes to \"My Documents\""]
[null,null,null,null,null,null,{"$f":"SUM(G90)","v":0}]
[]
[]
[]
[]
[null,null,"Wells Fargo - Leasing Calculation Option:","Option 1",null,"Option 2",null,null,null,{"$f":"Financing!A38","v":"Rates 2025 - Rev.2/4/2025"}]
[null,null,null,"Monthly Payment","Cost Per Day","Monthly Payment","Cost Per Day",null,null,{"$f":"Financing!A39","v":"“Blank Payment Amounts Indicate The Financing Option Or Purchase Options Selected Are Not "}]
[null,null,"Purchase Option:","$1 Buyout Lease",null,"None",null,null,null,{"$f":"Financing!A40","v":"Applicable Or The Machine Total Is Below The Minimum Amount For The Selected Vendor”"}]
[null,null,"24 Months",0,0,0,0,null,null,{"$f":"Financing!A41","v":"\"Quoted monthly payments are estimates only and are based on a certain level of credit rating."}]
[null,null,"36 Months",0,0,0,0,null,null,{"$f":"Financing!A42","v":"Actual monthly payments may be higher depending on your credit rating.\""}]
[null,null,"48 Months",0,0,0,0,null,null,{"$f":"Financing!A43","v":"“Financing rates do not include Pre-Paid Service”"}]
[null,null,"60 Months",0,0,0,0,null,{"$f":"Financing!A44","v":0}]
[]
[null,null,null,"Benefits of Equipment Financing:"]
[null,null,null,"• Spreads out investment over time.",null,"• Keep current with latest technology."]
[null,null,null,"• Preserve capital.",null,"• Service and parts bundling available."]
[null,null,null,"• Low monthly payment.",null,"• Pay for labor savings as you go."]
[]
[null,"  TennantTrue",null,0,0]
[]
[null,null,"Is customer interested in service program?","Yes","*State/County selection required for TennantTrue service options"]
[]
[null,null,"If not, why?"]
[]
[null,null,"Term:",36,null,null,"AB Brushes","No"]
[null,null,"Monthly machine usage (hrs):","< 30/mo. (Avg. 1hr./day)"]
[]
[null,null,"TennantTrue: ","Gold Contract",null,"Silver Contract"]
[null,null,"Per Visit",null,null,501]
[null,null,"Monthly",164,null,88]
[null,null,"Annually",null,null,1035]
[null,null,"Pre-Pay Full Term",5682,null,3042]
[null,null,"Hourly Labor Rate"]
[null,null,"Site Visit"]
[]
[null,null,"* Verify customer current pricing prior to quote. "]
[null,null,"**All rates and fees above reflect service for one (1) unit with the exception of Block of Time service."]
[null,null,"*Block of Time is available in 1 Year Term only and is priced as such no matter the term selection on this template."]
[]
[]
[]
[null,"Quote Special Instructions:"]
[]
[]
[null,{"$f":"Start_Here!E36","v":"Terms and Conditions"}]
[null,{"$f":"Start_Here!E37","v":"Ask your local sales rep for estimated lead times. Verify when placing order"}]
[null,{"$f":"Start_Here!E38","v":"All orders subject to acceptance by Tennant Sales and Service Company, Minneapolis, Minnesota"}]
[null,{"$f":"Start_Here!E39","v":"Prices subject to change without notice. Subject to any applicable taxes."}]
[null,{"$f":"Start_Here!E40","v":"Terms:  Net 30 days.  Payable in Canadian Funds"}]
[null,{"$f":"Start_Here!E41","v":"Freight:  Accessories, parts, supplies, detergents, and floor coatings orders delivered DDP "}]
[null,{"$f":"Start_Here!E42","v":"shipping point Frt PPD.  Machine orders delivered DDP shipping point Frt PPD and add."}]
[null,{"$f":"Start_Here!E43","v":"Returned Merchandise is subject to a restocking fee."}]
[null,{"$f":"Start_Here!E44","v":"All orders are subject to Tennant’s General Terms and Conditions available at http://www.tennantco.com/terms."}]
[null,{"$f":"Start_Here!E45","v":"Printed General Terms and Conditions are also available upon request."}]
[null,{"$f":"Start_Here!E46","v":0}]
[null,{"$f":"Start_Here!E47","v":0}]
[null,{"$f":"Start_Here!E48","v":0}]
[null,null,null,null,"Quote Date :",null,{"$f":"Letter!$A$25","v":"2023-08-01"}]
[null,"Order Placement Information:  To place your order, fill in PO# and customer signatures,"]
[null,"call or fax to the numbers listed below. Customer Purchase Order is required."]
[null,"If information is missing, orders will be entered and held until all information is received."]
[]
[null,null,"Customer Number",null,"Cust Grp 3"]
[null,null,{"$f":"Start_Here!$C$25","v":0},null,{"$f":"Start_Here!$C$29","v":0}]
[null,null,{"$f":"Start_Here!$B$18","v":"Who Owns the Machine? (Sold-To Info) (Please Verify)"}]
["Company",null,{"$f":"Start_Here!$C$19","v":"Company Name"}]
["Address",null,{"$f":"Start_Here!$C$20","v":"Address"}]
[null,null,{"$f":"Start_Here!$C$21","v":"City, State Zip"}]
["Name",null,{"$f":"Start_Here!$C$22","v":"Contact Name"}]
["Phone",null,{"$f":"Start_Here!$C$23","v":"Contact Phone"}]
[]
[null,null,{"$f":"Start_Here!$B$11","v":"Where is the Machine Being Shipped? (Ship-To Info) (Please Verify)"}]
["Company",null,{"$f":"Start_Here!$C$12","v":"Company Name"}]
["Address",null,{"$f":"Start_Here!$C$13","v":"Address"}]
[null,null,{"$f":"Start_Here!$C$14","v":"City, State Zip"}]
["Name",null,{"$f":"Start_Here!$C$15","v":"Contact Name"}]
["Phone",null,{"$f":"Start_Here!$C$16","v":"Contact Phone"}]
[]
[null,null,{"$f":"Start_Here!$B$31","v":"Shipping / Carrier Instructions:"},null,"Order Special Instructions:"]
[null,null,{"$f":"Start_Here!$C$32","v":0}]
[]
[null,null,"Customer Purchase Order No."]
[null,null,"(please attach copy)"]
[]
[]
[null,null,"Tax Exempt",null,"Yes"]
[null,null,null,null,"No"]
[null,null,"If Yes, attach a copy of your exemption certificate."]
[]
[null,null,"Requested Delivery Date"]
[null,null,{"$f":"Start_Here!$C$28","v":0}]
[]
[null,null,{"$f":"Start_Here!$C$26","v":0},null,{"$f":"Start_Here!$C$27","v":0}]
[null,null,"Authorized Buyer (please print)",null,"Phone Number"]
[]
[]
[null,null,"Authorized Buyer Signature"]
[]
[null,null,{"$f":"Start_Here!$C$41","v":"Rep Name"}]
[null,null,"Tennant Representative"]
[]
[null,null,null,"Specialized Maintenance Equipment"]
[null,null,{"$f":"Start_Here!$C$51","v":0}]
[null,null,null,{"$f":"Start_Here!$C$52","v":0}]
[]
[]
[null,"Notes:"]
[null,1,"One set of pad drivers come standard. A different brush may be chosen as an option at no additional charge."]
[null,2,"One English manual comes standard.  A manual in a different language may be chosen as an option."]
[null,3,"Skid with carton packaging must be chosen as an option"]
[]
[null,4,"Shipping Weights and Dimensions","Pad Wrap","Skid w/Carton"]
[]
[null,null,"Weight (with 235AH batteries)","975 lbs / 443 kg","1000 lbs / 454 kg"]
[null,null,"Length","60\" / 1,524mm","62\" / 1,574mm"]
[null,null,"Width","39\" / 991mm","33\" / 838mm"]
[null,null,"Height","50\" / 1,270","48\" / 1,219mm"]

{"sheet":"SS300","index":35,"n_rows":357,"n_cols":14,"rows_kept":357,"cut":false,"hidden":false,"merged":[[211,3,211,4],[211,5,211,6],[215,5,215,6],[212,5,212,6],[213,3,213,4],[213,5,213,6],[214,3,214,4],[214,5,214,6],[340,4,341,4],[11,2,11,6],[36,1,36,5],[37,1,37,5],[38,1,38,5],[39,1,39,5],[41,1,41,5],[187,3,187,4],[187,5,187,6],[189,3,189,4],[189,5,189,6],[17,1,17,2],[202,4,202,8],[212,3,212,4],[215,3,215,4],[209,5,209,6],[0,2,0,3],[1,2,1,3],[2,2,2,3],[3,2,3,3],[209,3,209,4],[252,2,252,5],[246,4,246,6],[333,4,334,4],[275,4,275,5],[259,2,259,5],[262,4,262,6],[264,2,264,5],[265,2,265,5],[266,2,266,5],[255,2,255,5],[256,2,256,5],[257,2,257,5],[258,2,258,5],[251,0,251,1],[249,0,249,1],[248,0,248,1],[40,1,40,5],[204,3,204,6],[206,3,206,4],[207,3,207,4],[248,2,248,5],[249,2,249,5],[250,2,250,5],[251,2,251,5],[224,1,224,6],[210,3,210,4],[210,5,210,6],[259,0,259,1],[258,0,258,1],[256,0,256,1],[255,0,255,1],[252,0,252,1]]}
["SS300",null,{"$f":"Start_Here!$C19","v":"Company Name"}]
[{"$f":"SUM(G182)","v":0},null,{"$f":"Start_Here!$C20","v":"Address"}]
[null,null,{"$f":"Start_Here!$C21","v":"City, State Zip"}]
[null,null,{"$f":"Start_Here!$C22","v":"Contact Name"}]
[null,null,{"$f":"Start_Here!$C$41","v":"Rep Name"}]
[null,null,{"$f":"Start_Here!$C$37","v":"Tennant Sales and Service Company"}]
[null,null,{"$f":"Start_Here!$C$38","v":"10400 Clean Street"}]
[null,null,{"$f":"Start_Here!$C$39","v":"Eden Prairie, MN 55344"}]
[null,null,{"$f":"Start_Here!$C$43","v":"800-553-8033"},null,"Quote Date :",null,{"$f":"Letter!$A$25","v":"2023-08-01"}]
[]
[null,null,{"$f":"Help!C2","v":"CAN Date Rev - 5/6/2025"}]
[null,null,"BUILT-IN “NOBLES VALUE” INCLUDES:"]
[]
[null,"42L/11 gal Solution Tank  & 53 L/14 gal Recovery Tank",null,"Wet 130AH and Wet 150AH Battery options available."]
[null,"Rugged DuramerTM Rotomold Tank Construction",null,"Emergency Stop  (standard on all drive units)"]
[null,"HygienicTM Recovery Tank",null,"Free Floating Head Skirt (disk machines)"]
[null,"Single Setting Down Pressure (Standard)"]
[null,"Multiple Setting Down Pressure (Optional)",null,"Front Water Fill Port w/ Hose Hook"]
[null,"Adjustable Solution Flow",null,"Integrated Heat Sync for Electronics Protection"]
[null,"Standard Low Noise Level  (≤65 dBa)",null,"Sealed Electrical Connectors"]
[null,"0.50kW/1 HP brush motor, 150 RPM (disk)",null,"Quick Release Battery Harness"]
[null,"0.45 kW/0.6 HP brush motor, 2200 RPM (orbital)",null,"Battery Tray"]
[null,"Composite Scrub Deck (Single Disk)",null,"On-board Charger with 3m/15 ft power cord"]
[null,"Cast Aluminum Scrub Deck (Dual Disk)",null,"Closed Machine Venting for Battery Charging"]
[null,"11 Gauge Steel Scrub Deck (Orbital Only)",null,"Recovery Tank Debris Tray with Deflector"]
[null,"Three Lug Pad Driver System (Standard Disk Machine)",null,"Unsurpassed Ergonomic Design"]
[null,"Insta-ClickTM Pad Driver Attachment (Option Disk machines)",null,"Gray Non-Marking Tires"]
[null,"Cast Aluminum Squeegee Frame",null,"10cm /4\" Edge & Reach Under Cleaning"]
[null,"Breakaway Squeegee Design w/ Integrated P-Trap",null,"Anti-Static Straps"]
[null,"Factory Set Squeegee Assembly for Maximium Recovery",null,"Key Switch for Safety"]
[null,"Linatex Squeegee Blades with Tool-less Replacement",null,"Hour Meter"]
[null,"Yellow Maintenance Touch Points",null,"Operators manual"]
[null,"Integrated Accessory Rails w/Squegee & Bag Hang ",null,"Drain hose with pinch cuff to control water flow"]
[null,"Jacking Points/Shipping Tie Downs",null,"Available with Optional ec-H2O NanoClean™ Technology"]
[]
[]
[null,"NOBLES WARRANTY"]
[null,"3 YEARS OR 2000 HOURS - PARTS"]
[null,"1 YEAR - BATTERY CHARGERS"]
[null,"2 YEARS - LABOR"]
[null,"6 MONTHS - TRAVEL"]
[null,"10 YEARS ON DURAMERTM ROTOMOLD TANKS"]
[null,null,null,null,"                Quote Request Information"]
[null,null,null,null,null,null,"Fax (quote only)"]
[null,null,null,null,null,null,"Mail (quote,lit, specs)"]
[null,null,null,null,null,null,"Fax + Mail"]
[]
[null,null,null,null,"                Primary Use"]
[null,null,null,null,null,null,"Inside"]
[null,null,null,null,null,null,"Outside"]
[]
[]
[null,null,"Description","Material#","CAD Price Each","Qty","Extended Price"]
[null,"Base Configuration",null,"Reference Number","CANADA Price",{"$f":"SUM(F55,F61,F65,F68,F72,F81,F86)","v":0},null,{"$f":"IFERROR(IFERROR(VLOOKUP(D54,Surcharge!A:B,2,FALSE)*F54, VLOOKUP(D54 & \"\",Surcharge!A:B,2,FALSE)*F54), \"\")","v":""}]
[null,null,"Cleaning Type  (Note 2)",null,null,{"$f":"SUM(F56:F59)","v":0},null,{"$f":"IFERROR(IFERROR(VLOOKUP(D55,Surcharge!A:B,2,FALSE)*F55, VLOOKUP(D55 & \"\",Surcharge!A:B,2,FALSE)*F55), \"\")","v":""}]
[null,null,"SS300 Walk-Behind Scrubber  430 mm/17\" - Disk","SS300-430-D",8925,null,{"$f":"F56*E56","v":0},{"$f":"IFERROR(IFERROR(VLOOKUP(D56,Surcharge!A:B,2,FALSE)*F56, VLOOKUP(D56 & \"\",Surcharge!A:B,2,FALSE)*F56), \"\")","v":0}]
[null,null,"SS300 Walk-Behind Scrubber  500 mm/20\" - Disk","SS300-500-D",10101,null,{"$f":"F57*E57","v":0},{"$f":"IFERROR(IFERROR(VLOOKUP(D57,Surcharge!A:B,2,FALSE)*F57, VLOOKUP(D57 & \"\",Surcharge!A:B,2,FALSE)*F57), \"\")","v":0}]
[null,null,"SS300 Walk-Behind Scrubber  600 mm/24\" - Dual Disk, Self Propel","SS300-600-D",13105,null,{"$f":"F58*E58","v":0},{"$f":"IFERROR(IFERROR(VLOOKUP(D58,Surcharge!A:B,2,FALSE)*F58, VLOOKUP(D58 & \"\",Surcharge!A:B,2,FALSE)*F58), \"\")","v":0}]
[null,null,"SS300 Walk-Behind Scrubber  500 mm/20\" - Orbital, Self Propel","SS300-500-O",13608,null,{"$f":"F59*E59","v":0},{"$f":"IFERROR(IFERROR(VLOOKUP(D59,Surcharge!A:B,2,FALSE)*F59, VLOOKUP(D59 & \"\",Surcharge!A:B,2,FALSE)*F59), \"\")","v":0}]
[null,null,null,null,null,null,null,{"$f":"IFERROR(IFERROR(VLOOKUP(D60,Surcharge!A:B,2,FALSE)*F60, VLOOKUP(D60 & \"\",Surcharge!A:B,2,FALSE)*F60), \"\")","v":""}]
[null,null,"Cleaning Tool Attachment",null,null,{"$f":"SUM(F62:F63)","v":0},null,{"$f":"IFERROR(IFERROR(VLOOKUP(D61,Surcharge!A:B,2,FALSE)*F61, VLOOKUP(D61 & \"\",Surcharge!A:B,2,FALSE)*F61), \"\")","v":""}]
[null,null,"Conventional - 3 Lug","CNV-SS300","N/C",null,{"$f":"IF(F62=0,\" \",\"N/C\")","v":" "},{"$f":"IFERROR(IFERROR(VLOOKUP(D62,Surcharge!A:B,2,FALSE)*F62, VLOOKUP(D62 & \"\",Surcharge!A:B,2,FALSE)*F62), \"\")","v":""}]
[null,null,"Insta-Click™","IC-SS300",603,null,{"$f":"F63*E63","v":0},{"$f":"IFERROR(IFERROR(VLOOKUP(D63,Surcharge!A:B,2,FALSE)*F63, VLOOKUP(D63 & \"\",Surcharge!A:B,2,FALSE)*F63), \"\")","v":""}]
[null,null,null,null," ",null,null,{"$f":"IFERROR(IFERROR(VLOOKUP(D64,Surcharge!A:B,2,FALSE)*F64, VLOOKUP(D64 & \"\",Surcharge!A:B,2,FALSE)*F64), \"\")","v":""}]
[null,null,"Cleaning Technology: (conventional is standard,  ec-H2O NanoClean can also operate in conventional mode)",null," ",{"$f":"SUM(F66)","v":0},null,{"$f":"IFERROR(IFERROR(VLOOKUP(D65,Surcharge!A:B,2,FALSE)*F65, VLOOKUP(D65 & \"\",Surcharge!A:B,2,FALSE)*F65), \"\")","v":""}]
[null,null,"ec-H2O NanoClean™ Technology ","ec-H2ONC-SS300",3111,null,{"$f":"F66*E66","v":0},{"$f":"IFERROR(IFERROR(VLOOKUP(D66,Surcharge!A:B,2,FALSE)*F66, VLOOKUP(D66 & \"\",Surcharge!A:B,2,FALSE)*F66), \"\")","v":""}]
[null,null,null,null," ",null,null,{"$f":"IFERROR(IFERROR(VLOOKUP(D67,Surcharge!A:B,2,FALSE)*F67, VLOOKUP(D67 & \"\",Surcharge!A:B,2,FALSE)*F67), \"\")","v":""}]
[null,null,"Drive Type  (Note 2)",null,null,{"$f":"SUM(F69:F70)","v":0},null,{"$f":"IFERROR(IFERROR(VLOOKUP(D68,Surcharge!A:B,2,FALSE)*F68, VLOOKUP(D68 & \"\",Surcharge!A:B,2,FALSE)*F68), \"\")","v":""}]
[null,null,"Pad / Brush Assist","Pad-SS300","N/C",null,{"$f":"IF(F69=0,\" \",\"N/C\")","v":" "},{"$f":"IFERROR(IFERROR(VLOOKUP(D69,Surcharge!A:B,2,FALSE)*F69, VLOOKUP(D69 & \"\",Surcharge!A:B,2,FALSE)*F69), \"\")","v":""}]
[null,null,"Self Propel","Self-SS300",2243,null,{"$f":"F70*E70","v":0},{"$f":"IFERROR(IFERROR(VLOOKUP(D70,Surcharge!A:B,2,FALSE)*F70, VLOOKUP(D70 & \"\",Surcharge!A:B,2,FALSE)*F70), \"\")","v":""}]
[null,null,null,null," ",null,null,{"$f":"IFERROR(IFERROR(VLOOKUP(D71,Surcharge!A:B,2,FALSE)*F71, VLOOKUP(D71 & \"\",Surcharge!A:B,2,FALSE)*F71), \"\")","v":""}]
[null,null,"Battery Type  (Note 3)",null," ",{"$f":"SUM(F73:F79)","v":0},null,{"$f":"IFERROR(IFERROR(VLOOKUP(D72,Surcharge!A:B,2,FALSE)*F72, VLOOKUP(D72 & \"\",Surcharge!A:B,2,FALSE)*F72), \"\")","v":""}]
[null,null,"Wet 130AH C/20  (kit of 2 batteries) ",9013852,1013,null,{"$f":"F73*E73","v":0},{"$f":"IFERROR(IFERROR(VLOOKUP(D73,Surcharge!A:B,2,FALSE)*F73, VLOOKUP(D73 & \"\",Surcharge!A:B,2,FALSE)*F73), \"\")","v":""}]
[null,null,"Wet 150AH C/20  (kit of 2 batteries)",9013853,1210,null,{"$f":"F74*E74","v":0},{"$f":"IFERROR(IFERROR(VLOOKUP(D74,Surcharge!A:B,2,FALSE)*F74, VLOOKUP(D74 & \"\",Surcharge!A:B,2,FALSE)*F74), \"\")","v":""}]
[null,null,"Sealed/MF AGM 140AH C/20  (kit of 2 batteries)",9013854,2855,null,{"$f":"F75*E75","v":0},{"$f":"IFERROR(IFERROR(VLOOKUP(D75,Surcharge!A:B,2,FALSE)*F75, VLOOKUP(D75 & \"\",Surcharge!A:B,2,FALSE)*F75), \"\")","v":""}]
[null,null,"Li-Ion 24v, 90AH  (Note 2a)",9022766,4240,null,{"$f":"F76*E76","v":0}]
[null,null,"Without",null,"N/C",null,{"$f":"IF(F77=0,\" \",\"N/C\")","v":" "},{"$f":"IFERROR(IFERROR(VLOOKUP(D77,Surcharge!A:B,2,FALSE)*F77, VLOOKUP(D77 & \"\",Surcharge!A:B,2,FALSE)*F77), \"\")","v":""}]
[null,null,null,null," ",null,null,{"$f":"IFERROR(IFERROR(VLOOKUP(D78,Surcharge!A:B,2,FALSE)*F78, VLOOKUP(D78 & \"\",Surcharge!A:B,2,FALSE)*F78), \"\")","v":""}]
[null,null,"Manual Battery Watering System - Wet 150AH Battery only (Note 4) ",9009619,813,null,{"$f":"F79*E79","v":0},{"$f":"IFERROR(IFERROR(VLOOKUP(D79,Surcharge!A:B,2,FALSE)*F79, VLOOKUP(D79 & \"\",Surcharge!A:B,2,FALSE)*F79), \"\")","v":""}]
[null,null,null,null," ",null,null,{"$f":"IFERROR(IFERROR(VLOOKUP(D80,Surcharge!A:B,2,FALSE)*F80, VLOOKUP(D80 & \"\",Surcharge!A:B,2,FALSE)*F80), \"\")","v":""}]
[null,null,"Charger","Reference Number",null,{"$f":"SUM(F82:F84)","v":0},null,{"$f":"IFERROR(IFERROR(VLOOKUP(D81,Surcharge!A:B,2,FALSE)*F81, VLOOKUP(D81 & \"\",Surcharge!A:B,2,FALSE)*F81), \"\")","v":""}]
[null,null,"13A 85-265V AC 50/60Hz 1Ph - On Board",9013847,"N/C",null,{"$f":"IF(F82=0,\" \",\"N/C\")","v":" "},{"$f":"IFERROR(IFERROR(VLOOKUP(D82,Surcharge!A:B,2,FALSE)*F82, VLOOKUP(D82 & \"\",Surcharge!A:B,2,FALSE)*F82), \"\")","v":""}]
[null,null,"27A 100-240V AC 50/60Hz 1Ph - Off-Board Charger (Li-Ion Batteries)",9052023,"N/C",null,{"$f":"IF(F83=0,\" \",\"N/C\")","v":" "}]
[null,null,"27A 100-240V AC 50/60Hz 1Ph - On-Board Charger (Li-Ion Batteries)",9022824,"N/C",null," "]
[null,null,null,null,null,null,null,{"$f":"IFERROR(IFERROR(VLOOKUP(D85,Surcharge!A:B,2,FALSE)*F85, VLOOKUP(D85 & \"\",Surcharge!A:B,2,FALSE)*F85), \"\")","v":""}]
[null,null,"Down Pressure  (Note 5)",null,null,{"$f":"SUM(F87:F88)","v":0},null,{"$f":"IFERROR(IFERROR(VLOOKUP(D86,Surcharge!A:B,2,FALSE)*F86, VLOOKUP(D86 & \"\",Surcharge!A:B,2,FALSE)*F86), \"\")","v":""}]
[null,null,"Single",9013833,"N/C",null,{"$f":"IF(F87=0,\" \",\"N/C\")","v":" "},{"$f":"IFERROR(IFERROR(VLOOKUP(D87,Surcharge!A:B,2,FALSE)*F87, VLOOKUP(D87 & \"\",Surcharge!A:B,2,FALSE)*F87), \"\")","v":""}]
[null,null,"Multiple (Dual Down Pressure) - Disk and Orbital",9013831,514,null,{"$f":"F88*E88","v":0},{"$f":"IFERROR(IFERROR(VLOOKUP(D88,Surcharge!A:B,2,FALSE)*F88, VLOOKUP(D88 & \"\",Surcharge!A:B,2,FALSE)*F88), \"\")","v":""}]
[null,null,null,null," ",null,null,{"$f":"IFERROR(IFERROR(VLOOKUP(D89,Surcharge!A:B,2,FALSE)*F89, VLOOKUP(D89 & \"\",Surcharge!A:B,2,FALSE)*F89), \"\")","v":""}]
[null,"Machine Protection & Safety",null,"Reference Number"," ",{"$f":"SUM(F91:F91)","v":0},null,{"$f":"IFERROR(IFERROR(VLOOKUP(D90,Surcharge!A:B,2,FALSE)*F90, VLOOKUP(D90 & \"\",Surcharge!A:B,2,FALSE)*F90), \"\")","v":""}]
[null,null,"Parking Brake",9013846,278,null,{"$f":"F91*E91","v":0},{"$f":"IFERROR(IFERROR(VLOOKUP(D91,Surcharge!A:B,2,FALSE)*F91, VLOOKUP(D91 & \"\",Surcharge!A:B,2,FALSE)*F91), \"\")","v":""}]
[null,null,null,null," ",null,null,{"$f":"IFERROR(IFERROR(VLOOKUP(D92,Surcharge!A:B,2,FALSE)*F92, VLOOKUP(D92 & \"\",Surcharge!A:B,2,FALSE)*F92), \"\")","v":""}]
[null,"Brushes and Pads  (Note 6)",null,"Reference Number",null,{"$f":"SUM(F94:F95,F100,F110:F111,F116,F126,F133:F134,F139)","v":0},null,{"$f":"IFERROR(IFERROR(VLOOKUP(D93,Surcharge!A:B,2,FALSE)*F93, VLOOKUP(D93 & \"\",Surcharge!A:B,2,FALSE)*F93), \"\")","v":""}]
[null,null,"430mm/17\" Disk (1 Required)",null,null,{"$f":"SUM(F95,F100,F105)","v":0},null,{"$f":"IFERROR(IFERROR(VLOOKUP(D94,Surcharge!A:B,2,FALSE)*F94, VLOOKUP(D94 & \"\",Surcharge!A:B,2,FALSE)*F94), \"\")","v":""}]
[null,null,"For Conventional Scrub Head:",null," ",{"$f":"SUM(F96:F98)","v":0},null,{"$f":"IFERROR(IFERROR(VLOOKUP(D95,Surcharge!A:B,2,FALSE)*F95, VLOOKUP(D95 & \"\",Surcharge!A:B,2,FALSE)*F95), \"\")","v":""}]
[null,null,"Polypropylene Brush",1016765,346,null,{"$f":"F96*E96","v":0},{"$f":"IFERROR(IFERROR(VLOOKUP(D96,Surcharge!A:B,2,FALSE)*F96, VLOOKUP(D96 & \"\",Surcharge!A:B,2,FALSE)*F96), \"\")","v":""}]
[null,null,"Nylon Brush",1016764,346,null,{"$f":"F97*E97","v":0},{"$f":"IFERROR(IFERROR(VLOOKUP(D97,Surcharge!A:B,2,FALSE)*F97, VLOOKUP(D97 & \"\",Surcharge!A:B,2,FALSE)*F97), \"\")","v":""}]
[null,null,"Pad Driver",1212965,346,null,{"$f":"F98*E98","v":0},{"$f":"IFERROR(IFERROR(VLOOKUP(D98,Surcharge!A:B,2,FALSE)*F98, VLOOKUP(D98 & \"\",Surcharge!A:B,2,FALSE)*F98), \"\")","v":""}]
[null,null,null,null," ",null,null,{"$f":"IFERROR(IFERROR(VLOOKUP(D99,Surcharge!A:B,2,FALSE)*F99, VLOOKUP(D99 & \"\",Surcharge!A:B,2,FALSE)*F99), \"\")","v":""}]
[null,null,"For Insta-Click Scrub Head:",null," ",{"$f":"SUM(F101:F108)","v":0},null,{"$f":"IFERROR(IFERROR(VLOOKUP(D100,Surcharge!A:B,2,FALSE)*F100, VLOOKUP(D100 & \"\",Surcharge!A:B,2,FALSE)*F100), \"\")","v":""}]
[null,null,"Polypropylene Brush",1213035,480,null,{"$f":"F101*E101","v":0},{"$f":"IFERROR(IFERROR(VLOOKUP(D101,Surcharge!A:B,2,FALSE)*F101, VLOOKUP(D101 & \"\",Surcharge!A:B,2,FALSE)*F101), \"\")","v":""}]
[null,null,"Nylon Brush",1213034,480,null,{"$f":"F102*E102","v":0},{"$f":"IFERROR(IFERROR(VLOOKUP(D102,Surcharge!A:B,2,FALSE)*F102, VLOOKUP(D102 & \"\",Surcharge!A:B,2,FALSE)*F102), \"\")","v":""}]
[null,null,"Pad Driver",1211869,480,null,{"$f":"F103*E103","v":0},{"$f":"IFERROR(IFERROR(VLOOKUP(D103,Surcharge!A:B,2,FALSE)*F103, VLOOKUP(D103 & \"\",Surcharge!A:B,2,FALSE)*F103), \"\")","v":""}]
[null,null,null,null," ",null,null,{"$f":"IFERROR(IFERROR(VLOOKUP(D104,Surcharge!A:B,2,FALSE)*F104, VLOOKUP(D104 & \"\",Surcharge!A:B,2,FALSE)*F104), \"\")","v":""}]
[null,null,"Pads",null," ",{"$f":"SUM(F106:F108)","v":0},null,{"$f":"IFERROR(IFERROR(VLOOKUP(D105,Surcharge!A:B,2,FALSE)*F105, VLOOKUP(D105 & \"\",Surcharge!A:B,2,FALSE)*F105), \"\")","v":""}]
[null,null,"Blue Scrubbing - 3M",1050270,30,null,{"$f":"F106*E106","v":0},{"$f":"IFERROR(IFERROR(VLOOKUP(D106,Surcharge!A:B,2,FALSE)*F106, VLOOKUP(D106 & \"\",Surcharge!A:B,2,FALSE)*F106), \"\")","v":""}]
[null,null,"Red Cleaning - 3M",1050271,30,null,0,{"$f":"IFERROR(IFERROR(VLOOKUP(D107,Surcharge!A:B,2,FALSE)*F107, VLOOKUP(D107 & \"\",Surcharge!A:B,2,FALSE)*F107), \"\")","v":""}]
[null,null,"White Polishing - 3M",1050273,30,null,0,{"$f":"IFERROR(IFERROR(VLOOKUP(D108,Surcharge!A:B,2,FALSE)*F108, VLOOKUP(D108 & \"\",Surcharge!A:B,2,FALSE)*F108), \"\")","v":""}]
[null,null,null,null," ",null,null,{"$f":"IFERROR(IFERROR(VLOOKUP(D109,Surcharge!A:B,2,FALSE)*F109, VLOOKUP(D109 & \"\",Surcharge!A:B,2,FALSE)*F109), \"\")","v":""}]
[null,null,"500mm/20\" Disk (1 Required)",null," ",{"$f":"SUM(F111,F116,F121)","v":0},null,{"$f":"IFERROR(IFERROR(VLOOKUP(D110,Surcharge!A:B,2,FALSE)*F110, VLOOKUP(D110 & \"\",Surcharge!A:B,2,FALSE)*F110), \"\")","v":""}]
[null,null,"For Conventional Scrub Head:",null," ",{"$f":"SUM(F112:F114)","v":0},null,{"$f":"IFERROR(IFERROR(VLOOKUP(D111,Surcharge!A:B,2,FALSE)*F111, VLOOKUP(D111 & \"\",Surcharge!A:B,2,FALSE)*F111), \"\")","v":""}]
[null,null,"Polypropylene Brush",1016811,394,null,{"$f":"F112*E112","v":0},{"$f":"IFERROR(IFERROR(VLOOKUP(D112,Surcharge!A:B,2,FALSE)*F112, VLOOKUP(D112 & \"\",Surcharge!A:B,2,FALSE)*F112), \"\")","v":""}]
[null,null,"Nylon Brush",1016810,394,null,{"$f":"F113*E113","v":0},{"$f":"IFERROR(IFERROR(VLOOKUP(D113,Surcharge!A:B,2,FALSE)*F113, VLOOKUP(D113 & \"\",Surcharge!A:B,2,FALSE)*F113), \"\")","v":""}]
[null,null,"Pad Driver",1212960,394,null,{"$f":"F114*E114","v":0},{"$f":"IFERROR(IFERROR(VLOOKUP(D114,Surcharge!A:B,2,FALSE)*F114, VLOOKUP(D114 & \"\",Surcharge!A:B,2,FALSE)*F114), \"\")","v":""}]
[null,null,null,null," ",null,null,{"$f":"IFERROR(IFERROR(VLOOKUP(D115,Surcharge!A:B,2,FALSE)*F115, VLOOKUP(D115 & \"\",Surcharge!A:B,2,FALSE)*F115), \"\")","v":""}]
[null,null,"For Insta-Click Scrub Head:",null," ",{"$f":"SUM(F117:F124)","v":0},null,{"$f":"IFERROR(IFERROR(VLOOKUP(D116,Surcharge!A:B,2,FALSE)*F116, VLOOKUP(D116 & \"\",Surcharge!A:B,2,FALSE)*F116), \"\")","v":""}]
[null,null,"Polypropylene Brush",1213032,495,null,{"$f":"F117*E117","v":0},{"$f":"IFERROR(IFERROR(VLOOKUP(D117,Surcharge!A:B,2,FALSE)*F117, VLOOKUP(D117 & \"\",Surcharge!A:B,2,FALSE)*F117), \"\")","v":""}]
[null,null,"Nylon Brush",1210386,495,null,{"$f":"F118*E118","v":0},{"$f":"IFERROR(IFERROR(VLOOKUP(D118,Surcharge!A:B,2,FALSE)*F118, VLOOKUP(D118 & \"\",Surcharge!A:B,2,FALSE)*F118), \"\")","v":""}]
[null,null,"Pad Driver",1209197,495,null,{"$f":"F119*E119","v":0},{"$f":"IFERROR(IFERROR(VLOOKUP(D119,Surcharge!A:B,2,FALSE)*F119, VLOOKUP(D119 & \"\",Surcharge!A:B,2,FALSE)*F119), \"\")","v":""}]
[null,null,null,null," ",null,null,{"$f":"IFERROR(IFERROR(VLOOKUP(D120,Surcharge!A:B,2,FALSE)*F120, VLOOKUP(D120 & \"\",Surcharge!A:B,2,FALSE)*F120), \"\")","v":""}]
[null,null,"Pads ",null," ",{"$f":"SUM(F122:F124)","v":0},null,{"$f":"IFERROR(IFERROR(VLOOKUP(D121,Surcharge!A:B,2,FALSE)*F121, VLOOKUP(D121 & \"\",Surcharge!A:B,2,FALSE)*F121), \"\")","v":""}]
[null,null,"Blue Scrubbing - 3M",17262,37.5,null,{"$f":"F122*E122","v":0},{"$f":"IFERROR(IFERROR(VLOOKUP(D122,Surcharge!A:B,2,FALSE)*F122, VLOOKUP(D122 & \"\",Surcharge!A:B,2,FALSE)*F122), \"\")","v":""}]
[null,null,"Red Cleaning - 3M",17261,37.5,null,0,{"$f":"IFERROR(IFERROR(VLOOKUP(D123,Surcharge!A:B,2,FALSE)*F123, VLOOKUP(D123 & \"\",Surcharge!A:B,2,FALSE)*F123), \"\")","v":""}]
[null,null,"White Polishing - 3M",17260,37.5,null,0,{"$f":"IFERROR(IFERROR(VLOOKUP(D124,Surcharge!A:B,2,FALSE)*F124, VLOOKUP(D124 & \"\",Surcharge!A:B,2,FALSE)*F124), \"\")","v":""}]
[null,null,null,null," ",null,null,{"$f":"IFERROR(IFERROR(VLOOKUP(D125,Surcharge!A:B,2,FALSE)*F125, VLOOKUP(D125 & \"\",Surcharge!A:B,2,FALSE)*F125), \"\")","v":""}]
[null,null,"500mm/20\" Orbital (Standard)",null," ",{"$f":"SUM(F127:F131)","v":0},null,{"$f":"IFERROR(IFERROR(VLOOKUP(D126,Surcharge!A:B,2,FALSE)*F126, VLOOKUP(D126 & \"\",Surcharge!A:B,2,FALSE)*F126), \"\")","v":""}]
[null,null,"Pad Driver",null,"N/C",null,{"$f":"IF(F127=0,\" \",\"N/C\")","v":" "},{"$f":"IFERROR(IFERROR(VLOOKUP(D127,Surcharge!A:B,2,FALSE)*F127, VLOOKUP(D127 & \"\",Surcharge!A:B,2,FALSE)*F127), \"\")","v":""}]
[null,null,"Pads ",null," ",{"$f":"SUM(F129:F159)","v":0},null,{"$f":"IFERROR(IFERROR(VLOOKUP(D128,Surcharge!A:B,2,FALSE)*F128, VLOOKUP(D128 & \"\",Surcharge!A:B,2,FALSE)*F128), \"\")","v":""}]
[null,null,"Blue Scrubbing - 3M",1205514,36.4,null,{"$f":"F129*E129","v":0},{"$f":"IFERROR(IFERROR(VLOOKUP(D129,Surcharge!A:B,2,FALSE)*F129, VLOOKUP(D129 & \"\",Surcharge!A:B,2,FALSE)*F129), \"\")","v":""}]
[null,null,"Red Cleaning - 3M",1205513,36.4,null,{"$f":"F130*E130","v":0},{"$f":"IFERROR(IFERROR(VLOOKUP(D130,Surcharge!A:B,2,FALSE)*F130, VLOOKUP(D130 & \"\",Surcharge!A:B,2,FALSE)*F130), \"\")","v":""}]
[null,null,"White Polishing - 3M",1205512,36.4,null,{"$f":"F131*E131","v":0},{"$f":"IFERROR(IFERROR(VLOOKUP(D131,Surcharge!A:B,2,FALSE)*F131, VLOOKUP(D131 & \"\",Surcharge!A:B,2,FALSE)*F131), \"\")","v":""}]
[null,null,null,null," ",null,null,{"$f":"IFERROR(IFERROR(VLOOKUP(D132,Surcharge!A:B,2,FALSE)*F132, VLOOKUP(D132 & \"\",Surcharge!A:B,2,FALSE)*F132), \"\")","v":""}]
[null,null,"600mm/24\" Disk (2 Required)",null," ",{"$f":"SUM(F134,F139,F144)","v":0},null,{"$f":"IFERROR(IFERROR(VLOOKUP(D133,Surcharge!A:B,2,FALSE)*F133, VLOOKUP(D133 & \"\",Surcharge!A:B,2,FALSE)*F133), \"\")","v":""}]
[null,null,"For Conventional Scrub Head:",null," ",{"$f":"SUM(F135:F137)","v":0},null,{"$f":"IFERROR(IFERROR(VLOOKUP(D134,Surcharge!A:B,2,FALSE)*F134, VLOOKUP(D134 & \"\",Surcharge!A:B,2,FALSE)*F134), \"\")","v":""}]
[null,null,"Polypropylene Brush",1056313,324,null,{"$f":"F135*E135","v":0},{"$f":"IFERROR(IFERROR(VLOOKUP(D135,Surcharge!A:B,2,FALSE)*F135, VLOOKUP(D135 & \"\",Surcharge!A:B,2,FALSE)*F135), \"\")","v":""}]
[null,null,"Nylon Brush",1056306,324,null,{"$f":"F136*E136","v":0},{"$f":"IFERROR(IFERROR(VLOOKUP(D136,Surcharge!A:B,2,FALSE)*F136, VLOOKUP(D136 & \"\",Surcharge!A:B,2,FALSE)*F136), \"\")","v":""}]
[null,null,"Pad Driver",1213038,324,null,{"$f":"F137*E137","v":0},{"$f":"IFERROR(IFERROR(VLOOKUP(D137,Surcharge!A:B,2,FALSE)*F137, VLOOKUP(D137 & \"\",Surcharge!A:B,2,FALSE)*F137), \"\")","v":""}]
[null,null,null,null," ",null,null,{"$f":"IFERROR(IFERROR(VLOOKUP(D138,Surcharge!A:B,2,FALSE)*F138, VLOOKUP(D138 & \"\",Surcharge!A:B,2,FALSE)*F138), \"\")","v":""}]
[null,null,"For Insta-Click Scrub Head:",null," ",{"$f":"SUM(F140:F147)","v":0},null,{"$f":"IFERROR(IFERROR(VLOOKUP(D139,Surcharge!A:B,2,FALSE)*F139, VLOOKUP(D139 & \"\",Surcharge!A:B,2,FALSE)*F139), \"\")","v":""}]
[null,null,"Polypropylene Brush",1213040,324,null,{"$f":"F140*E140","v":0},{"$f":"IFERROR(IFERROR(VLOOKUP(D140,Surcharge!A:B,2,FALSE)*F140, VLOOKUP(D140 & \"\",Surcharge!A:B,2,FALSE)*F140), \"\")","v":""}]
[null,null,"Nylon Brush",1210136,324,null,{"$f":"F141*E141","v":0},{"$f":"IFERROR(IFERROR(VLOOKUP(D141,Surcharge!A:B,2,FALSE)*F141, VLOOKUP(D141 & \"\",Surcharge!A:B,2,FALSE)*F141), \"\")","v":""}]
[null,null,"Pad Driver",1209160,324,null,{"$f":"F142*E142","v":0},{"$f":"IFERROR(IFERROR(VLOOKUP(D142,Surcharge!A:B,2,FALSE)*F142, VLOOKUP(D142 & \"\",Surcharge!A:B,2,FALSE)*F142), \"\")","v":""}]
[null,null,null,null," ",null,null,{"$f":"IFERROR(IFERROR(VLOOKUP(D143,Surcharge!A:B,2,FALSE)*F143, VLOOKUP(D143 & \"\",Surcharge!A:B,2,FALSE)*F143), \"\")","v":""}]
[null,null,"Pads ",null," ",{"$f":"SUM(F145:F147)","v":0},null,{"$f":"IFERROR(IFERROR(VLOOKUP(D144,Surcharge!A:B,2,FALSE)*F144, VLOOKUP(D144 & \"\",Surcharge!A:B,2,FALSE)*F144), \"\")","v":""}]
[null,null,"Blue Scrubbing - 3M",385942,21.4,null,{"$f":"F145*E145","v":0},{"$f":"IFERROR(IFERROR(VLOOKUP(D145,Surcharge!A:B,2,FALSE)*F145, VLOOKUP(D145 & \"\",Surcharge!A:B,2,FALSE)*F145), \"\")","v":""}]
[null,null,"Red Cleaning - 3M",385941,21.4,null,0,{"$f":"IFERROR(IFERROR(VLOOKUP(D146,Surcharge!A:B,2,FALSE)*F146, VLOOKUP(D146 & \"\",Surcharge!A:B,2,FALSE)*F146), \"\")","v":""}]
[null,null,"White Polishing - 3M",385940,21.4,null,0,{"$f":"IFERROR(IFERROR(VLOOKUP(D147,Surcharge!A:B,2,FALSE)*F147, VLOOKUP(D147 & \"\",Surcharge!A:B,2,FALSE)*F147), \"\")","v":""}]
[null,null,null,null," ",null,null,{"$f":"IFERROR(IFERROR(VLOOKUP(D148,Surcharge!A:B,2,FALSE)*F148, VLOOKUP(D148 & \"\",Surcharge!A:B,2,FALSE)*F148), \"\")","v":""}]
[null,"Support  (Note 7)",null,"Reference Number",null,{"$f":"SUM(F150:F157)","v":0},null,{"$f":"IFERROR(IFERROR(VLOOKUP(D149,Surcharge!A:B,2,FALSE)*F149, VLOOKUP(D149 & \"\",Surcharge!A:B,2,FALSE)*F149), \"\")","v":""}]
[null,null,"SS300 Operator Manual  - English",9014512,"N/C",null,{"$f":"IF(F150=0,\" \",\"N/C\")","v":" "},{"$f":"IFERROR(IFERROR(VLOOKUP(D150,Surcharge!A:B,2,FALSE)*F150, VLOOKUP(D150 & \"\",Surcharge!A:B,2,FALSE)*F150), \"\")","v":""}]
[null,null,"SS300 Operator Manual  - Spanish",9014513,"N/C",null,{"$f":"IF(F151=0,\" \",\"N/C\")","v":" "},{"$f":"IFERROR(IFERROR(VLOOKUP(D151,Surcharge!A:B,2,FALSE)*F151, VLOOKUP(D151 & \"\",Surcharge!A:B,2,FALSE)*F151), \"\")","v":""}]
[null,null,"SS300 Operator Manual -  French  (Note 8)",9014514,"N/C",null,{"$f":"IF(F152=0,\" \",\"N/C\")","v":" "},{"$f":"IFERROR(IFERROR(VLOOKUP(D152,Surcharge!A:B,2,FALSE)*F152, VLOOKUP(D152 & \"\",Surcharge!A:B,2,FALSE)*F152), \"\")","v":""}]
[null,null,"Additional Operator Manual","SEE ABOVE",191,null,{"$f":"F153*E153","v":0},{"$f":"IFERROR(IFERROR(VLOOKUP(D153,Surcharge!A:B,2,FALSE)*F153, VLOOKUP(D153 & \"\",Surcharge!A:B,2,FALSE)*F153), \"\")","v":""}]
[null,null,"SS300 Parts Manual  (Factory Installed)",9014511,78,null,{"$f":"F154*E154","v":0},{"$f":"IFERROR(IFERROR(VLOOKUP(D154,Surcharge!A:B,2,FALSE)*F154, VLOOKUP(D154 & \"\",Surcharge!A:B,2,FALSE)*F154), \"\")","v":""}]
[null,null,"Service Manual",9014516,191,null,{"$f":"F155*E155","v":0},{"$f":"IFERROR(IFERROR(VLOOKUP(D155,Surcharge!A:B,2,FALSE)*F155, VLOOKUP(D155 & \"\",Surcharge!A:B,2,FALSE)*F155), \"\")","v":""}]
[null,null,null,null," ",null,null,{"$f":"IFERROR(IFERROR(VLOOKUP(D156,Surcharge!A:B,2,FALSE)*F156, VLOOKUP(D156 & \"\",Surcharge!A:B,2,FALSE)*F156), \"\")","v":""}]
[null,null,"Packaging",null,null,{"$f":"SUM(F158:F158)","v":0},null,{"$f":"IFERROR(IFERROR(VLOOKUP(D157,Surcharge!A:B,2,FALSE)*F157, VLOOKUP(D157 & \"\",Surcharge!A:B,2,FALSE)*F157), \"\")","v":""}]
[null,null,"Skid w/Carton, Stackable ",9013860,"N/C",null,{"$f":"IF(F158=0,\" \",\"N/C\")","v":" "},{"$f":"IFERROR(IFERROR(VLOOKUP(D158,Surcharge!A:B,2,FALSE)*F158, VLOOKUP(D158 & \"\",Surcharge!A:B,2,FALSE)*F158), \"\")","v":""}]
[null,null,null,null,null,null,null,{"$f":"IFERROR(IFERROR(VLOOKUP(D159,Surcharge!A:B,2,FALSE)*F159, VLOOKUP(D159 & \"\",Surcharge!A:B,2,FALSE)*F159), \"\")","v":""}]
[]
[null,"Custom Solution--write in description, qty, price, and PN if applicable",null,null,null,{"$f":"SUM(F162)","v":0}]
[null,null,null,null,"Insert Prices Here",{"$f":"SUM(F163:F166)","v":0}]
[null,null,null,"Custom",null,{"$f":"IF(E163 <> \"\", 1, 0)","v":0},{"$f":"F163*E163","v":0}]
[null,null,null,"Custom",null,{"$f":"IF(E164 <> \"\", 1, 0)","v":0},{"$f":"F164*E164","v":0}]
[null,null,null,"Custom",null,0,{"$f":"F165*E165","v":0}]
[null,null,null,"Custom",null,0,{"$f":"F166*E166","v":0}]
[null,null,null,null,{"$f":"ROUND(SUM(G54:G166), 0)","v":0},{"$f":"SUM(E168)","v":0}]
[null,null,null,"Machine Subtotal ",{"$f":"ROUND(SUM(G54:G166), 0)","v":0},{"$f":"F167","v":0}]
[null,"Discounts",null,null,null,{"$f":"SUM(F170)","v":0}]
[null,null,null,null,null,{"$f":"SUM(F172:F175)","v":0}]
[null,null,null,"Applicable Currency Adj %",null,{"$f":"IF(E171 <> \"\", 1, 0)","v":0},{"$f":"IF(F171*(E171*0.01)*E167 < 0, F171*(E171*0.01)*E167, -(F171*(E171*0.01)*E167))","v":0}]
[null,null,null,"Discount %",null,{"$f":"IF(E172 <> \"\", 1, 0)","v":0},{"$f":"IF(F172*(E172*0.01)*(E167+G171) < 0, F172*(E172*0.01)*(E167+G171), -(F172*(E172*0.01)*(E167+G171)))","v":0}]
[null,null,null,"Discount $",null,0,{"$f":"IF(F173*E173 < 0, F173*E173, -(F173*E173))","v":0}]
[null,null,null,"Discount $",null,0,{"$f":"IF(F174*E174 < 0, F174*E174, -(F174*E174))","v":0}]
[null,null,null,"Discount $",null,0,{"$f":"IF(F175*E175 < 0, F175*E175, -(F175*E175))","v":0}]
[null,null,null,"Discount Total ",{"$f":"SUM(G171:G175)","v":0},{"$f":"SUM(E176)","v":0}]
[null,null,null,null,null,{"$f":"#REF!","v":{"$error":"#REF!"}}]
[null,null,null,null,null,{"$f":"F177","v":{"$error":"#REF!"}}]
[null,null,"Prepaid and Add","Freight",null,{"$f":"IF(E179 <> \"\", 1, 0)","v":0},{"$f":"F179*E179","v":0}]
[null,null,"Subject to all applicable taxes","Tax",null,0,0]
[null,null,null,null,null,{"$f":"SUM(F182)","v":0}]
[null,null,null,"MACHINE TOTAL*",null,{"$f":"SUM(G182)","v":0},{"$f":"SUM(G54:G180)","v":0},null,null,null,null,null,null,"This goes to \"My Documents\""]
[null,null,null,null,null,null,{"$f":"SUM(G182)","v":0}]
[]
[]
[]
[]
[null,null,"Wells Fargo - Leasing Calculation Option:","Option 1",null,"Option 2",null,null,null,{"$f":"Financing!A38","v":"Rates 2025 - Rev.2/4/2025"}]
[null,null,null,"Monthly Payment","Cost Per Day","Monthly Payment","Cost Per Day",null,null,{"$f":"Financing!A39","v":"“Blank Payment Amounts Indicate The Financing Option Or Purchase Options Selected Are Not "}]
[null,null,"Purchase Option:","$1 Buyout Lease",null,"None",null,null,null,{"$f":"Financing!A40","v":"Applicable Or The Machine Total Is Below The Minimum Amount For The Selected Vendor”"}]
[null,null,"24 Months",0,0,0,0,null,null,{"$f":"Financing!A41","v":"\"Quoted monthly payments are estimates only and are based on a certain level of credit rating."}]
[null,null,"36 Months",0,0,0,0,null,null,{"$f":"Financing!A42","v":"Actual monthly payments may be higher depending on your credit rating.\""}]
[null,null,"48 Months",0,0,0,0,null,null,{"$f":"Financing!A43","v":"“Financing rates do not include Pre-Paid Service”"}]
[null,null,"60 Months",0,0,0,0,null,{"$f":"Financing!A44","v":0}]
[]
[null,null,null,"Benefits of Equipment Financing:"]
[null,null,null,"• Spreads out investment over time.",null,"• Keep current with latest technology."]
[null,null,null,"• Preserve capital.",null,"• Service and parts bundling available."]
[null,null,null,"• Low monthly payment.",null,"• Pay for labor savings as you go."]
[]
[null,"  TennantTrue",null,0,0]
[]
[null,null,"Is customer interested in service program?","Yes","*State/County selection required for TennantTrue service options"]
[]
[null,null,"If not, why?"]
[]
[null,null,"Term:",36,null,null,"AB Brushes","No"]
[null,null,"Monthly machine usage (hrs):","< 30/mo. (Avg. 1hr./day)"]
[]
[null,null,"TennantTrue: ","Gold Contract",null,"Silver Contract"]
[null,null,"Per Visit",null,null,425]
[null,null,"Monthly",120,null,69]
[null,null,"Annually",null,null,816]
[null,null,"Pre-Pay Full Term",4162,null,2397]
[null,null,"Hourly Labor Rate"]
[null,null,"Site Visit"]
[]
[null,null,"* Verify customer current pricing prior to quote. "]
[null,null,"**All rates and fees above reflect service for one (1) unit with the exception of Block of Time service."]
[null,null,"*Block of Time is available in 1 Year Term only and is priced as such no matter the term selection on this template."]
[]
[]
[]
[null,"Quote Special Instructions:"]
[]
[]
[]
[null,{"$f":"Start_Here!E36","v":"Terms and Conditions"}]
[null,{"$f":"Start_Here!E37","v":"Ask your local sales rep for estimated lead times. Verify when placing order"}]
[null,{"$f":"Start_Here!E38","v":"All orders subject to acceptance by Tennant Sales and Service Company, Minneapolis, Minnesota"}]
[null,{"$f":"Start_Here!E39","v":"Prices subject to change without notice. Subject to any applicable taxes."}]
[null,{"$f":"Start_Here!E40","v":"Terms:  Net 30 days.  Payable in Canadian Funds"}]
[null,{"$f":"Start_Here!E41","v":"Freight:  Accessories, parts, supplies, detergents, and floor coatings orders delivered DDP "}]
[null,{"$f":"Start_Here!E42","v":"shipping point Frt PPD.  Machine orders delivered DDP shipping point Frt PPD and add."}]
[null,{"$f":"Start_Here!E43","v":"Returned Merchandise is subject to a restocking fee."}]
[null,{"$f":"Start_Here!E44","v":"All orders are subject to Tennant’s General Terms and Conditions available at http://www.tennantco.com/terms."}]
[null,{"$f":"Start_Here!E45","v":"Printed General Terms and Conditions are also available upon request."}]
[null,{"$f":"Start_Here!E46","v":0}]
[null,{"$f":"Start_Here!E47","v":0}]
[null,{"$f":"Start_Here!E48","v":0}]
[null,null,null,null,"Quote Date :",null,{"$f":"Letter!$A$25","v":"2023-08-01"}]
[null,"Order Placement Information:  To place your order, fill in PO# and customer signatures,"]
[null,"call or fax to the numbers listed below. Customer Purchase Order is required."]
[null,"If information is missing, orders will be entered and held until all information is received."]
[]
[null,null,"Customer Number",null,"Cust Grp 3"]
[null,null,{"$f":"Start_Here!$C$25","v":0},null,{"$f":"Start_Here!$C$29","v":0}]
[null,null,{"$f":"Start_Here!$B$18","v":"Who Owns the Machine? (Sold-To Info) (Please Verify)"}]
["Company",null,{"$f":"Start_Here!$C$19","v":"Company Name"}]
["Address",null,{"$f":"Start_Here!$C$20","v":"Address"}]
[null,null,{"$f":"Start_Here!$C$21","v":"City, State Zip"}]
["Name",null,{"$f":"Start_Here!$C$22","v":"Contact Name"}]
["Phone",null,{"$f":"Start_Here!$C$23","v":"Contact Phone"}]
[]
[null,null,{"$f":"Start_Here!$B$11","v":"Where is the Machine Being Shipped? (Ship-To Info) (Please Verify)"}]
["Company",null,{"$f":"Start_Here!$C$12","v":"Company Name"}]
["Address",null,{"$f":"Start_Here!$C$13","v":"Address"}]
[null,null,{"$f":"Start_Here!$C$14","v":"City, State Zip"}]
["Name",null,{"$f":"Start_Here!$C$15","v":"Contact Name"}]
["Phone",null,{"$f":"Start_Here!$C$16","v":"Contact Phone"}]
[]
[null,null,{"$f":"Start_Here!$B$31","v":"Shipping / Carrier Instructions:"},null,"Order Special Instructions:"]
[null,null,{"$f":"Start_Here!$C$32","v":0}]
[]
[null,null,"Customer Purchase Order No."]
[null,null,"(please attach copy)"]
[]
[]
[null,null,"Tax Exempt",null,"Yes"]
[null,null,null,null,"No"]
[null,null,"If Yes, attach a copy of your exemption certificate."]
[]
[null,null,"Requested Delivery Date"]
[null,null,{"$f":"Start_Here!$C$28","v":0}]
[]
[null,null,{"$f":"Start_Here!$C$26","v":0},null,{"$f":"Start_Here!$C$27","v":0}]
[null,null,"Authorized Buyer (please print)",null,"Phone Number"]
[]
[]
[null,null,"Authorized Buyer Signature"]
[]
[null,null,{"$f":"Start_Here!$C$41","v":"Rep Name"}]
[null,null,"Tennant Representative"]
[]
[null,null,null,"Specialized Maintenance Equipment"]
[null,null,{"$f":"Start_Here!$C$51","v":0}]
[null,null,null,{"$f":"Start_Here!$C$52","v":0}]
[null,"Notes"]
[null,1,"Pre-Configured Machines cannot add or change options.  All units are shipped via stackable skid with carton."]
[null,null,"When ordering, provide the reference number listed above.  Price does not include freight or tax.  Availability of units "]
[null,null,"and lead time may vary."]
[]
[null,2,"Pad Assist Drive Type is only available on the 430 mm/17\" and 500 mm/20\" units."]
[null,null,"Self Propel Drive Type is available on all machine types."]
[null,null,"The Self Propel price is included in the Cleaning Type section for Dual Disk and Orbital machines"]
[]
[null,"2a","Li-Ion batteries require a compatible Li-Ion Charger."]
[null,null,"Li-Ion batteries are not compatible with Machine Communication (IRIS)."]
[]
[null,3,"To maximize run time, it is recommend that the Wet 150AH Batteries are ordered."]
[null,null,"Sealed/MF AGM 140AH Battery available on all units."]
[]
[null,4,"Manual Battery Watering System is only available on 150AH lead acid batteries.  "]
[]
[null,5,"Multiple Down Pressure (Dual Down Pressure)"]
[null,null,"430 mm / 17\" Single Disk - 21, 39 kg / 47, 86 lbs"]
[null,null,"500 mm / 20\" Single Disk - 23, 41 kg / 51, 90 lbs"]
[null,null,"600 mm / 24\" Dual Disk - 26, 44 kg / 57, 97 lbs"]
[null,null,"500 mm / 20\" Orbital - 29, 50 kg / 63, 109 lbs"]
[]
[null,6,"One Pad Driver or Brush can be selected with 430 mm/17\" and 500 mm/20\" Models"]
[null,null,"A Set of two Pad Drivers or Brushes can be selected for 600 mm/24\" Models"]
[null,null,"Pad Driver is included in the base machine price of Orbital Models."]
[null,null,"If Click-Quick Cleaning Tool Attachment is chosen, a Click-Quick pad driver or brush must be selected"]
[null,null,"If 3-Lug Cleaning Tool Attachment is chosen, a 3-lug pad driver or brush must be selected"]
[]
[null,7,"Additional hard copy Operator and Parts Manuals can be ordered or digital copies can be downloaded from www.Nobles.com."]
[]
[null,8,"A French and English manual will be supplied for all units shipping into Quebec, Canada at no charge.  An additional manual"]
[null,null,"can be ordered (for a total of 3 manuals) for an additional charge as stated under 'Additional Operator Manual'."]
[]
[null,"IRIS","Pre-Paid and Monthly Packages are available for the IRIS Information Service."]
[null,null,"IRIS Module is required and NOT included in the price of the IRIS Information Service:"]
[null,null,"   3 Year Pre-Paid IRIS Information Service …………………………………..",250]
[null,null,"   5 Year Pre-Paid IRIS Information Service ………………………………………………..",400]
[null,null,"A monthly contract can be set up at $10 per month w/ 12 month minimum commitment."]
[null,null,"IRIS Telemetry Module only covers the price of the hardware. "]
[null,null,"IRIS Telemetry requires an IRIS Telemetry Module and an IRIS Information Service Package."]
[null,null,"IRIS Telemetry is not available with units configured with Li-Ion Batteries."]
[]
[null,9,"Shipping Weights and Dimensions",null,"Skid w/Carton"]
[]
[null,null,"430 mm/17\" Single Model"]
[null,null,"Weight (w/105AH Battery Pad Drive)",null,"500 lbs / 227 Kg"]
[null,null,"Weight (w/130AH Battery Self Propel Drive)"]
[null,null,"Length",null,"59\" / 1500 mm"]
[null,null,"Width",null,"31\" / 787 mm"]
[null,null,"Height",null,"44\" / 1118 mm"]
[]
[null,null,"500 mm /20\" single Disk Model"]
[null,null,"Weight (w/130AH Battery Pad Drive)",null,"500 lbs / 227 Kg"]
[null,null,"Weight (w/150AH Battery Self Propel)"]
[null,null,"Length",null,"59\" / 1500 mm"]
[null,null,"Width",null,"31\" / 787 mm"]
[null,null,"Height",null,"44\" / 1118 mm"]
[]
[null,null,"600 mm/24\" Dual Disk Model"]
[null,null,"Weight (w/150AH Battery)",null,"538 lbs / 244 Kg"]
[null,null,"Length",null,"59\" / 1500 mm"]
[null,null,"Width",null,"31\" / 787 mm"]
[null,null,"Height",null,"44\" / 1118 mm"]
[]
[null,null,"500 mm/20\" Orbital Model"]
[null,null,"Weight (w/150AH Battery)",null,"526 lbs / 239 Kg"]
[null,null,"Length",null,"59\" / 1500 mm"]
[null,null,"Width",null,"32\" / 800 mm"]
[null,null,"Height",null,"44\" / 1118 mm"]

{"sheet":"SS350","index":36,"n_rows":284,"n_cols":14,"rows_kept":284,"cut":false,"hidden":false,"merged":[[177,5,177,6],[178,3,178,4],[178,5,178,6],[179,3,179,4],[179,5,179,6],[177,3,177,4],[36,1,36,5],[37,1,37,5],[38,1,38,5],[39,1,39,5],[40,1,40,5],[0,2,0,3],[1,2,1,3],[2,2,2,3],[3,2,3,3],[11,2,11,6],[151,3,151,4],[151,5,151,6],[153,3,153,4],[153,5,153,6],[41,1,41,5],[166,4,166,8],[168,3,168,6],[170,3,170,4],[171,3,171,4],[173,3,173,4],[173,5,173,6],[174,3,174,4],[174,5,174,6],[175,3,175,4],[175,5,175,6],[176,3,176,4],[176,5,176,6],[212,0,212,1],[212,2,212,5],[188,1,188,6],[210,4,210,6],[213,2,213,5],[214,2,214,5],[215,0,215,1],[215,2,215,5],[216,0,216,1],[216,2,216,5],[239,4,239,5],[15,1,15,2],[223,0,223,1],[223,2,223,5],[226,4,226,6],[228,2,228,5],[229,2,229,5],[230,2,230,5],[219,0,219,1],[219,2,219,5],[220,0,220,1],[220,2,220,5],[221,2,221,5],[222,0,222,1],[222,2,222,5],[213,0,213,1]]}
["SS350",null,{"$f":"Start_Here!$C19","v":"Company Name"}]
[{"$f":"SUM(G146)","v":0},null,{"$f":"Start_Here!$C20","v":"Address"}]
[null,null,{"$f":"Start_Here!$C21","v":"City, State Zip"}]
[null,null,{"$f":"Start_Here!$C22","v":"Contact Name"}]
[null,null,{"$f":"Start_Here!$C$41","v":"Rep Name"}]
[null,null,{"$f":"Start_Here!$C$37","v":"Tennant Sales and Service Company"}]
[null,null,{"$f":"Start_Here!$C$38","v":"10400 Clean Street"}]
[null,null,{"$f":"Start_Here!$C$39","v":"Eden Prairie, MN 55344"}]
[null,null,{"$f":"Start_Here!$C$43","v":"800-553-8033"},null,"Quote Date :",null,{"$f":"Letter!$A$25","v":"2023-08-01"}]
[]
[null,null,{"$f":"Help!C2","v":"CAN Date Rev - 5/6/2025"}]
[null,null,"BUILT-IN “NOBLES VALUE” INCLUDES:"]
[]
[null,"53L/14.1 gal Solution Tank  & 70 L/18.4 gal Recovery Tank",null,"Quick Release Squeegee Attachment/Removal"]
[null,"Rugged Duramer™ Rotomold Tank Construction",null,"Linatex Squeegee Blades With Tool-less Replacement"]
[null,"Insta-Click™ and Brush Attachment",null,"Emergency Stop"]
[null,"Hygienic™ Recovery Tank",null,"Free Floating Head Skirt"]
[null,"Multiple Setting Down Pressure",null,"Fill Port w/ Hose Hook"]
[null,"Adjustable Solution Flow",null,"Integrated Heat Sync For Electronics Protection"]
[null,"Variable Speed Control Knob",null,"Sealed Electrical Connectors"]
[null,"Pro-Membrane™ Control Panel With Multiple Zone Settings™",null,"Anti-Static Straps"]
[null,"Supervisor QA Controls™ Settings (Lock Out Features)",null,"24 VDC, 0.87 HP / 0.65 kW brush motor"]
[null,"On Board Diagnostics",null,"215 RPM (500 mm/20\") and 275 RPM (600 mm/24\") "]
[null,"Extremely Low Noise Level  (as low as 63.7 dBa)",null,"Recovery Tank Debris Tray"]
[null,"Quiet-Mode™ Sound Reduction Optional  ( as low as 59.7 dBa)",null,"Unsurpassed Ergonomic Design"]
[null,"Wet 210AH, Wet 240AH, and Sealed 220AH AGM Available.",null,"Non-Marking Wheels"]
[null,"Quick Release Battery Harness",null,"2.5 cm /1\" Edge & Reach Under Cleaning"]
[null,"Drain hose with pinch cuff to control water flow",null,"Key Switch for Safety"]
[null,"On-board Charger With 3m/15 ft Power Cord",null,"Hour Meter"]
[null,"Closed Machine Venting For Battery Charging",null,"Operators manual"]
[null,"Breakaway Squeegee Design",null,"Jacking Points/Shipping Tie Downs"]
[null,"Factory Set Squeegee Assembly For Maximium Recovery",null,"Yellow Maintenance Touch Points"]
[null,"Cast Aluminum Squeegee Frame",null,"Integrated Accessory Rail"]
[null,null,null,"Composite Scrub Deck (Single Disk)"]
[null,null,null,"Cast Aluminum Scrub Deck (Dual Disk)"]
[]
[null,"NOBLES WARRANTY"]
[null,"3 YEARS OR 2500 HOURS ON ALL COMPONENTS, 3 YEARS LABOR"]
[null,"90 DAYS TRAVEL, 10 YEARS ON DURAMERTM TANKS"]
[]
[]
[]
[null,null,null,null,"                Quote Request Information"]
[null,null,null,null,null,null,"Fax (quote only)"]
[null,null,null,null,null,null,"Mail (quote,lit, specs)"]
[null,null,null,null,null,null,"Fax + Mail"]
[]
[null,null,null,null,"                Primary Use"]
[null,null,null,null,null,null,"Inside"]
[null,null,null,null,null,null,"Outside"]
[]
[]
[null,null,"Description","Material#","CAD Price Each","Qty","Extended Price"]
[null,"Base Configuration",null,"Reference Number","Price",{"$f":"SUM(F55,F59,F63,F69,F78)","v":0},null,{"$f":"IFERROR(IFERROR(VLOOKUP(D54,Surcharge!A:B,2,FALSE)*F54, VLOOKUP(D54 & \"\",Surcharge!A:B,2,FALSE)*F54), \"\")","v":""}]
[null,null,"Cleaning Type",null,null,{"$f":"SUM(F56:F57)","v":0},null,{"$f":"IFERROR(IFERROR(VLOOKUP(D55,Surcharge!A:B,2,FALSE)*F55, VLOOKUP(D55 & \"\",Surcharge!A:B,2,FALSE)*F55), \"\")","v":""}]
[null,null,"SS350 Stand-On Scrubber 500mm / 20\" Disk","SS350-500-D",21150,null,{"$f":"F56*E56","v":0},{"$f":"IFERROR(IFERROR(VLOOKUP(D56,Surcharge!A:B,2,FALSE)*F56, VLOOKUP(D56 & \"\",Surcharge!A:B,2,FALSE)*F56), \"\")","v":0}]
[null,null,"SS350 Stand-On Scrubber 600mm / 24\" Disk","SS350-600-D",23409,null,{"$f":"F57*E57","v":0},{"$f":"IFERROR(IFERROR(VLOOKUP(D57,Surcharge!A:B,2,FALSE)*F57, VLOOKUP(D57 & \"\",Surcharge!A:B,2,FALSE)*F57), \"\")","v":0}]
[null,null,null,null," ",null,null,{"$f":"IFERROR(IFERROR(VLOOKUP(D58,Surcharge!A:B,2,FALSE)*F58, VLOOKUP(D58 & \"\",Surcharge!A:B,2,FALSE)*F58), \"\")","v":""}]
[null,null,"Trim Level",null,null,{"$f":"SUM(F60:F61)","v":0},null,{"$f":"IFERROR(IFERROR(VLOOKUP(D59,Surcharge!A:B,2,FALSE)*F59, VLOOKUP(D59 & \"\",Surcharge!A:B,2,FALSE)*F59), \"\")","v":""}]
[null,null,"Pro-MembraneTM Control Panel","MCP-SS350","N/C",null,{"$f":"IF(F60=0,\" \",\"N/C\")","v":" "},{"$f":"IFERROR(IFERROR(VLOOKUP(D60,Surcharge!A:B,2,FALSE)*F60, VLOOKUP(D60 & \"\",Surcharge!A:B,2,FALSE)*F60), \"\")","v":""}]
[null,null,"Pro-Panel® Control Panel","PPC-SS350",1447,null,{"$f":"F61*E61","v":0}]
[null,null,null,null," ",null,null,{"$f":"IFERROR(IFERROR(VLOOKUP(D62,Surcharge!A:B,2,FALSE)*F62, VLOOKUP(D62 & \"\",Surcharge!A:B,2,FALSE)*F62), \"\")","v":""}]
[null,null,"Cleaning Technology: (conventional is standard,  ec-H2O can also operate in conventional mode)",null," ",{"$f":"SUM(F64:F67)","v":0},null,{"$f":"IFERROR(IFERROR(VLOOKUP(D63,Surcharge!A:B,2,FALSE)*F63, VLOOKUP(D63 & \"\",Surcharge!A:B,2,FALSE)*F63), \"\")","v":""}]
[null,null,"ec-H2O NanoClean","ec-H2ONC-SS350",3320,null,{"$f":"F64*E64","v":0},{"$f":"IFERROR(IFERROR(VLOOKUP(D64,Surcharge!A:B,2,FALSE)*F64, VLOOKUP(D64 & \"\",Surcharge!A:B,2,FALSE)*F64), \"\")","v":""}]
[null,null,null,null," ",null,null,{"$f":"IFERROR(IFERROR(VLOOKUP(D65,Surcharge!A:B,2,FALSE)*F65, VLOOKUP(D65 & \"\",Surcharge!A:B,2,FALSE)*F65), \"\")","v":""}]
[null,null,"Severe Environment Switch  (Note 1)",9040107,931,null,{"$f":"F66*E66","v":0},{"$f":"IFERROR(IFERROR(VLOOKUP(D66,Surcharge!A:B,2,FALSE)*F66, VLOOKUP(D66 & \"\",Surcharge!A:B,2,FALSE)*F66), \"\")","v":""}]
[null,null,"Severe Environment™ Switch Lockout  (Note 2)",9017886,95,null,{"$f":"F67*E67","v":0}]
[null,null,null,null," ",null,null,{"$f":"IFERROR(IFERROR(VLOOKUP(D68,Surcharge!A:B,2,FALSE)*F68, VLOOKUP(D68 & \"\",Surcharge!A:B,2,FALSE)*F68), \"\")","v":""}]
[null,null,"Battery Type  (Note 3)",null,null,{"$f":"SUM(F70:F76)","v":0},null,{"$f":"IFERROR(IFERROR(VLOOKUP(D69,Surcharge!A:B,2,FALSE)*F69, VLOOKUP(D69 & \"\",Surcharge!A:B,2,FALSE)*F69), \"\")","v":""}]
[null,null,"Wet 210AH C/20",9040050,"N/C",null,{"$f":"IF(F70=0,\" \",\"N/C\")","v":" "},{"$f":"IFERROR(IFERROR(VLOOKUP(D70,Surcharge!A:B,2,FALSE)*F70, VLOOKUP(D70 & \"\",Surcharge!A:B,2,FALSE)*F70), \"\")","v":""}]
[null,null,"Wet 240AH C/20",9040051,288,null,{"$f":"F71*E71","v":0},{"$f":"IFERROR(IFERROR(VLOOKUP(D71,Surcharge!A:B,2,FALSE)*F71, VLOOKUP(D71 & \"\",Surcharge!A:B,2,FALSE)*F71), \"\")","v":""}]
[null,null,"Sealed/MF AGM 220AH C/20",9040052,2162,null,{"$f":"F72*E72","v":0},{"$f":"IFERROR(IFERROR(VLOOKUP(D72,Surcharge!A:B,2,FALSE)*F72, VLOOKUP(D72 & \"\",Surcharge!A:B,2,FALSE)*F72), \"\")","v":""}]
[null,null,"Without",9040058,-630,null,{"$f":"F73*E73","v":0},{"$f":"IFERROR(IFERROR(VLOOKUP(D73,Surcharge!A:B,2,FALSE)*F73, VLOOKUP(D73 & \"\",Surcharge!A:B,2,FALSE)*F73), \"\")","v":""}]
[null,null,null,null," ",null,null,{"$f":"IFERROR(IFERROR(VLOOKUP(D74,Surcharge!A:B,2,FALSE)*F74, VLOOKUP(D74 & \"\",Surcharge!A:B,2,FALSE)*F74), \"\")","v":""}]
[null,null,"Smart-Fill Automatic Battery Watering  (Note 4)",9040152,1540,null,{"$f":"F75*E75","v":0},{"$f":"IFERROR(IFERROR(VLOOKUP(D75,Surcharge!A:B,2,FALSE)*F75, VLOOKUP(D75 & \"\",Surcharge!A:B,2,FALSE)*F75), \"\")","v":""}]
[null,null,"Manual Battery Watering  (Note 4)",9040150,898,null,0,{"$f":"IFERROR(IFERROR(VLOOKUP(D76,Surcharge!A:B,2,FALSE)*F76, VLOOKUP(D76 & \"\",Surcharge!A:B,2,FALSE)*F76), \"\")","v":""}]
[null,null,null,null," ",null,null,{"$f":"IFERROR(IFERROR(VLOOKUP(D77,Surcharge!A:B,2,FALSE)*F77, VLOOKUP(D77 & \"\",Surcharge!A:B,2,FALSE)*F77), \"\")","v":""}]
[null,null,"Charger  (Note 5)",null,null,{"$f":"SUM(F79:F80)","v":0},null,{"$f":"IFERROR(IFERROR(VLOOKUP(D78,Surcharge!A:B,2,FALSE)*F78, VLOOKUP(D78 & \"\",Surcharge!A:B,2,FALSE)*F78), \"\")","v":""}]
[null,null,"25A 100-240V AC 50/60Hz 1Ph - On-Board",9040060,"N/C",null,{"$f":"IF(F79=0,\" \",\"N/C\")","v":" "},{"$f":"IFERROR(IFERROR(VLOOKUP(D79,Surcharge!A:B,2,FALSE)*F79, VLOOKUP(D79 & \"\",Surcharge!A:B,2,FALSE)*F79), \"\")","v":""}]
[null,null,"30A 230V AC 50/60Hz 1Ph - Off-Board",1257204,"N/C",null,{"$f":"IF(F80=0,\" \",\"N/C\")","v":" "}]
[null,null,null,null,null,null,null,{"$f":"IFERROR(IFERROR(VLOOKUP(D81,Surcharge!A:B,2,FALSE)*F81, VLOOKUP(D81 & \"\",Surcharge!A:B,2,FALSE)*F81), \"\")","v":""}]
[null,"Cleaning Performance",null,null,null,{"$f":"SUM(F83:F84)","v":0},null,{"$f":"IFERROR(IFERROR(VLOOKUP(D82,Surcharge!A:B,2,FALSE)*F82, VLOOKUP(D82 & \"\",Surcharge!A:B,2,FALSE)*F82), \"\")","v":""}]
[null,null,"Quiet Mode",9040154,278,null,{"$f":"F83*E83","v":0},{"$f":"IFERROR(IFERROR(VLOOKUP(D83,Surcharge!A:B,2,FALSE)*F83, VLOOKUP(D83 & \"\",Surcharge!A:B,2,FALSE)*F83), \"\")","v":""}]
[null,null,"Reduced Propel Speed  (Note 6)","RPS-SS350","N/C",null,{"$f":"IF(F84=0,\" \",\"N/C\")","v":" "},{"$f":"IFERROR(IFERROR(VLOOKUP(D84,Surcharge!A:B,2,FALSE)*F84, VLOOKUP(D84 & \"\",Surcharge!A:B,2,FALSE)*F84), \"\")","v":""}]
[null,null,null,null," ",null,null,{"$f":"IFERROR(IFERROR(VLOOKUP(D85,Surcharge!A:B,2,FALSE)*F85, VLOOKUP(D85 & \"\",Surcharge!A:B,2,FALSE)*F85), \"\")","v":""}]
[null,"Machine Protection & Safety",null,null,null,{"$f":"SUM(F87:F87)","v":0},null,{"$f":"IFERROR(IFERROR(VLOOKUP(D86,Surcharge!A:B,2,FALSE)*F86, VLOOKUP(D86 & \"\",Surcharge!A:B,2,FALSE)*F86), \"\")","v":""}]
[null,null,"Audio Back Up Alarm","BU-SS350","N/C",null,{"$f":"IF(F87=0,\" \",\"N/C\")","v":" "},{"$f":"IFERROR(IFERROR(VLOOKUP(D87,Surcharge!A:B,2,FALSE)*F87, VLOOKUP(D87 & \"\",Surcharge!A:B,2,FALSE)*F87), \"\")","v":""}]
[null,null,null,null,null,null,null,{"$f":"IFERROR(IFERROR(VLOOKUP(D88,Surcharge!A:B,2,FALSE)*F88, VLOOKUP(D88 & \"\",Surcharge!A:B,2,FALSE)*F88), \"\")","v":""}]
[null,"Brushes and Pads",null,"Reference Number",null,{"$f":"SUM(F90,F101,F96,F107)","v":0},null,{"$f":"IFERROR(IFERROR(VLOOKUP(D89,Surcharge!A:B,2,FALSE)*F89, VLOOKUP(D89 & \"\",Surcharge!A:B,2,FALSE)*F89), \"\")","v":""}]
[null,null,"500mm / 20\" Disk Brushes (1 Required)",null,null,{"$f":"SUM(F91)","v":0},null,{"$f":"IFERROR(IFERROR(VLOOKUP(D90,Surcharge!A:B,2,FALSE)*F90, VLOOKUP(D90 & \"\",Surcharge!A:B,2,FALSE)*F90), \"\")","v":""}]
[null,null,"For Insta-Click Scrub Head:",null," ",{"$f":"SUM(F92:F94)","v":0},null,{"$f":"IFERROR(IFERROR(VLOOKUP(D91,Surcharge!A:B,2,FALSE)*F91, VLOOKUP(D91 & \"\",Surcharge!A:B,2,FALSE)*F91), \"\")","v":""}]
[null,null,"Polypropylene Brush",1213032,559,null,{"$f":"F92*E92","v":0},{"$f":"IFERROR(IFERROR(VLOOKUP(D92,Surcharge!A:B,2,FALSE)*F92, VLOOKUP(D92 & \"\",Surcharge!A:B,2,FALSE)*F92), \"\")","v":""}]
[null,null,"Nylon Brush",1210386,559,null,0,{"$f":"IFERROR(IFERROR(VLOOKUP(D93,Surcharge!A:B,2,FALSE)*F93, VLOOKUP(D93 & \"\",Surcharge!A:B,2,FALSE)*F93), \"\")","v":""}]
[null,null,"Pad Driver",1209197,559,null,0,{"$f":"IFERROR(IFERROR(VLOOKUP(D94,Surcharge!A:B,2,FALSE)*F94, VLOOKUP(D94 & \"\",Surcharge!A:B,2,FALSE)*F94), \"\")","v":""}]
[null,null,null,null," ",null,null,{"$f":"IFERROR(IFERROR(VLOOKUP(D95,Surcharge!A:B,2,FALSE)*F95, VLOOKUP(D95 & \"\",Surcharge!A:B,2,FALSE)*F95), \"\")","v":""}]
[null,null,"Pads",null," ",{"$f":"SUM(F97:F99)","v":0},null,{"$f":"IFERROR(IFERROR(VLOOKUP(D96,Surcharge!A:B,2,FALSE)*F96, VLOOKUP(D96 & \"\",Surcharge!A:B,2,FALSE)*F96), \"\")","v":""}]
[null,null,"Blue Scrubbing - 3M",17262,39.6,null,{"$f":"F97*E97","v":0},{"$f":"IFERROR(IFERROR(VLOOKUP(D97,Surcharge!A:B,2,FALSE)*F97, VLOOKUP(D97 & \"\",Surcharge!A:B,2,FALSE)*F97), \"\")","v":""}]
[null,null,"Red Cleaning - 3M",17261,39.6,null,0,{"$f":"IFERROR(IFERROR(VLOOKUP(D98,Surcharge!A:B,2,FALSE)*F98, VLOOKUP(D98 & \"\",Surcharge!A:B,2,FALSE)*F98), \"\")","v":""}]
[null,null,"White Polishing - 3M",17260,39.6,null,0,{"$f":"IFERROR(IFERROR(VLOOKUP(D99,Surcharge!A:B,2,FALSE)*F99, VLOOKUP(D99 & \"\",Surcharge!A:B,2,FALSE)*F99), \"\")","v":""}]
[null,null,null,null," ",null,null,{"$f":"IFERROR(IFERROR(VLOOKUP(D100,Surcharge!A:B,2,FALSE)*F100, VLOOKUP(D100 & \"\",Surcharge!A:B,2,FALSE)*F100), \"\")","v":""}]
[null,null,"600mm / 24\" Disk Brushes (2 Required)",null," ",{"$f":"SUM(F102)","v":0},null,{"$f":"IFERROR(IFERROR(VLOOKUP(D101,Surcharge!A:B,2,FALSE)*F101, VLOOKUP(D101 & \"\",Surcharge!A:B,2,FALSE)*F101), \"\")","v":""}]
[null,null,"For Insta-Click Scrub Head:",null," ",{"$f":"SUM(F103:F105)","v":0},null,{"$f":"IFERROR(IFERROR(VLOOKUP(D102,Surcharge!A:B,2,FALSE)*F102, VLOOKUP(D102 & \"\",Surcharge!A:B,2,FALSE)*F102), \"\")","v":""}]
[null,null,"Polypropylene Brush",1213040,360,null,{"$f":"F103*E103","v":0},{"$f":"IFERROR(IFERROR(VLOOKUP(D103,Surcharge!A:B,2,FALSE)*F103, VLOOKUP(D103 & \"\",Surcharge!A:B,2,FALSE)*F103), \"\")","v":""}]
[null,null,"Nylon Brush",1210136,360,null,0,{"$f":"IFERROR(IFERROR(VLOOKUP(D104,Surcharge!A:B,2,FALSE)*F104, VLOOKUP(D104 & \"\",Surcharge!A:B,2,FALSE)*F104), \"\")","v":""}]
[null,null,"Pad Driver",1209160,360,null,0,{"$f":"IFERROR(IFERROR(VLOOKUP(D105,Surcharge!A:B,2,FALSE)*F105, VLOOKUP(D105 & \"\",Surcharge!A:B,2,FALSE)*F105), \"\")","v":""}]
[null,null,null,null," ",null,null,{"$f":"IFERROR(IFERROR(VLOOKUP(D106,Surcharge!A:B,2,FALSE)*F106, VLOOKUP(D106 & \"\",Surcharge!A:B,2,FALSE)*F106), \"\")","v":""}]
[null,null,"Pads",null," ",{"$f":"SUM(F108:F110)","v":0},null,{"$f":"IFERROR(IFERROR(VLOOKUP(D107,Surcharge!A:B,2,FALSE)*F107, VLOOKUP(D107 & \"\",Surcharge!A:B,2,FALSE)*F107), \"\")","v":""}]
[null,null,"Blue Scrubbing - 3M",385942,22.5,null,{"$f":"F108*E108","v":0},{"$f":"IFERROR(IFERROR(VLOOKUP(D108,Surcharge!A:B,2,FALSE)*F108, VLOOKUP(D108 & \"\",Surcharge!A:B,2,FALSE)*F108), \"\")","v":""}]
[null,null,"Red Cleaning - 3M",385941,22.5,null,0,{"$f":"IFERROR(IFERROR(VLOOKUP(D109,Surcharge!A:B,2,FALSE)*F109, VLOOKUP(D109 & \"\",Surcharge!A:B,2,FALSE)*F109), \"\")","v":""}]
[null,null,"White Polishing - 3M",385940,22.5,null,0,{"$f":"IFERROR(IFERROR(VLOOKUP(D110,Surcharge!A:B,2,FALSE)*F110, VLOOKUP(D110 & \"\",Surcharge!A:B,2,FALSE)*F110), \"\")","v":""}]
[null,null,null,null," ",null,null,{"$f":"IFERROR(IFERROR(VLOOKUP(D111,Surcharge!A:B,2,FALSE)*F111, VLOOKUP(D111 & \"\",Surcharge!A:B,2,FALSE)*F111), \"\")","v":""}]
[null,"Support",null,"Reference Number",null,{"$f":"SUM(F113:F121)","v":0},null,{"$f":"IFERROR(IFERROR(VLOOKUP(D112,Surcharge!A:B,2,FALSE)*F112, VLOOKUP(D112 & \"\",Surcharge!A:B,2,FALSE)*F112), \"\")","v":""}]
[null,null,"Operator Manaul - English",9020160,"N/C",null,{"$f":"IF(F113=0,\" \",\"N/C\")","v":" "},{"$f":"IFERROR(IFERROR(VLOOKUP(D113,Surcharge!A:B,2,FALSE)*F113, VLOOKUP(D113 & \"\",Surcharge!A:B,2,FALSE)*F113), \"\")","v":""}]
[null,null,"Operator Manual - Spanish",9020161,"N/C",null," ",{"$f":"IFERROR(IFERROR(VLOOKUP(D114,Surcharge!A:B,2,FALSE)*F114, VLOOKUP(D114 & \"\",Surcharge!A:B,2,FALSE)*F114), \"\")","v":""}]
[null,null,"Operator Manual - French (Note 7)  ",9020162,"N/C",null," ",{"$f":"IFERROR(IFERROR(VLOOKUP(D115,Surcharge!A:B,2,FALSE)*F115, VLOOKUP(D115 & \"\",Surcharge!A:B,2,FALSE)*F115), \"\")","v":""}]
[null,null,"Additional Operator Manual","SEE ABOVE",204,null,{"$f":"F116*E116","v":0},{"$f":"IFERROR(IFERROR(VLOOKUP(D116,Surcharge!A:B,2,FALSE)*F116, VLOOKUP(D116 & \"\",Surcharge!A:B,2,FALSE)*F116), \"\")","v":""}]
[null,null,"Parts Manual",9020166,84,null,0,{"$f":"IFERROR(IFERROR(VLOOKUP(D117,Surcharge!A:B,2,FALSE)*F117, VLOOKUP(D117 & \"\",Surcharge!A:B,2,FALSE)*F117), \"\")","v":""}]
[null,null,"Service Manual",9020167,204,null,{"$f":"F118*E118","v":0},{"$f":"IFERROR(IFERROR(VLOOKUP(D118,Surcharge!A:B,2,FALSE)*F118, VLOOKUP(D118 & \"\",Surcharge!A:B,2,FALSE)*F118), \"\")","v":""}]
[null,null,null,null," ",null,null,{"$f":"IFERROR(IFERROR(VLOOKUP(D119,Surcharge!A:B,2,FALSE)*F119, VLOOKUP(D119 & \"\",Surcharge!A:B,2,FALSE)*F119), \"\")","v":""}]
[null,null,"Packaging",null,null,{"$f":"SUM(F121)","v":0},null,{"$f":"IFERROR(IFERROR(VLOOKUP(D120,Surcharge!A:B,2,FALSE)*F120, VLOOKUP(D120 & \"\",Surcharge!A:B,2,FALSE)*F120), \"\")","v":""}]
[null,null,"Skid w/Carton, Stackable",9040253,"N/C",null,{"$f":"IF(F121=0,\" \",\"N/C\")","v":" "},{"$f":"IFERROR(IFERROR(VLOOKUP(D121,Surcharge!A:B,2,FALSE)*F121, VLOOKUP(D121 & \"\",Surcharge!A:B,2,FALSE)*F121), \"\")","v":""}]
[null,null,null,null,null,null,null,{"$f":"IFERROR(IFERROR(VLOOKUP(D122,Surcharge!A:B,2,FALSE)*F122, VLOOKUP(D122 & \"\",Surcharge!A:B,2,FALSE)*F122), \"\")","v":""}]
[]
[]
[null,"Custom Solution--write in description, qty, price, and PN if applicable",null,null,null,{"$f":"SUM(F126)","v":0}]
[null,null,null,null,"Insert Prices Here",{"$f":"SUM(F127:F130)","v":0}]
[null,null,null,"Custom",null,{"$f":"IF(E127 <> \"\", 1, 0)","v":0},{"$f":"F127*E127","v":0}]
[null,null,null,"Custom",null,{"$f":"IF(E128 <> \"\", 1, 0)","v":0},{"$f":"F128*E128","v":0}]
[null,null,null,"Custom",null,0,{"$f":"F129*E129","v":0}]
[null,null,null,"Custom",null,0,{"$f":"F130*E130","v":0}]
[null,null,null,null,{"$f":"ROUND(SUM(G54:G130), 0)","v":0},{"$f":"SUM(E132)","v":0}]
[null,null,null,"Machine Subtotal ",{"$f":"ROUND(SUM(G54:G130), 0)","v":0},{"$f":"F131","v":0}]
[null,"Discounts",null,null,null,{"$f":"SUM(F134)","v":0}]
[null,null,null,null,null,{"$f":"SUM(F136:F139)","v":0}]
[null,null,null,"Applicable Currency Adj %",null,{"$f":"IF(E135 <> \"\", 1, 0)","v":0},{"$f":"IF(F135*(E135*0.01)*E131 < 0, F135*(E135*0.01)*E131, -(F135*(E135*0.01)*E131))","v":0}]
[null,null,null,"Discount %",null,{"$f":"IF(E136 <> \"\", 1, 0)","v":0},{"$f":"IF(F136*(E136*0.01)*(E131+G135) < 0, F136*(E136*0.01)*(E131+G135), -(F136*(E136*0.01)*(E131+G135)))","v":0}]
[null,null,null,"Discount $",null,0,{"$f":"IF(F137*E137 < 0, F137*E137, -(F137*E137))","v":0}]
[null,null,null,"Discount $",null,0,{"$f":"IF(F138*E138 < 0, F138*E138, -(F138*E138))","v":0}]
[null,null,null,"Discount $",null,0,{"$f":"IF(F139*E139 < 0, F139*E139, -(F139*E139))","v":0}]
[null,null,null,"Discount Total ",{"$f":"SUM(G135:G139)","v":0},{"$f":"SUM(E140)","v":0}]
[null,null,null,null,null,{"$f":"#REF!","v":{"$error":"#REF!"}}]
[null,null,null,null,null,{"$f":"F141","v":{"$error":"#REF!"}}]
[null,null,"Prepaid and Add","Freight",null,{"$f":"IF(E143 <> \"\", 1, 0)","v":0},{"$f":"F143*E143","v":0}]
[null,null,"Subject to all applicable taxes","Tax",null,0,0]
[null,null,null,null,null,{"$f":"SUM(F146)","v":0}]
[null,null,null,"MACHINE TOTAL*",null,{"$f":"SUM(G146)","v":0},{"$f":"SUM(G54:G144)","v":0},null,null,null,null,null,null,"This goes to \"My Documents\""]
[null,null,null,null,null,null,{"$f":"SUM(G146)","v":0}]
[]
[]
[]
[]
[null,null,"Wells Fargo - Leasing Calculation Option:","Option 1",null,"Option 2",null,null,null,{"$f":"Financing!A38","v":"Rates 2025 - Rev.2/4/2025"}]
[null,null,null,"Monthly Payment","Cost Per Day","Monthly Payment","Cost Per Day",null,null,{"$f":"Financing!A39","v":"“Blank Payment Amounts Indicate The Financing Option Or Purchase Options Selected Are Not "}]
[null,null,"Purchase Option:","$1 Buyout Lease",null,"None",null,null,null,{"$f":"Financing!A40","v":"Applicable Or The Machine Total Is Below The Minimum Amount For The Selected Vendor”"}]
[null,null,"24 Months",0,0,0,0,null,null,{"$f":"Financing!A41","v":"\"Quoted monthly payments are estimates only and are based on a certain level of credit rating."}]
[null,null,"36 Months",0,0,0,0,null,null,{"$f":"Financing!A42","v":"Actual monthly payments may be higher depending on your credit rating.\""}]
[null,null,"48 Months",0,0,0,0,null,null,{"$f":"Financing!A43","v":"“Financing rates do not include Pre-Paid Service”"}]
[null,null,"60 Months",0,0,0,0,null,{"$f":"Financing!A44","v":0}]
[]
[null,null,null,"Benefits of Equipment Financing:"]
[null,null,null,"• Spreads out investment over time.",null,"• Keep current with latest technology."]
[null,null,null,"• Preserve capital.",null,"• Service and parts bundling available."]
[null,null,null,"• Low monthly payment.",null,"• Pay for labor savings as you go."]
[]
[null,"  TennantTrue",null,0,0]
[]
[null,null,"Is customer interested in service program?","Yes","*State/County selection required for TennantTrue service options"]
[]
[null,null,"If not, why?"]
[]
[null,null,"Term:",36,null,null,"AB Brushes","No"]
[null,null,"Monthly machine usage (hrs):","< 30/mo. (Avg. 1hr./day)"]
[]
[null,null,"TennantTrue: ","Gold Contract",null,"Silver Contract"]
[null,null,"Per Visit",null,null,425]
[null,null,"Monthly",129,null,69]
[null,null,"Annually",null,null,816]
[null,null,"Pre-Pay Full Term",4444,null,2397]
[null,null,"Hourly Labor Rate"]
[null,null,"Site Visit"]
[]
[null,null,"* Verify customer current pricing prior to quote. "]
[null,null,"**All rates and fees above reflect service for one (1) unit with the exception of Block of Time service."]
[null,null,"*Block of Time is available in 1 Year Term only and is priced as such no matter the term selection on this template."]
[]
[]
[]
[null,"Quote Special Instructions:"]
[]
[]
[]
[null,{"$f":"Start_Here!E36","v":"Terms and Conditions"}]
[null,{"$f":"Start_Here!E37","v":"Ask your local sales rep for estimated lead times. Verify when placing order"}]
[null,{"$f":"Start_Here!E38","v":"All orders subject to acceptance by Tennant Sales and Service Company, Minneapolis, Minnesota"}]
[null,{"$f":"Start_Here!E39","v":"Prices subject to change without notice. Subject to any applicable taxes."}]
[null,{"$f":"Start_Here!E40","v":"Terms:  Net 30 days.  Payable in Canadian Funds"}]
[null,{"$f":"Start_Here!E41","v":"Freight:  Accessories, parts, supplies, detergents, and floor coatings orders delivered DDP "}]
[null,{"$f":"Start_Here!E42","v":"shipping point Frt PPD.  Machine orders delivered DDP shipping point Frt PPD and add."}]
[null,{"$f":"Start_Here!E43","v":"Returned Merchandise is subject to a restocking fee."}]
[null,{"$f":"Start_Here!E44","v":"All orders are subject to Tennant’s General Terms and Conditions available at http://www.tennantco.com/terms."}]
[null,{"$f":"Start_Here!E45","v":"Printed General Terms and Conditions are also available upon request."}]
[null,{"$f":"Start_Here!E46","v":0}]
[null,{"$f":"Start_Here!E47","v":0}]
[null,{"$f":"Start_Here!E48","v":0}]
[null,null,null,null,"Quote Date :",null,{"$f":"Letter!$A$25","v":"2023-08-01"}]
[null,"Order Placement Information:  To place your order, fill in PO# and customer signatures,"]
[null,"call or fax to the numbers listed below. Customer Purchase Order is required."]
[null,"If information is missing, orders will be entered and held until all information is received."]
[]
[null,null,"Customer Number",null,"Cust Grp 3"]
[null,null,{"$f":"Start_Here!$C$25","v":0},null,{"$f":"Start_Here!$C$29","v":0}]
[null,null,{"$f":"Start_Here!$B$18","v":"Who Owns the Machine? (Sold-To Info) (Please Verify)"}]
["Company",null,{"$f":"Start_Here!$C$19","v":"Company Name"}]
["Address",null,{"$f":"Start_Here!$C$20","v":"Address"}]
[null,null,{"$f":"Start_Here!$C$21","v":"City, State Zip"}]
["Name",null,{"$f":"Start_Here!$C$22","v":"Contact Name"}]
["Phone",null,{"$f":"Start_Here!$C$23","v":"Contact Phone"}]
[]
[null,null,{"$f":"Start_Here!$B$11","v":"Where is the Machine Being Shipped? (Ship-To Info) (Please Verify)"}]
["Company",null,{"$f":"Start_Here!$C$12","v":"Company Name"}]
["Address",null,{"$f":"Start_Here!$C$13","v":"Address"}]
[null,null,{"$f":"Start_Here!$C$14","v":"City, State Zip"}]
["Name",null,{"$f":"Start_Here!$C$15","v":"Contact Name"}]
["Phone",null,{"$f":"Start_Here!$C$16","v":"Contact Phone"}]
[]
[null,null,{"$f":"Start_Here!$B$31","v":"Shipping / Carrier Instructions:"},null,"Order Special Instructions:"]
[null,null,{"$f":"Start_Here!$C$32","v":0}]
[]
[null,null,"Customer Purchase Order No."]
[null,null,"(please attach copy)"]
[]
[]
[null,null,"Tax Exempt",null,"Yes"]
[null,null,null,null,"No"]
[null,null,"If Yes, attach a copy of your exemption certificate."]
[]
[null,null,"Requested Delivery Date"]
[null,null,{"$f":"Start_Here!$C$28","v":0}]
[]
[null,null,{"$f":"Start_Here!$C$26","v":0},null,{"$f":"Start_Here!$C$27","v":0}]
[null,null,"Authorized Buyer (please print)",null,"Phone Number"]
[]
[]
[null,null,"Authorized Buyer Signature"]
[]
[null,null,{"$f":"Start_Here!$C$41","v":"Rep Name"}]
[null,null,"Tennant Representative"]
[]
[null,null,null,"Specialized Maintenance Equipment"]
[null,null,{"$f":"Start_Here!$C$51","v":0}]
[null,null,null,{"$f":"Start_Here!$C$52","v":0}]
[null,1,"Severe Environment Switch is only available with ec-H2O NanoClean Cleaning Technology."]
[]
[null,2,"Severe Environment™ Switch Lockout is only available with ec-H2O NanoClean AND the Severe Environment Switch."]
[]
[null,3,"In order to obtain the IRIS Battery Metrics, one of the listed Tennant supplied batteries is required."]
[]
[null,4,"Smart-Fill Automatic Battery Watering only available with on-board charger."]
[null,null,"Smart-Fill Automatic Battery Watering and Manual Battery Watering are not compatible with AGM Batteries."]
[]
[null,5,"25A 100-240V AC 50/60Hz 1Ph - On-Board Charger is required to receive IRIS Battery Manager."]
[null,null,"25A 100-240V AC 50/60Hz 1Ph - On-Board Charger is mandatory when ordering Smart-Fill Battery Watering."]
[]
[null,6,"Reduced Propel Speed will reduce the overall Max Scrubbing and Transport Speed from 3.5 mph/5.6 Kph to 2.8 mph/4.5 Kph"]
[]
[null,7,"A French and English manual will be supplied for all units shipping into Quebec, Canada at no charge.  An additional manual"]
[null,null,"can be ordered (for a total of 3 manuals) for an additional charge as stated under 'Additional Operator Manual'."]
[]
[null,8,"Pre-Paid and Monthly Packages are available for the IRIS Information Service."]
[null,null,"IRIS Module is required and NOT included in the price of the IRIS Information Service:"]
[null,null,"3 Year Pre-Paid IRIS Information Service",350]
[null,null,"5 Year Pre-Paid IRIS Information Service",560]
[null,null,"A monthly contract can be set up at $14 per month w/ 12 month minimum commitment."]
[null,null,"IRIS Telemetry Module only covers the price of the hardware. "]
[null,null,"IRIS Telemetry requires an IRIS Telemetry Module and an IRIS Information Service Package."]
[null,null,"25A 100-240V AC 50/60Hz 1Ph - On-Board Charger and a compatible Tennant supplied battery is required to receive IRIS Battery Manager."]
[null,null,"IRIS Battery Metrics are not guaranteed with third party supplied batteries."]
[]
[null,9,"Shipping Weights and Dimentions",null,"Skid w/Carton"]
[]
[null,null,"Weight"]
[null,null,"Length"]
[null,null,"Width"]
[null,null,"Height"]

{"sheet":"SS500","index":37,"n_rows":341,"n_cols":14,"rows_kept":341,"cut":false,"hidden":false,"merged":[[193,3,193,4],[193,5,193,6],[171,3,171,4],[171,5,171,6],[169,3,169,4],[169,5,169,6],[184,4,184,8],[191,3,191,4],[191,5,191,6],[192,3,192,4],[192,5,192,6],[197,3,197,4],[197,5,197,6],[11,2,11,6],[45,3,46,3],[33,1,33,4],[34,1,34,4],[35,1,35,4],[36,1,36,4],[37,1,37,4],[38,1,38,4],[194,3,194,4],[194,5,194,6],[195,3,195,4],[195,5,195,6],[196,3,196,4],[196,5,196,6],[231,2,231,5],[232,0,232,1],[232,2,232,5],[256,4,256,5],[240,0,240,1],[240,2,240,5],[243,4,243,6],[245,2,245,5],[246,2,246,5],[247,2,247,5],[206,1,206,6],[227,4,227,6],[229,0,229,1],[229,2,229,5],[230,0,230,1],[230,2,230,5],[0,2,0,3],[1,2,1,3],[2,2,2,3],[3,2,3,3],[239,0,239,1],[239,2,239,5],[236,0,236,1],[236,2,236,5],[237,0,237,1],[237,2,237,5],[238,2,238,5],[186,3,186,6],[188,3,188,4],[189,3,189,4],[233,0,233,1],[233,2,233,5]]}
["SS500",null,{"$f":"Start_Here!$C19","v":"Company Name"}]
[{"$f":"SUM(G164)","v":0},null,{"$f":"Start_Here!$C20","v":"Address"}]
[null,null,{"$f":"Start_Here!$C21","v":"City, State Zip"}]
[null,null,{"$f":"Start_Here!$C22","v":"Contact Name"}]
[null,null,{"$f":"Start_Here!$C$41","v":"Rep Name"}]
[null,null,{"$f":"Start_Here!$C$37","v":"Tennant Sales and Service Company"}]
[null,null,{"$f":"Start_Here!$C$38","v":"10400 Clean Street"}]
[null,null,{"$f":"Start_Here!$C$39","v":"Eden Prairie, MN 55344"}]
[null,null,{"$f":"Start_Here!$C$43","v":"800-553-8033"},null,"Quote Date :",null,{"$f":"Letter!$A$25","v":"2023-08-01"}]
[]
[null,null,{"$f":"Help!C2","v":"CAN Date Rev - 5/6/2025"}]
[null,null,"BUILT-IN “NOBLES VALUE” INCLUDES:"]
[]
[null,"Tanks: 85 L/22.5 gal Solution & 102 L/27 gal Recovery",null,"Yellow maintenance touch points"]
[null,"1-STEP™ Button Memory Controls",null,"Emergency Stop Kit"]
[null,"Extremely Low Noise Levels Standard  (≤68.5 dBA)",null,"Key Switch for Safety"]
[null,"On Board Diagnostics",null,"Standard (4) 6 V 225AH Battery Pack (Optional AGM Batteries)"]
[null,"Cast Aluminum Squeegee Frame & Scrub Decks (D/C)",null,"Drain hose with pinch cuff to control water flow"]
[null,"11 Gauge Steel Scrub Deck (Orbital Only)",null,"On-board Charger with power cord"]
[null,"2 selectable down pressures",null,"Closed Machine Venting for Battery Charging"]
[null,"4 Selectable water flow settings",null,"100% Water recovery in 180º  turns w/ standard squeegee"]
[null,"Front Water Fill Port",null,"Insta-Fit™ No-Tool Pad Driver and Brush Attachment (Disk machines)"]
[null,"Automatic: Water On / Off ",null,"No-Tool Squeegee Change"]
[null,null,"      Brush On / Off","Breakaway Squeegee Design w/ Integrated P-Trap"]
[null,null,"      Brush Shutoff at 80% Discharge","Factory Set Squeegee Assembly for Maximum Recovery"]
[null,"Integrated Accessory Rails with Bag Hang hooks",null,"Front Linard/Rear Linatex Squeegee Blades with Tool-less Replacement"]
[null,"Excellent Ergonomic Controls Design",null,"Includes Standard Pad Drivers or Scrubbing Brushes (Select One)"]
[null,"Optional ec-H2O NanoClean™ Equipped Models Include:",null,"Free Floating Head Skirt (disk machines)"]
[null,"Electrically Converted Water Technology System",null,"Hour Meter"]
[null,"Two Scrubbing Modes: ec-H2O NanoCleanTM & Conventional Scrub",null,"Operators manual"]
[null,"Rugged Duramer™ Tank Construction",null,"Jacking Points/Shipping Tie Downs"]
[null,"Gray Non-Marking Tires",null,"Sealed Electrical Connectors in key areas"]
[]
[null,"NOBLES WARRANTY"]
[null,"3 YEARS OR 2000 HOURS - PARTS"]
[null,"1 YEAR - BATTERY CHARGERS"]
[null,"3 YEARS OR 2000 HOURS ORBITAL SCRUB HEAD ISOLATORS"]
[null,"2 YEARS - LABOR, 6 MONTHS - TRAVEL"]
[null,"10 YEARS ON DURAMERTM ROTOMOLD TANKS"]
[]
[null,null,null,null,"                Quote Request Information"]
[null,null,null,null,null,null,"Fax (quote only)"]
[null,null,null,null,null,null,"Mail (quote,lit, specs)"]
[null,null,null,null,null,null,"Fax + Mail"]
[]
[null,null,null,null,"                Primary Use"]
[null,null,null,null,null,null,"Inside"]
[null,null,null,null,null,null,"Outside"]
[]
[]
[]
[]
[null,null,"Description","Reference #","Price Each","Qty","Extended Price"]
[null,"Base Configuration",null,null,"CANADA",{"$f":"SUM(F55,F62,F65,F69,F80)","v":0},null,{"$f":"IFERROR(IFERROR(VLOOKUP(D54,Surcharge!A:B,2,FALSE)*F54, VLOOKUP(D54 & \"\",Surcharge!A:B,2,FALSE)*F54), \"\")","v":""}]
[null,null,"Cleaning Type",null,{"$f":"E64","v":" "},{"$f":"SUM(F56:F60)","v":0},null,{"$f":"IFERROR(IFERROR(VLOOKUP(D55,Surcharge!A:B,2,FALSE)*F55, VLOOKUP(D55 & \"\",Surcharge!A:B,2,FALSE)*F55), \"\")","v":""}]
[null,null,"SS500 Walk-Behind Scrubber 650 mm / 26\" Disk","SS500-650-D",21734,null,{"$f":"F56*E56","v":0},{"$f":"IFERROR(IFERROR(VLOOKUP(D56,Surcharge!A:B,2,FALSE)*F56, VLOOKUP(D56 & \"\",Surcharge!A:B,2,FALSE)*F56), \"\")","v":0}]
[null,null,"SS500 Walk-Behind Scrubber 700 mm / 28\" Disk","SS500-700-D",22873,null,0,{"$f":"IFERROR(IFERROR(VLOOKUP(D57,Surcharge!A:B,2,FALSE)*F57, VLOOKUP(D57 & \"\",Surcharge!A:B,2,FALSE)*F57), \"\")","v":0}]
[null,null,"SS500 Walk-Behind Scrubber 800 mm / 32\" Disk","SS500-800-D",24112,null,{"$f":"F58*E58","v":0},{"$f":"IFERROR(IFERROR(VLOOKUP(D58,Surcharge!A:B,2,FALSE)*F58, VLOOKUP(D58 & \"\",Surcharge!A:B,2,FALSE)*F58), \"\")","v":0}]
[null,null,"SS500 Walk-Behind Scrubber 700 mm / 28\" Cylindrical","SS500-700-C",25147,null,{"$f":"F59*E59","v":0},{"$f":"IFERROR(IFERROR(VLOOKUP(D59,Surcharge!A:B,2,FALSE)*F59, VLOOKUP(D59 & \"\",Surcharge!A:B,2,FALSE)*F59), \"\")","v":0}]
[null,null,"SS500 Walk-Behind Scrubber 700 mm / 28\" Orbital","SS500-700-O",23908,null,{"$f":"F60*E60","v":0},{"$f":"IFERROR(IFERROR(VLOOKUP(D60,Surcharge!A:B,2,FALSE)*F60, VLOOKUP(D60 & \"\",Surcharge!A:B,2,FALSE)*F60), \"\")","v":0}]
[null,null,null,null," ",null,null,{"$f":"IFERROR(IFERROR(VLOOKUP(D61,Surcharge!A:B,2,FALSE)*F61, VLOOKUP(D61 & \"\",Surcharge!A:B,2,FALSE)*F61), \"\")","v":""}]
[null,null,"Cleaning Technology: (conventional is standard,  ec-H2O NanoClean can also operate in conventional mode)",null," ",{"$f":"SUM(F63)","v":0},null,{"$f":"IFERROR(IFERROR(VLOOKUP(D62,Surcharge!A:B,2,FALSE)*F62, VLOOKUP(D62 & \"\",Surcharge!A:B,2,FALSE)*F62), \"\")","v":""}]
[null,null,"ec-H2O NanoClean™","ec-H2ONC-SS500",4255,null,{"$f":"F63*E63","v":0},{"$f":"IFERROR(IFERROR(VLOOKUP(D63,Surcharge!A:B,2,FALSE)*F63, VLOOKUP(D63 & \"\",Surcharge!A:B,2,FALSE)*F63), \"\")","v":""}]
[null,null,null,null," ",null,null,{"$f":"IFERROR(IFERROR(VLOOKUP(D64,Surcharge!A:B,2,FALSE)*F64, VLOOKUP(D64 & \"\",Surcharge!A:B,2,FALSE)*F64), \"\")","v":""}]
[null,null,"Squeegee Width  (Note 1)",null,null,{"$f":"SUM(F66:F67)","v":0},null,{"$f":"IFERROR(IFERROR(VLOOKUP(D65,Surcharge!A:B,2,FALSE)*F65, VLOOKUP(D65 & \"\",Surcharge!A:B,2,FALSE)*F65), \"\")","v":""}]
[null,null,"Standard","STD-SS500","N/C",null,{"$f":"IF(F66=0,\" \",\"N/C\")","v":" "},{"$f":"IFERROR(IFERROR(VLOOKUP(D66,Surcharge!A:B,2,FALSE)*F66, VLOOKUP(D66 & \"\",Surcharge!A:B,2,FALSE)*F66), \"\")","v":""}]
[null,null,"Narrow Aisle","NR-SS500","N/C",null," ",{"$f":"IFERROR(IFERROR(VLOOKUP(D67,Surcharge!A:B,2,FALSE)*F67, VLOOKUP(D67 & \"\",Surcharge!A:B,2,FALSE)*F67), \"\")","v":""}]
[null,null,null,null,null,null,null,{"$f":"IFERROR(IFERROR(VLOOKUP(D68,Surcharge!A:B,2,FALSE)*F68, VLOOKUP(D68 & \"\",Surcharge!A:B,2,FALSE)*F68), \"\")","v":""}]
[null,null,"Battery Type",null,null,{"$f":"SUM(F70:F78)","v":0},null,{"$f":"IFERROR(IFERROR(VLOOKUP(D69,Surcharge!A:B,2,FALSE)*F69, VLOOKUP(D69 & \"\",Surcharge!A:B,2,FALSE)*F69), \"\")","v":""}]
[null,null,"Wet 225AH C/20",9015372,"N/C",null,{"$f":"IF(F70=0,\" \",\"N/C\")","v":" "},{"$f":"IFERROR(IFERROR(VLOOKUP(D70,Surcharge!A:B,2,FALSE)*F70, VLOOKUP(D70 & \"\",Surcharge!A:B,2,FALSE)*F70), \"\")","v":""}]
[null,null,"Wet 260AH C/20",9015373,636,null,{"$f":"F71*E71","v":0},{"$f":"IFERROR(IFERROR(VLOOKUP(D71,Surcharge!A:B,2,FALSE)*F71, VLOOKUP(D71 & \"\",Surcharge!A:B,2,FALSE)*F71), \"\")","v":""}]
[null,null,"Sealed/MF AGM 220AH C/20",9015374,2313,null,0,{"$f":"IFERROR(IFERROR(VLOOKUP(D72,Surcharge!A:B,2,FALSE)*F72, VLOOKUP(D72 & \"\",Surcharge!A:B,2,FALSE)*F72), \"\")","v":""}]
[null,null,"Li-Ion 24v, 90AH  (Note 2)",9022774,4826,null,{"$f":"F73*E73","v":0}]
[null,null,"Li-Ion 24v, 180AH  (Note 2)",9022775,9090,null,0]
[null,null,"Without",9015370,-630,null,0,{"$f":"IFERROR(IFERROR(VLOOKUP(D75,Surcharge!A:B,2,FALSE)*F75, VLOOKUP(D75 & \"\",Surcharge!A:B,2,FALSE)*F75), \"\")","v":""}]
[null,null,null,null," ",null,null,{"$f":"IFERROR(IFERROR(VLOOKUP(D76,Surcharge!A:B,2,FALSE)*F76, VLOOKUP(D76 & \"\",Surcharge!A:B,2,FALSE)*F76), \"\")","v":""}]
[null,null,"Smart-Fill Automatic Battery Watering System  (Note 3)",9015383,1374,null,{"$f":"F77*E77","v":0},{"$f":"IFERROR(IFERROR(VLOOKUP(D77,Surcharge!A:B,2,FALSE)*F77, VLOOKUP(D77 & \"\",Surcharge!A:B,2,FALSE)*F77), \"\")","v":""}]
[null,null,"Manual Battery Watering System  (Note 3)",9009619,800,null,0,{"$f":"IFERROR(IFERROR(VLOOKUP(D78,Surcharge!A:B,2,FALSE)*F78, VLOOKUP(D78 & \"\",Surcharge!A:B,2,FALSE)*F78), \"\")","v":""}]
[null,null,null,null," ",null,null,{"$f":"IFERROR(IFERROR(VLOOKUP(D79,Surcharge!A:B,2,FALSE)*F79, VLOOKUP(D79 & \"\",Surcharge!A:B,2,FALSE)*F79), \"\")","v":""}]
[null,null,"Charger  (Note 4)","Reference Number",null,{"$f":"SUM(F81:F84)","v":0},null,{"$f":"IFERROR(IFERROR(VLOOKUP(D80,Surcharge!A:B,2,FALSE)*F80, VLOOKUP(D80 & \"\",Surcharge!A:B,2,FALSE)*F80), \"\")","v":""}]
[null,null,"25A 100-240V AC 50/60Hz 1Ph - On-Board",9015396,"N/C",null,{"$f":"IF(F81=0,\" \",\"N/C\")","v":" "},{"$f":"IFERROR(IFERROR(VLOOKUP(D81,Surcharge!A:B,2,FALSE)*F81, VLOOKUP(D81 & \"\",Surcharge!A:B,2,FALSE)*F81), \"\")","v":""}]
[null,null,"27A 100-240V AC 50/60Hz 1Ph - Off-Board Charger (Li-Ion Batteries)",9052023,"N/C",null,{"$f":"IF(F82=0,\" \",\"N/C\")","v":" "}]
[null,null,"27A 100-240V AC 50/60Hz 1Ph - On-Board Charger (Li-Ion Batteries)",9022825,"N/C",null," "]
[null,null,"41A 100-240V AC 50/60Hz 1Ph - On-Board Charger (Li-Ion Batteries)",9022828,546,null,{"$f":"F84*E84","v":0}]
[null,null,null,null," ",null,null,{"$f":"IFERROR(IFERROR(VLOOKUP(D85,Surcharge!A:B,2,FALSE)*F85, VLOOKUP(D85 & \"\",Surcharge!A:B,2,FALSE)*F85), \"\")","v":""}]
[null,"Machine Protection & Safety",null,null," ",{"$f":"SUM(F87)","v":0},null,{"$f":"IFERROR(IFERROR(VLOOKUP(D86,Surcharge!A:B,2,FALSE)*F86, VLOOKUP(D86 & \"\",Surcharge!A:B,2,FALSE)*F86), \"\")","v":""}]
[null,null,"Parking Brake",9015224,272,null,{"$f":"F87*E87","v":0},{"$f":"IFERROR(IFERROR(VLOOKUP(D87,Surcharge!A:B,2,FALSE)*F87, VLOOKUP(D87 & \"\",Surcharge!A:B,2,FALSE)*F87), \"\")","v":""}]
[null,null,null,null,null,null,null,{"$f":"IFERROR(IFERROR(VLOOKUP(D88,Surcharge!A:B,2,FALSE)*F88, VLOOKUP(D88 & \"\",Surcharge!A:B,2,FALSE)*F88), \"\")","v":""}]
[null,"Brushes and Pads  (Note 5)",null,"Reference Number",null,{"$f":"SUM(F90,F100,F110,F120,F124)","v":0},null,{"$f":"IFERROR(IFERROR(VLOOKUP(D89,Surcharge!A:B,2,FALSE)*F89, VLOOKUP(D89 & \"\",Surcharge!A:B,2,FALSE)*F89), \"\")","v":""}]
[null,null,"650mm / 26\" Disk Scrubbing Brushes/Pads (2 Required)",null,null,{"$f":"SUM(F91:F98)","v":0},null,{"$f":"IFERROR(IFERROR(VLOOKUP(D90,Surcharge!A:B,2,FALSE)*F90, VLOOKUP(D90 & \"\",Surcharge!A:B,2,FALSE)*F90), \"\")","v":""}]
[null,null,"Polypropylene",1223989,"N/C",null,{"$f":"IF(F91=0,\" \",\"N/C\")","v":" "},{"$f":"IFERROR(IFERROR(VLOOKUP(D91,Surcharge!A:B,2,FALSE)*F91, VLOOKUP(D91 & \"\",Surcharge!A:B,2,FALSE)*F91), \"\")","v":""}]
[null,null,"Nylon",1223991,"N/C",null," ",{"$f":"IFERROR(IFERROR(VLOOKUP(D92,Surcharge!A:B,2,FALSE)*F92, VLOOKUP(D92 & \"\",Surcharge!A:B,2,FALSE)*F92), \"\")","v":""}]
[null,null,null,null," ",null,null,{"$f":"IFERROR(IFERROR(VLOOKUP(D93,Surcharge!A:B,2,FALSE)*F93, VLOOKUP(D93 & \"\",Surcharge!A:B,2,FALSE)*F93), \"\")","v":""}]
[null,null,"Pad Driver",1220220,"N/C",null,{"$f":"IF(F94=0,\" \",\"N/C\")","v":" "},{"$f":"IFERROR(IFERROR(VLOOKUP(D94,Surcharge!A:B,2,FALSE)*F94, VLOOKUP(D94 & \"\",Surcharge!A:B,2,FALSE)*F94), \"\")","v":""}]
[null,null,"Pads ",null," ",{"$f":"SUM(F96:F98)","v":0},null,{"$f":"IFERROR(IFERROR(VLOOKUP(D95,Surcharge!A:B,2,FALSE)*F95, VLOOKUP(D95 & \"\",Surcharge!A:B,2,FALSE)*F95), \"\")","v":""}]
[null,null,"Blue Scrubbing - 3M",89047,22.5,null,{"$f":"F96*E96","v":0},{"$f":"IFERROR(IFERROR(VLOOKUP(D96,Surcharge!A:B,2,FALSE)*F96, VLOOKUP(D96 & \"\",Surcharge!A:B,2,FALSE)*F96), \"\")","v":""}]
[null,null,"Red Cleaning - 3M",89048,22.5,null,0,{"$f":"IFERROR(IFERROR(VLOOKUP(D97,Surcharge!A:B,2,FALSE)*F97, VLOOKUP(D97 & \"\",Surcharge!A:B,2,FALSE)*F97), \"\")","v":""}]
[null,null,"White Polishing - 3M",89049,22.5,null,0,{"$f":"IFERROR(IFERROR(VLOOKUP(D98,Surcharge!A:B,2,FALSE)*F98, VLOOKUP(D98 & \"\",Surcharge!A:B,2,FALSE)*F98), \"\")","v":""}]
[null,null,null,null,null,null,null,{"$f":"IFERROR(IFERROR(VLOOKUP(D99,Surcharge!A:B,2,FALSE)*F99, VLOOKUP(D99 & \"\",Surcharge!A:B,2,FALSE)*F99), \"\")","v":""}]
[null,null,"700 mm/28\" Disk Scrubbing Brushes/Pads (2 Required)",null,null,{"$f":"SUM(F101:F108)","v":0},null,{"$f":"IFERROR(IFERROR(VLOOKUP(D100,Surcharge!A:B,2,FALSE)*F100, VLOOKUP(D100 & \"\",Surcharge!A:B,2,FALSE)*F100), \"\")","v":""}]
[null,null,"Polypropylene",1220218,"N/C",null,{"$f":"IF(F101=0,\" \",\"N/C\")","v":" "},{"$f":"IFERROR(IFERROR(VLOOKUP(D101,Surcharge!A:B,2,FALSE)*F101, VLOOKUP(D101 & \"\",Surcharge!A:B,2,FALSE)*F101), \"\")","v":""}]
[null,null,"Nylon",1221541,"N/C",null," ",{"$f":"IFERROR(IFERROR(VLOOKUP(D102,Surcharge!A:B,2,FALSE)*F102, VLOOKUP(D102 & \"\",Surcharge!A:B,2,FALSE)*F102), \"\")","v":""}]
[null,null,null,null," ",null,null,{"$f":"IFERROR(IFERROR(VLOOKUP(D103,Surcharge!A:B,2,FALSE)*F103, VLOOKUP(D103 & \"\",Surcharge!A:B,2,FALSE)*F103), \"\")","v":""}]
[null,null,"Pad Driver",1220221,"N/C",null,{"$f":"IF(F104=0,\" \",\"N/C\")","v":" "},{"$f":"IFERROR(IFERROR(VLOOKUP(D104,Surcharge!A:B,2,FALSE)*F104, VLOOKUP(D104 & \"\",Surcharge!A:B,2,FALSE)*F104), \"\")","v":""}]
[null,null,"Pads ",null," ",{"$f":"SUM(F106:F108)","v":0},null,{"$f":"IFERROR(IFERROR(VLOOKUP(D105,Surcharge!A:B,2,FALSE)*F105, VLOOKUP(D105 & \"\",Surcharge!A:B,2,FALSE)*F105), \"\")","v":""}]
[null,null,"Blue Scrubbing - 3M",222326,25.7,null,{"$f":"F106*E106","v":0},{"$f":"IFERROR(IFERROR(VLOOKUP(D106,Surcharge!A:B,2,FALSE)*F106, VLOOKUP(D106 & \"\",Surcharge!A:B,2,FALSE)*F106), \"\")","v":""}]
[null,null,"Red Cleaning - 3M",222325,25.7,null,0,{"$f":"IFERROR(IFERROR(VLOOKUP(D107,Surcharge!A:B,2,FALSE)*F107, VLOOKUP(D107 & \"\",Surcharge!A:B,2,FALSE)*F107), \"\")","v":""}]
[null,null,"White Polishing - 3M",222324,25.7,null,0,{"$f":"IFERROR(IFERROR(VLOOKUP(D108,Surcharge!A:B,2,FALSE)*F108, VLOOKUP(D108 & \"\",Surcharge!A:B,2,FALSE)*F108), \"\")","v":""}]
[null,null,null,null," ",null,null,{"$f":"IFERROR(IFERROR(VLOOKUP(D109,Surcharge!A:B,2,FALSE)*F109, VLOOKUP(D109 & \"\",Surcharge!A:B,2,FALSE)*F109), \"\")","v":""}]
[null,null,"800 mm/32\" Disk Scrubbing Brushes/Pads (2 Required)",null," ",{"$f":"SUM(F111:F118)","v":0},null,{"$f":"IFERROR(IFERROR(VLOOKUP(D110,Surcharge!A:B,2,FALSE)*F110, VLOOKUP(D110 & \"\",Surcharge!A:B,2,FALSE)*F110), \"\")","v":""}]
[null,null,"Polypropylene",1220216,"N/C",null,{"$f":"IF(F111=0,\" \",\"N/C\")","v":" "},{"$f":"IFERROR(IFERROR(VLOOKUP(D111,Surcharge!A:B,2,FALSE)*F111, VLOOKUP(D111 & \"\",Surcharge!A:B,2,FALSE)*F111), \"\")","v":""}]
[null,null,"Nylon",1220215,"N/C",null," ",{"$f":"IFERROR(IFERROR(VLOOKUP(D112,Surcharge!A:B,2,FALSE)*F112, VLOOKUP(D112 & \"\",Surcharge!A:B,2,FALSE)*F112), \"\")","v":""}]
[null,null,null,null," ",null,null,{"$f":"IFERROR(IFERROR(VLOOKUP(D113,Surcharge!A:B,2,FALSE)*F113, VLOOKUP(D113 & \"\",Surcharge!A:B,2,FALSE)*F113), \"\")","v":""}]
[null,null,"Pad Driver",1220222,"N/C",null,{"$f":"IF(F114=0,\" \",\"N/C\")","v":" "},{"$f":"IFERROR(IFERROR(VLOOKUP(D114,Surcharge!A:B,2,FALSE)*F114, VLOOKUP(D114 & \"\",Surcharge!A:B,2,FALSE)*F114), \"\")","v":""}]
[null,null,"Pads ",null," ",{"$f":"SUM(F116:F118)","v":0},null,{"$f":"IFERROR(IFERROR(VLOOKUP(D115,Surcharge!A:B,2,FALSE)*F115, VLOOKUP(D115 & \"\",Surcharge!A:B,2,FALSE)*F115), \"\")","v":""}]
[null,null,"Blue Scrubbing - 3M","63248-2",30,null,{"$f":"F116*E116","v":0},{"$f":"IFERROR(IFERROR(VLOOKUP(D116,Surcharge!A:B,2,FALSE)*F116, VLOOKUP(D116 & \"\",Surcharge!A:B,2,FALSE)*F116), \"\")","v":""}]
[null,null,"Red Cleaning - 3M","63248-3",30,null,0,{"$f":"IFERROR(IFERROR(VLOOKUP(D117,Surcharge!A:B,2,FALSE)*F117, VLOOKUP(D117 & \"\",Surcharge!A:B,2,FALSE)*F117), \"\")","v":""}]
[null,null,"White Polishing - 3M","63248-4",30,null,0,{"$f":"IFERROR(IFERROR(VLOOKUP(D118,Surcharge!A:B,2,FALSE)*F118, VLOOKUP(D118 & \"\",Surcharge!A:B,2,FALSE)*F118), \"\")","v":""}]
[null,null,null,null," ",null,null,{"$f":"IFERROR(IFERROR(VLOOKUP(D119,Surcharge!A:B,2,FALSE)*F119, VLOOKUP(D119 & \"\",Surcharge!A:B,2,FALSE)*F119), \"\")","v":""}]
[null,null,"700mm / 28\" Cylindrical Scrubbing Brushes  (2 Required)",null," ",{"$f":"SUM(F121:F122)","v":0},null,{"$f":"IFERROR(IFERROR(VLOOKUP(D120,Surcharge!A:B,2,FALSE)*F120, VLOOKUP(D120 & \"\",Surcharge!A:B,2,FALSE)*F120), \"\")","v":""}]
[null,null,"Polypropylene",222304,"N/C",null,{"$f":"IF(F121=0,\" \",\"N/C\")","v":" "},{"$f":"IFERROR(IFERROR(VLOOKUP(D121,Surcharge!A:B,2,FALSE)*F121, VLOOKUP(D121 & \"\",Surcharge!A:B,2,FALSE)*F121), \"\")","v":""}]
[null,null,"Nylon",222305,"N/C",null,{"$f":"IF(F122=0,\" \",\"N/C\")","v":" "},{"$f":"IFERROR(IFERROR(VLOOKUP(D122,Surcharge!A:B,2,FALSE)*F122, VLOOKUP(D122 & \"\",Surcharge!A:B,2,FALSE)*F122), \"\")","v":""}]
[null,null,null,null," ",null,null,{"$f":"IFERROR(IFERROR(VLOOKUP(D123,Surcharge!A:B,2,FALSE)*F123, VLOOKUP(D123 & \"\",Surcharge!A:B,2,FALSE)*F123), \"\")","v":""}]
[null,null,"700mm / 28\" Orbital Pads",null," ",{"$f":"SUM(F125:F129)","v":0},null,{"$f":"IFERROR(IFERROR(VLOOKUP(D124,Surcharge!A:B,2,FALSE)*F124, VLOOKUP(D124 & \"\",Surcharge!A:B,2,FALSE)*F124), \"\")","v":""}]
[null,null,"Pad Driver",1221839,"N/C",null,{"$f":"IF(F125=0,\" \",\"N/C\")","v":" "},{"$f":"IFERROR(IFERROR(VLOOKUP(D125,Surcharge!A:B,2,FALSE)*F125, VLOOKUP(D125 & \"\",Surcharge!A:B,2,FALSE)*F125), \"\")","v":""}]
[null,null,"Pads ",null," ",{"$f":"SUM(F127:F129)","v":0},null,{"$f":"IFERROR(IFERROR(VLOOKUP(D126,Surcharge!A:B,2,FALSE)*F126, VLOOKUP(D126 & \"\",Surcharge!A:B,2,FALSE)*F126), \"\")","v":""}]
[null,null,"Blue Scrubbing - 3M",1223247,84.6,null,{"$f":"F127*E127","v":0},{"$f":"IFERROR(IFERROR(VLOOKUP(D127,Surcharge!A:B,2,FALSE)*F127, VLOOKUP(D127 & \"\",Surcharge!A:B,2,FALSE)*F127), \"\")","v":""}]
[null,null,"Red Cleaning - 3M",1218157,84.6,null,0,{"$f":"IFERROR(IFERROR(VLOOKUP(D128,Surcharge!A:B,2,FALSE)*F128, VLOOKUP(D128 & \"\",Surcharge!A:B,2,FALSE)*F128), \"\")","v":""}]
[null,null,"White Polishing - 3M",1223246,84.6,null,0,{"$f":"IFERROR(IFERROR(VLOOKUP(D129,Surcharge!A:B,2,FALSE)*F129, VLOOKUP(D129 & \"\",Surcharge!A:B,2,FALSE)*F129), \"\")","v":""}]
[null,null,null,null,null,null,null,{"$f":"IFERROR(IFERROR(VLOOKUP(D130,Surcharge!A:B,2,FALSE)*F130, VLOOKUP(D130 & \"\",Surcharge!A:B,2,FALSE)*F130), \"\")","v":""}]
[null,"Support  (Note 6)",null,"Reference Number",null,{"$f":"SUM(F132:F140)","v":0},null,{"$f":"IFERROR(IFERROR(VLOOKUP(D131,Surcharge!A:B,2,FALSE)*F131, VLOOKUP(D131 & \"\",Surcharge!A:B,2,FALSE)*F131), \"\")","v":""}]
[null,null,"SS500 Operator Manual (English)",9015513,"N/C",null,{"$f":"IF(F132=0,\" \",\"N/C\")","v":" "},{"$f":"IFERROR(IFERROR(VLOOKUP(D132,Surcharge!A:B,2,FALSE)*F132, VLOOKUP(D132 & \"\",Surcharge!A:B,2,FALSE)*F132), \"\")","v":""}]
[null,null,"SS500 Operator Manual (Spanish)",9015514,"N/C",null," ",{"$f":"IFERROR(IFERROR(VLOOKUP(D133,Surcharge!A:B,2,FALSE)*F133, VLOOKUP(D133 & \"\",Surcharge!A:B,2,FALSE)*F133), \"\")","v":""}]
[null,null,"SS500 Operator Manual (French)  (Note 7)",9015515,"N/C",null,{"$f":"IF(F134=0,\" \",\"N/C\")","v":" "},{"$f":"IFERROR(IFERROR(VLOOKUP(D134,Surcharge!A:B,2,FALSE)*F134, VLOOKUP(D134 & \"\",Surcharge!A:B,2,FALSE)*F134), \"\")","v":""}]
[null,null,"Additional Operator Manual","SEE ABOVE",188,null,{"$f":"F135*E135","v":0},{"$f":"IFERROR(IFERROR(VLOOKUP(D135,Surcharge!A:B,2,FALSE)*F135, VLOOKUP(D135 & \"\",Surcharge!A:B,2,FALSE)*F135), \"\")","v":""}]
[null,null,"SS500 Parts Manual",9015512,76,null,0,{"$f":"IFERROR(IFERROR(VLOOKUP(D136,Surcharge!A:B,2,FALSE)*F136, VLOOKUP(D136 & \"\",Surcharge!A:B,2,FALSE)*F136), \"\")","v":""}]
[null,null,"SS500 Service Manual",9015517,188,null,{"$f":"F137*E137","v":0},{"$f":"IFERROR(IFERROR(VLOOKUP(D137,Surcharge!A:B,2,FALSE)*F137, VLOOKUP(D137 & \"\",Surcharge!A:B,2,FALSE)*F137), \"\")","v":""}]
[null,null,null,null," ",null,null,{"$f":"IFERROR(IFERROR(VLOOKUP(D138,Surcharge!A:B,2,FALSE)*F138, VLOOKUP(D138 & \"\",Surcharge!A:B,2,FALSE)*F138), \"\")","v":""}]
[null,null,"Packaging",null,null,{"$f":"SUM(F140)","v":0},null,{"$f":"IFERROR(IFERROR(VLOOKUP(D139,Surcharge!A:B,2,FALSE)*F139, VLOOKUP(D139 & \"\",Surcharge!A:B,2,FALSE)*F139), \"\")","v":""}]
[null,null,"Skid w/Carton, Stackable",9015450,"N/C",null,{"$f":"IF(F140=0,\" \",\"N/C\")","v":" "},{"$f":"IFERROR(IFERROR(VLOOKUP(D140,Surcharge!A:B,2,FALSE)*F140, VLOOKUP(D140 & \"\",Surcharge!A:B,2,FALSE)*F140), \"\")","v":""}]
[null,null,null,null,null,null,null,{"$f":"IFERROR(IFERROR(VLOOKUP(D141,Surcharge!A:B,2,FALSE)*F141, VLOOKUP(D141 & \"\",Surcharge!A:B,2,FALSE)*F141), \"\")","v":""}]
[]
[null,"Custom Solution--write in description, qty, price, and PN if applicable",null,null,null,{"$f":"SUM(F144)","v":0}]
[null,null,null,null,"Insert Prices Here",{"$f":"SUM(F145:F148)","v":0}]
[null,null,null,"Custom",null,{"$f":"IF(E145 <> \"\", 1, 0)","v":0},{"$f":"F145*E145","v":0}]
[null,null,null,"Custom",null,{"$f":"IF(E146 <> \"\", 1, 0)","v":0},{"$f":"F146*E146","v":0}]
[null,null,null,"Custom",null,0,{"$f":"F147*E147","v":0}]
[null,null,null,"Custom",null,0,{"$f":"F148*E148","v":0}]
[null,null,null,null,{"$f":"ROUND(SUM(G54:G148), 0)","v":0},{"$f":"SUM(E150)","v":0}]
[null,null,null,"Machine Subtotal ",{"$f":"ROUND(SUM(G54:G148), 0)","v":0},{"$f":"F149","v":0}]
[null,"Discounts",null,null,null,{"$f":"SUM(F152)","v":0}]
[null,null,null,null,null,{"$f":"SUM(F154:F157)","v":0}]
[null,null,null,"Applicable Currency Adj %",null,{"$f":"IF(E153 <> \"\", 1, 0)","v":0},{"$f":"IF(F153*(E153*0.01)*E149 < 0, F153*(E153*0.01)*E149, -(F153*(E153*0.01)*E149))","v":0}]
[null,null,null,"Discount %",null,{"$f":"IF(E154 <> \"\", 1, 0)","v":0},{"$f":"IF(F154*(E154*0.01)*(E149+G153) < 0, F154*(E154*0.01)*(E149+G153), -(F154*(E154*0.01)*(E149+G153)))","v":0}]
[null,null,null,"Discount $",null,0,{"$f":"IF(F155*E155 < 0, F155*E155, -(F155*E155))","v":0}]
[null,null,null,"Discount $",null,0,{"$f":"IF(F156*E156 < 0, F156*E156, -(F156*E156))","v":0}]
[null,null,null,"Discount $",null,0,{"$f":"IF(F157*E157 < 0, F157*E157, -(F157*E157))","v":0}]
[null,null,null,"Discount Total ",{"$f":"SUM(G153:G157)","v":0},{"$f":"SUM(E158)","v":0}]
[null,null,null,null,null,{"$f":"#REF!","v":{"$error":"#REF!"}}]
[null,null,null,null,null,{"$f":"F159","v":{"$error":"#REF!"}}]
[null,null,"Prepaid and Add","Freight",null,{"$f":"IF(E161 <> \"\", 1, 0)","v":0},{"$f":"F161*E161","v":0}]
[null,null,"Subject to all applicable taxes","Tax",null,0,0]
[null,null,null,null,null,{"$f":"SUM(F164)","v":0}]
[null,null,null,"MACHINE TOTAL*",null,{"$f":"SUM(G164)","v":0},{"$f":"SUM(G54:G162)","v":0},null,null,null,null,null,null,"This goes to \"My Documents\""]
[null,null,null,null,null,null,{"$f":"SUM(G164)","v":0}]
[]
[]
[]
[]
[null,null,"Wells Fargo - Leasing Calculation Option:","Option 1",null,"Option 2",null,null,null,{"$f":"Financing!A38","v":"Rates 2025 - Rev.2/4/2025"}]
[null,null,null,"Monthly Payment","Cost Per Day","Monthly Payment","Cost Per Day",null,null,{"$f":"Financing!A39","v":"“Blank Payment Amounts Indicate The Financing Option Or Purchase Options Selected Are Not "}]
[null,null,"Purchase Option:","$1 Buyout Lease",null,"None",null,null,null,{"$f":"Financing!A40","v":"Applicable Or The Machine Total Is Below The Minimum Amount For The Selected Vendor”"}]
[null,null,"24 Months",0,0,0,0,null,null,{"$f":"Financing!A41","v":"\"Quoted monthly payments are estimates only and are based on a certain level of credit rating."}]
[null,null,"36 Months",0,0,0,0,null,null,{"$f":"Financing!A42","v":"Actual monthly payments may be higher depending on your credit rating.\""}]
[null,null,"48 Months",0,0,0,0,null,null,{"$f":"Financing!A43","v":"“Financing rates do not include Pre-Paid Service”"}]
[null,null,"60 Months",0,0,0,0,null,{"$f":"Financing!A44","v":0}]
[]
[null,null,null,"Benefits of Equipment Financing:"]
[null,null,null,"• Spreads out investment over time.",null,"• Keep current with latest technology."]
[null,null,null,"• Preserve capital.",null,"• Service and parts bundling available."]
[null,null,null,"• Low monthly payment.",null,"• Pay for labor savings as you go."]
[]
[null,"  TennantTrue",null,0,0]
[]
[null,null,"Is customer interested in service program?","Yes","*State/County selection required for TennantTrue service options"]
[]
[null,null,"If not, why?"]
[]
[null,null,"Term:",36,null,null,"AB Brushes","No"]
[null,null,"Monthly machine usage (hrs):","< 30/mo. (Avg. 1hr./day)"]
[]
[null,null,"TennantTrue: ","Gold Contract",null,"Silver Contract"]
[null,null,"Per Visit",null,null,425]
[null,null,"Monthly",129,null,69]
[null,null,"Annually",null,null,816]
[null,null,"Pre-Pay Full Term",4444,null,2397]
[null,null,"Hourly Labor Rate"]
[null,null,"Site Visit"]
[]
[null,null,"* Verify customer current pricing prior to quote. "]
[null,null,"**All rates and fees above reflect service for one (1) unit with the exception of Block of Time service."]
[null,null,"*Block of Time is available in 1 Year Term only and is priced as such no matter the term selection on this template."]
[]
[]
[]
[null,"Quote Special Instructions:"]
[]
[]
[null,{"$f":"Start_Here!E36","v":"Terms and Conditions"}]
[null,{"$f":"Start_Here!E37","v":"Ask your local sales rep for estimated lead times. Verify when placing order"}]
[null,{"$f":"Start_Here!E38","v":"All orders subject to acceptance by Tennant Sales and Service Company, Minneapolis, Minnesota"}]
[null,{"$f":"Start_Here!E39","v":"Prices subject to change without notice. Subject to any applicable taxes."}]
[null,{"$f":"Start_Here!E40","v":"Terms:  Net 30 days.  Payable in Canadian Funds"}]
[null,{"$f":"Start_Here!E41","v":"Freight:  Accessories, parts, supplies, detergents, and floor coatings orders delivered DDP "}]
[null,{"$f":"Start_Here!E42","v":"shipping point Frt PPD.  Machine orders delivered DDP shipping point Frt PPD and add."}]
[null,{"$f":"Start_Here!E43","v":"Returned Merchandise is subject to a restocking fee."}]
[null,{"$f":"Start_Here!E44","v":"All orders are subject to Tennant’s General Terms and Conditions available at http://www.tennantco.com/terms."}]
[null,{"$f":"Start_Here!E45","v":"Printed General Terms and Conditions are also available upon request."}]
[null,{"$f":"Start_Here!E46","v":0}]
[null,{"$f":"Start_Here!E47","v":0}]
[null,{"$f":"Start_Here!E48","v":0}]
[null,null,null,null,"Quote Date :",null,{"$f":"Letter!$A$25","v":"2023-08-01"}]
[null,"Order Placement Information:  To place your order, fill in PO# and customer signatures,"]
[null,"call or fax to the numbers listed below. Customer Purchase Order is required."]
[null,"If information is missing, orders will be entered and held until all information is received."]
[]
[null,null,"Customer Number",null,"Cust Grp 3"]
[null,null,{"$f":"Start_Here!$C$25","v":0},null,{"$f":"Start_Here!$C$29","v":0}]
[null,null,{"$f":"Start_Here!$B$18","v":"Who Owns the Machine? (Sold-To Info) (Please Verify)"}]
["Company",null,{"$f":"Start_Here!$C$19","v":"Company Name"}]
["Address",null,{"$f":"Start_Here!$C$20","v":"Address"}]
[null,null,{"$f":"Start_Here!$C$21","v":"City, State Zip"}]
["Name",null,{"$f":"Start_Here!$C$22","v":"Contact Name"}]
["Phone",null,{"$f":"Start_Here!$C$23","v":"Contact Phone"}]
[]
[null,null,{"$f":"Start_Here!$B$11","v":"Where is the Machine Being Shipped? (Ship-To Info) (Please Verify)"}]
["Company",null,{"$f":"Start_Here!$C$12","v":"Company Name"}]
["Address",null,{"$f":"Start_Here!$C$13","v":"Address"}]
[null,null,{"$f":"Start_Here!$C$14","v":"City, State Zip"}]
["Name",null,{"$f":"Start_Here!$C$15","v":"Contact Name"}]
["Phone",null,{"$f":"Start_Here!$C$16","v":"Contact Phone"}]
[]
[null,null,{"$f":"Start_Here!$B$31","v":"Shipping / Carrier Instructions:"},null,"Order Special Instructions:"]
[null,null,{"$f":"Start_Here!$C$32","v":0}]
[]
[null,null,"Customer Purchase Order No."]
[null,null,"(please attach copy)"]
[]
[]
[null,null,"Tax Exempt",null,"Yes"]
[null,null,null,null,"No"]
[null,null,"If Yes, attach a copy of your exemption certificate."]
[]
[null,null,"Requested Delivery Date"]
[null,null,{"$f":"Start_Here!$C$28","v":0}]
[]
[null,null,{"$f":"Start_Here!$C$26","v":0},null,{"$f":"Start_Here!$C$27","v":0}]
[null,null,"Authorized Buyer (please print)",null,"Phone Number"]
[]
[]
[null,null,"Authorized Buyer Signature"]
[]
[null,null,{"$f":"Start_Here!$C$41","v":"Rep Name"}]
[null,null,"Tennant Representative"]
[]
[null,null,null,"Specialized Maintenance Equipment"]
[null,null,{"$f":"Start_Here!$C$51","v":0}]
[null,null,null,{"$f":"Start_Here!$C$52","v":0}]
[]
[]
[null,"Notes"]
[]
[null,1,"Standard Squeegee recovers 100% of water in 180º point turns.  If customer has a narrow aisle, the machine can be"]
[null,null,"set-up for a narrow aisle squeegee.  The narrow-aisle squeegee is the squeegee that comes standard with the "]
[null,null,"next size smaller head and will not recover 100% of the solution in 180º point turns."]
[]
[null,null,"Scrub Head Size","Standard","Narrow Aisle"]
[null,null,"650 mm / 26\" - Disk","650 mm / 26\" - 9015301","500 mm / 20\" - 9015490"]
[null,null,"700 mm / 28\" - Disk","700 mm / 28\" - 9015302","650 mm / 26\" - 9015301"]
[null,null,"800 mm / 32\" - Disk","800 mm / 32\" - 9015303","700 mm / 28\" - 9015302"]
[null,null,"700 mm / 28\" - Cylindrical","800 mm / 32\" - 9015303","700 mm / 28\" - 9015302"]
[null,null,"700 mm / 28\" - Orbital","700 mm / 28\" - 9015302","650 mm / 26\" - 9015301"]
[]
[null,2,"Li-Ion batteries require a compatible Li-Ion Charger."]
[null,null,"Li-Ion batteries are not compatible with Machine Communication (IRIS)."]
[]
[null,3,"Smart-Fill Automatic Battery Watering only available with on-board charger."]
[null,null,"Smart-Fill Automatic Battery Watering and Manual Battery Watering are not compatible with AGM or Li-Ion Batteries."]
[]
[null,4,"25A 100-240V AC 50/60Hz 1Ph - On-Board Charger is required to receive IRIS Battery Manager."]
[]
[null,5,"One set of brushes or pad drivers come standard with a Disk or Cylindrical SS500.  Orbital units will come standard with"]
[null,null,"a Pad Driver - Red Backer Pad."]
[]
[null,6,"Additional hard copy Operator and Parts Manuals can be ordered or digital copies can be downloaded from www.Tennantco.com."]
[]
[null,7,"A French and English manual will be supplied for all units shipping into Quebec, Canada at no charge.  An additional manual"]
[null,null,"can be ordered (for a total of 3 manuals) for an additional charge as stated under 'Additional Operator Manual'."]
[]
[null,"IRIS","Pre-Paid and Monthly Packages are available for the IRIS Information Service."]
[null,null,"IRIS Module is required and NOT included in the price of the IRIS Information Service:"]
[null,null,"3 Year Pre-Paid IRIS Information Service",350]
[null,null,"5 Year Pre-Paid IRIS Information Service",560]
[null,null,"A monthly contract can be set up at $14 per month w/ 12 month minimum commitment."]
[null,null,"IRIS Telemetry Module only covers the price of the hardware. "]
[null,null,"IRIS Telemetry requires an IRIS Telemetry Module and an IRIS Information Service Package."]
[null,null,"25A 100-240V AC 50/60Hz 1Ph - On-Board Charger and a compatible Tennant supplied battery is required to receive IRIS Battery Manager."]
[null,null,"Availability of IRIS Battery Metrics is not guaranteed with third party supplied batteries."]
[null,null,"IRIS Telemetry is not available with units configured with Li-Ion Batteries."]
[]
[null,8,"Shipping Weights and Dimensions",null,"Skid w/Carton"]
[]
[null,null,"26\" / 650mm Disk"]
[null,null,"Weight",null,"635 lbs / 289 Kg"]
[null,null,"Length",null,"73\" / 1,855mm"]
[null,null,"Width",null,"43\" / 1,093mm"]
[null,null,"Height",null,"52\" / 1,321mm"]
[]
[null,null,"28\" / 700mm Disk"]
[null,null,"Weight",null,"645 lbs / 293 Kg"]
[null,null,"Length",null,"73\" / 1,855mm"]
[null,null,"Width",null,"43\" / 1,093mm"]
[null,null,"Height",null,"52\" / 1,321mm"]
[]
[null,null,"32\" / 800mm Disk"]
[null,null,"Weight",null,"770 lbs / 350 Kg"]
[null,null,"Length",null,"73\" / 1,855mm"]
[null,null,"Width",null,"43\" / 1,093mm"]
[null,null,"Height",null,"52\" / 1,321mm"]
[]
[null,null,"28\" / 700m Cylindrical"]
[null,null,"Weight",null,"685 lbs / 311 Kg"]
[null,null,"Length",null,"73\" / 1,855mm"]
[null,null,"Width",null,"43\" / 1,093mm"]
[null,null,"Height",null,"52\" / 1,321mm"]
[]
[null,null,"28\" / 700mm Orbital"]
[null,null,"Weight",null,"685 lbs / 311 Kg"]
[null,null,"Length",null,"73\" / 1,855mm"]
[null,null,"Width",null,"43\" / 1,093mm"]
[null,null,"Height",null,"52\" / 1,321mm"]

{"sheet":"SSR","index":38,"n_rows":271,"n_cols":14,"rows_kept":271,"cut":false,"hidden":false,"merged":[[157,5,157,6],[158,3,158,4],[158,5,158,6],[147,3,147,6],[132,3,132,4],[132,5,132,6],[145,4,145,8],[149,3,149,4],[150,3,150,4],[152,3,152,4],[152,5,152,6],[153,3,153,4],[153,5,153,6],[154,3,154,4],[154,5,154,6],[155,3,155,4],[29,2,29,6],[30,2,30,6],[130,3,130,4],[130,5,130,6],[192,2,192,5],[198,2,198,5],[199,2,199,5],[200,2,200,5],[197,0,197,1],[197,2,197,5],[194,2,194,5],[193,0,193,1],[193,2,193,5],[194,0,194,1],[0,2,0,3],[1,2,1,3],[2,2,2,3],[3,2,3,3],[191,2,191,5],[155,5,155,6],[156,3,156,4],[156,5,156,6],[157,3,157,4],[167,1,167,6],[188,4,188,6],[190,0,190,1],[190,2,190,5],[191,0,191,1],[11,2,11,6],[28,2,28,6],[217,4,217,5],[208,2,208,5],[207,2,207,5],[200,0,200,1],[198,0,198,1],[206,2,206,5],[204,4,204,6],[201,0,201,1],[201,2,201,5]]}
["SSR",null,{"$f":"Start_Here!$C19","v":"Company Name"}]
[{"$f":"SUM(G125)","v":0},null,{"$f":"Start_Here!$C20","v":"Address"}]
[null,null,{"$f":"Start_Here!$C21","v":"City, State Zip"}]
[null,null,{"$f":"Start_Here!$C22","v":"Contact Name"}]
[null,null,{"$f":"Start_Here!$C$41","v":"Rep Name"}]
[null,null,{"$f":"Start_Here!$C$37","v":"Tennant Sales and Service Company"}]
[null,null,{"$f":"Start_Here!$C$38","v":"10400 Clean Street"}]
[null,null,{"$f":"Start_Here!$C$39","v":"Eden Prairie, MN 55344"}]
[null,null,{"$f":"Start_Here!$C$43","v":"800-553-8033"},null,"Quote Date :",null,{"$f":"Letter!$A$25","v":"2023-08-01"}]
[]
[null,null,{"$f":"Help!C2","v":"CAN Date Rev - 5/6/2025"}]
[null,null,"BUILT-IN “NOBLES VALUE” INCLUDES:"]
[]
[null,"Fully Cleanable HygenicTM Tanks",null,"Unsurpassed Ergonomic Design"]
[null,"Extremely Low 67 dBa Noise Levels",null,"Standard 240 AH Battery Pack (Optional 360 AH)"]
[null,"Unmatched Solution Recovery",null,"Charger"]
[null,"One-Button Scrubbing Operation",null,"Edge & Reach Under Cleaning"]
[null,"Economy Mode (extends run time up to 4.5 hours)",null,"No Tool Brush / Squegee Change"]
[null,"On Board Diagnostics",null,"Standard Scrubbing Brushes & Pad Drivers (Select One Type)"]
[null,"Touch Panel Controls",null,"Vacuum Fan In-Line Air Filter Cartridge"]
[null,"Automatic:",null,"Brush Shutoff When Idle"]
[null,null,"Squeegee Lift","Brush Shutoff at 80% Discharge"]
[null,null,"Water Shutoff","FaSTTM Equipped Models Include:"]
[null,"ec-H2O NanoCleanTM Equipped Models Include:",null,"Foam Scrubbing Technology System"]
[null,"Electrically Converted Water Technology System",null,"Two Scrubbing Modes: FaSTTM & Conventional Scrubbing"]
[null,"Two Scrubbing Modes: ec-H2O NanoCleanTM & Conventional Scrubbing",null,"On-Board  FaST-PAKTM 2L Detergent Cartridge (Select One)"]
[null,"Audio Back Up Alarm",null,"Operator DVD"]
[]
[null,null,"NOBLES WARRANTY"]
[null,null,"3 YEARS OR 1500 HOURS ON ALL COMPONENTS, 3 YEARS LABOR"]
[null,null,"90 DAYS TRAVEL, 10 YEARS ON DURAMERTM TANKS"]
[]
[null,null,null,null,"                Quote Request Information"]
[null,null,null,null,null,null,"Fax (quote only)"]
[null,null,null,null,null,null,"Mail (quote,lit, specs)"]
[null,null,null,null,null,null,"Fax + Mail"]
[]
[null,null,null,null,"                Primary Use"]
[null,null,null,null,null,null,"Inside"]
[null,null,null,null,null,null,"Outside"]
[]
[]
[null,null,"Description","Reference #","Price Each","Qty","Extended Price"]
[null,"Base Configuration (SSR)",null,null,"CANADA",{"$f":"SUM(F45,F49,F52,F60)","v":0},null,{"$f":"IFERROR(IFERROR(VLOOKUP(D44,Surcharge!A:B,2,FALSE)*F44, VLOOKUP(D44 & \"\",Surcharge!A:B,2,FALSE)*F44), \"\")","v":""}]
[null,null,"Cleaning Type",null,null,{"$f":"SUM(F46:F47)","v":0},null,{"$f":"IFERROR(IFERROR(VLOOKUP(D45,Surcharge!A:B,2,FALSE)*F45, VLOOKUP(D45 & \"\",Surcharge!A:B,2,FALSE)*F45), \"\")","v":""}]
[null,null,"Speed Scrub® Ride-On Scrubber  650 mm/26\"  - Disk","SSR-650-D",36606,null,{"$f":"F46*E46","v":0},{"$f":"IFERROR(IFERROR(VLOOKUP(D46,Surcharge!A:B,2,FALSE)*F46, VLOOKUP(D46 & \"\",Surcharge!A:B,2,FALSE)*F46), \"\")","v":0}]
[null,null,"Speed Scrub® Ride-On Scrubber  800 mm/32\"  - Disk","SSR-800-D",39317,null,{"$f":"F47*E47","v":0},{"$f":"IFERROR(IFERROR(VLOOKUP(D47,Surcharge!A:B,2,FALSE)*F47, VLOOKUP(D47 & \"\",Surcharge!A:B,2,FALSE)*F47), \"\")","v":0}]
[null,null,null,null,null,null,null,{"$f":"IFERROR(IFERROR(VLOOKUP(D48,Surcharge!A:B,2,FALSE)*F48, VLOOKUP(D48 & \"\",Surcharge!A:B,2,FALSE)*F48), \"\")","v":""}]
[null,null,"Cleaning Technology: (conventional is standard,  ec-H2O NanoClean™ or FaST: can also operate in conventional mode)",null,null,{"$f":"SUM(F50:F50)","v":0},null,{"$f":"IFERROR(IFERROR(VLOOKUP(D49,Surcharge!A:B,2,FALSE)*F49, VLOOKUP(D49 & \"\",Surcharge!A:B,2,FALSE)*F49), \"\")","v":""}]
[null,null,"ec-H2O NanoClean™","ec-H2ONC-SSR",4778,null,{"$f":"F50*E50","v":0},{"$f":"IFERROR(IFERROR(VLOOKUP(D50,Surcharge!A:B,2,FALSE)*F50, VLOOKUP(D50 & \"\",Surcharge!A:B,2,FALSE)*F50), \"\")","v":""}]
[null,null,null,null,null,null,null,{"$f":"IFERROR(IFERROR(VLOOKUP(D51,Surcharge!A:B,2,FALSE)*F51, VLOOKUP(D51 & \"\",Surcharge!A:B,2,FALSE)*F51), \"\")","v":""}]
[null,null,"Battery Type (note 2)",null,null,{"$f":"SUM(F53:F58)","v":0},null,{"$f":"IFERROR(IFERROR(VLOOKUP(D52,Surcharge!A:B,2,FALSE)*F52, VLOOKUP(D52 & \"\",Surcharge!A:B,2,FALSE)*F52), \"\")","v":""}]
[null,null,"Wet 240AH C/20  (kit of 4 batteries)",9000814,"N/C",null,{"$f":"IF(F53=0,\" \",\"N/C\")","v":" "},{"$f":"IFERROR(IFERROR(VLOOKUP(D53,Surcharge!A:B,2,FALSE)*F53, VLOOKUP(D53 & \"\",Surcharge!A:B,2,FALSE)*F53), \"\")","v":""}]
[null,null,"Wet 360AH C/20 (kit of 4 batteries)",9000815,1003,null,{"$f":"F54*E54","v":0},{"$f":"IFERROR(IFERROR(VLOOKUP(D54,Surcharge!A:B,2,FALSE)*F54, VLOOKUP(D54 & \"\",Surcharge!A:B,2,FALSE)*F54), \"\")","v":""}]
[null,null,"Sealed/MF AGM 220AH C/20  (kit of 4 batteries)",9001915,2496,null,{"$f":"F55*E55","v":0},{"$f":"IFERROR(IFERROR(VLOOKUP(D55,Surcharge!A:B,2,FALSE)*F55, VLOOKUP(D55 & \"\",Surcharge!A:B,2,FALSE)*F55), \"\")","v":""}]
[null,null,"Without Battery  ",null,-630,null,{"$f":"F56*E56","v":0},{"$f":"IFERROR(IFERROR(VLOOKUP(D56,Surcharge!A:B,2,FALSE)*F56, VLOOKUP(D56 & \"\",Surcharge!A:B,2,FALSE)*F56), \"\")","v":""}]
[null,null,null,null,null,null,null,{"$f":"IFERROR(IFERROR(VLOOKUP(D57,Surcharge!A:B,2,FALSE)*F57, VLOOKUP(D57 & \"\",Surcharge!A:B,2,FALSE)*F57), \"\")","v":""}]
[null,null,"Manual Battery Watering Kit  (Note 3)",9009619,861,null,{"$f":"F58*E58","v":0},{"$f":"IFERROR(IFERROR(VLOOKUP(D58,Surcharge!A:B,2,FALSE)*F58, VLOOKUP(D58 & \"\",Surcharge!A:B,2,FALSE)*F58), \"\")","v":""}]
[null,null,null,null,null,null,null,{"$f":"IFERROR(IFERROR(VLOOKUP(D59,Surcharge!A:B,2,FALSE)*F59, VLOOKUP(D59 & \"\",Surcharge!A:B,2,FALSE)*F59), \"\")","v":""}]
[null,null,"Charger (Note 4)","Reference Number",null,{"$f":"SUM(F61:F65)","v":0},null,{"$f":"IFERROR(IFERROR(VLOOKUP(D60,Surcharge!A:B,2,FALSE)*F60, VLOOKUP(D60 & \"\",Surcharge!A:B,2,FALSE)*F60), \"\")","v":""}]
[null,null,"19A 100-240V AC 50/60Hz 1Ph - standard Off-Board for 240AH and 360AH Batteries",1029256,"N/C",null,{"$f":"IF(F61=0,\" \",\"N/C\")","v":" "},{"$f":"IFERROR(IFERROR(VLOOKUP(D61,Surcharge!A:B,2,FALSE)*F61, VLOOKUP(D61 & \"\",Surcharge!A:B,2,FALSE)*F61), \"\")","v":""}]
[null,null,"25A 100-240V AC 50/60Hz 1Ph, - Off-Board for  AGM 220AH Battery",9012519,325,null,{"$f":"F62*E62","v":0},{"$f":"IFERROR(IFERROR(VLOOKUP(D62,Surcharge!A:B,2,FALSE)*F62, VLOOKUP(D62 & \"\",Surcharge!A:B,2,FALSE)*F62), \"\")","v":""}]
[null,null,"25A 100-240V AC 50/60Hz 1Ph, - Off-Board, in lieu of standard for 360AH Battery",9009486,325,null,{"$f":"F63*E63","v":0},{"$f":"IFERROR(IFERROR(VLOOKUP(D63,Surcharge!A:B,2,FALSE)*F63, VLOOKUP(D63 & \"\",Surcharge!A:B,2,FALSE)*F63), \"\")","v":""}]
[null,null,"25A 115V AC  60Hz 1Ph  - On-Board, in lieu of standard",9001993,1011,null,{"$f":"F64*E64","v":0},{"$f":"IFERROR(IFERROR(VLOOKUP(D64,Surcharge!A:B,2,FALSE)*F64, VLOOKUP(D64 & \"\",Surcharge!A:B,2,FALSE)*F64), \"\")","v":""}]
[null,null,"27A 100-240V AC 50/60Hz 1Ph - Off-Board for all Batteries\n     (IRIS Battery Metric Compatible)",1230312,618,null,{"$f":"F65*E65","v":0},{"$f":"IFERROR(IFERROR(VLOOKUP(D65,Surcharge!A:B,2,FALSE)*F65, VLOOKUP(D65 & \"\",Surcharge!A:B,2,FALSE)*F65), \"\")","v":""}]
[null,null,null,null,null,null,null,{"$f":"IFERROR(IFERROR(VLOOKUP(D66,Surcharge!A:B,2,FALSE)*F66, VLOOKUP(D66 & \"\",Surcharge!A:B,2,FALSE)*F66), \"\")","v":""}]
[null,"Machine Protection & Safety",null,null,null,{"$f":"SUM(F68:F69)","v":0},null,{"$f":"IFERROR(IFERROR(VLOOKUP(D67,Surcharge!A:B,2,FALSE)*F67, VLOOKUP(D67 & \"\",Surcharge!A:B,2,FALSE)*F67), \"\")","v":""}]
[null,null,"Seat Belt",9018587,130,null,{"$f":"F68*E68","v":0},{"$f":"IFERROR(IFERROR(VLOOKUP(D68,Surcharge!A:B,2,FALSE)*F68, VLOOKUP(D68 & \"\",Surcharge!A:B,2,FALSE)*F68), \"\")","v":""}]
[null,null,"Strobe Light On Tank",9000580,1095,null,{"$f":"F69*E69","v":0},{"$f":"IFERROR(IFERROR(VLOOKUP(D69,Surcharge!A:B,2,FALSE)*F69, VLOOKUP(D69 & \"\",Surcharge!A:B,2,FALSE)*F69), \"\")","v":""}]
[null,null,null,null," ",null,null,{"$f":"IFERROR(IFERROR(VLOOKUP(D70,Surcharge!A:B,2,FALSE)*F70, VLOOKUP(D70 & \"\",Surcharge!A:B,2,FALSE)*F70), \"\")","v":""}]
[null,"Brushes and Pads (Note 6)",null,"Reference Number"," ",{"$f":"SUM(F72,F82)","v":0},null,{"$f":"IFERROR(IFERROR(VLOOKUP(D71,Surcharge!A:B,2,FALSE)*F71, VLOOKUP(D71 & \"\",Surcharge!A:B,2,FALSE)*F71), \"\")","v":""}]
[null,null,"650mm/26\" Disk Scrubbing Brushes/Pads (2 Required)",null," ",{"$f":"SUM(F73:F80)","v":0},null,{"$f":"IFERROR(IFERROR(VLOOKUP(D72,Surcharge!A:B,2,FALSE)*F72, VLOOKUP(D72 & \"\",Surcharge!A:B,2,FALSE)*F72), \"\")","v":""}]
[null,null,"Polyproplyene",1220223,"N/C",null,{"$f":"IF(F73=0,\" \",\"N/C\")","v":" "},{"$f":"IFERROR(IFERROR(VLOOKUP(D73,Surcharge!A:B,2,FALSE)*F73, VLOOKUP(D73 & \"\",Surcharge!A:B,2,FALSE)*F73), \"\")","v":""}]
[null,null,"Nylon",1220226,"N/C",null,{"$f":"IF(F74=0,\" \",\"N/C\")","v":" "},{"$f":"IFERROR(IFERROR(VLOOKUP(D74,Surcharge!A:B,2,FALSE)*F74, VLOOKUP(D74 & \"\",Surcharge!A:B,2,FALSE)*F74), \"\")","v":""}]
[null,null,null,null," "]
[null,null,"Pad Driver",1220243,"N/C",null,{"$f":"IF(F76=0,\" \",\"N/C\")","v":" "},{"$f":"IFERROR(IFERROR(VLOOKUP(D76,Surcharge!A:B,2,FALSE)*F76, VLOOKUP(D76 & \"\",Surcharge!A:B,2,FALSE)*F76), \"\")","v":""}]
[null,null,"Pads ",null,null,{"$f":"SUM(F78:F80)","v":0},null,{"$f":"IFERROR(IFERROR(VLOOKUP(D77,Surcharge!A:B,2,FALSE)*F77, VLOOKUP(D77 & \"\",Surcharge!A:B,2,FALSE)*F77), \"\")","v":""}]
[null,null,"Blue Scrubbing - 3M   ",89047,23.6,null,{"$f":"F78*E78","v":0},{"$f":"IFERROR(IFERROR(VLOOKUP(D78,Surcharge!A:B,2,FALSE)*F78, VLOOKUP(D78 & \"\",Surcharge!A:B,2,FALSE)*F78), \"\")","v":""}]
[null,null,"Red Cleaning - 3M         ",89048,23.6,null,{"$f":"F79*E79","v":0},{"$f":"IFERROR(IFERROR(VLOOKUP(D79,Surcharge!A:B,2,FALSE)*F79, VLOOKUP(D79 & \"\",Surcharge!A:B,2,FALSE)*F79), \"\")","v":""}]
[null,null,"White Polishing  - 3M    ",89049,23.6,null,{"$f":"F80*E80","v":0},{"$f":"IFERROR(IFERROR(VLOOKUP(D80,Surcharge!A:B,2,FALSE)*F80, VLOOKUP(D80 & \"\",Surcharge!A:B,2,FALSE)*F80), \"\")","v":""}]
[null,null,null,null,null,null,null,{"$f":"IFERROR(IFERROR(VLOOKUP(D81,Surcharge!A:B,2,FALSE)*F81, VLOOKUP(D81 & \"\",Surcharge!A:B,2,FALSE)*F81), \"\")","v":""}]
[null,null,"800mm/32\" Disk Scrubbing Brushes/Pads (2 Required)",null,null,{"$f":"SUM(F83:F90)","v":0},null,{"$f":"IFERROR(IFERROR(VLOOKUP(D82,Surcharge!A:B,2,FALSE)*F82, VLOOKUP(D82 & \"\",Surcharge!A:B,2,FALSE)*F82), \"\")","v":""}]
[null,null,"Polyproplyene",1220224,"N/C",null,{"$f":"IF(F83=0,\" \",\"N/C\")","v":" "},{"$f":"IFERROR(IFERROR(VLOOKUP(D83,Surcharge!A:B,2,FALSE)*F83, VLOOKUP(D83 & \"\",Surcharge!A:B,2,FALSE)*F83), \"\")","v":""}]
[null,null,"Nylon",1220225,"N/C",null,{"$f":"IF(F84=0,\" \",\"N/C\")","v":" "},{"$f":"IFERROR(IFERROR(VLOOKUP(D84,Surcharge!A:B,2,FALSE)*F84, VLOOKUP(D84 & \"\",Surcharge!A:B,2,FALSE)*F84), \"\")","v":""}]
[null,null,null,null,null,null,null,{"$f":"IFERROR(IFERROR(VLOOKUP(D85,Surcharge!A:B,2,FALSE)*F85, VLOOKUP(D85 & \"\",Surcharge!A:B,2,FALSE)*F85), \"\")","v":""}]
[null,null,"Pad Driver",1220244,"N/C",null,{"$f":"IF(F86=0,\" \",\"N/C\")","v":" "},{"$f":"IFERROR(IFERROR(VLOOKUP(D86,Surcharge!A:B,2,FALSE)*F86, VLOOKUP(D86 & \"\",Surcharge!A:B,2,FALSE)*F86), \"\")","v":""}]
[null,null,"Pads ",null,null,{"$f":"SUM(F88:F90)","v":0},null,{"$f":"IFERROR(IFERROR(VLOOKUP(D87,Surcharge!A:B,2,FALSE)*F87, VLOOKUP(D87 & \"\",Surcharge!A:B,2,FALSE)*F87), \"\")","v":""}]
[null,null,"Blue Scrubbing - 3M   ","63248-2",31.1,null,{"$f":"F88*E88","v":0},{"$f":"IFERROR(IFERROR(VLOOKUP(D88,Surcharge!A:B,2,FALSE)*F88, VLOOKUP(D88 & \"\",Surcharge!A:B,2,FALSE)*F88), \"\")","v":""}]
[null,null,"Red Cleaning - 3M         ","63248-3",31.1,null,0,{"$f":"IFERROR(IFERROR(VLOOKUP(D89,Surcharge!A:B,2,FALSE)*F89, VLOOKUP(D89 & \"\",Surcharge!A:B,2,FALSE)*F89), \"\")","v":""}]
[null,null,"White Polishing  - 3M    ","63248-4",31.1,null,0,{"$f":"IFERROR(IFERROR(VLOOKUP(D90,Surcharge!A:B,2,FALSE)*F90, VLOOKUP(D90 & \"\",Surcharge!A:B,2,FALSE)*F90), \"\")","v":""}]
[null,null,null,null,null,null,null,{"$f":"IFERROR(IFERROR(VLOOKUP(D91,Surcharge!A:B,2,FALSE)*F91, VLOOKUP(D91 & \"\",Surcharge!A:B,2,FALSE)*F91), \"\")","v":""}]
[null,"Support (Note 7)",null,"Reference Number",null,{"$f":"SUM(F93:F100)","v":0},null,{"$f":"IFERROR(IFERROR(VLOOKUP(D92,Surcharge!A:B,2,FALSE)*F92, VLOOKUP(D92 & \"\",Surcharge!A:B,2,FALSE)*F92), \"\")","v":""}]
[null,null,"Speed Scrub® Operator Manual (English)",331140,"N/C",null,{"$f":"IF(F93=0,\" \",\"N/C\")","v":" "},{"$f":"IFERROR(IFERROR(VLOOKUP(D93,Surcharge!A:B,2,FALSE)*F93, VLOOKUP(D93 & \"\",Surcharge!A:B,2,FALSE)*F93), \"\")","v":""}]
[null,null,"Speed Scrub® Operator Manual (Spanish)",331142,"N/C",null,{"$f":"IF(F94=0,\" \",\"N/C\")","v":" "},{"$f":"IFERROR(IFERROR(VLOOKUP(D94,Surcharge!A:B,2,FALSE)*F94, VLOOKUP(D94 & \"\",Surcharge!A:B,2,FALSE)*F94), \"\")","v":""}]
[null,null,"Speed Scrub® Operator Manual (French)  (Note 8)",331143,"N/C",null,{"$f":"IF(F95=0,\" \",\"N/C\")","v":" "},{"$f":"IFERROR(IFERROR(VLOOKUP(D95,Surcharge!A:B,2,FALSE)*F95, VLOOKUP(D95 & \"\",Surcharge!A:B,2,FALSE)*F95), \"\")","v":""}]
[null,null,"Additional Operator Manual","see above",200,null,{"$f":"F96*E96","v":0},{"$f":"IFERROR(IFERROR(VLOOKUP(D96,Surcharge!A:B,2,FALSE)*F96, VLOOKUP(D96 & \"\",Surcharge!A:B,2,FALSE)*F96), \"\")","v":""}]
[null,null,"Speed Scrub® Rider Parts Manual",331140,81,null,{"$f":"F97*E97","v":0},{"$f":"IFERROR(IFERROR(VLOOKUP(D97,Surcharge!A:B,2,FALSE)*F97, VLOOKUP(D97 & \"\",Surcharge!A:B,2,FALSE)*F97), \"\")","v":""}]
[null,null,"Service Manual",331145,200,null,{"$f":"F98*E98","v":0},{"$f":"IFERROR(IFERROR(VLOOKUP(D98,Surcharge!A:B,2,FALSE)*F98, VLOOKUP(D98 & \"\",Surcharge!A:B,2,FALSE)*F98), \"\")","v":""}]
[null,null,null,null," ",null,null,{"$f":"IFERROR(IFERROR(VLOOKUP(D99,Surcharge!A:B,2,FALSE)*F99, VLOOKUP(D99 & \"\",Surcharge!A:B,2,FALSE)*F99), \"\")","v":""}]
[null,null,"Packaging",null,null,{"$f":"SUM(F101)","v":0},null,{"$f":"IFERROR(IFERROR(VLOOKUP(D100,Surcharge!A:B,2,FALSE)*F100, VLOOKUP(D100 & \"\",Surcharge!A:B,2,FALSE)*F100), \"\")","v":""}]
[null,null,"Skid w/Carton, Non-Stackable",9000550,"N/C",null,{"$f":"IF(F101=0,\" \",\"N/C\")","v":" "},{"$f":"IFERROR(IFERROR(VLOOKUP(D101,Surcharge!A:B,2,FALSE)*F101, VLOOKUP(D101 & \"\",Surcharge!A:B,2,FALSE)*F101), \"\")","v":""}]
[null,null,null,null,null,null,null,{"$f":"IFERROR(IFERROR(VLOOKUP(D102,Surcharge!A:B,2,FALSE)*F102, VLOOKUP(D102 & \"\",Surcharge!A:B,2,FALSE)*F102), \"\")","v":""}]
[]
[null,"Custom Solution--write in description, qty, price, and PN if applicable",null,null,null,{"$f":"SUM(F105)","v":0}]
[null,null,null,null,"Insert Prices Here",{"$f":"SUM(F106:F109)","v":0}]
[null,null,null,"Custom",null,{"$f":"IF(E106 <> \"\", 1, 0)","v":0},{"$f":"F106*E106","v":0}]
[null,null,null,"Custom",null,{"$f":"IF(E107 <> \"\", 1, 0)","v":0},{"$f":"F107*E107","v":0}]
[null,null,null,"Custom",null,0,{"$f":"F108*E108","v":0}]
[null,null,null,"Custom",null,0,{"$f":"F109*E109","v":0}]
[null,null,null,null,{"$f":"ROUND(SUM(G44:G109), 0)","v":0},{"$f":"SUM(E111)","v":0}]
[null,null,null,"Machine Subtotal ",{"$f":"ROUND(SUM(G44:G109), 0)","v":0},{"$f":"F110","v":0}]
[null,"Discounts",null,null,null,{"$f":"SUM(F113)","v":0}]
[null,null,null,null,null,{"$f":"SUM(F115:F118)","v":0}]
[null,null,null,"Applicable Currency Adj %",null,{"$f":"IF(E114 <> \"\", 1, 0)","v":0},{"$f":"IF(F114*(E114*0.01)*E110 < 0, F114*(E114*0.01)*E110, -(F114*(E114*0.01)*E110))","v":0}]
[null,null,null,"Discount %",null,{"$f":"IF(E115 <> \"\", 1, 0)","v":0},{"$f":"IF(F115*(E115*0.01)*(E110+G114) < 0, F115*(E115*0.01)*(E110+G114), -(F115*(E115*0.01)*(E110+G114)))","v":0}]
[null,null,null,"Discount $",null,0,{"$f":"IF(F116*E116 < 0, F116*E116, -(F116*E116))","v":0}]
[null,null,null,"Discount $",null,0,{"$f":"IF(F117*E117 < 0, F117*E117, -(F117*E117))","v":0}]
[null,null,null,"Discount $",null,0,{"$f":"IF(F118*E118 < 0, F118*E118, -(F118*E118))","v":0}]
[null,null,null,"Discount Total ",{"$f":"SUM(G114:G118)","v":0},{"$f":"SUM(E119)","v":0}]
[null,null,null,null,null,{"$f":"#REF!","v":{"$error":"#REF!"}}]
[null,null,null,null,null,{"$f":"F120","v":{"$error":"#REF!"}}]
[null,null,"Prepaid and Add","Freight",null,{"$f":"IF(E122 <> \"\", 1, 0)","v":0},{"$f":"F122*E122","v":0}]
[null,null,"Subject to all applicable taxes","Tax",null,0,0]
[null,null,null,null,null,{"$f":"SUM(F125)","v":0}]
[null,null,null,"MACHINE TOTAL*",null,{"$f":"SUM(G125)","v":0},{"$f":"SUM(G44:G123)","v":0},null,null,null,null,null,null,"This goes to \"My Documents\""]
[null,null,null,null,null,null,{"$f":"SUM(G125)","v":0}]
[]
[]
[]
[]
[null,null,"Wells Fargo - Leasing Calculation Option:","Option 1",null,"Option 2",null,null,null,{"$f":"Financing!A38","v":"Rates 2025 - Rev.2/4/2025"}]
[null,null,null,"Monthly Payment","Cost Per Day","Monthly Payment","Cost Per Day",null,null,{"$f":"Financing!A39","v":"“Blank Payment Amounts Indicate The Financing Option Or Purchase Options Selected Are Not "}]
[null,null,"Purchase Option:","$1 Buyout Lease",null,"None",null,null,null,{"$f":"Financing!A40","v":"Applicable Or The Machine Total Is Below The Minimum Amount For The Selected Vendor”"}]
[null,null,"24 Months",0,0,0,0,null,null,{"$f":"Financing!A41","v":"\"Quoted monthly payments are estimates only and are based on a certain level of credit rating."}]
[null,null,"36 Months",0,0,0,0,null,null,{"$f":"Financing!A42","v":"Actual monthly payments may be higher depending on your credit rating.\""}]
[null,null,"48 Months",0,0,0,0,null,null,{"$f":"Financing!A43","v":"“Financing rates do not include Pre-Paid Service”"}]
[null,null,"60 Months",0,0,0,0,null,{"$f":"Financing!A44","v":0}]
[]
[null,null,null,"Benefits of Equipment Financing:"]
[null,null,null,"• Spreads out investment over time.",null,"• Keep current with latest technology."]
[null,null,null,"• Preserve capital.",null,"• Service and parts bundling available."]
[null,null,null,"• Low monthly payment.",null,"• Pay for labor savings as you go."]
[]
[null,"  TennantTrue",null,0,0]
[]
[null,null,"Is customer interested in service program?","Yes","*State/County selection required for TennantTrue service options"]
[]
[null,null,"If not, why?"]
[]
[null,null,"Term:",36,null,null,"AB Brushes","No"]
[null,null,"Monthly machine usage (hrs):","< 30/mo. (Avg. 1hr./day)"]
[]
[null,null,"TennantTrue: ","Gold Contract",null,"Silver Contract"]
[null,null,"Per Visit",null,null,501]
[null,null,"Monthly",164,null,88]
[null,null,"Annually",null,null,1035]
[null,null,"Pre-Pay Full Term",5682,null,3042]
[null,null,"Hourly Labor Rate"]
[null,null,"Site Visit"]
[]
[null,null,"* Verify customer current pricing prior to quote. "]
[null,null,"**All rates and fees above reflect service for one (1) unit with the exception of Block of Time service."]
[null,null,"*Block of Time is available in 1 Year Term only and is priced as such no matter the term selection on this template."]
[]
[]
[]
[null,"Quote Special Instructions:"]
[]
[]
[null,{"$f":"Start_Here!E36","v":"Terms and Conditions"}]
[null,{"$f":"Start_Here!E37","v":"Ask your local sales rep for estimated lead times. Verify when placing order"}]
[null,{"$f":"Start_Here!E38","v":"All orders subject to acceptance by Tennant Sales and Service Company, Minneapolis, Minnesota"}]
[null,{"$f":"Start_Here!E39","v":"Prices subject to change without notice. Subject to any applicable taxes."}]
[null,{"$f":"Start_Here!E40","v":"Terms:  Net 30 days.  Payable in Canadian Funds"}]
[null,{"$f":"Start_Here!E41","v":"Freight:  Accessories, parts, supplies, detergents, and floor coatings orders delivered DDP "}]
[null,{"$f":"Start_Here!E42","v":"shipping point Frt PPD.  Machine orders delivered DDP shipping point Frt PPD and add."}]
[null,{"$f":"Start_Here!E43","v":"Returned Merchandise is subject to a restocking fee."}]
[null,{"$f":"Start_Here!E44","v":"All orders are subject to Tennant’s General Terms and Conditions available at http://www.tennantco.com/terms."}]
[null,{"$f":"Start_Here!E45","v":"Printed General Terms and Conditions are also available upon request."}]
[null,{"$f":"Start_Here!E46","v":0}]
[null,{"$f":"Start_Here!E47","v":0}]
[null,{"$f":"Start_Here!E48","v":0}]
[null,null,null,null,"Quote Date :",null,{"$f":"Letter!$A$25","v":"2023-08-01"}]
[null,"Order Placement Information:  To place your order, fill in PO# and customer signatures,"]
[null,"call or fax to the numbers listed below. Customer Purchase Order is required."]
[null,"If information is missing, orders will be entered and held until all information is received."]
[]
[null,null,"Customer Number",null,"Cust Grp 3"]
[null,null,{"$f":"Start_Here!$C$25","v":0},null,{"$f":"Start_Here!$C$29","v":0}]
[null,null,{"$f":"Start_Here!$B$18","v":"Who Owns the Machine? (Sold-To Info) (Please Verify)"}]
["Company",null,{"$f":"Start_Here!$C$19","v":"Company Name"}]
["Address",null,{"$f":"Start_Here!$C$20","v":"Address"}]
[null,null,{"$f":"Start_Here!$C$21","v":"City, State Zip"}]
["Name",null,{"$f":"Start_Here!$C$22","v":"Contact Name"}]
["Phone",null,{"$f":"Start_Here!$C$23","v":"Contact Phone"}]
[]
[null,null,{"$f":"Start_Here!$B$11","v":"Where is the Machine Being Shipped? (Ship-To Info) (Please Verify)"}]
["Company",null,{"$f":"Start_Here!$C$12","v":"Company Name"}]
["Address",null,{"$f":"Start_Here!$C$13","v":"Address"}]
[null,null,{"$f":"Start_Here!$C$14","v":"City, State Zip"}]
["Name",null,{"$f":"Start_Here!$C$15","v":"Contact Name"}]
["Phone",null,{"$f":"Start_Here!$C$16","v":"Contact Phone"}]
[]
[null,null,{"$f":"Start_Here!$B$31","v":"Shipping / Carrier Instructions:"},null,"Order Special Instructions:"]
[null,null,{"$f":"Start_Here!$C$32","v":0}]
[]
[null,null,"Customer Purchase Order No."]
[null,null,"(please attach copy)"]
[]
[]
[null,null,"Tax Exempt",null,"Yes"]
[null,null,null,null,"No"]
[null,null,"If Yes, attach a copy of your exemption certificate."]
[]
[null,null,"Requested Delivery Date"]
[null,null,{"$f":"Start_Here!$C$28","v":0}]
[]
[null,null,{"$f":"Start_Here!$C$26","v":0},null,{"$f":"Start_Here!$C$27","v":0}]
[null,null,"Authorized Buyer (please print)",null,"Phone Number"]
[]
[]
[null,null,"Authorized Buyer Signature"]
[]
[null,null,{"$f":"Start_Here!$C$41","v":"Rep Name"}]
[null,null,"Tennant Representative"]
[]
[null,null,null,"Specialized Maintenance Equipment"]
[null,null,{"$f":"Start_Here!$C$51","v":0}]
[null,null,null,{"$f":"Start_Here!$C$52","v":0}]
[]
[]
[null,"Notes"]
[null,1,"Pre-Configured Machines cannot add or change options.  All units are shipped via stackable skid with carton."]
[null,null,"When ordering, provide the reference number listed above.  Price does not include freight or tax.  Availability of units "]
[null,null,"and lead time may vary."]
[]
[null,2,"In order to obtain the IRIS Battery Metrics, one of the listed Tennant supplied batteries is required."]
[]
[null,3,"Only available on wet batteries, not sealed."]
[]
[null,4,"27A 100-240V AC 50/60Hz 1Ph - Off-Board Charger is required to receive IRIS Battery Metrics."]
[]
[null,5,"Only available on FaST models.  FaSTTM Floor Cleaning Concentrate FaST-PAKTM Cartridges. Proprietary super concentrated cleaners"]
[null,null,"for use on Nobles machines with FaSTTM Foam Scrubbing Technology Systems. One 2 liter FaST-PAKTM cartridge cleans one "]
[null,null,"million square feet (90,000m2).  Biodegradable. Phosphate free.  Safe for use on hard floors such as finished or  "]
[null,null,"unfinished VCT, Terrazzo,  Finished Wood, Marble, sealed or unsealed Concrete, Urethane or Epoxy coated surfaces. "]
[null,null,"One FaST-PAK comes with the machine - customer may select from either FaST MP or MPD  Detergent."]
[]
[null,6,"One set of brushes or pad drivers come standard with a Speed Scrub® Rider."]
[]
[null,7,"Additional hard copy Operator and Parts Manuals can be ordered or digital copies can be downloaded from www.Nobles.com."]
[]
[null,8,"A French and English manual will be supplied for all units shipping into Quebec, Canada at no charge.  An additional manual"]
[null,null,"can be ordered (for a total of 3 manuals) for an additional charge as stated under 'Additional Operator Manual'."]
[]
[null,9,"Pre-Paid and Monthly Packages are available for the IRIS Information Service."]
[null,null,"IRIS Module is required and NOT included in the price of the IRIS Information Service:"]
[null,null,"3 Year Pre-Paid IRIS Information Service",350]
[null,null,"5 Year Pre-Paid IRIS Information Service",560]
[null,null,"A monthly contract can be set up at $14 per month w/ 12 month minimum commitment."]
[null,null,"IRIS Telemetry Module only covers the price of the hardware. "]
[null,null,"IRIS Telemetry requires an IRIS Telemetry Module and an IRIS Information Service Package."]
[null,null,"27A 100-240V AC 50/60Hz 1Ph - Off-Board Charger and a compatible Tennant supplied battery is required to receive IRIS Battery Manager."]
[null,null,"Availability of IRIS Battery Metrics is not guaranteed with third party supplied batteries."]
[]
[null,10,"Shipping Weights and Dimensions","Pad Wrap","Skid w/Carton"]
[]
[null,null,"Weight (with 235AH batteries)","975 lbs / 443 kg","1000 lbs / 454 kg"]
[null,null,"Length","60\" / 1,524mm","62\" / 1,574mm"]
[null,null,"Width","39\" / 991mm","33\" / 838mm"]
[null,null,"Height","50\" / 1,270","48\" / 1,219mm"]

{"sheet":"Pricezones","index":39,"n_rows":37,"n_cols":13,"rows_kept":37,"cut":false,"hidden":true,"merged":[]}
["Sheetname","Green discount","Yellow","Red"," ","Product subcategories","PH2",null,"Discounts Dropdown",null,null,"Canada","2024-09-30"]
[null,"Level A","Level B","Level C","Level D",null,null,null,"Select a Trade-in","Select Tennant Program"]
["DualTech_ReadySpace_StriveRider",0,0.35000000000000003,0.5,null,"Nobles","341074",null,"Trade-in Scrap","Strategic Accts"]
["DualTech_ReadySpace_Strive",0,0.35000000000000003,0.5,null,"Nobles","323121",null,"Recon Trade-in","Strategic Alliance"]
["Cord_Electric",0,0.35000000000000003,0.5,null,"Nobles","336233",null,null,"Recon Sale"]
["Carpet_Extractors",0,0.35000000000000003,0.5,null,"Nobles","333010",null,null,"Recon Trade-in"]
["Specialty",0,0.35000000000000003,0.5,null,"Nobles","333012",null,null,"Industrial Bundling"]
["Vacuums",0,0.35000000000000003,0.5,null,"Nobles",null,null,null,"Demonstrator units, greater than 3 months, full warranty"]
["Floor_Machine",0,0.35000000000000003,0.5,null,"Nobles",null,null,null,"Distributor - Commercial or Industrial"]
["Burnishers",0,0.35000000000000003,0.5,null,"Nobles","302505",null,null,"Contracts (example GSA, Local Gov)"]
["SpeedGleam5",0,0.35000000000000003,0.5,null,"Nobles","306401"]
["SpeedGleam7",0,0.35,0.5,null,"Nobles","306401"]
["SpeedGleam_Rider",0,0.35,0.5,null,"Nobles","306302"]
["CS5_CS16",0,0.25,0.4,null,"Nobles"]
["Sweepers",0,0.2,0.3,null,"Nobles"]
["SS5_24_32",0,0.25,0.4,null,"Nobles"]
["SS500",0,0.25,0.4,null,"Nobles","306201"]
["SS3_XC_Orbital",0,0.25,0.4,null,"Nobles"]
["SS300",0,0.25,0.4,null,"Nobles"]
["SS350",0,0.2,0.25,null,"Nobles"]
["SS_15",0,0.25,0.4,null,"Nobles"]
["i_mop_Lite",0,0.25,0.4,null,"Nobles"]
["i_mop_XL",0,0.25,0.4,null,"Nobles"]
["i_mop_XXL",0,0.25,0.4,null,"Nobles"]
["SSR",0,0.25,0.4,null,"Nobles"]
["SS300_Std_Config",0,0.25,0.4,null,"Nobles"]
["SS350_Std_Config",0,0.2,0.25,null,"Nobles","306201"]
["SS500_Std_Config",0,0.25,0.4,null,"Nobles"]
["SSR_Std_Config",0,0.25,0.4,null,"Nobles"]
["SS300_Quick_Ship",0,0.25,0.4,null,"Nobles"]
["T581_T390_T290",0,0.25,0.4,null,"Nobles"]
["T681",0,0.2,0.4,null,"Nobles","306400"]
["T981",0,0.16,0.3,null,"Nobles","306400"]
["S680",0,0.2,0.3,null,"Nobles"]
["S880",0,0.2,0.3,null,"Nobles"]
["T260",0,0.2,0.4,null,"Nobles","306400"]
["T391_T291",0,0.2,0.4,null,"Nobles","306400"]

{"sheet":"PricezonesUsers","index":40,"n_rows":21,"n_cols":11,"rows_kept":21,"cut":false,"hidden":true,"merged":[]}
["Green","Yellow","Red",null,"Level A name","Level B name","Level C name",null,null,"Governance"]
[null,"kbs6","p1g",null,null,"Boris, Kenneth","Gee, Paul",null,null,"cpn8","Peterson, Charlie"]
[null,"bcd","jws25",null,null,"Chatfield, Brant","Watters, Josh",null,null,"azn","Alicia Zahn"]
[null,"bpc","tjw",null,null,"Clifton, Brian","Watson, Terry",null,null,"lty","Lindsay Trickey"]
[null,"nck","cpn8",null,null,"Cork, William","Peterson, Charlie"]
[null,"sft2","azn",null,null,"Forrest, Stephen","Alicia Zahn"]
[null,"jhk5","lty",null,null,"Hamrick, James","Lindsay Trickey"]
[null,"kje","afd",null,null,"Josche, Kevin","Amanda Fristed"]
[null,"dek","pbn7",null,null,"Kortsha, Dennis","Bannon, Patrick"]
[null,"dlr4",null,null,null,"Lancaster, David"]
[null,"jdl",null,null,null,"Laubach, James"]
[null,"rdr3",null,null,null,"Demar, Ryan"]
[null,"mco5",null,null,null,"Cayado, Maria"]
[null,"ptn",null,null,null,"Thompson, Phil"]
[null,"jey2",null,null,null,"Emery, Josh"]
[null,"cgn13",null,null,null,"Groen, Caleb"]
[null,"msm4",null,null,null,"Satterstrom, Mike"]
[null,"jss24",null,null,null,"Stevens, Jonathan"]
[null,"rla7",null,null,null,"Lua, Raul"]
[null,"pls5",null,null,null,"Landis, Pat"]
[null,"jtt5",null,null,null,"Tolbert, Jeff"]

{"sheet":"Contact","index":41,"n_rows":43,"n_cols":6,"rows_kept":43,"cut":false,"hidden":false,"merged":[[39,0,39,5],[6,4,7,4],[18,5,19,5],[15,3,15,4],[16,0,16,2],[16,3,16,4],[18,0,19,0],[18,1,19,1],[18,2,19,2],[18,4,19,4],[18,3,19,3],[37,0,37,5]]}
["Wells Fargo Capital Solutions"]
["Equipment Finance",null,null,"Client Services:  (800) 535-1480"]
["300 E. John Carpenter Freeway, Irving, TX 75062",null,null,"Sales & Operations:  (800) 233-5103"]
["Name","Location","Function","Phone Number","Fax Number","E-Mail Address"]
["Levi Wessel","Rosemount, IL","Relationship Manager","800-258-6649 x-69235",null,"TennantSales@wellsfargo.com"]
["Pedro Hernandez","Rosemount, IL","Manufacturer Services Group","847-607-6355","888-375-3288","Pedro.Hernandez2@wellsfargo.com"]
["Customer Support Center -\nJoe Sims","Cedar Rapids, IA","Existing leases – Questions re: billing, payoffs, taxes, insurance, returns, etc.","(319) 841-7325","Please help save time & have the Account Schedule Number (Lease Number) when calling.","joseph.sims@ge.com"]
["Asset Management - \nJohn Rasmussen","Danbury, CT","Expiring leases - Questions re: Buyout to Return invoices, Payoff invoices, etc.","(203) 749-2120",null,"john.rasmussen@ge.com"]
["Canada",null,null,"Main Phone:  905-288-3689"]
["2300 Meadowvale Boulevard, Suite 200; Mississauga, ON  L5N 5P9"]
["Name","Location","Function","Phone Number","Fax Number","E-Mail Address"]
["Trevor Lee","Toronto",null,"905-288-3689",null,"trevor.lee@wellsfargo.com"]
["* All inquires for existing leases (i.e. buy out quotes, billing questions, etc.) should be directed to the Customer Support Center."]
[]
["U.S. Bank"]
["U.S.A.",null,null,"Main Phone:  (800) 934-7444"]
["1310 Madrid Street, Ste. 101, Marshall, MN 56258",null,null,"Fax to Credit:  (800) 328-9092"]
["Name","Location","Function","Phone Number","Fax Number","E-Mail Address"]
["Mark Maltese","Carol Stream, IL","Relationship Manager","(224) 363-1558",null,"mark.maltese@usbank.com"]
[]
["Kirk Grannes","Marshall, MN","Program Manager","(507) 532-1695",null,"kirk.grannes@usbank.com"]
["Brandon Pingeon","Marshall, MN","FMV end of lease buyout, off lease equipment","507-532-8535",null,"brandon.pingeon@usbank.com"]
["Josh Coil","Marshall, MN","Existing leases - All questions: billing, payoffs, taxes, insurance, returns, etc.","507-532-8495",null,"josh.coil@usbank.com"]
[]
["First Western Equipment Finance"]
["U.S.A.",null,null,"Main Phone:  (800) 477-5855 or (952) 516-7360"]
["100 Prairie Center Drive, Eden Prairie, MN 55344",null,null,"Fax to Credit:  (800) 288-4959 or (952) 516-7321"]
["Name","Location","Function","Phone Number","Fax Number","E-Mail Address"]
["Duncan Leighton","Eden Prairie, MN","Relationship Manager","952-516-7331 (office)\n612-272-1790 (cell)","(800) 288-4959\n(952) 516-7321","Duncan.Leighton@firstwesternef.com"]
[]
["National Leasing"]
["Canada",null,null,"Main Phone:  (866) 208 4540"]
["1525 Buffalo Place,Winnipeg, Manitoba, R3T 1L9",null,null,"Fax to Credit:  (877) 871-2199"]
["Name","Location","Function","Phone Number","Fax Number","E-Mail Address"]
["John Tersigni","Markham, Ontario","District Manager","(866) 208-4540","(877) 871-2199","john.tersigni@nationalleasing.com"]
["Karen Mckerracher","Winnipeg","Sales Coordinator","(877) 599-4966","(877) 871-2199","karen.mckerracher@nationalleasing.com"]
[]
["Tennant"]
["U.S.A.",null,null,"Main Phone:  (763) 540-1200"]
["P. O. Box 1452\nMinneapolis, MN 55440-1452"]
["Name","Location","Function","Phone Number","Fax Number","E-Mail Address"]
["Chris Lund","Minneapolis (Plant 1)","Product Manager, Service","(763) 513-1879","(763) 513-2112","chris.lund@tennantco.com"]
["Jodie Cooke","Minneapolis (Plant 1)","End of Lease Administrator (inspections, returns, etc.)","(763) 540-2507","(763) 513-1725","jodie.cooke@tennantco.com"]

{"sheet":"Help","index":42,"n_rows":120,"n_cols":3,"rows_kept":120,"cut":false,"hidden":false,"merged":[]}
[null,"Instructions For The Use Of The Quote/Order Spreadsheet","05/19/2025 Prices"]
[null,null,"CAN Date Rev - 5/6/2025"]
[null,"TO CUSTOMIZE your cover letter with your own name and region phone number, do the following:"]
[null,"1.  Change the template (adding your name and region office address/phone number to the Start Here Tab (Seller Info)"]
[null,"2.  Click on FILE , click on SAVE AS"]
[null,"3.  In the \"Save as type\" box, select Template from the drop down list"]
[null,"4.  In the \"File Name\" box, enter the name you want to use for this file"]
[null,"5.  File name should be QT25NoblesCDMay.xltm"]
[null,"6.  Click Save"]
[]
[null,"When SAVING the template after working on it, always make sure it is save as: "]
[null,"** Excel Macro-Enabled Workbook (*.xlsm)"]
[null,"This ensure that all macros remain and the template functions properly."]
[null,"Example:"]
[]
[]
[]
[]
[]
[]
[]
[]
[]
[]
[]
[null,"TennantTrue:"]
[null,"1. On ‘Start Here’ Sheet"]
[null,"a. Select both State and County information from drop down"]
[null,"b. If customer is a National Account, select ‘Yes’"]
[null,"c. If you choose to discount, enter a percent in the TennantTrue Discount area"]
[null,"2. After completing a machine quote, select ‘Yes’ next to “Is customer interested in service program?” NOTE: if ‘Yes’ is not an option, make sure Step 1 above has been completed."]
[null,"3. Select anticipated Monthly machine usage"]
[null,"4. Click ‘Add to Summary’ to add data to TennantTrue Summary"]
[null,"5. When emailing to a customer:"]
[null,"a. First delete all worksheets you do not want to include.  To do this, while holding down "]
[null,"the SHIFT key, select the worksheets you wish to delete."]
[null,"b. Right Click while still pointing to one of the selected worksheets"]
[null,"c. Select 'Delete'"]
[null,"d. When the message \"Data may exist in the sheet(s) selected for deletion.  To "]
[null,"permanently delete the data, press Delete.\" appears, select 'Delete' "]
[null,"e. Go to File -> Save As -> and save as a separate file"]
[]
[null,"TO USE THE QUOTE/ORDER FORM:"]
[null,"1.  Enter all pertinent information on the Start Here sheet.  This information will be carried over to the Cover Letter and Quotation sheets.  Get as much information as you can regarding ordering information—this will save a lot of time later (and be easier to read if it is typed)."]
[null,"2 If you have access to the Tennant Intranet, you can verify leadtimes from this address:"]
[null,"Machine availablility Minneapolis, MN"]
[null,"Machine availablility Holland, MI"]
[]
[null,"3.  You may edit and customize the letter where/when appropriate."]
[null,"4.  Click on the tab of the machine you want to quote.  Scroll down the list of machine power sources and options and enter the number desired in the Quantity box.  "]
[null,"5.  Use the arrows on the bottom left to scroll to machine family tabs not visible (back and forth)."]
[null,"6.  Use the Specials area for  Freight and Tax. You may also use this space to add Trade-In, Special promotional discounts, Additional product lines being included in the quote.   Fill in the description, price, and quantity. Note: You may enter a negative amount for discounts or trade-in allowances for example"]
[null,"7.  After all items you want to quote have a quantity entered, click on Tools on your menu bar.  Click on \"Hide Blank Qty\".  The list will automatically shorten to only the items you selected to quote.  To see the entire list again, click on Tools again, click on \"Show All Qty\"."]
[]
[null,"QUOTING"]
[null,"1.  To the customer:"]
[null,"**Print or fax quote (see Fax information below)"]
[null,"2.  To Minneapolis for a formal SAP quote. "]
[null,"**Email or fax to your quote coordinator (See Fax or Email information below)"]
[null,"**Sales Support fax for Quotes (763) 513-2116"]
[]
[null,"ORDERING"]
[null,"1.  Fill in the information under Order Placement Information. "]
[null,"      "]
[null,"The following information is required to place the order:"]
[null,"   1  Order info (one of the following is attached):"]
[null,"       - Hard copy purchase order (complete)"]
[null,"       - Sales order form (complete) and signed by customer"]
[null,"   2.  Full company name and billing address (sold-to)"]
[null,"   3.  Complete Ship-to information"]
[null,"   4.  Ship-to contact name and phone number"]
[null,"   5.  Buyer’s name and phone number"]
[null,"   6.  Requested delivery date for the machine"]
[null,"   7  Complete configuration with part numbers (including brushes and detergent)"]
[null,"   8.  Credit Info: "]
[null,"       - New account or location: Completed credit application"]
[null,"       - Existing account: Updated credit info included (or not required per _______ in Credit)"]
[null,"   9.   Tax exemption certificate for ship-to state if customer wants exemption"]
[null,"   10.  SAP quotation number, if applicable, and quote is consistent with PO"]
[]
[null,"2.  Fax the form, PO, tax exemption certificate, etc. to: (763) 513-2116"]
[]
[null,"FAX"]
[null,"1.  Fax by selecting Winfax as your printer.  "]
[null,"2.  Only one excel TAB will fax at a time.  If you have multiple tabs, you must send each tab individually."]
[]
[null,"EMAIL"]
[null,"1. EMail one tab or several tabs.  When you have completed your quote, click on Option, Hide Blank Qty."]
[null,"2.  Select the tab(s) to be deleted (hold the control button down to select multiple tabs)"]
[null,"   - Note: do not select Start_Here page. If you keep this sheet, your links to your company name, contact, etc will be preserved on your quote when the customer or Customer Service gets it. You will be able to change the quote later as well because the hide/show quantities will stay in tact."]
[null,"3.  Click on Edit, click on \"Delete Sheet\", click OK."]
[null,"4.  If you intend to email the quote and do not want the Special Information at the bottom of the machine to be transmitted to your customer, delete the Special Information.  These cells have been left unprotected for this purpose."]
[null,"5.  Click File, Send and address your EMail"]
[]
[null,"FAQ"]
[null,"Q: How to I add price in the Specials area (discounts, freight, tax, etc)?  It wants a password.:"]
[null,"A. Fill in the description, price (under the heading “insert price here”), and quantity.  The extended price will calculate automatically."]
[]
[null,"Q: Who do I call for questions?"]
[null,"A. If you have any questions regarding the use of this template, please contact your local Tennant Rep or Customer Service @ (800) 553-8033 and ask for extension 2180."]
[null,"A. If you have questions regarding pricing, contact Customer Service @ (800) 553-8033 and ask for extension 2177."]
[null,"A. If you have questions regarding quotes or machine orders, contact Customer Service @ (800) 553-8033 to speak with your Quote Coordinator or Machine Specialist."]
[]
[null,"Q: I tried to take an item off the machine and the price column says --  #Value!  -- .  How do I get rid of it?"]
[null,"A: Move your cursor to the quantity column and press the delete key on your keyboard.  To avoid it in the future, do not use the space bar in the quantity column."]
[]
[null,"Finance Quote Templates Cheat Sheet"]
[]
[null,"1. Payments are calculated based on Machines Total, Purchase Options, and Terms. Any changes made to these will be calculated automatically."]
[null,"2. The Machine Total must be a minimum of $2000 for All-Lines Leasing and $5000 for GE and US bank or the payment amount will be blank."]
[null,"3. To change \"Purchase Options\" or \"Terms\", simply click on the cell. The drop down arrow will show up on the right. Click on the drop down arrow to select a value."]
[null,"4. \"Rent To Own\" is only available for 9, 12, or 18 months. Those terms AND \"Rent To Own\" option MUST be selected together to show payment, otherwise, the cell will be blank."]
[null,"5. To change vendor (All-Lines Leasing, GE, or US Bank), go to the \"Start_Here\" tab, and scroll down to \"Leasing Options\" at the end of the sheet. Select the vendor via the drop down, and then click the \"Apply Change\" button. (US Only)"]
[null,"6. Rates are updated quarterly (or more frequently if necessary). Since it is built-in the quote templates, the downloaded templates always contain the current rates. CAUTION: Make sure any version you've saved to your hard drive are the most current version."]
[null,"7. For the contract document, please contact All-Lines Leasing at 800-477-5855, GE at 800-876-6015, or US Bank at 800-934-7444."]
[]
[null,"Note: Macros – If you encounter a pop-up box bout macros when opening the file you should select “Enable Macros”. You can also go to “Tools>Macros>Security” on your menu bar and change the setting to medium to allow macros. Macros must be enabled for the worksheet to function properly."]
[]
[null,"LOGO:"]
[null,"The “Cover_Letter” tab is not protected and therefore the distributor can put their logos on it. The tennant logo itself on all the machine tabs is not protected, and can be removed if choose to. To remove the logo, just do a single left click on it and press delete.\n"]

{"sheet":"Surcharge","index":43,"n_rows":318,"n_cols":9,"rows_kept":318,"cut":false,"hidden":true,"merged":[[0,4,0,5]]}
["Material","Surcharge","PH Category*","Prod Hier 1 - nav","ProdHier*",null,"Material","Description","Surcharge"]
["1070589",{"$f":"12.5","v":12.5},"Consumables","Batteries","515010","6V Battery","1070589","BATTERY, WET, 06V 360A, HLREP.BYNONE[TR]",{"$f":"12.5","v":12.5}]
["1204144",12.5,"Consumables","Batteries","515010","6V Battery","1204144","BATTERY, WET, 06VDC 435AH, HL, W/BOX[TR]",12.5]
["1205632",12.5,"Consumables","Batteries","515010","6V Battery","1205632","BATTERY, WET, 6VDC 330AH C/20, W/CA [TR]",12.5]
["1031914",12.5,"Consumables","Batteries","515010010","6V AGM Battery","1031914","BATTERY, AGM, 06VDC 0312AH [DISCOVER]",12.5]
["1021446",12.5,"Consumables","Batteries","515010010030","6V AGM 151-200 AH Battery","1021446","BATTERY, 06VDC 0200AH [AGM]",12.5]
["1074042",12.5,"Consumables","Batteries","515010010040","6V AGM 201-300 AH Battery","1074042","BATTERY, AGM, 06VDC 0220AH [DISCOVER]",12.5]
["1038630",12.5,"Consumables","Batteries","515010020030","6V Wet 151-200 AH Battery","1038630","BATTERY, WET, 06VDC 0185AH [TR]",12.5]
["10155",12.5,"Consumables","Batteries","515010020040","6V Wet 201-300 AH Battery","10155","BATTERY, WET, 06VDC, 225AH [TR]",12.5]
["1027944",12.5,"Consumables","Batteries","515010020040","6V Wet 201-300 AH Battery","1027944","BATTERY, WET, 06VDC 0240AH, W/O CARTON",12.5]
["1028282",12.5,"Consumables","Batteries","515010020040","6V Wet 201-300 AH Battery","1028282","BATTERY, 06VDC 0220AH",12.5]
["1028600",12.5,"Consumables","Batteries","515010020040","6V Wet 201-300 AH Battery","1028600","BATTERY, WET, 06VDC 0244AH [LOC SOURCE]",12.5]
["130986",12.5,"Consumables","Batteries","515010020040","6V Wet 201-300 AH Battery","130986","BATTERY, 06VDC 0250AH [9C11]",12.5]
["222280",12.5,"Consumables","Batteries","515010020040","6V Wet 201-300 AH Battery","222280","BATTERY, WET, 06VDC 0240AH",12.5]
["222778",12.5,"Consumables","Batteries","515010020040","6V Wet 201-300 AH Battery","222778","BATTERY KIT, WET, 06VDC 0240AH, CI",12.5]
["223373",12.5,"Consumables","Batteries","515010020040","6V Wet 201-300 AH Battery","223373","BATTERY KIT, WET, 06VDC 0240AH, CI",12.5]
["390825",12.5,"Consumables","Batteries","515010020040","6V Wet 201-300 AH Battery","390825","BATTERY, WET, 06VDC 0260AH [TR]",12.5]
["10138",12.5,"Consumables","Batteries","515010020050","6V Wet 301-400 AH Battery","10138","BATTERY, WET, 06VDC 0330AH [TR]",12.5]
["1028597",12.5,"Consumables","Batteries","515010020050","6V Wet 301-400 AH Battery","1028597","BATTERY, WET, 06VDC 0335AH [LOC SOURCE]",12.5]
["1028611",12.5,"Consumables","Batteries","515010020050","6V Wet 301-400 AH Battery","1028611","BATTERY, WET, 06VDC 0350AH [LOC SOURCE]",12.5]
["1028612",12.5,"Consumables","Batteries","515010020050","6V Wet 301-400 AH Battery","1028612","BATTERY, WET, 06VDC 0305AH [LOC SOURCE]",12.5]
["1070586",12.5,"Consumables","Batteries","515010020050","6V Wet 301-400 AH Battery","1070586","BATTERY, WET, 06VDC 0360AH, W/O CARTON",12.5]
["1070587",12.5,"Consumables","Batteries","515010020050","6V Wet 301-400 AH Battery","1070587","BATTERY, WET, 06VDC 0360AH, W/ CART [TR]",12.5]
["222777",12.5,"Consumables","Batteries","515010020050","6V Wet 301-400 AH Battery","222777","BATTERY KIT, WET, 06VDC 0360AH, CI",12.5]
["222852",12.5,"Consumables","Batteries","515010020050","6V Wet 301-400 AH Battery","222852","BATTERY KIT, WET, 06VDC 0360AH, REPLMT",12.5]
["10157",12.5,"Consumables","Batteries","515010020060","6V Wet 401-500 AH Battery","10157","BATTERY, WET, 06VDC 420AH [TR]",12.5]
["1204146",12.5,"Consumables","Batteries","515010020060","6V Wet 401-500 AH Battery","1204146","BATTERY, WET, 06VDC 435AH, W/ BOX [TR]",12.5]
["390764",12.5,"Consumables","Batteries","515010030030","6V Gel 151-200 AH Battery","390764","BATTERY, GEL, 06V 0180AH [MAINT FREE TR]",12.5]
["1028279",12.5,"Consumables","Batteries","515020","12V Battery","1028279","BATTERY, 12VDC 0260CCA",12.5]
["1028284",12.5,"Consumables","Batteries","515020","12V Battery","1028284","BATTERY, 12VDC 0530CCA",12.5]
["1028285",12.5,"Consumables","Batteries","515020","12V Battery","1028285","BATTERY, 12VDC 0700CCA",12.5]
["1070603",12.5,"Consumables","Batteries","515020","12V Battery","1070603","BATTERY, WET, 12V 225A, HLREP.BYNONE[TR]",12.5]
["1206317",12.5,"Consumables","Batteries","515020","12V Battery","1206317","BATTERY, WET, 12VDC 185AH C/20, W/CA[TR]",12.5]
["9008732",{"$f":"12.5","v":12.5},"Consumables","Batteries","515020","12V Battery","9008732","BATTERY KIT, 12VDC 0040AH, CI [LI-ION]",{"$f":"12.5","v":12.5}]
["1016203",12.5,"Consumables","Batteries","515020010010","12V AGM Less than 100 AH Battery","1016203","BATTERY, AGM, 12VDC 0042AH [3610 AM, MK]",12.5]
["1065086",12.5,"Consumables","Batteries","515020010010","12V AGM Less than 100 AH Battery","1065086","BATTERY, AGM, 12VDC 0050AH [T1B, S5, MK]",12.5]
["1068827",12.5,"Consumables","Batteries","515020010010","12V AGM Less than 100 AH Battery","1068827","BATTERY, AGM, 12VDC 0026AH  [S3B, MK]",12.5]
["1053408",12.5,"Consumables","Batteries","515020010020","12V AGM 101-150 AH Battery","1053408","BATTERY, 12VDC 0140AH [AGM]",12.5]
["1053427",12.5,"Consumables","Batteries","515020010040","12V AGM 201-300 AH Battery","1053427","BATTERY, 12VDC EV185A 234AH DISCOVER AGM",12.5]
["10134",12.5,"Consumables","Batteries","515020020","12V Wet Battery","10134","BATTERY, WET, 12VDC 0260CCA",12.5]
["10137",12.5,"Consumables","Batteries","515020020","12V Wet Battery","10137","BATTERY, WET, 12VDC 0475CCA [TR]",12.5]
["10143",12.5,"Consumables","Batteries","515020020","12V Wet Battery","10143","BATTERY, WET, 12VDC 0600CCA [TR]",12.5]
["77602",12.5,"Consumables","Batteries","515020020","12V Wet Battery","77602","BATTERY, WET, 12VDC 0700CCA [TR]",12.5]
["EM011",12.5,"Consumables","Batteries","515020020010","12V Wet Less than 100 AH Battery","EM011","BATTERY  70 AMP HR DIN 570 144 064",12.5]
["1028287",12.5,"Consumables","Batteries","515020020020","12V Wet 101-150 AH Battery","1028287","BATTERY, 12VDC 0130AH",12.5]
["1073553",12.5,"Consumables","Batteries","515020020020","12V Wet 101-150 AH Battery","1073553","BATTERY, WET, 12VDC 1000CCA",12.5]
["130869",12.5,"Consumables","Batteries","515020020020","12V Wet 101-150 AH Battery","130869","BATTERY, WET, 12VDC 0130AH[30XHS-WNT TR]",12.5]
["578426",12.5,"Consumables","Batteries","515020020020","12V Wet 101-150 AH Battery","578426","BATTERY, WET, 12V 0105AH [S8, 27TMX TR]",12.5]
["602240",12.5,"Consumables","Batteries","515020020020","12V Wet 101-150 AH Battery","602240","BATTERY, 06VDC 0350AH [L16G-LT TR]",12.5]
["61355",12.5,"Consumables","Batteries","515020020020","12V Wet 101-150 AH Battery","61355","BATTERY, WET, 12VDC 0105AH 0530CCA [TR]",12.5]
["80063",12.5,"Consumables","Batteries","515020020020","12V Wet 101-150 AH Battery","80063","BATTERY, WET, 12VDC 0130AH [TR]",12.5]
["1015046",12.5,"Consumables","Batteries","515020020030","12V Wet 151-200 AH Battery","1015046","BATTERY, WET, 12VDC 0150AH",12.5]
["1028286",12.5,"Consumables","Batteries","515020020040","12V Wet 201-300 AH Battery","1028286","BATTERY, 12VDC 0215AH",12.5]
["1070591",12.5,"Consumables","Batteries","515020020040","12V Wet 201-300 AH Battery","1070591","BATTERY, WET, 12VDC 0225AH, W/ CART [TR]",12.5]
["600394",12.5,"Consumables","Batteries","515020020040","12V Wet 201-300 AH Battery","600394","BATTERY, WET, 12V 225AH, DUAL POST [TR]",12.5]
["61384",12.5,"Consumables","Batteries","515020020040","12V Wet 201-300 AH Battery","61384","BATTERY KIT, WET, F/10146, REPLMT",12.5]
["80031",12.5,"Consumables","Batteries","515020020040","12V Wet 201-300 AH Battery","80031","BATTERY, WET, 12VDC 0225AH [TR]",12.5]
["611867",12.5,"Consumables","Batteries","515020030010","12V Gel Less than 100 AH Battery","611867","BATTERY, GEL, 12VDC 0100AH [S8, CROWN]",12.5]
["994200",12.5,"Consumables","Batteries","515020030010","12V Gel Less than 100 AH Battery","994200","BATTERY, GEL, 12VDC 0076AH [GF12076V]",12.5]
["1071125",12.5,"Consumables","Batteries","515020030020","12V Gel 101-150 AH Battery","1071125","BATTERY, GEL, 12V 102AH [TRJN 31-GEL TR]",12.5]
["386334",25,"Consumables","Batteries","515030","18V Battery","386334","BATTERY, 36VDC 0600AH, SEALED",25]
["386939",25,"Consumables","Batteries","515030","18V Battery","386939","BATTERY KIT, 36VDC 1000AH, WET, CI",25]
["1049972",25,"Consumables","Batteries","515030020050","18V Wet 301-400 AH Battery","1049972","BATTERY, WET, 18VDC 0340AH",25]
["1049973",25,"Consumables","Batteries","515030020060","18V Wet 401-500 AH Battery","1049973","BATTERY, WET, 18VDC 0440AH",25]
["06564",25,"Consumables","Batteries","515030020070","18V Wet 501-600 AH Battery","06564","BATTERY SET [(2)-18VDC TYPE E]",25]
["33520",25,"Consumables","Batteries","515030020070","18V Wet 501-600 AH Battery","33520","BATTERY SET [(2)-18VDC TYPE EE]",25]
["80232",25,"Consumables","Batteries","515040020020","24V Wet 101-150 AH Battery","80232","BATTERY KIT, 24VDC, 130AH, WET, CI[3640]",25]
["383951",50,"Consumables","Batteries","515050020040","36V Wet 201-300 AH Battery","383951","BATTERY KIT, WET, 36VDC 0235AH, CI",50]
["390829",50,"Consumables","Batteries","515050020040","36V Wet 201-300 AH Battery","390829","BATTERY KIT, 36VDC, 244AH, WET, CI",50]
["83255",50,"Consumables","Batteries","515050020040","36V Wet 201-300 AH Battery","83255","BATTERY KIT, WET, 36VDC 0220AH, CI[6100]",50]
["223377",50,"Consumables","Batteries","515050020050","36V Wet 301-400 AH Battery","223377","BATTERY KIT, WET, 36VDC 0360AH, CI",50]
["383955",50,"Consumables","Batteries","515050020050","36V Wet 301-400 AH Battery","383955","BATTERY KIT, WET, 36VDC 0360AH, CI",50]
["387322",50,"Consumables","Batteries","515050020050","36V Wet 301-400 AH Battery","387322","BATTERY, WET, 36VDC 0380AH [TR]",50]
["387324",50,"Consumables","Batteries","515050020050","36V Wet 301-400 AH Battery","387324","BATTERY KIT, WET, 36VDC 0380AH, CI",50]
["386335",50,"Consumables","Batteries","515050020060","36V Wet 401-500 AH Battery","386335","BATTERY, WET, 36VDC 0500AH",50]
["386932",50,"Consumables","Batteries","515050020060","36V Wet 401-500 AH Battery","386932","BATTERY KIT, WET, 36VDC 0500AH, CI",50]
["1207937",50,"Consumables","Batteries","515050020070","36V Wet 501-600 AH Battery","1207937","BATTERY, WET, 36VDC, 510AH",50]
["1018515",50,"Consumables","Batteries","515050020090","36V Wet 701-800 AH Battery","1018515","BATTERY, WET, 36VDC 0750AH",50]
["1210315",50,"Consumables","Batteries","515050020090","36V Wet 701-800 AH Battery","1210315","BATTERY, WET, 36VDC, 750AH [W/WATERING]",50]
["386936",50,"Consumables","Batteries","515050020090","36V Wet 701-800 AH Battery","386936","BATTERY KIT, WET, 36VDC 0750AH, CI",50]
["386337",50,"Consumables","Batteries","515050020110","36V Wet 900 or higher AH Battery","386337","BATTERY, WET, 36VDC 1000AH",50]
["1028283",12.5,"Consumables","Batteries","515070","Batteries - Other","1028283","BATTERY, 06VDC 0360AH",12.5]
["1204248",12.5,"Consumables","Batteries","515070","Batteries - Other","1204248","BATTERY, 06VDC EVL16A 390AH DISCOVER AGM",12.5]
["1213281","N/A","Consumables","Batteries","515070","Batteries - Other","1213281","HOSE KIT, WATERING, BATTERY, 20FT","N/A"]
["387043","N/A","Consumables","Batteries","515070","Batteries - Other","387043","BATTERY KIT, R/O, CI","N/A"]
["9008688","N/A","Consumables","Batteries","515070","Batteries - Other","9008688","BATTERY KIT, CONV. [LI TO AGM]","N/A"]
["9008689","N/A","Consumables","Batteries","515070","Batteries - Other","9008689"," BATTERY KIT, CONV. W/O BAT [AGM TO Li+]","N/A"]
["9008690","N/A","Consumables","Batteries","515070","Batteries - Other","9008690","BATTERY REPLMT KIT, [Li+]","N/A"]
["T17-D",150,"T17"]
["T17-C",150,"T17"]
["M17-D",150,"M17"]
["M17-C",150,"M17"]
["T12-D",100,"T12"]
["T12-C",100,"T12"]
["T12-XP-D",100,"T12"]
["T12-XP-C",100,"T12"]
["T16-910-D",100,"T16"]
["T16-910-C",100,"T16"]
["6100-B",100,6100]
["6200-B",100,6200]
["S20-B",100,"S20EV"]
["MV-B5-0010",100,"B5"]
["MV-B5-0011",100,"B5"]
["MV-SG5-0006",100,"SpeedGleam5"]
["MV-B7-0008",100,"B7"]
["MV-B7-0009",100,"B7"]
["MV-SG7-0005",100,"SpeedGleam7"]
["B10-610",100,"B10"]
["B10-690",100,"B10"]
["SGR-610",100,"SpeedGleam_Rider"]
["SGR-690",100,"SpeedGleam_Rider"]
["MV-5680-0030",100,5680]
["MV-5680-0031",100,5680]
["MV-5680-0032",100,5680]
["MV-5680-0033",100,5680]
["MV-5680-0034",100,5680]
["MV-5680-0035",100,5680]
["5680-700-D",100,5680]
["5680-800-D",100,5680]
["5680-900-D",100,5680]
["5680-700-C",100,5680]
["5680-800-C",100,5680]
["5680-900-C",100,5680]
["5700-700-D",100,5700]
["5700-800-D",100,5700]
["5700-900-D",100,5700]
["5700-700-C",100,5700]
["5700-800-C",100,5700]
["5700-900-C",100,5700]
["MV-1610-0001",50,"Dual_Tech_ReadySpace_1610"]
["MV-1610-0002",50,"Dual_Tech_ReadySpace_1610"]
["MV-1610-0008",50,"Dual_Tech_ReadySpace_1610"]
["1610-560",50,"Dual_Tech_ReadySpace_1610"]
["R14-700",50,"Dual_Tech_ReadySpace_R14"]
["MV-STRV-0001",50,"DualTech_ReadySpace_Strive"]
["MV-STRV-0002",50,"DualTech_ReadySpace_Strive"]
["MV-STRV-0004",50,"DualTech_ReadySpace_Strive"]
["Strive-560",50,"DualTech_ReadySpace_Strive"]
["Strive-700",50,"DualTech_ReadySpace_StriveRider"]
["MV-SS350-0001",50,"SS350"]
["MV-SS350-0002",50,"SS350"]
["MV-SS350-0003",50,"SS350"]
["MV-SS350-0004",50,"SS350"]
["MV-SS350-0005",50,"SS350"]
["MV-SS350-0006",50,"SS350"]
["MV-SS350-0007",50,"SS350"]
["MV-SS350-0008",50,"SS350"]
["SS350-500-D",50,"SS350"]
["SS350-600-D",50,"SS350"]
["MV-SSR-0044",50,"SSR"]
["MV-SSR-0045",50,"SSR"]
["SSR-650-D",50,"SSR"]
["SSR-800-D",50,"SSR"]
["SSR-700-C",50,"SSR"]
["SSR-800-C",50,"SSR"]
["MV-T350-0001",50,"T350"]
["MV-T350-0002",50,"T350"]
["MV-T350-0003",50,"T350"]
["MV-T350-0004",50,"T350"]
["MV-T350-0005",50,"T350"]
["MV-T350-0006",50,"T350"]
["MV-T350-0007",50,"T350"]
["MV-T350-0008",50,"T350"]
["MV-T350-0009",50,"T350"]
["MV-T350-0010",50,"T350"]
["MV-T350-0011",50,"T350"]
["MV-T350-0012",50,"T350"]
["T350-500-D",50,"T350"]
["T350-600-D",50,"T350"]
["MV-T7-0051",50,"T7"]
["MV-T7-0052",50,"T7"]
["MV-T7-0053",50,"T7"]
["T7-650-D",50,"T7"]
["T7-800-D",50,"T7"]
["T7-700-C",50,"T7"]
["T7-800-C",50,"T7"]
["MV-SS300-0001",50,"SS300"]
["MV-SS300-0002",50,"SS300"]
["MV-SS300-0003",50,"SS300"]
["MV-SS300-0004",50,"SS300"]
["MV-SS300-0005",50,"SS300"]
["MV-SS300-0006",50,"SS300"]
["MV-SS300-0007",50,"SS300"]
["MV-SS300-0008",50,"SS300"]
["MV-SS300-0015",50,"SS300"]
["MV-SS300-0016",50,"SS300"]
["MV-SS300-0017",50,"SS300"]
["MV-SS300-0018",50,"SS300"]
["MV-SS300-0019",50,"SS300"]
["MV-SS300-0020",50,"SS300"]
["MV-SS300-0011",50,"SS300"]
["MV-SS300-0009",50,"SS300"]
["MV-SS300-0010",50,"SS300"]
["MV-SS300-0021",50,"SS300"]
["SS300-430-D",50,"SS300"]
["SS300-500-D",50,"SS300"]
["SS300-600-D",50,"SS300"]
["SS300-500-C",50,"SS300"]
["SS300-500-O",50,"SS300"]
["MV-SS500-0001",50,"SS500"]
["MV-SS500-0005",50,"SS500"]
["MV-SS500-0009",50,"SS500"]
["MV-SS500-0002",50,"SS500"]
["MV-SS500-0006",50,"SS500"]
["MV-SS500-0010",50,"SS500"]
["MV-SS500-0003",50,"SS500"]
["MV-SS500-0007",50,"SS500"]
["MV-SS500-0011",50,"SS500"]
["MV-SS500-0004",50,"SS500"]
["MV-SS500-0008",50,"SS500"]
["MV-SS500-0012",50,"SS500"]
["SS500-650-D",50,"SS500"]
["SS500-700-D",50,"SS500"]
["SS500-800-D",50,"SS500"]
["SS500-700-C",50,"SS500"]
["SS500-700-O",50,"SS500"]
["T12-D",50,"T12"]
["T12-C",50,"T12"]
["T12-XP-D",50,"T12"]
["T12-XP-C",50,"T12"]
["MV-T300-0001",50,"T300"]
["MV-T300-0079",50,"T300"]
["MV-T300-0080",50,"T300"]
["MV-T300-0003",50,"T300"]
["MV-T300-0004",50,"T300"]
["MV-T300-0005",50,"T300"]
["MV-T300-0006",50,"T300"]
["MV-T300-0007",50,"T300"]
["MV-T300-0008",50,"T300"]
["MV-T300-0009",50,"T300"]
["MV-T300-0066",50,"T300"]
["MV-T300-0077",50,"T300"]
["MV-T300-0078",50,"T300"]
["MV-T300-0067",50,"T300"]
["MV-T300-0068",50,"T300"]
["MV-T300-0069",50,"T300"]
["MV-T300-0070",50,"T300"]
["MV-T300-0071",50,"T300"]
["MV-T300-0072",50,"T300"]
["MV-T300-0073",50,"T300"]
["MV-T300-0012",50,"T300"]
["MV-T300-0010",50,"T300"]
["MV-T300-0011",50,"T300"]
["MV-T300-0074",50,"T300"]
["MV-T300-0075",50,"T300"]
["T300-430-D",50,"T300"]
["T300-500-D",50,"T300"]
["T300-600-D",50,"T300"]
["T300-500-C",50,"T300"]
["T300-500-O",50,"T300"]
["MV-T300e-0001",50,"T300e"]
["MV-T300e-0002",50,"T300e"]
["MV-T300e-0003",50,"T300e"]
["MV-T300e-0004",50,"T300e"]
["MV-T300e-0005",50,"T300e"]
["MV-T300e-0006",50,"T300e"]
["MV-T300e-0007",50,"T300e"]
["MV-T300e-0008",50,"T300e"]
["MV-T300e-0043",50,"T300e"]
["MV-T300e-0044",50,"T300e"]
["MV-T300e-0045",50,"T300e"]
["MV-T300e-0046",50,"T300e"]
["MV-T300e-0047",50,"T300e"]
["MV-T300e-0011",50,"T300e"]
["MV-T300e-0009",50,"T300e"]
["MV-T300e-0010",50,"T300e"]
["MV-T300e-0048",50,"T300e"]
["T300e-430-D",50,"T300e"]
["T300e-500-D",50,"T300e"]
["T300e-600-D",50,"T300e"]
["T300e-500-C",50,"T300e"]
["T300e-500-O",50,"T300e"]
["MV-T500-0001",50,"T500"]
["MV-T500-0006",50,"T500"]
["MV-T500-0002",50,"T500"]
["MV-T500-0007",50,"T500"]
["MV-T500-0011",50,"T500"]
["MV-T500-0003",50,"T500"]
["MV-T500-0008",50,"T500"]
["MV-T500-0012",50,"T500"]
["MV-T500-0004",50,"T500"]
["MV-T500-0009",50,"T500"]
["MV-T500-0013",50,"T500"]
["MV-T500-0005",50,"T500"]
["MV-T500-0010",50,"T500"]
["T500-650-D",50,"T500"]
["T500-700-D",50,"T500"]
["T500-800-D",50,"T500"]
["T500-700-C",50,"T500"]
["T500-700-O",50,"T500"]
["MV-T500e-0003",50,"T500e"]
["MV-T500e-0007",50,"T500e"]
["MV-T500e-0011",50,"T500e"]
["MV-T500e-0004",50,"T500e"]
["MV-T500e-0008",50,"T500e"]
["MV-T500e-0012",50,"T500e"]
["MV-T500e-0005",50,"T500e"]
["MV-T500e-0009",50,"T500e"]
["MV-T500e-0013",50,"T500e"]
["MV-T500e-0006",50,"T500e"]
["MV-T500e-0010",50,"T500e"]
["MV-T500e-0014",50,"T500e"]
["T500e-650-D",50,"T500e"]
["T500e-700-D",50,"T500e"]
["T500e-800-D",50,"T500e"]
["T500e-700-C",50,"T500e"]
["T500e-700-O",50,"T500e"]
["3640-E",50,3640]
["S10-B",50,"S10"]
[9008635,50,"T1b"]
[9008637,50,"SS15b"]
[1071366,50,"S9"]
[9010139,50,"Scout 9"]
[1069647,50,"S5"]
[1071118,50,"Scout 5"]
[9007471,50,"V-WD- 16B"]
[614002,50,1510]
[608351,50,"Falcon Ultra"]

{"sheet":"TennantTrue Rate","index":44,"n_rows":104,"n_cols":31,"rows_kept":104,"cut":false,"hidden":true,"merged":[[3,2,3,4],[3,15,3,17],[2,2,2,4],[2,15,2,17],[2,5,2,7],[3,5,3,7],[2,8,2,10],[2,11,2,13],[3,8,3,10],[3,11,3,13],[3,18,3,20],[3,21,3,23],[3,24,3,26],[2,24,2,26],[2,18,2,20],[2,21,2,23]]}
["TennantTrue Service Rates","2024-11-22"]
["2025 Service Pricing_v5.1"]
[null,null,"GOLD",null,null,"GOLD  36 PRE PAY",null,null,"GOLD w/AB Brushes",null,null,"GOLD w/AB Brushes PrePay",null,null,null,"SILVER Monthly",null,null,"SILVER  ANNUALLY",null,null,"SILVER  36 PRE PAY",null,null,"SILVER  PER VISIT",null,null,"Block of Time  Commercial; Weekly\nWeekly Visits","Block of Time  Commercial; BiWeekly\nBiWeekly Visits","Block of Time  Industrial; Weekly\nWeekly Visits","Block of Time  Industrial; BiWeekly\nBiweekly visits"]
[null,null,"Term",null,null,"Term",null,null,"Term",null,null,"Term",null,null,null,"Term",null,null,"Term",null,null,"Term",null,null,"Term",null,null,"Term","Term","Term ","Term"]
["Model","Hours",36,48,60,36,48,60,36,48,60,36,48,60,null,36,48,60,36,48,60,36,48,60,36,48,60,12,12,12,12]
["Specialty","30/mo or  <1/day",0,null,null,0,null,null,null,null,null,null,null,null,null,0,null,null,0,null,null,0,null,null,0,null,null,2814.0982706112104,1459.0632739567129,3160.8591949519291,1632.443736127072]
["Specialty","60/mo or <2/day",null,null,null,null,null,null,null,null,null,null,null,null,null,null,null,null,null,null,null,null,null,null,null,null,null,2814.0982706112104,1459.0632739567129,3160.8591949519291,1632.443736127072]
["Specialty","90/mo or <3/day",null,null,null,null,null,null,null,null,null,null,null,null,null,null,null,null,null,null,null,null,null,null,null,null,null,2814.0982706112104,1459.0632739567129,3160.8591949519291,1632.443736127072]
["DualTech_ReadySpace_StriveRider","30/mo or  <1/day",164.42238851421519,180.68893122354697,188.80579651345741,5682.2559148620003,8239.2710765498996,10647.944159044499,null,null,null,null,null,null,null,88.023926948028404,90.691318673726244,93.358710399424069,1034.5854314721196,1066.9566902791321,1098.0330987338641,3041.6034775068952,4135.7520251839169,5264.8615323725135,501.46964443119214,516.14029892253018,529.47725755101931,2814.0982706112104,1459.0632739567129,3160.8591949519291,1632.443736127072]
["DualTech_ReadySpace_StriveRider","60/mo or <2/day",345.10513270671669,379.27031230429287,397.18319743527564,11926.451739888451,17294.42358866295,22399.653958188301,null,null,null,null,null,null,null,210.7239463301286,217.39242564437319,224.06090495861773,2478.3435742648771,2556.0345954017066,2635.0204668908182,7282.238381225533,9913.3742970595085,12636.4445879054,501.46964443119214,516.14029892253018,529.47725755101931,2814.0982706112104,1459.0632739567129,3160.8591949519291,1632.443736127072]
["DualTech_ReadySpace_StriveRider","90/mo or <3/day",597.34071721060332,null,null,20643.434596891348,null,null,null,null,null,null,null,null,null,426.7826761116529,438.78593887729306,452.12289750578213,5018.8399654392178,5159.978653837793,5316.655546463734,14749.640362827176,20008.02764343829,25499.487987459892,501.46964443119214,516.14029892253018,529.47725755101931,2814.0982706112104,1459.0632739567129,3160.8591949519291,1632.443736127072]
["DualTech_ReadySpace_Strive","30/mo or  <1/day",120.44303725012531,128.61059874242395,136.73373740419689,4162.3781712628506,5864.5406731927496,7711.2738455229,null,null,null,null,null,null,null,66.684793142445756,68.018489005294668,69.352184868143581,784.67931348198317,800.21751770934895,815.75572193671496,2304.8336270592904,3101.1665937117973,3911.7429142393912,392.10658367758106,404.10984644322133,420.11419679740817,2814.0982706112104,1459.0632739567129,3160.8591949519291,1632.443736127072]
["DualTech_ReadySpace_Strive","60/mo or <2/day",252.30833777314081,276.71266443252074,296.24900066869526,8719.4971295316009,12617.876685280951,16707.3409532115,null,null,null,null,null,null,null,145.37284905053173,149.37393663907849,153.37502422762526,1709.2024650102601,1757.1119280446387,1803.7265407267364,5024.0193668483398,6810.9128529954305,8650.895203586022,392.10658367758106,404.10984644322133,420.11419679740817,2814.0982706112104,1459.0632739567129,3160.8591949519291,1632.443736127072]
["DualTech_ReadySpace_Strive","90/mo or <3/day",437.82917437103845,null,null,15130.892077716599,null,null,null,null,null,null,null,null,null,261.40438911838737,269.40656429548085,277.40873947257433,3073.9747363139077,3168.4988120303838,3261.7280373945796,9034.1709078610511,12285.540142437381,15645.676806605283,392.10658367758106,404.10984644322133,420.11419679740817,2814.0982706112104,1459.0632739567129,3160.8591949519291,1632.443736127072]
["Cord_Electric","30/mo or  <1/day",0,null,null,0,null,null,null,null,null,null,null,null,null,0,null,null,0,null,null,0,null,null,0,null,null,2814.0982706112104,1459.0632739567129,3160.8591949519291,1632.443736127072]
["Cord_Electric","60/mo or <2/day",null,null,null,null,null,null,null,null,null,null,null,null,null,null,null,null,null,null,null,null,null,null,null,null,null,2814.0982706112104,1459.0632739567129,3160.8591949519291,1632.443736127072]
["Cord_Electric","90/mo or <3/day",null,null,null,null,null,null,null,null,null,null,null,null,null,null,null,null,null,null,null,null,null,null,null,null,null,2814.0982706112104,1459.0632739567129,3160.8591949519291,1632.443736127072]
["Carpet_Extractors","30/mo or  <1/day",112.33104772829567,120.47766698915169,128.59747816837495,3882.0367843128006,5493.6854752095005,7252.4191090351515,null,null,null,null,null,null,null,56.015226239654432,57.348922102503352,58.682617965352264,659.07882931077449,674.61703353814039,690.15523776550663,1935.8012766593481,2615.5977116066101,3309.6375004289584,336.0913574379266,350.7620119292647,364.09897055775383,2814.0982706112104,1459.0632739567129,3160.8591949519291,1632.443736127072]
["Carpet_Extractors","60/mo or <2/day",236.04798209485443,260.44680092597622,268.56342814570661,8157.5572193671505,11876.166289314451,15145.977712888798,null,null,null,null,null,null,null,126.70110697064693,130.70219455919369,136.03697801058934,1490.3727554748555,1536.9873681569538,1600.4350354186979,4379.1838914126511,5960.1961715471425,7671.9883372619634,336.0913574379266,350.7620119292647,364.09897055775383,2814.0982706112104,1459.0632739567129,3160.8591949519291,1632.443736127072]
["Carpet_Extractors","90/mo or <3/day",387.41115877796267,null,null,13388.501215327502,null,null,null,null,null,null,null,null,null,226.72829668431558,234.73047186140906,241.39895117565365,2666.0968753455495,2760.6209510620265,2838.3119721988564,7835.1394816493057,10703.233011950611,13615.35145422946,336.0913574379266,350.7620119292647,364.09897055775383,2814.0982706112104,1459.0632739567129,3160.8591949519291,1632.443736127072]
["Vacuums","30/mo or  <1/day",0,null,null,0,null,null,null,null,null,null,null,null,null,0,null,null,0,null,null,0,null,null,0,null,null,2814.0982706112104,1459.0632739567129,3160.8591949519291,1632.443736127072]
["Vacuums","60/mo or <2/day",null,null,null,null,null,null,null,null,null,null,null,null,null,null,null,null,null,null,null,null,null,null,null,null,null,2814.0982706112104,1459.0632739567129,3160.8591949519291,1632.443736127072]
["Vacuums","90/mo or <3/day",null,null,null,null,null,null,null,null,null,null,null,null,null,null,null,null,null,null,null,null,null,null,null,null,null,2814.0982706112104,1459.0632739567129,3160.8591949519291,1632.443736127072]
["Floor_Machine","30/mo or  <1/day",0,null,null,0,null,null,null,null,null,null,null,null,null,0,null,null,0,null,null,0,null,null,0,null,null,2814.0982706112104,1459.0632739567129,3160.8591949519291,1632.443736127072]
["Floor_Machine","60/mo or <2/day",null,null,null,null,null,null,null,null,null,null,null,null,null,null,null,null,null,null,null,null,null,null,null,null,null,2814.0982706112104,1459.0632739567129,3160.8591949519291,1632.443736127072]
["Floor_Machine","90/mo or <3/day",null,null,null,null,null,null,null,null,null,null,null,null,null,null,null,null,null,null,null,null,null,null,null,null,null,2814.0982706112104,1459.0632739567129,3160.8591949519291,1632.443736127072]
["Burnishers","30/mo or  <1/day",0,null,null,0,null,null,null,null,null,null,null,null,null,0,null,null,0,null,null,0,null,null,0,null,null,2814.0982706112104,1459.0632739567129,3160.8591949519291,1632.443736127072]
["Burnishers","60/mo or <2/day",null,null,null,null,null,null,null,null,null,null,null,null,null,null,null,null,null,null,null,null,null,null,null,null,null,2814.0982706112104,1459.0632739567129,3160.8591949519291,1632.443736127072]
["Burnishers","90/mo or <3/day",null,null,null,null,null,null,null,null,null,null,null,null,null,null,null,null,null,null,null,null,null,null,null,null,null,2814.0982706112104,1459.0632739567129,3160.8591949519291,1632.443736127072]
["SpeedGleam5","30/mo or  <1/day",112.33104772829567,120.47766698915169,128.59747816837495,3882.0367843128006,5493.6854752095005,7252.4191090351515,null,null,null,null,null,null,null,56.015226239654432,57.348922102503352,58.682617965352264,659.07882931077449,674.61703353814039,690.15523776550663,1935.8012766593481,2615.5977116066101,3309.6375004289584,336.0913574379266,350.7620119292647,364.09897055775383,2814.0982706112104,1459.0632739567129,3160.8591949519291,1632.443736127072]
["SpeedGleam5","60/mo or <2/day",236.04798209485443,260.44680092597622,268.56342814570661,8157.5572193671505,11876.166289314451,15145.977712888798,null,null,null,null,null,null,null,126.70110697064693,130.70219455919369,136.03697801058934,1490.3727554748555,1536.9873681569538,1600.4350354186979,4379.1838914126511,5960.1961715471425,7671.9883372619634,336.0913574379266,350.7620119292647,364.09897055775383,2814.0982706112104,1459.0632739567129,3160.8591949519291,1632.443736127072]
["SpeedGleam5","90/mo or <3/day",387.41115877796267,null,null,13388.501215327502,null,null,null,null,null,null,null,null,null,226.72829668431558,234.73047186140906,241.39895117565365,2666.0968753455495,2760.6209510620265,2838.3119721988564,7835.1394816493057,10703.233011950611,13615.35145422946,336.0913574379266,350.7620119292647,364.09897055775383,2814.0982706112104,1459.0632739567129,3160.8591949519291,1632.443736127072]
["SpeedGleam7","30/mo or  <1/day",112.33104772829567,120.47766698915169,128.59747816837495,3882.0367843128006,5493.6854752095005,7252.4191090351515,null,null,null,null,null,null,null,56.015226239654432,57.348922102503352,58.682617965352264,659.07882931077449,674.61703353814039,690.15523776550663,1935.8012766593481,2615.5977116066101,3309.6375004289584,336.0913574379266,350.7620119292647,364.09897055775383,2814.0982706112104,1459.0632739567129,3160.8591949519291,1632.443736127072]
["SpeedGleam7","60/mo or <2/day",236.04798209485443,260.44680092597622,268.56342814570661,8157.5572193671505,11876.166289314451,15145.977712888798,null,null,null,null,null,null,null,126.70110697064693,130.70219455919369,136.03697801058934,1490.3727554748555,1536.9873681569538,1600.4350354186979,4379.1838914126511,5960.1961715471425,7671.9883372619634,336.0913574379266,350.7620119292647,364.09897055775383,2814.0982706112104,1459.0632739567129,3160.8591949519291,1632.443736127072]
["SpeedGleam7","90/mo or <3/day",387.41115877796267,null,null,13388.501215327502,null,null,null,null,null,null,null,null,null,226.72829668431558,234.73047186140906,241.39895117565365,2666.0968753455495,2760.6209510620265,2838.3119721988564,7835.1394816493057,10703.233011950611,13615.35145422946,336.0913574379266,350.7620119292647,364.09897055775383,2814.0982706112104,1459.0632739567129,3160.8591949519291,1632.443736127072]
["SpeedGleam_Rider","30/mo or  <1/day",148.12565620130181,164.39549845682185,172.5555691630075,5119.0588684332006,7496.303544319052,9731.4918223333498,null,null,null,null,null,null,null,88.023926948028404,90.691318673726244,93.358710399424069,1034.5854314721196,1066.9566902791321,1098.0330987338641,3041.6034775068952,4135.7520251839169,5264.8615323725135,501.46964443119214,516.14029892253018,529.47725755101931,2814.0982706112104,1459.0632739567129,3160.8591949519291,1632.443736127072]
["SpeedGleam_Rider","60/mo or <2/day",304.39967855906031,336.92392866691597,345.08884720482109,10519.716260080799,15363.46228662135,19461.726508402349,null,null,null,null,null,null,null,210.7239463301286,217.39242564437319,224.06090495861773,2478.3435742648771,2556.0345954017066,2635.0204668908182,7282.238381225533,9913.3742970595085,12636.4445879054,501.46964443119214,516.14029892253018,529.47725755101931,2814.0982706112104,1459.0632739567129,3160.8591949519291,1632.443736127072]
["SpeedGleam_Rider","90/mo or <3/day",540.41128401928779,null,null,18676.016343183604,null,null,null,null,null,null,null,null,null,357.43049124350927,368.10005814630068,378.76962504909181,4203.0842435025033,4328.6847276737117,4454.2852118449209,12352.872360755971,16785.145116612126,21362.44111192369,501.46964443119214,516.14029892253018,529.47725755101931,2814.0982706112104,1459.0632739567129,3160.8591949519291,1632.443736127072]
["Sweepers","30/mo or  <1/day",112.33104772829567,120.47766698915169,128.59747816837495,3882.0367843128006,5493.6854752095005,7252.4191090351515,null,null,null,null,null,null,null,69.352184868143581,72.019576593841421,74.686968319539247,815.75572193671496,846.83213039144698,877.908538846179,2396.7680020712055,3283.7404933833482,4212.148195968467,425.44898024880393,440.11963474014198,453.45659336863116,2814.0982706112104,1459.0632739567129,3160.8591949519291,1632.443736127072]
["Sweepers","60/mo or <2/day",236.04798209485443,260.44680092597622,268.56342814570661,8157.5572193671505,11876.166289314451,15145.977712888798,null,null,null,null,null,null,null,162.71089526756759,168.0456787189633,173.38046217035892,1913.7888206705793,1975.9416375800429,2039.3893048417876,5623.5350799542111,7662.9243847959997,9778.7098604223374,425.44898024880393,440.11963474014198,453.45659336863116,2814.0982706112104,1459.0632739567129,3160.8591949519291,1632.443736127072]
["Sweepers","90/mo or <3/day",387.41115877796267,null,null,13388.501215327502,null,null,null,null,null,null,null,null,null,274.7413477468765,282.74352292397003,290.74569810106345,3230.6516289398473,3325.1757046563243,3419.6997803728009,9495.1376332729069,12892.82495765694,16397.984861280253,425.44898024880393,440.11963474014198,453.45659336863116,2814.0982706112104,1459.0632739567129,3160.8591949519291,1632.443736127072]
["SS500","30/mo or  <1/day",128.591403406582,148.12963495027734,156.2607595701696,4443.97669447725,6754.593148352551,8812.5252130935005,201.81756891081099,218.10041728859932,226.25488011943247,6974.5919946138001,9945.2049872728494,12759.933083152502,null,69.352184868143581,72.019576593841421,74.686968319539247,815.75572193671496,846.83213039144698,877.908538846179,2396.7680020712055,3283.7404933833482,4212.148195968467,425.44898024880393,440.11963474014198,453.45659336863116,2814.0982706112104,1459.0632739567129,3160.8591949519291,1632.443736127072]
["SS500","60/mo or <2/day",268.60507008605418,296.23170064037413,312.54381026153328,9282.6941759604015,13507.92916044075,17626.307562451351,345.10513270671669,371.13738055102067,389.02464707825959,11926.451739888451,16923.568390679698,21939.542085436206,null,162.71089526756759,168.0456787189633,173.38046217035892,1913.7888206705793,1975.9416375800429,2039.3893048417876,5623.5350799542111,7662.9243847959997,9778.7098604223374,425.44898024880393,440.11963474014198,453.45659336863116,2814.0982706112104,1459.0632739567129,3160.8591949519291,1632.443736127072]
["SS500","90/mo or <3/day",472.05958755508192,null,null,16313.857302469951,null,null,603.8521348088434,null,null,20868.461988210005,null,null,null,274.7413477468765,282.74352292397003,290.74569810106345,3230.6516289398473,3325.1757046563243,3419.6997803728009,9495.1376332729069,12892.82495765694,16397.984861280253,425.44898024880393,440.11963474014198,453.45659336863116,2814.0982706112104,1459.0632739567129,3160.8591949519291,1632.443736127072]
["SS500_Std_Config","30/mo or  <1/day",128.591403406582,148.12963495027734,156.2607595701696,4443.97669447725,6754.593148352551,8812.5252130935005,201.81756891081099,218.10041728859932,226.25488011943247,6974.5919946138001,9945.2049872728494,12759.933083152502,null,69.352184868143581,72.019576593841421,74.686968319539247,815.75572193671496,846.83213039144698,877.908538846179,2396.7680020712055,3283.7404933833482,4212.148195968467,425.44898024880393,440.11963474014198,453.45659336863116,2814.0982706112104,1459.0632739567129,3160.8591949519291,1632.443736127072]
["SS500_Std_Config","60/mo or <2/day",268.60507008605418,296.23170064037413,312.54381026153328,9282.6941759604015,13507.92916044075,17626.307562451351,345.10513270671669,371.13738055102067,389.02464707825959,11926.451739888451,16923.568390679698,21939.542085436206,null,162.71089526756759,168.0456787189633,173.38046217035892,1913.7888206705793,1975.9416375800429,2039.3893048417876,5623.5350799542111,7662.9243847959997,9778.7098604223374,425.44898024880393,440.11963474014198,453.45659336863116,2814.0982706112104,1459.0632739567129,3160.8591949519291,1632.443736127072]
["SS500_Std_Config","90/mo or <3/day",472.05958755508192,null,null,16313.857302469951,null,null,603.8521348088434,null,null,20868.461988210005,null,null,null,274.7413477468765,282.74352292397003,290.74569810106345,3230.6516289398473,3325.1757046563243,3419.6997803728009,9495.1376332729069,12892.82495765694,16397.984861280253,425.44898024880393,440.11963474014198,453.45659336863116,2814.0982706112104,1459.0632739567129,3160.8591949519291,1632.443736127072]
["SS350","30/mo or  <1/day",128.591403406582,148.12963495027734,156.2607595701696,4443.97669447725,6754.593148352551,8812.5252130935005,201.81756891081099,218.10041728859932,226.25488011943247,6974.5919946138001,9945.2049872728494,12759.933083152502,null,69.352184868143581,72.019576593841421,74.686968319539247,815.75572193671496,846.83213039144698,877.908538846179,2396.7680020712055,3283.7404933833482,4212.148195968467,425.44898024880393,440.11963474014198,453.45659336863116,2814.0982706112104,1459.0632739567129,3160.8591949519291,1632.443736127072]
["SS350","60/mo or <2/day",268.60507008605418,296.23170064037413,312.54381026153328,9282.6941759604015,13507.92916044075,17626.307562451351,345.10513270671669,371.13738055102067,389.02464707825959,11926.451739888451,16923.568390679698,21939.542085436206,null,162.71089526756759,168.0456787189633,173.38046217035892,1913.7888206705793,1975.9416375800429,2039.3893048417876,5623.5350799542111,7662.9243847959997,9778.7098604223374,425.44898024880393,440.11963474014198,453.45659336863116,2814.0982706112104,1459.0632739567129,3160.8591949519291,1632.443736127072]
["SS350","90/mo or <3/day",472.05958755508192,null,null,16313.857302469951,null,null,603.8521348088434,null,null,20868.461988210005,null,null,null,274.7413477468765,282.74352292397003,290.74569810106345,3230.6516289398473,3325.1757046563243,3419.6997803728009,9495.1376332729069,12892.82495765694,16397.984861280253,425.44898024880393,440.11963474014198,453.45659336863116,2814.0982706112104,1459.0632739567129,3160.8591949519291,1632.443736127072]
["SS350_Std_Config","30/mo or  <1/day",128.591403406582,148.12963495027734,156.2607595701696,4443.97669447725,6754.593148352551,8812.5252130935005,201.81756891081099,218.10041728859932,226.25488011943247,6974.5919946138001,9945.2049872728494,12759.933083152502,null,69.352184868143581,72.019576593841421,74.686968319539247,815.75572193671496,846.83213039144698,877.908538846179,2396.7680020712055,3283.7404933833482,4212.148195968467,425.44898024880393,440.11963474014198,453.45659336863116,2814.0982706112104,1459.0632739567129,3160.8591949519291,1632.443736127072]
["SS350_Std_Config","60/mo or <2/day",268.60507008605418,296.23170064037413,312.54381026153328,9282.6941759604015,13507.92916044075,17626.307562451351,345.10513270671669,371.13738055102067,389.02464707825959,11926.451739888451,16923.568390679698,21939.542085436206,null,162.71089526756759,168.0456787189633,173.38046217035892,1913.7888206705793,1975.9416375800429,2039.3893048417876,5623.5350799542111,7662.9243847959997,9778.7098604223374,425.44898024880393,440.11963474014198,453.45659336863116,2814.0982706112104,1459.0632739567129,3160.8591949519291,1632.443736127072]
["SS350_Std_Config","90/mo or <3/day",472.05958755508192,null,null,16313.857302469951,null,null,603.8521348088434,null,null,20868.461988210005,null,null,null,274.7413477468765,282.74352292397003,290.74569810106345,3230.6516289398473,3325.1757046563243,3419.6997803728009,9495.1376332729069,12892.82495765694,16397.984861280253,425.44898024880393,440.11963474014198,453.45659336863116,2814.0982706112104,1459.0632739567129,3160.8591949519291,1632.443736127072]
["SS300","30/mo or  <1/day",120.44303725012531,128.61059874242395,136.73373740419689,4162.3781712628506,5864.5406731927496,7711.2738455229,190.46805890717491,201.8345537820548,209.98236164778851,6582.3654801365992,9203.4945913063511,11842.223610177001,null,69.352184868143581,72.019576593841421,74.686968319539247,815.75572193671496,846.83213039144698,877.908538846179,2396.7680020712055,3283.7404933833482,4212.148195968467,425.44898024880393,440.11963474014198,453.45659336863116,2814.0982706112104,1459.0632739567129,3160.8591949519291,1632.443736127072]
["SS300","60/mo or <2/day",252.30833777314081,276.71266443252074,296.24900066869526,8719.4971295316009,12617.876685280951,16707.3409532115,328.80840039380337,353.21736143364103,371.12487675945124,11363.25469345965,16106.429818852201,20930.06166516315,null,162.71089526756759,168.0456787189633,173.38046217035892,1913.7888206705793,1975.9416375800429,2039.3893048417876,5623.5350799542111,7662.9243847959997,9778.7098604223374,425.44898024880393,440.11963474014198,453.45659336863116,2814.0982706112104,1459.0632739567129,3160.8591949519291,1632.443736127072]
["SS300","90/mo or <3/day",421.60519532737914,null,null,14570.2093038165,null,null,553.43411921576762,null,null,19126.071125820901,null,null,null,274.7413477468765,282.74352292397003,290.74569810106345,3230.6516289398473,3325.1757046563243,3419.6997803728009,9495.1376332729069,12892.82495765694,16397.984861280253,425.44898024880393,440.11963474014198,453.45659336863116,2814.0982706112104,1459.0632739567129,3160.8591949519291,1632.443736127072]
["SS300_Quick_Ship","30/mo or  <1/day",120.44303725012531,128.61059874242395,136.73373740419689,4162.3781712628506,5864.5406731927496,7711.2738455229,190.46805890717491,201.8345537820548,209.98236164778851,6582.3654801365992,9203.4945913063511,11842.223610177001,null,69.352184868143581,72.019576593841421,74.686968319539247,815.75572193671496,846.83213039144698,877.908538846179,2396.7680020712055,3283.7404933833482,4212.148195968467,425.44898024880393,440.11963474014198,453.45659336863116,2814.0982706112104,1459.0632739567129,3160.8591949519291,1632.443736127072]
["SS300_Quick_Ship","60/mo or <2/day",252.30833777314081,276.71266443252074,296.24900066869526,8719.4971295316009,12617.876685280951,16707.3409532115,328.80840039380337,353.21736143364103,371.12487675945124,11363.25469345965,16106.429818852201,20930.06166516315,null,162.71089526756759,168.0456787189633,173.38046217035892,1913.7888206705793,1975.9416375800429,2039.3893048417876,5623.5350799542111,7662.9243847959997,9778.7098604223374,425.44898024880393,440.11963474014198,453.45659336863116,2814.0982706112104,1459.0632739567129,3160.8591949519291,1632.443736127072]
["SS300_Quick_Ship","90/mo or <3/day",421.60519532737914,null,null,14570.2093038165,null,null,553.43411921576762,null,null,19126.071125820901,null,null,null,274.7413477468765,282.74352292397003,290.74569810106345,3230.6516289398473,3325.1757046563243,3419.6997803728009,9495.1376332729069,12892.82495765694,16397.984861280253,425.44898024880393,440.11963474014198,453.45659336863116,2814.0982706112104,1459.0632739567129,3160.8591949519291,1632.443736127072]
["SS300_Std_Config","30/mo or  <1/day",120.44303725012531,128.61059874242395,136.73373740419689,4162.3781712628506,5864.5406731927496,7711.2738455229,190.46805890717491,201.8345537820548,209.98236164778851,6582.3654801365992,9203.4945913063511,11842.223610177001,null,69.352184868143581,72.019576593841421,74.686968319539247,815.75572193671496,846.83213039144698,877.908538846179,2396.7680020712055,3283.7404933833482,4212.148195968467,425.44898024880393,440.11963474014198,453.45659336863116,2814.0982706112104,1459.0632739567129,3160.8591949519291,1632.443736127072]
["SS300_Std_Config","60/mo or <2/day",252.30833777314081,276.71266443252074,296.24900066869526,8719.4971295316009,12617.876685280951,16707.3409532115,328.80840039380337,353.21736143364103,371.12487675945124,11363.25469345965,16106.429818852201,20930.06166516315,null,162.71089526756759,168.0456787189633,173.38046217035892,1913.7888206705793,1975.9416375800429,2039.3893048417876,5623.5350799542111,7662.9243847959997,9778.7098604223374,425.44898024880393,440.11963474014198,453.45659336863116,2814.0982706112104,1459.0632739567129,3160.8591949519291,1632.443736127072]
["SS300_Std_Config","90/mo or <3/day",421.60519532737914,null,null,14570.2093038165,null,null,553.43411921576762,null,null,19126.071125820901,null,null,null,274.7413477468765,282.74352292397003,290.74569810106345,3230.6516289398473,3325.1757046563243,3419.6997803728009,9495.1376332729069,12892.82495765694,16397.984861280253,425.44898024880393,440.11963474014198,453.45659336863116,2814.0982706112104,1459.0632739567129,3160.8591949519291,1632.443736127072]
["SS_15","30/mo or  <1/day",0,null,null,0,null,null,null,null,null,null,null,null,null,0,null,null,0,null,null,0,null,null,0,null,null,2814.0982706112104,1459.0632739567129,3160.8591949519291,1632.443736127072]
["SS_15","60/mo or <2/day",null,null,null,null,null,null,null,null,null,null,null,null,null,null,null,null,null,null,null,null,null,null,null,null,null,2814.0982706112104,1459.0632739567129,3160.8591949519291,1632.443736127072]
["SS_15","90/mo or <3/day",null,null,null,null,null,null,null,null,null,null,null,null,null,null,null,null,null,null,null,null,null,null,null,null,null,2814.0982706112104,1459.0632739567129,3160.8591949519291,1632.443736127072]
["SSR","30/mo or  <1/day",164.42238851421519,180.68893122354697,188.80579651345741,5682.2559148620003,8239.2710765498996,10647.944159044499,null,null,null,null,null,null,null,88.023926948028404,90.691318673726244,93.358710399424069,1034.5854314721196,1066.9566902791321,1098.0330987338641,3041.6034775068952,4135.7520251839169,5264.8615323725135,501.46964443119214,516.14029892253018,529.47725755101931,2814.0982706112104,1459.0632739567129,3160.8591949519291,1632.443736127072]
["SSR","60/mo or <2/day",345.10513270671669,379.27031230429287,397.18319743527564,11926.451739888451,17294.42358866295,22399.653958188301,null,null,null,null,null,null,null,210.7239463301286,217.39242564437319,224.06090495861773,2478.3435742648771,2556.0345954017066,2635.0204668908182,7282.238381225533,9913.3742970595085,12636.4445879054,501.46964443119214,516.14029892253018,529.47725755101931,2814.0982706112104,1459.0632739567129,3160.8591949519291,1632.443736127072]
["SSR","90/mo or <3/day",597.34071721060332,null,null,20643.434596891348,null,null,null,null,null,null,null,null,null,426.7826761116529,438.78593887729306,452.12289750578213,5018.8399654392178,5159.978653837793,5316.655546463734,14749.640362827176,20008.02764343829,25499.487987459892,501.46964443119214,516.14029892253018,529.47725755101931,2814.0982706112104,1459.0632739567129,3160.8591949519291,1632.443736127072]
["SSR_Std_Config","30/mo or  <1/day",164.42238851421519,180.68893122354697,188.80579651345741,5682.2559148620003,8239.2710765498996,10647.944159044499,null,null,null,null,null,null,null,88.023926948028404,90.691318673726244,93.358710399424069,1034.5854314721196,1066.9566902791321,1098.0330987338641,3041.6034775068952,4135.7520251839169,5264.8615323725135,501.46964443119214,516.14029892253018,529.47725755101931,2814.0982706112104,1459.0632739567129,3160.8591949519291,1632.443736127072]
["SSR_Std_Config","60/mo or <2/day",345.10513270671669,379.27031230429287,397.18319743527564,11926.451739888451,17294.42358866295,22399.653958188301,null,null,null,null,null,null,null,210.7239463301286,217.39242564437319,224.06090495861773,2478.3435742648771,2556.0345954017066,2635.0204668908182,7282.238381225533,9913.3742970595085,12636.4445879054,501.46964443119214,516.14029892253018,529.47725755101931,2814.0982706112104,1459.0632739567129,3160.8591949519291,1632.443736127072]
["SSR_Std_Config","90/mo or <3/day",597.34071721060332,null,null,20643.434596891348,null,null,null,null,null,null,null,null,null,426.7826761116529,438.78593887729306,452.12289750578213,5018.8399654392178,5159.978653837793,5316.655546463734,14749.640362827176,20008.02764343829,25499.487987459892,501.46964443119214,516.14029892253018,529.47725755101931,2814.0982706112104,1459.0632739567129,3160.8591949519291,1632.443736127072]
["i_mop_Lite","30/mo or  <1/day",0,null,null,0,null,null,null,null,null,null,null,null,null,0,null,null,0,null,null,0,null,null,0]
["i_mop_Lite","60/mo or <2/day"]
["i_mop_Lite","90/mo or <3/day"]
["i_mop_XL","30/mo or  <1/day",0,null,null,0,null,null,null,null,null,null,null,null,null,0,null,null,0,null,null,0,null,null,0]
["i_mop_XL","60/mo or <2/day"]
["i_mop_XL","90/mo or <3/day"]
["i_mop_XXL","30/mo or  <1/day",0,null,null,0,null,null,null,null,null,null,null,null,null,0,null,null,0,null,null,0,null,null,0]
["i_mop_XXL","60/mo or <2/day"]
["i_mop_XXL","90/mo or <3/day"]
["CS5_CS16","30/mo or  <1/day",0,null,null,0,null,null,null,null,null,null,null,null,null,0,null,null,0,null,null,0,null,null,0,null,null,2814.0982706112104,1459.0632739567129,3160.8591949519291,1632.443736127072]
["CS5_CS16","60/mo or <2/day",null,null,null,null,null,null,null,null,null,null,null,null,null,null,null,null,null,null,null,null,null,null,null,null,null,2814.0982706112104,1459.0632739567129,3160.8591949519291,1632.443736127072]
["CS5_CS16","90/mo or <3/day",null,null,null,null,null,null,null,null,null,null,null,null,null,null,null,null,null,null,null,null,null,null,null,null,null,2814.0982706112104,1459.0632739567129,3160.8591949519291,1632.443736127072]
["T581_T390_T290","30/mo or  <1/day",128.591403406582,148.12963495027734,156.2607595701696,4443.97669447725,6754.593148352551,8812.5252130935005,201.81756891081099,218.10041728859932,226.25488011943247,6974.5919946138001,9945.2049872728494,12759.933083152502,null,69.352184868143581,72.019576593841421,74.686968319539247,815.75572193671496,846.83213039144698,877.908538846179,2396.7680020712055,3283.7404933833482,4212.148195968467,425.44898024880393,440.11963474014198,453.45659336863116,2814.0982706112104,1459.0632739567129,3160.8591949519291,1632.443736127072]
["T581_T390_T290","60/mo or <2/day",268.60507008605418,296.23170064037413,312.54381026153328,9282.6941759604015,13507.92916044075,17626.307562451351,345.10513270671669,371.13738055102067,389.02464707825959,11926.451739888451,16923.568390679698,21939.542085436206,null,162.71089526756759,168.0456787189633,173.38046217035892,1913.7888206705793,1975.9416375800429,2039.3893048417876,5623.5350799542111,7662.9243847959997,9778.7098604223374,425.44898024880393,440.11963474014198,453.45659336863116,2814.0982706112104,1459.0632739567129,3160.8591949519291,1632.443736127072]
["T581_T390_T290","90/mo or <3/day",472.05958755508192,null,null,16313.857302469951,null,null,603.8521348088434,null,null,20868.461988210005,null,null,null,274.7413477468765,282.74352292397003,290.74569810106345,3230.6516289398473,3325.1757046563243,3419.6997803728009,9495.1376332729069,12892.82495765694,16397.984861280253,425.44898024880393,440.11963474014198,453.45659336863116,2814.0982706112104,1459.0632739567129,3160.8591949519291,1632.443736127072]
["T681","30/mo or  <1/day",172.57075467067185,188.82186297681923,198.59159871763782,5963.8544380764006,8610.1262745331514,11199.82697909415,278.31763153147352,296.23170064037413,304.38525990451723,9618.3495585418514,13507.92916044075,17166.195689699252,null,88.023926948028404,90.691318673726244,93.358710399424069,1034.5854314721196,1066.9566902791321,1098.0330987338641,3041.6034775068952,4135.7520251839169,5264.8615323725135,501.46964443119214,516.14029892253018,529.47725755101931,2814.0982706112104,1459.0632739567129,3160.8591949519291,1632.443736127072]
["T681","60/mo or <2/day",353.21712222854637,387.37567479738453,405.3194566710975,12206.7931268385,17664.021650381848,22858.508694676053,467.14874188043177,501.3194271237378,517.64441636782863,16144.1439067827,22859.765830940403,29193.218330735697,null,210.7239463301286,217.39242564437319,224.06090495861773,2478.3435742648771,2556.0345954017066,2635.0204668908182,7282.238381225533,9913.3742970595085,12636.4445879054,501.46964443119214,516.14029892253018,529.47725755101931,2814.0982706112104,1459.0632739567129,3160.8591949519291,1632.443736127072]
["T681","90/mo or <3/day",605.48908336705995,null,null,20925.033120105752,null,null,828.47785363080777,null,null,28631.278420571249,null,null,null,330.75657398653101,340.0924450264734,349.42831606641579,3889.7304582506222,3999.7927381944646,4109.8550181383071,11430.938909932252,15508.422669263548,19707.622361709211,501.46964443119214,516.14029892253018,529.47725755101931,2814.0982706112104,1459.0632739567129,3160.8591949519291,1632.443736127072]
["T981","30/mo or  <1/day",188.83111034895819,208.34089918467262,216.49136903644612,6525.79434824085,9500.1787496929519,12209.307399367201,296.25131240260362,314.1517197577536,322.30732134451955,10238.117736866401,14325.067732268248,18176.933246236651,null,88.023926948028404,90.691318673726244,93.358710399424069,1034.5854314721196,1066.9566902791321,1098.0330987338641,3041.6034775068952,4135.7520251839169,5264.8615323725135,501.46964443119214,516.14029892253018,529.47725755101931,2814.0982706112104,1459.0632739567129,3160.8591949519291,1632.443736127072]
["T981","60/mo or <2/day",429.75356148383582,472.04087281195774,496.46785123349753,14851.807827030902,21524.687118200702,27998.9388796032,545.28575305931088,587.58364222878481,612.0473146245572,18844.472602606504,26793.34520209155,34517.19041025795,null,210.7239463301286,217.39242564437319,224.06090495861773,2478.3435742648771,2556.0345954017066,2635.0204668908182,7282.238381225533,9913.3742970595085,12636.4445879054,501.46964443119214,516.14029892253018,529.47725755101931,2814.0982706112104,1459.0632739567129,3160.8591949519291,1632.443736127072]
["T981","90/mo or <3/day",681.9891459877224,750.35255433495217,782.93104969801232,23568.790684033804,34215.477706813952,44154.397012765054,906.61486480968676,976.58590337682404,1009.2082209386389,31331.607116395047,44531.53789207006,56915.587232181897,null,330.75657398653101,340.0924450264734,349.42831606641579,3889.7304582506222,3999.7927381944646,4109.8550181383071,11430.938909932252,15508.422669263548,19707.622361709211,501.46964443119214,516.14029892253018,529.47725755101931,2814.0982706112104,1459.0632739567129,3160.8591949519291,1632.443736127072]
["T260","30/mo or  <1/day",0,null,null,0,null,null,null,null,null,null,null,null,null,69.352184868143581,72.019576593841421,74.686968319539247,815.75572193671496,846.83213039144698,877.908538846179,2396.7680020712055,3283.7404933833482,4212.148195968467,425.44898024880393,440.11963474014198,453.45659336863116,2814.0982706112104,1459.0632739567129,3160.8591949519291,1632.443736127072]
["T260","60/mo or <2/day",null,null,null,null,null,null,null,null,null,null,null,null,null,162.71089526756759,168.0456787189633,173.38046217035892,1913.7888206705793,1975.9416375800429,2039.3893048417876,5623.5350799542111,7662.9243847959997,9778.7098604223374,425.44898024880393,440.11963474014198,453.45659336863116,2814.0982706112104,1459.0632739567129,3160.8591949519291,1632.443736127072]
["T260","90/mo or <3/day",null,null,null,null,null,null,null,null,null,null,null,null,null,274.7413477468765,282.74352292397003,290.74569810106345,3230.6516289398473,3325.1757046563243,3419.6997803728009,9495.1376332729069,12892.82495765694,16397.984861280253,425.44898024880393,440.11963474014198,453.45659336863116,2814.0982706112104,1459.0632739567129,3160.8591949519291,1632.443736127072]
["T391_T291","30/mo or  <1/day",128.591403406582,null,null,4443.97669447725,null,null,201.81756891081099,null,null,6974.5919946138001,null,null,null,69.352184868143581,72.019576593841421,74.686968319539247,815.75572193671496,846.83213039144698,877.908538846179,2396.7680020712055,3283.7404933833482,4212.148195968467,425.44898024880393,440.11963474014198,453.45659336863116,2814.0982706112104,1459.0632739567129,3160.8591949519291,1632.443736127072]
["T391_T291","60/mo or <2/day",268.60507008605418,null,null,9282.6941759604015,null,null,345.10513270671669,null,null,11926.451739888451,null,null,null,162.71089526756759,168.0456787189633,173.38046217035892,1913.7888206705793,1975.9416375800429,2039.3893048417876,5623.5350799542111,7662.9243847959997,9778.7098604223374,425.44898024880393,440.11963474014198,453.45659336863116,2814.0982706112104,1459.0632739567129,3160.8591949519291,1632.443736127072]
["T391_T291","90/mo or <3/day",472.05958755508192,null,null,16313.857302469951,null,null,603.8521348088434,null,null,20868.461988210005,null,null,null,274.7413477468765,282.74352292397003,290.74569810106345,3230.6516289398473,3325.1757046563243,3419.6997803728009,9495.1376332729069,12892.82495765694,16397.984861280253,425.44898024880393,440.11963474014198,453.45659336863116,2814.0982706112104,1459.0632739567129,3160.8591949519291,1632.443736127072]
["S680","30/mo or  <1/day",208.32898650905094,224.60676269121714,240.92243786510605,7199.6193859324503,10241.889145659448,13587.128745094798,314.14861663910676,332.07173887513318,348.32105977795584,10856.628778926601,15142.206304095749,19644.011266733098,null,98.693493850819721,101.36088557651753,104.02827730221537,1160.1859156433281,1192.5571744503407,1223.6335829050727,3410.6358279068377,4622.6157576413843,5866.9669461829453,473.46203131136485,486.79898993985393,501.46964443119214,2814.0982706112104,1459.0632739567129,3160.8591949519291,1632.443736127072]
["S680","60/mo or <2/day",472.05958755508192,522.49261894242625,540.42594222813,16313.857302469951,23825.246481961203,30478.011592901399,587.59177913055703,639.66197470990789,655.98311449799587,20306.522078045549,29168.075605448703,36995.005987291792,null,226.72829668431558,234.73047186140906,241.39895117565365,2666.0968753455495,2760.6209510620265,2838.3119721988564,7835.1394816493057,10703.233011950611,13615.35145422946,473.46203131136485,486.79898993985393,501.46964443119214,2814.0982706112104,1459.0632739567129,3160.8591949519291,1632.443736127072]
["S680","90/mo or <3/day",724.33154869359566,null,null,25032.097295737203,null,null,948.95726751555992,null,null,32794.913728098451,null,null,null,377.43592918624296,388.10549608903426,398.77506299182562,4438.7470076175541,4564.3474917887625,4689.9479759599717,13044.322448873761,17698.014614969878,22491.550619112288,473.46203131136485,486.79898993985393,501.46964443119214,2814.0982706112104,1459.0632739567129,3160.8591949519291,1632.443736127072]
["S880","30/mo or  <1/day",208.32898650905094,224.60676269121714,240.92243786510605,7199.6193859324503,10241.889145659448,13587.128745094798,314.14861663910676,332.07173887513318,348.32105977795584,10856.628778926601,15142.206304095749,19644.011266733098,null,98.693493850819721,101.36088557651753,104.02827730221537,1160.1859156433281,1192.5571744503407,1223.6335829050727,3410.6358279068377,4622.6157576413843,5866.9669461829453,473.46203131136485,486.79898993985393,501.46964443119214,2814.0982706112104,1459.0632739567129,3160.8591949519291,1632.443736127072]
["S880","60/mo or <2/day",472.05958755508192,522.49261894242625,540.42594222813,16313.857302469951,23825.246481961203,30478.011592901399,587.59177913055703,639.66197470990789,655.98311449799587,20306.522078045549,29168.075605448703,36995.005987291792,null,226.72829668431558,234.73047186140906,241.39895117565365,2666.0968753455495,2760.6209510620265,2838.3119721988564,7835.1394816493057,10703.233011950611,13615.35145422946,473.46203131136485,486.79898993985393,501.46964443119214,2814.0982706112104,1459.0632739567129,3160.8591949519291,1632.443736127072]
["S880","90/mo or <3/day",724.33154869359566,null,null,25032.097295737203,null,null,948.95726751555992,null,null,32794.913728098451,null,null,null,377.43592918624296,388.10549608903426,398.77506299182562,4438.7470076175541,4564.3474917887625,4689.9479759599717,13044.322448873761,17698.014614969878,22491.550619112288,473.46203131136485,486.79898993985393,501.46964443119214,2814.0982706112104,1459.0632739567129,3160.8591949519291,1632.443736127072]

{"sheet":"List","index":45,"n_rows":68,"n_cols":17,"rows_kept":68,"cut":false,"hidden":true,"merged":[]}
["FlexClean Regions",null,null,null,null,null,"Tab Name","Machine","Product",2009,"Material","PH","Type","Rider_WB",null,null,"All Tabs"]
["Description","Region Key",null,null,null,null,"Dual_Tech_ReadySpace_1610",1610,"Comm","Y",9000500,350010080,"Scrubber","WB",null,null,"Specialty"]
["CA - All Other","CA00",null,"Tab name: ","GM_636",null,3640,3640,"Comm","Y","M3640",300020070,"Sweeper","WB",null,null,"DualTech_ReadySpace_StriveRider"]
["CA - British Columbia","BCCA",null,"Material: ",{"$f":"VLOOKUP($E$3, G2:M100, 5, FALSE)","v":"M636"},null,5400,5400,"Comm","N","M5400",320010110,"Scrubber","WB",null,null,"DualTech_ReadySpace_Strive"]
["US - All Other","US00",null,"Type: ",{"$f":"VLOOKUP($E$3, G2:M101, 7, FALSE)","v":"Sweeper"},null,5680,5680,"Comm","Y","M5680",320020155,"Scrubber","WB",null,null,"Cord_Electric"]
["US - California","CAUS",null,"Type 2: ",{"$f":"VLOOKUP($E$3, G2:N102, 8, FALSE)","v":"Rider"},null,5700,5700,"Comm","Y","M5700",320020160,"Scrubber","WB",null,null,"Carpet_Extractors"]
["US - Conneticut","CTUS",null,null,null,null,6100,6100,"Ind","Y","M6100",300030010,"Sweeper","Rider",null,null,"CS5_CS16"]
["US - DC","DCUS",null,null,null,null,6200,6200,"Ind","Y","M6200",300030020,"Sweeper","Rider",null,null,"Vacuums"]
["US - Massuchusetts","MAUS",null,null,null,null,"6400LC",6400,"Ind","Y","M6400",300040050,"Sweeper","Rider",null,null,"Floor_Machine"]
["US - New Jersey","NJUS",null,null,null,null,"6400EV",6400,"Ind","Y","M6400",300040050,"Sweeper","Rider",null,null,"Burnishers"]
["US - New York","NYUS",null,null,null,null,6600,6600,"Ind","N","M6600",300040220,"Sweeper","Rider",null,null,"SpeedGleam5"]
["US - Pennsylvania","PAUS",null,null,null,null,6650,6650,"Ind","N","M6650",300040230,"Sweeper","Rider",null,null,"SpeedGleam7"]
["US - Rhode Island","RIUS",null,null,null,null,7100,7100,"Ind","Y","M7100",320040005,"Scrubber","Rider",null,null,"SpeedGleam_Rider"]
[null,null,null,null,null,null,7200,7200,"Ind","N","M7200",320040010,"Scrubber","Rider",null,null,"Sweepers"]
[null,null,null,null,null,null,7300,7300,"Ind","Y","M7300",320050065,"Scrubber","Rider",null,null,"S680"]
[null,null,null,null,null,null,7400,7400,"Ind","N","M7400",320050070,"Scrubber","Rider",null,null,"S880"]
[null,null,null,null,null,null,8210,8210,"Ind","N","M8210",340020060,"Scrubber","Rider",null,null,"SS5_24_32"]
[null,null,null,null,null,null,8300,8300,"Ind","Y","M8300",340020015,"Scrubber","Rider",null,null,"SS500"]
[null,null,null,null,null,null,8410,8410,"Ind","N","M8410",340020030,"Scrubber","Rider",null,null,"SS500_Std_Config"]
[null,null,null,null,null,null,"M20","M20","Ind","Y","M20",340020070,"Scrubber","Rider",null,null,"SS_17_20"]
[null,null,null,null,null,null,"M30","M30","Ind","Y","MM30",340020080,"Scrubber","Rider",null,null,"SS_XC"]
[null,null,null,null,"Template",null,"T3","T3","Comm","Y",9003577,320010540,"Scrubber","WB",null,null,"SS30"]
[null,null,null,null,"Scrubber",null,"T3_plus","T3 +","Comm","Y",9007539,320010540,"Scrubber","WB",null,null,"SS300"]
[null,null,null,null,"Sweeper",null,"T5","T5","Comm","Y","MT5",320020500,"Scrubber","WB",null,null,"SS300_Std_Config"]
[null,null,null,null,"Nobles",null,"T7","T7","Comm","Y","MT7",320040050,"Scrubber","Rider",null,null,"SS300_Quick_Ship"]
[null,null,null,null,null,null,"T15","T15","Ind","Y","MT15",320040060,"Scrubber","Rider",null,null,"SS350"]
[null,null,null,null,null,null,"T20","T20","Ind","Y","MT20",320050110,"Scrubber","Rider",null,null,"SS350_Std_Config"]
[null,null,null,null,null,null,"Dual_Tech_ReadySpace_R14","R14","Comm","Y","MR14",350090010,"Scrubber","Rider",null,null,"SS3_XC_Orbital"]
[null,null,null,null,null,null,"S8","S8","Comm","Y",9001400,300020200,"Sweeper","WB",null,null,"SS_15"]
[null,null,null,null,null,null,"S10","S10","Ind","Y","MS10",300020210,"Sweeper","WB",null,null,"i_mop_Lite"]
[null,null,null,null,null,null,"S30","S30","Ind","Y","MS30",300040310,"Sweeper","Rider",null,null,"i_mop_XL"]
[null,null,null,null,null,null,"DualTech_ReadySpace_Strive","Strive","Comm","Y",9000503,350010090,"Scrubber","WB",null,null,"i_mop_XXL"]
[null,null,null,null,null,null,"DualTech_ReadySpace_StriveRider","Strive Rider","Comm","Y","Mstriverider",350090020,"Scrubber","Rider",null,null,"SSR"]
[null,null,null,null,null,null,"SS5_24_32","SS5","Comm","Y","Mss5",320020510,"Scrubber","WB",null,null,"SSR_Std_Config"]
[null,null,null,null,null,null,550,550,"Ind","Y","M550",320050090,"Scrubber","Rider",null,null,"T681"]
[null,null,null,null,null,null,1550,1550,"Ind","Y","M1550",320050100,"Scrubber","Rider",null,null,"T981"]
[null,null,null,null,null,null,"Burnishers",2550,"Comm","Y",9003536,400020018,"Sweeper","WB",null,null,"T260"]
[null,null,null,null,null,null,"SpeedGleam5","SpeedGleam5","Comm","Y",9003532,400020018,"Sweeper","WB",null,null,"T391_T291"]
[null,null,null,null,null,null,"SpeedGleam7","SpeedGleam7","Comm","Y",9003532,400020018,"Sweeper","WB",null,null,"1701"]
[null,null,null,null,null,null,"Burnishers",2510,"Comm","Y",9003532,400020018,"Sweeper","WB",null,null,"2401"]
[null,null,null,null,null,null,"SpeedGleam_Rider","SpeedGleam_Rider","Comm","Y",9003532,400020018,"Sweeper","WB",null,null,"2601"]
[null,null,null,null,null,null,"Carpet_Extractors",1510,"Comm","Y",614002,350010040,"Scrubber","WB",null,null,"2701"]
[null,null,null,null,null,null,"SSR","SSR","Comm","Y","MSSR",null,"Scrubber","Rider",null,null,"3301"]
[null,null,null,null,null,null,"EZ_Rider","EZ_Rider","Comm","Y","MEZRIDERHP",null,"Scrubber","Rider",null,null,2001]
[null,null,null,null,null,null,"SpeedGleam","SpeedGleam_Plus","Comm","Y",9003538,null,"Sweeper","WB"]
[null,null,null,null,null,null,"SS_17_20","SS17","Comm","Y",9002885,null,"Scrubber","WB"]
[null,null,null,null,null,null,"SS_XC","SS17+","Comm","Y",9007634,null,"Scrubber","WB"]
[null,null,null,null,null,null,"SS3_Orbital","SS3","Comm","Y",9007634,null,"Scrubber","WB"]
[null,null,null,null,null,null,"SS300","SS300","Comm","Y",9007634,null,"Scrubber","WB"]
[null,null,null,null,null,null,"S20_GLPD","S20_GLPD","Ind","Y","MS20",null,"Sweeper","Rider"]
[null,null,null,null,null,null,"S20EV","S20EV","Ind","Y","MS20",null,"Sweeper","Rider"]
[null,null,null,null,null,null,"GM_400","GM_400","Ind","Y","M400",null,"Sweeper","Rider"]
[null,null,null,null,null,null,"GM_636","GM_636","Ind","Y","M636",null,"Sweeper","Rider"]
[null,null,null,null,null,null,800,800,"Ind","Y","M800",null,"Sweeper","Rider"]
[null,null,null,null,null,null,810,810,"Ind","Y","M810",null,"Sweeper","Rider"]
[null,null,null,null,null,null,4300,4300,"Ind","Y","ATLV",null,"Sweeper","Rider"]
[null,null,null,null,null,null,"SS500","SS500","Comm","Y","Mss5",320020510,"Scrubber","WB"]
[null,null,null,null,null,null,"SS_15","SS_15","Comm","Y","SS_15",null,"Scrubber","WB"]
[null,null,null,null,null,null,"i_mop_Lite","i_mop_Lite","Comm","Y","i_mop",null,"Scrubber","WB"]
[null,null,null,null,null,null,"i_mop_XL","i_mop_XL","Comm","Y","i_mop",null,"Scrubber","WB"]
[null,null,null,null,null,null,"i_mop_XXL","i_mop_XXL","Comm","Y","i_mop",null,"Scrubber","WB"]
[null,null,null,null,null,null,"SS350","SS350","Comm","Y",9007634,null,"Scrubber","WB"]
[null,null,null,null,null,null,"T681","T681","Comm","Y","T681",null,"Scrubber","WB"]
[null,null,null,null,null,null,"T981","T981","Comm","Y","T981",null,"Scrubber","WB"]
[null,null,null,null,null,null,"S680","S680","Comm","Y","S680",null,"Sweeper","Rider"]
[null,null,null,null,null,null,"S880","S880","Comm","Y","S880",null,"Sweeper","Rider"]
[null,null,null,null,null,null,"T260","T260","Comm","Y","T260",null,"Scrubber","WB"]
[null,null,null,null,null,null,"T391_T291","T391_T291","Comm","Y","T391",null,"Scrubber","WB"]

{"sheet":"County Tier","index":46,"n_rows":146,"n_cols":6,"rows_kept":146,"cut":false,"hidden":true,"merged":[]}
["State","Code","County","PM","Reg","Trip"]
["Alberta",null,"ALL OTHER COUNTIES",133,171,127]
["Alaska",null,"ALL OTHER COUNTIES",148,175,138]
["Alabama",null,"ALL OTHER COUNTIES",121,150,122]
["Arkansas",null,"ALL OTHER COUNTIES",128,152,122]
["Arizona",null,"ALL OTHER COUNTIES",130,151,127]
["British Columbia",null,"ALL OTHER COUNTIES",133,171,127]
["California",1,"Alameda",145,173,138]
["California",13,"Contra Costa",145,173,138]
["California",41,"Marin",145,173,138]
["California",51,"Mono",136,166,127]
["California",53,"Monterey",145,173,138]
["California",55,"Napa",145,173,138]
["California",69,"San Benito",145,173,138]
["California",75,"San Francisco",145,173,138]
["California",81,"San Mateo",145,173,138]
["California",85,"Santa Clara",145,173,138]
["California",87,"Santa Cruz",145,173,138]
["California",95,"Solano",145,173,138]
["California",97,"Sonoma",145,173,138]
["California",null,"ALL OTHER COUNTIES",136,166,135]
["Colorado",7,"Archuleta",129,157,126]
["Colorado",null,"ALL OTHER COUNTIES",129,157,126]
["Connecticut",null,"ALL OTHER COUNTIES",135,169,130]
["District of Columbia",null,"ALL OTHER COUNTIES",133,163,129]
["Delaware",null,"ALL OTHER COUNTIES",135,169,130]
["Florida",111,"St Lucie",128,150,122]
["Florida",null,"ALL OTHER COUNTIES",128,150,122]
["Georgia",127,"Glynn",128,155,122]
["Georgia",null,"ALL OTHER COUNTIES",128,155,122]
["Hawaii",null,"ALL OTHER COUNTIES",148,175,138]
["Iowa",149,"Plymouth",128,145,122]
["Iowa",null,"ALL OTHER COUNTIES",128,145,122]
["Idaho",1,"Ada",128,140,122]
["Idaho",null,"ALL OTHER COUNTIES",128,140,122]
["Illinois",5,"Bond",132,166,136]
["Illinois",null,"ALL OTHER COUNTIES",132,166,136]
["Indiana",5,"Bartholomew",134,168,136]
["Indiana",7,"Benton",128,152,122]
["Indiana",9,"Blackford",134,168,136]
["Indiana",11,"Boone",134,168,136]
["Indiana",15,"Carroll",134,168,136]
["Indiana",33,"De Kalb",134,168,136]
["Indiana",47,"Franklin",134,168,136]
["Indiana",59,"Hancock",134,168,136]
["Indiana",61,"Harrison",134,168,136]
["Indiana",73,"Jasper",134,168,136]
["Indiana",91,"La Porte",134,168,136]
["Indiana",89,"Lake",134,168,136]
["Indiana",111,"Newton",134,168,136]
["Indiana",127,"Porter",134,168,136]
["Indiana",131,"Pulaski",134,168,136]
["Indiana",149,"Starke",134,168,136]
["Indiana",null,"ALL OTHER COUNTIES",128,152,122]
["Kansas",81,"Haskell",128,158,128]
["Kansas",null,"ALL OTHER COUNTIES",128,158,128]
["Kentucky",85,"Grayson",128,150,122]
["Kentucky",null,"ALL OTHER COUNTIES",128,150,122]
["Louisiana",103,"St Tammany",128,144,122]
["Louisiana",null,"ALL OTHER COUNTIES",128,144,122]
["Massachusetts",13,"Hampden",137,169,138]
["Massachusetts",null,"ALL OTHER COUNTIES",137,169,138]
["Manitoba",null,"ALL OTHER COUNTIES",133,171,127]
["Maryland",null,"ALL OTHER COUNTIES",133,163,129]
["Maine",null,"ALL OTHER COUNTIES",129,157,126]
["Michigan",153,"Schoolcraft",128,156,128]
["Michigan",null,"ALL OTHER COUNTIES",128,156,128]
["Minnesota",null,"ALL OTHER COUNTIES",128,162,129]
["Missouri",510,"St Louis City",128,157,127]
["Missouri",null,"ALL OTHER COUNTIES",128,157,127]
["Mississippi",null,"ALL OTHER COUNTIES",128,152,122]
["Montana",null,"ALL OTHER COUNTIES",148,175,138]
["New Brunswick",null,"ALL OTHER COUNTIES",133,171,127]
["North Carolina",1,"Alamance",128,152,126]
["North Carolina",null,"ALL OTHER COUNTIES",128,152,126]
["North Dakota",13,"Burke",128,145,122]
["North Dakota",null,"ALL OTHER COUNTIES",128,145,122]
["Nebraska",41,"Custer",128,145,122]
["Nebraska",null,"ALL OTHER COUNTIES",128,145,122]
["New Hampshire",null,"ALL OTHER COUNTIES",140,169,138]
["New Jersey",1,"Atlantic",137,172,132]
["New Jersey",5,"Burlington",137,172,132]
["New Jersey",7,"Camden",137,172,132]
["New Jersey",9,"Cape May",137,172,132]
["New Jersey",11,"Cumberland",137,172,132]
["New Jersey",15,"Gloucester",137,172,132]
["New Jersey",33,"Salem",137,172,132]
["New Jersey",null,"ALL OTHER COUNTIES",144,172,137]
["Newfoundland and Labrador",null,"ALL OTHER COUNTIES",133,171,127]
["New Mexico",null,"ALL OTHER COUNTIES",128,150,122]
["Nova Scotia",null,"ALL OTHER COUNTIES",133,171,127]
["Nevada",7,"Elko",132,164,129]
["Nevada",null,"ALL OTHER COUNTIES",132,164,129]
["New York",1,"Albany",144,172,137]
["New York",5,"Bronx",144,172,137]
["New York",47,"Kings",144,172,137]
["New York",59,"Nassau",144,172,137]
["New York",61,"New York",144,172,137]
["New York",73,"Orleans",134,168,129]
["New York",81,"Queens",144,172,137]
["New York",85,"Richmond",144,172,137]
["New York",91,"Saratoga",144,172,137]
["New York",89,"St Lawrence",144,172,137]
["New York",103,"Suffolk",144,172,137]
["New York",111,"Ulster",144,172,137]
["New York",null,"ALL OTHER COUNTIES",134,168,129]
["Ohio",5,"Ashland",128,158,128]
["Ohio",null,"ALL OTHER COUNTIES",128,158,128]
["Oklahoma",7,"Beaver",128,145,122]
["Oklahoma",null,"ALL OTHER COUNTIES",128,145,122]
["Ontario",null,"ALL OTHER COUNTIES",133,171,127]
["Oregon",9,"Columbia",128,157,127]
["Oregon",null,"ALL OTHER COUNTIES",128,157,127]
["Pennsylvania",11,"Berks",132,166,128]
["Pennsylvania",null,"ALL OTHER COUNTIES",132,166,128]
["Prince Edward Island",null,"ALL OTHER COUNTIES",133,171,127]
["Quebec",null,"ALL OTHER COUNTIES",133,171,127]
["Rhode Island",null,"ALL OTHER COUNTIES",135,169,130]
["South Carolina",33,"Dillon",128,156,128]
["South Carolina",null,"ALL OTHER COUNTIES",128,156,128]
["South Dakota",5,"Beadle",128,145,122]
["South Dakota",null,"ALL OTHER COUNTIES",128,145,122]
["Saskatchewan",null,"ALL OTHER COUNTIES",133,171,127]
["Tennessee",47,"Fayette",128,152,122]
["Tennessee",null,"ALL OTHER COUNTIES",128,152,122]
["Texas",59,"Callahan",128,156,128]
["Texas",null,"ALL OTHER COUNTIES",128,156,128]
["Utah",null,"ALL OTHER COUNTIES",128,150,122]
["Virginia",510,"Alexandria City",126,152,120]
["Virginia",13,"Arlington",134,164,128]
["Virginia",59,"Fairfax",134,164,128]
["Virginia",600,"Fairfax City",126,152,120]
["Virginia",81,"Greensville",128,149,122]
["Virginia",85,"Hanover",134,164,128]
["Virginia",103,"Lancaster",134,164,128]
["Virginia",107,"Loudoun",126,152,120]
["Virginia",683,"Manassas City",126,152,120]
["Virginia",153,"Prince William",126,152,120]
["Virginia",179,"Stafford",126,152,120]
["Virginia",null,"ALL OTHER COUNTIES",128,149,122]
["Vermont",null,"ALL OTHER COUNTIES",135,168,130]
["Washington",null,"ALL OTHER COUNTIES",132,158,128]
["Wisconsin",null,"ALL OTHER COUNTIES",129,157,126]
["West Virginia",null,"ALL OTHER COUNTIES",128,158,128]
["Wyoming",null,"ALL OTHER COUNTIES",129,157,126]
["Yukon",null,"ALL OTHER COUNTIES",133,171,127]

{"sheet":"Settings","index":47,"n_rows":36,"n_cols":3,"rows_kept":36,"cut":false,"hidden":true,"merged":[]}
["Type Of Discounts","Low","High"]
["TTDiscount",0,5]
["TTNationalAccount",0,8]
[]
[]
["If No Option"]
["1 - Has Capital "]
["2 - Has own financing option"]
["3 - Does not qualify"]
["4 - Does not like Tennant offering"]
["5 - Other"]
[]
[]
[]
["Monthly Machine Usage"]
["< 30/mo. (Avg. 1hr./day)",25]
["< 60/mo. (Avg. 2hrs./day)",40]
["< 90/mo. (Avg. 3hrs./day)",60]
[null,80]
[null,100]
[null,125]
[null,150]
[]
["Terms"]
[12]
[36]
[48]
[60]
[]
["Contract"]
["Gold Contract"]
["Silver Contract"]
["Block of Time Weekly Agreement"]
["Block of Time Bi-Weekly Agreement"]
["Pay As You Go Agreement"]
["No Agreement"]

{"sheet":"Financing","index":48,"n_rows":67,"n_cols":110,"rows_kept":67,"cut":false,"hidden":true,"merged":[[1,103,1,109],[22,103,22,109],[37,3,37,4],[22,67,22,69],[22,71,22,77],[22,79,22,85],[22,87,22,93],[22,35,22,41],[22,43,22,49],[22,51,22,57],[22,59,22,65],[22,3,22,9],[22,11,22,17],[22,19,22,25],[22,27,22,33],[22,95,22,101],[1,87,1,93],[1,95,1,101],[1,67,1,69],[16,3,16,4],[1,35,1,41],[1,43,1,49],[1,51,1,57],[1,59,1,65],[1,3,1,9],[1,11,1,17],[1,71,1,77],[1,79,1,85],[1,19,1,25],[1,27,1,33]]}
["Finance Partner","Wells Fargo Vendor Solutions",null,{"$f":"C8","v":"National Leasing"},null,"2025-02-04"]
["Equipment Cost",0,null,{"$f":"B8","v":"$1 Buyout Lease"},null,null,null,null,null,null,null,{"$f":"B9","v":"Fair Market Value Sweeper Lease"},null,null,null,null,null,null,null,{"$f":"B10","v":"Fair Market Value Scrubber Lease"},null,null,null,null,null,null,null,{"$f":"B11","v":"10% Option"},null,null,null,null,null,null,null,{"$f":"B12","v":"Municipal $1 Buyout Lease - Monthly Pmt"},null,null,null,null,null,null,null,{"$f":"B13","v":"Muni $1 Out Quarterly"},null,null,null,null,null,null,null,{"$f":"B14","v":"Muni $1 Out Semi-Annually"},null,null,null,null,null,null,null,{"$f":"B15","v":"Municipal $1 Buyout Lease - Annual Pmt"},null,null,null,null,null,null,null,{"$f":"B16","v":"Rent To Own"},null,null,null,{"$f":"B17","v":"10% PUT"},null,null,null,null,null,null,null,{"$f":"B18","v":"$1 Buyout Lease - 90 days no pmt"},null,null,null,null,null,null,null,{"$f":"B19","v":"Fair Market Value Sweeper Lease - 90 days no pmt"},null,null,null,null,null,null,null,{"$f":"B20","v":"Fair Market Value Scrubber Lease - 90 days no pmt"},null,null,null,null,null,null,null,{"$f":"B21","v":"FMV Sweeper - Promo"}]
["Term:",60,null,null,null,5000,10000,25000,50000,100000,null,null,null,5000,10000,25000,50000,100000,null,null,null,5000,10000,25000,50000,100000,null,null,null,5000,10000,25000,50000,100000,null,null,null,5000,10000,25000,50000,100000,null,null,null,5000,10000,25000,50000,100000,null,null,null,5000,10000,25000,50000,100000,null,null,null,5000,10000,25000,50000,100000,null,null,null,1,null,null,null,5000,10000,25000,50000,100000,null,null,null,5000,10000,25000,50000,100000,null,null,null,5000,10000,25000,50000,100000,null,null,null,5000,10000,25000,50000,100000,null,null,null,5000,10000,25000,50000,100000]
["Purchase Option:","FMV Sweeper",null,null,null,"to","to","to","to","to",null,null,null,"to","to","to","to","to",null,null,null,"to","to","to","to","to",null,null,null,"to","to","to","to","to",null,null,null,"to","to","to","to","to",null,null,null,"to","to","to","to","to",null,null,null,"to","to","to","to","to",null,null,null,"to","to","to","to","to",null,null,null,"to",null,null,null,"to","to","to","to","to",null,null,null,"to","to","to","to","to",null,null,null,"to","to","to","to","to",null,null,null,"to","to","to","to","to",null,null,null,"to","to","to","to","to"]
["No money down and payments of:",{"$f":"IF(B1=C8,D17, IF(B1=C9,D38))","v":0},null,"Term","Adv",9999,24999,49999,99999,null,null,"Term","Adv",9999,24999,49999,99999,null,null,"Term","Adv",9999,24999,49999,99999,null,null,"Term","Adv",9999,24999,49999,99999,null,null,"Term","Adv",9999,24999,49999,99999,null,null,"Term","Adv",9999,24999,49999,99999,null,null,"Term","Adv",9999,24999,49999,99999,null,null,"Term","Adv",9999,24999,49999,99999,null,null,"Term","Adv",null,null,"Term","Adv",9999,24999,49999,99999,null,null,"Term","Adv",9999,24999,49999,99999,null,null,"Term","Adv",9999,24999,49999,99999,null,null,"Term","Adv",9999,24999,49999,99999,null,null,"Term","Adv",9999,24999,49999,99999]
["For Calculation",null,null,12,0,null,null,null,null,null,null,12,0,null,null,null,null,null,null,12,0,null,null,null,null,null,null,12,0,null,null,null,null,null,null,12,0,null,null,null,null,null,null,12,0,null,null,null,null,null,null,12,0,null,null,null,null,null,null,12,0,null,null,null,null,null,null,9,0,null,null,12,0,null,null,null,null,null,null,12,0,null,null,null,null,null,null,12,0,null,null,null,null,null,null,12,0,null,null,null,null,null,null,12,0]
["Term","Purchase Opt","Select a Finance Partner",24,0,4.7109999999999999E-2,4.6359999999999998E-2,4.6039999999999998E-2,4.5809999999999997E-2,4.5679999999999998E-2,null,24,0,4.1540000000000001E-2,4.0689999999999997E-2,4.0320000000000002E-2,4.0079999999999998E-2,3.9910000000000001E-2,null,24,0,4.3400000000000001E-2,4.258E-2,4.2229999999999997E-2,4.2000000000000003E-2,4.1829999999999999E-2,null,24,0,4.3400000000000001E-2,4.258E-2,4.2229999999999997E-2,4.2000000000000003E-2,4.1829999999999999E-2,null,24,0,null,null,null,null,null,null,24,0,null,null,null,null,null,null,24,0,null,null,null,null,null,null,24,0,null,null,null,null,null,null,12,0,null,null,24,0,null,null,null,null,null,null,24,0,null,null,null,null,null,null,24,0,null,null,null,null,null,null,24,0,null,null,null,null,null,null,24,0]
[12,"$1 Buyout Lease","National Leasing",36,0,3.3090000000000001E-2,3.2309999999999998E-2,3.1969999999999998E-2,3.1699999999999999E-2,3.1600000000000003E-2,null,36,0,2.9590000000000002E-2,2.87E-2,2.8330000000000001E-2,2.8080000000000001E-2,2.7900000000000001E-2,null,36,0,3.1919999999999997E-2,3.1099999999999999E-2,3.0759999999999999E-2,3.0530000000000002E-2,3.0370000000000001E-2,null,36,0,3.075E-2,2.9899999999999999E-2,2.954E-2,2.93E-2,2.913E-2,null,36,0,null,null,null,null,null,null,36,0,null,null,null,null,null,null,36,0,null,null,null,null,null,null,36,0,null,null,null,null,null,null,18,0,null,null,36,0,null,null,null,null,null,null,36,0,null,null,null,null,null,null,36,0,null,null,null,null,null,null,36,0,null,null,null,null,null,null,36,0]
[24,"Fair Market Value Sweeper Lease","Wells Fargo Vendor Solutions",48,0,2.6120000000000001E-2,2.5309999999999999E-2,2.496E-2,2.4709999999999999E-2,2.4580000000000001E-2,null,48,0,2.3970000000000002E-2,2.308E-2,2.2700000000000001E-2,2.2440000000000002E-2,2.2270000000000002E-2,null,48,0,2.53E-2,2.445E-2,2.409E-2,2.385E-2,2.3689999999999999E-2,null,48,0,2.4469999999999999E-2,2.359E-2,2.3220000000000001E-2,2.2970000000000001E-2,2.2800000000000001E-2,null,48,0,null,null,null,null,null,null,48,0,null,null,null,null,null,null,48,0,null,null,null,null,null,null,48,0,null,null,null,null,null,null,null,null,null,null,48,0,null,null,null,null,null,null,48,0,null,null,null,null,null,null,48,0,null,null,null,null,null,null,48,0,null,null,null,null,null,null,48,0]
[36,"Fair Market Value Scrubber Lease",null,60,0,2.198E-2,2.1129999999999999E-2,2.078E-2,2.051E-2,2.0379999999999999E-2,null,60,0,2.1350000000000001E-2,2.0480000000000002E-2,2.0109999999999999E-2,1.9869999999999999E-2,1.9699999999999999E-2,null,60,0,2.1350000000000001E-2,2.0480000000000002E-2,2.0109999999999999E-2,1.9869999999999999E-2,1.9699999999999999E-2,null,60,0,2.0729999999999998E-2,1.984E-2,1.9449999999999999E-2,1.9189999999999999E-2,1.9019999999999999E-2,null,60,0,null,null,null,null,null,null,60,0,null,null,null,null,null,null,60,0,null,null,null,null,null,null,60,0,null,null,null,null,null,null,null,null,null,null,60,0,null,null,null,null,null,null,60,0,null,null,null,null,null,null,60,0,null,null,null,null,null,null,60,0,null,null,null,null,null,null,60,0]
[48,"10% Option"]
[60,"Municipal $1 Buyout Lease - Monthly Pmt",null,12,0,{"$f":"IF(AND(F$3<=$B$2,$B$2<G$3,$B$3=$A$8,$B$4=D2),F6*$B$2,0)","v":0},{"$f":"IF(AND(G$3<=$B$2,$B$2<H$3,$B$3=$A$8,$B$4=D2),G6*$B$2,0)","v":0},{"$f":"IF(AND(H$3<=$B$2,$B$2<I$3,$B$3=$A$8,$B$4=D2),H6*$B$2,0)","v":0},{"$f":"IF(AND(I$3<=$B$2,$B$2<J$3,$B$3=$A$8,$B$4=D2),I6*$B$2,0)","v":0},{"$f":"IF(AND(J$3<=$B$2,$B$3=$A$8,$B$4=D2),J6*$B$2,0)","v":0},null,12,0,{"$f":"IF(AND(N$3<=$B$2,$B$2<O$3,$B$3=$A$8,$B$4=L2),N6*$B$2,0)","v":0},{"$f":"IF(AND(O$3<=$B$2,$B$2<P$3,$B$3=$A$8,$B$4=L2),O6*$B$2,0)","v":0},{"$f":"IF(AND(P$3<=$B$2,$B$2<Q$3,$B$3=$A$8,$B$4=L2),P6*$B$2,0)","v":0},{"$f":"IF(AND(Q$3<=$B$2,$B$2<R$3,$B$3=$A$8,$B$4=L2),Q6*$B$2,0)","v":0},{"$f":"IF(AND(R$3<=$B$2,$B$3=$A$8,$B$4=L2),R6*$B$2,0)","v":0},null,12,0,{"$f":"IF(AND(V$3<=$B$2,$B$2<W$3,$B$3=$A$8,$B$4=T2),V6*$B$2,0)","v":0},{"$f":"IF(AND(W$3<=$B$2,$B$2<X$3,$B$3=$A$8,$B$4=T2),W6*$B$2,0)","v":0},{"$f":"IF(AND(X$3<=$B$2,$B$2<Y$3,$B$3=$A$8,$B$4=T2),X6*$B$2,0)","v":0},{"$f":"IF(AND(Y$3<=$B$2,$B$2<Z$3,$B$3=$A$8,$B$4=T2),Y6*$B$2,0)","v":0},{"$f":"IF(AND(Z$3<=$B$2,$B$3=$A$8,$B$4=T2),Z6*$B$2,0)","v":0},null,12,0,{"$f":"IF(AND(AD$3<=$B$2,$B$2<AE$3,$B$3=$A$8,$B$4=AB2),AD6*$B$2,0)","v":0},{"$f":"IF(AND(AE$3<=$B$2,$B$2<AF$3,$B$3=$A$8,$B$4=AB2),AE6*$B$2,0)","v":0},{"$f":"IF(AND(AF$3<=$B$2,$B$2<AG$3,$B$3=$A$8,$B$4=AB2),AF6*$B$2,0)","v":0},{"$f":"IF(AND(AG$3<=$B$2,$B$2<AH$3,$B$3=$A$8,$B$4=AB2),AG6*$B$2,0)","v":0},{"$f":"IF(AND(AH$3<=$B$2,$B$3=$A$8,$B$4=AB2),AH6*$B$2,0)","v":0},null,12,0,{"$f":"IF(AND(AL$3<=$B$2,$B$2<AM$3,$B$3=$A$8,$B$4=AJ2),AL6*$B$2,0)","v":0},{"$f":"IF(AND(AM$3<=$B$2,$B$2<AN$3,$B$3=$A$8,$B$4=AJ2),AM6*$B$2,0)","v":0},{"$f":"IF(AND(AN$3<=$B$2,$B$2<AO$3,$B$3=$A$8,$B$4=AJ2),AN6*$B$2,0)","v":0},{"$f":"IF(AND(AO$3<=$B$2,$B$2<AP$3,$B$3=$A$8,$B$4=AJ2),AO6*$B$2,0)","v":0},{"$f":"IF(AND(AP$3<=$B$2,$B$3=$A$8,$B$4=AJ2),AP6*$B$2,0)","v":0},null,12,0,{"$f":"IF(AND(AT$3<=$B$2,$B$2<AU$3,$B$3=$A$8,$B$4=AR2),AT6*$B$2,0)","v":0},{"$f":"IF(AND(AU$3<=$B$2,$B$2<AV$3,$B$3=$A$8,$B$4=AR2),AU6*$B$2,0)","v":0},{"$f":"IF(AND(AV$3<=$B$2,$B$2<AW$3,$B$3=$A$8,$B$4=AR2),AV6*$B$2,0)","v":0},{"$f":"IF(AND(AW$3<=$B$2,$B$2<AX$3,$B$3=$A$8,$B$4=AR2),AW6*$B$2,0)","v":0},{"$f":"IF(AND(AX$3<=$B$2,$B$3=$A$8,$B$4=AR2),AX6*$B$2,0)","v":0},null,12,0,{"$f":"IF(AND(BB$3<=$B$2,$B$2<BC$3,$B$3=$A$8,$B$4=AZ2),BB6*$B$2,0)","v":0},{"$f":"IF(AND(BC$3<=$B$2,$B$2<BD$3,$B$3=$A$8,$B$4=AZ2),BC6*$B$2,0)","v":0},{"$f":"IF(AND(BD$3<=$B$2,$B$2<BE$3,$B$3=$A$8,$B$4=AZ2),BD6*$B$2,0)","v":0},{"$f":"IF(AND(BE$3<=$B$2,$B$2<BF$3,$B$3=$A$8,$B$4=AZ2),BE6*$B$2,0)","v":0},{"$f":"IF(AND(BF$3<=$B$2,$B$3=$A$8,$B$4=AZ2),BF6*$B$2,0)","v":0},null,12,0,{"$f":"IF(AND(BJ$3<=$B$2,$B$2<BK$3,$B$3=$A$8,$B$4=BH2),BJ6*$B$2,0)","v":0},{"$f":"IF(AND(BK$3<=$B$2,$B$2<BL$3,$B$3=$A$8,$B$4=BH2),BK6*$B$2,0)","v":0},{"$f":"IF(AND(BL$3<=$B$2,$B$2<BM$3,$B$3=$A$8,$B$4=BH2),BL6*$B$2,0)","v":0},{"$f":"IF(AND(BM$3<=$B$2,$B$2<BN$3,$B$3=$A$8,$B$4=BH2),BM6*$B$2,0)","v":0},{"$f":"IF(AND(BN$3<=$B$2,$B$3=$A$8,$B$4=BH2),BN6*$B$2,0)","v":0},null,9,0,{"$f":"IF(AND(BR$3<=$B$2,$B$3=$A$13,$B$4=BP2),BR6*$B$2,0)","v":0},null,12,0,{"$f":"IF(AND(BV$3<=$B$2,$B$2<BW$3,$B$3=$A$8,$B$4=BT2),BV6*$B$2,0)","v":0},{"$f":"IF(AND(BW$3<=$B$2,$B$2<BX$3,$B$3=$A$8,$B$4=BT2),BW6*$B$2,0)","v":0},{"$f":"IF(AND(BX$3<=$B$2,$B$2<BY$3,$B$3=$A$8,$B$4=BT2),BX6*$B$2,0)","v":0},{"$f":"IF(AND(BY$3<=$B$2,$B$2<BZ$3,$B$3=$A$8,$B$4=BT2),BY6*$B$2,0)","v":0},{"$f":"IF(AND(BZ$3<=$B$2,$B$3=$A$8,$B$4=BT2),BZ6*$B$2,0)","v":0},null,12,0,{"$f":"IF(AND(CD$3<=$B$2,$B$2<CE$3,$B$3=$A$8,$B$4=CB2),CD6*$B$2,0)","v":0},{"$f":"IF(AND(CE$3<=$B$2,$B$2<CF$3,$B$3=$A$8,$B$4=CB2),CE6*$B$2,0)","v":0},{"$f":"IF(AND(CF$3<=$B$2,$B$2<CG$3,$B$3=$A$8,$B$4=CB2),CF6*$B$2,0)","v":0},{"$f":"IF(AND(CG$3<=$B$2,$B$2<CH$3,$B$3=$A$8,$B$4=CB2),CG6*$B$2,0)","v":0},{"$f":"IF(AND(CH$3<=$B$2,$B$3=$A$8,$B$4=CB2),CH6*$B$2,0)","v":0},null,12,0,{"$f":"IF(AND(CL$3<=$B$2,$B$2<CM$3,$B$3=$A$8,$B$4=CJ2),CL6*$B$2,0)","v":0},{"$f":"IF(AND(CM$3<=$B$2,$B$2<CN$3,$B$3=$A$8,$B$4=CJ2),CM6*$B$2,0)","v":0},{"$f":"IF(AND(CN$3<=$B$2,$B$2<CO$3,$B$3=$A$8,$B$4=CJ2),CN6*$B$2,0)","v":0},{"$f":"IF(AND(CO$3<=$B$2,$B$2<CP$3,$B$3=$A$8,$B$4=CJ2),CO6*$B$2,0)","v":0},{"$f":"IF(AND(CP$3<=$B$2,$B$3=$A$8,$B$4=CJ2),CP6*$B$2,0)","v":0},null,12,0,{"$f":"IF(AND(CT$3<=$B$2,$B$2<CU$3,$B$3=$A$8,$B$4=CR2),CT6*$B$2,0)","v":0},{"$f":"IF(AND(CU$3<=$B$2,$B$2<CV$3,$B$3=$A$8,$B$4=CR2),CU6*$B$2,0)","v":0},{"$f":"IF(AND(CV$3<=$B$2,$B$2<CW$3,$B$3=$A$8,$B$4=CR2),CV6*$B$2,0)","v":0},{"$f":"IF(AND(CW$3<=$B$2,$B$2<CX$3,$B$3=$A$8,$B$4=CR2),CW6*$B$2,0)","v":0},{"$f":"IF(AND(CX$3<=$B$2,$B$3=$A$8,$B$4=CR2),CX6*$B$2,0)","v":0},null,12,0,{"$f":"IF(AND(DB$3<=$B$2,$B$2<DC$3,$B$3=$A$8,$B$4=CZ2),DB6*$B$2,0)","v":0},{"$f":"IF(AND(DC$3<=$B$2,$B$2<DD$3,$B$3=$A$8,$B$4=CZ2),DC6*$B$2,0)","v":0},{"$f":"IF(AND(DD$3<=$B$2,$B$2<DE$3,$B$3=$A$8,$B$4=CZ2),DD6*$B$2,0)","v":0},{"$f":"IF(AND(DE$3<=$B$2,$B$2<DF$3,$B$3=$A$8,$B$4=CZ2),DE6*$B$2,0)","v":0},{"$f":"IF(AND(DF$3<=$B$2,$B$3=$A$8,$B$4=CZ2),DF6*$B$2,0)","v":0}]
[9,"Muni $1 Out Quarterly",null,24,0,{"$f":"IF(AND(F$3<=$B$2,$B$2<G$3,$B$3=$A$9,$B$4=D2),F7*$B$2,0)","v":0},{"$f":"IF(AND(G$3<=$B$2,$B$2<H$3,$B$3=$A$9,$B$4=D2),G7*$B$2,0)","v":0},{"$f":"IF(AND(H$3<=$B$2,$B$2<I$3,$B$3=$A$9,$B$4=D2),H7*$B$2,0)","v":0},{"$f":"IF(AND(I$3<=$B$2,$B$2<J$3,$B$3=$A$9,$B$4=D2),I7*$B$2,0)","v":0},{"$f":"IF(AND(J$3<=$B$2,$B$3=$A$9,$B$4=D2),J7*$B$2,0)","v":0},null,24,0,{"$f":"IF(AND(N$3<=$B$2,$B$2<O$3,$B$3=$A$9,$B$4=L2),N7*$B$2,0)","v":0},{"$f":"IF(AND(O$3<=$B$2,$B$2<P$3,$B$3=$A$9,$B$4=L2),O7*$B$2,0)","v":0},{"$f":"IF(AND(P$3<=$B$2,$B$2<Q$3,$B$3=$A$9,$B$4=L2),P7*$B$2,0)","v":0},{"$f":"IF(AND(Q$3<=$B$2,$B$2<R$3,$B$3=$A$9,$B$4=L2),Q7*$B$2,0)","v":0},{"$f":"IF(AND(R$3<=$B$2,$B$3=$A$9,$B$4=L2),R7*$B$2,0)","v":0},null,24,0,{"$f":"IF(AND(V$3<=$B$2,$B$2<W$3,$B$3=$A$9,$B$4=T2),V7*$B$2,0)","v":0},{"$f":"IF(AND(W$3<=$B$2,$B$2<X$3,$B$3=$A$9,$B$4=T2),W7*$B$2,0)","v":0},{"$f":"IF(AND(X$3<=$B$2,$B$2<Y$3,$B$3=$A$9,$B$4=T2),X7*$B$2,0)","v":0},{"$f":"IF(AND(Y$3<=$B$2,$B$2<Z$3,$B$3=$A$9,$B$4=T2),Y7*$B$2,0)","v":0},{"$f":"IF(AND(Z$3<=$B$2,$B$3=$A$9,$B$4=T2),Z7*$B$2,0)","v":0},null,24,0,{"$f":"IF(AND(AD$3<=$B$2,$B$2<AE$3,$B$3=$A$9,$B$4=AB2),AD7*$B$2,0)","v":0},{"$f":"IF(AND(AE$3<=$B$2,$B$2<AF$3,$B$3=$A$9,$B$4=AB2),AE7*$B$2,0)","v":0},{"$f":"IF(AND(AF$3<=$B$2,$B$2<AG$3,$B$3=$A$9,$B$4=AB2),AF7*$B$2,0)","v":0},{"$f":"IF(AND(AG$3<=$B$2,$B$2<AH$3,$B$3=$A$9,$B$4=AB2),AG7*$B$2,0)","v":0},{"$f":"IF(AND(AH$3<=$B$2,$B$3=$A$9,$B$4=AB2),AH7*$B$2,0)","v":0},null,24,0,{"$f":"IF(AND(AL$3<=$B$2,$B$2<AM$3,$B$3=$A$9,$B$4=AJ2),AL7*$B$2,0)","v":0},{"$f":"IF(AND(AM$3<=$B$2,$B$2<AN$3,$B$3=$A$9,$B$4=AJ2),AM7*$B$2,0)","v":0},{"$f":"IF(AND(AN$3<=$B$2,$B$2<AO$3,$B$3=$A$9,$B$4=AJ2),AN7*$B$2,0)","v":0},{"$f":"IF(AND(AO$3<=$B$2,$B$2<AP$3,$B$3=$A$9,$B$4=AJ2),AO7*$B$2,0)","v":0},{"$f":"IF(AND(AP$3<=$B$2,$B$3=$A$9,$B$4=AJ2),AP7*$B$2,0)","v":0},null,24,0,{"$f":"IF(AND(AT$3<=$B$2,$B$2<AU$3,$B$3=$A$9,$B$4=AR2),AT7*$B$2,0)","v":0},{"$f":"IF(AND(AU$3<=$B$2,$B$2<AV$3,$B$3=$A$9,$B$4=AR2),AU7*$B$2,0)","v":0},{"$f":"IF(AND(AV$3<=$B$2,$B$2<AW$3,$B$3=$A$9,$B$4=AR2),AV7*$B$2,0)","v":0},{"$f":"IF(AND(AW$3<=$B$2,$B$2<AX$3,$B$3=$A$9,$B$4=AR2),AW7*$B$2,0)","v":0},{"$f":"IF(AND(AX$3<=$B$2,$B$3=$A$9,$B$4=AR2),AX7*$B$2,0)","v":0},null,24,0,{"$f":"IF(AND(BB$3<=$B$2,$B$2<BC$3,$B$3=$A$9,$B$4=AZ2),BB7*$B$2,0)","v":0},{"$f":"IF(AND(BC$3<=$B$2,$B$2<BD$3,$B$3=$A$9,$B$4=AZ2),BC7*$B$2,0)","v":0},{"$f":"IF(AND(BD$3<=$B$2,$B$2<BE$3,$B$3=$A$9,$B$4=AZ2),BD7*$B$2,0)","v":0},{"$f":"IF(AND(BE$3<=$B$2,$B$2<BF$3,$B$3=$A$9,$B$4=AZ2),BE7*$B$2,0)","v":0},{"$f":"IF(AND(BF$3<=$B$2,$B$3=$A$9,$B$4=AZ2),BF7*$B$2,0)","v":0},null,24,0,{"$f":"IF(AND(BJ$3<=$B$2,$B$2<BK$3,$B$3=$A$9,$B$4=BH2),BJ7*$B$2,0)","v":0},{"$f":"IF(AND(BK$3<=$B$2,$B$2<BL$3,$B$3=$A$9,$B$4=BH2),BK7*$B$2,0)","v":0},{"$f":"IF(AND(BL$3<=$B$2,$B$2<BM$3,$B$3=$A$9,$B$4=BH2),BL7*$B$2,0)","v":0},{"$f":"IF(AND(BM$3<=$B$2,$B$2<BN$3,$B$3=$A$9,$B$4=BH2),BM7*$B$2,0)","v":0},{"$f":"IF(AND(BN$3<=$B$2,$B$3=$A$9,$B$4=BH2),BN7*$B$2,0)","v":0},null,12,0,{"$f":"IF(AND(BR$3<=$B$2,$B$3=$A$8,$B$4=BP2),BR7*$B$2,0)","v":0},null,24,0,{"$f":"IF(AND(BV$3<=$B$2,$B$2<BW$3,$B$3=$A$9,$B$4=BT2),BV7*$B$2,0)","v":0},{"$f":"IF(AND(BW$3<=$B$2,$B$2<BX$3,$B$3=$A$9,$B$4=BT2),BW7*$B$2,0)","v":0},{"$f":"IF(AND(BX$3<=$B$2,$B$2<BY$3,$B$3=$A$9,$B$4=BT2),BX7*$B$2,0)","v":0},{"$f":"IF(AND(BY$3<=$B$2,$B$2<BZ$3,$B$3=$A$9,$B$4=BT2),BY7*$B$2,0)","v":0},{"$f":"IF(AND(BZ$3<=$B$2,$B$3=$A$9,$B$4=BT2),BZ7*$B$2,0)","v":0},null,24,0,{"$f":"IF(AND(CD$3<=$B$2,$B$2<CE$3,$B$3=$A$9,$B$4=CB2),CD7*$B$2,0)","v":0},{"$f":"IF(AND(CE$3<=$B$2,$B$2<CF$3,$B$3=$A$9,$B$4=CB2),CE7*$B$2,0)","v":0},{"$f":"IF(AND(CF$3<=$B$2,$B$2<CG$3,$B$3=$A$9,$B$4=CB2),CF7*$B$2,0)","v":0},{"$f":"IF(AND(CG$3<=$B$2,$B$2<CH$3,$B$3=$A$9,$B$4=CB2),CG7*$B$2,0)","v":0},{"$f":"IF(AND(CH$3<=$B$2,$B$3=$A$9,$B$4=CB2),CH7*$B$2,0)","v":0},null,24,0,{"$f":"IF(AND(CL$3<=$B$2,$B$2<CM$3,$B$3=$A$9,$B$4=CJ2),CL7*$B$2,0)","v":0},{"$f":"IF(AND(CM$3<=$B$2,$B$2<CN$3,$B$3=$A$9,$B$4=CJ2),CM7*$B$2,0)","v":0},{"$f":"IF(AND(CN$3<=$B$2,$B$2<CO$3,$B$3=$A$9,$B$4=CJ2),CN7*$B$2,0)","v":0},{"$f":"IF(AND(CO$3<=$B$2,$B$2<CP$3,$B$3=$A$9,$B$4=CJ2),CO7*$B$2,0)","v":0},{"$f":"IF(AND(CP$3<=$B$2,$B$3=$A$9,$B$4=CJ2),CP7*$B$2,0)","v":0},null,24,0,{"$f":"IF(AND(CT$3<=$B$2,$B$2<CU$3,$B$3=$A$9,$B$4=CR2),CT7*$B$2,0)","v":0},{"$f":"IF(AND(CU$3<=$B$2,$B$2<CV$3,$B$3=$A$9,$B$4=CR2),CU7*$B$2,0)","v":0},{"$f":"IF(AND(CV$3<=$B$2,$B$2<CW$3,$B$3=$A$9,$B$4=CR2),CV7*$B$2,0)","v":0},{"$f":"IF(AND(CW$3<=$B$2,$B$2<CX$3,$B$3=$A$9,$B$4=CR2),CW7*$B$2,0)","v":0},{"$f":"IF(AND(CX$3<=$B$2,$B$3=$A$9,$B$4=CR2),CX7*$B$2,0)","v":0},null,24,0,{"$f":"IF(AND(DB$3<=$B$2,$B$2<DC$3,$B$3=$A$9,$B$4=CZ2),DB7*$B$2,0)","v":0},{"$f":"IF(AND(DC$3<=$B$2,$B$2<DD$3,$B$3=$A$9,$B$4=CZ2),DC7*$B$2,0)","v":0},{"$f":"IF(AND(DD$3<=$B$2,$B$2<DE$3,$B$3=$A$9,$B$4=CZ2),DD7*$B$2,0)","v":0},{"$f":"IF(AND(DE$3<=$B$2,$B$2<DF$3,$B$3=$A$9,$B$4=CZ2),DE7*$B$2,0)","v":0},{"$f":"IF(AND(DF$3<=$B$2,$B$3=$A$9,$B$4=CZ2),DF7*$B$2,0)","v":0}]
[18,"Muni $1 Out Semi-Annually",null,36,0,{"$f":"IF(AND(F$3<=$B$2,$B$2<G$3,$B$3=$A$10,$B$4=D2),F8*$B$2,0)","v":0},{"$f":"IF(AND(G$3<=$B$2,$B$2<H$3,$B$3=$A$10,$B$4=D2),G8*$B$2,0)","v":0},{"$f":"IF(AND(H$3<=$B$2,$B$2<I$3,$B$3=$A$10,$B$4=D2),H8*$B$2,0)","v":0},{"$f":"IF(AND(I$3<=$B$2,$B$2<J$3,$B$3=$A$10,$B$4=D2),I8*$B$2,0)","v":0},{"$f":"IF(AND(J$3<=$B$2,$B$3=$A$10,$B$4=D2),J8*$B$2,0)","v":0},null,36,0,{"$f":"IF(AND(N$3<=$B$2,$B$2<O$3,$B$3=$A$10,$B$4=L2),N8*$B$2,0)","v":0},{"$f":"IF(AND(O$3<=$B$2,$B$2<P$3,$B$3=$A$10,$B$4=L2),O8*$B$2,0)","v":0},{"$f":"IF(AND(P$3<=$B$2,$B$2<Q$3,$B$3=$A$10,$B$4=L2),P8*$B$2,0)","v":0},{"$f":"IF(AND(Q$3<=$B$2,$B$2<R$3,$B$3=$A$10,$B$4=L2),Q8*$B$2,0)","v":0},{"$f":"IF(AND(R$3<=$B$2,$B$3=$A$10,$B$4=L2),R8*$B$2,0)","v":0},null,36,0,{"$f":"IF(AND(V$3<=$B$2,$B$2<W$3,$B$3=$A$10,$B$4=T2),V8*$B$2,0)","v":0},{"$f":"IF(AND(W$3<=$B$2,$B$2<X$3,$B$3=$A$10,$B$4=T2),W8*$B$2,0)","v":0},{"$f":"IF(AND(X$3<=$B$2,$B$2<Y$3,$B$3=$A$10,$B$4=T2),X8*$B$2,0)","v":0},{"$f":"IF(AND(Y$3<=$B$2,$B$2<Z$3,$B$3=$A$10,$B$4=T2),Y8*$B$2,0)","v":0},{"$f":"IF(AND(Z$3<=$B$2,$B$3=$A$10,$B$4=T2),Z8*$B$2,0)","v":0},null,36,0,{"$f":"IF(AND(AD$3<=$B$2,$B$2<AE$3,$B$3=$A$10,$B$4=AB2),AD8*$B$2,0)","v":0},{"$f":"IF(AND(AE$3<=$B$2,$B$2<AF$3,$B$3=$A$10,$B$4=AB2),AE8*$B$2,0)","v":0},{"$f":"IF(AND(AF$3<=$B$2,$B$2<AG$3,$B$3=$A$10,$B$4=AB2),AF8*$B$2,0)","v":0},{"$f":"IF(AND(AG$3<=$B$2,$B$2<AH$3,$B$3=$A$10,$B$4=AB2),AG8*$B$2,0)","v":0},{"$f":"IF(AND(AH$3<=$B$2,$B$3=$A$10,$B$4=AB2),AH8*$B$2,0)","v":0},null,36,0,{"$f":"IF(AND(AL$3<=$B$2,$B$2<AM$3,$B$3=$A$10,$B$4=AJ2),AL8*$B$2,0)","v":0},{"$f":"IF(AND(AM$3<=$B$2,$B$2<AN$3,$B$3=$A$10,$B$4=AJ2),AM8*$B$2,0)","v":0},{"$f":"IF(AND(AN$3<=$B$2,$B$2<AO$3,$B$3=$A$10,$B$4=AJ2),AN8*$B$2,0)","v":0},{"$f":"IF(AND(AO$3<=$B$2,$B$2<AP$3,$B$3=$A$10,$B$4=AJ2),AO8*$B$2,0)","v":0},{"$f":"IF(AND(AP$3<=$B$2,$B$3=$A$10,$B$4=AJ2),AP8*$B$2,0)","v":0},null,36,0,{"$f":"IF(AND(AT$3<=$B$2,$B$2<AU$3,$B$3=$A$10,$B$4=AR2),AT8*$B$2,0)","v":0},{"$f":"IF(AND(AU$3<=$B$2,$B$2<AV$3,$B$3=$A$10,$B$4=AR2),AU8*$B$2,0)","v":0},{"$f":"IF(AND(AV$3<=$B$2,$B$2<AW$3,$B$3=$A$10,$B$4=AR2),AV8*$B$2,0)","v":0},{"$f":"IF(AND(AW$3<=$B$2,$B$2<AX$3,$B$3=$A$10,$B$4=AR2),AW8*$B$2,0)","v":0},{"$f":"IF(AND(AX$3<=$B$2,$B$3=$A$10,$B$4=AR2),AX8*$B$2,0)","v":0},null,36,0,{"$f":"IF(AND(BB$3<=$B$2,$B$2<BC$3,$B$3=$A$10,$B$4=AZ2),BB8*$B$2,0)","v":0},{"$f":"IF(AND(BC$3<=$B$2,$B$2<BD$3,$B$3=$A$10,$B$4=AZ2),BC8*$B$2,0)","v":0},{"$f":"IF(AND(BD$3<=$B$2,$B$2<BE$3,$B$3=$A$10,$B$4=AZ2),BD8*$B$2,0)","v":0},{"$f":"IF(AND(BE$3<=$B$2,$B$2<BF$3,$B$3=$A$10,$B$4=AZ2),BE8*$B$2,0)","v":0},{"$f":"IF(AND(BF$3<=$B$2,$B$3=$A$10,$B$4=AZ2),BF8*$B$2,0)","v":0},null,36,0,{"$f":"IF(AND(BJ$3<=$B$2,$B$2<BK$3,$B$3=$A$10,$B$4=BH2),BJ8*$B$2,0)","v":0},{"$f":"IF(AND(BK$3<=$B$2,$B$2<BL$3,$B$3=$A$10,$B$4=BH2),BK8*$B$2,0)","v":0},{"$f":"IF(AND(BL$3<=$B$2,$B$2<BM$3,$B$3=$A$10,$B$4=BH2),BL8*$B$2,0)","v":0},{"$f":"IF(AND(BM$3<=$B$2,$B$2<BN$3,$B$3=$A$10,$B$4=BH2),BM8*$B$2,0)","v":0},{"$f":"IF(AND(BN$3<=$B$2,$B$3=$A$10,$B$4=BH2),BN8*$B$2,0)","v":0},null,18,0,{"$f":"IF(AND(BR$3<=$B$2,$B$3=$A$14,$B$4=BP2),BR8*$B$2,0)","v":0},null,36,0,{"$f":"IF(AND(BV$3<=$B$2,$B$2<BW$3,$B$3=$A$10,$B$4=BT2),BV8*$B$2,0)","v":0},{"$f":"IF(AND(BW$3<=$B$2,$B$2<BX$3,$B$3=$A$10,$B$4=BT2),BW8*$B$2,0)","v":0},{"$f":"IF(AND(BX$3<=$B$2,$B$2<BY$3,$B$3=$A$10,$B$4=BT2),BX8*$B$2,0)","v":0},{"$f":"IF(AND(BY$3<=$B$2,$B$2<BZ$3,$B$3=$A$10,$B$4=BT2),BY8*$B$2,0)","v":0},{"$f":"IF(AND(BZ$3<=$B$2,$B$3=$A$10,$B$4=BT2),BZ8*$B$2,0)","v":0},null,36,0,{"$f":"IF(AND(CD$3<=$B$2,$B$2<CE$3,$B$3=$A$10,$B$4=CB2),CD8*$B$2,0)","v":0},{"$f":"IF(AND(CE$3<=$B$2,$B$2<CF$3,$B$3=$A$10,$B$4=CB2),CE8*$B$2,0)","v":0},{"$f":"IF(AND(CF$3<=$B$2,$B$2<CG$3,$B$3=$A$10,$B$4=CB2),CF8*$B$2,0)","v":0},{"$f":"IF(AND(CG$3<=$B$2,$B$2<CH$3,$B$3=$A$10,$B$4=CB2),CG8*$B$2,0)","v":0},{"$f":"IF(AND(CH$3<=$B$2,$B$3=$A$10,$B$4=CB2),CH8*$B$2,0)","v":0},null,36,0,{"$f":"IF(AND(CL$3<=$B$2,$B$2<CM$3,$B$3=$A$10,$B$4=CJ2),CL8*$B$2,0)","v":0},{"$f":"IF(AND(CM$3<=$B$2,$B$2<CN$3,$B$3=$A$10,$B$4=CJ2),CM8*$B$2,0)","v":0},{"$f":"IF(AND(CN$3<=$B$2,$B$2<CO$3,$B$3=$A$10,$B$4=CJ2),CN8*$B$2,0)","v":0},{"$f":"IF(AND(CO$3<=$B$2,$B$2<CP$3,$B$3=$A$10,$B$4=CJ2),CO8*$B$2,0)","v":0},{"$f":"IF(AND(CP$3<=$B$2,$B$3=$A$10,$B$4=CJ2),CP8*$B$2,0)","v":0},null,36,0,{"$f":"IF(AND(CT$3<=$B$2,$B$2<CU$3,$B$3=$A$10,$B$4=CR2),CT8*$B$2,0)","v":0},{"$f":"IF(AND(CU$3<=$B$2,$B$2<CV$3,$B$3=$A$10,$B$4=CR2),CU8*$B$2,0)","v":0},{"$f":"IF(AND(CV$3<=$B$2,$B$2<CW$3,$B$3=$A$10,$B$4=CR2),CV8*$B$2,0)","v":0},{"$f":"IF(AND(CW$3<=$B$2,$B$2<CX$3,$B$3=$A$10,$B$4=CR2),CW8*$B$2,0)","v":0},{"$f":"IF(AND(CX$3<=$B$2,$B$3=$A$10,$B$4=CR2),CX8*$B$2,0)","v":0},null,36,0,{"$f":"IF(AND(DB$3<=$B$2,$B$2<DC$3,$B$3=$A$10,$B$4=CZ2),DB8*$B$2,0)","v":0},{"$f":"IF(AND(DC$3<=$B$2,$B$2<DD$3,$B$3=$A$10,$B$4=CZ2),DC8*$B$2,0)","v":0},{"$f":"IF(AND(DD$3<=$B$2,$B$2<DE$3,$B$3=$A$10,$B$4=CZ2),DD8*$B$2,0)","v":0},{"$f":"IF(AND(DE$3<=$B$2,$B$2<DF$3,$B$3=$A$10,$B$4=CZ2),DE8*$B$2,0)","v":0},{"$f":"IF(AND(DF$3<=$B$2,$B$3=$A$10,$B$4=CZ2),DF8*$B$2,0)","v":0}]
[null,"Municipal $1 Buyout Lease - Annual Pmt",null,48,0,{"$f":"IF(AND(F$3<=$B$2,$B$2<G$3,$B$3=$A$11,$B$4=D2),F9*$B$2,0)","v":0},{"$f":"IF(AND(G$3<=$B$2,$B$2<H$3,$B$3=$A$11,$B$4=D2),G9*$B$2,0)","v":0},{"$f":"IF(AND(H$3<=$B$2,$B$2<I$3,$B$3=$A$11,$B$4=D2),H9*$B$2,0)","v":0},{"$f":"IF(AND(I$3<=$B$2,$B$2<J$3,$B$3=$A$11,$B$4=D2),I9*$B$2,0)","v":0},{"$f":"IF(AND(J$3<=$B$2,$B$3=$A$11,$B$4=D2),J9*$B$2,0)","v":0},null,48,0,{"$f":"IF(AND(N$3<=$B$2,$B$2<O$3,$B$3=$A$11,$B$4=L2),N9*$B$2,0)","v":0},{"$f":"IF(AND(O$3<=$B$2,$B$2<P$3,$B$3=$A$11,$B$4=L2),O9*$B$2,0)","v":0},{"$f":"IF(AND(P$3<=$B$2,$B$2<Q$3,$B$3=$A$11,$B$4=L2),P9*$B$2,0)","v":0},{"$f":"IF(AND(Q$3<=$B$2,$B$2<R$3,$B$3=$A$11,$B$4=L2),Q9*$B$2,0)","v":0},{"$f":"IF(AND(R$3<=$B$2,$B$3=$A$11,$B$4=L2),R9*$B$2,0)","v":0},null,48,0,{"$f":"IF(AND(V$3<=$B$2,$B$2<W$3,$B$3=$A$11,$B$4=T2),V9*$B$2,0)","v":0},{"$f":"IF(AND(W$3<=$B$2,$B$2<X$3,$B$3=$A$11,$B$4=T2),W9*$B$2,0)","v":0},{"$f":"IF(AND(X$3<=$B$2,$B$2<Y$3,$B$3=$A$11,$B$4=T2),X9*$B$2,0)","v":0},{"$f":"IF(AND(Y$3<=$B$2,$B$2<Z$3,$B$3=$A$11,$B$4=T2),Y9*$B$2,0)","v":0},{"$f":"IF(AND(Z$3<=$B$2,$B$3=$A$11,$B$4=T2),Z9*$B$2,0)","v":0},null,48,0,{"$f":"IF(AND(AD$3<=$B$2,$B$2<AE$3,$B$3=$A$11,$B$4=AB2),AD9*$B$2,0)","v":0},{"$f":"IF(AND(AE$3<=$B$2,$B$2<AF$3,$B$3=$A$11,$B$4=AB2),AE9*$B$2,0)","v":0},{"$f":"IF(AND(AF$3<=$B$2,$B$2<AG$3,$B$3=$A$11,$B$4=AB2),AF9*$B$2,0)","v":0},{"$f":"IF(AND(AG$3<=$B$2,$B$2<AH$3,$B$3=$A$11,$B$4=AB2),AG9*$B$2,0)","v":0},{"$f":"IF(AND(AH$3<=$B$2,$B$3=$A$11,$B$4=AB2),AH9*$B$2,0)","v":0},null,48,0,{"$f":"IF(AND(AL$3<=$B$2,$B$2<AM$3,$B$3=$A$11,$B$4=AJ2),AL9*$B$2,0)","v":0},{"$f":"IF(AND(AM$3<=$B$2,$B$2<AN$3,$B$3=$A$11,$B$4=AJ2),AM9*$B$2,0)","v":0},{"$f":"IF(AND(AN$3<=$B$2,$B$2<AO$3,$B$3=$A$11,$B$4=AJ2),AN9*$B$2,0)","v":0},{"$f":"IF(AND(AO$3<=$B$2,$B$2<AP$3,$B$3=$A$11,$B$4=AJ2),AO9*$B$2,0)","v":0},{"$f":"IF(AND(AP$3<=$B$2,$B$3=$A$11,$B$4=AJ2),AP9*$B$2,0)","v":0},null,48,0,{"$f":"IF(AND(AT$3<=$B$2,$B$2<AU$3,$B$3=$A$11,$B$4=AR2),AT9*$B$2,0)","v":0},{"$f":"IF(AND(AU$3<=$B$2,$B$2<AV$3,$B$3=$A$11,$B$4=AR2),AU9*$B$2,0)","v":0},{"$f":"IF(AND(AV$3<=$B$2,$B$2<AW$3,$B$3=$A$11,$B$4=AR2),AV9*$B$2,0)","v":0},{"$f":"IF(AND(AW$3<=$B$2,$B$2<AX$3,$B$3=$A$11,$B$4=AR2),AW9*$B$2,0)","v":0},{"$f":"IF(AND(AX$3<=$B$2,$B$3=$A$11,$B$4=AR2),AX9*$B$2,0)","v":0},null,48,0,{"$f":"IF(AND(BB$3<=$B$2,$B$2<BC$3,$B$3=$A$11,$B$4=AZ2),BB9*$B$2,0)","v":0},{"$f":"IF(AND(BC$3<=$B$2,$B$2<BD$3,$B$3=$A$11,$B$4=AZ2),BC9*$B$2,0)","v":0},{"$f":"IF(AND(BD$3<=$B$2,$B$2<BE$3,$B$3=$A$11,$B$4=AZ2),BD9*$B$2,0)","v":0},{"$f":"IF(AND(BE$3<=$B$2,$B$2<BF$3,$B$3=$A$11,$B$4=AZ2),BE9*$B$2,0)","v":0},{"$f":"IF(AND(BF$3<=$B$2,$B$3=$A$11,$B$4=AZ2),BF9*$B$2,0)","v":0},null,48,0,{"$f":"IF(AND(BJ$3<=$B$2,$B$2<BK$3,$B$3=$A$11,$B$4=BH2),BJ9*$B$2,0)","v":0},{"$f":"IF(AND(BK$3<=$B$2,$B$2<BL$3,$B$3=$A$11,$B$4=BH2),BK9*$B$2,0)","v":0},{"$f":"IF(AND(BL$3<=$B$2,$B$2<BM$3,$B$3=$A$11,$B$4=BH2),BL9*$B$2,0)","v":0},{"$f":"IF(AND(BM$3<=$B$2,$B$2<BN$3,$B$3=$A$11,$B$4=BH2),BM9*$B$2,0)","v":0},{"$f":"IF(AND(BN$3<=$B$2,$B$3=$A$11,$B$4=BH2),BN9*$B$2,0)","v":0},null,null,null,null,null,48,0,{"$f":"IF(AND(BV$3<=$B$2,$B$2<BW$3,$B$3=$A$11,$B$4=BT2),BV9*$B$2,0)","v":0},{"$f":"IF(AND(BW$3<=$B$2,$B$2<BX$3,$B$3=$A$11,$B$4=BT2),BW9*$B$2,0)","v":0},{"$f":"IF(AND(BX$3<=$B$2,$B$2<BY$3,$B$3=$A$11,$B$4=BT2),BX9*$B$2,0)","v":0},{"$f":"IF(AND(BY$3<=$B$2,$B$2<BZ$3,$B$3=$A$11,$B$4=BT2),BY9*$B$2,0)","v":0},{"$f":"IF(AND(BZ$3<=$B$2,$B$3=$A$11,$B$4=BT2),BZ9*$B$2,0)","v":0},null,48,0,{"$f":"IF(AND(CD$3<=$B$2,$B$2<CE$3,$B$3=$A$11,$B$4=CB2),CD9*$B$2,0)","v":0},{"$f":"IF(AND(CE$3<=$B$2,$B$2<CF$3,$B$3=$A$11,$B$4=CB2),CE9*$B$2,0)","v":0},{"$f":"IF(AND(CF$3<=$B$2,$B$2<CG$3,$B$3=$A$11,$B$4=CB2),CF9*$B$2,0)","v":0},{"$f":"IF(AND(CG$3<=$B$2,$B$2<CH$3,$B$3=$A$11,$B$4=CB2),CG9*$B$2,0)","v":0},{"$f":"IF(AND(CH$3<=$B$2,$B$3=$A$11,$B$4=CB2),CH9*$B$2,0)","v":0},null,48,0,{"$f":"IF(AND(CL$3<=$B$2,$B$2<CM$3,$B$3=$A$11,$B$4=CJ2),CL9*$B$2,0)","v":0},{"$f":"IF(AND(CM$3<=$B$2,$B$2<CN$3,$B$3=$A$11,$B$4=CJ2),CM9*$B$2,0)","v":0},{"$f":"IF(AND(CN$3<=$B$2,$B$2<CO$3,$B$3=$A$11,$B$4=CJ2),CN9*$B$2,0)","v":0},{"$f":"IF(AND(CO$3<=$B$2,$B$2<CP$3,$B$3=$A$11,$B$4=CJ2),CO9*$B$2,0)","v":0},{"$f":"IF(AND(CP$3<=$B$2,$B$3=$A$11,$B$4=CJ2),CP9*$B$2,0)","v":0},null,48,0,{"$f":"IF(AND(CT$3<=$B$2,$B$2<CU$3,$B$3=$A$11,$B$4=CR2),CT9*$B$2,0)","v":0},{"$f":"IF(AND(CU$3<=$B$2,$B$2<CV$3,$B$3=$A$11,$B$4=CR2),CU9*$B$2,0)","v":0},{"$f":"IF(AND(CV$3<=$B$2,$B$2<CW$3,$B$3=$A$11,$B$4=CR2),CV9*$B$2,0)","v":0},{"$f":"IF(AND(CW$3<=$B$2,$B$2<CX$3,$B$3=$A$11,$B$4=CR2),CW9*$B$2,0)","v":0},{"$f":"IF(AND(CX$3<=$B$2,$B$3=$A$11,$B$4=CR2),CX9*$B$2,0)","v":0},null,48,0,{"$f":"IF(AND(DB$3<=$B$2,$B$2<DC$3,$B$3=$A$11,$B$4=CZ2),DB9*$B$2,0)","v":0},{"$f":"IF(AND(DC$3<=$B$2,$B$2<DD$3,$B$3=$A$11,$B$4=CZ2),DC9*$B$2,0)","v":0},{"$f":"IF(AND(DD$3<=$B$2,$B$2<DE$3,$B$3=$A$11,$B$4=CZ2),DD9*$B$2,0)","v":0},{"$f":"IF(AND(DE$3<=$B$2,$B$2<DF$3,$B$3=$A$11,$B$4=CZ2),DE9*$B$2,0)","v":0},{"$f":"IF(AND(DF$3<=$B$2,$B$3=$A$11,$B$4=CZ2),DF9*$B$2,0)","v":0}]
[null,"Rent To Own",null,60,0,{"$f":"IF(AND(F$3<=$B$2,$B$2<G$3,$B$3=$A$12,$B$4=D2),F10*$B$2,0)","v":0},{"$f":"IF(AND(G$3<=$B$2,$B$2<H$3,$B$3=$A$12,$B$4=D2),G10*$B$2,0)","v":0},{"$f":"IF(AND(H$3<=$B$2,$B$2<I$3,$B$3=$A$12,$B$4=D2),H10*$B$2,0)","v":0},{"$f":"IF(AND(I$3<=$B$2,$B$2<J$3,$B$3=$A$12,$B$4=D2),I10*$B$2,0)","v":0},{"$f":"IF(AND(J$3<=$B$2,$B$3=$A$12,$B$4=D2),J10*$B$2,0)","v":0},null,60,0,{"$f":"IF(AND(N$3<=$B$2,$B$2<O$3,$B$3=$A$12,$B$4=L2),N10*$B$2,0)","v":0},{"$f":"IF(AND(O$3<=$B$2,$B$2<P$3,$B$3=$A$12,$B$4=L2),O10*$B$2,0)","v":0},{"$f":"IF(AND(P$3<=$B$2,$B$2<Q$3,$B$3=$A$12,$B$4=L2),P10*$B$2,0)","v":0},{"$f":"IF(AND(Q$3<=$B$2,$B$2<R$3,$B$3=$A$12,$B$4=L2),Q10*$B$2,0)","v":0},{"$f":"IF(AND(R$3<=$B$2,$B$3=$A$12,$B$4=L2),R10*$B$2,0)","v":0},null,60,0,{"$f":"IF(AND(V$3<=$B$2,$B$2<W$3,$B$3=$A$12,$B$4=T2),V10*$B$2,0)","v":0},{"$f":"IF(AND(W$3<=$B$2,$B$2<X$3,$B$3=$A$12,$B$4=T2),W10*$B$2,0)","v":0},{"$f":"IF(AND(X$3<=$B$2,$B$2<Y$3,$B$3=$A$12,$B$4=T2),X10*$B$2,0)","v":0},{"$f":"IF(AND(Y$3<=$B$2,$B$2<Z$3,$B$3=$A$12,$B$4=T2),Y10*$B$2,0)","v":0},{"$f":"IF(AND(Z$3<=$B$2,$B$3=$A$12,$B$4=T2),Z10*$B$2,0)","v":0},null,60,0,{"$f":"IF(AND(AD$3<=$B$2,$B$2<AE$3,$B$3=$A$12,$B$4=AB2),AD10*$B$2,0)","v":0},{"$f":"IF(AND(AE$3<=$B$2,$B$2<AF$3,$B$3=$A$12,$B$4=AB2),AE10*$B$2,0)","v":0},{"$f":"IF(AND(AF$3<=$B$2,$B$2<AG$3,$B$3=$A$12,$B$4=AB2),AF10*$B$2,0)","v":0},{"$f":"IF(AND(AG$3<=$B$2,$B$2<AH$3,$B$3=$A$12,$B$4=AB2),AG10*$B$2,0)","v":0},{"$f":"IF(AND(AH$3<=$B$2,$B$3=$A$12,$B$4=AB2),AH10*$B$2,0)","v":0},null,60,0,{"$f":"IF(AND(AL$3<=$B$2,$B$2<AM$3,$B$3=$A$12,$B$4=AJ2),AL10*$B$2,0)","v":0},{"$f":"IF(AND(AM$3<=$B$2,$B$2<AN$3,$B$3=$A$12,$B$4=AJ2),AM10*$B$2,0)","v":0},{"$f":"IF(AND(AN$3<=$B$2,$B$2<AO$3,$B$3=$A$12,$B$4=AJ2),AN10*$B$2,0)","v":0},{"$f":"IF(AND(AO$3<=$B$2,$B$2<AP$3,$B$3=$A$12,$B$4=AJ2),AO10*$B$2,0)","v":0},{"$f":"IF(AND(AP$3<=$B$2,$B$3=$A$12,$B$4=AJ2),AP10*$B$2,0)","v":0},null,60,0,{"$f":"IF(AND(AT$3<=$B$2,$B$2<AU$3,$B$3=$A$12,$B$4=AR2),AT10*$B$2,0)","v":0},{"$f":"IF(AND(AU$3<=$B$2,$B$2<AV$3,$B$3=$A$12,$B$4=AR2),AU10*$B$2,0)","v":0},{"$f":"IF(AND(AV$3<=$B$2,$B$2<AW$3,$B$3=$A$12,$B$4=AR2),AV10*$B$2,0)","v":0},{"$f":"IF(AND(AW$3<=$B$2,$B$2<AX$3,$B$3=$A$12,$B$4=AR2),AW10*$B$2,0)","v":0},{"$f":"IF(AND(AX$3<=$B$2,$B$3=$A$12,$B$4=AR2),AX10*$B$2,0)","v":0},null,60,0,{"$f":"IF(AND(BB$3<=$B$2,$B$2<BC$3,$B$3=$A$12,$B$4=AZ2),BB10*$B$2,0)","v":0},{"$f":"IF(AND(BC$3<=$B$2,$B$2<BD$3,$B$3=$A$12,$B$4=AZ2),BC10*$B$2,0)","v":0},{"$f":"IF(AND(BD$3<=$B$2,$B$2<BE$3,$B$3=$A$12,$B$4=AZ2),BD10*$B$2,0)","v":0},{"$f":"IF(AND(BE$3<=$B$2,$B$2<BF$3,$B$3=$A$12,$B$4=AZ2),BE10*$B$2,0)","v":0},{"$f":"IF(AND(BF$3<=$B$2,$B$3=$A$12,$B$4=AZ2),BF10*$B$2,0)","v":0},null,60,0,{"$f":"IF(AND(BJ$3<=$B$2,$B$2<BK$3,$B$3=$A$12,$B$4=BH2),BJ10*$B$2,0)","v":0},{"$f":"IF(AND(BK$3<=$B$2,$B$2<BL$3,$B$3=$A$12,$B$4=BH2),BK10*$B$2,0)","v":0},{"$f":"IF(AND(BL$3<=$B$2,$B$2<BM$3,$B$3=$A$12,$B$4=BH2),BL10*$B$2,0)","v":0},{"$f":"IF(AND(BM$3<=$B$2,$B$2<BN$3,$B$3=$A$12,$B$4=BH2),BM10*$B$2,0)","v":0},{"$f":"IF(AND(BN$3<=$B$2,$B$3=$A$12,$B$4=BH2),BN10*$B$2,0)","v":0},null,null,null,null,null,60,0,{"$f":"IF(AND(BV$3<=$B$2,$B$2<BW$3,$B$3=$A$12,$B$4=BT2),BV10*$B$2,0)","v":0},{"$f":"IF(AND(BW$3<=$B$2,$B$2<BX$3,$B$3=$A$12,$B$4=BT2),BW10*$B$2,0)","v":0},{"$f":"IF(AND(BX$3<=$B$2,$B$2<BY$3,$B$3=$A$12,$B$4=BT2),BX10*$B$2,0)","v":0},{"$f":"IF(AND(BY$3<=$B$2,$B$2<BZ$3,$B$3=$A$12,$B$4=BT2),BY10*$B$2,0)","v":0},{"$f":"IF(AND(BZ$3<=$B$2,$B$3=$A$12,$B$4=BT2),BZ10*$B$2,0)","v":0},null,60,0,{"$f":"IF(AND(CD$3<=$B$2,$B$2<CE$3,$B$3=$A$12,$B$4=CB2),CD10*$B$2,0)","v":0},{"$f":"IF(AND(CE$3<=$B$2,$B$2<CF$3,$B$3=$A$12,$B$4=CB2),CE10*$B$2,0)","v":0},{"$f":"IF(AND(CF$3<=$B$2,$B$2<CG$3,$B$3=$A$12,$B$4=CB2),CF10*$B$2,0)","v":0},{"$f":"IF(AND(CG$3<=$B$2,$B$2<CH$3,$B$3=$A$12,$B$4=CB2),CG10*$B$2,0)","v":0},{"$f":"IF(AND(CH$3<=$B$2,$B$3=$A$12,$B$4=CB2),CH10*$B$2,0)","v":0},null,60,0,{"$f":"IF(AND(CL$3<=$B$2,$B$2<CM$3,$B$3=$A$12,$B$4=CJ2),CL10*$B$2,0)","v":0},{"$f":"IF(AND(CM$3<=$B$2,$B$2<CN$3,$B$3=$A$12,$B$4=CJ2),CM10*$B$2,0)","v":0},{"$f":"IF(AND(CN$3<=$B$2,$B$2<CO$3,$B$3=$A$12,$B$4=CJ2),CN10*$B$2,0)","v":0},{"$f":"IF(AND(CO$3<=$B$2,$B$2<CP$3,$B$3=$A$12,$B$4=CJ2),CO10*$B$2,0)","v":0},{"$f":"IF(AND(CP$3<=$B$2,$B$3=$A$12,$B$4=CJ2),CP10*$B$2,0)","v":0},null,60,0,{"$f":"IF(AND(CT$3<=$B$2,$B$2<CU$3,$B$3=$A$12,$B$4=CR2),CT10*$B$2,0)","v":0},{"$f":"IF(AND(CU$3<=$B$2,$B$2<CV$3,$B$3=$A$12,$B$4=CR2),CU10*$B$2,0)","v":0},{"$f":"IF(AND(CV$3<=$B$2,$B$2<CW$3,$B$3=$A$12,$B$4=CR2),CV10*$B$2,0)","v":0},{"$f":"IF(AND(CW$3<=$B$2,$B$2<CX$3,$B$3=$A$12,$B$4=CR2),CW10*$B$2,0)","v":0},{"$f":"IF(AND(CX$3<=$B$2,$B$3=$A$12,$B$4=CR2),CX10*$B$2,0)","v":0},null,60,0,{"$f":"IF(AND(DB$3<=$B$2,$B$2<DC$3,$B$3=$A$12,$B$4=CZ2),DB10*$B$2,0)","v":0},{"$f":"IF(AND(DC$3<=$B$2,$B$2<DD$3,$B$3=$A$12,$B$4=CZ2),DC10*$B$2,0)","v":0},{"$f":"IF(AND(DD$3<=$B$2,$B$2<DE$3,$B$3=$A$12,$B$4=CZ2),DD10*$B$2,0)","v":0},{"$f":"IF(AND(DE$3<=$B$2,$B$2<DF$3,$B$3=$A$12,$B$4=CZ2),DE10*$B$2,0)","v":0},{"$f":"IF(AND(DF$3<=$B$2,$B$3=$A$12,$B$4=CZ2),DF10*$B$2,0)","v":0}]
[null,"10% PUT",null,{"$f":"SUM(F17:DF17)","v":0},null,{"$f":"SUM(F12:F16)","v":0},{"$f":"SUM(G12:G16)","v":0},{"$f":"SUM(H12:H16)","v":0},{"$f":"SUM(I12:I16)","v":0},{"$f":"SUM(J12:J16)","v":0},null,null,null,{"$f":"SUM(N12:N16)","v":0},{"$f":"SUM(O12:O16)","v":0},{"$f":"SUM(P12:P16)","v":0},{"$f":"SUM(Q12:Q16)","v":0},{"$f":"SUM(R12:R16)","v":0},null,null,null,{"$f":"SUM(V12:V16)","v":0},{"$f":"SUM(W12:W16)","v":0},{"$f":"SUM(X12:X16)","v":0},{"$f":"SUM(Y12:Y16)","v":0},{"$f":"SUM(Z12:Z16)","v":0},null,null,null,{"$f":"SUM(AD12:AD16)","v":0},{"$f":"SUM(AE12:AE16)","v":0},{"$f":"SUM(AF12:AF16)","v":0},{"$f":"SUM(AG12:AG16)","v":0},{"$f":"SUM(AH12:AH16)","v":0},null,null,null,{"$f":"SUM(AL12:AL16)","v":0},{"$f":"SUM(AM12:AM16)","v":0},{"$f":"SUM(AN12:AN16)","v":0},{"$f":"SUM(AO12:AO16)","v":0},{"$f":"SUM(AP12:AP16)","v":0},null,null,null,{"$f":"SUM(AT12:AT16)","v":0},{"$f":"SUM(AU12:AU16)","v":0},{"$f":"SUM(AV12:AV16)","v":0},{"$f":"SUM(AW12:AW16)","v":0},{"$f":"SUM(AX12:AX16)","v":0},null,null,null,{"$f":"SUM(BB12:BB16)","v":0},{"$f":"SUM(BC12:BC16)","v":0},{"$f":"SUM(BD12:BD16)","v":0},{"$f":"SUM(BE12:BE16)","v":0},{"$f":"SUM(BF12:BF16)","v":0},null,null,null,{"$f":"SUM(BJ12:BJ16)","v":0},{"$f":"SUM(BK12:BK16)","v":0},{"$f":"SUM(BL12:BL16)","v":0},{"$f":"SUM(BM12:BM16)","v":0},{"$f":"SUM(BN12:BN16)","v":0},null,null,null,{"$f":"SUM(BR12:BR16)","v":0},null,null,null,{"$f":"SUM(BV12:BV16)","v":0},{"$f":"SUM(BW12:BW16)","v":0},{"$f":"SUM(BX12:BX16)","v":0},{"$f":"SUM(BY12:BY16)","v":0},{"$f":"SUM(BZ12:BZ16)","v":0},null,null,null,{"$f":"SUM(CD12:CD16)","v":0},{"$f":"SUM(CE12:CE16)","v":0},{"$f":"SUM(CF12:CF16)","v":0},{"$f":"SUM(CG12:CG16)","v":0},{"$f":"SUM(CH12:CH16)","v":0},null,null,null,{"$f":"SUM(CL12:CL16)","v":0},{"$f":"SUM(CM12:CM16)","v":0},{"$f":"SUM(CN12:CN16)","v":0},{"$f":"SUM(CO12:CO16)","v":0},{"$f":"SUM(CP12:CP16)","v":0},null,null,null,{"$f":"SUM(CT12:CT16)","v":0},{"$f":"SUM(CU12:CU16)","v":0},{"$f":"SUM(CV12:CV16)","v":0},{"$f":"SUM(CW12:CW16)","v":0},{"$f":"SUM(CX12:CX16)","v":0},null,null,null,{"$f":"SUM(DB12:DB16)","v":0},{"$f":"SUM(DC12:DC16)","v":0},{"$f":"SUM(DD12:DD16)","v":0},{"$f":"SUM(DE12:DE16)","v":0},{"$f":"SUM(DF12:DF16)","v":0}]
[null,"$1 Buyout Lease - 90 days no pmt"]
[null,"Fair Market Value Sweeper Lease - 90 days no pmt"]
[null,"Fair Market Value Scrubber Lease - 90 days no pmt"]
[null,"FMV Sweeper - Promo"]
[null,null,null,{"$f":"C9","v":"Wells Fargo Vendor Solutions"},null,"2013-10-01"]
[null,null,null,{"$f":"B8","v":"$1 Buyout Lease"},null,null,null,null,null,null,null,{"$f":"B9","v":"Fair Market Value Sweeper Lease"},null,null,null,null,null,null,null,{"$f":"B10","v":"Fair Market Value Scrubber Lease"},null,null,null,null,null,null,null,{"$f":"B11","v":"10% Option"},null,null,null,null,null,null,null,{"$f":"B12","v":"Municipal $1 Buyout Lease - Monthly Pmt"},null,null,null,null,null,null,null,{"$f":"B13","v":"Muni $1 Out Quarterly"},null,null,null,null,null,null,null,{"$f":"B14","v":"Muni $1 Out Semi-Annually"},null,null,null,null,null,null,null,{"$f":"B15","v":"Municipal $1 Buyout Lease - Annual Pmt"},null,null,null,null,null,null,null,{"$f":"B16","v":"Rent To Own"},null,null,null,{"$f":"B17","v":"10% PUT"},null,null,null,null,null,null,null,{"$f":"B18","v":"$1 Buyout Lease - 90 days no pmt"},null,null,null,null,null,null,null,{"$f":"B19","v":"Fair Market Value Sweeper Lease - 90 days no pmt"},null,null,null,null,null,null,null,{"$f":"B20","v":"Fair Market Value Scrubber Lease - 90 days no pmt"},null,null,null,null,null,null,null,{"$f":"B21","v":"FMV Sweeper - Promo"}]
["For Drop Down","PurchaseOptNL","PurchaseOptTFS",null,null,5000,10000,25000,50000,100000,null,null,null,5000,10000,25000,50000,100000,null,null,null,5000,10000,25000,50000,100000,null,null,null,5000,10000,25000,50000,100000,null,null,null,5000,10000,25000,50000,100000,null,null,null,5000,10000,25000,50000,100000,null,null,null,5000,10000,25000,50000,100000,null,null,null,5000,10000,25000,50000,100000,null,null,null,1,null,null,null,5000,10000,25000,50000,100000,null,null,null,5000,10000,25000,50000,100000,null,null,null,5000,10000,25000,50000,100000,null,null,null,5000,10000,25000,50000,100000,null,null,null,5000,10000,25000,50000,100000]
["Term","Purchase Opt - NL","Purchase Opt - TFS",null,null,"to","to","to","to","to",null,null,null,"to","to","to","to","to",null,null,null,"to","to","to","to","to",null,null,null,"to","to","to","to","to",null,null,null,"to","to","to","to","to",null,null,null,"to","to","to","to","to",null,null,null,"to","to","to","to","to",null,null,null,"to","to","to","to","to",null,null,null,"to",null,null,null,"to","to","to","to","to",null,null,null,"to","to","to","to","to",null,null,null,"to","to","to","to","to",null,null,null,"to","to","to","to","to",null,null,null,"to","to","to","to","to"]
["None","None","None","Term","Adv",9999,24999,49999,99999,null,null,"Term","Adv",9999,24999,49999,99999,null,null,"Term","Adv",9999,24999,49999,99999,null,null,"Term","Adv",9999,24999,49999,99999,null,null,"Term","Adv",9999,24999,49999,99999,null,null,"Term","Adv",9999,24999,49999,99999,null,null,"Term","Adv",9999,24999,49999,99999,null,null,"Term","Adv",9999,24999,49999,99999,null,null,"Term","Adv",null,null,"Term","Adv",9999,24999,49999,99999,null,null,"Term","Adv",9999,24999,49999,99999,null,null,"Term","Adv",9999,24999,49999,99999,null,null,"Term","Adv",9999,24999,49999,99999,null,null,"Term","Adv",9999,24999,49999,99999]
["24 Months","$1 Buyout Lease","$1 Buyout Lease",12,0,null,null,null,null,null,null,12,0,null,null,null,null,null,null,12,0,null,null,null,null,null,null,12,0,null,null,null,null,null,null,12,0,null,null,null,null,null,null,12,0,null,null,null,null,null,null,12,0,null,null,null,null,null,null,12,0,null,null,null,null,null,null,9,0,null,null,12,0,null,null,null,null,null,null,12,0,null,null,null,null,null,null,12,0,null,null,null,null,null,null,12,0,null,null,null,null,null,null,12,0]
["36 Months","Fair Market Value Sweeper Lease","$1 Buyout Lease - 90 days no pmt",24,0,4.9391302575159689E-2,4.9391302575159689E-2,4.8668031941964687E-2,4.8452261703151478E-2,4.8452261703151478E-2,null,24,0,3.7140724425741914E-2,3.7140724425741914E-2,3.6058428296601018E-2,3.5596230207767011E-2,3.5596230207767011E-2,null,24,0,4.1390092998970326E-2,4.1390092998970326E-2,4.0382603738295726E-2,3.9952769079215439E-2,3.9952769079215439E-2,null,24,0,4.5787823040414101E-2,4.5787823040414101E-2,4.5010461292826452E-2,4.4778344998994933E-2,4.4778344998994933E-2,null,24,0,null,null,null,null,null,null,24,0,null,null,null,null,null,null,24,0,null,null,null,null,null,null,24,0,null,null,null,null,null,null,12,0,null,null,24,0,null,null,null,null,null,null,24,0,null,null,null,null,null,null,24,0,null,null,null,null,null,null,24,0,null,null,null,null,null,null,24,0]
["48 Months","Fair Market Value Scrubber Leas","Fair Market Value Sweeper Lease",36,0,3.516442345894117E-2,3.516442345894117E-2,3.4152336714166863E-2,3.4005676693967903E-2,3.4005676693967903E-2,null,36,0,2.9375548172221246E-2,2.9375548172221246E-2,2.7949491775059215E-2,2.7197363009538782E-2,2.7197363009538782E-2,null,36,0,3.262570318070275E-2,3.262570318070275E-2,3.1320374305267046E-2,3.0633816927312724E-2,3.0633816927312724E-2,null,36,0,3.2934478132777861E-2,3.2934478132777861E-2,3.1850782245334372E-2,3.1693500658488249E-2,3.1693500658488249E-2,null,36,0,null,null,null,null,null,null,36,0,null,null,null,null,null,null,36,0,null,null,null,null,null,null,36,0,null,null,null,null,null,null,18,0,null,null,36,0,null,null,null,null,null,null,36,0,null,null,null,null,null,null,36,0,null,null,null,null,null,null,36,0,null,null,null,null,null,null,36,0]
["60 Months","10% Option","Fair Market Value Sweeper Lease - 90 days no pmt",48,0,2.7932317998093606E-2,2.7932317998093606E-2,2.6544020372267736E-2,2.6296031690327928E-2,2.6296031690327928E-2,null,48,0,2.5045539431140938E-2,2.5045539431140938E-2,2.3740526638023077E-2,2.2978788905342103E-2,2.2978788905342103E-2,null,48,0,2.7469040504582522E-2,2.7469040504582522E-2,2.6279922523132791E-2,2.558859756323521E-2,2.558859756323521E-2,null,48,0,2.6370176203977878E-2,2.6370176203977878E-2,2.4888819521860426E-2,2.4623476789130405E-2,2.4623476789130405E-2,null,48,0,null,null,null,null,null,null,48,0,null,null,null,null,null,null,48,0,null,null,null,null,null,null,48,0,null,null,null,null,null,null,null,null,null,null,48,0,null,null,null,null,null,null,48,0,null,null,null,null,null,null,48,0,null,null,null,null,null,null,48,0,null,null,null,null,null,null,48,0]
[null,null,"Fair Market Value Scrubber Lease",60,0,2.364530817395654E-2,2.364530817395654E-2,2.2092329854151389E-2,2.2092329854151389E-2,2.2092329854151389E-2,null,60,0,2.2430519106157294E-2,2.2430519106157294E-2,2.067684706766915E-2,2.0103296612794464E-2,2.0103296612794464E-2,null,60,0,2.3996788013787285E-2,2.3996788013787285E-2,2.2375837302217781E-2,2.1848361771530649E-2,2.1848361771530649E-2,null,60,0,2.2479876554978188E-2,2.2479876554978188E-2,2.0829151011624521E-2,2.0829151011624521E-2,2.0829151011624521E-2,null,60,0,null,null,null,null,null,null,60,0,null,null,null,null,null,null,60,0,null,null,null,null,null,null,60,0,null,null,null,null,null,null,null,null,null,null,60,0,null,null,null,null,null,null,60,0,null,null,null,null,null,null,60,0,null,null,null,null,null,null,60,0,null,null,null,null,null,null,60,0]
[null,null,"Fair Market Value Scrubber Lease - 90 days no pmt"]
[null,null,"Municipal $1 Buyout Lease - Monthly Pmt",12,0,{"$f":"IF(AND(F$24<=$B$2,$B$2<G$24,$B$3=$A$8,$B$4=D23),F27*$B$2,0)","v":0},{"$f":"IF(AND(G$24<=$B$2,$B$2<H$24,$B$3=$A$8,$B$4=D23),G27*$B$2,0)","v":0},{"$f":"IF(AND(H$24<=$B$2,$B$2<I$24,$B$3=$A$8,$B$4=D23),H27*$B$2,0)","v":0},{"$f":"IF(AND(I$24<=$B$2,$B$2<J$24,$B$3=$A$8,$B$4=D23),I27*$B$2,0)","v":0},{"$f":"IF(AND(J$24<=$B$2,$B$3=$A$8,$B$4=D23),J27*$B$2,0)","v":0},null,12,0,{"$f":"IF(AND(N$24<=$B$2,$B$2<O$24,$B$3=$A$8,$B$4=L23),N27*$B$2,0)","v":0},{"$f":"IF(AND(O$24<=$B$2,$B$2<P$24,$B$3=$A$8,$B$4=L23),O27*$B$2,0)","v":0},{"$f":"IF(AND(P$24<=$B$2,$B$2<Q$24,$B$3=$A$8,$B$4=L23),P27*$B$2,0)","v":0},{"$f":"IF(AND(Q$24<=$B$2,$B$2<R$24,$B$3=$A$8,$B$4=L23),Q27*$B$2,0)","v":0},{"$f":"IF(AND(R$24<=$B$2,$B$3=$A$8,$B$4=L23),R27*$B$2,0)","v":0},null,12,0,{"$f":"IF(AND(V$24<=$B$2,$B$2<W$24,$B$3=$A$8,$B$4=T23),V27*$B$2,0)","v":0},{"$f":"IF(AND(W$24<=$B$2,$B$2<X$24,$B$3=$A$8,$B$4=T23),W27*$B$2,0)","v":0},{"$f":"IF(AND(X$24<=$B$2,$B$2<Y$24,$B$3=$A$8,$B$4=T23),X27*$B$2,0)","v":0},{"$f":"IF(AND(Y$24<=$B$2,$B$2<Z$24,$B$3=$A$8,$B$4=T23),Y27*$B$2,0)","v":0},{"$f":"IF(AND(Z$24<=$B$2,$B$3=$A$8,$B$4=T23),Z27*$B$2,0)","v":0},null,12,0,{"$f":"IF(AND(AD$24<=$B$2,$B$2<AE$24,$B$3=$A$8,$B$4=AB23),AD27*$B$2,0)","v":0},{"$f":"IF(AND(AE$24<=$B$2,$B$2<AF$24,$B$3=$A$8,$B$4=AB23),AE27*$B$2,0)","v":0},{"$f":"IF(AND(AF$24<=$B$2,$B$2<AG$24,$B$3=$A$8,$B$4=AB23),AF27*$B$2,0)","v":0},{"$f":"IF(AND(AG$24<=$B$2,$B$2<AH$24,$B$3=$A$8,$B$4=AB23),AG27*$B$2,0)","v":0},{"$f":"IF(AND(AH$24<=$B$2,$B$3=$A$8,$B$4=AB23),AH27*$B$2,0)","v":0},null,12,0,{"$f":"IF(AND(AL$24<=$B$2,$B$2<AM$24,$B$3=$A$8,$B$4=AJ23),AL27*$B$2,0)","v":0},{"$f":"IF(AND(AM$24<=$B$2,$B$2<AN$24,$B$3=$A$8,$B$4=AJ23),AM27*$B$2,0)","v":0},{"$f":"IF(AND(AN$24<=$B$2,$B$2<AO$24,$B$3=$A$8,$B$4=AJ23),AN27*$B$2,0)","v":0},{"$f":"IF(AND(AO$24<=$B$2,$B$2<AP$24,$B$3=$A$8,$B$4=AJ23),AO27*$B$2,0)","v":0},{"$f":"IF(AND(AP$24<=$B$2,$B$3=$A$8,$B$4=AJ23),AP27*$B$2,0)","v":0},null,12,0,{"$f":"IF(AND(AT$24<=$B$2,$B$2<AU$24,$B$3=$A$8,$B$4=AR23),AT27*$B$2,0)","v":0},{"$f":"IF(AND(AU$24<=$B$2,$B$2<AV$24,$B$3=$A$8,$B$4=AR23),AU27*$B$2,0)","v":0},{"$f":"IF(AND(AV$24<=$B$2,$B$2<AW$24,$B$3=$A$8,$B$4=AR23),AV27*$B$2,0)","v":0},{"$f":"IF(AND(AW$24<=$B$2,$B$2<AX$24,$B$3=$A$8,$B$4=AR23),AW27*$B$2,0)","v":0},{"$f":"IF(AND(AX$24<=$B$2,$B$3=$A$8,$B$4=AR23),AX27*$B$2,0)","v":0},null,12,0,{"$f":"IF(AND(BB$24<=$B$2,$B$2<BC$24,$B$3=$A$8,$B$4=AZ23),BB27*$B$2,0)","v":0},{"$f":"IF(AND(BC$24<=$B$2,$B$2<BD$24,$B$3=$A$8,$B$4=AZ23),BC27*$B$2,0)","v":0},{"$f":"IF(AND(BD$24<=$B$2,$B$2<BE$24,$B$3=$A$8,$B$4=AZ23),BD27*$B$2,0)","v":0},{"$f":"IF(AND(BE$24<=$B$2,$B$2<BF$24,$B$3=$A$8,$B$4=AZ23),BE27*$B$2,0)","v":0},{"$f":"IF(AND(BF$24<=$B$2,$B$3=$A$8,$B$4=AZ23),BF27*$B$2,0)","v":0},null,12,0,{"$f":"IF(AND(BJ$24<=$B$2,$B$2<BK$24,$B$3=$A$8,$B$4=BH23),BJ27*$B$2,0)","v":0},{"$f":"IF(AND(BK$24<=$B$2,$B$2<BL$24,$B$3=$A$8,$B$4=BH23),BK27*$B$2,0)","v":0},{"$f":"IF(AND(BL$24<=$B$2,$B$2<BM$24,$B$3=$A$8,$B$4=BH23),BL27*$B$2,0)","v":0},{"$f":"IF(AND(BM$24<=$B$2,$B$2<BN$24,$B$3=$A$8,$B$4=BH23),BM27*$B$2,0)","v":0},{"$f":"IF(AND(BN$24<=$B$2,$B$3=$A$8,$B$4=BH23),BN27*$B$2,0)","v":0},null,9,0,{"$f":"IF(AND(BR$3<=$B$2,$B$3=$A$13,$B$4=BP23),BR27*$B$2,0)","v":0},null,12,0,{"$f":"IF(AND(BV$24<=$B$2,$B$2<BW$24,$B$3=$A$8,$B$4=BT23),BV27*$B$2,0)","v":0},{"$f":"IF(AND(BW$24<=$B$2,$B$2<BX$24,$B$3=$A$8,$B$4=BT23),BW27*$B$2,0)","v":0},{"$f":"IF(AND(BX$24<=$B$2,$B$2<BY$24,$B$3=$A$8,$B$4=BT23),BX27*$B$2,0)","v":0},{"$f":"IF(AND(BY$24<=$B$2,$B$2<BZ$24,$B$3=$A$8,$B$4=BT23),BY27*$B$2,0)","v":0},{"$f":"IF(AND(BZ$24<=$B$2,$B$3=$A$8,$B$4=BT23),BZ27*$B$2,0)","v":0},null,12,0,{"$f":"IF(AND(CD$24<=$B$2,$B$2<CE$24,$B$3=$A$8,$B$4=CB23),CD27*$B$2,0)","v":0},{"$f":"IF(AND(CE$24<=$B$2,$B$2<CF$24,$B$3=$A$8,$B$4=CB23),CE27*$B$2,0)","v":0},{"$f":"IF(AND(CF$24<=$B$2,$B$2<CG$24,$B$3=$A$8,$B$4=CB23),CF27*$B$2,0)","v":0},{"$f":"IF(AND(CG$24<=$B$2,$B$2<CH$24,$B$3=$A$8,$B$4=CB23),CG27*$B$2,0)","v":0},{"$f":"IF(AND(CH$24<=$B$2,$B$3=$A$8,$B$4=CB23),CH27*$B$2,0)","v":0},null,12,0,{"$f":"IF(AND(CL$24<=$B$2,$B$2<CM$24,$B$3=$A$8,$B$4=CJ23),CL27*$B$2,0)","v":0},{"$f":"IF(AND(CM$24<=$B$2,$B$2<CN$24,$B$3=$A$8,$B$4=CJ23),CM27*$B$2,0)","v":0},{"$f":"IF(AND(CN$24<=$B$2,$B$2<CO$24,$B$3=$A$8,$B$4=CJ23),CN27*$B$2,0)","v":0},{"$f":"IF(AND(CO$24<=$B$2,$B$2<CP$24,$B$3=$A$8,$B$4=CJ23),CO27*$B$2,0)","v":0},{"$f":"IF(AND(CP$24<=$B$2,$B$3=$A$8,$B$4=CJ23),CP27*$B$2,0)","v":0},null,12,0,{"$f":"IF(AND(CT$24<=$B$2,$B$2<CU$24,$B$3=$A$8,$B$4=CR23),CT27*$B$2,0)","v":0},{"$f":"IF(AND(CU$24<=$B$2,$B$2<CV$24,$B$3=$A$8,$B$4=CR23),CU27*$B$2,0)","v":0},{"$f":"IF(AND(CV$24<=$B$2,$B$2<CW$24,$B$3=$A$8,$B$4=CR23),CV27*$B$2,0)","v":0},{"$f":"IF(AND(CW$24<=$B$2,$B$2<CX$24,$B$3=$A$8,$B$4=CR23),CW27*$B$2,0)","v":0},{"$f":"IF(AND(CX$24<=$B$2,$B$3=$A$8,$B$4=CR23),CX27*$B$2,0)","v":0},null,12,0,{"$f":"IF(AND(DB$24<=$B$2,$B$2<DC$24,$B$3=$A$8,$B$4=CZ23),DB27*$B$2,0)","v":0},{"$f":"IF(AND(DC$24<=$B$2,$B$2<DD$24,$B$3=$A$8,$B$4=CZ23),DC27*$B$2,0)","v":0},{"$f":"IF(AND(DD$24<=$B$2,$B$2<DE$24,$B$3=$A$8,$B$4=CZ23),DD27*$B$2,0)","v":0},{"$f":"IF(AND(DE$24<=$B$2,$B$2<DF$24,$B$3=$A$8,$B$4=CZ23),DE27*$B$2,0)","v":0},{"$f":"IF(AND(DF$24<=$B$2,$B$3=$A$8,$B$4=CZ23),DF27*$B$2,0)","v":0}]
[null,null,"Municipal $1 Buyout Lease - Annual Pmt",24,0,{"$f":"IF(AND(F$24<=$B$2,$B$2<G$24,$B$3=$A$9,$B$4=D23),F28*$B$2,0)","v":0},{"$f":"IF(AND(G$24<=$B$2,$B$2<H$24,$B$3=$A$9,$B$4=D23),G28*$B$2,0)","v":0},{"$f":"IF(AND(H$24<=$B$2,$B$2<I$24,$B$3=$A$9,$B$4=D23),H28*$B$2,0)","v":0},{"$f":"IF(AND(I$24<=$B$2,$B$2<J$24,$B$3=$A$9,$B$4=D23),I28*$B$2,0)","v":0},{"$f":"IF(AND(J$24<=$B$2,$B$3=$A$9,$B$4=D23),J28*$B$2,0)","v":0},null,24,0,{"$f":"IF(AND(N$24<=$B$2,$B$2<O$24,$B$3=$A$9,$B$4=L23),N28*$B$2,0)","v":0},{"$f":"IF(AND(O$24<=$B$2,$B$2<P$24,$B$3=$A$9,$B$4=L23),O28*$B$2,0)","v":0},{"$f":"IF(AND(P$24<=$B$2,$B$2<Q$24,$B$3=$A$9,$B$4=L23),P28*$B$2,0)","v":0},{"$f":"IF(AND(Q$24<=$B$2,$B$2<R$24,$B$3=$A$9,$B$4=L23),Q28*$B$2,0)","v":0},{"$f":"IF(AND(R$24<=$B$2,$B$3=$A$9,$B$4=L23),R28*$B$2,0)","v":0},null,24,0,{"$f":"IF(AND(V$24<=$B$2,$B$2<W$24,$B$3=$A$9,$B$4=T23),V28*$B$2,0)","v":0},{"$f":"IF(AND(W$24<=$B$2,$B$2<X$24,$B$3=$A$9,$B$4=T23),W28*$B$2,0)","v":0},{"$f":"IF(AND(X$24<=$B$2,$B$2<Y$24,$B$3=$A$9,$B$4=T23),X28*$B$2,0)","v":0},{"$f":"IF(AND(Y$24<=$B$2,$B$2<Z$24,$B$3=$A$9,$B$4=T23),Y28*$B$2,0)","v":0},{"$f":"IF(AND(Z$24<=$B$2,$B$3=$A$9,$B$4=T23),Z28*$B$2,0)","v":0},null,24,0,{"$f":"IF(AND(AD$24<=$B$2,$B$2<AE$24,$B$3=$A$9,$B$4=AB23),AD28*$B$2,0)","v":0},{"$f":"IF(AND(AE$24<=$B$2,$B$2<AF$24,$B$3=$A$9,$B$4=AB23),AE28*$B$2,0)","v":0},{"$f":"IF(AND(AF$24<=$B$2,$B$2<AG$24,$B$3=$A$9,$B$4=AB23),AF28*$B$2,0)","v":0},{"$f":"IF(AND(AG$24<=$B$2,$B$2<AH$24,$B$3=$A$9,$B$4=AB23),AG28*$B$2,0)","v":0},{"$f":"IF(AND(AH$24<=$B$2,$B$3=$A$9,$B$4=AB23),AH28*$B$2,0)","v":0},null,24,0,{"$f":"IF(AND(AL$24<=$B$2,$B$2<AM$24,$B$3=$A$9,$B$4=AJ23),AL28*$B$2,0)","v":0},{"$f":"IF(AND(AM$24<=$B$2,$B$2<AN$24,$B$3=$A$9,$B$4=AJ23),AM28*$B$2,0)","v":0},{"$f":"IF(AND(AN$24<=$B$2,$B$2<AO$24,$B$3=$A$9,$B$4=AJ23),AN28*$B$2,0)","v":0},{"$f":"IF(AND(AO$24<=$B$2,$B$2<AP$24,$B$3=$A$9,$B$4=AJ23),AO28*$B$2,0)","v":0},{"$f":"IF(AND(AP$24<=$B$2,$B$3=$A$9,$B$4=AJ23),AP28*$B$2,0)","v":0},null,24,0,{"$f":"IF(AND(AT$24<=$B$2,$B$2<AU$24,$B$3=$A$9,$B$4=AR23),AT28*$B$2,0)","v":0},{"$f":"IF(AND(AU$24<=$B$2,$B$2<AV$24,$B$3=$A$9,$B$4=AR23),AU28*$B$2,0)","v":0},{"$f":"IF(AND(AV$24<=$B$2,$B$2<AW$24,$B$3=$A$9,$B$4=AR23),AV28*$B$2,0)","v":0},{"$f":"IF(AND(AW$24<=$B$2,$B$2<AX$24,$B$3=$A$9,$B$4=AR23),AW28*$B$2,0)","v":0},{"$f":"IF(AND(AX$24<=$B$2,$B$3=$A$9,$B$4=AR23),AX28*$B$2,0)","v":0},null,24,0,{"$f":"IF(AND(BB$24<=$B$2,$B$2<BC$24,$B$3=$A$9,$B$4=AZ23),BB28*$B$2,0)","v":0},{"$f":"IF(AND(BC$24<=$B$2,$B$2<BD$24,$B$3=$A$9,$B$4=AZ23),BC28*$B$2,0)","v":0},{"$f":"IF(AND(BD$24<=$B$2,$B$2<BE$24,$B$3=$A$9,$B$4=AZ23),BD28*$B$2,0)","v":0},{"$f":"IF(AND(BE$24<=$B$2,$B$2<BF$24,$B$3=$A$9,$B$4=AZ23),BE28*$B$2,0)","v":0},{"$f":"IF(AND(BF$24<=$B$2,$B$3=$A$9,$B$4=AZ23),BF28*$B$2,0)","v":0},null,24,0,{"$f":"IF(AND(BJ$24<=$B$2,$B$2<BK$24,$B$3=$A$9,$B$4=BH23),BJ28*$B$2,0)","v":0},{"$f":"IF(AND(BK$24<=$B$2,$B$2<BL$24,$B$3=$A$9,$B$4=BH23),BK28*$B$2,0)","v":0},{"$f":"IF(AND(BL$24<=$B$2,$B$2<BM$24,$B$3=$A$9,$B$4=BH23),BL28*$B$2,0)","v":0},{"$f":"IF(AND(BM$24<=$B$2,$B$2<BN$24,$B$3=$A$9,$B$4=BH23),BM28*$B$2,0)","v":0},{"$f":"IF(AND(BN$24<=$B$2,$B$3=$A$9,$B$4=BH23),BN28*$B$2,0)","v":0},null,12,0,{"$f":"IF(AND(BR$3<=$B$2,$B$3=$A$8,$B$4=BP23),BR28*$B$2,0)","v":0},null,24,0,{"$f":"IF(AND(BV$24<=$B$2,$B$2<BW$24,$B$3=$A$9,$B$4=BT23),BV28*$B$2,0)","v":0},{"$f":"IF(AND(BW$24<=$B$2,$B$2<BX$24,$B$3=$A$9,$B$4=BT23),BW28*$B$2,0)","v":0},{"$f":"IF(AND(BX$24<=$B$2,$B$2<BY$24,$B$3=$A$9,$B$4=BT23),BX28*$B$2,0)","v":0},{"$f":"IF(AND(BY$24<=$B$2,$B$2<BZ$24,$B$3=$A$9,$B$4=BT23),BY28*$B$2,0)","v":0},{"$f":"IF(AND(BZ$24<=$B$2,$B$3=$A$9,$B$4=BT23),BZ28*$B$2,0)","v":0},null,24,0,{"$f":"IF(AND(CD$24<=$B$2,$B$2<CE$24,$B$3=$A$9,$B$4=CB23),CD28*$B$2,0)","v":0},{"$f":"IF(AND(CE$24<=$B$2,$B$2<CF$24,$B$3=$A$9,$B$4=CB23),CE28*$B$2,0)","v":0},{"$f":"IF(AND(CF$24<=$B$2,$B$2<CG$24,$B$3=$A$9,$B$4=CB23),CF28*$B$2,0)","v":0},{"$f":"IF(AND(CG$24<=$B$2,$B$2<CH$24,$B$3=$A$9,$B$4=CB23),CG28*$B$2,0)","v":0},{"$f":"IF(AND(CH$24<=$B$2,$B$3=$A$9,$B$4=CB23),CH28*$B$2,0)","v":0},null,24,0,{"$f":"IF(AND(CL$24<=$B$2,$B$2<CM$24,$B$3=$A$9,$B$4=CJ23),CL28*$B$2,0)","v":0},{"$f":"IF(AND(CM$24<=$B$2,$B$2<CN$24,$B$3=$A$9,$B$4=CJ23),CM28*$B$2,0)","v":0},{"$f":"IF(AND(CN$24<=$B$2,$B$2<CO$24,$B$3=$A$9,$B$4=CJ23),CN28*$B$2,0)","v":0},{"$f":"IF(AND(CO$24<=$B$2,$B$2<CP$24,$B$3=$A$9,$B$4=CJ23),CO28*$B$2,0)","v":0},{"$f":"IF(AND(CP$24<=$B$2,$B$3=$A$9,$B$4=CJ23),CP28*$B$2,0)","v":0},null,24,0,{"$f":"IF(AND(CT$24<=$B$2,$B$2<CU$24,$B$3=$A$9,$B$4=CR23),CT28*$B$2,0)","v":0},{"$f":"IF(AND(CU$24<=$B$2,$B$2<CV$24,$B$3=$A$9,$B$4=CR23),CU28*$B$2,0)","v":0},{"$f":"IF(AND(CV$24<=$B$2,$B$2<CW$24,$B$3=$A$9,$B$4=CR23),CV28*$B$2,0)","v":0},{"$f":"IF(AND(CW$24<=$B$2,$B$2<CX$24,$B$3=$A$9,$B$4=CR23),CW28*$B$2,0)","v":0},{"$f":"IF(AND(CX$24<=$B$2,$B$3=$A$9,$B$4=CR23),CX28*$B$2,0)","v":0},null,24,0,{"$f":"IF(AND(DB$24<=$B$2,$B$2<DC$24,$B$3=$A$9,$B$4=CZ23),DB28*$B$2,0)","v":0},{"$f":"IF(AND(DC$24<=$B$2,$B$2<DD$24,$B$3=$A$9,$B$4=CZ23),DC28*$B$2,0)","v":0},{"$f":"IF(AND(DD$24<=$B$2,$B$2<DE$24,$B$3=$A$9,$B$4=CZ23),DD28*$B$2,0)","v":0},{"$f":"IF(AND(DE$24<=$B$2,$B$2<DF$24,$B$3=$A$9,$B$4=CZ23),DE28*$B$2,0)","v":0},{"$f":"IF(AND(DF$24<=$B$2,$B$3=$A$9,$B$4=CZ23),DF28*$B$2,0)","v":0}]
[null,null,"10% Option",36,0,{"$f":"IF(AND(F$24<=$B$2,$B$2<G$24,$B$3=$A$10,$B$4=D23),F29*$B$2,0)","v":0},{"$f":"IF(AND(G$24<=$B$2,$B$2<H$24,$B$3=$A$10,$B$4=D23),G29*$B$2,0)","v":0},{"$f":"IF(AND(H$24<=$B$2,$B$2<I$24,$B$3=$A$10,$B$4=D23),H29*$B$2,0)","v":0},{"$f":"IF(AND(I$24<=$B$2,$B$2<J$24,$B$3=$A$10,$B$4=D23),I29*$B$2,0)","v":0},{"$f":"IF(AND(J$24<=$B$2,$B$3=$A$10,$B$4=D23),J29*$B$2,0)","v":0},null,36,0,{"$f":"IF(AND(N$24<=$B$2,$B$2<O$24,$B$3=$A$10,$B$4=L23),N29*$B$2,0)","v":0},{"$f":"IF(AND(O$24<=$B$2,$B$2<P$24,$B$3=$A$10,$B$4=L23),O29*$B$2,0)","v":0},{"$f":"IF(AND(P$24<=$B$2,$B$2<Q$24,$B$3=$A$10,$B$4=L23),P29*$B$2,0)","v":0},{"$f":"IF(AND(Q$24<=$B$2,$B$2<R$24,$B$3=$A$10,$B$4=L23),Q29*$B$2,0)","v":0},{"$f":"IF(AND(R$24<=$B$2,$B$3=$A$10,$B$4=L23),R29*$B$2,0)","v":0},null,36,0,{"$f":"IF(AND(V$24<=$B$2,$B$2<W$24,$B$3=$A$10,$B$4=T23),V29*$B$2,0)","v":0},{"$f":"IF(AND(W$24<=$B$2,$B$2<X$24,$B$3=$A$10,$B$4=T23),W29*$B$2,0)","v":0},{"$f":"IF(AND(X$24<=$B$2,$B$2<Y$24,$B$3=$A$10,$B$4=T23),X29*$B$2,0)","v":0},{"$f":"IF(AND(Y$24<=$B$2,$B$2<Z$24,$B$3=$A$10,$B$4=T23),Y29*$B$2,0)","v":0},{"$f":"IF(AND(Z$24<=$B$2,$B$3=$A$10,$B$4=T23),Z29*$B$2,0)","v":0},null,36,0,{"$f":"IF(AND(AD$24<=$B$2,$B$2<AE$24,$B$3=$A$10,$B$4=AB23),AD29*$B$2,0)","v":0},{"$f":"IF(AND(AE$24<=$B$2,$B$2<AF$24,$B$3=$A$10,$B$4=AB23),AE29*$B$2,0)","v":0},{"$f":"IF(AND(AF$24<=$B$2,$B$2<AG$24,$B$3=$A$10,$B$4=AB23),AF29*$B$2,0)","v":0},{"$f":"IF(AND(AG$24<=$B$2,$B$2<AH$24,$B$3=$A$10,$B$4=AB23),AG29*$B$2,0)","v":0},{"$f":"IF(AND(AH$24<=$B$2,$B$3=$A$10,$B$4=AB23),AH29*$B$2,0)","v":0},null,36,0,{"$f":"IF(AND(AL$24<=$B$2,$B$2<AM$24,$B$3=$A$10,$B$4=AJ23),AL29*$B$2,0)","v":0},{"$f":"IF(AND(AM$24<=$B$2,$B$2<AN$24,$B$3=$A$10,$B$4=AJ23),AM29*$B$2,0)","v":0},{"$f":"IF(AND(AN$24<=$B$2,$B$2<AO$24,$B$3=$A$10,$B$4=AJ23),AN29*$B$2,0)","v":0},{"$f":"IF(AND(AO$24<=$B$2,$B$2<AP$24,$B$3=$A$10,$B$4=AJ23),AO29*$B$2,0)","v":0},{"$f":"IF(AND(AP$24<=$B$2,$B$3=$A$10,$B$4=AJ23),AP29*$B$2,0)","v":0},null,36,0,{"$f":"IF(AND(AT$24<=$B$2,$B$2<AU$24,$B$3=$A$10,$B$4=AR23),AT29*$B$2,0)","v":0},{"$f":"IF(AND(AU$24<=$B$2,$B$2<AV$24,$B$3=$A$10,$B$4=AR23),AU29*$B$2,0)","v":0},{"$f":"IF(AND(AV$24<=$B$2,$B$2<AW$24,$B$3=$A$10,$B$4=AR23),AV29*$B$2,0)","v":0},{"$f":"IF(AND(AW$24<=$B$2,$B$2<AX$24,$B$3=$A$10,$B$4=AR23),AW29*$B$2,0)","v":0},{"$f":"IF(AND(AX$24<=$B$2,$B$3=$A$10,$B$4=AR23),AX29*$B$2,0)","v":0},null,36,0,{"$f":"IF(AND(BB$24<=$B$2,$B$2<BC$24,$B$3=$A$10,$B$4=AZ23),BB29*$B$2,0)","v":0},{"$f":"IF(AND(BC$24<=$B$2,$B$2<BD$24,$B$3=$A$10,$B$4=AZ23),BC29*$B$2,0)","v":0},{"$f":"IF(AND(BD$24<=$B$2,$B$2<BE$24,$B$3=$A$10,$B$4=AZ23),BD29*$B$2,0)","v":0},{"$f":"IF(AND(BE$24<=$B$2,$B$2<BF$24,$B$3=$A$10,$B$4=AZ23),BE29*$B$2,0)","v":0},{"$f":"IF(AND(BF$24<=$B$2,$B$3=$A$10,$B$4=AZ23),BF29*$B$2,0)","v":0},null,36,0,{"$f":"IF(AND(BJ$24<=$B$2,$B$2<BK$24,$B$3=$A$10,$B$4=BH23),BJ29*$B$2,0)","v":0},{"$f":"IF(AND(BK$24<=$B$2,$B$2<BL$24,$B$3=$A$10,$B$4=BH23),BK29*$B$2,0)","v":0},{"$f":"IF(AND(BL$24<=$B$2,$B$2<BM$24,$B$3=$A$10,$B$4=BH23),BL29*$B$2,0)","v":0},{"$f":"IF(AND(BM$24<=$B$2,$B$2<BN$24,$B$3=$A$10,$B$4=BH23),BM29*$B$2,0)","v":0},{"$f":"IF(AND(BN$24<=$B$2,$B$3=$A$10,$B$4=BH23),BN29*$B$2,0)","v":0},null,18,0,{"$f":"IF(AND(BR$3<=$B$2,$B$3=$A$14,$B$4=BP23),BR29*$B$2,0)","v":0},null,36,0,{"$f":"IF(AND(BV$24<=$B$2,$B$2<BW$24,$B$3=$A$10,$B$4=BT23),BV29*$B$2,0)","v":0},{"$f":"IF(AND(BW$24<=$B$2,$B$2<BX$24,$B$3=$A$10,$B$4=BT23),BW29*$B$2,0)","v":0},{"$f":"IF(AND(BX$24<=$B$2,$B$2<BY$24,$B$3=$A$10,$B$4=BT23),BX29*$B$2,0)","v":0},{"$f":"IF(AND(BY$24<=$B$2,$B$2<BZ$24,$B$3=$A$10,$B$4=BT23),BY29*$B$2,0)","v":0},{"$f":"IF(AND(BZ$24<=$B$2,$B$3=$A$10,$B$4=BT23),BZ29*$B$2,0)","v":0},null,36,0,{"$f":"IF(AND(CD$24<=$B$2,$B$2<CE$24,$B$3=$A$10,$B$4=CB23),CD29*$B$2,0)","v":0},{"$f":"IF(AND(CE$24<=$B$2,$B$2<CF$24,$B$3=$A$10,$B$4=CB23),CE29*$B$2,0)","v":0},{"$f":"IF(AND(CF$24<=$B$2,$B$2<CG$24,$B$3=$A$10,$B$4=CB23),CF29*$B$2,0)","v":0},{"$f":"IF(AND(CG$24<=$B$2,$B$2<CH$24,$B$3=$A$10,$B$4=CB23),CG29*$B$2,0)","v":0},{"$f":"IF(AND(CH$24<=$B$2,$B$3=$A$10,$B$4=CB23),CH29*$B$2,0)","v":0},null,36,0,{"$f":"IF(AND(CL$24<=$B$2,$B$2<CM$24,$B$3=$A$10,$B$4=CJ23),CL29*$B$2,0)","v":0},{"$f":"IF(AND(CM$24<=$B$2,$B$2<CN$24,$B$3=$A$10,$B$4=CJ23),CM29*$B$2,0)","v":0},{"$f":"IF(AND(CN$24<=$B$2,$B$2<CO$24,$B$3=$A$10,$B$4=CJ23),CN29*$B$2,0)","v":0},{"$f":"IF(AND(CO$24<=$B$2,$B$2<CP$24,$B$3=$A$10,$B$4=CJ23),CO29*$B$2,0)","v":0},{"$f":"IF(AND(CP$24<=$B$2,$B$3=$A$10,$B$4=CJ23),CP29*$B$2,0)","v":0},null,36,0,{"$f":"IF(AND(CT$24<=$B$2,$B$2<CU$24,$B$3=$A$10,$B$4=CR23),CT29*$B$2,0)","v":0},{"$f":"IF(AND(CU$24<=$B$2,$B$2<CV$24,$B$3=$A$10,$B$4=CR23),CU29*$B$2,0)","v":0},{"$f":"IF(AND(CV$24<=$B$2,$B$2<CW$24,$B$3=$A$10,$B$4=CR23),CV29*$B$2,0)","v":0},{"$f":"IF(AND(CW$24<=$B$2,$B$2<CX$24,$B$3=$A$10,$B$4=CR23),CW29*$B$2,0)","v":0},{"$f":"IF(AND(CX$24<=$B$2,$B$3=$A$10,$B$4=CR23),CX29*$B$2,0)","v":0},null,36,0,{"$f":"IF(AND(DB$24<=$B$2,$B$2<DC$24,$B$3=$A$10,$B$4=CZ23),DB29*$B$2,0)","v":0},{"$f":"IF(AND(DC$24<=$B$2,$B$2<DD$24,$B$3=$A$10,$B$4=CZ23),DC29*$B$2,0)","v":0},{"$f":"IF(AND(DD$24<=$B$2,$B$2<DE$24,$B$3=$A$10,$B$4=CZ23),DD29*$B$2,0)","v":0},{"$f":"IF(AND(DE$24<=$B$2,$B$2<DF$24,$B$3=$A$10,$B$4=CZ23),DE29*$B$2,0)","v":0},{"$f":"IF(AND(DF$24<=$B$2,$B$3=$A$10,$B$4=CZ23),DF29*$B$2,0)","v":0}]
[null,null,null,48,0,{"$f":"IF(AND(F$24<=$B$2,$B$2<G$24,$B$3=$A$11,$B$4=D23),F30*$B$2,0)","v":0},{"$f":"IF(AND(G$24<=$B$2,$B$2<H$24,$B$3=$A$11,$B$4=D23),G30*$B$2,0)","v":0},{"$f":"IF(AND(H$24<=$B$2,$B$2<I$24,$B$3=$A$11,$B$4=D23),H30*$B$2,0)","v":0},{"$f":"IF(AND(I$24<=$B$2,$B$2<J$24,$B$3=$A$11,$B$4=D23),I30*$B$2,0)","v":0},{"$f":"IF(AND(J$24<=$B$2,$B$3=$A$11,$B$4=D23),J30*$B$2,0)","v":0},null,48,0,{"$f":"IF(AND(N$24<=$B$2,$B$2<O$24,$B$3=$A$11,$B$4=L23),N30*$B$2,0)","v":0},{"$f":"IF(AND(O$24<=$B$2,$B$2<P$24,$B$3=$A$11,$B$4=L23),O30*$B$2,0)","v":0},{"$f":"IF(AND(P$24<=$B$2,$B$2<Q$24,$B$3=$A$11,$B$4=L23),P30*$B$2,0)","v":0},{"$f":"IF(AND(Q$24<=$B$2,$B$2<R$24,$B$3=$A$11,$B$4=L23),Q30*$B$2,0)","v":0},{"$f":"IF(AND(R$24<=$B$2,$B$3=$A$11,$B$4=L23),R30*$B$2,0)","v":0},null,48,0,{"$f":"IF(AND(V$24<=$B$2,$B$2<W$24,$B$3=$A$11,$B$4=T23),V30*$B$2,0)","v":0},{"$f":"IF(AND(W$24<=$B$2,$B$2<X$24,$B$3=$A$11,$B$4=T23),W30*$B$2,0)","v":0},{"$f":"IF(AND(X$24<=$B$2,$B$2<Y$24,$B$3=$A$11,$B$4=T23),X30*$B$2,0)","v":0},{"$f":"IF(AND(Y$24<=$B$2,$B$2<Z$24,$B$3=$A$11,$B$4=T23),Y30*$B$2,0)","v":0},{"$f":"IF(AND(Z$24<=$B$2,$B$3=$A$11,$B$4=T23),Z30*$B$2,0)","v":0},null,48,0,{"$f":"IF(AND(AD$24<=$B$2,$B$2<AE$24,$B$3=$A$11,$B$4=AB23),AD30*$B$2,0)","v":0},{"$f":"IF(AND(AE$24<=$B$2,$B$2<AF$24,$B$3=$A$11,$B$4=AB23),AE30*$B$2,0)","v":0},{"$f":"IF(AND(AF$24<=$B$2,$B$2<AG$24,$B$3=$A$11,$B$4=AB23),AF30*$B$2,0)","v":0},{"$f":"IF(AND(AG$24<=$B$2,$B$2<AH$24,$B$3=$A$11,$B$4=AB23),AG30*$B$2,0)","v":0},{"$f":"IF(AND(AH$24<=$B$2,$B$3=$A$11,$B$4=AB23),AH30*$B$2,0)","v":0},null,48,0,{"$f":"IF(AND(AL$24<=$B$2,$B$2<AM$24,$B$3=$A$11,$B$4=AJ23),AL30*$B$2,0)","v":0},{"$f":"IF(AND(AM$24<=$B$2,$B$2<AN$24,$B$3=$A$11,$B$4=AJ23),AM30*$B$2,0)","v":0},{"$f":"IF(AND(AN$24<=$B$2,$B$2<AO$24,$B$3=$A$11,$B$4=AJ23),AN30*$B$2,0)","v":0},{"$f":"IF(AND(AO$24<=$B$2,$B$2<AP$24,$B$3=$A$11,$B$4=AJ23),AO30*$B$2,0)","v":0},{"$f":"IF(AND(AP$24<=$B$2,$B$3=$A$11,$B$4=AJ23),AP30*$B$2,0)","v":0},null,48,0,{"$f":"IF(AND(AT$24<=$B$2,$B$2<AU$24,$B$3=$A$11,$B$4=AR23),AT30*$B$2,0)","v":0},{"$f":"IF(AND(AU$24<=$B$2,$B$2<AV$24,$B$3=$A$11,$B$4=AR23),AU30*$B$2,0)","v":0},{"$f":"IF(AND(AV$24<=$B$2,$B$2<AW$24,$B$3=$A$11,$B$4=AR23),AV30*$B$2,0)","v":0},{"$f":"IF(AND(AW$24<=$B$2,$B$2<AX$24,$B$3=$A$11,$B$4=AR23),AW30*$B$2,0)","v":0},{"$f":"IF(AND(AX$24<=$B$2,$B$3=$A$11,$B$4=AR23),AX30*$B$2,0)","v":0},null,48,0,{"$f":"IF(AND(BB$24<=$B$2,$B$2<BC$24,$B$3=$A$11,$B$4=AZ23),BB30*$B$2,0)","v":0},{"$f":"IF(AND(BC$24<=$B$2,$B$2<BD$24,$B$3=$A$11,$B$4=AZ23),BC30*$B$2,0)","v":0},{"$f":"IF(AND(BD$24<=$B$2,$B$2<BE$24,$B$3=$A$11,$B$4=AZ23),BD30*$B$2,0)","v":0},{"$f":"IF(AND(BE$24<=$B$2,$B$2<BF$24,$B$3=$A$11,$B$4=AZ23),BE30*$B$2,0)","v":0},{"$f":"IF(AND(BF$24<=$B$2,$B$3=$A$11,$B$4=AZ23),BF30*$B$2,0)","v":0},null,48,0,{"$f":"IF(AND(BJ$24<=$B$2,$B$2<BK$24,$B$3=$A$11,$B$4=BH23),BJ30*$B$2,0)","v":0},{"$f":"IF(AND(BK$24<=$B$2,$B$2<BL$24,$B$3=$A$11,$B$4=BH23),BK30*$B$2,0)","v":0},{"$f":"IF(AND(BL$24<=$B$2,$B$2<BM$24,$B$3=$A$11,$B$4=BH23),BL30*$B$2,0)","v":0},{"$f":"IF(AND(BM$24<=$B$2,$B$2<BN$24,$B$3=$A$11,$B$4=BH23),BM30*$B$2,0)","v":0},{"$f":"IF(AND(BN$24<=$B$2,$B$3=$A$11,$B$4=BH23),BN30*$B$2,0)","v":0},null,null,null,null,null,48,0,{"$f":"IF(AND(BV$24<=$B$2,$B$2<BW$24,$B$3=$A$11,$B$4=BT23),BV30*$B$2,0)","v":0},{"$f":"IF(AND(BW$24<=$B$2,$B$2<BX$24,$B$3=$A$11,$B$4=BT23),BW30*$B$2,0)","v":0},{"$f":"IF(AND(BX$24<=$B$2,$B$2<BY$24,$B$3=$A$11,$B$4=BT23),BX30*$B$2,0)","v":0},{"$f":"IF(AND(BY$24<=$B$2,$B$2<BZ$24,$B$3=$A$11,$B$4=BT23),BY30*$B$2,0)","v":0},{"$f":"IF(AND(BZ$24<=$B$2,$B$3=$A$11,$B$4=BT23),BZ30*$B$2,0)","v":0},null,48,0,{"$f":"IF(AND(CD$24<=$B$2,$B$2<CE$24,$B$3=$A$11,$B$4=CB23),CD30*$B$2,0)","v":0},{"$f":"IF(AND(CE$24<=$B$2,$B$2<CF$24,$B$3=$A$11,$B$4=CB23),CE30*$B$2,0)","v":0},{"$f":"IF(AND(CF$24<=$B$2,$B$2<CG$24,$B$3=$A$11,$B$4=CB23),CF30*$B$2,0)","v":0},{"$f":"IF(AND(CG$24<=$B$2,$B$2<CH$24,$B$3=$A$11,$B$4=CB23),CG30*$B$2,0)","v":0},{"$f":"IF(AND(CH$24<=$B$2,$B$3=$A$11,$B$4=CB23),CH30*$B$2,0)","v":0},null,48,0,{"$f":"IF(AND(CL$24<=$B$2,$B$2<CM$24,$B$3=$A$11,$B$4=CJ23),CL30*$B$2,0)","v":0},{"$f":"IF(AND(CM$24<=$B$2,$B$2<CN$24,$B$3=$A$11,$B$4=CJ23),CM30*$B$2,0)","v":0},{"$f":"IF(AND(CN$24<=$B$2,$B$2<CO$24,$B$3=$A$11,$B$4=CJ23),CN30*$B$2,0)","v":0},{"$f":"IF(AND(CO$24<=$B$2,$B$2<CP$24,$B$3=$A$11,$B$4=CJ23),CO30*$B$2,0)","v":0},{"$f":"IF(AND(CP$24<=$B$2,$B$3=$A$11,$B$4=CJ23),CP30*$B$2,0)","v":0},null,48,0,{"$f":"IF(AND(CT$24<=$B$2,$B$2<CU$24,$B$3=$A$11,$B$4=CR23),CT30*$B$2,0)","v":0},{"$f":"IF(AND(CU$24<=$B$2,$B$2<CV$24,$B$3=$A$11,$B$4=CR23),CU30*$B$2,0)","v":0},{"$f":"IF(AND(CV$24<=$B$2,$B$2<CW$24,$B$3=$A$11,$B$4=CR23),CV30*$B$2,0)","v":0},{"$f":"IF(AND(CW$24<=$B$2,$B$2<CX$24,$B$3=$A$11,$B$4=CR23),CW30*$B$2,0)","v":0},{"$f":"IF(AND(CX$24<=$B$2,$B$3=$A$11,$B$4=CR23),CX30*$B$2,0)","v":0},null,48,0,{"$f":"IF(AND(DB$24<=$B$2,$B$2<DC$24,$B$3=$A$11,$B$4=CZ23),DB30*$B$2,0)","v":0},{"$f":"IF(AND(DC$24<=$B$2,$B$2<DD$24,$B$3=$A$11,$B$4=CZ23),DC30*$B$2,0)","v":0},{"$f":"IF(AND(DD$24<=$B$2,$B$2<DE$24,$B$3=$A$11,$B$4=CZ23),DD30*$B$2,0)","v":0},{"$f":"IF(AND(DE$24<=$B$2,$B$2<DF$24,$B$3=$A$11,$B$4=CZ23),DE30*$B$2,0)","v":0},{"$f":"IF(AND(DF$24<=$B$2,$B$3=$A$11,$B$4=CZ23),DF30*$B$2,0)","v":0}]
["Change this Quarter when have new rates.",null,null,60,0,{"$f":"IF(AND(F$24<=$B$2,$B$2<G$24,$B$3=$A$12,$B$4=D23),F31*$B$2,0)","v":0},{"$f":"IF(AND(G$24<=$B$2,$B$2<H$24,$B$3=$A$12,$B$4=D23),G31*$B$2,0)","v":0},{"$f":"IF(AND(H$24<=$B$2,$B$2<I$24,$B$3=$A$12,$B$4=D23),H31*$B$2,0)","v":0},{"$f":"IF(AND(I$24<=$B$2,$B$2<J$24,$B$3=$A$12,$B$4=D23),I31*$B$2,0)","v":0},{"$f":"IF(AND(J$24<=$B$2,$B$3=$A$12,$B$4=D23),J31*$B$2,0)","v":0},null,60,0,{"$f":"IF(AND(N$24<=$B$2,$B$2<O$24,$B$3=$A$12,$B$4=L23),N31*$B$2,0)","v":0},{"$f":"IF(AND(O$24<=$B$2,$B$2<P$24,$B$3=$A$12,$B$4=L23),O31*$B$2,0)","v":0},{"$f":"IF(AND(P$24<=$B$2,$B$2<Q$24,$B$3=$A$12,$B$4=L23),P31*$B$2,0)","v":0},{"$f":"IF(AND(Q$24<=$B$2,$B$2<R$24,$B$3=$A$12,$B$4=L23),Q31*$B$2,0)","v":0},{"$f":"IF(AND(R$24<=$B$2,$B$3=$A$12,$B$4=L23),R31*$B$2,0)","v":0},null,60,0,{"$f":"IF(AND(V$24<=$B$2,$B$2<W$24,$B$3=$A$12,$B$4=T23),V31*$B$2,0)","v":0},{"$f":"IF(AND(W$24<=$B$2,$B$2<X$24,$B$3=$A$12,$B$4=T23),W31*$B$2,0)","v":0},{"$f":"IF(AND(X$24<=$B$2,$B$2<Y$24,$B$3=$A$12,$B$4=T23),X31*$B$2,0)","v":0},{"$f":"IF(AND(Y$24<=$B$2,$B$2<Z$24,$B$3=$A$12,$B$4=T23),Y31*$B$2,0)","v":0},{"$f":"IF(AND(Z$24<=$B$2,$B$3=$A$12,$B$4=T23),Z31*$B$2,0)","v":0},null,60,0,{"$f":"IF(AND(AD$24<=$B$2,$B$2<AE$24,$B$3=$A$12,$B$4=AB23),AD31*$B$2,0)","v":0},{"$f":"IF(AND(AE$24<=$B$2,$B$2<AF$24,$B$3=$A$12,$B$4=AB23),AE31*$B$2,0)","v":0},{"$f":"IF(AND(AF$24<=$B$2,$B$2<AG$24,$B$3=$A$12,$B$4=AB23),AF31*$B$2,0)","v":0},{"$f":"IF(AND(AG$24<=$B$2,$B$2<AH$24,$B$3=$A$12,$B$4=AB23),AG31*$B$2,0)","v":0},{"$f":"IF(AND(AH$24<=$B$2,$B$3=$A$12,$B$4=AB23),AH31*$B$2,0)","v":0},null,60,0,{"$f":"IF(AND(AL$24<=$B$2,$B$2<AM$24,$B$3=$A$12,$B$4=AJ23),AL31*$B$2,0)","v":0},{"$f":"IF(AND(AM$24<=$B$2,$B$2<AN$24,$B$3=$A$12,$B$4=AJ23),AM31*$B$2,0)","v":0},{"$f":"IF(AND(AN$24<=$B$2,$B$2<AO$24,$B$3=$A$12,$B$4=AJ23),AN31*$B$2,0)","v":0},{"$f":"IF(AND(AO$24<=$B$2,$B$2<AP$24,$B$3=$A$12,$B$4=AJ23),AO31*$B$2,0)","v":0},{"$f":"IF(AND(AP$24<=$B$2,$B$3=$A$12,$B$4=AJ23),AP31*$B$2,0)","v":0},null,60,0,{"$f":"IF(AND(AT$24<=$B$2,$B$2<AU$24,$B$3=$A$12,$B$4=AR23),AT31*$B$2,0)","v":0},{"$f":"IF(AND(AU$24<=$B$2,$B$2<AV$24,$B$3=$A$12,$B$4=AR23),AU31*$B$2,0)","v":0},{"$f":"IF(AND(AV$24<=$B$2,$B$2<AW$24,$B$3=$A$12,$B$4=AR23),AV31*$B$2,0)","v":0},{"$f":"IF(AND(AW$24<=$B$2,$B$2<AX$24,$B$3=$A$12,$B$4=AR23),AW31*$B$2,0)","v":0},{"$f":"IF(AND(AX$24<=$B$2,$B$3=$A$12,$B$4=AR23),AX31*$B$2,0)","v":0},null,60,0,{"$f":"IF(AND(BB$24<=$B$2,$B$2<BC$24,$B$3=$A$12,$B$4=AZ23),BB31*$B$2,0)","v":0},{"$f":"IF(AND(BC$24<=$B$2,$B$2<BD$24,$B$3=$A$12,$B$4=AZ23),BC31*$B$2,0)","v":0},{"$f":"IF(AND(BD$24<=$B$2,$B$2<BE$24,$B$3=$A$12,$B$4=AZ23),BD31*$B$2,0)","v":0},{"$f":"IF(AND(BE$24<=$B$2,$B$2<BF$24,$B$3=$A$12,$B$4=AZ23),BE31*$B$2,0)","v":0},{"$f":"IF(AND(BF$24<=$B$2,$B$3=$A$12,$B$4=AZ23),BF31*$B$2,0)","v":0},null,60,0,{"$f":"IF(AND(BJ$24<=$B$2,$B$2<BK$24,$B$3=$A$12,$B$4=BH23),BJ31*$B$2,0)","v":0},{"$f":"IF(AND(BK$24<=$B$2,$B$2<BL$24,$B$3=$A$12,$B$4=BH23),BK31*$B$2,0)","v":0},{"$f":"IF(AND(BL$24<=$B$2,$B$2<BM$24,$B$3=$A$12,$B$4=BH23),BL31*$B$2,0)","v":0},{"$f":"IF(AND(BM$24<=$B$2,$B$2<BN$24,$B$3=$A$12,$B$4=BH23),BM31*$B$2,0)","v":0},{"$f":"IF(AND(BN$24<=$B$2,$B$3=$A$12,$B$4=BH23),BN31*$B$2,0)","v":0},null,null,null,null,null,60,0,{"$f":"IF(AND(BV$24<=$B$2,$B$2<BW$24,$B$3=$A$12,$B$4=BT23),BV31*$B$2,0)","v":0},{"$f":"IF(AND(BW$24<=$B$2,$B$2<BX$24,$B$3=$A$12,$B$4=BT23),BW31*$B$2,0)","v":0},{"$f":"IF(AND(BX$24<=$B$2,$B$2<BY$24,$B$3=$A$12,$B$4=BT23),BX31*$B$2,0)","v":0},{"$f":"IF(AND(BY$24<=$B$2,$B$2<BZ$24,$B$3=$A$12,$B$4=BT23),BY31*$B$2,0)","v":0},{"$f":"IF(AND(BZ$24<=$B$2,$B$3=$A$12,$B$4=BT23),BZ31*$B$2,0)","v":0},null,60,0,{"$f":"IF(AND(CD$24<=$B$2,$B$2<CE$24,$B$3=$A$12,$B$4=CB23),CD31*$B$2,0)","v":0},{"$f":"IF(AND(CE$24<=$B$2,$B$2<CF$24,$B$3=$A$12,$B$4=CB23),CE31*$B$2,0)","v":0},{"$f":"IF(AND(CF$24<=$B$2,$B$2<CG$24,$B$3=$A$12,$B$4=CB23),CF31*$B$2,0)","v":0},{"$f":"IF(AND(CG$24<=$B$2,$B$2<CH$24,$B$3=$A$12,$B$4=CB23),CG31*$B$2,0)","v":0},{"$f":"IF(AND(CH$24<=$B$2,$B$3=$A$12,$B$4=CB23),CH31*$B$2,0)","v":0},null,60,0,{"$f":"IF(AND(CL$24<=$B$2,$B$2<CM$24,$B$3=$A$12,$B$4=CJ23),CL31*$B$2,0)","v":0},{"$f":"IF(AND(CM$24<=$B$2,$B$2<CN$24,$B$3=$A$12,$B$4=CJ23),CM31*$B$2,0)","v":0},{"$f":"IF(AND(CN$24<=$B$2,$B$2<CO$24,$B$3=$A$12,$B$4=CJ23),CN31*$B$2,0)","v":0},{"$f":"IF(AND(CO$24<=$B$2,$B$2<CP$24,$B$3=$A$12,$B$4=CJ23),CO31*$B$2,0)","v":0},{"$f":"IF(AND(CP$24<=$B$2,$B$3=$A$12,$B$4=CJ23),CP31*$B$2,0)","v":0},null,60,0,{"$f":"IF(AND(CT$24<=$B$2,$B$2<CU$24,$B$3=$A$12,$B$4=CR23),CT31*$B$2,0)","v":0},{"$f":"IF(AND(CU$24<=$B$2,$B$2<CV$24,$B$3=$A$12,$B$4=CR23),CU31*$B$2,0)","v":0},{"$f":"IF(AND(CV$24<=$B$2,$B$2<CW$24,$B$3=$A$12,$B$4=CR23),CV31*$B$2,0)","v":0},{"$f":"IF(AND(CW$24<=$B$2,$B$2<CX$24,$B$3=$A$12,$B$4=CR23),CW31*$B$2,0)","v":0},{"$f":"IF(AND(CX$24<=$B$2,$B$3=$A$12,$B$4=CR23),CX31*$B$2,0)","v":0},null,60,0,{"$f":"IF(AND(DB$24<=$B$2,$B$2<DC$24,$B$3=$A$12,$B$4=CZ23),DB31*$B$2,0)","v":0},{"$f":"IF(AND(DC$24<=$B$2,$B$2<DD$24,$B$3=$A$12,$B$4=CZ23),DC31*$B$2,0)","v":0},{"$f":"IF(AND(DD$24<=$B$2,$B$2<DE$24,$B$3=$A$12,$B$4=CZ23),DD31*$B$2,0)","v":0},{"$f":"IF(AND(DE$24<=$B$2,$B$2<DF$24,$B$3=$A$12,$B$4=CZ23),DE31*$B$2,0)","v":0},{"$f":"IF(AND(DF$24<=$B$2,$B$3=$A$12,$B$4=CZ23),DF31*$B$2,0)","v":0}]
["Rates 2025 - Rev.2/4/2025",null,null,{"$f":"SUM(F38:DF38)","v":0},null,{"$f":"SUM(F33:F37)","v":0},{"$f":"SUM(G33:G37)","v":0},{"$f":"SUM(H33:H37)","v":0},{"$f":"SUM(I33:I37)","v":0},{"$f":"SUM(J33:J37)","v":0},null,null,null,{"$f":"SUM(N33:N37)","v":0},{"$f":"SUM(O33:O37)","v":0},{"$f":"SUM(P33:P37)","v":0},{"$f":"SUM(Q33:Q37)","v":0},{"$f":"SUM(R33:R37)","v":0},null,null,null,{"$f":"SUM(V33:V37)","v":0},{"$f":"SUM(W33:W37)","v":0},{"$f":"SUM(X33:X37)","v":0},{"$f":"SUM(Y33:Y37)","v":0},{"$f":"SUM(Z33:Z37)","v":0},null,null,null,{"$f":"SUM(AD33:AD37)","v":0},{"$f":"SUM(AE33:AE37)","v":0},{"$f":"SUM(AF33:AF37)","v":0},{"$f":"SUM(AG33:AG37)","v":0},{"$f":"SUM(AH33:AH37)","v":0},null,null,null,{"$f":"SUM(AL33:AL37)","v":0},{"$f":"SUM(AM33:AM37)","v":0},{"$f":"SUM(AN33:AN37)","v":0},{"$f":"SUM(AO33:AO37)","v":0},{"$f":"SUM(AP33:AP37)","v":0},null,null,null,{"$f":"SUM(AT33:AT37)","v":0},{"$f":"SUM(AU33:AU37)","v":0},{"$f":"SUM(AV33:AV37)","v":0},{"$f":"SUM(AW33:AW37)","v":0},{"$f":"SUM(AX33:AX37)","v":0},null,null,null,{"$f":"SUM(BB33:BB37)","v":0},{"$f":"SUM(BC33:BC37)","v":0},{"$f":"SUM(BD33:BD37)","v":0},{"$f":"SUM(BE33:BE37)","v":0},{"$f":"SUM(BF33:BF37)","v":0},null,null,null,{"$f":"SUM(BJ33:BJ37)","v":0},{"$f":"SUM(BK33:BK37)","v":0},{"$f":"SUM(BL33:BL37)","v":0},{"$f":"SUM(BM33:BM37)","v":0},{"$f":"SUM(BN33:BN37)","v":0},null,null,null,{"$f":"SUM(BR33:BR37)","v":0},null,null,null,{"$f":"SUM(BV33:BV37)","v":0},{"$f":"SUM(BW33:BW37)","v":0},{"$f":"SUM(BX33:BX37)","v":0},{"$f":"SUM(BY33:BY37)","v":0},{"$f":"SUM(BZ33:BZ37)","v":0},null,null,null,{"$f":"SUM(CD33:CD37)","v":0},{"$f":"SUM(CE33:CE37)","v":0},{"$f":"SUM(CF33:CF37)","v":0},{"$f":"SUM(CG33:CG37)","v":0},{"$f":"SUM(CH33:CH37)","v":0},null,null,null,{"$f":"SUM(CL33:CL37)","v":0},{"$f":"SUM(CM33:CM37)","v":0},{"$f":"SUM(CN33:CN37)","v":0},{"$f":"SUM(CO33:CO37)","v":0},{"$f":"SUM(CP33:CP37)","v":0},null,null,null,{"$f":"SUM(CT33:CT37)","v":0},{"$f":"SUM(CU33:CU37)","v":0},{"$f":"SUM(CV33:CV37)","v":0},{"$f":"SUM(CW33:CW37)","v":0},{"$f":"SUM(CX33:CX37)","v":0},null,null,null,{"$f":"SUM(DB33:DB37)","v":0},{"$f":"SUM(DC33:DC37)","v":0},{"$f":"SUM(DD33:DD37)","v":0},{"$f":"SUM(DE33:DE37)","v":0},{"$f":"SUM(DF33:DF37)","v":0}]
["“Blank Payment Amounts Indicate The Financing Option Or Purchase Options Selected Are Not "]
["Applicable Or The Machine Total Is Below The Minimum Amount For The Selected Vendor”"]
["\"Quoted monthly payments are estimates only and are based on a certain level of credit rating."]
["Actual monthly payments may be higher depending on your credit rating.\"","Promotion"]
["“Financing rates do not include Pre-Paid Service”","PurchaseOptTCS_Promo","PurchaseOptTFS_Promo"]
[null,"Purchase Opt - TCS","Purchase Opt - TCS"]
[null,"None","None"]
[null,1,1]
[null,"$1.00 - 90 days deferred","$1.00 - 90 days deferred"]
[null,"FMV Sweeper","FMV Sweeper"]
[null,"FMV Sweeper - Promo","FMV Sweeper - Promo"]
["PurchaseOptALLAMR","FMV Sweeper - 90 days deferred","FMV Sweeper - 90 days deferred"]
["None","FMV Scrubber","FMV Scrubber"]
["$1 Buyout Lease","FMV Scrubber - 90 days deferred","FMV Scrubber - 90 days deferred"]
["$1 Buyout Lease - 90 days no pmt","10% Option","10% Option"]
["Municipal $1 Buyout Lease - Monthly Pmt","10% PUT","10% PUT"]
["Municipal $1 Buyout Lease - Annual Pmt","Muni $1 Out Monthly","Muni $1 Out Monthly"]
[null,"Muni $1 Out Quarterly","Muni $1 Out Quarterly"]
[null,"Muni $1 Out Semi-Annually","Muni $1 Out Semi-Annually"]
[null,"Muni $1 Out Annually","Muni $1 Out Annually"]
[null,"Rent To Own","Rent To Own"]
[]
["PurchaseOptIPC"]
["None"]
["$1 Buyout Lease"]
["$1 Buyout Lease - 90 days no pmt"]
["Municipal $1 Buyout Lease - Monthly Pmt"]
["Municipal $1 Buyout Lease - Annual Pmt"]
["10% Option"]