{"text_format":"1","workbook":"xlsx","n_sheets":35,"sheets":["Letter","CRM Mapping","Log","Start_Here","Cover_Letter","Dual_Tech_ReadySpace_R14","MPF SAP Download Canada","MPF SAP Canada Pre-Configured","Dual_Tech_ReadySpace_1610","MR3_E5","Carpet_Extractors","Vacuums","F_Series_Floor_Machine","Burnishers","B5","B7","B10","S7_S6","3640","S16L_Standard_Config","6100","S680","S880","S10","S16L","Pricezones","PricezonesUsers","Contact","Help","Surcharge","List","TennantTrue Rate","County Tier","Settings","Financing"],"not_rendered":{"charts":0,"images":17,"macros":1,"external_links":4,"defined_names":348,"comments":1,"pivot_tables":0},"unopened":[],"bounds":{"document_bytes":16777216,"sheet_cells":100000,"rows_first":2000,"rows_last":500,"rows_between":2000,"halvings":0,"cell_chars":16384,"cell_head_chars":4096},"cells_cut":0,"cells_raw":0,"read":"whole","date_system":"1900"}

{"sheet":"Letter","index":0,"n_rows":40,"n_cols":2,"rows_kept":40,"cut":false,"hidden":true,"merged":[]}
["clean"]
["Important!!"]
["If you accidentally stumbled into this page do not change any information on this page."]
[]
["Contact Name","Contact Name"]
["Company Name","Co Name"]
["Address","Address"]
[{"$f":"B8&\", \"&C8&\" \"&D8","v":"City, State, Zip,  "},"City, State, Zip"]
["Dear ","Dear"]
["Rep Name","Rep Name"]
["Contact Phone","Contact Phone"]
[null,"SAP ID"]
[null,"Cust Grp 3"]
["Date","Date"]
[]
[]
[]
[]
[]
[]
[]
[]
[]
["Please do not change cell A25."]
["2020-09-22","Quote Date"]
[]
[]
[]
[]
[]
[]
[]
[]
[]
[]
["Equipment Type","Sweeper"]
["Country","Canada"]
[]
[]
[null,39107.487558000001]

{"sheet":"CRM Mapping","index":1,"n_rows":0,"n_cols":0,"rows_kept":0,"cut":false,"hidden":true,"merged":[]}

{"sheet":"Log","index":2,"n_rows":19,"n_cols":3,"rows_kept":19,"cut":false,"hidden":true,"merged":[]}
["Date","UpdatedBy","Description"]
["2019-08-23","Pao Leepalao","show user ID instead of full name on approve box"]
["2019-08-23","Pao Leepalao","date stamp when it's approved (yellow and red)"]
["2019-08-23","Pao Leepalao","revision date on all machine tabs"]
["2019-08-23","Pao Leepalao","change log (date, name, what changed) - hide tab"]
["2019-08-23","Pao Leepalao","fix T6 quick ship hide/show blank qty issue"]
["2019-08-23","Jeannie Smallish","T300/SS300: removed drain hose/cap"]
["2019-08-23","Jeannie Smallish","T20/M20/M30/S30/800/T16 quick ship: update built-in values"]
["2019-08-23","Jeannie Smallish","T16: update preconfigured machines"]
["2019-08-23","Jeannie Smallish","T20/S30: prices correction"]
["2019-09-16","Jeannie Smallish","corrected column issue on Extractors"]
["2019-09-16","Jeannie Smallish","Add new machine S10_Quick_Ship"]
["2019-09-16","Pao Leepalao","Discount/Service rates for S10_Quick_Ship"]
["2019-09-16","Pao Leepalao","Update leasing contact for Tennant"]
["2019-10-02","Pao Leepalao","Update finance rates - US  Bank"]
["2019-10-02","Pao Leepalao","Add governance approval process"]
["2019-11-08","Pao Leepalao","Fix GT formatting issue"]
["2019-12-04","Pao/Jeannie","New 2020 price increase"]
["2019-12-04","Pao Leepalao","Only positive allow in custom solution"]

{"sheet":"Start_Here","index":3,"n_rows":60,"n_cols":17,"rows_kept":60,"cut":false,"hidden":false,"merged":[[17,5,17,7],[30,2,33,3],[0,2,0,7],[3,5,3,7],[10,1,10,2],[10,5,10,7],[30,1,31,1]]}
["Distributor",null,"Please fill out as much buyer information as you can.  Overkey addresses and contacts for proper display on the machine sheets.",null,null,null,null,null,null,null,null,null,null,null,"Alabama","Discount","ALL OTHER COUNTIES"]
[null,null,null,null,null,null,null,null,null,null,null,null,null,null,"Arkansas",{"$f":"TTDiscountLow","v":0},"BARBOUR"]
["Buyer Information",null,null,null,null,null,null,null,null,null,null,null,null,null,"Arizona",{"$f":"TTDiscountHigh","v":5},"COVINGTON"]
[null,"CRM Address Information",null,null,null,"Who is Buying the Machine? (Bill-To for Machine Aquisition Info) (Please Verify)",null,null,"Select One",null,null,null,null,null,"British Columbia",null,"DALE"]
[null,"Company",{"$f":"Letter!$A$6","v":"Company Name"},null,null,"Company",null,"Company Name",null,null,null,null,null,null,"Canada",null,"ESCAMBIA"]
[null,"Address",{"$f":"Address","v":"Address"},null,null,"Address",null,"Address",null,null,null,null,null,null,"California",null,"GENEVA"]
[null,"City, State Zip",{"$f":"CityStateZip","v":"City, State, Zip,  "},null,null,"City, State Zip",null,"City, State Zip",null,null,null,null,null,null,"Colorado",null,"HENRY"]
[null,"Name",{"$f":"ContactName","v":"Contact Name"},null,null,"Name",null,"Contact Name",null,null,null,null,null,null,"Connecticut",null,"HOUSTON"]
[null,"Phone",{"$f":"Letter!$A$11","v":"Contact Phone"},null,null,"Phone",null,"Contact Phone",null,null,null,null,null,null,"District of Columbia",null,"LEE"]
[null,null,null,null,null,null,null,null,null,null,null,null,null,null,"Delaware",null,"RUSSELL"]
[null,"Where is the Machine Being Shipped? (Ship-To Info) (Please Verify)",null,"Select One",null,"Where is the Machine Being Used? (Machine Use Location - Specific) (Please Verify)",null,null,"Select One",null,null,null,null,null,"Florida"]
[null,"Company","Company Name",null,null,"Company",null,"Company Name",null,null,null,null,null,null,"Georgia"]
[null,"Address","Address",null,null,"Address",null,"Address",null,null,null,null,null,null,"Hawaii"]
[null,"City, State Zip","City, State Zip",null,null,"City, State Zip",null,"City, State Zip",null,null,null,null,null,null,"Iowa"]
[null,"Name","Contact Name",null,null,"Name",null,"Contact Name",null,null,null,null,null,null,"Idaho"]
[null,"Phone","Contact Phone",null,null,"Phone",null,"Contact Phone",null,null,null,null,null,null,"Illinois"]
[null,null,null,null,null,null,null,null,null,null,null,null,null,null,"Indiana"]
[null,"Who Owns the Machine? (Sold-To Info) (Please Verify)",null,"Select One",null,"Who Pays for Service on the Machine? (Service Bill-To Info) (Please Verify)",null,null,"Select One",null,null,null,null,null,"Kansas"]
[null,"Company","Company Name",null,null,"Company",null,"Company Name",null,null,null,null,null,null,"Kentucky"]
[null,"Address","Address",null,null,"Address",null,"Address",null,null,null,null,null,null,"Louisiana"]
[null,"City, State Zip","City, State Zip",null,null,"City, State Zip",null,"City, State Zip",null,null,null,null,null,null,"Massachusetts"]
[null,"Name","Contact Name",null,null,"Name",null,"Contact Name",null,null,null,null,null,null,"Maryland"]
[null,"Phone","Contact Phone",null,null,"Phone",null,"Contact Phone",null,null,null,null,null,null,"Maine"]
[null,null,null,null,null,null,null,null,null,null,null,null,null,null,"Michigan"]
[null,"Customer Number",{"$f":"Letter!$A$12","v":0},null,null,"Finance Partner",null,"TennantTrue Details",null,null,null,null,null,null,"Minnesota"]
[null,"Authorized Buyer's Name",null,null,null,"First Western Equipment Finance",null,"State",null,null,null,null,null,null,"Missouri"]
[null,"Buyer's Phone #",null,null,null,null,null,null,null,null,null,null,null,null,"Mississippi"]
[null,"Requested Delivery Date",null,null,null,"Select Market",null,"County",null,null,null,null,null,null,"Montana"]
[null,"Cust Grp 3",{"$f":"Letter!$A$13","v":0},null,null,"Internal use only",null,null,null,null,null,null,null,null,"North Carolina"]
[null,null,null,null,null,null,null,"National Account",null,null,null,null,null,null,"North Dakota"]
[null,"Shipping / Carrier Instructions:",null,null,null,"Quote Service",null,null,null,null,null,null,null,null,"Nebraska"]
[null,null,null,null,null,"Yes",null,"TennantTrue Discount (%)",null,null,null,null,null,null,"New Hampshire"]
[null,null,null,null,null,null,null,null,null,null,null,null,null,null,"New Jersey"]
[null,null,null,null,null,null,null,null,null,null,null,null,null,null,"New Mexico"]
[null,"Seller Info",null,null,null,null,null,null,null,null,null,null,null,null,"Nevada"]
[null,"Letter/Quote",null,null,"Terms and Conditions",null,null,null,null,null,null,null,null,null,"New York"]
[null,"Company","Tennant Sales and Service Company",null,"Ask your local sales rep for estimated lead times. Verify when placing order",null,null,null,null,null,null,null,null,null,"Ohio"]
[null,"Address","10400 Clean Street",null,"All orders subject to acceptance by Tennant Sales and Service Company, Minneapolis, Minnesota",null,null,null,null,null,null,null,null,null,"Oklahoma"]
[null,null,"Eden Prairie, MN 55344",null,"Prices subject to change without notice. Subject to any applicable taxes.",null,null,null,null,null,null,null,null,null,"Ontario"]
[null,null,null,null,"Terms:  Net 30 days.  Payable in Canadian Funds",null,null,null,null,null,null,null,null,null,"Oregon"]
[null,"Name",{"$f":"RepName","v":"Rep Name"},null,"Freight:  Accessories, parts, supplies, detergents, and floor coatings orders delivered DDP ",null,null,null,null,null,null,null,null,null,"Pennsylvania"]
[null,null,null,null,"shipping point Frt PPD.  Machine orders delivered DDP shipping point Frt PPD and add.",null,null,null,null,null,null,null,null,null,"Prince Edward Isle"]
[null,"Phone","800-553-8033",null,"Returned Merchandise is subject to a restocking fee.",null,null,null,null,null,null,null,null,null,"Rhode Island"]
[null,"Fax","763-513-2116",null,"All orders are subject to Tennant’s General Terms and Conditions available at http://www.tennantco.com/terms.",null,null,null,null,null,null,null,null,null,"Quebec"]
[null,null,null,null,"Printed General Terms and Conditions are also available upon request.",null,null,null,null,null,null,null,null,null,"South Carolina"]
[null,null,null,null,null,null,null,null,null,null,null,null,null,null,"South Dakota"]
[null,"Footer",null,null,null,null,null,null,null,null,null,null,null,null,"Tennessee"]
[null,"Line 1","TENNANT · 10400 Clean Street · Eden Prairie, MN 55344 ·",null,null,null,null,null,null,null,null,null,null,null,"Texas"]
[null,"Line 2"," PHONE:800-553-8033 · FAX:763-513-2116",null,null,null,null,null,null,null,null,null,null,null,"Utah"]
[null,null,null,null,null,null,null,null,null,null,null,null,null,null,"Virginia"]
[null,null,null,null,null,null,null,null,null,null,null,null,null,null,"Vermont"]
[null,null,null,null,null,null,null,null,null,null,null,null,null,null,"Washington"]
[null,null,null,null,null,null,null,null,null,null,null,null,null,null,"West Virginia"]
[null,null,null,null,null,null,null,null,null,null,null,null,null,null,"Wisconsin"]
[null,null,null,null,null,null,null,null,null,null,null,null,null,null,"Wyoming"]
[]
[null,null,"Battery Surcharge","Price"]
[null,null,"36 Volt Machines",0]
[null,null,"24 Volt Machines",0]
[null,null,"Small 24 Volt Machines",0]

{"sheet":"Cover_Letter","index":4,"n_rows":36,"n_cols":1,"rows_kept":36,"cut":false,"hidden":false,"merged":[[8,0,8,1]]}
[{"$f":"Letter!$A$25","v":"2020-09-22"}]
[]
[]
[{"$f":"Start_Here!C37","v":"Tennant Sales and Service Company"}]
[{"$f":"Start_Here!C38","v":"10400 Clean Street"}]
[{"$f":"Start_Here!C39","v":"Eden Prairie, MN 55344"}]
[{"$f":"Start_Here!C40","v":0}]
[]
[{"$f":"Start_Here!$C$22","v":"Contact Name"}]
[{"$f":"Start_Here!$C$19","v":"Company Name"}]
[{"$f":"Start_Here!$C$20","v":"Address"}]
[{"$f":"Start_Here!$C$21","v":"City, State Zip"}]
[]
[{"$f":"Salutation","v":"Dear "}]
[]
["Thank you for your interest in TENNANT maintenance equipment.  We are pleased to send you the attached quotation and literature on the products you are considering."]
[]
["A variety of lease and finance programs are available that will allow you to maximize the cost savings and productivity advantages that Tennant provides."]
[]
["I will be in contact with you, but in the meantime, feel free to call my sales office listed below, should you need to--your questions are invited and your orders will be given prompt attention."]
[]
["Yours Truly,"]
[]
["                                                                                                                "]
["                                                                                                                "]
[{"$f":"Start_Here!$C$41","v":"Rep Name"}]
[{"$f":"Start_Here!C37","v":"Tennant Sales and Service Company"}]
[{"$f":"Start_Here!C38","v":"10400 Clean Street"}]
[{"$f":"Start_Here!$C$39","v":"Eden Prairie, MN 55344"}]
[{"$f":"Start_Here!$C$43","v":"800-553-8033"}]
[]
["attachment"]
[]
[]
[{"$f":"Start_Here!C48","v":"TENNANT · 10400 Clean Street · Eden Prairie, MN 55344 ·"}]
[{"$f":"Start_Here!C49","v":" PHONE:800-553-8033 · FAX:763-513-2116"}]

{"sheet":"Dual_Tech_ReadySpace_R14","index":5,"n_rows":205,"n_cols":17,"rows_kept":205,"cut":false,"hidden":false,"merged":[[0,2,0,3],[1,2,1,3],[2,2,2,3],[3,2,3,3],[169,2,169,5],[112,4,112,8],[114,3,114,6],[116,3,116,4],[117,3,117,4],[96,3,96,4],[96,5,96,6],[98,3,98,4],[98,5,98,6],[119,3,119,4],[119,5,119,6],[120,3,120,4],[170,2,170,5],[171,2,171,5],[180,4,180,5],[12,1,12,5],[25,1,25,5],[26,1,26,5],[27,1,27,5],[163,2,163,5],[164,0,164,1],[167,4,167,6],[159,0,159,1],[159,2,159,5],[161,0,161,1],[161,2,161,5],[162,0,162,1],[134,1,134,6],[165,0,165,1],[165,2,165,5],[153,4,153,6],[155,0,155,1],[155,2,155,5],[156,0,156,1],[156,2,156,5],[162,2,162,5],[157,2,157,5],[158,0,158,1],[158,2,158,5],[164,2,164,5],[120,5,120,6],[121,3,121,4],[121,5,121,6],[125,3,125,4],[125,5,125,6],[122,3,122,4],[122,5,122,6],[123,3,123,4],[123,5,123,6],[124,3,124,4],[124,5,124,6]]}
["Dual_Tech_ReadySpace_R14",null,{"$f":"Start_Here!$C19","v":"Company Name"}]
[{"$f":"SUM(G91)","v":0},null,{"$f":"Start_Here!$C20","v":"Address"}]
[null,null,{"$f":"Start_Here!$C21","v":"City, State Zip"}]
[null,null,{"$f":"Start_Here!$C22","v":"Contact Name"}]
[null,null,{"$f":"Start_Here!$C$41","v":"Rep Name"}]
[null,null,{"$f":"Start_Here!$C$37","v":"Tennant Sales and Service Company"}]
[null,null,{"$f":"Start_Here!$C$38","v":"10400 Clean Street"}]
[null,null,{"$f":"Start_Here!$C$39","v":"Eden Prairie, MN 55344"}]
[null,null,{"$f":"Start_Here!$C$43","v":"800-553-8033"},null,"Quote Date :",null,{"$f":"Letter!$A$25","v":"2020-09-22"}]
[]
[null,null,{"$f":"Help!C2","v":"CAN Date Rev - 9/30/2024"}]
[]
[null,"BUILT-IN “TENNANT VALUE” INCLUDES:"]
[]
[null,"ReadySpace® cleaning technology and deep extraction",null,"Standard (4) 6V 360AH battery pack "]
[null,"700mm/28\" cleaning path",null,"Battery Tray"]
[null,"121 l/32-gal. solution & 106 l/28-gal. recovery tanks",null,"25 Amp Off-board charger"]
[null,"Hygenic® fully cleanable solution/recovery tanks",null,"One set of ReadySpace® rollers & extraction brushes"]
[null,"Solution tank empty indicator",null,"Rugged DuramerTM Tank Construction"]
[null,"Recovery tank full indicator",null,"Vacuum fan in-line air filter"]
[null,"Touch Panel Controls ",null,"Virtual DVD manual"]
[null,null,"Featuring on-board diagnostics ","Operators manual"]
[null,null,"One-button operation","CRI certified, Bronze Cleaning Performance"]
[null,"E-stop, hour meter and horn"]
[]
[null,"TENNANT COMPANY WARRANTY"]
[null,"3 YEARS OR 1500 HOURS ON ALL COMPONENTS, 3 YEARS LABOR"]
[null,"90 DAYS TRAVEL, 10 YEARS ON DURAMERTM TANKS"]
[]
[]
[null,null,null,null,"                Quote Request Information"]
[null,null,null,null,null,null,"Fax (quote only)"," "]
[null,null,null,null,null,null,"Mail (quote,lit, specs)"," "]
[null,null,null,null,null,null,"Fax + Mail"," "]
[]
[null,null,null,null,"                Primary Use"]
[null,null,null,null,null,null,"Inside"]
[null,null,null,null,null,null,"Outside"]
[]
[null,null,"Description","Reference  #","Price Each","Qty","Extended Price"]
[null,"Base Configuration",null,null,null,{"$f":"SUM(F42,F45,F51)","v":0}]
[null,null,"Cleaning Type",null,null,{"$f":"SUM(F43)","v":0},null,null,null,null,null,{"$f":"SUM(F42)","v":0},"Surcharge Qty"]
[null,null,"R14 Ride-On Dual Technolgy Carpet Maintainer 700mm/28\"","R14-700",37776,null,{"$f":"F43*E43","v":0},{"$f":"IFERROR(IFERROR(VLOOKUP(D43,Surcharge!A:B,2,FALSE)*F43, VLOOKUP(D43 & \"\",Surcharge!A:B,2,FALSE)*F43), \"\")","v":0},null,null,null,null,null,null,null,{"$f":"VLOOKUP(Q43,'MPF SAP Download Canada'!A:D,4,FALSE)","v":37776},"M-R14VK_BASE_R14-700"]
[null,null,null,null,null,null,null,{"$f":"IFERROR(IFERROR(VLOOKUP(D44,Surcharge!A:B,2,FALSE)*F44, VLOOKUP(D44 & \"\",Surcharge!A:B,2,FALSE)*F44), \"\")","v":""},null,null,null,null,null,null,null,null,""]
[null,null,"Battery Type",null,null,{"$f":"SUM(F46:F49)","v":0},null,{"$f":"IFERROR(IFERROR(VLOOKUP(D45,Surcharge!A:B,2,FALSE)*F45, VLOOKUP(D45 & \"\",Surcharge!A:B,2,FALSE)*F45), \"\")","v":""},null,null,null,null,null,null,null,null,""]
[null,null,"Wet 360AH C/20  (Kit of 4 batteries)",9000815,"N/C",null,{"$f":"IF(F46=0,\" \",\"N/C\")","v":" "},{"$f":"IFERROR(IFERROR(VLOOKUP(D46,Surcharge!A:B,2,FALSE)*F46, VLOOKUP(D46 & \"\",Surcharge!A:B,2,FALSE)*F46), \"\")","v":""},null,null,null,null,null,null,null,{"$f":"VLOOKUP(Q46,'MPF SAP Download Canada'!$A:$D,4,FALSE)","v":"N/C"},"M-R14VK_BTY_W360C20"]
[null,null,"Without Battery",null,-922,null,{"$f":"F47*E47","v":0},{"$f":"IFERROR(IFERROR(VLOOKUP(D47,Surcharge!A:B,2,FALSE)*F47, VLOOKUP(D47 & \"\",Surcharge!A:B,2,FALSE)*F47), \"\")","v":""},null,null,null,null,null,null,null,{"$f":"VLOOKUP(Q47,'MPF SAP Download Canada'!$A:$D,4,FALSE)","v":-922},"M-R14VK_BTY_WO"]
[null,null,null,null,null,null,null,{"$f":"IFERROR(IFERROR(VLOOKUP(D48,Surcharge!A:B,2,FALSE)*F48, VLOOKUP(D48 & \"\",Surcharge!A:B,2,FALSE)*F48), \"\")","v":""},null,null,null,null,null,null,null,null,""]
[null,null,"Manual Battery Watering Kit (See Note 1)",9009619,818,null,{"$f":"F49*E49","v":0},{"$f":"IFERROR(IFERROR(VLOOKUP(D49,Surcharge!A:B,2,FALSE)*F49, VLOOKUP(D49 & \"\",Surcharge!A:B,2,FALSE)*F49), \"\")","v":""},null,null,null,null,null,null,null,{"$f":"VLOOKUP(Q49,'MPF SAP Download Canada'!$A:$D,4,FALSE)","v":818},"M-R14VK_BTYWTRSYS"]
[null,null,null,null,null,null,null,{"$f":"IFERROR(IFERROR(VLOOKUP(D50,Surcharge!A:B,2,FALSE)*F50, VLOOKUP(D50 & \"\",Surcharge!A:B,2,FALSE)*F50), \"\")","v":""},null,null,null,null,null,null,null,null,""]
[null,null,"Charger","Reference Number",null,{"$f":"SUM(F52:F53)","v":0},null,{"$f":"IFERROR(IFERROR(VLOOKUP(D51,Surcharge!A:B,2,FALSE)*F51, VLOOKUP(D51 & \"\",Surcharge!A:B,2,FALSE)*F51), \"\")","v":""},null,null,null,null,null,null,null,null,""]
[null,null,"25A 100-240V AC 50/60Hz 1Ph",1043663,"N/C",null,{"$f":"IF(F52=0,\" \",\"N/C\")","v":" "},{"$f":"IFERROR(IFERROR(VLOOKUP(D52,Surcharge!A:B,2,FALSE)*F52, VLOOKUP(D52 & \"\",Surcharge!A:B,2,FALSE)*F52), \"\")","v":""},null,null,null,null,null,null,null,{"$f":"VLOOKUP(Q52,'MPF SAP Download Canada'!$A:$D,4,FALSE)","v":"N/C"},"M-R14VK_CHG_25A100V5060H1"]
[null,null,"Without  Charger",null,-525,null,{"$f":"F53*E53","v":0},{"$f":"IFERROR(IFERROR(VLOOKUP(D53,Surcharge!A:B,2,FALSE)*F53, VLOOKUP(D53 & \"\",Surcharge!A:B,2,FALSE)*F53), \"\")","v":""},null,null,null,null,null,null,null,{"$f":"VLOOKUP(Q53,'MPF SAP Download Canada'!$A:$D,4,FALSE)","v":-525},"M-R14VK_CHG_WO"]
[null,null,null,null,null,null,null,{"$f":"IFERROR(IFERROR(VLOOKUP(D54,Surcharge!A:B,2,FALSE)*F54, VLOOKUP(D54 & \"\",Surcharge!A:B,2,FALSE)*F54), \"\")","v":""},null,null,null,null,null,null,null,null,""]
[null,"Machine Protection & Safety",null,"Reference Number",null,{"$f":"SUM(F56:F58)","v":0},null,{"$f":"IFERROR(IFERROR(VLOOKUP(D55,Surcharge!A:B,2,FALSE)*F55, VLOOKUP(D55 & \"\",Surcharge!A:B,2,FALSE)*F55), \"\")","v":""},null,null,null,null,null,null,null,null,""]
[null,null,"Seat Belt",9018587,126,null,{"$f":"F56*E56","v":0},{"$f":"IFERROR(IFERROR(VLOOKUP(D56,Surcharge!A:B,2,FALSE)*F56, VLOOKUP(D56 & \"\",Surcharge!A:B,2,FALSE)*F56), \"\")","v":""},null,null,null,null,null,null,null,{"$f":"VLOOKUP(Q56,'MPF SAP Download Canada'!$A:$D,4,FALSE)","v":126},"M-R14VK_SETBLT"]
[null,null,"Strobe Light on Tank",9000580,1028,null,{"$f":"F57*E57","v":0},{"$f":"IFERROR(IFERROR(VLOOKUP(D57,Surcharge!A:B,2,FALSE)*F57, VLOOKUP(D57 & \"\",Surcharge!A:B,2,FALSE)*F57), \"\")","v":""},null,null,null,null,null,null,null,{"$f":"VLOOKUP(Q57,'MPF SAP Download Canada'!$A:$D,4,FALSE)","v":1028},"M-R14VK_WRNLGTANDALM_ST"]
[null,null,"Utility Basket (small storage)",1018315,323,null,{"$f":"F58*E58","v":0},{"$f":"IFERROR(IFERROR(VLOOKUP(D58,Surcharge!A:B,2,FALSE)*F58, VLOOKUP(D58 & \"\",Surcharge!A:B,2,FALSE)*F58), \"\")","v":""},null,null,null,null,null,null,null,{"$f":"VLOOKUP(Q58,'MPF SAP Download Canada'!$A:$D,4,FALSE)","v":323},"M-R14VK_UTLBSK"]
[null,null,null,null,null,null,null,{"$f":"IFERROR(IFERROR(VLOOKUP(D59,Surcharge!A:B,2,FALSE)*F59, VLOOKUP(D59 & \"\",Surcharge!A:B,2,FALSE)*F59), \"\")","v":""},null,null,null,null,null,null,null,null,""]
[null,"Support",null,"Reference Number",null,{"$f":"SUM(F61:F68)","v":0},null,{"$f":"IFERROR(IFERROR(VLOOKUP(D60,Surcharge!A:B,2,FALSE)*F60, VLOOKUP(D60 & \"\",Surcharge!A:B,2,FALSE)*F60), \"\")","v":""},null,null,null,null,null,null,null,null,""]
[null,null,"R14 Operator Manual (English)",1032047,"N/C",null,{"$f":"IF(F61=0,\" \",\"N/C\")","v":" "},{"$f":"IFERROR(IFERROR(VLOOKUP(D61,Surcharge!A:B,2,FALSE)*F61, VLOOKUP(D61 & \"\",Surcharge!A:B,2,FALSE)*F61), \"\")","v":""},null,null,null,null,null,null,null,null,"M-R14"]
[null,null,"R14 Operator Manual (Spanish)",1032123,"N/C",null,{"$f":"IF(F62=0,\" \",\"N/C\")","v":" "},{"$f":"IFERROR(IFERROR(VLOOKUP(D62,Surcharge!A:B,2,FALSE)*F62, VLOOKUP(D62 & \"\",Surcharge!A:B,2,FALSE)*F62), \"\")","v":""},null,null,null,null,null,null,null,null,"M-R14"]
[null,null,"R14 Operator Manual (French)  (Note 2)",1032124,"N/C",null,{"$f":"IF(F63=0,\" \",\"N/C\")","v":" "},{"$f":"IFERROR(IFERROR(VLOOKUP(D63,Surcharge!A:B,2,FALSE)*F63, VLOOKUP(D63 & \"\",Surcharge!A:B,2,FALSE)*F63), \"\")","v":""},null,null,null,null,null,null,null,null,"M-R14"]
[null,null,"Additional Operator Manual","see above",224,null,{"$f":"F64*E64","v":0},{"$f":"IFERROR(IFERROR(VLOOKUP(D64,Surcharge!A:B,2,FALSE)*F64, VLOOKUP(D64 & \"\",Surcharge!A:B,2,FALSE)*F64), \"\")","v":""},null,null,null,null,null,null,null,{"$f":"VLOOKUP(Q64,'MPF SAP Download Canada'!$A:$D,4,FALSE)","v":224},"M-R14VK_ADLOPRMNL"]
[null,null,"R14 Parts Manual",1032125,27,null,{"$f":"F65*E65","v":0},{"$f":"IFERROR(IFERROR(VLOOKUP(D65,Surcharge!A:B,2,FALSE)*F65, VLOOKUP(D65 & \"\",Surcharge!A:B,2,FALSE)*F65), \"\")","v":""},null,null,null,null,null,null,null,{"$f":"VLOOKUP(Q65,'MPF SAP Download Canada'!$A:$D,4,FALSE)","v":27},"M-R14VK_PARMNL"]
[null,null,"Service Manual",1032129,"N/C",null,{"$f":"IF(F66=0,\" \",\"N/C\")","v":" "},{"$f":"IFERROR(IFERROR(VLOOKUP(D66,Surcharge!A:B,2,FALSE)*F66, VLOOKUP(D66 & \"\",Surcharge!A:B,2,FALSE)*F66), \"\")","v":""},null,null,null,null,null,null,null,{"$f":"VLOOKUP(Q66,'MPF SAP Download Canada'!$A:$D,4,FALSE)","v":"N/C"},"M-R14VK_SRVMNL"]
[null,null,null,null,null,null,null,{"$f":"IFERROR(IFERROR(VLOOKUP(D67,Surcharge!A:B,2,FALSE)*F67, VLOOKUP(D67 & \"\",Surcharge!A:B,2,FALSE)*F67), \"\")","v":""},null,null,null,null,null,null,null,null,""]
[null,null,"Packaging",null,null,{"$f":"SUM(F69:F69)","v":0},null,{"$f":"IFERROR(IFERROR(VLOOKUP(D68,Surcharge!A:B,2,FALSE)*F68, VLOOKUP(D68 & \"\",Surcharge!A:B,2,FALSE)*F68), \"\")","v":""},null,null,null,null,null,null,null,null,""]
[null,null,"Skid w/Carton, Non-Stackable",9002882,"N/C",null,{"$f":"IF(F69=0,\" \",\"N/C\")","v":" "},{"$f":"IFERROR(IFERROR(VLOOKUP(D69,Surcharge!A:B,2,FALSE)*F69, VLOOKUP(D69 & \"\",Surcharge!A:B,2,FALSE)*F69), \"\")","v":""},null,null,null,null,null,null,null,{"$f":"VLOOKUP(Q69,'MPF SAP Download Canada'!$A:$D,4,FALSE)","v":"N/C"},"M-R14VK_PKG_SCNS"]
[]
[]
[null,"Custom Solution--write in description, qty, price, and PN if applicable",null,null,null,{"$f":"SUM(F73)","v":0}]
[null,null,null,null,"Insert Prices Here",{"$f":"SUM(F74:F77)","v":0}]
[null,null,null,"Custom",null,{"$f":"IF(E74 <> \"\", 1, 0)","v":0},{"$f":"F74*E74","v":0}]
[null,null,null,"Custom",null,{"$f":"IF(E75 <> \"\", 1, 0)","v":0},{"$f":"F75*E75","v":0}]
[null,null,null,"Custom",null,{"$f":"IF(E76 <> \"\", 1, 0)","v":0},{"$f":"F76*E76","v":0}]
[null,null,null,"Custom",null,{"$f":"IF(E77 <> \"\", 1, 0)","v":0},{"$f":"F77*E77","v":0}]
[null,null,null,null,{"$f":"ROUND(SUM(G43:G77), 0)","v":0},{"$f":"SUM(E79)","v":0}]
[null,null,null,"Machine Subtotal ",{"$f":"ROUND(SUM(G43:G77), 0)","v":0},{"$f":"F78","v":0}]
[null,"Discounts",null,null,null,{"$f":"SUM(F81)","v":0}]
[null,null,null,null,null,{"$f":"SUM(F83:F84)","v":0}]
[null,null,null,"Applicable Currency Adj %",null,{"$f":"IF(E82 <> \"\", 1, 0)","v":0},{"$f":"IF(F82*(E82*0.01)*E78 < 0, F82*(E82*0.01)*E78, -(F82*(E82*0.01)*E78))","v":0}]
[null,null,null,"Discount %",null,{"$f":"IF(E83 <> \"\", 1, 0)","v":0},{"$f":"IF(F83*(E83*0.01)*(E78+G82) < 0, F83*(E83*0.01)*(E78+G82), -(F83*(E83*0.01)*(E78+G82)))","v":0}]
[null,null,null,"Discount $",null,{"$f":"IF(E84 <> \"\", 1, 0)","v":0},{"$f":"IF(F84*E84 < 0, F84*E84, -(F84*E84))","v":0}]
[null,null,null,"Discount Total ",{"$f":"SUM(G82:G84)","v":0},{"$f":"SUM(E85)","v":0}]
[null,null,null,null,null,{"$f":"#REF!","v":{"$error":"#REF!"}}]
[null,null,null,null,null,{"$f":"F86","v":{"$error":"#REF!"}}]
[null,null,"Prepaid and Add","Freight",null,{"$f":"IF(E88 <> \"\", 1, 0)","v":0},{"$f":"F88*E88","v":0}]
[null,null,"Subject to all applicable taxes","Tax",null,{"$f":"IF(E89 <> \"\", 1, 0)","v":0},{"$f":"F89*E89","v":0}]
[null,null,null,null,null,{"$f":"SUM(F91)","v":0}]
[null,null,null,"MACHINE TOTAL*",null,{"$f":"SUM(G91)","v":0},{"$f":"SUM(G43:G89)","v":0},null,null,null,null,null,null,"This goes to \"My Documents\""]
[null,null,null,null,null,null,{"$f":"SUM(G91)","v":0}]
[]
[]
[]
[]
[null,null,"First Western Equipment Finance - Leasing Calculation Option:","Option 1",null,"Option 2",null,null,null,{"$f":"Financing!A38","v":"Rates 2023 - Rev 10/10/2023"}]
[null,null,null,"Monthly Payment","Cost Per Day","Monthly Payment","Cost Per Day",null,null,{"$f":"Financing!A39","v":"“Blank Payment Amounts Indicate The Financing Option Or Purchase Options Selected Are Not "}]
[null,null,"Purchase Option:","FWEF:  $1 Buyout Lease",null,"FWEF: Municipal Lease",null,null,null,{"$f":"Financing!A40","v":"Applicable Or The Machine Total Is Below The Minimum Amount For The Selected Vendor”"}]
[null,null,"24 Months",false,0,false,0,null,null,{"$f":"Financing!A41","v":"\"Quoted monthly payments are estimates only and are based on a certain level of credit rating."}]
[null,null,"30 Months",false,0,false,0,null,null,{"$f":"Financing!A42","v":"Actual monthly payments may be higher depending on your credit rating.\""}]
[null,null,"36 Months",false,0,false,0,null,null,{"$f":"Financing!A43","v":"“Financing rates do not include Pre-Paid Service”"}]
[null,null,"48 Months",0,0,0,0,null,null,{"$f":"Financing!A44","v":0}]
[]
[null,null,null,"Benefits of Equipment Financing:"]
[null,null,null,"• Spreads out investment over time.",null,"• Keep current with latest technology."]
[null,null,null,"• Preserve capital.",null,"• Service and parts bundling available."]
[null,null,null,"• Low monthly payment.",null,"• Pay for labor savings as you go."]
[]
[]
[null,"  TennantTrue",null,0,0]
[]
[null,null,"Is customer interested in service program?","Yes","*State/County selection required for TennantTrue service options"]
[]
[null,null,"If not, why?"]
[]
[null,null,"Term:",36,null,null,"AB Brushes","No"]
[null,null,"Monthly machine usage (hrs):","< 30/mo. (Avg. 1hr./day)"]
[]
[null,null,"TennantTrue: ","Gold Contract",null,"Silver Contract"]
[null,null,"Per Visit",null,null,487]
[null,null,"Monthly",160,null,85]
[null,null,"Annually",null,null,1004]
[null,null,"Pre-Pay Full Term",5517,null,2953]
[null,null,"Hourly Labor Rate"]
[null,null,"Site Visit"]
[]
[null,null,"* Verify customer current pricing prior to quote. "]
[null,null,"**All rates and fees above reflect service for one (1) unit with the exception of Block of Time service."]
[null,null,"*Block of Time is available in 1 Year Term only and is priced as such no matter the term selection on this template."]
[]
[]
[]
[null,"Quote Special Instructions:"]
[]
[]
[null,{"$f":"Start_Here!E36","v":"Terms and Conditions"}]
[null,{"$f":"Start_Here!E37","v":"Ask your local sales rep for estimated lead times. Verify when placing order"}]
[null,{"$f":"Start_Here!E38","v":"All orders subject to acceptance by Tennant Sales and Service Company, Minneapolis, Minnesota"}]
[null,{"$f":"Start_Here!E39","v":"Prices subject to change without notice. Subject to any applicable taxes."}]
[null,{"$f":"Start_Here!E40","v":"Terms:  Net 30 days.  Payable in Canadian Funds"}]
[null,{"$f":"Start_Here!E41","v":"Freight:  Accessories, parts, supplies, detergents, and floor coatings orders delivered DDP "}]
[null,{"$f":"Start_Here!E42","v":"shipping point Frt PPD.  Machine orders delivered DDP shipping point Frt PPD and add."}]
[null,{"$f":"Start_Here!E43","v":"Returned Merchandise is subject to a restocking fee."}]
[null,{"$f":"Start_Here!E44","v":"All orders are subject to Tennant’s General Terms and Conditions available at http://www.tennantco.com/terms."}]
[null,{"$f":"Start_Here!E45","v":"Printed General Terms and Conditions are also available upon request."}]
[null,{"$f":"Start_Here!E46","v":0}]
[]
[null,null,null,null,"Quote Date :",null,{"$f":"Letter!$A$25","v":"2020-09-22"}]
[null,"Order Placement Information:  To place your order, fill in PO# and customer signatures,"]
[null,"call or fax to the numbers listed below. Customer Purchase Order is required."]
[null,"If information is missing, orders will be entered and held until all information is received."]
[null,null,"Customer Number",null,"Cust Grp 3"]
[null,null,{"$f":"Start_Here!$C$25","v":0},null,{"$f":"Start_Here!$C$29","v":0}]
[null,null,{"$f":"Start_Here!$B$18","v":"Who Owns the Machine? (Sold-To Info) (Please Verify)"}]
["Company",null,{"$f":"Start_Here!$C$19","v":"Company Name"}]
["Address",null,{"$f":"Start_Here!$C$20","v":"Address"}]
[null,null,{"$f":"Start_Here!$C$21","v":"City, State Zip"}]
["Name",null,{"$f":"Start_Here!$C$22","v":"Contact Name"}]
["Phone",null,{"$f":"Start_Here!$C$23","v":"Contact Phone"}]
[null,null,{"$f":"Start_Here!$B$11","v":"Where is the Machine Being Shipped? (Ship-To Info) (Please Verify)"}]
["Company",null,{"$f":"Start_Here!$C$12","v":"Company Name"}]
["Address",null,{"$f":"Start_Here!$C$13","v":"Address"}]
[null,null,{"$f":"Start_Here!$C$14","v":"City, State Zip"}]
["Name",null,{"$f":"Start_Here!$C$15","v":"Contact Name"}]
["Phone",null,{"$f":"Start_Here!$C$16","v":"Contact Phone"}]
[null,null,{"$f":"Start_Here!$B$31","v":"Shipping / Carrier Instructions:"},null,"Order Special Instructions:"]
[null,null,{"$f":"Start_Here!$C$32","v":0}]
[]
[null,null,"Customer Purchase Order No."]
[null,null,"(please attach copy)"]
[]
[]
[null,null,"Tax Exempt",null,"Yes"]
[null,null,null,null,"No"]
[null,null,"If Yes, attach a copy of your exemption certificate."]
[]
[null,null,"Requested Delivery Date"]
[null,null,{"$f":"Start_Here!$C$28","v":0}]
[]
[null,null,{"$f":"Start_Here!$C$26","v":0},null,{"$f":"Start_Here!$C$27","v":0}]
[null,null,"Authorized Buyer (please print)",null,"Phone Number"]
[]
[]
[null,null,"Authorized Buyer Signature"]
[]
[null,null,{"$f":"Start_Here!$C$41","v":"Rep Name"}]
[null,null,"Tennant Representative"]
[]
["Specialized Maintenance Equipment"]
[{"$f":"Start_Here!$C$48","v":"TENNANT · 10400 Clean Street · Eden Prairie, MN 55344 ·"}]
[{"$f":"Start_Here!$C$49","v":" PHONE:800-553-8033 · FAX:763-513-2116"}]
[]
[null,"Notes"]
[null,1,"Only available as factory-installed when batteries are ordered with machine."]
[]
[null,"2","A French and English manual will be supplied for all units shipping into Quebec, Canada at no charge.  An additional manual"]
[null,null,"can be ordered (for a total of 3 manuals) for an additional charge as stated under 'Additional Operator Manual'."]
[]
[null,3,"Shipping Weights and Dimensions","Skid w/Carton"]
[]
[null,null,"Weight (w/360AH batteries)","650 lbs / 295 Kg"]
[null,null,"Length","68\" / 1,727mm"]
[null,null,"Width","33\" / 838mm"]
[null,null,"Height","48\" / 1,219mm"]

{"sheet":"MPF SAP Download Canada","index":6,"n_rows":2470,"n_cols":7,"rows_kept":2470,"cut":false,"hidden":true,"merged":[]}
["Master Price File Canada (Canadian MPF) - Products with Variant Numbers (VKs)"]
[]
["Download Date:","11/02/2022"]
["Price Adj Effective Date:","2023-01-01"]
["Table name =","MPF_Table_Canada"]
[]
["Material + Variant Lookup Key","Material","Variant","2023 Amount","Description","Unit","Product hierarchy"]
[{"$f":"B8&C8","v":"M-3640VK_CHG_19A100V5060H1"},"M-3640","VK_CHG_19A100V5060H1",240,"Ch19A 100V 5060H1P","CAD","302406"]
["M-3640VK_HPRDMPAST","M-3640","VK_HPRDMPAST",272,"Hopper Dump Assist","CAD","302406"]
["M-3640VK_BASE_3640-BTY","M-3640","VK_BASE_3640-BTY",22803,"3640-E","CAD","302406"]
["M-3640VK_BTY_W225C20","M-3640","VK_BTY_W225C20",665,"Bty Wet 225AH C20","CAD","302406"]
["M-3640VK_SDEBRSLOC_D","M-3640","VK_SDEBRSLOC_D",1230,"Side Brush: Dual","CAD","302406"]
["M-3640VK_UL TYPE E","M-3640","VK_UL TYPE E","N/C","UL® Type E","CAD","302406"]
["M-3640VK_PWRVACWND_WO","M-3640","VK_PWRVACWND_WO","N/C","Pump w/o WandPump","CAD","302406"]
["M-3640VK_PKG_SSKD_USCAMX","M-3640","VK_PKG_SSKD_USCAMX","N/C","Skid-Cart,Stack","CAD","302406"]
["M-3640VK_UL TYPE EE","M-3640","VK_UL TYPE EE",3708,"UL® Type EE","CAD","302406"]
["M-3640VK_CHG_WO","M-3640","VK_CHG_WO",-194,"Without Charger","CAD","302406"]
["M-3640VK_ULERTG_E","M-3640","VK_ULERTG_E","N/C","UL® Type E","CAD","302406"]
["M-3640VK_NONMKTTRE_WTP","M-3640","VK_NONMKTTRE_WTP",883,"Trs,WideTrackPneum.","CAD","302406"]
["M-3640VK_BTY_WO","M-3640","VK_BTY_WO",-367,"Without Battery","CAD","302406"]
["M-3640VK_PARMNL","M-3640","VK_PARMNL",29,"Parts Manual","CAD","302406"]
["M-3640VK_DSTCTLFLR_PFB","M-3640","VK_DSTCTLFLR_PFB",-784,"Paper Filter Bag","CAD","302406"]
["M-3640VK_CLNTOL_PYPW","M-3640","VK_CLNTOL_PYPW","N/C","Poly & Wire Brush","CAD","302406"]
["M-3640VK_CHG_11A100V5060H1","M-3640","VK_CHG_11A100V5060H1","N/C","Ch11A 100V 5060H1P","CAD","302406"]
["M-3640VK_CARCLNEQUPKG_SRT","M-3640","VK_CARCLNEQUPKG_SRT",847,"Carp Clean Eqp Std","CAD","302406"]
["M-3640VK_CARCLNEQUPKG_ERT","M-3640","VK_CARCLNEQUPKG_ERT",847,"Carp Clean Eqp Ext","CAD","302406"]
["M-3640VK_BTY_W130C20","M-3640","VK_BTY_W130C20","N/C","Bty Wet 130AH C20","CAD","302406"]
["M-3640VK_BTYWTRSYS","M-3640","VK_BTYWTRSYS",825,"Battery Watering Sys","CAD","302406"]
["M-3640VK_ADLOPRMNL","M-3640","VK_ADLOPRMNL",130,"Add Operator Manual","CAD","302406"]
["M-3640VK_ULERTG_EE","M-3640","VK_ULERTG_EE",3708,"UL® Type EE","CAD","302406"]
["M-3640VK_SRVMNL","M-3640","VK_SRVMNL",298,"Service Manual","CAD","302406"]
["M-3640VK_SDECLNTOL_PYP","M-3640","VK_SDECLNTOL_PYP","N/C","Side Poly Brush","CAD","302406"]
["M-3640VK_SDEBRSLOC_RH","M-3640","VK_SDEBRSLOC_RH","N/C","Side Brush: RH","CAD","302406"]
["M-3640VK_PWRVACWND_LW","M-3640","VK_PWRVACWND_LW","N/C","Live Wand","CAD","302406"]
["M-3640VK_PWRVACWND_AWK","M-3640","VK_PWRVACWND_AWK",432,"Accessory Wand Kit","CAD","302406"]
["M-3640VK_PKG_WSKD","M-3640","VK_PKG_WSKD","N/C","Skid w/Stretch Wrap","CAD","302406"]
["M-3640VK_NONMKTTRE_BSR","M-3640","VK_NONMKTTRE_BSR","N/C","Tire Blk Sld Rubber","CAD","302406"]
["M-3640VK_HEPFLR","M-3640","VK_HEPFLR",9439,"HEPA Filter","CAD","302406"]
["M-3640VK_EMYSTP","M-3640","VK_EMYSTP",451,"Emergency Stop","CAD","302406"]
["M-3640VK_DSTCTLFLR_PFLR","M-3640","VK_DSTCTLFLR_PFLR","N/C","Panel Filter Kit","CAD","302406"]
["M-3640VK_CLNTOL_UMB","M-3640","VK_CLNTOL_UMB","N/C","Union Mix Brush","CAD","302406"]
["M-3640VK_CLNTOL_SWB","M-3640","VK_CLNTOL_SWB","N/C","Sand Wedge Brush","CAD","302406"]
["M-3640VK_CLNTOL_PYP","M-3640","VK_CLNTOL_PYP","N/C","Poly Brush","CAD","302406"]
["M-S10VK_CLNTOL_FBWB18","M-S10","VK_CLNTOL_FBWB18",423,"Fiber & Wire, 18-row","CAD","302601"]
["M-S10VK_CLNTOL_UMB18","M-S10","VK_CLNTOL_UMB18",365,"Union Mix, 18-row","CAD","302601"]
["M-S10VK_BASE_S10-BTY_STD","M-S10","VK_BASE_S10-BTY_STD",20305,"S10 Bty Sweeper - STD","CAD","302601"]
["M-S10VK_PKG_PAD","M-S10","VK_PKG_PAD","N/C","Pad Wrap","CAD","302601"]
["M-S10VK_S10-B","M-S10","VK_S10-B",20305,"S10 Battery Swpr","CAD","302601"]
["M-S10VK_BTY_W110C5","M-S10","VK_BTY_W110C5","N/C","Bty Wet 110AH C5","CAD","302601"]
["M-S10VK_FLRSYS_HEPA","M-S10","VK_FLRSYS_HEPA",6678,"HEPA Filter System","CAD","302601"]
["M-S10VK_SDECLNTOL_NYL","M-S10","VK_SDECLNTOL_NYL","N/C","Side Nylon Brush","CAD","302601"]
["M-S10VK_SRVMNL","M-S10","VK_SRVMNL",342,"Service Manual","CAD","302601"]
["M-S10VK_BASE_S10-BTY","M-S10","VK_BASE_S10-BTY",20305,"S10 BTY","CAD","302601"]
["M-S10VK_ADLOPRMNL","M-S10","VK_ADLOPRMNL",79,"Add Operator Manual","CAD","302601"]
["M-S10VK_SDECLNTOL_PYP","M-S10","VK_SDECLNTOL_PYP","N/C","Side Poly Brush","CAD","302601"]
["M-S10VK_PKG_SSKD","M-S10","VK_PKG_SSKD","N/C","Stack Skid/Carton","CAD","302601"]
["M-S10VK_OPRVID","M-S10","VK_OPRVID","N/C","Operator Video","CAD","302601"]
["M-S10VK_CLNTOL_UMB","M-S10","VK_CLNTOL_UMB",284,"Union Mix Brush","CAD","302601"]
["M-S10VK_CLNTOL_PYP","M-S10","VK_CLNTOL_PYP","N/C","Poly Brush","CAD","302601"]
["M-S10VK_CLNTOL_NYL","M-S10","VK_CLNTOL_NYL",305,"Nylon Brush","CAD","302601"]
["M-S10VK_CLNTOL_FBWB","M-S10","VK_CLNTOL_FBWB","N/C","Fiber & Wire Brush","CAD","302601"]
["M-6100VK_BLULGT","M-6100","VK_BLULGT",1434,"Blue Light","CAD","303050"]
["M-6100VK_PKG_SKD_NO_CHG","M-6100","VK_PKG_SKD_NO_CHG","N/C","Skid","CAD","303050"]
["M-6100VK_PKG_CRT_NO_CHG","M-6100","VK_PKG_CRT_NO_CHG","N/C","Crate No Charge","CAD","303050"]
["M-6100VK_PKG_PAD","M-6100","VK_PKG_PAD","N/C","Pad Wrap","CAD","303050"]
["M-6100VK_BASE_6100-B_STD","M-6100","VK_BASE_6100-B_STD",30732,"6100 Bty Standard Config","CAD","303050"]
["M-6100VK_21A85V5060H1P_G180_ON","M-6100","VK_21A85V5060H1P_G180_ON",2482,"Ch21A 85V 5060H1P","CAD","303050"]
["M-6100VK_CHG_WO","M-6100","VK_CHG_WO",-450,"Without Charger","CAD","303050"]
["M-6100VK_BTYWTRSYS","M-6100","VK_BTYWTRSYS",1074,"Battery Watering Sys","CAD","303050"]
["M-6100VK_CSMSLN_CC","M-6100","VK_CSMSLN_CC",5600,"Custom Color","CAD","303050"]
["M-6100VK_SET_ADJFB","M-6100","VK_SET_ADJFB",216,"Adjustable Seat","CAD","303050"]
[{"$f":"B72&C72","v":"M-6100VK_STLCSENOTBTY_Y"},"M-6100","VK_STLCSENOTBTY_Y",641,"Steel Case","CAD","303050"]
["M-6100VK_FREEXT","M-6100","VK_FREEXT",298,"Fire Extinguisher","CAD","303050"]
["M-6100VK_CHG_21A85V5060H1_ONBD","M-6100","VK_CHG_21A85V5060H1_ONBD",2803,"Ch21A 85V 5060H1P","CAD","303050"]
["M-6100VK_CSMSBTPARKIT","M-6100","VK_CSMSBTPARKIT",8109,"Sunbelt -Parts Kit","CAD","303050"]
["M-6100VK_SLADSTFLTPKG_RH","M-6100","VK_SLADSTFLTPKG_RH",9896,"HEPA Dust Filter Pkg: RH","CAD","303050"]
["M-6100VK_SLADSTFLTPKG_D","M-6100","VK_SLADSTFLTPKG_D",10736,"HEPA Dust Filter Pkg: Dual","CAD","303050"]
["M-6100VK_SDEBRSLOC_D_NC","M-6100","VK_SDEBRSLOC_D_NC","N/C","Side Brush: Dual","CAD","303050"]
["M-6100VK_SDEBRSDSTCTL_D_RH_NC","M-6100","VK_SDEBRSDSTCTL_D_RH_NC","N/C","SideBrshDustCntrl Dry RH","CAD","303050"]
["M-6100VK_SDEBRSDSTCTL_D_RH","M-6100","VK_SDEBRSDSTCTL_D_RH",1585,"SideBrshDustCntrl Dry RH","CAD","303050"]
["M-6100VK_SDEBRSDSTCTL_D_D_NC","M-6100","VK_SDEBRSDSTCTL_D_D_NC","N/C","SideBrshDustCntrl Dry D","CAD","303050"]
["M-6100VK_SDEBRSDSTCTL_D_D","M-6100","VK_SDEBRSDSTCTL_D_D",2424,"SideBrshDustCntrl Dry D","CAD","303050"]
["M-6100VK_PWRVACWND_VACWND_ON","M-6100","VK_PWRVACWND_VACWND_ON",6377,"Vacuum Wand","CAD","303050"]
["M-6100VK_PWRVACWND_VACWNDHP_ON","M-6100","VK_PWRVACWND_VACWNDHP_ON",6777,"Vacuum Wand HP","CAD","303050"]
["M-6100VK_FLRSYS_HEPA_NC","M-6100","VK_FLRSYS_HEPA_NC","N/C","HEPA Filter System","CAD","303050"]
["M-6100VK_FLRSYS_HEPA","M-6100","VK_FLRSYS_HEPA",8318,"HEPA Filter System","CAD","303050"]
["M-6100VK_21A85V5060H1P_W225_ON","M-6100","VK_21A85V5060H1P_W225_ON",2803,"Ch21A 85V 5060H1P","CAD","303050"]
["M-6100VK_MCHCOM","M-6100","VK_MCHCOM",1916,"IRIS Telemetry","CAD","303050"]
["M-6100VK_STLCSENOTBTY","M-6100","VK_STLCSENOTBTY",641,"Steel Case","CAD","303050"]
["M-6100VK_PKG_CRT_NC","M-6100","VK_PKG_CRT_NC","N/C","Crate","CAD","303050"]
["M-6100VK_PARMNL","M-6100","VK_PARMNL",32,"Parts Manual","CAD","303050"]
["M-6100VK_BASE_6100-BTY","M-6100","VK_BASE_6100-BTY",30732,"6100 Battery Sweeper","CAD","303050"]
["M-6100VK_21A85V5060H1P","M-6100","VK_21A85V5060H1P","N/C","Ch21A 85V 5060H1P","CAD","303050"]
["M-6100VK_OPRVID","M-6100","VK_OPRVID","N/C","Operator Video","CAD","303050"]
["M-6100VK_SDECLNTOL_HDPYP","M-6100","VK_SDECLNTOL_HDPYP","N/C","Side HD Poly Brush","CAD","303050"]
["M-6100VK_ALTSTBFLSLNS_R","M-6100","VK_ALTSTBFLSLNS_R","N/C","Alternate Lens-Red","CAD","303050"]
["M-6100VK_BTY_W225C20","M-6100","VK_BTY_W225C20","N/C","Bty Wet 225AH C20","CAD","303050"]
["M-6100VK_SRVMNL","M-6100","VK_SRVMNL",343,"Service Manual","CAD","303050"]
["M-6100VK_WTY_STD","M-6100","VK_WTY_STD","N/C","Warranty STD","CAD","303050"]
["M-6100VK_CLNTOL_UMB","M-6100","VK_CLNTOL_UMB",374,"Union Mix Brush","CAD","303050"]
["M-6100VK_CLNTOL_PYPWIN","M-6100","VK_CLNTOL_PYPWIN","N/C","Poly Window Brush","CAD","303050"]
["M-6100VK_CLNTOL_PYP","M-6100","VK_CLNTOL_PYP","N/C","Poly Brush","CAD","303050"]
["M-6100VK_ALTSTBFLSLNS_B","M-6100","VK_ALTSTBFLSLNS_B","N/C","Alternate Lens-Blue","CAD","303050"]
["M-6100VK_RERTRE_SR","M-6100","VK_RERTRE_SR","N/C","Trs Rear Solid Rbr","CAD","303050"]
["M-6100VK_BTYCRT_1","M-6100","VK_BTYCRT_1",3314,"Battery Cart","CAD","303050"]
["M-6100VK_BTY_WO","M-6100","VK_BTY_WO",-695,"Without Battery","CAD","303050"]
["M-6100VK_BTY_G180C20","M-6100","VK_BTY_G180C20",3601,"Bty Gel 180AH C20","CAD","303050"]
["M-6100VK_PKG_SKD","M-6100","VK_PKG_SKD","N/C","Skid","CAD","303050"]
["M-6100VK_SDECLNTOL_PYP","M-6100","VK_SDECLNTOL_PYP","N/C","Side Poly Brush","CAD","303050"]
["M-6100VK_SETBLT","M-6100","VK_SETBLT",220,"Seat Belt","CAD","303050"]
["M-6100VK_MOPTYP_NWM","M-6100","VK_MOPTYP_NWM","N/C","White Mop","CAD","303050"]
["M-6100VK_ADLOPRMNL","M-6100","VK_ADLOPRMNL",264,"Add Operator Manual","CAD","303050"]
["M-6100VK_WTY_XTD","M-6100","VK_WTY_XTD",3064,"Warranty Plus","CAD","303050"]
["M-6100VK_MOPTYP_BM","M-6100","VK_MOPTYP_BM","N/C","Blue Mop","CAD","303050"]
["M-6100VK_21A85V5060H1P_G180","M-6100","VK_21A85V5060H1P_G180",610,"Ch21A 85V 5060H1P","CAD","303050"]
["M-6100VK_PWRVACWND_VACWNDHP","M-6100","VK_PWRVACWND_VACWNDHP",2967,"Vacuum Wand HP","CAD","303050"]
["M-6100VK_BTYEXCSYS_RO","M-6100","VK_BTYEXCSYS_RO",1390,"Bty Rollout Sys.","CAD","303050"]
["M-6100VK_PKG_CRT","M-6100","VK_PKG_CRT","N/C","Crate","CAD","303050"]
["M-6100VK_UPG","M-6100","VK_UPG","N/C","UPG","CAD","303050"]
["M-6100VK_CLNTOL_SWB","M-6100","VK_CLNTOL_SWB",374,"Sand Wedge Brush","CAD","303050"]
["M-6100VK_PWRVACWND_VACWND","M-6100","VK_PWRVACWND_VACWND",2564,"Vacuum Wand","CAD","303050"]
["M-6100VK_MOP","M-6100","VK_MOP",3115,"QuickMop","CAD","303050"]
["M-6100VK_SDEBRSLOC_RH","M-6100","VK_SDEBRSLOC_RH","N/C","Side Brush: RH","CAD","303050"]
["M-6100VK_SDEBRSLOC_D","M-6100","VK_SDEBRSLOC_D",1519,"Side Brush: Dual","CAD","303050"]
["M-6100VK_BTYCRT_2","M-6100","VK_BTYCRT_2",6462,"Battery Cart 2","CAD","303050"]
["M-6100VK_ADLBTY_1","M-6100","VK_ADLBTY_1",2301,"Add. Bty","CAD","303050"]
["M-6100VK_WRKLGT","M-6100","VK_WRKLGT",550,"Work Light","CAD","303050"]
["M-6100VK_WRNLGTANDALM_AU","M-6100","VK_WRNLGTANDALM_AU",730,"Audio BU Alarm","CAD","303050"]
["M-6100VK_WRNLGTANDALM_AUSL","M-6100","VK_WRNLGTANDALM_AUSL",1004,"AV BU AlrmStrobe Lnl","CAD","303050"]
["M-6100VK_WRNLGTANDALM_SL","M-6100","VK_WRNLGTANDALM_SL",720,"Strobe Light Lintel","CAD","303050"]
["M-6100VK_RERTRE_SNM","M-6100","VK_RERTRE_SNM",470,"Trs Rear Solid NM","CAD","303050"]
["M-6100VK_SDEBMP","M-6100","VK_SDEBMP",284,"Side Bumper","CAD","303050"]
["M-S16HVK_SET_DLXW","M-S16H","VK_SET_DLXW",794,"Deluxe Seat w/Armr.","CAD","304007"]
["M-S16HVK_BTY_L36V4M","M-S16H","VK_BTY_L36V4M",21396,"Bty Li-Ion 36v, 8.2kWh","CAD","304007"]
["M-S16HVK_BTY_W360C20","M-S16H","VK_BTY_W360C20",1510,"Bty Wet 360AH C20","CAD","304007"]
[{"$f":"B136&C136","v":"M-S16HVK_SDEBRSDSTCTL_D_D"},"M-S16H","VK_SDEBRSDSTCTL_D_D",2362,"SideBrshDustCntrl Dry D","CAD","304007"]
["M-S16HVK_BTY_L36V2M","M-S16H","VK_BTY_L36V2M",10772,"Bty Li-Ion 36v, 4.1kWh","CAD","304007"]
["M-S16HVK_SRVMNL","M-S16H","VK_SRVMNL",340,"Service Manual","CAD","304007"]
["M-S16HVK_CLNTOL_NFB","M-S16H","VK_CLNTOL_NFB",318,"Natural Fiber Brush","CAD","304007"]
["M-S16HVK_BLULGT_NC","M-S16H","VK_BLULGT_NC","N/C","Blue Light","CAD","304007"]
["M-S16HVK_CHG_25A100V5060H1OFF","M-S16H","VK_CHG_25A100V5060H1OFF","N/C","Ch25A 100V 50/60Hz 1Ph Off","CAD","304007"]
["M-S16HVK_BLULGT","M-S16H","VK_BLULGT",1433,"Blue Light","CAD","304007"]
["M-S16HVK_SDEBRSLOC_D","M-S16H","VK_SDEBRSLOC_D",1519,"Side Brush: Dual","CAD","304007"]
["M-S16HVK_CLNTOL_PYPW","M-S16H","VK_CLNTOL_PYPW","N/C","Poly & Wire Brush","CAD","304007"]
["M-S16HVK_BTY_W240C20","M-S16H","VK_BTY_W240C20","N/C","Bty Wet 240AH C20","CAD","304007"]
["M-S16HVK_WRNLGTANDALM_AUSL","M-S16H","VK_WRNLGTANDALM_AUSL",934,"AV BU AlrmStrobe Lnl","CAD","304007"]
["M-S16HVK_ADLOPRMNL","M-S16H","VK_ADLOPRMNL",264,"Add Operator Manual","CAD","304007"]
["M-S16HVK_CHG_33A100V5060H1POFF","M-S16H","VK_CHG_33A100V5060H1POFF",342,"Ch33A 100V 50/60Hz 1Ph Off","CAD","304007"]
["M-S16HVK_BTYWTRSYS_ML","M-S16H","VK_BTYWTRSYS_ML",1042,"Battery Watering Manual","CAD","304007"]
["M-S16HVK_SFYLGTPKG","M-S16H","VK_SFYLGTPKG",3037,"Safety Light Package","CAD","304007"]
["M-S16HVK_CHG_33A100V5060H1PFLI","M-S16H","VK_CHG_33A100V5060H1PFLI",1490,"Ch33A 100V 50/60Hz 1Ph Off","CAD","304007"]
["M-S16HVK_SLADSTFLTPKG_RH","M-S16H","VK_SLADSTFLTPKG_RH",10259,"HEPA Dust Filter Pkg: RH","CAD","304007"]
["M-S16HVK_MCHCOM_SBT","M-S16H","VK_MCHCOM_SBT",1916,"IRIS Telemetry","CAD","304007"]
["M-S16HVK_BASE_S16H_STD","M-S16H","VK_BASE_S16H_STD",53207,"S16 High Dump - STD","CAD","304007"]
["M-S16HVK_CLNTOL_PYP","M-S16H","VK_CLNTOL_PYP","N/C","Poly Brush","CAD","304007"]
["M-S16HVK_CHG_WO","M-S16H","VK_CHG_WO",-279,"Without Charger","CAD","304007"]
["M-S16HVK_CHG_33A100V5060H1PON","M-S16H","VK_CHG_33A100V5060H1PON",1490,"Ch33A 100V 50/60Hz 1Ph On","CAD","304007"]
["M-S16HVK_CHG_25A100V5060H1ON","M-S16H","VK_CHG_25A100V5060H1ON",1152,"Ch25A 100V 50/60Hz 1Ph On","CAD","304007"]
["M-S16HVK_CARCREPKG","M-S16H","VK_CARCREPKG",901,"Carpet Care Pkg","CAD","304007"]
["M-S16HVK_BTY_WO","M-S16H","VK_BTY_WO",-693,"Without Battery","CAD","304007"]
["M-S16HVK_BTY_L36V6M","M-S16H","VK_BTY_L36V6M",29680,"Bty Li-Ion 36v, 12.2kWh","CAD","304007"]
["M-S16HVK_BTYWTRSYS_SF","M-S16H","VK_BTYWTRSYS_SF",1603,"Smart Fill","CAD","304007"]
["M-S16HVK_BASE_S16H","M-S16H","VK_BASE_S16H",53207,"Sweeper S16 High Dump","CAD","304007"]
["M-S16HVK_ULERTG_ES","M-S16H","VK_ULERTG_ES",3994,"UL® Type ES","CAD","304007"]
["M-S16HVK_SLADSTFLTPKG_D","M-S16H","VK_SLADSTFLTPKG_D",11069,"HEPA Dust Filter Pkg: Dual","CAD","304007"]
["M-S16HVK_SDECLNTOL_PYP","M-S16H","VK_SDECLNTOL_PYP","N/C","Side Poly Brush","CAD","304007"]
["M-S16HVK_SDEBRSDSTCTL_D_RH","M-S16H","VK_SDEBRSDSTCTL_D_RH",1551,"SideBrshDustCntrl Dry RH","CAD","304007"]
["M-S16HVK_PWRVACWND_VACWND","M-S16H","VK_PWRVACWND_VACWND",2564,"Vacuum Wand","CAD","304007"]
["M-S16HVK_PRDPKG","M-S16H","VK_PRDPKG",3874,"Productivity Package","CAD","304007"]
["M-S16HVK_PKG_SKD","M-S16H","VK_PKG_SKD",645,"Skid","CAD","304007"]
["M-S16HVK_PKG_SCNS","M-S16H","VK_PKG_SCNS","N/C","NonStack Skid/Carton","CAD","304007"]
["M-S16HVK_OVHGRD","M-S16H","VK_OVHGRD",2288,"Overhead Guard","CAD","304007"]
["M-S16HVK_MCHCOM","M-S16H","VK_MCHCOM",1916,"IRIS Telemetry","CAD","304007"]
["M-S16HVK_HLTANDTALLGT","M-S16H","VK_HLTANDTALLGT",834,"Headlghts/Tail Lghts","CAD","304007"]
["M-S16HVK_FREEXT","M-S16H","VK_FREEXT",475,"Fire Extinguisher","CAD","304007"]
["M-S16HVK_FLRSYS_HEPA","M-S16H","VK_FLRSYS_HEPA",8709,"HEPA Filter System","CAD","304007"]
["M-S16HVK_CLNTOL_SWB","M-S16H","VK_CLNTOL_SWB",318,"Sand Wedge Brush","CAD","304007"]
["M-S16HVK_CLNTOL_PYPWIN","M-S16H","VK_CLNTOL_PYPWIN",318,"Poly Window Brush","CAD","304007"]
["M-S16LVK_CLNTOL_PYP","M-S16L","VK_CLNTOL_PYP","N/C","Poly Brush","CAD","304008"]
["M-S16LVK_CHG_25A100V5060H1ON","M-S16L","VK_CHG_25A100V5060H1ON",1152,"Ch25A 100V 50/60Hz 1Ph On","CAD","304008"]
["M-S16LVK_BTYWTRSYS_SF","M-S16L","VK_BTYWTRSYS_SF",1603,"Smart Fill","CAD","304008"]
["M-S16LVK_OVHGRD","M-S16L","VK_OVHGRD",2288,"Overhead Guard","CAD","304008"]
["M-S16LVK_CHG_33A100V5060H1PON","M-S16L","VK_CHG_33A100V5060H1PON",1490,"Ch33A 100V 50/60Hz 1Ph On","CAD","304008"]
["M-S16LVK_BTY_W240C20","M-S16L","VK_BTY_W240C20","N/C","Bty Wet 240AH C20","CAD","304008"]
["M-S16LVK_BASE_S16L","M-S16L","VK_BASE_S16L",42637,"Sweeper S16 Low Dump","CAD","304008"]
["M-S16LVK_CLNTOL_PYPWIN","M-S16L","VK_CLNTOL_PYPWIN",318,"Poly Window Brush","CAD","304008"]
["M-S16LVK_CHG_33A100V5060H1PFLI","M-S16L","VK_CHG_33A100V5060H1PFLI",1490,"Ch33A 100V 50/60Hz 1Ph Off","CAD","304008"]
["M-S16LVK_FLRSYS_HEPA","M-S16L","VK_FLRSYS_HEPA",8709,"HEPA Filter System","CAD","304008"]
["M-S16LVK_CLNTOL_SWB","M-S16L","VK_CLNTOL_SWB",318,"Sand Wedge Brush","CAD","304008"]
["M-S16LVK_BTY_L36V6M","M-S16L","VK_BTY_L36V6M",29680,"Bty Li-Ion 36v, 12.2kWh","CAD","304008"]
["M-S16LVK_PKG_SKD","M-S16L","VK_PKG_SKD",645,"Skid","CAD","304008"]
["M-S16LVK_BLULGT","M-S16L","VK_BLULGT",1433,"Blue Light","CAD","304008"]
["M-S16LVK_PWRVACWND_VACWND","M-S16L","VK_PWRVACWND_VACWND",2564,"Vacuum Wand","CAD","304008"]
["M-S16LVK_BTY_W360C20","M-S16L","VK_BTY_W360C20",1510,"Bty Wet 360AH C20","CAD","304008"]
["M-S16LVK_MCHCOM","M-S16L","VK_MCHCOM",1916,"IRIS Telemetry","CAD","304008"]
["M-S16LVK_PKG_SCNS","M-S16L","VK_PKG_SCNS","N/C","NonStack Skid/Carton","CAD","304008"]
["M-S16LVK_CARCREPKG","M-S16L","VK_CARCREPKG",901,"Carpet Care Pkg","CAD","304008"]
["M-S16LVK_CHG_33A100V5060H1POFF","M-S16L","VK_CHG_33A100V5060H1POFF",342,"Ch33A 100V 50/60Hz 1Ph Off","CAD","304008"]
["M-S16LVK_BTY_L36V2M","M-S16L","VK_BTY_L36V2M",10772,"Bty Li-Ion 36v, 4.1kWh","CAD","304008"]
[{"$f":"B200&C200","v":"M-S16LVK_HLTANDTALLGT"},"M-S16L","VK_HLTANDTALLGT",834,"Headlghts/Tail Lghts","CAD","304008"]
["M-S16LVK_ADLOPRMNL","M-S16L","VK_ADLOPRMNL",264,"Add Operator Manual","CAD","304008"]
["M-S16LVK_BLULGT_NC","M-S16L","VK_BLULGT_NC","N/C","Blue Light","CAD","304008"]
["M-S16LVK_MCHCOM_SBT","M-S16L","VK_MCHCOM_SBT",1916,"IRIS Telemetry","CAD","304008"]
["M-S16LVK_BASE_S16L_STD","M-S16L","VK_BASE_S16L_STD",42637,"S16 Low Dump - STD","CAD","304008"]
["M-S16LVK_BTYWTRSYS_ML","M-S16L","VK_BTYWTRSYS_ML",1042,"Battery Watering Manual","CAD","304008"]
["M-S16LVK_BTY_L36V4M","M-S16L","VK_BTY_L36V4M",21396,"Bty Li-Ion 36v, 8.2kWh","CAD","304008"]
["M-S16LVK_BTY_WO","M-S16L","VK_BTY_WO",-693,"Without Battery","CAD","304008"]
["M-S16LVK_CHG_25A100V5060H1OFF","M-S16L","VK_CHG_25A100V5060H1OFF","N/C","Ch25A 100V 50/60Hz 1Ph Off","CAD","304008"]
["M-S16LVK_CHG_WO","M-S16L","VK_CHG_WO",-279,"Without Charger","CAD","304008"]
["M-S16LVK_CLNTOL_NFB","M-S16L","VK_CLNTOL_NFB",318,"Natural Fiber Brush","CAD","304008"]
["M-S16LVK_CLNTOL_PYPW","M-S16L","VK_CLNTOL_PYPW","N/C","Poly & Wire Brush","CAD","304008"]
["M-S16LVK_FREEXT","M-S16L","VK_FREEXT",475,"Fire Extinguisher","CAD","304008"]
["M-S16LVK_PRDPKG","M-S16L","VK_PRDPKG",3874,"Productivity Package","CAD","304008"]
["M-S16LVK_RMVHPRBIN","M-S16L","VK_RMVHPRBIN",901,"Removable Hopper Bins","CAD","304008"]
["M-S16LVK_SDEBRSDSTCTL_D_D","M-S16L","VK_SDEBRSDSTCTL_D_D",2362,"SideBrshDustCntrl Dry D","CAD","304008"]
["M-S16LVK_SDEBRSDSTCTL_D_RH","M-S16L","VK_SDEBRSDSTCTL_D_RH",1551,"SideBrshDustCntrl Dry RH","CAD","304008"]
["M-S16LVK_SDEBRSLOC_D","M-S16L","VK_SDEBRSLOC_D",1519,"Side Brush: Dual","CAD","304008"]
["M-S16LVK_SDECLNTOL_PYP","M-S16L","VK_SDECLNTOL_PYP","N/C","Side Poly Brush","CAD","304008"]
["M-S16LVK_SET_DLXW","M-S16L","VK_SET_DLXW",794,"Deluxe Seat w/Armr.","CAD","304008"]
["M-S16LVK_SFYLGTPKG","M-S16L","VK_SFYLGTPKG",3037,"Safety Light Package","CAD","304008"]
["M-S16LVK_SLADSTFLTPKG_D","M-S16L","VK_SLADSTFLTPKG_D",11069,"HEPA Dust Filter Pkg: Dual","CAD","304008"]
["M-S16LVK_SLADSTFLTPKG_RH","M-S16L","VK_SLADSTFLTPKG_RH",10259,"HEPA Dust Filter Pkg: RH","CAD","304008"]
["M-S16LVK_SRVMNL","M-S16L","VK_SRVMNL",340,"Service Manual","CAD","304008"]
["M-S16LVK_ULERTG_ES","M-S16L","VK_ULERTG_ES",3994,"UL® Type ES","CAD","304008"]
["M-S16LVK_WRNLGTANDALM_AUSL","M-S16L","VK_WRNLGTANDALM_AUSL",934,"AV BU AlrmStrobe Lnl","CAD","304008"]
["M-S20VK_SDEBRSLOC_D","M-S20","VK_SDEBRSLOC_D",4252,"Side Brush: Dual","CAD","304053"]
["M-S20VK_CLNTOL_PYP","M-S20","VK_CLNTOL_PYP","N/C","Poly Brush","CAD","304053"]
["M-S20VK_ULERTG_LPS","M-S20","VK_ULERTG_LPS",7119,"UL® Type LPS","CAD","304053"]
["M-S20VK_WTY_STD","M-S20","VK_WTY_STD","N/C","Warranty STD","CAD","304053"]
["M-S20VK_CLNTOL_PYSFF","M-S20","VK_CLNTOL_PYSFF",348,"Poly Full Fill Brush","CAD","304053"]
["M-S20VK_CLNTOL_UMB","M-S20","VK_CLNTOL_UMB",348,"Union Mix Brush","CAD","304053"]
["M-S20VK_CLMCTL_D","M-S20","VK_CLMCTL_D",4507,"Heater","CAD","304053"]
["M-S20VK_CHG_75A208V60H1P","M-S20","VK_CHG_75A208V60H1P",3306,"Ch75A 208V 60H1P","CAD","304053"]
["M-S20VK_CLNTOL_PYPWIN","M-S20","VK_CLNTOL_PYPWIN",348,"Poly Window Brush","CAD","304053"]
["M-S20VK_SDECLNTOL_FWB","M-S20","VK_SDECLNTOL_FWB","N/C","Side Flat Wire","CAD","304053"]
["M-S20VK_RERTRE_SRST","M-S20","VK_RERTRE_SRST",443,"Trs Rear Solid Soft","CAD","304053"]
["M-S20VK_SLMVGVEHSGN","M-S20","VK_SLMVGVEHSGN",543,"Slow Moving Sign","CAD","304053"]
["M-S20VK_PRDPKG_NOBAT","M-S20","VK_PRDPKG_NOBAT",5133,"Productivity Pkg","CAD","304053"]
["M-S20VK_AVFC/O_GLD_YNSCWO","M-S20","VK_AVFC/O_GLD_YNSCWO",1276,"AV BU AlarmFlash Cab","CAD","304053"]
["M-S20VK_BASE_S20-LPG_STD","M-S20","VK_BASE_S20-LPG_STD",63959,"S20 LPG Std Config","CAD","304053"]
["M-S20VK_LPGTNK_F","M-S20","VK_LPGTNK_F","N/C","LPG Tank Full","CAD","304053"]
["M-S20VK_PKG_CRT","M-S20","VK_PKG_CRT","N/C","Crate","CAD","304053"]
["M-S20VK_WPFMNLPCH","M-S20","VK_WPFMNLPCH",295,"Weatherproof Manual Pouch","CAD","304053"]
["M-S20VK_WCHHOK","M-S20","VK_WCHHOK",748,"Winch Hook","CAD","304053"]
["M-S20VK_FRMLFTLUG_SD","M-S20","VK_FRMLFTLUG_SD",2124,"Frame Lifting Lugs-Side","CAD","304053"]
["M-S20VK_BTY_W440C6","M-S20","VK_BTY_W440C6",7632,"Bty Wet 440 C6","CAD","304053"]
["M-S20VK_BASE_S20-DSL_STD","M-S20","VK_BASE_S20-DSL_STD",70954,"S20 Diesel Std Config","CAD","304053"]
["M-S20VK_BASE_S20-GAS_STD","M-S20","VK_BASE_S20-GAS_STD",63959,"S20 Gasoline Std Config","CAD","304053"]
["M-S20VK_AVFE_GLD_YNWO","M-S20","VK_AVFE_GLD_YNWO",1276,"AV BU AlarmFlash Eng","CAD","304053"]
["M-S20VK_PWRVACWND_VACWND","M-S20","VK_PWRVACWND_VACWND",1648,"Vacuum Wand","CAD","304053"]
["M-S20VK_CHG_80A200V5060H3P","M-S20","VK_CHG_80A200V5060H3P",5501,"Ch80A 200V 5060H3P","CAD","304053"]
["M-S20VK_CHG_80A200V5060H1P","M-S20","VK_CHG_80A200V5060H1P",4431,"Ch80A 200V 5060H1P","CAD","304053"]
["M-S20VK_CHG_120A480V5060H3P","M-S20","VK_CHG_120A480V5060H3P",5939,"Ch120A 480V 5060H3P","CAD","304053"]
["M-S20VK_CHG_100A200V5060H3","M-S20","VK_CHG_100A200V5060H3",5302,"Ch100A 200V 5060H3P","CAD","304053"]
["M-S20VK_S20-G","M-S20","VK_S20-G",63959,"S20 Gasoline","CAD","304053"]
["M-S20VK_CHG_144A208V5060H1P","M-S20","VK_CHG_144A208V5060H1P",6536,"Ch144A 208V 5060H1P","CAD","304053"]
["M-S20VK_DATPKG_HO","M-S20","VK_DATPKG_HO",1977,"Hardware Only","CAD","304053"]
["M-S20VK_S20-B","M-S20","VK_S20-B",69088,"S20 Battery","CAD","304053"]
["M-S20VK_S20-DSL","M-S20","VK_S20-DSL",70954,"S20 Diesel","CAD","304053"]
["M-S20VK_CHG_160A280V5060H3P","M-S20","VK_CHG_160A280V5060H3P",7792,"Ch160A 208V 5060H3P","CAD","304053"]
["M-S20VK_BTY_W315C6","M-S20","VK_BTY_W315C6",2913,"Bty Wet 315AHC6","CAD","304053"]
["M-S20VK_PKG_SKD_NO_CHG","M-S20","VK_PKG_SKD_NO_CHG","N/C","Skid","CAD","304053"]
["M-S20VK_PKG_PAD","M-S20","VK_PKG_PAD","N/C","Pad Wrap","CAD","304053"]
[{"$f":"B264&C264","v":"M-S20VK_CLNTOL_PYPW"},"M-S20","VK_CLNTOL_PYPW","N/C","Poly & Wire Brush","CAD","304053"]
["M-S20VK_S20-LP","M-S20","VK_S20-LP",63959,"S20 LPG","CAD","304053"]
["M-S20VK_SDEBRSLOC_D_BAT","M-S20","VK_SDEBRSLOC_D_BAT",4252,"Side Brush: Dual","CAD","304053"]
["M-S20VK_CLNTOL_PYS","M-S20","VK_CLNTOL_PYS","N/C","Polyester Brush","CAD","304053"]
["M-S20VK_PKG_CRT_NO_CHG","M-S20","VK_PKG_CRT_NO_CHG","N/C","Crate No Charge","CAD","304053"]
["M-S20VK_CHG_160A480V5060H3P","M-S20","VK_CHG_160A480V5060H3P",7502,"Ch160A 480V 5060H3P","CAD","304053"]
["M-S20VK_BASE_S20-BTY_STD","M-S20","VK_BASE_S20-BTY_STD",73028,"S20 Battery Std Config","CAD","304053"]
["M-S20VK_SDEBRSDSTCTL_D_RH_NC","M-S20","VK_SDEBRSDSTCTL_D_RH_NC","N/C","SideBrshDustCntrl Dry RH","CAD","304053"]
["M-S20VK_SDEBRSDSTCTL_D_D_NC","M-S20","VK_SDEBRSDSTCTL_D_D_NC","N/C","SideBrshDustCntrl Dry D","CAD","304053"]
["M-S20VK_OVHGRD","M-S20","VK_OVHGRD",2284,"Overhead Guard","CAD","304053"]
["M-S20VK_CLNTOL_SWB","M-S20","VK_CLNTOL_SWB",348,"Sand Wedge Brush","CAD","304053"]
["M-S20VK_CAB_SC_IC_N_ALM","M-S20","VK_CAB_SC_IC_N_ALM",8183,"Cab Assy Soft Side","CAD","304053"]
["M-S20VK_SLADSTFLTPKG_RH","M-S20","VK_SLADSTFLTPKG_RH",10636,"HEPA Dust Filter Pkg: RH","CAD","304053"]
["M-S20VK_SLADSTFLTPKG_D","M-S20","VK_SLADSTFLTPKG_D",11444,"HEPA Dust Filter Pkg: Dual","CAD","304053"]
["M-S20VK_SBTPARKIT","M-S20","VK_SBTPARKIT",1869,"Sunbelt Parts Kit","CAD","304053"]
["M-S20VK_ALTMUF_P","M-S20","VK_ALTMUF_P",2856,"Purifying Muffler","CAD","304053"]
["M-S20VK_CSMFRMLFTLUG_SD","M-S20","VK_CSMFRMLFTLUG_SD",2124,"Frame Lifting Lugs-Side","CAD","304053"]
["M-S20VK_ULERTG_LP","M-S20","VK_ULERTG_LP","N/C","UL® Type LP","CAD","304053"]
["M-S20VK_ULERTG_G","M-S20","VK_ULERTG_G","N/C","UL® Type G","CAD","304053"]
["M-S20VK_ULERTG_D","M-S20","VK_ULERTG_D","N/C","UL® Type D","CAD","304053"]
["M-S20VK_STLHPR","M-S20","VK_STLHPR",4801,"Steel Hopper","CAD","304053"]
["M-S20VK_SDEBRSDSTCTL_W_RH","M-S20","VK_SDEBRSDSTCTL_W_RH",4603,"SideBrshDustCntrl Wet RH","CAD","304053"]
["M-S20VK_SDEBRSDSTCTL_W_D","M-S20","VK_SDEBRSDSTCTL_W_D",5431,"SideBrshDustCntrl Wet D","CAD","304053"]
["M-S20VK_SDEBRSDSTCTL_D_RH","M-S20","VK_SDEBRSDSTCTL_D_RH",1537,"SideBrshDustCntrl Dry RH","CAD","304053"]
["M-S20VK_SDEBRSDSTCTL_D_D","M-S20","VK_SDEBRSDSTCTL_D_D",2362,"SideBrshDustCntrl Dry D","CAD","304053"]
["M-S20VK_BTY_W420C20","M-S20","VK_BTY_W420C20",2913,"Bty Wet 420AHC20","CAD","304053"]
["M-S20VK_CHG_60A240V5060H3","M-S20","VK_CHG_60A240V5060H3",3817,"Ch60A 240V 5060H3P","CAD","304053"]
["M-S20VK_CHG_60A240V5060H1","M-S20","VK_CHG_60A240V5060H1",3306,"Ch60A 240V 5060H1P","CAD","304053"]
["M-S20VK_MCHCOM","M-S20","VK_MCHCOM",1916,"IRIS Telemetry","CAD","304053"]
["M-S20VK_BASE_S20-BTY","M-S20","VK_BASE_S20-BTY",73028,"S20-BTY","CAD","304053"]
["M-S20VK_BASE_S20-DSL","M-S20","VK_BASE_S20-DSL",70954,"S20-DSL","CAD","304053"]
["M-S20VK_BASE_S20-GAS","M-S20","VK_BASE_S20-GAS",63959,"S20-GAS","CAD","304053"]
["M-S20VK_BASE_S20-LPG","M-S20","VK_BASE_S20-LPG",63959,"S20-LPG","CAD","304053"]
["M-S20VK_FLRSYS_HEPA","M-S20","VK_FLRSYS_HEPA",9106,"HEPA Filter System","CAD","304053"]
["M-S20VK_FLRSYS_HEPA_NC","M-S20","VK_FLRSYS_HEPA_NC","N/C","HEPA Filter System","CAD","304053"]
["M-S20VK_CSMSBTDCL_GT","M-S20","VK_CSMSBTDCL_GT",212,"Sunbelt-GenTool Dcl","CAD","304053"]
["M-S20VK_CSMSBTDCL_FC","M-S20","VK_CSMSBTDCL_FC",195,"Sunbelt-FloorCareDcl","CAD","304053"]
["M-S20VK_MCHCOM_GLD_Y_INTL","M-S20","VK_MCHCOM_GLD_Y_INTL",1916,"IRIS Telemetry","CAD","304053"]
["M-S20VK_RERTRE_SNM","M-S20","VK_RERTRE_SNM","N/C","Trs Rear Solid NM","CAD","304053"]
["M-S20VK_BLULGT","M-S20","VK_BLULGT",1508,"Blue Light","CAD","304053"]
["M-S20VK_CSMSLN_WPMP","M-S20","VK_CSMSLN_WPMP",295,"Weatherproof pouch","CAD","304053"]
["M-S20VK_SDECLNTOL_NYL","M-S20","VK_SDECLNTOL_NYL","N/C","Side Nylon Brush","CAD","304053"]
["M-S20VK_AVSO/C_GLD_YNSCWO","M-S20","VK_AVSO/C_GLD_YNSCWO",1276,"AV BU AlarmStrobeOHG","CAD","304053"]
["M-S20VK_SET_DLXW","M-S20","VK_SET_DLXW",934,"Deluxe Seat w/Armr.","CAD","304053"]
["M-S20VK_CAB_SC_B_N_ALM","M-S20","VK_CAB_SC_B_N_ALM",8183,"Cab Assy Soft Side","CAD","304053"]
["M-S20VK_AVSE_GLD_YNWO","M-S20","VK_AVSE_GLD_YNWO",1276,"AV BU AlarmStrobeENG","CAD","304053"]
["M-S20VK_FRTTRE_PNER","M-S20","VK_FRTTRE_PNER",1022,"Trs Frnt Pnmtc Rdl","CAD","304053"]
["M-S20VK_OTDEQU_PKG","M-S20","VK_OTDEQU_PKG",3051,"Outdoor Equipm.Pkg","CAD","304053"]
["M-S20VK_CHG_WO","M-S20","VK_CHG_WO","N/C","Without Charger","CAD","304053"]
["M-S20VK_CSMSLN_RTR","M-S20","VK_CSMSLN_RTR",802,"Rear Tow Ring","CAD","304053"]
["M-S20VK_CSMSLN_CC","M-S20","VK_CSMSLN_CC",6240,"Custom Color","CAD","304053"]
["M-S20VK_ADOPRMNL","M-S20","VK_ADOPRMNL",101,"Add. Opr Mnl","CAD","304053"]
["M-S20VK_STBFLSLNS_B","M-S20","VK_STBFLSLNS_B","N/C","Alt.StrobeLns Blue","CAD","304053"]
["M-S20VK_SRVMNL_BAT","M-S20","VK_SRVMNL_BAT",340,"Service Manual","CAD","304053"]
["M-S20VK_HVYDTYRERBMP","M-S20","VK_HVYDTYRERBMP",986,"Hvy Dty RearBmpr","CAD","304053"]
["M-S20VK_SRVMNL_NOBAT","M-S20","VK_SRVMNL_NOBAT",340,"Service Manual","CAD","304053"]
["M-S20VK_WTY_XTD","M-S20","VK_WTY_XTD","N/C","Warranty Plus","CAD","304053"]
["M-S20VK_AVSO/C_B_YNSCWO","M-S20","VK_AVSO/C_B_YNSCWO",1276,"AV BU AlarmStrobeOHG","CAD","304053"]
["M-S20VK_RERTRE_PNER","M-S20","VK_RERTRE_PNER",532,"Trs Rear Pnmtc Rdl","CAD","304053"]
["M-S20VK_RERVIWMIR","M-S20","VK_RERVIWMIR",610,"Rear View Mirror","CAD","304053"]
["M-S20VK_OTDSFY_PKG_WOOHG","M-S20","VK_OTDSFY_PKG_WOOHG",4368,"Outdoor Safety Pkg","CAD","304053"]
["M-S20VK_HVYDTYPRT_PKG","M-S20","VK_HVYDTYPRT_PKG",5133,"Hvy Dty Protect Pkg","CAD","304053"]
["M-S20VK_CHG_75A208V60H3P","M-S20","VK_CHG_75A208V60H3P",3817,"Ch75A 208V 60H3P","CAD","304053"]
["M-S20VK_PKG_SKD","M-S20","VK_PKG_SKD",645,"Skid","CAD","304053"]
[{"$f":"B328&C328","v":"M-S20VK_OPRVID"},"M-S20","VK_OPRVID","N/C","Operator Video","CAD","304053"]
["M-S20VK_SDECLNTOL_PYP","M-S20","VK_SDECLNTOL_PYP","N/C","Side Poly Brush","CAD","304053"]
["M-S20VK_FREEXT","M-S20","VK_FREEXT",212,"Fire Extinguisher","CAD","304053"]
["M-S20VK_TRNSIG","M-S20","VK_TRNSIG",2657,"Turn Signal","CAD","304053"]
["M-S20VK_STBFLSLNS_R","M-S20","VK_STBFLSLNS_R","N/C","Alt.StrobeLns Red","CAD","304053"]
["M-S20VK_AVSE_B_YNWO","M-S20","VK_AVSE_B_YNWO",1276,"AV BU AlarmStrobeENG","CAD","304053"]
["M-S20VK_AVFO/C_B_YNSCWO","M-S20","VK_AVFO/C_B_YNSCWO",1276,"AV BU AlarmFlash OHG","CAD","304053"]
["M-S20VK_AVFE_B_YNWO","M-S20","VK_AVFE_B_YNWO",1276,"AV BU AlarmFlash Eng","CAD","304053"]
["M-S20VK_RERTRE_SRSNM","M-S20","VK_RERTRE_SRSNM",343,"Trs Rear SftSolid NM","CAD","304053"]
["M-S20VK_FRTTRE_SRSNM","M-S20","VK_FRTTRE_SRSNM",892,"Frt Tire Solid NM","CAD","304053"]
["M-S20VK_FRTTRE_SRST","M-S20","VK_FRTTRE_SRST",756,"Frt Tire SolidSoft","CAD","304053"]
["M-S20VK_SETBLT","M-S20","VK_SETBLT",203,"Seat Belt","CAD","304053"]
["M-S20VK_CLMCTL_G_L","M-S20","VK_CLMCTL_G_L",4507,"Heater","CAD","304053"]
["M-S20VK_CAB_SC_IC_N_WO","M-S20","VK_CAB_SC_IC_N_WO",8183,"Cab Assy Soft Side","CAD","304053"]
["M-S20VK_CAB_SC_B_N_WO","M-S20","VK_CAB_SC_B_N_WO",8183,"Cab Assy Soft Side","CAD","304053"]
["M-S20VK_PRDPKG_BAT","M-S20","VK_PRDPKG_BAT",5133,"Productivity Pkg","CAD","304053"]
["M-S20VK_OTDSFY_PKG","M-S20","VK_OTDSFY_PKG",4368,"Outdoor Safety Pkg","CAD","304053"]
["M-S20VK_ULERTG_ES","M-S20","VK_ULERTG_ES",5981,"UL® Type ES","CAD","304053"]
["M-S20VK_CHG_50A240V60H1","M-S20","VK_CHG_50A240V60H1",2657,"Ch50A 240V 60H1P","CAD","304053"]
["M-S20VK_BTY_WO","M-S20","VK_BTY_WO","N/C","Without Battery","CAD","304053"]
["M-S20VK_BTY_W340C6","M-S20","VK_BTY_W340C6",5822,"Bty Wet 340AH C6","CAD","304053"]
["M-S20VK_HGHRISAIRITK","M-S20","VK_HGHRISAIRITK",1348,"High Rise Air Intake","CAD","304053"]
["M-S20VK_LPGTNK_E","M-S20","VK_LPGTNK_E","N/C","LPG Tank Empty","CAD","304053"]
["M-S20VK_HVYDTYFRTBMP","M-S20","VK_HVYDTYFRTBMP",1235,"Hvy Dty Frnt Bumper","CAD","304053"]
["M-S30VK_FLRSYS_HEPA","M-S30","VK_FLRSYS_HEPA",9713,"HEPA Filter System","CAD","304215"]
["M-S30VK_FLRSYS_HEPA_NC","M-S30","VK_FLRSYS_HEPA_NC","N/C","HEPA Filter System","CAD","304215"]
["M-S30VK_BASE_S30-LPG_STD","M-S30","VK_BASE_S30-LPG_STD",77284,"S30 LPG Std Config","CAD","304215"]
["M-S30VK_CAB_G_ACHP_NC","M-S30","VK_CAB_G_ACHP_NC","N/C","Cab Climate cntrl AC","CAD","304215"]
["M-S30VK_SDEBRSLOC_D_NC","M-S30","VK_SDEBRSLOC_D_NC","N/C","Side Brush: Dual","CAD","304215"]
["M-S30VK_SDEBRSDSTCTL_RH_NC","M-S30","VK_SDEBRSDSTCTL_RH_NC","N/C","SideBrshDustCntrl R","CAD","304215"]
["M-S30VK_CSMFRMLFTLUG_SD","M-S30","VK_CSMFRMLFTLUG_SD",2124,"Frame Lifting Lugs-Side","CAD","304215"]
["M-S30VK_CSMSLN_RHC","M-S30","VK_CSMSLN_RHC",3117,"Reduced Height Cab","CAD","304215"]
["M-S30VK_BASE_S30-GAS_STD","M-S30","VK_BASE_S30-GAS_STD",77284,"S30 Gas Std Config","CAD","304215"]
["M-S30VK_SDEBRSLOC_RH_NC","M-S30","VK_SDEBRSLOC_RH_NC","N/C","Side Brush: RH","CAD","304215"]
["M-S30VK_SDEBRSDSTCTL_D_NC","M-S30","VK_SDEBRSDSTCTL_D_NC","N/C","SideBrshDustCntrl D","CAD","304215"]
["M-S30VK_CSMSLN_WPMP","M-S30","VK_CSMSLN_WPMP",200,"Weatherproof pouch","CAD","304215"]
["M-S30VK_RERTRE_SNM_NC","M-S30","VK_RERTRE_SNM_NC","N/C","Trs Rear Solid NM","CAD","304215"]
["M-S30VK_CSMSLN_RTR","M-S30","VK_CSMSLN_RTR",858,"Rear Tow Ring","CAD","304215"]
["M-S30VK_CSMSLN_LLRTR","M-S30","VK_CSMSLN_LLRTR",2124,"Liftigugs&RearTwRing","CAD","304215"]
["M-S30VK_WAR_XTD","M-S30","VK_WAR_XTD",2972,"Warranty Plus","CAD","304215"]
["M-S30VK_DATPKG_HO","M-S30","VK_DATPKG_HO",1937,"Hardware Only","CAD","304215"]
["M-S30VK_S30-LP","M-S30","VK_S30-LP",77284,"S30 LPG Rider Swpr","CAD","304215"]
["M-S30VK_HVYDTYFRTBMP","M-S30","VK_HVYDTYFRTBMP",1156,"Hvy Dty Frnt Bumper","CAD","304215"]
["M-S30VK_CLNTOL_PYPW","M-S30","VK_CLNTOL_PYPW","N/C","Poly & Wire Brush","CAD","304215"]
["M-S30VK_BLULGT","M-S30","VK_BLULGT",1508,"Blue Light","CAD","304215"]
["M-S30VK_CAB_RHC","M-S30","VK_CAB_RHC",21082,"Reduced Height Cab","CAD","304215"]
["M-S30VK_FRMLFTLUG_SD","M-S30","VK_FRMLFTLUG_SD",2124,"Frame Lifting Lugs-Side","CAD","304215"]
["M-S30VK_LFTLUGRERTOWRNG","M-S30","VK_LFTLUGRERTOWRNG",2124,"Lifting Lug / Rear Tow Ring","CAD","304215"]
["M-S30VK_WCHHOK","M-S30","VK_WCHHOK",748,"Winch Hook","CAD","304215"]
["M-S30VK_WPFMNLPCH","M-S30","VK_WPFMNLPCH",295,"Weatherproof Manual Pouch","CAD","304215"]
["M-S30VK_SLADSTFLTPKG_RH","M-S30","VK_SLADSTFLTPKG_RH",13291,"HEPA Dust Filter Pkg: RH","CAD","304215"]
["M-S30VK_SETBLT","M-S30","VK_SETBLT",920,"Seat Belt","CAD","304215"]
["M-S30VK_SDECLNTOL_PYP","M-S30","VK_SDECLNTOL_PYP","N/C","Side Poly Brush","CAD","304215"]
["M-S30VK_SDEBRSLOC_D","M-S30","VK_SDEBRSLOC_D",2834,"Side Brush: Dual","CAD","304215"]
["M-S30VK_LPGTNK_E","M-S30","VK_LPGTNK_E","N/C","LPG Tank Empty","CAD","304215"]
["M-S30VK_RERTRE_PB","M-S30","VK_RERTRE_PB","N/C","Trs Rear Pneumatic-Bias","CAD","304215"]
["M-S30VK_HVYDTYRERBMP","M-S30","VK_HVYDTYRERBMP",1112,"Hvy Dty RearBmpr","CAD","304215"]
["M-S30VK_HEPFLRCABPKG","M-S30","VK_HEPFLRCABPKG",38329,"HEPA Filter Cab Pkg","CAD","304215"]
["M-S30VK_PKG_SKD_NO_CHG","M-S30","VK_PKG_SKD_NO_CHG","N/C","Skid","CAD","304215"]
["M-S30VK_S30-G","M-S30","VK_S30-G",77284,"S30 Gas Rider Swpr","CAD","304215"]
["M-S30VK_PKG_SKD_NC","M-S30","VK_PKG_SKD_NC","N/C","Skid","CAD","304215"]
["M-S30VK_PKG_PAD","M-S30","VK_PKG_PAD","N/C","Pad Wrap","CAD","304215"]
["M-S30VK_S30-DSL","M-S30","VK_S30-DSL",84184,"S30 Dsl Rider Swpr","CAD","304215"]
["M-S30VK_BASE_S30-DSL_STD","M-S30","VK_BASE_S30-DSL_STD",84184,"S30 DSL Std Config","CAD","304215"]
[{"$f":"B392&C392","v":"M-S30VK_SDECLNTOL_NYL"},"M-S30","VK_SDECLNTOL_NYL","N/C","Side Nylon Brush","CAD","304215"]
["M-S30VK_SLADSTFLTPKG_D","M-S30","VK_SLADSTFLTPKG_D",14312,"HEPA Dust Filter Pkg: Dual","CAD","304215"]
["M-S30VK_FRTTRE_PNER","M-S30","VK_FRTTRE_PNER",756,"Trs Frnt Pnmtc Rdl","CAD","304215"]
["M-S30VK_CLNTOL_NYLP","M-S30","VK_CLNTOL_NYLP","N/C","Nylon Patrol Brush","CAD","304215"]
["M-S30VK_CLNTOL_PYP","M-S30","VK_CLNTOL_PYP","N/C","Poly Brush","CAD","304215"]
["M-S30VK_CLNTOL_PYPWIN","M-S30","VK_CLNTOL_PYPWIN",417,"Poly Window Brush","CAD","304215"]
["M-S30VK_CLNTOL_SWB","M-S30","VK_CLNTOL_SWB",417,"Sand Wedge Brush","CAD","304215"]
["M-S30VK_FREEXT","M-S30","VK_FREEXT",212,"Fire Extinguisher","CAD","304215"]
["M-S30VK_ADLOPRMNL","M-S30","VK_ADLOPRMNL",101,"Add Operator Manual","CAD","304215"]
["M-S30VK_AIRITK","M-S30","VK_AIRITK",2856,"Hgh Rise Air Intake","CAD","304215"]
["M-S30VK_BLWWND_GL","M-S30","VK_BLWWND_GL",3720,"Blower Wand Gas/LPG","CAD","304215"]
["M-S30VK_CAB_D_ACHP","M-S30","VK_CAB_D_ACHP",19441,"Cab Climate cntrl AC","CAD","304215"]
["M-S30VK_CAB_G_ACHP","M-S30","VK_CAB_G_ACHP",19441,"Cab Climate cntrl AC","CAD","304215"]
["M-S30VK_CAB_L_ACHP","M-S30","VK_CAB_L_ACHP",19441,"Cab Climate cntrl AC","CAD","304215"]
["M-S30VK_CAB_L_HP","M-S30","VK_CAB_L_HP",12171,"Cab Climate cntrl HT","CAD","304215"]
["M-S30VK_CLNTOL_CWB","M-S30","VK_CLNTOL_CWB",417,"Crinkle Wire Brush","CAD","304215"]
["M-S30VK_CLNTOL_FWFF","M-S30","VK_CLNTOL_FWFF",417,"Fiber & Wire Brush","CAD","304215"]
["M-S30VK_CLNTOL_NYL","M-S30","VK_CLNTOL_NYL","N/C","Nylon Brush","CAD","304215"]
["M-S30VK_CLNTOL_NYLFF","M-S30","VK_CLNTOL_NYLFF",417,"Nylon Full Fill Brsh","CAD","304215"]
["M-S30VK_SET_DLXW","M-S30","VK_SET_DLXW",1022,"Deluxe Seat w/Armr.","CAD","304215"]
["M-S30VK_SFYLGTPKG_IDR","M-S30","VK_SFYLGTPKG_IDR",1225,"Sfty Lght Pkg Ind","CAD","304215"]
["M-S30VK_SFYLGTPKG_OTD","M-S30","VK_SFYLGTPKG_OTD",2050,"Sfty Lght Pkg Outd","CAD","304215"]
["M-S30VK_SRVMNL","M-S30","VK_SRVMNL",340,"Service Manual","CAD","304215"]
["M-S30VK_STLHPR","M-S30","VK_STLHPR",8514,"Steel Hopper","CAD","304215"]
["M-S30VK_TRMLVL_X4","M-S30","VK_TRMLVL_X4",13683,"Trim Level, X4","CAD","304215"]
["M-S30VK_ULERTG_LPS","M-S30","VK_ULERTG_LPS",6627,"UL® Type LPS","CAD","304215"]
["M-S30VK_RERTRE_SNM","M-S30","VK_RERTRE_SNM",528,"Trs Rear Solid NM","CAD","304215"]
["M-S30VK_RERTRE_SR","M-S30","VK_RERTRE_SR","N/C","Trs Rear Solid Rbr","CAD","304215"]
["M-S30VK_UPG","M-S30","VK_UPG","N/C","UPG","CAD","304215"]
["M-S30VK_OVHGRD","M-S30","VK_OVHGRD",1919,"Overhead Guard","CAD","304215"]
["M-S30VK_PKG_SKD","M-S30","VK_PKG_SKD","N/C","Skid","CAD","304215"]
["M-S30VK_SDEBRSSPL","M-S30","VK_SDEBRSSPL",702,"Side Brush Spotlight","CAD","304215"]
["M-S30VK_SBTPARKIT","M-S30","VK_SBTPARKIT",1999,"Sunbelt Parts Kit","CAD","304215"]
["M-S30VK_SDEBRSDSTCTL_D","M-S30","VK_SDEBRSDSTCTL_D",4603,"SideBrshDustCntrl D","CAD","304215"]
["M-S30VK_PRDPKG","M-S30","VK_PRDPKG",3228,"Productivity Package","CAD","304215"]
["M-S30VK_ALTMUF_P","M-S30","VK_ALTMUF_P",3207,"Purifying Muffler","CAD","304215"]
["M-S30VK_SDEBRSDSTCTL_RH","M-S30","VK_SDEBRSDSTCTL_RH",3581,"SideBrshDustCntrl R","CAD","304215"]
["M-S30VK_CABFLR_HF","M-S30","VK_CABFLR_HF",19284,"Cab Filter HEPA","CAD","304215"]
["M-S30VK_CABFLR_HF_NC","M-S30","VK_CABFLR_HF_NC","N/C","Cab Filter HEPA","CAD","304215"]
["M-S30VK_CAB_D_ACHP_NC","M-S30","VK_CAB_D_ACHP_NC","N/C","Cab Climate cntrl AC","CAD","304215"]
["M-S30VK_SDEBRSSPL_RH","M-S30","VK_SDEBRSSPL_RH",702,"SideBrushSpotL.RH","CAD","304215"]
["M-S30VK_CSMSBTPARKIT","M-S30","VK_CSMSBTPARKIT",1922,"Sunbelt -Parts Kit","CAD","304215"]
["M-S30VK_WTY_XTD","M-S30","VK_WTY_XTD",2972,"Warranty Plus","CAD","304215"]
["M-S30VK_SDEBRSDSTCTL_WET_RH","M-S30","VK_SDEBRSDSTCTL_WET_RH",5016,"SideBrshDustCntrl R","CAD","304215"]
["M-S30VK_SDEBRSDSTCTL_WET_D","M-S30","VK_SDEBRSDSTCTL_WET_D",5822,"SideBrshDustCntrl D","CAD","304215"]
["M-S30VK_MCHCOM","M-S30","VK_MCHCOM",1916,"IRIS Telemetry","CAD","304215"]
["M-S30VK_BASE_S30-DSL","M-S30","VK_BASE_S30-DSL",84184,"S30-DSL","CAD","304215"]
["M-S30VK_BASE_S30-GAS","M-S30","VK_BASE_S30-GAS",77284,"S30-GAS","CAD","304215"]
["M-S30VK_BASE_S30-LPG","M-S30","VK_BASE_S30-LPG",77284,"S30-LPG","CAD","304215"]
["M-S30VK_FRTTRE_PB","M-S30","VK_FRTTRE_PB",756,"Trs Front Pnmtc Bias","CAD","304215"]
["M-S30VK_CSMSLN_SCW","M-S30","VK_CSMSLN_SCW",1949,"Solid Cab Window","CAD","304215"]
["M-S30VK_CSMSLN_HFK","M-S30","VK_CSMSLN_HFK",16105,"HEPA Filter Kit","CAD","304215"]
["M-S30VK_RERTRE_PR","M-S30","VK_RERTRE_PR","N/C","Trs Rear Pnmtc Rdl","CAD","304215"]
["M-S30VK_CAB_D_HP","M-S30","VK_CAB_D_HP",12171,"Cab Climate cntrl HT","CAD","304215"]
["M-S30VK_PWRVACWND_VAC_WND","M-S30","VK_PWRVACWND_VAC_WND",2127,"Vacuum Wand","CAD","304215"]
["M-S30VK_RERTRE_FF","M-S30","VK_RERTRE_FF",282,"Trs Rear Foam Flld","CAD","304215"]
["M-S30VK_LPGTNK_F","M-S30","VK_LPGTNK_F","N/C","LPG Tank Full","CAD","304215"]
["M-S30VK_SDECLNTOL_FWB","M-S30","VK_SDECLNTOL_FWB","N/C","Side Flat Wire","CAD","304215"]
["M-S30VK_BLWWND_D","M-S30","VK_BLWWND_D",2834,"Blower Wand Dsl","CAD","304215"]
["M-S30VK_TRMLVL_XP","M-S30","VK_TRMLVL_XP",7944,"Trim Level, XP","CAD","304215"]
["M-S30VK_CAB_G_HP","M-S30","VK_CAB_G_HP",12171,"Cab Climate cntrl HT","CAD","304215"]
["M-S30VK_SDEBRSLOC_RH","M-S30","VK_SDEBRSLOC_RH","N/C","Side Brush: RH","CAD","304215"]
["M-S30VK_HVYDTYPRTPKG","M-S30","VK_HVYDTYPRTPKG",10147,"Hvy Duty Protect Pkg","CAD","304215"]
["M-800VK_WRNLGTANDALM_AVFO","M-800","VK_WRNLGTANDALM_AVFO",2516,"AV BU AlarmFlash OHG","CAD","304309"]
[{"$f":"B456&C456","v":"M-800VK_FWDSPDCTL"},"M-800","VK_FWDSPDCTL",130,"ForwardSpeedControl","CAD","304309"]
["M-800VK_WRNLGTANDALM_AVFC","M-800","VK_WRNLGTANDALM_AVFC",2516,"AV BU AlarmFlash Cab","CAD","304309"]
["M-800VK_WRNLGTANDALM_AVE","M-800","VK_WRNLGTANDALM_AVE",1660,"Audio BU Alarm Eng","CAD","304309"]
["M-800VK_PWRVACWND","M-800","VK_PWRVACWND",2290,"Vacuum  Wand","CAD","304309"]
["M-800VK_ALTSTBFLSLNS_R","M-800","VK_ALTSTBFLSLNS_R","N/C","Alternate Lens-Red","CAD","304309"]
["M-800VK_WRNLGTANDALM_AVFE","M-800","VK_WRNLGTANDALM_AVFE",2516,"AV BU AlarmFlash Eng","CAD","304309"]
["M-800VK_CSMSLN_CC","M-800","VK_CSMSLN_CC",15567,"Custom Color","CAD","304309"]
["M-800VK_ENGSDN_LHTS","M-800","VK_ENGSDN_LHTS",1460,"LowOil/WaterShutdwn","CAD","304309"]
["M-800VK_CSMLFTLUG_SD","M-800","VK_CSMLFTLUG_SD",3512,"Frame Lift Lugs - Side","CAD","304309"]
["M-800VK_CSMHSESLV","M-800","VK_CSMHSESLV",2709,"Hyd Hose Sleeve Protection","CAD","304309"]
["M-800VK_CAB_RHC","M-800","VK_CAB_RHC",19681,"Reduced Height Cab","CAD","304309"]
["M-800VK_RERVIWMIR_RVM_OHG","M-800","VK_RERVIWMIR_RVM_OHG",592,"Rearview Mirror","CAD","304309"]
["M-800VK_PKG_SKD_NO_CHG","M-800","VK_PKG_SKD_NO_CHG","N/C","Skid","CAD","304309"]
["M-800VK_RERVIWMIR_WCM_OHG","M-800","VK_RERVIWMIR_WCM_OHG",1925,"West Coast Mirror","CAD","304309"]
["M-800VK_SDEVIWMIR_WCM_CAB","M-800","VK_SDEVIWMIR_WCM_CAB",1925,"West Coast Mirror","CAD","304309"]
["M-800VK_SDEVIWMIR_WCM_OHG","M-800","VK_SDEVIWMIR_WCM_OHG",1925,"West Coast Mirror","CAD","304309"]
["M-800VK_PKG_PAD","M-800","VK_PKG_PAD","N/C","Pad Wrap","CAD","304309"]
["M-800VK_RERVIWMIR_WCM_CAB","M-800","VK_RERVIWMIR_WCM_CAB",1925,"West Coast Mirror","CAD","304309"]
["M-800VK_FREEXT","M-800","VK_FREEXT",229,"Fire Extinguisher","CAD","304309"]
["M-800VK_LPGTNK_F","M-800","VK_LPGTNK_F","N/C","LPG Tank Full","CAD","304309"]
["M-800VK_LPGTNK_E","M-800","VK_LPGTNK_E","N/C","LPG Tank Empty","CAD","304309"]
["M-800VK_PKG_SKD_NC","M-800","VK_PKG_SKD_NC","N/C","Skid","CAD","304309"]
["M-800VK_OPRVID","M-800","VK_OPRVID","N/C","Operator Video","CAD","304309"]
["M-800VK_ALM_AVFE","M-800","VK_ALM_AVFE",2516,"AV BU AlarmFlash Eng","CAD","304309"]
["M-800VK_ALM_AVSO","M-800","VK_ALM_AVSO",3028,"AV BU AlarmStrobeOHG","CAD","304309"]
["M-800VK_RVM_RVM_OHG","M-800","VK_RVM_RVM_OHG",592,"Rearview Mirror","CAD","304309"]
["M-800VK_ALM_SE","M-800","VK_ALM_SE",1379,"Strobe Light Eng","CAD","304309"]
["M-800VK_ALM_FE","M-800","VK_ALM_FE",867,"Flashing Light Eng","CAD","304309"]
["M-800VK_WAR_XTD","M-800","VK_WAR_XTD",3130,"Warranty Plus","CAD","304309"]
["M-800VK_RVM_WCM_CAB","M-800","VK_RVM_WCM_CAB",1925,"West Coast Mirror","CAD","304309"]
["M-800VK_ALM_SO","M-800","VK_ALM_SO",1379,"Strobe Light OHG","CAD","304309"]
["M-800VK_ALM_FO","M-800","VK_ALM_FO",867,"Flashing Light OHG","CAD","304309"]
["M-800VK_ALM_FC","M-800","VK_ALM_FC",867,"Flashing Light Cab","CAD","304309"]
["M-800VK_ALM_AVFC","M-800","VK_ALM_AVFC",2516,"AV BU AlarmFlash Cab","CAD","304309"]
["M-800VK_WRNLGTANDALM_SO","M-800","VK_WRNLGTANDALM_SO",1379,"Strobe Light OHG","CAD","304309"]
["M-800VK_WRNLGTANDALM_SE","M-800","VK_WRNLGTANDALM_SE",1379,"Strobe Light Eng","CAD","304309"]
["M-800VK_WRNLGTANDALM_SC","M-800","VK_WRNLGTANDALM_SC",1379,"Strobe Light Cab","CAD","304309"]
["M-800VK_WRNLGTANDALM_FO","M-800","VK_WRNLGTANDALM_FO",867,"Flashing Light OHG","CAD","304309"]
["M-800VK_WRNLGTANDALM_FE","M-800","VK_WRNLGTANDALM_FE",867,"Flashing Light on EngCover","CAD","304309"]
["M-800VK_WRNLGTANDALM_FC","M-800","VK_WRNLGTANDALM_FC",867,"Flashing Light Cab","CAD","304309"]
["M-800VK_WRNLGTANDALM_AVSO","M-800","VK_WRNLGTANDALM_AVSO",3028,"AV BU AlrmStrobe OHG","CAD","304309"]
["M-800VK_WRNLGTANDALM_AVSE","M-800","VK_WRNLGTANDALM_AVSE",3028,"AV BU AlarmStrobeEng","CAD","304309"]
["M-800VK_ALM_AVFO","M-800","VK_ALM_AVFO",2516,"AV BU AlarmFlash OHG","CAD","304309"]
["M-800VK_RERVIWMIR_RVM_CAB","M-800","VK_RERVIWMIR_RVM_CAB",592,"Rearview Mirror","CAD","304309"]
["M-800VK_ALTSTBFLSLNS_B","M-800","VK_ALTSTBFLSLNS_B","N/C","Alternate Lens-Blue","CAD","304309"]
["M-800VK_ALM_SC","M-800","VK_ALM_SC",1379,"Strobe Light Cab","CAD","304309"]
["M-800VK_ALM_AVSE","M-800","VK_ALM_AVSE",3028,"AV BU AlarmStrobeEng","CAD","304309"]
["M-800VK_ALM_AVSC","M-800","VK_ALM_AVSC",3028,"AV BU AlarmStrobeCab","CAD","304309"]
["M-800VK_RVM_RVM_CAB","M-800","VK_RVM_RVM_CAB",592,"Rearview Mirror","CAD","304309"]
["M-800VK_WAR_STD","M-800","VK_WAR_STD","N/C","Warranty STD","CAD","304309"]
["M-800VK_ALM_AVE","M-800","VK_ALM_AVE",1660,"Audio BU Alarm Eng","CAD","304309"]
["M-800VK_RVM_WCM_OHG","M-800","VK_RVM_WCM_OHG",1925,"West Coast Mirror","CAD","304309"]
["M-800VK_WRNLGTANDALM_AVSC","M-800","VK_WRNLGTANDALM_AVSC",3028,"AV BU AlarmStrobeCab","CAD","304309"]
["M-800VK_WTY_XTD","M-800","VK_WTY_XTD",3130,"Warranty Plus","CAD","304309"]
["M-800VK_WTY_STD","M-800","VK_WTY_STD","N/C","Warranty STD","CAD","304309"]
["M-800VK_CSMSLN_FLLS","M-800","VK_CSMSLN_FLLS",3758,"Frame Lift Lugs Side","CAD","304309"]
["M-800VK_SDEBRSDSTCTL_D","M-800","VK_SDEBRSDSTCTL_D",7131,"SideBrshDustCntrl D","CAD","304309"]
["M-800VK_SDEBRSDSTCTL_RH","M-800","VK_SDEBRSDSTCTL_RH",3927,"SideBrshDustCntrl R","CAD","304309"]
["M-800VK_CSMSBTPARKIT","M-800","VK_CSMSBTPARKIT",5394,"Sunbelt -Parts Kit","CAD","304309"]
["M-800VK_CABFLR_HF","M-800","VK_CABFLR_HF",19302,"Cab Filter HEPA","CAD","304309"]
["M-800VK_CABFLR_HF_NC","M-800","VK_CABFLR_HF_NC","N/C","Cab Filter HEPA","CAD","304309"]
["M-800VK_CAB_STDC_NC","M-800","VK_CAB_STDC_NC","N/C","Cab","CAD","304309"]
["M-800VK_CLMCTL_ACHP_D_NC","M-800","VK_CLMCTL_ACHP_D_NC","N/C","Air Cond./Heater/Pre","CAD","304309"]
["M-800VK_CLMCTL_ACHP_GL_NC","M-800","VK_CLMCTL_ACHP_GL_NC","N/C","Air Cond./Heater/Pre","CAD","304309"]
[{"$f":"B520&C520","v":"M-800VK_FLRSYS_HEPA_NC"},"M-800","VK_FLRSYS_HEPA_NC","N/C","HEPA Filter System","CAD","304309"]
["M-800VK_SDEBRSDSTCTL_D_NC","M-800","VK_SDEBRSDSTCTL_D_NC","N/C","SideBrshDustCntrl D","CAD","304309"]
["M-800VK_SDEBRSDSTCTL_RH_NC","M-800","VK_SDEBRSDSTCTL_RH_NC","N/C","SideBrshDustCntrl R","CAD","304309"]
["M-800VK_SDEBRSLOC_D_NC","M-800","VK_SDEBRSLOC_D_NC","N/C","Side Brush: Dual","CAD","304309"]
["M-800VK_SDEBRSLOC_RH_NC","M-800","VK_SDEBRSLOC_RH_NC","N/C","Side Brush: RH","CAD","304309"]
["M-800VK_SELOPRSTN","M-800","VK_SELOPRSTN",2741,"Sealed Oper Station","CAD","304309"]
["M-800VK_SELOPRSTN_NC","M-800","VK_SELOPRSTN_NC","N/C","Sealed Oper Station","CAD","304309"]
["M-800VK_SLADSTFLTPKG_D","M-800","VK_SLADSTFLTPKG_D",18218,"HEPA Dust Filter Pkg: Dual","CAD","304309"]
["M-800VK_SLADSTFLTPKG_RH","M-800","VK_SLADSTFLTPKG_RH",15036,"HEPA Dust Filter Pkg: RH","CAD","304309"]
["M-800VK_SOLCABWDW","M-800","VK_SOLCABWDW",1652,"Solid Cab Windows","CAD","304309"]
["M-800VK_SOLCABWDW_NC","M-800","VK_SOLCABWDW_NC","N/C","Solid Cab Windows","CAD","304309"]
["M-800VK_HVYDTYBMP","M-800","VK_HVYDTYBMP",4314,"Hvy Dty Frnt/Rear Bumper","CAD","304309"]
["M-800VK_SDEBRSSPL_RH_NC","M-800","VK_SDEBRSSPL_RH_NC","N/C","SideBrushSpotL.RH No Chg","CAD","304309"]
["M-800VK_SDEBRSSPL_DUL_NC","M-800","VK_SDEBRSSPL_DUL_NC","N/C","SideBrushSpotL.Dual No Chg","CAD","304309"]
["M-800VK_RODPKG_DUL","M-800","VK_RODPKG_DUL",2353,"Road Package Dual","CAD","304309"]
["M-800VK_BASE_800-DSL4F","M-800","VK_BASE_800-DSL4F",158029,"Sweeper 800 Diesel 4F","CAD","304309"]
["M-800VK_CSMSLN_HHSP","M-800","VK_CSMSLN_HHSP",2899,"Hyd Hose Sleeve","CAD","304309"]
["M-800VK_BASE_800-LPG","M-800","VK_BASE_800-LPG",134479,"Sweeper 800 LPG","CAD","304309"]
["M-800VK_BASE_800-GAS","M-800","VK_BASE_800-GAS",130577,"Sweeper 800 Gasoline","CAD","304309"]
["M-800VK_HEPFLRCABPKG","M-800","VK_HEPFLRCABPKG",46871,"HEPA Filter Cab Pkg","CAD","304309"]
["M-800VK_SDECLNTOL_NYL","M-800","VK_SDECLNTOL_NYL","N/C","Side Nylon Brush","CAD","304309"]
["M-800VK_SDECLNTOL_PYP","M-800","VK_SDECLNTOL_PYP","N/C","Side Poly Brush","CAD","304309"]
["M-800VK_SETBLT","M-800","VK_SETBLT",214,"Seat Belt","CAD","304309"]
["M-800VK_SRVMNL","M-800","VK_SRVMNL",348,"Service Manual","CAD","304309"]
["M-800VK_OVHGRD","M-800","VK_OVHGRD",3578,"Overhead Guard","CAD","304309"]
["M-800VK_PKG_SKD","M-800","VK_PKG_SKD","N/C","Skid","CAD","304309"]
["M-800VK_BLULGT","M-800","VK_BLULGT",1879,"Blue Light","CAD","304309"]
["M-800VK_ENGMNL","M-800","VK_ENGMNL",124,"Engine Manual","CAD","304309"]
["M-800VK_UPG","M-800","VK_UPG","N/C","UPG","CAD","304309"]
["M-800VK_CLNTOL_NYLFF","M-800","VK_CLNTOL_NYLFF",616,"Nylon Full Fill Brsh","CAD","304309"]
["M-800VK_CLNTOL_PYPW","M-800","VK_CLNTOL_PYPW","N/C","Poly & Wire Brush","CAD","304309"]
["M-800VK_RERTRE_SR","M-800","VK_RERTRE_SR",727,"Trs Rear Solid Rbr","CAD","304309"]
["M-800VK_CLMCTL_ACHP_D","M-800","VK_CLMCTL_ACHP_D",7846,"Air Cond./Heater/Pre","CAD","304309"]
["M-800VK_RODPKG","M-800","VK_RODPKG",1168,"Road package","CAD","304309"]
["M-800VK_HPRDOROPNLGT","M-800","VK_HPRDOROPNLGT",294,"HopperDoorOpenLight","CAD","304309"]
["M-800VK_CLMCTL_HP_D","M-800","VK_CLMCTL_HP_D",3374,"Heater/Pressurizer","CAD","304309"]
["M-800VK_CAB_STDC","M-800","VK_CAB_STDC",15811,"Cab","CAD","304309"]
["M-800VK_CLNTOL_OPYP","M-800","VK_CLNTOL_OPYP","N/C","Poly Brush Outdoor","CAD","304309"]
["M-800VK_CLNTOL_PYP","M-800","VK_CLNTOL_PYP","N/C","Poly Brush","CAD","304309"]
["M-800VK_CLMCTL_ACHP_GL","M-800","VK_CLMCTL_ACHP_GL",7846,"Air Cond./Heater/Pre","CAD","304309"]
["M-800VK_STLHPRFLR","M-800","VK_STLHPRFLR",1731,"StainlessHopperFloor","CAD","304309"]
["M-800VK_DSTCTLFLR_EFFM","M-800","VK_DSTCTLFLR_EFFM",1065,"Fine Media Cannister","CAD","304309"]
["M-800VK_FLRSYS_RFS","M-800","VK_FLRSYS_RFS",3557,"Regenerative F./Syst","CAD","304309"]
["M-800VK_ADOPRMNL","M-800","VK_ADOPRMNL",262,"Add. Opr Mnl","CAD","304309"]
["M-800VK_CLNTOL_NYL","M-800","VK_CLNTOL_NYL","N/C","Nylon Brush","CAD","304309"]
["M-800VK_FUECAP_PSFC","M-800","VK_FUECAP_PSFC",725,"Protecto-SealFuelCap","CAD","304309"]
["M-800VK_SDEBRSSPL_RH","M-800","VK_SDEBRSSPL_RH",285,"SideBrushSpotL.RH","CAD","304309"]
["M-800VK_FRTTRE_SR","M-800","VK_FRTTRE_SR",1449,"Frt Tire Solid Rbr","CAD","304309"]
["M-800VK_CLMCTL_HP_GL","M-800","VK_CLMCTL_HP_GL",3374,"Heater/Pressurizer","CAD","304309"]
["M-800VK_ADOPRMNL_D","M-800","VK_ADOPRMNL_D",262,"Add. Opr Mnl","CAD","304309"]
["M-800VK_CLNTOL_SWB","M-800","VK_CLNTOL_SWB",616,"Sand Wedge Brush","CAD","304309"]
["M-800VK_CLNTOL_CWB","M-800","VK_CLNTOL_CWB",616,"Crinkle Wire Brush","CAD","304309"]
["M-800VK_SDEBRSSPL_DUL","M-800","VK_SDEBRSSPL_DUL",1515,"SideBrushSpotL.Dual","CAD","304309"]
["M-800VK_SDEBRSMIR_D","M-800","VK_SDEBRSMIR_D",1411,"SideBrushMirror Dual","CAD","304309"]
["M-800VK_CSMSLN_RHC","M-800","VK_CSMSLN_RHC",21059,"Reduced Height Cab","CAD","304309"]
["M-800VK_FLRSYS_HEPA","M-800","VK_FLRSYS_HEPA",11256,"HEPA Filter System","CAD","304309"]
["M-800VK_BLWWND","M-800","VK_BLWWND",4211,"Blower Wand","CAD","304309"]
["M-800VK_SDEBRSLOC_D","M-800","VK_SDEBRSLOC_D",7580,"Side Brush: Dual","CAD","304309"]
["M-800VK_CLNTOL_NYLP","M-800","VK_CLNTOL_NYLP","N/C","Nylon Patrol Brush","CAD","304309"]
["M-800VK_SDEBRSMIR_RH","M-800","VK_SDEBRSMIR_RH",461,"SideBrushMirror RH","CAD","304309"]
["M-800VK_NTLSTT","M-800","VK_NTLSTT",354,"Neutral Start","CAD","304309"]
["M-T2VK_CHG_11A100V5060H1","M-T2","VK_CHG_11A100V5060H1","N/C","Ch11A 100V 5060H1P","CAD","306300"]
["M-T2VK_CLNTOL_PAD","M-T2","VK_CLNTOL_PAD","N/C","Pad Driver","CAD","306300"]
["M-T2VK_PADTYP_WHT3","M-T2","VK_PADTYP_WHT3",29,"Wh Polish 3M","CAD","306300"]
[{"$f":"B584&C584","v":"M-T2VK_BASE_T2-430-D_STD"},"M-T2","VK_BASE_T2-430-D_STD",11537,"T2 WB Scrbbr 430/17 STD","CAD","306300"]
["M-T2VK_PKG_PAD","M-T2","VK_PKG_PAD","N/C","Pad Wrap","CAD","306300"]
["M-T2VK_CSMFODCORLBL","M-T2","VK_CSMFODCORLBL",61,"Food Court Label","CAD","306300"]
["M-T2VK_CSMDRTWTRLBL","M-T2","VK_CSMDRTWTRLBL",61,"Dirty Water Label","CAD","306300"]
["M-T2VK_PADTYP_BWN3","M-T2","VK_PADTYP_BWN3",29,"Br Stripping - 3M","CAD","306300"]
["M-T2VK_PADTYP_MAR3","M-T2","VK_PADTYP_MAR3",40,"Mar Surf Prep 3M","CAD","306300"]
["M-T2VK_BTY_WO","M-T2","VK_BTY_WO",-630,"Without Battery","CAD","306300"]
["M-T2VK_PADTYP_BLKH3","M-T2","VK_PADTYP_BLKH3",42,"Blk Strip (HiPRO) 3M","CAD","306300"]
["M-T2VK_PADTYP_BLU3","M-T2","VK_PADTYP_BLU3",29,"Blu Scrub - 3M","CAD","306300"]
["M-T2VK_PADTYP_RED3","M-T2","VK_PADTYP_RED3",29,"Red Clean 3M","CAD","306300"]
["M-T2VK_PADTYP_YLW3","M-T2","VK_PADTYP_YLW3",104,"Ylw Polish 3M","CAD","306300"]
["M-T2VK_CHG_9A100V5060H1P","M-T2","VK_CHG_9A100V5060H1P","N/C","Ch9A 100V 5060H1P","CAD","306300"]
["M-T2VK_PKG_WSKD","M-T2","VK_PKG_WSKD","N/C","Skid w/Stretch Wrap","CAD","306300"]
["M-T2VK_BTY_W105C20","M-T2","VK_BTY_W105C20","N/C","Bty Wet 105AH C20","CAD","306300"]
["M-T2VK_BASE_T2-430-D","M-T2","VK_BASE_T2-430-D",11537,"T2-430-D","CAD","306300"]
["M-T2VK_BTY_G102C20","M-T2","VK_BTY_G102C20",487,"Bty Gel 102AH C20","CAD","306300"]
["M-T2VK_PARMNL","M-T2","VK_PARMNL",75,"Parts Manual","CAD","306300"]
["M-T2VK_CLNTOL_PYP","M-T2","VK_CLNTOL_PYP",323,"Poly Brush","CAD","306300"]
["M-T2VK_CLNTOL_NYL","M-T2","VK_CLNTOL_NYL",397,"Nylon Brush","CAD","306300"]
["M-T2VK_CLNTOL_ABB","M-T2","VK_CLNTOL_ABB",542,"Abrasive Brush","CAD","306300"]
["M-T2VK_ADLOPRMNL","M-T2","VK_ADLOPRMNL",186,"Add Operator Manual","CAD","306300"]
["M-T2VK_PKG_SSKD","M-T2","VK_PKG_SSKD","N/C","Stack Skid/Carton","CAD","306300"]
["M-T300VK_SVEEVMSWH","M-T300","VK_SVEEVMSWH",816,"SE Switch Capability","CAD","306307"]
["M-T300VK_CLNTOL_D600PAD","M-T300","VK_CLNTOL_D600PAD",302,"D600/24 Pad Driver","CAD","306307"]
["M-T300VK_RECHSE_PVC","M-T300","VK_RECHSE_PVC","N/C","PVC Matl w/Drain Cap","CAD","306307"]
["M-T300VK_CLNTOL_D600ABB","M-T300","VK_CLNTOL_D600ABB",532,"D600/24 Abr Brush","CAD","306307"]
["M-T300VK_TRM_PPAN","M-T300","VK_TRM_PPAN",1266,"ProPanel Ctrls","CAD","306307"]
["M-T300VK_PKG_SSKD","M-T300","VK_PKG_SSKD","N/C","Stack Skid/Carton","CAD","306307"]
["M-T300VK_CLNTOL_D430ABB","M-T300","VK_CLNTOL_D430ABB",527,"D430/17 Abr Brush","CAD","306307"]
["M-T300VK_CLNTOL_C500NYL","M-T300","VK_CLNTOL_C500NYL",300,"C500/20 Nylon Brush","CAD","306307"]
["M-T300VK_CLNTOL_D430NYL","M-T300","VK_CLNTOL_D430NYL",448,"D430/17 Nylon Brush","CAD","306307"]
["M-T300VK_CLNTOL_D500PYP","M-T300","VK_CLNTOL_D500PYP",469,"D500/20 Poly Brush","CAD","306307"]
["M-T300VK_RECHSE_PYPOR_DCO","M-T300","VK_RECHSE_PYPOR_DCO",47,"Poly Mat w/Drain Cap","CAD","306307"]
["M-T300VK_CLNTOL_D430PAD","M-T300","VK_CLNTOL_D430PAD",448,"D430/17 Pad Driver","CAD","306307"]
["M-T300VK_OPRMNL","M-T300","VK_OPRMNL","N/C","Oper Manual","CAD","306307"]
["M-T300VK_HRCLBLKIT","M-T300","VK_HRCLBLKIT",157,"Herc Label Kit","CAD","306307"]
["M-T300VK_PRGBRK","M-T300","VK_PRGBRK",259,"Parking Brake","CAD","306307"]
["M-T300VK_CLNTOL_D600NYL","M-T300","VK_CLNTOL_D600NYL",302,"D600/24 Nylon Brush","CAD","306307"]
["M-T300VK_BASE_T300-430-D_STD","M-T300","VK_BASE_T300-430-D_STD",10070,"T300 430mm D Std Config","CAD","306307"]
["M-T300VK_BASE_T300-500-C_STD","M-T300","VK_BASE_T300-500-C_STD",14769,"T300 500mm C Std Config","CAD","306307"]
["M-T300VK_BASE_T300-500-D_STD","M-T300","VK_BASE_T300-500-D_STD",11516,"T300 500mm D Std Config","CAD","306307"]
["M-T300VK_BASE_T300-500-O_STD","M-T300","VK_BASE_T300-500-O_STD",13035,"T300 500mm O Std Config","CAD","306307"]
["M-T300VK_BASE_T300-600-D_STD","M-T300","VK_BASE_T300-600-D_STD",13526,"T300 600mm D Std Config","CAD","306307"]
["M-T300VK_CLNTOL_D500PAD","M-T300","VK_CLNTOL_D500PAD",469,"D500/20 Pad Driver","CAD","306307"]
["M-T300VK_QITMOD","M-T300","VK_QITMOD","N/C","Quiet Mode","CAD","306307"]
["M-T300VK_SRVMNL","M-T300","VK_SRVMNL",178,"Service Manual","CAD","306307"]
["M-T300VK_BTY_WO","M-T300","VK_BTY_WO","N/C","Without Battery","CAD","306307"]
["M-T300VK_PADTYP_430RED3","M-T300","VK_PADTYP_430RED3",28,"430/17 Red Clean 3M","CAD","306307"]
["M-T300VK_PADTYP_600MAR3","M-T300","VK_PADTYP_600MAR3",25,"600/24 MarSur 3M","CAD","306307"]
["M-T300VK_PADTYP_600BWN3","M-T300","VK_PADTYP_600BWN3",20,"600/24 Br Strip 3M","CAD","306307"]
["M-T300VK_PADTYP_600WHT3","M-T300","VK_PADTYP_600WHT3",20,"600/24 Wh Polish 3M","CAD","306307"]
["M-T300VK_RECHSE_PYPOR_PC","M-T300","VK_RECHSE_PYPOR_PC","N/C","Poly Mat w/Pinch Cuff","CAD","306307"]
["M-T300VK_PADTYP_O500BLU3","M-T300","VK_PADTYP_O500BLU3",34,"Orb 500/20 Blu 3M","CAD","306307"]
["M-T300VK_PADTYP_O500RED3","M-T300","VK_PADTYP_O500RED3",34,"Orb 500/20 Red 3M","CAD","306307"]
["M-T300VK_PADTYP_O500WHT3","M-T300","VK_PADTYP_O500WHT3",34,"Orb 500/20 Wht 3M","CAD","306307"]
["M-T300VK_CLNTOL_D600PYP","M-T300","VK_CLNTOL_D600PYP",302,"D600/24 Poly Brush","CAD","306307"]
["M-T300VK_CLNTOL_D500ABB","M-T300","VK_CLNTOL_D500ABB",717,"D500/20 Abr Brush","CAD","306307"]
["M-T300VK_PADTYP_O500MAR3","M-T300","VK_PADTYP_O500MAR3",86,"Orb 500/20 Mar 3M","CAD","306307"]
["M-T300VK_PKG_WSKD","M-T300","VK_PKG_WSKD","N/C","Skid w/Stretch Wrap","CAD","306307"]
["M-T300VK_CLNTOL_D430PYP","M-T300","VK_CLNTOL_D430PYP",448,"D430/17 Poly Brush","CAD","306307"]
["M-T300VK_CHG_WO","M-T300","VK_CHG_WO","N/C","Without Charger","CAD","306307"]
["M-T300VK_PADTYP_600RED3","M-T300","VK_PADTYP_600RED3",20,"600/24 Red Clean 3M","CAD","306307"]
["M-T300VK_PADTYP_500WHT3","M-T300","VK_PADTYP_500WHT3",35,"500/20 Wh Polish 3M","CAD","306307"]
["M-T300VK_PADTYP_500RED3","M-T300","VK_PADTYP_500RED3",35,"500/20 Red Clean 3M","CAD","306307"]
[{"$f":"B648&C648","v":"M-T300VK_PADTYP_500MAR3"},"M-T300","VK_PADTYP_500MAR3",43,"500/20 MarSur 3M","CAD","306307"]
["M-T300VK_PADTYP_500BWN3","M-T300","VK_PADTYP_500BWN3",35,"500/20 Br Strip 3M","CAD","306307"]
["M-T300VK_PADTYP_500BLU3","M-T300","VK_PADTYP_500BLU3",35,"500/20 Bl Scrub 3M","CAD","306307"]
["M-T300VK_PADTYP_500BLKH3","M-T300","VK_PADTYP_500BLKH3",39,"500/20 Blk HiPro 3M","CAD","306307"]
["M-T300VK_PADTYP_430WHT3","M-T300","VK_PADTYP_430WHT3",28,"430/17 Wh Polish 3M","CAD","306307"]
["M-T300VK_PADTYP_430MAR3","M-T300","VK_PADTYP_430MAR3",37,"430/17 MarSur 3M","CAD","306307"]
["M-T300VK_PADTYP_430BWN3","M-T300","VK_PADTYP_430BWN3",28,"430/17 Br Strip 3M","CAD","306307"]
["M-T300VK_PADTYP_430BLU3","M-T300","VK_PADTYP_430BLU3",28,"430/17 Bl Scrub 3M","CAD","306307"]
["M-T300VK_PADTYP_430BLKH3","M-T300","VK_PADTYP_430BLKH3",39,"430/17 Blk HiPro 3M","CAD","306307"]
["M-T300VK_PADTYP_600BLU3","M-T300","VK_PADTYP_600BLU3",20,"600/24 Bl Scrub 3M","CAD","306307"]
["M-T300VK_PADTYP_600BLKH3","M-T300","VK_PADTYP_600BLKH3",25,"600/24 Blk HiPro 3M","CAD","306307"]
["M-T300VK_CLNDRT_PBA","M-T300","VK_CLNDRT_PBA","N/C","Pad / Brush Assist","CAD","306307"]
["M-T300VK_CLNDRT_SP","M-T300","VK_CLNDRT_SP",2096,"Self Propel","CAD","306307"]
["M-T300VK_CLNTCH_ECH2ON","M-T300","VK_CLNTCH_ECH2ON",2907,"ec-H2O™ NanoClean","CAD","306307"]
["M-T300VK_CLNTOL_C500PYP","M-T300","VK_CLNTOL_C500PYP",183,"C500/20 Poly Brush","CAD","306307"]
["M-T300VK_TRM_PMEM","M-T300","VK_TRM_PMEM",386,"Pro Membrane Panel","CAD","306307"]
["M-T300VK_SVEEVMSWHLKT","M-T300","VK_SVEEVMSWHLKT",83,"SE Switch Lockout","CAD","306307"]
["M-T300VK_PARMNL","M-T300","VK_PARMNL",72,"Parts Manual","CAD","306307"]
["M-T300VK_CHG_13A85V5060H1P_ON","M-T300","VK_CHG_13A85V5060H1P_ON","N/C","Ch13A 85V 50/60Hz On","CAD","306307"]
["M-T300VK_CHG_13A85V5060H1P_OFF","M-T300","VK_CHG_13A85V5060H1P_OFF","N/C","Ch13A 85V 50/60H Off","CAD","306307"]
["M-T300VK_BTY_W150C20","M-T300","VK_BTY_W150C20",1130,"Bty Wet 150AH C20","CAD","306307"]
["M-T300VK_BTY_W130C20","M-T300","VK_BTY_W130C20",946,"Bty Wet 130AH C20","CAD","306307"]
["M-T300VK_BTY_W105C20","M-T300","VK_BTY_W105C20",842,"Bty Wet 105AH C20","CAD","306307"]
["M-T300VK_BTY_A140C20","M-T300","VK_BTY_A140C20",2668,"Bty AGM 140AH C20","CAD","306307"]
["M-T300VK_BTYWTRSYS","M-T300","VK_BTYWTRSYS",759,"Battery Watering Sys","CAD","306307"]
["M-T300VK_BTYLFTBOX","M-T300","VK_BTYLFTBOX",241,"Battery Lift Box","CAD","306307"]
["M-T300VK_BASE_T300-600-D","M-T300","VK_BASE_T300-600-D",13526,"T300-600-D","CAD","306307"]
["M-T300VK_BASE_T300-500-O","M-T300","VK_BASE_T300-500-O",13035,"T300-500-O","CAD","306307"]
["M-T300VK_BASE_T300-500-D","M-T300","VK_BASE_T300-500-D",11516,"T300-500-D","CAD","306307"]
["M-T300VK_BASE_T300-500-C","M-T300","VK_BASE_T300-500-C",14769,"T300-500-C","CAD","306307"]
["M-T300VK_BASE_T300-430-D","M-T300","VK_BASE_T300-430-D",10070,"T300-430-D","CAD","306307"]
["M-T300VK_ADLOPRMNL","M-T300","VK_ADLOPRMNL",178,"Add Operator Manual","CAD","306307"]
["M-T300VK_TRM_MPAN","M-T300","VK_TRM_MPAN","N/C","Membrane Ctrl Panel","CAD","306307"]
["M-T300VK_MCHCOM","M-T300","VK_MCHCOM",1916,"IRIS Telemetry","CAD","306307"]
["M-T300VK_CLNTOL_D500NYL","M-T300","VK_CLNTOL_D500NYL",469,"D500/20 Nylon Brush","CAD","306307"]
["M-T300VK_DWNPRS_MEC","M-T300","VK_DWNPRS_MEC","N/C","Mech Down Pressure","CAD","306307"]
["M-T300VK_DWNPRS_AUT","M-T300","VK_DWNPRS_AUT","N/C","Auto Down Pressure","CAD","306307"]
["M-T300EVK_PADTYP_430RED3","M-T300E","VK_PADTYP_430RED3",28,"430/17 Red Clean 3M","CAD","306308"]
["M-T300EVK_PADTYP_430BLU3","M-T300E","VK_PADTYP_430BLU3",28,"430/17 Bl Scrub 3M","CAD","306308"]
["M-T300EVK_BASE_T300E-500-D_STD","M-T300E","VK_BASE_T300E-500-D_STD",9440,"T300E 500mm Disk Std","CAD","306308"]
["M-T300EVK_MCHCOM_SBT","M-T300E","VK_MCHCOM_SBT",1916,"IRIS Telemetry","CAD","306308"]
["M-T300EVK_BASE_T300E-600-D_STD","M-T300E","VK_BASE_T300E-600-D_STD",10151,"T300E 600mm Disk Std","CAD","306308"]
["M-T300EVK_BASE_T300E-500-O_STD","M-T300E","VK_BASE_T300E-500-O_STD",10621,"T300E 500mm Orb Std","CAD","306308"]
["M-T300EVK_BASE_T300E-430-D_STD","M-T300E","VK_BASE_T300E-430-D_STD",8341,"T300E 430mm Disk Std","CAD","306308"]
["M-T300EVK_RECHSE_PYPOR_PC","M-T300E","VK_RECHSE_PYPOR_PC","N/C","Poly Mat w/Pinch Cuff","CAD","306308"]
["M-T300EVK_RECHSE_PYPOR_DCO","M-T300E","VK_RECHSE_PYPOR_DCO",47,"Poly Mat w/Drain Cap","CAD","306308"]
["M-T300EVK_RECHSE_PVC","M-T300E","VK_RECHSE_PVC","N/C","PVC Matl w/Drain Cap","CAD","306308"]
["M-T300EVK_SRVMNL","M-T300E","VK_SRVMNL",178,"Service Manual","CAD","306308"]
["M-T300EVK_PKG_SSKD","M-T300E","VK_PKG_SSKD","N/C","Stack Skid/Carton","CAD","306308"]
["M-T300EVK_CLNTCH_CNV","M-T300E","VK_CLNTCH_CNV","N/C","Conventional","CAD","306308"]
["M-T300EVK_PADTYP_O500RED3","M-T300E","VK_PADTYP_O500RED3",34,"Orb 500/20 Red 3M","CAD","306308"]
["M-T300EVK_PADTYP_O500MAR3","M-T300E","VK_PADTYP_O500MAR3",86,"Orb 500/20 Mar 3M","CAD","306308"]
["M-T300EVK_PADTYP_500BLKH3","M-T300E","VK_PADTYP_500BLKH3",39,"500/20 Blk HiPro 3M","CAD","306308"]
["M-T300EVK_PADTYP_430MAR3","M-T300E","VK_PADTYP_430MAR3",37,"430/17 MarSur 3M","CAD","306308"]
["M-T300EVK_PKG_PAD","M-T300E","VK_PKG_PAD","N/C","Pad Wrap","CAD","306308"]
["M-T300EVK_CLNTOL_D600PYP_IC","M-T300E","VK_CLNTOL_D600PYP_IC",302,"D600/24 PolyBrush-IC","CAD","306308"]
["M-T300EVK_CLNTOL_D600PAD_IC","M-T300E","VK_CLNTOL_D600PAD_IC",302,"D600/24 PadDriver-IC","CAD","306308"]
["M-T300EVK_CLNTOL_D600NYL_IC","M-T300E","VK_CLNTOL_D600NYL_IC",302,"D600/24 Nyl Brush-IC","CAD","306308"]
["M-T300EVK_CLNTOL_D600ABB_IC","M-T300E","VK_CLNTOL_D600ABB_IC",522,"D600/24 Abr Brush-IC","CAD","306308"]
["M-T300EVK_CLNTOL_D500PYP_IC","M-T300E","VK_CLNTOL_D500PYP_IC",469,"D500/20 PolyBrush-IC","CAD","306308"]
["M-T300EVK_CLNTOL_D500PAD_IC","M-T300E","VK_CLNTOL_D500PAD_IC",469,"D500/20 PadDriver-IC","CAD","306308"]
["M-T300EVK_CLNTOL_D500NYL_IC","M-T300E","VK_CLNTOL_D500NYL_IC",469,"D500/20 Nyl Brush-IC","CAD","306308"]
["M-T300EVK_CLNTOL_D500ABB_IC","M-T300E","VK_CLNTOL_D500ABB_IC",717,"D500/20 Abr Brush-IC","CAD","306308"]
["M-T300EVK_CLNTOL_D430PYP_IC","M-T300E","VK_CLNTOL_D430PYP_IC",448,"D430/17 PolyBrush-IC","CAD","306308"]
[{"$f":"B712&C712","v":"M-T300EVK_CLNTOL_D430PAD_IC"},"M-T300E","VK_CLNTOL_D430PAD_IC",448,"D430/17 PadDriver-IC","CAD","306308"]
["M-T300EVK_CLNTOL_D430NYL_IC","M-T300E","VK_CLNTOL_D430NYL_IC",448,"D430/17 Nyl Brush IC","CAD","306308"]
["M-T300EVK_CLNTOL_D430ABB_IC","M-T300E","VK_CLNTOL_D430ABB_IC",527,"D430/17 Abr Brush IC","CAD","306308"]
["M-T300EVK_ATT_IC_T300E","M-T300E","VK_ATT_IC_T300E",563,"Insta-Click™","CAD","306308"]
["M-T300EVK_MCHCOM","M-T300E","VK_MCHCOM",1916,"IRIS Telemetry","CAD","306308"]
["M-T300EVK_PADTYP_430YLW3","M-T300E","VK_PADTYP_430YLW3",98,"430/17 Ylw Polish 3M","CAD","306308"]
["M-T300EVK_PADTYP_500YLW3","M-T300E","VK_PADTYP_500YLW3",116,"500/20 Ylw Polish 3M","CAD","306308"]
["M-T300EVK_PADTYP_600YLW3","M-T300E","VK_PADTYP_600YLW3",62,"600/24 Ylw Polish 3M","CAD","306308"]
["M-T300EVK_PADTYP_O500YLW3","M-T300E","VK_PADTYP_O500YLW3",190,"Orb 500/20 Ylw 3M","CAD","306308"]
["M-T300EVK_CHG_13A85V5060H1P_OFF","M-T300E","VK_CHG_13A85V5060H1P_OFF","N/C","Ch13A 85V 50/60H Off","CAD","306308"]
["M-T300EVK_CHG_13A85V5060H1P_ON","M-T300E","VK_CHG_13A85V5060H1P_ON","N/C","Ch13A 85V 50/60Hz On","CAD","306308"]
["M-T300EVK_CLNTOL_D600PYP","M-T300E","VK_CLNTOL_D600PYP",302,"D600/24 Poly Brush","CAD","306308"]
["M-T300EVK_PKG_SSKD_NC","M-T300E","VK_PKG_SSKD_NC","N/C","Stack Skid/Carton","CAD","306308"]
["M-T300EVK_PKG_WSKD","M-T300E","VK_PKG_WSKD","N/C","Skid w/Stretch Wrap","CAD","306308"]
["M-T300EVK_PRGBRK","M-T300E","VK_PRGBRK",259,"Parking Brake","CAD","306308"]
["M-T300EVK_CSMSBTPARKIT","M-T300E","VK_CSMSBTPARKIT",2063,"Sunbelt -Parts Kit","CAD","306308"]
["M-T300EVK_ADLOPRMNL","M-T300E","VK_ADLOPRMNL",178,"Add Operator Manual","CAD","306308"]
["M-T300EVK_OPRMNL","M-T300E","VK_OPRMNL","N/C","Oper Manual","CAD","306308"]
["M-T300EVK_CLNTOL_D600PAD","M-T300E","VK_CLNTOL_D600PAD",302,"D600/24 Pad Driver","CAD","306308"]
["M-T300EVK_CLNTOL_D600NYL","M-T300E","VK_CLNTOL_D600NYL",302,"D600/24 Nylon Brush","CAD","306308"]
["M-T300EVK_CLNTOL_D600ABB","M-T300E","VK_CLNTOL_D600ABB",418,"D600/24 Abr Brush","CAD","306308"]
["M-T300EVK_CLNTOL_D500PYP","M-T300E","VK_CLNTOL_D500PYP",368,"D500/20 Poly Brush","CAD","306308"]
["M-T300EVK_CLNTOL_D500PAD","M-T300E","VK_CLNTOL_D500PAD",368,"D500/20 Pad Driver","CAD","306308"]
["M-T300EVK_CLNTOL_D500NYL","M-T300E","VK_CLNTOL_D500NYL",368,"D500/20 Nylon Brush","CAD","306308"]
["M-T300EVK_CLNTOL_D500ABB","M-T300E","VK_CLNTOL_D500ABB",677,"D500/20 Abr Brush","CAD","306308"]
["M-T300EVK_CLNTOL_D430PYP","M-T300E","VK_CLNTOL_D430PYP",315,"D430/17 Poly Brush","CAD","306308"]
["M-T300EVK_CLNTOL_D430PAD","M-T300E","VK_CLNTOL_D430PAD",315,"D430/17 Pad Driver","CAD","306308"]
["M-T300EVK_CLNTOL_D430NYL","M-T300E","VK_CLNTOL_D430NYL",315,"D430/17 Nylon Brush","CAD","306308"]
["M-T300EVK_CLNTOL_D430ABB","M-T300E","VK_CLNTOL_D430ABB",500,"D430/17 Abr Brush","CAD","306308"]
["M-T300EVK_CLNTOL_C500PYP","M-T300E","VK_CLNTOL_C500PYP",183,"C500/20 Poly Brush","CAD","306308"]
["M-T300EVK_CLNTOL_C500NYL","M-T300E","VK_CLNTOL_C500NYL",300,"C500/20 Nylon Brush","CAD","306308"]
["M-T300EVK_PARMNL","M-T300E","VK_PARMNL",72,"Parts Manual","CAD","306308"]
["M-T300EVK_ATT_CNV_T300E","M-T300E","VK_ATT_CNV_T300E","N/C","Conventional - 3 Lug","CAD","306308"]
["M-T300EVK_PADTYP_500BWN3","M-T300E","VK_PADTYP_500BWN3",35,"500/20 Br Strip 3M","CAD","306308"]
["M-T300EVK_PADTYP_500MAR3","M-T300E","VK_PADTYP_500MAR3",43,"500/20 MarSur 3M","CAD","306308"]
["M-T300EVK_PADTYP_500RED3","M-T300E","VK_PADTYP_500RED3",35,"500/20 Red Clean 3M","CAD","306308"]
["M-T300EVK_PADTYP_500WHT3","M-T300E","VK_PADTYP_500WHT3",35,"500/20 Wh Polish 3M","CAD","306308"]
["M-T300EVK_PADTYP_600BLKH3","M-T300E","VK_PADTYP_600BLKH3",25,"600/24 Blk HiPro 3M","CAD","306308"]
["M-T300EVK_PADTYP_600BLU3","M-T300E","VK_PADTYP_600BLU3",20,"600/24 Bl Scrub 3M","CAD","306308"]
["M-T300EVK_PADTYP_600BWN3","M-T300E","VK_PADTYP_600BWN3",20,"600/24 Br Strip 3M","CAD","306308"]
["M-T300EVK_PADTYP_600MAR3","M-T300E","VK_PADTYP_600MAR3",25,"600/24 MarSur 3M","CAD","306308"]
["M-T300EVK_PADTYP_600RED3","M-T300E","VK_PADTYP_600RED3",20,"600/24 Red Clean 3M","CAD","306308"]
["M-T300EVK_PADTYP_600WHT3","M-T300E","VK_PADTYP_600WHT3",20,"600/24 Wh Polish 3M","CAD","306308"]
["M-T300EVK_PADTYP_O500BLU3","M-T300E","VK_PADTYP_O500BLU3",34,"Orb 500/20 Blu 3M","CAD","306308"]
["M-T300EVK_PADTYP_O500WHT3","M-T300E","VK_PADTYP_O500WHT3",34,"Orb 500/20 Wht 3M","CAD","306308"]
["M-T300EVK_BASE_T300E-430-D","M-T300E","VK_BASE_T300E-430-D",8341,"T300E-430-D","CAD","306308"]
["M-T300EVK_BASE_T300E-500-D","M-T300E","VK_BASE_T300E-500-D",9440,"T300E-500-D","CAD","306308"]
["M-T300EVK_BASE_T300E-500-O","M-T300E","VK_BASE_T300E-500-O",10621,"T300E-500-O","CAD","306308"]
["M-T300EVK_BASE_T300E-600-D","M-T300E","VK_BASE_T300E-600-D",10151,"T300E-600-D","CAD","306308"]
["M-T300EVK_BTYLFTBOX","M-T300E","VK_BTYLFTBOX",241,"Battery Lift Box","CAD","306308"]
["M-T300EVK_BTYWTRSYS","M-T300E","VK_BTYWTRSYS",759,"Battery Watering Sys","CAD","306308"]
["M-T300EVK_BTY_A140C20","M-T300E","VK_BTY_A140C20",2668,"Bty AGM 140AH C20","CAD","306308"]
["M-T300EVK_BTY_W105C20","M-T300E","VK_BTY_W105C20",842,"Bty Wet 105AH C20","CAD","306308"]
["M-T300EVK_BTY_W130C20","M-T300E","VK_BTY_W130C20",946,"Bty Wet 130AH C20","CAD","306308"]
["M-T300EVK_BTY_W150C20","M-T300E","VK_BTY_W150C20",1130,"Bty Wet 150AH C20","CAD","306308"]
["M-T300EVK_BTY_WO","M-T300E","VK_BTY_WO","N/C","Without Battery","CAD","306308"]
["M-T300EVK_CHG_WO","M-T300E","VK_CHG_WO","N/C","Without Charger","CAD","306308"]
["M-T300EVK_CLNDRT_PBA","M-T300E","VK_CLNDRT_PBA","N/C","Pad / Brush Assist","CAD","306308"]
["M-T300EVK_CLNDRT_SP","M-T300E","VK_CLNDRT_SP",2096,"Self Propel","CAD","306308"]
["M-T300EVK_CLNTCH_ECH2ON","M-T300E","VK_CLNTCH_ECH2ON",2907,"ec-H2O™ NanoClean","CAD","306308"]
["M-T300EVK_DWN_PRS_MLT_C","M-T300E","VK_DWN_PRS_MLT_C",480,"Multi DD Press-Cyl","CAD","306308"]
["M-T300EVK_DWN_PRS_MLT_DO","M-T300E","VK_DWN_PRS_MLT_DO",480,"Multi DD Press-D/O","CAD","306308"]
["M-T300EVK_DWN_PRS_SGL","M-T300E","VK_DWN_PRS_SGL","N/C","Single D Pressure","CAD","306308"]
["M-T300EVK_PADTYP_430BLKH3","M-T300E","VK_PADTYP_430BLKH3",39,"430/17 Blk HiPro 3M","CAD","306308"]
[{"$f":"B776&C776","v":"M-T300EVK_PADTYP_430BWN3"},"M-T300E","VK_PADTYP_430BWN3",28,"430/17 Br Strip 3M","CAD","306308"]
["M-T300EVK_PADTYP_430WHT3","M-T300E","VK_PADTYP_430WHT3",28,"430/17 Wh Polish 3M","CAD","306308"]
["M-T300EVK_PADTYP_500BLU3","M-T300E","VK_PADTYP_500BLU3",35,"500/20 Bl Scrub 3M","CAD","306308"]
["M-SS300VK_BTY_W130C20","M-SS300","VK_BTY_W130C20",946,"Bty Wet 130AH C20","CAD","306309"]
["M-SS300VK_PADTYP_430BWN3","M-SS300","VK_PADTYP_430BWN3",28,"430/17 Br Strip 3M","CAD","306309"]
["M-SS300VK_OPRMNL","M-SS300","VK_OPRMNL","N/C","Oper Manual","CAD","306309"]
["M-SS300VK_CLNTOL_C500NYL","M-SS300","VK_CLNTOL_C500NYL",300,"C500/20 Nylon Brush","CAD","306309"]
["M-SS300VK_CLNTOL_D500ABB_QC","M-SS300","VK_CLNTOL_D500ABB_QC",717,"D500/20 Abr Brush-QC","CAD","306309"]
["M-SS300VK_PADTYP_430BLKH3","M-SS300","VK_PADTYP_430BLKH3",39,"430/17 Blk HiPro 3M","CAD","306309"]
["M-SS300VK_BASE_SS300-500-D_STD","M-SS300","VK_BASE_SS300-500-D_STD",9440,"500 SS300 Disk STD","CAD","306309"]
["M-SS300VK_BASE_SS300-430-D_STD","M-SS300","VK_BASE_SS300-430-D_STD",8341,"430 SS300 Disk STD","CAD","306309"]
["M-SS300VK_CHG_WO","M-SS300","VK_CHG_WO","N/C","Without Charger","CAD","306309"]
["M-SS300VK_CLNTOL_D430ABB","M-SS300","VK_CLNTOL_D430ABB",527,"D430/17 Abr Brush","CAD","306309"]
["M-SS300VK_PADTYP_500MAR3","M-SS300","VK_PADTYP_500MAR3",43,"500/20 MarSur 3M","CAD","306309"]
["M-SS300VK_CLNTOL_D600ABB_IC","M-SS300","VK_CLNTOL_D600ABB_IC",522,"D600/24 Abr Brush-IC","CAD","306309"]
["M-SS300VK_BASE_SS300-600-D_STD","M-SS300","VK_BASE_SS300-600-D_STD",10151,"600 SS300 Disk STD","CAD","306309"]
["M-SS300VK_PADTYP_500BLU3","M-SS300","VK_PADTYP_500BLU3",35,"500/20 Bl Scrub 3M","CAD","306309"]
["M-SS300VK_BASE_SS300-500-C_STD","M-SS300","VK_BASE_SS300-500-C_STD",12788,"500 SS300 Cyl STD","CAD","306309"]
["M-SS300VK_CLNTOL_D430PAD_QC","M-SS300","VK_CLNTOL_D430PAD_QC",448,"D430/17 PadDriver-QC","CAD","306309"]
["M-SS300VK_CLNTOL_D500PAD","M-SS300","VK_CLNTOL_D500PAD",368,"D500/20 Pad Driver","CAD","306309"]
["M-SS300VK_CLNTOL_D600PAD_IC","M-SS300","VK_CLNTOL_D600PAD_IC",302,"D600/24 PadDriver-IC","CAD","306309"]
["M-SS300VK_PADTYP_500BWN3","M-SS300","VK_PADTYP_500BWN3",35,"500/20 Br Strip 3M","CAD","306309"]
["M-SS300VK_CLNTOL_D430PYP","M-SS300","VK_CLNTOL_D430PYP",323,"D430/17 Poly Brush","CAD","306309"]
["M-SS300VK_PKG_WSKD","M-SS300","VK_PKG_WSKD","N/C","Skid w/Stretch Wrap","CAD","306309"]
["M-SS300VK_PADTYP_500WHT3","M-SS300","VK_PADTYP_500WHT3",35,"500/20 Wh Polish 3M","CAD","306309"]
["M-SS300VK_CLNTOL_D600PAD","M-SS300","VK_CLNTOL_D600PAD",302,"D600/24 Pad Driver","CAD","306309"]
["M-SS300VK_CHG_13A85V5060H1P_ON","M-SS300","VK_CHG_13A85V5060H1P_ON","N/C","Ch13A 85V 50/60Hz On","CAD","306309"]
["M-SS300VK_PADTYP_430WHT3","M-SS300","VK_PADTYP_430WHT3",28,"430/17 Wh Polish 3M","CAD","306309"]
["M-SS300VK_CLNTOL_D600NYL_IC","M-SS300","VK_CLNTOL_D600NYL_IC",302,"D600/24 Nyl Brush-IC","CAD","306309"]
["M-SS300VK_BTY_W150C20","M-SS300","VK_BTY_W150C20",1130,"Bty Wet 150AH C20","CAD","306309"]
["M-SS300VK_ADLOPRMNL","M-SS300","VK_ADLOPRMNL",178,"Add Operator Manual","CAD","306309"]
["M-SS300VK_DWNPRS_MLT_C","M-SS300","VK_DWNPRS_MLT_C",480,"Multi DD Press-Cyl","CAD","306309"]
["M-SS300VK_PKG_PAD","M-SS300","VK_PKG_PAD","N/C","Pad Wrap","CAD","306309"]
["M-SS300VK_DWNPRS_MLT_DO","M-SS300","VK_DWNPRS_MLT_DO",480,"Multi DD Press-D/O","CAD","306309"]
["M-SS300VK_PADTYP_600WHT3","M-SS300","VK_PADTYP_600WHT3",20,"600/24 Wh Polish 3M","CAD","306309"]
["M-SS300VK_PADTYP_600RED3","M-SS300","VK_PADTYP_600RED3",20,"600/24 Red Clean 3M","CAD","306309"]
["M-SS300VK_ATT_QC_SS300","M-SS300","VK_ATT_QC_SS300",563,"Insta-Click™","CAD","306309"]
["M-SS300VK_PADTYP_O500WHT3","M-SS300","VK_PADTYP_O500WHT3",34,"Orb 500/20 Wht 3M","CAD","306309"]
["M-SS300VK_BTY_WO","M-SS300","VK_BTY_WO","N/C","Without Battery","CAD","306309"]
["M-SS300VK_PARMNL","M-SS300","VK_PARMNL",72,"Parts Manual","CAD","306309"]
["M-SS300VK_BASE_SS300-500-O_STD","M-SS300","VK_BASE_SS300-500-O_STD",10621,"500 SS300 Orbital STD","CAD","306309"]
["M-SS300VK_RECHSE_PYPOR_PC","M-SS300","VK_RECHSE_PYPOR_PC","N/C","Poly Mat w/Pinch Cuff","CAD","306309"]
["M-SS300VK_PKG_SSKD_NC","M-SS300","VK_PKG_SSKD_NC","N/C","Stack Skid/Carton","CAD","306309"]
["M-SS300VK_MCHCOM","M-SS300","VK_MCHCOM",1916,"IRIS Telemetry","CAD","306309"]
["M-SS300VK_CLNTOL_C500PYP","M-SS300","VK_CLNTOL_C500PYP",183,"C500/20 Poly Brush","CAD","306309"]
["M-SS300VK_CLNTCH_ECH2ON","M-SS300","VK_CLNTCH_ECH2ON",2907,"ec-H2O™ NanoClean","CAD","306309"]
["M-SS300VK_CLNDRT_SP","M-SS300","VK_CLNDRT_SP",2096,"Self Propel","CAD","306309"]
["M-SS300VK_CLNDRT_PBA","M-SS300","VK_CLNDRT_PBA","N/C","Pad / Brush Assist","CAD","306309"]
["M-SS300VK_CHG_13A85V5060H1P_OFF","M-SS300","VK_CHG_13A85V5060H1P_OFF","N/C","Ch13A 85V 50/60H Off","CAD","306309"]
["M-SS300VK_BTY_W105C20","M-SS300","VK_BTY_W105C20",842,"Bty Wet 105AH C20","CAD","306309"]
["M-SS300VK_BTY_A140C20","M-SS300","VK_BTY_A140C20",2668,"Bty AGM 140AH C20","CAD","306309"]
["M-SS300VK_CLNTOL_D500NYL","M-SS300","VK_CLNTOL_D500NYL",368,"D500/20 Nylon Brush","CAD","306309"]
["M-SS300VK_CLNTOL_D500ABB_IC","M-SS300","VK_CLNTOL_D500ABB_IC",717,"D500/20 Abr Brush-IC","CAD","306309"]
["M-SS300VK_CLNTOL_D500ABB","M-SS300","VK_CLNTOL_D500ABB",677,"D500/20 Abr Brush","CAD","306309"]
["M-SS300VK_CLNTOL_D430PYP_QC","M-SS300","VK_CLNTOL_D430PYP_QC",448,"D430/17 PolyBrush-QC","CAD","306309"]
["M-SS300VK_CLNTOL_D430PYP_IC","M-SS300","VK_CLNTOL_D430PYP_IC",448,"D430/17 PolyBrush-IC","CAD","306309"]
["M-SS300VK_CLNTOL_D430PAD_IC","M-SS300","VK_CLNTOL_D430PAD_IC",448,"D430/17 PadDriver-IC","CAD","306309"]
["M-SS300VK_CLNTOL_D430PAD","M-SS300","VK_CLNTOL_D430PAD",323,"D430/17 Pad Driver","CAD","306309"]
["M-SS300VK_CLNTOL_D430NYL_QC","M-SS300","VK_CLNTOL_D430NYL_QC",448,"D430/17 Nyl Brush QC","CAD","306309"]
["M-SS300VK_CLNTOL_D430NYL_IC","M-SS300","VK_CLNTOL_D430NYL_IC",448,"D430/17 Nyl Brush IC","CAD","306309"]
["M-SS300VK_CLNTOL_D430NYL","M-SS300","VK_CLNTOL_D430NYL",323,"D430/17 Nylon Brush","CAD","306309"]
["M-SS300VK_CLNTOL_D430ABB_QC","M-SS300","VK_CLNTOL_D430ABB_QC",500,"D430/17 Abr Brush QC","CAD","306309"]
["M-SS300VK_CLNTOL_D430ABB_IC","M-SS300","VK_CLNTOL_D430ABB_IC",527,"D430/17 Abr Brush IC","CAD","306309"]
["M-SS300VK_BTYWTRSYS","M-SS300","VK_BTYWTRSYS",759,"Battery Watering Sys","CAD","306309"]
[{"$f":"B840&C840","v":"M-SS300VK_BTYLFTBOX"},"M-SS300","VK_BTYLFTBOX",241,"Battery Lift Box","CAD","306309"]
["M-SS300VK_BASE_SS300-600-D","M-SS300","VK_BASE_SS300-600-D",10151,"SS300-600-D","CAD","306309"]
["M-SS300VK_BASE_SS300-500-O","M-SS300","VK_BASE_SS300-500-O",10621,"SS300-500-O","CAD","306309"]
["M-SS300VK_BASE_SS300-500-D","M-SS300","VK_BASE_SS300-500-D",9440,"SS300-500-D","CAD","306309"]
["M-SS300VK_BASE_SS300-500-C","M-SS300","VK_BASE_SS300-500-C",12788,"SS300-500-C","CAD","306309"]
["M-SS300VK_BASE_SS300-430-D","M-SS300","VK_BASE_SS300-430-D",8341,"SS300-430-D","CAD","306309"]
["M-SS300VK_ATT_IC_SS300","M-SS300","VK_ATT_IC_SS300",563,"Insta-Click™","CAD","306309"]
["M-SS300VK_ATT_CNV_SS300","M-SS300","VK_ATT_CNV_SS300","N/C","Conventional - 3 Lug","CAD","306309"]
["M-SS300VK_ACCCLP","M-SS300","VK_ACCCLP","N/C","Accessory Clip","CAD","306309"]
["M-SS300VK_PADTYP_430YLW3","M-SS300","VK_PADTYP_430YLW3",98,"430/17 Ylw Polish 3M","CAD","306309"]
["M-SS300VK_PADTYP_500YLW3","M-SS300","VK_PADTYP_500YLW3",116,"500/20 Ylw Polish 3M","CAD","306309"]
["M-SS300VK_PADTYP_600YLW3","M-SS300","VK_PADTYP_600YLW3",62,"600/24 Ylw Polish 3M","CAD","306309"]
["M-SS300VK_PADTYP_O500YLW3","M-SS300","VK_PADTYP_O500YLW3",68,"Orb 500/20 Ylw 3M","CAD","306309"]
["M-SS300VK_PADTYP_500RED3","M-SS300","VK_PADTYP_500RED3",35,"500/20 Red Clean 3M","CAD","306309"]
["M-SS300VK_PADTYP_500BLKH3","M-SS300","VK_PADTYP_500BLKH3",39,"500/20 Blk HiPro 3M","CAD","306309"]
["M-SS300VK_PADTYP_430RED3","M-SS300","VK_PADTYP_430RED3",28,"430/17 Red Clean 3M","CAD","306309"]
["M-SS300VK_SRVMNL","M-SS300","VK_SRVMNL",178,"Service Manual","CAD","306309"]
["M-SS300VK_REC_TNK_DEB_TRY","M-SS300","VK_REC_TNK_DEB_TRY",40,"Rec.Tank Debris Tray","CAD","306309"]
["M-SS300VK_RECHSE_PYPOR_DCO","M-SS300","VK_RECHSE_PYPOR_DCO",47,"Poly Mat w/Drain Cap","CAD","306309"]
["M-SS300VK_PRGBRK","M-SS300","VK_PRGBRK",259,"Parking Brake","CAD","306309"]
["M-SS300VK_PKG_SSKD","M-SS300","VK_PKG_SSKD","N/C","Stack Skid/Carton","CAD","306309"]
["M-SS300VK_PADTYP_O500RED3","M-SS300","VK_PADTYP_O500RED3",34,"Orb 500/20 Red 3M","CAD","306309"]
["M-SS300VK_PADTYP_O500BLU3","M-SS300","VK_PADTYP_O500BLU3",34,"Orb 500/20 Blu 3M","CAD","306309"]
["M-SS300VK_CLNTOL_D600NYL","M-SS300","VK_CLNTOL_D600NYL",302,"D600/24 Nylon Brush","CAD","306309"]
["M-SS300VK_CLNTOL_D600ABB","M-SS300","VK_CLNTOL_D600ABB",418,"D600/24 Abr Brush","CAD","306309"]
["M-SS300VK_CLNTOL_D500PYP_QC","M-SS300","VK_CLNTOL_D500PYP_QC",462,"D500/20 PolyBrush-QC","CAD","306309"]
["M-SS300VK_CLNTOL_D500PYP_IC","M-SS300","VK_CLNTOL_D500PYP_IC",462,"D500/20 PolyBrush-IC","CAD","306309"]
["M-SS300VK_CLNTOL_D500PYP","M-SS300","VK_CLNTOL_D500PYP",368,"D500/20 Poly Brush","CAD","306309"]
["M-SS300VK_CLNTOL_D500PAD_QC","M-SS300","VK_CLNTOL_D500PAD_QC",462,"D500/20 PadDriver-QC","CAD","306309"]
["M-SS300VK_CLNTOL_D500PAD_IC","M-SS300","VK_CLNTOL_D500PAD_IC",462,"D500/20 PadDriver-IC","CAD","306309"]
["M-SS300VK_CLNTOL_D500NYL_QC","M-SS300","VK_CLNTOL_D500NYL_QC",462,"D500/20 Nyl Brush-QC","CAD","306309"]
["M-SS300VK_CLNTOL_D500NYL_IC","M-SS300","VK_CLNTOL_D500NYL_IC",462,"D500/20 Nyl Brush-IC","CAD","306309"]
["M-SS300VK_PADTYP_430BLU3","M-SS300","VK_PADTYP_430BLU3",28,"430/17 Bl Scrub 3M","CAD","306309"]
["M-SS300VK_PADTYP_600MAR3","M-SS300","VK_PADTYP_600MAR3",25,"600/24 MarSur 3M","CAD","306309"]
["M-SS300VK_PADTYP_600BWN3","M-SS300","VK_PADTYP_600BWN3",20,"600/24 Br Strip 3M","CAD","306309"]
["M-SS300VK_PADTYP_600BLU3","M-SS300","VK_PADTYP_600BLU3",20,"600/24 Bl Scrub 3M","CAD","306309"]
["M-SS300VK_PADTYP_600BLKH3","M-SS300","VK_PADTYP_600BLKH3",25,"600/24 Blk HiPro 3M","CAD","306309"]
["M-SS300VK_DWN_PRS_SGL","M-SS300","VK_DWN_PRS_SGL","N/C","Single D Pressure","CAD","306309"]
["M-SS300VK_DWN_PRS_MLT_DO","M-SS300","VK_DWN_PRS_MLT_DO",480,"Multi DD Press-D/O","CAD","306309"]
["M-SS300VK_DWN_PRS_MLT_C","M-SS300","VK_DWN_PRS_MLT_C",480,"Multi DD Press-Cyl","CAD","306309"]
["M-SS300VK_DWNPRS_SGL","M-SS300","VK_DWNPRS_SGL","N/C","Single Down Pressure","CAD","306309"]
["M-SS300VK_CLNTOL_D600PYP_IC","M-SS300","VK_CLNTOL_D600PYP_IC",302,"D600/24 PolyBrush-IC","CAD","306309"]
["M-SS300VK_CLNTOL_D600PYP","M-SS300","VK_CLNTOL_D600PYP",302,"D600/24 Poly Brush","CAD","306309"]
["M-SS300VK_PADTYP_430MAR3","M-SS300","VK_PADTYP_430MAR3",37,"430/17 MarSur 3M","CAD","306309"]
["M-SS300VK_RECHSE_PVC","M-SS300","VK_RECHSE_PVC","N/C","PVC Matl w/Drain Cap","CAD","306309"]
["M-SS300VK_PADTYP_O500MAR3","M-SS300","VK_PADTYP_O500MAR3",86,"Orb 500/20 Mar 3M","CAD","306309"]
["M-T500VK_BASE_T500-700-D_STD","M-T500","VK_BASE_T500-700-D_STD",23835,"T500 700mm Disk Std Config","CAD","306407"]
["M-T500VK_BASE_T500-700-O_STD","M-T500","VK_BASE_T500-700-O_STD",24756,"T500 700mm Orb Std Config","CAD","306407"]
["M-T500VK_BASE_T500-650-D_STD","M-T500","VK_BASE_T500-650-D_STD",21906,"T500 650mm Disk Std Config","CAD","306407"]
["M-T500VK_MCHCOM_SBT","M-T500","VK_MCHCOM_SBT",1916,"IRIS Telemetry","CAD","306407"]
["M-T500VK_SVEEVMSWHLKT","M-T500","VK_SVEEVMSWHLKT",81,"SE Switch Lockout","CAD","306407"]
["M-T500VK_BASE_T500-700-C_STD","M-T500","VK_BASE_T500-700-C_STD",25415,"T500 700mm Cyl Std Config","CAD","306407"]
["M-T500VK_BASE_T500-800-D_STD","M-T500","VK_BASE_T500-800-D_STD",25127,"T500 800mm Disk Std Config","CAD","306407"]
["M-T500VK_BTY_F183C20","M-T500","VK_BTY_F183C20",2768,"Sealed/MF FastCharge 183AH C20","CAD","306407"]
["M-T500VK_CHG_27A100240V5060H","M-T500","VK_CHG_27A100240V5060H",244,"Chg 27A 100-240V 5060Hz 1Ph","CAD","306407"]
["M-T500VK_PKG_WSKD","M-T500","VK_PKG_WSKD","N/C","Skid w/Stretch Wrap","CAD","306407"]
["M-T500VK_CSMSBTPARKIT","M-T500","VK_CSMSBTPARKIT",1973,"Sunbelt -Parts Kit","CAD","306407"]
["M-T500VK_RECHSE_PYPOR_PC","M-T500","VK_RECHSE_PYPOR_PC","N/C","Poly Mat w/Pinch Cuff","CAD","306407"]
["M-T500VK_BTY_WO","M-T500","VK_BTY_WO",-630,"Without Battery","CAD","306407"]
["M-T500VK_BTY_W260C20","M-T500","VK_BTY_W260C20",594,"Bty Wet 260AH C20","CAD","306407"]
["M-T500VK_BTY_W225C20","M-T500","VK_BTY_W225C20","N/C","Bty Wet 225AH C20","CAD","306407"]
["M-T500VK_BTY_A220C20","M-T500","VK_BTY_A220C20",2161,"Bty AGM 220AH C20","CAD","306407"]
["M-T500VK_BTYWTRSYS_SF","M-T500","VK_BTYWTRSYS_SF",1284,"Smart Fill","CAD","306407"]
["M-T500VK_BTYWTRSYS_ML","M-T500","VK_BTYWTRSYS_ML",747,"Battery Watering Manual","CAD","306407"]
[{"$f":"B904&C904","v":"M-T500VK_BASE_T500-800-D"},"M-T500","VK_BASE_T500-800-D",25127,"T500-800-D","CAD","306407"]
["M-T500VK_BASE_T500-700-O","M-T500","VK_BASE_T500-700-O",24756,"T500-700-O","CAD","306407"]
["M-T500VK_BASE_T500-700-D","M-T500","VK_BASE_T500-700-D",23835,"T500-700-D","CAD","306407"]
["M-T500VK_BASE_T500-700-C","M-T500","VK_BASE_T500-700-C",25415,"T500-700-C","CAD","306407"]
["M-T500VK_BASE_T500-650-D","M-T500","VK_BASE_T500-650-D",21906,"T500-650-D","CAD","306407"]
["M-T500VK_AUTFIL","M-T500","VK_AUTFIL",299,"Auto Fill","CAD","306407"]
["M-T500VK_ADLOPRMNL","M-T500","VK_ADLOPRMNL",175,"Add Operator Manual","CAD","306407"]
["M-T500VK_CHG_25A100V5060H1","M-T500","VK_CHG_25A100V5060H1","N/C","Ch25A 100V 5060H1P","CAD","306407"]
["M-T500VK_TRM_PPAN","M-T500","VK_TRM_PPAN",1242,"ProPanel Ctrls","CAD","306407"]
["M-T500VK_TRM_PMEM","M-T500","VK_TRM_PMEM","N/C","Pro Membrane Panel","CAD","306407"]
["M-T500VK_SVEEVMSWH","M-T500","VK_SVEEVMSWH",800,"SE Switch Capability","CAD","306407"]
["M-T500VK_SRVMNL","M-T500","VK_SRVMNL",175,"Service Manual","CAD","306407"]
["M-T500VK_SQEWDT_STD","M-T500","VK_SQEWDT_STD","N/C","Standard Squeegee","CAD","306407"]
["M-T500VK_SQEWDT_NWA","M-T500","VK_SQEWDT_NWA","N/C","NarrowAisle Squeegee","CAD","306407"]
["M-T500VK_SPYNOZWTHHSE","M-T500","VK_SPYNOZWTHHSE",989,"Spray Nozzel w/Hose","CAD","306407"]
["M-T500VK_RECHSE_PVC_DCO","M-T500","VK_RECHSE_PVC_DCO","N/C","PVC Matl w/Drain Cap","CAD","306407"]
["M-T500VK_PRGBRK","M-T500","VK_PRGBRK",254,"Parking Brake","CAD","306407"]
["M-T500VK_PKG_SSKD","M-T500","VK_PKG_SSKD","N/C","Stack Skid/Carton","CAD","306407"]
["M-T500VK_PARMNL","M-T500","VK_PARMNL",71,"Parts Manual","CAD","306407"]
["M-T500VK_MCHCOM","M-T500","VK_MCHCOM",1916,"IRIS Telemetry","CAD","306407"]
["M-T500VK_CLNTCH_ECH2ON","M-T500","VK_CLNTCH_ECH2ON",3976,"ec-H2O™ NanoClean","CAD","306407"]
["M-T500VK_CLNTCH_CNV","M-T500","VK_CLNTCH_CNV","N/C","Conventional","CAD","306407"]
["M-T500VK_CHG_WO","M-T500","VK_CHG_WO",-630,"Without Charger","CAD","306407"]
["M-T500VK_CHG_27A85V5060H1P","M-T500","VK_CHG_27A85V5060H1P","N/C","CH27A 85-270V 5060H1P","CAD","306407"]
["M-T500VK_PADTYP_650BLU3","M-T500","VK_PADTYP_650BLU3",21,"650/26 Bl Scrub 3M","CAD","306407"]
["M-T500VK_PADTYP_650BWN3","M-T500","VK_PADTYP_650BWN3",21,"650/26 Br Strip 3M","CAD","306407"]
["M-T500VK_PADTYP_650MAR3","M-T500","VK_PADTYP_650MAR3",25,"650/26 MarSur Pad 3M","CAD","306407"]
["M-T500VK_PADTYP_650RED3","M-T500","VK_PADTYP_650RED3",21,"650/26 Red Clean 3M","CAD","306407"]
["M-T500VK_PADTYP_650WHT3","M-T500","VK_PADTYP_650WHT3",21,"650/26 Wh Polish 3M","CAD","306407"]
["M-T500VK_PADTYP_700BLKH3","M-T500","VK_PADTYP_700BLKH3",27,"700/28 Blk HiPro 3M","CAD","306407"]
["M-T500VK_PADTYP_700BLU3","M-T500","VK_PADTYP_700BLU3",24,"700/28 Blu Scrub 3M","CAD","306407"]
["M-T500VK_PADTYP_700BWN3","M-T500","VK_PADTYP_700BWN3",24,"700/28 Bwn Strip 3M","CAD","306407"]
["M-T500VK_PADTYP_700MAR3","M-T500","VK_PADTYP_700MAR3",26,"700/28 MarSur Pad 3M","CAD","306407"]
["M-T500VK_PADTYP_700RED3","M-T500","VK_PADTYP_700RED3",24,"700/28 Red Clean 3M","CAD","306407"]
["M-T500VK_PADTYP_700WHT3","M-T500","VK_PADTYP_700WHT3",24,"700/28 Wht Polish 3M","CAD","306407"]
["M-T500VK_PADTYP_800BLU3","M-T500","VK_PADTYP_800BLU3",27,"800/32 Blu Scrub 3M","CAD","306407"]
["M-T500VK_PADTYP_800RED3","M-T500","VK_PADTYP_800RED3",27,"800/32 Red Clean 3M","CAD","306407"]
["M-T500VK_PADTYP_800WHT3","M-T500","VK_PADTYP_800WHT3",27,"800/32 Wht Polish 3M","CAD","306407"]
["M-T500VK_PADTYP_O700BLU3","M-T500","VK_PADTYP_O700BLU3",79,"Orb 700/28 Blu 3M","CAD","306407"]
["M-T500VK_PADTYP_O700MAR3","M-T500","VK_PADTYP_O700MAR3",159,"Orb 700/28 Mar 3M","CAD","306407"]
["M-T500VK_PADTYP_O700RED3","M-T500","VK_PADTYP_O700RED3",79,"Orb 700/28 Red 3M","CAD","306407"]
["M-T500VK_PADTYP_O700WHT3","M-T500","VK_PADTYP_O700WHT3",79,"Orb 700/28 Wht 3M","CAD","306407"]
["M-T500VK_CLNTOL_C700ABB","M-T500","VK_CLNTOL_C700ABB",466,"C700/28 Abr Brush","CAD","306407"]
["M-T500VK_CLNTOL_C700NYL","M-T500","VK_CLNTOL_C700NYL","N/C","C700/28 Nylon Brush","CAD","306407"]
["M-T500VK_CLNTOL_C700PYP","M-T500","VK_CLNTOL_C700PYP","N/C","C700/28 Poly Brush","CAD","306407"]
["M-T500VK_CLNTOL_D650ABB","M-T500","VK_CLNTOL_D650ABB",466,"D650/26 Abr Brush","CAD","306407"]
["M-T500VK_CLNTOL_D650NYL","M-T500","VK_CLNTOL_D650NYL","N/C","D650/26 Nylon Brush","CAD","306407"]
["M-T500VK_CLNTOL_D650PAD","M-T500","VK_CLNTOL_D650PAD","N/C","D650/26 Pad Driver","CAD","306407"]
["M-T500VK_CLNTOL_D650PYP","M-T500","VK_CLNTOL_D650PYP","N/C","D650/26 Poly Brush","CAD","306407"]
["M-T500VK_CLNTOL_D700ABB","M-T500","VK_CLNTOL_D700ABB",466,"D700/28 Abr Brush","CAD","306407"]
["M-T500VK_CLNTOL_D700NYL","M-T500","VK_CLNTOL_D700NYL","N/C","D700/28 Nylon Brush","CAD","306407"]
["M-T500VK_CLNTOL_D700PAD","M-T500","VK_CLNTOL_D700PAD","N/C","D700/28 Pad Driver","CAD","306407"]
["M-T500VK_CLNTOL_D700PYP","M-T500","VK_CLNTOL_D700PYP","N/C","D700/28 Poly Brush","CAD","306407"]
["M-T500VK_CLNTOL_D800ABB","M-T500","VK_CLNTOL_D800ABB",466,"D800/32 Abr Brush","CAD","306407"]
["M-T500VK_CLNTOL_D800NYL","M-T500","VK_CLNTOL_D800NYL","N/C","D800/32 Nylon Brush","CAD","306407"]
["M-T500VK_CLNTOL_D800PYP","M-T500","VK_CLNTOL_D800PYP","N/C","D800/32 Poly Brush","CAD","306407"]
["M-T500VK_CLNTOL_O700PAD","M-T500","VK_CLNTOL_O700PAD","N/C","O700/28 Pad Driver","CAD","306407"]
["M-T500VK_CLNTOL_D800PAD","M-T500","VK_CLNTOL_D800PAD","N/C","D800/32 Pad Driver","CAD","306407"]
["M-T500EVK_CLNTCH_CNV","M-T500E","VK_CLNTCH_CNV","N/C","Conventional","CAD","306408"]
["M-T500EVK_BASE_T500E-700-O_STD","M-T500E","VK_BASE_T500E-700-O_STD",22343,"T500E 700mm Orb Std Config","CAD","306408"]
["M-T500EVK_BASE_T500E-800-D","M-T500E","VK_BASE_T500E-800-D",22534,"T500E-800-D","CAD","306408"]
["M-T500EVK_BASE_T500E-700-O","M-T500E","VK_BASE_T500E-700-O",22343,"T500E-700-O","CAD","306408"]
["M-T500EVK_BASE_T500E-700-C","M-T500E","VK_BASE_T500E-700-C",23501,"T500E-700-C","CAD","306408"]
["M-T500EVK_PADTYP_700BLKH3","M-T500E","VK_PADTYP_700BLKH3",27,"700/28 Blk HiPro 3M","CAD","306408"]
[{"$f":"B968&C968","v":"M-T500EVK_BTY_A220C20"},"M-T500E","VK_BTY_A220C20",2161,"Bty AGM 220AH C20","CAD","306408"]
["M-T500EVK_BTYWTRSYS_SF","M-T500E","VK_BTYWTRSYS_SF",1284,"Smart Fill","CAD","306408"]
["M-T500EVK_BTY_W225C20","M-T500E","VK_BTY_W225C20","N/C","Bty Wet 225AH C20","CAD","306408"]
["M-T500EVK_CLNTOL_D700PAD","M-T500E","VK_CLNTOL_D700PAD","N/C","D700/28 Pad Driver","CAD","306408"]
["M-T500EVK_RECHSE_PVC_DCO","M-T500E","VK_RECHSE_PVC_DCO","N/C","PVC Matl w/Drain Cap","CAD","306408"]
["M-T500EVK_CLNTOL_D800PYP","M-T500E","VK_CLNTOL_D800PYP","N/C","D800/32 Poly Brush","CAD","306408"]
["M-T500EVK_PKG_SSKD","M-T500E","VK_PKG_SSKD","N/C","Stack Skid/Carton","CAD","306408"]
["M-T500EVK_BTY_WO","M-T500E","VK_BTY_WO",-630,"Without Battery","CAD","306408"]
["M-T500EVK_PADTYP_700BLU3","M-T500E","VK_PADTYP_700BLU3",24,"700/28 Blu Scrub 3M","CAD","306408"]
["M-T500EVK_PADTYP_650BLU3","M-T500E","VK_PADTYP_650BLU3",21,"650/26 Bl Scrub 3M","CAD","306408"]
["M-T500EVK_CLNTOL_D800ABB","M-T500E","VK_CLNTOL_D800ABB",466,"D800/32 Abr Brush","CAD","306408"]
["M-T500EVK_CLNTOL_D700PYP","M-T500E","VK_CLNTOL_D700PYP","N/C","D700/28 Poly Brush","CAD","306408"]
["M-T500EVK_CHG_27A100240V5060H","M-T500E","VK_CHG_27A100240V5060H",244,"Chg 27A 100-240V 5060Hz 1Ph","CAD","306408"]
["M-T500EVK_BASE_T500E-700-C_STD","M-T500E","VK_BASE_T500E-700-C_STD",23501,"T500E 700mm Cyl Std Config","CAD","306408"]
["M-T500EVK_BASE_T500E-650-D_STD","M-T500E","VK_BASE_T500E-650-D_STD",20312,"T500E 650mm Disk Std Config","CAD","306408"]
["M-T500EVK_BASE_T500E-700-D_STD","M-T500E","VK_BASE_T500E-700-D_STD",21376,"T500E 700mm Disk Std Config","CAD","306408"]
["M-T500EVK_BASE_T500E-800-D_STD","M-T500E","VK_BASE_T500E-800-D_STD",22534,"T500E 800mm Disk Std Config","CAD","306408"]
["M-T500EVK_BTY_F183C20","M-T500E","VK_BTY_F183C20",2768,"Sealed/MF FastCharge 183AH C20","CAD","306408"]
["M-T500EVK_PKG_WSKD","M-T500E","VK_PKG_WSKD","N/C","Skid w/Stretch Wrap","CAD","306408"]
["M-T500EVK_PADTYP_650BWN3","M-T500E","VK_PADTYP_650BWN3",21,"650/26 Br Strip 3M","CAD","306408"]
["M-T500EVK_PADTYP_650MAR3","M-T500E","VK_PADTYP_650MAR3",25,"650/26 MarSur Pad 3M","CAD","306408"]
["M-T500EVK_PADTYP_650WHT3","M-T500E","VK_PADTYP_650WHT3",21,"650/26 Wh Polish 3M","CAD","306408"]
["M-T500EVK_PADTYP_700BWN3","M-T500E","VK_PADTYP_700BWN3",24,"700/28 Bwn Strip 3M","CAD","306408"]
["M-T500EVK_PADTYP_700MAR3","M-T500E","VK_PADTYP_700MAR3",26,"700/28 MarSur Pad 3M","CAD","306408"]
["M-T500EVK_PADTYP_700WHT3","M-T500E","VK_PADTYP_700WHT3",24,"700/28 Wht Polish 3M","CAD","306408"]
["M-T500EVK_RECHSE_PYPOR_DCV","M-T500E","VK_RECHSE_PYPOR_DCV","N/C","Poly Mat w/DCV","CAD","306408"]
["M-T500EVK_RECHSE_PYPOR_PC","M-T500E","VK_RECHSE_PYPOR_PC","N/C","Poly Mat w/Pinch Cuff","CAD","306408"]
["M-T500EVK_PADTYP_650YLW3","M-T500E","VK_PADTYP_650YLW3",67,"650/26 Ylw Polish 3M","CAD","306408"]
["M-T500EVK_PADTYP_700YLW3","M-T500E","VK_PADTYP_700YLW3",77,"700/28 Ylw Polish 3M","CAD","306408"]
["M-T500EVK_PADTYP_800YLW3","M-T500E","VK_PADTYP_800YLW3",87,"800/32 Ylw Polish 3M","CAD","306408"]
["M-T500EVK_PADTYP_O700YLW3","M-T500E","VK_PADTYP_O700YLW3",172,"Orb 700/28 Ylw 3M","CAD","306408"]
["M-T500EVK_BTY_W260C20","M-T500E","VK_BTY_W260C20",594,"Bty Wet 260AH C20","CAD","306408"]
["M-T500EVK_BTYWTRSYS_ML","M-T500E","VK_BTYWTRSYS_ML",747,"Battery Watering Manual","CAD","306408"]
["M-T500EVK_BASE_T500E-700-D","M-T500E","VK_BASE_T500E-700-D",21376,"T500E-700-D","CAD","306408"]
["M-T500EVK_BASE_T500E-650-D","M-T500E","VK_BASE_T500E-650-D",20312,"T500E-650-D","CAD","306408"]
["M-T500EVK_ADLOPRMNL","M-T500E","VK_ADLOPRMNL",175,"Add Operator Manual","CAD","306408"]
["M-T500EVK_SRVMNL","M-T500E","VK_SRVMNL",175,"Service Manual","CAD","306408"]
["M-T500EVK_SQEWDT_STD","M-T500E","VK_SQEWDT_STD","N/C","Standard Squeegee","CAD","306408"]
["M-T500EVK_SQEWDT_NWA","M-T500E","VK_SQEWDT_NWA","N/C","NarrowAisle Squeegee","CAD","306408"]
["M-T500EVK_PRGBRK","M-T500E","VK_PRGBRK",254,"Parking Brake","CAD","306408"]
["M-T500EVK_PARMNL","M-T500E","VK_PARMNL",71,"Parts Manual","CAD","306408"]
["M-T500EVK_MCHCOM","M-T500E","VK_MCHCOM",1916,"IRIS Telemetry","CAD","306408"]
["M-T500EVK_CLNTCH_ECH2ON","M-T500E","VK_CLNTCH_ECH2ON",3976,"ec-H2O™ NanoClean","CAD","306408"]
["M-T500EVK_CHG_WO","M-T500E","VK_CHG_WO",-630,"Without Charger","CAD","306408"]
["M-T500EVK_CHG_27A85V5060H1P","M-T500E","VK_CHG_27A85V5060H1P","N/C","CH27A 85-270V 5060H1P","CAD","306408"]
["M-T500EVK_CHG_25A100V5060H1","M-T500E","VK_CHG_25A100V5060H1","N/C","Ch25A 100V 5060H1P","CAD","306408"]
["M-T500EVK_CLNTOL_C700ABB","M-T500E","VK_CLNTOL_C700ABB",466,"C700/28 Abr Brush","CAD","306408"]
["M-T500EVK_CLNTOL_C700NYL","M-T500E","VK_CLNTOL_C700NYL","N/C","C700/28 Nylon Brush","CAD","306408"]
["M-T500EVK_CLNTOL_C700PYP","M-T500E","VK_CLNTOL_C700PYP","N/C","C700/28 Poly Brush","CAD","306408"]
["M-T500EVK_CLNTOL_D650ABB","M-T500E","VK_CLNTOL_D650ABB",466,"D650/26 Abr Brush","CAD","306408"]
["M-T500EVK_CLNTOL_D650NYL","M-T500E","VK_CLNTOL_D650NYL","N/C","D650/26 Nylon Brush","CAD","306408"]
["M-T500EVK_CLNTOL_D650PAD","M-T500E","VK_CLNTOL_D650PAD","N/C","D650/26 Pad Driver","CAD","306408"]
["M-T500EVK_CLNTOL_D650PYP","M-T500E","VK_CLNTOL_D650PYP","N/C","D650/26 Poly Brush","CAD","306408"]
["M-T500EVK_CLNTOL_D700ABB","M-T500E","VK_CLNTOL_D700ABB",466,"D700/28 Abr Brush","CAD","306408"]
["M-T500EVK_CLNTOL_D700NYL","M-T500E","VK_CLNTOL_D700NYL","N/C","D700/28 Nylon Brush","CAD","306408"]
["M-T500EVK_CLNTOL_D800NYL","M-T500E","VK_CLNTOL_D800NYL","N/C","D800/32 Nylon Brush","CAD","306408"]
["M-T500EVK_CLNTOL_D800PAD","M-T500E","VK_CLNTOL_D800PAD","N/C","D800/32 Pad Driver","CAD","306408"]
["M-T500EVK_CLNTOL_O700PAD","M-T500E","VK_CLNTOL_O700PAD","N/C","O700/28 Pad Driver","CAD","306408"]
["M-T500EVK_PADTYP_650RED3","M-T500E","VK_PADTYP_650RED3",21,"650/26 Red Clean 3M","CAD","306408"]
["M-T500EVK_PADTYP_700RED3","M-T500E","VK_PADTYP_700RED3",24,"700/28 Red Clean 3M","CAD","306408"]
["M-T500EVK_PADTYP_800BLU3","M-T500E","VK_PADTYP_800BLU3",27,"800/32 Blu Scrub 3M","CAD","306408"]
["M-T500EVK_PADTYP_800RED3","M-T500E","VK_PADTYP_800RED3",27,"800/32 Red Clean 3M","CAD","306408"]
["M-T500EVK_PADTYP_800WHT3","M-T500E","VK_PADTYP_800WHT3",27,"800/32 Wht Polish 3M","CAD","306408"]
["M-T500EVK_PADTYP_O700BLU3","M-T500E","VK_PADTYP_O700BLU3",79,"Orb 700/28 Blu 3M","CAD","306408"]
[{"$f":"B1032&C1032","v":"M-T500EVK_PADTYP_O700MAR3"},"M-T500E","VK_PADTYP_O700MAR3",159,"Orb 700/28 Mar 3M","CAD","306408"]
["M-T500EVK_PADTYP_O700RED3","M-T500E","VK_PADTYP_O700RED3",79,"Orb 700/28 Red 3M","CAD","306408"]
["M-T500EVK_PADTYP_O700WHT3","M-T500E","VK_PADTYP_O700WHT3",79,"Orb 700/28 Wht 3M","CAD","306408"]
["M-SS500VK_PKG_SSKD","M-SS500","VK_PKG_SSKD","N/C","Stack Skid/Carton","CAD","306409"]
["M-SS500VK_BASE_SS500-650-D_STD","M-SS500","VK_BASE_SS500-650-D_STD",20312,"SS500 650mm Disk Std Config","CAD","306409"]
["M-SS500VK_BASE_SS500-700-C_STD","M-SS500","VK_BASE_SS500-700-C_STD",23501,"SS500 700mm Cyl Std Config","CAD","306409"]
["M-SS500VK_BASE_SS500-700-D_STD","M-SS500","VK_BASE_SS500-700-D_STD",21376,"SS500 700mm Disk Std Config","CAD","306409"]
["M-SS500VK_BASE_SS500-700-O_STD","M-SS500","VK_BASE_SS500-700-O_STD",22343,"SS500 700mm Orb Std Config","CAD","306409"]
["M-SS500VK_BASE_SS500-800-D_STD","M-SS500","VK_BASE_SS500-800-D_STD",22534,"SS500 800mm Disk Std Config","CAD","306409"]
["M-SS500VK_PARMNL","M-SS500","VK_PARMNL",71,"Parts Manual","CAD","306409"]
["M-SS500VK_SRVMNL","M-SS500","VK_SRVMNL",175,"Service Manual","CAD","306409"]
["M-SS500VK_PADTYP_O700MAR3","M-SS500","VK_PADTYP_O700MAR3",159,"Orb 700/28 Mar 3M","CAD","306409"]
["M-SS500VK_PKG_WSKD","M-SS500","VK_PKG_WSKD","N/C","Skid w/Stretch Wrap","CAD","306409"]
["M-SS500VK_RECHSE_PYPOR_DCV","M-SS500","VK_RECHSE_PYPOR_DCV","N/C","Poly Mat w/DCV","CAD","306409"]
["M-SS500VK_RECHSE_PYPOR_PC","M-SS500","VK_RECHSE_PYPOR_PC","N/C","Poly Mat w/Pinch Cuff","CAD","306409"]
["M-SS500VK_MCHCOM","M-SS500","VK_MCHCOM",1916,"IRIS Telemetry","CAD","306409"]
["M-SS500VK_CLNTOL_D800PAD","M-SS500","VK_CLNTOL_D800PAD","N/C","D800/32 Pad Driver","CAD","306409"]
["M-SS500VK_CLNTOL_D800NYL","M-SS500","VK_CLNTOL_D800NYL","N/C","D800/32 Nylon Brush","CAD","306409"]
["M-SS500VK_CLNTOL_D800ABB","M-SS500","VK_CLNTOL_D800ABB",466,"D800/32 Abr Brush","CAD","306409"]
["M-SS500VK_CLNTOL_D700PYP","M-SS500","VK_CLNTOL_D700PYP","N/C","D700/28 Poly Brush","CAD","306409"]
["M-SS500VK_CLNTOL_D700PAD","M-SS500","VK_CLNTOL_D700PAD","N/C","D700/28 Pad Driver","CAD","306409"]
["M-SS500VK_CLNTOL_D700NYL","M-SS500","VK_CLNTOL_D700NYL","N/C","D700/28 Nylon Brush","CAD","306409"]
["M-SS500VK_CLNTOL_D700ABB","M-SS500","VK_CLNTOL_D700ABB",466,"D700/28 Abr Brush","CAD","306409"]
["M-SS500VK_CLNTOL_D650PYP","M-SS500","VK_CLNTOL_D650PYP","N/C","D650/26 Poly Brush","CAD","306409"]
["M-SS500VK_CLNTOL_D650PAD","M-SS500","VK_CLNTOL_D650PAD","N/C","D650/26 Pad Driver","CAD","306409"]
["M-SS500VK_CLNTOL_D650NYL","M-SS500","VK_CLNTOL_D650NYL","N/C","D650/26 Nylon Brush","CAD","306409"]
["M-SS500VK_CLNTOL_D650ABB","M-SS500","VK_CLNTOL_D650ABB",466,"D650/26 Abr Brush","CAD","306409"]
["M-SS500VK_CLNTOL_C700PYP","M-SS500","VK_CLNTOL_C700PYP","N/C","C700/28 Poly Brush","CAD","306409"]
["M-SS500VK_CLNTOL_C700NYL","M-SS500","VK_CLNTOL_C700NYL","N/C","C700/28 Nylon Brush","CAD","306409"]
["M-SS500VK_CLNTOL_C700ABB","M-SS500","VK_CLNTOL_C700ABB",466,"C700/28 Abr Brush","CAD","306409"]
["M-SS500VK_CLNTCH_ECH2ON","M-SS500","VK_CLNTCH_ECH2ON",3976,"ec-H2O™ NanoClean","CAD","306409"]
["M-SS500VK_CLNTCH_CNV","M-SS500","VK_CLNTCH_CNV","N/C","Conventional","CAD","306409"]
["M-SS500VK_CHG_WO","M-SS500","VK_CHG_WO",-630,"Without Charger","CAD","306409"]
["M-SS500VK_CHG_27A85V5060H1P","M-SS500","VK_CHG_27A85V5060H1P","N/C","CH27A 85-270V 5060H1P","CAD","306409"]
["M-SS500VK_CHG_25A100V5060H1","M-SS500","VK_CHG_25A100V5060H1","N/C","Ch25A 100V 5060H1P","CAD","306409"]
["M-SS500VK_BTY_WO","M-SS500","VK_BTY_WO",-630,"Without Battery","CAD","306409"]
["M-SS500VK_BTY_W260C20","M-SS500","VK_BTY_W260C20",594,"Bty Wet 260AH C20","CAD","306409"]
["M-SS500VK_BTY_W225C20","M-SS500","VK_BTY_W225C20","N/C","Bty Wet 225AH C20","CAD","306409"]
["M-SS500VK_BTY_A220C20","M-SS500","VK_BTY_A220C20",2161,"Bty AGM 220AH C20","CAD","306409"]
["M-SS500VK_BTYWTRSYS_SF","M-SS500","VK_BTYWTRSYS_SF",1284,"Smart Fill","CAD","306409"]
["M-SS500VK_BTYWTRSYS_ML","M-SS500","VK_BTYWTRSYS_ML",747,"Battery Watering Manual","CAD","306409"]
["M-SS500VK_BASE_SS500-800-D","M-SS500","VK_BASE_SS500-800-D",22534,"SS500-800-D","CAD","306409"]
["M-SS500VK_BASE_SS500-700-O","M-SS500","VK_BASE_SS500-700-O",22343,"SS500-700-O","CAD","306409"]
["M-SS500VK_BASE_SS500-700-D","M-SS500","VK_BASE_SS500-700-D",21376,"SS500-700-D","CAD","306409"]
["M-SS500VK_BASE_SS500-700-C","M-SS500","VK_BASE_SS500-700-C",23501,"SS500-700-C","CAD","306409"]
["M-SS500VK_BASE_SS500-650-D","M-SS500","VK_BASE_SS500-650-D",20312,"SS500-650-D","CAD","306409"]
["M-SS500VK_ADLOPRMNL","M-SS500","VK_ADLOPRMNL",175,"Add Operator Manual","CAD","306409"]
["M-SS500VK_CLNTOL_D800PYP","M-SS500","VK_CLNTOL_D800PYP","N/C","D800/32 Poly Brush","CAD","306409"]
["M-SS500VK_SQEWDT_NWA","M-SS500","VK_SQEWDT_NWA","N/C","NarrowAisle Squeegee","CAD","306409"]
["M-SS500VK_RECHSE_PVC_DCO","M-SS500","VK_RECHSE_PVC_DCO","N/C","PVC Matl w/Drain Cap","CAD","306409"]
["M-SS500VK_PRGBRK","M-SS500","VK_PRGBRK",254,"Parking Brake","CAD","306409"]
["M-SS500VK_PADTYP_O700WHT3","M-SS500","VK_PADTYP_O700WHT3",79,"Orb 700/28 Wht 3M","CAD","306409"]
["M-SS500VK_PADTYP_O700RED3","M-SS500","VK_PADTYP_O700RED3",79,"Orb 700/28 Red 3M","CAD","306409"]
["M-SS500VK_PADTYP_O700BLU3","M-SS500","VK_PADTYP_O700BLU3",79,"Orb 700/28 Blu 3M","CAD","306409"]
["M-SS500VK_PADTYP_800WHT3","M-SS500","VK_PADTYP_800WHT3",27,"800/32 Wht Polish 3M","CAD","306409"]
["M-SS500VK_PADTYP_800RED3","M-SS500","VK_PADTYP_800RED3",27,"800/32 Red Clean 3M","CAD","306409"]
["M-SS500VK_PADTYP_800BLU3","M-SS500","VK_PADTYP_800BLU3",27,"800/32 Blu Scrub 3M","CAD","306409"]
["M-SS500VK_PADTYP_700WHT3","M-SS500","VK_PADTYP_700WHT3",24,"700/28 Wht Polish 3M","CAD","306409"]
["M-SS500VK_PADTYP_700RED3","M-SS500","VK_PADTYP_700RED3",24,"700/28 Red Clean 3M","CAD","306409"]
["M-SS500VK_PADTYP_700MAR3","M-SS500","VK_PADTYP_700MAR3",26,"700/28 MarSur Pad 3M","CAD","306409"]
["M-SS500VK_PADTYP_700BWN3","M-SS500","VK_PADTYP_700BWN3",24,"700/28 Bwn Strip 3M","CAD","306409"]
["M-SS500VK_PADTYP_700BLU3","M-SS500","VK_PADTYP_700BLU3",24,"700/28 Blu Scrub 3M","CAD","306409"]
["M-SS500VK_PADTYP_700BLKH3","M-SS500","VK_PADTYP_700BLKH3",27,"700/28 Blk HiPro 3M","CAD","306409"]
["M-SS500VK_PADTYP_650WHT3","M-SS500","VK_PADTYP_650WHT3",21,"650/26 Wh Polish 3M","CAD","306409"]
[{"$f":"B1096&C1096","v":"M-SS500VK_PADTYP_650RED3"},"M-SS500","VK_PADTYP_650RED3",21,"650/26 Red Clean 3M","CAD","306409"]
["M-SS500VK_PADTYP_650MAR3","M-SS500","VK_PADTYP_650MAR3",25,"650/26 MarSur Pad 3M","CAD","306409"]
["M-SS500VK_PADTYP_650BWN3","M-SS500","VK_PADTYP_650BWN3",21,"650/26 Br Strip 3M","CAD","306409"]
["M-SS500VK_PADTYP_650BLU3","M-SS500","VK_PADTYP_650BLU3",21,"650/26 Bl Scrub 3M","CAD","306409"]
["M-SS500VK_CLNTOL_O700PAD","M-SS500","VK_CLNTOL_O700PAD","N/C","O700/28 Pad Driver","CAD","306409"]
["M-SS500VK_SQEWDT_STD","M-SS500","VK_SQEWDT_STD","N/C","Standard Squeegee","CAD","306409"]
["M-T600EEVK_ACCCLP","M-T600EE","VK_ACCCLP","N/C","Accessory Clip","CAD","306506"]
["M-T600VK_ADLOPRMNL","M-T600","VK_ADLOPRMNL",175,"Add Operator Manual","CAD","306504"]
["M-T600EVK_ADLOPRMNL","M-T600E","VK_ADLOPRMNL",175,"Add Operator Manual","CAD","306505"]
["M-T600EEVK_ADLOPRMNL","M-T600EE","VK_ADLOPRMNL",195,"Add Operator Manual","CAD","306506"]
["M-T600EVK_AUTFIL","M-T600E","VK_AUTFIL",290,"Auto Fill","CAD","306505"]
["M-T600VK_BASE_T600-700C","M-T600","VK_BASE_T600-700C",31979,"700 T600 Cyl","CAD","306504"]
["M-T600VK_BASE_T600-700C_STD","M-T600","VK_BASE_T600-700C_STD",31979,"T600 700mm Cyl Std Config","CAD","306504"]
["M-T600VK_BASE_T600-700D","M-T600","VK_BASE_T600-700D",29751,"700 T600 Disk","CAD","306504"]
["M-T600VK_BASE_T600-700D_STD","M-T600","VK_BASE_T600-700D_STD",29751,"T600 700mm Disk Std Config","CAD","306504"]
["M-T600VK_BASE_T600-700O","M-T600","VK_BASE_T600-700O",31125,"700 T600 Orb","CAD","306504"]
["M-T600VK_BASE_T600-700O_STD","M-T600","VK_BASE_T600-700O_STD",31125,"T600 700mm Orb Std Config","CAD","306504"]
["M-T600VK_BASE_T600-800C","M-T600","VK_BASE_T600-800C",33095,"800 T600 Cyl","CAD","306504"]
["M-T600VK_BASE_T600-800C_STD","M-T600","VK_BASE_T600-800C_STD",33095,"T600 800mm Cyl Std Config","CAD","306504"]
["M-T600VK_BASE_T600-800D","M-T600","VK_BASE_T600-800D",30866,"800 T600 Disk","CAD","306504"]
["M-T600VK_BASE_T600-800D_STD","M-T600","VK_BASE_T600-800D_STD",30866,"T600 800mm Disk Std Config","CAD","306504"]
["M-T600VK_BASE_T600-900D","M-T600","VK_BASE_T600-900D",35131,"900 T600 Disk","CAD","306504"]
["M-T600VK_BASE_T600-900D_STD","M-T600","VK_BASE_T600-900D_STD",35131,"T600 900mm Disk Std Config","CAD","306504"]
["M-T600EVK_BASE_T600E-700C","M-T600E","VK_BASE_T600E-700C",28253,"T600E-700-C","CAD","306505"]
["M-T600EVK_BASE_T600E-700C_STD","M-T600E","VK_BASE_T600E-700C_STD",28253,"T600E 700mm Cyl Std Config","CAD","306505"]
["M-T600EVK_BASE_T600E-700D","M-T600E","VK_BASE_T600E-700D",25957,"T600E-700-D","CAD","306505"]
["M-T600EVK_BASE_T600E-700D_STD","M-T600E","VK_BASE_T600E-700D_STD",25957,"T600E 700mm Disk Std Config","CAD","306505"]
["M-T600EVK_BASE_T600E-700O","M-T600E","VK_BASE_T600E-700O",27333,"T600E-700-O","CAD","306505"]
["M-T600EVK_BASE_T600E-700O_STD","M-T600E","VK_BASE_T600E-700O_STD",27333,"T600E 700mm Orb Std Config","CAD","306505"]
["M-T600EVK_BASE_T600E-800C","M-T600E","VK_BASE_T600E-800C",29400,"T600E-800-C","CAD","306505"]
["M-T600EVK_BASE_T600E-800C_STD","M-T600E","VK_BASE_T600E-800C_STD",29400,"T600E 800mm Cyl Std Config","CAD","306505"]
["M-T600EVK_BASE_T600E-800D","M-T600E","VK_BASE_T600E-800D",27105,"T600E-800-D","CAD","306505"]
["M-T600EVK_BASE_T600E-800D_STD","M-T600E","VK_BASE_T600E-800D_STD",27105,"T600E 800mm Disk Std Config","CAD","306505"]
["M-T600EVK_BASE_T600E-900D","M-T600E","VK_BASE_T600E-900D",29401,"T600E-900-D","CAD","306505"]
["M-T600EVK_BASE_T600E-900D_STD","M-T600E","VK_BASE_T600E-900D_STD",29401,"T600E 900mm Disk Std Config","CAD","306505"]
["M-T600EEVK_BASE_T600EE-800D","M-T600EE","VK_BASE_T600EE-800D",50786,"T600EE-800-D","CAD","306506"]
["M-T600VK_BTY_F186C6","M-T600","VK_BTY_F186C6",3170,"Bty Fast 186AH C/6","CAD","306504"]
["M-T600EVK_BTY_F186C6","M-T600E","VK_BTY_F186C6",3170,"Bty Fast 186AH C/6","CAD","306505"]
["M-T600VK_BTY_F210C20","M-T600","VK_BTY_F210C20",3170,"Bty Fast 210AH C20","CAD","306504"]
["M-T600EVK_BTY_F210C20","M-T600E","VK_BTY_F210C20",3170,"Bty Fast 210AH C20","CAD","306505"]
["M-T600VK_BTY_L36V2M","M-T600","VK_BTY_L36V2M",9641,"Bty Li-Ion 36v, 4.1kWh","CAD","306504"]
["M-T600EVK_BTY_L36V2M","M-T600E","VK_BTY_L36V2M",9641,"Bty Li-Ion 36v, 4.1kWh","CAD","306505"]
["M-T600VK_BTY_L36V4M","M-T600","VK_BTY_L36V4M",19870,"Bty Li-Ion 36v, 8.2kWh","CAD","306504"]
["M-T600EVK_BTY_L36V4M","M-T600E","VK_BTY_L36V4M",19870,"Bty Li-Ion 36v, 8.2kWh","CAD","306505"]
["M-T600VK_BTY_L36V5M","M-T600","VK_BTY_L36V5M",23857,"Bty Li-Ion 36v, 10.2kWh","CAD","306504"]
["M-T600EVK_BTY_L36V5M","M-T600E","VK_BTY_L36V5M",23857,"Bty Li-Ion 36v, 10.2kWh","CAD","306505"]
["M-T600EVK_BTY_W210C20","M-T600E","VK_BTY_W210C20","N/C","Bty Wet 210AH C5","CAD","306505"]
["M-T600VK_BTY_W240C20","M-T600","VK_BTY_W240C20","N/C","Bty Wet 240AH C20","CAD","306504"]
["M-T600EVK_BTY_W240C20","M-T600E","VK_BTY_W240C20","N/C","Bty Wet 240AH C20","CAD","306505"]
["M-T600EEVK_BTY_W240C20","M-T600EE","VK_BTY_W240C20","N/C","Bty Wet 240AH C20","CAD","306506"]
["M-T600VK_BTY_W360C20","M-T600","VK_BTY_W360C20",1019,"Bty Wet 360AH C20","CAD","306504"]
["M-T600EVK_BTY_W360C20","M-T600E","VK_BTY_W360C20",1019,"Bty Wet 360AH C20","CAD","306505"]
["M-T600VK_BTY_WO","M-T600","VK_BTY_WO",-1050,"Without Battery","CAD","306504"]
["M-T600EVK_BTY_WO","M-T600E","VK_BTY_WO",-1050,"Without Battery","CAD","306505"]
["M-T600VK_BTYWTRSYS_ML","M-T600","VK_BTYWTRSYS_ML",995,"Battery Watering Manual","CAD","306504"]
["M-T600EVK_BTYWTRSYS_ML","M-T600E","VK_BTYWTRSYS_ML",995,"Battery Watering Manual","CAD","306505"]
["M-T600EEVK_BTYWTRSYS_ML","M-T600EE","VK_BTYWTRSYS_ML",1279,"Battery Watering Manual","CAD","306506"]
["M-T600VK_BTYWTRSYS_SF","M-T600","VK_BTYWTRSYS_SF",1542,"Smart Fill","CAD","306504"]
["M-T600EVK_BTYWTRSYS_SF","M-T600E","VK_BTYWTRSYS_SF",1542,"Smart Fill","CAD","306505"]
["M-T600VK_CHG_25A100V5060H1_OFF","M-T600","VK_CHG_25A100V5060H1_OFF","N/C","Ch25A 100V 5060H1P Off","CAD","306504"]
["M-T600EVK_CHG_25A100V5060H1_OFF","M-T600E","VK_CHG_25A100V5060H1_OFF","N/C","Ch25A 100V 5060H1P Off","CAD","306505"]
["M-T600EEVK_CHG_25A100V5060H1_OFF","M-T600EE","VK_CHG_25A100V5060H1_OFF","N/C","Ch25A 100V 5060H1P Off","CAD","306506"]
["M-T600VK_CHG_25A100V5060H1_ON","M-T600","VK_CHG_25A100V5060H1_ON","N/C","Ch25A 100V 5060H1P On","CAD","306504"]
["M-T600EVK_CHG_25A100V5060H1_ON","M-T600E","VK_CHG_25A100V5060H1_ON","N/C","Ch25A 100V 5060H1P On","CAD","306505"]
[{"$f":"B1160&C1160","v":"M-T600VK_CHG_25A100V5060H1LIOF"},"M-T600","VK_CHG_25A100V5060H1LIOF",574,"Ch25A 100V 50/60Hz 1Ph Off","CAD","306504"]
["M-T600EVK_CHG_25A100V5060H1LIOF","M-T600E","VK_CHG_25A100V5060H1LIOF",574,"Ch25A 100V 50/60Hz 1Ph Off","CAD","306505"]
["M-T600VK_CHG_25A100V5060H1LION","M-T600","VK_CHG_25A100V5060H1LION",574,"Ch25A 100V 50/60Hz 1Ph On","CAD","306504"]
["M-T600EVK_CHG_25A100V5060H1LION","M-T600E","VK_CHG_25A100V5060H1LION",574,"Ch25A 100V 50/60Hz 1Ph On","CAD","306505"]
["M-T600VK_CHG_33A100V5060H1P","M-T600","VK_CHG_33A100V5060H1P",243,"Ch33A 100V 5060H1P","CAD","306504"]
["M-T600EVK_CHG_33A100V5060H1P","M-T600E","VK_CHG_33A100V5060H1P",243,"Ch33A 100V 5060H1P","CAD","306505"]
["M-T600VK_CHG_33A100V5060H1PLIF","M-T600","VK_CHG_33A100V5060H1PLIF",800,"Ch33A 100V 50/60Hz 1Ph Off","CAD","306504"]
["M-T600EVK_CHG_33A100V5060H1PLIF","M-T600E","VK_CHG_33A100V5060H1PLIF",800,"Ch33A 100V 50/60Hz 1Ph Off","CAD","306505"]
["M-T600VK_CHG_33A100V5060H1PLIN","M-T600","VK_CHG_33A100V5060H1PLIN",800,"Ch33A 100V 50/60Hz 1Ph On","CAD","306504"]
["M-T600EVK_CHG_33A100V5060H1PLIN","M-T600E","VK_CHG_33A100V5060H1PLIN",800,"Ch33A 100V 50/60Hz 1Ph On","CAD","306505"]
["M-T600VK_CHG_WO","M-T600","VK_CHG_WO",-943,"Without Charger","CAD","306504"]
["M-T600EVK_CHG_WO","M-T600E","VK_CHG_WO",-943,"Without Charger","CAD","306505"]
["M-T600EEVK_CHG_WO","M-T600EE","VK_CHG_WO",-943,"Without Charger","CAD","306506"]
["M-T600VK_CLNTCH_ECH2ON","M-T600","VK_CLNTCH_ECH2ON",3976,"ec-H2O™ NanoClean","CAD","306504"]
["M-T600EVK_CLNTCH_ECH2ON","M-T600E","VK_CLNTCH_ECH2ON",3976,"ec-H2O™ NanoClean","CAD","306505"]
["M-T600VK_CLNTOL_C700ABB","M-T600","VK_CLNTOL_C700ABB",455,"C700/28 Abr Brush","CAD","306504"]
["M-T600EVK_CLNTOL_C700ABB","M-T600E","VK_CLNTOL_C700ABB",455,"C700/28 Abr Brush","CAD","306505"]
["M-T600VK_CLNTOL_C700HDPYP","M-T600","VK_CLNTOL_C700HDPYP","N/C","C700/28 HD Poly Brsh","CAD","306504"]
["M-T600EVK_CLNTOL_C700HDPYP","M-T600E","VK_CLNTOL_C700HDPYP","N/C","C700/28 HD Poly Brsh","CAD","306505"]
["M-T600VK_CLNTOL_C700NYL","M-T600","VK_CLNTOL_C700NYL","N/C","C700/28 Nylon Brush","CAD","306504"]
["M-T600EVK_CLNTOL_C700NYL","M-T600E","VK_CLNTOL_C700NYL","N/C","C700/28 Nylon Brush","CAD","306505"]
["M-T600VK_CLNTOL_C700PYP","M-T600","VK_CLNTOL_C700PYP","N/C","C700/28 Poly Brush","CAD","306504"]
["M-T600EVK_CLNTOL_C700PYP","M-T600E","VK_CLNTOL_C700PYP","N/C","C700/28 Poly Brush","CAD","306505"]
["M-T600VK_CLNTOL_C800ABB","M-T600","VK_CLNTOL_C800ABB",455,"C800/32 Abr Brush","CAD","306504"]
["M-T600EVK_CLNTOL_C800ABB","M-T600E","VK_CLNTOL_C800ABB",455,"C800/32 Abr Brush","CAD","306505"]
["M-T600VK_CLNTOL_C800HCPYP","M-T600","VK_CLNTOL_C800HCPYP","N/C","not used","CAD","306504"]
["M-T600EVK_CLNTOL_C800HCPYP","M-T600E","VK_CLNTOL_C800HCPYP","N/C","not used","CAD","306505"]
["M-T600VK_CLNTOL_C800HDPYP","M-T600","VK_CLNTOL_C800HDPYP","N/C","C800/32 HD Poly Brsh","CAD","306504"]
["M-T600EVK_CLNTOL_C800HDPYP","M-T600E","VK_CLNTOL_C800HDPYP","N/C","C800/32 HD Poly Brsh","CAD","306505"]
["M-T600VK_CLNTOL_C800NYL","M-T600","VK_CLNTOL_C800NYL","N/C","C800/32 Nylon Brush","CAD","306504"]
["M-T600EVK_CLNTOL_C800NYL","M-T600E","VK_CLNTOL_C800NYL","N/C","C800/32 Nylon Brush","CAD","306505"]
["M-T600VK_CLNTOL_C800PYP","M-T600","VK_CLNTOL_C800PYP","N/C","C800/32 Poly Brush","CAD","306504"]
["M-T600EVK_CLNTOL_C800PYP","M-T600E","VK_CLNTOL_C800PYP","N/C","C800/32 Poly Brush","CAD","306505"]
["M-T600VK_CLNTOL_D700NYL","M-T600","VK_CLNTOL_D700NYL","N/C","D700/28 Nylon Brush","CAD","306504"]
["M-T600EVK_CLNTOL_D700NYL","M-T600E","VK_CLNTOL_D700NYL","N/C","D700/28 Nylon Brush","CAD","306505"]
["M-T600VK_CLNTOL_D700PAD","M-T600","VK_CLNTOL_D700PAD","N/C","D700/28 Pad Driver","CAD","306504"]
["M-T600EVK_CLNTOL_D700PAD","M-T600E","VK_CLNTOL_D700PAD","N/C","D700/28 Pad Driver","CAD","306505"]
["M-T600VK_CLNTOL_D700PYP","M-T600","VK_CLNTOL_D700PYP","N/C","D700/28 Poly Brush","CAD","306504"]
["M-T600EVK_CLNTOL_D700PYP","M-T600E","VK_CLNTOL_D700PYP","N/C","D700/28 Poly Brush","CAD","306505"]
["M-T600VK_CLNTOL_D700SAB","M-T600","VK_CLNTOL_D700SAB",455,"D700/28 Sup Abr Brsh","CAD","306504"]
["M-T600EVK_CLNTOL_D700SAB","M-T600E","VK_CLNTOL_D700SAB",455,"D700/28 Sup Abr Brsh","CAD","306505"]
["M-T600VK_CLNTOL_D800HDPYP","M-T600","VK_CLNTOL_D800HDPYP","N/C","D800/32 HD Poly Brsh","CAD","306504"]
["M-T600EVK_CLNTOL_D800HDPYP","M-T600E","VK_CLNTOL_D800HDPYP","N/C","D800/32 HD Poly Brsh","CAD","306505"]
["M-T600EEVK_CLNTOL_D800HDPYP","M-T600EE","VK_CLNTOL_D800HDPYP","N/C","D800/32 HD Poly Brsh","CAD","306506"]
["M-T600VK_CLNTOL_D800NYL","M-T600","VK_CLNTOL_D800NYL","N/C","D800/32 Nylon Brush","CAD","306504"]
["M-T600EVK_CLNTOL_D800NYL","M-T600E","VK_CLNTOL_D800NYL","N/C","D800/32 Nylon Brush","CAD","306505"]
["M-T600EEVK_CLNTOL_D800NYL","M-T600EE","VK_CLNTOL_D800NYL","N/C","D800/32 Nylon Brush","CAD","306506"]
["M-T600VK_CLNTOL_D800PAD","M-T600","VK_CLNTOL_D800PAD","N/C","D800/32 Pad Driver","CAD","306504"]
["M-T600EVK_CLNTOL_D800PAD","M-T600E","VK_CLNTOL_D800PAD","N/C","D800/32 Pad Driver","CAD","306505"]
["M-T600EEVK_CLNTOL_D800PAD","M-T600EE","VK_CLNTOL_D800PAD","N/C","D800/32 Pad Driver","CAD","306506"]
["M-T600VK_CLNTOL_D800PYP","M-T600","VK_CLNTOL_D800PYP","N/C","D800/32 Poly Brush","CAD","306504"]
["M-T600EVK_CLNTOL_D800PYP","M-T600E","VK_CLNTOL_D800PYP","N/C","D800/32 Poly Brush","CAD","306505"]
["M-T600EEVK_CLNTOL_D800PYP","M-T600EE","VK_CLNTOL_D800PYP","N/C","D800/32 Poly Brush","CAD","306506"]
["M-T600VK_CLNTOL_D800SAB","M-T600","VK_CLNTOL_D800SAB",455,"D800/32 Sup Abr Brsh","CAD","306504"]
["M-T600EVK_CLNTOL_D800SAB","M-T600E","VK_CLNTOL_D800SAB",455,"D800/32 Sup Abr Brsh","CAD","306505"]
["M-T600EEVK_CLNTOL_D800SAB","M-T600EE","VK_CLNTOL_D800SAB",587,"D800/32 Sup Abr Brsh","CAD","306506"]
["M-T600VK_CLNTOL_D900NYL","M-T600","VK_CLNTOL_D900NYL","N/C","D900/36 Nylon Brush","CAD","306504"]
["M-T600EVK_CLNTOL_D900NYL","M-T600E","VK_CLNTOL_D900NYL","N/C","D900/36 Nylon Brush","CAD","306505"]
["M-T600VK_CLNTOL_D900PAD","M-T600","VK_CLNTOL_D900PAD","N/C","D900/36 Pad Driver","CAD","306504"]
["M-T600EVK_CLNTOL_D900PAD","M-T600E","VK_CLNTOL_D900PAD","N/C","D900/36 Pad Driver","CAD","306505"]
["M-T600VK_CLNTOL_D900PYP","M-T600","VK_CLNTOL_D900PYP","N/C","D900/36 Poly Brush","CAD","306504"]
["M-T600EVK_CLNTOL_D900PYP","M-T600E","VK_CLNTOL_D900PYP","N/C","D900/36 Poly Brush","CAD","306505"]
["M-T600VK_CLNTOL_D900SAB","M-T600","VK_CLNTOL_D900SAB",546,"D900/36 Sup Abr Brsh","CAD","306504"]
["M-T600EVK_CLNTOL_D900SAB","M-T600E","VK_CLNTOL_D900SAB",546,"D900/36 Sup Abr Brsh","CAD","306505"]
[{"$f":"B1224&C1224","v":"M-T600VK_CLNTOL_O700PAD"},"M-T600","VK_CLNTOL_O700PAD","N/C","O700/28 Pad Driver","CAD","306504"]
["M-T600EVK_CLNTOL_O700PAD","M-T600E","VK_CLNTOL_O700PAD","N/C","O700/28 Pad Driver","CAD","306505"]
["M-T600VK_CSMDRTWTRLBL","M-T600","VK_CSMDRTWTRLBL",55,"Dirty Water Label","CAD","306504"]
["M-T600VK_DWNPRS_HD","M-T600","VK_DWNPRS_HD",2221,"Down Pressure - Heavy Duty","CAD","306504"]
["M-T600EVK_DWNPRS_HD","M-T600E","VK_DWNPRS_HD",2200,"Down Pressure - Heavy Duty","CAD","306505"]
["M-T600EVK_HRCLBLKIT","M-T600E","VK_HRCLBLKIT",157,"Herc Label Kit","CAD","306505"]
["M-T600EVK_IRSSRVRPT_3YP","M-T600E","VK_IRSSRVRPT_3YP",435,"Svc Rpt 3 Yr Pre-Paid","CAD","306505"]
["M-T600VK_MCHCOM","M-T600","VK_MCHCOM",1916,"IRIS Telemetry","CAD","306504"]
["M-T600EVK_MCHCOM","M-T600E","VK_MCHCOM",1916,"IRIS Telemetry","CAD","306505"]
["M-T600EVK_MCHCOM_SBT","M-T600E","VK_MCHCOM_SBT",1916,"IRIS Telemetry","CAD","306505"]
["M-T600VK_NONMKTTRE_BFFR","M-T600","VK_NONMKTTRE_BFFR","N/C","Tire Blk Foam Filled","CAD","306504"]
["M-T600EVK_NONMKTTRE_BFFR","M-T600E","VK_NONMKTTRE_BFFR","N/C","Tire Blk Foam Filled","CAD","306505"]
["M-T600EEVK_NONMKTTRE_BFFR","M-T600EE","VK_NONMKTTRE_BFFR","N/C","Tire Blk Foam Filled","CAD","306506"]
["M-T600VK_NONMKTTRE_BPR","M-T600","VK_NONMKTTRE_BPR","N/C","Tire Blk Pneu Rubber","CAD","306504"]
["M-T600EVK_NONMKTTRE_BPR","M-T600E","VK_NONMKTTRE_BPR","N/C","Tire Blk Pneu Rubber","CAD","306505"]
["M-T600EEVK_NONMKTTRE_BPR","M-T600EE","VK_NONMKTTRE_BPR","N/C","Tire Blk Pneu Rubber","CAD","306506"]
["M-T600EVK_OPRMNL","M-T600E","VK_OPRMNL","N/C","Oper Manual","CAD","306505"]
["M-T600VK_PADTYP_700BLKH3","M-T600","VK_PADTYP_700BLKH3",27,"700/28 Blk HiPro 3M","CAD","306504"]
["M-T600EVK_PADTYP_700BLKH3","M-T600E","VK_PADTYP_700BLKH3",27,"700/28 Blk HiPro 3M","CAD","306505"]
["M-T600VK_PADTYP_700BLU3","M-T600","VK_PADTYP_700BLU3",24,"700/28 Blu Scrub 3M","CAD","306504"]
["M-T600EVK_PADTYP_700BLU3","M-T600E","VK_PADTYP_700BLU3",24,"700/28 Blu Scrub 3M","CAD","306505"]
["M-T600VK_PADTYP_700BWN3","M-T600","VK_PADTYP_700BWN3",24,"700/28 Bwn Strip 3M","CAD","306504"]
["M-T600EVK_PADTYP_700BWN3","M-T600E","VK_PADTYP_700BWN3",24,"700/28 Bwn Strip 3M","CAD","306505"]
["M-T600VK_PADTYP_700MAR3","M-T600","VK_PADTYP_700MAR3",26,"700/28 MarSur Pad 3M","CAD","306504"]
["M-T600EVK_PADTYP_700MAR3","M-T600E","VK_PADTYP_700MAR3",26,"700/28 MarSur Pad 3M","CAD","306505"]
["M-T600VK_PADTYP_700RED3","M-T600","VK_PADTYP_700RED3",24,"700/28 Red Clean 3M","CAD","306504"]
["M-T600EVK_PADTYP_700RED3","M-T600E","VK_PADTYP_700RED3",24,"700/28 Red Clean 3M","CAD","306505"]
["M-T600VK_PADTYP_700WHT3","M-T600","VK_PADTYP_700WHT3",24,"700/28 Wht Polish 3M","CAD","306504"]
["M-T600EVK_PADTYP_700WHT3","M-T600E","VK_PADTYP_700WHT3",24,"700/28 Wht Polish 3M","CAD","306505"]
["M-T600VK_PADTYP_700YLW3","M-T600","VK_PADTYP_700YLW3",73,"700/28 Ylw Polish 3M","CAD","306504"]
["M-T600EVK_PADTYP_700YLW3","M-T600E","VK_PADTYP_700YLW3",73,"700/28 Ylw Polish 3M","CAD","306505"]
["M-T600VK_PADTYP_800BLU3","M-T600","VK_PADTYP_800BLU3",27,"800/32 Blu Scrub 3M","CAD","306504"]
["M-T600EVK_PADTYP_800BLU3","M-T600E","VK_PADTYP_800BLU3",27,"800/32 Blu Scrub 3M","CAD","306505"]
["M-T600EEVK_PADTYP_800BLU3","M-T600EE","VK_PADTYP_800BLU3",28,"800/32 Blu Scrub 3M","CAD","306506"]
["M-T600VK_PADTYP_800RED3","M-T600","VK_PADTYP_800RED3",27,"800/32 Red Clean 3M","CAD","306504"]
["M-T600EVK_PADTYP_800RED3","M-T600E","VK_PADTYP_800RED3",27,"800/32 Red Clean 3M","CAD","306505"]
["M-T600EEVK_PADTYP_800RED3","M-T600EE","VK_PADTYP_800RED3",28,"800/32 Red Clean 3M","CAD","306506"]
["M-T600VK_PADTYP_800WHT3","M-T600","VK_PADTYP_800WHT3",27,"800/32 Wht Polish 3M","CAD","306504"]
["M-T600EVK_PADTYP_800WHT3","M-T600E","VK_PADTYP_800WHT3",27,"800/32 Wht Polish 3M","CAD","306505"]
["M-T600EEVK_PADTYP_800WHT3","M-T600EE","VK_PADTYP_800WHT3",28,"800/32 Wht Polish 3M","CAD","306506"]
["M-T600VK_PADTYP_800YLW3","M-T600","VK_PADTYP_800YLW3",86,"800/32 Ylw Polish 3M","CAD","306504"]
["M-T600EVK_PADTYP_800YLW3","M-T600E","VK_PADTYP_800YLW3",86,"800/32 Ylw Polish 3M","CAD","306505"]
["M-T600VK_PADTYP_900BLKH3","M-T600","VK_PADTYP_900BLKH3",33,"900/36 Blk HiPro 3M","CAD","306504"]
["M-T600EVK_PADTYP_900BLKH3","M-T600E","VK_PADTYP_900BLKH3",33,"900/36 Blk HiPro 3M","CAD","306505"]
["M-T600VK_PADTYP_900BLU3","M-T600","VK_PADTYP_900BLU3",31,"900/36 Blu Scrub 3M","CAD","306504"]
["M-T600EVK_PADTYP_900BLU3","M-T600E","VK_PADTYP_900BLU3",31,"900/36 Blu Scrub 3M","CAD","306505"]
["M-T600VK_PADTYP_900RED3","M-T600","VK_PADTYP_900RED3",31,"900/36 Red Clean 3M","CAD","306504"]
["M-T600EVK_PADTYP_900RED3","M-T600E","VK_PADTYP_900RED3",31,"900/36 Red Clean 3M","CAD","306505"]
["M-T600VK_PADTYP_900WHT3","M-T600","VK_PADTYP_900WHT3",31,"900/36 Wht Polish 3M","CAD","306504"]
["M-T600EVK_PADTYP_900WHT3","M-T600E","VK_PADTYP_900WHT3",31,"900/36 Wht Polish 3M","CAD","306505"]
["M-T600VK_PADTYP_900YLW3","M-T600","VK_PADTYP_900YLW3",100,"900/36 Ylw Polish 3M","CAD","306504"]
["M-T600EVK_PADTYP_900YLW3","M-T600E","VK_PADTYP_900YLW3",100,"900/36 Ylw Polish 3M","CAD","306505"]
["M-T600VK_PADTYP_O700BLU3","M-T600","VK_PADTYP_O700BLU3",78,"Orb 700/28 Blu 3M","CAD","306504"]
["M-T600EVK_PADTYP_O700BLU3","M-T600E","VK_PADTYP_O700BLU3",78,"Orb 700/28 Blu 3M","CAD","306505"]
["M-T600VK_PADTYP_O700MAR3","M-T600","VK_PADTYP_O700MAR3",156,"Orb 700/28 Mar 3M","CAD","306504"]
["M-T600EVK_PADTYP_O700MAR3","M-T600E","VK_PADTYP_O700MAR3",156,"Orb 700/28 Mar 3M","CAD","306505"]
["M-T600VK_PADTYP_O700RED3","M-T600","VK_PADTYP_O700RED3",78,"Orb 700/28 Red 3M","CAD","306504"]
["M-T600EVK_PADTYP_O700RED3","M-T600E","VK_PADTYP_O700RED3",78,"Orb 700/28 Red 3M","CAD","306505"]
["M-T600VK_PADTYP_O700WHT3","M-T600","VK_PADTYP_O700WHT3",78,"Orb 700/28 Wht 3M","CAD","306504"]
["M-T600EVK_PADTYP_O700WHT3","M-T600E","VK_PADTYP_O700WHT3",78,"Orb 700/28 Wht 3M","CAD","306505"]
["M-T600VK_PADTYP_O700YLW3","M-T600","VK_PADTYP_O700YLW3",168,"Orb 700/28 Ylw 3M","CAD","306504"]
["M-T600EVK_PADTYP_O700YLW3","M-T600E","VK_PADTYP_O700YLW3",168,"Orb 700/28 Ylw 3M","CAD","306505"]
["M-T600VK_PARMNL","M-T600","VK_PARMNL",71,"Parts Manual","CAD","306504"]
["M-T600EVK_PARMNL","M-T600E","VK_PARMNL",71,"Parts Manual","CAD","306505"]
[{"$f":"B1288&C1288","v":"M-T600EEVK_PARMNL"},"M-T600EE","VK_PARMNL",79,"Parts Manual","CAD","306506"]
["M-T600VK_PKG_PAD","M-T600","VK_PKG_PAD","N/C","Pad Wrap","CAD","306504"]
["M-T600EVK_PKG_PAD","M-T600E","VK_PKG_PAD","N/C","Pad Wrap","CAD","306505"]
["M-T600EEVK_PKG_PAD","M-T600EE","VK_PKG_PAD","N/C","Pad Wrap","CAD","306506"]
["M-T600VK_PKG_SSKD","M-T600","VK_PKG_SSKD","N/C","Stack Skid/Carton","CAD","306504"]
["M-T600EVK_PKG_SSKD","M-T600E","VK_PKG_SSKD","N/C","Stack Skid/Carton","CAD","306505"]
["M-T600EEVK_PKG_SSKD","M-T600EE","VK_PKG_SSKD","N/C","Stack Skid/Carton","CAD","306506"]
["M-T600VK_PKG_SSKD_NC","M-T600","VK_PKG_SSKD_NC","N/C","Stack Skid/Carton","CAD","306504"]
["M-T600EVK_PKG_SSKD_NC","M-T600E","VK_PKG_SSKD_NC","N/C","Stack Skid/Carton","CAD","306505"]
["M-T600VK_PRGBRK","M-T600","VK_PRGBRK",254,"Parking Brake","CAD","306504"]
["M-T600EVK_PRGBRK","M-T600E","VK_PRGBRK",254,"Parking Brake","CAD","306505"]
["M-T600EEVK_PRGBRK","M-T600EE","VK_PRGBRK",283,"Parking Brake","CAD","306506"]
["M-T600VK_RECHSE_PVC_DCO","M-T600","VK_RECHSE_PVC_DCO","N/C","PVC Matl w/Drain Cap","CAD","306504"]
["M-T600EVK_RECHSE_PVC_DCO","M-T600E","VK_RECHSE_PVC_DCO","N/C","PVC Matl w/Drain Cap","CAD","306505"]
["M-T600EEVK_RECHSE_PVC_DCO","M-T600EE","VK_RECHSE_PVC_DCO","N/C","PVC Matl w/Drain Cap","CAD","306506"]
["M-T600VK_RECHSE_PYPOR_DCV","M-T600","VK_RECHSE_PYPOR_DCV","N/C","Poly Mat w/DCV","CAD","306504"]
["M-T600EVK_RECHSE_PYPOR_DCV","M-T600E","VK_RECHSE_PYPOR_DCV","N/C","Poly Mat w/DCV","CAD","306505"]
["M-T600EEVK_RECHSE_PYPOR_DCV","M-T600EE","VK_RECHSE_PYPOR_DCV","N/C","Poly Mat w/DCV","CAD","306506"]
["M-T600VK_RECHSE_PYPOR_PC","M-T600","VK_RECHSE_PYPOR_PC","N/C","Poly Mat w/Pinch Cuff","CAD","306504"]
["M-T600EVK_RECHSE_PYPOR_PC","M-T600E","VK_RECHSE_PYPOR_PC","N/C","Poly Mat w/Pinch Cuff","CAD","306505"]
["M-T600EEVK_RECHSE_PYPOR_PC","M-T600EE","VK_RECHSE_PYPOR_PC","N/C","Poly Mat w/Pinch Cuff","CAD","306506"]
["M-T600VK_SPYNOZWTHHSE","M-T600","VK_SPYNOZWTHHSE",989,"Spray Nozzel w/Hose","CAD","306504"]
["M-T600VK_SQEWDT_NWA","M-T600","VK_SQEWDT_NWA","N/C","NarrowAisle Squeegee","CAD","306504"]
["M-T600EVK_SQEWDT_NWA","M-T600E","VK_SQEWDT_NWA","N/C","NarrowAisle Squeegee","CAD","306505"]
["M-T600EEVK_SQEWDT_NWA","M-T600EE","VK_SQEWDT_NWA","N/C","NarrowAisle Squeegee","CAD","306506"]
["M-T600VK_SQEWDT_STD","M-T600","VK_SQEWDT_STD","N/C","Standard Squeegee","CAD","306504"]
["M-T600EVK_SQEWDT_STD","M-T600E","VK_SQEWDT_STD","N/C","Standard Squeegee","CAD","306505"]
["M-T600EEVK_SQEWDT_STD","M-T600EE","VK_SQEWDT_STD","N/C","Standard Squeegee","CAD","306506"]
["M-T600VK_SRVMNL","M-T600","VK_SRVMNL",175,"Service Manual","CAD","306504"]
["M-T600EVK_SRVMNL","M-T600E","VK_SRVMNL",175,"Service Manual","CAD","306505"]
["M-T600EEVK_SRVMNL","M-T600EE","VK_SRVMNL",195,"Service Manual","CAD","306506"]
["M-T600VK_SVEEVMSWH","M-T600","VK_SVEEVMSWH",800,"SE Switch Capability","CAD","306504"]
["M-T600VK_SVEEVMSWHLKT","M-T600","VK_SVEEVMSWHLKT",81,"SE Switch Lockout","CAD","306504"]
["M-T600VK_TRLTRTKIT","M-T600","VK_TRLTRTKIT",360,"Transport Kit","CAD","306504"]
["M-T600EVK_TRLTRTKIT","M-T600E","VK_TRLTRTKIT",360,"Transport Kit","CAD","306505"]
["M-T600EEVK_TRLTRTKIT","M-T600EE","VK_TRLTRTKIT",463,"Transport Kit","CAD","306506"]
["M-T600VK_TRMLVL_PMEM","M-T600","VK_TRMLVL_PMEM","N/C","Pro Membrane Panel","CAD","306504"]
["M-T600EEVK_TRMLVL_PMEM","M-T600EE","VK_TRMLVL_PMEM","N/C","Pro Membrane Panel","CAD","306506"]
["M-T600VK_TRMLVL_PPAN","M-T600","VK_TRMLVL_PPAN",1242,"ProPanel Ctrls","CAD","306504"]
["M-T600VK_ULERTG_E","M-T600","VK_ULERTG_E","N/C","UL® Type E","CAD","306504"]
["M-T600EVK_ULERTG_E","M-T600E","VK_ULERTG_E","N/C","UL® Type E","CAD","306505"]
["M-T600VK_WTY_STD","M-T600","VK_WTY_STD","N/C","Warranty STD","CAD","306504"]
["M-T7AMRVK_BLULGT","M-T7AMR","VK_BLULGT",604,"Blue Light","CAD","307001"]
["M-T7AMRVK_BTY_L24V92K","M-T7AMR","VK_BTY_L24V92K",14231,"Bty Li-Ion 24v, 9.2kWh","CAD","307001"]
["M-T7AMRVK_BTY_F128C20","M-T7AMR","VK_BTY_F128C20",3627,"Bty FastCharge 128AH C20","CAD","307001"]
["M-T7AMRVK_CSMSBTPARKIT","M-T7AMR","VK_CSMSBTPARKIT",2063,"Sunbelt -Parts Kit","CAD","307001"]
["M-T7AMRVK_PKG_PAD","M-T7AMR","VK_PKG_PAD","N/C","Pad Wrap","CAD","307001"]
["M-T7AMRVK_PKG_WSKD","M-T7AMR","VK_PKG_WSKD","N/C","Skid w/Stretch Wrap","CAD","307001"]
["M-T7AMRVK_PKG_SCNS_NC","M-T7AMR","VK_PKG_SCNS_NC","N/C","NonStack Skid/Carton","CAD","307001"]
["M-T7AMRVK_SRVMNL","M-T7AMR","VK_SRVMNL",183,"Service Manual","CAD","307001"]
["M-T7AMRVK_PKG_SCNS","M-T7AMR","VK_PKG_SCNS","N/C","NonStack Skid/Carton","CAD","307001"]
["M-T7AMRVK_PARMNL","M-T7AMR","VK_PARMNL",74,"Parts Manual","CAD","307001"]
["M-T7AMRVK_PADTYP_650WHT3","M-T7AMR","VK_PADTYP_650WHT3",24,"650/26 Wh Polish 3M","CAD","307001"]
["M-T7AMRVK_PADTYP_650RED3","M-T7AMR","VK_PADTYP_650RED3",24,"650/26 Red Clean 3M","CAD","307001"]
["M-T7AMRVK_PADTYP_650MAR3","M-T7AMR","VK_PADTYP_650MAR3",28,"650/26 MarSur Pad 3M","CAD","307001"]
["M-T7AMRVK_PADTYP_650BWN3","M-T7AMR","VK_PADTYP_650BWN3",24,"650/26 Br Strip 3M","CAD","307001"]
["M-T7AMRVK_PADTYP_650BLU3","M-T7AMR","VK_PADTYP_650BLU3",24,"650/26 Bl Scrub 3M","CAD","307001"]
["M-T7AMRVK_OPRMNL","M-T7AMR","VK_OPRMNL","N/C","Oper Manual","CAD","307001"]
["M-T7AMRVK_CLNTOL_650SAB","M-T7AMR","VK_CLNTOL_650SAB",494,"650/24 Sup Abr Brsh","CAD","307001"]
["M-T7AMRVK_CLNTOL_650PYP","M-T7AMR","VK_CLNTOL_650PYP","N/C","650/24 Poly Brush","CAD","307001"]
["M-T7AMRVK_CLNTOL_650PAD","M-T7AMR","VK_CLNTOL_650PAD","N/C","650/24 Pad Driver","CAD","307001"]
["M-T7AMRVK_CLNTOL_650NYL","M-T7AMR","VK_CLNTOL_650NYL","N/C","650/24 Nylon Brush","CAD","307001"]
["M-T7AMRVK_CLNTCH_ECH2ON","M-T7AMR","VK_CLNTCH_ECH2ON",4410,"ec-H2O™ NanoClean","CAD","307001"]
["M-T7AMRVK_CHG_41A100V5060H1P","M-T7AMR","VK_CHG_41A100V5060H1P","N/C","Ch41A 100V 5060H1P","CAD","307001"]
[{"$f":"B1352&C1352","v":"M-T7AMRVK_BTY_W360C20"},"M-T7AMR","VK_BTY_W360C20","N/C","Bty Wet 360AH C20","CAD","307001"]
["M-T7AMRVK_BTYWTRSYS","M-T7AMR","VK_BTYWTRSYS","N/C","Battery Watering Sys","CAD","307001"]
["M-T7AMRVK_BASE_T7AMR-650D","M-T7AMR","VK_BASE_T7AMR-650D",83907,"T7AMR 650/26 Disc","CAD","307001"]
["M-T7AMRVK_ADLOPRMNL","M-T7AMR","VK_ADLOPRMNL",183,"Add Operator Manual","CAD","307001"]
["M-T380AMRVK_PKG_SCNS","M-T380AMR","VK_PKG_SCNS","N/C","NonStack Skid/Carton","CAD","307012"]
["M-T380AMRVK_PADTYP_500WHT3","M-T380AMR","VK_PADTYP_500WHT3",36,"500/20 Wh Polish 3M","CAD","307012"]
["M-T380AMRVK_CLNTOL_500PYP","M-T380AMR","VK_CLNTOL_500PYP","N/C","500/20 Poly Brush","CAD","307012"]
["M-T380AMRVK_PADTYP_500BWN3","M-T380AMR","VK_PADTYP_500BWN3",37,"500/20 Br Strip 3M","CAD","307012"]
["M-T380AMRVK_PADTYP_500MAR3","M-T380AMR","VK_PADTYP_500MAR3",44,"500/20 MarSur 3M","CAD","307012"]
["M-T380AMRVK_BTY_L24V46K","M-T380AMR","VK_BTY_L24V46K",7116,"Bty Li-Ion 24v, 4.6kWh","CAD","307012"]
["M-T380AMRVK_PADTYP_500BLK3","M-T380AMR","VK_PADTYP_500BLK3",42,"500/20 Blk Strip 3M","CAD","307012"]
["M-T380AMRVK_SRVMNL","M-T380AMR","VK_SRVMNL",183,"Service Manual","CAD","307012"]
["M-T380AMRVK_REF_T380AMR-500D","M-T380AMR","VK_REF_T380AMR-500D",82656,"T380AMR-500 DISK","CAD","307012"]
["M-T380AMRVK_PARMNL","M-T380AMR","VK_PARMNL",74,"Parts Manual","CAD","307012"]
["M-T380AMRVK_PADTYP_500RED3","M-T380AMR","VK_PADTYP_500RED3",36,"500/20 Red Clean 3M","CAD","307012"]
["M-T380AMRVK_PADTYP_500BLU3","M-T380AMR","VK_PADTYP_500BLU3",36,"500/20 Bl Scrub 3M","CAD","307012"]
["M-T380AMRVK_CLNTOL_500PAD","M-T380AMR","VK_CLNTOL_500PAD","N/C","500/20 Pad Driver","CAD","307012"]
["M-T380AMRVK_CLNTOL_500NYL","M-T380AMR","VK_CLNTOL_500NYL","N/C","500/20 Nylon Brush","CAD","307012"]
["M-T380AMRVK_CLNTCH_ECH2ON","M-T380AMR","VK_CLNTCH_ECH2ON",3083,"ec-H2O™ NanoClean","CAD","307012"]
["M-T380AMRVK_CHG_27A85V5060H1P","M-T380AMR","VK_CHG_27A85V5060H1P","N/C","CH27A 85-270V 5060H1P","CAD","307012"]
["M-T380AMRVK_BTY_W225C20","M-T380AMR","VK_BTY_W225C20","N/C","Bty Wet 225AH C20","CAD","307012"]
["M-T380AMRVK_BTYWTRSYS","M-T380AMR","VK_BTYWTRSYS","N/C","Battery Watering Sys","CAD","307012"]
["M-T380AMRVK_ADLOPRMNL","M-T380AMR","VK_ADLOPRMNL",183,"Add Operator Manual","CAD","307012"]
["M-T7VK_BASE_T7-800-D_STD","M-T7","VK_BASE_T7-800-D_STD",36744,"T7 800mm Disk Std Config","CAD","307500"]
["M-T7VK_BASE_T7-700-C_STD","M-T7","VK_BASE_T7-700-C_STD",36744,"T7 700mm Cyl Std Config","CAD","307500"]
["M-T7VK_BASE_T7-800-D","M-T7","VK_BASE_T7-800-D",36744,"T7 800/32 Disc","CAD","307500"]
["M-T7VK_BASE_T7-650-D_STD","M-T7","VK_BASE_T7-650-D_STD",34211,"T7 650mm Disk Std Config","CAD","307500"]
["M-T7VK_BASE_T7-800-C_STD","M-T7","VK_BASE_T7-800-C_STD",39278,"T7 800mm Cyl Std Config","CAD","307500"]
["M-T7VK_CLNTOL_650SAB","M-T7","VK_CLNTOL_650SAB",500,"650/24 Sup Abr Brsh","CAD","307500"]
["M-T7VK_800BLU3","M-T7","VK_800BLU3",29,"800/32 Bl Scrub 3M","CAD","307500"]
["M-T7VK_D650NYL","M-T7","VK_D650NYL","N/C","D650/26 Nylon Brush","CAD","307500"]
["M-T7VK_C800HDPYP","M-T7","VK_C800HDPYP","N/C","C800/32 HD Poly Brsh","CAD","307500"]
["M-T7VK_D650PYP","M-T7","VK_D650PYP","N/C","D650/26 Poly Brush","CAD","307500"]
["M-T7VK_C700HDPYP","M-T7","VK_C700HDPYP","N/C","C700/28 HD Poly Brsh","CAD","307500"]
["M-T7VK_650BLU3","M-T7","VK_650BLU3",22,"650/26 Bl Scrub 3M","CAD","307500"]
["M-T7VK_C650PYP","M-T7","VK_C650PYP","N/C","C650/26 Poly Brush","CAD","307500"]
["M-T7VK_BASE_T7-650-D","M-T7","VK_BASE_T7-650-D",34211,"T7 650/26 Disc","CAD","307500"]
["M-T7VK_BASE_T7-700-C","M-T7","VK_BASE_T7-700-C",36744,"T7 700/28 Cyl","CAD","307500"]
["M-T7VK_BTY_A220C20","M-T7","VK_BTY_A220C20",2332,"Bty AGM 220AH C20","CAD","307500"]
["M-T7VK_SETBLT","M-T7","VK_SETBLT",121,"Seat Belt","CAD","307500"]
["M-T7VK_650WHT3","M-T7","VK_650WHT3",22,"650/26 Wh Polish 3M","CAD","307500"]
["M-T7VK_D650PAD","M-T7","VK_D650PAD","N/C","D650/26 Pad Driver","CAD","307500"]
["M-T7VK_C700PYP","M-T7","VK_C700PYP","N/C","C700/28 Poly Brush","CAD","307500"]
["M-T7VK_C700NYL","M-T7","VK_C700NYL","N/C","C700/28 Nylon Brush","CAD","307500"]
["M-T7VK_D800PYP","M-T7","VK_D800PYP","N/C","D800/32 Poly Brush","CAD","307500"]
["M-T7VK_C800PYP","M-T7","VK_C800PYP","N/C","C800/32 Poly Brush","CAD","307500"]
["M-T7VK_650BWN3","M-T7","VK_650BWN3",22,"650/26 Br Strip 3M","CAD","307500"]
["M-T7VK_D800NYL","M-T7","VK_D800NYL","N/C","D800/32 Nylon Brush","CAD","307500"]
["M-T7VK_D800PAD","M-T7","VK_D800PAD","N/C","D800/32 Pad Driver","CAD","307500"]
["M-T7VK_650MAR3","M-T7","VK_650MAR3",27,"650/26 MarSur Pad 3M","CAD","307500"]
["M-T7VK_800WHT3","M-T7","VK_800WHT3",29,"800/32 Wh Polish 3M","CAD","307500"]
["M-T7VK_C700ABB","M-T7","VK_C700ABB",500,"C700/28 Abr Brush","CAD","307500"]
["M-T7VK_C800ABB","M-T7","VK_C800ABB",500,"C800/32 Abr Brush","CAD","307500"]
["M-T7VK_800BLKH3","M-T7","VK_800BLKH3",48,"800/32 Blk HiPro 3M","CAD","307500"]
["M-T7VK_800MAR3","M-T7","VK_800MAR3",36,"800/32 MarSur Pad 3M","CAD","307500"]
["M-T7VK_C800NYL","M-T7","VK_C800NYL","N/C","C800/32 Nylon Brush","CAD","307500"]
["M-T7VK_650RED3","M-T7","VK_650RED3",22,"650/26 Red Clean 3M","CAD","307500"]
["M-T7VK_D650SAB","M-T7","VK_D650SAB",500,"D650/26 Spr Abr Brsh","CAD","307500"]
["M-T7VK_D800SAB","M-T7","VK_D800SAB",500,"D800/32 Sup Abr Brsh","CAD","307500"]
["M-T7VK_800RED3","M-T7","VK_800RED3",29,"800/32 Red Clean 3M","CAD","307500"]
["M-T7VK_800BWN3","M-T7","VK_800BWN3",29,"800/32 Br Strip 3M","CAD","307500"]
["M-T7VK_PARMNL","M-T7","VK_PARMNL",75,"Parts Manual","CAD","307500"]
["M-T7VK_BTY_WTR_SYS","M-T7","VK_BTY_WTR_SYS",804,"HydroLink Bty WatKit","CAD","307500"]
["M-T7VK_DTG_FAST665","M-T7","VK_DTG_FAST665","N/C","FaST 665 Degreaser","CAD","307500"]
[{"$f":"B1416&C1416","v":"M-T7VK_DTG_FAST365"},"M-T7","VK_DTG_FAST365","N/C","FaST 365 Neutral Cln","CAD","307500"]
["M-T7VK_WRNLGTALM_ST","M-T7","VK_WRNLGTALM_ST",1023,"Strobe Light Tank","CAD","307500"]
["M-T7VK_BASE_T7-800-C","M-T7","VK_BASE_T7-800-C",39278,"T7 800/32 Cyl","CAD","307500"]
["M-T7VK_CLNTCH_ECH2ON","M-T7","VK_CLNTCH_ECH2ON",4465,"ec-H2O™ NanoClean","CAD","307500"]
["M-T7VK_PADTYP_650WHT3","M-T7","VK_PADTYP_650WHT3",22,"650/26 Wh Polish 3M","CAD","307500"]
["M-T7VK_PADTYP_800BLU3","M-T7","VK_PADTYP_800BLU3",29,"800/32 Blu Scrub 3M","CAD","307500"]
["M-T7VK_PADTYP_800RED3","M-T7","VK_PADTYP_800RED3",29,"800/32 Red Clean 3M","CAD","307500"]
["M-T7VK_PADTYP_800WHT3","M-T7","VK_PADTYP_800WHT3",29,"800/32 Wht Polish 3M","CAD","307500"]
["M-T7VK_WRNLGTANDALM_ST","M-T7","VK_WRNLGTANDALM_ST",1023,"Strobe Light Tank","CAD","307500"]
["M-T7VK_PADTYP_650RED3","M-T7","VK_PADTYP_650RED3",22,"650/26 Red Clean 3M","CAD","307500"]
["M-T7VK_BTYWTRSYS","M-T7","VK_BTYWTRSYS",804,"Battery Watering Sys","CAD","307500"]
["M-T7VK_CLNTOL_C700ABB","M-T7","VK_CLNTOL_C700ABB",500,"C700/28 Abr Brush","CAD","307500"]
["M-T7VK_CLNTOL_C700HDPYP","M-T7","VK_CLNTOL_C700HDPYP","N/C","C700/28 HD Poly Brsh","CAD","307500"]
["M-T7VK_CLNTOL_C700NYL","M-T7","VK_CLNTOL_C700NYL","N/C","C700/28 Nylon Brush","CAD","307500"]
["M-T7VK_CLNTOL_C700PYP","M-T7","VK_CLNTOL_C700PYP","N/C","C700/28 Poly Brush","CAD","307500"]
["M-T7VK_CLNTOL_C800ABB","M-T7","VK_CLNTOL_C800ABB",500,"C800/32 Abr Brush","CAD","307500"]
["M-T7VK_CLNTOL_C800HDPYP","M-T7","VK_CLNTOL_C800HDPYP","N/C","C800/32 HD Poly Brsh","CAD","307500"]
["M-T7VK_CLNTOL_C800NYL","M-T7","VK_CLNTOL_C800NYL","N/C","C800/32 Nylon Brush","CAD","307500"]
["M-T7VK_CLNTOL_C800PYP","M-T7","VK_CLNTOL_C800PYP","N/C","C800/32 Poly Brush","CAD","307500"]
["M-T7VK_CLNTOL_D650NYL","M-T7","VK_CLNTOL_D650NYL","N/C","D650/26 Nylon Brush","CAD","307500"]
["M-T7VK_CLNTOL_D650PAD","M-T7","VK_CLNTOL_D650PAD","N/C","D650/26 Pad Driver","CAD","307500"]
["M-T7VK_CLNTOL_D650PYP","M-T7","VK_CLNTOL_D650PYP","N/C","D650/26 Poly Brush","CAD","307500"]
["M-T7VK_CLNTOL_D800NYL","M-T7","VK_CLNTOL_D800NYL","N/C","D800/32 Nylon Brush","CAD","307500"]
["M-T7VK_CLNTOL_D800PAD","M-T7","VK_CLNTOL_D800PAD","N/C","D800/32 Pad Driver","CAD","307500"]
["M-T7VK_CLNTOL_D800PYP","M-T7","VK_CLNTOL_D800PYP","N/C","D800/32 Poly Brush","CAD","307500"]
["M-T7VK_CLNTOL_D800SAB","M-T7","VK_CLNTOL_D800SAB",500,"D800/32 Sup Abr Brsh","CAD","307500"]
["M-T7VK_DTG_F365","M-T7","VK_DTG_F365","N/C","FaST 365 Neutral Cln","CAD","307500"]
["M-T7VK_DTG_F665","M-T7","VK_DTG_F665","N/C","FaST 665 Degreaser","CAD","307500"]
["M-T7VK_DTG_F965","M-T7","VK_DTG_F965","N/C","FaST 965 HDDegreaser","CAD","307500"]
["M-T7VK_PADTYP_650BLU3","M-T7","VK_PADTYP_650BLU3",22,"650/26 Bl Scrub 3M","CAD","307500"]
["M-T7VK_PADTYP_650BWN3","M-T7","VK_PADTYP_650BWN3",22,"650/26 Br Strip 3M","CAD","307500"]
["M-T7VK_PADTYP_650MAR3","M-T7","VK_PADTYP_650MAR3",27,"650/26 MarSur Pad 3M","CAD","307500"]
["M-T7VK_DTG_FAST965","M-T7","VK_DTG_FAST965","N/C","FaST 965 HDDegreaser","CAD","307500"]
["M-T7VK_ADLOPRMNL","M-T7","VK_ADLOPRMNL",186,"Add Operator Manual","CAD","307500"]
["M-T7VK_UTLBSK","M-T7","VK_UTLBSK",321,"Utility Basket","CAD","307500"]
["M-T7VK_CHG_19A100V5060H1","M-T7","VK_CHG_19A100V5060H1","N/C","Ch19A 100V 5060H1P","CAD","307500"]
["M-T7VK_CHG_27A100V5060H1P","M-T7","VK_CHG_27A100V5060H1P",577,"Ch27A 100-240V 5060H1P","CAD","307500"]
["M-T7VK_MCHCOM","M-T7","VK_MCHCOM",1916,"IRIS Telemetry","CAD","307500"]
["M-T7VK_CSMSBTPARKIT","M-T7","VK_CSMSBTPARKIT",2089,"Sunbelt -Parts Kit","CAD","307500"]
["M-T7VK_BTY_G180C20","M-T7","VK_BTY_G180C20",1557,"Bty Gel 180AH C20","CAD","307500"]
["M-T7VK_BTY_W240C20","M-T7","VK_BTY_W240C20","N/C","Bty Wet 240AH C20","CAD","307500"]
["M-T7VK_BTY_W360C20","M-T7","VK_BTY_W360C20",937,"Bty Wet 360AH C20","CAD","307500"]
["M-T7VK_BTY_WO","M-T7","VK_BTY_WO",-630,"Without Battery","CAD","307500"]
["M-T7VK_CHG_25A100V5060H1","M-T7","VK_CHG_25A100V5060H1",303,"Ch25A 100V 5060H1P","CAD","307500"]
["M-T7VK_CHG_25A115V60H1P","M-T7","VK_CHG_25A115V60H1P",944,"Ch25A 115V 60H1P","CAD","307500"]
["M-T7VK_CHG_WO","M-T7","VK_CHG_WO",-731,"Without Charger","CAD","307500"]
["M-T7VK_CLNTCH_ECH2O","M-T7","VK_CLNTCH_ECH2O",4465,"ec-H2O™","CAD","307500"]
["M-T7VK_CLNTCH_FAST","M-T7","VK_CLNTCH_FAST",4110,"FaST®","CAD","307500"]
["M-T7VK_PKG_SCNS","M-T7","VK_PKG_SCNS","N/C","NonStack Skid/Carton","CAD","307500"]
["M-T7VK_PKG_WSKD","M-T7","VK_PKG_WSKD","N/C","Skid w/Stretch Wrap","CAD","307500"]
["M-T7VK_SRVMNL","M-T7","VK_SRVMNL",186,"Service Manual","CAD","307500"]
["M-SSRVK_CLNTOL_C800PYP","M-SSR","VK_CLNTOL_C800PYP","N/C","C800/32 Poly Brush","CAD","307501"]
["M-SSRVK_PADTYP_650MAR3","M-SSR","VK_PADTYP_650MAR3",27,"650/26 MarSur Pad 3M","CAD","307501"]
["M-SSRVK_CLNTOL_C800HDPYP","M-SSR","VK_CLNTOL_C800HDPYP","N/C","C800/32 HD Poly Brsh","CAD","307501"]
["M-SSRVK_CLNTOL_D800SAB","M-SSR","VK_CLNTOL_D800SAB",500,"D800/32 Sup Abr Brsh","CAD","307501"]
["M-SSRVK_BASE_SSR-650-D_STD","M-SSR","VK_BASE_SSR-650-D_STD",34211,"SSR 650mm Disk Std Config","CAD","307501"]
["M-SSRVK_BASE_SSR-700-C_STD","M-SSR","VK_BASE_SSR-700-C_STD",36744,"SSR 700mm Cyl Std Config","CAD","307501"]
["M-SSRVK_BASE_SSR-800-C_STD","M-SSR","VK_BASE_SSR-800-C_STD",39278,"SSR 800mm Cyl Std Config","CAD","307501"]
["M-SSRVK_BASE_SSR-800-D_STD","M-SSR","VK_BASE_SSR-800-D_STD",36744,"SSR 800mm Disk Std Config","CAD","307501"]
["M-SSRVK_PADTYP_650BWN3","M-SSR","VK_PADTYP_650BWN3",22,"650/26 Br Strip 3M","CAD","307501"]
["M-SSRVK_CLNTOL_D800PAD","M-SSR","VK_CLNTOL_D800PAD","N/C","D800/32 Pad Driver","CAD","307501"]
["M-SSRVK_CLNTOL_D800PYP","M-SSR","VK_CLNTOL_D800PYP","N/C","D800/32 Poly Brush","CAD","307501"]
["M-SSRVK_CLNTOL_D650PYP","M-SSR","VK_CLNTOL_D650PYP","N/C","D650/26 Poly Brush","CAD","307501"]
["M-SSRVK_CLNTOL_C700ABB","M-SSR","VK_CLNTOL_C700ABB",500,"C700/28 Abr Brush","CAD","307501"]
[{"$f":"B1480&C1480","v":"M-SSRVK_CLNTOL_D650NYL"},"M-SSR","VK_CLNTOL_D650NYL","N/C","D650/26 Nylon Brush","CAD","307501"]
["M-SSRVK_CLNTOL_D800NYL","M-SSR","VK_CLNTOL_D800NYL","N/C","D800/32 Nylon Brush","CAD","307501"]
["M-SSRVK_DATPKG_HO","M-SSR","VK_DATPKG_HO",1970,"Hardware Only","CAD","307501"]
["M-SSRVK_CLNTOL_D650PAD","M-SSR","VK_CLNTOL_D650PAD","N/C","D650/26 Pad Driver","CAD","307501"]
["M-SSRVK_CLNTOL_C700HDPYP","M-SSR","VK_CLNTOL_C700HDPYP","N/C","C700/28 HD Poly Brsh","CAD","307501"]
["M-SSRVK_SETBLT","M-SSR","VK_SETBLT",121,"Seat Belt","CAD","307501"]
["M-SSRVK_PADTYP_650YLW3","M-SSR","VK_PADTYP_650YLW3",72,"650/26 Ylw Polish 3M","CAD","307501"]
["M-SSRVK_PADTYP_800YLW3","M-SSR","VK_PADTYP_800YLW3",96,"800/32 Ylw Polish 3M","CAD","307501"]
["M-SSRVK_DTG_FMP","M-SSR","VK_DTG_FMP","N/C","Dtrgnt Cleaner","CAD","307501"]
["M-SSRVK_OPRMNL","M-SSR","VK_OPRMNL","N/C","Oper Manual","CAD","307501"]
["M-SSRVK_PARMNL","M-SSR","VK_PARMNL",75,"Parts Manual","CAD","307501"]
["M-SSRVK_PKG_SCNS","M-SSR","VK_PKG_SCNS","N/C","NonStack Skid/Carton","CAD","307501"]
["M-SSRVK_PKG_WSKD","M-SSR","VK_PKG_WSKD","N/C","Skid w/Stretch Wrap","CAD","307501"]
["M-SSRVK_UTLBSK","M-SSR","VK_UTLBSK",321,"Utility Basket","CAD","307501"]
["M-SSRVK_D800SAB","M-SSR","VK_D800SAB",500,"D800/32 Sup Abr Brsh","CAD","307501"]
["M-SSRVK_D800PYP","M-SSR","VK_D800PYP","N/C","D800/32 Poly Brush","CAD","307501"]
["M-SSRVK_D800PAD","M-SSR","VK_D800PAD","N/C","D800/32 Pad Driver","CAD","307501"]
["M-SSRVK_D800NYL","M-SSR","VK_D800NYL","N/C","D800/32 Nylon Brush","CAD","307501"]
["M-SSRVK_CHG_20A120V5060H1","M-SSR","VK_CHG_20A120V5060H1","N/C","Ch20A 120V 5060H1","CAD","307501"]
["M-SSRVK_PADTYP_650RED3","M-SSR","VK_PADTYP_650RED3",22,"650/26 Red Clean 3M","CAD","307501"]
["M-SSRVK_PADTYP_650WHT3","M-SSR","VK_PADTYP_650WHT3",22,"650/26 Wh Polish 3M","CAD","307501"]
["M-SSRVK_PADTYP_800BLU3","M-SSR","VK_PADTYP_800BLU3",29,"800/32 Blu Scrub 3M","CAD","307501"]
["M-SSRVK_PADTYP_800RED3","M-SSR","VK_PADTYP_800RED3",29,"800/32 Red Clean 3M","CAD","307501"]
["M-SSRVK_PADTYP_800WHT3","M-SSR","VK_PADTYP_800WHT3",29,"800/32 Wht Polish 3M","CAD","307501"]
["M-SSRVK_WRNLGTANDALM_ST","M-SSR","VK_WRNLGTANDALM_ST",1023,"Strobe Light Tank","CAD","307501"]
["M-SSRVK_CLNTOL_C700NYL","M-SSR","VK_CLNTOL_C700NYL","N/C","C700/28 Nylon Brush","CAD","307501"]
["M-SSRVK_CLNTOL_C700PYP","M-SSR","VK_CLNTOL_C700PYP","N/C","C700/28 Poly Brush","CAD","307501"]
["M-SSRVK_CLNTOL_C800ABB","M-SSR","VK_CLNTOL_C800ABB",500,"C800/32 Abr Brush","CAD","307501"]
["M-SSRVK_CLNTOL_C800NYL","M-SSR","VK_CLNTOL_C800NYL","N/C","C800/32 Nylon Brush","CAD","307501"]
["M-SSRVK_PADTYP_650BLU3","M-SSR","VK_PADTYP_650BLU3",22,"650/26 Bl Scrub 3M","CAD","307501"]
["M-SSRVK_CHG_27A100V5060H1P","M-SSR","VK_CHG_27A100V5060H1P",577,"Ch27A 100-240V 5060H1P","CAD","307501"]
["M-SSRVK_SRVMNL","M-SSR","VK_SRVMNL",186,"Service Manual","CAD","307501"]
["M-SSRVK_PKG_SCNS_NC","M-SSR","VK_PKG_SCNS_NC","N/C","NonStack Skid/Carton","CAD","307501"]
["M-SSRVK_MCHCOM","M-SSR","VK_MCHCOM",1916,"IRIS Telemetry","CAD","307501"]
["M-SSRVK_CHG_25A100V5060H1_A","M-SSR","VK_CHG_25A100V5060H1_A",303,"CH25A 100V5060H1 AGM","CAD","307501"]
["M-SSRVK_BASE_SSR-800-D","M-SSR","VK_BASE_SSR-800-D",36744,"SSR 800/32 Disc","CAD","307501"]
["M-SSRVK_BASE_SSR-800-C","M-SSR","VK_BASE_SSR-800-C",39278,"SSR 800/32 Cyl","CAD","307501"]
["M-SSRVK_BASE_SSR-700-C","M-SSR","VK_BASE_SSR-700-C",36744,"SSR 700/28 Cyl","CAD","307501"]
["M-SSRVK_BASE_SSR-650-D","M-SSR","VK_BASE_SSR-650-D",34211,"SSR 650/26 Disc","CAD","307501"]
["M-SSRVK_CLNTCH_DECH2ON","M-SSR","VK_CLNTCH_DECH2ON",4465,"ec-H2O NanoClean","CAD","307501"]
["M-SSRVK_CLNTCH_CECH2ON","M-SSR","VK_CLNTCH_CECH2ON",4465,"ec-H2O NanoClean","CAD","307501"]
["M-SSRVK_CHG_25A100V5060H1","M-SSR","VK_CHG_25A100V5060H1",303,"Ch25A 100V 5060H1P","CAD","307501"]
["M-SSRVK_CHG_25A115V60H1P","M-SSR","VK_CHG_25A115V60H1P",944,"Ch25A 115V 60H1P","CAD","307501"]
["M-SSRVK_CHG_WO","M-SSR","VK_CHG_WO",-731,"Without Charger","CAD","307501"]
["M-SSRVK_CLNTCH_CECH2O","M-SSR","VK_CLNTCH_CECH2O",4465,"ec-H2O™","CAD","307501"]
["M-SSRVK_CLNTCH_CFAST","M-SSR","VK_CLNTCH_CFAST",4110,"FaST®","CAD","307501"]
["M-SSRVK_CLNTCH_DECH2O","M-SSR","VK_CLNTCH_DECH2O",4465,"ec-H2O™","CAD","307501"]
["M-SSRVK_CLNTCH_DFAST","M-SSR","VK_CLNTCH_DFAST",4110,"FaST®","CAD","307501"]
["M-SSRVK_D650NYL","M-SSR","VK_D650NYL","N/C","D650/26 Nylon Brush","CAD","307501"]
["M-SSRVK_D650PAD","M-SSR","VK_D650PAD","N/C","D650/26 Pad Driver","CAD","307501"]
["M-SSRVK_D650PYP","M-SSR","VK_D650PYP","N/C","D650/26 Poly Brush","CAD","307501"]
["M-SSRVK_D650SAB","M-SSR","VK_D650SAB",500,"D650/26 Spr Abr Brsh","CAD","307501"]
["M-SSRVK_DTG_FMPD","M-SSR","VK_DTG_FMPD","N/C","Dtrgnt Degreaser","CAD","307501"]
["M-SSRVK_ADLOPRMNL","M-SSR","VK_ADLOPRMNL",186,"Add Operator Manual","CAD","307501"]
["M-SSRVK_BTYWTRSYS","M-SSR","VK_BTYWTRSYS",804,"Battery Watering Sys","CAD","307501"]
["M-SSRVK_BTY_A220C20","M-SSR","VK_BTY_A220C20",2332,"Bty AGM 220AH C20","CAD","307501"]
["M-SSRVK_BTY_G180C20","M-SSR","VK_BTY_G180C20",1557,"Bty Gel 180AH C20","CAD","307501"]
["M-SSRVK_BTY_W240C20","M-SSR","VK_BTY_W240C20","N/C","Bty Wet 240AH C20","CAD","307501"]
["M-SSRVK_BTY_W360C20","M-SSR","VK_BTY_W360C20",937,"Bty Wet 360AH C20","CAD","307501"]
["M-SSRVK_BTY_WO","M-SSR","VK_BTY_WO",-630,"Without Battery","CAD","307501"]
["M-SSRVK_CHG_19A100V5060H1","M-SSR","VK_CHG_19A100V5060H1","N/C","Ch19A 100V 5060H1P","CAD","307501"]
["M-T12VK_ALTSTBFLSLNS_B","M-T12","VK_ALTSTBFLSLNS_B","N/C","Alternate Lens-Blue","CAD","307600"]
["M-T12VK_SDECLNTOL_HDPYP","M-T12","VK_SDECLNTOL_HDPYP","N/C","Side HD Poly Brush","CAD","307600"]
["M-T12VK_CLNTCH_ECH2O","M-T12","VK_CLNTCH_ECH2O",5390,"ec-H2O™","CAD","307600"]
[{"$f":"B1544&C1544","v":"M-T12VK_CPYS"},"M-T12","VK_CPYS","N/C","Polyester Brush Cyl","CAD","307600"]
["M-T12VK_CHG_21A85V5060H1P","M-T12","VK_CHG_21A85V5060H1P","N/C","Ch21A 85V 5060H1P","CAD","307600"]
["M-T12VK_ULERTG_ES","M-T12","VK_ULERTG_ES",3920,"UL® Type ES","CAD","307600"]
["M-T12VK_ALTSTBFLSLNS_R","M-T12","VK_ALTSTBFLSLNS_R","N/C","Alternate Lens-Red","CAD","307600"]
["M-T12VK_BTY_W360C20","M-T12","VK_BTY_W360C20",1481,"Bty Wet 360AH C20","CAD","307600"]
["M-T12VK_OVHGRD_Y","M-T12","VK_OVHGRD_Y",2050,"Overhead Guard","CAD","307600"]
["M-T12VK_BTY_W240C20","M-T12","VK_BTY_W240C20","N/C","Bty Wet 240AH C20","CAD","307600"]
["M-T12VK_CHG_33A100V5060H1PLIF","M-T12","VK_CHG_33A100V5060H1PLIF",1115,"Ch33A 100V 50/60Hz 1Ph Off","CAD","307600"]
["M-T12VK_CHG_21A85V5060H1PA312","M-T12","VK_CHG_21A85V5060H1PA312",1026,"Ch21A 85V 5060H1P","CAD","307600"]
["M-T12VK_BLULGT","M-T12","VK_BLULGT",1366,"Blue Light","CAD","307600"]
["M-T12VK_CHG_21A85V5060H1P_360","M-T12","VK_CHG_21A85V5060H1P_360","N/C","Ch21A 85V 5060H1P","CAD","307600"]
["M-T12VK_CHG_25A100V5060H1LIOF","M-T12","VK_CHG_25A100V5060H1LIOF",885,"Ch25A 100V 50/60Hz 1Ph Off","CAD","307600"]
["M-T12VK_BASE_T12-XP-C_STD","M-T12","VK_BASE_T12-XP-C_STD",42948,"T12 XP Rider Cyl Std Config","CAD","307600"]
["M-T12VK_BTY_L36V5M","M-T12","VK_BTY_L36V5M",24865,"Bty Li-Ion 36v, 10.2kWh","CAD","307600"]
["M-T12VK_BASE_T12-D_STD","M-T12","VK_BASE_T12-D_STD",38489,"T12 Rider Disk Std Config","CAD","307600"]
["M-T12VK_PKG_PAD","M-T12","VK_PKG_PAD","N/C","Pad Wrap","CAD","307600"]
["M-T12VK_BASE_T12-C_STD","M-T12","VK_BASE_T12-C_STD",39558,"T12 Rider Cly Std Config","CAD","307600"]
["M-T12VK_BASE_T12-XP-D_STD","M-T12","VK_BASE_T12-XP-D_STD",41877,"T12 XP Rider Disk Std Config","CAD","307600"]
["M-T12VK_BTY_L36V4M","M-T12","VK_BTY_L36V4M",20801,"Bty Li-Ion 36v, 8.2kWh","CAD","307600"]
["M-T12VK_BTY_L36V2M","M-T12","VK_BTY_L36V2M",10375,"Bty Li-Ion 36v, 4.1kWh","CAD","307600"]
["M-T12VK_TRLTRTKIT_Y","M-T12","VK_TRLTRTKIT_Y",263,"Transport Kit","CAD","307600"]
["M-T12VK_BTY_WO","M-T12","VK_BTY_WO",-693,"Without Battery","CAD","307600"]
["M-T12VK_BLU3","M-T12","VK_BLU3",29,"Blu Scrub - 3M","CAD","307600"]
["M-T12VK_CHDPYP","M-T12","VK_CHDPYP","N/C","Cyl. HD Poly Brush","CAD","307600"]
["M-T12VK_BTYWTRSYS","M-T12","VK_BTYWTRSYS",1022,"Battery Watering Sys","CAD","307600"]
["M-T12VK_BLKH3","M-T12","VK_BLKH3",45,"Blk Strip (HiPRO) 3M","CAD","307600"]
["M-T12VK_SDETYPPAD_WHT3","M-T12","VK_SDETYPPAD_WHT3",22,"Side Wh Polish 3M","CAD","307600"]
["M-T12VK_SDETYPPAD_RED3","M-T12","VK_SDETYPPAD_RED3",22,"Side Red Clean 3M","CAD","307600"]
["M-T12VK_SDETYPPAD_BLU3","M-T12","VK_SDETYPPAD_BLU3",22,"Side Bl Scrub 3M","CAD","307600"]
["M-T12VK_DPAD","M-T12","VK_DPAD","N/C","Disk Pad Driver","CAD","307600"]
["M-T12VK_WRNLGTALM_SO","M-T12","VK_WRNLGTALM_SO",915,"Strobe Light OHG","CAD","307600"]
["M-T12VK_WRNLGTALM_AVST","M-T12","VK_WRNLGTALM_AVST",915,"AV BU AlarmStrobeTnk","CAD","307600"]
["M-T12VK_CSAB","M-T12","VK_CSAB",267,"Abr. Brush Cyl","CAD","307600"]
["M-T12VK_OPRMNL","M-T12","VK_OPRMNL","N/C","Oper Manual","CAD","307600"]
["M-T12VK_SQEMAT_G","M-T12","VK_SQEMAT_G","N/C","Squeegee Gum Rubber","CAD","307600"]
["M-T12VK_CPYP","M-T12","VK_CPYP","N/C","Cyl Poly Brush","CAD","307600"]
["M-T12VK_MCHCOM","M-T12","VK_MCHCOM",1916,"IRIS Telemetry","CAD","307600"]
["M-T12VK_BASE_T12-XP-C","M-T12","VK_BASE_T12-XP-C",42948,"T12 XP ScrubRider C","CAD","307600"]
["M-T12VK_BASE_T12-C","M-T12","VK_BASE_T12-C",39558,"T12 ScrubRider Cyl","CAD","307600"]
["M-T12VK_BASE_T12-XP-D","M-T12","VK_BASE_T12-XP-D",41877,"T12 XP ScrubRider D","CAD","307600"]
["M-T12VK_BASE_T12-D","M-T12","VK_BASE_T12-D",38489,"T12 ScrubRider Disk","CAD","307600"]
["M-T12VK_SQEMAT_U","M-T12","VK_SQEMAT_U","N/C","Squeegee Urethane","CAD","307600"]
["M-T12VK_SQEMAT_L","M-T12","VK_SQEMAT_L","N/C","Squeegee Linatex","CAD","307600"]
["M-T12VK_SPYNOZHSE_Y","M-T12","VK_SPYNOZHSE_Y",1688,"Spray Nozzel Hose","CAD","307600"]
["M-T12VK_SFYLGTPKG_Y","M-T12","VK_SFYLGTPKG_Y",1189,"Safety Light Package","CAD","307600"]
["M-T12VK_SET_DLXW","M-T12","VK_SET_DLXW",778,"Deluxe Seat w/Armr.","CAD","307600"]
["M-T12VK_SDECLNTOL_SCBPYP","M-T12","VK_SDECLNTOL_SCBPYP","N/C","Side Cln Polypr Scrb","CAD","307600"]
["M-T12VK_SDECLNTOL_SAB","M-T12","VK_SDECLNTOL_SAB",267,"Side Sup Abr Brush","CAD","307600"]
["M-T12VK_SDECLNTOL_PAD","M-T12","VK_SDECLNTOL_PAD","N/C","Side Pad Driver","CAD","307600"]
["M-T12VK_SDEBRSTYP_SCB","M-T12","VK_SDEBRSTYP_SCB",5983,"Side Brush Scrubber","CAD","307600"]
["M-T12VK_RED3","M-T12","VK_RED3",29,"Red Clean 3M","CAD","307600"]
["M-T12VK_PWRVACWND_VACWND","M-T12","VK_PWRVACWND_VACWND",1185,"Vacuum Wand","CAD","307600"]
["M-T12VK_PRDPKG_Y","M-T12","VK_PRDPKG_Y",7309,"Productivity Package","CAD","307600"]
["M-T12VK_PKG_SCNS","M-T12","VK_PKG_SCNS","N/C","NonStack Skid/Carton","CAD","307600"]
["M-T12VK_OPRVID","M-T12","VK_OPRVID","N/C","Operator Video","CAD","307600"]
["M-T12VK_HVYDTYSQEPRT_Y","M-T12","VK_HVYDTYSQEPRT_Y",1001,"Hvy Dty Sque Protect","CAD","307600"]
["M-T12VK_HVYDTYPRTPKG_Y","M-T12","VK_HVYDTYPRTPKG_Y",2070,"Hvy Duty Protect Pkg","CAD","307600"]
["M-T12VK_WHT3","M-T12","VK_WHT3",29,"Wh Polish 3M","CAD","307600"]
["M-T12VK_UPG_Y","M-T12","VK_UPG_Y","N/C","UPG","CAD","307600"]
["M-T12VK_SRVMNL","M-T12","VK_SRVMNL",333,"Service Manual","CAD","307600"]
["M-T12VK_ADLOPRMNL","M-T12","VK_ADLOPRMNL",100,"Add Operator Manual","CAD","307600"]
["M-T12VK_CHG_WO","M-T12","VK_CHG_WO",-453,"Without Charger","CAD","307600"]
["M-T12VK_CHG_20A85V5060H1P","M-T12","VK_CHG_20A85V5060H1P",1130,"Ch20A 85V 5060H1P","CAD","307600"]
["M-T12VK_BTY_A312C20","M-T12","VK_BTY_A312C20",6393,"Bty AGM 312AH C20","CAD","307600"]
[{"$f":"B1608&C1608","v":"M-T12VK_HVYDTYFRTBMP_Y"},"M-T12","VK_HVYDTYFRTBMP_Y",1280,"Hvy Dty Frnt Bumper","CAD","307600"]
["M-T12VK_HLT_Y","M-T12","VK_HLT_Y",540,"Headlight","CAD","307600"]
["M-T12VK_FREEXT_Y","M-T12","VK_FREEXT_Y",465,"Fire Extinquisher","CAD","307600"]
["M-T12VK_DSAB","M-T12","VK_DSAB",267,"Dsk Spr Abr Brush","CAD","307600"]
["M-T12VK_DPYP","M-T12","VK_DPYP","N/C","Disk Poly Brush","CAD","307600"]
["M-T12VK_DHDPYP","M-T12","VK_DHDPYP","N/C","Disk HD Poly Brush","CAD","307600"]
["M-T16VK_ADLBTY_W360C20","M-T16","VK_ADLBTY_W360C20",3160,"Ext.Bty Wet 360 C20","CAD","308007"]
["M-T16AMRVK_ADLOPRMNL","M-T16AMR","VK_ADLOPRMNL",102,"Add Operator Manual","CAD","308001"]
["M-T16VK_ADLOPRMNL","M-T16","VK_ADLOPRMNL",100,"Add Operator Manual","CAD","308007"]
["M-T16VK_ALTSTBFLSLNS_B","M-T16","VK_ALTSTBFLSLNS_B","N/C","Alternate Lens-Blue","CAD","308007"]
["M-T16VK_ALTSTBFLSLNS_R","M-T16","VK_ALTSTBFLSLNS_R","N/C","Alternate Lens-Red","CAD","308007"]
["M-T16VK_BASE_T16-910-C","M-T16","VK_BASE_T16-910-C",47855,"T16 Rider - Cyl","CAD","308007"]
["M-T16VK_BASE_T16-910-C_STD","M-T16","VK_BASE_T16-910-C_STD",47855,"T16 Rider - Cyl Std Config","CAD","308007"]
["M-T16VK_BASE_T16-910-D","M-T16","VK_BASE_T16-910-D",47855,"T16 Rider - Disk","CAD","308007"]
["M-T16VK_BASE_T16-910-D_STD","M-T16","VK_BASE_T16-910-D_STD",47855,"T16 Rider - Disk Std Config","CAD","308007"]
["M-T16AMRVK_BASE_T16AMR-STD-LI","M-T16AMR","VK_BASE_T16AMR-STD-LI",154072,"T16AMR CYL STD LI-ION","CAD","308001"]
["M-T16AMRVK_BASE_T16AMR-STD-W360","M-T16AMR","VK_BASE_T16AMR-STD-W360",138847,"T16AMR CYL STD W360","CAD","308001"]
["M-T16VK_BLULGT","M-T16","VK_BLULGT",1366,"Blue Light","CAD","308007"]
["M-T16VK_BTY_A312C20","M-T16","VK_BTY_A312C20",6393,"Bty AGM 312AH C20","CAD","308007"]
["M-T16VK_BTY_L36V2M","M-T16","VK_BTY_L36V2M",10570,"Bty Li-Ion 36v, 4.1kWh","CAD","308007"]
["M-T16VK_BTY_L36V4M","M-T16","VK_BTY_L36V4M",20996,"Bty Li-Ion 36v, 8.2kWh","CAD","308007"]
["M-T16VK_BTY_L36V6M","M-T16","VK_BTY_L36V6M",29126,"Bty Li-Ion 36v, 12.2kWh","CAD","308007"]
["M-T16VK_BTY_W240C20","M-T16","VK_BTY_W240C20","N/C","Bty Wet 240AH C20","CAD","308007"]
["M-T16VK_BTY_W360C20","M-T16","VK_BTY_W360C20",1481,"Bty Wet 360AH C20","CAD","308007"]
["M-T16VK_BTY_WO","M-T16","VK_BTY_WO",-693,"Without Battery","CAD","308007"]
["M-T16VK_BTYCRT","M-T16","VK_BTYCRT",3375,"Battery Cart","CAD","308007"]
["M-T16VK_BTYEXCSYS_RO","M-T16","VK_BTYEXCSYS_RO",4737,"Bty Rollout Sys.","CAD","308007"]
["M-T16VK_BTYWTRSYS","M-T16","VK_BTYWTRSYS",1022,"Battery Watering Sys","CAD","308007"]
["M-T16VK_CHG_20A115V5060H1_LI","M-T16","VK_CHG_20A115V5060H1_LI","N/C","Ch20A 115V 50/60Hz 1Ph On","CAD","308007"]
["M-T16VK_CHG_20A85V5060H1P","M-T16","VK_CHG_20A85V5060H1P",1130,"Ch20A 85V 5060H1P","CAD","308007"]
["M-T16AMRVK_CHG_21A85V5060H1P","M-T16AMR","VK_CHG_21A85V5060H1P","N/C","Ch21A 85V 5060H1P","CAD","308001"]
["M-T16VK_CHG_21A85V5060H1P","M-T16","VK_CHG_21A85V5060H1P","N/C","Ch21A 85V 5060H1P","CAD","308007"]
["M-T16VK_CHG_21A85V5060H1P_AGM","M-T16","VK_CHG_21A85V5060H1P_AGM",1026,"Ch21A 85V 5060H1P","CAD","308007"]
["M-T16VK_CHG_21A85V5060H1P_RO","M-T16","VK_CHG_21A85V5060H1P_RO","N/C","Ch21A 85V 5060H1P","CAD","308007"]
["M-T16VK_CHG_25A100V5060H1LIOF","M-T16","VK_CHG_25A100V5060H1LIOF",974,"Ch25A 100V 50/60Hz 1Ph Off","CAD","308007"]
["M-T16AMRVK_CHG_33A100V5060H1P","M-T16AMR","VK_CHG_33A100V5060H1P",-350,"Ch33A 100V 5060H1P","CAD","308001"]
["M-T16VK_CHG_33A100V5060H1PLIF","M-T16","VK_CHG_33A100V5060H1PLIF",1186,"Ch33A 100V 50/60Hz 1Ph Off","CAD","308007"]
["M-T16AMRVK_CHG_90A200V5060H1P","M-T16AMR","VK_CHG_90A200V5060H1P","N/C","90A 200-240V AC 50/60Hz 1Ph","CAD","308001"]
["M-T16VK_CHG_OVH_GRD","M-T16","VK_CHG_OVH_GRD",2771,"Overhead Guard","CAD","308007"]
["M-T16VK_CHG_WO","M-T16","VK_CHG_WO",-453,"Without Charger","CAD","308007"]
["M-T16AMRVK_CHG_WO_LI","M-T16AMR","VK_CHG_WO_LI",-1050,"Without Charger, Li-Ion","CAD","308001"]
["M-T16AMRVK_CHG_WO_NOLI","M-T16AMR","VK_CHG_WO_NOLI",-453,"Without Charger, FLA","CAD","308001"]
["M-T16VK_CLNTCH_ECH2O","M-T16","VK_CLNTCH_ECH2O",6146,"ec-H2O™","CAD","308007"]
["M-T16VK_CLNTCH_ES","M-T16","VK_CLNTCH_ES",6141,"ES® Extended Scrub","CAD","308007"]
["M-T16VK_CLNTOL_CPYP","M-T16","VK_CLNTOL_CPYP","N/C","Cyl Brush Poly","CAD","308007"]
["M-T16VK_CLNTOL_CSAB","M-T16","VK_CLNTOL_CSAB",267,"Cyl Brush Spr Abr.","CAD","308007"]
["M-T16VK_CLNTOL_DPYP","M-T16","VK_CLNTOL_DPYP","N/C","Disk Brush Poly","CAD","308007"]
["M-T16VK_CLNTOL_DSAB","M-T16","VK_CLNTOL_DSAB",267,"Disk Brush Spr Abr.","CAD","308007"]
["M-T16VK_CLNTOL_HDPYP","M-T16","VK_CLNTOL_HDPYP","N/C","HD Poly Brush","CAD","308007"]
["M-T16VK_CLNTOL_PAD","M-T16","VK_CLNTOL_PAD","N/C","Pad Driver","CAD","308007"]
["M-T16AMRVK_CLNTOL_PYP","M-T16AMR","VK_CLNTOL_PYP","N/C","Poly Brush","CAD","308001"]
["M-T16AMRVK_CLNTOL_SAB","M-T16AMR","VK_CLNTOL_SAB",577,"Sup Abr Brush","CAD","308001"]
["M-T16VK_CPYS","M-T16","VK_CPYS","N/C","Polyester Brush Cyl","CAD","308007"]
["M-T16AMRVK_CSMSBTDCL_FC","M-T16AMR","VK_CSMSBTDCL_FC",302,"Sunbelt-FloorCareDcl","CAD","308001"]
["M-T16VK_CSMSBTDCL_FC","M-T16","VK_CSMSBTDCL_FC",2849,"Sunbelt-FloorCareDcl","CAD","308007"]
["M-T16VK_CSMSBTDCL_GT","M-T16","VK_CSMSBTDCL_GT",2849,"Sunbelt-GenTool Dcl","CAD","308007"]
["M-T16VK_CSMSBTDCLECH","M-T16","VK_CSMSBTDCLECH",267,"Sunbelt-ecH2O Decal","CAD","308007"]
["M-T16VK_DATPKG_HO","M-T16","VK_DATPKG_HO",1919,"Hardware Only","CAD","308007"]
["M-T16VK_DTG_FSBD","M-T16","VK_DTG_FSBD","N/C","Solvent Degreaser","CAD","308007"]
["M-T16VK_DTG_SBD","M-T16","VK_DTG_SBD","N/C","Solvent Degreaser","CAD","308007"]
["M-T16VK_DTGMTG","M-T16","VK_DTGMTG",4332,"Detergent Metering","CAD","308007"]
["M-T16VK_DULVACFAN","M-T16","VK_DULVACFAN",1177,"Dual Vacuum Fans","CAD","308007"]
["M-T16VK_FREEXT","M-T16","VK_FREEXT",465,"Fire Extinguisher","CAD","308007"]
["M-T16VK_HLT","M-T16","VK_HLT",540,"Headlight","CAD","308007"]
[{"$f":"B1672&C1672","v":"M-T16VK_HVYDTYFRTBMP"},"M-T16","VK_HVYDTYFRTBMP",1280,"Hvy Dty Frnt Bumper","CAD","308007"]
["M-T16VK_HVYDTYFRTBMP_OVHGRD","M-T16","VK_HVYDTYFRTBMP_OVHGRD",1280,"Hvy Dty Frnt Bumper","CAD","308007"]
["M-T16VK_HVYDTYPRTPKG","M-T16","VK_HVYDTYPRTPKG",4160,"Hvy Duty Protect Pkg","CAD","308007"]
["M-T16VK_HVYDTYSQEPRT","M-T16","VK_HVYDTYSQEPRT",1001,"Hvy Dty Sque Protect","CAD","308007"]
["M-T16VK_MCHCOM","M-T16","VK_MCHCOM",1916,"IRIS Telemetry","CAD","308007"]
["M-T16VK_OPRVID","M-T16","VK_OPRVID","N/C","Operator Video","CAD","308007"]
["M-T16VK_OVHGRD","M-T16","VK_OVHGRD",2771,"Overhead Guard","CAD","308007"]
["M-T16VK_PADTYP_BLKH3","M-T16","VK_PADTYP_BLKH3",35,"Blk Strip (HiPRO) 3M","CAD","308007"]
["M-T16VK_PADTYP_BLU3","M-T16","VK_PADTYP_BLU3",31,"Blu Scrub - 3M","CAD","308007"]
["M-T16VK_PADTYP_BWN3","M-T16","VK_PADTYP_BWN3",31,"Br Stripping - 3M","CAD","308007"]
["M-T16VK_PADTYP_RED3","M-T16","VK_PADTYP_RED3",31,"Red Clean 3M","CAD","308007"]
["M-T16VK_PADTYP_WHT3","M-T16","VK_PADTYP_WHT3",31,"Wh Polish 3M","CAD","308007"]
["M-T16AMRVK_PARMNL","M-T16AMR","VK_PARMNL","N/C","Parts Manual","CAD","308001"]
["M-T16AMRVK_PKG_CRT","M-T16AMR","VK_PKG_CRT",1869,"Crate","CAD","308001"]
["M-T16VK_PKG_CRT","M-T16","VK_PKG_CRT","N/C","Crate","CAD","308007"]
["M-T16AMRVK_PKG_SKD","M-T16AMR","VK_PKG_SKD","N/C","Skid","CAD","308001"]
["M-T16VK_PKG_SKD","M-T16","VK_PKG_SKD","N/C","Skid","CAD","308007"]
["M-T16VK_PRDPKG","M-T16","VK_PRDPKG",7309,"Productivity Package","CAD","308007"]
["M-T16VK_PRESWPSYS","M-T16","VK_PRESWPSYS",8514,"Presweep System","CAD","308007"]
["M-T16VK_PWRVACWND_VACWND","M-T16","VK_PWRVACWND_VACWND",1185,"Vacuum Wand","CAD","308007"]
["M-T16VK_SDEBRSTYP_SCB","M-T16","VK_SDEBRSTYP_SCB",5983,"Side Brush Scrubber","CAD","308007"]
["M-T16VK_SDEBRSTYP_SWP","M-T16","VK_SDEBRSTYP_SWP",4251,"Side Brush Sweeper","CAD","308007"]
["M-T16VK_SDECLNTOL_HDPYP","M-T16","VK_SDECLNTOL_HDPYP","N/C","Side HD Poly Brush","CAD","308007"]
["M-T16VK_SDECLNTOL_NYL","M-T16","VK_SDECLNTOL_NYL","N/C","Side Nylon Brush","CAD","308007"]
["M-T16VK_SDECLNTOL_PAD","M-T16","VK_SDECLNTOL_PAD","N/C","Side Pad Driver","CAD","308007"]
["M-T16VK_SDECLNTOL_SAB","M-T16","VK_SDECLNTOL_SAB",267,"Side Sup Abr Brush","CAD","308007"]
["M-T16VK_SDECLNTOL_SCBPYP","M-T16","VK_SDECLNTOL_SCBPYP","N/C","Side Cln Polypr Scrb","CAD","308007"]
["M-T16VK_SDEPADTYP_BLU3","M-T16","VK_SDEPADTYP_BLU3",22,"Side Blu Scrub 3M","CAD","308007"]
["M-T16VK_SDEPADTYP_BWN3","M-T16","VK_SDEPADTYP_BWN3",22,"Side Br Strip 3M","CAD","308007"]
["M-T16VK_SDEPADTYP_RED3","M-T16","VK_SDEPADTYP_RED3",22,"Side Red Clean 3M","CAD","308007"]
["M-T16VK_SDEPADTYP_WHT3","M-T16","VK_SDEPADTYP_WHT3",22,"Side Wh Polish 3M","CAD","308007"]
["M-T16VK_SET_DLXW","M-T16","VK_SET_DLXW",778,"Deluxe Seat w/Armr.","CAD","308007"]
["M-T16VK_SFYLGTPKG","M-T16","VK_SFYLGTPKG",1189,"Safety Light Package","CAD","308007"]
["M-T16VK_SLNRECTNKDRN","M-T16","VK_SLNRECTNKDRN",2459,"Sol/Rec Tank Drain","CAD","308007"]
["M-T16VK_SPYNOZWTHHSE","M-T16","VK_SPYNOZWTHHSE",1688,"Spray Nozzel w/Hose","CAD","308007"]
["M-T16VK_SQEMAT_G","M-T16","VK_SQEMAT_G","N/C","Squeegee Gum Rubber","CAD","308007"]
["M-T16VK_SQEMAT_L","M-T16","VK_SQEMAT_L","N/C","Squeegee Linatex","CAD","308007"]
["M-T16VK_SQEMAT_U","M-T16","VK_SQEMAT_U","N/C","Squeegee Urethane","CAD","308007"]
["M-T16VK_SQEMAT_U_RER","M-T16","VK_SQEMAT_U_RER","N/C","Squegee Urethane R","CAD","308007"]
["M-T16AMRVK_SRVMNL","M-T16AMR","VK_SRVMNL",342,"Service Manual","CAD","308001"]
["M-T16VK_SRVMNL","M-T16","VK_SRVMNL",333,"Service Manual","CAD","308007"]
["M-T16VK_STLCSE","M-T16","VK_STLCSE",808,"Steel Case","CAD","308007"]
["M-T16VK_SVEEVMSWH_N","M-T16","VK_SVEEVMSWH_N",-598,"No SE Switch Caplty","CAD","308007"]
["M-T16VK_TRLTRTKIT","M-T16","VK_TRLTRTKIT",263,"Transport Kit","CAD","308007"]
["M-T16VK_ULERTG_E","M-T16","VK_ULERTG_E","N/C","UL® Type E","CAD","308007"]
["M-T16VK_ULERTG_ES","M-T16","VK_ULERTG_ES",3920,"UL® Type ES","CAD","308007"]
["M-T16VK_WRNLGTANDALM_AVST","M-T16","VK_WRNLGTANDALM_AVST",915,"AV BU AlrmStrobe Tnk","CAD","308007"]
["M-T16VK_WRNLGTANDALM_SO","M-T16","VK_WRNLGTANDALM_SO",915,"Strobe Light OHG","CAD","308007"]
["M-T20VK_CLNTCH_ES","M-T20","VK_CLNTCH_ES",6775,"ES® Extended Scrub","CAD","308205"]
["M-T20VK_SQEMAT_U","M-T20","VK_SQEMAT_U",1137,"Squeegee Urethane","CAD","308205"]
["M-T20VK_TRLTRTKIT","M-T20","VK_TRLTRTKIT",261,"Transport Kit","CAD","308205"]
["M-T20VK_ULERTG_LPS","M-T20","VK_ULERTG_LPS",6987,"UL® Type LPS","CAD","308205"]
["M-T20VK_SDECLNTOL_SCBPYP","M-T20","VK_SDECLNTOL_SCBPYP","N/C","Side Cln Polypr Scrb","CAD","308205"]
["M-T20VK_PKG_SKD","M-T20","VK_PKG_SKD","N/C","Skid","CAD","308205"]
["M-T20VK_SDECLNTOL_SCBSAB","M-T20","VK_SDECLNTOL_SCBSAB",267,"Side Cln Spr AbrBrsh","CAD","308205"]
["M-T20VK_UPG","M-T20","VK_UPG","N/C","UPG","CAD","308205"]
["M-T20VK_DTGMTG","M-T20","VK_DTGMTG",4332,"Detergent Metering","CAD","308205"]
["M-T20VK_SRVMNL","M-T20","VK_SRVMNL",333,"Service Manual","CAD","308205"]
["M-T20VK_SPYNOZWTHHSE","M-T20","VK_SPYNOZWTHHSE",1699,"Spray Nozzel w/Hose","CAD","308205"]
["M-T20VK_WPFMNLPCH","M-T20","VK_WPFMNLPCH",254,"Weatherproof Manual Pouch","CAD","308205"]
["M-T20VK_FRTSDETIETOWKIT","M-T20","VK_FRTSDETIETOWKIT",2225,"Front / Side Tiedown Tow Kit","CAD","308205"]
["M-T20VK_CSMFRTCVRLTHKIT","M-T20","VK_CSMFRTCVRLTHKIT",870,"Front Cover Latch Kit","CAD","308205"]
["M-T20VK_BLULGT","M-T20","VK_BLULGT",1509,"Blue Light","CAD","308205"]
["M-T20VK_MCHCOM_SBT","M-T20","VK_MCHCOM_SBT",1916,"IRIS Telemetry","CAD","308205"]
[{"$f":"B1736&C1736","v":"M-T20VK_T20-C-G"},"M-T20","VK_T20-C-G",92254,"T20 Gas Cyl Scrbbr","CAD","308205"]
["M-T20VK_PKG_PAD","M-T20","VK_PKG_PAD","N/C","Pad Wrap","CAD","308205"]
["M-T20VK_T20-D-G","M-T20","VK_T20-D-G",92254,"T20 Gas Disk Scrbbr","CAD","308205"]
["M-T20VK_T20-C-DSL","M-T20","VK_T20-C-DSL",98771,"T20 Dsll Cyl Scrbbr","CAD","308205"]
["M-T20VK_CSMSLN_FLLS","M-T20","VK_CSMSLN_FLLS",2768,"Frame Lift Lugs Side","CAD","308205"]
["M-T20VK_BASE_T20-C-DSL_STD","M-T20","VK_BASE_T20-C-DSL_STD",98771,"T20 Diesel Cyl Std Config","CAD","308205"]
["M-T20VK_BASE_T20-C-GAS_STD","M-T20","VK_BASE_T20-C-GAS_STD",92254,"T20 Gas Cyl Std Config","CAD","308205"]
["M-T20VK_BASE_T20-C-LPG_STD","M-T20","VK_BASE_T20-C-LPG_STD",92254,"T20 LP Cyl Std Config","CAD","308205"]
["M-T20VK_BASE_T20-D-DSL_STD","M-T20","VK_BASE_T20-D-DSL_STD",98771,"T20 Diesel Disk Std Config","CAD","308205"]
["M-T20VK_BASE_T20-D-GAS_STD","M-T20","VK_BASE_T20-D-GAS_STD",92254,"T20 Gas Disk Std Config","CAD","308205"]
["M-T20VK_BASE_T20-D-LPG_STD","M-T20","VK_BASE_T20-D-LPG_STD",92254,"T20 LP Disk Std Config","CAD","308205"]
["M-T20VK_ALTSTBFLSLNS_R","M-T20","VK_ALTSTBFLSLNS_R",42,"Alternate Lens-Red","CAD","308205"]
["M-T20VK_ALTSTBFLSLNS_B","M-T20","VK_ALTSTBFLSLNS_B",42,"Alternate Lens-Blue","CAD","308205"]
["M-T20VK_T20-C-LP","M-T20","VK_T20-C-LP",92254,"T20 LP Cyl Scrbbr","CAD","308205"]
["M-T20VK_DATPKG_HO","M-T20","VK_DATPKG_HO",1940,"Hardware Only","CAD","308205"]
["M-T20VK_T20-D-LP","M-T20","VK_T20-D-LP",92254,"T20 LP Disk Scrbbr","CAD","308205"]
["M-T20VK_PKG_CRT_NC","M-T20","VK_PKG_CRT_NC","N/C","Crate","CAD","308205"]
["M-T20VK_CSMSLN_CC","M-T20","VK_CSMSLN_CC","N/C","Custom Color","CAD","308205"]
["M-T20VK_MCHCOM_Y_D_US","M-T20","VK_MCHCOM_Y_D_US","N/C","Machine Comm","CAD","308205"]
["M-T20VK_PWRVACWND_WO_NOZ","M-T20","VK_PWRVACWND_WO_NOZ",1699,"PowerWand w/o Nozzle","CAD","308205"]
["M-T20VK_MCHCOM_Y_US","M-T20","VK_MCHCOM_Y_US","N/C","Machine Comm","CAD","308205"]
["M-T20VK_T20-D-DSL","M-T20","VK_T20-D-DSL",98771,"T20 Dsl Disk Scrbbr","CAD","308205"]
["M-T20VK_SQEMAT_L","M-T20","VK_SQEMAT_L","N/C","Squeegee Linatex","CAD","308205"]
["M-T20VK_ADLOPRMNL","M-T20","VK_ADLOPRMNL",100,"Add Operator Manual","CAD","308205"]
["M-T20VK_SDECLNTOL_SWPPYP","M-T20","VK_SDECLNTOL_SWPPYP","N/C","Side Poly Sweep Brh","CAD","308205"]
["M-T20VK_SDEBRSTYP_D","M-T20","VK_SDEBRSTYP_D",7219,"Side Brush Disk","CAD","308205"]
["M-T20VK_CSMSBTDCL_FC","M-T20","VK_CSMSBTDCL_FC",324,"Sunbelt-FloorCareDcl","CAD","308205"]
["M-T20VK_CSMSBTRERSQE","M-T20","VK_CSMSBTRERSQE",738,"Sunbelt - Sqe Guard","CAD","308205"]
["M-T20VK_CLNTOL_DSAB","M-T20","VK_CLNTOL_DSAB",267,"Disk Brush Spr Abr.","CAD","308205"]
["M-T20VK_CLNTOL_DPYP","M-T20","VK_CLNTOL_DPYP","N/C","Disk Brush Poly","CAD","308205"]
["M-T20VK_CLNTOL_CSASB","M-T20","VK_CLNTOL_CSASB",267,"Cyl Super Abrasive, Stiff Bristle","CAD","308205"]
["M-T20VK_CLNTOL_SASB","M-T20","VK_CLNTOL_SASB",267,"Super Abrasive, Stiff Bristle","CAD","308205"]
["M-T20VK_SBTPARKIT","M-T20","VK_SBTPARKIT",3643,"Sunbelt Parts Kit","CAD","308205"]
["M-T20VK_PRDPKG","M-T20","VK_PRDPKG",8373,"Productivity Package","CAD","308205"]
["M-T20VK_CLNTOL_DPADPYP","M-T20","VK_CLNTOL_DPADPYP","N/C","Disk Poly Pad Driver","CAD","308205"]
["M-T20VK_CLNTOL_DPAD","M-T20","VK_CLNTOL_DPAD","N/C","Disk Pad Driver","CAD","308205"]
["M-T20VK_CLNTOL_CSABW","M-T20","VK_CLNTOL_CSABW",267,"Abr. Brush Cyl","CAD","308205"]
["M-T20VK_CLNTOL_CSAB","M-T20","VK_CLNTOL_CSAB",267,"Cyl Brush Spr Abr.","CAD","308205"]
["M-T20VK_CLNTOL_CPYP","M-T20","VK_CLNTOL_CPYP","N/C","Cyl Brush Poly","CAD","308205"]
["M-T20VK_CLNTOL_CHDPYP","M-T20","VK_CLNTOL_CHDPYP","N/C","Cyl. HD Poly Brush","CAD","308205"]
["M-T20VK_WRNLGTANDALM_ST","M-T20","VK_WRNLGTANDALM_ST",667,"Strobe Light Tank","CAD","308205"]
["M-T20VK_WRNLGTANDALM_SO","M-T20","VK_WRNLGTANDALM_SO",667,"Strobe Light OHG","CAD","308205"]
["M-T20VK_WRNLGTANDALM_FT","M-T20","VK_WRNLGTANDALM_FT",667,"Flashing Light Tank","CAD","308205"]
["M-T20VK_WRNLGTANDALM_FO","M-T20","VK_WRNLGTANDALM_FO",667,"Flashing Light OHG","CAD","308205"]
["M-T20VK_WRNLGTANDALM_AVST","M-T20","VK_WRNLGTANDALM_AVST",977,"AV BU AlrmStrobe Tnk","CAD","308205"]
["M-T20VK_WRNLGTANDALM_AVSO","M-T20","VK_WRNLGTANDALM_AVSO",977,"AV BU AlrmStrobe OHG","CAD","308205"]
["M-T20VK_WRNLGTANDALM_AVFT","M-T20","VK_WRNLGTANDALM_AVFT",977,"AV BU AlarmFlash Tnk","CAD","308205"]
["M-T20VK_WRNLGTANDALM_AVFO","M-T20","VK_WRNLGTANDALM_AVFO",977,"AV BU AlarmFlash OHG","CAD","308205"]
["M-T20VK_WRNLGTANDALM_AU","M-T20","VK_WRNLGTANDALM_AU",457,"Audio BU Alarm","CAD","308205"]
["M-T20VK_CSMSLN_FSTTK","M-T20","VK_CSMSLN_FSTTK",2225,"Front/Side Tie Down","CAD","308205"]
["M-T20VK_DTG_SBD","M-T20","VK_DTG_SBD","N/C","Solvent Degreaser","CAD","308205"]
["M-T20VK_MCHCOM","M-T20","VK_MCHCOM",1916,"IRIS Telemetry","CAD","308205"]
["M-T20VK_CSMSBTDCL_GT","M-T20","VK_CSMSBTDCL_GT",346,"Sunbelt-GenTool Dcl","CAD","308205"]
["M-T20VK_HGHPRSSPY","M-T20","VK_HGHPRSSPY",6544,"High Pressure Spray","CAD","308205"]
["M-T20VK_HVYDTYPRTPKG","M-T20","VK_HVYDTYPRTPKG",2956,"Hvy Duty Protect Pkg","CAD","308205"]
["M-T20VK_TRM_MPAN","M-T20","VK_TRM_MPAN","N/C","Membrane Ctrl Panel","CAD","308205"]
["M-T20VK_TRM_PPAN","M-T20","VK_TRM_PPAN",3996,"ProPanel Ctrls","CAD","308205"]
["M-T20VK_CSMSLN_WPMP","M-T20","VK_CSMSLN_WPMP",254,"Weatherproof pouch","CAD","308205"]
["M-T20VK_CSMSLN_FCLK","M-T20","VK_CSMSLN_FCLK",870,"Front Cover Latch","CAD","308205"]
["M-T20VK_SPYNOZWTHHSE_ES","M-T20","VK_SPYNOZWTHHSE_ES",8549,"Spray Nozzle Hose ES","CAD","308205"]
["M-T20VK_PWRVACWND_PWRWND_ES","M-T20","VK_PWRVACWND_PWRWND_ES",9418,"PwrWnd PrpKit ES","CAD","308205"]
["M-T20VK_PWRVACWND_PWND_ES_NOZ","M-T20","VK_PWRVACWND_PWND_ES_NOZ",11095,"PwrWnd PrpKit ES Noz","CAD","308205"]
["M-T20VK_PWRVACWND_PWRWND","M-T20","VK_PWRVACWND_PWRWND",2571,"Power Wand","CAD","308205"]
["M-T20VK_PWRVACWND_PWRWND_NOZ","M-T20","VK_PWRVACWND_PWRWND_NOZ",4267,"PowerWand w/Nozzle","CAD","308205"]
[{"$f":"B1800&C1800","v":"M-T20VK_PWRVACWND_VACWND"},"M-T20","VK_PWRVACWND_VACWND",1332,"Vacuum Wand","CAD","308205"]
["M-T20VK_RERTRE_HT","M-T20","VK_RERTRE_HT",1180,"Trs Rear High Track","CAD","308205"]
["M-T20VK_SDEBRSTYP_C","M-T20","VK_SDEBRSTYP_C",7219,"Side Brush Cyl","CAD","308205"]
["M-T20VK_CLNTCH_ECH2O","M-T20","VK_CLNTCH_ECH2O",7272,"ec-H2O™","CAD","308205"]
["M-T20VK_BASE_T20-C-DSL","M-T20","VK_BASE_T20-C-DSL",98771,"T20 Dsll Cyl Scrbbr","CAD","308205"]
["M-T20VK_BASE_T20-C-GAS","M-T20","VK_BASE_T20-C-GAS",92254,"T20 Gas Cyl Scrbbr","CAD","308205"]
["M-T20VK_BASE_T20-C-LPG","M-T20","VK_BASE_T20-C-LPG",92254,"T20 LP Cyl Scrbbr","CAD","308205"]
["M-T20VK_BASE_T20-D-DSL","M-T20","VK_BASE_T20-D-DSL",98771,"T20 Dsl Disk Scrbbr","CAD","308205"]
["M-T20VK_BASE_T20-D-GAS","M-T20","VK_BASE_T20-D-GAS",92254,"T20 Gas Disk Scrbbr","CAD","308205"]
["M-T20VK_BASE_T20-D-LPG","M-T20","VK_BASE_T20-D-LPG",92254,"T20 LP Disk Scrbbr","CAD","308205"]
["M-T20VK_FREEXT","M-T20","VK_FREEXT",208,"Fire Extinguisher","CAD","308205"]
["M-T20VK_FRTTRE_HT","M-T20","VK_FRTTRE_HT","N/C","Trs Frnt HighTrack","CAD","308205"]
["M-T20VK_OPRVID","M-T20","VK_OPRVID","N/C","Operator Video","CAD","308205"]
["M-T20VK_OVHGRD","M-T20","VK_OVHGRD",2377,"Overhead Guard","CAD","308205"]
["M-T20VK_PKG_CRT","M-T20","VK_PKG_CRT","N/C","Crate","CAD","308205"]
["M-T20VK_HVYDTYRERBMP","M-T20","VK_HVYDTYRERBMP",1248,"Hvy Dty RearBmpr","CAD","308205"]
["M-T20VK_HVYDTYSQEPRT","M-T20","VK_HVYDTYSQEPRT",1248,"Hvy Dty Sque Protect","CAD","308205"]
["M-T20VK_LPGTNK_E","M-T20","VK_LPGTNK_E","N/C","LPG Tank Empty","CAD","308205"]
["M-T20VK_LPGTNK_F","M-T20","VK_LPGTNK_F","N/C","LPG Tank Full","CAD","308205"]
["M-T17VK_BTY_W750C6","M-T17","VK_BTY_W750C6",9496,"Bty Wet 750AH C6","CAD","308400"]
["M-T17VK_HLT","M-T17","VK_HLT",548,"Headlight","CAD","308400"]
["M-T17VK_SET_DLXW","M-T17","VK_SET_DLXW",786,"Deluxe Seat w/Armr.","CAD","308400"]
["M-T17VK_SQEMAT_G","M-T17","VK_SQEMAT_G","N/C","Squeegee Gum Rubber","CAD","308400"]
["M-T17VK_CHG_120A480V5060H3PLI","M-T17","VK_CHG_120A480V5060H3PLI",5391,"Ch120A 480V 50/60Hz 3Ph","CAD","308400"]
["M-T17VK_BTY_L36V9M","M-T17","VK_BTY_L36V9M",43297,"Bty Li-Ion 36V, 18.4kWh","CAD","308400"]
["M-T17VK_ULERTG_ES","M-T17","VK_ULERTG_ES",5339,"UL® Type ES","CAD","308400"]
["M-T17VK_BASE_T17-D_STD","M-T17","VK_BASE_T17-D_STD",64746,"T17-D Std Config","CAD","308400"]
["M-T17VK_WTY_STD","M-T17","VK_WTY_STD","N/C","Warranty STD","CAD","308400"]
["M-T17VK_ADLBTY_T930C6","M-T17","VK_ADLBTY_T930C6",17742,"Ext.Bty Tub 930 C6","CAD","308400"]
["M-T17VK_SQEMAT_U","M-T17","VK_SQEMAT_U","N/C","Squeegee Urethane","CAD","308400"]
["M-T17VK_CLNTCH_ES","M-T17","VK_CLNTCH_ES",5692,"ES® Extended Scrub","CAD","308400"]
["M-T17VK_TRLTRTKIT","M-T17","VK_TRLTRTKIT",263,"Transport Kit","CAD","308400"]
["M-T17VK_SDECLNTOL_SAB","M-T17","VK_SDECLNTOL_SAB",267,"Side Sup Abr Brush","CAD","308400"]
["M-T17VK_CHG_80A200V5060H3P","M-T17","VK_CHG_80A200V5060H3P",5399,"Ch80A 200V 5060H3P","CAD","308400"]
["M-T17VK_AUTFIL","M-T17","VK_AUTFIL",801,"Auto Fill","CAD","308400"]
["M-T17VK_SDECLNTOL_PAD","M-T17","VK_SDECLNTOL_PAD","N/C","Side Pad Driver","CAD","308400"]
["M-T17VK_BASE_T17-C_STD","M-T17","VK_BASE_T17-C_STD",65930,"T17-C Std Config","CAD","308400"]
["M-T17VK_ALTSTBFLSLNS_B","M-T17","VK_ALTSTBFLSLNS_B","N/C","Alternate Lens-Blue","CAD","308400"]
["M-T17VK_WRNLGTANDALM_AVST","M-T17","VK_WRNLGTANDALM_AVST",915,"AV BU AlrmStrobe Tnk","CAD","308400"]
["M-T17VK_BTYWTRSYS","M-T17","VK_BTYWTRSYS",1011,"Battery Watering Sys","CAD","308400"]
["M-T17VK_BTY_WO","M-T17","VK_BTY_WO","N/C","Without Battery","CAD","308400"]
["M-T17VK_ADLBTY_W510C6_WTR","M-T17","VK_ADLBTY_W510C6_WTR",10499,"Ext.Bty Wet 510 C6 W","CAD","308400"]
["M-T17VK_SRVMNL","M-T17","VK_SRVMNL",333,"Service Manual","CAD","308400"]
["M-T17VK_CHG_80A200V5060H1P_LI","M-T17","VK_CHG_80A200V5060H1P_LI",3483,"Ch80A 200V 50/60Hz 1Ph","CAD","308400"]
["M-T17VK_CHG_80A200V5060H3P_LI","M-T17","VK_CHG_80A200V5060H3P_LI",5887,"Ch80A 200V 50/60Hz 3Ph","CAD","308400"]
["M-T17VK_SPYNOZWTHHSE","M-T17","VK_SPYNOZWTHHSE",1706,"Spray Nozzel w/Hose","CAD","308400"]
["M-T17VK_ADLOPRMNL","M-T17","VK_ADLOPRMNL",253,"Add Operator Manual","CAD","308400"]
["M-T17VK_BLULGT","M-T17","VK_BLULGT",1509,"Blue Light","CAD","308400"]
["M-T17VK_SDECLNTOL_NYL","M-T17","VK_SDECLNTOL_NYL","N/C","Side Nylon Brush","CAD","308400"]
["M-T17VK_PWRVACWND_VACWND","M-T17","VK_PWRVACWND_VACWND",896,"Vacuum Wand","CAD","308400"]
["M-T17VK_CSMDRTWTRLBL","M-T17","VK_CSMDRTWTRLBL",53,"Dirty Water Label","CAD","308400"]
["M-T17VK_BTY_L36V19M","M-T17","VK_BTY_L36V19M",91187,"Bty Li-Ion 36v, 38.8kWh","CAD","308400"]
["M-T17VK_PKG_CRT_NC","M-T17","VK_PKG_CRT_NC","N/C","Crate","CAD","308400"]
["M-T17VK_DATPKG_HO","M-T17","VK_DATPKG_HO",1847,"Hardware Only","CAD","308400"]
["M-T17VK_SDEBRSTYP_SCB_RH","M-T17","VK_SDEBRSTYP_SCB_RH",5983,"Side Brush: RH","CAD","308400"]
["M-T17VK_PKG_PAD","M-T17","VK_PKG_PAD","N/C","Pad Wrap","CAD","308400"]
["M-T17VK_PKG_SKD_NC","M-T17","VK_PKG_SKD_NC","N/C","Skid","CAD","308400"]
["M-T17VK_TRMLVL_PPAN","M-T17","VK_TRMLVL_PPAN",4034,"ProPanel Ctrls","CAD","308400"]
["M-T17VK_BTYCOTAST","M-T17","VK_BTYCOTAST",504,"Bty Connection Assist","CAD","308400"]
["M-T17VK_FUECEL","M-T17","VK_FUECEL",2732,"Fuel Cell","CAD","308400"]
["M-T17VK_HGHPRSSPY","M-T17","VK_HGHPRSSPY",8831,"High Pressure Spray","CAD","308400"]
["M-T17VK_PWRVACWND_LW","M-T17","VK_PWRVACWND_LW",6099,"Live Wand","CAD","308400"]
["M-T17VK_CLNTOL_DPYP","M-T17","VK_CLNTOL_DPYP","N/C","Disk Brush Poly","CAD","308400"]
["M-T17VK_CLNTOL_DNYL","M-T17","VK_CLNTOL_DNYL","N/C","Disk Brush Nylon","CAD","308400"]
[{"$f":"B1864&C1864","v":"M-T17VK_CLNTOL_CPYP"},"M-T17","VK_CLNTOL_CPYP","N/C","Cyl Brush Poly","CAD","308400"]
["M-T17VK_CLNTOL_CNYL","M-T17","VK_CLNTOL_CNYL","N/C","Cyl Brush Nylon","CAD","308400"]
["M-T17VK_DTGMTG","M-T17","VK_DTGMTG",4332,"Detergent Metering","CAD","308400"]
["M-T17VK_BTYWTRSYS_NC","M-T17","VK_BTYWTRSYS_NC","N/C","Battery Watering NC","CAD","308400"]
["M-T17VK_CLNTOL_DSAB","M-T17","VK_CLNTOL_DSAB",267,"Disk Brush Spr Abr.","CAD","308400"]
["M-T17VK_CLNTOL_CSAB","M-T17","VK_CLNTOL_CSAB",267,"Cyl Brush Spr Abr.","CAD","308400"]
["M-T17VK_DTG_SBD","M-T17","VK_DTG_SBD","N/C","Solvent Degreaser","CAD","308400"]
["M-T17VK_PRDPKG","M-T17","VK_PRDPKG",7055,"Productivity Package","CAD","308400"]
["M-T17VK_FREEXT","M-T17","VK_FREEXT",465,"Fire Extinguisher","CAD","308400"]
["M-T17VK_CHG_80A200V5060H1P","M-T17","VK_CHG_80A200V5060H1P",4349,"Ch80A 200V 5060H1P","CAD","308400"]
["M-T17VK_BASE_T17-D","M-T17","VK_BASE_T17-D",64746,"T17 Scrubber Disk","CAD","308400"]
["M-T17VK_RECTNKDRN_DCV","M-T17","VK_RECTNKDRN_DCV",1077,"Drain Control Valve","CAD","308400"]
["M-T17VK_PRESWPSYS","M-T17","VK_PRESWPSYS",9023,"Presweep System","CAD","308400"]
["M-T17VK_OPRVID","M-T17","VK_OPRVID","N/C","Operator Video","CAD","308400"]
["M-T17VK_CHG_100A200V5060H3","M-T17","VK_CHG_100A200V5060H3",5202,"Ch100A 200V 5060H3P","CAD","308400"]
["M-T17VK_SDEBRSTYP_SWP_D","M-T17","VK_SDEBRSTYP_SWP_D",6781,"Side Brush Sweep D","CAD","308400"]
["M-T17VK_SVEEVMSWH_N","M-T17","VK_SVEEVMSWH_N",-598,"No SE Switch Caplty","CAD","308400"]
["M-T17VK_MCHCOM","M-T17","VK_MCHCOM",1916,"IRIS Telemetry","CAD","308400"]
["M-T17VK_BTY_T930C6_OCC","M-T17","VK_BTY_T930C6_OCC",15778,"Bty Tub 930AH C6 OCC","CAD","308400"]
["M-T17VK_CHG_160A600V5060H3P","M-T17","VK_CHG_160A600V5060H3P",9256,"Ch160A 600V 5060H3P","CAD","308400"]
["M-T17VK_SDECLNTOL_PYP_SWP","M-T17","VK_SDECLNTOL_PYP_SWP","N/C","Side Poly Sweeper","CAD","308400"]
["M-T17VK_CLNTOL_PAD","M-T17","VK_CLNTOL_PAD","N/C","Pad Driver","CAD","308400"]
["M-T17VK_WRNLGTANDALM_SO","M-T17","VK_WRNLGTANDALM_SO",642,"Strobe Light OHG","CAD","308400"]
["M-T17VK_RERTRE_HTNM","M-T17","VK_RERTRE_HTNM",480,"Trs Rear HighTractNonMk","CAD","308400"]
["M-T17VK_PWRSTR","M-T17","VK_PWRSTR",4971,"Power Steering","CAD","308400"]
["M-T17VK_RMPCLB","M-T17","VK_RMPCLB",2867,"Ramp Climb Kit","CAD","308400"]
["M-T17VK_HVYDTYSQEPRT","M-T17","VK_HVYDTYSQEPRT",1011,"Hvy Dty Sque Protect","CAD","308400"]
["M-T17VK_SVEEVMSWH","M-T17","VK_SVEEVMSWH","N/C","SE Switch Capability","CAD","308400"]
["M-T17VK_RECTNKDRN_TEL","M-T17","VK_RECTNKDRN_TEL","N/C","Telescopic","CAD","308400"]
["M-T17VK_SDEBRSTYP_SWP_RH","M-T17","VK_SDEBRSTYP_SWP_RH",3628,"Side Brush Sweep RH","CAD","308400"]
["M-T17VK_SFYLGTPKG","M-T17","VK_SFYLGTPKG",1196,"Safety Light Package","CAD","308400"]
["M-T17VK_ADLBTY_W750C6_WTR","M-T17","VK_ADLBTY_W750C6_WTR",13020,"Ext.Bty Wet 750 C6 W","CAD","308400"]
["M-T17VK_SQEMAT_L","M-T17","VK_SQEMAT_L","N/C","Squeegee Linatex","CAD","308400"]
["M-T17VK_PKG_SKD","M-T17","VK_PKG_SKD","N/C","Skid","CAD","308400"]
["M-T17VK_PKG_CRT","M-T17","VK_PKG_CRT",1517,"Crate","CAD","308400"]
["M-T17VK_ALTSTBFLSLNS_R","M-T17","VK_ALTSTBFLSLNS_R","N/C","Alternate Lens-Red","CAD","308400"]
["M-T17VK_ADLBTY_W510C6","M-T17","VK_ADLBTY_W510C6",10087,"Ext.Bty Wet 510 C6","CAD","308400"]
["M-T17VK_UPG","M-T17","VK_UPG","N/C","UPG","CAD","308400"]
["M-T17VK_SDECLNTOL_PYP_SCB","M-T17","VK_SDECLNTOL_PYP_SCB","N/C","Side Poly Scrubber","CAD","308400"]
["M-T17VK_OVHGRD","M-T17","VK_OVHGRD",2908,"Overhead Guard","CAD","308400"]
["M-T17VK_SDEBRSTYP_SCB","M-T17","VK_SDEBRSTYP_SCB",5983,"Side Brush Scrubber","CAD","308400"]
["M-T17VK_ADLBTY_T930C6_WTR","M-T17","VK_ADLBTY_T930C6_WTR",18533,"Ext.Bty Tub 930 C6 W","CAD","308400"]
["M-T17VK_BTYEXCSYS_SO","M-T17","VK_BTYEXCSYS_SO",1595,"Bty Slide Out System","CAD","308400"]
["M-T17VK_BTY_T930C6","M-T17","VK_BTY_T930C6",14396,"Bty Tub 930AH C6","CAD","308400"]
["M-T17VK_BTY_W510C6","M-T17","VK_BTY_W510C6",7892,"Bty Wet 510AH C6","CAD","308400"]
["M-T17VK_FRTTRE_HTNM","M-T17","VK_FRTTRE_HTNM",1011,"Trs Frnt HighTrack","CAD","308400"]
["M-T17VK_ULERTG_E","M-T17","VK_ULERTG_E","N/C","UL® Type E","CAD","308400"]
["M-T17VK_ADLBTY_W750C6","M-T17","VK_ADLBTY_W750C6",12198,"Ext.Bty Wet 750 C6","CAD","308400"]
["M-T17VK_CLNTCH_ECH2O","M-T17","VK_CLNTCH_ECH2O",6219,"ec-H2O™","CAD","308400"]
["M-T17VK_BASE_T17-C","M-T17","VK_BASE_T17-C",65930,"T17 Scrubber Cyl.","CAD","308400"]
["M-T350VK_SVEEVMSWHLKT","M-T350","VK_SVEEVMSWHLKT",88,"SE Switch Lockout","CAD","309100"]
["M-T350VK_RECHSEMAT_PVC","M-T350","VK_RECHSEMAT_PVC","N/C","PVC (Standard)","CAD","309100"]
["M-T350VK_BASE_T350-500-D_STD","M-T350","VK_BASE_T350-500-D_STD",19766,"T350 500mm Disk Std Config","CAD","309100"]
["M-T350VK_BASE_T350-600-D_STD","M-T350","VK_BASE_T350-600-D_STD",21877,"T350 600mm Disk Std Config","CAD","309100"]
["M-T350VK_PADTYP_600BLU3","M-T350","VK_PADTYP_600BLU3",21,"600/24 Bl Scrub 3M","CAD","309100"]
["M-T350VK_PKG_SSKD","M-T350","VK_PKG_SSKD","N/C","Stack Skid/Carton","CAD","309100"]
["M-T350VK_PKG_PAD","M-T350","VK_PKG_PAD","N/C","Pad Wrap","CAD","309100"]
["M-T350VK_PADTYP_500YLW3","M-T350","VK_PADTYP_500YLW3",127,"500/20 Ylw Polish 3M","CAD","309100"]
["M-T350VK_PADTYP_600YLW3","M-T350","VK_PADTYP_600YLW3",67,"600/24 Ylw Polish 3M","CAD","309100"]
["M-T350VK_CLNTOL_600NYL_IC","M-T350","VK_CLNTOL_600NYL_IC",336,"600/24 Nylon Brush-IC","CAD","309100"]
["M-T350VK_CLNTOL_600ABB_IC","M-T350","VK_CLNTOL_600ABB_IC",587,"600/24 Abr Brush-IC","CAD","309100"]
["M-T350VK_CLNTOL_500PYP_IC","M-T350","VK_CLNTOL_500PYP_IC",525,"500/20 Poly Brush-IC","CAD","309100"]
["M-T350VK_CLNTOL_500PAD_IC","M-T350","VK_CLNTOL_500PAD_IC",525,"500/20 Pad Driver-IC","CAD","309100"]
["M-T350VK_CLNTOL_500NYL_IC","M-T350","VK_CLNTOL_500NYL_IC",525,"500/20 Nylon Brush-IC","CAD","309100"]
[{"$f":"B1928&C1928","v":"M-T350VK_CLNTOL_500ABB_IC"},"M-T350","VK_CLNTOL_500ABB_IC",794,"500/20 Abr Brush-IC","CAD","309100"]
["M-T350VK_CLNTOLATT_IC","M-T350","VK_CLNTOLATT_IC","N/C","Clean Tool Attach IC","CAD","309100"]
["M-T350VK_CLNTCH_ECH2ON","M-T350","VK_CLNTCH_ECH2ON",3102,"ec-H2O™ NanoClean","CAD","309100"]
["M-T350VK_CHG_27A85V5060H1P","M-T350","VK_CHG_27A85V5060H1P","N/C","CH27A 85-270V 5060H1P","CAD","309100"]
["M-T350VK_CHG_25A100V5060H1","M-T350","VK_CHG_25A100V5060H1","N/C","Ch25A 100V 5060H1P","CAD","309100"]
["M-T350VK_BTY_WO","M-T350","VK_BTY_WO",-630,"Without Battery","CAD","309100"]
["M-T350VK_BTY_W240C20","M-T350","VK_BTY_W240C20",269,"Bty Wet 240AH C20","CAD","309100"]
["M-T350VK_BTY_W210C20","M-T350","VK_BTY_W210C20","N/C","Bty Wet 210AH C5","CAD","309100"]
["M-T350VK_BTY_A220C20","M-T350","VK_BTY_A220C20",2020,"Bty AGM 220AH C20","CAD","309100"]
["M-T350VK_BTYWTRSYS_SF","M-T350","VK_BTYWTRSYS_SF",1439,"Smart Fill","CAD","309100"]
["M-T350VK_BTYWTRSYS_ML","M-T350","VK_BTYWTRSYS_ML",839,"Battery Watering Manual","CAD","309100"]
["M-T350VK_BASE_T350-600-D","M-T350","VK_BASE_T350-600-D",21877,"T350-600-D","CAD","309100"]
["M-T350VK_BASE_T350-500-D","M-T350","VK_BASE_T350-500-D",19766,"T350-500-D","CAD","309100"]
["M-T350VK_ADLOPRMNL","M-T350","VK_ADLOPRMNL",190,"Add Operator Manual","CAD","309100"]
["M-T350VK_CLNTOL_600PAD_IC","M-T350","VK_CLNTOL_600PAD_IC",336,"600/24 Pad Driver-IC","CAD","309100"]
["M-T350VK_WRNLGTANDALM_AU","M-T350","VK_WRNLGTANDALM_AU","N/C","Audio BU Alarm","CAD","309100"]
["M-T350VK_TRMLVL_PPAN","M-T350","VK_TRMLVL_PPAN",1352,"ProPanel Ctrls","CAD","309100"]
["M-T350VK_TRMLVL_PMEM","M-T350","VK_TRMLVL_PMEM","N/C","Pro Membrane Panel","CAD","309100"]
["M-T350VK_SVEEVMSWH","M-T350","VK_SVEEVMSWH",870,"SE Switch Capability","CAD","309100"]
["M-T350VK_SRVMNL","M-T350","VK_SRVMNL",190,"Service Manual","CAD","309100"]
["M-T350VK_RECHSEMAT_PYPOR","M-T350","VK_RECHSEMAT_PYPOR",185,"Polyurethane (Oil Resistant)","CAD","309100"]
["M-T350VK_RDEPPLSPD","M-T350","VK_RDEPPLSPD","N/C","Reduced Propel Speed","CAD","309100"]
["M-T350VK_QITMOD","M-T350","VK_QITMOD",259,"Quiet Mode","CAD","309100"]
["M-T350VK_PKG_SSKD_NC","M-T350","VK_PKG_SSKD_NC","N/C","Stack Skid/Carton","CAD","309100"]
["M-T350VK_PARMNL","M-T350","VK_PARMNL",78,"Parts Manual","CAD","309100"]
["M-T350VK_PADTYP_600WHT3","M-T350","VK_PADTYP_600WHT3",21,"600/24 Wh Polish 3M","CAD","309100"]
["M-T350VK_PADTYP_600RED3","M-T350","VK_PADTYP_600RED3",21,"600/24 Red Clean 3M","CAD","309100"]
["M-T350VK_PADTYP_600MAR3","M-T350","VK_PADTYP_600MAR3",26,"600/24 MarSur 3M","CAD","309100"]
["M-T350VK_PADTYP_600BWN3","M-T350","VK_PADTYP_600BWN3",22,"600/24 Br Strip 3M","CAD","309100"]
["M-T350VK_PADTYP_600BLKH3","M-T350","VK_PADTYP_600BLKH3",26,"600/24 Blk HiPro 3M","CAD","309100"]
["M-T350VK_PADTYP_500WHT3","M-T350","VK_PADTYP_500WHT3",37,"500/20 Wh Polish 3M","CAD","309100"]
["M-T350VK_PADTYP_500RED3","M-T350","VK_PADTYP_500RED3",37,"500/20 Red Clean 3M","CAD","309100"]
["M-T350VK_PADTYP_500MAR3","M-T350","VK_PADTYP_500MAR3",44,"500/20 MarSur 3M","CAD","309100"]
["M-T350VK_PADTYP_500BWN3","M-T350","VK_PADTYP_500BWN3",39,"500/20 Br Strip 3M","CAD","309100"]
["M-T350VK_PADTYP_500BLU3","M-T350","VK_PADTYP_500BLU3",37,"500/20 Bl Scrub 3M","CAD","309100"]
["M-T350VK_PADTYP_500BLKH3","M-T350","VK_PADTYP_500BLKH3",42,"500/20 Blk HiPro 3M","CAD","309100"]
["M-T350VK_MCHCOM","M-T350","VK_MCHCOM",1916,"IRIS Telemetry","CAD","309100"]
["M-T350VK_IRSSRVRPT_3YP","M-T350","VK_IRSSRVRPT_3YP",259,"Svc Rpt 3 Yr Pre-Paid","CAD","309100"]
["M-T350VK_CLNTOL_600PYP_IC","M-T350","VK_CLNTOL_600PYP_IC",336,"600/24 Poly Brush-IC","CAD","309100"]
["M-SS350VK_BASE_SS350-500-D_STD","M-SS350","VK_BASE_SS350-500-D_STD",19766,"SS350 500mm Disk Std Config","CAD","309200"]
["M-SS350VK_WRNLGTANDALM_AU","M-SS350","VK_WRNLGTANDALM_AU","N/C","Audio BU Alarm","CAD","309200"]
["M-SS350VK_RDEPPLSPD","M-SS350","VK_RDEPPLSPD","N/C","Reduced Propel Speed","CAD","309200"]
["M-SS350VK_RECHSEMAT_PVC","M-SS350","VK_RECHSEMAT_PVC","N/C","PVC (Standard)","CAD","309200"]
["M-SS350VK_PKG_SSKD_NC","M-SS350","VK_PKG_SSKD_NC","N/C","Stack Skid/Carton","CAD","309200"]
["M-SS350VK_SRVMNL","M-SS350","VK_SRVMNL",190,"Service Manual","CAD","309200"]
["M-SS350VK_SVEEVMSWH","M-SS350","VK_SVEEVMSWH",870,"SE Switch Capability","CAD","309200"]
["M-SS350VK_PKG_PAD","M-SS350","VK_PKG_PAD","N/C","Pad Wrap","CAD","309200"]
["M-SS350VK_PKG_SSKD","M-SS350","VK_PKG_SSKD","N/C","Stack Skid/Carton","CAD","309200"]
["M-SS350VK_PADTYP_600WHT3","M-SS350","VK_PADTYP_600WHT3",21,"600/24 Wh Polish 3M","CAD","309200"]
["M-SS350VK_TRMLVL_PMEM","M-SS350","VK_TRMLVL_PMEM","N/C","Pro Membrane Panel","CAD","309200"]
["M-SS350VK_BASE_SS350-600-D_STD","M-SS350","VK_BASE_SS350-600-D_STD",21877,"SS350 600mm Disk Std Config","CAD","309200"]
["M-SS350VK_ACCCLP","M-SS350","VK_ACCCLP","N/C","Accessory Clip","CAD","309200"]
["M-SS350VK_TRMLVL_PPAN","M-SS350","VK_TRMLVL_PPAN",1352,"ProPanel Ctrls","CAD","309200"]
["M-SS350VK_PADTYP_500YLW3","M-SS350","VK_PADTYP_500YLW3",127,"500/20 Ylw Polish 3M","CAD","309200"]
["M-SS350VK_PADTYP_600YLW3","M-SS350","VK_PADTYP_600YLW3",67,"600/24 Ylw Polish 3M","CAD","309200"]
["M-SS350VK_CLNTOL_600NYL_IC","M-SS350","VK_CLNTOL_600NYL_IC",336,"600/24 Nylon Brush-IC","CAD","309200"]
["M-SS350VK_CLNTOL_600ABB_IC","M-SS350","VK_CLNTOL_600ABB_IC",587,"600/24 Abr Brush-IC","CAD","309200"]
["M-SS350VK_CLNTOL_500PYP_IC","M-SS350","VK_CLNTOL_500PYP_IC",522,"500/20 Poly Brush-IC","CAD","309200"]
["M-SS350VK_CLNTOL_500PAD_IC","M-SS350","VK_CLNTOL_500PAD_IC",522,"500/20 Pad Driver-IC","CAD","309200"]
["M-SS350VK_CLNTOL_500NYL_IC","M-SS350","VK_CLNTOL_500NYL_IC",522,"500/20 Nylon Brush-IC","CAD","309200"]
["M-SS350VK_CLNTOL_500ABB_IC","M-SS350","VK_CLNTOL_500ABB_IC",794,"500/20 Abr Brush-IC","CAD","309200"]
["M-SS350VK_CLNTOLATT_IC","M-SS350","VK_CLNTOLATT_IC","N/C","Clean Tool Attach IC","CAD","309200"]
["M-SS350VK_CLNTCH_ECH2ON","M-SS350","VK_CLNTCH_ECH2ON",3102,"ec-H2O™ NanoClean","CAD","309200"]
["M-SS350VK_CHG_27A85V5060H1P","M-SS350","VK_CHG_27A85V5060H1P","N/C","CH27A 85-270V 5060H1P","CAD","309200"]
[{"$f":"B1992&C1992","v":"M-SS350VK_CHG_25A100V5060H1"},"M-SS350","VK_CHG_25A100V5060H1","N/C","Ch25A 100V 5060H1P","CAD","309200"]
["M-SS350VK_BTY_WO","M-SS350","VK_BTY_WO",-630,"Without Battery","CAD","309200"]
["M-SS350VK_BTY_W240C20","M-SS350","VK_BTY_W240C20",269,"Bty Wet 240AH C20","CAD","309200"]
["M-SS350VK_BTY_W210C20","M-SS350","VK_BTY_W210C20","N/C","Bty Wet 210AH C5","CAD","309200"]
["M-SS350VK_BTY_A220C20","M-SS350","VK_BTY_A220C20",2020,"Bty AGM 220AH C20","CAD","309200"]
["M-SS350VK_BTYWTRSYS_SF","M-SS350","VK_BTYWTRSYS_SF",1439,"Smart Fill","CAD","309200"]
["M-SS350VK_BASE_SS350-500-D","M-SS350","VK_BASE_SS350-500-D",19766,"SS350-500-D","CAD","309200"]
["M-SS350VK_ADLOPRMNL","M-SS350","VK_ADLOPRMNL",190,"Add Operator Manual","CAD","309200"]
["M-SS350VK_RECHSEMAT_PYPOR","M-SS350","VK_RECHSEMAT_PYPOR",185,"Polyurethane (Oil Resistant)","CAD","309200"]
["M-SS350VK_QITMOD","M-SS350","VK_QITMOD",259,"Quiet Mode","CAD","309200"]
["M-SS350VK_PARMNL","M-SS350","VK_PARMNL",78,"Parts Manual","CAD","309200"]
["M-SS350VK_PADTYP_600RED3","M-SS350","VK_PADTYP_600RED3",21,"600/24 Red Clean 3M","CAD","309200"]
["M-SS350VK_PADTYP_600MAR3","M-SS350","VK_PADTYP_600MAR3",26,"600/24 MarSur 3M","CAD","309200"]
["M-SS350VK_PADTYP_600BWN3","M-SS350","VK_PADTYP_600BWN3",22,"600/24 Br Strip 3M","CAD","309200"]
["M-SS350VK_PADTYP_600BLU3","M-SS350","VK_PADTYP_600BLU3",21,"600/24 Bl Scrub 3M","CAD","309200"]
["M-SS350VK_PADTYP_600BLKH3","M-SS350","VK_PADTYP_600BLKH3",28,"600/24 Blk HiPro 3M","CAD","309200"]
["M-SS350VK_PADTYP_500WHT3","M-SS350","VK_PADTYP_500WHT3",37,"500/20 Wh Polish 3M","CAD","309200"]
["M-SS350VK_PADTYP_500RED3","M-SS350","VK_PADTYP_500RED3",37,"500/20 Red Clean 3M","CAD","309200"]
["M-SS350VK_PADTYP_500MAR3","M-SS350","VK_PADTYP_500MAR3",44,"500/20 MarSur 3M","CAD","309200"]
["M-SS350VK_PADTYP_500BWN3","M-SS350","VK_PADTYP_500BWN3",39,"500/20 Br Strip 3M","CAD","309200"]
["M-SS350VK_PADTYP_500BLU3","M-SS350","VK_PADTYP_500BLU3",37,"500/20 Bl Scrub 3M","CAD","309200"]
["M-SS350VK_PADTYP_500BLKH3","M-SS350","VK_PADTYP_500BLKH3",42,"500/20 Blk HiPro 3M","CAD","309200"]
["M-SS350VK_MCHCOM","M-SS350","VK_MCHCOM",1916,"IRIS Telemetry","CAD","309200"]
["M-SS350VK_IRSSRVRPT_3YP","M-SS350","VK_IRSSRVRPT_3YP",259,"Svc Rpt 3 Yr Pre-Paid","CAD","309200"]
["M-SS350VK_CLNTOL_600PYP_IC","M-SS350","VK_CLNTOL_600PYP_IC",336,"600/24 Poly Brush-IC","CAD","309200"]
["M-SS350VK_CLNTOL_600PAD_IC","M-SS350","VK_CLNTOL_600PAD_IC",336,"600/24 Pad Driver-IC","CAD","309200"]
["M-SS350VK_BTYWTRSYS_ML","M-SS350","VK_BTYWTRSYS_ML",839,"Battery Watering Manual","CAD","309200"]
["M-SS350VK_BASE_SS350-600-D","M-SS350","VK_BASE_SS350-600-D",21877,"SS350-600-D","CAD","309200"]
["M-SS350VK_SVEEVMSWHLKT","M-SS350","VK_SVEEVMSWHLKT",88,"SE Switch Lockout","CAD","309200"]
["M-M17VK_BLULGT","M-M17","VK_BLULGT",1509,"Blue Light","CAD","311103"]
["M-M17VK_TRM_PPAN","M-M17","VK_TRM_PPAN",4034,"ProPanel Ctrls","CAD","311103"]
["M-M17VK_TRM_MPAN","M-M17","VK_TRM_MPAN","N/C","Membrane Ctrl Panel","CAD","311103"]
["M-M17VK_PKG_SKD_NC","M-M17","VK_PKG_SKD_NC","N/C","Skid","CAD","311103"]
["M-M17VK_CHG_80A200V5060H3P_LI","M-M17","VK_CHG_80A200V5060H3P_LI",5887,"Ch80A 200V 50/60Hz 3Ph","CAD","311103"]
["M-M17VK_CHG_80A200V5060H1P_LI","M-M17","VK_CHG_80A200V5060H1P_LI",3483,"Ch80A 200V 50/60Hz 1Ph","CAD","311103"]
["M-M17VK_BTY_L36V19M","M-M17","VK_BTY_L36V19M",91187,"Bty Li-Ion 36v, 38.8kWh","CAD","311103"]
["M-M17VK_TRMLVL_PPAN","M-M17","VK_TRMLVL_PPAN",3917,"ProPanel Ctrls","CAD","311103"]
["M-M17VK_PKG_PAD","M-M17","VK_PKG_PAD","N/C","Pad Wrap","CAD","311103"]
["M-M17VK_BASE_M17-D_STD","M-M17","VK_BASE_M17-D_STD",87509,"M17 Disk Std Config","CAD","311103"]
["M-M17VK_BASE_M17-C_STD","M-M17","VK_BASE_M17-C_STD",88558,"M17 Cyl Std Config","CAD","311103"]
["M-M17VK_BTYCOTAST","M-M17","VK_BTYCOTAST",504,"Bty Connection Assist","CAD","311103"]
["M-M17VK_EXNOPRSTN","M-M17","VK_EXNOPRSTN",1004,"Extended Ops Station","CAD","311103"]
["M-M17VK_FUECEL","M-M17","VK_FUECEL",2732,"Fuel Cell","CAD","311103"]
["M-M17VK_HGHPRSSPY","M-M17","VK_HGHPRSSPY",8831,"High Pressure Spray","CAD","311103"]
["M-M17VK_MANSWPSYS_DF","M-M17","VK_MANSWPSYS_DF","N/C","Swp Sys-Dual Force","CAD","311103"]
["M-M17VK_MANSWPSYS_DT","M-M17","VK_MANSWPSYS_DT","N/C","Swp Sys-Direct Throw","CAD","311103"]
["M-M17VK_RERTRE_WHT","M-M17","VK_RERTRE_WHT","N/C","Trs Rear Wide HT","CAD","311103"]
["M-M17VK_DTGMTG","M-M17","VK_DTGMTG",4332,"Detergent Metering","CAD","311103"]
["M-M17VK_CLNTOL_PYP_C","M-M17","VK_CLNTOL_PYP_C","N/C","Cyl Brush Poly","CAD","311103"]
["M-M17VK_CLNTOL_PYP_D","M-M17","VK_CLNTOL_PYP_D","N/C","Disk Brush Poly","CAD","311103"]
["M-M17VK_CLNTOL_SAB_C","M-M17","VK_CLNTOL_SAB_C",267,"Cyl Brush Spr Abr.","CAD","311103"]
["M-M17VK_CLNTOL_SAB_D","M-M17","VK_CLNTOL_SAB_D",267,"Disk Brush Spr Abr.","CAD","311103"]
["M-M17VK_DRTWTRLBL","M-M17","VK_DRTWTRLBL","N/C","Dirty Water Label","CAD","311103"]
["M-M17VK_ADLBTY_T930C6_WTR_OC","M-M17","VK_ADLBTY_T930C6_WTR_OC","N/C","Ext.BtyTub930C6 W OC","CAD","311103"]
["M-M17VK_WRNLGTALM_AVST","M-M17","VK_WRNLGTALM_AVST",861,"AV BU AlarmStrobeTnk","CAD","311103"]
["M-M17VK_WRNLGTALM_SO","M-M17","VK_WRNLGTALM_SO",642,"Strobe Light OHG","CAD","311103"]
["M-M17VK_DTG_FSBD","M-M17","VK_DTG_FSBD","N/C","Solvent Degreaser","CAD","311103"]
["M-M17VK_ALTSTBFLSLNS_R","M-M17","VK_ALTSTBFLSLNS_R","N/C","Alternate Lens-Red","CAD","311103"]
["M-M17VK_ADLOPRMNL","M-M17","VK_ADLOPRMNL",253,"Add Operator Manual","CAD","311103"]
["M-M17VK_ADLBTY_W750C6_WTR","M-M17","VK_ADLBTY_W750C6_WTR",13020,"Ext.Bty Wet 750 C6 W","CAD","311103"]
["M-M17VK_ADLBTY_W510C6_WTR","M-M17","VK_ADLBTY_W510C6_WTR",10499,"Ext.Bty Wet 510 C6 W","CAD","311103"]
["M-M17VK_ADLBTY_T930C6_WTR","M-M17","VK_ADLBTY_T930C6_WTR",18533,"Ext.Bty Tub 930 C6 W","CAD","311103"]
["M-M17VK_ADLBTY_T930C6","M-M17","VK_ADLBTY_T930C6",17742,"Ext.Bty Tub 930 C6","CAD","311103"]
["M-M17VK_CHG_100A200V5060H3","M-M17","VK_CHG_100A200V5060H3",5202,"Ch100A 200V 5060H3P","CAD","311103"]
[{"$f":"B2056&C2056","v":"M-M17VK_BTY_W750C6"},"M-M17","VK_BTY_W750C6",9496,"Bty Wet 750AH C6","CAD","311103"]
["M-M17VK_BTY_W510C6","M-M17","VK_BTY_W510C6",7892,"Bty Wet 510AH C6","CAD","311103"]
["M-M17VK_BTYWTRSYS","M-M17","VK_BTYWTRSYS",1011,"Battery Watering Sys","CAD","311103"]
["M-M17VK_BTYEXCSYS_SO","M-M17","VK_BTYEXCSYS_SO",1595,"Bty Slide Out System","CAD","311103"]
["M-M17VK_BASE_M17-C","M-M17","VK_BASE_M17-C",88558,"M17 Scrubber Cyl.","CAD","311103"]
["M-M17VK_SQEMAT_L","M-M17","VK_SQEMAT_L","N/C","Squeegee Linatex","CAD","311103"]
["M-M17VK_SQEMAT_G","M-M17","VK_SQEMAT_G","N/C","Squeegee Gum Rubber","CAD","311103"]
["M-M17VK_SPYNOZWTHHSE","M-M17","VK_SPYNOZWTHHSE",1706,"Spray Nozzel w/Hose","CAD","311103"]
["M-M17VK_SET_DLXW","M-M17","VK_SET_DLXW",786,"Deluxe Seat w/Armr.","CAD","311103"]
["M-M17VK_SDECLNTOL_SAB","M-M17","VK_SDECLNTOL_SAB",267,"Side Sup Abr Brush","CAD","311103"]
["M-M17VK_SDECLNTOL_PYP","M-M17","VK_SDECLNTOL_PYP","N/C","Side Poly Brush","CAD","311103"]
["M-M17VK_SDECLNTOL_PAD","M-M17","VK_SDECLNTOL_PAD","N/C","Side Pad Driver","CAD","311103"]
["M-M17VK_ULERTG_ES","M-M17","VK_ULERTG_ES",5339,"UL® Type ES","CAD","311103"]
["M-M17VK_ULERTG_E","M-M17","VK_ULERTG_E","N/C","UL® Type E","CAD","311103"]
["M-M17VK_TRLTRTKIT","M-M17","VK_TRLTRTKIT",270,"Transport Kit","CAD","311103"]
["M-M17VK_SVEEVMSWH_N","M-M17","VK_SVEEVMSWH_N",-598,"No SE Switch Caplty","CAD","311103"]
["M-M17VK_SRVMNL","M-M17","VK_SRVMNL",333,"Service Manual","CAD","311103"]
["M-M17VK_SQEMAT_U","M-M17","VK_SQEMAT_U","N/C","Squeegee Urethane","CAD","311103"]
["M-M17VK_PKG_SKD","M-M17","VK_PKG_SKD","N/C","Skid","CAD","311103"]
["M-M17VK_OVHGRD","M-M17","VK_OVHGRD",2908,"Overhead Guard","CAD","311103"]
["M-M17VK_OPRVID","M-M17","VK_OPRVID","N/C","Operator Video","CAD","311103"]
["M-M17VK_MCHCOM","M-M17","VK_MCHCOM",1916,"IRIS Telemetry","CAD","311103"]
["M-M17VK_PRDPKG_VACWND","M-M17","VK_PRDPKG_VACWND",7055,"Prod Package- Vac Wand","CAD","311103"]
["M-M17VK_SDEBRSTYP_SCB","M-M17","VK_SDEBRSTYP_SCB",5983,"Side Brush Scrubber","CAD","311103"]
["M-M17VK_RECTNKDRN_TEL","M-M17","VK_RECTNKDRN_TEL","N/C","Telescopic","CAD","311103"]
["M-M17VK_RECTNKDRN_DCV","M-M17","VK_RECTNKDRN_DCV",1077,"Drain Control Valve","CAD","311103"]
["M-M17VK_PWRVACWND_VACWND","M-M17","VK_PWRVACWND_VACWND",896,"Vacuum Wand","CAD","311103"]
["M-M17VK_DTG_SBD","M-M17","VK_DTG_SBD","N/C","Solvent Degreaser","CAD","311103"]
["M-M17VK_CSMDRTWTRLBL","M-M17","VK_CSMDRTWTRLBL","N/C","Dirty Water Label","CAD","311103"]
["M-M17VK_BTYWTRSYS_NC","M-M17","VK_BTYWTRSYS_NC","N/C","Battery Watering NC","CAD","311103"]
["M-M17VK_CLNTOL_CPYP","M-M17","VK_CLNTOL_CPYP","N/C","Cyl Brush Poly","CAD","311103"]
["M-M17VK_CLNTOL_CSAB","M-M17","VK_CLNTOL_CSAB",267,"Cyl Brush Spr Abr.","CAD","311103"]
["M-M17VK_CLNTOL_DNYL","M-M17","VK_CLNTOL_DNYL","N/C","Disk Brush Nylon","CAD","311103"]
["M-M17VK_CLNTOL_DPYP","M-M17","VK_CLNTOL_DPYP","N/C","Disk Brush Poly","CAD","311103"]
["M-M17VK_CLNTOL_DSAB","M-M17","VK_CLNTOL_DSAB",267,"Disk Brush Spr Abr.","CAD","311103"]
["M-M17VK_WRNLGTANDALM_AVST","M-M17","VK_WRNLGTANDALM_AVST",915,"AV BU AlrmStrobe Tnk","CAD","311103"]
["M-M17VK_WRNLGTANDALM_SO","M-M17","VK_WRNLGTANDALM_SO",642,"Strobe Light OHG","CAD","311103"]
["M-M17VK_CLGFLTIND_NC","M-M17","VK_CLGFLTIND_NC","N/C","Clogged Filter Ind. NC","CAD","311103"]
["M-M17VK_HVYDTYSQEPRT","M-M17","VK_HVYDTYSQEPRT",1011,"Hvy Dty Sque Protect","CAD","311103"]
["M-M17VK_HLT","M-M17","VK_HLT",548,"Headlight","CAD","311103"]
["M-M17VK_FREEXT","M-M17","VK_FREEXT",468,"Fire Extinguisher","CAD","311103"]
["M-M17VK_CLNTOL_PAD","M-M17","VK_CLNTOL_PAD","N/C","Pad Driver","CAD","311103"]
["M-M17VK_CLNTCH_ES","M-M17","VK_CLNTCH_ES",5692,"ES® Extended Scrub","CAD","311103"]
["M-M17VK_CLNTCH_ECH2O","M-M17","VK_CLNTCH_ECH2O",6219,"ec-H2O™","CAD","311103"]
["M-M17VK_CLGFLTIND","M-M17","VK_CLGFLTIND",726,"Clogged Filter Indicator","CAD","311103"]
["M-M17VK_CHG_WO","M-M17","VK_CHG_WO","N/C","Without Charger","CAD","311103"]
["M-M17VK_CHG_80A200V5060H3P","M-M17","VK_CHG_80A200V5060H3P",5399,"Ch80A 200V 5060H3P","CAD","311103"]
["M-M17VK_CHG_80A200V5060H1P","M-M17","VK_CHG_80A200V5060H1P",4349,"Ch80A 200V 5060H1P","CAD","311103"]
["M-M17VK_BTY_WO","M-M17","VK_BTY_WO","N/C","Without Battery","CAD","311103"]
["M-M17VK_BTY_T930C6","M-M17","VK_BTY_T930C6",14396,"Bty Tub 930AH C6","CAD","311103"]
["M-M17VK_BASE_M17-D","M-M17","VK_BASE_M17-D",87509,"M17 Scrubber Disk","CAD","311103"]
["M-M17VK_AUTFIL","M-M17","VK_AUTFIL",801,"Auto Fill","CAD","311103"]
["M-M17VK_ALTSTBFLSLNS_B","M-M17","VK_ALTSTBFLSLNS_B","N/C","Alternate Lens-Blue","CAD","311103"]
["M-M17VK_ADLBTY_W750C6","M-M17","VK_ADLBTY_W750C6",12198,"Ext.Bty Wet 750 C6","CAD","311103"]
["M-M17VK_ADLBTY_W510C6","M-M17","VK_ADLBTY_W510C6",10087,"Ext.Bty Wet 510 C6","CAD","311103"]
["M-M17VK_SFYLGTPKG","M-M17","VK_SFYLGTPKG",1196,"Safety Light Package","CAD","311103"]
["M-M17VK_SDEBRSDSTCTL","M-M17","VK_SDEBRSDSTCTL",5186,"Side Brs Dust Control","CAD","311103"]
["M-M17VK_RERTRE_HTNM","M-M17","VK_RERTRE_HTNM",480,"Trs Rear HighTractNonMk","CAD","311103"]
["M-M17VK_PWRVACWND_LW","M-M17","VK_PWRVACWND_LW",6099,"Live Wand","CAD","311103"]
["M-M17VK_PRDPKG_LW","M-M17","VK_PRDPKG_LW",7055,"Prod Package- Live Wand","CAD","311103"]
["M-M17VK_OPRMNL","M-M17","VK_OPRMNL","N/C","Oper Manual","CAD","311103"]
["M-M17VK_SDEBRSTYP_PRP","M-M17","VK_SDEBRSTYP_PRP","N/C","Side Brush: Prep Kit","CAD","311103"]
["M-M17VK_SDEBRSTYP_WO","M-M17","VK_SDEBRSTYP_WO","N/C","Side Brush - Without","CAD","311103"]
["M-M17VK_AUTFIL_NC","M-M17","VK_AUTFIL_NC","N/C","Auto Fill","CAD","311103"]
[{"$f":"B2120&C2120","v":"M-M17VK_CLNTCH_CNV"},"M-M17","VK_CLNTCH_CNV","N/C","Conventional","CAD","311103"]
["M-M17VK_FRTTRE_NM","M-M17","VK_FRTTRE_NM","N/C","Trs Frt HighTractNonMk","CAD","311103"]
["M-M17VK_BTY_T930C6_OCC","M-M17","VK_BTY_T930C6_OCC",15778,"Bty Tub 930AH C6 OCC","CAD","311103"]
["M-M17VK_WTY_STD","M-M17","VK_WTY_STD","N/C","Warranty STD","CAD","311103"]
["M-M17VK_UPG","M-M17","VK_UPG","N/C","UPG","CAD","311103"]
["M-M17VK_RERTRE_NM","M-M17","VK_RERTRE_NM","N/C","Trs Rear HighTract","CAD","311103"]
["M-M17VK_ADLBTY_T930C6_WTR_OCC","M-M17","VK_ADLBTY_T930C6_WTR_OCC",18533,"Ext.Bty T930C6 W OCC","CAD","311103"]
["M-M17VK_CHG_160A600V5060H3P","M-M17","VK_CHG_160A600V5060H3P",9256,"Ch160A 600V 5060H3P","CAD","311103"]
["M-M20VK_RERTRE_HT","M-M20","VK_RERTRE_HT",1180,"Trs Rear High Track","CAD","311302"]
["M-M20VK_SQEMAT_U","M-M20","VK_SQEMAT_U",1137,"Squeegee Urethane","CAD","311302"]
["M-M20VK_WTY_STD","M-M20","VK_WTY_STD","N/C","Warranty STD","CAD","311302"]
["M-M20VK_DTGMTG","M-M20","VK_DTGMTG",4332,"Detergent Metering","CAD","311302"]
["M-M20VK_FREEXT","M-M20","VK_FREEXT",208,"Fire Extinguisher","CAD","311302"]
["M-M20VK_LPGTNK_E","M-M20","VK_LPGTNK_E","N/C","LPG Tank Empty","CAD","311302"]
["M-M20VK_CLNTOL_HDPYP","M-M20","VK_CLNTOL_HDPYP","N/C","HD Poly Brush","CAD","311302"]
["M-M20VK_WRNLGTANDALM_AU","M-M20","VK_WRNLGTANDALM_AU",457,"Audio BU Alarm","CAD","311302"]
["M-M20VK_HVYDTYSQEPRT","M-M20","VK_HVYDTYSQEPRT",1248,"Hvy Dty Sque Protect","CAD","311302"]
["M-M20VK_LPGTNK_F","M-M20","VK_LPGTNK_F","N/C","LPG Tank Full","CAD","311302"]
["M-M20VK_WRNLGTANDALM_AVFT","M-M20","VK_WRNLGTANDALM_AVFT",977,"AV BU AlarmFlash Tnk","CAD","311302"]
["M-M20VK_ULERTG_LPS","M-M20","VK_ULERTG_LPS",6987,"UL® Type LPS","CAD","311302"]
["M-M20VK_ADLOPRMNL","M-M20","VK_ADLOPRMNL",100,"Add Operator Manual","CAD","311302"]
["M-M20VK_TRLTRTKIT","M-M20","VK_TRLTRTKIT",261,"Transport Kit","CAD","311302"]
["M-M20VK_CSMSLN_FLLS","M-M20","VK_CSMSLN_FLLS",2740,"Frame Lift Lugs Side","CAD","311302"]
["M-M20VK_CSMSLN_FSTTK","M-M20","VK_CSMSLN_FSTTK",2315,"Front/Side Tie Down","CAD","311302"]
["M-M20VK_BLULGT","M-M20","VK_BLULGT",1509,"Blue Light","CAD","311302"]
["M-M20VK_CSMSLN_WPMP","M-M20","VK_CSMSLN_WPMP",258,"Weatherproof pouch","CAD","311302"]
["M-M20VK_WPFMNLPCH","M-M20","VK_WPFMNLPCH",258,"Weatherproof Manual Pouch","CAD","311302"]
["M-M20VK_FRTSDETIETOWKIT","M-M20","VK_FRTSDETIETOWKIT",2315,"Front / Side Tiedown Tow Kit","CAD","311302"]
["M-M20VK_CSMFRTCVRLTHKIT","M-M20","VK_CSMFRTCVRLTHKIT",868,"Front Cover Latch Kit","CAD","311302"]
["M-M20VK_CSMFRMLFTLUG_SD","M-M20","VK_CSMFRMLFTLUG_SD",2740,"Frame Lifting Lugs-Side","CAD","311302"]
["M-M20VK_CSMSLN_FCLK","M-M20","VK_CSMSLN_FCLK",868,"Front Cover Latch","CAD","311302"]
["M-M20VK_MCHCOM_SBT","M-M20","VK_MCHCOM_SBT",1916,"IRIS Telemetry","CAD","311302"]
["M-M20VK_PARMNL","M-M20","VK_PARMNL","N/C","Parts Manual","CAD","311302"]
["M-M20VK_SDECLNTOL_HDPYP","M-M20","VK_SDECLNTOL_HDPYP","N/C","Side HD Poly Brush","CAD","311302"]
["M-M20VK_DATPKG_HO","M-M20","VK_DATPKG_HO",1863,"Hardware Only","CAD","311302"]
["M-M20VK_BASE_M20-LPG_STD","M-M20","VK_BASE_M20-LPG_STD",105309,"M20 LPG Std Config","CAD","311302"]
["M-M20VK_BASE_M20-GAS_STD","M-M20","VK_BASE_M20-GAS_STD",105309,"M20 GAS Std Config","CAD","311302"]
["M-M20VK_BASE_M20-DSL_STD","M-M20","VK_BASE_M20-DSL_STD",112136,"M20 DSL Std Config","CAD","311302"]
["M-M20VK_CSMSBTPARKIT","M-M20","VK_CSMSBTPARKIT",3784,"Sunbelt -Parts Kit","CAD","311302"]
["M-M20VK_CLNTOL_SASB","M-M20","VK_CLNTOL_SASB",267,"Super Abrasive, Stiff Bristle","CAD","311302"]
["M-M20VK_PRDPKG","M-M20","VK_PRDPKG",8373,"Productivity Package","CAD","311302"]
["M-M20VK_DATPKG_BSVC","M-M20","VK_DATPKG_BSVC","N/C","Data Pkg w/Service","CAD","311302"]
["M-M20VK_DATPKG_5YR","M-M20","VK_DATPKG_5YR",1953,"Data Package 5 Year","CAD","311302"]
["M-M20VK_DATPKG_3YR","M-M20","VK_DATPKG_3YR",1953,"Data Package 3 Year","CAD","311302"]
["M-M20VK_MCHCOM","M-M20","VK_MCHCOM",1916,"IRIS Telemetry","CAD","311302"]
["M-M20VK_UPG","M-M20","VK_UPG","N/C","UPG","CAD","311302"]
["M-M20VK_SDECLNTOL_PYP_SWP","M-M20","VK_SDECLNTOL_PYP_SWP","N/C","Side Poly Sweeper","CAD","311302"]
["M-M20VK_BASE_M20-DSL","M-M20","VK_BASE_M20-DSL",112136,"M20 DSL","CAD","311302"]
["M-M20VK_BASE_M20-GAS","M-M20","VK_BASE_M20-GAS",105309,"M20 GAS","CAD","311302"]
["M-M20VK_BASE_M20-LPG","M-M20","VK_BASE_M20-LPG",105309,"M20 LPG","CAD","311302"]
["M-M20VK_TRMLVL_WOP","M-M20","VK_TRMLVL_WOP",1932,"ProPanel w/ WOC","CAD","311302"]
["M-M20VK_SDECLNTOL_PYP_SCB","M-M20","VK_SDECLNTOL_PYP_SCB","N/C","Side Poly Scrubber","CAD","311302"]
["M-M20VK_DTG_SBD","M-M20","VK_DTG_SBD","N/C","Solvent Degreaser","CAD","311302"]
["M-M20VK_CSMSBTRERSQE","M-M20","VK_CSMSBTRERSQE",730,"Sunbelt - Sqe Guard","CAD","311302"]
["M-M20VK_HGHPRSSPY","M-M20","VK_HGHPRSSPY",6544,"High Pressure Spray","CAD","311302"]
["M-M20VK_HVYDTYPRTPKG","M-M20","VK_HVYDTYPRTPKG",2956,"Hvy Duty Protect Pkg","CAD","311302"]
["M-M20VK_TRM_MPAN","M-M20","VK_TRM_MPAN","N/C","Membrane Ctrl Panel","CAD","311302"]
["M-M20VK_TRM_PPAN","M-M20","VK_TRM_PPAN",3996,"ProPanel Ctrls","CAD","311302"]
["M-M20VK_CSMSBTDCL_GT","M-M20","VK_CSMSBTDCL_GT",196,"Sunbelt-GenTool Dcl","CAD","311302"]
["M-M20VK_CSMSBTDCL_FC","M-M20","VK_CSMSBTDCL_FC",342,"Sunbelt-FloorCareDcl","CAD","311302"]
["M-M20VK_CSMSBTDCLECH","M-M20","VK_CSMSBTDCLECH",323,"Sunbelt-ecH2O Decal","CAD","311302"]
["M-M20VK_WRNLGTANDALM_AVST","M-M20","VK_WRNLGTANDALM_AVST",977,"AV BU AlrmStrobe Tnk","CAD","311302"]
["M-M20VK_SDEBRSTYP","M-M20","VK_SDEBRSTYP",7219,"Side Brush","CAD","311302"]
["M-M20VK_SDECLNTOL_SAB","M-M20","VK_SDECLNTOL_SAB",267,"Side Sup Abr Brush","CAD","311302"]
[{"$f":"B2184&C2184","v":"M-M20VK_SPYNOZWTHHSE"},"M-M20","VK_SPYNOZWTHHSE",1699,"Spray Nozzel w/Hose","CAD","311302"]
["M-M20VK_SQEMAT_L","M-M20","VK_SQEMAT_L","N/C","Squeegee Linatex","CAD","311302"]
["M-M20VK_SRVMNL","M-M20","VK_SRVMNL",333,"Service Manual","CAD","311302"]
["M-M20VK_ULERTG_D","M-M20","VK_ULERTG_D","N/C","UL® Type D","CAD","311302"]
["M-M20VK_WRNLGTANDALM_AVFO","M-M20","VK_WRNLGTANDALM_AVFO",977,"AV BU AlarmFlash OHG","CAD","311302"]
["M-M20VK_WRNLGTANDALM_AVSO","M-M20","VK_WRNLGTANDALM_AVSO",977,"AV BU AlrmStrobe OHG","CAD","311302"]
["M-M20VK_CLNTCH_ECH2O","M-M20","VK_CLNTCH_ECH2O",7272,"ec-H2O™","CAD","311302"]
["M-M20VK_CLNTCH_ES","M-M20","VK_CLNTCH_ES",6775,"ES® Extended Scrub","CAD","311302"]
["M-M20VK_CLNTOL_PYP","M-M20","VK_CLNTOL_PYP","N/C","Poly Brush","CAD","311302"]
["M-M20VK_CLNTOL_SAB","M-M20","VK_CLNTOL_SAB",267,"Sup Abr Brush","CAD","311302"]
["M-M20VK_OPRVID","M-M20","VK_OPRVID","N/C","Operator Video","CAD","311302"]
["M-M20VK_OVHGRD","M-M20","VK_OVHGRD",2377,"Overhead Guard","CAD","311302"]
["M-M20VK_PKG_CRT","M-M20","VK_PKG_CRT","N/C","Crate","CAD","311302"]
["M-M20VK_PKG_SKD","M-M20","VK_PKG_SKD","N/C","Skid","CAD","311302"]
["M-M20VK_PWRVACWND_VACWND","M-M20","VK_PWRVACWND_VACWND",1332,"Vacuum Wand","CAD","311302"]
["M-M30VK_TRM_PPAN","M-M30","VK_TRM_PPAN",3996,"ProPanel Ctrls","CAD","311402"]
["M-M30VK_SQEMAT_U","M-M30","VK_SQEMAT_U",1137,"Squeegee Urethane","CAD","311402"]
["M-M30VK_SDECLNTOL_PYP","M-M30","VK_SDECLNTOL_PYP","N/C","Side Poly Brush","CAD","311402"]
["M-M30VK_BASE_M30-GAS_STD","M-M30","VK_BASE_M30-GAS_STD",122399,"M30 GAS Std Config","CAD","311402"]
["M-M30VK_WRNLGTANDALM_AVST","M-M30","VK_WRNLGTANDALM_AVST",977,"AV BU AlrmStrobe Tnk","CAD","311402"]
["M-M30VK_PKG_SKD","M-M30","VK_PKG_SKD","N/C","Skid","CAD","311402"]
["M-M30VK_DTGMTG","M-M30","VK_DTGMTG",4332,"Detergent Metering","CAD","311402"]
["M-M30VK_CSM_SBT_KIT","M-M30","VK_CSM_SBT_KIT",2989,"Sunbelt Parts Kit","CAD","311402"]
["M-M30VK_WPFMNLPCH","M-M30","VK_WPFMNLPCH",261,"Weatherproof Manual Pouch","CAD","311402"]
["M-M30VK_CSMWCHHOKKIT","M-M30","VK_CSMWCHHOKKIT",1421,"Winch Hook Frame Kit","CAD","311402"]
["M-M30VK_CSMSELKITDRWLTH","M-M30","VK_CSMSELKITDRWLTH",1306,"Seal Kit w/Draw Latch","CAD","311402"]
["M-M30VK_CSMHEDLGTCVR","M-M30","VK_CSMHEDLGTCVR",324,"Head Light Cover","CAD","311402"]
["M-M30VK_CSMDWTSYS","M-M30","VK_CSMDWTSYS",4790,"Dewatering System","CAD","311402"]
["M-M30VK_BLULGT","M-M30","VK_BLULGT",1509,"Blue Light","CAD","311402"]
["M-M30VK_CSM_SBT_DCL","M-M30","VK_CSM_SBT_DCL",192,"Sunbelt Decal Kit","CAD","311402"]
["M-M30VK_MCHCOM_SBT","M-M30","VK_MCHCOM_SBT",1916,"IRIS Telemetry","CAD","311402"]
["M-M30VK_CLNTOL_SASB","M-M30","VK_CLNTOL_SASB",267,"Super Abrasive, Stiff Bristle","CAD","311402"]
["M-M30VK_SDECLNTOL_SAB","M-M30","VK_SDECLNTOL_SAB",267,"Side Sup Abr Brush","CAD","311402"]
["M-M30VK_BASE_M30-DSL_3A","M-M30","VK_BASE_M30-DSL_3A","N/C","M30 DSL 3A","CAD","311402"]
["M-M30VK_PKG_SKD_NO_CHG","M-M30","VK_PKG_SKD_NO_CHG","N/C","Skid","CAD","311402"]
["M-M30VK_PKG_PAD","M-M30","VK_PKG_PAD","N/C","Pad Wrap","CAD","311402"]
["M-M30VK_TRLTRTKIT","M-M30","VK_TRLTRTKIT",261,"Transport Kit","CAD","311402"]
["M-M30VK_BASE_M30-DSL_S5","M-M30","VK_BASE_M30-DSL_S5",149974,"M30 DSL S5","CAD","311402"]
["M-M30VK_BASE_M30-LPG_STD","M-M30","VK_BASE_M30-LPG_STD",122399,"M30 LPG Std Config","CAD","311402"]
["M-M30VK_BASE_M30-DSL_S5_STD","M-M30","VK_BASE_M30-DSL_S5_STD",149974,"M30 DSL s5 Std Config","CAD","311402"]
["M-M30VK_BASE_M30-DSL_3A_STD","M-M30","VK_BASE_M30-DSL_3A_STD",122399,"M30 DSL 3a Std Config","CAD","311402"]
["M-M30VK_WRNLGTANDALM_AVFO","M-M30","VK_WRNLGTANDALM_AVFO",977,"AV BU AlarmFlash OHG","CAD","311402"]
["M-M30VK_RERTRE_HT","M-M30","VK_RERTRE_HT",1157,"Trs Rear High Track","CAD","311402"]
["M-M30VK_CSMSLN_WPMP","M-M30","VK_CSMSLN_WPMP",258,"Weatherproof pouch","CAD","311402"]
["M-M30VK_CSMSLN_FSTTK","M-M30","VK_CSMSLN_FSTTK",2038,"Front/Side Tie Down","CAD","311402"]
["M-M30VK_CSMSLN_FCLK","M-M30","VK_CSMSLN_FCLK",868,"Front Cover Latch","CAD","311402"]
["M-M30VK_PWRVACWND_VACWND","M-M30","VK_PWRVACWND_VACWND",1332,"Vacuum Wand","CAD","311402"]
["M-M30VK_PKG_SKD_NC","M-M30","VK_PKG_SKD_NC","N/C","Skid","CAD","311402"]
["M-M30VK_DTG_SBD","M-M30","VK_DTG_SBD","N/C","Solvent Degreaser","CAD","311402"]
["M-M30VK_PRDPKG","M-M30","VK_PRDPKG",8373,"Productivity Package","CAD","311402"]
["M-M30VK_DATPKG_BSVC","M-M30","VK_DATPKG_BSVC","N/C","Data Pkg w/Service","CAD","311402"]
["M-M30VK_DATPKG_5YR","M-M30","VK_DATPKG_5YR",1953,"Data Package 5 Year","CAD","311402"]
["M-M30VK_DATPKG_3YR","M-M30","VK_DATPKG_3YR",1953,"Data Package 3 Year","CAD","311402"]
["M-M30VK_FREEXT","M-M30","VK_FREEXT",208,"Fire Extinguisher","CAD","311402"]
["M-M30VK_HGHPRSSPY","M-M30","VK_HGHPRSSPY",5636,"High Pressure Spray","CAD","311402"]
["M-M30VK_HVYDTYPRTPKG","M-M30","VK_HVYDTYPRTPKG",2956,"Hvy Duty Protect Pkg","CAD","311402"]
["M-M30VK_OPRVID","M-M30","VK_OPRVID","N/C","Operator Video","CAD","311402"]
["M-M30VK_OVHGRD","M-M30","VK_OVHGRD",2377,"Overhead Guard","CAD","311402"]
["M-M30VK_ADLOPRMNL_D","M-M30","VK_ADLOPRMNL_D",100,"Add Operator Manual","CAD","311402"]
["M-M30VK_CAB_SC","M-M30","VK_CAB_SC",10688,"Soft Cab","CAD","311402"]
["M-M30VK_CLNTCH_ECH2O","M-M30","VK_CLNTCH_ECH2O",7272,"ec-H2O™","CAD","311402"]
["M-M30VK_CLNTOL_HDPYP","M-M30","VK_CLNTOL_HDPYP","N/C","HD Poly Brush","CAD","311402"]
["M-M30VK_CLNTOL_PYP","M-M30","VK_CLNTOL_PYP","N/C","Poly Brush","CAD","311402"]
["M-M30VK_MCHCOM","M-M30","VK_MCHCOM",1916,"IRIS Telemetry","CAD","311402"]
[{"$f":"B2248&C2248","v":"M-M30VK_TRMLVL_WOP"},"M-M30","VK_TRMLVL_WOP",1932,"ProPanel w/ WOC","CAD","311402"]
["M-M30VK_BASE_M30-GAS","M-M30","VK_BASE_M30-GAS",122399,"M30 GAS","CAD","311402"]
["M-M30VK_BASE_M30-LPG","M-M30","VK_BASE_M30-LPG",122399,"M30 LPG","CAD","311402"]
["M-M30VK_CLMCTL_ACHP_GL","M-M30","VK_CLMCTL_ACHP_GL",11323,"Air Cond./Heater/Pre","CAD","311402"]
["M-M30VK_CLMCTL_ACHP_D","M-M30","VK_CLMCTL_ACHP_D",11323,"Air Cond./Heater/Pre","CAD","311402"]
["M-M30VK_WRNLGTANDALM_AVSO","M-M30","VK_WRNLGTANDALM_AVSO",977,"AV BU AlrmStrobe OHG","CAD","311402"]
["M-M30VK_ULERTG_G","M-M30","VK_ULERTG_G","N/C","UL® Type G","CAD","311402"]
["M-M30VK_SQEMAT_L","M-M30","VK_SQEMAT_L","N/C","Squeegee Linatex","CAD","311402"]
["M-M30VK_TRM_MPAN","M-M30","VK_TRM_MPAN","N/C","Membrane Ctrl Panel","CAD","311402"]
["M-M30VK_CSMSLN_SKDL","M-M30","VK_CSMSLN_SKDL",1306,"Seal Kit w/DrawLatch","CAD","311402"]
["M-M30VK_CSMSLN_HLC","M-M30","VK_CSMSLN_HLC",324,"Head Light Cover","CAD","311402"]
["M-M30VK_CSMSLN_DWS","M-M30","VK_CSMSLN_DWS",4790,"Dewatering System","CAD","311402"]
["M-M30VK_SDEBRSTYP_SWP","M-M30","VK_SDEBRSTYP_SWP",7219,"Side Brush Sweeper","CAD","311402"]
["M-M30VK_LPGTNK_E","M-M30","VK_LPGTNK_E","N/C","LPG Tank Empty","CAD","311402"]
["M-M30VK_ULERTG_LPS","M-M30","VK_ULERTG_LPS",6850,"UL® Type LPS","CAD","311402"]
["M-M30VK_HVYDTYSQEPRT","M-M30","VK_HVYDTYSQEPRT",1248,"Hvy Dty Sque Protect","CAD","311402"]
["M-M30VK_SPYNOZWTHHSE","M-M30","VK_SPYNOZWTHHSE",1699,"Spray Nozzel w/Hose","CAD","311402"]
["M-M30VK_UPG","M-M30","VK_UPG","N/C","UPG","CAD","311402"]
["M-M30VK_WRNLGTANDALM_AVFT","M-M30","VK_WRNLGTANDALM_AVFT",977,"AV BU AlarmFlash Tnk","CAD","311402"]
["M-M30VK_LPGTNK_F","M-M30","VK_LPGTNK_F","N/C","LPG Tank Full","CAD","311402"]
["M-M30VK_SRVMNL","M-M30","VK_SRVMNL",333,"Service Manual","CAD","311402"]
["M-M30VK_ADLOPRMNL","M-M30","VK_ADLOPRMNL",100,"Add Operator Manual","CAD","311402"]
["M-M30VK_WTY_STD","M-M30","VK_WTY_STD","N/C","Warranty STD","CAD","311402"]
["M-M30VK_SDECLNTOL_PYSB","M-M30","VK_SDECLNTOL_PYSB","N/C","Side Poly Sweep Brh","CAD","311402"]
["M-M30VK_SDEBRSTYP_SCB","M-M30","VK_SDEBRSTYP_SCB",7219,"Side Brush Scrubber","CAD","311402"]
["M-M30VK_ULERTG_D","M-M30","VK_ULERTG_D","N/C","UL® Type D","CAD","311402"]
["M-M30VK_ULERTG_LP","M-M30","VK_ULERTG_LP","N/C","UL® Type LP","CAD","311402"]
["M-M30VK_CLNTCH_ES","M-M30","VK_CLNTCH_ES",6775,"ES® Extended Scrub","CAD","311402"]
["M-1610VK_PKG_WSKD","M-1610","VK_PKG_WSKD","N/C","Skid w/Stretch Wrap","CAD","327003"]
["M-1610VK_CHG_WO","M-1610","VK_CHG_WO",-1006,"Without Charger","CAD","327003"]
["M-1610VK_CHG_19A120V5060H1","M-1610","VK_CHG_19A120V5060H1","N/C","Ch19A 120V 5060H1","CAD","327003"]
["M-1610VK_BTY_WO","M-1610","VK_BTY_WO",-1333,"Without Battery","CAD","327003"]
["M-1610VK_BTY_A200C20","M-1610","VK_BTY_A200C20",745,"Bty AGM 200AH C20","CAD","327003"]
["M-1610VK_ADLOPRMNL","M-1610","VK_ADLOPRMNL",65,"Add Operator Manual","CAD","327003"]
["M-1610VK_BASE_1610","M-1610","VK_BASE_1610",26221,"1610 ReadySpace","CAD","327003"]
["M-1610VK_PARMNL","M-1610","VK_PARMNL",27,"Parts Manual","CAD","327003"]
["M-1610VK_PKG_SSKD","M-1610","VK_PKG_SSKD","N/C","Stack Skid/Carton","CAD","327003"]
["M-1610VK_BTY_W240C20","M-1610","VK_BTY_W240C20","N/C","Bty Wet 240AH C20","CAD","327003"]
["M-STRIVEVK_BASE_STRIVE-560","M-STRIVE","VK_BASE_STRIVE-560",26221,"Strive 560/22","CAD","327004"]
["M-STRIVEVK_OPRMNL","M-STRIVE","VK_OPRMNL","N/C","Oper Manual","CAD","327004"]
["M-STRIVEVK_ADLOPRMNL","M-STRIVE","VK_ADLOPRMNL",65,"Add Operator Manual","CAD","327004"]
["M-STRIVEVK_BTY_W240C20","M-STRIVE","VK_BTY_W240C20","N/C","Bty Wet 240AH C20","CAD","327004"]
["M-STRIVEVK_BTY_WO","M-STRIVE","VK_BTY_WO",-1333,"Without Battery","CAD","327004"]
["M-STRIVEVK_CHG_19A100V5060H1","M-STRIVE","VK_CHG_19A100V5060H1","N/C","Ch19A 100V 5060H1P","CAD","327004"]
["M-STRIVEVK_CHG_WO","M-STRIVE","VK_CHG_WO",-1004,"Without Charger","CAD","327004"]
["M-STRIVEVK_PKG_WSKD","M-STRIVE","VK_PKG_WSKD","N/C","Skid w/Stretch Wrap","CAD","327004"]
["M-STRIVEVK_PARMNL","M-STRIVE","VK_PARMNL",27,"Parts Manual","CAD","327004"]
["M-STRIVEVK_PKG_SSKD","M-STRIVE","VK_PKG_SSKD","N/C","Stack Skid/Carton","CAD","327004"]
["M-STRIVEVK_BTY_A200C20","M-STRIVE","VK_BTY_A200C20",745,"Bty AGM 200AH C20","CAD","327004"]
["M-R14VK_ADLOPRMNL","M-R14","VK_ADLOPRMNL",224,"Add Operator Manual","CAD","327005"]
["M-R14VK_BTYWTRSYS","M-R14","VK_BTYWTRSYS",818,"Battery Watering Sys","CAD","327005"]
["M-R14VK_PKG_SCNS","M-R14","VK_PKG_SCNS","N/C","NonStack Skid/Carton","CAD","327005"]
["M-R14VK_SETBLT","M-R14","VK_SETBLT",126,"Seat Belt","CAD","327005"]
["M-R14VK_BASE_R14-700","M-R14","VK_BASE_R14-700",37776,"R14 700/28","CAD","327005"]
["M-R14VK_CHG_25A100V5060H1","M-R14","VK_CHG_25A100V5060H1","N/C","Ch25A 100V 5060H1P","CAD","327005"]
["M-R14VK_PARMNL","M-R14","VK_PARMNL",27,"Parts Manual","CAD","327005"]
["M-R14VK_SRVMNL","M-R14","VK_SRVMNL","N/C","Service Manual","CAD","327005"]
["M-R14VK_BTY_W360C20","M-R14","VK_BTY_W360C20","N/C","Bty Wet 360AH C20","CAD","327005"]
["M-R14VK_WRNLGTANDALM_ST","M-R14","VK_WRNLGTANDALM_ST",1028,"Strobe Light Tank","CAD","327005"]
["M-R14VK_BTY_WO","M-R14","VK_BTY_WO",-922,"Without Battery","CAD","327005"]
["M-R14VK_CHG_WO","M-R14","VK_CHG_WO",-525,"Without Charger","CAD","327005"]
["M-R14VK_PKG_WSKD","M-R14","VK_PKG_WSKD","N/C","Skid w/Stretch Wrap","CAD","327005"]
["M-R14VK_UTLBSK","M-R14","VK_UTLBSK",323,"Utility Basket","CAD","327005"]
["M-STRIVERIDERVK_PKG_SCNS_NC","M-STRIVERIDER","VK_PKG_SCNS_NC",458,"NonStack Skid/Carton","CAD","327006"]
[{"$f":"B2312&C2312","v":"M-STRIVERIDERVK_BTYWTRSYS"},"M-STRIVERIDER","VK_BTYWTRSYS",818,"Battery Watering Sys","CAD","327006"]
["M-STRIVERIDERVK_PKG_SCNS_NO_CHG","M-STRIVERIDER","VK_PKG_SCNS_NO_CHG","N/C","NonStack Skid/Carton","CAD","327006"]
["M-STRIVERIDERVK_PKG_WSKD_NO_CHG","M-STRIVERIDER","VK_PKG_WSKD_NO_CHG","N/C","Skid w/Stretch Wrap","CAD","327006"]
["M-STRIVERIDERVK_SETBLT","M-STRIVERIDER","VK_SETBLT",126,"Seat Belt","CAD","327006"]
["M-STRIVERIDERVK_ADLOPRMNL","M-STRIVERIDER","VK_ADLOPRMNL",222,"Add Operator Manual","CAD","327006"]
["M-STRIVERIDERVK_BTY_W360C20","M-STRIVERIDER","VK_BTY_W360C20","N/C","Bty Wet 360AH C20","CAD","327006"]
["M-STRIVERIDERVK_BTY_WO","M-STRIVERIDER","VK_BTY_WO",-922,"Without Battery","CAD","327006"]
["M-STRIVERIDERVK_PARMNL","M-STRIVERIDER","VK_PARMNL",27,"Parts Manual","CAD","327006"]
["M-STRIVERIDERVK_WRNLGTANDALM_ST","M-STRIVERIDER","VK_WRNLGTANDALM_ST",1028,"Strobe Light Tank","CAD","327006"]
["M-STRIVERIDERVK_BASE_STRIVERIDER","M-STRIVERIDER","VK_BASE_STRIVERIDER",37776,"Strive Rider","CAD","327006"]
["M-STRIVERIDERVK_CHG_30A120V5060H1","M-STRIVERIDER","VK_CHG_30A120V5060H1","N/C","Ch30A 120V 5060H1P","CAD","327006"]
["M-STRIVERIDERVK_CHG_25A100V5060H1","M-STRIVERIDER","VK_CHG_25A100V5060H1","N/C","Ch25A 100V 5060H1P","CAD","327006"]
["M-STRIVERIDERVK_CHG_WO","M-STRIVERIDER","VK_CHG_WO",-525,"Without Charger","CAD","327006"]
["M-STRIVERIDERVK_OPRMNL","M-STRIVERIDER","VK_OPRMNL","N/C","Oper Manual","CAD","327006"]
["M-STRIVERIDERVK_PKG_SCNS","M-STRIVERIDER","VK_PKG_SCNS","N/C","NonStack Skid/Carton","CAD","327006"]
["M-STRIVERIDERVK_PKG_WSKD","M-STRIVERIDER","VK_PKG_WSKD","N/C","Skid w/Stretch Wrap","CAD","327006"]
["M-STRIVERIDERVK_SRVMNL","M-STRIVERIDER","VK_SRVMNL","N/C","Service Manual","CAD","327006"]
["M-STRIVERIDERVK_UTLBSK","M-STRIVERIDER","VK_UTLBSK",323,"Utility Basket","CAD","327006"]
["M-B5VK_PKG_PAD","M-B5","VK_PKG_PAD","N/C","Pad Wrap","CAD","333010"]
["M-B5VK_CHG_WO","M-B5","VK_CHG_WO",-483,"Without Charger","CAD","333010"]
["M-B5VK_CHG_25A85V5060H1P_ON","M-B5","VK_CHG_25A85V5060H1P_ON","N/C","Ch25A 85V 5060Hz On","CAD","333010"]
["M-B5VK_CHG_25A85V5060H1P_AGM","M-B5","VK_CHG_25A85V5060H1P_AGM","N/C","Ch25A 85V 5060H1P","CAD","333010"]
["M-B5VK_BTY_WO","M-B5","VK_BTY_WO",-520,"Without Battery","CAD","333010"]
["M-B5VK_BTY_W225C20_NC","M-B5","VK_BTY_W225C20_NC","N/C","Bty Wet 225AH C20","CAD","333010"]
["M-B5VK_BTY_W225C20","M-B5","VK_BTY_W225C20",578,"Bty Wet 225AH C20","CAD","333010"]
["M-B5VK_BTY_A234C20","M-B5","VK_BTY_A234C20",3703,"Bty AGM 234AH C20","CAD","333010"]
["M-B5VK_BTY_A140C20","M-B5","VK_BTY_A140C20",2984,"Bty AGM 140AH C20","CAD","333010"]
["M-B5VK_BTYWTRSYS","M-B5","VK_BTYWTRSYS",1115,"Battery Watering Sys","CAD","333010"]
["M-B5VK_BASE_B5-510","M-B5","VK_BASE_B5-510",15366,"B5-510","CAD","333010"]
["M-B5VK_ADLOPRMNL","M-B5","VK_ADLOPRMNL",66,"Add Operator Manual","CAD","333010"]
["M-B5VK_SRVMNL","M-B5","VK_SRVMNL",294,"Service Manual","CAD","333010"]
["M-B5VK_PKG_WSKD","M-B5","VK_PKG_WSKD","N/C","Skid w/Stretch Wrap","CAD","333010"]
["M-B5VK_PARMNL","M-B5","VK_PARMNL",28,"Parts Manual","CAD","333010"]
["M-B5VK_DWNPRS_MEC_NC","M-B5","VK_DWNPRS_MEC_NC","N/C","Mech Down Pressure","CAD","333010"]
["M-B5VK_DWNPRS_MEC","M-B5","VK_DWNPRS_MEC",-658,"Mech Down Pressure","CAD","333010"]
["M-B5VK_DSTCTLSYS_PAS","M-B5","VK_DSTCTLSYS_PAS",-580,"Passive Dust Control","CAD","333010"]
["M-B5VK_DSTCTLFLR_PFB","M-B5","VK_DSTCTLFLR_PFB","N/C","Paper Filter Bag","CAD","333010"]
["M-B5VK_DSTCTLFLR_DFLTB","M-B5","VK_DSTCTLFLR_DFLTB",64,"Dust Filter Bag","CAD","333010"]
["M-B5VK_CLNDRT_PBA","M-B5","VK_CLNDRT_PBA","N/C","Pad / Brush Assist","CAD","333010"]
["M-B5VK_MCHCOM","M-B5","VK_MCHCOM",1916,"IRIS Telemetry","CAD","333010"]
["M-B5VK_PKG_SSKD","M-B5","VK_PKG_SSKD","N/C","Stack Skid/Carton","CAD","333010"]
["M-B5VK_PRGBRK","M-B5","VK_PRGBRK",112,"Parking Brake","CAD","333010"]
["M-B5VK_DWNPRS_AUT","M-B5","VK_DWNPRS_AUT","N/C","Auto Down Pressure","CAD","333010"]
["M-B5VK_DSTCTLSYS_ACT","M-B5","VK_DSTCTLSYS_ACT","N/C","Active Dust Control","CAD","333010"]
["M-B5VK_CLNDRT_SP","M-B5","VK_CLNDRT_SP",4240,"Self Propel","CAD","333010"]
["M-B5VK_CHG_25A85V5060H1P_WET","M-B5","VK_CHG_25A85V5060H1P_WET","N/C","Ch25A 85V 5060H1P","CAD","333010"]
["M-B5VK_BTY_W185C20","M-B5","VK_BTY_W185C20","N/C","Bty Wet 185AH C20","CAD","333010"]
["M-B7VK_BTYWTRSYS","M-B7","VK_BTYWTRSYS",1115,"Battery Watering Sys","CAD","333011"]
["M-B7VK_ADLOPRMNL","M-B7","VK_ADLOPRMNL",66,"Add Operator Manual","CAD","333011"]
["M-B7VK_CHG_25A85V5060H1P_OFF","M-B7","VK_CHG_25A85V5060H1P_OFF","N/C","Ch25A 85V 5060Hz Off","CAD","333011"]
["M-B7VK_BTY_W360C20","M-B7","VK_BTY_W360C20",1432,"Bty Wet 360AH C20","CAD","333011"]
["M-B7VK_BTY_W330C20","M-B7","VK_BTY_W330C20",1189,"Bty Wet 330AH C20","CAD","333011"]
["M-B7VK_BTY_W240C20","M-B7","VK_BTY_W240C20",1072,"Bty Wet 240AH C20","CAD","333011"]
["M-B7VK_BTY_A312C20","M-B7","VK_BTY_A312C20",4763,"Bty AGM 312AH C20","CAD","333011"]
["M-B7VK_PKG_PAD","M-B7","VK_PKG_PAD","N/C","Pad Wrap","CAD","333011"]
["M-B7VK_MCHCOM","M-B7","VK_MCHCOM",1916,"IRIS Telemetry","CAD","333011"]
["M-B7VK_PARMNL","M-B7","VK_PARMNL",28,"Parts Manual","CAD","333011"]
["M-B7VK_BASE_B7-690","M-B7","VK_BASE_B7-690",22228,"B7-690","CAD","333011"]
["M-B7VK_BASE_B7-610","M-B7","VK_BASE_B7-610",20238,"B7-610","CAD","333011"]
["M-B7VK_CHG_25A85V5060H1P_ON","M-B7","VK_CHG_25A85V5060H1P_ON","N/C","Ch25A 85V 5060Hz On","CAD","333011"]
["M-B7VK_BTY_WO","M-B7","VK_BTY_WO","N/C","Without Battery","CAD","333011"]
["M-B7VK_SRVMNL","M-B7","VK_SRVMNL",294,"Service Manual","CAD","333011"]
["M-B7VK_PRGBRK","M-B7","VK_PRGBRK",112,"Parking Brake","CAD","333011"]
["M-B7VK_PKG_WSKD","M-B7","VK_PKG_WSKD","N/C","Skid w/Stretch Wrap","CAD","333011"]
[{"$f":"B2376&C2376","v":"M-B7VK_PKG_SSKD"},"M-B7","VK_PKG_SSKD","N/C","Stack Skid/Carton","CAD","333011"]
["M-B7VK_DWNPRS_MEC","M-B7","VK_DWNPRS_MEC",-658,"Mech Down Pressure","CAD","333011"]
["M-B7VK_DWNPRS_AUT","M-B7","VK_DWNPRS_AUT","N/C","Auto Down Pressure","CAD","333011"]
["M-B7VK_DSTCTLSYS_PAS","M-B7","VK_DSTCTLSYS_PAS",-580,"Passive Dust Control","CAD","333011"]
["M-B7VK_DSTCTLSYS_ACT","M-B7","VK_DSTCTLSYS_ACT","N/C","Active Dust Control","CAD","333011"]
["M-B7VK_DSTCTLFLR_PFB","M-B7","VK_DSTCTLFLR_PFB","N/C","Paper Filter Bag","CAD","333011"]
["M-B7VK_DSTCTLFLR_DFLTB","M-B7","VK_DSTCTLFLR_DFLTB",64,"Dust Filter Bag","CAD","333011"]
["M-B7VK_CHG_WO","M-B7","VK_CHG_WO",-483,"Without Charger","CAD","333011"]
["M-SG5VK_PKG_PAD","M-SG5","VK_PKG_PAD","N/C","Pad Wrap","CAD","333012"]
["M-SG5VK_MCHCOM","M-SG5","VK_MCHCOM",1916,"IRIS Telemetry","CAD","333012"]
["M-SG5VK_CLNDRT_SP","M-SG5","VK_CLNDRT_SP",3382,"Self Propel","CAD","333012"]
["M-SG5VK_CLNDRT_PBA","M-SG5","VK_CLNDRT_PBA","N/C","Pad / Brush Assist","CAD","333012"]
["M-SG5VK_BTY_WO","M-SG5","VK_BTY_WO",-520,"Without Battery","CAD","333012"]
["M-SG5VK_BTY_W225C20_NC","M-SG5","VK_BTY_W225C20_NC","N/C","Bty Wet 225AH C20","CAD","333012"]
["M-SG5VK_BTY_W225C20","M-SG5","VK_BTY_W225C20",578,"Bty Wet 225AH C20","CAD","333012"]
["M-SG5VK_BTY_W185C20","M-SG5","VK_BTY_W185C20","N/C","Bty Wet 185AH C20","CAD","333012"]
["M-SG5VK_BTY_A234C20","M-SG5","VK_BTY_A234C20",3703,"Bty AGM 234AH C20","CAD","333012"]
["M-SG5VK_BASE_SG5-510","M-SG5","VK_BASE_SG5-510",14618,"SG5-510","CAD","333012"]
["M-SG5VK_ADLOPRMNL","M-SG5","VK_ADLOPRMNL",66,"Add Operator Manual","CAD","333012"]
["M-SG5VK_SRVMNL","M-SG5","VK_SRVMNL",294,"Service Manual","CAD","333012"]
["M-SG5VK_PKG_WSKD","M-SG5","VK_PKG_WSKD","N/C","Skid w/Stretch Wrap","CAD","333012"]
["M-SG5VK_PKG_SSKD","M-SG5","VK_PKG_SSKD","N/C","Stack Skid/Carton","CAD","333012"]
["M-SG5VK_DWNPRS_MEC","M-SG5","VK_DWNPRS_MEC","N/C","Mech Down Pressure","CAD","333012"]
["M-SG5VK_DWNPRS_AUT","M-SG5","VK_DWNPRS_AUT",886,"Auto Down Pressure","CAD","333012"]
["M-SG5VK_DSTCTLSYS_PAS","M-SG5","VK_DSTCTLSYS_PAS","N/C","Passive Dust Control","CAD","333012"]
["M-SG5VK_DSTCTLFLR_PFB","M-SG5","VK_DSTCTLFLR_PFB","N/C","Paper Filter Bag","CAD","333012"]
["M-SG5VK_DSTCTLFLR_DFLTB","M-SG5","VK_DSTCTLFLR_DFLTB",64,"Dust Filter Bag","CAD","333012"]
["M-SG5VK_PARMNL","M-SG5","VK_PARMNL",27,"Parts Manual","CAD","333012"]
["M-SG5VK_BTYWTRSYS","M-SG5","VK_BTYWTRSYS",1115,"Battery Watering Sys","CAD","333012"]
["M-SG5VK_CHG_WO","M-SG5","VK_CHG_WO",-483,"Without Charger","CAD","333012"]
["M-SG5VK_DSTCTLSYS_ACT","M-SG5","VK_DSTCTLSYS_ACT",762,"Active Dust Control","CAD","333012"]
["M-SG5VK_PRGBRK","M-SG5","VK_PRGBRK",111,"Parking Brake","CAD","333012"]
["M-SG7VK_PKG_WSKD","M-SG7","VK_PKG_WSKD","N/C","Skid w/Stretch Wrap","CAD","333013"]
["M-SG7VK_PKG_PAD","M-SG7","VK_PKG_PAD","N/C","Pad Wrap","CAD","333013"]
["M-SG7VK_DSTCTLFLR_DFLTB","M-SG7","VK_DSTCTLFLR_DFLTB",64,"Dust Filter Bag","CAD","333013"]
["M-SG7VK_CHG_WO","M-SG7","VK_CHG_WO",-483,"Without Charger","CAD","333013"]
["M-SG7VK_BTY_WO","M-SG7","VK_BTY_WO","N/C","Without Battery","CAD","333013"]
["M-SG7VK_BTY_W330C20","M-SG7","VK_BTY_W330C20",1189,"Bty Wet 330AH C20","CAD","333013"]
["M-SG7VK_BTY_W240C20","M-SG7","VK_BTY_W240C20",1072,"Bty Wet 240AH C20","CAD","333013"]
["M-SG7VK_BTYWTRSYS","M-SG7","VK_BTYWTRSYS",1115,"Battery Watering Sys","CAD","333013"]
["M-SG7VK_BASE_SG7-BTY-690","M-SG7","VK_BASE_SG7-BTY-690",20628,"SG7-B-690","CAD","333013"]
["M-SG7VK_BASE_SG7-BTY-610","M-SG7","VK_BASE_SG7-BTY-610",18636,"SG7-B-610","CAD","333013"]
["M-SG7VK_ADLOPRMNL","M-SG7","VK_ADLOPRMNL",66,"Add Operator Manual","CAD","333013"]
["M-SG7VK_SRVMNL","M-SG7","VK_SRVMNL",294,"Service Manual","CAD","333013"]
["M-SG7VK_PRGBRK","M-SG7","VK_PRGBRK",112,"Parking Brake","CAD","333013"]
["M-SG7VK_PKG_SSKD","M-SG7","VK_PKG_SSKD","N/C","Stack Skid/Carton","CAD","333013"]
["M-SG7VK_DWNPRS_MEC","M-SG7","VK_DWNPRS_MEC","N/C","Mech Down Pressure","CAD","333013"]
["M-SG7VK_DWNPRS_AUT","M-SG7","VK_DWNPRS_AUT",865,"Auto Down Pressure","CAD","333013"]
["M-SG7VK_DSTCTLSYS_PAS","M-SG7","VK_DSTCTLSYS_PAS","N/C","Passive Dust Control","CAD","333013"]
["M-SG7VK_DSTCTLFLR_PFB","M-SG7","VK_DSTCTLFLR_PFB","N/C","Paper Filter Bag","CAD","333013"]
["M-SG7VK_MCHCOM","M-SG7","VK_MCHCOM",1916,"IRIS Telemetry","CAD","333013"]
["M-SG7VK_PARMNL","M-SG7","VK_PARMNL",27,"Parts Manual","CAD","333013"]
["M-SG7VK_BTY_A312C20","M-SG7","VK_BTY_A312C20",4763,"Bty AGM 312AH C20","CAD","333013"]
["M-SG7VK_BTY_W360C20","M-SG7","VK_BTY_W360C20",1432,"Bty Wet 360AH C20","CAD","333013"]
["M-SG7VK_DSTCTLSYS_ACT","M-SG7","VK_DSTCTLSYS_ACT",762,"Active Dust Control","CAD","333013"]
["M-B10VK_ADLOPRMNL","M-B10","VK_ADLOPRMNL",225,"Add Operator Manual","CAD","334002"]
["M-B10VK_BTYWTRSYS","M-B10","VK_BTYWTRSYS",1115,"Battery Watering Sys","CAD","334002"]
["M-B10VK_BTY_W435C20","M-B10","VK_BTY_W435C20","N/C","Bty Wet 435AH C20","CAD","334002"]
["M-B10VK_BTY_WO","M-B10","VK_BTY_WO",-1063,"Without Battery","CAD","334002"]
["M-B10VK_CHG_25A120A5060H1_ON","M-B10","VK_CHG_25A120A5060H1_ON","N/C","Ch25A 120V 5060Hz On","CAD","334002"]
["M-B10VK_PARMNL","M-B10","VK_PARMNL",28,"Parts Manual","CAD","334002"]
["M-B10VK_PKG_SCNS","M-B10","VK_PKG_SCNS","N/C","NonStack Skid/Carton","CAD","334002"]
["M-B10VK_PKG_WSKD","M-B10","VK_PKG_WSKD","N/C","Skid w/Stretch Wrap","CAD","334002"]
["M-B10VK_SRVMNL","M-B10","VK_SRVMNL",294,"Service Manual","CAD","334002"]
[{"$f":"B2440&C2440","v":"M-B10VK_WRNLGTANDALM_ST"},"M-B10","VK_WRNLGTANDALM_ST",1042,"Strobe Light Tank","CAD","334002"]
["M-B10VK_PKG_SCNS_NC","M-B10","VK_PKG_SCNS_NC","N/C","NonStack Skid/Carton","CAD","334002"]
["M-B10VK_BASE_B10-690","M-B10","VK_BASE_B10-690",42995,"B10-690","CAD","334002"]
["M-B10VK_BASE_B10-610","M-B10","VK_BASE_B10-610",41824,"B10-610","CAD","334002"]
["M-B10VK_BTY_A390C20","M-B10","VK_BTY_A390C20",1690,"Bty AGM 390AH C20","CAD","334002"]
["M-B10VK_CHG_25A120A5060H1_OFF","M-B10","VK_CHG_25A120A5060H1_OFF",846,"Ch25A 120V 5060H Off","CAD","334002"]
["M-B10VK_CHG_WO","M-B10","VK_CHG_WO",-322,"Without Charger","CAD","334002"]
["M-B10VK_WLLPROROL","M-B10","VK_WLLPROROL",395,"Wall Protect Rollers","CAD","334002"]
["M-SGRVK_WRNLGTANDALM_ST","M-SGR","VK_WRNLGTANDALM_ST",1042,"Strobe Light Tank","CAD","334003"]
["M-SGRVK_SGR-690","M-SGR","VK_SGR-690",39777,"SGR 690/27","CAD","334003"]
["M-SGRVK_WRNLGTALM_ST","M-SGR","VK_WRNLGTALM_ST",1042,"Strobe Light Tank","CAD","334003"]
["M-SGRVK_SGR-610","M-SGR","VK_SGR-610",38662,"SGR 610/24","CAD","334003"]
["M-SGRVK_PARMNL","M-SGR","VK_PARMNL",27,"Parts Manual","CAD","334003"]
["M-SGRVK_BASE_SGR-690","M-SGR","VK_BASE_SGR-690",41765,"SGR 690/27","CAD","334003"]
["M-SGRVK_BASE_SGR-610","M-SGR","VK_BASE_SGR-610",40594,"SGR 610/24","CAD","334003"]
["M-SGRVK_ADLOPRMNL","M-SGR","VK_ADLOPRMNL",225,"Add Operator Manual","CAD","334003"]
["M-SGRVK_BTYWTRSYS","M-SGR","VK_BTYWTRSYS",1115,"Battery Watering Sys","CAD","334003"]
["M-SGRVK_BTY_A390C20","M-SGR","VK_BTY_A390C20",1690,"Bty AGM 390AH C20","CAD","334003"]
["M-SGRVK_BTY_W435C20","M-SGR","VK_BTY_W435C20","N/C","Bty Wet 435AH C20","CAD","334003"]
["M-SGRVK_BTY_WO","M-SGR","VK_BTY_WO",-1063,"Without Battery","CAD","334003"]
["M-SGRVK_CHG_25A120A5060H1_OFF","M-SGR","VK_CHG_25A120A5060H1_OFF",846,"Ch25A 120V 5060H Off","CAD","334003"]
["M-SGRVK_CHG_25A120A5060H1_ON","M-SGR","VK_CHG_25A120A5060H1_ON","N/C","Ch25A 120V 5060Hz On","CAD","334003"]
["M-SGRVK_CHG_WO","M-SGR","VK_CHG_WO",-322,"Without Charger","CAD","334003"]
["M-SGRVK_DSTCTLSYS_ACT","M-SGR","VK_DSTCTLSYS_ACT",1232,"Active Dust Control","CAD","334003"]
["M-SGRVK_DSTCTLSYS_PAS","M-SGR","VK_DSTCTLSYS_PAS","N/C","Passive Dust Control","CAD","334003"]
["M-SGRVK_OPRMNL","M-SGR","VK_OPRMNL","N/C","Oper Manual","CAD","334003"]
["M-SGRVK_PKG_SCNS","M-SGR","VK_PKG_SCNS","N/C","NonStack Skid/Carton","CAD","334003"]
["M-SGRVK_PKG_WSKD","M-SGR","VK_PKG_WSKD","N/C","Skid w/Stretch Wrap","CAD","334003"]
["M-SGRVK_SRVMNL","M-SGR","VK_SRVMNL",294,"Service Manual","CAD","334003"]
["M-SGRVK_WLLPROROL","M-SGR","VK_WLLPROROL",395,"Wall Protect Rollers","CAD","334003"]
["M-T300eVK_TRMLVL_TRD","M-T300e","VK_TRMLVL_TRD",486]

{"sheet":"MPF SAP Canada Pre-Configured","index":7,"n_rows":224,"n_cols":5,"rows_kept":224,"cut":false,"hidden":true,"merged":[]}
["Master Price File Canada (Canadian MPF) - PreConfigured Machines"]
[]
["Download Date:",null,"2022-11-02"]
["Price Adj Effective Date:",null,"2023-01-01"]
["Table name =",null,"MPF_Table_Canada_PreConfigured"]
[]
["Product Hierarchy","Description","Material","Material Description","2022 List"]
["301003","CS5",1251580,"SCRUBBER [CS5 BATTERY  NAM]",4224]
["301004135","CS16","LPTB03328","SCRUBBER [CS16 BATTERY  NA]",5944]
["302404","S8",9001401,"SWEEPER, 28INCH, 12VDC, GEL, TJ",7569]
["302506","S9 (Battery Sweeper)",1069648,"SWEEPER, 90CM, 12V [S9 NA, W/O B,W/ C]",6792]
["302508","S6",1251268,"SWEEPER [S6 NA EX W/ BATT, CORD]",4606]
["302509","Scout 6",1251270,"SWEEPER [SCOUT 6  W/ BATT, CORD]",4606]
["302510","S7",1251272,"SWEEPER [S7 NA W/ BATT, CORD]",9206]
["302511","Scout 7",1251274,"SWEEPER [SCOUT 7  W BATT, CORD]",9206]
["302601","SS10",9003573,"SWEEPER, NA, FI [S10]",17231]
["304053","S20","MS20-1781","MODEL S20 SWEEPER",52297]
["304053","S20","MS20-5902","MODEL S20 SWEEPER",45502]
["304215","S30","MS30-3567","MODEL S30 RIDER SWEEPER",29211]
["304215","S30","MS30-1766","MODEL S30 RIDER SWEEPER",44940]
["306200","T1",9004191,"SCRUBBER, 38CM, 11L, 120VAC [T1]",6663]
["306200","T1","9004191-H","SCRUBBER, 38CM, 11L, 120VAC [T1]",6663]
["306201","Speed Scrub 15\" (3gal, Cord Elec Cyli","9004200-H","SCRUBBER, 38CM, 11L, 120VAC [SS-15\"]",6663]
["306201","Speed Scrub 15\" (3gal, Cord Elec Cyli",9004200,"SCRUBBER, 38CM, 11L, 120VAC [SS-15]",6663]
["306202","T1B",9008635,"SCRUBBER, 38CM, 11L, 12VDC [T1B NA, AGM]",8611]
["306202","T1B",9016537,"SCRUBBER, 38CM, 11L, 12VDC [T1B AGM IRIS",10176]
["306202","T1B",9008638,"SCRUBBER, 38CM, 11L, 12VDC [T1B NA, Li]",11109]
["306203","SPEEDSCRUB BATT 15\"",9008640,"SCRUBBER, 2 GAL, Li BATT [NOB SS15]",11109]
["306203","SPEEDSCRUB BATT 15\"",9008637,"SCRUBBER, 38CM, 11L, 12VDC [SS-15\", AGM]",8611]
["306300","T2","MV-T2-0001","SCRUBBER, 43CM, PUSH [T2, NA]",11537]
["306300","T2","MV-T2-0008","SCRUBBER, 43CM, PUSH [T2, NA GEL W/BRSH]",10916]
["306304","WB-20  20\" Autoscrub",9002791,"SCRUBBER, 20INCH, 24VDC[WB-20B CTX CMPT]",9715]
["306307","T300","MV-T300-0001","SCRUBBER, 430D, PUSH, MEM [T300D NA]",11848]
["306307","T300","MV-T300-0003","SCRUBBER, 500D, PUSH, MEM [T300D NA]",13316]
["306307","T300","MV-T300-0011","SCRUBBER, 500O, DR, MEM, ECNC[T300 O NA]",19549]
["306307","T300","MV-T300-0007","SCRUBBER, 500D, DR, PRO, ECNC [T300D NA]",19379]
["306307","T300","MV-T300-0010","SCRUBBER, 500O, DR, MEM [T300 O NA]",16644]
["306307","T300","MV-T300-0008","SCRUBBER, 600D, DR, MEM [T300D NA]",17738]
["306307","T300","MV-T300-0004","SCRUBBER, 500D, DR, MEM [T300D NA]",15594]
["306307","T300","MV-T300-0006","SCRUBBER, 500D, DR, PRO [T300D NA]",16474]
["306307","T300","MV-T300-0135","SCRUBBER, 500D, DR, ECNC[T300D, ARMKCB]Y",21894]
["306307","T300","MV-T300-0134","SCRUBBER,500D, DR, ECNC [T300D,ARMK]PW Y",21484]
["306307","T300","MV-T300-0009","SCRUBBER, 600D, DR, PRO, ECNC [T300 NA]",21524]
["306307","T300","MV-T300-0005","SCRUBBER, 500D, DR, MEM, ECNC [T300D NA]",18499]
["306308","T300e","MV-T300E-0007","SCRUBBER, 600D, DR [T300e D NA]",13973]
["306308","T300e","MV-T300E-0002","SCRUBBER, 430D, PUSH [T300e D ECNC NA]",12507]
["306308","T300e","MV-T300E-0004","SCRUBBER, 500D, PUSH, IC,ECN[T300e D NA]",14321]
["306308","T300e","MV-T300E-0010","SCRUBBER, 500O, DR, ECNC [T300e O NA]",17225]
["306308","T300e","MV-T300E-0008","SCRUBBER, 600D, DR, IC, ECNC[T300e D NA]",17914]
["306308","T300e","MV-T300E-0085","SCRUBBER, EX, 500D, PUSH, CNV, 130AH[CA]",11272]
["306308","T300e","MV-T300E-0003","SCRUBBER, 500D, PUSH [T300e D NA]",10752]
["306308","T300e","MV-T300E-0086","SCRUBBER, EX, 500D, PUSH, CNV, AGM [CA]",12992]
["306308","T300e","MV-T300E-0006","SCRUBBER, 500D, DR, IC, ECNC[T300e D NA]",16895]
["306308","T300e","MV-T300E-0027","SCRUBBER, 500O, DR, ECNC [T300e O WM]",19207]
["306308","T300e","MV-T300E-0005","SCRUBBER, 500D,DR,IC,130AH [T300e D NA]",13989]
["306308","T300e","MV-T300E-0009","SCRUBBER, 500O, DR [T300e O NA]",14320]
["306309","SS300","MV-SS300-0006","SCRUBBER, 500D, DR, IC,ECN,130AH[SS300D]",16886]
["306309","SS300","MV-SS300-0003","SCRUBBER, 500D, PUSH, 130AH [SS300D]",10752]
["306309","SS300","MV-SS300-0005","SCRUBBER, 500D, DR, IC, 130AH [SS300D]",13981]
["306309","SS300","MV-SS300-0009","SCRUBBER, 500O, DR, 150AH [SS300 O]",14324]
["306309","SS300","MV-SS300-0010","SCRUBBER, 500O, DR, ECNC, 150AH[SS300 O]",17230]
["306309","SS300","MV-SS300-0012","SCRUBBER, 430D, P, IC,ECNC,130AH[SS300D]",13122]
["306309","SS300","MV-SS300-0001","SCRUBBER, 430D, PUSH, 130AH [SS300D]",9609]
["306309","SS300","MV-SS300-0007","SCRUBBER, 600D, DR, 150AH [SS300D]",13978]
["306309","SS300","MV-SS300-0002","SCRUBBER, 430D, PUSH, ECNC,130AH[SS300D]",12514]
["306309","SS300","MV-SS300-0004","SCRUBBER, 500D, P, IC,ECNC,130AH[SS300D]",14299]
["306309","SS300","MV-SS300-0008","SCRUBBER, 600D, DR, IC,ECNC,150A[SS300D]",17924]
["306327","T290",9022001,"SCRUBBER [T290 50CM, PA, 150AH WET, NA]",8676]
["306327","T290",9022004,"SCRUBBER [T290 50CM, 150AH WET, NA]",10585]
["306327","T290",1255468,"SCRUBBER [T290 50CM, W/O BATT, NA]",9836]
["306327","T290",9022003,"SCRUBBER [T290 50CM, 130AH WET, NA]",10403]
["306327","T290",1255467,"SCRUBBER [T290 50CM, PA, W/O BATT, NA]",7931]
["306327","T290",9022002,"SCRUBBER [T290 50CM, PA, 140AH AGM, NA]",10188]
["306327","T290",9022000,"SCRUBBER [T290 50CM, PA, 130AH WET, NA]",8497]
["306327","T290",9022005,"SCRUBBER [T290 50CM, 140AH AGM, NA]",12094]
["306407","T500","MV-T500-0019","SCRUBBER,T500,650D,MEM,ECNC,225AH,OBC,CA",27165]
["306407","T500","MV-T500-0017","SCRUBBER,T500, 700O, MEM, 225AH, OBC, CA",26040]
["306407","T500","MV-T500-0026","SCRUBBER,T500, 700O, PPAN, 225AH, OBC,CA",31409]
["306407","T500","MV-T500-0023","SCRUBBER,T500,700C,MEM,ECNC,225AH,OBC,CA",30674]
["306407","T500","MV-T500-0025","SCRUBBER,T500, 800D, PPAN, 225AH, OBC,CA",31593]
["306407","T500","MV-T500-0020","SCRUBBER,T500,700D,MEM,ECNC,225AH,OBC,CA",28671]
["306407","T500","MV-T500-0021","SCRUBBER,T500,800D,MEM,ECNC,225AH,OBC,CA",30386]
["306407","T500","MV-T500-0014","SCRUBBER,T500, 650D, MEM, 225AH, OBC, CA",23188]
["306407","T500","MV-T500-0016","SCRUBBER,T500, 800D, MEM, 225AH, OBC, CA",26411]
["306407","T500","MV-T500-0022","SCRUBBER,T500,700O,MEM,ECNC,225AH,OBC,CA",30015]
["306407","T500","MV-T500-0018","SCRUBBER,T500, 700C, MEM, 225AH, OBC, CA",26699]
["306407","T500","MV-T500-0015","SCRUBBER,T500, 700D, MEM, 225AH, OBC, CA",25119]
["306407","T500","MV-T500-0024","SCRUBBER,T500, 700D, PPAN, 225AH, OBC,CA",30463]
["306408","T500e","MV-T500E-0023","SCRUBBER,T500E,650D,ECNC,225AH,OBC,SF,CA",25570]
["306408","T500e","MV-T500E-0017","SCRUBBER, T500E, 800D, 225AH, OBC, CA",22534]
["306408","T500e","MV-T500E-0050","SCRUBBER, T500E,800D,CNV,225AH,OBC,PW,WM",25920]
["306408","T500e","MV-T500E-0024","SCRUBBER,T500E,700D,ECNC,225AH,OBC,SF,CA",26260]
["306408","T500e","MV-T500E-0021","SCRUBBER, T500E, 800D, 225AH, OBC, SF,CA",23818]
["306408","T500e","MV-T500E-0025","SCRUBBER,T500E,800D,ECNC,225AH,OBC,SF,CA",27792]
["306408","T500e","MV-T500E-0018","SCRUBBER, T500E, 700O, 225AH, OBC, CA",22343]
["306408","T500e","MV-T500E-0015","SCRUBBER, T500E, 650D, 225AH, OBC, CA",20312]
["306408","T500e","MV-T500E-0016","SCRUBBER, T500E, 700D, 225AH, OBC, CA",20955]
["306408","T500e","MV-T500E-0020","SCRUBBER, T500E, 700D, 225AH, OBC, SF,CA",22659]
["306408","T500e","MV-T500E-0026","SCRUBBER,T500E,700O,ECNC,225AH,OBC,SF,CA",27601]
["306408","T500e","MV-T500E-0022","SCRUBBER, T500E, 700O, 225AH, OBC, SF,CA",23626]
["306408","T500e","MV-T500E-0051","SCRUBBER,T500E, 700D,CNV,225AH,OBC,PW,WM",24753]
["306408","T500e","MV-T500E-0019","SCRUBBER, T500E, 650D, 225AH, OBC, SF,CA",21595]
["306408","T500e","MV-T500E-0049","SCRUBBER, T500E 800D, CNV, 225AH,OBC,WM",26348]
["306409","SS500","MV-SS500-0015","SCRUBBER, SS500, 800D, 225AH, OBC, CA",22534]
["306409","SS500","MV-SS500-0016","SCRUBBER, SS500, 700O, 225AH, OBC, CA",22343]
["306409","SS500","MV-SS500-0020","SCRUBBER, SS500, 700O, 225AH, OBC, SF,CA",23626]
["306409","SS500","MV-SS500-0024","SCRUBBER,SS500,700O,ECNC,225AH,OBC,SF,CA",27601]
["306409","SS500","MV-SS500-0021","SCRUBBER,SS500,650D,ECNC,225AH,OBC,SF,CA",25570]
["306409","SS500","MV-SS500-0019","SCRUBBER, SS500, 800D, 225AH, OBC, SF,CA",23818]
["306409","SS500","MV-SS500-0010","SCRUBBER,SS500,700D,ECNC,225AH,OBC,SF,PW",26631]
["306409","SS500","MV-SS500-0022","SCRUBBER,SS500,700D,ECNC,225AH,OBC,SF,CA",26786]
["306409","SS500","MV-SS500-0023","SCRUBBER,SS500,800D,ECNC,225AH,OBC,SF,CA",27792]
["306409","SS500","MV-SS500-0014","SCRUBBER, SS500, 700D, 225AH, OBC, CA",21376]
["306409","SS500","MV-SS500-0013","SCRUBBER, SS500, 650D, 225AH, OBC, CA",20309]
["306409","SS500","MV-SS500-0018","SCRUBBER SS500, 700D, 225AH, OBC, SF, CA",22659]
["306409","SS500","MV-SS500-0017","SCRUBBER, SS500, 650D, 225AH, OBC, SF,CA",21595]
["306413","T390",9022007,"SCRUBBER [T390, 70CM, 140AH AGM, NA]",15919]
["306413","T390",9022006,"SCRUBBER [T390, 70CM, 150AH WET, NA]",14408]
["306413","T390",1255469,"SCRUBBER [T390, 70CM, W/O BATT, NA]",13842]
["306505","T600e","MV-T600E-0001","SCRUBBER, T600E, 700D, CNV, 360AH [CA]",26975]
["306505","T600e","MV-T600E-0012","SCRUBBER,T600E,800D, CNV, 360AH [CA]",28123]
["307200","2180SR",9017766,"SCRUBBER [2180SR 50CM NA AND EXPORT]",14295]
["307202","T581",9022009,"SCRUBBER [T581, 50CM, 140AH AGM, NA]",18320]
["307202","T581",1255470,"SCRUBBER [T581, 50CM, W/O BATT, NA]",16243]
["307202","T581",9022008,"SCRUBBER [T581, 50CM, 150AH WET, NA]",16810]
["307500","T7","MV-T7-0049","SCRUBBER, T7, 650D, CNV, 220AH AGM [CA]",36542]
["307500","T7","MV-T7-0073","MV T7 SCRUBBER, 800 DISK [WM]",41069]
["307500","T7","MV-T7-0001","SCRUBBER, 650MM, DISK [T7 RIDER]",32400]
["307500","T7","MV-T7-0048","SCRUBBER, T7, 650D, ECNC, 240AH [CA]",38675]
["307500","T7","MV-T7-0047","SCRUBBER, T7, 650D, CNV, 240AH [CA]",34211]
["307500","T7","MV-T7-0050","SCRUBBER, T7, 650D, ECNC, 220AH AGM [CA]",41006]
["307500","T7","MV-T7-0045","SCRUBBER, 800MM, DISK, 360AH[T7 WALMART",37550]
["307500","T7","MV-T7-0078","SCRUBBER, 650MM, DISK, CNV [T7], [MX]",34859]
["307500","T7","MV-T7-0074","MV T7 SCRUBBER, 800 DISK [WM] PW",40608]
["307600","T12","MV-T12-0011","SCRUBBER MODEL T12, DISK, GRAINGER [US]",38684]
["307600","T12","MV-T12-0012","SCRUBBER MODEL T12, CYL, GRAINGER [US]",39735]
["309100","T350","MV-T350-0013","SCRUBBER,T350,500D,MEM,CNV,210AH,OBC[CA]",20289]
["309100","T350","MV-T350-0017","SCRUBBER,T350,600D,MEM,ECNC,240AH,OBC[CA",27354]
["309100","T350","MV-T350-0033","SCRUBBER,T350,500D,MEM,CNV,210AH,OBC[CA]",21516]
["309100","T350","MV-T350-0016","SCRUBBER,T350,600D,MEM,CNV,210AH,OBC[CA]",22548]
["309100","T350","MV-T350-0015","SCRUBBER, T350,500D,PPAN,ECNC,240AH [CA]",26447]
["309100","T350","MV-T350-0018","SCRUBBER, T350,600D,PPAN,ECNC,240AH [CA]",28705]
["309100","T350","MV-T350-0032","SCRUBBER,T350,600D,MEM,CNV,210AH,SF [CA]",23426]
["309100","T350","MV-T350-0014","SCRUBBER,T350,500D,MEM,ECNC,240AH,OBC[CA",25095]
["309200","SS350","MV-SS350-0011","SCRUBBER,SS350,600D,MEM,CNV,210AH,OBC[CA",22548]
["309200","SS350","MV-SS350-0012","SCRUBBER, SS350,600D,MEM,ECNC,240AH [CA]",27354]
["309200","SS350","MV-SS350-0010","SCRUBBER, SS350,500D,MEM,ECNC,240AH [CA]",25092]
["309200","SS350","MV-SS350-0009","SCRUBBER, SS350,500D,MEM,CNV,210AH [CA]",20286]
["311302","M20","MM20-2032","MODEL M20 SCRUBBER/SWEEPER",32582]
["311302","M20","MV-M20-0032","M20, LP, MEM, CNV [BRAZIL]",110504]
["311302","M20","MM20-3250","MODEL M20 SCRUBBER/SWEEPER",50558]
["311302","M20","MM20-3461","MODEL M20 SCRUBBER/SWEEPER",44812]
["321020","V-BP-6",1217839,"VACUUM, V-BP-6, 120V [TENNANT MEX]",859]
["321020","V-BP-6",9013473,"VACUUM, BACKPACK, W/BASE TOOLS [V-BP-6]",1058]
["321020","V-BP-6",9013475,"VACUUM, BACKPACK, W/PREM TOOLS [V-BP-6]",1248]
["321020","V-BP-6",1060830,"VACUUM, V-BP-6, 120V",950]
["321020","V-BP-6",1215364,"VACUUM, BACKPACK, 120V [TENNANT V-BP-6]",800]
["321020","V-BP-6",9013474,"VACUUM, BACKPACK, W/STD TOOLS [V-BP-6]",1092]
["321023","Aspen 6",1215365,"VACUUM, BACKPACK, 120V [NOBLES ASPEN 6]",830]
["321023","Aspen 6",9013476,"VACUUM, BACKPACK, W/BASE TOOLS [ASPEN 6]",1058]
["321023","Aspen 6",9013478,"VACUUM, BACKPACK, W/PREM TOOLS [ASPEN 6]",1248]
["321023","Aspen 6",9013477,"VACUUM, BACKPACK, W/STD TOOLS [ASPEN 6]",1092]
["321025","V-BP-6B",9017571,"VACUUM, BACKPACK, W/PREM TOOLS[V-BP-6B]",3001]
["321025","V-BP-6B",1236569,"VACUUM, BATTERY [TENNANT, V-BP-6B]",1550]
["321025","V-BP-6B",9017567,"VACUUM, BACKPACK, W/BASIC TOOLS[V-BP-6B]",2722]
["321025","V-BP-6B",9017570,"VACUUM, BACKPACK, W/STD TOOLS [V-BP-6B]",2815]
["321026","Aspen 6B",9017569,"VACUUM, BACKPACK, W/STD TOOLS [ASPEN 6B]",2815]
["321026","Aspen 6B",9017572,"VACUUM, BACKPACK, W/PREM TOOLS[ASPEN 6B]",3001]
["321026","Aspen 6B",9017568,"VACUUM, BACKPACK, W/BASIC TOOLS[ASPEN6B]",2722]
["322075","V-CAN-10",1244292,"VACUUM, CANISTER, 120V [V-CAN-10, NA]",449]
["322076","V-CAN-12",1252616,"VACUUM, CANISTER, 120V [V-CAN-12,NA,STD]",621]
["322077","V-CAN-16",1252618,"VACUUM, CANISTER, 120V [V-CAN-16,NA,STD]",764]
["322078","Denali-10",1244294,"VACUUM, CANISTER, 120V [DENALI-10, NA]",449]
["322079","Denali-12",1252617,"VACUUM, CANISTER,120V [DENALI-12,NA,STD]",621]
["322080","Denali-16",1252619,"VACUUM, CANISTER,120V [DENALI-16,NA,STD]",764]
["323123","V-SMU-14",1060829,"VACUUM, V-SMU-14, 120V",866]
["323126","V-DMU-14",1068027,"VACUUM, V-DMU-14, 120V",1131]
["323129","V-WA-30",1068029,"VACUUM, 120VAC [V-WA-30]",5646]
["323132","V-LWU-13B",1236914,"VACUUM, BATTERY [TENNANT, V-LWU-13B]",1328]
["323133","Independence",1236915,"VACUUM, BATTERY [NOBLES,INDEPENDENCE]",1328]
["324075","V-WD-9",1244345,"VACUUM, WET/DRY, 120V [V-WD-9, NA]",804]
["324076","V-WD-24P",9019349,"VACUUM, WET/DRY, 120V [V-WD-24P, W/SQGE]",3128]
["324076","V-WD-24P",1244346,"VACUUM, WET/DRY, 120V [V-WD-24P, NA]",2519]
["324077","V-WD-24",9019348,"VACUUM, WET/DRY, 120V [V-WD-24, W/SQGE]",1882]
["324077","V-WD-24",1245656,"VACUUM, WET/DRY, 120V [V-WD-24, NA]",1273]
["326025","EX-CAN-10",9007483,"CANISTER, 10GAL [EX-CAN-10]PAC120VCSA-SI",3844]
["326026","EX-CAN-15-HPH",9007628,"CANISTER, 15G [EX-CAN-15-HP]120V CSA-SI",4358]
["326036","EH5",1072858,"EXTRACTOR, 120V, 500PSI, HEAT [EH5]",10023]
["326036","EH5",9011454,"EXTRACTOR, FLOOR TOOL [TCO EH5 PAC]",11983]
["326038","EC2",1072862,"EXTRACTOR, 120V, 200PSI, HEAT [EC2]",5810]
["326038","EC2",9011638,"EXTRACTOR, FLOOR TOOL [TCO EC2 PAC]",7216]
["326038","EC2",9012278,"EXTRACTOR, FLOOR TOOL, TI [TCO EC2 PAC]",7767]
["327002","R3 ReadySpace (15\" Cord Electric)",9004192,"READYSPACE, 5 GAL, 120VAC, TCO [R3]",8181]
["327002","R3 ReadySpace (15\" Cord Electric)","9004192-H","READYSPACE, 5 GAL, 120VAC, TCO [R3]",8181]
["327003","1610 w/ ReadySpace (Tennant)","MV-1610-0001","READYSPACE, 21GAL TCO [1610]",26221]
["327003","1610 w/ ReadySpace (Tennant)","MV-1610-0002","READYSPACE, 21GAL TCO [1610 AGM BAT]",26964]
["327004","Strive w/ ReadySpace (Nobles)",9000504,"READYSPACE, 21GAL [STRIVE]  W/O BAT",23192]
["327004","Strive w/ ReadySpace (Nobles)","MV-STRV-0001","READYSPACE, 21GAL NOB [STRIVE]",26221]
["327004","Strive w/ ReadySpace (Nobles)","MV-STRV-0002","READYSPACE, 21GAL NOB [STRIVE AGM BAT]",26964]
["327007","Nobles ReadySpace (15\" Cord Electric)","9004202-H","READYSPACE, 5 GAL, NOB [STRIVE COMPACT]",8181]
["327007","Nobles ReadySpace (15\" Cord Electric)",9004202,"READYSPACE, 5 GAL, NOB [STRIVE COMPACT]",8181]
["328033","EX-SC-1020",9007486,"EXTRACTOR, 10GAL 20W[120V UL EX-SC-1020]",6659]
["329006","EX-SPOT-2-KIT",9007827,"EXTRACTOR, 2GAL, PAC CSA-SI",1888]
["331018","Nobles E5 (5-Gal Cord)",9004201,"EXTRACTOR, 5GAL, NOB [SPEED EX-15]",6484]
["331018","Nobles E5 (5-Gal Cord)","9004201-H","EXTRACTOR, 5GAL, NOB [SPEED EX-15\"]",6484]
["331019","E5 (5-Gal Cord Electric)","9004194-H","EXTRACTOR, 5GAL, 120VAC, TCO [E5]]",6484]
["331019","E5 (5-Gal Cord Electric)",9004194,"EXTRACTOR, 5GAL, 120VAC, TCO [E5]",6484]
["331021","Falcon 2800 Plus",608352,"EXTRACTOR, 28GAL [NOB FACN 2800 PLS]120V",18376]
["331021","Falcon 2800 Plus",609260,"EXTRACTOR, 28GAL [NOB 2800 PLS]CSA-SI",18375]
["331022","Falcon Ultra B",608351,"EXTRACTOR, 17GAL [NOB FLCN ULTRA] PAC",19984]
["331022","Falcon Ultra B",608350,"EXTRACTOR, 17GAL [NOB FLCN ULTRA]24VDC",17722]
["331022","Falcon Ultra B",609255,"FALCON ULTRA B PAC NOBLES CAN",18667]
["331023","1510 Battery",614002,"EXTRACTOR, 21GAL 22W, 24V W/ BAT [1510]",23196]
["331023","1510 Battery",614001,"EXTRACTOR, 21GAL 22W, 24V W/O BAT[1510]",20700]
["331024","1530 Cord Electric",614000,"EXTRACTOR, 30GAL 22W, 120V [1530]",18241]
["332107","BR-2000-DC",9007349,"BURNISHER, 20INCH [BR-2000-DC] 120V",5166]
["336235","FM-20-SS",9007336,"FLOOR MACH, 20\" HD [FM-20-SS] 120/60",2388]
["336236","FM-20-DS",9007334,"FLOOR MACH, 20 DS [FM-20-DS] 120/60",3712]
["341076","ASC-15",9007449,"CANISTER, 15 GAL [ASC-15] 120V CSA-SI",9063]
["341081","Dryer (Generic)",9014819,"BLOWER, FLOOR, 3-SPEED, 120V",587]
["341141","Q12",9011458,"CLEANER, FLOOR TOOL [TCO Q12 PAC]",19066]
["341141","Q12",1072856,"CLEANER, HARD SURF, 120V, 1200PSI [Q12]",15633]
["341150","iCart",1232057,"MOP CART KIT [i-mop I-CART L]",2756]
["341151","I-mop Cabinet",1233400,"CABINET ASSY, STORAGE [IMOP]",1872]

{"sheet":"Dual_Tech_ReadySpace_1610","index":8,"n_rows":199,"n_cols":18,"rows_kept":199,"cut":false,"hidden":false,"merged":[[115,3,115,4],[115,5,115,6],[116,3,116,4],[116,5,116,6],[120,3,120,4],[120,5,120,6],[117,3,117,4],[117,5,117,6],[118,3,118,4],[118,5,118,6],[119,3,119,4],[119,5,119,6],[0,2,0,3],[1,2,1,3],[2,2,2,3],[3,2,3,3],[109,3,109,6],[93,3,93,4],[93,5,93,6],[12,1,12,5],[22,1,22,5],[23,1,23,5],[24,1,24,5],[91,3,91,4],[91,5,91,6],[41,1,41,3],[111,3,111,4],[112,3,112,4],[107,4,107,8],[159,0,159,1],[159,2,159,5],[151,0,151,1],[151,2,151,5],[152,2,152,5],[153,0,153,1],[153,2,153,5],[129,1,129,6],[148,4,148,6],[150,0,150,1],[150,2,150,5],[114,3,114,4],[114,5,114,6],[166,2,166,5],[175,4,175,5],[158,2,158,5],[154,0,154,1],[154,2,154,5],[156,0,156,1],[156,2,156,5],[157,0,157,1],[157,2,157,5],[160,0,160,1],[160,2,160,5],[162,4,162,6],[164,2,164,5],[165,2,165,5]]}
["Dual_Tech_ReadySpace_1610",null,{"$f":"Start_Here!$C19","v":"Company Name"}]
[{"$f":"SUM(G86)","v":0},null,{"$f":"Start_Here!$C20","v":"Address"}]
[null,null,{"$f":"Start_Here!$C21","v":"City, State Zip"}]
[null,null,{"$f":"Start_Here!$C22","v":"Contact Name"}]
[null,null,{"$f":"Start_Here!$C$41","v":"Rep Name"}]
[null,null,{"$f":"Start_Here!$C$37","v":"Tennant Sales and Service Company"}]
[null,null,{"$f":"Start_Here!$C$38","v":"10400 Clean Street"}]
[null,null,{"$f":"Start_Here!$C$39","v":"Eden Prairie, MN 55344"}]
[null,null,{"$f":"Start_Here!$C$43","v":"800-553-8033"},null,"Quote Date :",null,{"$f":"Letter!$A$25","v":"2020-09-22"}]
[]
[null,null,{"$f":"Help!C2","v":"CAN Date Rev - 9/30/2024"}]
[]
[null,"BUILT-IN “TENNANT VALUE” INCLUDES:"]
[]
[null,"ReadySpace® cleaning technology and deep extraction",null,"Standard (4) 6V 240 AH battery pack "]
[null,"560mm/22\" cleaning path",null,"Battery Tray"]
[null,"72 l/21-gal. solution and recovery tanks",null,"19 AH Off-board charger"]
[null,"One set of ReadySpace® rollers & extraction brushes",null,"Rugged DuramerTM Tank Construction"]
[null,"High Traction Tires",null,"Operators video"]
[null,"Battery Discharger Indicator",null,"Operators manual"]
[null,"Hour meter ",null,"CRI certified, Bronze Cleaning Performance"]
[]
[null,"TENNANT COMPANY WARRANTY"]
[null,"3 YEARS OR 2500 HOURS ON ALL COMPONENTS, 3 YEARS LABOR"]
[null,"90 DAYS TRAVEL, 10 YEARS ON DURAMERTM TANKS"]
[]
[]
[null,null,null,null,"                Quote Request Information"]
[null,null,null,null,null,null,"Fax (quote only)"," "]
[null,null,null,null,null,null,"Mail (quote,lit, specs)"," "]
[null,null,null,null,null,null,"Fax + Mail"," "]
[]
[null,null,null,null,"                Primary Use"]
[null,null,null,null,null,null,"Inside"]
[null,null,null,null,null,null,"Outside"]
[]
[null,null,"Description","Reference  #","Price Each","Qty","Extended Price"]
[null,null,null,null,null,"*"]
[null,"Pre-Configured Machines (Note 1)",null,null,null,{"$f":"SUM(F40:F41)","v":0}]
[null,null,"1610 ReadySpace Walk-Behind  w/ Wet 240AH Battery and Charger","MV-1610-0001",26221,null,{"$f":"F40*E40","v":0},{"$f":"IFERROR(IFERROR(VLOOKUP(D40,Surcharge!A:B,2,FALSE)*F40, VLOOKUP(D40 & \"\",Surcharge!A:B,2,FALSE)*F40), \"\")","v":0},null,null,null,null,null,null,null,null,{"$f":"VLOOKUP(D40,'MPF SAP Canada Pre-Configured'!$C:$E,3,FALSE)","v":26221}]
[null,null,"1610 ReadySpace Walk-Behind  w/ AGM 200AH Battery and Charger","MV-1610-0002",26964,null,{"$f":"F41*E41","v":0},{"$f":"IFERROR(IFERROR(VLOOKUP(D41,Surcharge!A:B,2,FALSE)*F41, VLOOKUP(D41 & \"\",Surcharge!A:B,2,FALSE)*F41), \"\")","v":0},null,null,null,null,null,null,null,null,{"$f":"VLOOKUP(D41,'MPF SAP Canada Pre-Configured'!$C:$E,3,FALSE)","v":26964}]
[null,"All Pre-Configured Machines are packaged in a Skid w/Carton for shipment via LTL carriers.  No additional options can be added or changed.",null,null,null,{"$f":"SUM(F39)","v":0},null,{"$f":"IFERROR(IFERROR(VLOOKUP(D42,Surcharge!A:B,2,FALSE)*F42, VLOOKUP(D42 & \"\",Surcharge!A:B,2,FALSE)*F42), \"\")","v":""}]
[null,null,null,null,null,null,null,{"$f":"IFERROR(IFERROR(VLOOKUP(D43,Surcharge!A:B,2,FALSE)*F43, VLOOKUP(D43 & \"\",Surcharge!A:B,2,FALSE)*F43), \"\")","v":""}]
[null,"Base Configuration",null,null,null,{"$f":"SUM(F45,F48,F53)","v":0},null,{"$f":"IFERROR(IFERROR(VLOOKUP(D44,Surcharge!A:B,2,FALSE)*F44, VLOOKUP(D44 & \"\",Surcharge!A:B,2,FALSE)*F44), \"\")","v":""}]
[null,null,"Cleaning Type",null,null,{"$f":"SUM(F46)","v":0},null,{"$f":"IFERROR(IFERROR(VLOOKUP(D45,Surcharge!A:B,2,FALSE)*F45, VLOOKUP(D45 & \"\",Surcharge!A:B,2,FALSE)*F45), \"\")","v":""},null,null,null,{"$f":"SUM(F45)","v":0},"Surcharge Qty"]
[null,null,"1610 Walk-Behind Dual Technolgy Carpet Maintainer 560mm/22\"","1610-560",26221,null,{"$f":"F46*E46","v":0},{"$f":"IFERROR(IFERROR(VLOOKUP(D46,Surcharge!A:B,2,FALSE)*F46, VLOOKUP(D46 & \"\",Surcharge!A:B,2,FALSE)*F46), \"\")","v":0},null,null,null,null,null,null,null,null,{"$f":"VLOOKUP(R46,'MPF SAP Download Canada'!$A:$D,4,FALSE)","v":26221},"M-1610VK_BASE_1610"]
[null,null,null,null,null,null,null,{"$f":"IFERROR(IFERROR(VLOOKUP(D47,Surcharge!A:B,2,FALSE)*F47, VLOOKUP(D47 & \"\",Surcharge!A:B,2,FALSE)*F47), \"\")","v":""}]
[null,null,"Battery Type",null,null,{"$f":"SUM(F49:F51)","v":0},null,{"$f":"IFERROR(IFERROR(VLOOKUP(D48,Surcharge!A:B,2,FALSE)*F48, VLOOKUP(D48 & \"\",Surcharge!A:B,2,FALSE)*F48), \"\")","v":""}]
[null,null,"Wet 240AH C/20  (Kit of 4 batteries)",9012452,"N/C",null,{"$f":"IF(F49=0,\" \",\"N/C\")","v":" "},{"$f":"IFERROR(IFERROR(VLOOKUP(D49,Surcharge!A:B,2,FALSE)*F49, VLOOKUP(D49 & \"\",Surcharge!A:B,2,FALSE)*F49), \"\")","v":""},null,null,null,null,null,null,null,null,{"$f":"VLOOKUP(R49,'MPF SAP Download Canada'!$A:$D,4,FALSE)","v":"N/C"},"M-1610VK_BTY_W240C20"]
[null,null,"Sealed/MF AGM 200AH C/20  (Kit of 4 batteries)",9012454,745,null,{"$f":"F50*E50","v":0},{"$f":"IFERROR(IFERROR(VLOOKUP(D50,Surcharge!A:B,2,FALSE)*F50, VLOOKUP(D50 & \"\",Surcharge!A:B,2,FALSE)*F50), \"\")","v":""},null,null,null,null,null,null,null,null,{"$f":"VLOOKUP(R50,'MPF SAP Download Canada'!$A:$D,4,FALSE)","v":745},"M-1610VK_BTY_A200C20"]
[null,null,"Without Battery   ",null,-1333,null,{"$f":"F51*E51","v":0},{"$f":"IFERROR(IFERROR(VLOOKUP(D51,Surcharge!A:B,2,FALSE)*F51, VLOOKUP(D51 & \"\",Surcharge!A:B,2,FALSE)*F51), \"\")","v":""},null,null,null,null,null,null,null,null,{"$f":"VLOOKUP(R51,'MPF SAP Download Canada'!$A:$D,4,FALSE)","v":-1333},"M-1610VK_BTY_WO"]
[null,null,null,null,null,null,null,{"$f":"IFERROR(IFERROR(VLOOKUP(D52,Surcharge!A:B,2,FALSE)*F52, VLOOKUP(D52 & \"\",Surcharge!A:B,2,FALSE)*F52), \"\")","v":""}]
[null,null,"Charger",null,null,{"$f":"SUM(F54:F56)","v":0},null,{"$f":"IFERROR(IFERROR(VLOOKUP(D53,Surcharge!A:B,2,FALSE)*F53, VLOOKUP(D53 & \"\",Surcharge!A:B,2,FALSE)*F53), \"\")","v":""}]
[null,null,"19A 120V-240V AC 50/60Hz 1Ph ",1029256,"N/C",null,{"$f":"IF(F54=0,\" \",\"N/C\")","v":" "},{"$f":"IFERROR(IFERROR(VLOOKUP(D54,Surcharge!A:B,2,FALSE)*F54, VLOOKUP(D54 & \"\",Surcharge!A:B,2,FALSE)*F54), \"\")","v":""},null,null,null,null,null,null,null,null,{"$f":"VLOOKUP(R54,'MPF SAP Download Canada'!$A:$D,4,FALSE)","v":"N/C"},"M-1610VK_CHG_19A120V5060H1"]
[null,null,"19A 120V-240V AC 50/60Hz 1Ph (for sealed batteries)",1058164,"N/C",null,{"$f":"IF(F55=0,\" \",\"N/C\")","v":" "},{"$f":"IFERROR(IFERROR(VLOOKUP(D55,Surcharge!A:B,2,FALSE)*F55, VLOOKUP(D55 & \"\",Surcharge!A:B,2,FALSE)*F55), \"\")","v":""},null,null,null,null,null,null,null,null,{"$f":"VLOOKUP(R55,'MPF SAP Download Canada'!$A:$D,4,FALSE)","v":"N/C"},"M-1610VK_CHG_19A120V5060H1"]
[null,null,"Without  Charger",null,-1006,null,{"$f":"F56*E56","v":0},{"$f":"IFERROR(IFERROR(VLOOKUP(D56,Surcharge!A:B,2,FALSE)*F56, VLOOKUP(D56 & \"\",Surcharge!A:B,2,FALSE)*F56), \"\")","v":""},null,null,null,null,null,null,null,null,{"$f":"VLOOKUP(R56,'MPF SAP Download Canada'!$A:$D,4,FALSE)","v":-1006},"M-1610VK_CHG_WO"]
[null,null,null,null,null,null,null,{"$f":"IFERROR(IFERROR(VLOOKUP(D57,Surcharge!A:B,2,FALSE)*F57, VLOOKUP(D57 & \"\",Surcharge!A:B,2,FALSE)*F57), \"\")","v":""}]
[null,"Support",null,"Reference Number",null,{"$f":"SUM(F59:F63)","v":0},null,{"$f":"IFERROR(IFERROR(VLOOKUP(D58,Surcharge!A:B,2,FALSE)*F58, VLOOKUP(D58 & \"\",Surcharge!A:B,2,FALSE)*F58), \"\")","v":""}]
[null,null,"1610 Operator Manual (English/Spanish/French)",9003458,"N/C",null,{"$f":"IF(F59=0,\" \",\"N/C\")","v":" "},{"$f":"IFERROR(IFERROR(VLOOKUP(D59,Surcharge!A:B,2,FALSE)*F59, VLOOKUP(D59 & \"\",Surcharge!A:B,2,FALSE)*F59), \"\")","v":""},null,null,null,null,null,null,null,null,{"$f":"VLOOKUP(R59,'MPF SAP Download Canada'!$A:$D,4,FALSE)","v":{"$error":"#N/A"}},"M-1610"]
[null,null,"Additional Operator Manual","see above",65,null,{"$f":"F60*E60","v":0},{"$f":"IFERROR(IFERROR(VLOOKUP(D60,Surcharge!A:B,2,FALSE)*F60, VLOOKUP(D60 & \"\",Surcharge!A:B,2,FALSE)*F60), \"\")","v":""},null,null,null,null,null,null,null,null,{"$f":"VLOOKUP(R60,'MPF SAP Download Canada'!$A:$D,4,FALSE)","v":65},"M-1610VK_ADLOPRMNL"]
[null,null,"Parts Manual (English)",9003456,27,null,{"$f":"F61*E61","v":0},{"$f":"IFERROR(IFERROR(VLOOKUP(D61,Surcharge!A:B,2,FALSE)*F61, VLOOKUP(D61 & \"\",Surcharge!A:B,2,FALSE)*F61), \"\")","v":""},null,null,null,null,null,null,null,null,{"$f":"VLOOKUP(R61,'MPF SAP Download Canada'!$A:$D,4,FALSE)","v":27},"M-1610VK_PARMNL"]
[null,null,null,null,null,null,null,{"$f":"IFERROR(IFERROR(VLOOKUP(D62,Surcharge!A:B,2,FALSE)*F62, VLOOKUP(D62 & \"\",Surcharge!A:B,2,FALSE)*F62), \"\")","v":""}]
[null,null,"Packaging",null,null,{"$f":"SUM(F64:F64)","v":0},null,{"$f":"IFERROR(IFERROR(VLOOKUP(D63,Surcharge!A:B,2,FALSE)*F63, VLOOKUP(D63 & \"\",Surcharge!A:B,2,FALSE)*F63), \"\")","v":""}]
[null,null,"Skid w/Carton, Stackable",9012455,"N/C",null,{"$f":"IF(F64=0,\" \",\"N/C\")","v":" "},{"$f":"IFERROR(IFERROR(VLOOKUP(D64,Surcharge!A:B,2,FALSE)*F64, VLOOKUP(D64 & \"\",Surcharge!A:B,2,FALSE)*F64), \"\")","v":""},null,null,null,null,null,null,null,null,{"$f":"VLOOKUP(R64,'MPF SAP Download Canada'!$A:$D,4,FALSE)","v":"N/C"},"M-1610VK_PKG_SSKD"]
[]
[]
[null,"Custom Solution--write in description, qty, price, and PN if applicable",null,null,null,{"$f":"SUM(F68)","v":0}]
[null,null,null,null,"Insert Prices Here",{"$f":"SUM(F69:F72)","v":0}]
[null,null,null,"Custom",null,{"$f":"IF(E69 <> \"\", 1, 0)","v":0},{"$f":"F69*E69","v":0}]
[null,null,null,"Custom",null,{"$f":"IF(E70 <> \"\", 1, 0)","v":0},{"$f":"F70*E70","v":0}]
[null,null,null,"Custom",null,{"$f":"IF(E71 <> \"\", 1, 0)","v":0},{"$f":"F71*E71","v":0}]
[null,null,null,"Custom",null,{"$f":"IF(E72 <> \"\", 1, 0)","v":0},{"$f":"F72*E72","v":0}]
[null,null,null,null,{"$f":"ROUND(SUM(G40:G72), 0)","v":0},{"$f":"SUM(E74)","v":0}]
[null,null,null,"Machine Subtotal ",{"$f":"ROUND(SUM(G40:G72), 0)","v":0},{"$f":"F73","v":0}]
[null,"Discounts",null,null,null,{"$f":"SUM(F76)","v":0}]
[null,null,null,null,null,{"$f":"SUM(F78:F79)","v":0}]
[null,null,null,"Applicable Currency Adj %",null,{"$f":"IF(E77 <> \"\", 1, 0)","v":0},{"$f":"IF(F77*(E77*0.01)*E73 < 0, F77*(E77*0.01)*E73, -(F77*(E77*0.01)*E73))","v":0}]
[null,null,null,"Discount %",null,{"$f":"IF(E78 <> \"\", 1, 0)","v":0},{"$f":"IF(F78*(E78*0.01)*(E73+G77) < 0, F78*(E78*0.01)*(E73+G77), -(F78*(E78*0.01)*(E73+G77)))","v":0}]
[null,null,null,"Discount $",null,{"$f":"IF(E79 <> \"\", 1, 0)","v":0},{"$f":"IF(F79*E79 < 0, F79*E79, -(F79*E79))","v":0}]
[null,null,null,"Discount Total ",{"$f":"SUM(G77:G79)","v":0},{"$f":"SUM(E80)","v":0}]
[null,null,null,null,null,{"$f":"#REF!","v":{"$error":"#REF!"}}]
[null,null,null,null,null,{"$f":"F81","v":{"$error":"#REF!"}}]
[null,null,"Prepaid and Add","Freight",null,{"$f":"IF(E83 <> \"\", 1, 0)","v":0},{"$f":"F83*E83","v":0}]
[null,null,"Subject to all applicable taxes","Tax",null,{"$f":"IF(E84 <> \"\", 1, 0)","v":0},{"$f":"F84*E84","v":0}]
[null,null,null,null,null,{"$f":"SUM(F86)","v":0}]
[null,null,null,"MACHINE TOTAL*",null,{"$f":"SUM(G86)","v":0},{"$f":"SUM(G40:G84)","v":0},null,null,null,null,null,null,"This goes to \"My Documents\""]
[null,null,null,null,null,null,{"$f":"SUM(G86)","v":0}]
[]
[]
[]
[]
[null,null,"First Western Equipment Finance - Leasing Calculation Option:","Option 1",null,"Option 2",null,null,null,{"$f":"Financing!A38","v":"Rates 2023 - Rev 10/10/2023"}]
[null,null,null,"Monthly Payment","Cost Per Day","Monthly Payment","Cost Per Day",null,null,{"$f":"Financing!A39","v":"“Blank Payment Amounts Indicate The Financing Option Or Purchase Options Selected Are Not "}]
[null,null,"Purchase Option:","FWEF:  $1 Buyout Lease",null,"FWEF: Municipal Lease",null,null,null,{"$f":"Financing!A40","v":"Applicable Or The Machine Total Is Below The Minimum Amount For The Selected Vendor”"}]
[null,null,"24 Months",false,0,false,0,null,null,{"$f":"Financing!A41","v":"\"Quoted monthly payments are estimates only and are based on a certain level of credit rating."}]
[null,null,"30 Months",false,0,false,0,null,null,{"$f":"Financing!A42","v":"Actual monthly payments may be higher depending on your credit rating.\""}]
[null,null,"36 Months",false,0,false,0,null,null,{"$f":"Financing!A43","v":"“Financing rates do not include Pre-Paid Service”"}]
[null,null,"48 Months",0,0,0,0,null,null,{"$f":"Financing!A44","v":0}]
[]
[null,null,null,"Benefits of Equipment Financing:"]
[null,null,null,"• Spreads out investment over time.",null,"• Keep current with latest technology."]
[null,null,null,"• Preserve capital.",null,"• Service and parts bundling available."]
[null,null,null,"• Low monthly payment.",null,"• Pay for labor savings as you go."]
[]
[]
[null,"  TennantTrue",null,0,0]
[]
[null,null,"Is customer interested in service program?","Yes","*State/County selection required for TennantTrue service options"]
[]
[null,null,"If not, why?"]
[]
[null,null,"Term:",36,null,null,"AB Brushes","No"]
[null,null,"Monthly machine usage (hrs):","< 30/mo. (Avg. 1hr./day)"]
[]
[null,null,"TennantTrue: ","Gold Contract",null,"Silver Contract"]
[null,null,"Per Visit",null,null,381]
[null,null,"Monthly",117,null,65]
[null,null,"Annually",null,null,762]
[null,null,"Pre-Pay Full Term",4041,null,2238]
[null,null,"Hourly Labor Rate"]
[null,null,"Site Visit"]
[]
[null,null,"* Verify customer current pricing prior to quote. "]
[null,null,"**All rates and fees above reflect service for one (1) unit with the exception of Block of Time service."]
[null,null,"*Block of Time is available in 1 Year Term only and is priced as such no matter the term selection on this template."]
[]
[]
[]
[null,"Quote Special Instructions:"]
[]
[]
[null,{"$f":"Start_Here!E36","v":"Terms and Conditions"}]
[null,{"$f":"Start_Here!E37","v":"Ask your local sales rep for estimated lead times. Verify when placing order"}]
[null,{"$f":"Start_Here!E38","v":"All orders subject to acceptance by Tennant Sales and Service Company, Minneapolis, Minnesota"}]
[null,{"$f":"Start_Here!E39","v":"Prices subject to change without notice. Subject to any applicable taxes."}]
[null,{"$f":"Start_Here!E40","v":"Terms:  Net 30 days.  Payable in Canadian Funds"}]
[null,{"$f":"Start_Here!E41","v":"Freight:  Accessories, parts, supplies, detergents, and floor coatings orders delivered DDP "}]
[null,{"$f":"Start_Here!E42","v":"shipping point Frt PPD.  Machine orders delivered DDP shipping point Frt PPD and add."}]
[null,{"$f":"Start_Here!E43","v":"Returned Merchandise is subject to a restocking fee."}]
[null,{"$f":"Start_Here!E44","v":"All orders are subject to Tennant’s General Terms and Conditions available at http://www.tennantco.com/terms."}]
[null,{"$f":"Start_Here!E45","v":"Printed General Terms and Conditions are also available upon request."}]
[null,{"$f":"Start_Here!E46","v":0}]
[]
[null,null,null,null,"Quote Date :",null,{"$f":"Letter!$A$25","v":"2020-09-22"}]
[null,"Order Placement Information:  To place your order, fill in PO# and customer signatures,"]
[null,"call or fax to the numbers listed below. Customer Purchase Order is required."]
[null,"If information is missing, orders will be entered and held until all information is received."]
[null,null,"Customer Number",null,"Cust Grp 3"]
[null,null,{"$f":"Start_Here!$C$25","v":0},null,{"$f":"Start_Here!$C$29","v":0}]
[null,null,{"$f":"Start_Here!$B$18","v":"Who Owns the Machine? (Sold-To Info) (Please Verify)"}]
["Company",null,{"$f":"Start_Here!$C$19","v":"Company Name"}]
["Address",null,{"$f":"Start_Here!$C$20","v":"Address"}]
[null,null,{"$f":"Start_Here!$C$21","v":"City, State Zip"}]
["Name",null,{"$f":"Start_Here!$C$22","v":"Contact Name"}]
["Phone",null,{"$f":"Start_Here!$C$23","v":"Contact Phone"}]
[null,null,{"$f":"Start_Here!$B$11","v":"Where is the Machine Being Shipped? (Ship-To Info) (Please Verify)"}]
["Company",null,{"$f":"Start_Here!$C$12","v":"Company Name"}]
["Address",null,{"$f":"Start_Here!$C$13","v":"Address"}]
[null,null,{"$f":"Start_Here!$C$14","v":"City, State Zip"}]
["Name",null,{"$f":"Start_Here!$C$15","v":"Contact Name"}]
["Phone",null,{"$f":"Start_Here!$C$16","v":"Contact Phone"}]
[null,null,{"$f":"Start_Here!$B$31","v":"Shipping / Carrier Instructions:"},null,"Order Special Instructions:"]
[null,null,{"$f":"Start_Here!$C$32","v":0}]
[]
[null,null,"Customer Purchase Order No."]
[null,null,"(please attach copy)"]
[]
[]
[null,null,"Tax Exempt",null,"Yes"]
[null,null,null,null,"No"]
[null,null,"If Yes, attach a copy of your exemption certificate."]
[]
[null,null,"Requested Delivery Date"]
[null,null,{"$f":"Start_Here!$C$28","v":0}]
[]
[null,null,{"$f":"Start_Here!$C$26","v":0},null,{"$f":"Start_Here!$C$27","v":0}]
[null,null,"Authorized Buyer (please print)",null,"Phone Number"]
[]
[]
[null,null,"Authorized Buyer Signature"]
[]
[null,null,{"$f":"Start_Here!$C$41","v":"Rep Name"}]
[null,null,"Tennant Representative"]
[]
["Specialized Maintenance Equipment"]
[{"$f":"Start_Here!$C$48","v":"TENNANT · 10400 Clean Street · Eden Prairie, MN 55344 ·"}]
[{"$f":"Start_Here!$C$49","v":" PHONE:800-553-8033 · FAX:763-513-2116"}]
[]
[null,"Notes"]
[null,1,"Pre-Configured Machines cannot have options changed or added.  All units are packaged on a Skid w/Carton and will ship "]
[null,null,"via LTL Carrier.  When ordering, provide the reference number listed above.  Price does not include freight or tax.  "]
[null,null,"Availability of units and lead time may vary."]
[]
[null,2,"Shipping Weights and dimensions","Skid w/ Carton"]
[]
[null,null,"Weight (w/240AH Battery)","670 lbs / 304 Kg"]
[null,null,"Length","67\" / 1,702mm"]
[null,null,"Width","33\" / 838mm"]
[null,null,"Height","48\" / 1,219mm"]

{"sheet":"MR3_E5","index":9,"n_rows":174,"n_cols":17,"rows_kept":174,"cut":false,"hidden":false,"merged":[[82,3,82,4],[82,5,82,6],[79,3,79,4],[79,5,79,6],[80,3,80,4],[80,5,80,6],[81,3,81,4],[81,5,81,6],[76,3,76,4],[76,5,76,6],[77,3,77,4],[77,5,77,6],[78,3,78,4],[78,5,78,6],[0,2,0,3],[1,2,1,3],[2,2,2,3],[3,2,3,3],[69,4,69,8],[71,3,71,6],[73,3,73,4],[74,3,74,4],[53,3,53,4],[53,5,53,6],[55,3,55,4],[55,5,55,6],[115,2,115,5],[116,0,116,1],[116,2,116,5],[91,1,91,6],[110,4,110,6],[112,0,112,1],[112,2,112,5],[113,0,113,1],[113,2,113,5],[114,2,114,5],[115,0,115,1],[137,4,137,5],[120,2,120,5],[122,2,122,5],[124,4,124,6],[121,0,121,1],[121,2,121,5],[122,0,122,1],[126,2,126,5],[127,2,127,5],[119,0,119,1],[128,2,128,5],[119,2,119,5],[118,0,118,1],[118,2,118,5]]}
["MR3_E5",null,{"$f":"Start_Here!$C19","v":"Company Name"}]
[{"$f":"SUM(G48)","v":0},null,{"$f":"Start_Here!$C20","v":"Address"}]
[null,null,{"$f":"Start_Here!$C21","v":"City, State Zip"}]
[null,null,{"$f":"Start_Here!$C22","v":"Contact Name"}]
[null,null,{"$f":"Start_Here!$C$41","v":"Rep Name"}]
[null,null,{"$f":"Start_Here!$C$37","v":"Tennant Sales and Service Company"}]
[null,null,{"$f":"Start_Here!$C$38","v":"10400 Clean Street"}]
[null,null,{"$f":"Start_Here!$C$39","v":"Eden Prairie, MN 55344"}]
[null,null,{"$f":"Start_Here!$C$43","v":"800-553-8033"},null,"Quote Date :",null,{"$f":"Letter!$A$25","v":"2020-09-22"}]
[]
[null,null,{"$f":"Help!C2","v":"CAN Date Rev - 9/30/2024"}]
[]
[null,null,"New Machine Warranty",null,null,null,"Fax (quote only)"," "]
[null,null,"36 MONTHS OR 2500 HOURS ON PARTS",null,null,null,"Mail (quote,lit, specs)"," "]
[null,null,"36 MONTHS – LABOR",null,null,null,"Fax + Mail"," "]
[null,null,"90 DAYS – TRAVEL ON BATTERY UNITS ONLY"]
[null,null,"10 YEARS ON ROTOMOLDED PARTS",null,"                Primary Use"]
[null,null,"BATTERIES ARE PRORATED OVER 12 MONTHS",null,null,null,"Inside"]
[null,null,null,null,null,null,"Outside"]
[]
[null,null,"Description","Reference #","Price Each","Qty","Extended Price"]
[null,null,null,null,null,"*"]
[null,null,"R3 - Cord Electric 5-gal. ReadySpace® Interim Carpet Cleaner",9004192,8181,null,{"$f":"F23*E23","v":0},{"$f":"IFERROR(IFERROR(VLOOKUP(D23,Surcharge!A:B,2,FALSE)*F23, VLOOKUP(D23 & \"\",Surcharge!A:B,2,FALSE)*F23), \"\")","v":""},null,null,null,{"$f":"SUM(F23)","v":0},"Surcharge Qty",null,null,null,{"$f":"VLOOKUP(D23,'MPF SAP Canada Pre-Configured'!$C:$E,3,FALSE)","v":8181}]
[null,null,"15\" cleaning path.  Complete package includes removable, Hygenic® fully cleanable 5 gallon (19 liter) solution/recovery tanks, Insta-Adjust™ handle, two ReadySpace® rollers, 50-ft (15-m) \"safety yellow\" power cord and multi-language operator manual. CRI certified, Bronze Cleaning Performance. ",null,null,{"$f":"SUM(F23)","v":0},null,{"$f":"IFERROR(IFERROR(VLOOKUP(D24,Surcharge!A:B,2,FALSE)*F24, VLOOKUP(D24 & \"\",Surcharge!A:B,2,FALSE)*F24), \"\")","v":""}]
[null,null,"Boxed Dimensions:  34\" L x 22\" W x 37\" H (860 mm x 560 mm x 940 mm). *",null,null,{"$f":"SUM(F24)","v":0},null,{"$f":"IFERROR(IFERROR(VLOOKUP(D25,Surcharge!A:B,2,FALSE)*F25, VLOOKUP(D25 & \"\",Surcharge!A:B,2,FALSE)*F25), \"\")","v":""}]
[null,null,"Shipping Weight:   154 lbs. (70 kg) ",null,null,{"$f":"SUM(F25)","v":0},null,{"$f":"IFERROR(IFERROR(VLOOKUP(D26,Surcharge!A:B,2,FALSE)*F26, VLOOKUP(D26 & \"\",Surcharge!A:B,2,FALSE)*F26), \"\")","v":""}]
[null,null,null,null,null,null,null,{"$f":"IFERROR(IFERROR(VLOOKUP(D27,Surcharge!A:B,2,FALSE)*F27, VLOOKUP(D27 & \"\",Surcharge!A:B,2,FALSE)*F27), \"\")","v":""}]
[null,null,null,null,null,null,null,{"$f":"IFERROR(IFERROR(VLOOKUP(D28,Surcharge!A:B,2,FALSE)*F28, VLOOKUP(D28 & \"\",Surcharge!A:B,2,FALSE)*F28), \"\")","v":""}]
[null,null,"E5 - Cord Electric 5-gal.  Extractor",9004194,6484,null,{"$f":"F29*E29","v":0},{"$f":"IFERROR(IFERROR(VLOOKUP(D29,Surcharge!A:B,2,FALSE)*F29, VLOOKUP(D29 & \"\",Surcharge!A:B,2,FALSE)*F29), \"\")","v":""},null,null,null,null,null,null,null,null,{"$f":"VLOOKUP(D29,'MPF SAP Canada Pre-Configured'!$C:$E,3,FALSE)","v":6484}]
[null,null,"15\" cleaning path.  Complete package includes removable, Hygenic® fully cleanable 5 gallon (19 liter) solution/recovery tanks, Insta-Adjust™ handle, one double-tuft reverse pattern chevron brush, 50-ft (15-m) \"safety yellow\" power cord and multi-language operator manual.  CRI certified, Silver Cleaning Performance.",null,null,{"$f":"SUM(F29)","v":0},null,{"$f":"IFERROR(IFERROR(VLOOKUP(D30,Surcharge!A:B,2,FALSE)*F30, VLOOKUP(D30 & \"\",Surcharge!A:B,2,FALSE)*F30), \"\")","v":""}]
[null,null,"Boxed Dimensions:  34\" L x 22\" W x 37\" H (860 mm x 560 mm x 940 mm). *",null,null,{"$f":"SUM(F30)","v":0},null,{"$f":"IFERROR(IFERROR(VLOOKUP(D31,Surcharge!A:B,2,FALSE)*F31, VLOOKUP(D31 & \"\",Surcharge!A:B,2,FALSE)*F31), \"\")","v":""}]
[null,null,"Shipping Weight:   138 lbs. (63 kg) ",null,null,{"$f":"SUM(F31)","v":0},null,{"$f":"IFERROR(IFERROR(VLOOKUP(D32,Surcharge!A:B,2,FALSE)*F32, VLOOKUP(D32 & \"\",Surcharge!A:B,2,FALSE)*F32), \"\")","v":""}]
[null,null,null,null,null,null,null,{"$f":"IFERROR(IFERROR(VLOOKUP(D33,Surcharge!A:B,2,FALSE)*F33, VLOOKUP(D33 & \"\",Surcharge!A:B,2,FALSE)*F33), \"\")","v":""}]
[]
[null,null,null,null,{"$f":"ROUND(SUM(G23:G34), 0)","v":0},{"$f":"SUM(E36)","v":0}]
[null,null,null,"Machine Subtotal ",{"$f":"ROUND(SUM(G23:G34), 0)","v":0},{"$f":"F35","v":0}]
[null,"Discounts",null,null,null,{"$f":"SUM(F38)","v":0}]
[null,null,null,null,null,{"$f":"SUM(F40:F41)","v":0}]
[null,null,null,"Applicable Currency Adj %",null,{"$f":"IF(E39 <> \"\", 1, 0)","v":0},{"$f":"IF(F39*(E39*0.01)*E35 < 0, F39*(E39*0.01)*E35, -(F39*(E39*0.01)*E35))","v":0}]
[null,null,null,"Discount %",null,{"$f":"IF(E40 <> \"\", 1, 0)","v":0},{"$f":"IF(F40*(E40*0.01)*(E35+G39) < 0, F40*(E40*0.01)*(E35+G39), -(F40*(E40*0.01)*(E35+G39)))","v":0}]
[null,null,null,"Discount $",null,{"$f":"IF(E41 <> \"\", 1, 0)","v":0},{"$f":"IF(F41*E41 < 0, F41*E41, -(F41*E41))","v":0}]
[null,null,null,"Discount Total ",{"$f":"SUM(G39:G41)","v":0},{"$f":"SUM(E42)","v":0}]
[null,null,null,null,null,{"$f":"#REF!","v":{"$error":"#REF!"}}]
[null,null,null,null,null,{"$f":"F43","v":{"$error":"#REF!"}}]
[null,null,"Prepaid and Add","Freight",null,{"$f":"IF(E45 <> \"\", 1, 0)","v":0},{"$f":"F45*E45","v":0}]
[null,null,"Subject to all applicable taxes","Tax",null,{"$f":"IF(E46 <> \"\", 1, 0)","v":0},{"$f":"F46*E46","v":0}]
[null,null,null,null,null,{"$f":"SUM(F48)","v":0}]
[null,null,null,"MACHINE TOTAL*",null,{"$f":"SUM(G48)","v":0},{"$f":"SUM(G23:G46)","v":0},null,null,null,null,null,null,"This goes to \"My Documents\""]
[null,null,null,null,null,null,{"$f":"SUM(G48)","v":0}]
[]
[]
[]
[]
[null,null,"First Western Equipment Finance - Leasing Calculation Option:","Option 1",null,"Option 2",null,null,null,{"$f":"Financing!A38","v":"Rates 2023 - Rev 10/10/2023"}]
[null,null,null,"Monthly Payment","Cost Per Day","Monthly Payment","Cost Per Day",null,null,{"$f":"Financing!A39","v":"“Blank Payment Amounts Indicate The Financing Option Or Purchase Options Selected Are Not "}]
[null,null,"Purchase Option:","FWEF:  $1 Buyout Lease",null,"FWEF: Municipal Lease",null,null,null,{"$f":"Financing!A40","v":"Applicable Or The Machine Total Is Below The Minimum Amount For The Selected Vendor”"}]
[null,null,"24 Months",false,0,false,0,null,null,{"$f":"Financing!A41","v":"\"Quoted monthly payments are estimates only and are based on a certain level of credit rating."}]
[null,null,"30 Months",false,0,false,0,null,null,{"$f":"Financing!A42","v":"Actual monthly payments may be higher depending on your credit rating.\""}]
[null,null,"36 Months",false,0,false,0,null,null,{"$f":"Financing!A43","v":"“Financing rates do not include Pre-Paid Service”"}]
[null,null,"48 Months",0,0,0,0,null,null,{"$f":"Financing!A44","v":0}]
[]
[null,null,null,"Benefits of Equipment Financing:"]
[null,null,null,"• Spreads out investment over time.",null,"• Keep current with latest technology."]
[null,null,null,"• Preserve capital.",null,"• Service and parts bundling available."]
[null,null,null,"• Low monthly payment.",null,"• Pay for labor savings as you go."]
[]
[]
[null,"  TennantTrue",null,0,0]
[]
[null,null,"Is customer interested in service program?","Yes","*State/County selection required for TennantTrue service options"]
[]
[null,null,"If not, why?"]
[]
[null,null,"Term:",36,null,null,"AB Brushes","No"]
[null,null,"Monthly machine usage (hrs):","< 30/mo. (Avg. 1hr./day)"]
[]
[null,null,"TennantTrue: ","Gold Contract",null,"Silver Contract"]
[null,null,"Per Visit"]
[null,null,"Monthly"]
[null,null,"Annually"]
[null,null,"Pre-Pay Full Term"]
[null,null,"Hourly Labor Rate"]
[null,null,"Site Visit"]
[]
[null,null,"* Verify customer current pricing prior to quote. "]
[null,null,"**All rates and fees above reflect service for one (1) unit with the exception of Block of Time service."]
[null,null,"*Block of Time is available in 1 Year Term only and is priced as such no matter the term selection on this template."]
[]
[]
[]
[null,"Quote Special Instructions:"]
[]
[]
[null,{"$f":"Start_Here!E36","v":"Terms and Conditions"}]
[null,{"$f":"Start_Here!E37","v":"Ask your local sales rep for estimated lead times. Verify when placing order"}]
[null,{"$f":"Start_Here!E38","v":"All orders subject to acceptance by Tennant Sales and Service Company, Minneapolis, Minnesota"}]
[null,{"$f":"Start_Here!E39","v":"Prices subject to change without notice. Subject to any applicable taxes."}]
[null,{"$f":"Start_Here!E40","v":"Terms:  Net 30 days.  Payable in Canadian Funds"}]
[null,{"$f":"Start_Here!E41","v":"Freight:  Accessories, parts, supplies, detergents, and floor coatings orders delivered DDP "}]
[null,{"$f":"Start_Here!E42","v":"shipping point Frt PPD.  Machine orders delivered DDP shipping point Frt PPD and add."}]
[null,{"$f":"Start_Here!E43","v":"Returned Merchandise is subject to a restocking fee."}]
[null,{"$f":"Start_Here!E44","v":"All orders are subject to Tennant’s General Terms and Conditions available at http://www.tennantco.com/terms."}]
[null,{"$f":"Start_Here!E45","v":"Printed General Terms and Conditions are also available upon request."}]
[null,{"$f":"Start_Here!E46","v":0}]
[]
[null,null,null,null,"Quote Date :",null,{"$f":"Letter!$A$25","v":"2020-09-22"}]
[null,"Order Placement Information:  To place your order, fill in PO# and customer signatures,"]
[null,"call or fax to the numbers listed below. Customer Purchase Order is required."]
[null,"If information is missing, orders will be entered and held until all information is received."]
[null,null,"Customer Number",null,"Cust Grp 3"]
[null,null,{"$f":"Start_Here!$C$25","v":0},null,{"$f":"Start_Here!$C$29","v":0}]
[null,null,{"$f":"Start_Here!$B$18","v":"Who Owns the Machine? (Sold-To Info) (Please Verify)"}]
["Company",null,{"$f":"Start_Here!$C$19","v":"Company Name"}]
["Address",null,{"$f":"Start_Here!$C$20","v":"Address"}]
[null,null,{"$f":"Start_Here!$C$21","v":"City, State Zip"}]
["Name",null,{"$f":"Start_Here!$C$22","v":"Contact Name"}]
["Phone",null,{"$f":"Start_Here!$C$23","v":"Contact Phone"}]
[null,null,{"$f":"Start_Here!$B$11","v":"Where is the Machine Being Shipped? (Ship-To Info) (Please Verify)"}]
["Company",null,{"$f":"Start_Here!$C$12","v":"Company Name"}]
["Address",null,{"$f":"Start_Here!$C$13","v":"Address"}]
[null,null,{"$f":"Start_Here!$C$14","v":"City, State Zip"}]
["Name",null,{"$f":"Start_Here!$C$15","v":"Contact Name"}]
["Phone",null,{"$f":"Start_Here!$C$16","v":"Contact Phone"}]
[null,null,{"$f":"Start_Here!$B$31","v":"Shipping / Carrier Instructions:"},null,"Order Special Instructions:"]
[null,null,{"$f":"Start_Here!$C$32","v":0}]
[]
[null,null,"Customer Purchase Order No."]
[null,null,"(please attach copy)"]
[]
[]
[null,null,"Tax Exempt",null,"Yes"]
[null,null,null,null,"No"]
[null,null,"If Yes, attach a copy of your exemption certificate."]
[]
[null,null,"Requested Delivery Date"]
[null,null,{"$f":"Start_Here!$C$28","v":0}]
[]
[null,null,{"$f":"Start_Here!$C$26","v":0},null,{"$f":"Start_Here!$C$27","v":0}]
[null,null,"Authorized Buyer (please print)",null,"Phone Number"]
[]
[]
[null,null,"Authorized Buyer Signature"]
[]
[null,null,{"$f":"Start_Here!$C$41","v":"Rep Name"}]
[null,null,"Tennant Representative"]
[]
["Specialized Maintenance Equipment"]
[{"$f":"Start_Here!$C$48","v":"TENNANT · 10400 Clean Street · Eden Prairie, MN 55344 ·"}]
[{"$f":"Start_Here!$C$49","v":" PHONE:800-553-8033 · FAX:763-513-2116"}]
[]
[null,"Notes"]
[]
[null,1,"When pad/brush assist unit is chosen, only mechanical Set and Forget™ downpressure is available.  "]
[null,null,"Automatic Down Pressure can only be deducted from the self-propelled unit."]
[]
[null,2,"225AH Battery is standard on units with the Self Propel Drive Type.  "]
[null,null,"When Self Propel is selected, this battery will be added at No Charge."]
[]
[null,3,"Factory installed pricing.  Only available on wet batteries, not sealed. "]
[]
[null,4,"Not available with Active Dust Control.  Only Available with Passive Dust Control."]
[]
[null,5,"A French and English manual will be supplied for all units shipping into Quebec, Canada at no charge.  An additional manual"]
[null,null,"can be ordered (for a total of 3 manuals) for an additional charge as stated under 'Additional Operator Manual'."]
[]
[null,6,"Skid w/Carton, Stackable is the default packaging method and will be added to the configuration unless otherwise specified."]
[]
[null,7,"Shipping Weights and Dimensions",null,"Skid w/Carton"]
[]
[null,null,"Weight - Pad Drive w/185AH Battery",null,"587 lbs / 267 Kg"]
[null,null,"Weight - Self Propel w/225AH Battery",null,"652 lbs / 296 Kg"]
[null,null,"Length",null,"60\" / 1524 mm"]
[null,null,"Width",null,"31\" / 788 mm"]
[null,null,"Height",null,"50\" / 1270 mm"]

{"sheet":"Carpet_Extractors","index":10,"n_rows":205,"n_cols":17,"rows_kept":205,"cut":false,"hidden":false,"merged":[[102,3,102,6],[104,3,104,4],[105,3,105,4],[84,3,84,4],[84,5,84,6],[86,3,86,4],[86,5,86,6],[0,2,0,3],[1,2,1,3],[2,2,2,3],[3,2,3,3],[100,4,100,8],[107,3,107,4],[107,5,107,6],[108,3,108,4],[108,5,108,6],[109,3,109,4],[109,5,109,6],[110,3,110,4],[110,5,110,6],[111,3,111,4],[111,5,111,6],[144,0,144,1],[144,2,144,5],[122,1,122,6],[141,4,141,6],[143,0,143,1],[143,2,143,5],[112,3,112,4],[112,5,112,6],[113,3,113,4],[113,5,113,6],[153,0,153,1],[153,2,153,5],[145,2,145,5],[146,0,146,1],[146,2,146,5],[147,0,147,1],[147,2,147,5],[149,0,149,1],[149,2,149,5],[150,0,150,1],[150,2,150,5],[151,2,151,5],[152,0,152,1],[168,4,168,5],[152,2,152,5],[155,4,155,6],[157,2,157,5],[158,2,158,5],[159,2,159,5]]}
["Carpet_Extractors",null,{"$f":"Start_Here!$C19","v":"Company Name"}]
[{"$f":"SUM(G79)","v":0},null,{"$f":"Start_Here!$C20","v":"Address"}]
[null,null,{"$f":"Start_Here!$C21","v":"City, State Zip"}]
[null,null,{"$f":"Start_Here!$C22","v":"Contact Name"}]
[null,null,{"$f":"Start_Here!$C$41","v":"Rep Name"}]
[null,null,{"$f":"Start_Here!$C$37","v":"Tennant Sales and Service Company"}]
[null,null,{"$f":"Start_Here!$C$38","v":"10400 Clean Street"}]
[null,null,{"$f":"Start_Here!$C$39","v":"Eden Prairie, MN 55344"}]
[null,null,{"$f":"Start_Here!$C$43","v":"800-553-8033"},null,"Quote Date :",null,{"$f":"Letter!$A$25","v":"2020-09-22"}]
[]
[null,null,{"$f":"Help!C2","v":"CAN Date Rev - 9/30/2024"}]
[]
[]
[]
[]
[null,null,"New Machine Warranty"]
[null,null,null,null,null,null,"Fax (quote only)"," "]
[null,null,"36 MONTHS OR 2500 HOURS ON PARTS",null,null,null,"Mail (quote,lit, specs)"," "]
[null,null,"36 MONTHS – LABOR",null,null,null,"Fax + Mail"," "]
[null,null,"90 DAYS – TRAVEL ON BATTERY UNITS ONLY"]
[null,null,"10 YEARS ON ROTOMOLDED PARTS",null,"                Primary Use"]
[null,null,"BATTERIES ARE PRORATED OVER 12 MONTHS",null,null,null,"Inside"]
[null,null,null,null,null,null,"Outside"]
[]
[null,null,"Description","Reference #","Price Each","Qty","Extended Price"]
[null,null,null,null,null,"*"]
[null,null,"1510 Battery Operated Automatic Extractor ",614002,23196,null,{"$f":"F27*E27","v":0},{"$f":"IFERROR(IFERROR(VLOOKUP(D27,Surcharge!A:B,2,FALSE)*F27, VLOOKUP(D27 & \"\",Surcharge!A:B,2,FALSE)*F27), \"\")","v":0},null,null,null,{"$f":"SUM(F27)","v":0},"Surcharge Qty",null,null,null,{"$f":"VLOOKUP(D27,'MPF SAP Canada Pre-Configured'!$C:$E,3,FALSE)","v":23196}]
[null,null,"21-gal (80 liter) solution tank, 22\" (5580mm) cleaning path, 100 psi, mode controls for deep and surface cleaning, dual vac motors.  Complete package includes four  240 AH 6-volt batteries and 20 amp charger.","With Batteries",null,{"$f":"F27","v":0},null,{"$f":"IFERROR(IFERROR(VLOOKUP(D28,Surcharge!A:B,2,FALSE)*F28, VLOOKUP(D28 & \"\",Surcharge!A:B,2,FALSE)*F28), \"\")","v":""}]
[null,null,"Boxed dimensions: 71L x 34W x 52H (1803mm x 864mm x 1321mm)",null,null,{"$f":"F28","v":0},null,{"$f":"IFERROR(IFERROR(VLOOKUP(D29,Surcharge!A:B,2,FALSE)*F29, VLOOKUP(D29 & \"\",Surcharge!A:B,2,FALSE)*F29), \"\")","v":""}]
[null,null,"Shipping Weight: 600 lbs. / Cu. Ft.: 36",null,null,{"$f":"F29","v":0},null,{"$f":"IFERROR(IFERROR(VLOOKUP(D30,Surcharge!A:B,2,FALSE)*F30, VLOOKUP(D30 & \"\",Surcharge!A:B,2,FALSE)*F30), \"\")","v":""}]
[null,null,null,null,null,null,null,{"$f":"IFERROR(IFERROR(VLOOKUP(D31,Surcharge!A:B,2,FALSE)*F31, VLOOKUP(D31 & \"\",Surcharge!A:B,2,FALSE)*F31), \"\")","v":""}]
[null,null,"Model 1510 Battery Operated Automatic Extractor.  Same as above without batteries and charger.  Order batteries and charger separately. ",614001,20700,null,{"$f":"F32*E32","v":0},{"$f":"IFERROR(IFERROR(VLOOKUP(D32,Surcharge!A:B,2,FALSE)*F32, VLOOKUP(D32 & \"\",Surcharge!A:B,2,FALSE)*F32), \"\")","v":""},null,null,null,null,null,null,null,null,{"$f":"VLOOKUP(D32,'MPF SAP Canada Pre-Configured'!$C:$E,3,FALSE)","v":20700}]
[null,null,null,null,null,null,null,{"$f":"IFERROR(IFERROR(VLOOKUP(D33,Surcharge!A:B,2,FALSE)*F33, VLOOKUP(D33 & \"\",Surcharge!A:B,2,FALSE)*F33), \"\")","v":""}]
[null,null,null,null,null,"  ",null,{"$f":"IFERROR(IFERROR(VLOOKUP(D34,Surcharge!A:B,2,FALSE)*F34, VLOOKUP(D34 & \"\",Surcharge!A:B,2,FALSE)*F34), \"\")","v":""}]
[null,null,null,null,null,null,null,{"$f":"IFERROR(IFERROR(VLOOKUP(D35,Surcharge!A:B,2,FALSE)*F35, VLOOKUP(D35 & \"\",Surcharge!A:B,2,FALSE)*F35), \"\")","v":""}]
[null,null,"1530 Cord Electric Automatic Extractor",614000,18241,null,{"$f":"F36*E36","v":0},{"$f":"IFERROR(IFERROR(VLOOKUP(D36,Surcharge!A:B,2,FALSE)*F36, VLOOKUP(D36 & \"\",Surcharge!A:B,2,FALSE)*F36), \"\")","v":""},null,null,null,null,null,null,null,null,{"$f":"VLOOKUP(D36,'MPF SAP Canada Pre-Configured'!$C:$E,3,FALSE)","v":18241}]
[null,null,"30-gal (114 liter) solution tank, 22\" (5580mm) cleaning path, 100 psi, mode controls for deep and surface cleaning.  ETL US/C*",null,null,{"$f":"F36","v":0},null,{"$f":"IFERROR(IFERROR(VLOOKUP(D37,Surcharge!A:B,2,FALSE)*F37, VLOOKUP(D37 & \"\",Surcharge!A:B,2,FALSE)*F37), \"\")","v":""}]
[null,null,"Boxed dimensions: 71L x 34W x 52H (1803mm x 864mm x 1321mm)",null,null,{"$f":"F37","v":0},null,{"$f":"IFERROR(IFERROR(VLOOKUP(D38,Surcharge!A:B,2,FALSE)*F38, VLOOKUP(D38 & \"\",Surcharge!A:B,2,FALSE)*F38), \"\")","v":""}]
[null,null,"Shipping Weight: 344 lbs. / Cu. Ft.: 36",null,null,{"$f":"F38","v":0},null,{"$f":"IFERROR(IFERROR(VLOOKUP(D39,Surcharge!A:B,2,FALSE)*F39, VLOOKUP(D39 & \"\",Surcharge!A:B,2,FALSE)*F39), \"\")","v":""}]
[null,null,null,null,null,"  ",null,{"$f":"IFERROR(IFERROR(VLOOKUP(D40,Surcharge!A:B,2,FALSE)*F40, VLOOKUP(D40 & \"\",Surcharge!A:B,2,FALSE)*F40), \"\")","v":""}]
[null,null,null,null,null,null,null,{"$f":"IFERROR(IFERROR(VLOOKUP(D41,Surcharge!A:B,2,FALSE)*F41, VLOOKUP(D41 & \"\",Surcharge!A:B,2,FALSE)*F41), \"\")","v":""}]
[null,null,"EX-SC-1020 - Self-Contained Extractor ",9007486,6659,null,{"$f":"F42*E42","v":0},{"$f":"IFERROR(IFERROR(VLOOKUP(D42,Surcharge!A:B,2,FALSE)*F42, VLOOKUP(D42 & \"\",Surcharge!A:B,2,FALSE)*F42), \"\")","v":""},null,null,null,null,null,null,null,null,{"$f":"VLOOKUP(D42,'MPF SAP Canada Pre-Configured'!$C:$E,3,FALSE)","v":6659}]
[null,null,"Patented, 10-gal. Expansion cavity, 20\" (508mm) cleaning path, 100 psi, 137\" (3480mm) waterlift. ETL US/C*  CRI certified, Bronze Cleaning Performance. ",null,null,{"$f":"F42","v":0},null,{"$f":"IFERROR(IFERROR(VLOOKUP(D43,Surcharge!A:B,2,FALSE)*F43, VLOOKUP(D43 & \"\",Surcharge!A:B,2,FALSE)*F43), \"\")","v":""}]
[null,null,"Boxed dimensions: 41L x 22W x 45H (1041mm x 559mm x 1143mm) ",null,null,{"$f":"F43","v":0},null,{"$f":"IFERROR(IFERROR(VLOOKUP(D44,Surcharge!A:B,2,FALSE)*F44, VLOOKUP(D44 & \"\",Surcharge!A:B,2,FALSE)*F44), \"\")","v":""}]
[null,null,"Shipping Weight: 142 lbs. / Cu. Ft.: 23.5",null,null,{"$f":"F44","v":0},null,{"$f":"IFERROR(IFERROR(VLOOKUP(D45,Surcharge!A:B,2,FALSE)*F45, VLOOKUP(D45 & \"\",Surcharge!A:B,2,FALSE)*F45), \"\")","v":""}]
[null,null,null,null,null,null,null,{"$f":"IFERROR(IFERROR(VLOOKUP(D46,Surcharge!A:B,2,FALSE)*F46, VLOOKUP(D46 & \"\",Surcharge!A:B,2,FALSE)*F46), \"\")","v":""}]
[null,null,null,null,null,null,null,{"$f":"IFERROR(IFERROR(VLOOKUP(D47,Surcharge!A:B,2,FALSE)*F47, VLOOKUP(D47 & \"\",Surcharge!A:B,2,FALSE)*F47), \"\")","v":""}]
[null,null,"EH5 Heated Canister Extractor",9011454,11983,null,{"$f":"F48*E48","v":0},{"$f":"IFERROR(IFERROR(VLOOKUP(D48,Surcharge!A:B,2,FALSE)*F48, VLOOKUP(D48 & \"\",Surcharge!A:B,2,FALSE)*F48), \"\")","v":""},null,null,null,null,null,null,null,null,{"$f":"VLOOKUP(D48,'MPF SAP Canada Pre-Configured'!$C:$E,3,FALSE)","v":11983}]
[null,null,"15 gal. capacity, 50-500 psi, Heated, 13\" (330mm) High Airflow Titanium Carpet wand with 2 Unijets,  15-ft. (4.5m) vacuum and solution hoses.2-40 ft(12.2m) Hospital Grade safety yellow electrical cords. Hand tool sold separately. CRI certified  - Gold Cleaning Performance with High Airflow Titanium wand.",null,null,{"$f":"SUM(F48)","v":0},null,{"$f":"IFERROR(IFERROR(VLOOKUP(D49,Surcharge!A:B,2,FALSE)*F49, VLOOKUP(D49 & \"\",Surcharge!A:B,2,FALSE)*F49), \"\")","v":""}]
[null,null,"ETL-certified to UL & CSA Standards. ",null,null,{"$f":"SUM(F49)","v":0},null,{"$f":"IFERROR(IFERROR(VLOOKUP(D50,Surcharge!A:B,2,FALSE)*F50, VLOOKUP(D50 & \"\",Surcharge!A:B,2,FALSE)*F50), \"\")","v":""}]
[null,null,"Boxed Dimensions:  28.5in x 38in x 55in   724mm x 965mm x 1397mm",null,null,{"$f":"SUM(F50)","v":0},null,{"$f":"IFERROR(IFERROR(VLOOKUP(D51,Surcharge!A:B,2,FALSE)*F51, VLOOKUP(D51 & \"\",Surcharge!A:B,2,FALSE)*F51), \"\")","v":""}]
[null,null,"Shipping Weight:  185lb/84kg",null,null,{"$f":"SUM(F51)","v":0},null,{"$f":"IFERROR(IFERROR(VLOOKUP(D52,Surcharge!A:B,2,FALSE)*F52, VLOOKUP(D52 & \"\",Surcharge!A:B,2,FALSE)*F52), \"\")","v":""}]
[null,null,null,null,null,null,null,{"$f":"IFERROR(IFERROR(VLOOKUP(D53,Surcharge!A:B,2,FALSE)*F53, VLOOKUP(D53 & \"\",Surcharge!A:B,2,FALSE)*F53), \"\")","v":""}]
[null,null,null,null,null,null,null,{"$f":"IFERROR(IFERROR(VLOOKUP(D54,Surcharge!A:B,2,FALSE)*F54, VLOOKUP(D54 & \"\",Surcharge!A:B,2,FALSE)*F54), \"\")","v":""}]
[null,null," EC2 Canister Extractor",null,null,{"$f":"SUM(F61:F62)","v":0},null,{"$f":"IFERROR(IFERROR(VLOOKUP(D55,Surcharge!A:B,2,FALSE)*F55, VLOOKUP(D55 & \"\",Surcharge!A:B,2,FALSE)*F55), \"\")","v":""}]
[null,null,"15 gal. capacity, 200 psi, 13\" (330mm) Stainless Steel or Titanium Carpet wand with 2 Unijets, 15-ft. (4.5m) vacuum and solution hoses, 40 ft(12.2m) Hospital Grade safety yellow electrical cords. Hand tool sold separately. CRI certified, Gold Cleaning Performance when used with titanium wand.\nHand tool sold separately. CRI certified, Gold Cleaning Performance",null,null,{"$f":"SUM(F55)","v":0},null,{"$f":"IFERROR(IFERROR(VLOOKUP(D56,Surcharge!A:B,2,FALSE)*F56, VLOOKUP(D56 & \"\",Surcharge!A:B,2,FALSE)*F56), \"\")","v":""}]
[null,null,"ETL-certified to UL & CSA Standards. ",null,null,{"$f":"SUM(F56)","v":0},null,{"$f":"IFERROR(IFERROR(VLOOKUP(D57,Surcharge!A:B,2,FALSE)*F57, VLOOKUP(D57 & \"\",Surcharge!A:B,2,FALSE)*F57), \"\")","v":""}]
[null,null,"Boxed Dimensions:   28.5in x 38in x 55in   724mm x 965mm x 1397mm",null,null,{"$f":"SUM(F57)","v":0},null,{"$f":"IFERROR(IFERROR(VLOOKUP(D58,Surcharge!A:B,2,FALSE)*F58, VLOOKUP(D58 & \"\",Surcharge!A:B,2,FALSE)*F58), \"\")","v":""}]
[null,null,"Shipping Weight:  152lb/69kg",null,null,{"$f":"SUM(F58)","v":0},null,{"$f":"IFERROR(IFERROR(VLOOKUP(D59,Surcharge!A:B,2,FALSE)*F59, VLOOKUP(D59 & \"\",Surcharge!A:B,2,FALSE)*F59), \"\")","v":""}]
[null,null,null,null,null,null,null,{"$f":"IFERROR(IFERROR(VLOOKUP(D60,Surcharge!A:B,2,FALSE)*F60, VLOOKUP(D60 & \"\",Surcharge!A:B,2,FALSE)*F60), \"\")","v":""}]
[null,null,"EC2, 200 psi (15.2 bar) Canister Extractor w/ Stainless Steel carpet wand and vacuum and solution hoses",9011638,7216,null,{"$f":"F61*E61","v":0},{"$f":"IFERROR(IFERROR(VLOOKUP(D61,Surcharge!A:B,2,FALSE)*F61, VLOOKUP(D61 & \"\",Surcharge!A:B,2,FALSE)*F61), \"\")","v":""},null,null,null,null,null,null,null,null,{"$f":"VLOOKUP(D61,'MPF SAP Canada Pre-Configured'!$C:$E,3,FALSE)","v":7216}]
[null,null,"EC2, 200 psi (15.2 bar) Canister Extractor w/ High Airflow Titanium carpet wand and vacuum and solution hoses",9012278,7767,null,{"$f":"F62*E62","v":0},{"$f":"IFERROR(IFERROR(VLOOKUP(D62,Surcharge!A:B,2,FALSE)*F62, VLOOKUP(D62 & \"\",Surcharge!A:B,2,FALSE)*F62), \"\")","v":""},null,null,null,null,null,null,null,null,{"$f":"VLOOKUP(D62,'MPF SAP Canada Pre-Configured'!$C:$E,3,FALSE)","v":7767}]
[null,null,null,null,null,null,null,{"$f":"IFERROR(IFERROR(VLOOKUP(D63,Surcharge!A:B,2,FALSE)*F63, VLOOKUP(D63 & \"\",Surcharge!A:B,2,FALSE)*F63), \"\")","v":""}]
[null,null,null,null,null,null,null,{"$f":"IFERROR(IFERROR(VLOOKUP(D64,Surcharge!A:B,2,FALSE)*F64, VLOOKUP(D64 & \"\",Surcharge!A:B,2,FALSE)*F64), \"\")","v":""}]
[]
[null,null,null,null,{"$f":"ROUND(SUM(G27:G65), 0)","v":0},{"$f":"SUM(E67)","v":0}]
[null,null,null,"Machine Subtotal ",{"$f":"ROUND(SUM(G27:G65), 0)","v":0},{"$f":"F66","v":0}]
[null,"Discounts",null,null,null,{"$f":"SUM(F69)","v":0}]
[null,null,null,null,null,{"$f":"SUM(F71:F72)","v":0}]
[null,null,null,"Applicable Currency Adj %",null,{"$f":"IF(E70 <> \"\", 1, 0)","v":0},{"$f":"IF(F70*(E70*0.01)*E66 < 0, F70*(E70*0.01)*E66, -(F70*(E70*0.01)*E66))","v":0}]
[null,null,null,"Discount %",null,{"$f":"IF(E71 <> \"\", 1, 0)","v":0},{"$f":"IF(F71*(E71*0.01)*(E66+G70) < 0, F71*(E71*0.01)*(E66+G70), -(F71*(E71*0.01)*(E66+G70)))","v":0}]
[null,null,null,"Discount $",null,{"$f":"IF(E72 <> \"\", 1, 0)","v":0},{"$f":"IF(F72*E72 < 0, F72*E72, -(F72*E72))","v":0}]
[null,null,null,"Discount Total ",{"$f":"SUM(G70:G72)","v":0},{"$f":"SUM(E73)","v":0}]
[null,null,null,null,null,{"$f":"#REF!","v":{"$error":"#REF!"}}]
[null,null,null,null,null,{"$f":"F74","v":{"$error":"#REF!"}}]
[null,null,"Prepaid and Add","Freight",null,{"$f":"IF(E76 <> \"\", 1, 0)","v":0},{"$f":"F76*E76","v":0}]
[null,null,"Subject to all applicable taxes","Tax",null,{"$f":"IF(E77 <> \"\", 1, 0)","v":0},{"$f":"F77*E77","v":0}]
[null,null,null,null,null,{"$f":"SUM(F79)","v":0}]
[null,null,null,"MACHINE TOTAL*",null,{"$f":"SUM(G79)","v":0},{"$f":"SUM(G27:G77)","v":0},null,null,null,null,null,null,"This goes to \"My Documents\""]
[null,null,null,null,null,null,{"$f":"SUM(G79)","v":0}]
[]
[]
[]
[]
[null,null,"First Western Equipment Finance - Leasing Calculation Option:","Option 1",null,"Option 2",null,null,null,{"$f":"Financing!A38","v":"Rates 2023 - Rev 10/10/2023"}]
[null,null,null,"Monthly Payment","Cost Per Day","Monthly Payment","Cost Per Day",null,null,{"$f":"Financing!A39","v":"“Blank Payment Amounts Indicate The Financing Option Or Purchase Options Selected Are Not "}]
[null,null,"Purchase Option:","FWEF:  $1 Buyout Lease",null,"FWEF: Municipal Lease",null,null,null,{"$f":"Financing!A40","v":"Applicable Or The Machine Total Is Below The Minimum Amount For The Selected Vendor”"}]
[null,null,"24 Months",false,0,false,0,null,null,{"$f":"Financing!A41","v":"\"Quoted monthly payments are estimates only and are based on a certain level of credit rating."}]
[null,null,"30 Months",false,0,false,0,null,null,{"$f":"Financing!A42","v":"Actual monthly payments may be higher depending on your credit rating.\""}]
[null,null,"36 Months",false,0,false,0,null,null,{"$f":"Financing!A43","v":"“Financing rates do not include Pre-Paid Service”"}]
[null,null,"48 Months",0,0,0,0,null,null,{"$f":"Financing!A44","v":0}]
[]
[null,null,null,"Benefits of Equipment Financing:"]
[null,null,null,"• Spreads out investment over time.",null,"• Keep current with latest technology."]
[null,null,null,"• Preserve capital.",null,"• Service and parts bundling available."]
[null,null,null,"• Low monthly payment.",null,"• Pay for labor savings as you go."]
[]
[]
[null,"  TennantTrue",null,0,0]
[]
[null,null,"Is customer interested in service program?","Yes","*State/County selection required for TennantTrue service options"]
[]
[null,null,"If not, why?"]
[]
[null,null,"Term:",36,null,null,"AB Brushes","No"]
[null,null,"Monthly machine usage (hrs):","< 30/mo. (Avg. 1hr./day)"]
[]
[null,null,"TennantTrue: ","Gold Contract",null,"Silver Contract"]
[null,null,"Per Visit",null,null,326]
[null,null,"Monthly",109,null,54]
[null,null,"Annually",null,null,640]
[null,null,"Pre-Pay Full Term",3769,null,1879]
[null,null,"Hourly Labor Rate"]
[null,null,"Site Visit"]
[]
[null,null,"* Verify customer current pricing prior to quote. "]
[null,null,"**All rates and fees above reflect service for one (1) unit with the exception of Block of Time service."]
[null,null,"*Block of Time is available in 1 Year Term only and is priced as such no matter the term selection on this template."]
[]
[]
[]
[null,"Quote Special Instructions:"]
[]
[]
[null,{"$f":"Start_Here!E36","v":"Terms and Conditions"}]
[null,{"$f":"Start_Here!E37","v":"Ask your local sales rep for estimated lead times. Verify when placing order"}]
[null,{"$f":"Start_Here!E38","v":"All orders subject to acceptance by Tennant Sales and Service Company, Minneapolis, Minnesota"}]
[null,{"$f":"Start_Here!E39","v":"Prices subject to change without notice. Subject to any applicable taxes."}]
[null,{"$f":"Start_Here!E40","v":"Terms:  Net 30 days.  Payable in Canadian Funds"}]
[null,{"$f":"Start_Here!E41","v":"Freight:  Accessories, parts, supplies, detergents, and floor coatings orders delivered DDP "}]
[null,{"$f":"Start_Here!E42","v":"shipping point Frt PPD.  Machine orders delivered DDP shipping point Frt PPD and add."}]
[null,{"$f":"Start_Here!E43","v":"Returned Merchandise is subject to a restocking fee."}]
[null,{"$f":"Start_Here!E44","v":"All orders are subject to Tennant’s General Terms and Conditions available at http://www.tennantco.com/terms."}]
[null,{"$f":"Start_Here!E45","v":"Printed General Terms and Conditions are also available upon request."}]
[null,{"$f":"Start_Here!E46","v":0}]
[]
[null,null,null,null,"Quote Date :",null,{"$f":"Letter!$A$25","v":"2020-09-22"}]
[null,"Order Placement Information:  To place your order, fill in PO# and customer signatures,"]
[null,"call or fax to the numbers listed below. Customer Purchase Order is required."]
[null,"If information is missing, orders will be entered and held until all information is received."]
[null,null,"Customer Number",null,"Cust Grp 3"]
[null,null,{"$f":"Start_Here!$C$25","v":0},null,{"$f":"Start_Here!$C$29","v":0}]
[null,null,{"$f":"Start_Here!$B$18","v":"Who Owns the Machine? (Sold-To Info) (Please Verify)"}]
["Company",null,{"$f":"Start_Here!$C$19","v":"Company Name"}]
["Address",null,{"$f":"Start_Here!$C$20","v":"Address"}]
[null,null,{"$f":"Start_Here!$C$21","v":"City, State Zip"}]
["Name",null,{"$f":"Start_Here!$C$22","v":"Contact Name"}]
["Phone",null,{"$f":"Start_Here!$C$23","v":"Contact Phone"}]
[null,null,{"$f":"Start_Here!$B$11","v":"Where is the Machine Being Shipped? (Ship-To Info) (Please Verify)"}]
["Company",null,{"$f":"Start_Here!$C$12","v":"Company Name"}]
["Address",null,{"$f":"Start_Here!$C$13","v":"Address"}]
[null,null,{"$f":"Start_Here!$C$14","v":"City, State Zip"}]
["Name",null,{"$f":"Start_Here!$C$15","v":"Contact Name"}]
["Phone",null,{"$f":"Start_Here!$C$16","v":"Contact Phone"}]
[null,null,{"$f":"Start_Here!$B$31","v":"Shipping / Carrier Instructions:"},null,"Order Special Instructions:"]
[null,null,{"$f":"Start_Here!$C$32","v":0}]
[]
[null,null,"Customer Purchase Order No."]
[null,null,"(please attach copy)"]
[]
[]
[null,null,"Tax Exempt",null,"Yes"]
[null,null,null,null,"No"]
[null,null,"If Yes, attach a copy of your exemption certificate."]
[]
[null,null,"Requested Delivery Date"]
[null,null,{"$f":"Start_Here!$C$28","v":0}]
[]
[null,null,{"$f":"Start_Here!$C$26","v":0},null,{"$f":"Start_Here!$C$27","v":0}]
[null,null,"Authorized Buyer (please print)",null,"Phone Number"]
[]
[]
[null,null,"Authorized Buyer Signature"]
[]
[null,null,{"$f":"Start_Here!$C$41","v":"Rep Name"}]
[null,null,"Tennant Representative"]
[]
["Specialized Maintenance Equipment"]
[{"$f":"Start_Here!$C$48","v":"TENNANT · 10400 Clean Street · Eden Prairie, MN 55344 ·"}]
[{"$f":"Start_Here!$C$49","v":" PHONE:800-553-8033 · FAX:763-513-2116"}]
[]
[null,"Notes"]
[]
[null,1,"When pad/brush assist unit is chosen, only mechanical Set and Forget™ downpressure is available.  "]
[null,null,"Automatic Down Pressure can only be deducted from the self-propelled unit."]
[]
[null,2,"225AH Battery is standard on units with the Self Propel Drive Type.  "]
[null,null,"When Self Propel is selected, this battery will be added at No Charge."]
[]
[null,3,"Factory installed pricing.  Only available on wet batteries, not sealed. "]
[]
[null,4,"Not available with Active Dust Control.  Only Available with Passive Dust Control."]
[]
[null,5,"A French and English manual will be supplied for all units shipping into Quebec, Canada at no charge.  An additional manual"]
[null,null,"can be ordered (for a total of 3 manuals) for an additional charge as stated under 'Additional Operator Manual'."]
[]
[null,6,"Skid w/Carton, Stackable is the default packaging method and will be added to the configuration unless otherwise specified."]
[]
[null,7,"Shipping Weights and Dimensions",null,"Skid w/Carton"]
[]
[null,null,"Weight - Pad Drive w/185AH Battery",null,"587 lbs / 267 Kg"]
[null,null,"Weight - Self Propel w/225AH Battery",null,"652 lbs / 296 Kg"]
[null,null,"Length",null,"60\" / 1524 mm"]
[null,null,"Width",null,"31\" / 788 mm"]
[null,null,"Height",null,"50\" / 1270 mm"]

{"sheet":"Vacuums","index":11,"n_rows":306,"n_cols":16,"rows_kept":306,"cut":false,"hidden":false,"merged":[[212,3,212,4],[212,5,212,6],[213,3,213,4],[213,5,213,6],[214,3,214,4],[214,5,214,6],[37,2,37,3],[57,2,57,3],[64,2,64,3],[71,2,71,3],[104,2,104,3],[210,3,210,4],[210,5,210,6],[107,2,107,3],[134,2,134,3],[148,2,148,3],[185,3,185,4],[208,3,208,4],[211,3,211,4],[211,5,211,6],[0,2,0,3],[1,2,1,3],[2,2,2,3],[3,2,3,3],[201,4,201,8],[203,3,203,6],[205,3,205,4],[206,3,206,4],[185,5,185,6],[187,3,187,4],[187,5,187,6],[208,5,208,6],[209,3,209,4],[209,5,209,6],[245,0,245,1],[245,2,245,5],[223,1,223,6],[242,4,242,6],[244,0,244,1],[244,2,244,5],[246,2,246,5],[247,0,247,1],[247,2,247,5],[254,0,254,1],[254,2,254,5],[252,2,252,5],[253,0,253,1],[248,0,248,1],[248,2,248,5],[250,0,250,1],[250,2,250,5],[251,0,251,1],[251,2,251,5],[269,4,269,5],[253,2,253,5],[256,4,256,6],[258,2,258,5],[259,2,259,5],[260,2,260,5]]}
["Vacuums",null,{"$f":"Start_Here!$C19","v":"Company Name"}]
[{"$f":"SUM(G180)","v":0},null,{"$f":"Start_Here!$C20","v":"Address"}]
[null,null,{"$f":"Start_Here!$C21","v":"City, State Zip"}]
[null,null,{"$f":"Start_Here!$C22","v":"Contact Name"}]
[null,null,{"$f":"Start_Here!$C$41","v":"Rep Name"}]
[null,null,{"$f":"Start_Here!$C$37","v":"Tennant Sales and Service Company"}]
[null,null,{"$f":"Start_Here!$C$38","v":"10400 Clean Street"}]
[null,null,{"$f":"Start_Here!$C$39","v":"Eden Prairie, MN 55344"}]
[null,null,{"$f":"Start_Here!$C$43","v":"800-553-8033"},null,"Quote Date :",null,{"$f":"Letter!$A$25","v":"2020-09-22"}]
[]
[null,null,{"$f":"Help!C2","v":"CAN Date Rev - 9/30/2024"}]
[]
[null,null,"New Machine Warranty"]
[null,null,"TIDY VAC 3, TIDY VAC 6, V-BP-6 Backpack  "]
[null,null,"24 MONTHS ON PARTS"]
[null,null,"12 MONTHS - LABOR"]
[null,null,"3 MONTHS - TRAVEL"]
[null,null,"WET/DRY VACUUMS",null,null,null,"Fax (quote only)"," "]
[null,null,"3 YEARS PARTS & LABOR, NO TRAVEL",null,null,null,"Mail (quote,lit, specs)"," "]
[null,null,"All others",null,null,null,"Fax + Mail"," "]
[null,null,"12 MONTHS ON PARTS"]
[null,null,"12 MONTHS - LABOR",null,"                Primary Use"]
[null,null,"NO TRAVEL",null,null,null,"Inside"]
[null,null,null,null,null,null,"Outside"]
[]
[null,null,"Description","Reference #","Canada Price Each","Qty","Extended Price"]
[null,null,null,null,null,"*"]
[null,null,"V-WA-30  30\" (762mm) Wide Area Vacuum",1068029,5646,null,{"$f":"F28*E28","v":0},{"$f":"IFERROR(IFERROR(VLOOKUP(D28,Surcharge!A:B,2,FALSE)*F28, VLOOKUP(D28 & \"\",Surcharge!A:B,2,FALSE)*F28), \"\")","v":""},null,null,null,{"$f":"SUM(F28)","v":0},"Surcharge Qty",null,null,{"$f":"VLOOKUP(D28,'MPF SAP Canada Pre-Configured'!$C:$E,3,FALSE)","v":5646}]
[null,null,"Certified CRI Bronze Cleaning Performance.   Comes standard with HEPA filtration, and spare bag and 75 ft. (23m) safety-yellow power cord.  \nETL US/C",null,null,{"$f":"SUM(F28)","v":0},null,{"$f":"IFERROR(IFERROR(VLOOKUP(D29,Surcharge!A:B,2,FALSE)*F29, VLOOKUP(D29 & \"\",Surcharge!A:B,2,FALSE)*F29), \"\")","v":""}]
[null,null,"Boxed Dimensions: 18\"L x 32.25 \"W x 43.25 \"H (457mm x 819mm x 196mm) *",null,null,{"$f":"SUM(F29)","v":0},null,{"$f":"IFERROR(IFERROR(VLOOKUP(D30,Surcharge!A:B,2,FALSE)*F30, VLOOKUP(D30 & \"\",Surcharge!A:B,2,FALSE)*F30), \"\")","v":""}]
[null,null,"Shipping Weight: 100 lbs. (45.36kg)",null,null,{"$f":"SUM(F30)","v":0},null,{"$f":"IFERROR(IFERROR(VLOOKUP(D31,Surcharge!A:B,2,FALSE)*F31, VLOOKUP(D31 & \"\",Surcharge!A:B,2,FALSE)*F31), \"\")","v":""}]
[null,null,"Made in the USA with Globally sourced components",null,null,{"$f":"SUM(F31)","v":0},null,{"$f":"IFERROR(IFERROR(VLOOKUP(D32,Surcharge!A:B,2,FALSE)*F32, VLOOKUP(D32 & \"\",Surcharge!A:B,2,FALSE)*F32), \"\")","v":""}]
[null,null,null,null,null,null,null,{"$f":"IFERROR(IFERROR(VLOOKUP(D33,Surcharge!A:B,2,FALSE)*F33, VLOOKUP(D33 & \"\",Surcharge!A:B,2,FALSE)*F33), \"\")","v":""}]
[null,null,null,null,null,null,null,{"$f":"IFERROR(IFERROR(VLOOKUP(D34,Surcharge!A:B,2,FALSE)*F34, VLOOKUP(D34 & \"\",Surcharge!A:B,2,FALSE)*F34), \"\")","v":""}]
[null,null,"V-LWU-13B Battery Light Weight Upright Commercial Vacuum ",1236914,1328,null,{"$f":"F35*E35","v":0},{"$f":"IFERROR(IFERROR(VLOOKUP(D35,Surcharge!A:B,2,FALSE)*F35, VLOOKUP(D35 & \"\",Surcharge!A:B,2,FALSE)*F35), \"\")","v":""},null,null,null,null,null,null,null,{"$f":"VLOOKUP(D35,'MPF SAP Canada Pre-Configured'!$C:$E,3,FALSE)","v":1328}]
[null,null,"Certified CRI Bronze Cleaning Performance.   44 VDC / 2.9 Ah lithium ion powered vacuum.  Runtime 50 minutes.  Weighs only 11 lbs (4.99 kg).  Comes standard with HEPA filtration, spare belt and bag.  Comes with battery and charger, UL certified.",null,null,{"$f":"SUM(F35)","v":0},null,{"$f":"IFERROR(IFERROR(VLOOKUP(D36,Surcharge!A:B,2,FALSE)*F36, VLOOKUP(D36 & \"\",Surcharge!A:B,2,FALSE)*F36), \"\")","v":""}]
[null,null,null,null,null,{"$f":"SUM(F36)","v":0},null,{"$f":"IFERROR(IFERROR(VLOOKUP(D37,Surcharge!A:B,2,FALSE)*F37, VLOOKUP(D37 & \"\",Surcharge!A:B,2,FALSE)*F37), \"\")","v":""}]
[null,null,"Boxed Dimensions: 35\"L x  15\"W x 7 \"H (889mm x 381mm x 178mm) ",null,null,{"$f":"SUM(F37)","v":0},null,{"$f":"IFERROR(IFERROR(VLOOKUP(D38,Surcharge!A:B,2,FALSE)*F38, VLOOKUP(D38 & \"\",Surcharge!A:B,2,FALSE)*F38), \"\")","v":""}]
[null,null,"Shipping Weight: 17 lbs. (7.7kg)",null,null,{"$f":"SUM(F38)","v":0},null,{"$f":"IFERROR(IFERROR(VLOOKUP(D39,Surcharge!A:B,2,FALSE)*F39, VLOOKUP(D39 & \"\",Surcharge!A:B,2,FALSE)*F39), \"\")","v":""}]
[null,null,"Made in the USA with Globally sourced components",null,null,{"$f":"SUM(F39)","v":0},null,{"$f":"IFERROR(IFERROR(VLOOKUP(D40,Surcharge!A:B,2,FALSE)*F40, VLOOKUP(D40 & \"\",Surcharge!A:B,2,FALSE)*F40), \"\")","v":""}]
[null,null,null,null,null,null,null,{"$f":"IFERROR(IFERROR(VLOOKUP(D41,Surcharge!A:B,2,FALSE)*F41, VLOOKUP(D41 & \"\",Surcharge!A:B,2,FALSE)*F41), \"\")","v":""}]
[null,null,null,null,null,null,null,{"$f":"IFERROR(IFERROR(VLOOKUP(D42,Surcharge!A:B,2,FALSE)*F42, VLOOKUP(D42 & \"\",Surcharge!A:B,2,FALSE)*F42), \"\")","v":""}]
[null,null,"V-SMU-14 - 14\" (356mm) Single Motor Vacuum ",1060829,866,null,{"$f":"F43*E43","v":0},{"$f":"IFERROR(IFERROR(VLOOKUP(D43,Surcharge!A:B,2,FALSE)*F43, VLOOKUP(D43 & \"\",Surcharge!A:B,2,FALSE)*F43), \"\")","v":""},null,null,null,null,null,null,null,{"$f":"VLOOKUP(D43,'MPF SAP Canada Pre-Configured'!$C:$E,3,FALSE)","v":866}]
[null,null,"Certified CRI Silver Cleaning Performance. 1.5-gallon (5.5-liter) bag capacity.  Comes standard with 3-stage HEPA filtration, easy access crevice tool and dusting brush , 4:1 stretch hose, telescopic aluminum wand, spare belt and bag and 50 ft. (15m) safety-yellow power cord.  ETL US/C",null,null,{"$f":"SUM(F43)","v":0},null,{"$f":"IFERROR(IFERROR(VLOOKUP(D44,Surcharge!A:B,2,FALSE)*F44, VLOOKUP(D44 & \"\",Surcharge!A:B,2,FALSE)*F44), \"\")","v":""}]
[null,null,"Boxed Dimensions: 42.75\"L x 17.25\"W x 9.75\"H (1090mm x 440mm x 250mm) *",null,null,{"$f":"SUM(F44)","v":0},null,{"$f":"IFERROR(IFERROR(VLOOKUP(D45,Surcharge!A:B,2,FALSE)*F45, VLOOKUP(D45 & \"\",Surcharge!A:B,2,FALSE)*F45), \"\")","v":""}]
[null,null,"Shipping Weight: 21.75 lbs. (9.9 kg)",null,null,{"$f":"SUM(F45)","v":0},null,{"$f":"IFERROR(IFERROR(VLOOKUP(D46,Surcharge!A:B,2,FALSE)*F46, VLOOKUP(D46 & \"\",Surcharge!A:B,2,FALSE)*F46), \"\")","v":""}]
[null,null,null,null,null,null,null,{"$f":"IFERROR(IFERROR(VLOOKUP(D47,Surcharge!A:B,2,FALSE)*F47, VLOOKUP(D47 & \"\",Surcharge!A:B,2,FALSE)*F47), \"\")","v":""}]
[null,null,null,null,null,null,null,{"$f":"IFERROR(IFERROR(VLOOKUP(D48,Surcharge!A:B,2,FALSE)*F48, VLOOKUP(D48 & \"\",Surcharge!A:B,2,FALSE)*F48), \"\")","v":""}]
[null,null,"V-DMU-14 - 14\" (356mm) Dual Motor Vacuum ",1068027,1131,null,{"$f":"F49*E49","v":0},{"$f":"IFERROR(IFERROR(VLOOKUP(D49,Surcharge!A:B,2,FALSE)*F49, VLOOKUP(D49 & \"\",Surcharge!A:B,2,FALSE)*F49), \"\")","v":""},null,null,null,null,null,null,null,{"$f":"VLOOKUP(D49,'MPF SAP Canada Pre-Configured'!$C:$E,3,FALSE)","v":1131}]
[null,null,"Certified CRI Silver Cleaning Performance. 1.5-gallon (5.5-liter) bag capacity.  Comes standard with 3-stage HEPA filtration, easy access crevice tool and dusting brush , 4:1 stretch hose, telescopic aluminum wand, spare bag and 50 ft. (15m) safety-yellow power cord.  \nETL US/C",null,null,{"$f":"SUM(F49)","v":0},null,{"$f":"IFERROR(IFERROR(VLOOKUP(D50,Surcharge!A:B,2,FALSE)*F50, VLOOKUP(D50 & \"\",Surcharge!A:B,2,FALSE)*F50), \"\")","v":""}]
[null,null,"Boxed Dimensions: 42.75\"L x 17.25\"W x 9.75\"H (1090mm x 440mm x 250mm) *",null,null,{"$f":"SUM(F50)","v":0},null,{"$f":"IFERROR(IFERROR(VLOOKUP(D51,Surcharge!A:B,2,FALSE)*F51, VLOOKUP(D51 & \"\",Surcharge!A:B,2,FALSE)*F51), \"\")","v":""}]
[null,null,"Shipping Weight: 22.75 lbs. (9.9 kg)",null,null,{"$f":"SUM(F51)","v":0},null,{"$f":"IFERROR(IFERROR(VLOOKUP(D52,Surcharge!A:B,2,FALSE)*F52, VLOOKUP(D52 & \"\",Surcharge!A:B,2,FALSE)*F52), \"\")","v":""}]
[null,null,null,null,null,null,null,{"$f":"IFERROR(IFERROR(VLOOKUP(D53,Surcharge!A:B,2,FALSE)*F53, VLOOKUP(D53 & \"\",Surcharge!A:B,2,FALSE)*F53), \"\")","v":""}]
[]
[null,null,"V-CAN-16 Premium Dry Canister Vacuum Cleaner",1252618,764,null,{"$f":"F55*E55","v":0},null,null,null,null,null,null,null,null,{"$f":"VLOOKUP(D55,'MPF SAP Canada Pre-Configured'!$C:$E,3,FALSE)","v":764}]
[null,null,"CRI certified Bronze with optional high performance tool. 4.2 gallon (16 liter) capacity with multi-stage filtration including cloth filter, fleece bag and downstream HEPA cartridge.  Comes standard with speed regulator, full bag indicator, chrome telescopic tube, wand with air flow regulator, floor tool, flat lance, round brush and small tool, 6.5 ft (2 m) hose, 40 ft (12m) detachable safety-yellow power cord.  UL / CSA",null,null,{"$f":"SUM(F55)","v":0}]
[null,null,null,null,null,{"$f":"SUM(F56)","v":0}]
[null,null,"Boxed Dimensions: 16 x 17 x 20 in (400 x 435 x 515 mm)",null,null,{"$f":"SUM(F57)","v":0}]
[null,null,"Shipping Weight: 20 lb / 9 kg ",null,null,{"$f":"SUM(F58)","v":0}]
[]
[]
[null,null,"V-CAN-12 Standard Dry Canister Vacuum Cleaner",1252616,621,null,{"$f":"F62*E62","v":0},null,null,null,null,null,null,null,null,{"$f":"VLOOKUP(D62,'MPF SAP Canada Pre-Configured'!$C:$E,3,FALSE)","v":621}]
[null,null,"CRI certified Bronze with optional high performance tool. 3.2 gallon (12 liter) capacity with multi-stage filtration including cloth filter, fleece bag and downstream foam filter.  Comes standard with chrome tube, wand with air flow regulator, floor tool, flat lance, round brush and small tool, 6.2 ft (1.9 m) hose, 40 ft (12m) detachable safety-yellow power cord.  UL / CSA",null,null,{"$f":"SUM(F62)","v":0}]
[null,null,null,null,null,{"$f":"SUM(F63)","v":0}]
[null,null,"Boxed Dimensions: 15.5 x 15.5 x 20 in (395 x 395 x 510 mm)",null,null,{"$f":"SUM(F64)","v":0}]
[null,null,"Shipping Weight: 19.4 lb / 8.8 kg",null,null,{"$f":"SUM(F65)","v":0}]
[]
[]
[null,null,"V-CAN-10 Compact Dry Canister Vacuum Cleaner",1244292,449,null,{"$f":"F69*E69","v":0},null,null,null,null,null,null,null,null,{"$f":"VLOOKUP(D69,'MPF SAP Canada Pre-Configured'!$C:$E,3,FALSE)","v":449}]
[null,null,"2.6 gallon (10 liter) capacity, comes standard with paper bag, floor tool/crevice tool/dusting brush, 2-piece wand, 5 ft (1.5 m) hose and 26 ft (8 m) yellow power cord.  Intertek ETL (US-Can)",null,null,{"$f":"SUM(F69)","v":0}]
[null,null,null,null,null,{"$f":"SUM(F70)","v":0}]
[null,null,"Boxed Dimensions: 13.2 x 13 x 13 in (335 x 330 x 330 mm). ",null,null,{"$f":"SUM(F71)","v":0}]
[null,null,"Shipping Weight: 15 lb / 6.7kg ",null,null,{"$f":"SUM(F72)","v":0}]
[null,null,null,null,null,null,null,{"$f":"IFERROR(IFERROR(VLOOKUP(D74,Surcharge!A:B,2,FALSE)*F74, VLOOKUP(D74 & \"\",Surcharge!A:B,2,FALSE)*F74), \"\")","v":""}]
[null,null,null,null,null,null,null,{"$f":"IFERROR(IFERROR(VLOOKUP(D75,Surcharge!A:B,2,FALSE)*F75, VLOOKUP(D75 & \"\",Surcharge!A:B,2,FALSE)*F75), \"\")","v":""}]
[null,null,"V-BP-6 Backpack Vacuum - Base Kit",9013473,1058,null,{"$f":"F76*E76","v":0},{"$f":"IFERROR(IFERROR(VLOOKUP(D76,Surcharge!A:B,2,FALSE)*F76, VLOOKUP(D76 & \"\",Surcharge!A:B,2,FALSE)*F76), \"\")","v":""},null,null,null,null,null,null,null,{"$f":"VLOOKUP(D76,'MPF SAP Canada Pre-Configured'!$C:$E,3,FALSE)","v":1058}]
[null,null,"Ergonomic Commercial Backpack Vacuum - 10 amp vac motor, 6 qt. (5.7 litre) capacity,  comes standard with 4-stage HEPA filtration, Deuter branded hiking harness, 14\" (356 mm) hard floor tool, 14\" (356mm) carpet floor tool, 15-ft (5m) crush proof 4:1 stretch hose and lightweight, two-piece aluminum wand, dust brush, crevice and upholstery tool.  50 ft. (15m) safety-yellow power cord.  UL-CSA. CRI certified Gold with optional Hi-performance tool.",null,null,{"$f":"SUM(F76)","v":0},null,{"$f":"IFERROR(IFERROR(VLOOKUP(D77,Surcharge!A:B,2,FALSE)*F77, VLOOKUP(D77 & \"\",Surcharge!A:B,2,FALSE)*F77), \"\")","v":""}]
[null,null,null,null,null,null,null,{"$f":"IFERROR(IFERROR(VLOOKUP(D78,Surcharge!A:B,2,FALSE)*F78, VLOOKUP(D78 & \"\",Surcharge!A:B,2,FALSE)*F78), \"\")","v":""}]
[null,null,null,null,null,null,null,{"$f":"IFERROR(IFERROR(VLOOKUP(D79,Surcharge!A:B,2,FALSE)*F79, VLOOKUP(D79 & \"\",Surcharge!A:B,2,FALSE)*F79), \"\")","v":""}]
[null,null,"Vacuum Boxed Dimensions: 26.8\"L x 15.2\"W x 14.2\"H (680mm x 385mm x 360mm)",null,null,null,null,{"$f":"IFERROR(IFERROR(VLOOKUP(D80,Surcharge!A:B,2,FALSE)*F80, VLOOKUP(D80 & \"\",Surcharge!A:B,2,FALSE)*F80), \"\")","v":""}]
[null,null,"Tools Boxed Dimensions:  32\"L x 11\" W x 4.5\"H (813mm x 279mm x 114mm)",null,null,{"$f":"SUM(F79)","v":0},null,{"$f":"IFERROR(IFERROR(VLOOKUP(D81,Surcharge!A:B,2,FALSE)*F81, VLOOKUP(D81 & \"\",Surcharge!A:B,2,FALSE)*F81), \"\")","v":""}]
[null,null,"Shipping Weight: vacuum 21.2 lbs. (9.6 kg) + tools 3.6 lbs (1.6 kg) = total 24.8 lbs (11.2 kg)",null,null,{"$f":"SUM(F80)","v":0},null,{"$f":"IFERROR(IFERROR(VLOOKUP(D82,Surcharge!A:B,2,FALSE)*F82, VLOOKUP(D82 & \"\",Surcharge!A:B,2,FALSE)*F82), \"\")","v":""}]
[null,null,"*3 Total boxes will come with the order (in addition to the two above there will be a small accessory box. ",null,null,null,null,{"$f":"IFERROR(IFERROR(VLOOKUP(D83,Surcharge!A:B,2,FALSE)*F83, VLOOKUP(D83 & \"\",Surcharge!A:B,2,FALSE)*F83), \"\")","v":""}]
[null,null,null,null,null,null,null,{"$f":"IFERROR(IFERROR(VLOOKUP(D84,Surcharge!A:B,2,FALSE)*F84, VLOOKUP(D84 & \"\",Surcharge!A:B,2,FALSE)*F84), \"\")","v":""}]
[null,null,"V-BP-6 Backpack Vacuum - Standard Kit",9013474,1092,null,{"$f":"F85*E85","v":0},{"$f":"IFERROR(IFERROR(VLOOKUP(D85,Surcharge!A:B,2,FALSE)*F85, VLOOKUP(D85 & \"\",Surcharge!A:B,2,FALSE)*F85), \"\")","v":""},null,null,null,null,null,null,null,{"$f":"VLOOKUP(D85,'MPF SAP Canada Pre-Configured'!$C:$E,3,FALSE)","v":1092}]
[null,null,"Ergonomic Commercial Backpack Vacuum - 10 amp vac motor, 6 qt. (5.7 litre) capacity,  comes standard with 4-stage HEPA filtration, Deuter branded hiking harness, 14\" (356 mm) hard floor tool, 14\" (356mm) carpet floor tool, 15-ft (5m) crush proof 4:1 stretch hose and robust one-piece chrome telescoping wand, dust brush, crevice and upholstery tool.  50 ft. (15m) safety-yellow power cord.  UL-CSA. CRI certified Gold with optional Hi-performance tool.",null,null,{"$f":"SUM(F85)","v":0},null,{"$f":"IFERROR(IFERROR(VLOOKUP(D86,Surcharge!A:B,2,FALSE)*F86, VLOOKUP(D86 & \"\",Surcharge!A:B,2,FALSE)*F86), \"\")","v":""}]
[null,null,null,null,null,null,null,{"$f":"IFERROR(IFERROR(VLOOKUP(D87,Surcharge!A:B,2,FALSE)*F87, VLOOKUP(D87 & \"\",Surcharge!A:B,2,FALSE)*F87), \"\")","v":""}]
[null,null,null,null,null,null,null,{"$f":"IFERROR(IFERROR(VLOOKUP(D88,Surcharge!A:B,2,FALSE)*F88, VLOOKUP(D88 & \"\",Surcharge!A:B,2,FALSE)*F88), \"\")","v":""}]
[null,null,"Vacuum Boxed Dimensions: 26.8\"L x 15.2\"W x 14.2\"H (680mm x 385mm x 360mm)",null,null,null,null,{"$f":"IFERROR(IFERROR(VLOOKUP(D89,Surcharge!A:B,2,FALSE)*F89, VLOOKUP(D89 & \"\",Surcharge!A:B,2,FALSE)*F89), \"\")","v":""}]
[null,null,"Tools Boxed Dimensions:  44.5\"L x 7.5\" W x 3.5\"H (1130mm x 191mm x 89mm)",null,null,{"$f":"SUM(F88)","v":0},null,{"$f":"IFERROR(IFERROR(VLOOKUP(D90,Surcharge!A:B,2,FALSE)*F90, VLOOKUP(D90 & \"\",Surcharge!A:B,2,FALSE)*F90), \"\")","v":""}]
[null,null,"Shipping Weight: vacuum 21.2 lbs. (9.6 kg) + tools 4.8 lbs (2.2 kg) = total 26 lbs (11.8 kg)",null,null,{"$f":"SUM(F89)","v":0},null,{"$f":"IFERROR(IFERROR(VLOOKUP(D91,Surcharge!A:B,2,FALSE)*F91, VLOOKUP(D91 & \"\",Surcharge!A:B,2,FALSE)*F91), \"\")","v":""}]
[null,null,"*3 Total boxes will come with the order (in addition to the two above there will be a small accessory box. ",null,null,null,null,{"$f":"IFERROR(IFERROR(VLOOKUP(D92,Surcharge!A:B,2,FALSE)*F92, VLOOKUP(D92 & \"\",Surcharge!A:B,2,FALSE)*F92), \"\")","v":""}]
[null,null,null,null,null,null,null,{"$f":"IFERROR(IFERROR(VLOOKUP(D93,Surcharge!A:B,2,FALSE)*F93, VLOOKUP(D93 & \"\",Surcharge!A:B,2,FALSE)*F93), \"\")","v":""}]
[null,null,"V-BP-6 Backpack Vacuum - Premium Kit (Sidewinder Tools)",9013475,1248,null,{"$f":"F94*E94","v":0},{"$f":"IFERROR(IFERROR(VLOOKUP(D94,Surcharge!A:B,2,FALSE)*F94, VLOOKUP(D94 & \"\",Surcharge!A:B,2,FALSE)*F94), \"\")","v":""},null,null,null,null,null,null,null,{"$f":"VLOOKUP(D94,'MPF SAP Canada Pre-Configured'!$C:$E,3,FALSE)","v":1248}]
[null,null,"Ergonomic Commercial Backpack Vacuum - 10 amp vac motor, 6 qt. (5.7 litre) capacity,  comes standard with 4-stage HEPA filtration, Deuter branded hiking harness, 18\" (457 mm) Sidewinder branded hard floor tool, 18\" (457 mm) Sidewinder branded carpet floor tool, 15-ft (5m) crush proof 4:1 stretch hose and two-piece anodized aluminum wand, dust brush, crevice and upholstery tool.  50 ft. (15m) safety-yellow power cord.  UL-CSA. CRI certified Gold with optional Hi-performance tool.",null,null,{"$f":"SUM(F94)","v":0},null,{"$f":"IFERROR(IFERROR(VLOOKUP(D95,Surcharge!A:B,2,FALSE)*F95, VLOOKUP(D95 & \"\",Surcharge!A:B,2,FALSE)*F95), \"\")","v":""}]
[null,null,null,null,null,null,null,{"$f":"IFERROR(IFERROR(VLOOKUP(D96,Surcharge!A:B,2,FALSE)*F96, VLOOKUP(D96 & \"\",Surcharge!A:B,2,FALSE)*F96), \"\")","v":""}]
[null,null,"Vacuum Boxed Dimensions: 26.8\"L x 15.2\"W x 14.2\"H (680mm x 385mm x 360mm)",null,null,null,null,{"$f":"IFERROR(IFERROR(VLOOKUP(D97,Surcharge!A:B,2,FALSE)*F97, VLOOKUP(D97 & \"\",Surcharge!A:B,2,FALSE)*F97), \"\")","v":""}]
[null,null,"Tools Boxed Dimensions:  32\"L x 11\" W x 4.5\"H (813mm x 279mm x 114mm)",null,null,{"$f":"SUM(F96:F96)","v":0},null,{"$f":"IFERROR(IFERROR(VLOOKUP(D98,Surcharge!A:B,2,FALSE)*F98, VLOOKUP(D98 & \"\",Surcharge!A:B,2,FALSE)*F98), \"\")","v":""}]
[null,null,"Shipping Weight: vacuum 21.2 lbs. (9.6 kg) + tools 3.4 lbs (1.5 kg) = total 24.6 lbs (11.2 kg)",null,null,{"$f":"SUM(F96:F97)","v":0},null,{"$f":"IFERROR(IFERROR(VLOOKUP(D99,Surcharge!A:B,2,FALSE)*F99, VLOOKUP(D99 & \"\",Surcharge!A:B,2,FALSE)*F99), \"\")","v":""}]
[null,null,"*3 Total boxes will come with the order (in addition to the two above there will be a small accessory box. ",null,null,null,null,{"$f":"IFERROR(IFERROR(VLOOKUP(D100,Surcharge!A:B,2,FALSE)*F100, VLOOKUP(D100 & \"\",Surcharge!A:B,2,FALSE)*F100), \"\")","v":""}]
[]
[null,null,"V-BP-6B Battery Backpack Vacuum - Base Kit",9017567,2722,null,{"$f":"F102*E102","v":0},null,null,null,null,null,null,null,null,{"$f":"VLOOKUP(D102,'MPF SAP Canada Pre-Configured'!$C:$E,3,FALSE)","v":2722}]
[null,null,"Ergonomic Commercial Backpack Vacuum - 36 VDC / 10.4 Ah lithium ion powered battery vacuum.  Runtime 55 minutes. 6 qt. (5.7 liter) capacity,  comes standard with 4-stage HEPA filtration, Deuter branded hiking harness, 14\" (356 mm) hard floor tool, 14\" (356mm) carpet floor tool, 15-ft (5m) crush proof 4:1 stretch hose and lightweight, two-piece aluminum wand, dust brush, crevice and upholstery tool.  ETL certified. CRI certified Silver with optional Hi-performance tool.  Battery and charger included in price, battery ships separately.",null,null,{"$f":"SUM(F102)","v":0}]
[null,null,null,null,null,{"$f":"SUM(F103)","v":0}]
[null,null,"Vacuum Boxed Dimensions: 33.25\"L x 16\"W x 15\"H (844.6mm x 406mm x 381mm)",null,null,0]
[null,null,"Tools Boxed Dimensions:  32\"L x 11\" W x 4.5\"H (813mm x 279mm x 114mm)",null,null,0]
[null,null,"Battery Box Dimensions:  13.5\"L x 4.5\"W x 6.25\"H (343mm x 114mm x 159mm)",null,null,0]
[null,null,"Shipping Weight: vacuum 23 lbs. (10.4 kg) + tools 3.6 lbs (1.6 kg) + battery box 6.2 lbs (2.8 kg) = total 32.8 lbs (14.8 kg)",null,null,0]
[null,null,"*4 Total boxes will come with the order (in addition to the three above there will be a small accessory box).",null,null,0]
[]
[null,null,"V-BP-6B Battery Backpack Vacuum - Standard Kit",9017570,2815,null,{"$f":"F111*E111","v":0},null,null,null,null,null,null,null,null,{"$f":"VLOOKUP(D111,'MPF SAP Canada Pre-Configured'!$C:$E,3,FALSE)","v":2815}]
[null,null,"Ergonomic Commercial Backpack Vacuum - 36 VDC / 10.4 Ah lithium ion battery powered vacuum.  Runtime 55 minutes.  6 qt. (5.7 liter) capacity,  comes standard with 4-stage HEPA filtration, Deuter branded hiking harness, 14\" (356 mm) hard floor tool, 14\" (356mm) carpet floor tool, 15-ft (5m) crush proof 4:1 stretch hose and chrome telescoping wand, dust brush, crevice and upholstery tool.  ETL certified. CRI certified Silver with optional Hi-performance tool.  Battery and charger included in price, battery ships separately.",null,null,{"$f":"SUM(F111)","v":0}]
[null,null,null,null,null,{"$f":"SUM(F112)","v":0}]
[null,null,"Vacuum Boxed Dimensions: 33.25\"L x 16\"W x 15\"H (844.6mm x 406mm x 381mm)",null,null,0]
[null,null,"Tools Boxed Dimensions:  44.5\"L x 7.5\" W x 3.5\"H (1130mm x 191mm x 89mm)",null,null,0]
[null,null,"Battery Box Dimensions:  13.5\"L x 4.5\"W x 6.25\"H (343mm x 114mm x 159mm)",null,null,0]
[null,null,"Shipping Weight: vacuum 23 lbs. (10.4 kg) + tools 3.6 lbs (1.6 kg) + battery box 6.2 lbs (2.8 kg) = total 32.8 lbs (14.8 kg)",null,null,0]
[null,null,"*4 Total boxes will come with the order (in addition to the three above there will be a small accessory box).",null,null,0]
[]
[null,null,"V-BP-6B Battery Backpack Vacuum - Premium Kit (Sidewinder Tools)",9017571,3001,null,{"$f":"F120*E120","v":0},null,null,null,null,null,null,null,null,{"$f":"VLOOKUP(D120,'MPF SAP Canada Pre-Configured'!$C:$E,3,FALSE)","v":3001}]
[null,null,"Ergonomic Commercial Backpack Vacuum - 36 VDC / 10.4 Ah lithium ion powered vacuum. Runtime 55 minutes.  6 qt. (5.7 litre) capacity,  comes standard with 4-stage HEPA filtration, Deuter branded hiking harness, 18\" (457 mm) Sidewinder branded hard floor tool, 18\" (457 mm) Sidewinder branded carpet floor tool, 15-ft (5m) crush proof 4:1 stretch hose and two-piece anodized aluminum wand, dust brush, crevice and upholstery tool.  ETL certified. CRI certified Silver with optional Hi-performance tool.  Battery and charger included in price, battery ships separately.",null,null,{"$f":"SUM(F120)","v":0}]
[null,null,null,null,null,{"$f":"SUM(F121)","v":0}]
[null,null,"Vacuum Boxed Dimensions: 33.25\"L x 16\"W x 15\"H (844.6mm x 406mm x 381mm)",null,null,0]
[null,null,"Tools Boxed Dimensions:  32\"L x 11\" W x 4.5\"H (813mm x 279mm x 114mm)",null,null,0]
[null,null,"Battery Box Dimensions:  13.5\"L x 4.5\"W x 6.25\"H (343mm x 114mm x 159mm)",null,null,0]
[null,null,"Shipping Weight: vacuum 23 lbs. (10.4 kg) + tools 3.4 lbs (1.5 kg) + battery box 6.2 lbs (2.8 kg) = total 32.6 lbs (14.7 kg)",null,null,0]
[null,null,"*4 Total boxes will come with the order (in addition to the three above there will be a small accessory box).",null,null,0]
[null,null,null,null,null,null,null,{"$f":"IFERROR(IFERROR(VLOOKUP(D128,Surcharge!A:B,2,FALSE)*F128, VLOOKUP(D128 & \"\",Surcharge!A:B,2,FALSE)*F128), \"\")","v":""}]
[null,null,null,null,null,null,null,{"$f":"IFERROR(IFERROR(VLOOKUP(D129,Surcharge!A:B,2,FALSE)*F129, VLOOKUP(D129 & \"\",Surcharge!A:B,2,FALSE)*F129), \"\")","v":""}]
[null,"Wet/Dry Vacuums",null,null,null,{"$f":"SUM(F132,F139,F146,F153)","v":0},null,{"$f":"IFERROR(IFERROR(VLOOKUP(D130,Surcharge!A:B,2,FALSE)*F130, VLOOKUP(D130 & \"\",Surcharge!A:B,2,FALSE)*F130), \"\")","v":""}]
[]
[null,null,"V-WD-24P  24-gal. Wet/Dry Vacuum with Pump & Front Mount Squeegee",9019349,3128,null,{"$f":"F132*E132","v":0},null,null,null,null,null,null,null,null,{"$f":"VLOOKUP(D132,'MPF SAP Canada Pre-Configured'!$C:$E,3,FALSE)","v":3128}]
[null,null,"22.7 gallon gross volume tank capacity/14.5 gallon water volume tank capacity. 100\" (2530 mm) waterlift with powerful submersible pump and front mount squeegee. Includes 16-ft. (5 m) vacuum hose, a 40-ft. (12 m) power cord, 2-pc. Aluminum/plastic wand, wand with air flor regulator and wet floor tool.  \nOptions include: dual filtration system, dust floor tool, flat lance, round brush and adaptor.",null,null,{"$f":"SUM(F132)","v":0}]
[null,null,null,"Dual Filtration System sold as option",null,{"$f":"SUM(F133)","v":0}]
[null,null,"Boxed dimensions:  24L x 19W x 37H (620mm x 495mm x 950mm)",null,null,{"$f":"SUM(F134)","v":0}]
[null,null,"Shipping Weight: 87 lbs. (39.5 kg) ",null,null,{"$f":"SUM(F135)","v":0}]
[null,null,null,null,null,null,null,{"$f":"IFERROR(IFERROR(VLOOKUP(D137,Surcharge!A:B,2,FALSE)*F137, VLOOKUP(D137 & \"\",Surcharge!A:B,2,FALSE)*F137), \"\")","v":""}]
[null,null,null,null,null,null,null,{"$f":"IFERROR(IFERROR(VLOOKUP(D138,Surcharge!A:B,2,FALSE)*F138, VLOOKUP(D138 & \"\",Surcharge!A:B,2,FALSE)*F138), \"\")","v":""}]
[null,null,"V-WD-24P  24-gal. Wet/Dry Vacuum with Pump ",1244346,2519,null,{"$f":"F139*E139","v":0},{"$f":"IFERROR(IFERROR(VLOOKUP(D139,Surcharge!A:B,2,FALSE)*F139, VLOOKUP(D139 & \"\",Surcharge!A:B,2,FALSE)*F139), \"\")","v":""},null,null,null,null,null,null,null,{"$f":"VLOOKUP(D139,'MPF SAP Canada Pre-Configured'!$C:$E,3,FALSE)","v":2519}]
[null,null,"22.7 gallon gross volume tank capacity/14.5 gallon water volume tank capacity. 100\" (2530 mm) waterlift with powerful submersible pump. Includes 16-ft. (5 m) vacuum hose, a 40-ft. (12 m) power cord, 2-pc. Aluminum/plastic wand, wand with air flor regulator and wet floor tool.  \nOptions include: front mount squeegee kit, dual filtration system, dust floor tool, flat lance, round brush and adaptor.","Squeegee sold as option",null,{"$f":"SUM(F139)","v":0},null,{"$f":"IFERROR(IFERROR(VLOOKUP(D140,Surcharge!A:B,2,FALSE)*F140, VLOOKUP(D140 & \"\",Surcharge!A:B,2,FALSE)*F140), \"\")","v":""}]
[null,null,null,"Dual Filtration System sold as option",null,{"$f":"SUM(F140)","v":0},null,{"$f":"IFERROR(IFERROR(VLOOKUP(D141,Surcharge!A:B,2,FALSE)*F141, VLOOKUP(D141 & \"\",Surcharge!A:B,2,FALSE)*F141), \"\")","v":""}]
[null,null,"Boxed dimensions:  24L x 19W x 37H (620mm x 495mm x 950mm)",null,null,{"$f":"SUM(F141)","v":0},null,{"$f":"IFERROR(IFERROR(VLOOKUP(D142,Surcharge!A:B,2,FALSE)*F142, VLOOKUP(D142 & \"\",Surcharge!A:B,2,FALSE)*F142), \"\")","v":""}]
[null,null,"Shipping Weight: 65 lbs. (29.6 kg) ",null,null,{"$f":"SUM(F142)","v":0},null,{"$f":"IFERROR(IFERROR(VLOOKUP(D143,Surcharge!A:B,2,FALSE)*F143, VLOOKUP(D143 & \"\",Surcharge!A:B,2,FALSE)*F143), \"\")","v":""}]
[]
[]
[null,null,"V-WD-24  24-gal. Wet/Dry Vacuum with front mount squeegee",9019348,1882,null,{"$f":"F146*E146","v":0},null,null,null,null,null,null,null,null,{"$f":"VLOOKUP(D146,'MPF SAP Canada Pre-Configured'!$C:$E,3,FALSE)","v":1882}]
[null,null,"24 gallon gross volume tank capacity/15.59 gallon water volume tank capacity. 100\" (2530 mm) waterlift with front mount squeegee. Includes 16-ft. (5 m) vacuum hose, a 40-ft. (12 m) power cord, 2-pc. Aluminum/plastic wand, wand with air flor regulator, cloth filter,  paper bag, dust floor tool, wet floor tool, flat lance, round brush and adaptor.  \nOptions include: carpet brush tool and upstream HEPA filter.",null,null,{"$f":"SUM(F146)","v":0}]
[null,null,"   ",null,null,{"$f":"SUM(F147)","v":0}]
[null,null,"Boxed dimensions:  24L x 19W x 37H (620mm x 495mm x 950mm)",null,null,{"$f":"SUM(F148)","v":0}]
[null,null,"Shipping Weight: 79 lbs. (35.8 kg)",null,null,{"$f":"SUM(F149)","v":0}]
[]
[null,null,null,null,null,null,null,{"$f":"IFERROR(IFERROR(VLOOKUP(D152,Surcharge!A:B,2,FALSE)*F152, VLOOKUP(D152 & \"\",Surcharge!A:B,2,FALSE)*F152), \"\")","v":""}]
[null,null,"V-WD-24  24-gal. Wet/Dry Vacuum",1245656,1273,null,{"$f":"F153*E153","v":0},{"$f":"IFERROR(IFERROR(VLOOKUP(D153,Surcharge!A:B,2,FALSE)*F153, VLOOKUP(D153 & \"\",Surcharge!A:B,2,FALSE)*F153), \"\")","v":""},null,null,null,null,null,null,null,{"$f":"VLOOKUP(D153,'MPF SAP Canada Pre-Configured'!$C:$E,3,FALSE)","v":1273}]
[null,null,"24 gallon gross volume tank capacity/15.59 gallon water volume tank capacity. 100\" (2530 mm) waterlift. Includes 16-ft. (5 m) vacuum hose, a 40-ft. (12 m) power cord, 2-pc. Aluminum/plastic wand, wand with air flor regulator, cloth filter,  paper bag, dust floor tool, wet floor tool, flat lance, round brush and adaptor.  \nOptions include: front mount squeegee kit, carpet brush tool and upstream HEPA filter.","Squeegee sold as option",null,{"$f":"SUM(F153)","v":0},null,{"$f":"IFERROR(IFERROR(VLOOKUP(D154,Surcharge!A:B,2,FALSE)*F154, VLOOKUP(D154 & \"\",Surcharge!A:B,2,FALSE)*F154), \"\")","v":""}]
[null,null,null,null,null,{"$f":"SUM(F154)","v":0},null,{"$f":"IFERROR(IFERROR(VLOOKUP(D155,Surcharge!A:B,2,FALSE)*F155, VLOOKUP(D155 & \"\",Surcharge!A:B,2,FALSE)*F155), \"\")","v":""}]
[null,null,"Boxed dimensions:  24L x 19W x 37H (620mm x 495mm x 950mm)",null,null,{"$f":"SUM(F155)","v":0},null,{"$f":"IFERROR(IFERROR(VLOOKUP(D156,Surcharge!A:B,2,FALSE)*F156, VLOOKUP(D156 & \"\",Surcharge!A:B,2,FALSE)*F156), \"\")","v":""}]
[null,null,"Shipping Weight: 59 lbs. (26.8 kg)",null,null,{"$f":"SUM(F156)","v":0},null,{"$f":"IFERROR(IFERROR(VLOOKUP(D157,Surcharge!A:B,2,FALSE)*F157, VLOOKUP(D157 & \"\",Surcharge!A:B,2,FALSE)*F157), \"\")","v":""}]
[null,null,null,null,null,null,null,{"$f":"IFERROR(IFERROR(VLOOKUP(D158,Surcharge!A:B,2,FALSE)*F158, VLOOKUP(D158 & \"\",Surcharge!A:B,2,FALSE)*F158), \"\")","v":""}]
[]
[null,null,"V-WD-9  9-gal. Wet/Dry Vacuum",1244345,804,null,{"$f":"F160*E160","v":0},{"$f":"IFERROR(IFERROR(VLOOKUP(D160,Surcharge!A:B,2,FALSE)*F160, VLOOKUP(D160 & \"\",Surcharge!A:B,2,FALSE)*F160), \"\")","v":""},null,null,null,null,null,null,null,{"$f":"VLOOKUP(D160,'MPF SAP Canada Pre-Configured'!$C:$E,3,FALSE)","v":804}]
[null,null,"9 gallon gross volume tank capacity/6.6 gallon water volume tank capacity. 100\" (2530 mm) waterlift.  Includes 8-ft. (2.5 m) vacuum hose, a 28-ft. (8.5 m) power cord, 2-pc. Aluminum/plastic wand, wand with air flor regulator, cloth filter,  paper bag, dust floor tool, wet floor tool, flat lance, round brush and adaptor.  \nOptions include: carpet brush tool and upstream HEPA filter.",null,null,{"$f":"SUM(F160)","v":0},null,{"$f":"IFERROR(IFERROR(VLOOKUP(D161,Surcharge!A:B,2,FALSE)*F161, VLOOKUP(D161 & \"\",Surcharge!A:B,2,FALSE)*F161), \"\")","v":""}]
[null,null,null,null,null,{"$f":"SUM(F161)","v":0},null,{"$f":"IFERROR(IFERROR(VLOOKUP(D162,Surcharge!A:B,2,FALSE)*F162, VLOOKUP(D162 & \"\",Surcharge!A:B,2,FALSE)*F162), \"\")","v":""}]
[null,null,"Boxed dimensions:  17L x 17W x 32H (420mm x 420mm x 820mm) ",null,null,{"$f":"SUM(F162)","v":0},null,{"$f":"IFERROR(IFERROR(VLOOKUP(D163,Surcharge!A:B,2,FALSE)*F163, VLOOKUP(D163 & \"\",Surcharge!A:B,2,FALSE)*F163), \"\")","v":""}]
[null,null,"Shipping Weight:  31 lbs. (13.9 kg)",null,null,{"$f":"SUM(F163)","v":0},null,{"$f":"IFERROR(IFERROR(VLOOKUP(D164,Surcharge!A:B,2,FALSE)*F164, VLOOKUP(D164 & \"\",Surcharge!A:B,2,FALSE)*F164), \"\")","v":""}]
[]
[]
[null,null,null,null,{"$f":"ROUND(SUM(G28:G166), 0)","v":0},{"$f":"SUM(E168)","v":0}]
[null,null,null,"Machine Subtotal ",{"$f":"ROUND(SUM(G28:G166), 0)","v":0},{"$f":"F167","v":0}]
[null,"Discounts",null,null,null,{"$f":"SUM(F170)","v":0}]
[null,null,null,null,null,{"$f":"SUM(F172:F173)","v":0}]
[null,null,null,"Applicable Currency Adj %",null,{"$f":"IF(E171 <> \"\", 1, 0)","v":0},{"$f":"IF(F171*(E171*0.01)*E167 < 0, F171*(E171*0.01)*E167, -(F171*(E171*0.01)*E167))","v":0}]
[null,null,null,"Discount %",null,{"$f":"IF(E172 <> \"\", 1, 0)","v":0},{"$f":"IF(F172*(E172*0.01)*(E167+G171) < 0, F172*(E172*0.01)*(E167+G171), -(F172*(E172*0.01)*(E167+G171)))","v":0}]
[null,null,null,"Discount $",null,{"$f":"IF(E173 <> \"\", 1, 0)","v":0},{"$f":"IF(F173*E173 < 0, F173*E173, -(F173*E173))","v":0}]
[null,null,null,"Discount Total ",{"$f":"SUM(G171:G173)","v":0},{"$f":"SUM(E174)","v":0}]
[null,null,null,null,null,{"$f":"#REF!","v":{"$error":"#REF!"}}]
[null,null,null,null,null,{"$f":"F175","v":{"$error":"#REF!"}}]
[null,null,"Prepaid and Add","Freight",null,{"$f":"IF(E177 <> \"\", 1, 0)","v":0},{"$f":"F177*E177","v":0}]
[null,null,"Subject to all applicable taxes","Tax",null,{"$f":"IF(E178 <> \"\", 1, 0)","v":0},{"$f":"F178*E178","v":0}]
[null,null,null,null,null,{"$f":"SUM(F180)","v":0}]
[null,null,null,"MACHINE TOTAL*",null,{"$f":"SUM(G180)","v":0},{"$f":"SUM(G28:G178)","v":0},null,null,null,null,null,null,"This goes to \"My Documents\""]
[null,null,null,null,null,null,{"$f":"SUM(G180)","v":0}]
[]
[]
[]
[]
[null,null,"First Western Equipment Finance - Leasing Calculation Option:","Option 1",null,"Option 2",null,null,null,{"$f":"Financing!A38","v":"Rates 2023 - Rev 10/10/2023"}]
[null,null,null,"Monthly Payment","Cost Per Day","Monthly Payment","Cost Per Day",null,null,{"$f":"Financing!A39","v":"“Blank Payment Amounts Indicate The Financing Option Or Purchase Options Selected Are Not "}]
[null,null,"Purchase Option:","FWEF:  $1 Buyout Lease",null,"FWEF: Municipal Lease",null,null,null,{"$f":"Financing!A40","v":"Applicable Or The Machine Total Is Below The Minimum Amount For The Selected Vendor”"}]
[null,null,"24 Months",false,0,false,0,null,null,{"$f":"Financing!A41","v":"\"Quoted monthly payments are estimates only and are based on a certain level of credit rating."}]
[null,null,"30 Months",false,0,false,0,null,null,{"$f":"Financing!A42","v":"Actual monthly payments may be higher depending on your credit rating.\""}]
[null,null,"36 Months",false,0,false,0,null,null,{"$f":"Financing!A43","v":"“Financing rates do not include Pre-Paid Service”"}]
[null,null,"48 Months",0,0,0,0,null,null,{"$f":"Financing!A44","v":0}]
[]
[null,null,null,"Benefits of Equipment Financing:"]
[null,null,null,"• Spreads out investment over time.",null,"• Keep current with latest technology."]
[null,null,null,"• Preserve capital.",null,"• Service and parts bundling available."]
[null,null,null,"• Low monthly payment.",null,"• Pay for labor savings as you go."]
[]
[]
[null,"  TennantTrue",null,0,0]
[]
[null,null,"Is customer interested in service program?","Yes","*State/County selection required for TennantTrue service options"]
[]
[null,null,"If not, why?"]
[]
[null,null,"Term:",36,null,null,"AB Brushes","No"]
[null,null,"Monthly machine usage (hrs):","< 30/mo. (Avg. 1hr./day)"]
[]
[null,null,"TennantTrue: ","Gold Contract",null,"Silver Contract"]
[null,null,"Per Visit"]
[null,null,"Monthly"]
[null,null,"Annually"]
[null,null,"Pre-Pay Full Term"]
[null,null,"Hourly Labor Rate"]
[null,null,"Site Visit"]
[]
[null,null,"* Verify customer current pricing prior to quote. "]
[null,null,"**All rates and fees above reflect service for one (1) unit with the exception of Block of Time service."]
[null,null,"*Block of Time is available in 1 Year Term only and is priced as such no matter the term selection on this template."]
[]
[]
[]
[null,"Quote Special Instructions:"]
[]
[]
[null,{"$f":"Start_Here!E36","v":"Terms and Conditions"}]
[null,{"$f":"Start_Here!E37","v":"Ask your local sales rep for estimated lead times. Verify when placing order"}]
[null,{"$f":"Start_Here!E38","v":"All orders subject to acceptance by Tennant Sales and Service Company, Minneapolis, Minnesota"}]
[null,{"$f":"Start_Here!E39","v":"Prices subject to change without notice. Subject to any applicable taxes."}]
[null,{"$f":"Start_Here!E40","v":"Terms:  Net 30 days.  Payable in Canadian Funds"}]
[null,{"$f":"Start_Here!E41","v":"Freight:  Accessories, parts, supplies, detergents, and floor coatings orders delivered DDP "}]
[null,{"$f":"Start_Here!E42","v":"shipping point Frt PPD.  Machine orders delivered DDP shipping point Frt PPD and add."}]
[null,{"$f":"Start_Here!E43","v":"Returned Merchandise is subject to a restocking fee."}]
[null,{"$f":"Start_Here!E44","v":"All orders are subject to Tennant’s General Terms and Conditions available at http://www.tennantco.com/terms."}]
[null,{"$f":"Start_Here!E45","v":"Printed General Terms and Conditions are also available upon request."}]
[null,{"$f":"Start_Here!E46","v":0}]
[]
[null,null,null,null,"Quote Date :",null,{"$f":"Letter!$A$25","v":"2020-09-22"}]
[null,"Order Placement Information:  To place your order, fill in PO# and customer signatures,"]
[null,"call or fax to the numbers listed below. Customer Purchase Order is required."]
[null,"If information is missing, orders will be entered and held until all information is received."]
[null,null,"Customer Number",null,"Cust Grp 3"]
[null,null,{"$f":"Start_Here!$C$25","v":0},null,{"$f":"Start_Here!$C$29","v":0}]
[null,null,{"$f":"Start_Here!$B$18","v":"Who Owns the Machine? (Sold-To Info) (Please Verify)"}]
["Company",null,{"$f":"Start_Here!$C$19","v":"Company Name"}]
["Address",null,{"$f":"Start_Here!$C$20","v":"Address"}]
[null,null,{"$f":"Start_Here!$C$21","v":"City, State Zip"}]
["Name",null,{"$f":"Start_Here!$C$22","v":"Contact Name"}]
["Phone",null,{"$f":"Start_Here!$C$23","v":"Contact Phone"}]
[null,null,{"$f":"Start_Here!$B$11","v":"Where is the Machine Being Shipped? (Ship-To Info) (Please Verify)"}]
["Company",null,{"$f":"Start_Here!$C$12","v":"Company Name"}]
["Address",null,{"$f":"Start_Here!$C$13","v":"Address"}]
[null,null,{"$f":"Start_Here!$C$14","v":"City, State Zip"}]
["Name",null,{"$f":"Start_Here!$C$15","v":"Contact Name"}]
["Phone",null,{"$f":"Start_Here!$C$16","v":"Contact Phone"}]
[null,null,{"$f":"Start_Here!$B$31","v":"Shipping / Carrier Instructions:"},null,"Order Special Instructions:"]
[null,null,{"$f":"Start_Here!$C$32","v":0}]
[]
[null,null,"Customer Purchase Order No."]
[null,null,"(please attach copy)"]
[]
[]
[null,null,"Tax Exempt",null,"Yes"]
[null,null,null,null,"No"]
[null,null,"If Yes, attach a copy of your exemption certificate."]
[]
[null,null,"Requested Delivery Date"]
[null,null,{"$f":"Start_Here!$C$28","v":0}]
[]
[null,null,{"$f":"Start_Here!$C$26","v":0},null,{"$f":"Start_Here!$C$27","v":0}]
[null,null,"Authorized Buyer (please print)",null,"Phone Number"]
[]
[]
[null,null,"Authorized Buyer Signature"]
[]
[null,null,{"$f":"Start_Here!$C$41","v":"Rep Name"}]
[null,null,"Tennant Representative"]
[]
["Specialized Maintenance Equipment"]
[{"$f":"Start_Here!$C$48","v":"TENNANT · 10400 Clean Street · Eden Prairie, MN 55344 ·"}]
[{"$f":"Start_Here!$C$49","v":" PHONE:800-553-8033 · FAX:763-513-2116"}]
[]
[null,"Notes"]
[]
[null,1,"When pad/brush assist unit is chosen, only mechanical Set and Forget™ downpressure is available.  "]
[null,null,"Automatic Down Pressure can only be deducted from the self-propelled unit."]
[]
[null,2,"225AH Battery is standard on units with the Self Propel Drive Type.  "]
[null,null,"When Self Propel is selected, this battery will be added at No Charge."]
[]
[null,3,"Factory installed pricing.  Only available on wet batteries, not sealed. "]
[]
[null,4,"Not available with Active Dust Control.  Only Available with Passive Dust Control."]
[]
[null,5,"A French and English manual will be supplied for all units shipping into Quebec, Canada at no charge.  An additional manual"]
[null,null,"can be ordered (for a total of 3 manuals) for an additional charge as stated under 'Additional Operator Manual'."]
[]
[null,6,"Skid w/Carton, Stackable is the default packaging method and will be added to the configuration unless otherwise specified."]
[]
[null,7,"Shipping Weights and Dimensions",null,"Skid w/Carton"]
[]
[null,null,"Weight - Pad Drive w/185AH Battery",null,"587 lbs / 267 Kg"]
[null,null,"Weight - Self Propel w/225AH Battery",null,"652 lbs / 296 Kg"]
[null,null,"Length",null,"60\" / 1524 mm"]
[null,null,"Width",null,"31\" / 788 mm"]
[null,null,"Height",null,"50\" / 1270 mm"]

{"sheet":"F_Series_Floor_Machine","index":12,"n_rows":177,"n_cols":16,"rows_kept":177,"cut":false,"hidden":false,"merged":[[74,3,74,6],[76,3,76,4],[77,3,77,4],[56,3,56,4],[56,5,56,6],[58,3,58,4],[58,5,58,6],[0,2,0,3],[1,2,1,3],[2,2,2,3],[3,2,3,3],[72,4,72,8],[79,3,79,4],[79,5,79,6],[80,3,80,4],[80,5,80,6],[81,3,81,4],[81,5,81,6],[82,3,82,4],[82,5,82,6],[83,3,83,4],[83,5,83,6],[116,0,116,1],[116,2,116,5],[94,1,94,6],[113,4,113,6],[115,0,115,1],[115,2,115,5],[84,3,84,4],[84,5,84,6],[85,3,85,4],[85,5,85,6],[125,0,125,1],[125,2,125,5],[117,2,117,5],[118,0,118,1],[118,2,118,5],[119,0,119,1],[119,2,119,5],[121,0,121,1],[121,2,121,5],[122,0,122,1],[122,2,122,5],[123,2,123,5],[124,0,124,1],[140,4,140,5],[124,2,124,5],[127,4,127,6],[129,2,129,5],[130,2,130,5],[131,2,131,5]]}
["F_Series_Floor_Machine",null,{"$f":"Start_Here!$C19","v":"Company Name"}]
[{"$f":"SUM(G51)","v":0},null,{"$f":"Start_Here!$C20","v":"Address"}]
[null,null,{"$f":"Start_Here!$C21","v":"City, State Zip"}]
[null,null,{"$f":"Start_Here!$C22","v":"Contact Name"}]
[null,null,{"$f":"Start_Here!$C$41","v":"Rep Name"}]
[null,null,{"$f":"Start_Here!$C$37","v":"Tennant Sales and Service Company"}]
[null,null,{"$f":"Start_Here!$C$38","v":"10400 Clean Street"}]
[null,null,{"$f":"Start_Here!$C$39","v":"Eden Prairie, MN 55344"}]
[null,null,{"$f":"Start_Here!$C$43","v":"800-553-8033"},null,"Quote Date :",null,{"$f":"Letter!$A$25","v":"2020-09-22"}]
[]
[null,null,{"$f":"Help!C2","v":"CAN Date Rev - 9/30/2024"}]
[]
[null,null,"New Machine Warranty"]
[null,null,"Model FM-17SS, FM-20SS, FM20DS"]
[null,null,"36 MONTHS PARTS"]
[null,null,"36 MONTHS – LABOR",null,null,null,"Fax (quote only)"," "]
[null,null,"NO TRAVEL",null,null,null,"Mail (quote,lit, specs)"," "]
[null,null,"10 YEARS ON ROTOMOLDED PLASTIC PARTS",null,null,null,"Fax + Mail"," "]
[]
[null,null,null,null,"                Primary Use"]
[null,null,null,null,null,null,"Inside"]
[null,null,null,null,null,null,"Outside"]
[]
[null,null,"Description","Reference #","Canada Price Each","Qty","Extended Price"]
[null,null,null,null,null,null,null,{"$f":"IFERROR(IFERROR(VLOOKUP(D25,Surcharge!A:B,2,FALSE)*F25, VLOOKUP(D25 & \"\",Surcharge!A:B,2,FALSE)*F25), \"\")","v":""}]
[null,null,"FM-20-SS - 20\" Heavy Duty 20\" (508mm) Floor Machine",9007336,2388,null,{"$f":"F26*E26","v":0},{"$f":"IFERROR(IFERROR(VLOOKUP(D26,Surcharge!A:B,2,FALSE)*F26, VLOOKUP(D26 & \"\",Surcharge!A:B,2,FALSE)*F26), \"\")","v":""},null,null,null,null,null,null,null,{"$f":"VLOOKUP(D26,'MPF SAP Canada Pre-Configured'!$C:$E,3,FALSE)","v":2388}]
[null,null,"175 rpm (1.50 hp).  Includes pad driver. CSA US/C*",null,null,{"$f":"SUM(F26)","v":0},null,{"$f":"IFERROR(IFERROR(VLOOKUP(D27,Surcharge!A:B,2,FALSE)*F27, VLOOKUP(D27 & \"\",Surcharge!A:B,2,FALSE)*F27), \"\")","v":""}]
[null,null,"Boxed dimensions: 25L x 22W x 51H (635mm x 559mm x 1295mm) ",null,null,{"$f":"SUM(F27)","v":0},null,{"$f":"IFERROR(IFERROR(VLOOKUP(D28,Surcharge!A:B,2,FALSE)*F28, VLOOKUP(D28 & \"\",Surcharge!A:B,2,FALSE)*F28), \"\")","v":""}]
[null,null,"Shipping Weight:  Unit 110 lbs. (50 kg) / Cu. Ft.: 16.25 (Cu. M .46)",null,null,{"$f":"SUM(F28)","v":0},null,{"$f":"IFERROR(IFERROR(VLOOKUP(D29,Surcharge!A:B,2,FALSE)*F29, VLOOKUP(D29 & \"\",Surcharge!A:B,2,FALSE)*F29), \"\")","v":""}]
[null,null,null,null,null,"  ",null,{"$f":"IFERROR(IFERROR(VLOOKUP(D30,Surcharge!A:B,2,FALSE)*F30, VLOOKUP(D30 & \"\",Surcharge!A:B,2,FALSE)*F30), \"\")","v":""}]
[null,null,null,null,null,null,null,{"$f":"IFERROR(IFERROR(VLOOKUP(D31,Surcharge!A:B,2,FALSE)*F31, VLOOKUP(D31 & \"\",Surcharge!A:B,2,FALSE)*F31), \"\")","v":""}]
[null,null,"FM-20-DS - 20\" Heavy Duty Dual Speed 20\" (508mm) Floor Machine",9007334,3712,null,{"$f":"F32*E32","v":0},{"$f":"IFERROR(IFERROR(VLOOKUP(D32,Surcharge!A:B,2,FALSE)*F32, VLOOKUP(D32 & \"\",Surcharge!A:B,2,FALSE)*F32), \"\")","v":""},null,null,null,null,null,null,null,{"$f":"VLOOKUP(D32,'MPF SAP Canada Pre-Configured'!$C:$E,3,FALSE)","v":3712}]
[null,null,"185/330 rpm  (1.5 hp). Includes pad driver.  CSA US/C*",null,null,{"$f":"SUM(F32)","v":0},null,{"$f":"IFERROR(IFERROR(VLOOKUP(D33,Surcharge!A:B,2,FALSE)*F33, VLOOKUP(D33 & \"\",Surcharge!A:B,2,FALSE)*F33), \"\")","v":""}]
[null,null,"Boxed dimensions: 25L x 22W x 51H (635mm x 559mm x 1295mm) ",null,null,{"$f":"SUM(F33)","v":0},null,{"$f":"IFERROR(IFERROR(VLOOKUP(D34,Surcharge!A:B,2,FALSE)*F34, VLOOKUP(D34 & \"\",Surcharge!A:B,2,FALSE)*F34), \"\")","v":""}]
[null,null,"Shipping Weight:  Unit 96 lbs. (44 kg) / Cu. Ft.: 16.25 (Cu. M .46)",null,null,{"$f":"SUM(F34)","v":0},null,{"$f":"IFERROR(IFERROR(VLOOKUP(D35,Surcharge!A:B,2,FALSE)*F35, VLOOKUP(D35 & \"\",Surcharge!A:B,2,FALSE)*F35), \"\")","v":""}]
[null,null,null,null,null,null,null,{"$f":"IFERROR(IFERROR(VLOOKUP(D36,Surcharge!A:B,2,FALSE)*F36, VLOOKUP(D36 & \"\",Surcharge!A:B,2,FALSE)*F36), \"\")","v":""}]
[]
[null,null,null,null,{"$f":"ROUND(SUM(G25:G37), 0)","v":0},{"$f":"SUM(E39)","v":0}]
[null,null,null,"Machine Subtotal ",{"$f":"ROUND(SUM(G25:G37), 0)","v":0},{"$f":"F38","v":0}]
[null,"Discounts",null,null,null,{"$f":"SUM(F41)","v":0}]
[null,null,null,null,null,{"$f":"SUM(F43:F44)","v":0}]
[null,null,null,"Applicable Currency Adj %",null,{"$f":"IF(E42 <> \"\", 1, 0)","v":0},{"$f":"IF(F42*(E42*0.01)*E38 < 0, F42*(E42*0.01)*E38, -(F42*(E42*0.01)*E38))","v":0}]
[null,null,null,"Discount %",null,{"$f":"IF(E43 <> \"\", 1, 0)","v":0},{"$f":"IF(F43*(E43*0.01)*(E38+G42) < 0, F43*(E43*0.01)*(E38+G42), -(F43*(E43*0.01)*(E38+G42)))","v":0}]
[null,null,null,"Discount $",null,{"$f":"IF(E44 <> \"\", 1, 0)","v":0},{"$f":"IF(F44*E44 < 0, F44*E44, -(F44*E44))","v":0}]
[null,null,null,"Discount Total ",{"$f":"SUM(G42:G44)","v":0},{"$f":"SUM(E45)","v":0}]
[null,null,null,null,null,{"$f":"#REF!","v":{"$error":"#REF!"}}]
[null,null,null,null,null,{"$f":"F46","v":{"$error":"#REF!"}}]
[null,null,"Prepaid and Add","Freight",null,{"$f":"IF(E48 <> \"\", 1, 0)","v":0},{"$f":"F48*E48","v":0}]
[null,null,"Subject to all applicable taxes","Tax",null,{"$f":"IF(E49 <> \"\", 1, 0)","v":0},{"$f":"F49*E49","v":0}]
[null,null,null,null,null,{"$f":"SUM(F51)","v":0}]
[null,null,null,"MACHINE TOTAL*",null,{"$f":"SUM(G51)","v":0},{"$f":"SUM(G25:G49)","v":0},null,null,null,null,null,null,"This goes to \"My Documents\""]
[]
[]
[]
[]
[]
[null,null,"First Western Equipment Finance - Leasing Calculation Option:","Option 1",null,"Option 2",null,null,null,{"$f":"Financing!A38","v":"Rates 2023 - Rev 10/10/2023"}]
[null,null,null,"Monthly Payment","Cost Per Day","Monthly Payment","Cost Per Day",null,null,{"$f":"Financing!A39","v":"“Blank Payment Amounts Indicate The Financing Option Or Purchase Options Selected Are Not "}]
[null,null,"Purchase Option:","FWEF:  $1 Buyout Lease",null,"FWEF: Municipal Lease",null,null,null,{"$f":"Financing!A40","v":"Applicable Or The Machine Total Is Below The Minimum Amount For The Selected Vendor”"}]
[null,null,"24 Months",false,0,false,0,null,null,{"$f":"Financing!A41","v":"\"Quoted monthly payments are estimates only and are based on a certain level of credit rating."}]
[null,null,"30 Months",false,0,false,0,null,null,{"$f":"Financing!A42","v":"Actual monthly payments may be higher depending on your credit rating.\""}]
[null,null,"36 Months",false,0,false,0,null,null,{"$f":"Financing!A43","v":"“Financing rates do not include Pre-Paid Service”"}]
[null,null,"48 Months",0,0,0,0,null,null,{"$f":"Financing!A44","v":0}]
[]
[null,null,null,"Benefits of Equipment Financing:"]
[null,null,null,"• Spreads out investment over time.",null,"• Keep current with latest technology."]
[null,null,null,"• Preserve capital.",null,"• Service and parts bundling available."]
[null,null,null,"• Low monthly payment.",null,"• Pay for labor savings as you go."]
[]
[]
[null,"  TennantTrue",null,0,0]
[]
[null,null,"Is customer interested in service program?","Yes","*State/County selection required for TennantTrue service options"]
[]
[null,null,"If not, why?"]
[]
[null,null,"Term:",36,null,null,"AB Brushes","No"]
[null,null,"Monthly machine usage (hrs):","< 30/mo. (Avg. 1hr./day)"]
[]
[null,null,"TennantTrue: ","Gold Contract",null,"Silver Contract"]
[null,null,"Per Visit"]
[null,null,"Monthly"]
[null,null,"Annually"]
[null,null,"Pre-Pay Full Term"]
[null,null,"Hourly Labor Rate"]
[null,null,"Site Visit"]
[]
[null,null,"* Verify customer current pricing prior to quote. "]
[null,null,"**All rates and fees above reflect service for one (1) unit with the exception of Block of Time service."]
[null,null,"*Block of Time is available in 1 Year Term only and is priced as such no matter the term selection on this template."]
[]
[]
[]
[null,"Quote Special Instructions:"]
[]
[]
[null,{"$f":"Start_Here!E36","v":"Terms and Conditions"}]
[null,{"$f":"Start_Here!E37","v":"Ask your local sales rep for estimated lead times. Verify when placing order"}]
[null,{"$f":"Start_Here!E38","v":"All orders subject to acceptance by Tennant Sales and Service Company, Minneapolis, Minnesota"}]
[null,{"$f":"Start_Here!E39","v":"Prices subject to change without notice. Subject to any applicable taxes."}]
[null,{"$f":"Start_Here!E40","v":"Terms:  Net 30 days.  Payable in Canadian Funds"}]
[null,{"$f":"Start_Here!E41","v":"Freight:  Accessories, parts, supplies, detergents, and floor coatings orders delivered DDP "}]
[null,{"$f":"Start_Here!E42","v":"shipping point Frt PPD.  Machine orders delivered DDP shipping point Frt PPD and add."}]
[null,{"$f":"Start_Here!E43","v":"Returned Merchandise is subject to a restocking fee."}]
[null,{"$f":"Start_Here!E44","v":"All orders are subject to Tennant’s General Terms and Conditions available at http://www.tennantco.com/terms."}]
[null,{"$f":"Start_Here!E45","v":"Printed General Terms and Conditions are also available upon request."}]
[null,{"$f":"Start_Here!E46","v":0}]
[]
[null,null,null,null,"Quote Date :",null,{"$f":"Letter!$A$25","v":"2020-09-22"}]
[null,"Order Placement Information:  To place your order, fill in PO# and customer signatures,"]
[null,"call or fax to the numbers listed below. Customer Purchase Order is required."]
[null,"If information is missing, orders will be entered and held until all information is received."]
[null,null,"Customer Number",null,"Cust Grp 3"]
[null,null,{"$f":"Start_Here!$C$25","v":0},null,{"$f":"Start_Here!$C$29","v":0}]
[null,null,{"$f":"Start_Here!$B$18","v":"Who Owns the Machine? (Sold-To Info) (Please Verify)"}]
["Company",null,{"$f":"Start_Here!$C$19","v":"Company Name"}]
["Address",null,{"$f":"Start_Here!$C$20","v":"Address"}]
[null,null,{"$f":"Start_Here!$C$21","v":"City, State Zip"}]
["Name",null,{"$f":"Start_Here!$C$22","v":"Contact Name"}]
["Phone",null,{"$f":"Start_Here!$C$23","v":"Contact Phone"}]
[null,null,{"$f":"Start_Here!$B$11","v":"Where is the Machine Being Shipped? (Ship-To Info) (Please Verify)"}]
["Company",null,{"$f":"Start_Here!$C$12","v":"Company Name"}]
["Address",null,{"$f":"Start_Here!$C$13","v":"Address"}]
[null,null,{"$f":"Start_Here!$C$14","v":"City, State Zip"}]
["Name",null,{"$f":"Start_Here!$C$15","v":"Contact Name"}]
["Phone",null,{"$f":"Start_Here!$C$16","v":"Contact Phone"}]
[null,null,{"$f":"Start_Here!$B$31","v":"Shipping / Carrier Instructions:"},null,"Order Special Instructions:"]
[null,null,{"$f":"Start_Here!$C$32","v":0}]
[]
[null,null,"Customer Purchase Order No."]
[null,null,"(please attach copy)"]
[]
[]
[null,null,"Tax Exempt",null,"Yes"]
[null,null,null,null,"No"]
[null,null,"If Yes, attach a copy of your exemption certificate."]
[]
[null,null,"Requested Delivery Date"]
[null,null,{"$f":"Start_Here!$C$28","v":0}]
[]
[null,null,{"$f":"Start_Here!$C$26","v":0},null,{"$f":"Start_Here!$C$27","v":0}]
[null,null,"Authorized Buyer (please print)",null,"Phone Number"]
[]
[]
[null,null,"Authorized Buyer Signature"]
[]
[null,null,{"$f":"Start_Here!$C$41","v":"Rep Name"}]
[null,null,"Tennant Representative"]
[]
["Specialized Maintenance Equipment"]
[{"$f":"Start_Here!$C$48","v":"TENNANT · 10400 Clean Street · Eden Prairie, MN 55344 ·"}]
[{"$f":"Start_Here!$C$49","v":" PHONE:800-553-8033 · FAX:763-513-2116"}]
[]
[null,"Notes"]
[]
[null,1,"When pad/brush assist unit is chosen, only mechanical Set and Forget™ downpressure is available.  "]
[null,null,"Automatic Down Pressure can only be deducted from the self-propelled unit."]
[]
[null,2,"225AH Battery is standard on units with the Self Propel Drive Type.  "]
[null,null,"When Self Propel is selected, this battery will be added at No Charge."]
[]
[null,3,"Factory installed pricing.  Only available on wet batteries, not sealed. "]
[]
[null,4,"Not available with Active Dust Control.  Only Available with Passive Dust Control."]
[]
[null,5,"A French and English manual will be supplied for all units shipping into Quebec, Canada at no charge.  An additional manual"]
[null,null,"can be ordered (for a total of 3 manuals) for an additional charge as stated under 'Additional Operator Manual'."]
[]
[null,6,"Skid w/Carton, Stackable is the default packaging method and will be added to the configuration unless otherwise specified."]
[]
[null,7,"Shipping Weights and Dimensions",null,"Skid w/Carton"]
[]
[null,null,"Weight - Pad Drive w/185AH Battery",null,"587 lbs / 267 Kg"]
[null,null,"Weight - Self Propel w/225AH Battery",null,"652 lbs / 296 Kg"]
[null,null,"Length",null,"60\" / 1524 mm"]
[null,null,"Width",null,"31\" / 788 mm"]
[null,null,"Height",null,"50\" / 1270 mm"]

{"sheet":"Burnishers","index":13,"n_rows":168,"n_cols":16,"rows_kept":168,"cut":false,"hidden":false,"merged":[[47,3,47,4],[47,5,47,6],[49,3,49,4],[49,5,49,6],[0,2,0,3],[1,2,1,3],[2,2,2,3],[3,2,3,3],[110,0,110,1],[110,2,110,5],[112,0,112,1],[63,4,63,8],[65,3,65,6],[67,3,67,4],[71,5,71,6],[72,3,72,4],[72,5,72,6],[73,3,73,4],[73,5,73,6],[74,3,74,4],[74,5,74,6],[75,3,75,4],[75,5,75,6],[76,3,76,4],[115,0,115,1],[115,2,115,5],[118,4,118,6],[108,2,108,5],[85,1,85,6],[104,4,104,6],[106,0,106,1],[106,2,106,5],[107,0,107,1],[107,2,107,5],[116,0,116,1],[116,2,116,5],[109,0,109,1],[109,2,109,5],[113,0,113,1],[113,2,113,5],[120,2,120,5],[121,2,121,5],[122,2,122,5],[131,4,131,5],[68,3,68,4],[112,2,112,5],[114,2,114,5],[71,3,71,4],[70,3,70,4],[70,5,70,6],[76,5,76,6]]}
["Burnishers",null,{"$f":"Start_Here!$C19","v":"Company Name"}]
[{"$f":"SUM(G42)","v":0},null,{"$f":"Start_Here!$C20","v":"Address"}]
[null,null,{"$f":"Start_Here!$C21","v":"City, State Zip"}]
[null,null,{"$f":"Start_Here!$C22","v":"Contact Name"}]
[null,null,{"$f":"Start_Here!$C$41","v":"Rep Name"}]
[null,null,{"$f":"Start_Here!$C$37","v":"Tennant Sales and Service Company"}]
[null,null,{"$f":"Start_Here!$C$38","v":"10400 Clean Street"}]
[null,null,{"$f":"Start_Here!$C$39","v":"Eden Prairie, MN 55344"}]
[null,null,{"$f":"Start_Here!$C$43","v":"800-553-8033"},null,"Quote Date :",null,{"$f":"Letter!$A$25","v":"2020-09-22"}]
[]
[null,null,{"$f":"Help!C2","v":"CAN Date Rev - 9/30/2024"}]
[]
[null,null,"New Machine Warranty",null,null,null,"Fax (quote only)"," "]
[null,null,"36 MONTHS or 2500 HOURS ON PARTS",null,null,null,"Mail (quote,lit, specs)"," "]
[null,null,"36 MONTHS – LABOR",null,null,null,"Fax + Mail"," "]
[null,null,"90 DAYS - TRAVEL ON BATTERY UNITS ONLY"]
[null,null,"10 YEARS ON ROTOMOLDED PLASTIC PARTS",null,"                Primary Use"]
[null,null,null,null,null,null,"Inside"]
[null,null,null,null,null,null,"Outside"]
[]
[null,null,"Description","Reference #","Canada Price Each","Qty","Extended Price"]
[null,null,null,null,null,"*"]
[null,null,"BR-2000-DC  Dust Control Burnisher* - 2000 rpm 20\" (508mm)",9007349,5166,null,{"$f":"F23*E23","v":0},{"$f":"IFERROR(IFERROR(VLOOKUP(D23,Surcharge!A:B,2,FALSE)*F23, VLOOKUP(D23 & \"\",Surcharge!A:B,2,FALSE)*F23), \"\")","v":""},null,null,null,{"$f":"SUM(F23)","v":0},"Surcharge Qty",null,null,{"$f":"VLOOKUP(D23,'MPF SAP Canada Pre-Configured'!$C:$E,3,FALSE)","v":5166}]
[null,null,"Complete package includes flexible pad driver, 75-ft. (23m) power cord, cloth filter bag and 1-pad. CSA US/C*       ",null,null,{"$f":"SUM(F23)","v":0},null,{"$f":"IFERROR(IFERROR(VLOOKUP(D24,Surcharge!A:B,2,FALSE)*F24, VLOOKUP(D24 & \"\",Surcharge!A:B,2,FALSE)*F24), \"\")","v":""}]
[null,null,"Boxed dimensions: 34L x 27W x 51H (864mm x 686mm x 1295mm)",null,null,{"$f":"SUM(F24)","v":0},null,{"$f":"IFERROR(IFERROR(VLOOKUP(D25,Surcharge!A:B,2,FALSE)*F25, VLOOKUP(D25 & \"\",Surcharge!A:B,2,FALSE)*F25), \"\")","v":""}]
[null,null,"Shipping Weight:  93 lbs. (42 kg) / Cu. Ft.: 27.09 (Cu. M. .76)",null,null,{"$f":"SUM(F25)","v":0},null,{"$f":"IFERROR(IFERROR(VLOOKUP(D26,Surcharge!A:B,2,FALSE)*F26, VLOOKUP(D26 & \"\",Surcharge!A:B,2,FALSE)*F26), \"\")","v":""}]
[null,null,null,null,null,"  ",null,{"$f":"IFERROR(IFERROR(VLOOKUP(D27,Surcharge!A:B,2,FALSE)*F27, VLOOKUP(D27 & \"\",Surcharge!A:B,2,FALSE)*F27), \"\")","v":""}]
[]
[null,null,null,null,{"$f":"ROUND(SUM(G23:G28), 0)","v":0},{"$f":"SUM(E30)","v":0}]
[null,null,null,"Machine Subtotal ",{"$f":"ROUND(SUM(G23:G28), 0)","v":0},{"$f":"F29","v":0}]
[null,"Discounts",null,null,null,{"$f":"SUM(F32)","v":0}]
[null,null,null,null,null,{"$f":"SUM(F34:F35)","v":0}]
[null,null,null,"Applicable Currency Adj %",null,{"$f":"IF(E33 <> \"\", 1, 0)","v":0},{"$f":"IF(F33*(E33*0.01)*E29 < 0, F33*(E33*0.01)*E29, -(F33*(E33*0.01)*E29))","v":0}]
[null,null,null,"Discount %",null,{"$f":"IF(E34 <> \"\", 1, 0)","v":0},{"$f":"IF(F34*(E34*0.01)*(E29+G33) < 0, F34*(E34*0.01)*(E29+G33), -(F34*(E34*0.01)*(E29+G33)))","v":0}]
[null,null,null,"Discount $",null,{"$f":"IF(E35 <> \"\", 1, 0)","v":0},{"$f":"IF(F35*E35 < 0, F35*E35, -(F35*E35))","v":0}]
[null,null,null,"Discount Total ",{"$f":"SUM(G33:G35)","v":0},{"$f":"SUM(E36)","v":0}]
[null,null,null,null,null,{"$f":"#REF!","v":{"$error":"#REF!"}}]
[null,null,null,null,null,{"$f":"F37","v":{"$error":"#REF!"}}]
[null,null,"Prepaid and Add","Freight",null,{"$f":"IF(E39 <> \"\", 1, 0)","v":0},{"$f":"F39*E39","v":0}]
[null,null,"Subject to all applicable taxes","Tax",null,{"$f":"IF(E40 <> \"\", 1, 0)","v":0},{"$f":"F40*E40","v":0}]
[null,null,null,null,null,{"$f":"SUM(F42)","v":0}]
[null,null,null,"MACHINE TOTAL*",null,{"$f":"SUM(G42)","v":0},{"$f":"SUM(G23:G40)","v":0},null,null,null,null,null,null,"This goes to \"My Documents\""]
[null,null,null,null,null,null,{"$f":"SUM(G42)","v":0}]
[]
[]
[]
[]
[null,null,"First Western Equipment Finance - Leasing Calculation Option:","Option 1",null,"Option 2",null,null,null,{"$f":"Financing!A38","v":"Rates 2023 - Rev 10/10/2023"}]
[null,null,null,"Monthly Payment","Cost Per Day","Monthly Payment","Cost Per Day",null,null,{"$f":"Financing!A39","v":"“Blank Payment Amounts Indicate The Financing Option Or Purchase Options Selected Are Not "}]
[null,null,"Purchase Option:","FWEF:  $1 Buyout Lease",null,"FWEF: Municipal Lease",null,null,null,{"$f":"Financing!A40","v":"Applicable Or The Machine Total Is Below The Minimum Amount For The Selected Vendor”"}]
[null,null,"24 Months",false,0,false,0,null,null,{"$f":"Financing!A41","v":"\"Quoted monthly payments are estimates only and are based on a certain level of credit rating."}]
[null,null,"30 Months",false,0,false,0,null,null,{"$f":"Financing!A42","v":"Actual monthly payments may be higher depending on your credit rating.\""}]
[null,null,"36 Months",false,0,false,0,null,null,{"$f":"Financing!A43","v":"“Financing rates do not include Pre-Paid Service”"}]
[null,null,"48 Months",0,0,0,0,null,null,{"$f":"Financing!A44","v":0}]
[]
[null,null,null,"Benefits of Equipment Financing:"]
[null,null,null,"• Spreads out investment over time.",null,"• Keep current with latest technology."]
[null,null,null,"• Preserve capital.",null,"• Service and parts bundling available."]
[null,null,null,"• Low monthly payment.",null,"• Pay for labor savings as you go."]
[]
[]
[null,"  TennantTrue",null,0,0]
[]
[null,null,"Is customer interested in service program?","Yes","*State/County selection required for TennantTrue service options"]
[]
[null,null,"If not, why?"]
[]
[null,null,"Term:",36,null,null,"AB Brushes","No"]
[null,null,"Monthly machine usage (hrs):","< 30/mo. (Avg. 1hr./day)"]
[]
[null,null,"TennantTrue: ","Gold Contract",null,"Silver Contract"]
[null,null,"Per Visit"]
[null,null,"Monthly"]
[null,null,"Annually"]
[null,null,"Pre-Pay Full Term"]
[null,null,"Hourly Labor Rate"]
[null,null,"Site Visit"]
[]
[null,null,"* Verify customer current pricing prior to quote. "]
[null,null,"**All rates and fees above reflect service for one (1) unit with the exception of Block of Time service."]
[null,null,"*Block of Time is available in 1 Year Term only and is priced as such no matter the term selection on this template."]
[]
[]
[]
[null,"Quote Special Instructions:"]
[]
[]
[null,{"$f":"Start_Here!E36","v":"Terms and Conditions"}]
[null,{"$f":"Start_Here!E37","v":"Ask your local sales rep for estimated lead times. Verify when placing order"}]
[null,{"$f":"Start_Here!E38","v":"All orders subject to acceptance by Tennant Sales and Service Company, Minneapolis, Minnesota"}]
[null,{"$f":"Start_Here!E39","v":"Prices subject to change without notice. Subject to any applicable taxes."}]
[null,{"$f":"Start_Here!E40","v":"Terms:  Net 30 days.  Payable in Canadian Funds"}]
[null,{"$f":"Start_Here!E41","v":"Freight:  Accessories, parts, supplies, detergents, and floor coatings orders delivered DDP "}]
[null,{"$f":"Start_Here!E42","v":"shipping point Frt PPD.  Machine orders delivered DDP shipping point Frt PPD and add."}]
[null,{"$f":"Start_Here!E43","v":"Returned Merchandise is subject to a restocking fee."}]
[null,{"$f":"Start_Here!E44","v":"All orders are subject to Tennant’s General Terms and Conditions available at http://www.tennantco.com/terms."}]
[null,{"$f":"Start_Here!E45","v":"Printed General Terms and Conditions are also available upon request."}]
[null,{"$f":"Start_Here!E46","v":0}]
[]
[null,null,null,null,"Quote Date :",null,{"$f":"Letter!$A$25","v":"2020-09-22"}]
[null,"Order Placement Information:  To place your order, fill in PO# and customer signatures,"]
[null,"call or fax to the numbers listed below. Customer Purchase Order is required."]
[null,"If information is missing, orders will be entered and held until all information is received."]
[null,null,"Customer Number",null,"Cust Grp 3"]
[null,null,{"$f":"Start_Here!$C$25","v":0},null,{"$f":"Start_Here!$C$29","v":0}]
[null,null,{"$f":"Start_Here!$B$18","v":"Who Owns the Machine? (Sold-To Info) (Please Verify)"}]
["Company",null,{"$f":"Start_Here!$C$19","v":"Company Name"}]
["Address",null,{"$f":"Start_Here!$C$20","v":"Address"}]
[null,null,{"$f":"Start_Here!$C$21","v":"City, State Zip"}]
["Name",null,{"$f":"Start_Here!$C$22","v":"Contact Name"}]
["Phone",null,{"$f":"Start_Here!$C$23","v":"Contact Phone"}]
[null,null,{"$f":"Start_Here!$B$11","v":"Where is the Machine Being Shipped? (Ship-To Info) (Please Verify)"}]
["Company",null,{"$f":"Start_Here!$C$12","v":"Company Name"}]
["Address",null,{"$f":"Start_Here!$C$13","v":"Address"}]
[null,null,{"$f":"Start_Here!$C$14","v":"City, State Zip"}]
["Name",null,{"$f":"Start_Here!$C$15","v":"Contact Name"}]
["Phone",null,{"$f":"Start_Here!$C$16","v":"Contact Phone"}]
[null,null,{"$f":"Start_Here!$B$31","v":"Shipping / Carrier Instructions:"},null,"Order Special Instructions:"]
[null,null,{"$f":"Start_Here!$C$32","v":0}]
[]
[null,null,"Customer Purchase Order No."]
[null,null,"(please attach copy)"]
[]
[]
[null,null,"Tax Exempt",null,"Yes"]
[null,null,null,null,"No"]
[null,null,"If Yes, attach a copy of your exemption certificate."]
[]
[null,null,"Requested Delivery Date"]
[null,null,{"$f":"Start_Here!$C$28","v":0}]
[]
[null,null,{"$f":"Start_Here!$C$26","v":0},null,{"$f":"Start_Here!$C$27","v":0}]
[null,null,"Authorized Buyer (please print)",null,"Phone Number"]
[]
[]
[null,null,"Authorized Buyer Signature"]
[]
[null,null,{"$f":"Start_Here!$C$41","v":"Rep Name"}]
[null,null,"Tennant Representative"]
[]
["Specialized Maintenance Equipment"]
[{"$f":"Start_Here!$C$48","v":"TENNANT · 10400 Clean Street · Eden Prairie, MN 55344 ·"}]
[{"$f":"Start_Here!$C$49","v":" PHONE:800-553-8033 · FAX:763-513-2116"}]
[]
[null,"Notes"]
[]
[null,1,"When pad/brush assist unit is chosen, only mechanical Set and Forget™ downpressure is available.  "]
[null,null,"Automatic Down Pressure can only be deducted from the self-propelled unit."]
[]
[null,2,"225AH Battery is standard on units with the Self Propel Drive Type.  "]
[null,null,"When Self Propel is selected, this battery will be added at No Charge."]
[]
[null,3,"Factory installed pricing.  Only available on wet batteries, not sealed. "]
[]
[null,4,"Not available with Active Dust Control.  Only Available with Passive Dust Control."]
[]
[null,5,"A French and English manual will be supplied for all units shipping into Quebec, Canada at no charge.  An additional manual"]
[null,null,"can be ordered (for a total of 3 manuals) for an additional charge as stated under 'Additional Operator Manual'."]
[]
[null,6,"Skid w/Carton, Stackable is the default packaging method and will be added to the configuration unless otherwise specified."]
[]
[null,7,"Shipping Weights and Dimensions",null,"Skid w/Carton"]
[]
[null,null,"Weight - Pad Drive w/185AH Battery",null,"587 lbs / 267 Kg"]
[null,null,"Weight - Self Propel w/225AH Battery",null,"652 lbs / 296 Kg"]
[null,null,"Length",null,"60\" / 1524 mm"]
[null,null,"Width",null,"31\" / 788 mm"]
[null,null,"Height",null,"50\" / 1270 mm"]

{"sheet":"B5","index":14,"n_rows":223,"n_cols":17,"rows_kept":223,"cut":false,"hidden":false,"merged":[[135,3,135,4],[135,5,135,6],[132,3,132,4],[132,5,132,6],[133,3,133,4],[133,5,133,6],[134,3,134,4],[134,5,134,6],[0,2,0,3],[1,2,1,3],[2,2,2,3],[3,2,3,3],[106,3,106,4],[12,2,12,6],[29,2,29,6],[30,2,30,6],[31,2,31,6],[32,2,32,6],[33,2,33,6],[34,2,34,6],[106,5,106,6],[172,0,172,1],[168,0,168,1],[168,2,168,5],[174,0,174,1],[108,3,108,4],[108,5,108,6],[122,4,122,8],[127,3,127,4],[124,3,124,6],[126,3,126,4],[129,3,129,4],[129,5,129,6],[130,3,130,4],[130,5,130,6],[131,3,131,4],[131,5,131,6],[166,2,166,5],[167,2,167,5],[169,0,169,1],[171,0,171,1],[171,2,171,5],[163,4,163,6],[174,2,174,5],[144,1,144,6],[190,4,190,5],[173,2,173,5],[172,2,172,5],[177,4,177,6],[169,2,169,5],[179,2,179,5],[180,2,180,5],[181,2,181,5],[175,0,175,1],[175,2,175,5],[165,0,165,1],[165,2,165,5],[166,0,166,1]]}
["B5",null,{"$f":"Start_Here!$C19","v":"Company Name"}]
[{"$f":"SUM(G101)","v":0},null,{"$f":"Start_Here!$C20","v":"Address"}]
[null,null,{"$f":"Start_Here!$C21","v":"City, State Zip"}]
[null,null,{"$f":"Start_Here!$C22","v":"Contact Name"}]
[null,null,{"$f":"Start_Here!$C$41","v":"Rep Name"}]
[null,null,{"$f":"Start_Here!$C$37","v":"Tennant Sales and Service Company"}]
[null,null,{"$f":"Start_Here!$C$38","v":"10400 Clean Street"}]
[null,null,{"$f":"Start_Here!$C$39","v":"Eden Prairie, MN 55344"}]
[null,null,{"$f":"Start_Here!$C$43","v":"800-553-8033"},null,"Quote Date :",null,{"$f":"Letter!$A$25","v":"2020-09-22"}]
[]
[null,null,{"$f":"Help!C2","v":"CAN Date Rev - 9/30/2024"}]
[]
[null,null,"BUILT-IN “TENNANT VALUE” INCLUDES:"]
[]
[null,"510mm/20\" Burnishing Path",null,"On Board Charger"]
[null,"Push or Self-Propelled Available",null,"3m/15 ft power cord"]
[null,"Active Dust Control",null,"Standard (3) 12V 185 AH Battery Pack for  Pad/Brush Assist "]
[null,"HEPA Filtration - 99.97 @ .3 microns",null,"Standard (3) 12V 225 AH Battery Pack for Self-Propelled Unit"]
[null,"Tooless Felt Dust skirt",null,"Battery Tray"]
[null,"Pad RPM - 2100",null,"Variable Bail"]
[null,"Automated Down Pressure - Variable (Self-Propelled unit only)",null,"On-Board Trouble Shooting Guide"]
[null,"True Free Floating Head",null,"ETL Listed for the US and Canada"]
[null,"Rugged DuramerTM Tank Construction",null,"64 dBa"]
[null,"Two-Way Gas Assist Shock for Tank Open/Close",null,"Emergency Stop"]
[null,"Anti-Static Straps",null,"Key Switch"]
[null,"Clamshell Tank Design",null,"Hour Meter"]
[null,"Unit shipped with 1 burnishing pad, paper bag and HEPA filter",null,"Operators manual"]
[null,null,null,"Jacking Points/Shipping Tie Downs"]
[]
[null,null,"TENNANT COMPANY WARRANTY"]
[null,null,"3 YEARS OR 2000 HOURS PARTS"]
[null,null,"1 YEAR - BATTERY CHARGERS"]
[null,null,"2 YEARS - LABOR"]
[null,null,"6 MONTHS - TRAVEL"]
[null,null,"10 YEARS ON DURAMERTM TANKS"]
[null,null,null,null,null,null,"Fax (quote only)"," "]
[null,null,null,null,null,null,"Mail (quote,lit, specs)"," "]
[null,null,null,null,null,null,"Fax + Mail"," "]
[]
[null,null,null,null,"                Primary Use"]
[null,null,null,null,null,null,"Inside"]
[null,null,null,null,null,null,"Outside"]
[]
[null,null,"Description","Reference #","Price Each","Qty","Extended Price"]
[null,"Base Configuration",null,null,"CANADA",{"$f":"SUM(F46,F49,F53,F60,F63)","v":0}]
[null,null,"Cleaning Type",null,null,{"$f":"SUM(F47)","v":0},null,null,null,null,null,{"$f":"SUM(F46)","v":0},"Surcharge Qty"]
[null,null,"B5 Walk-Behind Battery Burnisher 510 mm/20\"","B5-510",15366,null,{"$f":"F47*E47","v":0},{"$f":"IFERROR(IFERROR(VLOOKUP(D47,Surcharge!A:B,2,FALSE)*F47, VLOOKUP(D47 & \"\",Surcharge!A:B,2,FALSE)*F47), \"\")","v":""},null,null,null,null,null,null,null,{"$f":"VLOOKUP(Q47,'MPF SAP Download Canada'!$A:$D,4,FALSE)","v":15366},"M-B5VK_BASE_B5-510"]
[null,null,null,null,null,null,null,{"$f":"IFERROR(IFERROR(VLOOKUP(D48,Surcharge!A:B,2,FALSE)*F48, VLOOKUP(D48 & \"\",Surcharge!A:B,2,FALSE)*F48), \"\")","v":""}]
[null,null,"Drive Type  (Note 1)",null,null,{"$f":"SUM(F50:F51)","v":0},null,{"$f":"IFERROR(IFERROR(VLOOKUP(D49,Surcharge!A:B,2,FALSE)*F49, VLOOKUP(D49 & \"\",Surcharge!A:B,2,FALSE)*F49), \"\")","v":""}]
[null,null,"Pad Assist","Pad-B5","N/C",null,{"$f":"IF(F50=0,\" \",\"N/C\")","v":" "},{"$f":"IFERROR(IFERROR(VLOOKUP(D50,Surcharge!A:B,2,FALSE)*F50, VLOOKUP(D50 & \"\",Surcharge!A:B,2,FALSE)*F50), \"\")","v":""},null,null,null,null,null,null,null,{"$f":"VLOOKUP(Q50,'MPF SAP Download Canada'!$A:$D,4,FALSE)","v":"N/C"},"M-B5VK_CLNDRT_PBA"]
[null,null,"Self Propel","Self-B5",4240,null,{"$f":"F51*E51","v":0},{"$f":"IFERROR(IFERROR(VLOOKUP(D51,Surcharge!A:B,2,FALSE)*F51, VLOOKUP(D51 & \"\",Surcharge!A:B,2,FALSE)*F51), \"\")","v":""},null,null,null,null,null,null,null,{"$f":"VLOOKUP(Q51,'MPF SAP Download Canada'!$A:$D,4,FALSE)","v":4240},"M-B5VK_CLNDRT_SP"]
[null,null,null,null,null,null,null,{"$f":"IFERROR(IFERROR(VLOOKUP(D52,Surcharge!A:B,2,FALSE)*F52, VLOOKUP(D52 & \"\",Surcharge!A:B,2,FALSE)*F52), \"\")","v":""}]
[null,null,"Battery Type",null,null,{"$f":"SUM(F54:F58)","v":0},null,{"$f":"IFERROR(IFERROR(VLOOKUP(D53,Surcharge!A:B,2,FALSE)*F53, VLOOKUP(D53 & \"\",Surcharge!A:B,2,FALSE)*F53), \"\")","v":""}]
[null,null,"Wet 185AH C/20  (Kit of 3 batteries)",9012670,"N/C",null,{"$f":"IF(F54=0,\" \",\"N/C\")","v":" "},{"$f":"IFERROR(IFERROR(VLOOKUP(D54,Surcharge!A:B,2,FALSE)*F54, VLOOKUP(D54 & \"\",Surcharge!A:B,2,FALSE)*F54), \"\")","v":""},null,null,null,null,null,null,null,{"$f":"VLOOKUP(Q54,'MPF SAP Download Canada'!$A:$D,4,FALSE)","v":"N/C"},"M-B5VK_BTY_W185C20"]
[null,null,"Wet 225AH C/20  (Kit of 3 batteries)  (Note 2)",9012671,578,null,{"$f":"F55*E55","v":0},{"$f":"IFERROR(IFERROR(VLOOKUP(D55,Surcharge!A:B,2,FALSE)*F55, VLOOKUP(D55 & \"\",Surcharge!A:B,2,FALSE)*F55), \"\")","v":""},null,null,null,null,null,null,null,{"$f":"VLOOKUP(Q55,'MPF SAP Download Canada'!$A:$D,4,FALSE)","v":578},"M-B5VK_BTY_W225C20"]
[null,null,"Sealed/MF AGM 234AH C/20  (Kit of 3 batteries)",9012672,3703,null,{"$f":"F56*E56","v":0},{"$f":"IFERROR(IFERROR(VLOOKUP(D56,Surcharge!A:B,2,FALSE)*F56, VLOOKUP(D56 & \"\",Surcharge!A:B,2,FALSE)*F56), \"\")","v":""},null,null,null,null,null,null,null,{"$f":"VLOOKUP(Q56,'MPF SAP Download Canada'!$A:$D,4,FALSE)","v":3703},"M-B5VK_BTY_A234C20"]
[null,null,null,null,null,null,null,{"$f":"IFERROR(IFERROR(VLOOKUP(D57,Surcharge!A:B,2,FALSE)*F57, VLOOKUP(D57 & \"\",Surcharge!A:B,2,FALSE)*F57), \"\")","v":""}]
[null,null,"Manual Battery Watering Kit  (Note 3)",9009620,1115,null,{"$f":"F58*E58","v":0},{"$f":"IFERROR(IFERROR(VLOOKUP(D58,Surcharge!A:B,2,FALSE)*F58, VLOOKUP(D58 & \"\",Surcharge!A:B,2,FALSE)*F58), \"\")","v":""},null,null,null,null,null,null,null,{"$f":"VLOOKUP(Q58,'MPF SAP Download Canada'!$A:$D,4,FALSE)","v":1115},"M-B5VK_BTYWTRSYS"]
[null,null,null,null,null,null,null,{"$f":"IFERROR(IFERROR(VLOOKUP(D59,Surcharge!A:B,2,FALSE)*F59, VLOOKUP(D59 & \"\",Surcharge!A:B,2,FALSE)*F59), \"\")","v":""}]
[null,null,"Charger","Reference Number",null,{"$f":"F63","v":0},null,{"$f":"IFERROR(IFERROR(VLOOKUP(D60,Surcharge!A:B,2,FALSE)*F60, VLOOKUP(D60 & \"\",Surcharge!A:B,2,FALSE)*F60), \"\")","v":""}]
[null,null,"25A 85-265V AC 50/60Hz 1Ph On-Board for 185AH and 225AH",9012668,"N/C",null,{"$f":"IF(F61=0,\" \",\"N/C\")","v":" "},{"$f":"IFERROR(IFERROR(VLOOKUP(D61,Surcharge!A:B,2,FALSE)*F61, VLOOKUP(D61 & \"\",Surcharge!A:B,2,FALSE)*F61), \"\")","v":""},null,null,null,null,null,null,null,{"$f":"VLOOKUP(Q61,'MPF SAP Download Canada'!$A:$D,4,FALSE)","v":"N/C"},"M-B5VK_CHG_25A85V5060H1P_ON"]
[null,null,null,null,null,null,null,{"$f":"IFERROR(IFERROR(VLOOKUP(D62,Surcharge!A:B,2,FALSE)*F62, VLOOKUP(D62 & \"\",Surcharge!A:B,2,FALSE)*F62), \"\")","v":""}]
[null,null,"Down Pressure",null,null,{"$f":"SUM(F64:F65)","v":0},null,{"$f":"IFERROR(IFERROR(VLOOKUP(D63,Surcharge!A:B,2,FALSE)*F63, VLOOKUP(D63 & \"\",Surcharge!A:B,2,FALSE)*F63), \"\")","v":""}]
[null,null,"Automated Down Pressure",9012641,"N/C",null,{"$f":"IF(F64=0,\" \",\"N/C\")","v":" "},{"$f":"IFERROR(IFERROR(VLOOKUP(D64,Surcharge!A:B,2,FALSE)*F64, VLOOKUP(D64 & \"\",Surcharge!A:B,2,FALSE)*F64), \"\")","v":""},null,null,null,null,null,null,null,{"$f":"VLOOKUP(Q64,'MPF SAP Download Canada'!$A:$D,4,FALSE)","v":"N/C"},"M-B5VK_DWNPRS_MEC_NC"]
[null,null,"Mechanical Set and Forget TM Down Pressure (Note 1)",9012640,-658,null,{"$f":"F65*E65","v":0},{"$f":"IFERROR(IFERROR(VLOOKUP(D65,Surcharge!A:B,2,FALSE)*F65, VLOOKUP(D65 & \"\",Surcharge!A:B,2,FALSE)*F65), \"\")","v":""},null,null,null,null,null,null,null,{"$f":"VLOOKUP(Q65,'MPF SAP Download Canada'!$A:$D,4,FALSE)","v":-658},"M-B5VK_DWNPRS_MEC"]
[null,null,null,null,null,null,null,{"$f":"IFERROR(IFERROR(VLOOKUP(D66,Surcharge!A:B,2,FALSE)*F66, VLOOKUP(D66 & \"\",Surcharge!A:B,2,FALSE)*F66), \"\")","v":""}]
[null,"Cleaning Performance",null,"Reference Number",null,{"$f":"SUM(F68:F70)","v":0},null,{"$f":"IFERROR(IFERROR(VLOOKUP(D67,Surcharge!A:B,2,FALSE)*F67, VLOOKUP(D67 & \"\",Surcharge!A:B,2,FALSE)*F67), \"\")","v":""}]
[null,null,"Dust Control System, Active - HEPA Filtration to 99.97% @ .3 microns",9012651,"N/C",null,{"$f":"IF(F68=0,\" \",\"N/C\")","v":" "},{"$f":"IFERROR(IFERROR(VLOOKUP(D68,Surcharge!A:B,2,FALSE)*F68, VLOOKUP(D68 & \"\",Surcharge!A:B,2,FALSE)*F68), \"\")","v":""},null,null,null,null,null,null,null,{"$f":"VLOOKUP(Q68,'MPF SAP Download Canada'!$A:$D,4,FALSE)","v":"N/C"},"M-B5VK_DSTCTLSYS_ACT"]
[null,null,"Dust Control System, Passive - 95% @ .3 microns ","PASSIVE",-580,null,{"$f":"F69*E69","v":0},{"$f":"IFERROR(IFERROR(VLOOKUP(D69,Surcharge!A:B,2,FALSE)*F69, VLOOKUP(D69 & \"\",Surcharge!A:B,2,FALSE)*F69), \"\")","v":""},null,null,null,null,null,null,null,{"$f":"VLOOKUP(Q69,'MPF SAP Download Canada'!$A:$D,4,FALSE)","v":-580},"M-B5VK_DSTCTLSYS_PAS"]
[null,null,"Dust Control Filter, Paper Filter Bag",1210869,"N/C",null,{"$f":"IF(F70=0,\" \",\"N/C\")","v":" "},{"$f":"IFERROR(IFERROR(VLOOKUP(D70,Surcharge!A:B,2,FALSE)*F70, VLOOKUP(D70 & \"\",Surcharge!A:B,2,FALSE)*F70), \"\")","v":""},null,null,null,null,null,null,null,{"$f":"VLOOKUP(Q70,'MPF SAP Download Canada'!$A:$D,4,FALSE)","v":{"$error":"#N/A"}}]
[null,null,null,null,null,null,null,{"$f":"IFERROR(IFERROR(VLOOKUP(D71,Surcharge!A:B,2,FALSE)*F71, VLOOKUP(D71 & \"\",Surcharge!A:B,2,FALSE)*F71), \"\")","v":""},null,null,null,null,null,null,null,null,""]
[null,"Support (Note 4)",null,"Reference Number",null,{"$f":"SUM(F73:F76)","v":0},null,{"$f":"IFERROR(IFERROR(VLOOKUP(D72,Surcharge!A:B,2,FALSE)*F72, VLOOKUP(D72 & \"\",Surcharge!A:B,2,FALSE)*F72), \"\")","v":""},null,null,null,null,null,null,null,null,""]
[null,null,"B5 Operator Manual - English",9011480,"N/C",null,{"$f":"IF(F73=0,\" \",\"N/C\")","v":" "},{"$f":"IFERROR(IFERROR(VLOOKUP(D73,Surcharge!A:B,2,FALSE)*F73, VLOOKUP(D73 & \"\",Surcharge!A:B,2,FALSE)*F73), \"\")","v":""},null,null,null,null,null,null,null,{"$f":"VLOOKUP(Q73,'MPF SAP Download Canada'!$A:$D,4,FALSE)","v":{"$error":"#N/A"}},"M-B5"]
[null,null,"B5 Operator Manual - French  ",9011486,"N/C",null,{"$f":"IF(F74=0,\" \",\"N/C\")","v":" "},{"$f":"IFERROR(IFERROR(VLOOKUP(D74,Surcharge!A:B,2,FALSE)*F74, VLOOKUP(D74 & \"\",Surcharge!A:B,2,FALSE)*F74), \"\")","v":""},null,null,null,null,null,null,null,{"$f":"VLOOKUP(Q74,'MPF SAP Download Canada'!$A:$D,4,FALSE)","v":{"$error":"#N/A"}},"M-B5"]
[null,null,null,null,null,null,null,{"$f":"IFERROR(IFERROR(VLOOKUP(D75,Surcharge!A:B,2,FALSE)*F75, VLOOKUP(D75 & \"\",Surcharge!A:B,2,FALSE)*F75), \"\")","v":""},null,null,null,null,null,null,null,null,""]
[null,null,"Packaging",null,null,{"$f":"SUM(F77:F77)","v":0},null,{"$f":"IFERROR(IFERROR(VLOOKUP(D76,Surcharge!A:B,2,FALSE)*F76, VLOOKUP(D76 & \"\",Surcharge!A:B,2,FALSE)*F76), \"\")","v":""},null,null,null,null,null,null,null,null,""]
[null,null,"Skid w/Carton, Stackable",9012678,"N/C",null,{"$f":"IF(F77=0,\" \",\"N/C\")","v":" "},{"$f":"IFERROR(IFERROR(VLOOKUP(D77,Surcharge!A:B,2,FALSE)*F77, VLOOKUP(D77 & \"\",Surcharge!A:B,2,FALSE)*F77), \"\")","v":""},null,null,null,null,null,null,null,{"$f":"VLOOKUP(Q77,'MPF SAP Download Canada'!$A:$D,4,FALSE)","v":"N/C"},"M-B5VK_PKG_SSKD"]
[null,null,null,null,null,null,null,{"$f":"IFERROR(IFERROR(VLOOKUP(D78,Surcharge!A:B,2,FALSE)*F78, VLOOKUP(D78 & \"\",Surcharge!A:B,2,FALSE)*F78), \"\")","v":""}]
[]
[]
[]
[null,"Custom Solution--write in description, qty, price, and PN if applicable",null,null,null,{"$f":"SUM(F83)","v":0}]
[null,null,null,null,"Insert Prices Here",{"$f":"SUM(F84:F87)","v":0}]
[null,null,null,"Custom",null,{"$f":"IF(E84 <> \"\", 1, 0)","v":0},{"$f":"F84*E84","v":0}]
[null,null,null,"Custom",null,{"$f":"IF(E85 <> \"\", 1, 0)","v":0},{"$f":"F85*E85","v":0}]
[null,null,null,"Custom",null,{"$f":"IF(E86 <> \"\", 1, 0)","v":0},{"$f":"F86*E86","v":0}]
[null,null,null,"Custom",null,{"$f":"IF(E87 <> \"\", 1, 0)","v":0},{"$f":"F87*E87","v":0}]
[null,null,null,null,{"$f":"ROUND(SUM(G47:G87), 0)","v":0},{"$f":"SUM(E89)","v":0}]
[null,null,null,"Machine Subtotal ",{"$f":"ROUND(SUM(G47:G87), 0)","v":0},{"$f":"F88","v":0}]
[null,"Discounts",null,null,null,{"$f":"SUM(F91)","v":0}]
[null,null,null,null,null,{"$f":"SUM(F93:F94)","v":0}]
[null,null,null,"Applicable Currency Adj %",null,{"$f":"IF(E92 <> \"\", 1, 0)","v":0},{"$f":"IF(F92*(E92*0.01)*E88 < 0, F92*(E92*0.01)*E88, -(F92*(E92*0.01)*E88))","v":0}]
[null,null,null,"Discount %",null,{"$f":"IF(E93 <> \"\", 1, 0)","v":0},{"$f":"IF(F93*(E93*0.01)*(E88+G92) < 0, F93*(E93*0.01)*(E88+G92), -(F93*(E93*0.01)*(E88+G92)))","v":0}]
[null,null,null,"Discount $",null,{"$f":"IF(E94 <> \"\", 1, 0)","v":0},{"$f":"IF(F94*E94 < 0, F94*E94, -(F94*E94))","v":0}]
[null,null,null,"Discount Total ",{"$f":"SUM(G92:G94)","v":0},{"$f":"SUM(E95)","v":0}]
[null,null,null,null,null,{"$f":"#REF!","v":{"$error":"#REF!"}}]
[null,null,null,null,null,{"$f":"F96","v":{"$error":"#REF!"}}]
[null,null,"Prepaid and Add","Freight",null,{"$f":"IF(E98 <> \"\", 1, 0)","v":0},{"$f":"F98*E98","v":0}]
[null,null,"Subject to all applicable taxes","Tax",null,{"$f":"IF(E99 <> \"\", 1, 0)","v":0},{"$f":"F99*E99","v":0}]
[null,null,null,null,null,{"$f":"SUM(F101)","v":0}]
[null,null,null,"MACHINE TOTAL*",null,{"$f":"SUM(G101)","v":0},{"$f":"SUM(G47:G99)","v":0},null,null,null,null,null,null,"This goes to \"My Documents\""]
[null,null,null,null,null,null,{"$f":"SUM(G101)","v":0}]
[]
[]
[]
[]
[null,null,"First Western Equipment Finance - Leasing Calculation Option:","Option 1",null,"Option 2",null,null,null,{"$f":"Financing!A38","v":"Rates 2023 - Rev 10/10/2023"}]
[null,null,null,"Monthly Payment","Cost Per Day","Monthly Payment","Cost Per Day",null,null,{"$f":"Financing!A39","v":"“Blank Payment Amounts Indicate The Financing Option Or Purchase Options Selected Are Not "}]
[null,null,"Purchase Option:","FWEF:  $1 Buyout Lease",null,"FWEF: Municipal Lease",null,null,null,{"$f":"Financing!A40","v":"Applicable Or The Machine Total Is Below The Minimum Amount For The Selected Vendor”"}]
[null,null,"24 Months",false,0,false,0,null,null,{"$f":"Financing!A41","v":"\"Quoted monthly payments are estimates only and are based on a certain level of credit rating."}]
[null,null,"30 Months",false,0,false,0,null,null,{"$f":"Financing!A42","v":"Actual monthly payments may be higher depending on your credit rating.\""}]
[null,null,"36 Months",false,0,false,0,null,null,{"$f":"Financing!A43","v":"“Financing rates do not include Pre-Paid Service”"}]
[null,null,"48 Months",0,0,0,0,null,null,{"$f":"Financing!A44","v":0}]
[]
[null,null,null,"Benefits of Equipment Financing:"]
[null,null,null,"• Spreads out investment over time.",null,"• Keep current with latest technology."]
[null,null,null,"• Preserve capital.",null,"• Service and parts bundling available."]
[null,null,null,"• Low monthly payment.",null,"• Pay for labor savings as you go."]
[]
[]
[null,"  TennantTrue",null,0,0]
[]
[null,null,"Is customer interested in service program?","Yes","*State/County selection required for TennantTrue service options"]
[]
[null,null,"If not, why?"]
[]
[null,null,"Term:",36,null,null,"AB Brushes","No"]
[null,null,"Monthly machine usage (hrs):","< 30/mo. (Avg. 1hr./day)"]
[]
[null,null,"TennantTrue: ","Gold Contract",null,"Silver Contract"]
[null,null,"Per Visit",null,null,326]
[null,null,"Monthly",109,null,54]
[null,null,"Annually",null,null,640]
[null,null,"Pre-Pay Full Term",3769,null,1879]
[null,null,"Hourly Labor Rate"]
[null,null,"Site Visit"]
[]
[null,null,"* Verify customer current pricing prior to quote. "]
[null,null,"**All rates and fees above reflect service for one (1) unit with the exception of Block of Time service."]
[null,null,"*Block of Time is available in 1 Year Term only and is priced as such no matter the term selection on this template."]
[]
[]
[]
[null,"Quote Special Instructions:"]
[]
[]
[null,{"$f":"Start_Here!E36","v":"Terms and Conditions"}]
[null,{"$f":"Start_Here!E37","v":"Ask your local sales rep for estimated lead times. Verify when placing order"}]
[null,{"$f":"Start_Here!E38","v":"All orders subject to acceptance by Tennant Sales and Service Company, Minneapolis, Minnesota"}]
[null,{"$f":"Start_Here!E39","v":"Prices subject to change without notice. Subject to any applicable taxes."}]
[null,{"$f":"Start_Here!E40","v":"Terms:  Net 30 days.  Payable in Canadian Funds"}]
[null,{"$f":"Start_Here!E41","v":"Freight:  Accessories, parts, supplies, detergents, and floor coatings orders delivered DDP "}]
[null,{"$f":"Start_Here!E42","v":"shipping point Frt PPD.  Machine orders delivered DDP shipping point Frt PPD and add."}]
[null,{"$f":"Start_Here!E43","v":"Returned Merchandise is subject to a restocking fee."}]
[null,{"$f":"Start_Here!E44","v":"All orders are subject to Tennant’s General Terms and Conditions available at http://www.tennantco.com/terms."}]
[null,{"$f":"Start_Here!E45","v":"Printed General Terms and Conditions are also available upon request."}]
[null,{"$f":"Start_Here!E46","v":0}]
[]
[null,null,null,null,"Quote Date :",null,{"$f":"Letter!$A$25","v":"2020-09-22"}]
[null,"Order Placement Information:  To place your order, fill in PO# and customer signatures,"]
[null,"call or fax to the numbers listed below. Customer Purchase Order is required."]
[null,"If information is missing, orders will be entered and held until all information is received."]
[null,null,"Customer Number",null,"Cust Grp 3"]
[null,null,{"$f":"Start_Here!$C$25","v":0},null,{"$f":"Start_Here!$C$29","v":0}]
[null,null,{"$f":"Start_Here!$B$18","v":"Who Owns the Machine? (Sold-To Info) (Please Verify)"}]
["Company",null,{"$f":"Start_Here!$C$19","v":"Company Name"}]
["Address",null,{"$f":"Start_Here!$C$20","v":"Address"}]
[null,null,{"$f":"Start_Here!$C$21","v":"City, State Zip"}]
["Name",null,{"$f":"Start_Here!$C$22","v":"Contact Name"}]
["Phone",null,{"$f":"Start_Here!$C$23","v":"Contact Phone"}]
[null,null,{"$f":"Start_Here!$B$11","v":"Where is the Machine Being Shipped? (Ship-To Info) (Please Verify)"}]
["Company",null,{"$f":"Start_Here!$C$12","v":"Company Name"}]
["Address",null,{"$f":"Start_Here!$C$13","v":"Address"}]
[null,null,{"$f":"Start_Here!$C$14","v":"City, State Zip"}]
["Name",null,{"$f":"Start_Here!$C$15","v":"Contact Name"}]
["Phone",null,{"$f":"Start_Here!$C$16","v":"Contact Phone"}]
[null,null,{"$f":"Start_Here!$B$31","v":"Shipping / Carrier Instructions:"},null,"Order Special Instructions:"]
[null,null,{"$f":"Start_Here!$C$32","v":0}]
[]
[null,null,"Customer Purchase Order No."]
[null,null,"(please attach copy)"]
[]
[]
[null,null,"Tax Exempt",null,"Yes"]
[null,null,null,null,"No"]
[null,null,"If Yes, attach a copy of your exemption certificate."]
[]
[null,null,"Requested Delivery Date"]
[null,null,{"$f":"Start_Here!$C$28","v":0}]
[]
[null,null,{"$f":"Start_Here!$C$26","v":0},null,{"$f":"Start_Here!$C$27","v":0}]
[null,null,"Authorized Buyer (please print)",null,"Phone Number"]
[]
[]
[null,null,"Authorized Buyer Signature"]
[]
[null,null,{"$f":"Start_Here!$C$41","v":"Rep Name"}]
[null,null,"Tennant Representative"]
[]
["Specialized Maintenance Equipment"]
[{"$f":"Start_Here!$C$48","v":"TENNANT · 10400 Clean Street · Eden Prairie, MN 55344 ·"}]
[{"$f":"Start_Here!$C$49","v":" PHONE:800-553-8033 · FAX:763-513-2116"}]
[]
[null,"Notes"]
[]
[null,1,"When pad/brush assist unit is chosen, only mechanical Set and Forget™ downpressure is available.  "]
[null,null,"Automatic Down Pressure can only be deducted from the self-propelled unit."]
[]
[null,2,"225AH Battery is standard on units with the Self Propel Drive Type.  "]
[null,null,"When Self Propel is selected, this battery will be added at No Charge."]
[]
[null,3,"Factory installed pricing.  Only available on wet batteries, not sealed. "]
[]
[null,4,"A French and English manual will be supplied for all units shipping into Quebec, Canada at no charge.  Additional manuals"]
[null,null,"can be ordered at Tennantco.com at no charge and Service Manuals can be ordered on My Account at no charge.  "]
[]
[null,5,"Shipping Weights and Dimensions",null,"Skid w/Carton"]
[]
[null,null,"Weight - Pad Drive w/185AH Battery",null,"587 lbs / 267 Kg"]
[null,null,"Weight - Self Propel w/225AH Battery",null,"652 lbs / 296 Kg"]
[null,null,"Length",null,"60\" / 1524 mm"]
[null,null,"Width",null,"31\" / 788 mm"]
[null,null,"Height",null,"50\" / 1270 mm"]

{"sheet":"B7","index":15,"n_rows":219,"n_cols":17,"rows_kept":219,"cut":false,"hidden":false,"merged":[[130,3,130,4],[130,5,130,6],[131,3,131,4],[131,5,131,6],[127,5,127,6],[128,3,128,4],[128,5,128,6],[129,3,129,4],[129,5,129,6],[0,2,0,3],[1,2,1,3],[2,2,2,3],[3,2,3,3],[102,3,102,4],[12,2,12,6],[102,5,102,6],[29,2,29,6],[30,2,30,6],[31,2,31,6],[32,2,32,6],[33,2,33,6],[34,2,34,6],[104,5,104,6],[120,3,120,6],[122,3,122,4],[123,3,123,4],[118,4,118,8],[104,3,104,4],[125,3,125,4],[125,5,125,6],[126,3,126,4],[126,5,126,6],[127,3,127,4],[186,4,186,5],[175,2,175,5],[176,2,176,5],[177,2,177,5],[140,1,140,6],[161,0,161,1],[161,2,161,5],[173,4,173,6],[164,2,164,5],[171,0,171,1],[171,2,171,5],[163,2,163,5],[164,0,164,1],[167,2,167,5],[168,0,168,1],[168,2,168,5],[162,0,162,1],[162,2,162,5],[159,4,159,6],[170,0,170,1],[170,2,170,5],[165,0,165,1],[169,2,169,5],[165,2,165,5],[167,0,167,1]]}
["B7",null,{"$f":"Start_Here!$C19","v":"Company Name"}]
[{"$f":"SUM(G97)","v":0},null,{"$f":"Start_Here!$C20","v":"Address"}]
[null,null,{"$f":"Start_Here!$C21","v":"City, State Zip"}]
[null,null,{"$f":"Start_Here!$C22","v":"Contact Name"}]
[null,null,{"$f":"Start_Here!$C$41","v":"Rep Name"}]
[null,null,{"$f":"Start_Here!$C$37","v":"Tennant Sales and Service Company"}]
[null,null,{"$f":"Start_Here!$C$38","v":"10400 Clean Street"}]
[null,null,{"$f":"Start_Here!$C$39","v":"Eden Prairie, MN 55344"}]
[null,null,{"$f":"Start_Here!$C$43","v":"800-553-8033"},null,"Quote Date :",null,{"$f":"Letter!$A$25","v":"2020-09-22"}]
[]
[null,null,{"$f":"Help!C2","v":"CAN Date Rev - 9/30/2024"}]
[]
[null,null,"BUILT-IN “TENNANT VALUE” INCLUDES:"]
[]
[null,"610mm/690mm or 24\"/27\" Burnishing Path",null,"On Board Charger"]
[null,"Transaxel drive",null,"3m/15 ft power cord"]
[null,"Active Dust Control",null,"Standard (6) 6V 240 AH battery pack for 610mm/24\"  "]
[null,"HEPA Filtration - 99.97 @ .3 microns",null,"Standard (6) 6V 330 AH battery pack for 690mm/27\""]
[null,"Tooless Felt Dust skirt",null,"Battery Tray"]
[null,"Pad RPM - 1850 ",null,"Variable Bail"]
[null,"Automated Down Pressure - Variable",null,"On-Board Trouble Shooting Guide"]
[null,"True Free Floating Head",null,"ETL Listed for the US and Canada"]
[null,"Rugged DuramerTM Tank Construction",null,"64 dBa"]
[null,"Two-Way Gas Assist Shock for Tank Open/Close",null,"Emergency Stop"]
[null,"Anti-Static Straps",null,"Key Switch"]
[null,"Clamshell Tank Design",null,"Hour Meter"]
[null,"Unit shipped with 1 burnishing pad, paper bag and HEPA filter",null,"Operators manual"]
[null,null,null,"Jacking Points/Shipping Tie Downs"]
[]
[null,null,"TENNANT COMPANY WARRANTY"]
[null,null,"3 YEARS OR 2000 HOURS - PARTS"]
[null,null,"1 YEAR - BATTERY CHARGERS"]
[null,null,"2 YEARS - LABOR"]
[null,null,"6 MONTHS - TRAVEL"]
[null,null,"10 YEARS ON DURAMERTM TANKS"]
[null,null,null,null,"                Quote Request Information"]
[null,null,null,null,null,null,"Fax (quote only)"," "]
[null,null,null,null,null,null,"Mail (quote,lit, specs)"," "]
[null,null,null,null,null,null,"Fax + Mail"," "]
[]
[null,null,null,null,"                Primary Use"]
[null,null,null,null,null,null,"Inside"]
[null,null,null,null,null,null,"Outside"]
[]
[null,null,"Description","Reference #","Price Each","Qty","Extended Price"]
[null,"Base Configuration",null,null,"CANADA",{"$f":"SUM(F47,F51,F55,F58,F61)","v":0}]
[null,null,"Cleaning Type",null,null,{"$f":"SUM(F48:F49)","v":0}]
[null,null,"B7 Battery  Walk-Behind Burnisher 610mm/24\"","B7-610",20238,null,{"$f":"F48*E48","v":0},{"$f":"IFERROR(IFERROR(VLOOKUP(D48,Surcharge!A:B,2,FALSE)*F48, VLOOKUP(D48 & \"\",Surcharge!A:B,2,FALSE)*F48), \"\")","v":""},null,null,null,null,null,null,null,{"$f":"VLOOKUP(Q48,'MPF SAP Download Canada'!$A:$D,4,FALSE)","v":20238},"M-B7VK_BASE_B7-610"]
[null,null,"B7 Battery Walk-Behind Burnisher 690mm/27\"","B7-690",22228,null,{"$f":"F49*E49","v":0},{"$f":"IFERROR(IFERROR(VLOOKUP(D49,Surcharge!A:B,2,FALSE)*F49, VLOOKUP(D49 & \"\",Surcharge!A:B,2,FALSE)*F49), \"\")","v":""},null,null,null,null,null,null,null,{"$f":"VLOOKUP(Q49,'MPF SAP Download Canada'!$A:$D,4,FALSE)","v":22228},"M-B7VK_BASE_B7-690"]
[null,null,null,null,null,null,null,{"$f":"IFERROR(IFERROR(VLOOKUP(D50,Surcharge!A:B,2,FALSE)*F50, VLOOKUP(D50 & \"\",Surcharge!A:B,2,FALSE)*F50), \"\")","v":""}]
[null,null,"Battery Type",null,null,{"$f":"SUM(F52:F53)","v":0},null,{"$f":"IFERROR(IFERROR(VLOOKUP(D51,Surcharge!A:B,2,FALSE)*F51, VLOOKUP(D51 & \"\",Surcharge!A:B,2,FALSE)*F51), \"\")","v":""}]
[null,null,"Wet 330AH C/20  (Kit of 6 batteries) ",9012674,1189,null,{"$f":"F52*E52","v":0},{"$f":"IFERROR(IFERROR(VLOOKUP(D52,Surcharge!A:B,2,FALSE)*F52, VLOOKUP(D52 & \"\",Surcharge!A:B,2,FALSE)*F52), \"\")","v":""},null,null,null,null,null,null,null,{"$f":"VLOOKUP(Q52,'MPF SAP Download Canada'!$A:$D,4,FALSE)","v":1189},"M-B7VK_BTY_W330C20"]
[null,null,"Sealed/MF AGM 312AH C/20  (Kit of 6 batteries)",9012676,4763,null,{"$f":"F53*E53","v":0},{"$f":"IFERROR(IFERROR(VLOOKUP(D53,Surcharge!A:B,2,FALSE)*F53, VLOOKUP(D53 & \"\",Surcharge!A:B,2,FALSE)*F53), \"\")","v":""},null,null,null,null,null,null,null,{"$f":"VLOOKUP(Q53,'MPF SAP Download Canada'!$A:$D,4,FALSE)","v":4763},"M-B7VK_BTY_A312C20"]
[null,null,null,null,null,null,null,{"$f":"IFERROR(IFERROR(VLOOKUP(D54,Surcharge!A:B,2,FALSE)*F54, VLOOKUP(D54 & \"\",Surcharge!A:B,2,FALSE)*F54), \"\")","v":""}]
[null,null,"Battery Watering System",null,null,{"$f":"SUM(F56)","v":0},null,{"$f":"IFERROR(IFERROR(VLOOKUP(D55,Surcharge!A:B,2,FALSE)*F55, VLOOKUP(D55 & \"\",Surcharge!A:B,2,FALSE)*F55), \"\")","v":""}]
[null,null,"Manual Battery Watering Kit  (Note 1)",9009620,1115,null,{"$f":"F56*E56","v":0},{"$f":"IFERROR(IFERROR(VLOOKUP(D56,Surcharge!A:B,2,FALSE)*F56, VLOOKUP(D56 & \"\",Surcharge!A:B,2,FALSE)*F56), \"\")","v":""},null,null,null,null,null,null,null,{"$f":"VLOOKUP(Q56,'MPF SAP Download Canada'!$A:$D,4,FALSE)","v":1115},"M-B7VK_BTYWTRSYS"]
[null,null,null,null,null,null,null,{"$f":"IFERROR(IFERROR(VLOOKUP(D57,Surcharge!A:B,2,FALSE)*F57, VLOOKUP(D57 & \"\",Surcharge!A:B,2,FALSE)*F57), \"\")","v":""}]
[null,null,"Charger",null,null,{"$f":"SUM(F59:F59)","v":0},null,{"$f":"IFERROR(IFERROR(VLOOKUP(D58,Surcharge!A:B,2,FALSE)*F58, VLOOKUP(D58 & \"\",Surcharge!A:B,2,FALSE)*F58), \"\")","v":""}]
[null,null,"25A 85-265V AC 50/60Hz 1Ph (on board)",9012668,"N/C",null,{"$f":"IF(F59=0,\" \",\"N/C\")","v":" "},{"$f":"IFERROR(IFERROR(VLOOKUP(D59,Surcharge!A:B,2,FALSE)*F59, VLOOKUP(D59 & \"\",Surcharge!A:B,2,FALSE)*F59), \"\")","v":""},null,null,null,null,null,null,null,{"$f":"VLOOKUP(Q59,'MPF SAP Download Canada'!$A:$D,4,FALSE)","v":"N/C"},"M-B7VK_CHG_25A85V5060H1P_ON"]
[null,null,null,null,null,null,null,{"$f":"IFERROR(IFERROR(VLOOKUP(D60,Surcharge!A:B,2,FALSE)*F60, VLOOKUP(D60 & \"\",Surcharge!A:B,2,FALSE)*F60), \"\")","v":""}]
[null,null,"Down Pressure",null,null,{"$f":"SUM(F62:F63)","v":0},null,{"$f":"IFERROR(IFERROR(VLOOKUP(D61,Surcharge!A:B,2,FALSE)*F61, VLOOKUP(D61 & \"\",Surcharge!A:B,2,FALSE)*F61), \"\")","v":""}]
[null,null,"Automated Down Pressure",9102641,"N/C",null,{"$f":"IF(F62=0,\" \",\"N/C\")","v":" "},{"$f":"IFERROR(IFERROR(VLOOKUP(D62,Surcharge!A:B,2,FALSE)*F62, VLOOKUP(D62 & \"\",Surcharge!A:B,2,FALSE)*F62), \"\")","v":""},null,null,null,null,null,null,null,{"$f":"VLOOKUP(Q62,'MPF SAP Download Canada'!$A:$D,4,FALSE)","v":"N/C"},"M-B7VK_DWNPRS_AUT"]
[null,null,"Mechanical Set and Forget TM Down Pressure",9012640,-658,null,{"$f":"F63*E63","v":0},{"$f":"IFERROR(IFERROR(VLOOKUP(D63,Surcharge!A:B,2,FALSE)*F63, VLOOKUP(D63 & \"\",Surcharge!A:B,2,FALSE)*F63), \"\")","v":""},null,null,null,null,null,null,null,{"$f":"VLOOKUP(Q63,'MPF SAP Download Canada'!$A:$D,4,FALSE)","v":-658},"M-B7VK_DWNPRS_MEC"]
[null,null,null,null,null,null,null,{"$f":"IFERROR(IFERROR(VLOOKUP(D64,Surcharge!A:B,2,FALSE)*F64, VLOOKUP(D64 & \"\",Surcharge!A:B,2,FALSE)*F64), \"\")","v":""}]
[null,"Cleaning Performance",null,"Reference Number",null,{"$f":"SUM(F66:F68)","v":0},null,{"$f":"IFERROR(IFERROR(VLOOKUP(D65,Surcharge!A:B,2,FALSE)*F65, VLOOKUP(D65 & \"\",Surcharge!A:B,2,FALSE)*F65), \"\")","v":""}]
[null,null,"Dust Control, Active - HEPA Filtration to 99.97% @ .3 microns",9012651,"N/C",null,{"$f":"IF(F66=0,\" \",\"N/C\")","v":" "},{"$f":"IFERROR(IFERROR(VLOOKUP(D66,Surcharge!A:B,2,FALSE)*F66, VLOOKUP(D66 & \"\",Surcharge!A:B,2,FALSE)*F66), \"\")","v":""},null,null,null,null,null,null,null,{"$f":"VLOOKUP(Q66,'MPF SAP Download Canada'!$A:$D,4,FALSE)","v":"N/C"},"M-B7VK_DSTCTLSYS_ACT"]
[null,null,"Dust Control, Passive - 95% @ .3 microns ",null,-580,null,{"$f":"F67*E67","v":0},{"$f":"IFERROR(IFERROR(VLOOKUP(D67,Surcharge!A:B,2,FALSE)*F67, VLOOKUP(D67 & \"\",Surcharge!A:B,2,FALSE)*F67), \"\")","v":""},null,null,null,null,null,null,null,{"$f":"VLOOKUP(Q67,'MPF SAP Download Canada'!$A:$D,4,FALSE)","v":-580},"M-B7VK_DSTCTLSYS_PAS"]
[null,null,"Dust Control Filter, Paper Filter Bag",1210869,"N/C",null,{"$f":"IF(F68=0,\" \",\"N/C\")","v":" "},{"$f":"IFERROR(IFERROR(VLOOKUP(D68,Surcharge!A:B,2,FALSE)*F68, VLOOKUP(D68 & \"\",Surcharge!A:B,2,FALSE)*F68), \"\")","v":""},null,null,null,null,null,null,null,{"$f":"VLOOKUP(Q68,'MPF SAP Download Canada'!$A:$D,4,FALSE)","v":{"$error":"#N/A"}},"M-B7-VK_DSTCTLFLR_PFB"]
[null,null,null,null,null,null,null,{"$f":"IFERROR(IFERROR(VLOOKUP(D69,Surcharge!A:B,2,FALSE)*F69, VLOOKUP(D69 & \"\",Surcharge!A:B,2,FALSE)*F69), \"\")","v":""}]
[null,"Support  (Note 2)",null,"Reference Number",null,{"$f":"SUM(F71:F74)","v":0},null,{"$f":"IFERROR(IFERROR(VLOOKUP(D70,Surcharge!A:B,2,FALSE)*F70, VLOOKUP(D70 & \"\",Surcharge!A:B,2,FALSE)*F70), \"\")","v":""}]
[null,null,"B7 Operator Manual  - English",9011840,"N/C",null,{"$f":"IF(F71=0,\" \",\"N/C\")","v":" "},{"$f":"IFERROR(IFERROR(VLOOKUP(D71,Surcharge!A:B,2,FALSE)*F71, VLOOKUP(D71 & \"\",Surcharge!A:B,2,FALSE)*F71), \"\")","v":""},null,null,null,null,null,null,null,{"$f":"VLOOKUP(Q71,'MPF SAP Download Canada'!$A:$D,4,FALSE)","v":{"$error":"#N/A"}},"M-B7"]
[null,null,"B7 Operator Manual - French  ",9011486,"N/C",null,{"$f":"IF(F72=0,\" \",\"N/C\")","v":" "},{"$f":"IFERROR(IFERROR(VLOOKUP(D72,Surcharge!A:B,2,FALSE)*F72, VLOOKUP(D72 & \"\",Surcharge!A:B,2,FALSE)*F72), \"\")","v":""},null,null,null,null,null,null,null,{"$f":"VLOOKUP(Q72,'MPF SAP Download Canada'!$A:$D,4,FALSE)","v":{"$error":"#N/A"}},"M-B7"]
[null,null,null,null,null,null,null,{"$f":"IFERROR(IFERROR(VLOOKUP(D73,Surcharge!A:B,2,FALSE)*F73, VLOOKUP(D73 & \"\",Surcharge!A:B,2,FALSE)*F73), \"\")","v":""}]
[null,null,"Packaging",null,null,{"$f":"SUM(F75:F75)","v":0},null,{"$f":"IFERROR(IFERROR(VLOOKUP(D74,Surcharge!A:B,2,FALSE)*F74, VLOOKUP(D74 & \"\",Surcharge!A:B,2,FALSE)*F74), \"\")","v":""}]
[null,null,"Skid w/Carton, Stackable",9012682,"N/C",null,{"$f":"IF(F75=0,\" \",\"N/C\")","v":" "},{"$f":"IFERROR(IFERROR(VLOOKUP(D75,Surcharge!A:B,2,FALSE)*F75, VLOOKUP(D75 & \"\",Surcharge!A:B,2,FALSE)*F75), \"\")","v":""},null,null,null,null,null,null,null,{"$f":"VLOOKUP(Q75,'MPF SAP Download Canada'!$A:$D,4,FALSE)","v":"N/C"},"M-B7VK_PKG_SSKD"]
[null,null,null,null,null,null,null,{"$f":"IFERROR(IFERROR(VLOOKUP(D76,Surcharge!A:B,2,FALSE)*F76, VLOOKUP(D76 & \"\",Surcharge!A:B,2,FALSE)*F76), \"\")","v":""}]
[]
[null,"Custom Solution--write in description, qty, price, and PN if applicable",null,null,null,{"$f":"SUM(F79)","v":0}]
[null,null,null,null,"Insert Prices Here",{"$f":"SUM(F80:F83)","v":0}]
[null,null,null,"Custom",null,{"$f":"IF(E80 <> \"\", 1, 0)","v":0},{"$f":"F80*E80","v":0}]
[null,null,null,"Custom",null,{"$f":"IF(E81 <> \"\", 1, 0)","v":0},{"$f":"F81*E81","v":0}]
[null,null,null,"Custom",null,{"$f":"IF(E82 <> \"\", 1, 0)","v":0},{"$f":"F82*E82","v":0}]
[null,null,null,"Custom",null,{"$f":"IF(E83 <> \"\", 1, 0)","v":0},{"$f":"F83*E83","v":0}]
[null,null,null,null,{"$f":"ROUND(SUM(G48:G83), 0)","v":0},{"$f":"SUM(E85)","v":0}]
[null,null,null,"Machine Subtotal ",{"$f":"ROUND(SUM(G48:G83), 0)","v":0},{"$f":"F84","v":0}]
[null,"Discounts",null,null,null,{"$f":"SUM(F87)","v":0}]
[null,null,null,null,null,{"$f":"SUM(F89:F90)","v":0}]
[null,null,null,"Applicable Currency Adj %",null,{"$f":"IF(E88 <> \"\", 1, 0)","v":0},{"$f":"IF(F88*(E88*0.01)*E84 < 0, F88*(E88*0.01)*E84, -(F88*(E88*0.01)*E84))","v":0}]
[null,null,null,"Discount %",null,{"$f":"IF(E89 <> \"\", 1, 0)","v":0},{"$f":"IF(F89*(E89*0.01)*(E84+G88) < 0, F89*(E89*0.01)*(E84+G88), -(F89*(E89*0.01)*(E84+G88)))","v":0}]
[null,null,null,"Discount $",null,{"$f":"IF(E90 <> \"\", 1, 0)","v":0},{"$f":"IF(F90*E90 < 0, F90*E90, -(F90*E90))","v":0}]
[null,null,null,"Discount Total ",{"$f":"SUM(G88:G90)","v":0},{"$f":"SUM(E91)","v":0}]
[null,null,null,null,null,{"$f":"#REF!","v":{"$error":"#REF!"}}]
[null,null,null,null,null,{"$f":"F92","v":{"$error":"#REF!"}}]
[null,null,"Prepaid and Add","Freight",null,{"$f":"IF(E94 <> \"\", 1, 0)","v":0},{"$f":"F94*E94","v":0}]
[null,null,"Subject to all applicable taxes","Tax",null,{"$f":"IF(E95 <> \"\", 1, 0)","v":0},{"$f":"F95*E95","v":0}]
[null,null,null,null,null,{"$f":"SUM(F97)","v":0}]
[null,null,null,"MACHINE TOTAL*",null,{"$f":"SUM(G97)","v":0},{"$f":"SUM(G48:G95)","v":0},null,null,null,null,null,null,"This goes to \"My Documents\""]
[null,null,null,null,null,null,{"$f":"SUM(G97)","v":0}]
[]
[]
[]
[]
[null,null,"First Western Equipment Finance - Leasing Calculation Option:","Option 1",null,"Option 2",null,null,null,{"$f":"Financing!A38","v":"Rates 2023 - Rev 10/10/2023"}]
[null,null,null,"Monthly Payment","Cost Per Day","Monthly Payment","Cost Per Day",null,null,{"$f":"Financing!A39","v":"“Blank Payment Amounts Indicate The Financing Option Or Purchase Options Selected Are Not "}]
[null,null,"Purchase Option:","FWEF:  $1 Buyout Lease",null,"FWEF: Municipal Lease",null,null,null,{"$f":"Financing!A40","v":"Applicable Or The Machine Total Is Below The Minimum Amount For The Selected Vendor”"}]
[null,null,"24 Months",false,0,false,0,null,null,{"$f":"Financing!A41","v":"\"Quoted monthly payments are estimates only and are based on a certain level of credit rating."}]
[null,null,"30 Months",false,0,false,0,null,null,{"$f":"Financing!A42","v":"Actual monthly payments may be higher depending on your credit rating.\""}]
[null,null,"36 Months",false,0,false,0,null,null,{"$f":"Financing!A43","v":"“Financing rates do not include Pre-Paid Service”"}]
[null,null,"48 Months",0,0,0,0,null,null,{"$f":"Financing!A44","v":0}]
[]
[null,null,null,"Benefits of Equipment Financing:"]
[null,null,null,"• Spreads out investment over time.",null,"• Keep current with latest technology."]
[null,null,null,"• Preserve capital.",null,"• Service and parts bundling available."]
[null,null,null,"• Low monthly payment.",null,"• Pay for labor savings as you go."]
[]
[]
[null,"  TennantTrue",null,0,0]
[]
[null,null,"Is customer interested in service program?","Yes","*State/County selection required for TennantTrue service options"]
[]
[null,null,"If not, why?"]
[]
[null,null,"Term:",36,null,null,"AB Brushes","No"]
[null,null,"Monthly machine usage (hrs):","< 30/mo. (Avg. 1hr./day)"]
[]
[null,null,"TennantTrue: ","Gold Contract",null,"Silver Contract"]
[null,null,"Per Visit",null,null,326]
[null,null,"Monthly",109,null,54]
[null,null,"Annually",null,null,640]
[null,null,"Pre-Pay Full Term",3769,null,1879]
[null,null,"Hourly Labor Rate"]
[null,null,"Site Visit"]
[]
[null,null,"* Verify customer current pricing prior to quote. "]
[null,null,"**All rates and fees above reflect service for one (1) unit with the exception of Block of Time service."]
[null,null,"*Block of Time is available in 1 Year Term only and is priced as such no matter the term selection on this template."]
[]
[]
[]
[null,"Quote Special Instructions:"]
[]
[]
[null,{"$f":"Start_Here!E36","v":"Terms and Conditions"}]
[null,{"$f":"Start_Here!E37","v":"Ask your local sales rep for estimated lead times. Verify when placing order"}]
[null,{"$f":"Start_Here!E38","v":"All orders subject to acceptance by Tennant Sales and Service Company, Minneapolis, Minnesota"}]
[null,{"$f":"Start_Here!E39","v":"Prices subject to change without notice. Subject to any applicable taxes."}]
[null,{"$f":"Start_Here!E40","v":"Terms:  Net 30 days.  Payable in Canadian Funds"}]
[null,{"$f":"Start_Here!E41","v":"Freight:  Accessories, parts, supplies, detergents, and floor coatings orders delivered DDP "}]
[null,{"$f":"Start_Here!E42","v":"shipping point Frt PPD.  Machine orders delivered DDP shipping point Frt PPD and add."}]
[null,{"$f":"Start_Here!E43","v":"Returned Merchandise is subject to a restocking fee."}]
[null,{"$f":"Start_Here!E44","v":"All orders are subject to Tennant’s General Terms and Conditions available at http://www.tennantco.com/terms."}]
[null,{"$f":"Start_Here!E45","v":"Printed General Terms and Conditions are also available upon request."}]
[null,{"$f":"Start_Here!E46","v":0}]
[]
[null,null,null,null,"Quote Date :",null,{"$f":"Letter!$A$25","v":"2020-09-22"}]
[null,"Order Placement Information:  To place your order, fill in PO# and customer signatures,"]
[null,"call or fax to the numbers listed below. Customer Purchase Order is required."]
[null,"If information is missing, orders will be entered and held until all information is received."]
[null,null,"Customer Number",null,"Cust Grp 3"]
[null,null,{"$f":"Start_Here!$C$25","v":0},null,{"$f":"Start_Here!$C$29","v":0}]
[null,null,{"$f":"Start_Here!$B$18","v":"Who Owns the Machine? (Sold-To Info) (Please Verify)"}]
["Company",null,{"$f":"Start_Here!$C$19","v":"Company Name"}]
["Address",null,{"$f":"Start_Here!$C$20","v":"Address"}]
[null,null,{"$f":"Start_Here!$C$21","v":"City, State Zip"}]
["Name",null,{"$f":"Start_Here!$C$22","v":"Contact Name"}]
["Phone",null,{"$f":"Start_Here!$C$23","v":"Contact Phone"}]
[null,null,{"$f":"Start_Here!$B$11","v":"Where is the Machine Being Shipped? (Ship-To Info) (Please Verify)"}]
["Company",null,{"$f":"Start_Here!$C$12","v":"Company Name"}]
["Address",null,{"$f":"Start_Here!$C$13","v":"Address"}]
[null,null,{"$f":"Start_Here!$C$14","v":"City, State Zip"}]
["Name",null,{"$f":"Start_Here!$C$15","v":"Contact Name"}]
["Phone",null,{"$f":"Start_Here!$C$16","v":"Contact Phone"}]
[null,null,{"$f":"Start_Here!$B$31","v":"Shipping / Carrier Instructions:"},null,"Order Special Instructions:"]
[null,null,{"$f":"Start_Here!$C$32","v":0}]
[]
[null,null,"Customer Purchase Order No."]
[null,null,"(please attach copy)"]
[]
[]
[null,null,"Tax Exempt",null,"Yes"]
[null,null,null,null,"No"]
[null,null,"If Yes, attach a copy of your exemption certificate."]
[]
[null,null,"Requested Delivery Date"]
[null,null,{"$f":"Start_Here!$C$28","v":0}]
[]
[null,null,{"$f":"Start_Here!$C$26","v":0},null,{"$f":"Start_Here!$C$27","v":0}]
[null,null,"Authorized Buyer (please print)",null,"Phone Number"]
[]
[]
[null,null,"Authorized Buyer Signature"]
[]
[null,null,{"$f":"Start_Here!$C$41","v":"Rep Name"}]
[null,null,"Tennant Representative"]
[]
["Specialized Maintenance Equipment"]
[{"$f":"Start_Here!$C$48","v":"TENNANT · 10400 Clean Street · Eden Prairie, MN 55344 ·"}]
[{"$f":"Start_Here!$C$49","v":" PHONE:800-553-8033 · FAX:763-513-2116"}]
[]
[null,"Notes"]
[null,1,"Factory installed pricing.   Only available on wet batteries, not sealed. "]
[]
[null,2,"Additional hard copy Operator and Parts Manuals can be ordered or digital copies can be downloaded from www.Tennantco.com."]
[null,null,"A French and English manual will be supplied for all units shipping into Quebec, Canada at no charge.  Service manuals can be "]
[null,null,"ordered at no charge on My Account."]
[]
[null,3,"Machine Weights and Dimensions",null,"Skid w/Carton"]
[]
[null,null,"B7-610"]
[null,null,"Weight",null,"712 lbs / 323 Kg"]
[null,null,"Length",null,"73\" / 1855 mm"]
[null,null,"Width",null,"43\" / 1092 mm"]
[null,null,"Height",null,"51\" / 1296 mm"]
[]
[null,null,"B7-690"]
[null,null,"Weight",null,"892 lbs / 405 Kg"]
[null,null,"Length",null,"73\" / 1855 mm"]
[null,null,"Width",null,"43\" / 1092 mm"]
[null,null,"Height",null,"51\" / 1296 mm"]

{"sheet":"B10","index":16,"n_rows":207,"n_cols":17,"rows_kept":207,"cut":false,"hidden":false,"merged":[[119,3,119,4],[119,5,119,6],[116,3,116,4],[116,5,116,6],[117,3,117,4],[117,5,117,6],[118,3,118,4],[118,5,118,6],[0,2,0,3],[1,2,1,3],[2,2,2,3],[3,2,3,3],[174,4,174,5],[12,1,12,5],[25,1,25,5],[26,1,26,5],[27,1,27,5],[157,2,157,5],[158,0,158,1],[158,2,158,5],[159,0,159,1],[159,2,159,5],[163,2,163,5],[164,2,164,5],[165,2,165,5],[149,2,149,5],[150,0,150,1],[150,2,150,5],[151,2,151,5],[161,4,161,6],[153,0,153,1],[153,2,153,5],[155,0,155,1],[155,2,155,5],[156,0,156,1],[156,2,156,5],[152,0,152,1],[152,2,152,5],[149,0,149,1],[147,4,147,6],[128,1,128,6],[90,3,90,4],[90,5,90,6],[92,3,92,4],[92,5,92,6],[106,4,106,8],[108,3,108,6],[110,3,110,4],[111,3,111,4],[113,3,113,4],[113,5,113,6],[114,3,114,4],[114,5,114,6],[115,3,115,4],[115,5,115,6]]}
["B10",null,{"$f":"Start_Here!$C19","v":"Company Name"}]
[{"$f":"SUM(G85)","v":0},null,{"$f":"Start_Here!$C20","v":"Address"}]
[null,null,{"$f":"Start_Here!$C21","v":"City, State Zip"}]
[null,null,{"$f":"Start_Here!$C22","v":"Contact Name"}]
[null,null,{"$f":"Start_Here!$C$41","v":"Rep Name"}]
[null,null,{"$f":"Start_Here!$C$37","v":"Tennant Sales and Service Company"}]
[null,null,{"$f":"Start_Here!$C$38","v":"10400 Clean Street"}]
[null,null,{"$f":"Start_Here!$C$39","v":"Eden Prairie, MN 55344"}]
[null,null,{"$f":"Start_Here!$C$43","v":"800-553-8033"},null,"Quote Date :",null,{"$f":"Letter!$A$25","v":"2020-09-22"}]
[]
[null,null,{"$f":"Help!C2","v":"CAN Date Rev - 9/30/2024"}]
[]
[null,"BUILT-IN “TENNANT VALUE” INCLUDES:"]
[]
[null,"610mm/690mm or 24\"/27\" burnishing path",null,"Standard (6) 6V 435AH battery pack "]
[null,"Active Dust Control",null,"Battery Tray"]
[null,"HEPA filtration - 99.97 @ .3 microns",null,"On Board Charger"]
[null,"Automated Head Lift",null,"Rugged DuramerTM Tank Construction"]
[null,"True free floating Head",null,"69 dBa"]
[null,"Supervisor lock-out",null,"Emergency Stop"]
[null,"Back up Alarm",null,"Anti-Static Straps"]
[null,"Adjustable Seat",null,"Hour Meter"]
[null,"Operators manual",null,"QA Controls"]
[]
[]
[null,"TENNANT COMPANY WARRANTY"]
[null,"3 YEARS OR 2000 HOURS ON ALL COMPONENTS, 2 YEARS LABOR"]
[null,"6 MONTHS TRAVEL, 10 YEARS ON DURAMERTM TANKS"]
[]
[]
[null,null,null,null,"                Quote Request Information"]
[null,null,null,null,null,null,"Fax (quote only)"," "]
[null,null,null,null,null,null,"Mail (quote,lit, specs)"," "]
[null,null,null,null,null,null,"Fax + Mail"," "]
[]
[null,null,null,null,"                Primary Use"]
[null,null,null,null,null,null,"Inside"]
[null,null,null,null,null,null,"Outside"]
[]
[null,null,"Description","Reference#","Price Each","Qty","Extended Price"]
[null,"Base Configuration",null,null,"CANADA",{"$f":"SUM(F42,F46,F52)","v":0}]
[null,null,"Cleaning Type",null,null,{"$f":"SUM(F43:F44)","v":0},null,null,null,null,null,{"$f":"SUM(F42)","v":0},"Surcharge Qty"]
[null,null,"B10 Battery Rider Burnisher 610mm/24\"","B10-610",41824,null,{"$f":"F43*E43","v":0},{"$f":"IFERROR(IFERROR(VLOOKUP(D43,Surcharge!A:B,2,FALSE)*F43, VLOOKUP(D43 & \"\",Surcharge!A:B,2,FALSE)*F43), \"\")","v":0},null,null,null,null,null,null,null,{"$f":"VLOOKUP(Q43,'MPF SAP Download Canada'!$A:$D,4,FALSE)","v":41824},"M-B10VK_BASE_B10-610"]
[null,null,"B10 Battery Rider Burnisher 690mm/27\"","B10-690",42995,null,{"$f":"F44*E44","v":0},{"$f":"IFERROR(IFERROR(VLOOKUP(D44,Surcharge!A:B,2,FALSE)*F44, VLOOKUP(D44 & \"\",Surcharge!A:B,2,FALSE)*F44), \"\")","v":0},null,null,null,null,null,null,null,{"$f":"VLOOKUP(Q44,'MPF SAP Download Canada'!$A:$D,4,FALSE)","v":42995},"M-B10VK_BASE_B10-690"]
[null,null,null,null,null,null,null,{"$f":"IFERROR(IFERROR(VLOOKUP(D45,Surcharge!A:B,2,FALSE)*F45, VLOOKUP(D45 & \"\",Surcharge!A:B,2,FALSE)*F45), \"\")","v":""}]
[null,null,"Battery Type",null,null,{"$f":"SUM(F47:F50)","v":0},null,{"$f":"IFERROR(IFERROR(VLOOKUP(D46,Surcharge!A:B,2,FALSE)*F46, VLOOKUP(D46 & \"\",Surcharge!A:B,2,FALSE)*F46), \"\")","v":""}]
[null,null,"Wet 435AH C/20  (Kit of 6 batteries)",9010885,"N/C",null,{"$f":"IF(F47=0,\" \",\"N/C\")","v":" "},{"$f":"IFERROR(IFERROR(VLOOKUP(D47,Surcharge!A:B,2,FALSE)*F47, VLOOKUP(D47 & \"\",Surcharge!A:B,2,FALSE)*F47), \"\")","v":""},null,null,null,null,null,null,null,{"$f":"VLOOKUP(Q47,'MPF SAP Download Canada'!$A:$D,4,FALSE)","v":"N/C"},"M-B10VK_BTY_W435C20"]
[null,null,"Sealed/MF AGM 390AH C/20  (Kit of 6 batteries)",9010886,1690,null,{"$f":"F48*E48","v":0},{"$f":"IFERROR(IFERROR(VLOOKUP(D48,Surcharge!A:B,2,FALSE)*F48, VLOOKUP(D48 & \"\",Surcharge!A:B,2,FALSE)*F48), \"\")","v":""},null,null,null,null,null,null,null,{"$f":"VLOOKUP(Q48,'MPF SAP Download Canada'!$A:$D,4,FALSE)","v":1690},"M-B10VK_BTY_A390C20"]
[null,null,null,null,null,null,null,{"$f":"IFERROR(IFERROR(VLOOKUP(D49,Surcharge!A:B,2,FALSE)*F49, VLOOKUP(D49 & \"\",Surcharge!A:B,2,FALSE)*F49), \"\")","v":""},null,null,null,null,null,null,null,null,""]
[null,null,"Manual Battery Watering Kit  (Note 1)",9009620,1115,null,{"$f":"F50*E50","v":0},{"$f":"IFERROR(IFERROR(VLOOKUP(D50,Surcharge!A:B,2,FALSE)*F50, VLOOKUP(D50 & \"\",Surcharge!A:B,2,FALSE)*F50), \"\")","v":""},null,null,null,null,null,null,null,{"$f":"VLOOKUP(Q50,'MPF SAP Download Canada'!$A:$D,4,FALSE)","v":1115},"M-B10VK_BTYWTRSYS"]
[null,null,null,null,null,null,null,{"$f":"IFERROR(IFERROR(VLOOKUP(D51,Surcharge!A:B,2,FALSE)*F51, VLOOKUP(D51 & \"\",Surcharge!A:B,2,FALSE)*F51), \"\")","v":""}]
[null,null,"Charger",null,null,{"$f":"SUM(F53:F53)","v":0},null,{"$f":"IFERROR(IFERROR(VLOOKUP(D52,Surcharge!A:B,2,FALSE)*F52, VLOOKUP(D52 & \"\",Surcharge!A:B,2,FALSE)*F52), \"\")","v":""}]
[null,null,"25A 120V AC 50/60Hz 1Ph (on board)",9010881,"N/C",null,{"$f":"IF(F53=0,\" \",\"N/C\")","v":" "},{"$f":"IFERROR(IFERROR(VLOOKUP(D53,Surcharge!A:B,2,FALSE)*F53, VLOOKUP(D53 & \"\",Surcharge!A:B,2,FALSE)*F53), \"\")","v":""},null,null,null,null,null,null,null,{"$f":"VLOOKUP(Q53,'MPF SAP Download Canada'!$A:$D,4,FALSE)","v":"N/C"},"M-B10VK_CHG_25A120A5060H1_ON"]
[null,null,null,null,null,null,null,{"$f":"IFERROR(IFERROR(VLOOKUP(D54,Surcharge!A:B,2,FALSE)*F54, VLOOKUP(D54 & \"\",Surcharge!A:B,2,FALSE)*F54), \"\")","v":""}]
[null,"Machine Protection & Safety",null,"Reference Number",null,{"$f":"SUM(F56:F56)","v":0},null,{"$f":"IFERROR(IFERROR(VLOOKUP(D55,Surcharge!A:B,2,FALSE)*F55, VLOOKUP(D55 & \"\",Surcharge!A:B,2,FALSE)*F55), \"\")","v":""}]
[null,null,"Strobe Light on Tank",9010878,1042,null,{"$f":"F56*E56","v":0},{"$f":"IFERROR(IFERROR(VLOOKUP(D56,Surcharge!A:B,2,FALSE)*F56, VLOOKUP(D56 & \"\",Surcharge!A:B,2,FALSE)*F56), \"\")","v":""},null,null,null,null,null,null,null,{"$f":"VLOOKUP(Q56,'MPF SAP Download Canada'!$A:$D,4,FALSE)","v":1042},"M-B10VK_WRNLGTANDALM_ST"]
[null,null,null,null,null,null,null,{"$f":"IFERROR(IFERROR(VLOOKUP(D57,Surcharge!A:B,2,FALSE)*F57, VLOOKUP(D57 & \"\",Surcharge!A:B,2,FALSE)*F57), \"\")","v":""},null,null,null,null,null,null,null,null,""]
[null,"Support (Note 2)",null,"Reference Number",null,{"$f":"SUM(F59:F62)","v":0},null,{"$f":"IFERROR(IFERROR(VLOOKUP(D58,Surcharge!A:B,2,FALSE)*F58, VLOOKUP(D58 & \"\",Surcharge!A:B,2,FALSE)*F58), \"\")","v":""},null,null,null,null,null,null,null,null,""]
[null,null,"B10 Operator Manual  (English)",9010734,"N/C",null,{"$f":"IF(F59=0,\" \",\"N/C\")","v":" "},{"$f":"IFERROR(IFERROR(VLOOKUP(D59,Surcharge!A:B,2,FALSE)*F59, VLOOKUP(D59 & \"\",Surcharge!A:B,2,FALSE)*F59), \"\")","v":""},null,null,null,null,null,null,null,null,"M-B10"]
[null,null,"B10 Operator Manual  (French)  ",9010732,"N/C",null,{"$f":"IF(F60=0,\" \",\"N/C\")","v":" "},{"$f":"IFERROR(IFERROR(VLOOKUP(D60,Surcharge!A:B,2,FALSE)*F60, VLOOKUP(D60 & \"\",Surcharge!A:B,2,FALSE)*F60), \"\")","v":""},null,null,null,null,null,null,null,null,"M-B10"]
[null,null,null,null,null,null,null,{"$f":"IFERROR(IFERROR(VLOOKUP(D61,Surcharge!A:B,2,FALSE)*F61, VLOOKUP(D61 & \"\",Surcharge!A:B,2,FALSE)*F61), \"\")","v":""},null,null,null,null,null,null,null,null,""]
[null,null,"Packaging",null,null,{"$f":"SUM(F63:F63)","v":0},null,{"$f":"IFERROR(IFERROR(VLOOKUP(D62,Surcharge!A:B,2,FALSE)*F62, VLOOKUP(D62 & \"\",Surcharge!A:B,2,FALSE)*F62), \"\")","v":""},null,null,null,null,null,null,null,null,""]
[null,null,"Skid w/Carton, Non-Stackable",9010888,"N/C",null,{"$f":"IF(F63=0,\" \",\"N/C\")","v":" "},{"$f":"IFERROR(IFERROR(VLOOKUP(D63,Surcharge!A:B,2,FALSE)*F63, VLOOKUP(D63 & \"\",Surcharge!A:B,2,FALSE)*F63), \"\")","v":""},null,null,null,null,null,null,null,{"$f":"VLOOKUP(Q63,'MPF SAP Download Canada'!$A:$D,4,FALSE)","v":"N/C"},"M-B10VK_PKG_SCNS_NC"]
[null,null,null,null,null,null,null,{"$f":"IFERROR(IFERROR(VLOOKUP(D64,Surcharge!A:B,2,FALSE)*F64, VLOOKUP(D64 & \"\",Surcharge!A:B,2,FALSE)*F64), \"\")","v":""}]
[]
[null,"Custom Solution--write in description, qty, price, and PN if applicable",null,null,null,{"$f":"SUM(F67)","v":0}]
[null,null,null,null,"Insert Prices Here",{"$f":"SUM(F68:F71)","v":0}]
[null,null,null,"Custom",null,{"$f":"IF(E68 <> \"\", 1, 0)","v":0},{"$f":"F68*E68","v":0}]
[null,null,null,"Custom",null,{"$f":"IF(E69 <> \"\", 1, 0)","v":0},{"$f":"F69*E69","v":0}]
[null,null,null,"Custom",null,{"$f":"IF(E70 <> \"\", 1, 0)","v":0},{"$f":"F70*E70","v":0}]
[null,null,null,"Custom",null,{"$f":"IF(E71 <> \"\", 1, 0)","v":0},{"$f":"F71*E71","v":0}]
[null,null,null,null,{"$f":"ROUND(SUM(G43:G71), 0)","v":0},{"$f":"SUM(E73)","v":0}]
[null,null,null,"Machine Subtotal ",{"$f":"ROUND(SUM(G43:G71), 0)","v":0},{"$f":"F72","v":0}]
[null,"Discounts",null,null,null,{"$f":"SUM(F75)","v":0}]
[null,null,null,null,null,{"$f":"SUM(F77:F78)","v":0}]
[null,null,null,"Applicable Currency Adj %",null,{"$f":"IF(E76 <> \"\", 1, 0)","v":0},{"$f":"IF(F76*(E76*0.01)*E72 < 0, F76*(E76*0.01)*E72, -(F76*(E76*0.01)*E72))","v":0}]
[null,null,null,"Discount %",null,{"$f":"IF(E77 <> \"\", 1, 0)","v":0},{"$f":"IF(F77*(E77*0.01)*(E72+G76) < 0, F77*(E77*0.01)*(E72+G76), -(F77*(E77*0.01)*(E72+G76)))","v":0}]
[null,null,null,"Discount $",null,{"$f":"IF(E78 <> \"\", 1, 0)","v":0},{"$f":"IF(F78*E78 < 0, F78*E78, -(F78*E78))","v":0}]
[null,null,null,"Discount Total ",{"$f":"SUM(G76:G78)","v":0},{"$f":"SUM(E79)","v":0}]
[null,null,null,null,null,{"$f":"#REF!","v":{"$error":"#REF!"}}]
[null,null,null,null,null,{"$f":"F80","v":{"$error":"#REF!"}}]
[null,null,"Prepaid and Add","Freight",null,{"$f":"IF(E82 <> \"\", 1, 0)","v":0},{"$f":"F82*E82","v":0}]
[null,null,"Subject to all applicable taxes","Tax",null,{"$f":"IF(E83 <> \"\", 1, 0)","v":0},{"$f":"F83*E83","v":0}]
[null,null,null,null,null,{"$f":"SUM(F85)","v":0}]
[null,null,null,"MACHINE TOTAL*",null,{"$f":"SUM(G85)","v":0},{"$f":"SUM(G43:G83)","v":0},null,null,null,null,null,null,"This goes to \"My Documents\""]
[null,null,null,null,null,null,{"$f":"SUM(G85)","v":0}]
[]
[]
[]
[]
[null,null,"First Western Equipment Finance - Leasing Calculation Option:","Option 1",null,"Option 2",null,null,null,{"$f":"Financing!A38","v":"Rates 2023 - Rev 10/10/2023"}]
[null,null,null,"Monthly Payment","Cost Per Day","Monthly Payment","Cost Per Day",null,null,{"$f":"Financing!A39","v":"“Blank Payment Amounts Indicate The Financing Option Or Purchase Options Selected Are Not "}]
[null,null,"Purchase Option:","FWEF:  $1 Buyout Lease",null,"FWEF: Municipal Lease",null,null,null,{"$f":"Financing!A40","v":"Applicable Or The Machine Total Is Below The Minimum Amount For The Selected Vendor”"}]
[null,null,"24 Months",false,0,false,0,null,null,{"$f":"Financing!A41","v":"\"Quoted monthly payments are estimates only and are based on a certain level of credit rating."}]
[null,null,"30 Months",false,0,false,0,null,null,{"$f":"Financing!A42","v":"Actual monthly payments may be higher depending on your credit rating.\""}]
[null,null,"36 Months",false,0,false,0,null,null,{"$f":"Financing!A43","v":"“Financing rates do not include Pre-Paid Service”"}]
[null,null,"48 Months",0,0,0,0,null,null,{"$f":"Financing!A44","v":0}]
[]
[null,null,null,"Benefits of Equipment Financing:"]
[null,null,null,"• Spreads out investment over time.",null,"• Keep current with latest technology."]
[null,null,null,"• Preserve capital.",null,"• Service and parts bundling available."]
[null,null,null,"• Low monthly payment.",null,"• Pay for labor savings as you go."]
[]
[]
[null,"  TennantTrue",null,0,0]
[]
[null,null,"Is customer interested in service program?","Yes","*State/County selection required for TennantTrue service options"]
[]
[null,null,"If not, why?"]
[]
[null,null,"Term:",36,null,null,"AB Brushes","No"]
[null,null,"Monthly machine usage (hrs):","< 30/mo. (Avg. 1hr./day)"]
[]
[null,null,"TennantTrue: ","Gold Contract",null,"Silver Contract"]
[null,null,"Per Visit",null,null,487]
[null,null,"Monthly",144,null,85]
[null,null,"Annually",null,null,1004]
[null,null,"Pre-Pay Full Term",4970,null,2953]
[null,null,"Hourly Labor Rate"]
[null,null,"Site Visit"]
[]
[null,null,"* Verify customer current pricing prior to quote. "]
[null,null,"**All rates and fees above reflect service for one (1) unit with the exception of Block of Time service."]
[null,null,"*Block of Time is available in 1 Year Term only and is priced as such no matter the term selection on this template."]
[]
[]
[]
[null,"Quote Special Instructions:"]
[]
[]
[null,{"$f":"Start_Here!E36","v":"Terms and Conditions"}]
[null,{"$f":"Start_Here!E37","v":"Ask your local sales rep for estimated lead times. Verify when placing order"}]
[null,{"$f":"Start_Here!E38","v":"All orders subject to acceptance by Tennant Sales and Service Company, Minneapolis, Minnesota"}]
[null,{"$f":"Start_Here!E39","v":"Prices subject to change without notice. Subject to any applicable taxes."}]
[null,{"$f":"Start_Here!E40","v":"Terms:  Net 30 days.  Payable in Canadian Funds"}]
[null,{"$f":"Start_Here!E41","v":"Freight:  Accessories, parts, supplies, detergents, and floor coatings orders delivered DDP "}]
[null,{"$f":"Start_Here!E42","v":"shipping point Frt PPD.  Machine orders delivered DDP shipping point Frt PPD and add."}]
[null,{"$f":"Start_Here!E43","v":"Returned Merchandise is subject to a restocking fee."}]
[null,{"$f":"Start_Here!E44","v":"All orders are subject to Tennant’s General Terms and Conditions available at http://www.tennantco.com/terms."}]
[null,{"$f":"Start_Here!E45","v":"Printed General Terms and Conditions are also available upon request."}]
[null,{"$f":"Start_Here!E46","v":0}]
[]
[null,null,null,null,"Quote Date :",null,{"$f":"Letter!$A$25","v":"2020-09-22"}]
[null,"Order Placement Information:  To place your order, fill in PO# and customer signatures,"]
[null,"call or fax to the numbers listed below. Customer Purchase Order is required."]
[null,"If information is missing, orders will be entered and held until all information is received."]
[null,null,"Customer Number",null,"Cust Grp 3"]
[null,null,{"$f":"Start_Here!$C$25","v":0},null,{"$f":"Start_Here!$C$29","v":0}]
[null,null,{"$f":"Start_Here!$B$18","v":"Who Owns the Machine? (Sold-To Info) (Please Verify)"}]
["Company",null,{"$f":"Start_Here!$C$19","v":"Company Name"}]
["Address",null,{"$f":"Start_Here!$C$20","v":"Address"}]
[null,null,{"$f":"Start_Here!$C$21","v":"City, State Zip"}]
["Name",null,{"$f":"Start_Here!$C$22","v":"Contact Name"}]
["Phone",null,{"$f":"Start_Here!$C$23","v":"Contact Phone"}]
[null,null,{"$f":"Start_Here!$B$11","v":"Where is the Machine Being Shipped? (Ship-To Info) (Please Verify)"}]
["Company",null,{"$f":"Start_Here!$C$12","v":"Company Name"}]
["Address",null,{"$f":"Start_Here!$C$13","v":"Address"}]
[null,null,{"$f":"Start_Here!$C$14","v":"City, State Zip"}]
["Name",null,{"$f":"Start_Here!$C$15","v":"Contact Name"}]
["Phone",null,{"$f":"Start_Here!$C$16","v":"Contact Phone"}]
[null,null,{"$f":"Start_Here!$B$31","v":"Shipping / Carrier Instructions:"},null,"Order Special Instructions:"]
[null,null,{"$f":"Start_Here!$C$32","v":0}]
[]
[null,null,"Customer Purchase Order No."]
[null,null,"(please attach copy)"]
[]
[]
[null,null,"Tax Exempt",null,"Yes"]
[null,null,null,null,"No"]
[null,null,"If Yes, attach a copy of your exemption certificate."]
[]
[null,null,"Requested Delivery Date"]
[null,null,{"$f":"Start_Here!$C$28","v":0}]
[]
[null,null,{"$f":"Start_Here!$C$26","v":0},null,{"$f":"Start_Here!$C$27","v":0}]
[null,null,"Authorized Buyer (please print)",null,"Phone Number"]
[]
[]
[null,null,"Authorized Buyer Signature"]
[]
[null,null,{"$f":"Start_Here!$C$41","v":"Rep Name"}]
[null,null,"Tennant Representative"]
[]
["Specialized Maintenance Equipment"]
[{"$f":"Start_Here!$C$48","v":"TENNANT · 10400 Clean Street · Eden Prairie, MN 55344 ·"}]
[{"$f":"Start_Here!$C$49","v":" PHONE:800-553-8033 · FAX:763-513-2116"}]
[]
[null,"Notes"]
[]
[null,1,"Factory installed pricing.   Only available on wet batteries, not sealed. "]
[]
[null,2,"A French and English manual will be supplied for all units shipping into Quebec, Canada at no charge.  Additional manuals"]
[null,null,"can be ordered at no charge on Tennantco.com and service manuals on My Account. "]
[]
[null,4,"Shipping Weights and Dimensions","Skid w/ Carton"]
[]
[null,null,"24\" / 610mm Cleaning Path"]
[null,null,"Weight (w/ 435AH Battery)","1,346 lbs / 610 Kg"]
[null,null,"Length","85\" / 2,159mm"]
[null,null,"Width","46\" / 1,169mm"]
[null,null,"Height","63\" / 1,600mm"]
[]
[null,null,"27\" / 690mm Cleaning Path"]
[null,null,"Weight (w/ 435AH Battery)","1,350 lbs / 612 Kg"]
[null,null,"Length","85\" / 2,159mm"]
[null,null,"Width","46\" / 1,169mm"]
[null,null,"Height","63\" / 1,600mm"]

{"sheet":"S7_S6","index":17,"n_rows":176,"n_cols":16,"rows_kept":176,"cut":false,"hidden":false,"merged":[[84,3,84,4],[84,5,84,6],[81,3,81,4],[81,5,81,6],[82,3,82,4],[82,5,82,6],[83,3,83,4],[83,5,83,6],[78,3,78,4],[78,5,78,6],[79,3,79,4],[79,5,79,6],[80,3,80,4],[80,5,80,6],[0,2,0,3],[1,2,1,3],[2,2,2,3],[3,2,3,3],[71,4,71,8],[24,2,24,3],[25,2,25,3],[26,2,26,3],[30,2,30,3],[31,2,31,3],[73,3,73,6],[75,3,75,4],[76,3,76,4],[55,3,55,4],[55,5,55,6],[57,3,57,4],[57,5,57,6],[117,2,117,5],[118,0,118,1],[118,2,118,5],[93,1,93,6],[112,4,112,6],[114,0,114,1],[114,2,114,5],[115,0,115,1],[115,2,115,5],[116,2,116,5],[117,0,117,1],[139,4,139,5],[122,2,122,5],[124,2,124,5],[126,4,126,6],[123,0,123,1],[123,2,123,5],[124,0,124,1],[128,2,128,5],[129,2,129,5],[121,0,121,1],[130,2,130,5],[121,2,121,5],[120,0,120,1],[120,2,120,5]]}
["S7_S6",null,{"$f":"Start_Here!$C19","v":"Company Name"}]
[{"$f":"SUM(G50)","v":0},null,{"$f":"Start_Here!$C20","v":"Address"}]
[null,null,{"$f":"Start_Here!$C21","v":"City, State Zip"}]
[null,null,{"$f":"Start_Here!$C22","v":"Contact Name"}]
[null,null,{"$f":"Start_Here!$C$41","v":"Rep Name"}]
[null,null,{"$f":"Start_Here!$C$37","v":"Tennant Sales and Service Company"}]
[null,null,{"$f":"Start_Here!$C$38","v":"10400 Clean Street"}]
[null,null,{"$f":"Start_Here!$C$39","v":"Eden Prairie, MN 55344"}]
[null,null,{"$f":"Start_Here!$C$43","v":"800-553-8033"},null,"Quote Date :",null,{"$f":"Letter!$A$25","v":"2020-09-22"}]
[]
[null,null,{"$f":"Help!C2","v":"CAN Date Rev - 9/30/2024"}]
[]
[null,null,"EXCLUSIVE FACTORY-DIRECT WARRANTY",null,"                Quote Request Information"]
[null,null,"BATTERIES ARE PRORATED OVER 1 YEAR",null,null,null,"Fax (quote only)"," "]
[null,null,"Model S5, S6, S7",null,null,null,"Mail (quote,lit, specs)"," "]
[null,null,"24 MONTHS ON PARTS",null,null,null,"Fax + Mail"," "]
[null,null,"12 MONTHS - LABOR"]
[null,null,"90 DAYS - TRAVEL",null,"                Primary Use"]
[null,null,null,null,null,null,"Inside"]
[null,null,null,null,null,null,"Outside"]
[]
[null,null,"Description","Reference#","Price Each","Qty","Extended Price"]
[]
[null,null,"S7 - 28 in (700 mm) Battery Walk-Behind Sweeper ",1251272,9206,null,{"$f":"F24*E24","v":0},{"$f":"IFERROR(IFERROR(VLOOKUP(D24,Surcharge!A:B,2,FALSE)*F24, VLOOKUP(D24 & \"\",Surcharge!A:B,2,FALSE)*F24), \"\")","v":""},null,null,null,{"$f":"SUM(F24)","v":0},"Surcharge Qty",null,null,{"$f":"VLOOKUP(D24,'MPF SAP Canada Pre-Configured'!$C:$E,3,FALSE)","v":9206}]
[null,null,"28\" (700mm) cleaning path, 1.6 cu. Ft (45 L) hopper capacity,  140AH sealed battery on-board charger.",null,null,{"$f":"SUM(F24)","v":0},null,{"$f":"IFERROR(IFERROR(VLOOKUP(D25,Surcharge!A:B,2,FALSE)*F25, VLOOKUP(D25 & \"\",Surcharge!A:B,2,FALSE)*F25), \"\")","v":""}]
[null,null,"Boxed dimensions: 47.25 in x 31.5 in x 41.5 in  (L 1200 x W 800 x H 1050) ",null,null,{"$f":"SUM(F25)","v":0},null,{"$f":"IFERROR(IFERROR(VLOOKUP(D26,Surcharge!A:B,2,FALSE)*F26, VLOOKUP(D26 & \"\",Surcharge!A:B,2,FALSE)*F26), \"\")","v":""}]
[null,null,"Shipping Weight :  319 lb/144.5kg  / Cu. Ft.: 35.8 ",null,null,{"$f":"SUM(F26)","v":0},null,{"$f":"IFERROR(IFERROR(VLOOKUP(D27,Surcharge!A:B,2,FALSE)*F27, VLOOKUP(D27 & \"\",Surcharge!A:B,2,FALSE)*F27), \"\")","v":""}]
[]
[]
[null,null,"S6 - 25 in (635 mm) Battery Walk-Behind Sweeper ",1251268,4606,null,{"$f":"F30*E30","v":0},{"$f":"IFERROR(IFERROR(VLOOKUP(D30,Surcharge!A:B,2,FALSE)*F30, VLOOKUP(D30 & \"\",Surcharge!A:B,2,FALSE)*F30), \"\")","v":""},null,null,null,null,null,null,null,{"$f":"VLOOKUP(D30,'MPF SAP Canada Pre-Configured'!$C:$E,3,FALSE)","v":4606}]
[null,null,"25\" (635mm) cleaning path, 1.25 cu. Ft (35 L) hopper capacity, 42 AH sealed battery and on-board charger.",null,null,{"$f":"SUM(F30)","v":0}]
[null,null,"Boxed dimensions on pallet: 34.25 in x 21.75 in x 25 in  (L 870 x W 550 x H 630) ",null,null,{"$f":"SUM(F31)","v":0}]
[null,null,"Shipping Weight :  123lb/56kg  / Cu. Ft.: 10.8 ",null,null,0]
[]
[null,null,null,null,null,null,null,{"$f":"IFERROR(IFERROR(VLOOKUP(D35,Surcharge!A:B,2,FALSE)*F35, VLOOKUP(D35 & \"\",Surcharge!A:B,2,FALSE)*F35), \"\")","v":""}]
[]
[null,null,null,null,{"$f":"ROUND(SUM(G23:G36), 0)","v":0},{"$f":"SUM(E38)","v":0}]
[null,null,null,"Machine Subtotal ",{"$f":"ROUND(SUM(G23:G36), 0)","v":0},{"$f":"F37","v":0}]
[null,"Discounts",null,null,null,{"$f":"SUM(F40)","v":0}]
[null,null,null,null,null,{"$f":"SUM(F42:F43)","v":0}]
[null,null,null,"Applicable Currency Adj %",null,{"$f":"IF(E41 <> \"\", 1, 0)","v":0},{"$f":"IF(F41*(E41*0.01)*E37 < 0, F41*(E41*0.01)*E37, -(F41*(E41*0.01)*E37))","v":0}]
[null,null,null,"Discount %",null,{"$f":"IF(E42 <> \"\", 1, 0)","v":0},{"$f":"IF(F42*(E42*0.01)*(E37+G41) < 0, F42*(E42*0.01)*(E37+G41), -(F42*(E42*0.01)*(E37+G41)))","v":0}]
[null,null,null,"Discount $",null,{"$f":"IF(E43 <> \"\", 1, 0)","v":0},{"$f":"IF(F43*E43 < 0, F43*E43, -(F43*E43))","v":0}]
[null,null,null,"Discount Total ",{"$f":"SUM(G41:G43)","v":0},{"$f":"SUM(E44)","v":0}]
[null,null,null,null,null,{"$f":"#REF!","v":{"$error":"#REF!"}}]
[null,null,null,null,null,{"$f":"F45","v":{"$error":"#REF!"}}]
[null,null,"Prepaid and Add","Freight",null,{"$f":"IF(E47 <> \"\", 1, 0)","v":0},{"$f":"F47*E47","v":0}]
[null,null,"Subject to all applicable taxes","Tax",null,{"$f":"IF(E48 <> \"\", 1, 0)","v":0},{"$f":"F48*E48","v":0}]
[null,null,null,null,null,{"$f":"SUM(F50)","v":0}]
[null,null,null,"MACHINE TOTAL*",null,{"$f":"SUM(G50)","v":0},{"$f":"SUM(G23:G48)","v":0},null,null,null,null,null,null,"This goes to \"My Documents\""]
[null,null,null,null,null,null,{"$f":"SUM(G50)","v":0}]
[]
[]
[]
[]
[null,null,"First Western Equipment Finance - Leasing Calculation Option:","Option 1",null,"Option 2",null,null,null,{"$f":"Financing!A38","v":"Rates 2023 - Rev 10/10/2023"}]
[null,null,null,"Monthly Payment","Cost Per Day","Monthly Payment","Cost Per Day",null,null,{"$f":"Financing!A39","v":"“Blank Payment Amounts Indicate The Financing Option Or Purchase Options Selected Are Not "}]
[null,null,"Purchase Option:","FWEF:  $1 Buyout Lease",null,"FWEF: Municipal Lease",null,null,null,{"$f":"Financing!A40","v":"Applicable Or The Machine Total Is Below The Minimum Amount For The Selected Vendor”"}]
[null,null,"24 Months",false,0,false,0,null,null,{"$f":"Financing!A41","v":"\"Quoted monthly payments are estimates only and are based on a certain level of credit rating."}]
[null,null,"30 Months",false,0,false,0,null,null,{"$f":"Financing!A42","v":"Actual monthly payments may be higher depending on your credit rating.\""}]
[null,null,"36 Months",false,0,false,0,null,null,{"$f":"Financing!A43","v":"“Financing rates do not include Pre-Paid Service”"}]
[null,null,"48 Months",0,0,0,0,null,null,{"$f":"Financing!A44","v":0}]
[]
[null,null,null,"Benefits of Equipment Financing:"]
[null,null,null,"• Spreads out investment over time.",null,"• Keep current with latest technology."]
[null,null,null,"• Preserve capital.",null,"• Service and parts bundling available."]
[null,null,null,"• Low monthly payment.",null,"• Pay for labor savings as you go."]
[]
[]
[null,"  TennantTrue",null,0,0]
[]
[null,null,"Is customer interested in service program?","Yes","*State/County selection required for TennantTrue service options"]
[]
[null,null,"If not, why?"]
[]
[null,null,"Term:",36,null,null,"AB Brushes","No"]
[null,null,"Monthly machine usage (hrs):","< 30/mo. (Avg. 1hr./day)"]
[]
[null,null,"TennantTrue: ","Gold Contract",null,"Silver Contract"]
[null,null,"Per Visit",null,null,421]
[null,null,"Monthly",109,null,67]
[null,null,"Annually",null,null,792]
[null,null,"Pre-Pay Full Term",3769,null,2327]
[null,null,"Hourly Labor Rate"]
[null,null,"Site Visit"]
[]
[null,null,"* Verify customer current pricing prior to quote. "]
[null,null,"**All rates and fees above reflect service for one (1) unit with the exception of Block of Time service."]
[null,null,"*Block of Time is available in 1 Year Term only and is priced as such no matter the term selection on this template."]
[]
[]
[]
[null,"Quote Special Instructions:"]
[]
[]
[null,{"$f":"Start_Here!E36","v":"Terms and Conditions"}]
[null,{"$f":"Start_Here!E37","v":"Ask your local sales rep for estimated lead times. Verify when placing order"}]
[null,{"$f":"Start_Here!E38","v":"All orders subject to acceptance by Tennant Sales and Service Company, Minneapolis, Minnesota"}]
[null,{"$f":"Start_Here!E39","v":"Prices subject to change without notice. Subject to any applicable taxes."}]
[null,{"$f":"Start_Here!E40","v":"Terms:  Net 30 days.  Payable in Canadian Funds"}]
[null,{"$f":"Start_Here!E41","v":"Freight:  Accessories, parts, supplies, detergents, and floor coatings orders delivered DDP "}]
[null,{"$f":"Start_Here!E42","v":"shipping point Frt PPD.  Machine orders delivered DDP shipping point Frt PPD and add."}]
[null,{"$f":"Start_Here!E43","v":"Returned Merchandise is subject to a restocking fee."}]
[null,{"$f":"Start_Here!E44","v":"All orders are subject to Tennant’s General Terms and Conditions available at http://www.tennantco.com/terms."}]
[null,{"$f":"Start_Here!E45","v":"Printed General Terms and Conditions are also available upon request."}]
[null,{"$f":"Start_Here!E46","v":0}]
[]
[null,null,null,null,"Quote Date :",null,{"$f":"Letter!$A$25","v":"2020-09-22"}]
[null,"Order Placement Information:  To place your order, fill in PO# and customer signatures,"]
[null,"call or fax to the numbers listed below. Customer Purchase Order is required."]
[null,"If information is missing, orders will be entered and held until all information is received."]
[null,null,"Customer Number",null,"Cust Grp 3"]
[null,null,{"$f":"Start_Here!$C$25","v":0},null,{"$f":"Start_Here!$C$29","v":0}]
[null,null,{"$f":"Start_Here!$B$18","v":"Who Owns the Machine? (Sold-To Info) (Please Verify)"}]
["Company",null,{"$f":"Start_Here!$C$19","v":"Company Name"}]
["Address",null,{"$f":"Start_Here!$C$20","v":"Address"}]
[null,null,{"$f":"Start_Here!$C$21","v":"City, State Zip"}]
["Name",null,{"$f":"Start_Here!$C$22","v":"Contact Name"}]
["Phone",null,{"$f":"Start_Here!$C$23","v":"Contact Phone"}]
[null,null,{"$f":"Start_Here!$B$11","v":"Where is the Machine Being Shipped? (Ship-To Info) (Please Verify)"}]
["Company",null,{"$f":"Start_Here!$C$12","v":"Company Name"}]
["Address",null,{"$f":"Start_Here!$C$13","v":"Address"}]
[null,null,{"$f":"Start_Here!$C$14","v":"City, State Zip"}]
["Name",null,{"$f":"Start_Here!$C$15","v":"Contact Name"}]
["Phone",null,{"$f":"Start_Here!$C$16","v":"Contact Phone"}]
[null,null,{"$f":"Start_Here!$B$31","v":"Shipping / Carrier Instructions:"},null,"Order Special Instructions:"]
[null,null,{"$f":"Start_Here!$C$32","v":0}]
[]
[null,null,"Customer Purchase Order No."]
[null,null,"(please attach copy)"]
[]
[]
[null,null,"Tax Exempt",null,"Yes"]
[null,null,null,null,"No"]
[null,null,"If Yes, attach a copy of your exemption certificate."]
[]
[null,null,"Requested Delivery Date"]
[null,null,{"$f":"Start_Here!$C$28","v":0}]
[]
[null,null,{"$f":"Start_Here!$C$26","v":0},null,{"$f":"Start_Here!$C$27","v":0}]
[null,null,"Authorized Buyer (please print)",null,"Phone Number"]
[]
[]
[null,null,"Authorized Buyer Signature"]
[]
[null,null,{"$f":"Start_Here!$C$41","v":"Rep Name"}]
[null,null,"Tennant Representative"]
[]
["Specialized Maintenance Equipment"]
[{"$f":"Start_Here!$C$48","v":"TENNANT · 10400 Clean Street · Eden Prairie, MN 55344 ·"}]
[{"$f":"Start_Here!$C$49","v":" PHONE:800-553-8033 · FAX:763-513-2116"}]
[]
[null,"Notes"]
[]
[null,1,"Factory installed pricing.   Only available on wet batteries, not sealed. "]
[]
[null,2,"Only available on 690mm/27\" unit only."]
[]
[null,3,"A French and English manual will be supplied for all units shipping into Quebec, Canada at no charge.  An additional manual"]
[null,null,"can be ordered (for a total of 3 manuals) for an additional charge as stated under 'Additional Operator Manual'."]
[]
[null,4,"Skid w/Carton, Non-Stackable is the default packaging method and will be added to the configuration unless otherwise specified."]
[]
[null,5,"Shipping Weights and Dimensions","Skid w/ Carton"]
[]
[null,null,"24\" / 610mm Cleaning Path"]
[null,null,"Weight (w/ 435AH Battery)","1,346 lbs / 610 Kg"]
[null,null,"Length","85\" / 2,159mm"]
[null,null,"Width","46\" / 1,169mm"]
[null,null,"Height","63\" / 1,600mm"]
[]
[null,null,"27\" / 690mm Cleaning Path"]
[null,null,"Weight (w/ 435AH Battery)","1,350 lbs / 612 Kg"]
[null,null,"Length","85\" / 2,159mm"]
[null,null,"Width","46\" / 1,169mm"]
[null,null,"Height","63\" / 1,600mm"]

{"sheet":"3640","index":18,"n_rows":280,"n_cols":17,"rows_kept":280,"cut":false,"hidden":false,"merged":[[163,3,163,4],[163,5,163,6],[46,2,46,3],[0,2,0,3],[1,2,1,3],[2,2,2,3],[3,2,3,3],[11,1,11,5],[25,1,25,5],[26,1,26,5],[27,1,27,5],[155,3,155,4],[157,3,157,4],[157,5,157,6],[158,3,158,4],[161,3,161,4],[161,5,161,6],[162,3,162,4],[150,4,150,8],[134,3,134,4],[134,5,134,6],[152,3,152,6],[154,3,154,4],[136,5,136,6],[136,3,136,4],[158,5,158,6],[159,3,159,4],[159,5,159,6],[160,3,160,4],[160,5,160,6],[162,5,162,6],[199,2,199,5],[197,2,197,5],[200,2,200,5],[207,2,207,5],[196,2,196,5],[205,4,205,6],[203,2,203,5],[201,2,201,5],[202,2,202,5],[199,0,199,1],[218,4,218,5],[209,2,209,5],[208,2,208,5],[172,1,172,6],[193,2,193,5],[203,0,203,1],[202,0,202,1],[196,0,196,1],[197,0,197,1],[194,0,194,1],[200,0,200,1],[193,0,193,1],[191,4,191,6],[194,2,194,5],[195,2,195,5]]}
[3640,null,{"$f":"Start_Here!$C19","v":"Company Name"}]
[{"$f":"SUM(G129)","v":0},null,{"$f":"Start_Here!$C20","v":"Address"}]
[null,null,{"$f":"Start_Here!$C21","v":"City, State Zip"}]
[null,null,{"$f":"Start_Here!$C22","v":"Contact Name"}]
[null,null,{"$f":"Start_Here!$C$41","v":"Rep Name"}]
[null,null,{"$f":"Start_Here!$C$37","v":"Tennant Sales and Service Company"}]
[null,null,{"$f":"Start_Here!$C$38","v":"10400 Clean Street"}]
[null,null,{"$f":"Start_Here!$C$39","v":"Eden Prairie, MN 55344"}]
[null,null,{"$f":"Start_Here!$C$43","v":"800-553-8033"},null,"Quote Date :",null,{"$f":"Letter!$A$25","v":"2020-09-22"}]
[]
[null,null,{"$f":"Help!C2","v":"CAN Date Rev - 9/30/2024"}]
[null,"BUILT-IN “TENNANT VALUE” INCLUDES:"]
[]
[null,null,null,"Variable Controls Height"]
[null,"Standard 80cm/32\" path width",null,"Fully Variable Forward/Reverse Speed Control"]
[null,"Panel Filter with Timed Shaker",null,"Free-Floating Hopper"]
[null,"High Air Flow Kit",null,"Hopper Capacity 85 l/3 cubic feet"]
[null,"130 AH Batteries with 11 Amp Off Board Charger",null,"Standard Side Brush  (Select One)"]
[null,"Battery Discharge Indicator w. Hour Meter",null,"Standard Main Brush (Select One)"]
[null,"Self-adjusting Main and Side Brush",null,"Operator Training Video"]
[null,"Direct Throw Sweeping",null,"Built in Spray Bottle/Glove Holder on Cover "]
[null,"Quick Release Main Broom",null,"Hour Meter"]
[null,"Parking Brake",null,"Key Switch"]
[]
[]
[null,"TENNANT COMPANY WARRANTY"]
[null,"3 YEARS OR 2500 HOURS ON ALL COMPONENTS, 3 YEARS LABOR"]
[null,"90 DAYS TRAVEL, 10 YEARS ON DURAMERTM TANKS"]
[]
[null,null,null,null,"                Quote Request Information"]
[null,null,null,null,null,null,"Fax (quote only)"]
[null,null,null,null,null,null,"Mail (quote,lit, specs)"]
[null,null,null,null,null,null,"Fax + Mail"]
[]
[null,null,null,null,"                Primary Use"]
[null,null,null,null,null,null,"Inside"]
[null,null,null,null,null,null,"Outside"]
[]
[]
["`",null,"Description","Reference #","Price Each","Qty","Extended Price"]
[null,"Base Configuration",null,null,null,{"$f":"SUM(F42,F45,F52)","v":0}]
[null,null,"Cleaning Type",null,null,{"$f":"SUM(F43)","v":0},null,null,null,null,null,{"$f":"SUM(F42)","v":0},"Surcharge Qty"]
[null,null,"3640 E Battery Powered Walk-Behind Sweeper","3640-E",22803,null,{"$f":"F43*E43","v":0},{"$f":"IFERROR(IFERROR(VLOOKUP(D43,Surcharge!A:B,2,FALSE)*F43, VLOOKUP(D43 & \"\",Surcharge!A:B,2,FALSE)*F43), \"\")","v":0},null,null,null,{"$f":"SUM(F43)","v":0},"Surcharge Qty",null,null,{"$f":"VLOOKUP(Q43,'MPF SAP Download Canada'!$A:$D,4,FALSE)","v":22803},"M-3640VK_BASE_3640-BTY"]
[null,null,null,null,null,null,null,{"$f":"IFERROR(IFERROR(VLOOKUP(D44,Surcharge!A:B,2,FALSE)*F44, VLOOKUP(D44 & \"\",Surcharge!A:B,2,FALSE)*F44), \"\")","v":""}]
[null,null,"Battery Type",null,null,{"$f":"SUM(F46:F50)","v":0},null,{"$f":"IFERROR(IFERROR(VLOOKUP(D45,Surcharge!A:B,2,FALSE)*F45, VLOOKUP(D45 & \"\",Surcharge!A:B,2,FALSE)*F45), \"\")","v":""}]
[null,null,"Wet 130AH C/5  (Kit of 2 batteries)",80128,"N/C",null,{"$f":"IF(F46=0,\" \",\"N/C\")","v":" "},{"$f":"IFERROR(IFERROR(VLOOKUP(D46,Surcharge!A:B,2,FALSE)*F46, VLOOKUP(D46 & \"\",Surcharge!A:B,2,FALSE)*F46), \"\")","v":""},null,null,null,null,null,null,null,{"$f":"VLOOKUP(Q46,'MPF SAP Download Canada'!$A:$D,4,FALSE)","v":"N/C"},"M-3640VK_BTY_W130C20"]
[null,null,"Wet 225AH C/6  (Kit of 2 batteries)  (Extended Run Time Batteries)\n     Requires 19A 100-240V AC 50/60Hz 1PH Charger",null,665,null,{"$f":"F47*E47","v":0},{"$f":"IFERROR(IFERROR(VLOOKUP(D47,Surcharge!A:B,2,FALSE)*F47, VLOOKUP(D47 & \"\",Surcharge!A:B,2,FALSE)*F47), \"\")","v":""},null,null,null,null,null,null,null,{"$f":"VLOOKUP(Q47,'MPF SAP Download Canada'!$A:$D,4,FALSE)","v":665},"M-3640VK_BTY_W225C20"]
[null,null,"Less Battery",null,-367,null,{"$f":"F48*E48","v":0},{"$f":"IFERROR(IFERROR(VLOOKUP(D48,Surcharge!A:B,2,FALSE)*F48, VLOOKUP(D48 & \"\",Surcharge!A:B,2,FALSE)*F48), \"\")","v":""},null,null,null,null,null,null,null,{"$f":"VLOOKUP(Q48,'MPF SAP Download Canada'!$A:$D,4,FALSE)","v":-367},"M-3640VK_BTY_WO"]
[null,null,null,null,null,null,null,{"$f":"IFERROR(IFERROR(VLOOKUP(D49,Surcharge!A:B,2,FALSE)*F49, VLOOKUP(D49 & \"\",Surcharge!A:B,2,FALSE)*F49), \"\")","v":""},null,null,null,null,null,null,null,null,""]
[null,null,"Manual Battery Watering Kit  (Note 1)",9009619,825,null,{"$f":"F50*E50","v":0},{"$f":"IFERROR(IFERROR(VLOOKUP(D50,Surcharge!A:B,2,FALSE)*F50, VLOOKUP(D50 & \"\",Surcharge!A:B,2,FALSE)*F50), \"\")","v":""},null,null,null,null,null,null,null,{"$f":"VLOOKUP(Q50,'MPF SAP Download Canada'!$A:$D,4,FALSE)","v":825},"M-3640VK_BTYWTRSYS"]
[null,null,null,null,null,null,null,{"$f":"IFERROR(IFERROR(VLOOKUP(D51,Surcharge!A:B,2,FALSE)*F51, VLOOKUP(D51 & \"\",Surcharge!A:B,2,FALSE)*F51), \"\")","v":""}]
[null,null,"Charger","Reference Number",null,{"$f":"SUM(F53:F55)","v":0},null,{"$f":"IFERROR(IFERROR(VLOOKUP(D52,Surcharge!A:B,2,FALSE)*F52, VLOOKUP(D52 & \"\",Surcharge!A:B,2,FALSE)*F52), \"\")","v":""}]
[null,null,"11A 100-240V AC 50/60Hz 1PH - off board",1056034,"N/C",null,{"$f":"IF(F53=0,\" \",\"N/C\")","v":" "},{"$f":"IFERROR(IFERROR(VLOOKUP(D53,Surcharge!A:B,2,FALSE)*F53, VLOOKUP(D53 & \"\",Surcharge!A:B,2,FALSE)*F53), \"\")","v":""},null,null,null,null,null,null,null,{"$f":"VLOOKUP(Q53,'MPF SAP Download Canada'!$A:$D,4,FALSE)","v":"N/C"},"M-3640VK_CHG_11A100V5060H1"]
[null,null,"19A 100-240V AC 50/60Hz 1PH - off board",1029256,240,null,{"$f":"F54*E54","v":0},{"$f":"IFERROR(IFERROR(VLOOKUP(D54,Surcharge!A:B,2,FALSE)*F54, VLOOKUP(D54 & \"\",Surcharge!A:B,2,FALSE)*F54), \"\")","v":""},null,null,null,null,null,null,null,{"$f":"VLOOKUP(Q54,'MPF SAP Download Canada'!$A:$D,4,FALSE)","v":240},"M-3640VK_CHG_19A100V5060H1"]
[null,null,"Less Charger",null,-194,null,{"$f":"F55*E55","v":0},{"$f":"IFERROR(IFERROR(VLOOKUP(D55,Surcharge!A:B,2,FALSE)*F55, VLOOKUP(D55 & \"\",Surcharge!A:B,2,FALSE)*F55), \"\")","v":""},null,null,null,null,null,null,null,{"$f":"VLOOKUP(Q55,'MPF SAP Download Canada'!$A:$D,4,FALSE)","v":-194},"M-3640VK_CHG_WO"]
[null,null,null,null,null,null,null,{"$f":"IFERROR(IFERROR(VLOOKUP(D56,Surcharge!A:B,2,FALSE)*F56, VLOOKUP(D56 & \"\",Surcharge!A:B,2,FALSE)*F56), \"\")","v":""}]
[null,null,null,null,null,null,null,{"$f":"IFERROR(IFERROR(VLOOKUP(D57,Surcharge!A:B,2,FALSE)*F57, VLOOKUP(D57 & \"\",Surcharge!A:B,2,FALSE)*F57), \"\")","v":""}]
[null,"Packages (Note 2) ",null,"Reference Number",null,{"$f":"SUM(F59)","v":0},null,{"$f":"IFERROR(IFERROR(VLOOKUP(D58,Surcharge!A:B,2,FALSE)*F58, VLOOKUP(D58 & \"\",Surcharge!A:B,2,FALSE)*F58), \"\")","v":""}]
[null,null,"Carpet Cleaning Equipment Pkg (Note 3)",null,null,{"$f":"SUM(F60:F61)","v":0},null,{"$f":"IFERROR(IFERROR(VLOOKUP(D59,Surcharge!A:B,2,FALSE)*F59, VLOOKUP(D59 & \"\",Surcharge!A:B,2,FALSE)*F59), \"\")","v":""}]
[null,null,"Standard Run Time - w/ standard 130 AH batteries",80123,847,null,{"$f":"F60*E60","v":0},{"$f":"IFERROR(IFERROR(VLOOKUP(D60,Surcharge!A:B,2,FALSE)*F60, VLOOKUP(D60 & \"\",Surcharge!A:B,2,FALSE)*F60), \"\")","v":""},null,null,null,null,null,null,null,21311,"M-3640VK_CARCLNEQUPKG_SRT"]
[null,null,"Extended Run Time - w/225 AH batteries",80040,847,null,{"$f":"F61*E61","v":0},{"$f":"IFERROR(IFERROR(VLOOKUP(D61,Surcharge!A:B,2,FALSE)*F61, VLOOKUP(D61 & \"\",Surcharge!A:B,2,FALSE)*F61), \"\")","v":""},null,null,null,null,null,null,null,21311,"M-3640VK_CARCLNEQUPKG_ERT"]
[]
[null,null,"UL Rating/UL",null,null,{"$f":"SUM(F64:F65)","v":0}]
[null,null,"UL Type E ",80452,"N/C",null,{"$f":"IF(F64=0,\" \",\"N/C\")","v":" "}]
[null,null,"UL Type EE ",80454,3708,null,{"$f":"F65*E65","v":0}]
[null,null,null,null,null,null,null,{"$f":"IFERROR(IFERROR(VLOOKUP(D66,Surcharge!A:B,2,FALSE)*F66, VLOOKUP(D66 & \"\",Surcharge!A:B,2,FALSE)*F66), \"\")","v":""},null,null,null,null,null,null,null,null,""]
[null,"Cleaning Performance",null,"Reference Number",null,{"$f":"SUM(F68:F79)","v":0},null,{"$f":"IFERROR(IFERROR(VLOOKUP(D67,Surcharge!A:B,2,FALSE)*F67, VLOOKUP(D67 & \"\",Surcharge!A:B,2,FALSE)*F67), \"\")","v":""},null,null,null,null,null,null,null,null,""]
[null,null,"Side Brush, Right Hand",null,"N/C",null,{"$f":"IF(F68=0,\" \",\"N/C\")","v":" "},{"$f":"IFERROR(IFERROR(VLOOKUP(D68,Surcharge!A:B,2,FALSE)*F68, VLOOKUP(D68 & \"\",Surcharge!A:B,2,FALSE)*F68), \"\")","v":""},null,null,null,null,null,null,null,{"$f":"VLOOKUP(Q68,'MPF SAP Download Canada'!$A:$D,4,FALSE)","v":"N/C"},"M-3640VK_SDEBRSLOC_RH"]
[null,null,"Side Brush, Dual (Note 4)",80150,1230,null,{"$f":"F69*E69","v":0},{"$f":"IFERROR(IFERROR(VLOOKUP(D69,Surcharge!A:B,2,FALSE)*F69, VLOOKUP(D69 & \"\",Surcharge!A:B,2,FALSE)*F69), \"\")","v":""},null,null,null,null,null,null,null,{"$f":"VLOOKUP(Q69,'MPF SAP Download Canada'!$A:$D,4,FALSE)","v":1230},"M-3640VK_SDEBRSLOC_D"]
[null,null,null,null,null,null,null,{"$f":"IFERROR(IFERROR(VLOOKUP(D70,Surcharge!A:B,2,FALSE)*F70, VLOOKUP(D70 & \"\",Surcharge!A:B,2,FALSE)*F70), \"\")","v":""}]
[null,null,"Live Wand (Note 5)",373143,"N/C",null,{"$f":"IF(F71=0,\" \",\"N/C\")","v":" "},{"$f":"IFERROR(IFERROR(VLOOKUP(D71,Surcharge!A:B,2,FALSE)*F71, VLOOKUP(D71 & \"\",Surcharge!A:B,2,FALSE)*F71), \"\")","v":""},null,null,null,null,null,null,null,{"$f":"VLOOKUP(Q71,'MPF SAP Download Canada'!$A:$D,4,FALSE)","v":"N/C"},"M-3640VK_PWRVACWND_LW"]
[null,null,"Accessory Wand Kit (Note 6)",373138,432,null,{"$f":"F72*E72","v":0},{"$f":"IFERROR(IFERROR(VLOOKUP(D72,Surcharge!A:B,2,FALSE)*F72, VLOOKUP(D72 & \"\",Surcharge!A:B,2,FALSE)*F72), \"\")","v":""},null,null,null,null,null,null,null,{"$f":"VLOOKUP(Q72,'MPF SAP Download Canada'!$A:$D,4,FALSE)","v":432},"M-3640VK_PWRVACWND_AWK"]
[null,null,"Without Vacuum Wand",null,"N/C",null,{"$f":"IF(F73=0,\" \",\"N/C\")","v":" "},{"$f":"IFERROR(IFERROR(VLOOKUP(D73,Surcharge!A:B,2,FALSE)*F73, VLOOKUP(D73 & \"\",Surcharge!A:B,2,FALSE)*F73), \"\")","v":""},null,null,null,null,null,null,null,{"$f":"VLOOKUP(Q73,'MPF SAP Download Canada'!$A:$D,4,FALSE)","v":{"$error":"#N/A"}},"M-3640"]
[null,null,null,null," ",null,null,{"$f":"IFERROR(IFERROR(VLOOKUP(D74,Surcharge!A:B,2,FALSE)*F74, VLOOKUP(D74 & \"\",Surcharge!A:B,2,FALSE)*F74), \"\")","v":""},null,null,null,null,null,null,null,null,""]
[null,null,"Dust Control Filter, Panel Filter",null,"N/C",null,{"$f":"IF(F75=0,\" \",\"N/C\")","v":" "},{"$f":"IFERROR(IFERROR(VLOOKUP(D75,Surcharge!A:B,2,FALSE)*F75, VLOOKUP(D75 & \"\",Surcharge!A:B,2,FALSE)*F75), \"\")","v":""},null,null,null,null,null,null,null,{"$f":"VLOOKUP(Q75,'MPF SAP Download Canada'!$A:$D,4,FALSE)","v":"N/C"},"M-3640VK_DSTCTLFLR_PFLR"]
[null,null,"Dust Control Filter, Bag Filter (Note 7)",373146,-784,null,{"$f":"F76*E76","v":0},{"$f":"IFERROR(IFERROR(VLOOKUP(D76,Surcharge!A:B,2,FALSE)*F76, VLOOKUP(D76 & \"\",Surcharge!A:B,2,FALSE)*F76), \"\")","v":""},null,null,null,null,null,null,null,{"$f":"VLOOKUP(Q76,'MPF SAP Download Canada'!$A:$D,4,FALSE)","v":-784},"M-3640VK_DSTCTLFLR_PFB"]
[null,null,"HEPA Filter (Note 8)",324010,9439,null,{"$f":"F77*E77","v":0},{"$f":"IFERROR(IFERROR(VLOOKUP(D77,Surcharge!A:B,2,FALSE)*F77, VLOOKUP(D77 & \"\",Surcharge!A:B,2,FALSE)*F77), \"\")","v":""},null,null,null,null,null,null,null,{"$f":"VLOOKUP(Q77,'MPF SAP Download Canada'!$A:$D,4,FALSE)","v":9439},"M-3640VK_HEPFLR"]
[null,null,null,null,null,null,null,{"$f":"IFERROR(IFERROR(VLOOKUP(D78,Surcharge!A:B,2,FALSE)*F78, VLOOKUP(D78 & \"\",Surcharge!A:B,2,FALSE)*F78), \"\")","v":""},null,null,null,null,null,null,null,null,""]
[null,null,"Hopper Dump Assist",80285,272,null,{"$f":"F79*E79","v":0},{"$f":"IFERROR(IFERROR(VLOOKUP(D79,Surcharge!A:B,2,FALSE)*F79, VLOOKUP(D79 & \"\",Surcharge!A:B,2,FALSE)*F79), \"\")","v":""},null,null,null,null,null,null,null,{"$f":"VLOOKUP(Q79,'MPF SAP Download Canada'!$A:$D,4,FALSE)","v":272},"M-3640VK_HPRDMPAST"]
[null,null,null,null,null,null,null,{"$f":"IFERROR(IFERROR(VLOOKUP(D80,Surcharge!A:B,2,FALSE)*F80, VLOOKUP(D80 & \"\",Surcharge!A:B,2,FALSE)*F80), \"\")","v":""},null,null,null,null,null,null,null,null,""]
[null,"Machine Protection & Safety",null,"Reference Number",null,{"$f":"SUM(F82:F85)","v":0},null,{"$f":"IFERROR(IFERROR(VLOOKUP(D81,Surcharge!A:B,2,FALSE)*F81, VLOOKUP(D81 & \"\",Surcharge!A:B,2,FALSE)*F81), \"\")","v":""},null,null,null,null,null,null,null,null,""]
[null,null,"Emergency Stop ",80179,451,null,{"$f":"F82*E82","v":0},{"$f":"IFERROR(IFERROR(VLOOKUP(D82,Surcharge!A:B,2,FALSE)*F82, VLOOKUP(D82 & \"\",Surcharge!A:B,2,FALSE)*F82), \"\")","v":""},null,null,null,null,null,null,null,{"$f":"VLOOKUP(Q82,'MPF SAP Download Canada'!$A:$D,4,FALSE)","v":451},"M-3640VK_EMYSTP"]
[null,null,null,null,null,null,null,{"$f":"IFERROR(IFERROR(VLOOKUP(D83,Surcharge!A:B,2,FALSE)*F83, VLOOKUP(D83 & \"\",Surcharge!A:B,2,FALSE)*F83), \"\")","v":""},null,null,null,null,null,null,null,null,""]
[null,null,"Tires, Solid Rubber",null,"N/C",null,{"$f":"IF(F84=0,\" \",\"N/C\")","v":" "},{"$f":"IFERROR(IFERROR(VLOOKUP(D84,Surcharge!A:B,2,FALSE)*F84, VLOOKUP(D84 & \"\",Surcharge!A:B,2,FALSE)*F84), \"\")","v":""},null,null,null,null,null,null,null,{"$f":"VLOOKUP(Q84,'MPF SAP Download Canada'!$A:$D,4,FALSE)","v":"N/C"},"M-3640VK_NONMKTTRE_BSR"]
[null,null,"Tires, Wide Trac Pneumatic (Note 9)",80226,883,null,{"$f":"F85*E85","v":0},{"$f":"IFERROR(IFERROR(VLOOKUP(D85,Surcharge!A:B,2,FALSE)*F85, VLOOKUP(D85 & \"\",Surcharge!A:B,2,FALSE)*F85), \"\")","v":""},null,null,null,null,null,null,null,{"$f":"VLOOKUP(Q85,'MPF SAP Download Canada'!$A:$D,4,FALSE)","v":883},"M-3640VK_NONMKTTRE_WTP"]
[null,null,null,null,null,null,null,{"$f":"IFERROR(IFERROR(VLOOKUP(D86,Surcharge!A:B,2,FALSE)*F86, VLOOKUP(D86 & \"\",Surcharge!A:B,2,FALSE)*F86), \"\")","v":""},null,null,null,null,null,null,null,null,""]
[null,"Brushes",null,"Reference Number",null,{"$f":"SUM(F88,F94)","v":0},null,{"$f":"IFERROR(IFERROR(VLOOKUP(D87,Surcharge!A:B,2,FALSE)*F87, VLOOKUP(D87 & \"\",Surcharge!A:B,2,FALSE)*F87), \"\")","v":""},null,null,null,null,null,null,null,null,""]
[null,null,"Cleaning Tool (Note 10)",null,null,{"$f":"SUM(F89:F92)","v":0},null,{"$f":"IFERROR(IFERROR(VLOOKUP(D88,Surcharge!A:B,2,FALSE)*F88, VLOOKUP(D88 & \"\",Surcharge!A:B,2,FALSE)*F88), \"\")","v":""},null,null,null,null,null,null,null,null,""]
[null,null,"Polyprolyene Brush ",80058,"N/C",null,{"$f":"IF(F89=0,\" \",\"N/C\")","v":" "},{"$f":"IFERROR(IFERROR(VLOOKUP(D89,Surcharge!A:B,2,FALSE)*F89, VLOOKUP(D89 & \"\",Surcharge!A:B,2,FALSE)*F89), \"\")","v":""},null,null,null,null,null,null,null,{"$f":"VLOOKUP(Q89,'MPF SAP Download Canada'!$A:$D,4,FALSE)","v":"N/C"},"M-3640VK_CLNTOL_PYP"]
[null,null,"Polyprolyene & Wire Brush ",378802,"N/C",null,{"$f":"IF(F90=0,\" \",\"N/C\")","v":" "},{"$f":"IFERROR(IFERROR(VLOOKUP(D90,Surcharge!A:B,2,FALSE)*F90, VLOOKUP(D90 & \"\",Surcharge!A:B,2,FALSE)*F90), \"\")","v":""},null,null,null,null,null,null,null,{"$f":"VLOOKUP(Q90,'MPF SAP Download Canada'!$A:$D,4,FALSE)","v":"N/C"},"M-3640VK_CLNTOL_PYPW"]
[null,null,"Union Mix Brush (Carpet)",80355,"N/C",null,{"$f":"IF(F91=0,\" \",\"N/C\")","v":" "},{"$f":"IFERROR(IFERROR(VLOOKUP(D91,Surcharge!A:B,2,FALSE)*F91, VLOOKUP(D91 & \"\",Surcharge!A:B,2,FALSE)*F91), \"\")","v":""},null,null,null,null,null,null,null,{"$f":"VLOOKUP(Q91,'MPF SAP Download Canada'!$A:$D,4,FALSE)","v":"N/C"},"M-3640VK_CLNTOL_UMB"]
[null,null,"Sand Wedge Brush ",80351,"N/C",null,{"$f":"IF(F92=0,\" \",\"N/C\")","v":" "},{"$f":"IFERROR(IFERROR(VLOOKUP(D92,Surcharge!A:B,2,FALSE)*F92, VLOOKUP(D92 & \"\",Surcharge!A:B,2,FALSE)*F92), \"\")","v":""},null,null,null,null,null,null,null,{"$f":"VLOOKUP(Q92,'MPF SAP Download Canada'!$A:$D,4,FALSE)","v":"N/C"},"M-3640VK_CLNTOL_SWB"]
[null,null,null,null,null,null,null,{"$f":"IFERROR(IFERROR(VLOOKUP(D93,Surcharge!A:B,2,FALSE)*F93, VLOOKUP(D93 & \"\",Surcharge!A:B,2,FALSE)*F93), \"\")","v":""},null,null,null,null,null,null,null,null,""]
[null,null,"Side Cleaning Tool",null,null,{"$f":"SUM(F95)","v":0},null,{"$f":"IFERROR(IFERROR(VLOOKUP(D94,Surcharge!A:B,2,FALSE)*F94, VLOOKUP(D94 & \"\",Surcharge!A:B,2,FALSE)*F94), \"\")","v":""},null,null,null,null,null,null,null,null,""]
[null,null,"Polyprolyene Brush",80042,"N/C",null,{"$f":"IF(F95=0,\" \",\"N/C\")","v":" "},{"$f":"IFERROR(IFERROR(VLOOKUP(D95,Surcharge!A:B,2,FALSE)*F95, VLOOKUP(D95 & \"\",Surcharge!A:B,2,FALSE)*F95), \"\")","v":""},null,null,null,null,null,null,null,{"$f":"VLOOKUP(Q95,'MPF SAP Download Canada'!$A:$D,4,FALSE)","v":"N/C"},"M-3640VK_SDECLNTOL_PYP"]
[null,null,null,null,null,null,null,{"$f":"IFERROR(IFERROR(VLOOKUP(D96,Surcharge!A:B,2,FALSE)*F96, VLOOKUP(D96 & \"\",Surcharge!A:B,2,FALSE)*F96), \"\")","v":""},null,null,null,null,null,null,null,null,""]
[null,"Support",null,"Reference Number",null,{"$f":"SUM(F98:F106)","v":0},null,{"$f":"IFERROR(IFERROR(VLOOKUP(D97,Surcharge!A:B,2,FALSE)*F97, VLOOKUP(D97 & \"\",Surcharge!A:B,2,FALSE)*F97), \"\")","v":""},null,null,null,null,null,null,null,null,""]
[null,null,"Operator Manual English",330560,"N/C",null,{"$f":"IF(F98=0,\" \",\"N/C\")","v":" "},{"$f":"IFERROR(IFERROR(VLOOKUP(D98,Surcharge!A:B,2,FALSE)*F98, VLOOKUP(D98 & \"\",Surcharge!A:B,2,FALSE)*F98), \"\")","v":""},null,null,null,null,null,null,null,{"$f":"VLOOKUP(Q98,'MPF SAP Download Canada'!$A:$D,4,FALSE)","v":{"$error":"#N/A"}},"M-3640"]
[null,null,"Operator Manual Spanish",330562,"N/C",null,{"$f":"IF(F99=0,\" \",\"N/C\")","v":" "},{"$f":"IFERROR(IFERROR(VLOOKUP(D99,Surcharge!A:B,2,FALSE)*F99, VLOOKUP(D99 & \"\",Surcharge!A:B,2,FALSE)*F99), \"\")","v":""},null,null,null,null,null,null,null,{"$f":"VLOOKUP(Q99,'MPF SAP Download Canada'!$A:$D,4,FALSE)","v":{"$error":"#N/A"}},"M-3640"]
[null,null,"Operator Manual French  (Note 11)",330563,"N/C",null,{"$f":"IF(F100=0,\" \",\"N/C\")","v":" "},{"$f":"IFERROR(IFERROR(VLOOKUP(D100,Surcharge!A:B,2,FALSE)*F100, VLOOKUP(D100 & \"\",Surcharge!A:B,2,FALSE)*F100), \"\")","v":""},null,null,null,null,null,null,null,{"$f":"VLOOKUP(Q100,'MPF SAP Download Canada'!$A:$D,4,FALSE)","v":{"$error":"#N/A"}},"M-3640"]
[null,null,"Operator Manual Japanese",330564,"N/C",null,{"$f":"IF(F101=0,\" \",\"N/C\")","v":" "},{"$f":"IFERROR(IFERROR(VLOOKUP(D101,Surcharge!A:B,2,FALSE)*F101, VLOOKUP(D101 & \"\",Surcharge!A:B,2,FALSE)*F101), \"\")","v":""},null,null,null,null,null,null,null,{"$f":"VLOOKUP(Q101,'MPF SAP Download Canada'!$A:$D,4,FALSE)","v":{"$error":"#N/A"}},"M-3640"]
[null,null,"Additional Operator Manual","see above",130,null,{"$f":"F102*E102","v":0},{"$f":"IFERROR(IFERROR(VLOOKUP(D102,Surcharge!A:B,2,FALSE)*F102, VLOOKUP(D102 & \"\",Surcharge!A:B,2,FALSE)*F102), \"\")","v":""},null,null,null,null,null,null,null,{"$f":"VLOOKUP(Q102,'MPF SAP Download Canada'!$A:$D,4,FALSE)","v":130},"M-3640VK_ADLOPRMNL"]
[null,null,"Parts Manual",null,29,null,{"$f":"F103*E103","v":0},{"$f":"IFERROR(IFERROR(VLOOKUP(D103,Surcharge!A:B,2,FALSE)*F103, VLOOKUP(D103 & \"\",Surcharge!A:B,2,FALSE)*F103), \"\")","v":""},null,null,null,null,null,null,null,{"$f":"VLOOKUP(Q103,'MPF SAP Download Canada'!$A:$D,4,FALSE)","v":29},"M-3640VK_PARMNL"]
[null,null,"3640 Service Manual",330565,298,null,{"$f":"F104*E104","v":0},{"$f":"IFERROR(IFERROR(VLOOKUP(D104,Surcharge!A:B,2,FALSE)*F104, VLOOKUP(D104 & \"\",Surcharge!A:B,2,FALSE)*F104), \"\")","v":""},null,null,null,null,null,null,null,{"$f":"VLOOKUP(Q104,'MPF SAP Download Canada'!$A:$D,4,FALSE)","v":298},"M-3640VK_SRVMNL"]
[null,null,null,null,null,null,null,{"$f":"IFERROR(IFERROR(VLOOKUP(D105,Surcharge!A:B,2,FALSE)*F105, VLOOKUP(D105 & \"\",Surcharge!A:B,2,FALSE)*F105), \"\")","v":""},null,null,null,null,null,null,null,null,""]
[null,null,"Packaging",null,null,{"$f":"SUM(F107:F107)","v":0},null,{"$f":"IFERROR(IFERROR(VLOOKUP(D106,Surcharge!A:B,2,FALSE)*F106, VLOOKUP(D106 & \"\",Surcharge!A:B,2,FALSE)*F106), \"\")","v":""},null,null,null,null,null,null,null,null,""]
[null,null,"Skid w/Carton, Stackable ",9005746,"N/C",null,{"$f":"IF(F107=0,\" \",\"N/C\")","v":" "},{"$f":"IFERROR(IFERROR(VLOOKUP(D107,Surcharge!A:B,2,FALSE)*F107, VLOOKUP(D107 & \"\",Surcharge!A:B,2,FALSE)*F107), \"\")","v":""},null,null,null,null,null,null,null,{"$f":"VLOOKUP(Q107,'MPF SAP Download Canada'!$A:$D,4,FALSE)","v":"N/C"},"M-3640VK_PKG_SSKD_USCAMX"]
[null,null,null,null,null,null,null,{"$f":"IFERROR(IFERROR(VLOOKUP(D108,Surcharge!A:B,2,FALSE)*F108, VLOOKUP(D108 & \"\",Surcharge!A:B,2,FALSE)*F108), \"\")","v":""}]
[]
[null,"Custom Solution--write in description, qty, price, and PN if applicable",null,null,null,{"$f":"SUM(F111)","v":0}]
[null,null,null,null,"Insert Prices Here",{"$f":"SUM(F112:F115)","v":0}]
[null,null,null,"Custom",null,{"$f":"IF(E112 <> \"\", 1, 0)","v":0},{"$f":"F112*E112","v":0}]
[null,null,null,"Custom",null,{"$f":"IF(E113 <> \"\", 1, 0)","v":0},{"$f":"F113*E113","v":0}]
[null,null,null,"Custom",null,{"$f":"IF(E114 <> \"\", 1, 0)","v":0},{"$f":"F114*E114","v":0}]
[null,null,null,"Custom",null,{"$f":"IF(E115 <> \"\", 1, 0)","v":0},{"$f":"F115*E115","v":0}]
[null,null,null,null,{"$f":"ROUND(SUM(G43:G115), 0)","v":0},{"$f":"SUM(E117)","v":0}]
[null,null,null,"Machine Subtotal ",{"$f":"ROUND(SUM(G43:G115), 0)","v":0},{"$f":"F116","v":0}]
[null,"Discounts",null,null,null,{"$f":"SUM(F119)","v":0}]
[null,null,null,null,null,{"$f":"SUM(F121:F122)","v":0}]
[null,null,null,"Applicable Currency Adj %",null,{"$f":"IF(E120 <> \"\", 1, 0)","v":0},{"$f":"IF(F120*(E120*0.01)*E116 < 0, F120*(E120*0.01)*E116, -(F120*(E120*0.01)*E116))","v":0}]
[null,null,null,"Discount %",null,{"$f":"IF(E121 <> \"\", 1, 0)","v":0},{"$f":"IF(F121*(E121*0.01)*(E116+G120) < 0, F121*(E121*0.01)*(E116+G120), -(F121*(E121*0.01)*(E116+G120)))","v":0}]
[null,null,null,"Discount $",null,{"$f":"IF(E122 <> \"\", 1, 0)","v":0},{"$f":"IF(F122*E122 < 0, F122*E122, -(F122*E122))","v":0}]
[null,null,null,"Discount Total ",{"$f":"SUM(G120:G122)","v":0},{"$f":"SUM(E123)","v":0}]
[null,null,null,null,null,{"$f":"#REF!","v":{"$error":"#REF!"}}]
[null,null,null,null,null,{"$f":"F124","v":{"$error":"#REF!"}}]
[null,null,"Prepaid and Add","Freight",null,{"$f":"IF(E126 <> \"\", 1, 0)","v":0},{"$f":"F126*E126","v":0}]
[null,null,"Subject to all applicable taxes","Tax",null,{"$f":"IF(E127 <> \"\", 1, 0)","v":0},{"$f":"F127*E127","v":0}]
[null,null,null,null,null,{"$f":"SUM(F129)","v":0}]
[null,null,null,"MACHINE TOTAL*",null,{"$f":"SUM(G129)","v":0},{"$f":"SUM(G43:G127)","v":0},null,null,null,null,null,null,"This goes to \"My Documents\""]
[null,null,null,null,null,null,{"$f":"SUM(G129)","v":0}]
[]
[]
[]
[]
[null,null,"First Western Equipment Finance - Leasing Calculation Option:","Option 1",null,"Option 2",null,null,null,{"$f":"Financing!A38","v":"Rates 2023 - Rev 10/10/2023"}]
[null,null,null,"Monthly Payment","Cost Per Day","Monthly Payment","Cost Per Day",null,null,{"$f":"Financing!A39","v":"“Blank Payment Amounts Indicate The Financing Option Or Purchase Options Selected Are Not "}]
[null,null,"Purchase Option:","FWEF:  $1 Buyout Lease",null,"FWEF: Municipal Lease",null,null,null,{"$f":"Financing!A40","v":"Applicable Or The Machine Total Is Below The Minimum Amount For The Selected Vendor”"}]
[null,null,"24 Months",false,0,false,0,null,null,{"$f":"Financing!A41","v":"\"Quoted monthly payments are estimates only and are based on a certain level of credit rating."}]
[null,null,"30 Months",false,0,false,0,null,null,{"$f":"Financing!A42","v":"Actual monthly payments may be higher depending on your credit rating.\""}]
[null,null,"36 Months",false,0,false,0,null,null,{"$f":"Financing!A43","v":"“Financing rates do not include Pre-Paid Service”"}]
[null,null,"48 Months",0,0,0,0]
[]
[null,null,null,"Benefits of Equipment Financing:"]
[null,null,null,"• Spreads out investment over time.",null,"• Keep current with latest technology."]
[null,null,null,"• Preserve capital.",null,"• Service and parts bundling available."]
[null,null,null,"• Low monthly payment.",null,"• Pay for labor savings as you go."]
[]
[]
[null,"  TennantTrue",null,0,0]
[]
[null,null,"Is customer interested in service program?","Yes","*State/County selection required for TennantTrue service options"]
[]
[null,null,"If not, why?"]
[]
[null,null,"Term:",36,null,null,"AB Brushes","No"]
[null,null,"Monthly machine usage (hrs):","< 30/mo. (Avg. 1hr./day)"]
[]
[null,null,"TennantTrue: ","Gold Contract",null,"Silver Contract"]
[null,null,"Per Visit",null,null,421]
[null,null,"Monthly",133,null,67]
[null,null,"Annually",null,null,792]
[null,null,"Pre-Pay Full Term",4588,null,2327]
[null,null,"Hourly Labor Rate"]
[null,null,"Site Visit"]
[]
[null,null,"* Verify customer current pricing prior to quote. "]
[null,null,"**All rates and fees above reflect service for one (1) unit with the exception of Block of Time service."]
[null,null,"*Block of Time is available in 1 Year Term only and is priced as such no matter the term selection on this template."]
[]
[]
[]
[null,"Quote Special Instructions:"]
[]
[]
[null,{"$f":"Start_Here!E36","v":"Terms and Conditions"}]
[null,{"$f":"Start_Here!E37","v":"Ask your local sales rep for estimated lead times. Verify when placing order"}]
[null,{"$f":"Start_Here!E38","v":"All orders subject to acceptance by Tennant Sales and Service Company, Minneapolis, Minnesota"}]
[null,{"$f":"Start_Here!E39","v":"Prices subject to change without notice. Subject to any applicable taxes."}]
[null,{"$f":"Start_Here!E40","v":"Terms:  Net 30 days.  Payable in Canadian Funds"}]
[null,{"$f":"Start_Here!E41","v":"Freight:  Accessories, parts, supplies, detergents, and floor coatings orders delivered DDP "}]
[null,{"$f":"Start_Here!E42","v":"shipping point Frt PPD.  Machine orders delivered DDP shipping point Frt PPD and add."}]
[null,{"$f":"Start_Here!E43","v":"Returned Merchandise is subject to a restocking fee."}]
[null,{"$f":"Start_Here!E44","v":"All orders are subject to Tennant’s General Terms and Conditions available at http://www.tennantco.com/terms."}]
[null,{"$f":"Start_Here!E45","v":"Printed General Terms and Conditions are also available upon request."}]
[null,{"$f":"Start_Here!E46","v":0}]
[]
[null,null,null,null,"Quote Date :",null,{"$f":"Letter!$A$25","v":"2020-09-22"}]
[null,"Order Placement Information:  To place your order, fill in PO# and customer signatures,"]
[null,"call or fax to the numbers listed below. Customer Purchase Order is required."]
[null,"If information is missing, orders will be entered and held until all information is received."]
[null,null,"Customer Number",null,"Cust Grp 3"]
[null,null,{"$f":"Start_Here!$C$25","v":0},null,{"$f":"Start_Here!$C$29","v":0}]
[null,null,{"$f":"Start_Here!$B$18","v":"Who Owns the Machine? (Sold-To Info) (Please Verify)"}]
["Company",null,{"$f":"Start_Here!$C$19","v":"Company Name"}]
["Address",null,{"$f":"Start_Here!$C$20","v":"Address"}]
[null,null,{"$f":"Start_Here!$C$21","v":"City, State Zip"}]
["Name",null,{"$f":"Start_Here!$C$22","v":"Contact Name"}]
["Phone",null,{"$f":"Start_Here!$C$23","v":"Contact Phone"}]
[null,null,{"$f":"Start_Here!$B$11","v":"Where is the Machine Being Shipped? (Ship-To Info) (Please Verify)"}]
["Company",null,{"$f":"Start_Here!$C$12","v":"Company Name"}]
["Address",null,{"$f":"Start_Here!$C$13","v":"Address"}]
[null,null,{"$f":"Start_Here!$C$14","v":"City, State Zip"}]
["Name",null,{"$f":"Start_Here!$C$15","v":"Contact Name"}]
["Phone",null,{"$f":"Start_Here!$C$16","v":"Contact Phone"}]
[null,null,{"$f":"Start_Here!$B$31","v":"Shipping / Carrier Instructions:"},null,"Order Special Instructions:"]
[null,null,{"$f":"Start_Here!$C$32","v":0}]
[]
[null,null,"Customer Purchase Order No."]
[null,null,"(please attach copy)"]
[]
[]
[null,null,"Tax Exempt",null,"Yes"]
[null,null,null,null,"No"]
[null,null,"If Yes, attach a copy of your exemption certificate."]
[]
[null,null,"Requested Delivery Date"]
[null,null,{"$f":"Start_Here!$C$28","v":0}]
[]
[null,null,{"$f":"Start_Here!$C$26","v":0},null,{"$f":"Start_Here!$C$27","v":0}]
[null,null,"Authorized Buyer (please print)",null,"Phone Number"]
[]
[]
[null,null,"Authorized Buyer Signature"]
[]
[null,null,{"$f":"Start_Here!$C$41","v":"Rep Name"}]
[null,null,"Tennant Representative"]
[]
["Specialized Maintenance Equipment"]
[{"$f":"Start_Here!$C$48","v":"TENNANT · 10400 Clean Street · Eden Prairie, MN 55344 ·"}]
[{"$f":"Start_Here!$C$49","v":" PHONE:800-553-8033 · FAX:763-513-2116"}]
[]
[]
[null,"SPECIAL INFORMATION"]
[]
[null,1,"Only available on 225 AH wet batteries."]
[]
[null,2,"Configuration Reccomendation Criteria:"]
[null,null,"Standard Configuration -","Panel Filter/Live Wand",null,"Bag Filter/Live Wand"]
[null,null,"Panel Filter/High Air Flow System","(Less High Air Flow System)",null,"(Less High Air Flow System)"]
[null,null,"Most Applications, Particularly:","Light Applications:",null,"Light Applications:"]
[null,null,"Continual Dust Accumulation","Light Dust",null,"Primarily for Carpet"]
[null,null,"Sensitive to Dusting","Less Sensitive to Dust",null,"Applications"]
[null,null,"Medium to Heavy Dust","Want Live Vacuum Wand",null,"Light to No Dust"]
[null,null,"Vacuum Wand Available as an Option",null,null,"HEPA filter Applications"]
[]
[null,3,"Carpet Cleaning Package includes either standard or extended run time batteries (whichever is chosen) and includes "]
[null,null,"Union Mix (Carpet Brush) and Battery Acid Containment Bags."]
[]
[null,4,"When dual side brushes are chosen, it is recommened to use the exteneded run time batteries kit #80131 with this option."]
[]
[null,5,"Recommended for light dust applications only.  Ordering the Live Wand option will reroute the aiflow permanently"]
[null,null,"through a \"live wand\" that is always available to the operator for detailing or edge cleaning.  "]
[null,null,"This will remove the High Air Flow system and will replace it with the Live Vacuum Wand.  No additional charge."]
[]
[null,6,"Vacuum wand to be installed on front cover.  Order only when purchasing the standard machine with the"]
[null,null,"High Air Flow System.  When any of the part numbers 373143 or 373146 are ordered, "]
[null,null,"the Live Vacuum Wand is standard and it is not possible to order this option."]
[null,null,"Kit supplies a hose and wand that is stored onboard and connects for use."]
[]
[null,7,"This will remove the Panel Filter System with the Bag Filter System.  This is recommneded only for carpet applications"]
[null,null,"and very light dust applications."]
[]
[null,8,"Recommended for use with paper filter collector bag or for an additional level of filtration.  "]
[null,null,"This is a \"Custom\" option.   Please keep in mind tht this may require a longer delivery time."]
[]
[null,9,"Wide Trac Pneumatic Tire and Caster Kit is to better equip machines for outdoor use."]
[]
[null,10,"Only Union Mix Brush is available with Carpet Cleaning Equipment Pkg"]
[]
[null,11,"A French and English manual will be supplied for all units shipping into Quebec, Canada at no charge.  An additional manual"]
[null,null,"can be ordered (for a total of 3 manuals) for an additional charge as stated under 'Additional Operator Manual'."]
[]
[null,12,"When ordering extended run time battery part# 80131, you must order charger part# 1029256."]
[]
[null,13,"Shipping Weights and Dimensions","Skid w/Carton"]
[]
[null,null,"Weight (w/ 130AH Battery)","676 lbs / 307 Kg"]
[null,null,"Length","73\" / 1854 mm"]
[null,null,"Width","44\" / 1118 mm"]
[null,null,"Height","52\" / 1321 mm"]

{"sheet":"S16L_Standard_Config","index":19,"n_rows":217,"n_cols":14,"rows_kept":217,"cut":false,"hidden":false,"merged":[[56,2,56,3],[53,2,53,3],[50,2,50,3],[136,3,136,4],[136,5,136,6],[133,3,133,4],[133,5,133,6],[134,3,134,4],[134,5,134,6],[135,3,135,4],[135,5,135,6],[132,3,132,4],[130,3,130,4],[130,5,130,6],[131,3,131,4],[59,2,59,3],[34,1,34,5],[0,2,0,3],[1,2,1,3],[2,2,2,3],[3,2,3,3],[11,2,11,3],[27,1,27,2],[29,1,29,5],[30,1,30,5],[31,1,31,5],[32,1,32,5],[33,1,33,5],[182,2,182,5],[183,2,183,5],[192,4,192,5],[174,0,174,1],[174,2,174,5],[175,2,175,5],[176,0,176,1],[176,2,176,5],[177,0,177,1],[177,2,177,5],[181,2,181,5],[179,4,179,6],[173,0,173,1],[173,2,173,5],[145,1,145,6],[165,4,165,6],[167,0,167,1],[167,2,167,5],[168,0,168,1],[168,2,168,5],[169,2,169,5],[170,0,170,1],[170,2,170,5],[171,0,171,1],[171,2,171,5],[132,5,132,6],[131,5,131,6],[107,3,107,4],[107,5,107,6],[109,3,109,4],[109,5,109,6],[128,3,128,4],[123,4,123,8],[125,3,125,6],[127,3,127,4]]}
["S16L_Standard_Config",null,{"$f":"Start_Here!$C19","v":"Company Name"}]
[{"$f":"SUM(G102)","v":0},null,{"$f":"Start_Here!$C20","v":"Address"}]
[null,null,{"$f":"Start_Here!$C21","v":"City, State Zip"}]
[null,null,{"$f":"Start_Here!$C22","v":"Contact Name"}]
[null,null,{"$f":"Start_Here!$C$41","v":"Rep Name"}]
[null,null,{"$f":"Start_Here!$C$37","v":"Tennant Sales and Service Company"}]
[null,null,{"$f":"Start_Here!$C$38","v":"10400 Clean Street"}]
[null,null,{"$f":"Start_Here!$C$39","v":"Eden Prairie, MN 55344"}]
[null,null,{"$f":"Start_Here!$C$43","v":"800-553-8033"},null,"Quote Date :",null,{"$f":"Letter!$A$25","v":"2020-09-22"}]
[]
[null,null,{"$f":"Help!C2","v":"CAN Date Rev - 9/30/2024"}]
[null,null,"                                      BUILT-IN \"TENNANT VALUE\" INCLUDES:"]
[]
[null,"MaxPro™ Sweeping Technology",null,"Wet Sweeping By-Pass"]
[null,"1-Step™ Control Module",null,"UL-Label (Type E)"]
[null,"46\" (1170mm) Sweep Path",null,"Tool-less Side Panel Removal"]
[null,"No-Tool Brush Change",null,"Soft corner rollers all-around"]
[null,"Multi-stage Air Filtration & Dust Control",null,"Hour Meter"]
[null,null,"Stage 1: Perma-filter™","Battery Discharge Indicator"]
[null,null,"Stage 2: Panel filter","Horn"]
[null,null,"97.0 ft² (9.0 m2) Pleated Media","Cup Holders"]
[null,"Flap and Trap Debris Pedal",null,"Automatic Parking Brake"]
[null,"Retractable Right Hand Side Brush",null,"Yellow Maintenance Touch Points"]
[null,"Thermo-Sentry™ Hopper Fire Sensor",null,"Seat occupancy interlock safety switch"]
[null,"Worn main brush indicator light",null,"Main and right side brush (Standard)"]
[null,"5.3 ft3 (150 L) Hopper Volume Capacity",null,"Onboard Diagnostics"]
[null,"200 lbs (90 kg) Hopper Weight Capacity",null,"Operator and parts manual"]
[null,"Duramer™ Hopper Construction"]
[]
[null,"TENNANT COMPANY WARRANTY"]
[null,"3 YEARS OR 2000 HOURS - PARTS"]
[null,"6 MONTHS - LABOR"]
[null,"6 MONTHS - TRAVEL"]
[null,"10 YEARS ON DURAMERTM HOPPER"]
[null,"CUSTOM Options May Add 1 Week Or More to Standard Lead Times"]
[]
[null,null,null,null,"                Quote Request Information"]
[null,null,null,null,null,null,"Fax (quote only)"]
[null,null,null,null,null,null,"Mail (quote,lit, specs)"]
[null,null,null,null,null,null,"Fax + Mail"]
[]
[null,null,null,null,"                Primary Use"]
[null,null,null,null,null,null,"Inside"]
[null,null,null,null,null,null,"Outside"]
[]
[]
[null,null,"Description","Reference # ","Price Each","Qty","Extended Price"]
[null,"Standard Configurations  (Note 1)",null,null,null,{"$f":"SUM(F50:F59)","v":0}]
[null,null,null,null,null,{"$f":"SUM(F50:F50)","v":0},null,null,null,null,null,{"$f":"SUM(F49)","v":0},"Surcharge Qty"]
[null,null,"S16L Rider - Sweeper, Wet 360AH C/20 Batteries, Off-Board 25A 100-240V AC 50/60Hz 1Ph, UL Type E, Right Hand Side Brush, Standard Seat","S16L-1000",44147,null,{"$f":"F50*E50","v":0},{"$f":"IFERROR(IFERROR(VLOOKUP(D50,Surcharge!A:B,2,FALSE)*F50, VLOOKUP(D50 & \"\",Surcharge!A:B,2,FALSE)*F50), \"\")","v":""}]
[null,null,"Choice of Fire Extinguisher, Overhead Guard, Brushes, Operator Manual, Parts Manual, and Shipment Packaging available.",null,null,{"$f":"SUM(F50)","v":0}]
[null,null,null,null,null,{"$f":"SUM(F53)","v":0}]
[null,null,"S16L Rider - Sweeper, Wet 360AH C/20 Batteries, Smart-Fill Battery Watering System, On-Board 25A 100-240V AC 50/60Hz 1Ph Charger, UL Type E, Right Side Brush, Vacuum Wand, Removable Hopper Bins, AV Bu Alarm w/Strobe on Lintel","S16L-2000",51301,null,{"$f":"F53*E53","v":0},{"$f":"IFERROR(IFERROR(VLOOKUP(D53,Surcharge!A:B,2,FALSE)*F53, VLOOKUP(D53 & \"\",Surcharge!A:B,2,FALSE)*F53), \"\")","v":""}]
[null,null,"Choice of Fire Extinguisher, Overhead Guard, Brushes, Operator Manual, Parts Manual, and Shipment Packaging available.",null,null,{"$f":"SUM(F53)","v":0}]
[null,null,null,null,null,{"$f":"SUM(F56)","v":0}]
[null,null,"S16L Rider - Sweeper, Wet 360AH C/20 Batteries, Smart-Fill Battery Watering System, On-Board 25A 100-240V AC 50/60Hz 1Ph Charger, UL Type E, Carpet Care Package, Right Hand Side Brush, Vacuum Wand, Removable Hopper Bins, Standard Seat, AU BU Alarm w/Strobe on Lintel  (Carpet Care Package includes Natural Fiber Brush)","S16L-2002",52202,null,{"$f":"F56*E56","v":0}]
[null,null,"Choice of Fire Extinguisher, Overhead Guard, Brushes, Operator Manual, Parts Manual, and Shipment Packaging available.",null,null,{"$f":"SUM(F56)","v":0}]
[]
[null,null,"S16L Rider - Sweeper, Wet 360AH C/20 Batteries, Smart-Fill Battery Watering System, On-Board 33A 100-240V AC 50/60Hz 1Ph Charger, UL Type E, Productivity Package, Safety Light Package, Removable Hopper Bins, Deluxe Seat w/Armrest","S16L-3000",55846,null,{"$f":"F59*E59","v":0},{"$f":"IFERROR(IFERROR(VLOOKUP(D59,Surcharge!A:B,2,FALSE)*F59, VLOOKUP(D59 & \"\",Surcharge!A:B,2,FALSE)*F59), \"\")","v":""}]
[null,null,"Choice of Fire Extinguisher, Overhead Guard, Brushes, Operator Manual, Parts Manual, and Shipment Packaging available.",null,null,{"$f":"SUM(F59)","v":0}]
[null,null,null,null," ",null,null,{"$f":"IFERROR(IFERROR(VLOOKUP(D61,Surcharge!A:B,2,FALSE)*F61, VLOOKUP(D61 & \"\",Surcharge!A:B,2,FALSE)*F61), \"\")","v":""}]
[null,"Machine Protection & Safety",null,null,null,{"$f":"SUM(F63:F64)","v":0}]
[null,null,"Overhead Guard",9045052,2288,null,{"$f":"F63*E63","v":0}]
[null,null,"Fire Extinguisher",9045069,475,null,{"$f":"F64*E64","v":0}]
[]
[null,"Brushes",null,"Reference Number"," ",{"$f":"SUM(F67,F74)","v":0},null,{"$f":"IFERROR(IFERROR(VLOOKUP(D66,Surcharge!A:B,2,FALSE)*F66, VLOOKUP(D66 & \"\",Surcharge!A:B,2,FALSE)*F66), \"\")","v":""}]
[null,null,"Main Sweeping Brushes",null," ",{"$f":"SUM(F68:F72)","v":0},null,{"$f":"IFERROR(IFERROR(VLOOKUP(D67,Surcharge!A:B,2,FALSE)*F67, VLOOKUP(D67 & \"\",Surcharge!A:B,2,FALSE)*F67), \"\")","v":""}]
[null,null,"Polypropylene Brush",1240255,"N/C",null,{"$f":"IF(F68=0,\" \",\"N/C\")","v":" "},{"$f":"IFERROR(IFERROR(VLOOKUP(D68,Surcharge!A:B,2,FALSE)*F68, VLOOKUP(D68 & \"\",Surcharge!A:B,2,FALSE)*F68), \"\")","v":""}]
[null,null,"Polypropylene and Wire Brush",1254155,"N/C",null,{"$f":"IF(F69=0,\" \",\"N/C\")","v":" "},{"$f":"IFERROR(IFERROR(VLOOKUP(D69,Surcharge!A:B,2,FALSE)*F69, VLOOKUP(D69 & \"\",Surcharge!A:B,2,FALSE)*F69), \"\")","v":""}]
[null,null,"Polypropylene, Window Brush",1239052,318,null,{"$f":"F70*E70","v":0},{"$f":"IFERROR(IFERROR(VLOOKUP(D70,Surcharge!A:B,2,FALSE)*F70, VLOOKUP(D70 & \"\",Surcharge!A:B,2,FALSE)*F70), \"\")","v":""}]
[null,null,"Sand Wedge Brush",1239051,318,null,{"$f":"F71*E71","v":0},{"$f":"IFERROR(IFERROR(VLOOKUP(D71,Surcharge!A:B,2,FALSE)*F71, VLOOKUP(D71 & \"\",Surcharge!A:B,2,FALSE)*F71), \"\")","v":""}]
[null,null,"Natural Fiber Brush",1239050,318,null,{"$f":"F72*E72","v":0},{"$f":"IFERROR(IFERROR(VLOOKUP(D72,Surcharge!A:B,2,FALSE)*F72, VLOOKUP(D72 & \"\",Surcharge!A:B,2,FALSE)*F72), \"\")","v":""}]
[null,null,null,null," ",null,null,{"$f":"IFERROR(IFERROR(VLOOKUP(D73,Surcharge!A:B,2,FALSE)*F73, VLOOKUP(D73 & \"\",Surcharge!A:B,2,FALSE)*F73), \"\")","v":""}]
[null,null,"Side Sweeping Brushes",null," ",{"$f":"SUM(F75)","v":0},null,{"$f":"IFERROR(IFERROR(VLOOKUP(D74,Surcharge!A:B,2,FALSE)*F74, VLOOKUP(D74 & \"\",Surcharge!A:B,2,FALSE)*F74), \"\")","v":""}]
[null,null,"Polypropylene Brush",1225549,"N/C",null,{"$f":"IF(F75=0,\" \",\"N/C\")","v":" "},{"$f":"IFERROR(IFERROR(VLOOKUP(D75,Surcharge!A:B,2,FALSE)*F75, VLOOKUP(D75 & \"\",Surcharge!A:B,2,FALSE)*F75), \"\")","v":""}]
[null,null,null,null,null,null,null,{"$f":"IFERROR(IFERROR(VLOOKUP(D76,Surcharge!A:B,2,FALSE)*F76, VLOOKUP(D76 & \"\",Surcharge!A:B,2,FALSE)*F76), \"\")","v":""}]
[null,"Support  (Note 2)",null,"Reference Number","Price",{"$f":"SUM(F78:F83)","v":0},null,{"$f":"IFERROR(IFERROR(VLOOKUP(D77,Surcharge!A:B,2,FALSE)*F77, VLOOKUP(D77 & \"\",Surcharge!A:B,2,FALSE)*F77), \"\")","v":""}]
[null,null,"Standard Warranty",null,"N/C",null,{"$f":"IF(F78=0,\" \",\"N/C\")","v":" "},{"$f":"IFERROR(IFERROR(VLOOKUP(D78,Surcharge!A:B,2,FALSE)*F78, VLOOKUP(D78 & \"\",Surcharge!A:B,2,FALSE)*F78), \"\")","v":""}]
[null,null,"Ultimate Performance Guarantee",null,"N/C",null," ",{"$f":"IFERROR(IFERROR(VLOOKUP(D79,Surcharge!A:B,2,FALSE)*F79, VLOOKUP(D79 & \"\",Surcharge!A:B,2,FALSE)*F79), \"\")","v":""}]
[null,null,"Operator Manual (English)",9045321,"N/C",null," ",{"$f":"IFERROR(IFERROR(VLOOKUP(D80,Surcharge!A:B,2,FALSE)*F80, VLOOKUP(D80 & \"\",Surcharge!A:B,2,FALSE)*F80), \"\")","v":""}]
[null,null,"Operator Manual (Spanish)",9045322,"N/C",null," ",{"$f":"IFERROR(IFERROR(VLOOKUP(D81,Surcharge!A:B,2,FALSE)*F81, VLOOKUP(D81 & \"\",Surcharge!A:B,2,FALSE)*F81), \"\")","v":""}]
[null,null,"Operator Manual (French)  (Note 3)",9045323,"N/C",null," ",{"$f":"IFERROR(IFERROR(VLOOKUP(D82,Surcharge!A:B,2,FALSE)*F82, VLOOKUP(D82 & \"\",Surcharge!A:B,2,FALSE)*F82), \"\")","v":""}]
[null,null,"Parts Manual",9045325,"N/C",null," ",{"$f":"IFERROR(IFERROR(VLOOKUP(D83,Surcharge!A:B,2,FALSE)*F83, VLOOKUP(D83 & \"\",Surcharge!A:B,2,FALSE)*F83), \"\")","v":""}]
[]
[null,null,"Packaging",null,null,{"$f":"SUM(F86:F87)","v":0}]
[null,null,"Skid w/Carton, Non-Stackable",9045304,"N/C",null,{"$f":"IF(F86=0,\" \",\"N/C\")","v":" "}]
[null,null,"Skid",9045305,645,null,{"$f":"F87*E87","v":0}]
[null,null,null,null,null,"  "]
[null,null,null,null,{"$f":"ROUND(SUM(G50:G88), 0)","v":0},{"$f":"SUM(E90)","v":0}]
[null,null,null,"Machine Subtotal ",{"$f":"ROUND(SUM(G50:G88), 0)","v":0},{"$f":"F89","v":0}]
[null,"Discounts",null,null,null,{"$f":"SUM(F92)","v":0}]
[null,null,null,null,null,{"$f":"SUM(F94:F95)","v":0}]
[null,null,null,"Applicable Currency Adj %",null,{"$f":"IF(E93 <> \"\", 1, 0)","v":0},{"$f":"IF(F93*(E93*0.01)*E89 < 0, F93*(E93*0.01)*E89, -(F93*(E93*0.01)*E89))","v":0}]
[null,null,null,"Discount %",null,{"$f":"IF(E94 <> \"\", 1, 0)","v":0},{"$f":"IF(F94*(E94*0.01)*(E89+G93) < 0, F94*(E94*0.01)*(E89+G93), -(F94*(E94*0.01)*(E89+G93)))","v":0}]
[null,null,null,"Discount $",null,{"$f":"IF(E95 <> \"\", 1, 0)","v":0},{"$f":"IF(F95*E95 < 0, F95*E95, -(F95*E95))","v":0}]
[null,null,null,"Discount Total ",{"$f":"SUM(G93:G95)","v":0},{"$f":"SUM(E96)","v":0}]
[null,null,null,null,null,{"$f":"#REF!","v":{"$error":"#REF!"}}]
[null,null,null,null,null,{"$f":"F97","v":{"$error":"#REF!"}}]
[null,null,"Prepaid and Add","Freight",null,{"$f":"IF(E99 <> \"\", 1, 0)","v":0},{"$f":"F99*E99","v":0}]
[null,null,"Subject to all applicable taxes","Tax",null,{"$f":"IF(E100 <> \"\", 1, 0)","v":0},{"$f":"F100*E100","v":0}]
[null,null,null,null,null,{"$f":"SUM(F102)","v":0}]
[null,null,null,"MACHINE TOTAL*",null,{"$f":"SUM(G102)","v":0},{"$f":"SUM(G50:G100)","v":0},null,null,null,null,null,null,"This goes to \"My Documents\""]
[null,null,null,null,null,null,{"$f":"SUM(G102)","v":0}]
[]
[]
[]
[]
[null,null,"First Western Equipment Finance - Leasing Calculation Option:","Option 1",null,"Option 2",null,null,null,{"$f":"Financing!A38","v":"Rates 2023 - Rev 10/10/2023"}]
[null,null,null,"Monthly Payment","Cost Per Day","Monthly Payment","Cost Per Day",null,null,{"$f":"Financing!A39","v":"“Blank Payment Amounts Indicate The Financing Option Or Purchase Options Selected Are Not "}]
[null,null,"Purchase Option:","FWEF:  $1 Buyout Lease",null,"FWEF: Municipal Lease",null,null,null,{"$f":"Financing!A40","v":"Applicable Or The Machine Total Is Below The Minimum Amount For The Selected Vendor”"}]
[null,null,"24 Months",false,0,false,0,null,null,{"$f":"Financing!A41","v":"\"Quoted monthly payments are estimates only and are based on a certain level of credit rating."}]
[null,null,"30 Months",false,0,false,0,null,null,{"$f":"Financing!A42","v":"Actual monthly payments may be higher depending on your credit rating.\""}]
[null,null,"36 Months",false,0,false,0,null,null,{"$f":"Financing!A43","v":"“Financing rates do not include Pre-Paid Service”"}]
[null,null,"48 Months",0,0,0,0,null,{"$f":"Financing!A44","v":0}]
[]
[null,null,null,"Benefits of Equipment Financing:"]
[null,null,null,"• Spreads out investment over time.",null,"• Keep current with latest technology."]
[null,null,null,"• Preserve capital.",null,"• Service and parts bundling available."]
[null,null,null,"• Low monthly payment.",null,"• Pay for labor savings as you go."]
[]
[]
[null,"  TennantTrue",null,0,0]
[]
[null,null,"Is customer interested in service program?","Yes","*State/County selection required for TennantTrue service options"]
[]
[null,null,"If not, why?"]
[]
[null,null,"Term:",36,null,null,"AB Brushes","No"]
[null,null,"Monthly machine usage (hrs):","< 30/mo. (Avg. 1hr./day)"]
[]
[null,null,"TennantTrue: ","Gold Contract",null,"Silver Contract"]
[null,null,"Per Visit",null,null,460]
[null,null,"Monthly",202,null,96]
[null,null,"Annually",null,null,1126]
[null,null,"Pre-Pay Full Term",6990,null,3311]
[null,null,"Hourly Labor Rate"]
[null,null,"Site Visit"]
[]
[null,null,"* Verify customer current pricing prior to quote. "]
[null,null,"**All rates and fees above reflect service for one (1) unit with the exception of Block of Time service."]
[null,null,"*Block of Time is available in 1 Year Term only and is priced as such no matter the term selection on this template."]
[]
[]
[]
[null,"Quote Special Instructions:"]
[]
[]
[null,{"$f":"Start_Here!E36","v":"Terms and Conditions"}]
[null,{"$f":"Start_Here!E37","v":"Ask your local sales rep for estimated lead times. Verify when placing order"}]
[null,{"$f":"Start_Here!E38","v":"All orders subject to acceptance by Tennant Sales and Service Company, Minneapolis, Minnesota"}]
[null,{"$f":"Start_Here!E39","v":"Prices subject to change without notice. Subject to any applicable taxes."}]
[null,{"$f":"Start_Here!E40","v":"Terms:  Net 30 days.  Payable in Canadian Funds"}]
[null,{"$f":"Start_Here!E41","v":"Freight:  Accessories, parts, supplies, detergents, and floor coatings orders delivered DDP "}]
[null,{"$f":"Start_Here!E42","v":"shipping point Frt PPD.  Machine orders delivered DDP shipping point Frt PPD and add."}]
[null,{"$f":"Start_Here!E43","v":"Returned Merchandise is subject to a restocking fee."}]
[null,{"$f":"Start_Here!E44","v":"All orders are subject to Tennant’s General Terms and Conditions available at http://www.tennantco.com/terms."}]
[null,{"$f":"Start_Here!E45","v":"Printed General Terms and Conditions are also available upon request."}]
[null,{"$f":"Start_Here!E46","v":0}]
[]
[null,null,null,null,"Quote Date :",null,{"$f":"Letter!$A$25","v":"2020-09-22"}]
[null,"Order Placement Information:  To place your order, fill in PO# and customer signatures,"]
[null,"call or fax to the numbers listed below. Customer Purchase Order is required."]
[null,"If information is missing, orders will be entered and held until all information is received."]
[]
[null,null,"Customer Number",null,"Cust Grp 3"]
[null,null,{"$f":"Start_Here!$C$25","v":0},null,{"$f":"Start_Here!$C$29","v":0}]
[null,null,{"$f":"Start_Here!$B$18","v":"Who Owns the Machine? (Sold-To Info) (Please Verify)"}]
["Company",null,{"$f":"Start_Here!$C$19","v":"Company Name"}]
["Address",null,{"$f":"Start_Here!$C$20","v":"Address"}]
[null,null,{"$f":"Start_Here!$C$21","v":"City, State Zip"}]
["Name",null,{"$f":"Start_Here!$C$22","v":"Contact Name"}]
["Phone",null,{"$f":"Start_Here!$C$23","v":"Contact Phone"}]
[null,null,{"$f":"Start_Here!$B$11","v":"Where is the Machine Being Shipped? (Ship-To Info) (Please Verify)"}]
["Company",null,{"$f":"Start_Here!$C$12","v":"Company Name"}]
["Address",null,{"$f":"Start_Here!$C$13","v":"Address"}]
[null,null,{"$f":"Start_Here!$C$14","v":"City, State Zip"}]
["Name",null,{"$f":"Start_Here!$C$15","v":"Contact Name"}]
["Phone",null,{"$f":"Start_Here!$C$16","v":"Contact Phone"}]
[null,null,{"$f":"Start_Here!$B$31","v":"Shipping / Carrier Instructions:"},null,"Order Special Instructions:"]
[null,null,{"$f":"Start_Here!$C$32","v":0}]
[]
[null,null,"Customer Purchase Order No."]
[null,null,"(please attach copy)"]
[]
[]
[null,null,"Tax Exempt",null,"Yes"]
[null,null,null,null,"No"]
[null,null,"If Yes, attach a copy of your exemption certificate."]
[]
[null,null,"Requested Delivery Date"]
[null,null,{"$f":"Start_Here!$C$28","v":0}]
[]
[null,null,{"$f":"Start_Here!$C$26","v":0},null,{"$f":"Start_Here!$C$27","v":0}]
[null,null,"Authorized Buyer (please print)",null,"Phone Number"]
[]
[]
[null,null,"Authorized Buyer Signature"]
[]
[null,null,{"$f":"Start_Here!$C$41","v":"Rep Name"}]
[null,null,"Tennant Representative"]
[]
[null,null,null,"Specialized Maintenance Equipment"]
[null,null,{"$f":"Start_Here!$C$48","v":"TENNANT · 10400 Clean Street · Eden Prairie, MN 55344 ·"}]
[null,null,null,{"$f":"Start_Here!$C$49","v":" PHONE:800-553-8033 · FAX:763-513-2116"}]
[]
[]
[null,"SPECIAL INFORMATION"]
[]
[null,"Notes"]
[]
[null,1,"Standard Configurations are set configurations as listed and cannot be altered."]
[null,null,"However, these are partial configurations which require the selection of Fire Extinguisher, Overhead Guard,"]
[null,null,"Brushes, Operator Manuals, Service Manual, and Shipment Packaging.  Except where otherwise noted."]
[]
[null,2,"Additional hard copy Operator and Parts Manuals can be ordered or digital copies can be downloaded from www.Tennantco.com."]
[]
[null,3,"A French and English manual will be supplied for all units shipping into Quebec, Canada at no charge. "]

{"sheet":"6100","index":20,"n_rows":318,"n_cols":17,"rows_kept":318,"cut":false,"hidden":false,"merged":[[177,5,177,6],[178,3,178,4],[178,5,178,6],[166,4,166,8],[170,3,170,4],[173,3,173,4],[173,5,173,6],[174,3,174,4],[174,5,174,6],[177,3,177,4],[150,3,150,4],[150,5,150,6],[152,3,152,4],[152,5,152,6],[171,3,171,4],[168,3,168,6],[0,2,0,3],[1,2,1,3],[2,2,2,3],[3,2,3,3],[33,1,33,5],[11,2,11,3],[29,1,29,5],[30,1,30,5],[31,1,31,5],[32,1,32,5],[34,1,34,5],[175,3,175,4],[175,5,175,6],[176,3,176,4],[213,0,213,1],[212,2,212,5],[210,0,210,1],[211,0,211,1],[213,2,213,5],[211,2,211,5],[188,1,188,6],[208,4,208,6],[210,2,210,5],[179,3,179,4],[179,5,179,6],[176,5,176,6],[235,4,235,5],[220,0,220,1],[220,2,220,5],[214,0,214,1],[214,2,214,5],[218,2,218,5],[217,0,217,1],[219,0,219,1],[219,2,219,5],[217,2,217,5],[226,2,226,5],[222,4,222,6],[224,2,224,5],[225,2,225,5],[216,0,216,1],[216,2,216,5]]}
[6100,null,{"$f":"Start_Here!$C19","v":"Company Name"}]
[{"$f":"SUM(G145)","v":0},null,{"$f":"Start_Here!$C20","v":"Address"}]
[null,null,{"$f":"Start_Here!$C21","v":"City, State Zip"}]
[null,null,{"$f":"Start_Here!$C22","v":"Contact Name"}]
[null,null,{"$f":"Start_Here!$C$41","v":"Rep Name"}]
[null,null,{"$f":"Start_Here!$C$37","v":"Tennant Sales and Service Company"}]
[null,null,{"$f":"Start_Here!$C$38","v":"10400 Clean Street"}]
[null,null,{"$f":"Start_Here!$C$39","v":"Eden Prairie, MN 55344"}]
[null,null,{"$f":"Start_Here!$C$43","v":"800-553-8033"},null,"Quote Date :",null,{"$f":"Letter!$A$25","v":"2020-09-22"}]
[]
[null,null,{"$f":"Help!C2","v":"CAN Date Rev - 9/30/2024"}]
[null,null,"                                      BUILT-IN \"TENNANT VALUE\" INCLUDES:"]
[]
[null,"Glide-In/Out Wheeled Hopper",null,"Panel Filter with VCS® System"]
[null,"Color-Coded Wiring",null,"Low Effort Steering"]
[null,"Corrosion-Proof Hopper & Shrouds",null,"Cup Holder"]
[null,"Corner Rollers All-Around",null,"360o Visibility"]
[null,"Removable Side Panels",null,"Self Adjusting Recirculation Skirt"]
[null,"High Visibility Operation Decals",null,"High Flow Radial Discharge Fan"]
[null,"Auto-On Side Brush",null,"36\" Doorway Pass-Through Clearance"]
[null,"WipeCleanTM Polyethylene Shrouds",null,"Wet 225AH C/20"]
[null,"Retractable Sidebrush Assembly",null,"21A 85-265V AC 50/60Hz 1Ph Charger"]
[null,"Hour Meter",null,"Large Built-In Utility Tray"]
[null,"Standard Main Sweeping Brush (Select One)",null,"Battery Discharge Indicator"]
[null,"Standard Side Sweeping Brush (Select One)",null,"Power Shutdown Switch"]
[null,"InstantAccessTM Filter",null,"Heavy-Duty Motor Controller (p/n 83187)"]
[null,"No-Tool Brush & Filter Change"]
[]
[]
[null,"TENNANT COMPANY WARRANTY"]
[null,"2 YEARS OR 1000 HOURS - PARTS"]
[null,"6 MONTHS - LABOR"]
[null,"6 MONTHS - TRAVEL"]
[null,"10 YEARS ON DURAMERTM HOPPER"]
[null,"CUSTOM Options May Add 1 Week Or More to Standard Lead Times"]
[]
[null,null,null,null,"                Quote Request Information"]
[null,null,null,null,null,null,"Fax (quote only)"]
[null,null,null,null,null,null,"Mail (quote,lit, specs)"]
[null,null,null,null,null,null,"Fax + Mail"]
[]
[null,null,null,null,"                Primary Use"]
[null,null,null,null,null,null,"Inside"]
[null,null,null,null,null,null,"Outside"]
[]
[]
[null,null,"Description","Reference # ","Price Each","Qty","Extended Price"]
[null,"Base Configuration",null,null,null,{"$f":"SUM(F49,F52,F59,F66)","v":0}]
[null,null,"Cleaning Type",null,null,{"$f":"SUM(F50:F50)","v":0},null,null,null,null,null,{"$f":"SUM(F49)","v":0},"Surcharge Qty"]
[null,null,"6100 Battery Rider Sweeper","6100-B",30732,null,{"$f":"F50*E50","v":0},{"$f":"IFERROR(IFERROR(VLOOKUP(D50,Surcharge!A:B,2,FALSE)*F50, VLOOKUP(D50 & \"\",Surcharge!A:B,2,FALSE)*F50), \"\")","v":0},null,null,null,null,null,null,null,{"$f":"VLOOKUP(Q50,'MPF SAP Download Canada'!$A:$D,4,FALSE)","v":30732},"M-6100VK_BASE_6100-BTY"]
[null,null,null,null,null,null,null,{"$f":"IFERROR(IFERROR(VLOOKUP(D51,Surcharge!A:B,2,FALSE)*F51, VLOOKUP(D51 & \"\",Surcharge!A:B,2,FALSE)*F51), \"\")","v":""}]
[null,null,"Battery Type  (Note 1 and 2)",null,null,{"$f":"SUM(F53:F57)","v":0},null,{"$f":"IFERROR(IFERROR(VLOOKUP(D52,Surcharge!A:B,2,FALSE)*F52, VLOOKUP(D52 & \"\",Surcharge!A:B,2,FALSE)*F52), \"\")","v":""}]
[null,null,"Wet 225 AH C/20  (Kit of 6 batteries)",81698,"N/C",null,{"$f":"IF(F53=0,\" \",\"N/C\")","v":" "},{"$f":"IFERROR(IFERROR(VLOOKUP(D53,Surcharge!A:B,2,FALSE)*F53, VLOOKUP(D53 & \"\",Surcharge!A:B,2,FALSE)*F53), \"\")","v":""},null,null,null,null,null,null,null,{"$f":"VLOOKUP(Q53,'MPF SAP Download Canada'!$A:$D,4,FALSE)","v":"N/C"},"M-6100VK_BTY_W225C20"]
[null,null,"Sealed/MF Gel 180AH C/20  (Kit of 6 batteries)",324448,3601,null,{"$f":"F54*E54","v":0},{"$f":"IFERROR(IFERROR(VLOOKUP(D54,Surcharge!A:B,2,FALSE)*F54, VLOOKUP(D54 & \"\",Surcharge!A:B,2,FALSE)*F54), \"\")","v":""},null,null,null,null,null,null,null,{"$f":"VLOOKUP(Q54,'MPF SAP Download Canada'!$A:$D,4,FALSE)","v":3601},"M-6100VK_BTY_G180C20"]
[null,null,"Less Battery, DEDUCT","LESS BATTERY",-695,null,{"$f":"F55*E55","v":0},{"$f":"IFERROR(IFERROR(VLOOKUP(D55,Surcharge!A:B,2,FALSE)*F55, VLOOKUP(D55 & \"\",Surcharge!A:B,2,FALSE)*F55), \"\")","v":""},null,null,null,null,null,null,null,{"$f":"VLOOKUP(Q55,'MPF SAP Download Canada'!$A:$D,4,FALSE)","v":-695},"M-6100VK_BTY_WO"]
[null,null,null,null," ",null,null,{"$f":"IFERROR(IFERROR(VLOOKUP(D56,Surcharge!A:B,2,FALSE)*F56, VLOOKUP(D56 & \"\",Surcharge!A:B,2,FALSE)*F56), \"\")","v":""}]
[null,null,"Manual Battery Watering Kit",9009620,1074,null,{"$f":"F57*E57","v":0},{"$f":"IFERROR(IFERROR(VLOOKUP(D57,Surcharge!A:B,2,FALSE)*F57, VLOOKUP(D57 & \"\",Surcharge!A:B,2,FALSE)*F57), \"\")","v":""},null,null,null,null,null,null,null,{"$f":"VLOOKUP(Q57,'MPF SAP Download Canada'!$A:$D,4,FALSE)","v":1074},"M-6100VK_BTYWTRSYS"]
[null,null,null,null," ",null,null,{"$f":"IFERROR(IFERROR(VLOOKUP(D58,Surcharge!A:B,2,FALSE)*F58, VLOOKUP(D58 & \"\",Surcharge!A:B,2,FALSE)*F58), \"\")","v":""}]
[null,null,"Charger","Reference Number",null,{"$f":"SUM(F60:F64)","v":0},null,{"$f":"IFERROR(IFERROR(VLOOKUP(D59,Surcharge!A:B,2,FALSE)*F59, VLOOKUP(D59 & \"\",Surcharge!A:B,2,FALSE)*F59), \"\")","v":""}]
[null,null,"21A 85-265V AC 50/60Hz 1Ph - Off Board for Wet 225AH Battery",9003372,"N/C",null,{"$f":"IF(F60=0,\" \",\"N/C\")","v":" "},{"$f":"IFERROR(IFERROR(VLOOKUP(D60,Surcharge!A:B,2,FALSE)*F60, VLOOKUP(D60 & \"\",Surcharge!A:B,2,FALSE)*F60), \"\")","v":""},null,null,null,null,null,null,null,null,"M-6100"]
[null,null,"21A 85-265V AC 50/60Hz 1Ph - Off Board for Gel 180AH Battery",314567,610,null,{"$f":"F61*E61","v":0},{"$f":"IFERROR(IFERROR(VLOOKUP(D61,Surcharge!A:B,2,FALSE)*F61, VLOOKUP(D61 & \"\",Surcharge!A:B,2,FALSE)*F61), \"\")","v":""},null,null,null,null,null,null,null,{"$f":"VLOOKUP(Q61,'MPF SAP Download Canada'!$A:$D,4,FALSE)","v":610},"M-6100VK_21A85V5060H1P_G180"]
[null,null,"21A 85-265V AC 50/60Hz 1Ph - On Board for Wet 225AH Battery",326246,2803,null,{"$f":"F62*E62","v":0},{"$f":"IFERROR(IFERROR(VLOOKUP(D62,Surcharge!A:B,2,FALSE)*F62, VLOOKUP(D62 & \"\",Surcharge!A:B,2,FALSE)*F62), \"\")","v":""},null,null,null,null,null,null,null,{"$f":"VLOOKUP(Q62,'MPF SAP Download Canada'!$A:$D,4,FALSE)","v":2803},"M-6100VK_21A85V5060H1P_W225_ON"]
[null,null,"21A 85-265V AC 50/60Hz 1Ph - On Board for Gel 180AH Battery",325736,2482,null,{"$f":"F63*E63","v":0},null,null,null,null,null,null,null,null,{"$f":"VLOOKUP(Q63,'MPF SAP Download Canada'!$A:$D,4,FALSE)","v":2482},"M-6100VK_21A85V5060H1P_G180_ON"]
[null,null,"Less Charger, DEDUCT","LESS CHARGER",-450,null,{"$f":"F64*E64","v":0},{"$f":"IFERROR(IFERROR(VLOOKUP(D64,Surcharge!A:B,2,FALSE)*F64, VLOOKUP(D64 & \"\",Surcharge!A:B,2,FALSE)*F64), \"\")","v":""},null,null,null,null,null,null,null,{"$f":"VLOOKUP(Q64,'MPF SAP Download Canada'!$A:$D,4,FALSE)","v":-450},"M-6100VK_CHG_WO"]
[null,null,null,null," ",null,null,{"$f":"IFERROR(IFERROR(VLOOKUP(D65,Surcharge!A:B,2,FALSE)*F65, VLOOKUP(D65 & \"\",Surcharge!A:B,2,FALSE)*F65), \"\")","v":""}]
[null,null,"UL Rating ",null," ",{"$f":"SUM(F67:F67)","v":0},null,{"$f":"IFERROR(IFERROR(VLOOKUP(D66,Surcharge!A:B,2,FALSE)*F66, VLOOKUP(D66 & \"\",Surcharge!A:B,2,FALSE)*F66), \"\")","v":""}]
[null,null,"UL® Type E",null,"N/C",null,{"$f":"IF(F67=0,\" \",\"N/C\")","v":" "},{"$f":"IFERROR(IFERROR(VLOOKUP(D67,Surcharge!A:B,2,FALSE)*F67, VLOOKUP(D67 & \"\",Surcharge!A:B,2,FALSE)*F67), \"\")","v":""},null,null,null,null,null,null,null,null,"M-6100"]
[null,null,null,null," ",null,null,{"$f":"IFERROR(IFERROR(VLOOKUP(D68,Surcharge!A:B,2,FALSE)*F68, VLOOKUP(D68 & \"\",Surcharge!A:B,2,FALSE)*F68), \"\")","v":""}]
[null,"Packages",null,null," ",{"$f":"SUM(F70:F72)","v":0},null,{"$f":"IFERROR(IFERROR(VLOOKUP(D69,Surcharge!A:B,2,FALSE)*F69, VLOOKUP(D69 & \"\",Surcharge!A:B,2,FALSE)*F69), \"\")","v":""}]
[null,null,"HEPA Dust Filter Package - Right Hand Side Brush (Note 3)","HDR-6100",9896,null,{"$f":"F70*E70","v":0},{"$f":"IFERROR(IFERROR(VLOOKUP(D70,Surcharge!A:B,2,FALSE)*F70, VLOOKUP(D70 & \"\",Surcharge!A:B,2,FALSE)*F70), \"\")","v":""},null,null,null,null,null,null,null,{"$f":"VLOOKUP(Q70,'MPF SAP Download Canada'!$A:$D,4,FALSE)","v":9896},"M-6100VK_SLADSTFLTPKG_RH"]
[null,null,"Dry Dust Control (RH), HEPA Filter System",null," ",{"$f":"SUM(F70)","v":0},null,{"$f":"IFERROR(IFERROR(VLOOKUP(D71,Surcharge!A:B,2,FALSE)*F71, VLOOKUP(D71 & \"\",Surcharge!A:B,2,FALSE)*F71), \"\")","v":""}]
[null,null,"HEPA Dust Filter Package - Dual Side Brush (Note 3)","HDD-6100",10736,null,{"$f":"F72*E72","v":0},{"$f":"IFERROR(IFERROR(VLOOKUP(D72,Surcharge!A:B,2,FALSE)*F72, VLOOKUP(D72 & \"\",Surcharge!A:B,2,FALSE)*F72), \"\")","v":""},null,null,null,null,null,null,null,{"$f":"VLOOKUP(Q72,'MPF SAP Download Canada'!$A:$D,4,FALSE)","v":10736},"M-6100VK_SLADSTFLTPKG_D"]
[null,null,"Dry Dust Control (Dual), HEPA Filter System",null," ",{"$f":"SUM(F72)","v":0},null,{"$f":"IFERROR(IFERROR(VLOOKUP(D73,Surcharge!A:B,2,FALSE)*F73, VLOOKUP(D73 & \"\",Surcharge!A:B,2,FALSE)*F73), \"\")","v":""}]
[null,null,null,null," ",null,null,{"$f":"IFERROR(IFERROR(VLOOKUP(D74,Surcharge!A:B,2,FALSE)*F74, VLOOKUP(D74 & \"\",Surcharge!A:B,2,FALSE)*F74), \"\")","v":""}]
[null,"Cleaning Performance",null,"Reference Number"," ",{"$f":"SUM(F76:F83)","v":0},null,{"$f":"IFERROR(IFERROR(VLOOKUP(D75,Surcharge!A:B,2,FALSE)*F75, VLOOKUP(D75 & \"\",Surcharge!A:B,2,FALSE)*F75), \"\")","v":""}]
[null,null,"Dual Sweeping Side Brush  (Note 4)",83228,1519,null,{"$f":"F76*E76","v":0},{"$f":"IFERROR(IFERROR(VLOOKUP(D76,Surcharge!A:B,2,FALSE)*F76, VLOOKUP(D76 & \"\",Surcharge!A:B,2,FALSE)*F76), \"\")","v":""},null,null,null,null,null,null,null,{"$f":"VLOOKUP(Q76,'MPF SAP Download Canada'!$A:$D,4,FALSE)","v":1519},"M-6100VK_SDEBRSLOC_D"]
[null,null,"Side Brush Dust Control, Dry, Right Hand",326579,1585,null,0,{"$f":"IFERROR(IFERROR(VLOOKUP(D77,Surcharge!A:B,2,FALSE)*F77, VLOOKUP(D77 & \"\",Surcharge!A:B,2,FALSE)*F77), \"\")","v":""},null,null,null,null,null,null,null,{"$f":"VLOOKUP(Q77,'MPF SAP Download Canada'!$A:$D,4,FALSE)","v":1585},"M-6100VK_SDEBRSDSTCTL_D_RH"]
[null,null,"Side Brush Dust Control, Dry, Dual",326593,2424,null,0,{"$f":"IFERROR(IFERROR(VLOOKUP(D78,Surcharge!A:B,2,FALSE)*F78, VLOOKUP(D78 & \"\",Surcharge!A:B,2,FALSE)*F78), \"\")","v":""},null,null,null,null,null,null,null,{"$f":"VLOOKUP(Q78,'MPF SAP Download Canada'!$A:$D,4,FALSE)","v":2424},"M-6100VK_SDEBRSDSTCTL_D_D"]
[null,null,"High Performance Vacuum Wand (dual vacuum motors)  (Note 5)",83230,2967,null,0,{"$f":"IFERROR(IFERROR(VLOOKUP(D79,Surcharge!A:B,2,FALSE)*F79, VLOOKUP(D79 & \"\",Surcharge!A:B,2,FALSE)*F79), \"\")","v":""},null,null,null,null,null,null,null,{"$f":"VLOOKUP(Q79,'MPF SAP Download Canada'!$A:$D,4,FALSE)","v":2967},"M-6100VK_PWRVACWND_VACWNDHP"]
[null,null,"High Performance Vacuum Wand w/On-Board Charger (dual vacuum motors)  (Note 5)","83436 & 326589",6777,null,0,{"$f":"IFERROR(IFERROR(VLOOKUP(D80,Surcharge!A:B,2,FALSE)*F80, VLOOKUP(D80 & \"\",Surcharge!A:B,2,FALSE)*F80), \"\")","v":""},null,null,null,null,null,null,null,{"$f":"VLOOKUP(Q80,'MPF SAP Download Canada'!$A:$D,4,FALSE)","v":6777},"M-6100VK_PWRVACWND_VACWNDHP_ON"]
[null,null,"Vacuum Wand  (Note 5)",83436,2564,null,0,{"$f":"IFERROR(IFERROR(VLOOKUP(D81,Surcharge!A:B,2,FALSE)*F81, VLOOKUP(D81 & \"\",Surcharge!A:B,2,FALSE)*F81), \"\")","v":""},null,null,null,null,null,null,null,{"$f":"VLOOKUP(Q81,'MPF SAP Download Canada'!$A:$D,4,FALSE)","v":2564},"M-6100VK_PWRVACWND_VACWND"]
[null,null,"Vacuum Wand w/On-Board Charger  (Note 5)","83230 & 326589",6377,null,0,{"$f":"IFERROR(IFERROR(VLOOKUP(D82,Surcharge!A:B,2,FALSE)*F82, VLOOKUP(D82 & \"\",Surcharge!A:B,2,FALSE)*F82), \"\")","v":""},null,null,null,null,null,null,null,{"$f":"VLOOKUP(Q82,'MPF SAP Download Canada'!$A:$D,4,FALSE)","v":6377},"M-6100VK_PWRVACWND_VACWND_ON"]
[null,null,"HEPA Filter System  (Note 6)",324539,8318,null,0,{"$f":"IFERROR(IFERROR(VLOOKUP(D83,Surcharge!A:B,2,FALSE)*F83, VLOOKUP(D83 & \"\",Surcharge!A:B,2,FALSE)*F83), \"\")","v":""},null,null,null,null,null,null,null,{"$f":"VLOOKUP(Q83,'MPF SAP Download Canada'!$A:$D,4,FALSE)","v":8318},"M-6100VK_FLRSYS_HEPA"]
[null,null,null,null," ",null,null,{"$f":"IFERROR(IFERROR(VLOOKUP(D84,Surcharge!A:B,2,FALSE)*F84, VLOOKUP(D84 & \"\",Surcharge!A:B,2,FALSE)*F84), \"\")","v":""}]
[null,"Machine Protection & Safety",null,"Reference Number"," ",{"$f":"SUM(F86:F94)","v":0},null,{"$f":"IFERROR(IFERROR(VLOOKUP(D85,Surcharge!A:B,2,FALSE)*F85, VLOOKUP(D85 & \"\",Surcharge!A:B,2,FALSE)*F85), \"\")","v":""}]
[null,null,"Side Bumper GlideByTM Protective Side Molding [Not w/rollout 83357] ",83434,284,null,{"$f":"F86*E86","v":0},{"$f":"IFERROR(IFERROR(VLOOKUP(D86,Surcharge!A:B,2,FALSE)*F86, VLOOKUP(D86 & \"\",Surcharge!A:B,2,FALSE)*F86), \"\")","v":""},null,null,null,null,null,null,null,{"$f":"VLOOKUP(Q86,'MPF SAP Download Canada'!$A:$D,4,FALSE)","v":284},"M-6100VK_SDEBMP"]
[null,null,"Adjustable Seat (front/back)",83193,216,null,0,{"$f":"IFERROR(IFERROR(VLOOKUP(D87,Surcharge!A:B,2,FALSE)*F87, VLOOKUP(D87 & \"\",Surcharge!A:B,2,FALSE)*F87), \"\")","v":""},null,null,null,null,null,null,null,{"$f":"VLOOKUP(Q87,'MPF SAP Download Canada'!$A:$D,4,FALSE)","v":216},"M-6100VK_SET_ADJFB"]
[null,null,"Seat Belt ",83266,220,null,0,{"$f":"IFERROR(IFERROR(VLOOKUP(D88,Surcharge!A:B,2,FALSE)*F88, VLOOKUP(D88 & \"\",Surcharge!A:B,2,FALSE)*F88), \"\")","v":""},null,null,null,null,null,null,null,{"$f":"VLOOKUP(Q88,'MPF SAP Download Canada'!$A:$D,4,FALSE)","v":220},"M-6100VK_SETBLT"]
[null,null,"Rear Tires, Solid, Non-Marking (in lieu of standard)",374178,470,null,0,{"$f":"IFERROR(IFERROR(VLOOKUP(D89,Surcharge!A:B,2,FALSE)*F89, VLOOKUP(D89 & \"\",Surcharge!A:B,2,FALSE)*F89), \"\")","v":""},null,null,null,null,null,null,null,{"$f":"VLOOKUP(Q89,'MPF SAP Download Canada'!$A:$D,4,FALSE)","v":470},"M-6100VK_RERTRE_SNM"]
[null,null,"Audio BU Alarm ","w/o vac wand 384497\nwith vac wand 384498",730,null,0,{"$f":"IFERROR(IFERROR(VLOOKUP(D90,Surcharge!A:B,2,FALSE)*F90, VLOOKUP(D90 & \"\",Surcharge!A:B,2,FALSE)*F90), \"\")","v":""},null,null,null,null,null,null,null,{"$f":"VLOOKUP(Q90,'MPF SAP Download Canada'!$A:$D,4,FALSE)","v":730},"M-6100VK_WRNLGTANDALM_AU"]
[null,null,"AV BU Alarm w/ Strobe Light on Lintel ","w/o vac wand 374350\nwith vac wand 374349",1004,null,0,{"$f":"IFERROR(IFERROR(VLOOKUP(D91,Surcharge!A:B,2,FALSE)*F91, VLOOKUP(D91 & \"\",Surcharge!A:B,2,FALSE)*F91), \"\")","v":""},null,null,null,null,null,null,null,{"$f":"VLOOKUP(Q91,'MPF SAP Download Canada'!$A:$D,4,FALSE)","v":1004},"M-6100VK_WRNLGTANDALM_AUSL"]
[null,null,"Blue Light  (Note 8)",9021424,1434,null,{"$f":"F92*E92","v":0},null,null,null,null,null,null,null,null,{"$f":"VLOOKUP(Q92,'MPF SAP Download Canada'!$A:$D,4,FALSE)","v":1434},"M-6100VK_BLULGT"]
[null,null,"Work Light, Single",83202,550,null,{"$f":"F93*E93","v":0},{"$f":"IFERROR(IFERROR(VLOOKUP(D93,Surcharge!A:B,2,FALSE)*F93, VLOOKUP(D93 & \"\",Surcharge!A:B,2,FALSE)*F93), \"\")","v":""},null,null,null,null,null,null,null,{"$f":"VLOOKUP(Q93,'MPF SAP Download Canada'!$A:$D,4,FALSE)","v":550},"M-6100VK_WRKLGT"]
[null,null,"Fire Extinguisher",83220,298,null,{"$f":"F94*E94","v":0},{"$f":"IFERROR(IFERROR(VLOOKUP(D94,Surcharge!A:B,2,FALSE)*F94, VLOOKUP(D94 & \"\",Surcharge!A:B,2,FALSE)*F94), \"\")","v":""},null,null,null,null,null,null,null,{"$f":"VLOOKUP(Q94,'MPF SAP Download Canada'!$A:$D,4,FALSE)","v":298},"M-6100VK_FREEXT"]
[null,null,null,null," ",null,null,{"$f":"IFERROR(IFERROR(VLOOKUP(D95,Surcharge!A:B,2,FALSE)*F95, VLOOKUP(D95 & \"\",Surcharge!A:B,2,FALSE)*F95), \"\")","v":""}]
[null,"Brushes and Pads",null,"Reference Number"," ",{"$f":"SUM(F97,F103)","v":0},null,{"$f":"IFERROR(IFERROR(VLOOKUP(D96,Surcharge!A:B,2,FALSE)*F96, VLOOKUP(D96 & \"\",Surcharge!A:B,2,FALSE)*F96), \"\")","v":""}]
[null,null,"Main Sweeping Brushes",null," ",{"$f":"SUM(F98:F101)","v":0},null,{"$f":"IFERROR(IFERROR(VLOOKUP(D97,Surcharge!A:B,2,FALSE)*F97, VLOOKUP(D97 & \"\",Surcharge!A:B,2,FALSE)*F97), \"\")","v":""}]
[null,null,"Polypropylene Brush",81888,"N/C",null,{"$f":"IF(F98=0,\" \",\"N/C\")","v":" "},{"$f":"IFERROR(IFERROR(VLOOKUP(D98,Surcharge!A:B,2,FALSE)*F98, VLOOKUP(D98 & \"\",Surcharge!A:B,2,FALSE)*F98), \"\")","v":""},null,null,null,null,null,null,null,{"$f":"VLOOKUP(Q98,'MPF SAP Download Canada'!$A:$D,4,FALSE)","v":"N/C"},"M-6100VK_CLNTOL_PYP"]
[null,null,"Polypropylene, Window Brush",370048,"N/C",null,{"$f":"IF(F99=0,\" \",\"N/C\")","v":" "},{"$f":"IFERROR(IFERROR(VLOOKUP(D99,Surcharge!A:B,2,FALSE)*F99, VLOOKUP(D99 & \"\",Surcharge!A:B,2,FALSE)*F99), \"\")","v":""},null,null,null,null,null,null,null,{"$f":"VLOOKUP(Q99,'MPF SAP Download Canada'!$A:$D,4,FALSE)","v":"N/C"},"M-6100VK_CLNTOL_PYPWIN"]
[null,null,"Union Mix Brush (Note 9)",83031,374,null,{"$f":"F100*E100","v":0},{"$f":"IFERROR(IFERROR(VLOOKUP(D100,Surcharge!A:B,2,FALSE)*F100, VLOOKUP(D100 & \"\",Surcharge!A:B,2,FALSE)*F100), \"\")","v":""},null,null,null,null,null,null,null,{"$f":"VLOOKUP(Q100,'MPF SAP Download Canada'!$A:$D,4,FALSE)","v":374},"M-6100VK_CLNTOL_UMB"]
[null,null,"Polypropylene, Sand Wedge Brush",83030,374,null,{"$f":"F101*E101","v":0},{"$f":"IFERROR(IFERROR(VLOOKUP(D101,Surcharge!A:B,2,FALSE)*F101, VLOOKUP(D101 & \"\",Surcharge!A:B,2,FALSE)*F101), \"\")","v":""},null,null,null,null,null,null,null,{"$f":"VLOOKUP(Q101,'MPF SAP Download Canada'!$A:$D,4,FALSE)","v":374},"M-6100VK_CLNTOL_SWB"]
[null,null,null,null," ",null,null,{"$f":"IFERROR(IFERROR(VLOOKUP(D102,Surcharge!A:B,2,FALSE)*F102, VLOOKUP(D102 & \"\",Surcharge!A:B,2,FALSE)*F102), \"\")","v":""},null,null,null,null,null,null,null,null,""]
[null,null,"Side Sweeping Brushes",null," ",{"$f":"SUM(F104:F105)","v":0},null,{"$f":"IFERROR(IFERROR(VLOOKUP(D103,Surcharge!A:B,2,FALSE)*F103, VLOOKUP(D103 & \"\",Surcharge!A:B,2,FALSE)*F103), \"\")","v":""},null,null,null,null,null,null,null,null,""]
[null,null,"Polypropylene Brush",80042,"N/C",null,{"$f":"IF(F104=0,\" \",\"N/C\")","v":" "},{"$f":"IFERROR(IFERROR(VLOOKUP(D104,Surcharge!A:B,2,FALSE)*F104, VLOOKUP(D104 & \"\",Surcharge!A:B,2,FALSE)*F104), \"\")","v":""},null,null,null,null,null,null,null,{"$f":"VLOOKUP(Q104,'MPF SAP Download Canada'!$A:$D,4,FALSE)","v":"N/C"},"M-6100VK_SDECLNTOL_PYP"]
[null,null,"Heavy Duty Polypropylene Brush",378804,"N/C",null,{"$f":"IF(F105=0,\" \",\"N/C\")","v":" "},{"$f":"IFERROR(IFERROR(VLOOKUP(D105,Surcharge!A:B,2,FALSE)*F105, VLOOKUP(D105 & \"\",Surcharge!A:B,2,FALSE)*F105), \"\")","v":""},null,null,null,null,null,null,null,{"$f":"VLOOKUP(Q105,'MPF SAP Download Canada'!$A:$D,4,FALSE)","v":"N/C"},"M-6100VK_SDECLNTOL_HDPYP"]
[null,null,null,null,null,null,null,{"$f":"IFERROR(IFERROR(VLOOKUP(D106,Surcharge!A:B,2,FALSE)*F106, VLOOKUP(D106 & \"\",Surcharge!A:B,2,FALSE)*F106), \"\")","v":""}]
[null,"Support ",null,"Reference Number"," ",{"$f":"SUM(F108:F118)","v":0},null,{"$f":"IFERROR(IFERROR(VLOOKUP(D107,Surcharge!A:B,2,FALSE)*F107, VLOOKUP(D107 & \"\",Surcharge!A:B,2,FALSE)*F107), \"\")","v":""}]
[null,null,"Standard Warranty",null,"N/C",null,{"$f":"IF(F108=0,\" \",\"N/C\")","v":" "},{"$f":"IFERROR(IFERROR(VLOOKUP(D108,Surcharge!A:B,2,FALSE)*F108, VLOOKUP(D108 & \"\",Surcharge!A:B,2,FALSE)*F108), \"\")","v":""},null,null,null,null,null,null,null,{"$f":"VLOOKUP(Q108,'MPF SAP Download Canada'!$A:$D,4,FALSE)","v":"N/C"},"M-6100VK_WTY_STD"]
[null,null,"Extended Warranty  (Note 10)",42405,3064,null,{"$f":"F109*E109","v":0},{"$f":"IFERROR(IFERROR(VLOOKUP(D109,Surcharge!A:B,2,FALSE)*F109, VLOOKUP(D109 & \"\",Surcharge!A:B,2,FALSE)*F109), \"\")","v":""},null,null,null,null,null,null,null,{"$f":"VLOOKUP(Q109,'MPF SAP Download Canada'!$A:$D,4,FALSE)","v":3064},"M-6100VK_WTY_XTD"]
[null,null,"Ultimate Performance Guarantee",50619,"N/C",null,{"$f":"IF(F110=0,\" \",\"N/C\")","v":" "},{"$f":"IFERROR(IFERROR(VLOOKUP(D110,Surcharge!A:B,2,FALSE)*F110, VLOOKUP(D110 & \"\",Surcharge!A:B,2,FALSE)*F110), \"\")","v":""},null,null,null,null,null,null,null,{"$f":"VLOOKUP(Q110,'MPF SAP Download Canada'!$A:$D,4,FALSE)","v":"N/C"},"M-6100VK_UPG"]
[null,null,"Operator Manual (English)",330250,"N/C",null,{"$f":"IF(F111=0,\" \",\"N/C\")","v":" "},{"$f":"IFERROR(IFERROR(VLOOKUP(D111,Surcharge!A:B,2,FALSE)*F111, VLOOKUP(D111 & \"\",Surcharge!A:B,2,FALSE)*F111), \"\")","v":""},null,null,null,null,null,null,null,{"$f":"VLOOKUP(Q111,'MPF SAP Download Canada'!$A:$D,4,FALSE)","v":{"$error":"#N/A"}},"M-6100"]
[null,null,"Operator Manual (Spanish)",330252,"N/C",null,{"$f":"IF(F112=0,\" \",\"N/C\")","v":" "},{"$f":"IFERROR(IFERROR(VLOOKUP(D112,Surcharge!A:B,2,FALSE)*F112, VLOOKUP(D112 & \"\",Surcharge!A:B,2,FALSE)*F112), \"\")","v":""},null,null,null,null,null,null,null,{"$f":"VLOOKUP(Q112,'MPF SAP Download Canada'!$A:$D,4,FALSE)","v":{"$error":"#N/A"}},"M-6100"]
[null,null,"Operator Manual (French)  (Note 11)",330253,"N/C",null,{"$f":"IF(F113=0,\" \",\"N/C\")","v":" "},{"$f":"IFERROR(IFERROR(VLOOKUP(D113,Surcharge!A:B,2,FALSE)*F113, VLOOKUP(D113 & \"\",Surcharge!A:B,2,FALSE)*F113), \"\")","v":""},null,null,null,null,null,null,null,{"$f":"VLOOKUP(Q113,'MPF SAP Download Canada'!$A:$D,4,FALSE)","v":{"$error":"#N/A"}},"M-6100"]
[null,null,"Additional Operator Manual","SEE ABOVE",264,null,{"$f":"F114*E114","v":0},{"$f":"IFERROR(IFERROR(VLOOKUP(D114,Surcharge!A:B,2,FALSE)*F114, VLOOKUP(D114 & \"\",Surcharge!A:B,2,FALSE)*F114), \"\")","v":""},null,null,null,null,null,null,null,{"$f":"VLOOKUP(Q114,'MPF SAP Download Canada'!$A:$D,4,FALSE)","v":264},"M-6100VK_ADLOPRMNL"]
[null,null,"Parts Manual",9014885,32,null,{"$f":"F115*E115","v":0},{"$f":"IFERROR(IFERROR(VLOOKUP(D115,Surcharge!A:B,2,FALSE)*F115, VLOOKUP(D115 & \"\",Surcharge!A:B,2,FALSE)*F115), \"\")","v":""},null,null,null,null,null,null,null,{"$f":"VLOOKUP(Q115,'MPF SAP Download Canada'!$A:$D,4,FALSE)","v":32},"M-6100VK_PARMNL"]
[null,null,"Service Manual",330255,343,null,{"$f":"F116*E116","v":0},{"$f":"IFERROR(IFERROR(VLOOKUP(D116,Surcharge!A:B,2,FALSE)*F116, VLOOKUP(D116 & \"\",Surcharge!A:B,2,FALSE)*F116), \"\")","v":""},null,null,null,null,null,null,null,{"$f":"VLOOKUP(Q116,'MPF SAP Download Canada'!$A:$D,4,FALSE)","v":343},"M-6100VK_SRVMNL"]
[null,null,null,null," ",null,null,{"$f":"IFERROR(IFERROR(VLOOKUP(D117,Surcharge!A:B,2,FALSE)*F117, VLOOKUP(D117 & \"\",Surcharge!A:B,2,FALSE)*F117), \"\")","v":""},null,null,null,null,null,null,null,null,""]
[null,null,"Packaging  (Note 12)",null," ",{"$f":"SUM(F119:F120)","v":0},null,{"$f":"IFERROR(IFERROR(VLOOKUP(D118,Surcharge!A:B,2,FALSE)*F118, VLOOKUP(D118 & \"\",Surcharge!A:B,2,FALSE)*F118), \"\")","v":""},null,null,null,null,null,null,null,null,""]
[null,null,"Crate",83353,"N/C",null,{"$f":"IF(F119=0,\" \",\"N/C\")","v":" "},{"$f":"IFERROR(IFERROR(VLOOKUP(D119,Surcharge!A:B,2,FALSE)*F119, VLOOKUP(D119 & \"\",Surcharge!A:B,2,FALSE)*F119), \"\")","v":""},null,null,null,null,null,null,null,{"$f":"VLOOKUP(Q119,'MPF SAP Download Canada'!$A:$D,4,FALSE)","v":"N/C"},"M-6100VK_PKG_CRT"]
[null,null,"Non-Stackable Skid",375230,"N/C",null,{"$f":"IF(F120=0,\" \",\"N/C\")","v":" "},{"$f":"IFERROR(IFERROR(VLOOKUP(D120,Surcharge!A:B,2,FALSE)*F120, VLOOKUP(D120 & \"\",Surcharge!A:B,2,FALSE)*F120), \"\")","v":""},null,null,null,null,null,null,null,{"$f":"VLOOKUP(Q120,'MPF SAP Download Canada'!$A:$D,4,FALSE)","v":"N/C"},"M-6100VK_PKG_SKD"]
[null,null,null,null," ",null,null,{"$f":"IFERROR(IFERROR(VLOOKUP(D121,Surcharge!A:B,2,FALSE)*F121, VLOOKUP(D121 & \"\",Surcharge!A:B,2,FALSE)*F121), \"\")","v":""},null,null,null,null,null,null,null,null,""]
[null,"Custom Solutions",null,null," ",{"$f":"SUM(F123:F123)","v":0},null,{"$f":"IFERROR(IFERROR(VLOOKUP(D122,Surcharge!A:B,2,FALSE)*F122, VLOOKUP(D122 & \"\",Surcharge!A:B,2,FALSE)*F122), \"\")","v":""},null,null,null,null,null,null,null,null,""]
[null,null,"Custom Color  (Note 13)",324138,5600,null,{"$f":"F123*E123","v":0},{"$f":"IFERROR(IFERROR(VLOOKUP(D123,Surcharge!A:B,2,FALSE)*F123, VLOOKUP(D123 & \"\",Surcharge!A:B,2,FALSE)*F123), \"\")","v":""},null,null,null,null,null,null,null,{"$f":"VLOOKUP(Q123,'MPF SAP Download Canada'!$A:$D,4,FALSE)","v":5600},"M-6100VK_CSMSLN_CC"]
[]
[null,null,null,null,null,"  "]
[null,"Custom Solution--write in description, qty, price, and PN if applicable",null,null,null,{"$f":"SUM(F127)","v":0}]
[null,null,null,null,"Insert Prices Here",{"$f":"SUM(F128:F131)","v":0}]
[null,null,null,"Custom",null,{"$f":"IF(E128 <> \"\", 1, 0)","v":0},{"$f":"F128*E128","v":0}]
[null,null,null,"Custom",null,{"$f":"IF(E129 <> \"\", 1, 0)","v":0},{"$f":"F129*E129","v":0}]
[null,null,null,"Custom",null,{"$f":"IF(E130 <> \"\", 1, 0)","v":0},{"$f":"F130*E130","v":0}]
[null,null,null,"Custom",null,{"$f":"IF(E131 <> \"\", 1, 0)","v":0},{"$f":"F131*E131","v":0}]
[null,null,null,null,{"$f":"ROUND(SUM(G50:G131), 0)","v":0},{"$f":"SUM(E133)","v":0}]
[null,null,null,"Machine Subtotal ",{"$f":"ROUND(SUM(G50:G131), 0)","v":0},{"$f":"F132","v":0}]
[null,"Discounts",null,null,null,{"$f":"SUM(F135)","v":0}]
[null,null,null,null,null,{"$f":"SUM(F137:F138)","v":0}]
[null,null,null,"Applicable Currency Adj %",null,{"$f":"IF(E136 <> \"\", 1, 0)","v":0},{"$f":"IF(F136*(E136*0.01)*E132 < 0, F136*(E136*0.01)*E132, -(F136*(E136*0.01)*E132))","v":0}]
[null,null,null,"Discount %",null,{"$f":"IF(E137 <> \"\", 1, 0)","v":0},{"$f":"IF(F137*(E137*0.01)*(E132+G136) < 0, F137*(E137*0.01)*(E132+G136), -(F137*(E137*0.01)*(E132+G136)))","v":0}]
[null,null,null,"Discount $",null,{"$f":"IF(E138 <> \"\", 1, 0)","v":0},{"$f":"IF(F138*E138 < 0, F138*E138, -(F138*E138))","v":0}]
[null,null,null,"Discount Total ",{"$f":"SUM(G136:G138)","v":0},{"$f":"SUM(E139)","v":0}]
[null,null,null,null,null,{"$f":"#REF!","v":{"$error":"#REF!"}}]
[null,null,null,null,null,{"$f":"F140","v":{"$error":"#REF!"}}]
[null,null,"Prepaid and Add","Freight",null,{"$f":"IF(E142 <> \"\", 1, 0)","v":0},{"$f":"F142*E142","v":0}]
[null,null,"Subject to all applicable taxes","Tax",null,{"$f":"IF(E143 <> \"\", 1, 0)","v":0},{"$f":"F143*E143","v":0}]
[null,null,null,null,null,{"$f":"SUM(F145)","v":0}]
[null,null,null,"MACHINE TOTAL*",null,{"$f":"SUM(G145)","v":0},{"$f":"SUM(G50:G143)","v":0},null,null,null,null,null,null,"This goes to \"My Documents\""]
[null,null,null,null,null,null,{"$f":"SUM(G145)","v":0}]
[]
[]
[]
[]
[null,null,"First Western Equipment Finance - Leasing Calculation Option:","Option 1",null,"Option 2"]
[null,null,null,"Monthly Payment","Cost Per Day","Monthly Payment","Cost Per Day"]
[null,null,"Purchase Option:","FWEF:  $1 Buyout Lease",null,"FWEF: Municipal Lease"]
[null,null,"24 Months",false,0,false,0]
[null,null,"30 Months",false,0,false,0]
[null,null,"36 Months",false,0,false,0]
[null,null,"48 Months",0,0,0,0]
[]
[null,null,null,"Benefits of Equipment Financing:"]
[null,null,null,"• Spreads out investment over time.",null,"• Keep current with latest technology."]
[null,null,null,"• Preserve capital.",null,"• Service and parts bundling available."]
[null,null,null,"• Low monthly payment.",null,"• Pay for labor savings as you go."]
[]
[]
[null,"  TennantTrue",null,0,0]
[]
[null,null,"Is customer interested in service program?","Yes","*State/County selection required for TennantTrue service options"]
[]
[null,null,"If not, why?"]
[]
[null,null,"Term:",36,null,null,"AB Brushes","No"]
[null,null,"Monthly machine usage (hrs):","< 30/mo. (Avg. 1hr./day)"]
[]
[null,null,"TennantTrue: ","Gold Contract",null,"Silver Contract"]
[null,null,"Per Visit",null,null,460]
[null,null,"Monthly",202,null,96]
[null,null,"Annually",null,null,1126]
[null,null,"Pre-Pay Full Term",6990,null,3311]
[null,null,"Hourly Labor Rate"]
[null,null,"Site Visit"]
[]
[null,null,"* Verify customer current pricing prior to quote. "]
[null,null,"**All rates and fees above reflect service for one (1) unit with the exception of Block of Time service."]
[null,null,"*Block of Time is available in 1 Year Term only and is priced as such no matter the term selection on this template."]
[]
[]
[]
[null,"Quote Special Instructions:"]
[]
[]
[null,{"$f":"Start_Here!E36","v":"Terms and Conditions"}]
[null,{"$f":"Start_Here!E37","v":"Ask your local sales rep for estimated lead times. Verify when placing order"}]
[null,{"$f":"Start_Here!E38","v":"All orders subject to acceptance by Tennant Sales and Service Company, Minneapolis, Minnesota"}]
[null,{"$f":"Start_Here!E39","v":"Prices subject to change without notice. Subject to any applicable taxes."}]
[null,{"$f":"Start_Here!E40","v":"Terms:  Net 30 days.  Payable in Canadian Funds"}]
[null,{"$f":"Start_Here!E41","v":"Freight:  Accessories, parts, supplies, detergents, and floor coatings orders delivered DDP "}]
[null,{"$f":"Start_Here!E42","v":"shipping point Frt PPD.  Machine orders delivered DDP shipping point Frt PPD and add."}]
[null,{"$f":"Start_Here!E43","v":"Returned Merchandise is subject to a restocking fee."}]
[null,{"$f":"Start_Here!E44","v":"All orders are subject to Tennant’s General Terms and Conditions available at http://www.tennantco.com/terms."}]
[null,{"$f":"Start_Here!E45","v":"Printed General Terms and Conditions are also available upon request."}]
[null,{"$f":"Start_Here!E46","v":0}]
[]
[null,null,null,null,"Quote Date :",null,{"$f":"Letter!$A$25","v":"2020-09-22"}]
[null,"Order Placement Information:  To place your order, fill in PO# and customer signatures,"]
[null,"call or fax to the numbers listed below. Customer Purchase Order is required."]
[null,"If information is missing, orders will be entered and held until all information is received."]
[]
[null,null,"Customer Number",null,"Cust Grp 3"]
[null,null,{"$f":"Start_Here!$C$25","v":0},null,{"$f":"Start_Here!$C$29","v":0}]
[null,null,{"$f":"Start_Here!$B$18","v":"Who Owns the Machine? (Sold-To Info) (Please Verify)"}]
["Company",null,{"$f":"Start_Here!$C$19","v":"Company Name"}]
["Address",null,{"$f":"Start_Here!$C$20","v":"Address"}]
[null,null,{"$f":"Start_Here!$C$21","v":"City, State Zip"}]
["Name",null,{"$f":"Start_Here!$C$22","v":"Contact Name"}]
["Phone",null,{"$f":"Start_Here!$C$23","v":"Contact Phone"}]
[null,null,{"$f":"Start_Here!$B$11","v":"Where is the Machine Being Shipped? (Ship-To Info) (Please Verify)"}]
["Company",null,{"$f":"Start_Here!$C$12","v":"Company Name"}]
["Address",null,{"$f":"Start_Here!$C$13","v":"Address"}]
[null,null,{"$f":"Start_Here!$C$14","v":"City, State Zip"}]
["Name",null,{"$f":"Start_Here!$C$15","v":"Contact Name"}]
["Phone",null,{"$f":"Start_Here!$C$16","v":"Contact Phone"}]
[null,null,{"$f":"Start_Here!$B$31","v":"Shipping / Carrier Instructions:"},null,"Order Special Instructions:"]
[null,null,{"$f":"Start_Here!$C$32","v":0}]
[]
[null,null,"Customer Purchase Order No."]
[null,null,"(please attach copy)"]
[]
[]
[null,null,"Tax Exempt",null,"Yes"]
[null,null,null,null,"No"]
[null,null,"If Yes, attach a copy of your exemption certificate."]
[]
[null,null,"Requested Delivery Date"]
[null,null,{"$f":"Start_Here!$C$28","v":0}]
[]
[null,null,{"$f":"Start_Here!$C$26","v":0},null,{"$f":"Start_Here!$C$27","v":0}]
[null,null,"Authorized Buyer (please print)",null,"Phone Number"]
[]
[]
[null,null,"Authorized Buyer Signature"]
[]
[null,null,{"$f":"Start_Here!$C$41","v":"Rep Name"}]
[null,null,"Tennant Representative"]
[]
[null,null,null,"Specialized Maintenance Equipment"]
[null,null,{"$f":"Start_Here!$C$48","v":"TENNANT · 10400 Clean Street · Eden Prairie, MN 55344 ·"}]
[null,null,null,{"$f":"Start_Here!$C$49","v":" PHONE:800-553-8033 · FAX:763-513-2116"}]
[]
[]
[null,"SPECIAL INFORMATION"]
[]
[null,"Notes"]
[]
[null,1,"According to the manufacturer, new batteries do not develop full energy (run time) potential until after a couple months of"]
[null,null,"use.  This \"burn-in\" period is usually 50 charge cycles. "]
[null,null,"Average run times are 3.4 hours for standard and 4.8 hours for heavy duty batteries.  "]
[]
[null,null,"Model 6100 Continuous Runtime Chart (220 AH Battery Package):"]
[null,null,null,"Run Time"]
[null,null,"Sweeping (Main and single side brush)","3.5 hours"]
[null,null,"Sweeping (Main and dual side brush)","3.25 hours"]
[null,null,"The above runtimes are guidelines.  Actual times will vary based on floor conditions, final machine "]
[null,null,"configuration and usage."]
[]
[null,2,"Should the customer wish to use their own battery supplier, they have two options:"]
[null,null,"a.  Buy batteries to fit in our steel case - see below for internal dimensions."]
[null,null,"b.  Buy their own steel case battery (there is no deduction for this) - see below for external dimensions."]
[null,null,null,null,"Width            Height"]
[null,null,"External Dimensions:",null,"22.18 in.         21.24 in"]
[null,null,null,null,"563 mm           539 mm"]
[]
[null,null,"Internal Dimensions:",null,"21.81 in.          20.88 in "]
[null,null,null,null,"554 mm          530 mm"]
[null,null,"An extra steel case can be ordered without batteries; part number 369483."]
[]
[null,null,"Battery compartment is 21.62 in. (550 mm) x 22.24 in. (565 mm) x 14.50 in. (365 mm).  "]
[null,null,"Max weight 480 lbs (220kg)."]
[]
[null,3,"HEPA Dust Filter Package is not available with an On-Board Charger."]
[null,null,"Package is not available with either the Vacuum Wand or the High Performance Vacuum Wand."]
[null,null,"The HEPA Dust Filter Package will ship with 2 extra HEPA filters for a total of 3 filters at the time of delivery."]
[]
[null,4,"Dual Side Brush cannot be equiped on units with the HEPA Dust Filter Package, Right Hand."]
[]
[null,5,"Reach of vacuum wand is 11 feet, comes with a box of 10 vacuum bags (p/n 1067452)."]
[null,null,"Cannot be equiped with the HEPA Dust Filter Package."]
[]
[null,6,"The HEPA Filter System cannot be equiped on units with an On-Board Charger or Vacuum Wand option"]
[null,null,"HEPA Filter System requires Side Brush Dust Control, Dry also be added to the machine."]
[]
[null,7,"The Union Mix Brush is commonly used for Carpet"]
[]
[null,8,"Blue Light is not available with Vacuum Wand or High Performance Vacuum Wand."]
[null,null,"The Blue Light requires either the Audio BU Alarm or The AV BU Alarm w/Strobe Light be installed on the machine."]
[]
[null,9,"The Union Mix Brush is commonly used for Carpet"]
[]
[null,10,"Warranty Plus Extended Warranty includes an additional 18 months trip and labor coverage."]
[]
[null,11,"A French and English manual will be supplied for all units shipping into Quebec, Canada at no charge.  An additional manual"]
[null,null,"can be ordered (for a total of 3 manuals) for an additional charge as stated under 'Additional Operator Manual'."]
[]
[null,12,"Non-Stackable Skid is the default packaging method and will be added to the configuration unless otherwise specified."]
[]
[null,13,"CUSTOM PAINT: Customized painting is limited to metal parts only.  All non-metal components must remain standard TENNANT colors."]
[null,null,"When selling a Custom Color, you will need to confirm that the color falls within the standard colors available from our powder supplier.  "]
[null,null,"Please request a color chart from our Custom Solutions Group and obtain the customer's approval. "]
[null,null,"For pricing and lead time impact information contact our Custom Solutions Group."]
[]
[null,14,"Part numbers beginning with \"CP\" followed by a 6-digit number or a 6-digit number with the first three digits \"324 & 325\" indicate"]
[null,null,"a CUSTOM option.  Please keep in mind that these items may require a longer lead time."]
[]
[null,15,"Shipping Weights and Dimensions",null,"Crate"]
[]
[null,null,"Weight",null,"1300 lbs / 590 Kg"]
[null,null,"Length",null,"80\" / 2032 mm"]
[null,null,"Width",null,"46\" / 1169 mm"]
[null,null,"Height",null,"52\" / 1321 mm"]

{"sheet":"S680","index":21,"n_rows":214,"n_cols":17,"rows_kept":214,"cut":false,"hidden":false,"merged":[[28,1,28,5],[0,2,0,3],[1,2,1,3],[2,2,2,3],[3,2,3,3],[11,2,11,3],[124,3,124,4],[29,1,29,5],[30,1,30,5],[31,1,31,5],[32,1,32,5],[33,1,33,5],[103,3,103,4],[103,5,103,6],[105,3,105,4],[105,5,105,6],[119,4,119,8],[121,3,121,6],[123,3,123,4],[126,3,126,4],[126,5,126,6],[127,3,127,4],[127,5,127,6],[128,3,128,4],[128,5,128,6],[129,3,129,4],[129,5,129,6],[130,3,130,4],[130,5,130,6],[131,3,131,4],[131,5,131,6],[132,3,132,4],[132,5,132,6],[141,1,141,6],[161,4,161,6],[163,0,163,1],[163,2,163,5],[172,0,172,1],[172,2,172,5],[164,0,164,1],[164,2,164,5],[165,2,165,5],[166,0,166,1],[166,2,166,5],[167,0,167,1],[167,2,167,5],[169,0,169,1],[169,2,169,5],[170,0,170,1],[170,2,170,5],[171,2,171,5],[188,4,188,5],[173,0,173,1],[173,2,173,5],[175,4,175,6],[177,2,177,5],[178,2,178,5],[179,2,179,5]]}
["S680",null,{"$f":"Start_Here!$C19","v":"Company Name"}]
[{"$f":"SUM(G98)","v":0},null,{"$f":"Start_Here!$C20","v":"Address"}]
[null,null,{"$f":"Start_Here!$C21","v":"City, State Zip"}]
[null,null,{"$f":"Start_Here!$C22","v":"Contact Name"}]
[null,null,{"$f":"Start_Here!$C$41","v":"Rep Name"}]
[null,null,{"$f":"Start_Here!$C$37","v":"Tennant Sales and Service Company"}]
[null,null,{"$f":"Start_Here!$C$38","v":"10400 Clean Street"}]
[null,null,{"$f":"Start_Here!$C$39","v":"Eden Prairie, MN 55344"}]
[null,null,{"$f":"Start_Here!$C$43","v":"800-553-8033"},null,"Quote Date :",null,{"$f":"Letter!$A$25","v":"2020-09-22"}]
[]
[null,null,{"$f":"Help!C2","v":"CAN Date Rev - 9/30/2024"}]
[null,null,"                                      BUILT-IN \"TENNANT VALUE\" INCLUDES:"]
[]
[null,"42\" (1050 mm) Sweep Path",null,"Horn"]
[null,"2.5 ft3 / 70L Low-Dump Hopper Volume Capacity",null,"Low Effort Steering"]
[null,"Corrosion-Proof Hopper & Shrouds",null,"Adjustable Side Brush RPM"]
[null,"Front Corner Rollers",null,"360o Visibility"]
[null,"Flap and Trap Debris Pedal",null,"Self-Leveling Main Brush"]
[null,"High Visibility Operation Decals",null,"Amber Strobe Light"]
[null,"Glide-In/Out Wheeled Hopper",null,"Thermo-Sentry™ Hopper Fire Sensor"]
[null,"Retractable Side Brush Assemblies",null,"Wet 225AH C/20 Batteries"]
[null,"Hour Meter",null,"27A 85-270V AC 50/60Hz 1Ph Charger"]
[null,"Standard Main Sweeping Brush (Select One)",null,"Battery Discharge Indicator"]
[null,"Standard Dual Side Sweeping Brushes",null,"Power Shutdown Switch"]
[null,"No-Tool Main Brush & Filter Change",null,"Operator Manual"]
[null,"Seat occupancy interlock safety switch"]
[]
[]
[null,"TENNANT COMPANY WARRANTY"]
[null,"2 YEARS OR 1000 HOURS - PARTS"]
[null,"6 MONTHS - LABOR"]
[null,"6 MONTHS - TRAVEL"]
[null,"10 YEARS ON DURAMERTM HOPPER"]
[]
[]
[null,null,null,null,"                Quote Request Information"]
[null,null,null,null,null,null,"Fax (quote only)"]
[null,null,null,null,null,null,"Mail (quote,lit, specs)"]
[null,null,null,null,null,null,"Fax + Mail"]
[]
[null,null,null,null,"                Primary Use"]
[null,null,null,null,null,null,"Inside"]
[null,null,null,null,null,null,"Outside"]
[]
[]
[null,null,"Description","Reference # ","Price Each","Qty","Extended Price"]
[null,"Base Configuration",null,null,null,{"$f":"SUM(F48,F51,F56)","v":0}]
[null,null,"Cleaning Type",null,null,{"$f":"SUM(F49:F49)","v":0},null,null,null,null,null,{"$f":"SUM(F48)","v":0},"Surcharge Qty"]
[null,null,"S680 Ride-On Sweeper 1050 mm/42\" w/ Dual Side Brushes","S680_1050",22261,null,{"$f":"F49*E49","v":0},{"$f":"IFERROR(IFERROR(VLOOKUP(D49,Surcharge!A:B,2,FALSE)*F49, VLOOKUP(D49 & \"\",Surcharge!A:B,2,FALSE)*F49), \"\")","v":""},null,null,null,null,null,null,null,{"$f":"VLOOKUP(Q49,'MPF SAP Download Canada'!$A:$D,4,FALSE)","v":30732},"M-6100VK_BASE_6100-BTY"]
[null,null,null,null,null,null,null,{"$f":"IFERROR(IFERROR(VLOOKUP(D50,Surcharge!A:B,2,FALSE)*F50, VLOOKUP(D50 & \"\",Surcharge!A:B,2,FALSE)*F50), \"\")","v":""}]
[null,null,"Battery Type",null,null,{"$f":"SUM(F52:F54)","v":0},null,{"$f":"IFERROR(IFERROR(VLOOKUP(D51,Surcharge!A:B,2,FALSE)*F51, VLOOKUP(D51 & \"\",Surcharge!A:B,2,FALSE)*F51), \"\")","v":""}]
[null,null,"Wet 225AH C/20",9022613,"N/C",null,{"$f":"IF(F52=0,\" \",\"N/C\")","v":" "},{"$f":"IFERROR(IFERROR(VLOOKUP(D52,Surcharge!A:B,2,FALSE)*F52, VLOOKUP(D52 & \"\",Surcharge!A:B,2,FALSE)*F52), \"\")","v":""},null,null,null,null,null,null,null,{"$f":"VLOOKUP(Q52,'MPF SAP Download Canada'!$A:$D,4,FALSE)","v":"N/C"},"M-6100VK_BTY_W225C20"]
[null,null,"Sealed/MF AGM 245AH C/20",9022614,1512,null,{"$f":"F53*E53","v":0},{"$f":"IFERROR(IFERROR(VLOOKUP(D53,Surcharge!A:B,2,FALSE)*F53, VLOOKUP(D53 & \"\",Surcharge!A:B,2,FALSE)*F53), \"\")","v":""},null,null,null,null,null,null,null,{"$f":"VLOOKUP(Q53,'MPF SAP Download Canada'!$A:$D,4,FALSE)","v":3601},"M-6100VK_BTY_G180C20"]
[null,null,"Without Battery","LESS BATTERY",-630,null,{"$f":"F54*E54","v":0},{"$f":"IFERROR(IFERROR(VLOOKUP(D54,Surcharge!A:B,2,FALSE)*F54, VLOOKUP(D54 & \"\",Surcharge!A:B,2,FALSE)*F54), \"\")","v":""},null,null,null,null,null,null,null,{"$f":"VLOOKUP(Q54,'MPF SAP Download Canada'!$A:$D,4,FALSE)","v":-695},"M-6100VK_BTY_WO"]
[null,null,null,null,null,null,null,{"$f":"IFERROR(IFERROR(VLOOKUP(D55,Surcharge!A:B,2,FALSE)*F55, VLOOKUP(D55 & \"\",Surcharge!A:B,2,FALSE)*F55), \"\")","v":""}]
[null,null,"Charger",null,null,{"$f":"SUM(F57:F58)","v":0},null,{"$f":"IFERROR(IFERROR(VLOOKUP(D56,Surcharge!A:B,2,FALSE)*F56, VLOOKUP(D56 & \"\",Surcharge!A:B,2,FALSE)*F56), \"\")","v":""},null,null,null,null,null,null,null,{"$f":"VLOOKUP(Q56,'MPF SAP Download Canada'!$A:$D,4,FALSE)","v":1074},"M-6100VK_BTYWTRSYS"]
[null,null,"27A 85-270V AC 50/60Hz 1Ph - Off Board",9015391,"N/C",null,{"$f":"IF(F57=0,\" \",\"N/C\")","v":" "},{"$f":"IFERROR(IFERROR(VLOOKUP(D57,Surcharge!A:B,2,FALSE)*F57, VLOOKUP(D57 & \"\",Surcharge!A:B,2,FALSE)*F57), \"\")","v":""}]
[null,null,"Without Charger","LESS CHARGER",-378,null,{"$f":"F58*E58","v":0},{"$f":"IFERROR(IFERROR(VLOOKUP(D58,Surcharge!A:B,2,FALSE)*F58, VLOOKUP(D58 & \"\",Surcharge!A:B,2,FALSE)*F58), \"\")","v":""}]
[null,null,null,null,null,null,null,{"$f":"IFERROR(IFERROR(VLOOKUP(D59,Surcharge!A:B,2,FALSE)*F59, VLOOKUP(D59 & \"\",Surcharge!A:B,2,FALSE)*F59), \"\")","v":""},null,null,null,null,null,null,null,null,"M-6100"]
[null,"Packages",null,null,null,{"$f":"SUM(F61)","v":0},null,{"$f":"IFERROR(IFERROR(VLOOKUP(D60,Surcharge!A:B,2,FALSE)*F60, VLOOKUP(D60 & \"\",Surcharge!A:B,2,FALSE)*F60), \"\")","v":""},null,null,null,null,null,null,null,{"$f":"VLOOKUP(Q60,'MPF SAP Download Canada'!$A:$D,4,FALSE)","v":610},"M-6100VK_21A85V5060H1P_G180"]
[null,null,"Carpet Care Package  (Note 1)",9022636,67,null,{"$f":"F61*E61","v":0},{"$f":"IFERROR(IFERROR(VLOOKUP(D61,Surcharge!A:B,2,FALSE)*F61, VLOOKUP(D61 & \"\",Surcharge!A:B,2,FALSE)*F61), \"\")","v":""},null,null,null,null,null,null,null,{"$f":"VLOOKUP(Q61,'MPF SAP Download Canada'!$A:$D,4,FALSE)","v":2803},"M-6100VK_21A85V5060H1P_W225_ON"]
[null,null,null,null,null,{"$f":"SUM(F61)","v":0},null,null,null,null,null,null,null,null,null,{"$f":"VLOOKUP(Q62,'MPF SAP Download Canada'!$A:$D,4,FALSE)","v":2482},"M-6100VK_21A85V5060H1P_G180_ON"]
[null,"Brushes and Pads",null,null,null,{"$f":"SUM(F64,F69)","v":0},null,{"$f":"IFERROR(IFERROR(VLOOKUP(D63,Surcharge!A:B,2,FALSE)*F63, VLOOKUP(D63 & \"\",Surcharge!A:B,2,FALSE)*F63), \"\")","v":""},null,null,null,null,null,null,null,{"$f":"VLOOKUP(Q63,'MPF SAP Download Canada'!$A:$D,4,FALSE)","v":-450},"M-6100VK_CHG_WO"]
[null,null,"Main Sweeping Brushes",null,null,{"$f":"SUM(F65:F67)","v":0},null,{"$f":"IFERROR(IFERROR(VLOOKUP(D64,Surcharge!A:B,2,FALSE)*F64, VLOOKUP(D64 & \"\",Surcharge!A:B,2,FALSE)*F64), \"\")","v":""}]
[null,null,"Polypropylene Brush",9022617,"N/C",null,{"$f":"IF(F65=0,\" \",\"N/C\")","v":" "},{"$f":"IFERROR(IFERROR(VLOOKUP(D65,Surcharge!A:B,2,FALSE)*F65, VLOOKUP(D65 & \"\",Surcharge!A:B,2,FALSE)*F65), \"\")","v":""}]
[null,null,"Polypropylene and Wire Brush",9022619,"N/C",null," ",{"$f":"IFERROR(IFERROR(VLOOKUP(D66,Surcharge!A:B,2,FALSE)*F66, VLOOKUP(D66 & \"\",Surcharge!A:B,2,FALSE)*F66), \"\")","v":""},null,null,null,null,null,null,null,null,"M-6100"]
[null,null,"Natural Fiber Brush  (Note 1)",9022618,224,null,{"$f":"F67*E67","v":0},{"$f":"IFERROR(IFERROR(VLOOKUP(D67,Surcharge!A:B,2,FALSE)*F67, VLOOKUP(D67 & \"\",Surcharge!A:B,2,FALSE)*F67), \"\")","v":""}]
[null,null,null,null,null,null,null,{"$f":"IFERROR(IFERROR(VLOOKUP(D68,Surcharge!A:B,2,FALSE)*F68, VLOOKUP(D68 & \"\",Surcharge!A:B,2,FALSE)*F68), \"\")","v":""}]
[null,null,"Side Sweeping Brushes",null,null,{"$f":"SUM(F70)","v":0},null,{"$f":"IFERROR(IFERROR(VLOOKUP(D69,Surcharge!A:B,2,FALSE)*F69, VLOOKUP(D69 & \"\",Surcharge!A:B,2,FALSE)*F69), \"\")","v":""},null,null,null,null,null,null,null,{"$f":"VLOOKUP(Q69,'MPF SAP Download Canada'!$A:$D,4,FALSE)","v":9896},"M-6100VK_SLADSTFLTPKG_RH"]
[null,null,"Polypropylene Brush",null,"N/C",null,{"$f":"IF(F70=0,\" \",\"N/C\")","v":" "},{"$f":"IFERROR(IFERROR(VLOOKUP(D70,Surcharge!A:B,2,FALSE)*F70, VLOOKUP(D70 & \"\",Surcharge!A:B,2,FALSE)*F70), \"\")","v":""}]
[null,null,null,null,null,null,null,{"$f":"IFERROR(IFERROR(VLOOKUP(D71,Surcharge!A:B,2,FALSE)*F71, VLOOKUP(D71 & \"\",Surcharge!A:B,2,FALSE)*F71), \"\")","v":""},null,null,null,null,null,null,null,{"$f":"VLOOKUP(Q71,'MPF SAP Download Canada'!$A:$D,4,FALSE)","v":10736},"M-6100VK_SLADSTFLTPKG_D"]
[null,"Support",null,null,null,{"$f":"SUM(F73)","v":0},null,{"$f":"IFERROR(IFERROR(VLOOKUP(D72,Surcharge!A:B,2,FALSE)*F72, VLOOKUP(D72 & \"\",Surcharge!A:B,2,FALSE)*F72), \"\")","v":""}]
[null,null,"Standard Warranty",null,"N/C",null,{"$f":"IF(F73=0,\" \",\"N/C\")","v":" "},{"$f":"IFERROR(IFERROR(VLOOKUP(D73,Surcharge!A:B,2,FALSE)*F73, VLOOKUP(D73 & \"\",Surcharge!A:B,2,FALSE)*F73), \"\")","v":""}]
[null,null,null,null,null,null,null,{"$f":"IFERROR(IFERROR(VLOOKUP(D74,Surcharge!A:B,2,FALSE)*F74, VLOOKUP(D74 & \"\",Surcharge!A:B,2,FALSE)*F74), \"\")","v":""}]
[null,null,"Packaging  ",null,null,{"$f":"SUM(F76:F76)","v":0},null,{"$f":"IFERROR(IFERROR(VLOOKUP(D75,Surcharge!A:B,2,FALSE)*F75, VLOOKUP(D75 & \"\",Surcharge!A:B,2,FALSE)*F75), \"\")","v":""},null,null,null,null,null,null,null,{"$f":"VLOOKUP(Q75,'MPF SAP Download Canada'!$A:$D,4,FALSE)","v":1519},"M-6100VK_SDEBRSLOC_D"]
[null,null,"Skid w/Carton, Non-Stackable",9022625,756,null,{"$f":"F76*E76","v":0},{"$f":"IFERROR(IFERROR(VLOOKUP(D76,Surcharge!A:B,2,FALSE)*F76, VLOOKUP(D76 & \"\",Surcharge!A:B,2,FALSE)*F76), \"\")","v":""},null,null,null,null,null,null,null,{"$f":"VLOOKUP(Q76,'MPF SAP Download Canada'!$A:$D,4,FALSE)","v":1585},"M-6100VK_SDEBRSDSTCTL_D_RH"]
[]
[null,null,null,null,null,"  "]
[null,"Custom Solution--write in description, qty, price, and PN if applicable",null,null,null,{"$f":"SUM(F80)","v":0}]
[null,null,null,null,"Insert Prices Here",{"$f":"SUM(F81:F84)","v":0}]
[null,null,null,"Custom",null,{"$f":"IF(E81 <> \"\", 1, 0)","v":0},{"$f":"F81*E81","v":0}]
[null,null,null,"Custom",null,{"$f":"IF(E82 <> \"\", 1, 0)","v":0},{"$f":"F82*E82","v":0}]
[null,null,null,"Custom",null,{"$f":"IF(E83 <> \"\", 1, 0)","v":0},{"$f":"F83*E83","v":0}]
[null,null,null,"Custom",null,{"$f":"IF(E84 <> \"\", 1, 0)","v":0},{"$f":"F84*E84","v":0}]
[null,null,null,null,{"$f":"ROUND(SUM(G49:G84), 0)","v":0},{"$f":"SUM(E86)","v":0}]
[null,null,null,"Machine Subtotal ",{"$f":"ROUND(SUM(G49:G84), 0)","v":0},{"$f":"F85","v":0}]
[null,"Discounts",null,null,null,{"$f":"SUM(F88)","v":0}]
[null,null,null,null,null,{"$f":"SUM(F90:F91)","v":0}]
[null,null,null,"Applicable Currency Adj %",null,{"$f":"IF(E89 <> \"\", 1, 0)","v":0},{"$f":"IF(F89*(E89*0.01)*E85 < 0, F89*(E89*0.01)*E85, -(F89*(E89*0.01)*E85))","v":0}]
[null,null,null,"Discount %",null,{"$f":"IF(E90 <> \"\", 1, 0)","v":0},{"$f":"IF(F90*(E90*0.01)*(E85+G89) < 0, F90*(E90*0.01)*(E85+G89), -(F90*(E90*0.01)*(E85+G89)))","v":0}]
[null,null,null,"Discount $",null,{"$f":"IF(E91 <> \"\", 1, 0)","v":0},{"$f":"IF(F91*E91 < 0, F91*E91, -(F91*E91))","v":0}]
[null,null,null,"Discount Total ",{"$f":"SUM(G89:G91)","v":0},{"$f":"SUM(E92)","v":0}]
[null,null,null,null,null,{"$f":"#REF!","v":{"$error":"#REF!"}}]
[null,null,null,null,null,{"$f":"F93","v":{"$error":"#REF!"}}]
[null,null,"Prepaid and Add","Freight",null,{"$f":"IF(E95 <> \"\", 1, 0)","v":0},{"$f":"F95*E95","v":0}]
[null,null,"Subject to all applicable taxes","Tax",null,{"$f":"IF(E96 <> \"\", 1, 0)","v":0},{"$f":"F96*E96","v":0}]
[null,null,null,null,null,{"$f":"SUM(F98)","v":0}]
[null,null,null,"MACHINE TOTAL*",null,{"$f":"SUM(G98)","v":0},{"$f":"SUM(G49:G96)","v":0},null,null,null,null,null,null,"This goes to \"My Documents\""]
[null,null,null,null,null,null,{"$f":"SUM(G98)","v":0}]
[]
[]
[]
[]
[null,null,"First Western Equipment Finance - Leasing Calculation Option:","Option 1",null,"Option 2"]
[null,null,null,"Monthly Payment","Cost Per Day","Monthly Payment","Cost Per Day"]
[null,null,"Purchase Option:","FWEF:  $1 Buyout Lease",null,"FWEF: Municipal Lease"]
[null,null,"24 Months",false,0,false,0]
[null,null,"30 Months",false,0,false,0]
[null,null,"36 Months",false,0,false,0]
[null,null,"48 Months",0,0,0,0]
[]
[null,null,null,"Benefits of Equipment Financing:"]
[null,null,null,"• Spreads out investment over time.",null,"• Keep current with latest technology."]
[null,null,null,"• Preserve capital.",null,"• Service and parts bundling available."]
[null,null,null,"• Low monthly payment.",null,"• Pay for labor savings as you go."]
[]
[]
[null,"  TennantTrue",null,0,0]
[]
[null,null,"Is customer interested in service program?","Yes","*State/County selection required for TennantTrue service options"]
[]
[null,null,"If not, why?"]
[]
[null,null,"Term:",36,null,null,"AB Brushes","No"]
[null,null,"Monthly machine usage (hrs):","< 30/mo. (Avg. 1hr./day)"]
[]
[null,null,"TennantTrue: ","Gold Contract",null,"Silver Contract"]
[null,null,"Per Visit",null,null,460]
[null,null,"Monthly",202,null,96]
[null,null,"Annually",null,null,1126]
[null,null,"Pre-Pay Full Term",6990,null,3311]
[null,null,"Hourly Labor Rate"]
[null,null,"Site Visit"]
[]
[null,null,"* Verify customer current pricing prior to quote. "]
[null,null,"**All rates and fees above reflect service for one (1) unit with the exception of Block of Time service."]
[null,null,"*Block of Time is available in 1 Year Term only and is priced as such no matter the term selection on this template."]
[]
[]
[]
[null,"Quote Special Instructions:"]
[]
[]
[null,{"$f":"Start_Here!E36","v":"Terms and Conditions"}]
[null,{"$f":"Start_Here!E37","v":"Ask your local sales rep for estimated lead times. Verify when placing order"}]
[null,{"$f":"Start_Here!E38","v":"All orders subject to acceptance by Tennant Sales and Service Company, Minneapolis, Minnesota"}]
[null,{"$f":"Start_Here!E39","v":"Prices subject to change without notice. Subject to any applicable taxes."}]
[null,{"$f":"Start_Here!E40","v":"Terms:  Net 30 days.  Payable in Canadian Funds"}]
[null,{"$f":"Start_Here!E41","v":"Freight:  Accessories, parts, supplies, detergents, and floor coatings orders delivered DDP "}]
[null,{"$f":"Start_Here!E42","v":"shipping point Frt PPD.  Machine orders delivered DDP shipping point Frt PPD and add."}]
[null,{"$f":"Start_Here!E43","v":"Returned Merchandise is subject to a restocking fee."}]
[null,{"$f":"Start_Here!E44","v":"All orders are subject to Tennant’s General Terms and Conditions available at http://www.tennantco.com/terms."}]
[null,{"$f":"Start_Here!E45","v":"Printed General Terms and Conditions are also available upon request."}]
[null,{"$f":"Start_Here!E46","v":0}]
[]
[null,null,null,null,"Quote Date :",null,{"$f":"Letter!$A$25","v":"2020-09-22"}]
[null,"Order Placement Information:  To place your order, fill in PO# and customer signatures,"]
[null,"call or fax to the numbers listed below. Customer Purchase Order is required."]
[null,"If information is missing, orders will be entered and held until all information is received."]
[]
[null,null,"Customer Number",null,"Cust Grp 3"]
[null,null,{"$f":"Start_Here!$C$25","v":0},null,{"$f":"Start_Here!$C$29","v":0}]
[null,null,{"$f":"Start_Here!$B$18","v":"Who Owns the Machine? (Sold-To Info) (Please Verify)"}]
["Company",null,{"$f":"Start_Here!$C$19","v":"Company Name"}]
["Address",null,{"$f":"Start_Here!$C$20","v":"Address"}]
[null,null,{"$f":"Start_Here!$C$21","v":"City, State Zip"}]
["Name",null,{"$f":"Start_Here!$C$22","v":"Contact Name"}]
["Phone",null,{"$f":"Start_Here!$C$23","v":"Contact Phone"}]
[null,null,{"$f":"Start_Here!$B$11","v":"Where is the Machine Being Shipped? (Ship-To Info) (Please Verify)"}]
["Company",null,{"$f":"Start_Here!$C$12","v":"Company Name"}]
["Address",null,{"$f":"Start_Here!$C$13","v":"Address"}]
[null,null,{"$f":"Start_Here!$C$14","v":"City, State Zip"}]
["Name",null,{"$f":"Start_Here!$C$15","v":"Contact Name"}]
["Phone",null,{"$f":"Start_Here!$C$16","v":"Contact Phone"}]
[null,null,{"$f":"Start_Here!$B$31","v":"Shipping / Carrier Instructions:"},null,"Order Special Instructions:"]
[null,null,{"$f":"Start_Here!$C$32","v":0}]
[]
[null,null,"Customer Purchase Order No."]
[null,null,"(please attach copy)"]
[]
[]
[null,null,"Tax Exempt",null,"Yes"]
[null,null,null,null,"No"]
[null,null,"If Yes, attach a copy of your exemption certificate."]
[]
[null,null,"Requested Delivery Date"]
[null,null,{"$f":"Start_Here!$C$28","v":0}]
[]
[null,null,{"$f":"Start_Here!$C$26","v":0},null,{"$f":"Start_Here!$C$27","v":0}]
[null,null,"Authorized Buyer (please print)",null,"Phone Number"]
[]
[]
[null,null,"Authorized Buyer Signature"]
[]
[null,null,{"$f":"Start_Here!$C$41","v":"Rep Name"}]
[null,null,"Tennant Representative"]
[]
[null,null,null,"Specialized Maintenance Equipment"]
[null,null,{"$f":"Start_Here!$C$48","v":"TENNANT · 10400 Clean Street · Eden Prairie, MN 55344 ·"}]
[null,null,null,{"$f":"Start_Here!$C$49","v":" PHONE:800-553-8033 · FAX:763-513-2116"}]
[]
[]
[null,"SPECIAL INFORMATION"]
[]
[null,"Notes"]
[]
[null,1,"Natural Fiber Brush is mandator when the Carpet Care Package is selected."]
[]
[null,2,"Shipping Weights and Dimensions",null,"Crate"]
[]
[null,null,"Weight",null,"184 Kg / 406 lbs"]
[null,null,"Length",null,"1530 mm / 61\""]
[null,null,"Width",null,"950 mm / 38\""]
[null,null,"Height",null,"1460 mm / 58\""]

{"sheet":"S880","index":22,"n_rows":208,"n_cols":17,"rows_kept":208,"cut":false,"hidden":false,"merged":[[27,1,27,5],[0,2,0,3],[1,2,1,3],[2,2,2,3],[3,2,3,3],[11,2,11,3],[120,3,120,4],[28,1,28,5],[29,1,29,5],[30,1,30,5],[31,1,31,5],[32,1,32,5],[99,3,99,4],[99,5,99,6],[101,3,101,4],[101,5,101,6],[115,4,115,8],[117,3,117,6],[119,3,119,4],[122,3,122,4],[122,5,122,6],[123,3,123,4],[123,5,123,6],[124,3,124,4],[124,5,124,6],[125,3,125,4],[125,5,125,6],[126,3,126,4],[126,5,126,6],[127,3,127,4],[127,5,127,6],[128,3,128,4],[128,5,128,6],[137,1,137,6],[157,4,157,6],[159,0,159,1],[159,2,159,5],[168,0,168,1],[168,2,168,5],[160,0,160,1],[160,2,160,5],[161,2,161,5],[162,0,162,1],[162,2,162,5],[163,0,163,1],[163,2,163,5],[165,0,165,1],[165,2,165,5],[166,0,166,1],[166,2,166,5],[167,2,167,5],[184,4,184,5],[169,0,169,1],[169,2,169,5],[171,4,171,6],[173,2,173,5],[174,2,174,5],[175,2,175,5]]}
["S880",null,{"$f":"Start_Here!$C19","v":"Company Name"}]
[{"$f":"SUM(G94)","v":0},null,{"$f":"Start_Here!$C20","v":"Address"}]
[null,null,{"$f":"Start_Here!$C21","v":"City, State Zip"}]
[null,null,{"$f":"Start_Here!$C22","v":"Contact Name"}]
[null,null,{"$f":"Start_Here!$C$41","v":"Rep Name"}]
[null,null,{"$f":"Start_Here!$C$37","v":"Tennant Sales and Service Company"}]
[null,null,{"$f":"Start_Here!$C$38","v":"10400 Clean Street"}]
[null,null,{"$f":"Start_Here!$C$39","v":"Eden Prairie, MN 55344"}]
[null,null,{"$f":"Start_Here!$C$43","v":"800-553-8033"},null,"Quote Date :",null,{"$f":"Letter!$A$25","v":"2020-09-22"}]
[]
[null,null,{"$f":"Help!C2","v":"CAN Date Rev - 9/30/2024"}]
[null,null,"                                      BUILT-IN \"TENNANT VALUE\" INCLUDES:"]
[]
[null,"48\" (1200 mm) Sweep Path",null,"Hour Meter"]
[null,"2.4 ft3 / 67L High-Dump Hopper Volume Capacity",null,"Low Effort Steering"]
[null,"Corrosion-Proof Shrouds",null,"Adjustable Side Brush RPM"]
[null,"Front Corner Rollers",null,"360o Visibility"]
[null,"Front Bumpers",null,"Seat occupancy interlock safety switch"]
[null,"Flap and Trap Debris Pedal",null,"Amber Strobe Light"]
[null,"High Visibility Operation Decals",null,"Thermo-Sentry™ Hopper Fire Sensor"]
[null,"Horn",null,"Wet 225AH C/20 Batteries"]
[null,"Retractable Side Brush Assemblies",null,"27A 85-270V AC 50/60Hz 1Ph Charger"]
[null,"Standard Main Sweeping Brush (Select One)",null,"Battery Discharge Indicator"]
[null,"Standard Dual Side Sweeping Brushes",null,"Power Shutdown Switch"]
[null,"No-Tool Main Brush Change",null,"Operator Manual"]
[]
[]
[null,"TENNANT COMPANY WARRANTY"]
[null,"2 YEARS OR 1000 HOURS - PARTS"]
[null,"6 MONTHS - LABOR"]
[null,"6 MONTHS - TRAVEL"]
[]
[]
[]
[null,null,null,null,"                Quote Request Information"]
[null,null,null,null,null,null,"Fax (quote only)"]
[null,null,null,null,null,null,"Mail (quote,lit, specs)"]
[null,null,null,null,null,null,"Fax + Mail"]
[]
[null,null,null,null,"                Primary Use"]
[null,null,null,null,null,null,"Inside"]
[null,null,null,null,null,null,"Outside"]
[]
[]
[null,null,"Description","Reference # ","Price Each","Qty","Extended Price"]
[null,"Base Configuration",null,null,null,{"$f":"SUM(F47,F50,F55)","v":0}]
[null,null,"Cleaning Type",null,null,{"$f":"SUM(F48)","v":0},null,null,null,null,null,{"$f":"SUM(F47)","v":0},"Surcharge Qty"]
[null,null,"S880 Ride-On Sweeper 1200 mm/48\" w/ Dual Side Brushes","S880_1200",31147,null,{"$f":"F48*E48","v":0},{"$f":"IFERROR(IFERROR(VLOOKUP(D48,Surcharge!A:B,2,FALSE)*F48, VLOOKUP(D48 & \"\",Surcharge!A:B,2,FALSE)*F48), \"\")","v":""}]
[null,null,null,null,null,null,null,{"$f":"IFERROR(IFERROR(VLOOKUP(D49,Surcharge!A:B,2,FALSE)*F49, VLOOKUP(D49 & \"\",Surcharge!A:B,2,FALSE)*F49), \"\")","v":""}]
[null,null,"Battery Type",null,null,{"$f":"SUM(F51:F53)","v":0},null,{"$f":"IFERROR(IFERROR(VLOOKUP(D50,Surcharge!A:B,2,FALSE)*F50, VLOOKUP(D50 & \"\",Surcharge!A:B,2,FALSE)*F50), \"\")","v":""},null,null,null,null,null,null,null,{"$f":"VLOOKUP(Q50,'MPF SAP Download Canada'!$A:$D,4,FALSE)","v":"N/C"},"M-6100VK_BTY_W225C20"]
[null,null,"Wet 225AH C/20",9022613,"N/C",null,{"$f":"IF(F51=0,\" \",\"N/C\")","v":" "},{"$f":"IFERROR(IFERROR(VLOOKUP(D51,Surcharge!A:B,2,FALSE)*F51, VLOOKUP(D51 & \"\",Surcharge!A:B,2,FALSE)*F51), \"\")","v":""},null,null,null,null,null,null,null,{"$f":"VLOOKUP(Q51,'MPF SAP Download Canada'!$A:$D,4,FALSE)","v":3601},"M-6100VK_BTY_G180C20"]
[null,null,"Sealed/MF AGM 245AH C/20",9022614,1512,null,{"$f":"F52*E52","v":0},{"$f":"IFERROR(IFERROR(VLOOKUP(D52,Surcharge!A:B,2,FALSE)*F52, VLOOKUP(D52 & \"\",Surcharge!A:B,2,FALSE)*F52), \"\")","v":""},null,null,null,null,null,null,null,{"$f":"VLOOKUP(Q52,'MPF SAP Download Canada'!$A:$D,4,FALSE)","v":-695},"M-6100VK_BTY_WO"]
[null,null,"Without Battery","LESS BATTERY",-630,null,{"$f":"F53*E53","v":0},{"$f":"IFERROR(IFERROR(VLOOKUP(D53,Surcharge!A:B,2,FALSE)*F53, VLOOKUP(D53 & \"\",Surcharge!A:B,2,FALSE)*F53), \"\")","v":""}]
[null,null,null,null,null,null,null,{"$f":"IFERROR(IFERROR(VLOOKUP(D54,Surcharge!A:B,2,FALSE)*F54, VLOOKUP(D54 & \"\",Surcharge!A:B,2,FALSE)*F54), \"\")","v":""},null,null,null,null,null,null,null,{"$f":"VLOOKUP(Q54,'MPF SAP Download Canada'!$A:$D,4,FALSE)","v":1074},"M-6100VK_BTYWTRSYS"]
[null,null,"Charger",null,null,{"$f":"SUM(F56:F57)","v":0},null,{"$f":"IFERROR(IFERROR(VLOOKUP(D55,Surcharge!A:B,2,FALSE)*F55, VLOOKUP(D55 & \"\",Surcharge!A:B,2,FALSE)*F55), \"\")","v":""}]
[null,null,"27A 85-270V AC 50/60Hz 1Ph - Off Board",9015391,"N/C",null,{"$f":"IF(F56=0,\" \",\"N/C\")","v":" "},{"$f":"IFERROR(IFERROR(VLOOKUP(D56,Surcharge!A:B,2,FALSE)*F56, VLOOKUP(D56 & \"\",Surcharge!A:B,2,FALSE)*F56), \"\")","v":""}]
[null,null,"Without Charger","LESS CHARGER",-378,null,{"$f":"F57*E57","v":0},{"$f":"IFERROR(IFERROR(VLOOKUP(D57,Surcharge!A:B,2,FALSE)*F57, VLOOKUP(D57 & \"\",Surcharge!A:B,2,FALSE)*F57), \"\")","v":""},null,null,null,null,null,null,null,null,"M-6100"]
[null,null,null,null,null,null,null,{"$f":"IFERROR(IFERROR(VLOOKUP(D58,Surcharge!A:B,2,FALSE)*F58, VLOOKUP(D58 & \"\",Surcharge!A:B,2,FALSE)*F58), \"\")","v":""},null,null,null,null,null,null,null,{"$f":"VLOOKUP(Q58,'MPF SAP Download Canada'!$A:$D,4,FALSE)","v":610},"M-6100VK_21A85V5060H1P_G180"]
[null,"Brushes and Pads",null,"Reference Number",null,{"$f":"SUM(F60)","v":0},null,{"$f":"IFERROR(IFERROR(VLOOKUP(D59,Surcharge!A:B,2,FALSE)*F59, VLOOKUP(D59 & \"\",Surcharge!A:B,2,FALSE)*F59), \"\")","v":""},null,null,null,null,null,null,null,{"$f":"VLOOKUP(Q59,'MPF SAP Download Canada'!$A:$D,4,FALSE)","v":2803},"M-6100VK_21A85V5060H1P_W225_ON"]
[null,null,"Main Sweeping Brushes",null,null,{"$f":"SUM(F61:F63)","v":0},null,null,null,null,null,null,null,null,null,{"$f":"VLOOKUP(Q60,'MPF SAP Download Canada'!$A:$D,4,FALSE)","v":2482},"M-6100VK_21A85V5060H1P_G180_ON"]
[null,null,"Polypropylene Brush",9022622,"N/C",null,{"$f":"IF(F61=0,\" \",\"N/C\")","v":" "},{"$f":"IFERROR(IFERROR(VLOOKUP(D61,Surcharge!A:B,2,FALSE)*F61, VLOOKUP(D61 & \"\",Surcharge!A:B,2,FALSE)*F61), \"\")","v":""},null,null,null,null,null,null,null,{"$f":"VLOOKUP(Q61,'MPF SAP Download Canada'!$A:$D,4,FALSE)","v":-450},"M-6100VK_CHG_WO"]
[null,null,"Polypropylene and Wire Brush",9022624,"N/C",null," ",{"$f":"IFERROR(IFERROR(VLOOKUP(D62,Surcharge!A:B,2,FALSE)*F62, VLOOKUP(D62 & \"\",Surcharge!A:B,2,FALSE)*F62), \"\")","v":""}]
[null,null,"Natural Fiber Brush",9022623,231,null,{"$f":"F63*E63","v":0},{"$f":"IFERROR(IFERROR(VLOOKUP(D63,Surcharge!A:B,2,FALSE)*F63, VLOOKUP(D63 & \"\",Surcharge!A:B,2,FALSE)*F63), \"\")","v":""}]
[null,null,null,null,null,null,null,{"$f":"IFERROR(IFERROR(VLOOKUP(D64,Surcharge!A:B,2,FALSE)*F64, VLOOKUP(D64 & \"\",Surcharge!A:B,2,FALSE)*F64), \"\")","v":""},null,null,null,null,null,null,null,null,"M-6100"]
[null,null,"Side Sweeping Brushes",null,null,{"$f":"SUM(F66)","v":0},null,{"$f":"IFERROR(IFERROR(VLOOKUP(D65,Surcharge!A:B,2,FALSE)*F65, VLOOKUP(D65 & \"\",Surcharge!A:B,2,FALSE)*F65), \"\")","v":""}]
[null,null,"Polypropylene Brush",null,"N/C",null,{"$f":"IF(F66=0,\" \",\"N/C\")","v":" "},{"$f":"IFERROR(IFERROR(VLOOKUP(D66,Surcharge!A:B,2,FALSE)*F66, VLOOKUP(D66 & \"\",Surcharge!A:B,2,FALSE)*F66), \"\")","v":""}]
[null,null,null,null,null,null,null,{"$f":"IFERROR(IFERROR(VLOOKUP(D67,Surcharge!A:B,2,FALSE)*F67, VLOOKUP(D67 & \"\",Surcharge!A:B,2,FALSE)*F67), \"\")","v":""},null,null,null,null,null,null,null,{"$f":"VLOOKUP(Q67,'MPF SAP Download Canada'!$A:$D,4,FALSE)","v":9896},"M-6100VK_SLADSTFLTPKG_RH"]
[null,"Support",null,null,null,{"$f":"SUM(F69)","v":0},null,{"$f":"IFERROR(IFERROR(VLOOKUP(D68,Surcharge!A:B,2,FALSE)*F68, VLOOKUP(D68 & \"\",Surcharge!A:B,2,FALSE)*F68), \"\")","v":""}]
[null,null,"Standard Warranty",null,"N/C",null,{"$f":"IF(F69=0,\" \",\"N/C\")","v":" "},{"$f":"IFERROR(IFERROR(VLOOKUP(D69,Surcharge!A:B,2,FALSE)*F69, VLOOKUP(D69 & \"\",Surcharge!A:B,2,FALSE)*F69), \"\")","v":""},null,null,null,null,null,null,null,{"$f":"VLOOKUP(Q69,'MPF SAP Download Canada'!$A:$D,4,FALSE)","v":10736},"M-6100VK_SLADSTFLTPKG_D"]
[null,null,null,null,null,null,null,{"$f":"IFERROR(IFERROR(VLOOKUP(D70,Surcharge!A:B,2,FALSE)*F70, VLOOKUP(D70 & \"\",Surcharge!A:B,2,FALSE)*F70), \"\")","v":""}]
[null,null,"Packaging",null,null,{"$f":"SUM(F72:F72)","v":0},null,{"$f":"IFERROR(IFERROR(VLOOKUP(D71,Surcharge!A:B,2,FALSE)*F71, VLOOKUP(D71 & \"\",Surcharge!A:B,2,FALSE)*F71), \"\")","v":""}]
[null,null,"Skid w/Carton, Non-Stackable",9022625,756,null,{"$f":"F72*E72","v":0},{"$f":"IFERROR(IFERROR(VLOOKUP(D72,Surcharge!A:B,2,FALSE)*F72, VLOOKUP(D72 & \"\",Surcharge!A:B,2,FALSE)*F72), \"\")","v":""},null,null,null,null,null,null,null,{"$f":"VLOOKUP(Q72,'MPF SAP Download Canada'!$A:$D,4,FALSE)","v":1519},"M-6100VK_SDEBRSLOC_D"]
[]
[null,null,null,null,null,"  "]
[null,"Custom Solution--write in description, qty, price, and PN if applicable",null,null,null,{"$f":"SUM(F76)","v":0}]
[null,null,null,null,"Insert Prices Here",{"$f":"SUM(F77:F80)","v":0}]
[null,null,null,"Custom",null,{"$f":"IF(E77 <> \"\", 1, 0)","v":0},{"$f":"F77*E77","v":0}]
[null,null,null,"Custom",null,{"$f":"IF(E78 <> \"\", 1, 0)","v":0},{"$f":"F78*E78","v":0}]
[null,null,null,"Custom",null,{"$f":"IF(E79 <> \"\", 1, 0)","v":0},{"$f":"F79*E79","v":0}]
[null,null,null,"Custom",null,{"$f":"IF(E80 <> \"\", 1, 0)","v":0},{"$f":"F80*E80","v":0}]
[null,null,null,null,{"$f":"ROUND(SUM(G48:G80), 0)","v":0},{"$f":"SUM(E82)","v":0}]
[null,null,null,"Machine Subtotal ",{"$f":"ROUND(SUM(G48:G80), 0)","v":0},{"$f":"F81","v":0}]
[null,"Discounts",null,null,null,{"$f":"SUM(F84)","v":0}]
[null,null,null,null,null,{"$f":"SUM(F86:F87)","v":0}]
[null,null,null,"Applicable Currency Adj %",null,{"$f":"IF(E85 <> \"\", 1, 0)","v":0},{"$f":"IF(F85*(E85*0.01)*E81 < 0, F85*(E85*0.01)*E81, -(F85*(E85*0.01)*E81))","v":0}]
[null,null,null,"Discount %",null,{"$f":"IF(E86 <> \"\", 1, 0)","v":0},{"$f":"IF(F86*(E86*0.01)*(E81+G85) < 0, F86*(E86*0.01)*(E81+G85), -(F86*(E86*0.01)*(E81+G85)))","v":0}]
[null,null,null,"Discount $",null,{"$f":"IF(E87 <> \"\", 1, 0)","v":0},{"$f":"IF(F87*E87 < 0, F87*E87, -(F87*E87))","v":0}]
[null,null,null,"Discount Total ",{"$f":"SUM(G85:G87)","v":0},{"$f":"SUM(E88)","v":0}]
[null,null,null,null,null,{"$f":"#REF!","v":{"$error":"#REF!"}}]
[null,null,null,null,null,{"$f":"F89","v":{"$error":"#REF!"}}]
[null,null,"Prepaid and Add","Freight",null,{"$f":"IF(E91 <> \"\", 1, 0)","v":0},{"$f":"F91*E91","v":0}]
[null,null,"Subject to all applicable taxes","Tax",null,{"$f":"IF(E92 <> \"\", 1, 0)","v":0},{"$f":"F92*E92","v":0}]
[null,null,null,null,null,{"$f":"SUM(F94)","v":0}]
[null,null,null,"MACHINE TOTAL*",null,{"$f":"SUM(G94)","v":0},{"$f":"SUM(G48:G92)","v":0},null,null,null,null,null,null,"This goes to \"My Documents\""]
[null,null,null,null,null,null,{"$f":"SUM(G94)","v":0}]
[]
[]
[]
[]
[null,null,"First Western Equipment Finance - Leasing Calculation Option:","Option 1",null,"Option 2"]
[null,null,null,"Monthly Payment","Cost Per Day","Monthly Payment","Cost Per Day"]
[null,null,"Purchase Option:","FWEF:  $1 Buyout Lease",null,"FWEF: Municipal Lease"]
[null,null,"24 Months",false,0,false,0]
[null,null,"30 Months",false,0,false,0]
[null,null,"36 Months",false,0,false,0]
[null,null,"48 Months",0,0,0,0]
[]
[null,null,null,"Benefits of Equipment Financing:"]
[null,null,null,"• Spreads out investment over time.",null,"• Keep current with latest technology."]
[null,null,null,"• Preserve capital.",null,"• Service and parts bundling available."]
[null,null,null,"• Low monthly payment.",null,"• Pay for labor savings as you go."]
[]
[]
[null,"  TennantTrue",null,0,0]
[]
[null,null,"Is customer interested in service program?","Yes","*State/County selection required for TennantTrue service options"]
[]
[null,null,"If not, why?"]
[]
[null,null,"Term:",36,null,null,"AB Brushes","No"]
[null,null,"Monthly machine usage (hrs):","< 30/mo. (Avg. 1hr./day)"]
[]
[null,null,"TennantTrue: ","Gold Contract",null,"Silver Contract"]
[null,null,"Per Visit",null,null,460]
[null,null,"Monthly",202,null,96]
[null,null,"Annually",null,null,1126]
[null,null,"Pre-Pay Full Term",6990,null,3311]
[null,null,"Hourly Labor Rate"]
[null,null,"Site Visit"]
[]
[null,null,"* Verify customer current pricing prior to quote. "]
[null,null,"**All rates and fees above reflect service for one (1) unit with the exception of Block of Time service."]
[null,null,"*Block of Time is available in 1 Year Term only and is priced as such no matter the term selection on this template."]
[]
[]
[]
[null,"Quote Special Instructions:"]
[]
[]
[null,{"$f":"Start_Here!E36","v":"Terms and Conditions"}]
[null,{"$f":"Start_Here!E37","v":"Ask your local sales rep for estimated lead times. Verify when placing order"}]
[null,{"$f":"Start_Here!E38","v":"All orders subject to acceptance by Tennant Sales and Service Company, Minneapolis, Minnesota"}]
[null,{"$f":"Start_Here!E39","v":"Prices subject to change without notice. Subject to any applicable taxes."}]
[null,{"$f":"Start_Here!E40","v":"Terms:  Net 30 days.  Payable in Canadian Funds"}]
[null,{"$f":"Start_Here!E41","v":"Freight:  Accessories, parts, supplies, detergents, and floor coatings orders delivered DDP "}]
[null,{"$f":"Start_Here!E42","v":"shipping point Frt PPD.  Machine orders delivered DDP shipping point Frt PPD and add."}]
[null,{"$f":"Start_Here!E43","v":"Returned Merchandise is subject to a restocking fee."}]
[null,{"$f":"Start_Here!E44","v":"All orders are subject to Tennant’s General Terms and Conditions available at http://www.tennantco.com/terms."}]
[null,{"$f":"Start_Here!E45","v":"Printed General Terms and Conditions are also available upon request."}]
[null,{"$f":"Start_Here!E46","v":0}]
[]
[null,null,null,null,"Quote Date :",null,{"$f":"Letter!$A$25","v":"2020-09-22"}]
[null,"Order Placement Information:  To place your order, fill in PO# and customer signatures,"]
[null,"call or fax to the numbers listed below. Customer Purchase Order is required."]
[null,"If information is missing, orders will be entered and held until all information is received."]
[]
[null,null,"Customer Number",null,"Cust Grp 3"]
[null,null,{"$f":"Start_Here!$C$25","v":0},null,{"$f":"Start_Here!$C$29","v":0}]
[null,null,{"$f":"Start_Here!$B$18","v":"Who Owns the Machine? (Sold-To Info) (Please Verify)"}]
["Company",null,{"$f":"Start_Here!$C$19","v":"Company Name"}]
["Address",null,{"$f":"Start_Here!$C$20","v":"Address"}]
[null,null,{"$f":"Start_Here!$C$21","v":"City, State Zip"}]
["Name",null,{"$f":"Start_Here!$C$22","v":"Contact Name"}]
["Phone",null,{"$f":"Start_Here!$C$23","v":"Contact Phone"}]
[null,null,{"$f":"Start_Here!$B$11","v":"Where is the Machine Being Shipped? (Ship-To Info) (Please Verify)"}]
["Company",null,{"$f":"Start_Here!$C$12","v":"Company Name"}]
["Address",null,{"$f":"Start_Here!$C$13","v":"Address"}]
[null,null,{"$f":"Start_Here!$C$14","v":"City, State Zip"}]
["Name",null,{"$f":"Start_Here!$C$15","v":"Contact Name"}]
["Phone",null,{"$f":"Start_Here!$C$16","v":"Contact Phone"}]
[null,null,{"$f":"Start_Here!$B$31","v":"Shipping / Carrier Instructions:"},null,"Order Special Instructions:"]
[null,null,{"$f":"Start_Here!$C$32","v":0}]
[]
[null,null,"Customer Purchase Order No."]
[null,null,"(please attach copy)"]
[]
[]
[null,null,"Tax Exempt",null,"Yes"]
[null,null,null,null,"No"]
[null,null,"If Yes, attach a copy of your exemption certificate."]
[]
[null,null,"Requested Delivery Date"]
[null,null,{"$f":"Start_Here!$C$28","v":0}]
[]
[null,null,{"$f":"Start_Here!$C$26","v":0},null,{"$f":"Start_Here!$C$27","v":0}]
[null,null,"Authorized Buyer (please print)",null,"Phone Number"]
[]
[]
[null,null,"Authorized Buyer Signature"]
[]
[null,null,{"$f":"Start_Here!$C$41","v":"Rep Name"}]
[null,null,"Tennant Representative"]
[]
[null,null,null,"Specialized Maintenance Equipment"]
[null,null,{"$f":"Start_Here!$C$48","v":"TENNANT · 10400 Clean Street · Eden Prairie, MN 55344 ·"}]
[null,null,null,{"$f":"Start_Here!$C$49","v":" PHONE:800-553-8033 · FAX:763-513-2116"}]
[]
[]
[null,"SPECIAL INFORMATION"]
[]
[null,"Notes"]
[]
[null,1,"Shipping Weights and Dimensions",null,"Crate"]
[]
[null,null,"Weight",null,"348 Kg / 768 lbs"]
[null,null,"Length",null,"1730 mm / 69\""]
[null,null,"Width",null,"1080 mm / 43\""]
[null,null,"Height",null,"1360 mm / 54\""]

{"sheet":"S10","index":23,"n_rows":209,"n_cols":16,"rows_kept":209,"cut":false,"hidden":false,"merged":[[125,5,125,6],[122,3,122,4],[122,5,122,6],[123,3,123,4],[123,5,123,6],[124,3,124,4],[124,5,124,6],[0,2,0,3],[1,2,1,3],[2,2,2,3],[3,2,3,3],[11,1,11,5],[23,1,23,5],[24,1,24,5],[25,1,25,5],[96,3,96,4],[96,5,96,6],[98,5,98,6],[98,3,98,4],[162,2,162,5],[163,2,163,5],[164,2,164,5],[112,4,112,8],[114,3,114,6],[116,3,116,4],[117,3,117,4],[119,3,119,4],[119,5,119,6],[120,3,120,4],[120,5,120,6],[121,3,121,4],[121,5,121,6],[125,3,125,4],[180,4,180,5],[167,4,167,6],[170,2,170,5],[169,2,169,5],[165,2,165,5],[171,2,171,5],[155,0,155,1],[155,2,155,5],[153,4,153,6],[134,1,134,6],[165,0,165,1],[164,0,164,1],[161,2,161,5],[159,2,159,5],[156,2,156,5],[157,2,157,5],[162,0,162,1],[158,0,158,1],[158,2,158,5],[159,0,159,1],[161,0,161,1],[156,0,156,1]]}
["S10",null,{"$f":"Start_Here!$C19","v":"Company Name"}]
[{"$f":"SUM(G91)","v":0},null,{"$f":"Start_Here!$C20","v":"Address"}]
[null,null,{"$f":"Start_Here!$C21","v":"City, State Zip"}]
[null,null,{"$f":"Start_Here!$C22","v":"Contact Name"}]
[null,null,{"$f":"Start_Here!$C$41","v":"Rep Name"}]
[null,null,{"$f":"Start_Here!$C$37","v":"Tennant Sales and Service Company"}]
[null,null,{"$f":"Start_Here!$C$38","v":"10400 Clean Street"}]
[null,null,{"$f":"Start_Here!$C$39","v":"Eden Prairie, MN 55344"}]
[null,null,{"$f":"Start_Here!$C$43","v":"800-553-8033"},null,"Quote Date :",null,{"$f":"Letter!$A$25","v":"2020-09-22"}]
[]
[null,null,{"$f":"Help!C2","v":"CAN Date Rev - 9/30/2024"}]
[null,"BUILT-IN “TENNANT VALUE” INCLUDES:"]
[]
[null,"Steel Wrap Around Bumper",null,"Thermo-Sentry™"]
[null,"Ergonomic Handle and Controls",null,"Free-Floating Hopper"]
[null,"Fully Variable Forward/Reverse Speed Control",null,"Utility/Storage Box"]
[null,"Panel Filter with Automatic Timed Shaker",null,"Hour Meter"]
[null,"155 AH Batteries (qty. 2)",null,"Key Switch"]
[null,"On Board \"Smart\" Charger with Charge Indicator",null,"Easy Access, Removable Side Panels"]
[null,"Battery Discharge Indicator",null,"Filter Shaker Overide Switch"]
[null,"Parking Brake",null,"Operator Training Video"]
[]
[]
[null,"TENNANT COMPANY WARRANTY"]
[null,"36 MONTHS OR 2000 HOURS - PARTS"]
[null,"6 MONTHS LABOR AND TRAVEL"]
[]
[]
[]
[null,null,null,null,"                Quote Request Information"]
[null,null,null,null,null,null,"Fax (quote only)"]
[null,null,null,null,null,null,"Mail (quote,lit, specs)"]
[null,null,null,null,null,null,"Fax + Mail"]
[]
[null,null,null,null,"                Primary Use"]
[null,null,null,null,null,null,"Inside"]
[null,null,null,null,null,null,"Outside"]
[]
[]
["`",null,"Description","Reference #","Price Each","Qty","Extended Price"]
[null,"Base Configuration",null,null,null,{"$f":"SUM(F42,F45)","v":0}]
[null,null,"Cleaning Type",null,null,{"$f":"SUM(F43)","v":0}]
[null,null,"S10 Battery Powered Sweeper","S10-B",20305,null,{"$f":"F43*E43","v":0},{"$f":"IFERROR(IFERROR(VLOOKUP(D43,Surcharge!A:B,2,FALSE)*F43, VLOOKUP(D43 & \"\",Surcharge!A:B,2,FALSE)*F43), \"\")","v":0},null,null,null,null,null,null,{"$f":"VLOOKUP(P43,'MPF SAP Download Canada'!$A:$D,4,FALSE)","v":20305},"M-S10VK_BASE_S10-BTY"]
[null,null,null,null,null,null,null,{"$f":"IFERROR(IFERROR(VLOOKUP(D44,Surcharge!A:B,2,FALSE)*F44, VLOOKUP(D44 & \"\",Surcharge!A:B,2,FALSE)*F44), \"\")","v":""}]
[null,null,"Battery Type",null,null,{"$f":"SUM(F46)","v":0},null,{"$f":"IFERROR(IFERROR(VLOOKUP(D45,Surcharge!A:B,2,FALSE)*F45, VLOOKUP(D45 & \"\",Surcharge!A:B,2,FALSE)*F45), \"\")","v":""}]
[null,null,"Wet 155AH C/5",1030120,"N/C",null,{"$f":"IF(F46=0,\" \",\"N/C\")","v":" "},{"$f":"IFERROR(IFERROR(VLOOKUP(D46,Surcharge!A:B,2,FALSE)*F46, VLOOKUP(D46 & \"\",Surcharge!A:B,2,FALSE)*F46), \"\")","v":""},null,null,null,null,null,null,null,"M-S10"]
[null,null,null,null,null,null,null,{"$f":"IFERROR(IFERROR(VLOOKUP(D47,Surcharge!A:B,2,FALSE)*F47, VLOOKUP(D47 & \"\",Surcharge!A:B,2,FALSE)*F47), \"\")","v":""},null,null,null,null,null,null,null,""]
[null,"Cleaning Performance",null,null,null,{"$f":"SUM(F49)","v":0},null,{"$f":"IFERROR(IFERROR(VLOOKUP(D48,Surcharge!A:B,2,FALSE)*F48, VLOOKUP(D48 & \"\",Surcharge!A:B,2,FALSE)*F48), \"\")","v":""},null,null,null,null,null,null,null,""]
[null,null,"HEPA Filter System  (Note 1)",326527,6678,0,{"$f":"F49*E49","v":0},{"$f":"IFERROR(IFERROR(VLOOKUP(D49,Surcharge!A:B,2,FALSE)*F49, VLOOKUP(D49 & \"\",Surcharge!A:B,2,FALSE)*F49), \"\")","v":""},null,null,null,null,null,null,{"$f":"VLOOKUP(P49,'MPF SAP Download Canada'!$A:$D,4,FALSE)","v":6678},"M-S10VK_FLRSYS_HEPA"]
[null,null,null,null,null,null,null,{"$f":"IFERROR(IFERROR(VLOOKUP(D50,Surcharge!A:B,2,FALSE)*F50, VLOOKUP(D50 & \"\",Surcharge!A:B,2,FALSE)*F50), \"\")","v":""},null,null,null,null,null,null,null,""]
[null,"Brushes (Note 2)",null,"Reference Number",null,{"$f":"SUM(F52,F58)","v":0},null,{"$f":"IFERROR(IFERROR(VLOOKUP(D51,Surcharge!A:B,2,FALSE)*F51, VLOOKUP(D51 & \"\",Surcharge!A:B,2,FALSE)*F51), \"\")","v":""},null,null,null,null,null,null,null,""]
[null,null,"Main Brush",null,null,{"$f":"SUM(F53:F56)","v":0},null,{"$f":"IFERROR(IFERROR(VLOOKUP(D52,Surcharge!A:B,2,FALSE)*F52, VLOOKUP(D52 & \"\",Surcharge!A:B,2,FALSE)*F52), \"\")","v":""},null,null,null,null,null,null,null,""]
[null,null,"Polyprolyene Brush","28007P","N/C",null,{"$f":"IF(F53=0,\" \",\"N/C\")","v":" "},{"$f":"IFERROR(IFERROR(VLOOKUP(D53,Surcharge!A:B,2,FALSE)*F53, VLOOKUP(D53 & \"\",Surcharge!A:B,2,FALSE)*F53), \"\")","v":""},null,null,null,null,null,null,{"$f":"VLOOKUP(P53,'MPF SAP Download Canada'!$A:$D,4,FALSE)","v":"N/C"},"M-S10VK_CLNTOL_PYP"]
[null,null,"Nylon Brush","28006N",305,null,{"$f":"F54*E54","v":0},{"$f":"IFERROR(IFERROR(VLOOKUP(D54,Surcharge!A:B,2,FALSE)*F54, VLOOKUP(D54 & \"\",Surcharge!A:B,2,FALSE)*F54), \"\")","v":""},null,null,null,null,null,null,{"$f":"VLOOKUP(P54,'MPF SAP Download Canada'!$A:$D,4,FALSE)","v":305},"M-S10VK_CLNTOL_NYL"]
[null,null,"Union Mix Brush (6 Row)",28006,284,null,{"$f":"F55*E55","v":0},{"$f":"IFERROR(IFERROR(VLOOKUP(D55,Surcharge!A:B,2,FALSE)*F55, VLOOKUP(D55 & \"\",Surcharge!A:B,2,FALSE)*F55), \"\")","v":""},null,null,null,null,null,null,{"$f":"VLOOKUP(P55,'MPF SAP Download Canada'!$A:$D,4,FALSE)","v":284},"M-S10VK_CLNTOL_UMB"]
[null,null,"Fiber and Wire Brush (6 Row)",28002,"N/C",null,{"$f":"IF(F56=0,\" \",\"N/C\")","v":" "},{"$f":"IFERROR(IFERROR(VLOOKUP(D56,Surcharge!A:B,2,FALSE)*F56, VLOOKUP(D56 & \"\",Surcharge!A:B,2,FALSE)*F56), \"\")","v":""},null,null,null,null,null,null,{"$f":"VLOOKUP(P56,'MPF SAP Download Canada'!$A:$D,4,FALSE)","v":"N/C"},"M-S10VK_CLNTOL_FBWB"]
[null,null,null,null,null,null,null,{"$f":"IFERROR(IFERROR(VLOOKUP(D57,Surcharge!A:B,2,FALSE)*F57, VLOOKUP(D57 & \"\",Surcharge!A:B,2,FALSE)*F57), \"\")","v":""},null,null,null,null,null,null,null,""]
[null,null,"Side Cleaning Tool",null,null,{"$f":"SUM(F59:F60)","v":0},null,{"$f":"IFERROR(IFERROR(VLOOKUP(D58,Surcharge!A:B,2,FALSE)*F58, VLOOKUP(D58 & \"\",Surcharge!A:B,2,FALSE)*F58), \"\")","v":""},null,null,null,null,null,null,null,""]
[null,null,"Polyprolyene Brush","28096P","N/C",null,{"$f":"IF(F59=0,\" \",\"N/C\")","v":" "},{"$f":"IFERROR(IFERROR(VLOOKUP(D59,Surcharge!A:B,2,FALSE)*F59, VLOOKUP(D59 & \"\",Surcharge!A:B,2,FALSE)*F59), \"\")","v":""},null,null,null,null,null,null,{"$f":"VLOOKUP(P59,'MPF SAP Download Canada'!$A:$D,4,FALSE)","v":"N/C"},"M-S10VK_SDECLNTOL_PYP"]
[null,null,"Nylon Brush","28096N","N/C",null,{"$f":"IF(F60=0,\" \",\"N/C\")","v":" "},{"$f":"IFERROR(IFERROR(VLOOKUP(D60,Surcharge!A:B,2,FALSE)*F60, VLOOKUP(D60 & \"\",Surcharge!A:B,2,FALSE)*F60), \"\")","v":""},null,null,null,null,null,null,{"$f":"VLOOKUP(P60,'MPF SAP Download Canada'!$A:$D,4,FALSE)","v":"N/C"},"M-S10VK_SDECLNTOL_NYL"]
[null,null,null,null," ",null,null,{"$f":"IFERROR(IFERROR(VLOOKUP(D61,Surcharge!A:B,2,FALSE)*F61, VLOOKUP(D61 & \"\",Surcharge!A:B,2,FALSE)*F61), \"\")","v":""},null,null,null,null,null,null,null,""]
[null,"Support",null,"Reference Number",null,{"$f":"SUM(F63:F68)","v":0},null,{"$f":"IFERROR(IFERROR(VLOOKUP(D62,Surcharge!A:B,2,FALSE)*F62, VLOOKUP(D62 & \"\",Surcharge!A:B,2,FALSE)*F62), \"\")","v":""},null,null,null,null,null,null,null,""]
[null,null,"Operator Manual English",9012903,"N/C",null,{"$f":"IF(F63=0,\" \",\"N/C\")","v":" "},{"$f":"IFERROR(IFERROR(VLOOKUP(D63,Surcharge!A:B,2,FALSE)*F63, VLOOKUP(D63 & \"\",Surcharge!A:B,2,FALSE)*F63), \"\")","v":""},null,null,null,null,null,null,null,"M-S10"]
[null,null,"Operator Manual Spanish",331582,"N/C",null,{"$f":"IF(F64=0,\" \",\"N/C\")","v":" "},{"$f":"IFERROR(IFERROR(VLOOKUP(D64,Surcharge!A:B,2,FALSE)*F64, VLOOKUP(D64 & \"\",Surcharge!A:B,2,FALSE)*F64), \"\")","v":""},null,null,null,null,null,null,null,"M-S10"]
[null,null,"Operator Manual French  (Note 3)",331583,"N/C",null,{"$f":"IF(F65=0,\" \",\"N/C\")","v":" "},{"$f":"IFERROR(IFERROR(VLOOKUP(D65,Surcharge!A:B,2,FALSE)*F65, VLOOKUP(D65 & \"\",Surcharge!A:B,2,FALSE)*F65), \"\")","v":""},null,null,null,null,null,null,null,"M-S10"]
[null,null,"Additional Operator Manual","see above",79,null,{"$f":"F66*E66","v":0},{"$f":"IFERROR(IFERROR(VLOOKUP(D66,Surcharge!A:B,2,FALSE)*F66, VLOOKUP(D66 & \"\",Surcharge!A:B,2,FALSE)*F66), \"\")","v":""},null,null,null,null,null,null,{"$f":"VLOOKUP(P66,'MPF SAP Download Canada'!$A:$D,4,FALSE)","v":79},"M-S10VK_ADLOPRMNL"]
[null,null,null,null,null,null,null,{"$f":"IFERROR(IFERROR(VLOOKUP(D67,Surcharge!A:B,2,FALSE)*F67, VLOOKUP(D67 & \"\",Surcharge!A:B,2,FALSE)*F67), \"\")","v":""}]
[null,null,"Packaging",null,null,{"$f":"SUM(F69)","v":0},null,{"$f":"IFERROR(IFERROR(VLOOKUP(D68,Surcharge!A:B,2,FALSE)*F68, VLOOKUP(D68 & \"\",Surcharge!A:B,2,FALSE)*F68), \"\")","v":""}]
[null,null,"Skid w/Carton, Stackable ",830471,"N/C",null,{"$f":"IF(F69=0,\" \",\"N/C\")","v":" "},{"$f":"IFERROR(IFERROR(VLOOKUP(D69,Surcharge!A:B,2,FALSE)*F69, VLOOKUP(D69 & \"\",Surcharge!A:B,2,FALSE)*F69), \"\")","v":""}]
[null,null,null,null,null,null,null,{"$f":"IFERROR(IFERROR(VLOOKUP(D70,Surcharge!A:B,2,FALSE)*F70, VLOOKUP(D70 & \"\",Surcharge!A:B,2,FALSE)*F70), \"\")","v":""}]
[]
[null,"Custom Solution--write in description, qty, price, and PN if applicable",null,null,null,{"$f":"SUM(F73)","v":0}]
[null,null,null,null,"Insert Prices Here",{"$f":"SUM(F74:F77)","v":0}]
[null,null,null,"Custom",null,{"$f":"IF(E74 <> \"\", 1, 0)","v":0},{"$f":"F74*E74","v":0}]
[null,null,null,"Custom",null,{"$f":"IF(E75 <> \"\", 1, 0)","v":0},{"$f":"F75*E75","v":0}]
[null,null,null,"Custom",null,{"$f":"IF(E76 <> \"\", 1, 0)","v":0},{"$f":"F76*E76","v":0}]
[null,null,null,"Custom",null,{"$f":"IF(E77 <> \"\", 1, 0)","v":0},{"$f":"F77*E77","v":0}]
[null,null,null,null,{"$f":"ROUND(SUM(G43:G77), 0)","v":0},{"$f":"SUM(E79)","v":0}]
[null,null,null,"Machine Subtotal ",{"$f":"ROUND(SUM(G43:G77), 0)","v":0},{"$f":"F78","v":0}]
[null,"Discounts",null,null,null,{"$f":"SUM(F81)","v":0}]
[null,null,null,null,null,{"$f":"SUM(F83:F84)","v":0}]
[null,null,null,"Applicable Currency Adj %",null,{"$f":"IF(E82 <> \"\", 1, 0)","v":0},{"$f":"IF(F82*(E82*0.01)*E78 < 0, F82*(E82*0.01)*E78, -(F82*(E82*0.01)*E78))","v":0}]
[null,null,null,"Discount %",null,{"$f":"IF(E83 <> \"\", 1, 0)","v":0},{"$f":"IF(F83*(E83*0.01)*(E78+G82) < 0, F83*(E83*0.01)*(E78+G82), -(F83*(E83*0.01)*(E78+G82)))","v":0}]
[null,null,null,"Discount $",null,{"$f":"IF(E84 <> \"\", 1, 0)","v":0},{"$f":"IF(F84*E84 < 0, F84*E84, -(F84*E84))","v":0}]
[null,null,null,"Discount Total ",{"$f":"SUM(G82:G84)","v":0},{"$f":"SUM(E85)","v":0}]
[null,null,null,null,null,{"$f":"#REF!","v":{"$error":"#REF!"}}]
[null,null,null,null,null,{"$f":"F86","v":{"$error":"#REF!"}}]
[null,null,"Prepaid and Add","Freight",null,{"$f":"IF(E88 <> \"\", 1, 0)","v":0},{"$f":"F88*E88","v":0}]
[null,null,"Subject to all applicable taxes","Tax",null,{"$f":"IF(E89 <> \"\", 1, 0)","v":0},{"$f":"F89*E89","v":0}]
[null,null,null,null,null,{"$f":"SUM(F91)","v":0}]
[null,null,null,"MACHINE TOTAL*",null,{"$f":"SUM(G91)","v":0},{"$f":"SUM(G43:G89)","v":0},null,null,null,null,null,null,"This goes to \"My Documents\""]
[null,null,null,null,null,null,{"$f":"SUM(G91)","v":0}]
[]
[]
[]
[]
[null,null,"First Western Equipment Finance - Leasing Calculation Option:","Option 1",null,"Option 2",null,null,null,{"$f":"Financing!A38","v":"Rates 2023 - Rev 10/10/2023"}]
[null,null,null,"Monthly Payment","Cost Per Day","Monthly Payment","Cost Per Day",null,null,{"$f":"Financing!A39","v":"“Blank Payment Amounts Indicate The Financing Option Or Purchase Options Selected Are Not "}]
[null,null,"Purchase Option:","FWEF:  $1 Buyout Lease",null,"FWEF: Municipal Lease",null,null,null,{"$f":"Financing!A40","v":"Applicable Or The Machine Total Is Below The Minimum Amount For The Selected Vendor”"}]
[null,null,"24 Months",false,0,false,0,null,null,{"$f":"Financing!A41","v":"\"Quoted monthly payments are estimates only and are based on a certain level of credit rating."}]
[null,null,"30 Months",false,0,false,0,null,null,{"$f":"Financing!A42","v":"Actual monthly payments may be higher depending on your credit rating.\""}]
[null,null,"36 Months",false,0,false,0,null,null,{"$f":"Financing!A43","v":"“Financing rates do not include Pre-Paid Service”"}]
[null,null,"48 Months",0,0,0,0]
[]
[null,null,null,"Benefits of Equipment Financing:"]
[null,null,null,"• Spreads out investment over time.",null,"• Keep current with latest technology."]
[null,null,null,"• Preserve capital.",null,"• Service and parts bundling available."]
[null,null,null,"• Low monthly payment.",null,"• Pay for labor savings as you go."]
[]
[]
[null,"  TennantTrue",null,0,0]
[]
[null,null,"Is customer interested in service program?","Yes","*State/County selection required for TennantTrue service options"]
[]
[null,null,"If not, why?"]
[]
[null,null,"Term:",36,null,null,"AB Brushes","No"]
[null,null,"Monthly machine usage (hrs):","< 30/mo. (Avg. 1hr./day)"]
[]
[null,null,"TennantTrue: ","Gold Contract",null,"Silver Contract"]
[null,null,"Per Visit",null,null,421]
[null,null,"Monthly",144,null,67]
[null,null,"Annually",null,null,792]
[null,null,"Pre-Pay Full Term",4970,null,2327]
[null,null,"Hourly Labor Rate"]
[null,null,"Site Visit"]
[]
[null,null,"* Verify customer current pricing prior to quote. "]
[null,null,"**All rates and fees above reflect service for one (1) unit with the exception of Block of Time service."]
[null,null,"*Block of Time is available in 1 Year Term only and is priced as such no matter the term selection on this template."]
[]
[]
[]
[null,"Quote Special Instructions:"]
[]
[]
[null,{"$f":"Start_Here!E36","v":"Terms and Conditions"}]
[null,{"$f":"Start_Here!E37","v":"Ask your local sales rep for estimated lead times. Verify when placing order"}]
[null,{"$f":"Start_Here!E38","v":"All orders subject to acceptance by Tennant Sales and Service Company, Minneapolis, Minnesota"}]
[null,{"$f":"Start_Here!E39","v":"Prices subject to change without notice. Subject to any applicable taxes."}]
[null,{"$f":"Start_Here!E40","v":"Terms:  Net 30 days.  Payable in Canadian Funds"}]
[null,{"$f":"Start_Here!E41","v":"Freight:  Accessories, parts, supplies, detergents, and floor coatings orders delivered DDP "}]
[null,{"$f":"Start_Here!E42","v":"shipping point Frt PPD.  Machine orders delivered DDP shipping point Frt PPD and add."}]
[null,{"$f":"Start_Here!E43","v":"Returned Merchandise is subject to a restocking fee."}]
[null,{"$f":"Start_Here!E44","v":"All orders are subject to Tennant’s General Terms and Conditions available at http://www.tennantco.com/terms."}]
[null,{"$f":"Start_Here!E45","v":"Printed General Terms and Conditions are also available upon request."}]
[null,{"$f":"Start_Here!E46","v":0}]
[]
[null,null,null,null,"Quote Date :",null,{"$f":"Letter!$A$25","v":"2020-09-22"}]
[null,"Order Placement Information:  To place your order, fill in PO# and customer signatures,"]
[null,"call or fax to the numbers listed below. Customer Purchase Order is required."]
[null,"If information is missing, orders will be entered and held until all information is received."]
[null,null,"Customer Number",null,"Cust Grp 3"]
[null,null,{"$f":"Start_Here!$C$25","v":0},null,{"$f":"Start_Here!$C$29","v":0}]
[null,null,{"$f":"Start_Here!$B$18","v":"Who Owns the Machine? (Sold-To Info) (Please Verify)"}]
["Company",null,{"$f":"Start_Here!$C$19","v":"Company Name"}]
["Address",null,{"$f":"Start_Here!$C$20","v":"Address"}]
[null,null,{"$f":"Start_Here!$C$21","v":"City, State Zip"}]
["Name",null,{"$f":"Start_Here!$C$22","v":"Contact Name"}]
["Phone",null,{"$f":"Start_Here!$C$23","v":"Contact Phone"}]
[null,null,{"$f":"Start_Here!$B$11","v":"Where is the Machine Being Shipped? (Ship-To Info) (Please Verify)"}]
["Company",null,{"$f":"Start_Here!$C$12","v":"Company Name"}]
["Address",null,{"$f":"Start_Here!$C$13","v":"Address"}]
[null,null,{"$f":"Start_Here!$C$14","v":"City, State Zip"}]
["Name",null,{"$f":"Start_Here!$C$15","v":"Contact Name"}]
["Phone",null,{"$f":"Start_Here!$C$16","v":"Contact Phone"}]
[null,null,{"$f":"Start_Here!$B$31","v":"Shipping / Carrier Instructions:"},null,"Order Special Instructions:"]
[null,null,{"$f":"Start_Here!$C$32","v":0}]
[]
[null,null,"Customer Purchase Order No."]
[null,null,"(please attach copy)"]
[]
[]
[null,null,"Tax Exempt",null,"Yes"]
[null,null,null,null,"No"]
[null,null,"If Yes, attach a copy of your exemption certificate."]
[]
[null,null,"Requested Delivery Date"]
[null,null,{"$f":"Start_Here!$C$28","v":0}]
[]
[null,null,{"$f":"Start_Here!$C$26","v":0},null,{"$f":"Start_Here!$C$27","v":0}]
[null,null,"Authorized Buyer (please print)",null,"Phone Number"]
[]
[]
[null,null,"Authorized Buyer Signature"]
[]
[null,null,{"$f":"Start_Here!$C$41","v":"Rep Name"}]
[null,null,"Tennant Representative"]
[]
["Specialized Maintenance Equipment"]
[{"$f":"Start_Here!$C$48","v":"TENNANT · 10400 Clean Street · Eden Prairie, MN 55344 ·"}]
[{"$f":"Start_Here!$C$49","v":" PHONE:800-553-8033 · FAX:763-513-2116"}]
[]
[]
[null,"SPECIAL INFORMATION"]
[]
[null,1,"The HEPA Filter System will remove the Side Brush from the machine as it is not compatible."]
[]
[null,2,"If the S10 is being used on coated, polished, tile, or terazzo floors, the polyproplyene main brush (28007P) must be ordered."]
[]
[null,3,"A French and English manual will be supplied for all units shipping into Quebec, Canada at no charge.  An additional manual"]
[null,null,"can be ordered (for a total of 3 manuals) for an additional charge as stated under 'Additional Operator Manual'."]
[null,null,null," "]
[null,4,"Machine Weights and dimensions",null,"Skid w/Carton"]
[]
[null,null,"Weight (w/155AH Battery)",null,"700 lbs / 317 Kg"]
[null,null,"Length",null,"75\" / 1905 mm"]
[null,null,"Width",null,"40\" / 1016 mm"]
[null,null,"Height",null,"52\" / 1321 mm"]

{"sheet":"S16L","index":24,"n_rows":256,"n_cols":14,"rows_kept":256,"cut":false,"hidden":false,"merged":[[172,5,172,6],[173,3,173,4],[173,5,173,6],[174,3,174,4],[174,5,174,6],[172,3,172,4],[29,1,29,5],[0,2,0,3],[1,2,1,3],[2,2,2,3],[3,2,3,3],[11,2,11,3],[30,1,30,5],[31,1,31,5],[32,1,32,5],[33,1,33,5],[34,1,34,5],[145,3,145,4],[145,5,145,6],[147,3,147,4],[147,5,147,6],[161,4,161,8],[163,3,163,6],[165,3,165,4],[166,3,166,4],[168,3,168,4],[168,5,168,6],[169,3,169,4],[169,5,169,6],[170,3,170,4],[170,5,170,6],[171,3,171,4],[171,5,171,6],[205,0,205,1],[205,2,205,5],[183,1,183,6],[203,4,203,6],[206,2,206,5],[207,2,207,5],[208,0,208,1],[208,2,208,5],[209,0,209,1],[209,2,209,5],[230,4,230,5],[27,1,27,2],[215,0,215,1],[215,2,215,5],[217,4,217,6],[219,2,219,5],[220,2,220,5],[221,2,221,5],[211,0,211,1],[211,2,211,5],[212,0,212,1],[212,2,212,5],[213,2,213,5],[214,0,214,1],[214,2,214,5],[206,0,206,1]]}
["S16L",null,{"$f":"Start_Here!$C19","v":"Company Name"}]
[{"$f":"SUM(G140)","v":0},null,{"$f":"Start_Here!$C20","v":"Address"}]
[null,null,{"$f":"Start_Here!$C21","v":"City, State Zip"}]
[null,null,{"$f":"Start_Here!$C22","v":"Contact Name"}]
[null,null,{"$f":"Start_Here!$C$41","v":"Rep Name"}]
[null,null,{"$f":"Start_Here!$C$37","v":"Tennant Sales and Service Company"}]
[null,null,{"$f":"Start_Here!$C$38","v":"10400 Clean Street"}]
[null,null,{"$f":"Start_Here!$C$39","v":"Eden Prairie, MN 55344"}]
[null,null,{"$f":"Start_Here!$C$43","v":"800-553-8033"},null,"Quote Date :",null,{"$f":"Letter!$A$25","v":"2020-09-22"}]
[]
[null,null,{"$f":"Help!C2","v":"CAN Date Rev - 9/30/2024"}]
[null,null,"                                      BUILT-IN \"TENNANT VALUE\" INCLUDES:"]
[]
[null,"MaxPro™ Sweeping Technology",null,"Wet Sweeping By-Pass"]
[null,"1-Step™ Control Module",null,"UL-Label (Type E)"]
[null,"46\" (1170mm) Sweep Path",null,"Tool-less Side Panel Removal"]
[null,"No-Tool Brush Change",null,"Soft corner rollers all-around"]
[null,"Multi-stage Air Filtration & Dust Control",null,"Hour Meter"]
[null,null,"Stage 1: Perma-filter™","Battery Discharge Indicator"]
[null,null,"Stage 2: Panel filter","Horn"]
[null,null,"97.0 ft² (9.0 m2) Pleated Media","Cup Holders"]
[null,"Flap and Trap Debris Pedal",null,"Automatic Parking Brake"]
[null,"Retractable Right Hand Side Brush",null,"Yellow Maintenance Touch Points"]
[null,"Thermo-Sentry™ Hopper Fire Sensor",null,"Seat occupancy interlock safety switch"]
[null,"Worn main brush indicator light",null,"Main and right side brush (Standard)"]
[null,"5.3 ft3 (150 L) Hopper Volume Capacity",null,"Onboard Diagnostics"]
[null,"200 lbs (90 kg) Hopper Weight Capacity",null,"Operator and parts manual"]
[null,"Duramer™ Hopper Construction"]
[]
[null,"TENNANT COMPANY WARRANTY"]
[null,"3 YEARS OR 2000 HOURS - PARTS"]
[null,"6 MONTHS - LABOR"]
[null,"6 MONTHS - TRAVEL"]
[null,"10 YEARS ON DURAMERTM HOPPER"]
[null,"CUSTOM Options May Add 1 Week Or More to Standard Lead Times"]
[]
[null,null,null,null,"                Quote Request Information"]
[null,null,null,null,null,null,"Fax (quote only)"]
[null,null,null,null,null,null,"Mail (quote,lit, specs)"]
[null,null,null,null,null,null,"Fax + Mail"]
[]
[null,null,null,null,"                Primary Use"]
[null,null,null,null,null,null,"Inside"]
[null,null,null,null,null,null,"Outside"]
[]
[]
[null,null,"Description","Reference # ","Price Each","Qty","Extended Price"]
[null,"Base Configuration",null,null,null,{"$f":"SUM(F49,F52,F60)","v":0}]
[null,null,"Cleaning Type",null,null,{"$f":"SUM(F50:F50)","v":0},null,null,null,null,null,{"$f":"SUM(F49)","v":0},"Surcharge Qty"]
[null,null,"S16 Rider Sweeper - Low Dump","S16L",42637,null,{"$f":"F50*E50","v":0},{"$f":"IFERROR(IFERROR(VLOOKUP(D50,Surcharge!A:B,2,FALSE)*F50, VLOOKUP(D50 & \"\",Surcharge!A:B,2,FALSE)*F50), \"\")","v":""}]
[]
[null,null,"Battery Type",null,null,{"$f":"SUM(F53:F55)","v":0}]
[null,null,"Wet 240AH C/20",9045055,"N/C",null,{"$f":"IF(F53=0,\" \",\"N/C\")","v":" "},{"$f":"IFERROR(IFERROR(VLOOKUP(D53,Surcharge!A:B,2,FALSE)*F53, VLOOKUP(D53 & \"\",Surcharge!A:B,2,FALSE)*F53), \"\")","v":""}]
[null,null,"Wet 360AH C/20",9045056,1510,null,{"$f":"F54*E54","v":0},{"$f":"IFERROR(IFERROR(VLOOKUP(D54,Surcharge!A:B,2,FALSE)*F54, VLOOKUP(D54 & \"\",Surcharge!A:B,2,FALSE)*F54), \"\")","v":""}]
[null,null,"Without - Less Battery, DEDUCT",9045060,-693,null,{"$f":"F55*E55","v":0},{"$f":"IFERROR(IFERROR(VLOOKUP(D55,Surcharge!A:B,2,FALSE)*F55, VLOOKUP(D55 & \"\",Surcharge!A:B,2,FALSE)*F55), \"\")","v":""}]
[null,null,null,null,null,null,null,{"$f":"IFERROR(IFERROR(VLOOKUP(D56,Surcharge!A:B,2,FALSE)*F56, VLOOKUP(D56 & \"\",Surcharge!A:B,2,FALSE)*F56), \"\")","v":""}]
[null,null,"Smart-Fill Automatic Battery Watering System ",9045062,1603,null,{"$f":"F57*E57","v":0},{"$f":"IFERROR(IFERROR(VLOOKUP(D57,Surcharge!A:B,2,FALSE)*F57, VLOOKUP(D57 & \"\",Surcharge!A:B,2,FALSE)*F57), \"\")","v":""}]
[null,null,"Manual Battery Watering System ",9045073,1042,null,{"$f":"F58*E58","v":0},{"$f":"IFERROR(IFERROR(VLOOKUP(D58,Surcharge!A:B,2,FALSE)*F58, VLOOKUP(D58 & \"\",Surcharge!A:B,2,FALSE)*F58), \"\")","v":""}]
[null,null,null,null,null,null,null,{"$f":"IFERROR(IFERROR(VLOOKUP(D59,Surcharge!A:B,2,FALSE)*F59, VLOOKUP(D59 & \"\",Surcharge!A:B,2,FALSE)*F59), \"\")","v":""}]
[null,null,"Charger","Reference Number",null,{"$f":"SUM(F61:F66)","v":0},null,{"$f":"IFERROR(IFERROR(VLOOKUP(D60,Surcharge!A:B,2,FALSE)*F60, VLOOKUP(D60 & \"\",Surcharge!A:B,2,FALSE)*F60), \"\")","v":""}]
[null,null,"25A 100-240V AC 50/60Hz 1Ph - Off Board (for 240 and 360AH Batteries)",9045257,"N/C",null,{"$f":"IF(F61=0,\" \",\"N/C\")","v":" "},{"$f":"IFERROR(IFERROR(VLOOKUP(D61,Surcharge!A:B,2,FALSE)*F61, VLOOKUP(D61 & \"\",Surcharge!A:B,2,FALSE)*F61), \"\")","v":""}]
[null,null,"25A 100-240V AC 50/60Hz 1Ph - On Board (for 240 and 360AH Batteries)",9045255,1152,null,{"$f":"F62*E62","v":0},{"$f":"IFERROR(IFERROR(VLOOKUP(D62,Surcharge!A:B,2,FALSE)*F62, VLOOKUP(D62 & \"\",Surcharge!A:B,2,FALSE)*F62), \"\")","v":""}]
[null,null,"33A 100-240V AC 50/60Hz 1Ph - On Board (for 240 and 360AH Batteries)",9045256,1490,null,{"$f":"F63*E63","v":0},{"$f":"IFERROR(IFERROR(VLOOKUP(D63,Surcharge!A:B,2,FALSE)*F63, VLOOKUP(D63 & \"\",Surcharge!A:B,2,FALSE)*F63), \"\")","v":""}]
[null,null,"Without - Less Charger, DEDUCT",null,-279,null,{"$f":"F64*E64","v":0},{"$f":"IFERROR(IFERROR(VLOOKUP(D64,Surcharge!A:B,2,FALSE)*F64, VLOOKUP(D64 & \"\",Surcharge!A:B,2,FALSE)*F64), \"\")","v":""}]
[null,null,null,null," ",null,null,{"$f":"IFERROR(IFERROR(VLOOKUP(D65,Surcharge!A:B,2,FALSE)*F65, VLOOKUP(D65 & \"\",Surcharge!A:B,2,FALSE)*F65), \"\")","v":""}]
[null,null,"UL Type ES",9017316,3994,null,{"$f":"F66*E66","v":0},{"$f":"IFERROR(IFERROR(VLOOKUP(D66,Surcharge!A:B,2,FALSE)*F66, VLOOKUP(D66 & \"\",Surcharge!A:B,2,FALSE)*F66), \"\")","v":""}]
[null,null,null,null,null,null,null,{"$f":"IFERROR(IFERROR(VLOOKUP(D67,Surcharge!A:B,2,FALSE)*F67, VLOOKUP(D67 & \"\",Surcharge!A:B,2,FALSE)*F67), \"\")","v":""}]
[null,"Packages",null,"Reference Number",null,{"$f":"SUM(F69:F78)","v":0},null,{"$f":"IFERROR(IFERROR(VLOOKUP(D68,Surcharge!A:B,2,FALSE)*F68, VLOOKUP(D68 & \"\",Surcharge!A:B,2,FALSE)*F68), \"\")","v":""}]
[null,null,"Productivity Package","PRD-S16",3874,null,{"$f":"F69*E69","v":0},{"$f":"IFERROR(IFERROR(VLOOKUP(D69,Surcharge!A:B,2,FALSE)*F69, VLOOKUP(D69 & \"\",Surcharge!A:B,2,FALSE)*F69), \"\")","v":""}]
[null,null,"Includes:  Dual Side Brush, Vacuum Wand",null,null,{"$f":"SUM(F69)","v":0},null,{"$f":"IFERROR(IFERROR(VLOOKUP(D70,Surcharge!A:B,2,FALSE)*F70, VLOOKUP(D70 & \"\",Surcharge!A:B,2,FALSE)*F70), \"\")","v":""}]
[null,null,"Safety Light Package","SFY-S16",3037,null,{"$f":"F71*E71","v":0},{"$f":"IFERROR(IFERROR(VLOOKUP(D71,Surcharge!A:B,2,FALSE)*F71, VLOOKUP(D71 & \"\",Surcharge!A:B,2,FALSE)*F71), \"\")","v":""}]
[null,null,"Includes:  Headlight & Tail Lights, AV Back Up Alarm w/ Strobe, Blue Light",null,null,{"$f":"SUM(F71)","v":0},null,{"$f":"IFERROR(IFERROR(VLOOKUP(D72,Surcharge!A:B,2,FALSE)*F72, VLOOKUP(D72 & \"\",Surcharge!A:B,2,FALSE)*F72), \"\")","v":""}]
[null,null,"Carpet Care Package",9045122,901,null,{"$f":"F73*E73","v":0},{"$f":"IFERROR(IFERROR(VLOOKUP(D73,Surcharge!A:B,2,FALSE)*F73, VLOOKUP(D73 & \"\",Surcharge!A:B,2,FALSE)*F73), \"\")","v":""}]
[null,null,"Includes:  Natural Fiber main brush, Non-marking skirts, FiberShield™ Lint Screen, Slotted front main brush skirt",null,null,{"$f":"SUM(F73)","v":0},null,{"$f":"IFERROR(IFERROR(VLOOKUP(D74,Surcharge!A:B,2,FALSE)*F74, VLOOKUP(D74 & \"\",Surcharge!A:B,2,FALSE)*F74), \"\")","v":""}]
[null,null,"HEPA Dust Filter Package - For Right Hand Side Brush","HDR-S16",10259,null,{"$f":"F75*E75","v":0},{"$f":"IFERROR(IFERROR(VLOOKUP(D75,Surcharge!A:B,2,FALSE)*F75, VLOOKUP(D75 & \"\",Surcharge!A:B,2,FALSE)*F75), \"\")","v":""}]
[null,null,"Includes:  Right Hand Side Brush, Dry Dust Control - Right Hand, HEPA Filter System ",null,null,{"$f":"SUM(F75)","v":0},null,{"$f":"IFERROR(IFERROR(VLOOKUP(D76,Surcharge!A:B,2,FALSE)*F76, VLOOKUP(D76 & \"\",Surcharge!A:B,2,FALSE)*F76), \"\")","v":""}]
[null,null,"HEPA Dust Filter Package - For Dual Side Brush","HDD-S16",11069,null,{"$f":"F77*E77","v":0},{"$f":"IFERROR(IFERROR(VLOOKUP(D77,Surcharge!A:B,2,FALSE)*F77, VLOOKUP(D77 & \"\",Surcharge!A:B,2,FALSE)*F77), \"\")","v":""}]
[null,null,"Includes:  Dual Side Brush, Dry Dust Control - Dual, HEPA Filter System ",null,null,{"$f":"SUM(F77)","v":0},null,{"$f":"IFERROR(IFERROR(VLOOKUP(D78,Surcharge!A:B,2,FALSE)*F78, VLOOKUP(D78 & \"\",Surcharge!A:B,2,FALSE)*F78), \"\")","v":""}]
[null,null,null,null,null,null,null,{"$f":"IFERROR(IFERROR(VLOOKUP(D79,Surcharge!A:B,2,FALSE)*F79, VLOOKUP(D79 & \"\",Surcharge!A:B,2,FALSE)*F79), \"\")","v":""}]
[null,"Cleaning Performance",null,"Reference Number",null,{"$f":"SUM(F81:F86)","v":0},null,{"$f":"IFERROR(IFERROR(VLOOKUP(D80,Surcharge!A:B,2,FALSE)*F80, VLOOKUP(D80 & \"\",Surcharge!A:B,2,FALSE)*F80), \"\")","v":""}]
[null,null,"Dual Side Brush",9045101,1519,null,{"$f":"F81*E81","v":0},{"$f":"IFERROR(IFERROR(VLOOKUP(D81,Surcharge!A:B,2,FALSE)*F81, VLOOKUP(D81 & \"\",Surcharge!A:B,2,FALSE)*F81), \"\")","v":""}]
[null,null,"Side Brush Dust Control - Dry  (Right Hand Side Brush)",9045105,1551,null,0,{"$f":"IFERROR(IFERROR(VLOOKUP(D82,Surcharge!A:B,2,FALSE)*F82, VLOOKUP(D82 & \"\",Surcharge!A:B,2,FALSE)*F82), \"\")","v":""}]
[null,null,"Side Brush Dust Control - Dry  (Dual Side Brush)",9045106,2362,null,0,{"$f":"IFERROR(IFERROR(VLOOKUP(D83,Surcharge!A:B,2,FALSE)*F83, VLOOKUP(D83 & \"\",Surcharge!A:B,2,FALSE)*F83), \"\")","v":""}]
[null,null,"Vacuum Wand",9045161,2564,null,0,{"$f":"IFERROR(IFERROR(VLOOKUP(D84,Surcharge!A:B,2,FALSE)*F84, VLOOKUP(D84 & \"\",Surcharge!A:B,2,FALSE)*F84), \"\")","v":""}]
[null,null,"HEPA Filter System  (Note 1)",9045159,8709,null,0,{"$f":"IFERROR(IFERROR(VLOOKUP(D85,Surcharge!A:B,2,FALSE)*F85, VLOOKUP(D85 & \"\",Surcharge!A:B,2,FALSE)*F85), \"\")","v":""}]
[null,null,"Removable Hopper Bins",9045164,901,null,0,{"$f":"IFERROR(IFERROR(VLOOKUP(D86,Surcharge!A:B,2,FALSE)*F86, VLOOKUP(D86 & \"\",Surcharge!A:B,2,FALSE)*F86), \"\")","v":""}]
[null,null,null,null,null,null,null,{"$f":"IFERROR(IFERROR(VLOOKUP(D87,Surcharge!A:B,2,FALSE)*F87, VLOOKUP(D87 & \"\",Surcharge!A:B,2,FALSE)*F87), \"\")","v":""}]
[null,"Machine Protection & Safety",null,"Reference Number",null,{"$f":"SUM(F89:F94)","v":0},null,{"$f":"IFERROR(IFERROR(VLOOKUP(D88,Surcharge!A:B,2,FALSE)*F88, VLOOKUP(D88 & \"\",Surcharge!A:B,2,FALSE)*F88), \"\")","v":""}]
[null,null,"Overhead Guard",9045052,2288,null,{"$f":"F89*E89","v":0},{"$f":"IFERROR(IFERROR(VLOOKUP(D89,Surcharge!A:B,2,FALSE)*F89, VLOOKUP(D89 & \"\",Surcharge!A:B,2,FALSE)*F89), \"\")","v":""}]
[null,null,"Deluxe Seat with Armrests and Seat Belt",9045201,794,null,0,{"$f":"IFERROR(IFERROR(VLOOKUP(D90,Surcharge!A:B,2,FALSE)*F90, VLOOKUP(D90 & \"\",Surcharge!A:B,2,FALSE)*F90), \"\")","v":""}]
[null,null,"Headlight & Tail Lights  (Note 2)",9045206,834,null,0,{"$f":"IFERROR(IFERROR(VLOOKUP(D91,Surcharge!A:B,2,FALSE)*F91, VLOOKUP(D91 & \"\",Surcharge!A:B,2,FALSE)*F91), \"\")","v":""}]
[null,null,"AU BU Alarm-Strobe on Lintel  (Note 2)",9045204,934,null,0,{"$f":"IFERROR(IFERROR(VLOOKUP(D92,Surcharge!A:B,2,FALSE)*F92, VLOOKUP(D92 & \"\",Surcharge!A:B,2,FALSE)*F92), \"\")","v":""}]
[null,null,"Blue Light",9045208,1433,null,0,{"$f":"IFERROR(IFERROR(VLOOKUP(D93,Surcharge!A:B,2,FALSE)*F93, VLOOKUP(D93 & \"\",Surcharge!A:B,2,FALSE)*F93), \"\")","v":""}]
[null,null,"Fire Extinguisher",9045069,475,null,0,{"$f":"IFERROR(IFERROR(VLOOKUP(D94,Surcharge!A:B,2,FALSE)*F94, VLOOKUP(D94 & \"\",Surcharge!A:B,2,FALSE)*F94), \"\")","v":""}]
[null,null,null,null,null,null,null,{"$f":"IFERROR(IFERROR(VLOOKUP(D95,Surcharge!A:B,2,FALSE)*F95, VLOOKUP(D95 & \"\",Surcharge!A:B,2,FALSE)*F95), \"\")","v":""}]
[null,"Brushes",null,"Reference Number",null,{"$f":"SUM(F97,F104)","v":0},null,{"$f":"IFERROR(IFERROR(VLOOKUP(D96,Surcharge!A:B,2,FALSE)*F96, VLOOKUP(D96 & \"\",Surcharge!A:B,2,FALSE)*F96), \"\")","v":""}]
[null,null,"Main Sweeping Brushes",null,null,{"$f":"SUM(F98:F102)","v":0},null,{"$f":"IFERROR(IFERROR(VLOOKUP(D97,Surcharge!A:B,2,FALSE)*F97, VLOOKUP(D97 & \"\",Surcharge!A:B,2,FALSE)*F97), \"\")","v":""}]
[null,null,"Polypropylene Brush",1240255,"N/C",null,{"$f":"IF(F98=0,\" \",\"N/C\")","v":" "},{"$f":"IFERROR(IFERROR(VLOOKUP(D98,Surcharge!A:B,2,FALSE)*F98, VLOOKUP(D98 & \"\",Surcharge!A:B,2,FALSE)*F98), \"\")","v":""}]
[null,null,"Polypropylene and Wire Brush",1254155,"N/C",null,{"$f":"IF(F99=0,\" \",\"N/C\")","v":" "},{"$f":"IFERROR(IFERROR(VLOOKUP(D99,Surcharge!A:B,2,FALSE)*F99, VLOOKUP(D99 & \"\",Surcharge!A:B,2,FALSE)*F99), \"\")","v":""}]
[null,null,"Polypropylene, Window Brush",1239052,318,null,{"$f":"F100*E100","v":0},{"$f":"IFERROR(IFERROR(VLOOKUP(D100,Surcharge!A:B,2,FALSE)*F100, VLOOKUP(D100 & \"\",Surcharge!A:B,2,FALSE)*F100), \"\")","v":""}]
[null,null,"Sand Wedge Brush",1239051,318,null,{"$f":"F101*E101","v":0},{"$f":"IFERROR(IFERROR(VLOOKUP(D101,Surcharge!A:B,2,FALSE)*F101, VLOOKUP(D101 & \"\",Surcharge!A:B,2,FALSE)*F101), \"\")","v":""}]
[null,null,"Natural Fiber Brush",1239050,318,null,{"$f":"F102*E102","v":0},{"$f":"IFERROR(IFERROR(VLOOKUP(D102,Surcharge!A:B,2,FALSE)*F102, VLOOKUP(D102 & \"\",Surcharge!A:B,2,FALSE)*F102), \"\")","v":""}]
[null,null,null,null,null,null,null,{"$f":"IFERROR(IFERROR(VLOOKUP(D103,Surcharge!A:B,2,FALSE)*F103, VLOOKUP(D103 & \"\",Surcharge!A:B,2,FALSE)*F103), \"\")","v":""}]
[null,null,"Side Sweeping Brushes",null,null,{"$f":"SUM(F105)","v":0},null,{"$f":"IFERROR(IFERROR(VLOOKUP(D104,Surcharge!A:B,2,FALSE)*F104, VLOOKUP(D104 & \"\",Surcharge!A:B,2,FALSE)*F104), \"\")","v":""}]
[null,null,"Polypropylene Brush",1225549,"N/C",null,{"$f":"IF(F105=0,\" \",\"N/C\")","v":" "},{"$f":"IFERROR(IFERROR(VLOOKUP(D105,Surcharge!A:B,2,FALSE)*F105, VLOOKUP(D105 & \"\",Surcharge!A:B,2,FALSE)*F105), \"\")","v":""}]
[null,null,null,null,null,null,null,{"$f":"IFERROR(IFERROR(VLOOKUP(D106,Surcharge!A:B,2,FALSE)*F106, VLOOKUP(D106 & \"\",Surcharge!A:B,2,FALSE)*F106), \"\")","v":""}]
[null,"Support  (Note 3)",null,"Reference Number",null,{"$f":"SUM(F108:F117)","v":0},null,{"$f":"IFERROR(IFERROR(VLOOKUP(D107,Surcharge!A:B,2,FALSE)*F107, VLOOKUP(D107 & \"\",Surcharge!A:B,2,FALSE)*F107), \"\")","v":""}]
[null,null,"Standard Warranty",null,"N/C",null,{"$f":"IF(F108=0,\" \",\"N/C\")","v":" "},{"$f":"IFERROR(IFERROR(VLOOKUP(D108,Surcharge!A:B,2,FALSE)*F108, VLOOKUP(D108 & \"\",Surcharge!A:B,2,FALSE)*F108), \"\")","v":""}]
[null,null,"Ultimate Performance Guarantee",null,"N/C",null,{"$f":"IF(F109=0,\" \",\"N/C\")","v":" "},{"$f":"IFERROR(IFERROR(VLOOKUP(D109,Surcharge!A:B,2,FALSE)*F109, VLOOKUP(D109 & \"\",Surcharge!A:B,2,FALSE)*F109), \"\")","v":""}]
[null,null,"Operator Manual (English)",9045321,"N/C",null,{"$f":"IF(F110=0,\" \",\"N/C\")","v":" "},{"$f":"IFERROR(IFERROR(VLOOKUP(D110,Surcharge!A:B,2,FALSE)*F110, VLOOKUP(D110 & \"\",Surcharge!A:B,2,FALSE)*F110), \"\")","v":""}]
[null,null,"Operator Manual (Spanish)",9045322,"N/C",null,{"$f":"IF(F111=0,\" \",\"N/C\")","v":" "},{"$f":"IFERROR(IFERROR(VLOOKUP(D111,Surcharge!A:B,2,FALSE)*F111, VLOOKUP(D111 & \"\",Surcharge!A:B,2,FALSE)*F111), \"\")","v":""}]
[null,null,"Operator Manual (French)  (Note 4)",9045323,"N/C",null,{"$f":"IF(F112=0,\" \",\"N/C\")","v":" "},{"$f":"IFERROR(IFERROR(VLOOKUP(D112,Surcharge!A:B,2,FALSE)*F112, VLOOKUP(D112 & \"\",Surcharge!A:B,2,FALSE)*F112), \"\")","v":""}]
[null,null,"Additional Operator Manual","SEE ABOVE",264,null,{"$f":"F113*E113","v":0},{"$f":"IFERROR(IFERROR(VLOOKUP(D113,Surcharge!A:B,2,FALSE)*F113, VLOOKUP(D113 & \"\",Surcharge!A:B,2,FALSE)*F113), \"\")","v":""},{"$f":"IF(F113=0,\"\",\"Please select a required package in the IRIS Machine Communication below.\")","v":""}]
[null,null,"Parts Manual",9045325,"N/C",null,{"$f":"IF(F114=0,\" \",\"N/C\")","v":" "},{"$f":"IFERROR(IFERROR(VLOOKUP(D114,Surcharge!A:B,2,FALSE)*F114, VLOOKUP(D114 & \"\",Surcharge!A:B,2,FALSE)*F114), \"\")","v":""}]
[null,null,"Service Manual",9045326,340,null,{"$f":"F115*E115","v":0},{"$f":"IFERROR(IFERROR(VLOOKUP(D115,Surcharge!A:B,2,FALSE)*F115, VLOOKUP(D115 & \"\",Surcharge!A:B,2,FALSE)*F115), \"\")","v":""}]
[null,null,null,null,null,null,null,{"$f":"IFERROR(IFERROR(VLOOKUP(D116,Surcharge!A:B,2,FALSE)*F116, VLOOKUP(D116 & \"\",Surcharge!A:B,2,FALSE)*F116), \"\")","v":""}]
[null,null,"Packaging",null,null,{"$f":"SUM(F118:F118)","v":0},null,{"$f":"IFERROR(IFERROR(VLOOKUP(D117,Surcharge!A:B,2,FALSE)*F117, VLOOKUP(D117 & \"\",Surcharge!A:B,2,FALSE)*F117), \"\")","v":""}]
[null,null,"Skid w/Carton, Non-Stackable",9045304,645,null,{"$f":"F118*E118","v":0},{"$f":"IFERROR(IFERROR(VLOOKUP(D118,Surcharge!A:B,2,FALSE)*F118, VLOOKUP(D118 & \"\",Surcharge!A:B,2,FALSE)*F118), \"\")","v":""}]
[]
[null,null,null,null,null,"  "]
[null,"Custom Solution--write in description, qty, price, and PN if applicable",null,null,null,{"$f":"SUM(F122)","v":0}]
[null,null,null,null,"Insert Prices Here",{"$f":"SUM(F123:F126)","v":0}]
[null,null,null,"Custom",null,{"$f":"IF(E123 <> \"\", 1, 0)","v":0},{"$f":"F123*E123","v":0}]
[null,null,null,"Custom",null,{"$f":"IF(E124 <> \"\", 1, 0)","v":0},{"$f":"F124*E124","v":0}]
[null,null,null,"Custom",null,{"$f":"IF(E125 <> \"\", 1, 0)","v":0},{"$f":"F125*E125","v":0}]
[null,null,null,"Custom",null,{"$f":"IF(E126 <> \"\", 1, 0)","v":0},{"$f":"F126*E126","v":0}]
[null,null,null,null,{"$f":"ROUND(SUM(G50:G126), 0)","v":0},{"$f":"SUM(E128)","v":0}]
[null,null,null,"Machine Subtotal ",{"$f":"ROUND(SUM(G50:G126), 0)","v":0},{"$f":"F127","v":0}]
[null,"Discounts",null,null,null,{"$f":"SUM(F130)","v":0}]
[null,null,null,null,null,{"$f":"SUM(F132:F133)","v":0}]
[null,null,null,"Applicable Currency Adj %",null,{"$f":"IF(E131 <> \"\", 1, 0)","v":0},{"$f":"IF(F131*(E131*0.01)*E127 < 0, F131*(E131*0.01)*E127, -(F131*(E131*0.01)*E127))","v":0}]
[null,null,null,"Discount %",null,{"$f":"IF(E132 <> \"\", 1, 0)","v":0},{"$f":"IF(F132*(E132*0.01)*(E127+G131) < 0, F132*(E132*0.01)*(E127+G131), -(F132*(E132*0.01)*(E127+G131)))","v":0}]
[null,null,null,"Discount $",null,{"$f":"IF(E133 <> \"\", 1, 0)","v":0},{"$f":"IF(F133*E133 < 0, F133*E133, -(F133*E133))","v":0}]
[null,null,null,"Discount Total ",{"$f":"SUM(G131:G133)","v":0},{"$f":"SUM(E134)","v":0}]
[null,null,null,null,null,{"$f":"#REF!","v":{"$error":"#REF!"}}]
[null,null,null,null,null,{"$f":"F135","v":{"$error":"#REF!"}}]
[null,null,"Prepaid and Add","Freight",null,{"$f":"IF(E137 <> \"\", 1, 0)","v":0},{"$f":"F137*E137","v":0}]
[null,null,"Subject to all applicable taxes","Tax",null,{"$f":"IF(E138 <> \"\", 1, 0)","v":0},{"$f":"F138*E138","v":0}]
[null,null,null,null,null,{"$f":"SUM(F140)","v":0}]
[null,null,null,"MACHINE TOTAL*",null,{"$f":"SUM(G140)","v":0},{"$f":"SUM(G50:G138)","v":0},null,null,null,null,null,null,"This goes to \"My Documents\""]
[null,null,null,null,null,null,{"$f":"SUM(G140)","v":0}]
[]
[]
[]
[]
[null,null,"First Western Equipment Finance - Leasing Calculation Option:","Option 1",null,"Option 2",null,null,null,{"$f":"Financing!A38","v":"Rates 2023 - Rev 10/10/2023"}]
[null,null,null,"Monthly Payment","Cost Per Day","Monthly Payment","Cost Per Day",null,null,{"$f":"Financing!A39","v":"“Blank Payment Amounts Indicate The Financing Option Or Purchase Options Selected Are Not "}]
[null,null,"Purchase Option:","FWEF:  $1 Buyout Lease",null,"FWEF: Municipal Lease",null,null,null,{"$f":"Financing!A40","v":"Applicable Or The Machine Total Is Below The Minimum Amount For The Selected Vendor”"}]
[null,null,"24 Months",false,0,false,0,null,null,{"$f":"Financing!A41","v":"\"Quoted monthly payments are estimates only and are based on a certain level of credit rating."}]
[null,null,"30 Months",false,0,false,0,null,null,{"$f":"Financing!A42","v":"Actual monthly payments may be higher depending on your credit rating.\""}]
[null,null,"36 Months",false,0,false,0,null,null,{"$f":"Financing!A43","v":"“Financing rates do not include Pre-Paid Service”"}]
[null,null,"48 Months",0,0,0,0,null,{"$f":"Financing!A44","v":0}]
[]
[null,null,null,"Benefits of Equipment Financing:"]
[null,null,null,"• Spreads out investment over time.",null,"• Keep current with latest technology."]
[null,null,null,"• Preserve capital.",null,"• Service and parts bundling available."]
[null,null,null,"• Low monthly payment.",null,"• Pay for labor savings as you go."]
[]
[]
[null,"  TennantTrue",null,0,0]
[]
[null,null,"Is customer interested in service program?","Yes","*State/County selection required for TennantTrue service options"]
[]
[null,null,"If not, why?"]
[]
[null,null,"Term:",36,null,null,"AB Brushes","No"]
[null,null,"Monthly machine usage (hrs):","< 30/mo. (Avg. 1hr./day)"]
[]
[null,null,"TennantTrue: ","Gold Contract",null,"Silver Contract"]
[null,null,"Per Visit",null,null,460]
[null,null,"Monthly",202,null,96]
[null,null,"Annually",null,null,1126]
[null,null,"Pre-Pay Full Term",6990,null,3311]
[null,null,"Hourly Labor Rate"]
[null,null,"Site Visit"]
[]
[null,null,"* Verify customer current pricing prior to quote. "]
[null,null,"**All rates and fees above reflect service for one (1) unit with the exception of Block of Time service."]
[null,null,"*Block of Time is available in 1 Year Term only and is priced as such no matter the term selection on this template."]
[]
[]
[]
[null,"Quote Special Instructions:"]
[]
[]
[null,{"$f":"Start_Here!E36","v":"Terms and Conditions"}]
[null,{"$f":"Start_Here!E37","v":"Ask your local sales rep for estimated lead times. Verify when placing order"}]
[null,{"$f":"Start_Here!E38","v":"All orders subject to acceptance by Tennant Sales and Service Company, Minneapolis, Minnesota"}]
[null,{"$f":"Start_Here!E39","v":"Prices subject to change without notice. Subject to any applicable taxes."}]
[null,{"$f":"Start_Here!E40","v":"Terms:  Net 30 days.  Payable in Canadian Funds"}]
[null,{"$f":"Start_Here!E41","v":"Freight:  Accessories, parts, supplies, detergents, and floor coatings orders delivered DDP "}]
[null,{"$f":"Start_Here!E42","v":"shipping point Frt PPD.  Machine orders delivered DDP shipping point Frt PPD and add."}]
[null,{"$f":"Start_Here!E43","v":"Returned Merchandise is subject to a restocking fee."}]
[null,{"$f":"Start_Here!E44","v":"All orders are subject to Tennant’s General Terms and Conditions available at http://www.tennantco.com/terms."}]
[null,{"$f":"Start_Here!E45","v":"Printed General Terms and Conditions are also available upon request."}]
[null,{"$f":"Start_Here!E46","v":0}]
[]
[null,null,null,null,"Quote Date :",null,{"$f":"Letter!$A$25","v":"2020-09-22"}]
[null,"Order Placement Information:  To place your order, fill in PO# and customer signatures,"]
[null,"call or fax to the numbers listed below. Customer Purchase Order is required."]
[null,"If information is missing, orders will be entered and held until all information is received."]
[]
[null,null,"Customer Number",null,"Cust Grp 3"]
[null,null,{"$f":"Start_Here!$C$25","v":0},null,{"$f":"Start_Here!$C$29","v":0}]
[null,null,{"$f":"Start_Here!$B$18","v":"Who Owns the Machine? (Sold-To Info) (Please Verify)"}]
["Company",null,{"$f":"Start_Here!$C$19","v":"Company Name"}]
["Address",null,{"$f":"Start_Here!$C$20","v":"Address"}]
[null,null,{"$f":"Start_Here!$C$21","v":"City, State Zip"}]
["Name",null,{"$f":"Start_Here!$C$22","v":"Contact Name"}]
["Phone",null,{"$f":"Start_Here!$C$23","v":"Contact Phone"}]
[null,null,{"$f":"Start_Here!$B$11","v":"Where is the Machine Being Shipped? (Ship-To Info) (Please Verify)"}]
["Company",null,{"$f":"Start_Here!$C$12","v":"Company Name"}]
["Address",null,{"$f":"Start_Here!$C$13","v":"Address"}]
[null,null,{"$f":"Start_Here!$C$14","v":"City, State Zip"}]
["Name",null,{"$f":"Start_Here!$C$15","v":"Contact Name"}]
["Phone",null,{"$f":"Start_Here!$C$16","v":"Contact Phone"}]
[null,null,{"$f":"Start_Here!$B$31","v":"Shipping / Carrier Instructions:"},null,"Order Special Instructions:"]
[null,null,{"$f":"Start_Here!$C$32","v":0}]
[]
[null,null,"Customer Purchase Order No."]
[null,null,"(please attach copy)"]
[]
[]
[null,null,"Tax Exempt",null,"Yes"]
[null,null,null,null,"No"]
[null,null,"If Yes, attach a copy of your exemption certificate."]
[]
[null,null,"Requested Delivery Date"]
[null,null,{"$f":"Start_Here!$C$28","v":0}]
[]
[null,null,{"$f":"Start_Here!$C$26","v":0},null,{"$f":"Start_Here!$C$27","v":0}]
[null,null,"Authorized Buyer (please print)",null,"Phone Number"]
[]
[]
[null,null,"Authorized Buyer Signature"]
[]
[null,null,{"$f":"Start_Here!$C$41","v":"Rep Name"}]
[null,null,"Tennant Representative"]
[]
[null,null,null,"Specialized Maintenance Equipment"]
[null,null,{"$f":"Start_Here!$C$48","v":"TENNANT · 10400 Clean Street · Eden Prairie, MN 55344 ·"}]
[null,null,null,{"$f":"Start_Here!$C$49","v":" PHONE:800-553-8033 · FAX:763-513-2116"}]
[]
[]
[null,"SPECIAL INFORMATION"]
[]
[null,"Notes"]
[null,1,"HEPA Filter System requires Side Brush Dust Control - Dry."]
[]
[null,2,"Headlight and Tail Lights require the AU BU Alarm-Strobe on Lintel."]
[null,null,"Headlight and Tail Lights are not available without the AU BU Alarm-Strobe on Lintel"]
[]
[null,3,"Additional hard copy Operator and Parts Manuals can be ordered or digital copies can be downloaded from www.Tennantco.com."]
[]
[null,4,"A French and English manual will be supplied for all units shipping into Quebec, Canada at no charge.  An additional manual"]
[null,null,"can be ordered (for a total of 3 manuals) for an additional charge as stated under 'Additional Operator Manual'."]

{"sheet":"Pricezones","index":25,"n_rows":37,"n_cols":13,"rows_kept":37,"cut":false,"hidden":true,"merged":[]}
["Sheetname","Green discount","Yellow","Red"," ","Product subcategories","PH2",null,"Discounts Dropdown",null,null,"Canada","2024-09-30"]
[null,"Level A","Level B","Level C","Level D",null,null,null,"Select a Trade-in","Select Tennant Program"]
["Dual_Tech_ReadySpace_R14",0,0.35000000000000003,0.5,null,"Sweeper","336233",null,"Trade-in Scrap","Strategic Accts"]
["Dual_Tech_ReadySpace_1610",0,0.35000000000000003,0.5,null,"Sweeper","333010",null,"Recon Trade-in","Strategic Alliance"]
["MR3_E5",0,0.35000000000000003,0.5,null,"Sweeper","333010",null,null,"Recon Sale"]
["Carpet_Extractors",0,0.35000000000000003,0.5,null,"Sweeper","333011",null,null,"Recon Trade-in"]
["Vacuums",0,0.35000000000000003,0.5,null,"Sweeper",null,null,null,"Industrial Bundling"]
["F_Series_Floor_Machine",0,0.35000000000000003,0.5,null,"Sweeper","302506",null,null,"Demonstrator units, greater than 3 months, full warranty"]
["Burnishers",0,0.35000000000000003,0.5,null,"Sweeper","302500",null,null,"Distributor - Commercial or Industrial"]
["B5",0,0.35000000000000003,0.5,null,"Sweeper","302406",null,null,"Contracts (example GSA, Local Gov)"]
["B7",0,0.35000000000000003,0.5,null,"Sweeper","302601"]
["B10",0,0.35,0.5,null,"Sweeper","303050"]
["S9",0,0.16,0.3,null,"Sweeper","304004"]
["S7_S6",0,0.16,0.3,null,"Sweeper","304053"]
["S7",0,0.16,0.3,null,"Sweeper","304004"]
[3640,0,0.16,0.3,null,"Sweeper","304053"]
["S10",0,0.16,0.3,null,"Sweeper","304215"]
["S10_Standard_Config",0,0.16,0.3,null,"Sweeper","304215"]
[6100,0,0.16,0.3,null,"Sweeper","304309"]
["6100_Standard_Config",0,0.16,0.3,null,"Sweeper","304309"]
[6200,0,0.11,0.35000000000000003,null,"Sweeper","304403"]
["S16L",0,0.11,0.35000000000000003,null,"Sweeper","304403"]
["S16L_Standard_Config",0,0.11,0.35000000000000003,null,"Sweeper","304403"]
["S16H",0,0.11,0.35000000000000003,null,"Sweeper","304403"]
["S16H_Standard_Config",0,0.11,0.35000000000000003,null,"Sweeper","304403"]
["S20GLP_Built_to_Order",0,0.11,0.35000000000000003,null,"Sweeper","312013"]
["S20GLP_Standard_Config",0,0.11,0.35000000000000003,null,"Sweeper","312013"]
["S20EV",0,0.11,0.35000000000000003,null,"Sweeper","312101"]
["S30_Built_to_Order",0,0.11,0.35000000000000003,null,"Sweeper","312104"]
["S30_Standard_Config",0,0.11,0.35000000000000003,null,"Sweeper","312104"]
[800,0,0.11,0.35000000000000003,null,"Sweeper","327006"]
["Sentinel",0,0.11,0.35000000000000003,null,"Sweeper","327004"]
[4300,0,0.11,0.35000000000000003,null,"Sweeper","327007"]
["GM_400",0,0.11,0.35000000000000003,null,"Sweeper","327003"]
["GM_636",0,0.11,0.35000000000000003,null,"Sweeper","341074"]
["S680",0,0.2,0.3,null,"Sweeper"]
["S880",0,0.2,0.3,null,"Sweeper"]

{"sheet":"PricezonesUsers","index":26,"n_rows":19,"n_cols":11,"rows_kept":19,"cut":false,"hidden":true,"merged":[]}
["Green","Yellow","Red",null,"Level A name","Level B name","Level C name",null,null,"Governance"]
[null,"kbs6","p1g",null,null,"Boris, Kenneth","Gee, Paul",null,null,"cpn8","Peterson, Charlie"]
[null,"bcd","jws25",null,null,"Chatfield, Brant","Watters, Josh",null,null,"azn","Alicia Zahn"]
[null,"bpc","tjw",null,null,"Clifton, Brian","Watson, Terry",null,null,"lty","Lindsay Trickey"]
[null,"nck","cpn8",null,null,"Cork, William","Peterson, Charlie"]
[null,"sft2","azn",null,null,"Forrest, Stephen","Alicia Zahn"]
[null,"jhk5","lty",null,null,"Hamrick, James","Lindsay Trickey"]
[null,"kje","afd",null,null,"Josche, Kevin","Amanda Fristed"]
[null,"dek","pbn7",null,null,"Kortsha, Dennis","Bannon, Patrick"]
[null,"dlr4",null,null,null,"Lancaster, David"]
[null,"jdl",null,null,null,"Laubach, James"]
[null,"rdr3",null,null,null,"Demar, Ryan"]
[null,"mco5",null,null,null,"Cayado, Maria"]
[null,"ptn",null,null,null,"Thompson, Phil"]
[null,"jey2",null,null,null,"Emery, Josh"]
[null,"cgn13",null,null,null,"Groen, Caleb"]
[null,"msm4",null,null,null,"Satterstrom, Mike"]
[null,"jss24",null,null,null,"Stevens, Jonathan"]
[null,"rla7",null,null,null,"Lua, Raul"]

{"sheet":"Contact","index":27,"n_rows":43,"n_cols":6,"rows_kept":43,"cut":false,"hidden":false,"merged":[[39,0,39,5],[6,4,7,4],[18,5,19,5],[15,3,15,4],[16,0,16,2],[16,3,16,4],[18,0,19,0],[18,1,19,1],[18,2,19,2],[18,4,19,4],[18,3,19,3],[37,0,37,5]]}
["Wells Fargo Capital Solutions"]
["Equipment Finance",null,null,"Client Services:  (800) 535-1480"]
["300 E. John Carpenter Freeway, Irving, TX 75062",null,null,"Sales & Operations:  (800) 233-5103"]
["Name","Location","Function","Phone Number","Fax Number","E-Mail Address"]
["Levi Wessel","Rosemount, IL","Relationship Manager","800-258-6649 x-69235",null,"TennantSales@wellsfargo.com"]
["Pedro Hernandez","Rosemount, IL","Manufacturer Services Group","847-607-6355","888-375-3288","Pedro.Hernandez2@wellsfargo.com"]
["Customer Support Center -\nJoe Sims","Cedar Rapids, IA","Existing leases – Questions re: billing, payoffs, taxes, insurance, returns, etc.","(319) 841-7325","Please help save time & have the Account Schedule Number (Lease Number) when calling.","joseph.sims@ge.com"]
["Asset Management - \nJohn Rasmussen","Danbury, CT","Expiring leases - Questions re: Buyout to Return invoices, Payoff invoices, etc.","(203) 749-2120",null,"john.rasmussen@ge.com"]
["Canada",null,null,"Main Phone:  905-288-3689"]
["2300 Meadowvale Boulevard, Suite 200; Mississauga, ON  L5N 5P9"]
["Name","Location","Function","Phone Number","Fax Number","E-Mail Address"]
["Trevor Lee","Toronto",null,"905-288-3689",null,"trevor.lee@wellsfargo.com"]
["* All inquires for existing leases (i.e. buy out quotes, billing questions, etc.) should be directed to the Customer Support Center."]
[]
["U.S. Bank"]
["U.S.A.",null,null,"Main Phone:  (800) 934-7444"]
["1310 Madrid Street, Ste. 101, Marshall, MN 56258",null,null,"Fax to Credit:  (800) 328-9092"]
["Name","Location","Function","Phone Number","Fax Number","E-Mail Address"]
["Mark Maltese","Carol Stream, IL","Relationship Manager","(224) 363-1558","(866) 977-0948","mark.maltese@usbank.com"]
[]
["Kirk Grannes","Marshall, MN","Program Manager","(507) 532-1695","(866) 977-0939","kirk.grannes@usbank.com"]
["Tye Harms","Marshall, MN","FMV end of lease buyout, off lease equipment","(800) 328-5371 x1533408 ","(800) 328-9092 ","tye.harms@usbank.com"]
["Jean Landa","Marshall, MN","Existing leases - All questions: billing, payoffs, taxes, insurance, returns, etc.","(800) 828-8246 Ext 1533382","(800) 328-9092 ","jean.landa@usbank.com"]
[]
["First Western Equipment Finance"]
["U.S.A.",null,null,"Main Phone:  (800) 477-5855 or (952) 516-7360"]
["100 Prairie Center Drive, Eden Prairie, MN 55344",null,null,"Fax to Credit:  (800) 288-4959 or (952) 516-7321"]
["Name","Location","Function","Phone Number","Fax Number","E-Mail Address"]
["Duncan Leighton","Eden Prairie, MN","Relationship Manager","952-516-7331 (office)\n612-272-1790 (cell)","(800) 288-4959\n(952) 516-7321","Duncan.Leighton@firstwesternef.com"]
[]
["National Leasing"]
["Canada",null,null,"Main Phone:  (866) 208 4540"]
["1525 Buffalo Place,Winnipeg, Manitoba, R3T 1L9",null,null,"Fax to Credit:  (877) 871-2199"]
["Name","Location","Function","Phone Number","Fax Number","E-Mail Address"]
["John Tersigni","Markham, Ontario","District Manager","(866) 208-4540","(877) 871-2199","john.tersigni@nationalleasing.com"]
["Karen Mckerracher","Winnipeg","Sales Coordinator","(877) 599-4966","(877) 871-2199","karen.mckerracher@nationalleasing.com"]
[]
["Tennant"]
["U.S.A.",null,null,"Main Phone:  (763) 540-1200"]
["P. O. Box 1452\nMinneapolis, MN 55440-1452"]
["Name","Location","Function","Phone Number","Fax Number","E-Mail Address"]
["Chris Lund","Minneapolis (Plant 1)","Product Manager, Service","(763) 513-1879","(763) 513-2112","chris.lund@tennantco.com"]
["Jodie Cooke","Minneapolis (Plant 1)","End of Lease Administrator (inspections, returns, etc.)","(763) 540-2507","(763) 513-1725","jodie.cooke@tennantco.com"]

{"sheet":"Help","index":28,"n_rows":120,"n_cols":3,"rows_kept":120,"cut":false,"hidden":false,"merged":[]}
[null,"Instructions For The Use Of The Quote/Order Spreadsheet","01/01/2024 Prices"]
[null,null,"CAN Date Rev - 9/30/2024"]
[null,"TO CUSTOMIZE your cover letter with your own name and region phone number, do the following:"]
[null,"1.  Change the template (adding your name and region office address/phone number to the Start Here Tab (Seller Info)"]
[null,"2.  Click on FILE , click on SAVE AS"]
[null,"3.  In the \"Save as type\" box, select Template from the drop down list"]
[null,"4.  In the \"File Name\" box, enter the name you want to use for this file"]
[null,"5.  File name should be QT24SweeperCD.xltm"]
[null,"6.  Click Save"]
[]
[null,"When SAVING the template after working on it, always make sure it is save as: "]
[null,"** Excel Macro-Enabled Workbook (*.xlsm)"]
[null,"This ensure that all macros remain and the template functions properly."]
[null,"Example:"]
[]
[]
[]
[]
[]
[]
[]
[]
[]
[]
[]
["TennantTrue:"]
["1. On ‘Start Here’ Sheet"]
["a. Select both State and County information from drop down"]
["b. If customer is a National Account, select ‘Yes’"]
["c. If you choose to discount, enter a percent in the TennantTrue Discount area"]
["2. After completing a machine quote, select ‘Yes’ next to “Is customer interested in service program?” NOTE: if ‘Yes’ is not an option, make sure Step 1 above has been completed."]
["3. Select anticipated Monthly machine usage"]
["4. Click ‘Add to Summary’ to add data to TennantTrue Summary"]
["5. When emailing to a customer:"]
["a. First delete all worksheets you do not want to include.  To do this, while holding down "]
["the SHIFT key, select the worksheets you wish to delete."]
["b. Right Click while still pointing to one of the selected worksheets"]
["c. Select 'Delete'"]
["d. When the message \"Data may exist in the sheet(s) selected for deletion.  To "]
["permanently delete the data, press Delete.\" appears, select 'Delete' "]
["e. Go to File -> Save As -> and save as a separate file"]
[]
[null,"TO USE THE QUOTE/ORDER FORM:"]
[null,"1.  Enter all pertinent information on the Start Here sheet.  This information will be carried over to the Cover Letter and Quotation sheets.  Get as much information as you can regarding ordering information—this will save a lot of time later (and be easier to read if it is typed)."]
[null,"2 If you have access to the Tennant Intranet, you can verify leadtimes from this address:"]
[null,"Machine availablility Minneapolis, MN"]
[null,"Machine availablility Holland, MI"]
[]
[null,"3.  You may edit and customize the letter where/when appropriate."]
[null,"4.  Click on the tab of the machine you want to quote.  Scroll down the list of machine power sources and options and enter the number desired in the Quantity box.  "]
[null,"5.  Use the arrows on the bottom left to scroll to machine family tabs not visible (back and forth)."]
[null,"6.  Use the Specials area for  Freight and Tax. You may also use this space to add Trade-In, Special promotional discounts, Additional product lines being included in the quote.   Fill in the description, price, and quantity. Note: You may enter a negative amount for discounts or trade-in allowances for example"]
[null,"7.  After all items you want to quote have a quantity entered, click on Tools on your menu bar.  Click on \"Hide Blank Qty\".  The list will automatically shorten to only the items you selected to quote.  To see the entire list again, click on Tools again, click on \"Show All Qty\"."]
[]
[null,"QUOTING"]
[null,"1.  To the customer:"]
[null,"**Print or fax quote (see Fax information below)"]
[null,"2.  To Minneapolis for a formal SAP quote. "]
[null,"**Email or fax to your quote coordinator (See Fax or Email information below)"]
[null,"**Sales Support fax for Quotes (763) 513-2116"]
[]
[null,"ORDERING"]
[null,"1.  Fill in the information under Order Placement Information. "]
[null,"      "]
[null,"The following information is required to place the order:"]
[null,"   1  Order info (one of the following is attached):"]
[null,"       - Hard copy purchase order (complete)"]
[null,"       - Sales order form (complete) and signed by customer"]
[null,"   2.  Full company name and billing address (sold-to)"]
[null,"   3.  Complete Ship-to information"]
[null,"   4.  Ship-to contact name and phone number"]
[null,"   5.  Buyer’s name and phone number"]
[null,"   6.  Requested delivery date for the machine"]
[null,"   7  Complete configuration with part numbers (including brushes and detergent)"]
[null,"   8.  Credit Info: "]
[null,"       - New account or location: Completed credit application"]
[null,"       - Existing account: Updated credit info included (or not required per _______ in Credit)"]
[null,"   9.   Tax exemption certificate for ship-to state if customer wants exemption"]
[null,"   10.  SAP quotation number, if applicable, and quote is consistent with PO"]
[]
[null,"2.  Fax the form, PO, tax exemption certificate, etc. to: (763) 513-2116"]
[]
[null,"FAX"]
[null,"1.  Fax by selecting Winfax as your printer.  "]
[null,"2.  Only one excel TAB will fax at a time.  If you have multiple tabs, you must send each tab individually."]
[]
[null,"EMAIL"]
[null,"1. EMail one tab or several tabs.  When you have completed your quote, click on Option, Hide Blank Qty."]
[null,"2.  Select the tab(s) to be deleted (hold the control button down to select multiple tabs)"]
[null,"   - Note: do not select Start_Here page. If you keep this sheet, your links to your company name, contact, etc will be preserved on your quote when the customer or Customer Service gets it. You will be able to change the quote later as well because the hide/show quantities will stay in tact."]
[null,"3.  Click on Edit, click on \"Delete Sheet\", click OK."]
[null,"4.  If you intend to email the quote and do not want the Special Information at the bottom of the machine to be transmitted to your customer, delete the Special Information.  These cells have been left unprotected for this purpose."]
[null,"5.  Click File, Send and address your EMail"]
[]
[null,"FAQ"]
[null,"Q: How to I add price in the Specials area (discounts, freight, tax, etc)?  It wants a password.:"]
[null,"A. Fill in the description, price (under the heading “insert price here”), and quantity.  The extended price will calculate automatically."]
[]
[null,"Q: Who do I call for questions?"]
[null,"A. If you have any questions regarding the use of this template, please contact your local Tennant Rep or Customer Service @ (800) 553-8033 and ask for extension 2180."]
[null,"A. If you have questions regarding pricing, contact Customer Service @ (800) 553-8033 and ask for extension 2177."]
[null,"A. If you have questions regarding quotes or machine orders, contact Customer Service @ (800) 553-8033 to speak with your Quote Coordinator or Machine Specialist."]
[]
[null,"Q: I tried to take an item off the machine and the price column says --  #Value!  -- .  How do I get rid of it?"]
[null,"A: Move your cursor to the quantity column and press the delete key on your keyboard.  To avoid it in the future, do not use the space bar in the quantity column."]
[]
[null,"Finance Quote Templates Cheat Sheet"]
[]
[null,"1. Payments are calculated based on Machines Total, Purchase Options, and Terms. Any changes made to these will be calculated automatically."]
[null,"2. The Machine Total must be a minimum of $2000 for All-Lines Leasing and $5000 for GE and US bank or the payment amount will be blank."]
[null,"3. To change \"Purchase Options\" or \"Terms\", simply click on the cell. The drop down arrow will show up on the right. Click on the drop down arrow to select a value."]
[null,"4. \"Rent To Own\" is only available for 9, 12, or 18 months. Those terms AND \"Rent To Own\" option MUST be selected together to show payment, otherwise, the cell will be blank."]
[null,"5. To change vendor (All-Lines Leasing, GE, or US Bank), go to the \"Start_Here\" tab, and scroll down to \"Leasing Options\" at the end of the sheet. Select the vendor via the drop down, and then click the \"Apply Change\" button. (US Only)"]
[null,"6. Rates are updated quarterly (or more frequently if necessary). Since it is built-in the quote templates, the downloaded templates always contain the current rates. CAUTION: Make sure any version you've saved to your hard drive are the most current version."]
[null,"7. For the contract document, please contact All-Lines Leasing at 800-477-5855, GE at 800-876-6015, or US Bank at 800-934-7444."]
[]
[null,"Note: Macros – If you encounter a pop-up box bout macros when opening the file you should select “Enable Macros”. You can also go to “Tools>Macros>Security” on your menu bar and change the setting to medium to allow macros. Macros must be enabled for the worksheet to function properly."]
[]
[null,"LOGO:"]
[null,"The “Cover_Letter” tab is not protected and therefore the distributor can put their logos on it. The tennant logo itself on all the machine tabs is not protected, and can be removed if choose to. To remove the logo, just do a single left click on it and press delete.\n"]

{"sheet":"Surcharge","index":29,"n_rows":318,"n_cols":9,"rows_kept":318,"cut":false,"hidden":true,"merged":[[0,4,0,5]]}
["Material","Surcharge","PH Category*","Prod Hier 1 - nav","ProdHier*",null,"Material","Description","Surcharge"]
["1070589",{"$f":"12.5","v":12.5},"Consumables","Batteries","515010","6V Battery","1070589","BATTERY, WET, 06V 360A, HLREP.BYNONE[TR]",{"$f":"12.5","v":12.5}]
["1204144",12.5,"Consumables","Batteries","515010","6V Battery","1204144","BATTERY, WET, 06VDC 435AH, HL, W/BOX[TR]",12.5]
["1205632",12.5,"Consumables","Batteries","515010","6V Battery","1205632","BATTERY, WET, 6VDC 330AH C/20, W/CA [TR]",12.5]
["1031914",12.5,"Consumables","Batteries","515010010","6V AGM Battery","1031914","BATTERY, AGM, 06VDC 0312AH [DISCOVER]",12.5]
["1021446",12.5,"Consumables","Batteries","515010010030","6V AGM 151-200 AH Battery","1021446","BATTERY, 06VDC 0200AH [AGM]",12.5]
["1074042",12.5,"Consumables","Batteries","515010010040","6V AGM 201-300 AH Battery","1074042","BATTERY, AGM, 06VDC 0220AH [DISCOVER]",12.5]
["1038630",12.5,"Consumables","Batteries","515010020030","6V Wet 151-200 AH Battery","1038630","BATTERY, WET, 06VDC 0185AH [TR]",12.5]
["10155",12.5,"Consumables","Batteries","515010020040","6V Wet 201-300 AH Battery","10155","BATTERY, WET, 06VDC, 225AH [TR]",12.5]
["1027944",12.5,"Consumables","Batteries","515010020040","6V Wet 201-300 AH Battery","1027944","BATTERY, WET, 06VDC 0240AH, W/O CARTON",12.5]
["1028282",12.5,"Consumables","Batteries","515010020040","6V Wet 201-300 AH Battery","1028282","BATTERY, 06VDC 0220AH",12.5]
["1028600",12.5,"Consumables","Batteries","515010020040","6V Wet 201-300 AH Battery","1028600","BATTERY, WET, 06VDC 0244AH [LOC SOURCE]",12.5]
["130986",12.5,"Consumables","Batteries","515010020040","6V Wet 201-300 AH Battery","130986","BATTERY, 06VDC 0250AH [9C11]",12.5]
["222280",12.5,"Consumables","Batteries","515010020040","6V Wet 201-300 AH Battery","222280","BATTERY, WET, 06VDC 0240AH",12.5]
["222778",12.5,"Consumables","Batteries","515010020040","6V Wet 201-300 AH Battery","222778","BATTERY KIT, WET, 06VDC 0240AH, CI",12.5]
["223373",12.5,"Consumables","Batteries","515010020040","6V Wet 201-300 AH Battery","223373","BATTERY KIT, WET, 06VDC 0240AH, CI",12.5]
["390825",12.5,"Consumables","Batteries","515010020040","6V Wet 201-300 AH Battery","390825","BATTERY, WET, 06VDC 0260AH [TR]",12.5]
["10138",12.5,"Consumables","Batteries","515010020050","6V Wet 301-400 AH Battery","10138","BATTERY, WET, 06VDC 0330AH [TR]",12.5]
["1028597",12.5,"Consumables","Batteries","515010020050","6V Wet 301-400 AH Battery","1028597","BATTERY, WET, 06VDC 0335AH [LOC SOURCE]",12.5]
["1028611",12.5,"Consumables","Batteries","515010020050","6V Wet 301-400 AH Battery","1028611","BATTERY, WET, 06VDC 0350AH [LOC SOURCE]",12.5]
["1028612",12.5,"Consumables","Batteries","515010020050","6V Wet 301-400 AH Battery","1028612","BATTERY, WET, 06VDC 0305AH [LOC SOURCE]",12.5]
["1070586",12.5,"Consumables","Batteries","515010020050","6V Wet 301-400 AH Battery","1070586","BATTERY, WET, 06VDC 0360AH, W/O CARTON",12.5]
["1070587",12.5,"Consumables","Batteries","515010020050","6V Wet 301-400 AH Battery","1070587","BATTERY, WET, 06VDC 0360AH, W/ CART [TR]",12.5]
["222777",12.5,"Consumables","Batteries","515010020050","6V Wet 301-400 AH Battery","222777","BATTERY KIT, WET, 06VDC 0360AH, CI",12.5]
["222852",12.5,"Consumables","Batteries","515010020050","6V Wet 301-400 AH Battery","222852","BATTERY KIT, WET, 06VDC 0360AH, REPLMT",12.5]
["10157",12.5,"Consumables","Batteries","515010020060","6V Wet 401-500 AH Battery","10157","BATTERY, WET, 06VDC 420AH [TR]",12.5]
["1204146",12.5,"Consumables","Batteries","515010020060","6V Wet 401-500 AH Battery","1204146","BATTERY, WET, 06VDC 435AH, W/ BOX [TR]",12.5]
["390764",12.5,"Consumables","Batteries","515010030030","6V Gel 151-200 AH Battery","390764","BATTERY, GEL, 06V 0180AH [MAINT FREE TR]",12.5]
["1028279",12.5,"Consumables","Batteries","515020","12V Battery","1028279","BATTERY, 12VDC 0260CCA",12.5]
["1028284",12.5,"Consumables","Batteries","515020","12V Battery","1028284","BATTERY, 12VDC 0530CCA",12.5]
["1028285",12.5,"Consumables","Batteries","515020","12V Battery","1028285","BATTERY, 12VDC 0700CCA",12.5]
["1070603",12.5,"Consumables","Batteries","515020","12V Battery","1070603","BATTERY, WET, 12V 225A, HLREP.BYNONE[TR]",12.5]
["1206317",12.5,"Consumables","Batteries","515020","12V Battery","1206317","BATTERY, WET, 12VDC 185AH C/20, W/CA[TR]",12.5]
["9008732",{"$f":"12.5","v":12.5},"Consumables","Batteries","515020","12V Battery","9008732","BATTERY KIT, 12VDC 0040AH, CI [LI-ION]",{"$f":"12.5","v":12.5}]
["1016203",12.5,"Consumables","Batteries","515020010010","12V AGM Less than 100 AH Battery","1016203","BATTERY, AGM, 12VDC 0042AH [3610 AM, MK]",12.5]
["1065086",12.5,"Consumables","Batteries","515020010010","12V AGM Less than 100 AH Battery","1065086","BATTERY, AGM, 12VDC 0050AH [T1B, S5, MK]",12.5]
["1068827",12.5,"Consumables","Batteries","515020010010","12V AGM Less than 100 AH Battery","1068827","BATTERY, AGM, 12VDC 0026AH  [S3B, MK]",12.5]
["1053408",12.5,"Consumables","Batteries","515020010020","12V AGM 101-150 AH Battery","1053408","BATTERY, 12VDC 0140AH [AGM]",12.5]
["1053427",12.5,"Consumables","Batteries","515020010040","12V AGM 201-300 AH Battery","1053427","BATTERY, 12VDC EV185A 234AH DISCOVER AGM",12.5]
["10134",12.5,"Consumables","Batteries","515020020","12V Wet Battery","10134","BATTERY, WET, 12VDC 0260CCA",12.5]
["10137",12.5,"Consumables","Batteries","515020020","12V Wet Battery","10137","BATTERY, WET, 12VDC 0475CCA [TR]",12.5]
["10143",12.5,"Consumables","Batteries","515020020","12V Wet Battery","10143","BATTERY, WET, 12VDC 0600CCA [TR]",12.5]
["77602",12.5,"Consumables","Batteries","515020020","12V Wet Battery","77602","BATTERY, WET, 12VDC 0700CCA [TR]",12.5]
["EM011",12.5,"Consumables","Batteries","515020020010","12V Wet Less than 100 AH Battery","EM011","BATTERY  70 AMP HR DIN 570 144 064",12.5]
["1028287",12.5,"Consumables","Batteries","515020020020","12V Wet 101-150 AH Battery","1028287","BATTERY, 12VDC 0130AH",12.5]
["1073553",12.5,"Consumables","Batteries","515020020020","12V Wet 101-150 AH Battery","1073553","BATTERY, WET, 12VDC 1000CCA",12.5]
["130869",12.5,"Consumables","Batteries","515020020020","12V Wet 101-150 AH Battery","130869","BATTERY, WET, 12VDC 0130AH[30XHS-WNT TR]",12.5]
["578426",12.5,"Consumables","Batteries","515020020020","12V Wet 101-150 AH Battery","578426","BATTERY, WET, 12V 0105AH [S8, 27TMX TR]",12.5]
["602240",12.5,"Consumables","Batteries","515020020020","12V Wet 101-150 AH Battery","602240","BATTERY, 06VDC 0350AH [L16G-LT TR]",12.5]
["61355",12.5,"Consumables","Batteries","515020020020","12V Wet 101-150 AH Battery","61355","BATTERY, WET, 12VDC 0105AH 0530CCA [TR]",12.5]
["80063",12.5,"Consumables","Batteries","515020020020","12V Wet 101-150 AH Battery","80063","BATTERY, WET, 12VDC 0130AH [TR]",12.5]
["1015046",12.5,"Consumables","Batteries","515020020030","12V Wet 151-200 AH Battery","1015046","BATTERY, WET, 12VDC 0150AH",12.5]
["1028286",12.5,"Consumables","Batteries","515020020040","12V Wet 201-300 AH Battery","1028286","BATTERY, 12VDC 0215AH",12.5]
["1070591",12.5,"Consumables","Batteries","515020020040","12V Wet 201-300 AH Battery","1070591","BATTERY, WET, 12VDC 0225AH, W/ CART [TR]",12.5]
["600394",12.5,"Consumables","Batteries","515020020040","12V Wet 201-300 AH Battery","600394","BATTERY, WET, 12V 225AH, DUAL POST [TR]",12.5]
["61384",12.5,"Consumables","Batteries","515020020040","12V Wet 201-300 AH Battery","61384","BATTERY KIT, WET, F/10146, REPLMT",12.5]
["80031",12.5,"Consumables","Batteries","515020020040","12V Wet 201-300 AH Battery","80031","BATTERY, WET, 12VDC 0225AH [TR]",12.5]
["611867",12.5,"Consumables","Batteries","515020030010","12V Gel Less than 100 AH Battery","611867","BATTERY, GEL, 12VDC 0100AH [S8, CROWN]",12.5]
["994200",12.5,"Consumables","Batteries","515020030010","12V Gel Less than 100 AH Battery","994200","BATTERY, GEL, 12VDC 0076AH [GF12076V]",12.5]
["1071125",12.5,"Consumables","Batteries","515020030020","12V Gel 101-150 AH Battery","1071125","BATTERY, GEL, 12V 102AH [TRJN 31-GEL TR]",12.5]
["386334",25,"Consumables","Batteries","515030","18V Battery","386334","BATTERY, 36VDC 0600AH, SEALED",25]
["386939",25,"Consumables","Batteries","515030","18V Battery","386939","BATTERY KIT, 36VDC 1000AH, WET, CI",25]
["1049972",25,"Consumables","Batteries","515030020050","18V Wet 301-400 AH Battery","1049972","BATTERY, WET, 18VDC 0340AH",25]
["1049973",25,"Consumables","Batteries","515030020060","18V Wet 401-500 AH Battery","1049973","BATTERY, WET, 18VDC 0440AH",25]
["06564",25,"Consumables","Batteries","515030020070","18V Wet 501-600 AH Battery","06564","BATTERY SET [(2)-18VDC TYPE E]",25]
["33520",25,"Consumables","Batteries","515030020070","18V Wet 501-600 AH Battery","33520","BATTERY SET [(2)-18VDC TYPE EE]",25]
["80232",25,"Consumables","Batteries","515040020020","24V Wet 101-150 AH Battery","80232","BATTERY KIT, 24VDC, 130AH, WET, CI[3640]",25]
["383951",50,"Consumables","Batteries","515050020040","36V Wet 201-300 AH Battery","383951","BATTERY KIT, WET, 36VDC 0235AH, CI",50]
["390829",50,"Consumables","Batteries","515050020040","36V Wet 201-300 AH Battery","390829","BATTERY KIT, 36VDC, 244AH, WET, CI",50]
["83255",50,"Consumables","Batteries","515050020040","36V Wet 201-300 AH Battery","83255","BATTERY KIT, WET, 36VDC 0220AH, CI[6100]",50]
["223377",50,"Consumables","Batteries","515050020050","36V Wet 301-400 AH Battery","223377","BATTERY KIT, WET, 36VDC 0360AH, CI",50]
["383955",50,"Consumables","Batteries","515050020050","36V Wet 301-400 AH Battery","383955","BATTERY KIT, WET, 36VDC 0360AH, CI",50]
["387322",50,"Consumables","Batteries","515050020050","36V Wet 301-400 AH Battery","387322","BATTERY, WET, 36VDC 0380AH [TR]",50]
["387324",50,"Consumables","Batteries","515050020050","36V Wet 301-400 AH Battery","387324","BATTERY KIT, WET, 36VDC 0380AH, CI",50]
["386335",50,"Consumables","Batteries","515050020060","36V Wet 401-500 AH Battery","386335","BATTERY, WET, 36VDC 0500AH",50]
["386932",50,"Consumables","Batteries","515050020060","36V Wet 401-500 AH Battery","386932","BATTERY KIT, WET, 36VDC 0500AH, CI",50]
["1207937",50,"Consumables","Batteries","515050020070","36V Wet 501-600 AH Battery","1207937","BATTERY, WET, 36VDC, 510AH",50]
["1018515",50,"Consumables","Batteries","515050020090","36V Wet 701-800 AH Battery","1018515","BATTERY, WET, 36VDC 0750AH",50]
["1210315",50,"Consumables","Batteries","515050020090","36V Wet 701-800 AH Battery","1210315","BATTERY, WET, 36VDC, 750AH [W/WATERING]",50]
["386936",50,"Consumables","Batteries","515050020090","36V Wet 701-800 AH Battery","386936","BATTERY KIT, WET, 36VDC 0750AH, CI",50]
["386337",50,"Consumables","Batteries","515050020110","36V Wet 900 or higher AH Battery","386337","BATTERY, WET, 36VDC 1000AH",50]
["1028283",12.5,"Consumables","Batteries","515070","Batteries - Other","1028283","BATTERY, 06VDC 0360AH",12.5]
["1204248",12.5,"Consumables","Batteries","515070","Batteries - Other","1204248","BATTERY, 06VDC EVL16A 390AH DISCOVER AGM",12.5]
["1213281","N/A","Consumables","Batteries","515070","Batteries - Other","1213281","HOSE KIT, WATERING, BATTERY, 20FT","N/A"]
["387043","N/A","Consumables","Batteries","515070","Batteries - Other","387043","BATTERY KIT, R/O, CI","N/A"]
["9008688","N/A","Consumables","Batteries","515070","Batteries - Other","9008688","BATTERY KIT, CONV. [LI TO AGM]","N/A"]
["9008689","N/A","Consumables","Batteries","515070","Batteries - Other","9008689"," BATTERY KIT, CONV. W/O BAT [AGM TO Li+]","N/A"]
["9008690","N/A","Consumables","Batteries","515070","Batteries - Other","9008690","BATTERY REPLMT KIT, [Li+]","N/A"]
["T17-D",150,"T17"]
["T17-C",150,"T17"]
["M17-D",150,"M17"]
["M17-C",150,"M17"]
["T12-D",100,"T12"]
["T12-C",100,"T12"]
["T12-XP-D",100,"T12"]
["T12-XP-C",100,"T12"]
["T16-910-D",100,"T16"]
["T16-910-C",100,"T16"]
["6100-B",100,6100]
["6200-B",100,6200]
["S20-B",100,"S20EV"]
["MV-B5-0010",100,"B5"]
["MV-B5-0011",100,"B5"]
["MV-SG5-0006",100,"SpeedGleam5"]
["MV-B7-0008",100,"B7"]
["MV-B7-0009",100,"B7"]
["MV-SG7-0005",100,"SpeedGleam7"]
["B10-610",100,"B10"]
["B10-690",100,"B10"]
["SGR-610",100,"SpeedGleam_Rider"]
["SGR-690",100,"SpeedGleam_Rider"]
["MV-5680-0030",100,5680]
["MV-5680-0031",100,5680]
["MV-5680-0032",100,5680]
["MV-5680-0033",100,5680]
["MV-5680-0034",100,5680]
["MV-5680-0035",100,5680]
["5680-700-D",100,5680]
["5680-800-D",100,5680]
["5680-900-D",100,5680]
["5680-700-C",100,5680]
["5680-800-C",100,5680]
["5680-900-C",100,5680]
["5700-700-D",100,5700]
["5700-800-D",100,5700]
["5700-900-D",100,5700]
["5700-700-C",100,5700]
["5700-800-C",100,5700]
["5700-900-C",100,5700]
["MV-1610-0001",50,"Dual_Tech_ReadySpace_1610"]
["MV-1610-0002",50,"Dual_Tech_ReadySpace_1610"]
["MV-1610-0008",50,"Dual_Tech_ReadySpace_1610"]
["1610-560",50,"Dual_Tech_ReadySpace_1610"]
["R14-700",50,"Dual_Tech_ReadySpace_R14"]
["MV-STRV-0001",50,"DualTech_ReadySpace_Strive"]
["MV-STRV-0002",50,"DualTech_ReadySpace_Strive"]
["MV-STRV-0004",50,"DualTech_ReadySpace_Strive"]
["Strive-560",50,"DualTech_ReadySpace_Strive"]
["Strive-700",50,"DualTech_ReadySpace_StriveRider"]
["MV-SS350-0001",50,"SS350"]
["MV-SS350-0002",50,"SS350"]
["MV-SS350-0003",50,"SS350"]
["MV-SS350-0004",50,"SS350"]
["MV-SS350-0005",50,"SS350"]
["MV-SS350-0006",50,"SS350"]
["MV-SS350-0007",50,"SS350"]
["MV-SS350-0008",50,"SS350"]
["SS350-500-D",50,"SS350"]
["SS350-600-D",50,"SS350"]
["MV-SSR-0044",50,"SSR"]
["MV-SSR-0045",50,"SSR"]
["SSR-650-D",50,"SSR"]
["SSR-800-D",50,"SSR"]
["SSR-700-C",50,"SSR"]
["SSR-800-C",50,"SSR"]
["MV-T350-0001",50,"T350"]
["MV-T350-0002",50,"T350"]
["MV-T350-0003",50,"T350"]
["MV-T350-0004",50,"T350"]
["MV-T350-0005",50,"T350"]
["MV-T350-0006",50,"T350"]
["MV-T350-0007",50,"T350"]
["MV-T350-0008",50,"T350"]
["MV-T350-0009",50,"T350"]
["MV-T350-0010",50,"T350"]
["MV-T350-0011",50,"T350"]
["MV-T350-0012",50,"T350"]
["T350-500-D",50,"T350"]
["T350-600-D",50,"T350"]
["MV-T7-0051",50,"T7"]
["MV-T7-0052",50,"T7"]
["MV-T7-0053",50,"T7"]
["T7-650-D",50,"T7"]
["T7-800-D",50,"T7"]
["T7-700-C",50,"T7"]
["T7-800-C",50,"T7"]
["MV-SS300-0001",50,"SS300"]
["MV-SS300-0002",50,"SS300"]
["MV-SS300-0003",50,"SS300"]
["MV-SS300-0004",50,"SS300"]
["MV-SS300-0005",50,"SS300"]
["MV-SS300-0006",50,"SS300"]
["MV-SS300-0007",50,"SS300"]
["MV-SS300-0008",50,"SS300"]
["MV-SS300-0015",50,"SS300"]
["MV-SS300-0016",50,"SS300"]
["MV-SS300-0017",50,"SS300"]
["MV-SS300-0018",50,"SS300"]
["MV-SS300-0019",50,"SS300"]
["MV-SS300-0020",50,"SS300"]
["MV-SS300-0011",50,"SS300"]
["MV-SS300-0009",50,"SS300"]
["MV-SS300-0010",50,"SS300"]
["MV-SS300-0021",50,"SS300"]
["SS300-430-D",50,"SS300"]
["SS300-500-D",50,"SS300"]
["SS300-600-D",50,"SS300"]
["SS300-500-C",50,"SS300"]
["SS300-500-O",50,"SS300"]
["MV-SS500-0001",50,"SS500"]
["MV-SS500-0005",50,"SS500"]
["MV-SS500-0009",50,"SS500"]
["MV-SS500-0002",50,"SS500"]
["MV-SS500-0006",50,"SS500"]
["MV-SS500-0010",50,"SS500"]
["MV-SS500-0003",50,"SS500"]
["MV-SS500-0007",50,"SS500"]
["MV-SS500-0011",50,"SS500"]
["MV-SS500-0004",50,"SS500"]
["MV-SS500-0008",50,"SS500"]
["MV-SS500-0012",50,"SS500"]
["SS500-650-D",50,"SS500"]
["SS500-700-D",50,"SS500"]
["SS500-800-D",50,"SS500"]
["SS500-700-C",50,"SS500"]
["SS500-700-O",50,"SS500"]
["T12-D",50,"T12"]
["T12-C",50,"T12"]
["T12-XP-D",50,"T12"]
["T12-XP-C",50,"T12"]
["MV-T300-0001",50,"T300"]
["MV-T300-0079",50,"T300"]
["MV-T300-0080",50,"T300"]
["MV-T300-0003",50,"T300"]
["MV-T300-0004",50,"T300"]
["MV-T300-0005",50,"T300"]
["MV-T300-0006",50,"T300"]
["MV-T300-0007",50,"T300"]
["MV-T300-0008",50,"T300"]
["MV-T300-0009",50,"T300"]
["MV-T300-0066",50,"T300"]
["MV-T300-0077",50,"T300"]
["MV-T300-0078",50,"T300"]
["MV-T300-0067",50,"T300"]
["MV-T300-0068",50,"T300"]
["MV-T300-0069",50,"T300"]
["MV-T300-0070",50,"T300"]
["MV-T300-0071",50,"T300"]
["MV-T300-0072",50,"T300"]
["MV-T300-0073",50,"T300"]
["MV-T300-0012",50,"T300"]
["MV-T300-0010",50,"T300"]
["MV-T300-0011",50,"T300"]
["MV-T300-0074",50,"T300"]
["MV-T300-0075",50,"T300"]
["T300-430-D",50,"T300"]
["T300-500-D",50,"T300"]
["T300-600-D",50,"T300"]
["T300-500-C",50,"T300"]
["T300-500-O",50,"T300"]
["MV-T300e-0001",50,"T300e"]
["MV-T300e-0002",50,"T300e"]
["MV-T300e-0003",50,"T300e"]
["MV-T300e-0004",50,"T300e"]
["MV-T300e-0005",50,"T300e"]
["MV-T300e-0006",50,"T300e"]
["MV-T300e-0007",50,"T300e"]
["MV-T300e-0008",50,"T300e"]
["MV-T300e-0043",50,"T300e"]
["MV-T300e-0044",50,"T300e"]
["MV-T300e-0045",50,"T300e"]
["MV-T300e-0046",50,"T300e"]
["MV-T300e-0047",50,"T300e"]
["MV-T300e-0011",50,"T300e"]
["MV-T300e-0009",50,"T300e"]
["MV-T300e-0010",50,"T300e"]
["MV-T300e-0048",50,"T300e"]
["T300e-430-D",50,"T300e"]
["T300e-500-D",50,"T300e"]
["T300e-600-D",50,"T300e"]
["T300e-500-C",50,"T300e"]
["T300e-500-O",50,"T300e"]
["MV-T500-0001",50,"T500"]
["MV-T500-0006",50,"T500"]
["MV-T500-0002",50,"T500"]
["MV-T500-0007",50,"T500"]
["MV-T500-0011",50,"T500"]
["MV-T500-0003",50,"T500"]
["MV-T500-0008",50,"T500"]
["MV-T500-0012",50,"T500"]
["MV-T500-0004",50,"T500"]
["MV-T500-0009",50,"T500"]
["MV-T500-0013",50,"T500"]
["MV-T500-0005",50,"T500"]
["MV-T500-0010",50,"T500"]
["T500-650-D",50,"T500"]
["T500-700-D",50,"T500"]
["T500-800-D",50,"T500"]
["T500-700-C",50,"T500"]
["T500-700-O",50,"T500"]
["MV-T500e-0003",50,"T500e"]
["MV-T500e-0007",50,"T500e"]
["MV-T500e-0011",50,"T500e"]
["MV-T500e-0004",50,"T500e"]
["MV-T500e-0008",50,"T500e"]
["MV-T500e-0012",50,"T500e"]
["MV-T500e-0005",50,"T500e"]
["MV-T500e-0009",50,"T500e"]
["MV-T500e-0013",50,"T500e"]
["MV-T500e-0006",50,"T500e"]
["MV-T500e-0010",50,"T500e"]
["MV-T500e-0014",50,"T500e"]
["T500e-650-D",50,"T500e"]
["T500e-700-D",50,"T500e"]
["T500e-800-D",50,"T500e"]
["T500e-700-C",50,"T500e"]
["T500e-700-O",50,"T500e"]
["3640-E",50,3640]
["S10-B",50,"S10"]
[9008635,50,"T1b"]
[9008637,50,"SS15b"]
[1071366,50,"S9"]
[9010139,50,"Scout 9"]
[1069647,50,"S5"]
[1071118,50,"Scout 5"]
[9007471,50,"V-WD- 16B"]
[614002,50,1510]
[608351,50,"Falcon Ultra"]

{"sheet":"List","index":30,"n_rows":63,"n_cols":17,"rows_kept":63,"cut":false,"hidden":true,"merged":[]}
["FlexClean Regions",null,null,null,null,null,"Tab Name","Machine","Product",2009,"Material","PH","Type","Rider_WB",null,null,"All Tabs"]
["Description","Region Key",null,null,null,null,"Dual_Tech_ReadySpace_1610",1610,"Comm","Y",9000500,350010080,"Scrubber","WB",null,null,"Dual_Tech_ReadySpace_R14"]
["CA - All Other","CA00",null,"Tab name: ","GM_636",null,3640,3640,"Comm","Y","M3640",300020070,"Sweeper","WB",null,null,"Dual_Tech_ReadySpace_1610"]
["CA - British Columbia","BCCA",null,"Material: ",{"$f":"VLOOKUP($E$3, G2:M97, 5, FALSE)","v":"M636"},null,5400,5400,"Comm","N","M5400",320010110,"Scrubber","WB",null,null,"MR3_E5"]
["US - All Other","US00",null,"Type: ",{"$f":"VLOOKUP($E$3, G2:M98, 7, FALSE)","v":"Sweeper"},null,5680,5680,"Comm","Y","M5680",320020155,"Scrubber","WB",null,null,"Carpet_Extractors"]
["US - California","CAUS",null,"Type 2: ",{"$f":"VLOOKUP($E$3, G2:N99, 8, FALSE)","v":"Rider"},null,5700,5700,"Comm","Y","M5700",320020160,"Scrubber","WB",null,null,"Vacuums"]
["US - Conneticut","CTUS",null,null,null,null,6100,6100,"Ind","Y","M6100",300030010,"Sweeper","Rider",null,null,"F_Series_Floor_Machine"]
["US - DC","DCUS",null,null,null,null,6200,6200,"Ind","Y","M6200",300030020,"Sweeper","Rider",null,null,"Burnishers"]
["US - Massuchusetts","MAUS",null,null,null,null,"6400LC",6400,"Ind","Y","M6400",300040050,"Sweeper","Rider",null,null,"B5"]
["US - New Jersey","NJUS",null,null,null,null,"6400EV",6400,"Ind","Y","M6400",300040050,"Sweeper","Rider",null,null,"B7"]
["US - New York","NYUS",null,null,null,null,6600,6600,"Ind","N","M6600",300040220,"Sweeper","Rider",null,null,"B10"]
["US - Pennsylvania","PAUS",null,null,null,null,6650,6650,"Ind","N","M6650",300040230,"Sweeper","Rider",null,null,"S7_S6"]
["US - Rhode Island","RIUS",null,null,null,null,7100,7100,"Ind","Y","M7100",320040005,"Scrubber","Rider",null,null,"S7"]
[null,null,null,null,null,null,7200,7200,"Ind","N","M7200",320040010,"Scrubber","Rider",null,null,"S8"]
[null,null,null,null,null,null,7300,7300,"Ind","Y","M7300",320050065,"Scrubber","Rider",null,null,"S9"]
[null,null,null,null,null,null,7400,7400,"Ind","N","M7400",320050070,"Scrubber","Rider",null,null,3640]
[null,null,null,null,null,null,8210,8210,"Ind","N","M8210",340020060,"Scrubber","Rider",null,null,"S10"]
[null,null,null,null,null,null,8300,8300,"Ind","Y","M8300",340020015,"Scrubber","Rider",null,null,"S10_Standard_Config"]
[null,null,null,null,null,null,8410,8410,"Ind","N","M8410",340020030,"Scrubber","Rider",null,null,6100]
[null,null,null,null,null,null,"M20","M20","Ind","Y","M20",340020070,"Scrubber","Rider",null,null,"6100_Standard_Config"]
[null,null,null,null,null,null,"M30","M30","Ind","Y","MM30",340020080,"Scrubber","Rider",null,null,6200]
[null,null,null,null,"Template",null,"T3","T3","Comm","Y",9003577,320010540,"Scrubber","WB",null,null,"S680"]
[null,null,null,null,"Scrubber",null,"T3_plus","T3 +","Comm","Y",9007539,320010540,"Scrubber","WB",null,null,"S880"]
[null,null,null,null,"Sweeper",null,"T5","T5","Comm","Y","MT5",320020500,"Scrubber","WB",null,null,"S16L"]
[null,null,null,null,"Nobles",null,"T7","T7","Comm","Y","MT7",320040050,"Scrubber","Rider",null,null,"S16L_Standard_Config"]
[null,null,null,null,null,null,"T15","T15","Ind","Y","MT15",320040060,"Scrubber","Rider",null,null,"S16H"]
[null,null,null,null,null,null,"T20","T20","Ind","Y","MT20",320050110,"Scrubber","Rider",null,null,"S16H_Standard_Config"]
[null,null,null,null,null,null,"Dual_Tech_ReadySpace_R14","R14","Comm","Y","MR14",350090010,"Scrubber","Rider",null,null,"S20GLP_Built_to_Order"]
[null,null,null,null,null,null,"S8","S8","Comm","Y",9001400,300020200,"Sweeper","WB",null,null,"S20GLP_Standard_Config"]
[null,null,null,null,null,null,"S9","S9","Comm","Y",9001400,300020200,"Sweeper","WB",null,null,"S20EV"]
[null,null,null,null,null,null,"S10","S10","Ind","Y","MS10",300020210,"Sweeper","WB",null,null,"S30_Built_to_Order"]
[null,null,null,null,null,null,"S30","S30","Ind","Y","MS30",300040310,"Sweeper","Rider",null,null,"S30_Standard_Config"]
[null,null,null,null,null,null,"DualTech_ReadySpace_Strive","Strive","Comm","Y",9000503,350010090,"Scrubber","WB",null,null,800]
[null,null,null,null,null,null,"DualTech_ReadySpace_StriveRider","Strive Rider","Comm","Y","Mstriverider",350090020,"Scrubber","Rider",null,null,810]
[null,null,null,null,null,null,"SS_24_32","SS5","Comm","Y","Mss5",320020510,"Scrubber","WB",null,null,"Sentinel"]
[null,null,null,null,null,null,550,550,"Ind","Y","M550",320050090,"Scrubber","Rider",null,null,830]
[null,null,null,null,null,null,1550,1550,"Ind","Y","M1550",320050100,"Scrubber","Rider",null,null,"Centurion"]
[null,null,null,null,null,null,"Burnishers",2550,"Comm","Y",9003536,400020018,"Sweeper","WB",null,null,4300]
[null,null,null,null,null,null,"B5","B5","Comm","Y",9003532,400020018,"Sweeper","WB",null,null,"GM_400"]
[null,null,null,null,null,null,"B7","B7","Comm","Y",9003532,400020018,"Sweeper","WB",null,null,"GM_5XX"]
[null,null,null,null,null,null,"Burnishers",2510,"Comm","Y",9003532,400020018,"Sweeper","WB",null,null,"GM_636"]
[null,null,null,null,null,null,"B10","B10","Comm","Y",9003532,400020018,"Sweeper","WB",null,null,"Litter_Hawk"]
[null,null,null,null,null,null,"Carpet_Extractors",1510,"Comm","Y",614002,350010040,"Scrubber","WB",null,null,6400]
[null,null,null,null,null,null,"SSR","SSR","Comm","Y","MSSR",null,"Scrubber","Rider",null,null,6500]
[null,null,null,null,null,null,"EZ_Rider","EZ_Rider","Comm","Y","MEZRIDERHP",null,"Scrubber","Rider",null,null,6550]
[null,null,null,null,null,null,"SpeedGleam","SpeedGleam_Plus","Comm","Y",9003538,null,"Sweeper","WB",null,null,6600]
[null,null,null,null,null,null,"SS_17_20","SS17","Comm","Y",9002885,null,"Scrubber","WB",null,null,6650]
[null,null,null,null,null,null,"SS_XC","SS17+","Comm","Y",9007634,null,"Scrubber","WB"]
[null,null,null,null,null,null,"S20GLP","S20GLP","Ind","Y","MS20",null,"Sweeper","Rider"]
[null,null,null,null,null,null,"S20EV","S20EV","Ind","Y","MS20",null,"Sweeper","Rider"]
[null,null,null,null,null,null,"GM_400","GM_400","Ind","Y","M400",null,"Sweeper","Rider"]
[null,null,null,null,null,null,"GM_636","GM_636","Ind","Y","M636",null,"Sweeper","Rider"]
[null,null,null,null,null,null,800,800,"Ind","Y","M800",null,"Sweeper","Rider"]
[null,null,null,null,null,null,810,810,"Ind","Y","M810",null,"Sweeper","Rider"]
[null,null,null,null,null,null,4300,4300,"Ind","Y","ATLV",null,"Sweeper","Rider"]
[null,null,null,null,null,null,"S16L","S16L","Ind","Y","S16",300030020,"Sweeper","Rider"]
[null,null,null,null,null,null,"S16L_Standard_Config","S16L_Standard_Config","Ind","Y","S16",300030020,"Sweeper","Rider"]
[null,null,null,null,null,null,"S16H","S16H","Ind","Y","S16",300030020,"Sweeper","Rider"]
[null,null,null,null,null,null,"S16H_Standard_Config","S16H_Standard_Config","Ind","Y","S16",300030020,"Sweeper","Rider"]
[null,null,null,null,null,null,"6100_Standard_Config","6100_Standard_Config","Ind","Y","M6100",300030010,"Sweeper","Rider"]
[null,null,null,null,null,null,"S10_Standard_Config","S10_Standard_Config","Ind","Y","MS10",300020210,"Sweeper","WB"]
[null,null,null,null,null,null,"S680","S680","Ind","Y","S680",null,"Sweeper","Rider"]
[null,null,null,null,null,null,"S880","S880","Ind","Y","S880",null,"Sweeper","Rider"]

{"sheet":"TennantTrue Rate","index":31,"n_rows":132,"n_cols":50,"rows_kept":132,"cut":false,"hidden":true,"merged":[[3,2,3,4],[2,2,2,4],[3,26,3,28],[2,26,2,28],[2,6,2,8],[2,18,2,20],[2,22,2,24],[2,30,2,32],[2,10,2,12],[2,14,2,16],[3,14,3,16],[3,6,3,8],[3,18,3,20],[3,22,3,24],[3,30,3,32],[3,10,3,12]]}
["TennantTrue Service Rates","2024-09-23"]
["2024 Service Pricing_v4.1"]
[null,null,"GOLD",null,null,null,"GOLD - PRE PAY",null,null,null,"GOLD w/AB Brushes",null,null,null,"GOLD w/AB Brushes PrePay",null,null,null,"SILVER",null,null,null,"SILVER - ANNUALLY",null,null,null,"SILVER -  PRE PAY",null,null,null,"SILVER - PER VISIT",null,null,null,null,null,null,"Block of Time - Commercial; Weekly\nWeekly Visits",null,null,null,"Block of Time - Commercial; Bi-Weekly\nBi-Weekly Visits",null,null,null,"Block of Time - Industrial; Weekly\nWeekly Visits",null,null,null,"Block of Time - Industrial; Bi-Weekly\nBi-weekly visits"]
[null,null,"Term",null,null,null,"Term",null,null,null,"Term",null,null,null,"Term",null,null,null,"Term",null,null,null,"Term",null,null,null,"Term",null,null,null,"Term",null,null,null,null,null,null,"Term",null,null,null,"Term",null,null,null,"Term ",null,null,null,"Term"]
["Model","Hours",36,48,60,null,36,48,60,null,36,48,60,null,36,48,60,null,36,48,60,null,36,48,60,null,36,48,60,12,36,48,60,null,36,48,60,12,36,48,60,12,36,48,60,12,36,48,60,12]
["Dual_Tech_ReadySpace_R14","30/mo or  <1/day",159.63338690700502,175.42614681897763,183.30659855675475,0,5516.7533154000002,7999.2923073299999,10337.809863149998,0,0,0,0,0,0,0,0,0,85.460123250513007,88.049823955074018,90.639524659635015,0,1004.4518752156501,1035.8802818244001,1066.0515521688001,null,2953.0130849581506,4015.2932283339001,5111.5160508470999,0,486.86373245746807,501.10708633255354,514.05558985535856,0,0,0,0,2732.1342433118548,0,0,0,1416.5662853948668,0,0,0,3068.7953349047852,0,0,0,1584.896831191332]
["Dual_Tech_ReadySpace_R14","60/mo or <2/day",335.05352689972494,368.22360417892509,385.61475479152972,0,11579.079359115001,16790.702513265001,21747.23685261,0,0,0,0,0,0,0,0,0,204.58635566031901,211.06060742172153,217.53485918312401,0,2406.1588099659002,2481.5869858268998,2558.2722979522505,null,7070.1343507044012,9624.6352398636009,12268.39280379165,0,486.86373245746807,501.10708633255354,514.05558985535856,0,0,0,0,2732.1342433118548,0,0,0,1416.5662853948668,0,0,0,3068.7953349047852,0,0,0,1584.896831191332]
["Dual_Tech_ReadySpace_R14","90/mo or <3/day",579.94244389378957,0,0,0,20042.169511544998,0,0,0,0,0,0,0,0,0,0,0,414.35211272976011,426.00576590028453,438.95426942308944,0,4872.6601606205995,5009.6880134347502,5161.8015014211005,null,14320.03918721085,19425.269556736203,24756.784453844553,0,486.86373245746807,501.10708633255354,514.05558985535856,0,0,0,0,2732.1342433118548,0,0,0,1416.5662853948668,0,0,0,3068.7953349047852,0,0,0,1584.896831191332]
["Dual_Tech_ReadySpace_1610","30/mo or  <1/day",116.93498762148089,124.86465897322714,132.75120136329795,0,4041.1438555950003,5693.7288089249996,7486.6736364299995,0,0,0,0,0,0,0,0,0,64.742517614025004,66.037367966305496,67.332218318586001,0,761.82457619610011,776.91021136829988,791.9958465405,null,2237.7025505430001,3010.8413531182496,3797.8086546013506,0,380.68600357046705,392.33965674099159,407.87786096835742,0,0,0,0,2732.1342433118548,0,0,0,1416.5662853948668,0,0,0,3068.7953349047852,0,0,0,1584.896831191332]
["Dual_Tech_ReadySpace_1610","60/mo or <2/day",244.95955123605904,268.65307226458322,287.62038899873323,0,8465.5311937200004,12250.365713865001,16220.71937205,0,0,0,0,0,0,0,0,0,141.13868839857449,145.02323945541602,148.90779051225752,0,1659.419868942,1705.9339107229503,1751.1908162395498,null,4877.6887056779997,6612.5367504810001,8398.9273821223505,0,380.68600357046705,392.33965674099159,407.87786096835742,0,0,0,0,2732.1342433118548,0,0,0,1416.5662853948668,0,0,0,3068.7953349047852,0,0,0,1584.896831191332]
["Dual_Tech_ReadySpace_1610","90/mo or <3/day",425.07686832139655,0,0,0,14690.186483219999,0,0,0,0,0,0,0,0,0,0,0,253.79066904697802,261.559771160661,269.32887327434401,0,2984.4414915669004,3076.2124388644502,3166.7262498976502,null,8771.0397163699527,11927.708876152798,15189.97748214105,0,380.68600357046705,392.33965674099159,407.87786096835742,0,0,0,0,2732.1342433118548,0,0,0,1416.5662853948668,0,0,0,3068.7953349047852,0,0,0,1584.896831191332]
["R3_E5","30/mo or  <1/day",0,0,0,0,0,0,0,0,0,0,0,0,0,0,0,0,0,0,0,0,0,0,0,null,0,0,0,0,0,0,0,0,0,0,0,2732.1342433118548,0,0,0,1416.5662853948668,0,0,0,3068.7953349047852,0,0,0,1584.896831191332]
["R3_E5","60/mo or <2/day",0,0,0,0,0,0,0,0,0,0,0,0,0,0,0,0,0,0,0,0,0,0,0,null,0,0,0,0,0,0,0,0,0,0,0,2732.1342433118548,0,0,0,1416.5662853948668,0,0,0,3068.7953349047852,0,0,0,1584.896831191332]
["R3_E5","90/mo or <3/day",0,0,0,0,0,0,0,0,0,0,0,0,0,0,0,0,0,0,0,0,0,0,0,null,0,0,0,0,0,0,0,0,0,0,0,2732.1342433118548,0,0,0,1416.5662853948668,0,0,0,3068.7953349047852,0,0,0,1584.896831191332]
["Carpet_Extractors","30/mo or  <1/day",109.05926963912201,116.96860872733173,124.85192055182033,0,3768.9677517600003,5333.6752186500007,7041.183601005001,0,0,0,0,0,0,0,0,0,54.383714795781003,55.678565148061502,56.973415500342,0,639.88235855414996,654.96799372634985,670.05362889855007,null,1879.4187152032505,2539.4152539870001,3213.2402916786004,0,326.30228877468602,340.54564264977154,353.49414617257651,0,0,0,0,2732.1342433118548,0,0,0,1416.5662853948668,0,0,0,3068.7953349047852,0,0,0,1584.896831191332]
["Carpet_Extractors","60/mo or <2/day",229.17279815034411,252.86097177279242,260.7411923744724,0,7919.9584654050004,11530.258533315,14704.832730959997,0,0,0,0,0,0,0,0,0,123.01078346664751,126.89533452348901,132.07473593261099,0,1446.96384026685,1492.2207457834502,1553.8204227365998,null,4251.6348460317004,5786.5982248030505,7448.532366273751,0,326.30228877468602,340.54564264977154,353.49414617257651,0,0,0,0,2732.1342433118548,0,0,0,1416.5662853948668,0,0,0,3068.7953349047852,0,0,0,1584.896831191332]
["Carpet_Extractors","90/mo or <3/day",376.12733861938125,0,0,0,12998.544869250001,0,0,0,0,0,0,0,0,0,0,0,220.12455988768502,227.893662001368,234.36791376277054,0,2588.44356829665,2680.2145155942003,2755.6426914552003,null,7606.9315355818499,10391.488361117099,13218.787819640253,0,326.30228877468602,340.54564264977154,353.49414617257651,0,0,0,0,2732.1342433118548,0,0,0,1416.5662853948668,0,0,0,3068.7953349047852,0,0,0,1584.896831191332]
["Vacuums","30/mo or  <1/day",0,0,0,0,0,0,0,0,0,0,0,0,0,0,0,0,0,0,0,0,0,0,0,null,0,0,0,0,0,0,0,0,0,0,0,2732.1342433118548,0,0,0,1416.5662853948668,0,0,0,3068.7953349047852,0,0,0,1584.896831191332]
["Vacuums","60/mo or <2/day",0,0,0,0,0,0,0,0,0,0,0,0,0,0,0,0,0,0,0,0,0,0,0,null,0,0,0,0,0,0,0,0,0,0,0,2732.1342433118548,0,0,0,1416.5662853948668,0,0,0,3068.7953349047852,0,0,0,1584.896831191332]
["Vacuums","90/mo or <3/day",0,0,0,0,0,0,0,0,0,0,0,0,0,0,0,0,0,0,0,0,0,0,0,null,0,0,0,0,0,0,0,0,0,0,0,2732.1342433118548,0,0,0,1416.5662853948668,0,0,0,3068.7953349047852,0,0,0,1584.896831191332]
["F_Series_Floor_Machine","30/mo or  <1/day",0,0,0,0,0,0,0,0,0,0,0,0,0,0,0,0,0,0,0,0,0,0,0,null,0,0,0,0,0,0,0,0,0,0,0,2732.1342433118548,0,0,0,1416.5662853948668,0,0,0,3068.7953349047852,0,0,0,1584.896831191332]
["F_Series_Floor_Machine","60/mo or <2/day",0,0,0,0,0,0,0,0,0,0,0,0,0,0,0,0,0,0,0,0,0,0,0,null,0,0,0,0,0,0,0,0,0,0,0,2732.1342433118548,0,0,0,1416.5662853948668,0,0,0,3068.7953349047852,0,0,0,1584.896831191332]
["F_Series_Floor_Machine","90/mo or <3/day",0,0,0,0,0,0,0,0,0,0,0,0,0,0,0,0,0,0,0,0,0,0,0,null,0,0,0,0,0,0,0,0,0,0,0,2732.1342433118548,0,0,0,1416.5662853948668,0,0,0,3068.7953349047852,0,0,0,1584.896831191332]
["Burnishers","30/mo or  <1/day",0,0,0,0,0,0,0,0,0,0,0,0,0,0,0,0,0,0,0,0,0,0,0,null,0,0,0,0,0,0,0,0,0,0,0,2732.1342433118548,0,0,0,1416.5662853948668,0,0,0,3068.7953349047852,0,0,0,1584.896831191332]
["Burnishers","60/mo or <2/day",0,0,0,0,0,0,0,0,0,0,0,0,0,0,0,0,0,0,0,0,0,0,0,null,0,0,0,0,0,0,0,0,0,0,0,2732.1342433118548,0,0,0,1416.5662853948668,0,0,0,3068.7953349047852,0,0,0,1584.896831191332]
["Burnishers","90/mo or <3/day",0,0,0,0,0,0,0,0,0,0,0,0,0,0,0,0,0,0,0,0,0,0,0,null,0,0,0,0,0,0,0,0,0,0,0,2732.1342433118548,0,0,0,1416.5662853948668,0,0,0,3068.7953349047852,0,0,0,1584.896831191332]
["B5","30/mo or  <1/day",109.05926963912201,116.96860872733173,124.85192055182033,0,3768.9677517600003,5333.6752186500007,7041.183601005001,0,0,0,0,0,0,0,0,0,54.383714795781003,55.678565148061502,56.973415500342,0,639.88235855414996,654.96799372634985,670.05362889855007,null,1879.4187152032505,2539.4152539870001,3213.2402916786004,0,326.30228877468602,340.54564264977154,353.49414617257651,0,0,0,0,2732.1342433118548,0,0,0,1416.5662853948668,0,0,0,3068.7953349047852,0,0,0,1584.896831191332]
["B5","60/mo or <2/day",229.17279815034411,252.86097177279242,260.7411923744724,0,7919.9584654050004,11530.258533315,14704.832730959997,0,0,0,0,0,0,0,0,0,123.01078346664751,126.89533452348901,132.07473593261099,0,1446.96384026685,1492.2207457834502,1553.8204227365998,null,4251.6348460317004,5786.5982248030505,7448.532366273751,0,326.30228877468602,340.54564264977154,353.49414617257651,0,0,0,0,2732.1342433118548,0,0,0,1416.5662853948668,0,0,0,3068.7953349047852,0,0,0,1584.896831191332]
["B5","90/mo or <3/day",376.12733861938125,0,0,0,12998.544869250001,0,0,0,0,0,0,0,0,0,0,0,220.12455988768502,227.893662001368,234.36791376277054,0,2588.44356829665,2680.2145155942003,2755.6426914552003,null,7606.9315355818499,10391.488361117099,13218.787819640253,0,326.30228877468602,340.54564264977154,353.49414617257651,0,0,0,0,2732.1342433118548,0,0,0,1416.5662853948668,0,0,0,3068.7953349047852,0,0,0,1584.896831191332]
["B7","30/mo or  <1/day",109.05926963912201,116.96860872733173,124.85192055182033,0,3768.9677517600003,5333.6752186500007,7041.183601005001,0,0,0,0,0,0,0,0,0,54.383714795781003,55.678565148061502,56.973415500342,0,639.88235855414996,654.96799372634985,670.05362889855007,null,1879.4187152032505,2539.4152539870001,3213.2402916786004,0,326.30228877468602,340.54564264977154,353.49414617257651,0,0,0,0,2732.1342433118548,0,0,0,1416.5662853948668,0,0,0,3068.7953349047852,0,0,0,1584.896831191332]
["B7","60/mo or <2/day",229.17279815034411,252.86097177279242,260.7411923744724,0,7919.9584654050004,11530.258533315,14704.832730959997,0,0,0,0,0,0,0,0,0,123.01078346664751,126.89533452348901,132.07473593261099,0,1446.96384026685,1492.2207457834502,1553.8204227365998,null,4251.6348460317004,5786.5982248030505,7448.532366273751,0,326.30228877468602,340.54564264977154,353.49414617257651,0,0,0,0,2732.1342433118548,0,0,0,1416.5662853948668,0,0,0,3068.7953349047852,0,0,0,1584.896831191332]
["B7","90/mo or <3/day",376.12733861938125,0,0,0,12998.544869250001,0,0,0,0,0,0,0,0,0,0,0,220.12455988768502,227.893662001368,234.36791376277054,0,2588.44356829665,2680.2145155942003,2755.6426914552003,null,7606.9315355818499,10391.488361117099,13218.787819640253,0,326.30228877468602,340.54564264977154,353.49414617257651,0,0,0,0,2732.1342433118548,0,0,0,1416.5662853948668,0,0,0,3068.7953349047852,0,0,0,1584.896831191332]
["B10","30/mo or  <1/day",143.81131670029302,159.60728005516685,167.52967879903642,0,4969.9600664400004,7277.9646061350013,9448.050312944999,0,0,0,0,0,0,0,0,0,85.460123250513007,88.049823955074018,90.639524659635015,0,1004.4518752156501,1035.8802818244001,1066.0515521688001,null,2953.0130849581506,4015.2932283339001,5111.5160508470999,0,486.86373245746807,501.10708633255354,514.05558985535856,0,0,0,0,2732.1342433118548,0,0,0,1416.5662853948668,0,0,0,3068.7953349047852,0,0,0,1584.896831191332]
["B10","60/mo or <2/day",295.53366850394201,327.11061035622907,335.03771573283598,0,10213.316757359999,14915.982802545001,18894.880105245,0,0,0,0,0,0,0,0,0,204.58635566031901,211.06060742172153,217.53485918312401,0,2406.1588099659002,2481.5869858268998,2558.2722979522505,null,7070.1343507044012,9624.6352398636009,12268.39280379165,0,486.86373245746807,501.10708633255354,514.05558985535856,0,0,0,0,2732.1342433118548,0,0,0,1416.5662853948668,0,0,0,3068.7953349047852,0,0,0,1584.896831191332]
["B10","90/mo or <3/day",524.67114953328905,0,0,0,18132.054702120004,0,0,0,0,0,0,0,0,0,0,0,347.01989441117405,357.37869722941815,367.73750004766197,0,4080.6643140801002,4202.60653172205,4324.5487493640012,null,11993.079961899,16296.257394769053,20740.2340892463,0,486.86373245746807,501.10708633255354,514.05558985535856,0,0,0,0,2732.1342433118548,0,0,0,1416.5662853948668,0,0,0,3068.7953349047852,0,0,0,1584.896831191332]
["S7_S6","30/mo or  <1/day",109.05926963912201,116.96860872733173,124.85192055182033,0,3768.9677517600003,5333.6752186500007,7041.183601005001,0,177.0094104375905,184.90140711405209,195.96708972035592,0,6117.2494727399999,8431.3566156600009,11051.814440475,0,67.332218318586001,69.921919023147012,72.511619727708009,0,791.9958465405,822.1671168849,852.3383872293,null,2326.9592253118499,3188.0975663916001,4089.4642679305502,0,420.82636449116256,433.77486801396748,446.72337153677256,0,0,0,0,2732.1342433118548,0,0,0,1416.5662853948668,0,0,0,3068.7953349047852,0,0,0,1584.896831191332]
["S7_S6","60/mo or <2/day",229.17279815034411,252.86097177279242,260.7411923744724,0,7919.9584654050004,11530.258533315,14704.832730959997,0,301.8554331624274,327.11061035622907,335.03771573283598,0,10431.789952814999,14915.982802545001,18894.880105245,0,160.56144368278203,165.74084509190399,170.92024650102601,0,1888.2186690537001,1948.5612097425001,2010.1608866956501,null,5548.9994708408994,7557.9032212722013,9639.7208750357986,0,420.82636449116256,433.77486801396748,446.72337153677256,0,0,0,0,2732.1342433118548,0,0,0,1416.5662853948668,0,0,0,3068.7953349047852,0,0,0,1584.896831191332]
["S7_S6","90/mo or <3/day",409.32543235667879,0,0,0,14145.83427555,0,0,0,537.31467885025984,0,0,0,18569.001093030001,0,0,0,273.21342433118554,280.98252644486854,288.75162855855154,0,3213.2402916786004,3303.7541027118004,3395.5250500093507,null,9442.3504815328488,12812.732806255201,16286.200304654249,0,420.82636449116256,433.77486801396748,446.72337153677256,0,0,0,0,2732.1342433118548,0,0,0,1416.5662853948668,0,0,0,3068.7953349047852,0,0,0,1584.896831191332]
["S8","30/mo or  <1/day",0,0,0,0,0,0,0,0,0,0,0,0,0,0,0,0,67.332218318586001,69.921919023147012,72.511619727708009,0,791.9958465405,822.1671168849,852.3383872293,null,2326.9592253118499,3188.0975663916001,4089.4642679305502,0,420.82636449116256,433.77486801396748,446.72337153677256,0,0,0,0,2732.1342433118548,0,0,0,1416.5662853948668,0,0,0,3068.7953349047852,0,0,0,1584.896831191332]
["S8","60/mo or <2/day",0,0,0,0,0,0,0,0,0,0,0,0,0,0,0,0,160.56144368278203,165.74084509190399,170.92024650102601,0,1888.2186690537001,1948.5612097425001,2010.1608866956501,null,5548.9994708408994,7557.9032212722013,9639.7208750357986,0,420.82636449116256,433.77486801396748,446.72337153677256,0,0,0,0,2732.1342433118548,0,0,0,1416.5662853948668,0,0,0,3068.7953349047852,0,0,0,1584.896831191332]
["S8","90/mo or <3/day",0,0,0,0,0,0,0,0,0,0,0,0,0,0,0,0,273.21342433118554,280.98252644486854,288.75162855855154,0,3213.2402916786004,3303.7541027118004,3395.5250500093507,null,9442.3504815328488,12812.732806255201,16286.200304654249,0,420.82636449116256,433.77486801396748,446.72337153677256,0,0,0,0,2732.1342433118548,0,0,0,1416.5662853948668,0,0,0,3068.7953349047852,0,0,0,1584.896831191332]
["S9","30/mo or  <1/day",0,0,0,0,0,0,0,0,0,0,0,0,0,0,0,0,67.332218318586001,69.921919023147012,72.511619727708009,0,791.9958465405,822.1671168849,852.3383872293,null,2326.9592253118499,3188.0975663916001,4089.4642679305502,0,420.82636449116256,433.77486801396748,446.72337153677256,0,0,0,0,2732.1342433118548,0,0,0,1416.5662853948668,0,0,0,3068.7953349047852,0,0,0,1584.896831191332]
["S9","60/mo or <2/day",0,0,0,0,0,0,0,0,0,0,0,0,0,0,0,0,160.56144368278203,165.74084509190399,170.92024650102601,0,1888.2186690537001,1948.5612097425001,2010.1608866956501,null,5548.9994708408994,7557.9032212722013,9639.7208750357986,0,420.82636449116256,433.77486801396748,446.72337153677256,0,0,0,0,2732.1342433118548,0,0,0,1416.5662853948668,0,0,0,3068.7953349047852,0,0,0,1584.896831191332]
["S9","90/mo or <3/day",0,0,0,0,0,0,0,0,0,0,0,0,0,0,0,0,273.21342433118554,280.98252644486854,288.75162855855154,0,3213.2402916786004,3303.7541027118004,3395.5250500093507,null,9442.3504815328488,12812.732806255201,16286.200304654249,0,420.82636449116256,433.77486801396748,446.72337153677256,0,0,0,0,2732.1342433118548,0,0,0,1416.5662853948668,0,0,0,3068.7953349047852,0,0,0,1584.896831191332]
[3640,"30/mo or  <1/day",132.7570578281929,151.71122980927143,159.60875612232192,0,4587.9371045550006,6917.9110158599997,9001.3397568749988,0,203.8504223954055,219.67079446801176,227.56421296626641,0,7044.8451629400006,10016.812933514999,12833.774582175001,0,67.332218318586001,69.921919023147012,72.511619727708009,0,791.9958465405,822.1671168849,852.3383872293,null,2326.9592253118499,3188.0975663916001,4089.4642679305502,0,420.82636449116256,433.77486801396748,446.72337153677256,0,0,0,0,2732.1342433118548,0,0,0,1416.5662853948668,0,0,0,3068.7953349047852,0,0,0,1584.896831191332]
[3640,"60/mo or <2/day",287.62263340058604,319.21456011033371,327.13843492135834,0,9939.9201328800009,14555.929212270003,18449.390069820001,0,360.30526841266925,393.49096496579034,402.99317257678041,0,12451.751620290001,17942.874002144999,22727.314930544995,0,160.56144368278203,165.74084509190399,170.92024650102601,0,1888.2186690537001,1948.5612097425001,2010.1608866956501,null,5548.9994708408994,7557.9032212722013,9639.7208750357986,0,420.82636449116256,433.77486801396748,446.72337153677256,0,0,0,0,2732.1342433118548,0,0,0,1416.5662853948668,0,0,0,3068.7953349047852,0,0,0,1584.896831191332]
[3640,"90/mo or <3/day",491.50837291698866,0,0,0,16985.985816465,0,0,0,621.05157273444308,0,0,0,21462.855542325,0,0,0,273.21342433118554,280.98252644486854,288.75162855855154,0,3213.2402916786004,3303.7541027118004,3395.5250500093507,null,9442.3504815328488,12812.732806255201,16286.200304654249,0,420.82636449116256,433.77486801396748,446.72337153677256,0,0,0,0,2732.1342433118548,0,0,0,1416.5662853948668,0,0,0,3068.7953349047852,0,0,0,1584.896831191332]
["S10","30/mo or  <1/day",143.81131670029302,159.60728005516685,167.52967879903642,0,4969.9600664400004,7277.9646061350013,9448.050312944999,0,211.7614574987615,227.56684471390719,237.04334994003955,0,7318.2417874200009,10376.86652379,13368.362624685002,0,67.332218318586001,69.921919023147012,72.511619727708009,0,791.9958465405,822.1671168849,852.3383872293,null,2326.9592253118499,3188.0975663916001,4089.4642679305502,0,420.82636449116256,433.77486801396748,446.72337153677256,0,0,0,0,2732.1342433118548,0,0,0,1416.5662853948668,0,0,0,3068.7953349047852,0,0,0,1584.896831191332]
["S10","60/mo or <2/day",335.05352689972494,368.22360417892509,385.61475479152972,0,11579.079359115001,16790.702513265001,21747.23685261,0,410.91470280154942,445.63166286071981,461.46949244695179,0,14200.757704575,20320.448218605001,26025.161713335001,0,160.56144368278203,165.74084509190399,170.92024650102601,0,1888.2186690537001,1948.5612097425001,2010.1608866956501,null,5548.9994708408994,7557.9032212722013,9639.7208750357986,0,420.82636449116256,433.77486801396748,446.72337153677256,0,0,0,0,2732.1342433118548,0,0,0,1416.5662853948668,0,0,0,3068.7953349047852,0,0,0,1584.896831191332]
["S10","90/mo or <3/day",564.19100792907193,0,0,0,19497.817303875003,0,0,0,696.91274863626768,0,0,0,24084.533887785001,0,0,0,273.21342433118554,280.98252644486854,288.75162855855154,0,3213.2402916786004,3303.7541027118004,3395.5250500093507,null,9442.3504815328488,12812.732806255201,16286.200304654249,0,420.82636449116256,433.77486801396748,446.72337153677256,0,0,0,0,2732.1342433118548,0,0,0,1416.5662853948668,0,0,0,3068.7953349047852,0,0,0,1584.896831191332]
["S10_Quick_Ship","30/mo or  <1/day",143.81131670029302,159.60728005516685,167.52967879903642,0,4969.9600664400004,7277.9646061350013,9448.050312944999,0,211.7614574987615,227.56684471390719,237.04334994003955,0,7318.2417874200009,10376.86652379,13368.362624685002,0,67.332218318586001,69.921919023147012,72.511619727708009,0,791.9958465405,822.1671168849,852.3383872293,null,2326.9592253118499,3188.0975663916001,4089.4642679305502,0,420.82636449116256,433.77486801396748,446.72337153677256,0,0,0,0,2732.1342433118548,0,0,0,1416.5662853948668,0,0,0,3068.7953349047852,0,0,0,1584.896831191332]
["S10_Quick_Ship","60/mo or <2/day",335.05352689972494,368.22360417892509,385.61475479152972,0,11579.079359115001,16790.702513265001,21747.23685261,0,410.91470280154942,445.63166286071981,461.46949244695179,0,14200.757704575,20320.448218605001,26025.161713335001,0,160.56144368278203,165.74084509190399,170.92024650102601,0,1888.2186690537001,1948.5612097425001,2010.1608866956501,null,5548.9994708408994,7557.9032212722013,9639.7208750357986,0,420.82636449116256,433.77486801396748,446.72337153677256,0,0,0,0,2732.1342433118548,0,0,0,1416.5662853948668,0,0,0,3068.7953349047852,0,0,0,1584.896831191332]
["S10_Quick_Ship","90/mo or <3/day",564.19100792907193,0,0,0,19497.817303875003,0,0,0,696.91274863626768,0,0,0,24084.533887785001,0,0,0,273.21342433118554,280.98252644486854,288.75162855855154,0,3213.2402916786004,3303.7541027118004,3395.5250500093507,null,9442.3504815328488,12812.732806255201,16286.200304654249,0,420.82636449116256,433.77486801396748,446.72337153677256,0,0,0,0,2732.1342433118548,0,0,0,1416.5662853948668,0,0,0,3068.7953349047852,0,0,0,1584.896831191332]
["S10_Standard_Config","30/mo or  <1/day",143.81131670029302,159.60728005516685,167.52967879903642,0,4969.9600664400004,7277.9646061350013,9448.050312944999,0,211.7614574987615,227.56684471390719,237.04334994003955,0,7318.2417874200009,10376.86652379,13368.362624685002,0,67.332218318586001,69.921919023147012,72.511619727708009,0,791.9958465405,822.1671168849,852.3383872293,null,2326.9592253118499,3188.0975663916001,4089.4642679305502,0,420.82636449116256,433.77486801396748,446.72337153677256,0,0,0,0,2732.1342433118548,0,0,0,1416.5662853948668,0,0,0,3068.7953349047852,0,0,0,1584.896831191332]
["S10_Standard_Config","60/mo or <2/day",335.05352689972494,368.22360417892509,385.61475479152972,0,11579.079359115001,16790.702513265001,21747.23685261,0,410.91470280154942,445.63166286071981,461.46949244695179,0,14200.757704575,20320.448218605001,26025.161713335001,0,160.56144368278203,165.74084509190399,170.92024650102601,0,1888.2186690537001,1948.5612097425001,2010.1608866956501,null,5548.9994708408994,7557.9032212722013,9639.7208750357986,0,420.82636449116256,433.77486801396748,446.72337153677256,0,0,0,0,2732.1342433118548,0,0,0,1416.5662853948668,0,0,0,3068.7953349047852,0,0,0,1584.896831191332]
["S10_Standard_Config","90/mo or <3/day",564.19100792907193,0,0,0,19497.817303875003,0,0,0,696.91274863626768,0,0,0,24084.533887785001,0,0,0,273.21342433118554,280.98252644486854,288.75162855855154,0,3213.2402916786004,3303.7541027118004,3395.5250500093507,null,9442.3504815328488,12812.732806255201,16286.200304654249,0,420.82636449116256,433.77486801396748,446.72337153677256,0,0,0,0,2732.1342433118548,0,0,0,1416.5662853948668,0,0,0,3068.7953349047852,0,0,0,1584.896831191332]
[6100,"30/mo or  <1/day",202.2611519505349,218.06481814681274,233.90527948068546,0,6989.921733915,9943.5816948149986,13191.387131159998,0,304.99865693117158,322.39974648071183,338.17578619219012,0,10540.416290220001,14701.171169024999,19071.855598769998,0,95.818926068757008,98.408626773317991,100.998327477879,0,1126.3940928576001,1157.8224994663501,1187.9937698107501,null,3311.2969202979007,4487.9764637294993,5696.0844137698496,0,459.67187505957753,472.62037858238244,486.86373245746807,0,0,0,0,2732.1342433118548,0,0,0,1416.5662853948668,0,0,0,3068.7953349047852,0,0,0,1584.896831191332]
[6100,"60/mo or <2/day",458.31027917969118,507.27438732274396,524.6853808040097,0,15838.696410165001,23131.307264040002,29590.302517379998,0,570.47745546656017,621.03104340767754,636.87681019222896,0,19715.069978684998,28318.520005290004,35917.481541059991,0,220.12455988768502,227.893662001368,234.36791376277054,0,2588.44356829665,2680.2145155942003,2755.6426914552003,null,7606.9315355818499,10391.488361117099,13218.787819640253,0,459.67187505957753,472.62037858238244,486.86373245746807,0,0,0,0,2732.1342433118548,0,0,0,1416.5662853948668,0,0,0,3068.7953349047852,0,0,0,1584.896831191332]
[6100,"90/mo or <3/day",703.23451329475301,0,0,0,24303.007083240002,0,0,0,921.31773545199985,0,0,0,31839.722066115002,0,0,0,366.44264969538148,376.80145251362546,387.16025533186951,0,4309.4631141917998,4431.4053318337501,4553.3475494757004,null,12664.390727061904,17182.538461135802,21836.456911759502,0,459.67187505957753,472.62037858238244,486.86373245746807,0,0,0,0,2732.1342433118548,0,0,0,1416.5662853948668,0,0,0,3068.7953349047852,0,0,0,1584.896831191332]
["6100_Standard_Config","30/mo or  <1/day",202.2611519505349,218.06481814681274,233.90527948068546,0,6989.921733915,9943.5816948149986,13191.387131159998,0,304.99865693117158,322.39974648071183,338.17578619219012,0,10540.416290220001,14701.171169024999,19071.855598769998,0,95.818926068757008,98.408626773317991,100.998327477879,0,1126.3940928576001,1157.8224994663501,1187.9937698107501,null,3311.2969202979007,4487.9764637294993,5696.0844137698496,0,459.67187505957753,472.62037858238244,486.86373245746807,0,0,0,0,2732.1342433118548,0,0,0,1416.5662853948668,0,0,0,3068.7953349047852,0,0,0,1584.896831191332]
["6100_Standard_Config","60/mo or <2/day",458.31027917969118,507.27438732274396,524.6853808040097,0,15838.696410165001,23131.307264040002,29590.302517379998,0,570.47745546656017,621.03104340767754,636.87681019222896,0,19715.069978684998,28318.520005290004,35917.481541059991,0,220.12455988768502,227.893662001368,234.36791376277054,0,2588.44356829665,2680.2145155942003,2755.6426914552003,null,7606.9315355818499,10391.488361117099,13218.787819640253,0,459.67187505957753,472.62037858238244,486.86373245746807,0,0,0,0,2732.1342433118548,0,0,0,1416.5662853948668,0,0,0,3068.7953349047852,0,0,0,1584.896831191332]
["6100_Standard_Config","90/mo or <3/day",703.23451329475301,0,0,0,24303.007083240002,0,0,0,921.31773545199985,0,0,0,31839.722066115002,0,0,0,366.44264969538148,376.80145251362546,387.16025533186951,0,4309.4631141917998,4431.4053318337501,4553.3475494757004,null,12664.390727061904,17182.538461135802,21836.456911759502,0,459.67187505957753,472.62037858238244,486.86373245746807,0,0,0,0,2732.1342433118548,0,0,0,1416.5662853948668,0,0,0,3068.7953349047852,0,0,0,1584.896831191332]
[6200,"30/mo or  <1/day",0,0,0,0,0,0,0,0,0,0,0,0,0,0,0,0,95.818926068757008,98.408626773317991,100.998327477879,0,1126.3940928576001,1157.8224994663501,1187.9937698107501,null,3311.2969202979007,4487.9764637294993,5696.0844137698496,0,459.67187505957753,472.62037858238244,486.86373245746807,0,0,0,0,2732.1342433118548,0,0,0,1416.5662853948668,0,0,0,3068.7953349047852,0,0,0,1584.896831191332]
[6200,"60/mo or <2/day",0,0,0,0,0,0,0,0,0,0,0,0,0,0,0,0,220.12455988768502,227.893662001368,234.36791376277054,0,2588.44356829665,2680.2145155942003,2755.6426914552003,null,7606.9315355818499,10391.488361117099,13218.787819640253,0,459.67187505957753,472.62037858238244,486.86373245746807,0,0,0,0,2732.1342433118548,0,0,0,1416.5662853948668,0,0,0,3068.7953349047852,0,0,0,1584.896831191332]
[6200,"90/mo or <3/day",0,0,0,0,0,0,0,0,0,0,0,0,0,0,0,0,366.44264969538148,376.80145251362546,387.16025533186951,0,4309.4631141917998,4431.4053318337501,4553.3475494757004,null,12664.390727061904,17182.538461135802,21836.456911759502,0,459.67187505957753,472.62037858238244,486.86373245746807,0,0,0,0,2732.1342433118548,0,0,0,1416.5662853948668,0,0,0,3068.7953349047852,0,0,0,1584.896831191332]
["S16L","30/mo or  <1/day",202.2611519505349,218.06481814681274,233.90527948068546,0,6989.921733915,9943.5816948149986,13191.387131159998,0,304.99865693117158,322.39974648071183,338.17578619219012,0,10540.416290220001,14701.171169024999,19071.855598769998,0,95.818926068757008,98.408626773317991,100.998327477879,0,1126.3940928576001,1157.8224994663501,1187.9937698107501,null,3311.2969202979007,4487.9764637294993,5696.0844137698496,0,459.67187505957753,472.62037858238244,486.86373245746807,0,0,0,0,2732.1342433118548,0,0,0,1416.5662853948668,0,0,0,3068.7953349047852,0,0,0,1584.896831191332]
["S16L","60/mo or <2/day",458.31027917969118,507.27438732274396,524.6853808040097,0,15838.696410165001,23131.307264040002,29590.302517379998,0,570.47745546656017,621.03104340767754,636.87681019222896,0,19715.069978684998,28318.520005290004,35917.481541059991,0,220.12455988768502,227.893662001368,234.36791376277054,0,2588.44356829665,2680.2145155942003,2755.6426914552003,null,7606.9315355818499,10391.488361117099,13218.787819640253,0,459.67187505957753,472.62037858238244,486.86373245746807,0,0,0,0,2732.1342433118548,0,0,0,1416.5662853948668,0,0,0,3068.7953349047852,0,0,0,1584.896831191332]
["S16L","90/mo or <3/day",703.23451329475301,777.50666963650622,809.12441561291507,0,24303.007083240002,35453.683695959997,45631.605354615,0,921.31773545199985,997.15069783249783,1031.949060092295,0,31839.722066115002,45469.276108830003,58198.085915535004,0,366.44264969538148,376.80145251362546,387.16025533186951,0,4309.4631141917998,4431.4053318337501,4553.3475494757004,null,12664.390727061904,17182.538461135802,21836.456911759502,0,459.67187505957753,472.62037858238244,486.86373245746807,0,0,0,0,2732.1342433118548,0,0,0,1416.5662853948668,0,0,0,3068.7953349047852,0,0,0,1584.896831191332]
["S16L_Standard_Config","30/mo or  <1/day",202.2611519505349,218.06481814681274,233.90527948068546,0,6989.921733915,9943.5816948149986,13191.387131159998,0,304.99865693117158,322.39974648071183,338.17578619219012,0,10540.416290220001,14701.171169024999,19071.855598769998,0,95.818926068757008,98.408626773317991,100.998327477879,0,1126.3940928576001,1157.8224994663501,1187.9937698107501,null,3311.2969202979007,4487.9764637294993,5696.0844137698496,0,459.67187505957753,472.62037858238244,486.86373245746807,0,0,0,0,2732.1342433118548,0,0,0,1416.5662853948668,0,0,0,3068.7953349047852,0,0,0,1584.896831191332]
["S16L_Standard_Config","60/mo or <2/day",458.31027917969118,507.27438732274396,524.6853808040097,0,15838.696410165001,23131.307264040002,29590.302517379998,0,570.47745546656017,621.03104340767754,636.87681019222896,0,19715.069978684998,28318.520005290004,35917.481541059991,0,220.12455988768502,227.893662001368,234.36791376277054,0,2588.44356829665,2680.2145155942003,2755.6426914552003,null,7606.9315355818499,10391.488361117099,13218.787819640253,0,459.67187505957753,472.62037858238244,486.86373245746807,0,0,0,0,2732.1342433118548,0,0,0,1416.5662853948668,0,0,0,3068.7953349047852,0,0,0,1584.896831191332]
["S16L_Standard_Config","90/mo or <3/day",703.23451329475301,777.50666963650622,809.12441561291507,0,24303.007083240002,35453.683695959997,45631.605354615,0,921.31773545199985,997.15069783249783,1031.949060092295,0,31839.722066115002,45469.276108830003,58198.085915535004,0,366.44264969538148,376.80145251362546,387.16025533186951,0,4309.4631141917998,4431.4053318337501,4553.3475494757004,null,12664.390727061904,17182.538461135802,21836.456911759502,0,459.67187505957753,472.62037858238244,486.86373245746807,0,0,0,0,2732.1342433118548,0,0,0,1416.5662853948668,0,0,0,3068.7953349047852,0,0,0,1584.896831191332]
["S16H","30/mo or  <1/day",202.2611519505349,218.06481814681274,233.90527948068546,0,6989.921733915,9943.5816948149986,13191.387131159998,0,304.99865693117158,322.39974648071183,338.17578619219012,0,10540.416290220001,14701.171169024999,19071.855598769998,0,95.818926068757008,98.408626773317991,100.998327477879,0,1126.3940928576001,1157.8224994663501,1187.9937698107501,null,3311.2969202979007,4487.9764637294993,5696.0844137698496,0,459.67187505957753,472.62037858238244,486.86373245746807,0,0,0,0,2732.1342433118548,0,0,0,1416.5662853948668,0,0,0,3068.7953349047852,0,0,0,1584.896831191332]
["S16H","60/mo or <2/day",458.31027917969118,507.27438732274396,524.6853808040097,0,15838.696410165001,23131.307264040002,29590.302517379998,0,570.47745546656017,621.03104340767754,636.87681019222896,0,19715.069978684998,28318.520005290004,35917.481541059991,0,220.12455988768502,227.893662001368,234.36791376277054,0,2588.44356829665,2680.2145155942003,2755.6426914552003,null,7606.9315355818499,10391.488361117099,13218.787819640253,0,459.67187505957753,472.62037858238244,486.86373245746807,0,0,0,0,2732.1342433118548,0,0,0,1416.5662853948668,0,0,0,3068.7953349047852,0,0,0,1584.896831191332]
["S16H","90/mo or <3/day",703.23451329475301,777.50666963650622,809.12441561291507,0,24303.007083240002,35453.683695959997,45631.605354615,0,921.31773545199985,997.15069783249783,1031.949060092295,0,31839.722066115002,45469.276108830003,58198.085915535004,0,366.44264969538148,376.80145251362546,387.16025533186951,0,4309.4631141917998,4431.4053318337501,4553.3475494757004,null,12664.390727061904,17182.538461135802,21836.456911759502,0,459.67187505957753,472.62037858238244,486.86373245746807,0,0,0,0,2732.1342433118548,0,0,0,1416.5662853948668,0,0,0,3068.7953349047852,0,0,0,1584.896831191332]
["S16H_Standard_Config","30/mo or  <1/day",202.2611519505349,218.06481814681274,233.90527948068546,0,6989.921733915,9943.5816948149986,13191.387131159998,0,304.99865693117158,322.39974648071183,338.17578619219012,0,10540.416290220001,14701.171169024999,19071.855598769998,0,95.818926068757008,98.408626773317991,100.998327477879,0,1126.3940928576001,1157.8224994663501,1187.9937698107501,null,3311.2969202979007,4487.9764637294993,5696.0844137698496,0,459.67187505957753,472.62037858238244,486.86373245746807,0,0,0,0,2732.1342433118548,0,0,0,1416.5662853948668,0,0,0,3068.7953349047852,0,0,0,1584.896831191332]
["S16H_Standard_Config","60/mo or <2/day",458.31027917969118,507.27438732274396,524.6853808040097,0,15838.696410165001,23131.307264040002,29590.302517379998,0,570.47745546656017,621.03104340767754,636.87681019222896,0,19715.069978684998,28318.520005290004,35917.481541059991,0,220.12455988768502,227.893662001368,234.36791376277054,0,2588.44356829665,2680.2145155942003,2755.6426914552003,null,7606.9315355818499,10391.488361117099,13218.787819640253,0,459.67187505957753,472.62037858238244,486.86373245746807,0,0,0,0,2732.1342433118548,0,0,0,1416.5662853948668,0,0,0,3068.7953349047852,0,0,0,1584.896831191332]
["S16H_Standard_Config","90/mo or <3/day",703.23451329475301,777.50666963650622,809.12441561291507,0,24303.007083240002,35453.683695959997,45631.605354615,0,921.31773545199985,997.15069783249783,1031.949060092295,0,31839.722066115002,45469.276108830003,58198.085915535004,0,366.44264969538148,376.80145251362546,387.16025533186951,0,4309.4631141917998,4431.4053318337501,4553.3475494757004,null,12664.390727061904,17182.538461135802,21836.456911759502,0,459.67187505957753,472.62037858238244,486.86373245746807,0,0,0,0,2732.1342433118548,0,0,0,1416.5662853948668,0,0,0,3068.7953349047852,0,0,0,1584.896831191332]
["S20GLP_Built_to_Order","30/mo or  <1/day",167.16250753920002,180.22207844069999,193.28164934220001,0,5776.7242127850004,8217.7655027849996,10901.69040114,0,252.04971839895003,266.41524639060003,279.47481729210006,0,8710.8558433649996,12149.062500330001,15761.803609529999,0,137.25413734173301,141.13868839857449,145.02323945541602,0,1614.1629634254002,1659.419868942,1705.9339107229503,null,4743.1751253925495,6436.5376734720012,8178.9285358611005,0,653.89942790165253,674.61703353814039,694.0397888223481,0,0,0,0,2732.1342433118548,0,0,0,1416.5662853948668,0,0,0,3068.7953349047852,0,0,0,1584.896831191332]
["S20GLP_Built_to_Order","60/mo or <2/day",378.72755614350007,419.21222593815003,433.57775392979994,0,13088.863396980001,19115.79434199,24454.351643220001,0,471.45050954415007,513.24113642894997,526.30070733045,0,16292.730090105,23403.483367875004,29683.062086399997,0,321.12288736556405,330.18683983152755,339.25079229749105,0,3776.4373381074001,3883.2939205771499,3990.1505030469002,null,11097.998941681799,15056.721038119949,19133.613943406999,0,653.89942790165253,674.61703353814039,694.0397888223481,0,0,0,0,2732.1342433118548,0,0,0,1416.5662853948668,0,0,0,3068.7953349047852,0,0,0,1584.896831191332]
["S20GLP_Built_to_Order","90/mo or <3/day",581.1509051167501,642.53088835380015,668.65003015680009,0,20084.887734119999,29299.818603870001,37711.646889209995,0,761.37298355745008,824.0589238846502,852.78997986795002,0,26313.204585554999,37577.38961826,48097.057057514998,0,502.40193668483397,516.64529055991954,532.18349478728555,0,5908.5404424449998,6075.7395656035496,6258.0243239342999,null,17363.5660832022,23558.733593918998,30015.3854476206,0,653.89942790165253,674.61703353814039,694.0397888223481,0,0,0,0,2732.1342433118548,0,0,0,1416.5662853948668,0,0,0,3068.7953349047852,0,0,0,1584.896831191332]
["S20EV","30/mo or  <1/day",167.16250753920002,180.22207844069999,193.28164934220001,0,5776.7242127850004,8217.7655027849996,10901.69040114,0,252.04971839895003,266.41524639060003,279.47481729210006,0,8710.8558433649996,12149.062500330001,15761.803609529999,0,137.25413734173301,141.13868839857449,145.02323945541602,0,1614.1629634254002,1659.419868942,1705.9339107229503,null,4743.1751253925495,6436.5376734720012,8178.9285358611005,0,653.89942790165253,674.61703353814039,694.0397888223481,0,0,0,0,2732.1342433118548,0,0,0,1416.5662853948668,0,0,0,3068.7953349047852,0,0,0,1584.896831191332]
["S20EV","60/mo or <2/day",378.72755614350007,419.21222593815003,433.57775392979994,0,13088.863396980001,19115.79434199,24454.351643220001,0,471.45050954415007,513.24113642894997,526.30070733045,0,16292.730090105,23403.483367875004,29683.062086399997,0,321.12288736556405,330.18683983152755,339.25079229749105,0,3776.4373381074001,3883.2939205771499,3990.1505030469002,null,11097.998941681799,15056.721038119949,19133.613943406999,0,653.89942790165253,674.61703353814039,694.0397888223481,0,0,0,0,2732.1342433118548,0,0,0,1416.5662853948668,0,0,0,3068.7953349047852,0,0,0,1584.896831191332]
["S20EV","90/mo or <3/day",581.1509051167501,642.53088835380015,668.65003015680009,0,20084.887734119999,29299.818603870001,37711.646889209995,0,761.37298355745008,824.0589238846502,852.78997986795002,0,26313.204585554999,37577.38961826,48097.057057514998,0,502.40193668483397,516.64529055991954,532.18349478728555,0,5908.5404424449998,6075.7395656035496,6258.0243239342999,null,17363.5660832022,23558.733593918998,30015.3854476206,0,653.89942790165253,674.61703353814039,694.0397888223481,0,0,0,0,2732.1342433118548,0,0,0,1416.5662853948668,0,0,0,3068.7953349047852,0,0,0,1584.896831191332]
["S20GLP_Standard_Config","30/mo or  <1/day",167.16250753920002,180.22207844069999,193.28164934220001,0,5776.7242127850004,8217.7655027849996,10901.69040114,0,252.04971839895003,266.41524639060003,279.47481729210006,0,8710.8558433649996,12149.062500330001,15761.803609529999,0,137.25413734173301,141.13868839857449,145.02323945541602,0,1614.1629634254002,1659.419868942,1705.9339107229503,null,4743.1751253925495,6436.5376734720012,8178.9285358611005,0,653.89942790165253,674.61703353814039,694.0397888223481,0,0,0,0,2732.1342433118548,0,0,0,1416.5662853948668,0,0,0,3068.7953349047852,0,0,0,1584.896831191332]
["S20GLP_Standard_Config","60/mo or <2/day",378.72755614350007,419.21222593815003,433.57775392979994,0,13088.863396980001,19115.79434199,24454.351643220001,0,471.45050954415007,513.24113642894997,526.30070733045,0,16292.730090105,23403.483367875004,29683.062086399997,0,321.12288736556405,330.18683983152755,339.25079229749105,0,3776.4373381074001,3883.2939205771499,3990.1505030469002,null,11097.998941681799,15056.721038119949,19133.613943406999,0,653.89942790165253,674.61703353814039,694.0397888223481,0,0,0,0,2732.1342433118548,0,0,0,1416.5662853948668,0,0,0,3068.7953349047852,0,0,0,1584.896831191332]
["S20GLP_Standard_Config","90/mo or <3/day",581.1509051167501,642.53088835380015,668.65003015680009,0,20084.887734119999,29299.818603870001,37711.646889209995,0,761.37298355745008,824.0589238846502,852.78997986795002,0,26313.204585554999,37577.38961826,48097.057057514998,0,502.40193668483397,516.64529055991954,532.18349478728555,0,5908.5404424449998,6075.7395656035496,6258.0243239342999,null,17363.5660832022,23558.733593918998,30015.3854476206,0,653.89942790165253,674.61703353814039,694.0397888223481,0,0,0,0,2732.1342433118548,0,0,0,1416.5662853948668,0,0,0,3068.7953349047852,0,0,0,1584.896831191332]
["S30_Built_to_Order","30/mo or  <1/day",252.87058633941501,276.57588878249851,292.35995748561987,0,8738.9278181999998,12611.639824784999,16488.013393305002,0,355.57277419905461,380.85728457235768,396.65210606236144,0,12288.20185386,17366.788257705,22369.702381560001,0,137.25413734173301,141.13868839857449,145.02323945541602,0,1614.1629634254002,1659.419868942,1705.9339107229503,null,4743.1751253925495,6436.5376734720012,8178.9285358611005,0,653.89942790165253,674.61703353814039,694.0397888223481,0,0,0,0,2732.1342433118548,0,0,0,1416.5662853948668,0,0,0,3068.7953349047852,0,0,0,1584.896831191332]
["S30_Built_to_Order","60/mo or <2/day",556.27997282571584,614.71420321096127,638.4783082197614,0,19224.420679394996,28030.477133069999,36007.800068789998,0,670.03641955745559,728.49762556791472,753.82944993257172,0,23155.717676939999,33218.910394965002,42513.175106639996,0,321.12288736556405,330.18683983152755,339.25079229749105,0,3776.4373381074001,3883.2939205771499,3990.1505030469002,null,11097.998941681799,15056.721038119949,19133.613943406999,0,653.89942790165253,674.61703353814039,694.0397888223481,0,0,0,0,2732.1342433118548,0,0,0,1416.5662853948668,0,0,0,3068.7953349047852,0,0,0,1584.896831191332]
["S30_Built_to_Order","90/mo or <3/day",914.99597079351463,1005.0467480783934,1055.6469025267277,0,31621.248870660002,45829.329699105001,59534.55602181,0,1139.4009576092467,1231.0076164711018,1283.2327573582313,0,39376.437048990003,56132.964984195001,72369.551124630001,0,502.40193668483397,516.64529055991954,532.18349478728555,0,5908.5404424449998,6075.7395656035496,6258.0243239342999,null,17363.5660832022,23558.733593918998,30015.3854476206,0,653.89942790165253,674.61703353814039,694.0397888223481,0,0,0,0,2732.1342433118548,0,0,0,1416.5662853948668,0,0,0,3068.7953349047852,0,0,0,1584.896831191332]
["S30_Standard_Config","30/mo or  <1/day",252.87058633941501,276.57588878249851,292.35995748561987,0,8738.9278181999998,12611.639824784999,16488.013393305002,0,355.57277419905461,380.85728457235768,396.65210606236144,0,12288.20185386,17366.788257705,22369.702381560001,0,137.25413734173301,141.13868839857449,145.02323945541602,0,1614.1629634254002,1659.419868942,1705.9339107229503,null,4743.1751253925495,6436.5376734720012,8178.9285358611005,0,653.89942790165253,674.61703353814039,694.0397888223481,0,0,0,0,2732.1342433118548,0,0,0,1416.5662853948668,0,0,0,3068.7953349047852,0,0,0,1584.896831191332]
["S30_Standard_Config","60/mo or <2/day",556.27997282571584,614.71420321096127,638.4783082197614,0,19224.420679394996,28030.477133069999,36007.800068789998,0,670.03641955745559,728.49762556791472,753.82944993257172,0,23155.717676939999,33218.910394965002,42513.175106639996,0,321.12288736556405,330.18683983152755,339.25079229749105,0,3776.4373381074001,3883.2939205771499,3990.1505030469002,null,11097.998941681799,15056.721038119949,19133.613943406999,0,653.89942790165253,674.61703353814039,694.0397888223481,0,0,0,0,2732.1342433118548,0,0,0,1416.5662853948668,0,0,0,3068.7953349047852,0,0,0,1584.896831191332]
["S30_Standard_Config","90/mo or <3/day",914.99597079351463,1005.0467480783934,1055.6469025267277,0,31621.248870660002,45829.329699105001,59534.55602181,0,1139.4009576092467,1231.0076164711018,1283.2327573582313,0,39376.437048990003,56132.964984195001,72369.551124630001,0,502.40193668483397,516.64529055991954,532.18349478728555,0,5908.5404424449998,6075.7395656035496,6258.0243239342999,null,17363.5660832022,23558.733593918998,30015.3854476206,0,653.89942790165253,674.61703353814039,694.0397888223481,0,0,0,0,2732.1342433118548,0,0,0,1416.5662853948668,0,0,0,3068.7953349047852,0,0,0,1584.896831191332]
[800,"30/mo or  <1/day",369.80557396089591,401.38701521168571,428.27087117350879,0,12780.071673795001,18302.927592420001,24152.883043905,0,474.09703226540603,507.27438732274396,534.16451777778298,0,16384.269138480002,23131.307264040002,30124.890559890002,0,186.45845072839199,191.63785213751402,196.81725354663598,0,2192.4456450264001,2254.04532197955,2314.3878626683495,null,6444.0804910580991,8738.3541734968494,11100.513214210501,0,907.69009694863053,934.88195434652084,960.77896139213101,0,0,0,0,2732.1342433118548,0,0,0,1416.5662853948668,0,0,0,3068.7953349047852,0,0,0,1584.896831191332]
[800,"60/mo or <2/day",859.68935931201679,949.7476300851057,989.29294371031563,0,29709.913540590002,43307.734046535006,55792.439724240001,0,979.76757070224176,1073.0063127371338,1115.7247204244316,0,33859.683733590005,48928.231616759993,62922.721332330009,0,440.24911977537005,453.19762329817502,466.14612682097999,0,5176.8871365933001,5329.0006245796494,5482.371248830349,null,15215.12020742805,20666.063049649649,26290.49069635155,0,907.69009694863053,934.88195434652084,960.77896139213101,0,0,0,0,2732.1342433118548,0,0,0,1416.5662853948668,0,0,0,3068.7953349047852,0,0,0,1584.896831191332]
[800,"90/mo or <3/day",1415.8986978957387,1553.4073629518132,1627.7279681996035,0,48931.893178695005,70834.136153219995,91797.798751740003,0,1649.8039902596972,1793.5811217871335,1869.5325284917667,0,57015.401410530008,81785.86790080498,105434.675918325,0,732.88529939076295,757.48745608409274,779.49991207286121,0,8618.9262283835997,8908.0675691841006,9167.0376396402007,null,25328.781454123808,34541.075999280598,43963.312300583842,0,907.69009694863053,934.88195434652084,960.77896139213101,0,0,0,0,2732.1342433118548,0,0,0,1416.5662853948668,0,0,0,3068.7953349047852,0,0,0,1584.896831191332]
[810,"30/mo or  <1/day",369.80557396089591,401.38701521168571,428.27087117350879,0,12780.071673795001,18302.927592420001,24152.883043905,0,474.09703226540603,507.27438732274396,534.16451777778298,0,16384.269138480002,23131.307264040002,30124.890559890002,0,186.45845072839199,191.63785213751402,196.81725354663598,0,2192.4456450264001,2254.04532197955,2314.3878626683495,null,6444.0804910580991,8738.3541734968494,11100.513214210501,0,907.69009694863053,934.88195434652084,960.77896139213101,0,0,0,0,2732.1342433118548,0,0,0,1416.5662853948668,0,0,0,3068.7953349047852,0,0,0,1584.896831191332]
[810,"60/mo or <2/day",859.68935931201679,949.7476300851057,989.29294371031563,0,29709.913540590002,43307.734046535006,55792.439724240001,0,979.76757070224176,1073.0063127371338,1115.7247204244316,0,33859.683733590005,48928.231616759993,62922.721332330009,0,440.24911977537005,453.19762329817502,466.14612682097999,0,5176.8871365933001,5329.0006245796494,5482.371248830349,null,15215.12020742805,20666.063049649649,26290.49069635155,0,907.69009694863053,934.88195434652084,960.77896139213101,0,0,0,0,2732.1342433118548,0,0,0,1416.5662853948668,0,0,0,3068.7953349047852,0,0,0,1584.896831191332]
[810,"90/mo or <3/day",1415.8986978957387,1553.4073629518132,1627.7279681996035,0,48931.893178695005,70834.136153219995,91797.798751740003,0,1649.8039902596972,1793.5811217871335,1869.5325284917667,0,57015.401410530008,81785.86790080498,105434.675918325,0,732.88529939076295,757.48745608409274,779.49991207286121,0,8618.9262283835997,8908.0675691841006,9167.0376396402007,null,25328.781454123808,34541.075999280598,43963.312300583842,0,907.69009694863053,934.88195434652084,960.77896139213101,0,0,0,0,2732.1342433118548,0,0,0,1416.5662853948668,0,0,0,3068.7953349047852,0,0,0,1584.896831191332]
["Sentinel","30/mo or  <1/day",1260.2485919947501,1385.6204726491503,1454.8361984271003,0,43554.279216825002,63183.912750359996,82053.161922059997,0,0,0,0,0,0,0,0,0,255.08551939925849,262.85462151294155,270.62372362662455,0,2999.5271267390999,3091.2980740366502,3183.0690213342,null,8816.2966218865495,11986.794280577253,15262.891385473351,0,1200.3262765640234,1233.9923857233166,1266.3636445303296,0,0,0,0,2732.1342433118548,0,0,0,1416.5662853948668,0,0,0,3068.7953349047852,0,0,0,1584.896831191332]
["Sentinel","60/mo or <2/day",2954.0749379193003,3245.3033690227498,3407.2420482013504,0,102092.89039231498,147985.68716495999,192168.53451396001,0,0,0,0,0,0,0,0,0,581.38780817394456,598.22086275359106,615.05391733323756,0,6837.5641417996494,7034.9345353025992,7233.5620650699002,null,20092.808913106048,27278.599800130651,34689.418078473907,0,1200.3262765640234,1233.9923857233166,1266.3636445303296,0,0,0,0,2732.1342433118548,0,0,0,1416.5662853948668,0,0,0,3068.7953349047852,0,0,0,1584.896831191332]
["Sentinel","90/mo or <3/day",4915.6224873246001,5407.9683103111502,5678.3014279722011,0,169884.26857755001,246603.75528096,320256.07360348507,0,0,0,0,0,0,0,0,0,973.72746491493615,1002.2141726651071,1034.5854314721196,0,11451.254231964149,11785.652478281252,12166.564766379301,null,33652.28066038515,45700.674617915545,58351.236846069609,0,1200.3262765640234,1233.9923857233166,1266.3636445303296,0,0,0,0,2732.1342433118548,0,0,0,1416.5662853948668,0,0,0,3068.7953349047852,0,0,0,1584.896831191332]
[830,"30/mo or  <1/day",0,0,0,0,0,0,0,0,0,0,0,0,0,0,0,0,255.08551939925849,262.85462151294155,270.62372362662455,0,2999.5271267390999,3091.2980740366502,3183.0690213342,null,8816.2966218865495,11986.794280577253,15262.891385473351,0,1200.3262765640234,1233.9923857233166,1266.3636445303296,0,0,0,0,2732.1342433118548,0,0,0,1416.5662853948668,0,0,0,3068.7953349047852,0,0,0,1584.896831191332]
[830,"60/mo or <2/day",0,0,0,0,0,0,0,0,0,0,0,0,0,0,0,0,581.38780817394456,598.22086275359106,615.05391733323756,0,6837.5641417996494,7034.9345353025992,7233.5620650699002,null,20092.808913106048,27278.599800130651,34689.418078473907,0,1200.3262765640234,1233.9923857233166,1266.3636445303296,0,0,0,0,2732.1342433118548,0,0,0,1416.5662853948668,0,0,0,3068.7953349047852,0,0,0,1584.896831191332]
[830,"90/mo or <3/day",0,0,0,0,0,0,0,0,0,0,0,0,0,0,0,0,973.72746491493615,1002.2141726651071,1034.5854314721196,0,11451.254231964149,11785.652478281252,12166.564766379301,null,33652.28066038515,45700.674617915545,58351.236846069609,0,1200.3262765640234,1233.9923857233166,1266.3636445303296,0,0,0,0,2732.1342433118548,0,0,0,1416.5662853948668,0,0,0,3068.7953349047852,0,0,0,1584.896831191332]
[4300,"30/mo or  <1/day",260.78162144277104,284.47193902839393,301.83909445939298,0,9012.3244426800011,12971.693415060001,17022.601435815002,0,0,0,0,0,0,0,0,0,116.536531705245,120.4210827620865,124.305633818928,0,1370.2785281415001,1415.5354336580997,1462.0494754390502,null,4027.8645909774,5491.1712026808,7011.0489462799505,0,560.67020253745659,581.38780817394456,600.81056345815193,0,0,0,0,2732.1342433118548,0,0,0,1416.5662853948668,0,0,0,3068.7953349047852,0,0,0,1584.896831191332]
[4300,"60/mo or <2/day",606.81877297260189,662.14403723037356,695.35313006240028,0,20970.98572239,30193.239716010001,39215.328323849993,0,0,0,0,0,0,0,0,0,273.21342433118554,280.98252644486854,288.75162855855154,0,3213.2402916786004,3303.7541027118004,3395.5250500093507,null,9442.3504815328488,12812.732806255201,16286.200304654249,0,560.67020253745659,581.38780817394456,600.81056345815193,0,0,0,0,2732.1342433118548,0,0,0,1416.5662853948668,0,0,0,3068.7953349047852,0,0,0,1584.896831191332]
[4300,"90/mo or <3/day",989.26787625046848,1088.7984132289246,1136.2412086690365,0,34188.003787095004,49648.338797310003,64079.774903789992,0,0,0,0,0,0,0,0,0,453.19762329817502,466.14612682097999,480.3894806960655,0,5329.0006245796494,5482.371248830349,5649.5703719888998,null,15662.660717536648,21255.659957629799,27093.800769271205,0,560.67020253745659,581.38780817394456,600.81056345815193,0,0,0,0,2732.1342433118548,0,0,0,1416.5662853948668,0,0,0,3068.7953349047852,0,0,0,1584.896831191332]
["Litter_Hawk","30/mo or  <1/day",0,0,0,0,0,0,0,0,0,0,0,0,0,0,0,0,116.536531705245,120.4210827620865,124.305633818928,0,1370.2785281415001,1415.5354336580997,1462.0494754390502,null,4027.8645909774,5491.1712026808,7011.0489462799505,0,560.67020253745659,581.38780817394456,600.81056345815193,0,0,0,0,2732.1342433118548,0,0,0,1416.5662853948668,0,0,0,3068.7953349047852,0,0,0,1584.896831191332]
["Litter_Hawk","60/mo or <2/day",0,0,0,0,0,0,0,0,0,0,0,0,0,0,0,0,273.21342433118554,280.98252644486854,288.75162855855154,0,3213.2402916786004,3303.7541027118004,3395.5250500093507,null,9442.3504815328488,12812.732806255201,16286.200304654249,0,560.67020253745659,581.38780817394456,600.81056345815193,0,0,0,0,2732.1342433118548,0,0,0,1416.5662853948668,0,0,0,3068.7953349047852,0,0,0,1584.896831191332]
["Litter_Hawk","90/mo or <3/day",0,0,0,0,0,0,0,0,0,0,0,0,0,0,0,0,453.19762329817502,466.14612682097999,480.3894806960655,0,5329.0006245796494,5482.371248830349,5649.5703719888998,null,15662.660717536648,21255.659957629799,27093.800769271205,0,560.67020253745659,581.38780817394456,600.81056345815193,0,0,0,0,2732.1342433118548,0,0,0,1416.5662853948668,0,0,0,3068.7953349047852,0,0,0,1584.896831191332]
[6400,"30/mo or  <1/day",0,0,0,0,0,0,0,0,0,0,0,0,0,0,0,0,137.25413734173301,141.13868839857449,145.02323945541602,0,1614.1629634254002,1659.419868942,1705.9339107229503,null,4743.1751253925495,6436.5376734720012,8178.9285358611005,0,653.89942790165253,674.61703353814039,694.0397888223481,0,0,0,0,2732.1342433118548,0,0,0,1416.5662853948668,0,0,0,3068.7953349047852,0,0,0,1584.896831191332]
[6400,"60/mo or <2/day",0,0,0,0,0,0,0,0,0,0,0,0,0,0,0,0,321.12288736556405,330.18683983152755,339.25079229749105,0,3776.4373381074001,3883.2939205771499,3990.1505030469002,null,11097.998941681799,15056.721038119949,19133.613943406999,0,653.89942790165253,674.61703353814039,694.0397888223481,0,0,0,0,2732.1342433118548,0,0,0,1416.5662853948668,0,0,0,3068.7953349047852,0,0,0,1584.896831191332]
[6400,"90/mo or <3/day",0,0,0,0,0,0,0,0,0,0,0,0,0,0,0,0,502.40193668483397,516.64529055991954,532.18349478728555,0,5908.5404424449998,6075.7395656035496,6258.0243239342999,null,17363.5660832022,23558.733593918998,30015.3854476206,0,653.89942790165253,674.61703353814039,694.0397888223481,0,0,0,0,2732.1342433118548,0,0,0,1416.5662853948668,0,0,0,3068.7953349047852,0,0,0,1584.896831191332]
[6500,"30/mo or  <1/day",0,0,0,0,0,0,0,0,0,0,0,0,0,0,0,0,137.25413734173301,141.13868839857449,145.02323945541602,0,1614.1629634254002,1659.419868942,1705.9339107229503,null,4743.1751253925495,6436.5376734720012,8178.9285358611005,0,653.89942790165253,674.61703353814039,694.0397888223481,0,0,0,0,2732.1342433118548,0,0,0,1416.5662853948668,0,0,0,3068.7953349047852,0,0,0,1584.896831191332]
[6500,"60/mo or <2/day",0,0,0,0,0,0,0,0,0,0,0,0,0,0,0,0,321.12288736556405,330.18683983152755,339.25079229749105,0,3776.4373381074001,3883.2939205771499,3990.1505030469002,null,11097.998941681799,15056.721038119949,19133.613943406999,0,653.89942790165253,674.61703353814039,694.0397888223481,0,0,0,0,2732.1342433118548,0,0,0,1416.5662853948668,0,0,0,3068.7953349047852,0,0,0,1584.896831191332]
[6500,"90/mo or <3/day",0,0,0,0,0,0,0,0,0,0,0,0,0,0,0,0,502.40193668483397,516.64529055991954,532.18349478728555,0,5908.5404424449998,6075.7395656035496,6258.0243239342999,null,17363.5660832022,23558.733593918998,30015.3854476206,0,653.89942790165253,674.61703353814039,694.0397888223481,0,0,0,0,2732.1342433118548,0,0,0,1416.5662853948668,0,0,0,3068.7953349047852,0,0,0,1584.896831191332]
[6550,"30/mo or  <1/day",0,0,0,0,0,0,0,0,0,0,0,0,0,0,0,0,137.25413734173301,141.13868839857449,145.02323945541602,0,1614.1629634254002,1659.419868942,1705.9339107229503,null,4743.1751253925495,6436.5376734720012,8178.9285358611005,0,653.89942790165253,674.61703353814039,694.0397888223481,0,0,0,0,2732.1342433118548,0,0,0,1416.5662853948668,0,0,0,3068.7953349047852,0,0,0,1584.896831191332]
[6550,"60/mo or <2/day",0,0,0,0,0,0,0,0,0,0,0,0,0,0,0,0,321.12288736556405,330.18683983152755,339.25079229749105,0,3776.4373381074001,3883.2939205771499,3990.1505030469002,null,11097.998941681799,15056.721038119949,19133.613943406999,0,653.89942790165253,674.61703353814039,694.0397888223481,0,0,0,0,2732.1342433118548,0,0,0,1416.5662853948668,0,0,0,3068.7953349047852,0,0,0,1584.896831191332]
[6550,"90/mo or <3/day",0,0,0,0,0,0,0,0,0,0,0,0,0,0,0,0,502.40193668483397,516.64529055991954,532.18349478728555,0,5908.5404424449998,6075.7395656035496,6258.0243239342999,null,17363.5660832022,23558.733593918998,30015.3854476206,0,653.89942790165253,674.61703353814039,694.0397888223481,0,0,0,0,2732.1342433118548,0,0,0,1416.5662853948668,0,0,0,3068.7953349047852,0,0,0,1584.896831191332]
[6600,"30/mo or  <1/day",0,0,0,0,0,0,0,0,0,0,0,0,0,0,0,0,137.25413734173301,141.13868839857449,145.02323945541602,0,1614.1629634254002,1659.419868942,1705.9339107229503,null,4743.1751253925495,6436.5376734720012,8178.9285358611005,0,653.89942790165253,674.61703353814039,694.0397888223481,0,0,0,0,2732.1342433118548,0,0,0,1416.5662853948668,0,0,0,3068.7953349047852,0,0,0,1584.896831191332]
[6600,"60/mo or <2/day",0,0,0,0,0,0,0,0,0,0,0,0,0,0,0,0,321.12288736556405,330.18683983152755,339.25079229749105,0,3776.4373381074001,3883.2939205771499,3990.1505030469002,null,11097.998941681799,15056.721038119949,19133.613943406999,0,653.89942790165253,674.61703353814039,694.0397888223481,0,0,0,0,2732.1342433118548,0,0,0,1416.5662853948668,0,0,0,3068.7953349047852,0,0,0,1584.896831191332]
[6600,"90/mo or <3/day",0,0,0,0,0,0,0,0,0,0,0,0,0,0,0,0,502.40193668483397,516.64529055991954,532.18349478728555,0,5908.5404424449998,6075.7395656035496,6258.0243239342999,null,17363.5660832022,23558.733593918998,30015.3854476206,0,653.89942790165253,674.61703353814039,694.0397888223481,0,0,0,0,2732.1342433118548,0,0,0,1416.5662853948668,0,0,0,3068.7953349047852,0,0,0,1584.896831191332]
[6650,"30/mo or  <1/day",0,0,0,0,0,0,0,0,0,0,0,0,0,0,0,0,137.25413734173301,141.13868839857449,145.02323945541602,0,1614.1629634254002,1659.419868942,1705.9339107229503,null,4743.1751253925495,6436.5376734720012,8178.9285358611005,0,653.89942790165253,674.61703353814039,694.0397888223481,0,0,0,0,2732.1342433118548,0,0,0,1416.5662853948668,0,0,0,3068.7953349047852,0,0,0,1584.896831191332]
[6650,"60/mo or <2/day",0,0,0,0,0,0,0,0,0,0,0,0,0,0,0,0,321.12288736556405,330.18683983152755,339.25079229749105,0,3776.4373381074001,3883.2939205771499,3990.1505030469002,null,11097.998941681799,15056.721038119949,19133.613943406999,0,653.89942790165253,674.61703353814039,694.0397888223481,0,0,0,0,2732.1342433118548,0,0,0,1416.5662853948668,0,0,0,3068.7953349047852,0,0,0,1584.896831191332]
[6650,"90/mo or <3/day",0,0,0,0,0,0,0,0,0,0,0,0,0,0,0,0,502.40193668483397,516.64529055991954,532.18349478728555,0,5908.5404424449998,6075.7395656035496,6258.0243239342999,null,17363.5660832022,23558.733593918998,30015.3854476206,0,653.89942790165253,674.61703353814039,694.0397888223481,0,0,0,0,2732.1342433118548,0,0,0,1416.5662853948668,0,0,0,3068.7953349047852,0,0,0,1584.896831191332]
["S680","30/mo or  <1/day",202.2611519505349,218.06481814681274,233.90527948068546,0,6989.921733915,9943.5816948149986,13191.387131159998,0,304.99865693117158,322.39974648071183,338.17578619219012,0,10540.416290220001,14701.171169024999,19071.855598769998,0,95.818926068757008,98.408626773317991,100.998327477879,0,1126.3940928576001,1157.8224994663501,1187.9937698107501,null,3311.2969202979007,4487.9764637294993,5696.0844137698496,1126.3940928576001,459.67187505957753,472.62037858238244,486.86373245746807,0,0,0,0,2732.1342433118548,0,0,0,1416.5662853948668,0,0,0,3068.7953349047852,0,0,0,1584.896831191332]
["S680","60/mo or <2/day",458.31027917969118,507.27438732274396,524.6853808040097,0,15838.696410165001,23131.307264040002,29590.302517379998,0,570.47745546656017,621.03104340767754,636.87681019222896,0,19715.069978684998,28318.520005290004,35917.481541059991,0,220.12455988768502,227.893662001368,234.36791376277054,0,2588.44356829665,2680.2145155942003,2755.6426914552003,null,7606.9315355818499,10391.488361117099,13218.787819640253,2588.44356829665,459.67187505957753,472.62037858238244,486.86373245746807,0,0,0,0,2732.1342433118548,0,0,0,1416.5662853948668,0,0,0,3068.7953349047852,0,0,0,1584.896831191332]
["S680","90/mo or <3/day",703.23451329475301,0,0,0,24303.007083240002,0,0,0,921.31773545199985,0,0,0,31839.722066115002,0,0,0,366.44264969538148,376.80145251362546,387.16025533186951,0,4309.4631141917998,4431.4053318337501,4553.3475494757004,null,12664.390727061904,17182.538461135802,21836.456911759502,4309.4631141917998,459.67187505957753,472.62037858238244,486.86373245746807,0,0,0,0,2732.1342433118548,0,0,0,1416.5662853948668,0,0,0,3068.7953349047852,0,0,0,1584.896831191332]
["S880","30/mo or  <1/day",202.2611519505349,218.06481814681274,233.90527948068546,0,6989.921733915,9943.5816948149986,13191.387131159998,0,304.99865693117158,322.39974648071183,338.17578619219012,0,10540.416290220001,14701.171169024999,19071.855598769998,0,95.818926068757008,98.408626773317991,100.998327477879,0,1126.3940928576001,1157.8224994663501,1187.9937698107501,null,3311.2969202979007,4487.9764637294993,5696.0844137698496,1126.3940928576001,459.67187505957753,472.62037858238244,486.86373245746807,0,0,0,0,2732.1342433118548,0,0,0,1416.5662853948668,0,0,0,3068.7953349047852,0,0,0,1584.896831191332]
["S880","60/mo or <2/day",458.31027917969118,507.27438732274396,524.6853808040097,0,15838.696410165001,23131.307264040002,29590.302517379998,0,570.47745546656017,621.03104340767754,636.87681019222896,0,19715.069978684998,28318.520005290004,35917.481541059991,0,220.12455988768502,227.893662001368,234.36791376277054,0,2588.44356829665,2680.2145155942003,2755.6426914552003,null,7606.9315355818499,10391.488361117099,13218.787819640253,2588.44356829665,459.67187505957753,472.62037858238244,486.86373245746807,0,0,0,0,2732.1342433118548,0,0,0,1416.5662853948668,0,0,0,3068.7953349047852,0,0,0,1584.896831191332]
["S880","90/mo or <3/day",703.23451329475301,0,0,0,24303.007083240002,0,0,0,921.31773545199985,0,0,0,31839.722066115002,0,0,0,366.44264969538148,376.80145251362546,387.16025533186951,0,4309.4631141917998,4431.4053318337501,4553.3475494757004,null,12664.390727061904,17182.538461135802,21836.456911759502,4309.4631141917998,459.67187505957753,472.62037858238244,486.86373245746807,0,0,0,0,2732.1342433118548,0,0,0,1416.5662853948668,0,0,0,3068.7953349047852,0,0,0,1584.896831191332]
[0,null,0,null,null,null,0,null,null,null,null,null,null,null,null,null,null,null,0,null,null,null,0,null,null,null,0,null,null,null,0]

{"sheet":"County Tier","index":32,"n_rows":146,"n_cols":6,"rows_kept":146,"cut":false,"hidden":true,"merged":[]}
["State","Code","County","PM","Reg","Trip"]
["Alaska",null,"ALL OTHER COUNTIES",144,170,133]
["Alabama",null,"ALL OTHER COUNTIES",117,146,117]
["Arkansas",null,"ALL OTHER COUNTIES",124,148,117]
["Arizona",null,"ALL OTHER COUNTIES",126,147,122]
["California",1,"Alameda",141,168,133]
["California",13,"Contra Costa",141,168,133]
["California",41,"Marin",141,168,133]
["California",51,"Mono",132,161,122]
["California",53,"Monterey",141,168,133]
["California",55,"Napa",141,168,133]
["California",69,"San Benito",141,168,133]
["California",75,"San Francisco",141,168,133]
["California",81,"San Mateo",141,168,133]
["California",85,"Santa Clara",141,168,133]
["California",87,"Santa Cruz",141,168,133]
["California",95,"Solano",141,168,133]
["California",97,"Sonoma",141,168,133]
["California",null,"ALL OTHER COUNTIES",132,161,130]
["Colorado",7,"Archuleta",125,152,121]
["Colorado",null,"ALL OTHER COUNTIES",125,152,121]
["Connecticut",null,"ALL OTHER COUNTIES",131,164,125]
["District of Columbia",null,"ALL OTHER COUNTIES",129,158,124]
["Delaware",null,"ALL OTHER COUNTIES",131,164,125]
["Florida",111,"St Lucie",124,146,117]
["Florida",null,"ALL OTHER COUNTIES",124,146,117]
["Georgia",127,"Glynn",124,150,117]
["Georgia",null,"ALL OTHER COUNTIES",124,150,117]
["Hawaii",null,"ALL OTHER COUNTIES",144,170,133]
["Iowa",149,"Plymouth",124,141,117]
["Iowa",null,"ALL OTHER COUNTIES",124,141,117]
["Idaho",1,"Ada",124,136,117]
["Idaho",null,"ALL OTHER COUNTIES",124,136,117]
["Illinois",5,"Bond",128,161,131]
["Illinois",null,"ALL OTHER COUNTIES",128,161,131]
["Indiana",5,"Bartholomew",130,163,131]
["Indiana",7,"Benton",124,148,117]
["Indiana",9,"Blackford",130,163,131]
["Indiana",11,"Boone",130,163,131]
["Indiana",15,"Carroll",130,163,131]
["Indiana",33,"De Kalb",130,163,131]
["Indiana",47,"Franklin",130,163,131]
["Indiana",59,"Hancock",130,163,131]
["Indiana",61,"Harrison",130,163,131]
["Indiana",73,"Jasper",130,163,131]
["Indiana",91,"La Porte",130,163,131]
["Indiana",89,"Lake",130,163,131]
["Indiana",111,"Newton",130,163,131]
["Indiana",127,"Porter",130,163,131]
["Indiana",131,"Pulaski",130,163,131]
["Indiana",149,"Starke",130,163,131]
["Indiana",null,"ALL OTHER COUNTIES",124,148,117]
["Kansas",81,"Haskell",124,153,123]
["Kansas",null,"ALL OTHER COUNTIES",124,153,123]
["Kentucky",85,"Grayson",124,146,117]
["Kentucky",null,"ALL OTHER COUNTIES",124,146,117]
["Louisiana",103,"St Tammany",124,140,117]
["Louisiana",null,"ALL OTHER COUNTIES",124,140,117]
["Massachusetts",13,"Hampden",133,164,133]
["Massachusetts",null,"ALL OTHER COUNTIES",133,164,133]
["Maryland",null,"ALL OTHER COUNTIES",129,158,124]
["Maine",null,"ALL OTHER COUNTIES",125,152,121]
["Michigan",153,"Schoolcraft",124,151,123]
["Michigan",null,"ALL OTHER COUNTIES",124,151,123]
["Minnesota",null,"ALL OTHER COUNTIES",124,157,124]
["Missouri",510,"St Louis City",124,152,122]
["Missouri",null,"ALL OTHER COUNTIES",124,152,122]
["Mississippi",null,"ALL OTHER COUNTIES",124,148,117]
["Montana",null,"ALL OTHER COUNTIES",144,170,133]
["North Carolina",1,"Alamance",124,148,121]
["North Carolina",null,"ALL OTHER COUNTIES",124,148,121]
["North Dakota",13,"Burke",124,141,117]
["North Dakota",null,"ALL OTHER COUNTIES",124,141,117]
["Nebraska",41,"Custer",124,141,117]
["Nebraska",null,"ALL OTHER COUNTIES",124,141,117]
["New Hampshire",null,"ALL OTHER COUNTIES",136,164,133]
["New Jersey",1,"Atlantic",133,167,127]
["New Jersey",5,"Burlington",133,167,127]
["New Jersey",7,"Camden",133,167,127]
["New Jersey",9,"Cape May",133,167,127]
["New Jersey",11,"Cumberland",133,167,127]
["New Jersey",15,"Gloucester",133,167,127]
["New Jersey",33,"Salem",133,167,127]
["New Jersey",null,"ALL OTHER COUNTIES",140,167,132]
["New Mexico",null,"ALL OTHER COUNTIES",124,146,117]
["Nevada",7,"Elko",128,159,124]
["Nevada",null,"ALL OTHER COUNTIES",128,159,124]
["New York",1,"Albany",140,167,132]
["New York",5,"Bronx",140,167,132]
["New York",47,"Kings",140,167,132]
["New York",59,"Nassau",140,167,132]
["New York",61,"New York",140,167,132]
["New York",73,"Orleans",130,163,124]
["New York",81,"Queens",140,167,132]
["New York",85,"Richmond",140,167,132]
["New York",91,"Saratoga",140,167,132]
["New York",89,"St Lawrence",140,167,132]
["New York",103,"Suffolk",140,167,132]
["New York",111,"Ulster",140,167,132]
["New York",null,"ALL OTHER COUNTIES",130,163,124]
["Ohio",5,"Ashland",124,153,123]
["Ohio",null,"ALL OTHER COUNTIES",124,153,123]
["Oklahoma",7,"Beaver",124,141,117]
["Oklahoma",null,"ALL OTHER COUNTIES",124,141,117]
["Oregon",9,"Columbia",124,152,122]
["Oregon",null,"ALL OTHER COUNTIES",124,152,122]
["Pennsylvania",11,"Berks",128,161,123]
["Pennsylvania",null,"ALL OTHER COUNTIES",128,161,123]
["Rhode Island",null,"ALL OTHER COUNTIES",131,164,125]
["South Carolina",33,"Dillon",124,151,123]
["South Carolina",null,"ALL OTHER COUNTIES",124,151,123]
["South Dakota",5,"Beadle",124,141,117]
["South Dakota",null,"ALL OTHER COUNTIES",124,141,117]
["Tennessee",47,"Fayette",124,148,117]
["Tennessee",null,"ALL OTHER COUNTIES",124,148,117]
["Texas",59,"Callahan",124,151,123]
["Texas",null,"ALL OTHER COUNTIES",124,151,123]
["Utah",null,"ALL OTHER COUNTIES",124,146,117]
["Virginia",510,"Alexandria City",122,148,115]
["Virginia",13,"Arlington",130,159,123]
["Virginia",59,"Fairfax",130,159,123]
["Virginia",600,"Fairfax City",122,148,115]
["Virginia",81,"Greensville",124,145,117]
["Virginia",85,"Hanover",130,159,123]
["Virginia",103,"Lancaster",130,159,123]
["Virginia",107,"Loudoun",122,148,115]
["Virginia",683,"Manassas City",122,148,115]
["Virginia",153,"Prince William",122,148,115]
["Virginia",179,"Stafford",122,148,115]
["Virginia",null,"ALL OTHER COUNTIES",124,145,117]
["Vermont",null,"ALL OTHER COUNTIES",131,163,125]
["Washington",null,"ALL OTHER COUNTIES",128,153,123]
["Wisconsin",null,"ALL OTHER COUNTIES",125,152,121]
["West Virginia",null,"ALL OTHER COUNTIES",124,153,123]
["Wyoming",null,"ALL OTHER COUNTIES",125,152,121]
["Alberta",null,"ALL OTHER COUNTIES",129,166,122]
["British Columbia",null,"ALL OTHER COUNTIES",129,166,122]
["Manitoba",null,"ALL OTHER COUNTIES",129,166,122]
["New Brunswick",null,"ALL OTHER COUNTIES",129,166,122]
["Newfoundland and Labrador",null,"ALL OTHER COUNTIES",129,166,122]
["Nova Scotia",null,"ALL OTHER COUNTIES",129,166,122]
["Ontario",null,"ALL OTHER COUNTIES",129,166,122]
["Prince Edward Island",null,"ALL OTHER COUNTIES",129,166,122]
["Quebec",null,"ALL OTHER COUNTIES",129,166,122]
["Saskatchewan",null,"ALL OTHER COUNTIES",129,166,122]
["Yukon",null,"ALL OTHER COUNTIES",129,166,122]

{"sheet":"Settings","index":33,"n_rows":36,"n_cols":3,"rows_kept":36,"cut":false,"hidden":true,"merged":[]}
["Type Of Discounts","Low","High"]
["TTDiscount",0,5]
["TTNationalAccount",0,8]
[]
[]
["If No Option"]
["1 - Has Capital "]
["2 - Has own financing option"]
["3 - Does not qualify"]
["4 - Does not like Tennant offering"]
["5 - Other"]
[]
[]
[]
["Monthly Machine Usage"]
["< 30/mo. (Avg. 1hr./day)",25]
["< 60/mo. (Avg. 2hrs./day)",40]
["< 90/mo. (Avg. 3hrs./day)",60]
[null,80]
[null,100]
[null,125]
[null,150]
[]
["Terms"]
[12]
[36]
[48]
[60]
[]
["Contract"]
["Gold Contract"]
["Silver Contract"]
["Block of Time Weekly Agreement"]
["Block of Time Bi-Weekly Agreement"]
["Pay As You Go Agreement"]
["No Agreement"]

{"sheet":"Financing","index":34,"n_rows":68,"n_cols":110,"rows_kept":68,"cut":false,"hidden":true,"merged":[[37,3,37,4],[22,79,22,85],[22,87,22,93],[22,35,22,41],[22,43,22,49],[22,51,22,57],[22,59,22,65],[1,103,1,109],[22,103,22,109],[22,95,22,101],[1,3,1,9],[1,11,1,17],[1,27,1,33],[22,67,22,69],[22,71,22,77],[22,3,22,9],[22,11,22,17],[22,19,22,25],[22,27,22,33],[1,71,1,77],[1,79,1,85],[1,87,1,93],[1,95,1,101],[1,67,1,69],[16,3,16,4],[1,35,1,41],[1,43,1,49],[1,51,1,57],[1,59,1,65],[1,19,1,25]]}
["Finance Partner","First Western Equipment Finance",null,{"$f":"C8","v":"National Leasing"},null,"2023-10-10"]
["Equipment Cost",0,null,{"$f":"B8","v":"$1 Buyout Lease"},null,null,null,null,null,null,null,{"$f":"B9","v":"Fair Market Value Sweeper Lease"},null,null,null,null,null,null,null,{"$f":"B10","v":"Fair Market Value Scrubber Lease"},null,null,null,null,null,null,null,{"$f":"B11","v":"10% Option"},null,null,null,null,null,null,null,{"$f":"B12","v":"Municipal $1 Buyout Lease - Monthly Pmt"},null,null,null,null,null,null,null,{"$f":"B13","v":"Muni $1 Out Quarterly"},null,null,null,null,null,null,null,{"$f":"B14","v":"Muni $1 Out Semi-Annually"},null,null,null,null,null,null,null,{"$f":"B15","v":"Municipal $1 Buyout Lease - Annual Pmt"},null,null,null,null,null,null,null,{"$f":"B16","v":"Rent To Own"},null,null,null,{"$f":"B17","v":"10% PUT"},null,null,null,null,null,null,null,{"$f":"B18","v":"$1 Buyout Lease - 90 days no pmt"},null,null,null,null,null,null,null,{"$f":"B19","v":"Fair Market Value Sweeper Lease - 90 days no pmt"},null,null,null,null,null,null,null,{"$f":"B20","v":"Fair Market Value Scrubber Lease - 90 days no pmt"},null,null,null,null,null,null,null,{"$f":"B21","v":"FMV Sweeper - Promo"}]
["Term:",48,null,null,null,5000,10000,25000,50000,100000,null,null,null,5000,10000,25000,50000,100000,null,null,null,5000,10000,25000,50000,100000,null,null,null,5000,10000,25000,50000,100000,null,null,null,5000,10000,25000,50000,100000,null,null,null,5000,10000,25000,50000,100000,null,null,null,5000,10000,25000,50000,100000,null,null,null,5000,10000,25000,50000,100000,null,null,null,1,null,null,null,5000,10000,25000,50000,100000,null,null,null,5000,10000,25000,50000,100000,null,null,null,5000,10000,25000,50000,100000,null,null,null,5000,10000,25000,50000,100000,null,null,null,5000,10000,25000,50000,100000]
["Purchase Option:","FWEF: Municipal Lease",null,null,null,"to","to","to","to","to",null,null,null,"to","to","to","to","to",null,null,null,"to","to","to","to","to",null,null,null,"to","to","to","to","to",null,null,null,"to","to","to","to","to",null,null,null,"to","to","to","to","to",null,null,null,"to","to","to","to","to",null,null,null,"to","to","to","to","to",null,null,null,"to",null,null,null,"to","to","to","to","to",null,null,null,"to","to","to","to","to",null,null,null,"to","to","to","to","to",null,null,null,"to","to","to","to","to",null,null,null,"to","to","to","to","to"]
["No money down and payments of:",{"$f":"IF(B1=C8,D17, IF(B1=C9,D38))","v":false},null,"Term","Adv",9999,24999,49999,99999,null,null,"Term","Adv",9999,24999,49999,99999,null,null,"Term","Adv",9999,24999,49999,99999,null,null,"Term","Adv",9999,24999,49999,99999,null,null,"Term","Adv",9999,24999,49999,99999,null,null,"Term","Adv",9999,24999,49999,99999,null,null,"Term","Adv",9999,24999,49999,99999,null,null,"Term","Adv",9999,24999,49999,99999,null,null,"Term","Adv",null,null,"Term","Adv",9999,24999,49999,99999,null,null,"Term","Adv",9999,24999,49999,99999,null,null,"Term","Adv",9999,24999,49999,99999,null,null,"Term","Adv",9999,24999,49999,99999,null,null,"Term","Adv",9999,24999,49999,99999]
["For Calculation",null,null,12,0,null,null,null,null,null,null,12,0,null,null,null,null,null,null,12,0,null,null,null,null,null,null,12,0,null,null,null,null,null,null,12,0,null,null,null,null,null,null,12,0,null,null,null,null,null,null,12,0,null,null,null,null,null,null,12,0,null,null,null,null,null,null,9,0,0.125,null,12,0,null,null,null,null,null,null,12,0,null,null,null,null,null,null,12,0,null,null,null,null,null,null,12,0,null,null,null,null,null,null,12,0]
["Term","Purchase Opt","Select a Finance Partner",24,0,4.7759999999999997E-2,4.7899999999999998E-2,4.6679999999999999E-2,4.657E-2,4.6379999999999998E-2,null,24,0,4.2029999999999998E-2,4.1300000000000003E-2,4.1149999999999999E-2,4.0930000000000001E-2,4.0689999999999997E-2,null,24,0,4.3869999999999999E-2,4.3159999999999997E-2,4.2930000000000003E-2,4.2840000000000003E-2,4.2689999999999999E-2,null,24,0,null,null,null,null,null,null,24,0,null,null,null,null,null,null,24,0,null,null,null,null,null,null,24,0,null,null,null,null,null,null,24,0,null,null,null,null,null,null,12,0,0.1,null,24,0,null,null,null,null,null,null,24,0,null,null,null,null,null,null,24,0,null,null,null,null,null,null,24,0,null,null,null,null,null,null,24,0]
[12,"$1 Buyout Lease","National Leasing",36,0,3.3770000000000001E-2,3.2750000000000001E-2,3.2640000000000002E-2,3.2530000000000003E-2,3.2329999999999998E-2,null,36,0,3.0099999999999998E-2,2.9329999999999998E-2,2.9180000000000001E-2,2.895E-2,2.87E-2,null,36,0,3.2390000000000002E-2,3.1690000000000003E-2,3.1449999999999999E-2,3.1359999999999999E-2,3.1220000000000001E-2,null,36,0,null,null,null,null,null,null,36,0,null,null,null,null,null,null,36,0,null,null,null,null,null,null,36,0,null,null,null,null,null,null,36,0,null,null,null,null,null,null,18,0,7.4999999999999997E-2,null,36,0,null,null,null,null,null,null,36,0,null,null,null,null,null,null,36,0,null,null,null,null,null,null,36,0,null,null,null,null,null,null,36,0]
[24,"Fair Market Value Sweeper Lease","Wells Fargo Vendor Solutions",48,0,2.683E-2,2.5770000000000001E-2,2.5659999999999999E-2,2.554E-2,2.462E-2,null,48,0,2.4490000000000001E-2,2.3720000000000001E-2,2.3560000000000001E-2,2.3300000000000001E-2,2.308E-2,null,48,0,2.579E-2,2.5049999999999999E-2,2.4809999999999999E-2,2.4719999999999999E-2,2.4570000000000002E-2,null,48,0,null,null,null,null,null,null,48,0,null,null,null,null,null,null,48,0,null,null,null,null,null,null,48,0,null,null,null,null,null,null,48,0,null,null,null,null,null,null,null,null,null,null,48,0,null,null,null,null,null,null,48,0,null,null,null,null,null,null,48,0,null,null,null,null,null,null,48,0,null,null,null,null,null,null,48,0]
[36,"Fair Market Value Scrubber Lease",null,60,0,2.2710000000000001E-2,2.1610000000000001E-2,2.1489999999999999E-2,2.137E-2,2.5329999999999998E-2,null,60,0,2.86E-2,2.1100000000000001E-2,2.095E-2,2.0729999999999998E-2,2.0480000000000002E-2,null,60,0,2.1860000000000001E-2,2.1100000000000001E-2,2.085E-2,2.0750000000000001E-2,2.06E-2,null,60,0,null,null,null,null,null,null,60,0,null,null,null,null,null,null,60,0,null,null,null,null,null,null,60,0,null,null,null,null,null,null,60,0,null,null,null,null,null,null,null,null,null,null,60,0,null,null,null,null,null,null,60,0,null,null,null,null,null,null,60,0,null,null,null,null,null,null,60,0,null,null,null,null,null,null,60,0]
[48,"10% Option"]
[60,"Municipal $1 Buyout Lease - Monthly Pmt",null,12,0,{"$f":"IF(AND(F$3<=$B$2,$B$2<G$3,$B$3=$A$8,$B$4=D2),F6*$B$2,0)","v":0},{"$f":"IF(AND(G$3<=$B$2,$B$2<H$3,$B$3=$A$8,$B$4=D2),G6*$B$2,0)","v":0},{"$f":"IF(AND(H$3<=$B$2,$B$2<I$3,$B$3=$A$8,$B$4=D2),H6*$B$2,0)","v":0},{"$f":"IF(AND(I$3<=$B$2,$B$2<J$3,$B$3=$A$8,$B$4=D2),I6*$B$2,0)","v":0},{"$f":"IF(AND(J$3<=$B$2,$B$3=$A$8,$B$4=D2),J6*$B$2,0)","v":0},null,12,0,{"$f":"IF(AND(N$3<=$B$2,$B$2<O$3,$B$3=$A$8,$B$4=L2),N6*$B$2,0)","v":0},{"$f":"IF(AND(O$3<=$B$2,$B$2<P$3,$B$3=$A$8,$B$4=L2),O6*$B$2,0)","v":0},{"$f":"IF(AND(P$3<=$B$2,$B$2<Q$3,$B$3=$A$8,$B$4=L2),P6*$B$2,0)","v":0},{"$f":"IF(AND(Q$3<=$B$2,$B$2<R$3,$B$3=$A$8,$B$4=L2),Q6*$B$2,0)","v":0},{"$f":"IF(AND(R$3<=$B$2,$B$3=$A$8,$B$4=L2),R6*$B$2,0)","v":0},null,12,0,{"$f":"IF(AND(V$3<=$B$2,$B$2<W$3,$B$3=$A$8,$B$4=T2),V6*$B$2,0)","v":0},{"$f":"IF(AND(W$3<=$B$2,$B$2<X$3,$B$3=$A$8,$B$4=T2),W6*$B$2,0)","v":0},{"$f":"IF(AND(X$3<=$B$2,$B$2<Y$3,$B$3=$A$8,$B$4=T2),X6*$B$2,0)","v":0},{"$f":"IF(AND(Y$3<=$B$2,$B$2<Z$3,$B$3=$A$8,$B$4=T2),Y6*$B$2,0)","v":0},{"$f":"IF(AND(Z$3<=$B$2,$B$3=$A$8,$B$4=T2),Z6*$B$2,0)","v":0},null,12,0,{"$f":"IF(AND(AD$3<=$B$2,$B$2<AE$3,$B$3=$A$8,$B$4=AB2),AD6*$B$2,0)","v":0},{"$f":"IF(AND(AE$3<=$B$2,$B$2<AF$3,$B$3=$A$8,$B$4=AB2),AE6*$B$2,0)","v":0},{"$f":"IF(AND(AF$3<=$B$2,$B$2<AG$3,$B$3=$A$8,$B$4=AB2),AF6*$B$2,0)","v":0},{"$f":"IF(AND(AG$3<=$B$2,$B$2<AH$3,$B$3=$A$8,$B$4=AB2),AG6*$B$2,0)","v":0},{"$f":"IF(AND(AH$3<=$B$2,$B$3=$A$8,$B$4=AB2),AH6*$B$2,0)","v":0},null,12,0,{"$f":"IF(AND(AL$3<=$B$2,$B$2<AM$3,$B$3=$A$8,$B$4=AJ2),AL6*$B$2,0)","v":0},{"$f":"IF(AND(AM$3<=$B$2,$B$2<AN$3,$B$3=$A$8,$B$4=AJ2),AM6*$B$2,0)","v":0},{"$f":"IF(AND(AN$3<=$B$2,$B$2<AO$3,$B$3=$A$8,$B$4=AJ2),AN6*$B$2,0)","v":0},{"$f":"IF(AND(AO$3<=$B$2,$B$2<AP$3,$B$3=$A$8,$B$4=AJ2),AO6*$B$2,0)","v":0},{"$f":"IF(AND(AP$3<=$B$2,$B$3=$A$8,$B$4=AJ2),AP6*$B$2,0)","v":0},null,12,0,{"$f":"IF(AND(AT$3<=$B$2,$B$2<AU$3,$B$3=$A$8,$B$4=AR2),AT6*$B$2,0)","v":0},{"$f":"IF(AND(AU$3<=$B$2,$B$2<AV$3,$B$3=$A$8,$B$4=AR2),AU6*$B$2,0)","v":0},{"$f":"IF(AND(AV$3<=$B$2,$B$2<AW$3,$B$3=$A$8,$B$4=AR2),AV6*$B$2,0)","v":0},{"$f":"IF(AND(AW$3<=$B$2,$B$2<AX$3,$B$3=$A$8,$B$4=AR2),AW6*$B$2,0)","v":0},{"$f":"IF(AND(AX$3<=$B$2,$B$3=$A$8,$B$4=AR2),AX6*$B$2,0)","v":0},null,12,0,{"$f":"IF(AND(BB$3<=$B$2,$B$2<BC$3,$B$3=$A$8,$B$4=AZ2),BB6*$B$2,0)","v":0},{"$f":"IF(AND(BC$3<=$B$2,$B$2<BD$3,$B$3=$A$8,$B$4=AZ2),BC6*$B$2,0)","v":0},{"$f":"IF(AND(BD$3<=$B$2,$B$2<BE$3,$B$3=$A$8,$B$4=AZ2),BD6*$B$2,0)","v":0},{"$f":"IF(AND(BE$3<=$B$2,$B$2<BF$3,$B$3=$A$8,$B$4=AZ2),BE6*$B$2,0)","v":0},{"$f":"IF(AND(BF$3<=$B$2,$B$3=$A$8,$B$4=AZ2),BF6*$B$2,0)","v":0},null,12,0,{"$f":"IF(AND(BJ$3<=$B$2,$B$2<BK$3,$B$3=$A$8,$B$4=BH2),BJ6*$B$2,0)","v":0},{"$f":"IF(AND(BK$3<=$B$2,$B$2<BL$3,$B$3=$A$8,$B$4=BH2),BK6*$B$2,0)","v":0},{"$f":"IF(AND(BL$3<=$B$2,$B$2<BM$3,$B$3=$A$8,$B$4=BH2),BL6*$B$2,0)","v":0},{"$f":"IF(AND(BM$3<=$B$2,$B$2<BN$3,$B$3=$A$8,$B$4=BH2),BM6*$B$2,0)","v":0},{"$f":"IF(AND(BN$3<=$B$2,$B$3=$A$8,$B$4=BH2),BN6*$B$2,0)","v":0},null,9,0,{"$f":"IF(AND(BR$3<=$B$2,$B$3=$A$13,$B$4=BP2),BR6*$B$2,0)","v":0},null,12,0,{"$f":"IF(AND(BV$3<=$B$2,$B$2<BW$3,$B$3=$A$8,$B$4=BT2),BV6*$B$2,0)","v":0},{"$f":"IF(AND(BW$3<=$B$2,$B$2<BX$3,$B$3=$A$8,$B$4=BT2),BW6*$B$2,0)","v":0},{"$f":"IF(AND(BX$3<=$B$2,$B$2<BY$3,$B$3=$A$8,$B$4=BT2),BX6*$B$2,0)","v":0},{"$f":"IF(AND(BY$3<=$B$2,$B$2<BZ$3,$B$3=$A$8,$B$4=BT2),BY6*$B$2,0)","v":0},{"$f":"IF(AND(BZ$3<=$B$2,$B$3=$A$8,$B$4=BT2),BZ6*$B$2,0)","v":0},null,12,0,{"$f":"IF(AND(CD$3<=$B$2,$B$2<CE$3,$B$3=$A$8,$B$4=CB2),CD6*$B$2,0)","v":0},{"$f":"IF(AND(CE$3<=$B$2,$B$2<CF$3,$B$3=$A$8,$B$4=CB2),CE6*$B$2,0)","v":0},{"$f":"IF(AND(CF$3<=$B$2,$B$2<CG$3,$B$3=$A$8,$B$4=CB2),CF6*$B$2,0)","v":0},{"$f":"IF(AND(CG$3<=$B$2,$B$2<CH$3,$B$3=$A$8,$B$4=CB2),CG6*$B$2,0)","v":0},{"$f":"IF(AND(CH$3<=$B$2,$B$3=$A$8,$B$4=CB2),CH6*$B$2,0)","v":0},null,12,0,{"$f":"IF(AND(CL$3<=$B$2,$B$2<CM$3,$B$3=$A$8,$B$4=CJ2),CL6*$B$2,0)","v":0},{"$f":"IF(AND(CM$3<=$B$2,$B$2<CN$3,$B$3=$A$8,$B$4=CJ2),CM6*$B$2,0)","v":0},{"$f":"IF(AND(CN$3<=$B$2,$B$2<CO$3,$B$3=$A$8,$B$4=CJ2),CN6*$B$2,0)","v":0},{"$f":"IF(AND(CO$3<=$B$2,$B$2<CP$3,$B$3=$A$8,$B$4=CJ2),CO6*$B$2,0)","v":0},{"$f":"IF(AND(CP$3<=$B$2,$B$3=$A$8,$B$4=CJ2),CP6*$B$2,0)","v":0},null,12,0,{"$f":"IF(AND(CT$3<=$B$2,$B$2<CU$3,$B$3=$A$8,$B$4=CR2),CT6*$B$2,0)","v":0},{"$f":"IF(AND(CU$3<=$B$2,$B$2<CV$3,$B$3=$A$8,$B$4=CR2),CU6*$B$2,0)","v":0},{"$f":"IF(AND(CV$3<=$B$2,$B$2<CW$3,$B$3=$A$8,$B$4=CR2),CV6*$B$2,0)","v":0},{"$f":"IF(AND(CW$3<=$B$2,$B$2<CX$3,$B$3=$A$8,$B$4=CR2),CW6*$B$2,0)","v":0},{"$f":"IF(AND(CX$3<=$B$2,$B$3=$A$8,$B$4=CR2),CX6*$B$2,0)","v":0},null,12,0,{"$f":"IF(AND(DB$3<=$B$2,$B$2<DC$3,$B$3=$A$8,$B$4=CZ2),DB6*$B$2,0)","v":0},{"$f":"IF(AND(DC$3<=$B$2,$B$2<DD$3,$B$3=$A$8,$B$4=CZ2),DC6*$B$2,0)","v":0},{"$f":"IF(AND(DD$3<=$B$2,$B$2<DE$3,$B$3=$A$8,$B$4=CZ2),DD6*$B$2,0)","v":0},{"$f":"IF(AND(DE$3<=$B$2,$B$2<DF$3,$B$3=$A$8,$B$4=CZ2),DE6*$B$2,0)","v":0},{"$f":"IF(AND(DF$3<=$B$2,$B$3=$A$8,$B$4=CZ2),DF6*$B$2,0)","v":0}]
[9,"Muni $1 Out Quarterly",null,24,0,{"$f":"IF(AND(F$3<=$B$2,$B$2<G$3,$B$3=$A$9,$B$4=D2),F7*$B$2,0)","v":0},{"$f":"IF(AND(G$3<=$B$2,$B$2<H$3,$B$3=$A$9,$B$4=D2),G7*$B$2,0)","v":0},{"$f":"IF(AND(H$3<=$B$2,$B$2<I$3,$B$3=$A$9,$B$4=D2),H7*$B$2,0)","v":0},{"$f":"IF(AND(I$3<=$B$2,$B$2<J$3,$B$3=$A$9,$B$4=D2),I7*$B$2,0)","v":0},{"$f":"IF(AND(J$3<=$B$2,$B$3=$A$9,$B$4=D2),J7*$B$2,0)","v":0},null,24,0,{"$f":"IF(AND(N$3<=$B$2,$B$2<O$3,$B$3=$A$9,$B$4=L2),N7*$B$2,0)","v":0},{"$f":"IF(AND(O$3<=$B$2,$B$2<P$3,$B$3=$A$9,$B$4=L2),O7*$B$2,0)","v":0},{"$f":"IF(AND(P$3<=$B$2,$B$2<Q$3,$B$3=$A$9,$B$4=L2),P7*$B$2,0)","v":0},{"$f":"IF(AND(Q$3<=$B$2,$B$2<R$3,$B$3=$A$9,$B$4=L2),Q7*$B$2,0)","v":0},{"$f":"IF(AND(R$3<=$B$2,$B$3=$A$9,$B$4=L2),R7*$B$2,0)","v":0},null,24,0,{"$f":"IF(AND(V$3<=$B$2,$B$2<W$3,$B$3=$A$9,$B$4=T2),V7*$B$2,0)","v":0},{"$f":"IF(AND(W$3<=$B$2,$B$2<X$3,$B$3=$A$9,$B$4=T2),W7*$B$2,0)","v":0},{"$f":"IF(AND(X$3<=$B$2,$B$2<Y$3,$B$3=$A$9,$B$4=T2),X7*$B$2,0)","v":0},{"$f":"IF(AND(Y$3<=$B$2,$B$2<Z$3,$B$3=$A$9,$B$4=T2),Y7*$B$2,0)","v":0},{"$f":"IF(AND(Z$3<=$B$2,$B$3=$A$9,$B$4=T2),Z7*$B$2,0)","v":0},null,24,0,{"$f":"IF(AND(AD$3<=$B$2,$B$2<AE$3,$B$3=$A$9,$B$4=AB2),AD7*$B$2,0)","v":0},{"$f":"IF(AND(AE$3<=$B$2,$B$2<AF$3,$B$3=$A$9,$B$4=AB2),AE7*$B$2,0)","v":0},{"$f":"IF(AND(AF$3<=$B$2,$B$2<AG$3,$B$3=$A$9,$B$4=AB2),AF7*$B$2,0)","v":0},{"$f":"IF(AND(AG$3<=$B$2,$B$2<AH$3,$B$3=$A$9,$B$4=AB2),AG7*$B$2,0)","v":0},{"$f":"IF(AND(AH$3<=$B$2,$B$3=$A$9,$B$4=AB2),AH7*$B$2,0)","v":0},null,24,0,{"$f":"IF(AND(AL$3<=$B$2,$B$2<AM$3,$B$3=$A$9,$B$4=AJ2),AL7*$B$2,0)","v":0},{"$f":"IF(AND(AM$3<=$B$2,$B$2<AN$3,$B$3=$A$9,$B$4=AJ2),AM7*$B$2,0)","v":0},{"$f":"IF(AND(AN$3<=$B$2,$B$2<AO$3,$B$3=$A$9,$B$4=AJ2),AN7*$B$2,0)","v":0},{"$f":"IF(AND(AO$3<=$B$2,$B$2<AP$3,$B$3=$A$9,$B$4=AJ2),AO7*$B$2,0)","v":0},{"$f":"IF(AND(AP$3<=$B$2,$B$3=$A$9,$B$4=AJ2),AP7*$B$2,0)","v":0},null,24,0,{"$f":"IF(AND(AT$3<=$B$2,$B$2<AU$3,$B$3=$A$9,$B$4=AR2),AT7*$B$2,0)","v":0},{"$f":"IF(AND(AU$3<=$B$2,$B$2<AV$3,$B$3=$A$9,$B$4=AR2),AU7*$B$2,0)","v":0},{"$f":"IF(AND(AV$3<=$B$2,$B$2<AW$3,$B$3=$A$9,$B$4=AR2),AV7*$B$2,0)","v":0},{"$f":"IF(AND(AW$3<=$B$2,$B$2<AX$3,$B$3=$A$9,$B$4=AR2),AW7*$B$2,0)","v":0},{"$f":"IF(AND(AX$3<=$B$2,$B$3=$A$9,$B$4=AR2),AX7*$B$2,0)","v":0},null,24,0,{"$f":"IF(AND(BB$3<=$B$2,$B$2<BC$3,$B$3=$A$9,$B$4=AZ2),BB7*$B$2,0)","v":0},{"$f":"IF(AND(BC$3<=$B$2,$B$2<BD$3,$B$3=$A$9,$B$4=AZ2),BC7*$B$2,0)","v":0},{"$f":"IF(AND(BD$3<=$B$2,$B$2<BE$3,$B$3=$A$9,$B$4=AZ2),BD7*$B$2,0)","v":0},{"$f":"IF(AND(BE$3<=$B$2,$B$2<BF$3,$B$3=$A$9,$B$4=AZ2),BE7*$B$2,0)","v":0},{"$f":"IF(AND(BF$3<=$B$2,$B$3=$A$9,$B$4=AZ2),BF7*$B$2,0)","v":0},null,24,0,{"$f":"IF(AND(BJ$3<=$B$2,$B$2<BK$3,$B$3=$A$9,$B$4=BH2),BJ7*$B$2,0)","v":0},{"$f":"IF(AND(BK$3<=$B$2,$B$2<BL$3,$B$3=$A$9,$B$4=BH2),BK7*$B$2,0)","v":0},{"$f":"IF(AND(BL$3<=$B$2,$B$2<BM$3,$B$3=$A$9,$B$4=BH2),BL7*$B$2,0)","v":0},{"$f":"IF(AND(BM$3<=$B$2,$B$2<BN$3,$B$3=$A$9,$B$4=BH2),BM7*$B$2,0)","v":0},{"$f":"IF(AND(BN$3<=$B$2,$B$3=$A$9,$B$4=BH2),BN7*$B$2,0)","v":0},null,12,0,{"$f":"IF(AND(BR$3<=$B$2,$B$3=$A$8,$B$4=BP2),BR7*$B$2,0)","v":0},null,24,0,{"$f":"IF(AND(BV$3<=$B$2,$B$2<BW$3,$B$3=$A$9,$B$4=BT2),BV7*$B$2,0)","v":0},{"$f":"IF(AND(BW$3<=$B$2,$B$2<BX$3,$B$3=$A$9,$B$4=BT2),BW7*$B$2,0)","v":0},{"$f":"IF(AND(BX$3<=$B$2,$B$2<BY$3,$B$3=$A$9,$B$4=BT2),BX7*$B$2,0)","v":0},{"$f":"IF(AND(BY$3<=$B$2,$B$2<BZ$3,$B$3=$A$9,$B$4=BT2),BY7*$B$2,0)","v":0},{"$f":"IF(AND(BZ$3<=$B$2,$B$3=$A$9,$B$4=BT2),BZ7*$B$2,0)","v":0},null,24,0,{"$f":"IF(AND(CD$3<=$B$2,$B$2<CE$3,$B$3=$A$9,$B$4=CB2),CD7*$B$2,0)","v":0},{"$f":"IF(AND(CE$3<=$B$2,$B$2<CF$3,$B$3=$A$9,$B$4=CB2),CE7*$B$2,0)","v":0},{"$f":"IF(AND(CF$3<=$B$2,$B$2<CG$3,$B$3=$A$9,$B$4=CB2),CF7*$B$2,0)","v":0},{"$f":"IF(AND(CG$3<=$B$2,$B$2<CH$3,$B$3=$A$9,$B$4=CB2),CG7*$B$2,0)","v":0},{"$f":"IF(AND(CH$3<=$B$2,$B$3=$A$9,$B$4=CB2),CH7*$B$2,0)","v":0},null,24,0,{"$f":"IF(AND(CL$3<=$B$2,$B$2<CM$3,$B$3=$A$9,$B$4=CJ2),CL7*$B$2,0)","v":0},{"$f":"IF(AND(CM$3<=$B$2,$B$2<CN$3,$B$3=$A$9,$B$4=CJ2),CM7*$B$2,0)","v":0},{"$f":"IF(AND(CN$3<=$B$2,$B$2<CO$3,$B$3=$A$9,$B$4=CJ2),CN7*$B$2,0)","v":0},{"$f":"IF(AND(CO$3<=$B$2,$B$2<CP$3,$B$3=$A$9,$B$4=CJ2),CO7*$B$2,0)","v":0},{"$f":"IF(AND(CP$3<=$B$2,$B$3=$A$9,$B$4=CJ2),CP7*$B$2,0)","v":0},null,24,0,{"$f":"IF(AND(CT$3<=$B$2,$B$2<CU$3,$B$3=$A$9,$B$4=CR2),CT7*$B$2,0)","v":0},{"$f":"IF(AND(CU$3<=$B$2,$B$2<CV$3,$B$3=$A$9,$B$4=CR2),CU7*$B$2,0)","v":0},{"$f":"IF(AND(CV$3<=$B$2,$B$2<CW$3,$B$3=$A$9,$B$4=CR2),CV7*$B$2,0)","v":0},{"$f":"IF(AND(CW$3<=$B$2,$B$2<CX$3,$B$3=$A$9,$B$4=CR2),CW7*$B$2,0)","v":0},{"$f":"IF(AND(CX$3<=$B$2,$B$3=$A$9,$B$4=CR2),CX7*$B$2,0)","v":0},null,24,0,{"$f":"IF(AND(DB$3<=$B$2,$B$2<DC$3,$B$3=$A$9,$B$4=CZ2),DB7*$B$2,0)","v":0},{"$f":"IF(AND(DC$3<=$B$2,$B$2<DD$3,$B$3=$A$9,$B$4=CZ2),DC7*$B$2,0)","v":0},{"$f":"IF(AND(DD$3<=$B$2,$B$2<DE$3,$B$3=$A$9,$B$4=CZ2),DD7*$B$2,0)","v":0},{"$f":"IF(AND(DE$3<=$B$2,$B$2<DF$3,$B$3=$A$9,$B$4=CZ2),DE7*$B$2,0)","v":0},{"$f":"IF(AND(DF$3<=$B$2,$B$3=$A$9,$B$4=CZ2),DF7*$B$2,0)","v":0}]
[18,"Muni $1 Out Semi-Annually",null,36,0,{"$f":"IF(AND(F$3<=$B$2,$B$2<G$3,$B$3=$A$10,$B$4=D2),F8*$B$2,0)","v":0},{"$f":"IF(AND(G$3<=$B$2,$B$2<H$3,$B$3=$A$10,$B$4=D2),G8*$B$2,0)","v":0},{"$f":"IF(AND(H$3<=$B$2,$B$2<I$3,$B$3=$A$10,$B$4=D2),H8*$B$2,0)","v":0},{"$f":"IF(AND(I$3<=$B$2,$B$2<J$3,$B$3=$A$10,$B$4=D2),I8*$B$2,0)","v":0},{"$f":"IF(AND(J$3<=$B$2,$B$3=$A$10,$B$4=D2),J8*$B$2,0)","v":0},null,36,0,{"$f":"IF(AND(N$3<=$B$2,$B$2<O$3,$B$3=$A$10,$B$4=L2),N8*$B$2,0)","v":0},{"$f":"IF(AND(O$3<=$B$2,$B$2<P$3,$B$3=$A$10,$B$4=L2),O8*$B$2,0)","v":0},{"$f":"IF(AND(P$3<=$B$2,$B$2<Q$3,$B$3=$A$10,$B$4=L2),P8*$B$2,0)","v":0},{"$f":"IF(AND(Q$3<=$B$2,$B$2<R$3,$B$3=$A$10,$B$4=L2),Q8*$B$2,0)","v":0},{"$f":"IF(AND(R$3<=$B$2,$B$3=$A$10,$B$4=L2),R8*$B$2,0)","v":0},null,36,0,{"$f":"IF(AND(V$3<=$B$2,$B$2<W$3,$B$3=$A$10,$B$4=T2),V8*$B$2,0)","v":0},{"$f":"IF(AND(W$3<=$B$2,$B$2<X$3,$B$3=$A$10,$B$4=T2),W8*$B$2,0)","v":0},{"$f":"IF(AND(X$3<=$B$2,$B$2<Y$3,$B$3=$A$10,$B$4=T2),X8*$B$2,0)","v":0},{"$f":"IF(AND(Y$3<=$B$2,$B$2<Z$3,$B$3=$A$10,$B$4=T2),Y8*$B$2,0)","v":0},{"$f":"IF(AND(Z$3<=$B$2,$B$3=$A$10,$B$4=T2),Z8*$B$2,0)","v":0},null,36,0,{"$f":"IF(AND(AD$3<=$B$2,$B$2<AE$3,$B$3=$A$10,$B$4=AB2),AD8*$B$2,0)","v":0},{"$f":"IF(AND(AE$3<=$B$2,$B$2<AF$3,$B$3=$A$10,$B$4=AB2),AE8*$B$2,0)","v":0},{"$f":"IF(AND(AF$3<=$B$2,$B$2<AG$3,$B$3=$A$10,$B$4=AB2),AF8*$B$2,0)","v":0},{"$f":"IF(AND(AG$3<=$B$2,$B$2<AH$3,$B$3=$A$10,$B$4=AB2),AG8*$B$2,0)","v":0},{"$f":"IF(AND(AH$3<=$B$2,$B$3=$A$10,$B$4=AB2),AH8*$B$2,0)","v":0},null,36,0,{"$f":"IF(AND(AL$3<=$B$2,$B$2<AM$3,$B$3=$A$10,$B$4=AJ2),AL8*$B$2,0)","v":0},{"$f":"IF(AND(AM$3<=$B$2,$B$2<AN$3,$B$3=$A$10,$B$4=AJ2),AM8*$B$2,0)","v":0},{"$f":"IF(AND(AN$3<=$B$2,$B$2<AO$3,$B$3=$A$10,$B$4=AJ2),AN8*$B$2,0)","v":0},{"$f":"IF(AND(AO$3<=$B$2,$B$2<AP$3,$B$3=$A$10,$B$4=AJ2),AO8*$B$2,0)","v":0},{"$f":"IF(AND(AP$3<=$B$2,$B$3=$A$10,$B$4=AJ2),AP8*$B$2,0)","v":0},null,36,0,{"$f":"IF(AND(AT$3<=$B$2,$B$2<AU$3,$B$3=$A$10,$B$4=AR2),AT8*$B$2,0)","v":0},{"$f":"IF(AND(AU$3<=$B$2,$B$2<AV$3,$B$3=$A$10,$B$4=AR2),AU8*$B$2,0)","v":0},{"$f":"IF(AND(AV$3<=$B$2,$B$2<AW$3,$B$3=$A$10,$B$4=AR2),AV8*$B$2,0)","v":0},{"$f":"IF(AND(AW$3<=$B$2,$B$2<AX$3,$B$3=$A$10,$B$4=AR2),AW8*$B$2,0)","v":0},{"$f":"IF(AND(AX$3<=$B$2,$B$3=$A$10,$B$4=AR2),AX8*$B$2,0)","v":0},null,36,0,{"$f":"IF(AND(BB$3<=$B$2,$B$2<BC$3,$B$3=$A$10,$B$4=AZ2),BB8*$B$2,0)","v":0},{"$f":"IF(AND(BC$3<=$B$2,$B$2<BD$3,$B$3=$A$10,$B$4=AZ2),BC8*$B$2,0)","v":0},{"$f":"IF(AND(BD$3<=$B$2,$B$2<BE$3,$B$3=$A$10,$B$4=AZ2),BD8*$B$2,0)","v":0},{"$f":"IF(AND(BE$3<=$B$2,$B$2<BF$3,$B$3=$A$10,$B$4=AZ2),BE8*$B$2,0)","v":0},{"$f":"IF(AND(BF$3<=$B$2,$B$3=$A$10,$B$4=AZ2),BF8*$B$2,0)","v":0},null,36,0,{"$f":"IF(AND(BJ$3<=$B$2,$B$2<BK$3,$B$3=$A$10,$B$4=BH2),BJ8*$B$2,0)","v":0},{"$f":"IF(AND(BK$3<=$B$2,$B$2<BL$3,$B$3=$A$10,$B$4=BH2),BK8*$B$2,0)","v":0},{"$f":"IF(AND(BL$3<=$B$2,$B$2<BM$3,$B$3=$A$10,$B$4=BH2),BL8*$B$2,0)","v":0},{"$f":"IF(AND(BM$3<=$B$2,$B$2<BN$3,$B$3=$A$10,$B$4=BH2),BM8*$B$2,0)","v":0},{"$f":"IF(AND(BN$3<=$B$2,$B$3=$A$10,$B$4=BH2),BN8*$B$2,0)","v":0},null,18,0,{"$f":"IF(AND(BR$3<=$B$2,$B$3=$A$14,$B$4=BP2),BR8*$B$2,0)","v":0},null,36,0,{"$f":"IF(AND(BV$3<=$B$2,$B$2<BW$3,$B$3=$A$10,$B$4=BT2),BV8*$B$2,0)","v":0},{"$f":"IF(AND(BW$3<=$B$2,$B$2<BX$3,$B$3=$A$10,$B$4=BT2),BW8*$B$2,0)","v":0},{"$f":"IF(AND(BX$3<=$B$2,$B$2<BY$3,$B$3=$A$10,$B$4=BT2),BX8*$B$2,0)","v":0},{"$f":"IF(AND(BY$3<=$B$2,$B$2<BZ$3,$B$3=$A$10,$B$4=BT2),BY8*$B$2,0)","v":0},{"$f":"IF(AND(BZ$3<=$B$2,$B$3=$A$10,$B$4=BT2),BZ8*$B$2,0)","v":0},null,36,0,{"$f":"IF(AND(CD$3<=$B$2,$B$2<CE$3,$B$3=$A$10,$B$4=CB2),CD8*$B$2,0)","v":0},{"$f":"IF(AND(CE$3<=$B$2,$B$2<CF$3,$B$3=$A$10,$B$4=CB2),CE8*$B$2,0)","v":0},{"$f":"IF(AND(CF$3<=$B$2,$B$2<CG$3,$B$3=$A$10,$B$4=CB2),CF8*$B$2,0)","v":0},{"$f":"IF(AND(CG$3<=$B$2,$B$2<CH$3,$B$3=$A$10,$B$4=CB2),CG8*$B$2,0)","v":0},{"$f":"IF(AND(CH$3<=$B$2,$B$3=$A$10,$B$4=CB2),CH8*$B$2,0)","v":0},null,36,0,{"$f":"IF(AND(CL$3<=$B$2,$B$2<CM$3,$B$3=$A$10,$B$4=CJ2),CL8*$B$2,0)","v":0},{"$f":"IF(AND(CM$3<=$B$2,$B$2<CN$3,$B$3=$A$10,$B$4=CJ2),CM8*$B$2,0)","v":0},{"$f":"IF(AND(CN$3<=$B$2,$B$2<CO$3,$B$3=$A$10,$B$4=CJ2),CN8*$B$2,0)","v":0},{"$f":"IF(AND(CO$3<=$B$2,$B$2<CP$3,$B$3=$A$10,$B$4=CJ2),CO8*$B$2,0)","v":0},{"$f":"IF(AND(CP$3<=$B$2,$B$3=$A$10,$B$4=CJ2),CP8*$B$2,0)","v":0},null,36,0,{"$f":"IF(AND(CT$3<=$B$2,$B$2<CU$3,$B$3=$A$10,$B$4=CR2),CT8*$B$2,0)","v":0},{"$f":"IF(AND(CU$3<=$B$2,$B$2<CV$3,$B$3=$A$10,$B$4=CR2),CU8*$B$2,0)","v":0},{"$f":"IF(AND(CV$3<=$B$2,$B$2<CW$3,$B$3=$A$10,$B$4=CR2),CV8*$B$2,0)","v":0},{"$f":"IF(AND(CW$3<=$B$2,$B$2<CX$3,$B$3=$A$10,$B$4=CR2),CW8*$B$2,0)","v":0},{"$f":"IF(AND(CX$3<=$B$2,$B$3=$A$10,$B$4=CR2),CX8*$B$2,0)","v":0},null,36,0,{"$f":"IF(AND(DB$3<=$B$2,$B$2<DC$3,$B$3=$A$10,$B$4=CZ2),DB8*$B$2,0)","v":0},{"$f":"IF(AND(DC$3<=$B$2,$B$2<DD$3,$B$3=$A$10,$B$4=CZ2),DC8*$B$2,0)","v":0},{"$f":"IF(AND(DD$3<=$B$2,$B$2<DE$3,$B$3=$A$10,$B$4=CZ2),DD8*$B$2,0)","v":0},{"$f":"IF(AND(DE$3<=$B$2,$B$2<DF$3,$B$3=$A$10,$B$4=CZ2),DE8*$B$2,0)","v":0},{"$f":"IF(AND(DF$3<=$B$2,$B$3=$A$10,$B$4=CZ2),DF8*$B$2,0)","v":0}]
[null,"Municipal $1 Buyout Lease - Annual Pmt",null,48,0,{"$f":"IF(AND(F$3<=$B$2,$B$2<G$3,$B$3=$A$11,$B$4=D2),F9*$B$2,0)","v":0},{"$f":"IF(AND(G$3<=$B$2,$B$2<H$3,$B$3=$A$11,$B$4=D2),G9*$B$2,0)","v":0},{"$f":"IF(AND(H$3<=$B$2,$B$2<I$3,$B$3=$A$11,$B$4=D2),H9*$B$2,0)","v":0},{"$f":"IF(AND(I$3<=$B$2,$B$2<J$3,$B$3=$A$11,$B$4=D2),I9*$B$2,0)","v":0},{"$f":"IF(AND(J$3<=$B$2,$B$3=$A$11,$B$4=D2),J9*$B$2,0)","v":0},null,48,0,{"$f":"IF(AND(N$3<=$B$2,$B$2<O$3,$B$3=$A$11,$B$4=L2),N9*$B$2,0)","v":0},{"$f":"IF(AND(O$3<=$B$2,$B$2<P$3,$B$3=$A$11,$B$4=L2),O9*$B$2,0)","v":0},{"$f":"IF(AND(P$3<=$B$2,$B$2<Q$3,$B$3=$A$11,$B$4=L2),P9*$B$2,0)","v":0},{"$f":"IF(AND(Q$3<=$B$2,$B$2<R$3,$B$3=$A$11,$B$4=L2),Q9*$B$2,0)","v":0},{"$f":"IF(AND(R$3<=$B$2,$B$3=$A$11,$B$4=L2),R9*$B$2,0)","v":0},null,48,0,{"$f":"IF(AND(V$3<=$B$2,$B$2<W$3,$B$3=$A$11,$B$4=T2),V9*$B$2,0)","v":0},{"$f":"IF(AND(W$3<=$B$2,$B$2<X$3,$B$3=$A$11,$B$4=T2),W9*$B$2,0)","v":0},{"$f":"IF(AND(X$3<=$B$2,$B$2<Y$3,$B$3=$A$11,$B$4=T2),X9*$B$2,0)","v":0},{"$f":"IF(AND(Y$3<=$B$2,$B$2<Z$3,$B$3=$A$11,$B$4=T2),Y9*$B$2,0)","v":0},{"$f":"IF(AND(Z$3<=$B$2,$B$3=$A$11,$B$4=T2),Z9*$B$2,0)","v":0},null,48,0,{"$f":"IF(AND(AD$3<=$B$2,$B$2<AE$3,$B$3=$A$11,$B$4=AB2),AD9*$B$2,0)","v":0},{"$f":"IF(AND(AE$3<=$B$2,$B$2<AF$3,$B$3=$A$11,$B$4=AB2),AE9*$B$2,0)","v":0},{"$f":"IF(AND(AF$3<=$B$2,$B$2<AG$3,$B$3=$A$11,$B$4=AB2),AF9*$B$2,0)","v":0},{"$f":"IF(AND(AG$3<=$B$2,$B$2<AH$3,$B$3=$A$11,$B$4=AB2),AG9*$B$2,0)","v":0},{"$f":"IF(AND(AH$3<=$B$2,$B$3=$A$11,$B$4=AB2),AH9*$B$2,0)","v":0},null,48,0,{"$f":"IF(AND(AL$3<=$B$2,$B$2<AM$3,$B$3=$A$11,$B$4=AJ2),AL9*$B$2,0)","v":0},{"$f":"IF(AND(AM$3<=$B$2,$B$2<AN$3,$B$3=$A$11,$B$4=AJ2),AM9*$B$2,0)","v":0},{"$f":"IF(AND(AN$3<=$B$2,$B$2<AO$3,$B$3=$A$11,$B$4=AJ2),AN9*$B$2,0)","v":0},{"$f":"IF(AND(AO$3<=$B$2,$B$2<AP$3,$B$3=$A$11,$B$4=AJ2),AO9*$B$2,0)","v":0},{"$f":"IF(AND(AP$3<=$B$2,$B$3=$A$11,$B$4=AJ2),AP9*$B$2,0)","v":0},null,48,0,{"$f":"IF(AND(AT$3<=$B$2,$B$2<AU$3,$B$3=$A$11,$B$4=AR2),AT9*$B$2,0)","v":0},{"$f":"IF(AND(AU$3<=$B$2,$B$2<AV$3,$B$3=$A$11,$B$4=AR2),AU9*$B$2,0)","v":0},{"$f":"IF(AND(AV$3<=$B$2,$B$2<AW$3,$B$3=$A$11,$B$4=AR2),AV9*$B$2,0)","v":0},{"$f":"IF(AND(AW$3<=$B$2,$B$2<AX$3,$B$3=$A$11,$B$4=AR2),AW9*$B$2,0)","v":0},{"$f":"IF(AND(AX$3<=$B$2,$B$3=$A$11,$B$4=AR2),AX9*$B$2,0)","v":0},null,48,0,{"$f":"IF(AND(BB$3<=$B$2,$B$2<BC$3,$B$3=$A$11,$B$4=AZ2),BB9*$B$2,0)","v":0},{"$f":"IF(AND(BC$3<=$B$2,$B$2<BD$3,$B$3=$A$11,$B$4=AZ2),BC9*$B$2,0)","v":0},{"$f":"IF(AND(BD$3<=$B$2,$B$2<BE$3,$B$3=$A$11,$B$4=AZ2),BD9*$B$2,0)","v":0},{"$f":"IF(AND(BE$3<=$B$2,$B$2<BF$3,$B$3=$A$11,$B$4=AZ2),BE9*$B$2,0)","v":0},{"$f":"IF(AND(BF$3<=$B$2,$B$3=$A$11,$B$4=AZ2),BF9*$B$2,0)","v":0},null,48,0,{"$f":"IF(AND(BJ$3<=$B$2,$B$2<BK$3,$B$3=$A$11,$B$4=BH2),BJ9*$B$2,0)","v":0},{"$f":"IF(AND(BK$3<=$B$2,$B$2<BL$3,$B$3=$A$11,$B$4=BH2),BK9*$B$2,0)","v":0},{"$f":"IF(AND(BL$3<=$B$2,$B$2<BM$3,$B$3=$A$11,$B$4=BH2),BL9*$B$2,0)","v":0},{"$f":"IF(AND(BM$3<=$B$2,$B$2<BN$3,$B$3=$A$11,$B$4=BH2),BM9*$B$2,0)","v":0},{"$f":"IF(AND(BN$3<=$B$2,$B$3=$A$11,$B$4=BH2),BN9*$B$2,0)","v":0},null,null,null,null,null,48,0,{"$f":"IF(AND(BV$3<=$B$2,$B$2<BW$3,$B$3=$A$11,$B$4=BT2),BV9*$B$2,0)","v":0},{"$f":"IF(AND(BW$3<=$B$2,$B$2<BX$3,$B$3=$A$11,$B$4=BT2),BW9*$B$2,0)","v":0},{"$f":"IF(AND(BX$3<=$B$2,$B$2<BY$3,$B$3=$A$11,$B$4=BT2),BX9*$B$2,0)","v":0},{"$f":"IF(AND(BY$3<=$B$2,$B$2<BZ$3,$B$3=$A$11,$B$4=BT2),BY9*$B$2,0)","v":0},{"$f":"IF(AND(BZ$3<=$B$2,$B$3=$A$11,$B$4=BT2),BZ9*$B$2,0)","v":0},null,48,0,{"$f":"IF(AND(CD$3<=$B$2,$B$2<CE$3,$B$3=$A$11,$B$4=CB2),CD9*$B$2,0)","v":0},{"$f":"IF(AND(CE$3<=$B$2,$B$2<CF$3,$B$3=$A$11,$B$4=CB2),CE9*$B$2,0)","v":0},{"$f":"IF(AND(CF$3<=$B$2,$B$2<CG$3,$B$3=$A$11,$B$4=CB2),CF9*$B$2,0)","v":0},{"$f":"IF(AND(CG$3<=$B$2,$B$2<CH$3,$B$3=$A$11,$B$4=CB2),CG9*$B$2,0)","v":0},{"$f":"IF(AND(CH$3<=$B$2,$B$3=$A$11,$B$4=CB2),CH9*$B$2,0)","v":0},null,48,0,{"$f":"IF(AND(CL$3<=$B$2,$B$2<CM$3,$B$3=$A$11,$B$4=CJ2),CL9*$B$2,0)","v":0},{"$f":"IF(AND(CM$3<=$B$2,$B$2<CN$3,$B$3=$A$11,$B$4=CJ2),CM9*$B$2,0)","v":0},{"$f":"IF(AND(CN$3<=$B$2,$B$2<CO$3,$B$3=$A$11,$B$4=CJ2),CN9*$B$2,0)","v":0},{"$f":"IF(AND(CO$3<=$B$2,$B$2<CP$3,$B$3=$A$11,$B$4=CJ2),CO9*$B$2,0)","v":0},{"$f":"IF(AND(CP$3<=$B$2,$B$3=$A$11,$B$4=CJ2),CP9*$B$2,0)","v":0},null,48,0,{"$f":"IF(AND(CT$3<=$B$2,$B$2<CU$3,$B$3=$A$11,$B$4=CR2),CT9*$B$2,0)","v":0},{"$f":"IF(AND(CU$3<=$B$2,$B$2<CV$3,$B$3=$A$11,$B$4=CR2),CU9*$B$2,0)","v":0},{"$f":"IF(AND(CV$3<=$B$2,$B$2<CW$3,$B$3=$A$11,$B$4=CR2),CV9*$B$2,0)","v":0},{"$f":"IF(AND(CW$3<=$B$2,$B$2<CX$3,$B$3=$A$11,$B$4=CR2),CW9*$B$2,0)","v":0},{"$f":"IF(AND(CX$3<=$B$2,$B$3=$A$11,$B$4=CR2),CX9*$B$2,0)","v":0},null,48,0,{"$f":"IF(AND(DB$3<=$B$2,$B$2<DC$3,$B$3=$A$11,$B$4=CZ2),DB9*$B$2,0)","v":0},{"$f":"IF(AND(DC$3<=$B$2,$B$2<DD$3,$B$3=$A$11,$B$4=CZ2),DC9*$B$2,0)","v":0},{"$f":"IF(AND(DD$3<=$B$2,$B$2<DE$3,$B$3=$A$11,$B$4=CZ2),DD9*$B$2,0)","v":0},{"$f":"IF(AND(DE$3<=$B$2,$B$2<DF$3,$B$3=$A$11,$B$4=CZ2),DE9*$B$2,0)","v":0},{"$f":"IF(AND(DF$3<=$B$2,$B$3=$A$11,$B$4=CZ2),DF9*$B$2,0)","v":0}]
[null,"Rent To Own",null,60,0,{"$f":"IF(AND(F$3<=$B$2,$B$2<G$3,$B$3=$A$12,$B$4=D2),F10*$B$2,0)","v":0},{"$f":"IF(AND(G$3<=$B$2,$B$2<H$3,$B$3=$A$12,$B$4=D2),G10*$B$2,0)","v":0},{"$f":"IF(AND(H$3<=$B$2,$B$2<I$3,$B$3=$A$12,$B$4=D2),H10*$B$2,0)","v":0},{"$f":"IF(AND(I$3<=$B$2,$B$2<J$3,$B$3=$A$12,$B$4=D2),I10*$B$2,0)","v":0},{"$f":"IF(AND(J$3<=$B$2,$B$3=$A$12,$B$4=D2),J10*$B$2,0)","v":0},null,60,0,{"$f":"IF(AND(N$3<=$B$2,$B$2<O$3,$B$3=$A$12,$B$4=L2),N10*$B$2,0)","v":0},{"$f":"IF(AND(O$3<=$B$2,$B$2<P$3,$B$3=$A$12,$B$4=L2),O10*$B$2,0)","v":0},{"$f":"IF(AND(P$3<=$B$2,$B$2<Q$3,$B$3=$A$12,$B$4=L2),P10*$B$2,0)","v":0},{"$f":"IF(AND(Q$3<=$B$2,$B$2<R$3,$B$3=$A$12,$B$4=L2),Q10*$B$2,0)","v":0},{"$f":"IF(AND(R$3<=$B$2,$B$3=$A$12,$B$4=L2),R10*$B$2,0)","v":0},null,60,0,{"$f":"IF(AND(V$3<=$B$2,$B$2<W$3,$B$3=$A$12,$B$4=T2),V10*$B$2,0)","v":0},{"$f":"IF(AND(W$3<=$B$2,$B$2<X$3,$B$3=$A$12,$B$4=T2),W10*$B$2,0)","v":0},{"$f":"IF(AND(X$3<=$B$2,$B$2<Y$3,$B$3=$A$12,$B$4=T2),X10*$B$2,0)","v":0},{"$f":"IF(AND(Y$3<=$B$2,$B$2<Z$3,$B$3=$A$12,$B$4=T2),Y10*$B$2,0)","v":0},{"$f":"IF(AND(Z$3<=$B$2,$B$3=$A$12,$B$4=T2),Z10*$B$2,0)","v":0},null,60,0,{"$f":"IF(AND(AD$3<=$B$2,$B$2<AE$3,$B$3=$A$12,$B$4=AB2),AD10*$B$2,0)","v":0},{"$f":"IF(AND(AE$3<=$B$2,$B$2<AF$3,$B$3=$A$12,$B$4=AB2),AE10*$B$2,0)","v":0},{"$f":"IF(AND(AF$3<=$B$2,$B$2<AG$3,$B$3=$A$12,$B$4=AB2),AF10*$B$2,0)","v":0},{"$f":"IF(AND(AG$3<=$B$2,$B$2<AH$3,$B$3=$A$12,$B$4=AB2),AG10*$B$2,0)","v":0},{"$f":"IF(AND(AH$3<=$B$2,$B$3=$A$12,$B$4=AB2),AH10*$B$2,0)","v":0},null,60,0,{"$f":"IF(AND(AL$3<=$B$2,$B$2<AM$3,$B$3=$A$12,$B$4=AJ2),AL10*$B$2,0)","v":0},{"$f":"IF(AND(AM$3<=$B$2,$B$2<AN$3,$B$3=$A$12,$B$4=AJ2),AM10*$B$2,0)","v":0},{"$f":"IF(AND(AN$3<=$B$2,$B$2<AO$3,$B$3=$A$12,$B$4=AJ2),AN10*$B$2,0)","v":0},{"$f":"IF(AND(AO$3<=$B$2,$B$2<AP$3,$B$3=$A$12,$B$4=AJ2),AO10*$B$2,0)","v":0},{"$f":"IF(AND(AP$3<=$B$2,$B$3=$A$12,$B$4=AJ2),AP10*$B$2,0)","v":0},null,60,0,{"$f":"IF(AND(AT$3<=$B$2,$B$2<AU$3,$B$3=$A$12,$B$4=AR2),AT10*$B$2,0)","v":0},{"$f":"IF(AND(AU$3<=$B$2,$B$2<AV$3,$B$3=$A$12,$B$4=AR2),AU10*$B$2,0)","v":0},{"$f":"IF(AND(AV$3<=$B$2,$B$2<AW$3,$B$3=$A$12,$B$4=AR2),AV10*$B$2,0)","v":0},{"$f":"IF(AND(AW$3<=$B$2,$B$2<AX$3,$B$3=$A$12,$B$4=AR2),AW10*$B$2,0)","v":0},{"$f":"IF(AND(AX$3<=$B$2,$B$3=$A$12,$B$4=AR2),AX10*$B$2,0)","v":0},null,60,0,{"$f":"IF(AND(BB$3<=$B$2,$B$2<BC$3,$B$3=$A$12,$B$4=AZ2),BB10*$B$2,0)","v":0},{"$f":"IF(AND(BC$3<=$B$2,$B$2<BD$3,$B$3=$A$12,$B$4=AZ2),BC10*$B$2,0)","v":0},{"$f":"IF(AND(BD$3<=$B$2,$B$2<BE$3,$B$3=$A$12,$B$4=AZ2),BD10*$B$2,0)","v":0},{"$f":"IF(AND(BE$3<=$B$2,$B$2<BF$3,$B$3=$A$12,$B$4=AZ2),BE10*$B$2,0)","v":0},{"$f":"IF(AND(BF$3<=$B$2,$B$3=$A$12,$B$4=AZ2),BF10*$B$2,0)","v":0},null,60,0,{"$f":"IF(AND(BJ$3<=$B$2,$B$2<BK$3,$B$3=$A$12,$B$4=BH2),BJ10*$B$2,0)","v":0},{"$f":"IF(AND(BK$3<=$B$2,$B$2<BL$3,$B$3=$A$12,$B$4=BH2),BK10*$B$2,0)","v":0},{"$f":"IF(AND(BL$3<=$B$2,$B$2<BM$3,$B$3=$A$12,$B$4=BH2),BL10*$B$2,0)","v":0},{"$f":"IF(AND(BM$3<=$B$2,$B$2<BN$3,$B$3=$A$12,$B$4=BH2),BM10*$B$2,0)","v":0},{"$f":"IF(AND(BN$3<=$B$2,$B$3=$A$12,$B$4=BH2),BN10*$B$2,0)","v":0},null,null,null,null,null,60,0,{"$f":"IF(AND(BV$3<=$B$2,$B$2<BW$3,$B$3=$A$12,$B$4=BT2),BV10*$B$2,0)","v":0},{"$f":"IF(AND(BW$3<=$B$2,$B$2<BX$3,$B$3=$A$12,$B$4=BT2),BW10*$B$2,0)","v":0},{"$f":"IF(AND(BX$3<=$B$2,$B$2<BY$3,$B$3=$A$12,$B$4=BT2),BX10*$B$2,0)","v":0},{"$f":"IF(AND(BY$3<=$B$2,$B$2<BZ$3,$B$3=$A$12,$B$4=BT2),BY10*$B$2,0)","v":0},{"$f":"IF(AND(BZ$3<=$B$2,$B$3=$A$12,$B$4=BT2),BZ10*$B$2,0)","v":0},null,60,0,{"$f":"IF(AND(CD$3<=$B$2,$B$2<CE$3,$B$3=$A$12,$B$4=CB2),CD10*$B$2,0)","v":0},{"$f":"IF(AND(CE$3<=$B$2,$B$2<CF$3,$B$3=$A$12,$B$4=CB2),CE10*$B$2,0)","v":0},{"$f":"IF(AND(CF$3<=$B$2,$B$2<CG$3,$B$3=$A$12,$B$4=CB2),CF10*$B$2,0)","v":0},{"$f":"IF(AND(CG$3<=$B$2,$B$2<CH$3,$B$3=$A$12,$B$4=CB2),CG10*$B$2,0)","v":0},{"$f":"IF(AND(CH$3<=$B$2,$B$3=$A$12,$B$4=CB2),CH10*$B$2,0)","v":0},null,60,0,{"$f":"IF(AND(CL$3<=$B$2,$B$2<CM$3,$B$3=$A$12,$B$4=CJ2),CL10*$B$2,0)","v":0},{"$f":"IF(AND(CM$3<=$B$2,$B$2<CN$3,$B$3=$A$12,$B$4=CJ2),CM10*$B$2,0)","v":0},{"$f":"IF(AND(CN$3<=$B$2,$B$2<CO$3,$B$3=$A$12,$B$4=CJ2),CN10*$B$2,0)","v":0},{"$f":"IF(AND(CO$3<=$B$2,$B$2<CP$3,$B$3=$A$12,$B$4=CJ2),CO10*$B$2,0)","v":0},{"$f":"IF(AND(CP$3<=$B$2,$B$3=$A$12,$B$4=CJ2),CP10*$B$2,0)","v":0},null,60,0,{"$f":"IF(AND(CT$3<=$B$2,$B$2<CU$3,$B$3=$A$12,$B$4=CR2),CT10*$B$2,0)","v":0},{"$f":"IF(AND(CU$3<=$B$2,$B$2<CV$3,$B$3=$A$12,$B$4=CR2),CU10*$B$2,0)","v":0},{"$f":"IF(AND(CV$3<=$B$2,$B$2<CW$3,$B$3=$A$12,$B$4=CR2),CV10*$B$2,0)","v":0},{"$f":"IF(AND(CW$3<=$B$2,$B$2<CX$3,$B$3=$A$12,$B$4=CR2),CW10*$B$2,0)","v":0},{"$f":"IF(AND(CX$3<=$B$2,$B$3=$A$12,$B$4=CR2),CX10*$B$2,0)","v":0},null,60,0,{"$f":"IF(AND(DB$3<=$B$2,$B$2<DC$3,$B$3=$A$12,$B$4=CZ2),DB10*$B$2,0)","v":0},{"$f":"IF(AND(DC$3<=$B$2,$B$2<DD$3,$B$3=$A$12,$B$4=CZ2),DC10*$B$2,0)","v":0},{"$f":"IF(AND(DD$3<=$B$2,$B$2<DE$3,$B$3=$A$12,$B$4=CZ2),DD10*$B$2,0)","v":0},{"$f":"IF(AND(DE$3<=$B$2,$B$2<DF$3,$B$3=$A$12,$B$4=CZ2),DE10*$B$2,0)","v":0},{"$f":"IF(AND(DF$3<=$B$2,$B$3=$A$12,$B$4=CZ2),DF10*$B$2,0)","v":0}]
[null,"10% PUT",null,{"$f":"SUM(F17:DF17)","v":0},null,{"$f":"SUM(F12:F16)","v":0},{"$f":"SUM(G12:G16)","v":0},{"$f":"SUM(H12:H16)","v":0},{"$f":"SUM(I12:I16)","v":0},{"$f":"SUM(J12:J16)","v":0},null,null,null,{"$f":"SUM(N12:N16)","v":0},{"$f":"SUM(O12:O16)","v":0},{"$f":"SUM(P12:P16)","v":0},{"$f":"SUM(Q12:Q16)","v":0},{"$f":"SUM(R12:R16)","v":0},null,null,null,{"$f":"SUM(V12:V16)","v":0},{"$f":"SUM(W12:W16)","v":0},{"$f":"SUM(X12:X16)","v":0},{"$f":"SUM(Y12:Y16)","v":0},{"$f":"SUM(Z12:Z16)","v":0},null,null,null,{"$f":"SUM(AD12:AD16)","v":0},{"$f":"SUM(AE12:AE16)","v":0},{"$f":"SUM(AF12:AF16)","v":0},{"$f":"SUM(AG12:AG16)","v":0},{"$f":"SUM(AH12:AH16)","v":0},null,null,null,{"$f":"SUM(AL12:AL16)","v":0},{"$f":"SUM(AM12:AM16)","v":0},{"$f":"SUM(AN12:AN16)","v":0},{"$f":"SUM(AO12:AO16)","v":0},{"$f":"SUM(AP12:AP16)","v":0},null,null,null,{"$f":"SUM(AT12:AT16)","v":0},{"$f":"SUM(AU12:AU16)","v":0},{"$f":"SUM(AV12:AV16)","v":0},{"$f":"SUM(AW12:AW16)","v":0},{"$f":"SUM(AX12:AX16)","v":0},null,null,null,{"$f":"SUM(BB12:BB16)","v":0},{"$f":"SUM(BC12:BC16)","v":0},{"$f":"SUM(BD12:BD16)","v":0},{"$f":"SUM(BE12:BE16)","v":0},{"$f":"SUM(BF12:BF16)","v":0},null,null,null,{"$f":"SUM(BJ12:BJ16)","v":0},{"$f":"SUM(BK12:BK16)","v":0},{"$f":"SUM(BL12:BL16)","v":0},{"$f":"SUM(BM12:BM16)","v":0},{"$f":"SUM(BN12:BN16)","v":0},null,null,null,{"$f":"SUM(BR12:BR16)","v":0},null,null,null,{"$f":"SUM(BV12:BV16)","v":0},{"$f":"SUM(BW12:BW16)","v":0},{"$f":"SUM(BX12:BX16)","v":0},{"$f":"SUM(BY12:BY16)","v":0},{"$f":"SUM(BZ12:BZ16)","v":0},null,null,null,{"$f":"SUM(CD12:CD16)","v":0},{"$f":"SUM(CE12:CE16)","v":0},{"$f":"SUM(CF12:CF16)","v":0},{"$f":"SUM(CG12:CG16)","v":0},{"$f":"SUM(CH12:CH16)","v":0},null,null,null,{"$f":"SUM(CL12:CL16)","v":0},{"$f":"SUM(CM12:CM16)","v":0},{"$f":"SUM(CN12:CN16)","v":0},{"$f":"SUM(CO12:CO16)","v":0},{"$f":"SUM(CP12:CP16)","v":0},null,null,null,{"$f":"SUM(CT12:CT16)","v":0},{"$f":"SUM(CU12:CU16)","v":0},{"$f":"SUM(CV12:CV16)","v":0},{"$f":"SUM(CW12:CW16)","v":0},{"$f":"SUM(CX12:CX16)","v":0},null,null,null,{"$f":"SUM(DB12:DB16)","v":0},{"$f":"SUM(DC12:DC16)","v":0},{"$f":"SUM(DD12:DD16)","v":0},{"$f":"SUM(DE12:DE16)","v":0},{"$f":"SUM(DF12:DF16)","v":0}]
[null,"$1 Buyout Lease - 90 days no pmt"]
[null,"Fair Market Value Sweeper Lease - 90 days no pmt"]
[null,"Fair Market Value Scrubber Lease - 90 days no pmt"]
[null,"FMV Sweeper - Promo"]
[null,null,null,{"$f":"C9","v":"Wells Fargo Vendor Solutions"},null,"2013-10-01"]
[null,null,null,{"$f":"B8","v":"$1 Buyout Lease"},null,null,null,null,null,null,null,{"$f":"B9","v":"Fair Market Value Sweeper Lease"},null,null,null,null,null,null,null,{"$f":"B10","v":"Fair Market Value Scrubber Lease"},null,null,null,null,null,null,null,{"$f":"B11","v":"10% Option"},null,null,null,null,null,null,null,{"$f":"B12","v":"Municipal $1 Buyout Lease - Monthly Pmt"},null,null,null,null,null,null,null,{"$f":"B13","v":"Muni $1 Out Quarterly"},null,null,null,null,null,null,null,{"$f":"B14","v":"Muni $1 Out Semi-Annually"},null,null,null,null,null,null,null,{"$f":"B15","v":"Municipal $1 Buyout Lease - Annual Pmt"},null,null,null,null,null,null,null,{"$f":"B16","v":"Rent To Own"},null,null,null,{"$f":"B17","v":"10% PUT"},null,null,null,null,null,null,null,{"$f":"B18","v":"$1 Buyout Lease - 90 days no pmt"},null,null,null,null,null,null,null,{"$f":"B19","v":"Fair Market Value Sweeper Lease - 90 days no pmt"},null,null,null,null,null,null,null,{"$f":"B20","v":"Fair Market Value Scrubber Lease - 90 days no pmt"},null,null,null,null,null,null,null,{"$f":"B21","v":"FMV Sweeper - Promo"}]
["For Drop Down","PurchaseOptNL","PurchaseOptTFS",null,null,5000,10000,25000,50000,100000,null,null,null,5000,10000,25000,50000,100000,null,null,null,5000,10000,25000,50000,100000,null,null,null,5000,10000,25000,50000,100000,null,null,null,5000,10000,25000,50000,100000,null,null,null,5000,10000,25000,50000,100000,null,null,null,5000,10000,25000,50000,100000,null,null,null,5000,10000,25000,50000,100000,null,null,null,1,null,null,null,5000,10000,25000,50000,100000,null,null,null,5000,10000,25000,50000,100000,null,null,null,5000,10000,25000,50000,100000,null,null,null,5000,10000,25000,50000,100000,null,null,null,5000,10000,25000,50000,100000]
["Term","Purchase Opt - NL","Purchase Opt - TFS",null,null,"to","to","to","to","to",null,null,null,"to","to","to","to","to",null,null,null,"to","to","to","to","to",null,null,null,"to","to","to","to","to",null,null,null,"to","to","to","to","to",null,null,null,"to","to","to","to","to",null,null,null,"to","to","to","to","to",null,null,null,"to","to","to","to","to",null,null,null,"to",null,null,null,"to","to","to","to","to",null,null,null,"to","to","to","to","to",null,null,null,"to","to","to","to","to",null,null,null,"to","to","to","to","to",null,null,null,"to","to","to","to","to"]
["None","None","None","Term","Adv",9999,24999,49999,99999,null,null,"Term","Adv",9999,24999,49999,99999,null,null,"Term","Adv",9999,24999,49999,99999,null,null,"Term","Adv",9999,24999,49999,99999,null,null,"Term","Adv",9999,24999,49999,99999,null,null,"Term","Adv",9999,24999,49999,99999,null,null,"Term","Adv",9999,24999,49999,99999,null,null,"Term","Adv",9999,24999,49999,99999,null,null,"Term","Adv",null,null,"Term","Adv",9999,24999,49999,99999,null,null,"Term","Adv",9999,24999,49999,99999,null,null,"Term","Adv",9999,24999,49999,99999,null,null,"Term","Adv",9999,24999,49999,99999,null,null,"Term","Adv",9999,24999,49999,99999]
["24 Months","$1 Buyout Lease","$1 Buyout Lease",12,0,null,null,null,null,null,null,12,0,null,null,null,null,null,null,12,0,null,null,null,null,null,null,12,0,null,null,null,null,null,null,12,0,null,null,null,null,null,null,12,0,null,null,null,null,null,null,12,0,null,null,null,null,null,null,12,0,null,null,null,null,null,null,9,0,null,null,12,0,null,null,null,null,null,null,12,0,null,null,null,null,null,null,12,0,null,null,null,null,null,null,12,0,null,null,null,null,null,null,12,0]
["36 Months","Fair Market Value Sweeper Lease","$1 Buyout Lease - 90 days no pmt",24,0,4.9391302575159689E-2,4.9391302575159689E-2,4.8668031941964687E-2,4.8452261703151478E-2,4.8452261703151478E-2,null,24,0,3.7140724425741914E-2,3.7140724425741914E-2,3.6058428296601018E-2,3.5596230207767011E-2,3.5596230207767011E-2,null,24,0,4.1390092998970326E-2,4.1390092998970326E-2,4.0382603738295726E-2,3.9952769079215439E-2,3.9952769079215439E-2,null,24,0,4.5787823040414101E-2,4.5787823040414101E-2,4.5010461292826452E-2,4.4778344998994933E-2,4.4778344998994933E-2,null,24,0,null,null,null,null,null,null,24,0,null,null,null,null,null,null,24,0,null,null,null,null,null,null,24,0,null,null,null,null,null,null,12,0,null,null,24,0,null,null,null,null,null,null,24,0,null,null,null,null,null,null,24,0,null,null,null,null,null,null,24,0,null,null,null,null,null,null,24,0]
["48 Months","Fair Market Value Scrubber Lease","Fair Market Value Sweeper Lease",36,0,3.516442345894117E-2,3.516442345894117E-2,3.4152336714166863E-2,3.4005676693967903E-2,3.4005676693967903E-2,null,36,0,2.9375548172221246E-2,2.9375548172221246E-2,2.7949491775059215E-2,2.7197363009538782E-2,2.7197363009538782E-2,null,36,0,3.262570318070275E-2,3.262570318070275E-2,3.1320374305267046E-2,3.0633816927312724E-2,3.0633816927312724E-2,null,36,0,3.2934478132777861E-2,3.2934478132777861E-2,3.1850782245334372E-2,3.1693500658488249E-2,3.1693500658488249E-2,null,36,0,null,null,null,null,null,null,36,0,null,null,null,null,null,null,36,0,null,null,null,null,null,null,36,0,null,null,null,null,null,null,18,0,null,null,36,0,null,null,null,null,null,null,36,0,null,null,null,null,null,null,36,0,null,null,null,null,null,null,36,0,null,null,null,null,null,null,36,0]
["60 Months","10% Option","Fair Market Value Sweeper Lease - 90 days no pmt",48,0,2.7932317998093606E-2,2.7932317998093606E-2,2.6544020372267736E-2,2.6296031690327928E-2,2.6296031690327928E-2,null,48,0,2.5045539431140938E-2,2.5045539431140938E-2,2.3740526638023077E-2,2.2978788905342103E-2,2.2978788905342103E-2,null,48,0,2.7469040504582522E-2,2.7469040504582522E-2,2.6279922523132791E-2,2.558859756323521E-2,2.558859756323521E-2,null,48,0,2.6370176203977878E-2,2.6370176203977878E-2,2.4888819521860426E-2,2.4623476789130405E-2,2.4623476789130405E-2,null,48,0,null,null,null,null,null,null,48,0,null,null,null,null,null,null,48,0,null,null,null,null,null,null,48,0,null,null,null,null,null,null,null,null,null,null,48,0,null,null,null,null,null,null,48,0,null,null,null,null,null,null,48,0,null,null,null,null,null,null,48,0,null,null,null,null,null,null,48,0]
[null,null,"Fair Market Value Scrubber Lease",60,0,2.364530817395654E-2,2.364530817395654E-2,2.2092329854151389E-2,2.2092329854151389E-2,2.2092329854151389E-2,null,60,0,2.2430519106157294E-2,2.2430519106157294E-2,2.067684706766915E-2,2.0103296612794464E-2,2.0103296612794464E-2,null,60,0,2.3996788013787285E-2,2.3996788013787285E-2,2.2375837302217781E-2,2.1848361771530649E-2,2.1848361771530649E-2,null,60,0,2.2479876554978188E-2,2.2479876554978188E-2,2.0829151011624521E-2,2.0829151011624521E-2,2.0829151011624521E-2,null,60,0,null,null,null,null,null,null,60,0,null,null,null,null,null,null,60,0,null,null,null,null,null,null,60,0,null,null,null,null,null,null,null,null,null,null,60,0,null,null,null,null,null,null,60,0,null,null,null,null,null,null,60,0,null,null,null,null,null,null,60,0,null,null,null,null,null,null,60,0]
[null,null,"Fair Market Value Scrubber Lease - 90 days no pmt"]
[null,null,"Municipal $1 Buyout Lease - Monthly Pmt",12,0,{"$f":"IF(AND(F$24<=$B$2,$B$2<G$24,$B$3=$A$8,$B$4=D23),F27*$B$2,0)","v":0},{"$f":"IF(AND(G$24<=$B$2,$B$2<H$24,$B$3=$A$8,$B$4=D23),G27*$B$2,0)","v":0},{"$f":"IF(AND(H$24<=$B$2,$B$2<I$24,$B$3=$A$8,$B$4=D23),H27*$B$2,0)","v":0},{"$f":"IF(AND(I$24<=$B$2,$B$2<J$24,$B$3=$A$8,$B$4=D23),I27*$B$2,0)","v":0},{"$f":"IF(AND(J$24<=$B$2,$B$3=$A$8,$B$4=D23),J27*$B$2,0)","v":0},null,12,0,{"$f":"IF(AND(N$24<=$B$2,$B$2<O$24,$B$3=$A$8,$B$4=L23),N27*$B$2,0)","v":0},{"$f":"IF(AND(O$24<=$B$2,$B$2<P$24,$B$3=$A$8,$B$4=L23),O27*$B$2,0)","v":0},{"$f":"IF(AND(P$24<=$B$2,$B$2<Q$24,$B$3=$A$8,$B$4=L23),P27*$B$2,0)","v":0},{"$f":"IF(AND(Q$24<=$B$2,$B$2<R$24,$B$3=$A$8,$B$4=L23),Q27*$B$2,0)","v":0},{"$f":"IF(AND(R$24<=$B$2,$B$3=$A$8,$B$4=L23),R27*$B$2,0)","v":0},null,12,0,{"$f":"IF(AND(V$24<=$B$2,$B$2<W$24,$B$3=$A$8,$B$4=T23),V27*$B$2,0)","v":0},{"$f":"IF(AND(W$24<=$B$2,$B$2<X$24,$B$3=$A$8,$B$4=T23),W27*$B$2,0)","v":0},{"$f":"IF(AND(X$24<=$B$2,$B$2<Y$24,$B$3=$A$8,$B$4=T23),X27*$B$2,0)","v":0},{"$f":"IF(AND(Y$24<=$B$2,$B$2<Z$24,$B$3=$A$8,$B$4=T23),Y27*$B$2,0)","v":0},{"$f":"IF(AND(Z$24<=$B$2,$B$3=$A$8,$B$4=T23),Z27*$B$2,0)","v":0},null,12,0,{"$f":"IF(AND(AD$24<=$B$2,$B$2<AE$24,$B$3=$A$8,$B$4=AB23),AD27*$B$2,0)","v":0},{"$f":"IF(AND(AE$24<=$B$2,$B$2<AF$24,$B$3=$A$8,$B$4=AB23),AE27*$B$2,0)","v":0},{"$f":"IF(AND(AF$24<=$B$2,$B$2<AG$24,$B$3=$A$8,$B$4=AB23),AF27*$B$2,0)","v":0},{"$f":"IF(AND(AG$24<=$B$2,$B$2<AH$24,$B$3=$A$8,$B$4=AB23),AG27*$B$2,0)","v":0},{"$f":"IF(AND(AH$24<=$B$2,$B$3=$A$8,$B$4=AB23),AH27*$B$2,0)","v":0},null,12,0,{"$f":"IF(AND(AL$24<=$B$2,$B$2<AM$24,$B$3=$A$8,$B$4=AJ23),AL27*$B$2,0)","v":0},{"$f":"IF(AND(AM$24<=$B$2,$B$2<AN$24,$B$3=$A$8,$B$4=AJ23),AM27*$B$2,0)","v":0},{"$f":"IF(AND(AN$24<=$B$2,$B$2<AO$24,$B$3=$A$8,$B$4=AJ23),AN27*$B$2,0)","v":0},{"$f":"IF(AND(AO$24<=$B$2,$B$2<AP$24,$B$3=$A$8,$B$4=AJ23),AO27*$B$2,0)","v":0},{"$f":"IF(AND(AP$24<=$B$2,$B$3=$A$8,$B$4=AJ23),AP27*$B$2,0)","v":0},null,12,0,{"$f":"IF(AND(AT$24<=$B$2,$B$2<AU$24,$B$3=$A$8,$B$4=AR23),AT27*$B$2,0)","v":0},{"$f":"IF(AND(AU$24<=$B$2,$B$2<AV$24,$B$3=$A$8,$B$4=AR23),AU27*$B$2,0)","v":0},{"$f":"IF(AND(AV$24<=$B$2,$B$2<AW$24,$B$3=$A$8,$B$4=AR23),AV27*$B$2,0)","v":0},{"$f":"IF(AND(AW$24<=$B$2,$B$2<AX$24,$B$3=$A$8,$B$4=AR23),AW27*$B$2,0)","v":0},{"$f":"IF(AND(AX$24<=$B$2,$B$3=$A$8,$B$4=AR23),AX27*$B$2,0)","v":0},null,12,0,{"$f":"IF(AND(BB$24<=$B$2,$B$2<BC$24,$B$3=$A$8,$B$4=AZ23),BB27*$B$2,0)","v":0},{"$f":"IF(AND(BC$24<=$B$2,$B$2<BD$24,$B$3=$A$8,$B$4=AZ23),BC27*$B$2,0)","v":0},{"$f":"IF(AND(BD$24<=$B$2,$B$2<BE$24,$B$3=$A$8,$B$4=AZ23),BD27*$B$2,0)","v":0},{"$f":"IF(AND(BE$24<=$B$2,$B$2<BF$24,$B$3=$A$8,$B$4=AZ23),BE27*$B$2,0)","v":0},{"$f":"IF(AND(BF$24<=$B$2,$B$3=$A$8,$B$4=AZ23),BF27*$B$2,0)","v":0},null,12,0,{"$f":"IF(AND(BJ$24<=$B$2,$B$2<BK$24,$B$3=$A$8,$B$4=BH23),BJ27*$B$2,0)","v":0},{"$f":"IF(AND(BK$24<=$B$2,$B$2<BL$24,$B$3=$A$8,$B$4=BH23),BK27*$B$2,0)","v":0},{"$f":"IF(AND(BL$24<=$B$2,$B$2<BM$24,$B$3=$A$8,$B$4=BH23),BL27*$B$2,0)","v":0},{"$f":"IF(AND(BM$24<=$B$2,$B$2<BN$24,$B$3=$A$8,$B$4=BH23),BM27*$B$2,0)","v":0},{"$f":"IF(AND(BN$24<=$B$2,$B$3=$A$8,$B$4=BH23),BN27*$B$2,0)","v":0},null,9,0,{"$f":"IF(AND(BR$3<=$B$2,$B$3=$A$13,$B$4=BP23),BR27*$B$2,0)","v":0},null,12,0,{"$f":"IF(AND(BV$24<=$B$2,$B$2<BW$24,$B$3=$A$8,$B$4=BT23),BV27*$B$2,0)","v":0},{"$f":"IF(AND(BW$24<=$B$2,$B$2<BX$24,$B$3=$A$8,$B$4=BT23),BW27*$B$2,0)","v":0},{"$f":"IF(AND(BX$24<=$B$2,$B$2<BY$24,$B$3=$A$8,$B$4=BT23),BX27*$B$2,0)","v":0},{"$f":"IF(AND(BY$24<=$B$2,$B$2<BZ$24,$B$3=$A$8,$B$4=BT23),BY27*$B$2,0)","v":0},{"$f":"IF(AND(BZ$24<=$B$2,$B$3=$A$8,$B$4=BT23),BZ27*$B$2,0)","v":0},null,12,0,{"$f":"IF(AND(CD$24<=$B$2,$B$2<CE$24,$B$3=$A$8,$B$4=CB23),CD27*$B$2,0)","v":0},{"$f":"IF(AND(CE$24<=$B$2,$B$2<CF$24,$B$3=$A$8,$B$4=CB23),CE27*$B$2,0)","v":0},{"$f":"IF(AND(CF$24<=$B$2,$B$2<CG$24,$B$3=$A$8,$B$4=CB23),CF27*$B$2,0)","v":0},{"$f":"IF(AND(CG$24<=$B$2,$B$2<CH$24,$B$3=$A$8,$B$4=CB23),CG27*$B$2,0)","v":0},{"$f":"IF(AND(CH$24<=$B$2,$B$3=$A$8,$B$4=CB23),CH27*$B$2,0)","v":0},null,12,0,{"$f":"IF(AND(CL$24<=$B$2,$B$2<CM$24,$B$3=$A$8,$B$4=CJ23),CL27*$B$2,0)","v":0},{"$f":"IF(AND(CM$24<=$B$2,$B$2<CN$24,$B$3=$A$8,$B$4=CJ23),CM27*$B$2,0)","v":0},{"$f":"IF(AND(CN$24<=$B$2,$B$2<CO$24,$B$3=$A$8,$B$4=CJ23),CN27*$B$2,0)","v":0},{"$f":"IF(AND(CO$24<=$B$2,$B$2<CP$24,$B$3=$A$8,$B$4=CJ23),CO27*$B$2,0)","v":0},{"$f":"IF(AND(CP$24<=$B$2,$B$3=$A$8,$B$4=CJ23),CP27*$B$2,0)","v":0},null,12,0,{"$f":"IF(AND(CT$24<=$B$2,$B$2<CU$24,$B$3=$A$8,$B$4=CR23),CT27*$B$2,0)","v":0},{"$f":"IF(AND(CU$24<=$B$2,$B$2<CV$24,$B$3=$A$8,$B$4=CR23),CU27*$B$2,0)","v":0},{"$f":"IF(AND(CV$24<=$B$2,$B$2<CW$24,$B$3=$A$8,$B$4=CR23),CV27*$B$2,0)","v":0},{"$f":"IF(AND(CW$24<=$B$2,$B$2<CX$24,$B$3=$A$8,$B$4=CR23),CW27*$B$2,0)","v":0},{"$f":"IF(AND(CX$24<=$B$2,$B$3=$A$8,$B$4=CR23),CX27*$B$2,0)","v":0},null,12,0,{"$f":"IF(AND(DB$24<=$B$2,$B$2<DC$24,$B$3=$A$8,$B$4=CZ23),DB27*$B$2,0)","v":0},{"$f":"IF(AND(DC$24<=$B$2,$B$2<DD$24,$B$3=$A$8,$B$4=CZ23),DC27*$B$2,0)","v":0},{"$f":"IF(AND(DD$24<=$B$2,$B$2<DE$24,$B$3=$A$8,$B$4=CZ23),DD27*$B$2,0)","v":0},{"$f":"IF(AND(DE$24<=$B$2,$B$2<DF$24,$B$3=$A$8,$B$4=CZ23),DE27*$B$2,0)","v":0},{"$f":"IF(AND(DF$24<=$B$2,$B$3=$A$8,$B$4=CZ23),DF27*$B$2,0)","v":0}]
[null,null,"Municipal $1 Buyout Lease - Annual Pmt",24,0,{"$f":"IF(AND(F$24<=$B$2,$B$2<G$24,$B$3=$A$9,$B$4=D23),F28*$B$2,0)","v":0},{"$f":"IF(AND(G$24<=$B$2,$B$2<H$24,$B$3=$A$9,$B$4=D23),G28*$B$2,0)","v":0},{"$f":"IF(AND(H$24<=$B$2,$B$2<I$24,$B$3=$A$9,$B$4=D23),H28*$B$2,0)","v":0},{"$f":"IF(AND(I$24<=$B$2,$B$2<J$24,$B$3=$A$9,$B$4=D23),I28*$B$2,0)","v":0},{"$f":"IF(AND(J$24<=$B$2,$B$3=$A$9,$B$4=D23),J28*$B$2,0)","v":0},null,24,0,{"$f":"IF(AND(N$24<=$B$2,$B$2<O$24,$B$3=$A$9,$B$4=L23),N28*$B$2,0)","v":0},{"$f":"IF(AND(O$24<=$B$2,$B$2<P$24,$B$3=$A$9,$B$4=L23),O28*$B$2,0)","v":0},{"$f":"IF(AND(P$24<=$B$2,$B$2<Q$24,$B$3=$A$9,$B$4=L23),P28*$B$2,0)","v":0},{"$f":"IF(AND(Q$24<=$B$2,$B$2<R$24,$B$3=$A$9,$B$4=L23),Q28*$B$2,0)","v":0},{"$f":"IF(AND(R$24<=$B$2,$B$3=$A$9,$B$4=L23),R28*$B$2,0)","v":0},null,24,0,{"$f":"IF(AND(V$24<=$B$2,$B$2<W$24,$B$3=$A$9,$B$4=T23),V28*$B$2,0)","v":0},{"$f":"IF(AND(W$24<=$B$2,$B$2<X$24,$B$3=$A$9,$B$4=T23),W28*$B$2,0)","v":0},{"$f":"IF(AND(X$24<=$B$2,$B$2<Y$24,$B$3=$A$9,$B$4=T23),X28*$B$2,0)","v":0},{"$f":"IF(AND(Y$24<=$B$2,$B$2<Z$24,$B$3=$A$9,$B$4=T23),Y28*$B$2,0)","v":0},{"$f":"IF(AND(Z$24<=$B$2,$B$3=$A$9,$B$4=T23),Z28*$B$2,0)","v":0},null,24,0,{"$f":"IF(AND(AD$24<=$B$2,$B$2<AE$24,$B$3=$A$9,$B$4=AB23),AD28*$B$2,0)","v":0},{"$f":"IF(AND(AE$24<=$B$2,$B$2<AF$24,$B$3=$A$9,$B$4=AB23),AE28*$B$2,0)","v":0},{"$f":"IF(AND(AF$24<=$B$2,$B$2<AG$24,$B$3=$A$9,$B$4=AB23),AF28*$B$2,0)","v":0},{"$f":"IF(AND(AG$24<=$B$2,$B$2<AH$24,$B$3=$A$9,$B$4=AB23),AG28*$B$2,0)","v":0},{"$f":"IF(AND(AH$24<=$B$2,$B$3=$A$9,$B$4=AB23),AH28*$B$2,0)","v":0},null,24,0,{"$f":"IF(AND(AL$24<=$B$2,$B$2<AM$24,$B$3=$A$9,$B$4=AJ23),AL28*$B$2,0)","v":0},{"$f":"IF(AND(AM$24<=$B$2,$B$2<AN$24,$B$3=$A$9,$B$4=AJ23),AM28*$B$2,0)","v":0},{"$f":"IF(AND(AN$24<=$B$2,$B$2<AO$24,$B$3=$A$9,$B$4=AJ23),AN28*$B$2,0)","v":0},{"$f":"IF(AND(AO$24<=$B$2,$B$2<AP$24,$B$3=$A$9,$B$4=AJ23),AO28*$B$2,0)","v":0},{"$f":"IF(AND(AP$24<=$B$2,$B$3=$A$9,$B$4=AJ23),AP28*$B$2,0)","v":0},null,24,0,{"$f":"IF(AND(AT$24<=$B$2,$B$2<AU$24,$B$3=$A$9,$B$4=AR23),AT28*$B$2,0)","v":0},{"$f":"IF(AND(AU$24<=$B$2,$B$2<AV$24,$B$3=$A$9,$B$4=AR23),AU28*$B$2,0)","v":0},{"$f":"IF(AND(AV$24<=$B$2,$B$2<AW$24,$B$3=$A$9,$B$4=AR23),AV28*$B$2,0)","v":0},{"$f":"IF(AND(AW$24<=$B$2,$B$2<AX$24,$B$3=$A$9,$B$4=AR23),AW28*$B$2,0)","v":0},{"$f":"IF(AND(AX$24<=$B$2,$B$3=$A$9,$B$4=AR23),AX28*$B$2,0)","v":0},null,24,0,{"$f":"IF(AND(BB$24<=$B$2,$B$2<BC$24,$B$3=$A$9,$B$4=AZ23),BB28*$B$2,0)","v":0},{"$f":"IF(AND(BC$24<=$B$2,$B$2<BD$24,$B$3=$A$9,$B$4=AZ23),BC28*$B$2,0)","v":0},{"$f":"IF(AND(BD$24<=$B$2,$B$2<BE$24,$B$3=$A$9,$B$4=AZ23),BD28*$B$2,0)","v":0},{"$f":"IF(AND(BE$24<=$B$2,$B$2<BF$24,$B$3=$A$9,$B$4=AZ23),BE28*$B$2,0)","v":0},{"$f":"IF(AND(BF$24<=$B$2,$B$3=$A$9,$B$4=AZ23),BF28*$B$2,0)","v":0},null,24,0,{"$f":"IF(AND(BJ$24<=$B$2,$B$2<BK$24,$B$3=$A$9,$B$4=BH23),BJ28*$B$2,0)","v":0},{"$f":"IF(AND(BK$24<=$B$2,$B$2<BL$24,$B$3=$A$9,$B$4=BH23),BK28*$B$2,0)","v":0},{"$f":"IF(AND(BL$24<=$B$2,$B$2<BM$24,$B$3=$A$9,$B$4=BH23),BL28*$B$2,0)","v":0},{"$f":"IF(AND(BM$24<=$B$2,$B$2<BN$24,$B$3=$A$9,$B$4=BH23),BM28*$B$2,0)","v":0},{"$f":"IF(AND(BN$24<=$B$2,$B$3=$A$9,$B$4=BH23),BN28*$B$2,0)","v":0},null,12,0,{"$f":"IF(AND(BR$3<=$B$2,$B$3=$A$8,$B$4=BP23),BR28*$B$2,0)","v":0},null,24,0,{"$f":"IF(AND(BV$24<=$B$2,$B$2<BW$24,$B$3=$A$9,$B$4=BT23),BV28*$B$2,0)","v":0},{"$f":"IF(AND(BW$24<=$B$2,$B$2<BX$24,$B$3=$A$9,$B$4=BT23),BW28*$B$2,0)","v":0},{"$f":"IF(AND(BX$24<=$B$2,$B$2<BY$24,$B$3=$A$9,$B$4=BT23),BX28*$B$2,0)","v":0},{"$f":"IF(AND(BY$24<=$B$2,$B$2<BZ$24,$B$3=$A$9,$B$4=BT23),BY28*$B$2,0)","v":0},{"$f":"IF(AND(BZ$24<=$B$2,$B$3=$A$9,$B$4=BT23),BZ28*$B$2,0)","v":0},null,24,0,{"$f":"IF(AND(CD$24<=$B$2,$B$2<CE$24,$B$3=$A$9,$B$4=CB23),CD28*$B$2,0)","v":0},{"$f":"IF(AND(CE$24<=$B$2,$B$2<CF$24,$B$3=$A$9,$B$4=CB23),CE28*$B$2,0)","v":0},{"$f":"IF(AND(CF$24<=$B$2,$B$2<CG$24,$B$3=$A$9,$B$4=CB23),CF28*$B$2,0)","v":0},{"$f":"IF(AND(CG$24<=$B$2,$B$2<CH$24,$B$3=$A$9,$B$4=CB23),CG28*$B$2,0)","v":0},{"$f":"IF(AND(CH$24<=$B$2,$B$3=$A$9,$B$4=CB23),CH28*$B$2,0)","v":0},null,24,0,{"$f":"IF(AND(CL$24<=$B$2,$B$2<CM$24,$B$3=$A$9,$B$4=CJ23),CL28*$B$2,0)","v":0},{"$f":"IF(AND(CM$24<=$B$2,$B$2<CN$24,$B$3=$A$9,$B$4=CJ23),CM28*$B$2,0)","v":0},{"$f":"IF(AND(CN$24<=$B$2,$B$2<CO$24,$B$3=$A$9,$B$4=CJ23),CN28*$B$2,0)","v":0},{"$f":"IF(AND(CO$24<=$B$2,$B$2<CP$24,$B$3=$A$9,$B$4=CJ23),CO28*$B$2,0)","v":0},{"$f":"IF(AND(CP$24<=$B$2,$B$3=$A$9,$B$4=CJ23),CP28*$B$2,0)","v":0},null,24,0,{"$f":"IF(AND(CT$24<=$B$2,$B$2<CU$24,$B$3=$A$9,$B$4=CR23),CT28*$B$2,0)","v":0},{"$f":"IF(AND(CU$24<=$B$2,$B$2<CV$24,$B$3=$A$9,$B$4=CR23),CU28*$B$2,0)","v":0},{"$f":"IF(AND(CV$24<=$B$2,$B$2<CW$24,$B$3=$A$9,$B$4=CR23),CV28*$B$2,0)","v":0},{"$f":"IF(AND(CW$24<=$B$2,$B$2<CX$24,$B$3=$A$9,$B$4=CR23),CW28*$B$2,0)","v":0},{"$f":"IF(AND(CX$24<=$B$2,$B$3=$A$9,$B$4=CR23),CX28*$B$2,0)","v":0},null,24,0,{"$f":"IF(AND(DB$24<=$B$2,$B$2<DC$24,$B$3=$A$9,$B$4=CZ23),DB28*$B$2,0)","v":0},{"$f":"IF(AND(DC$24<=$B$2,$B$2<DD$24,$B$3=$A$9,$B$4=CZ23),DC28*$B$2,0)","v":0},{"$f":"IF(AND(DD$24<=$B$2,$B$2<DE$24,$B$3=$A$9,$B$4=CZ23),DD28*$B$2,0)","v":0},{"$f":"IF(AND(DE$24<=$B$2,$B$2<DF$24,$B$3=$A$9,$B$4=CZ23),DE28*$B$2,0)","v":0},{"$f":"IF(AND(DF$24<=$B$2,$B$3=$A$9,$B$4=CZ23),DF28*$B$2,0)","v":0}]
[null,null,"10% Option",36,0,{"$f":"IF(AND(F$24<=$B$2,$B$2<G$24,$B$3=$A$10,$B$4=D23),F29*$B$2,0)","v":0},{"$f":"IF(AND(G$24<=$B$2,$B$2<H$24,$B$3=$A$10,$B$4=D23),G29*$B$2,0)","v":0},{"$f":"IF(AND(H$24<=$B$2,$B$2<I$24,$B$3=$A$10,$B$4=D23),H29*$B$2,0)","v":0},{"$f":"IF(AND(I$24<=$B$2,$B$2<J$24,$B$3=$A$10,$B$4=D23),I29*$B$2,0)","v":0},{"$f":"IF(AND(J$24<=$B$2,$B$3=$A$10,$B$4=D23),J29*$B$2,0)","v":0},null,36,0,{"$f":"IF(AND(N$24<=$B$2,$B$2<O$24,$B$3=$A$10,$B$4=L23),N29*$B$2,0)","v":0},{"$f":"IF(AND(O$24<=$B$2,$B$2<P$24,$B$3=$A$10,$B$4=L23),O29*$B$2,0)","v":0},{"$f":"IF(AND(P$24<=$B$2,$B$2<Q$24,$B$3=$A$10,$B$4=L23),P29*$B$2,0)","v":0},{"$f":"IF(AND(Q$24<=$B$2,$B$2<R$24,$B$3=$A$10,$B$4=L23),Q29*$B$2,0)","v":0},{"$f":"IF(AND(R$24<=$B$2,$B$3=$A$10,$B$4=L23),R29*$B$2,0)","v":0},null,36,0,{"$f":"IF(AND(V$24<=$B$2,$B$2<W$24,$B$3=$A$10,$B$4=T23),V29*$B$2,0)","v":0},{"$f":"IF(AND(W$24<=$B$2,$B$2<X$24,$B$3=$A$10,$B$4=T23),W29*$B$2,0)","v":0},{"$f":"IF(AND(X$24<=$B$2,$B$2<Y$24,$B$3=$A$10,$B$4=T23),X29*$B$2,0)","v":0},{"$f":"IF(AND(Y$24<=$B$2,$B$2<Z$24,$B$3=$A$10,$B$4=T23),Y29*$B$2,0)","v":0},{"$f":"IF(AND(Z$24<=$B$2,$B$3=$A$10,$B$4=T23),Z29*$B$2,0)","v":0},null,36,0,{"$f":"IF(AND(AD$24<=$B$2,$B$2<AE$24,$B$3=$A$10,$B$4=AB23),AD29*$B$2,0)","v":0},{"$f":"IF(AND(AE$24<=$B$2,$B$2<AF$24,$B$3=$A$10,$B$4=AB23),AE29*$B$2,0)","v":0},{"$f":"IF(AND(AF$24<=$B$2,$B$2<AG$24,$B$3=$A$10,$B$4=AB23),AF29*$B$2,0)","v":0},{"$f":"IF(AND(AG$24<=$B$2,$B$2<AH$24,$B$3=$A$10,$B$4=AB23),AG29*$B$2,0)","v":0},{"$f":"IF(AND(AH$24<=$B$2,$B$3=$A$10,$B$4=AB23),AH29*$B$2,0)","v":0},null,36,0,{"$f":"IF(AND(AL$24<=$B$2,$B$2<AM$24,$B$3=$A$10,$B$4=AJ23),AL29*$B$2,0)","v":0},{"$f":"IF(AND(AM$24<=$B$2,$B$2<AN$24,$B$3=$A$10,$B$4=AJ23),AM29*$B$2,0)","v":0},{"$f":"IF(AND(AN$24<=$B$2,$B$2<AO$24,$B$3=$A$10,$B$4=AJ23),AN29*$B$2,0)","v":0},{"$f":"IF(AND(AO$24<=$B$2,$B$2<AP$24,$B$3=$A$10,$B$4=AJ23),AO29*$B$2,0)","v":0},{"$f":"IF(AND(AP$24<=$B$2,$B$3=$A$10,$B$4=AJ23),AP29*$B$2,0)","v":0},null,36,0,{"$f":"IF(AND(AT$24<=$B$2,$B$2<AU$24,$B$3=$A$10,$B$4=AR23),AT29*$B$2,0)","v":0},{"$f":"IF(AND(AU$24<=$B$2,$B$2<AV$24,$B$3=$A$10,$B$4=AR23),AU29*$B$2,0)","v":0},{"$f":"IF(AND(AV$24<=$B$2,$B$2<AW$24,$B$3=$A$10,$B$4=AR23),AV29*$B$2,0)","v":0},{"$f":"IF(AND(AW$24<=$B$2,$B$2<AX$24,$B$3=$A$10,$B$4=AR23),AW29*$B$2,0)","v":0},{"$f":"IF(AND(AX$24<=$B$2,$B$3=$A$10,$B$4=AR23),AX29*$B$2,0)","v":0},null,36,0,{"$f":"IF(AND(BB$24<=$B$2,$B$2<BC$24,$B$3=$A$10,$B$4=AZ23),BB29*$B$2,0)","v":0},{"$f":"IF(AND(BC$24<=$B$2,$B$2<BD$24,$B$3=$A$10,$B$4=AZ23),BC29*$B$2,0)","v":0},{"$f":"IF(AND(BD$24<=$B$2,$B$2<BE$24,$B$3=$A$10,$B$4=AZ23),BD29*$B$2,0)","v":0},{"$f":"IF(AND(BE$24<=$B$2,$B$2<BF$24,$B$3=$A$10,$B$4=AZ23),BE29*$B$2,0)","v":0},{"$f":"IF(AND(BF$24<=$B$2,$B$3=$A$10,$B$4=AZ23),BF29*$B$2,0)","v":0},null,36,0,{"$f":"IF(AND(BJ$24<=$B$2,$B$2<BK$24,$B$3=$A$10,$B$4=BH23),BJ29*$B$2,0)","v":0},{"$f":"IF(AND(BK$24<=$B$2,$B$2<BL$24,$B$3=$A$10,$B$4=BH23),BK29*$B$2,0)","v":0},{"$f":"IF(AND(BL$24<=$B$2,$B$2<BM$24,$B$3=$A$10,$B$4=BH23),BL29*$B$2,0)","v":0},{"$f":"IF(AND(BM$24<=$B$2,$B$2<BN$24,$B$3=$A$10,$B$4=BH23),BM29*$B$2,0)","v":0},{"$f":"IF(AND(BN$24<=$B$2,$B$3=$A$10,$B$4=BH23),BN29*$B$2,0)","v":0},null,18,0,{"$f":"IF(AND(BR$3<=$B$2,$B$3=$A$14,$B$4=BP23),BR29*$B$2,0)","v":0},null,36,0,{"$f":"IF(AND(BV$24<=$B$2,$B$2<BW$24,$B$3=$A$10,$B$4=BT23),BV29*$B$2,0)","v":0},{"$f":"IF(AND(BW$24<=$B$2,$B$2<BX$24,$B$3=$A$10,$B$4=BT23),BW29*$B$2,0)","v":0},{"$f":"IF(AND(BX$24<=$B$2,$B$2<BY$24,$B$3=$A$10,$B$4=BT23),BX29*$B$2,0)","v":0},{"$f":"IF(AND(BY$24<=$B$2,$B$2<BZ$24,$B$3=$A$10,$B$4=BT23),BY29*$B$2,0)","v":0},{"$f":"IF(AND(BZ$24<=$B$2,$B$3=$A$10,$B$4=BT23),BZ29*$B$2,0)","v":0},null,36,0,{"$f":"IF(AND(CD$24<=$B$2,$B$2<CE$24,$B$3=$A$10,$B$4=CB23),CD29*$B$2,0)","v":0},{"$f":"IF(AND(CE$24<=$B$2,$B$2<CF$24,$B$3=$A$10,$B$4=CB23),CE29*$B$2,0)","v":0},{"$f":"IF(AND(CF$24<=$B$2,$B$2<CG$24,$B$3=$A$10,$B$4=CB23),CF29*$B$2,0)","v":0},{"$f":"IF(AND(CG$24<=$B$2,$B$2<CH$24,$B$3=$A$10,$B$4=CB23),CG29*$B$2,0)","v":0},{"$f":"IF(AND(CH$24<=$B$2,$B$3=$A$10,$B$4=CB23),CH29*$B$2,0)","v":0},null,36,0,{"$f":"IF(AND(CL$24<=$B$2,$B$2<CM$24,$B$3=$A$10,$B$4=CJ23),CL29*$B$2,0)","v":0},{"$f":"IF(AND(CM$24<=$B$2,$B$2<CN$24,$B$3=$A$10,$B$4=CJ23),CM29*$B$2,0)","v":0},{"$f":"IF(AND(CN$24<=$B$2,$B$2<CO$24,$B$3=$A$10,$B$4=CJ23),CN29*$B$2,0)","v":0},{"$f":"IF(AND(CO$24<=$B$2,$B$2<CP$24,$B$3=$A$10,$B$4=CJ23),CO29*$B$2,0)","v":0},{"$f":"IF(AND(CP$24<=$B$2,$B$3=$A$10,$B$4=CJ23),CP29*$B$2,0)","v":0},null,36,0,{"$f":"IF(AND(CT$24<=$B$2,$B$2<CU$24,$B$3=$A$10,$B$4=CR23),CT29*$B$2,0)","v":0},{"$f":"IF(AND(CU$24<=$B$2,$B$2<CV$24,$B$3=$A$10,$B$4=CR23),CU29*$B$2,0)","v":0},{"$f":"IF(AND(CV$24<=$B$2,$B$2<CW$24,$B$3=$A$10,$B$4=CR23),CV29*$B$2,0)","v":0},{"$f":"IF(AND(CW$24<=$B$2,$B$2<CX$24,$B$3=$A$10,$B$4=CR23),CW29*$B$2,0)","v":0},{"$f":"IF(AND(CX$24<=$B$2,$B$3=$A$10,$B$4=CR23),CX29*$B$2,0)","v":0},null,36,0,{"$f":"IF(AND(DB$24<=$B$2,$B$2<DC$24,$B$3=$A$10,$B$4=CZ23),DB29*$B$2,0)","v":0},{"$f":"IF(AND(DC$24<=$B$2,$B$2<DD$24,$B$3=$A$10,$B$4=CZ23),DC29*$B$2,0)","v":0},{"$f":"IF(AND(DD$24<=$B$2,$B$2<DE$24,$B$3=$A$10,$B$4=CZ23),DD29*$B$2,0)","v":0},{"$f":"IF(AND(DE$24<=$B$2,$B$2<DF$24,$B$3=$A$10,$B$4=CZ23),DE29*$B$2,0)","v":0},{"$f":"IF(AND(DF$24<=$B$2,$B$3=$A$10,$B$4=CZ23),DF29*$B$2,0)","v":0}]
[null,null,null,48,0,{"$f":"IF(AND(F$24<=$B$2,$B$2<G$24,$B$3=$A$11,$B$4=D23),F30*$B$2,0)","v":0},{"$f":"IF(AND(G$24<=$B$2,$B$2<H$24,$B$3=$A$11,$B$4=D23),G30*$B$2,0)","v":0},{"$f":"IF(AND(H$24<=$B$2,$B$2<I$24,$B$3=$A$11,$B$4=D23),H30*$B$2,0)","v":0},{"$f":"IF(AND(I$24<=$B$2,$B$2<J$24,$B$3=$A$11,$B$4=D23),I30*$B$2,0)","v":0},{"$f":"IF(AND(J$24<=$B$2,$B$3=$A$11,$B$4=D23),J30*$B$2,0)","v":0},null,48,0,{"$f":"IF(AND(N$24<=$B$2,$B$2<O$24,$B$3=$A$11,$B$4=L23),N30*$B$2,0)","v":0},{"$f":"IF(AND(O$24<=$B$2,$B$2<P$24,$B$3=$A$11,$B$4=L23),O30*$B$2,0)","v":0},{"$f":"IF(AND(P$24<=$B$2,$B$2<Q$24,$B$3=$A$11,$B$4=L23),P30*$B$2,0)","v":0},{"$f":"IF(AND(Q$24<=$B$2,$B$2<R$24,$B$3=$A$11,$B$4=L23),Q30*$B$2,0)","v":0},{"$f":"IF(AND(R$24<=$B$2,$B$3=$A$11,$B$4=L23),R30*$B$2,0)","v":0},null,48,0,{"$f":"IF(AND(V$24<=$B$2,$B$2<W$24,$B$3=$A$11,$B$4=T23),V30*$B$2,0)","v":0},{"$f":"IF(AND(W$24<=$B$2,$B$2<X$24,$B$3=$A$11,$B$4=T23),W30*$B$2,0)","v":0},{"$f":"IF(AND(X$24<=$B$2,$B$2<Y$24,$B$3=$A$11,$B$4=T23),X30*$B$2,0)","v":0},{"$f":"IF(AND(Y$24<=$B$2,$B$2<Z$24,$B$3=$A$11,$B$4=T23),Y30*$B$2,0)","v":0},{"$f":"IF(AND(Z$24<=$B$2,$B$3=$A$11,$B$4=T23),Z30*$B$2,0)","v":0},null,48,0,{"$f":"IF(AND(AD$24<=$B$2,$B$2<AE$24,$B$3=$A$11,$B$4=AB23),AD30*$B$2,0)","v":0},{"$f":"IF(AND(AE$24<=$B$2,$B$2<AF$24,$B$3=$A$11,$B$4=AB23),AE30*$B$2,0)","v":0},{"$f":"IF(AND(AF$24<=$B$2,$B$2<AG$24,$B$3=$A$11,$B$4=AB23),AF30*$B$2,0)","v":0},{"$f":"IF(AND(AG$24<=$B$2,$B$2<AH$24,$B$3=$A$11,$B$4=AB23),AG30*$B$2,0)","v":0},{"$f":"IF(AND(AH$24<=$B$2,$B$3=$A$11,$B$4=AB23),AH30*$B$2,0)","v":0},null,48,0,{"$f":"IF(AND(AL$24<=$B$2,$B$2<AM$24,$B$3=$A$11,$B$4=AJ23),AL30*$B$2,0)","v":0},{"$f":"IF(AND(AM$24<=$B$2,$B$2<AN$24,$B$3=$A$11,$B$4=AJ23),AM30*$B$2,0)","v":0},{"$f":"IF(AND(AN$24<=$B$2,$B$2<AO$24,$B$3=$A$11,$B$4=AJ23),AN30*$B$2,0)","v":0},{"$f":"IF(AND(AO$24<=$B$2,$B$2<AP$24,$B$3=$A$11,$B$4=AJ23),AO30*$B$2,0)","v":0},{"$f":"IF(AND(AP$24<=$B$2,$B$3=$A$11,$B$4=AJ23),AP30*$B$2,0)","v":0},null,48,0,{"$f":"IF(AND(AT$24<=$B$2,$B$2<AU$24,$B$3=$A$11,$B$4=AR23),AT30*$B$2,0)","v":0},{"$f":"IF(AND(AU$24<=$B$2,$B$2<AV$24,$B$3=$A$11,$B$4=AR23),AU30*$B$2,0)","v":0},{"$f":"IF(AND(AV$24<=$B$2,$B$2<AW$24,$B$3=$A$11,$B$4=AR23),AV30*$B$2,0)","v":0},{"$f":"IF(AND(AW$24<=$B$2,$B$2<AX$24,$B$3=$A$11,$B$4=AR23),AW30*$B$2,0)","v":0},{"$f":"IF(AND(AX$24<=$B$2,$B$3=$A$11,$B$4=AR23),AX30*$B$2,0)","v":0},null,48,0,{"$f":"IF(AND(BB$24<=$B$2,$B$2<BC$24,$B$3=$A$11,$B$4=AZ23),BB30*$B$2,0)","v":0},{"$f":"IF(AND(BC$24<=$B$2,$B$2<BD$24,$B$3=$A$11,$B$4=AZ23),BC30*$B$2,0)","v":0},{"$f":"IF(AND(BD$24<=$B$2,$B$2<BE$24,$B$3=$A$11,$B$4=AZ23),BD30*$B$2,0)","v":0},{"$f":"IF(AND(BE$24<=$B$2,$B$2<BF$24,$B$3=$A$11,$B$4=AZ23),BE30*$B$2,0)","v":0},{"$f":"IF(AND(BF$24<=$B$2,$B$3=$A$11,$B$4=AZ23),BF30*$B$2,0)","v":0},null,48,0,{"$f":"IF(AND(BJ$24<=$B$2,$B$2<BK$24,$B$3=$A$11,$B$4=BH23),BJ30*$B$2,0)","v":0},{"$f":"IF(AND(BK$24<=$B$2,$B$2<BL$24,$B$3=$A$11,$B$4=BH23),BK30*$B$2,0)","v":0},{"$f":"IF(AND(BL$24<=$B$2,$B$2<BM$24,$B$3=$A$11,$B$4=BH23),BL30*$B$2,0)","v":0},{"$f":"IF(AND(BM$24<=$B$2,$B$2<BN$24,$B$3=$A$11,$B$4=BH23),BM30*$B$2,0)","v":0},{"$f":"IF(AND(BN$24<=$B$2,$B$3=$A$11,$B$4=BH23),BN30*$B$2,0)","v":0},null,null,null,null,null,48,0,{"$f":"IF(AND(BV$24<=$B$2,$B$2<BW$24,$B$3=$A$11,$B$4=BT23),BV30*$B$2,0)","v":0},{"$f":"IF(AND(BW$24<=$B$2,$B$2<BX$24,$B$3=$A$11,$B$4=BT23),BW30*$B$2,0)","v":0},{"$f":"IF(AND(BX$24<=$B$2,$B$2<BY$24,$B$3=$A$11,$B$4=BT23),BX30*$B$2,0)","v":0},{"$f":"IF(AND(BY$24<=$B$2,$B$2<BZ$24,$B$3=$A$11,$B$4=BT23),BY30*$B$2,0)","v":0},{"$f":"IF(AND(BZ$24<=$B$2,$B$3=$A$11,$B$4=BT23),BZ30*$B$2,0)","v":0},null,48,0,{"$f":"IF(AND(CD$24<=$B$2,$B$2<CE$24,$B$3=$A$11,$B$4=CB23),CD30*$B$2,0)","v":0},{"$f":"IF(AND(CE$24<=$B$2,$B$2<CF$24,$B$3=$A$11,$B$4=CB23),CE30*$B$2,0)","v":0},{"$f":"IF(AND(CF$24<=$B$2,$B$2<CG$24,$B$3=$A$11,$B$4=CB23),CF30*$B$2,0)","v":0},{"$f":"IF(AND(CG$24<=$B$2,$B$2<CH$24,$B$3=$A$11,$B$4=CB23),CG30*$B$2,0)","v":0},{"$f":"IF(AND(CH$24<=$B$2,$B$3=$A$11,$B$4=CB23),CH30*$B$2,0)","v":0},null,48,0,{"$f":"IF(AND(CL$24<=$B$2,$B$2<CM$24,$B$3=$A$11,$B$4=CJ23),CL30*$B$2,0)","v":0},{"$f":"IF(AND(CM$24<=$B$2,$B$2<CN$24,$B$3=$A$11,$B$4=CJ23),CM30*$B$2,0)","v":0},{"$f":"IF(AND(CN$24<=$B$2,$B$2<CO$24,$B$3=$A$11,$B$4=CJ23),CN30*$B$2,0)","v":0},{"$f":"IF(AND(CO$24<=$B$2,$B$2<CP$24,$B$3=$A$11,$B$4=CJ23),CO30*$B$2,0)","v":0},{"$f":"IF(AND(CP$24<=$B$2,$B$3=$A$11,$B$4=CJ23),CP30*$B$2,0)","v":0},null,48,0,{"$f":"IF(AND(CT$24<=$B$2,$B$2<CU$24,$B$3=$A$11,$B$4=CR23),CT30*$B$2,0)","v":0},{"$f":"IF(AND(CU$24<=$B$2,$B$2<CV$24,$B$3=$A$11,$B$4=CR23),CU30*$B$2,0)","v":0},{"$f":"IF(AND(CV$24<=$B$2,$B$2<CW$24,$B$3=$A$11,$B$4=CR23),CV30*$B$2,0)","v":0},{"$f":"IF(AND(CW$24<=$B$2,$B$2<CX$24,$B$3=$A$11,$B$4=CR23),CW30*$B$2,0)","v":0},{"$f":"IF(AND(CX$24<=$B$2,$B$3=$A$11,$B$4=CR23),CX30*$B$2,0)","v":0},null,48,0,{"$f":"IF(AND(DB$24<=$B$2,$B$2<DC$24,$B$3=$A$11,$B$4=CZ23),DB30*$B$2,0)","v":0},{"$f":"IF(AND(DC$24<=$B$2,$B$2<DD$24,$B$3=$A$11,$B$4=CZ23),DC30*$B$2,0)","v":0},{"$f":"IF(AND(DD$24<=$B$2,$B$2<DE$24,$B$3=$A$11,$B$4=CZ23),DD30*$B$2,0)","v":0},{"$f":"IF(AND(DE$24<=$B$2,$B$2<DF$24,$B$3=$A$11,$B$4=CZ23),DE30*$B$2,0)","v":0},{"$f":"IF(AND(DF$24<=$B$2,$B$3=$A$11,$B$4=CZ23),DF30*$B$2,0)","v":0}]
["Change this Quarter when have new rates.",null,null,60,0,{"$f":"IF(AND(F$24<=$B$2,$B$2<G$24,$B$3=$A$12,$B$4=D23),F31*$B$2,0)","v":0},{"$f":"IF(AND(G$24<=$B$2,$B$2<H$24,$B$3=$A$12,$B$4=D23),G31*$B$2,0)","v":0},{"$f":"IF(AND(H$24<=$B$2,$B$2<I$24,$B$3=$A$12,$B$4=D23),H31*$B$2,0)","v":0},{"$f":"IF(AND(I$24<=$B$2,$B$2<J$24,$B$3=$A$12,$B$4=D23),I31*$B$2,0)","v":0},{"$f":"IF(AND(J$24<=$B$2,$B$3=$A$12,$B$4=D23),J31*$B$2,0)","v":0},null,60,0,{"$f":"IF(AND(N$24<=$B$2,$B$2<O$24,$B$3=$A$12,$B$4=L23),N31*$B$2,0)","v":0},{"$f":"IF(AND(O$24<=$B$2,$B$2<P$24,$B$3=$A$12,$B$4=L23),O31*$B$2,0)","v":0},{"$f":"IF(AND(P$24<=$B$2,$B$2<Q$24,$B$3=$A$12,$B$4=L23),P31*$B$2,0)","v":0},{"$f":"IF(AND(Q$24<=$B$2,$B$2<R$24,$B$3=$A$12,$B$4=L23),Q31*$B$2,0)","v":0},{"$f":"IF(AND(R$24<=$B$2,$B$3=$A$12,$B$4=L23),R31*$B$2,0)","v":0},null,60,0,{"$f":"IF(AND(V$24<=$B$2,$B$2<W$24,$B$3=$A$12,$B$4=T23),V31*$B$2,0)","v":0},{"$f":"IF(AND(W$24<=$B$2,$B$2<X$24,$B$3=$A$12,$B$4=T23),W31*$B$2,0)","v":0},{"$f":"IF(AND(X$24<=$B$2,$B$2<Y$24,$B$3=$A$12,$B$4=T23),X31*$B$2,0)","v":0},{"$f":"IF(AND(Y$24<=$B$2,$B$2<Z$24,$B$3=$A$12,$B$4=T23),Y31*$B$2,0)","v":0},{"$f":"IF(AND(Z$24<=$B$2,$B$3=$A$12,$B$4=T23),Z31*$B$2,0)","v":0},null,60,0,{"$f":"IF(AND(AD$24<=$B$2,$B$2<AE$24,$B$3=$A$12,$B$4=AB23),AD31*$B$2,0)","v":0},{"$f":"IF(AND(AE$24<=$B$2,$B$2<AF$24,$B$3=$A$12,$B$4=AB23),AE31*$B$2,0)","v":0},{"$f":"IF(AND(AF$24<=$B$2,$B$2<AG$24,$B$3=$A$12,$B$4=AB23),AF31*$B$2,0)","v":0},{"$f":"IF(AND(AG$24<=$B$2,$B$2<AH$24,$B$3=$A$12,$B$4=AB23),AG31*$B$2,0)","v":0},{"$f":"IF(AND(AH$24<=$B$2,$B$3=$A$12,$B$4=AB23),AH31*$B$2,0)","v":0},null,60,0,{"$f":"IF(AND(AL$24<=$B$2,$B$2<AM$24,$B$3=$A$12,$B$4=AJ23),AL31*$B$2,0)","v":0},{"$f":"IF(AND(AM$24<=$B$2,$B$2<AN$24,$B$3=$A$12,$B$4=AJ23),AM31*$B$2,0)","v":0},{"$f":"IF(AND(AN$24<=$B$2,$B$2<AO$24,$B$3=$A$12,$B$4=AJ23),AN31*$B$2,0)","v":0},{"$f":"IF(AND(AO$24<=$B$2,$B$2<AP$24,$B$3=$A$12,$B$4=AJ23),AO31*$B$2,0)","v":0},{"$f":"IF(AND(AP$24<=$B$2,$B$3=$A$12,$B$4=AJ23),AP31*$B$2,0)","v":0},null,60,0,{"$f":"IF(AND(AT$24<=$B$2,$B$2<AU$24,$B$3=$A$12,$B$4=AR23),AT31*$B$2,0)","v":0},{"$f":"IF(AND(AU$24<=$B$2,$B$2<AV$24,$B$3=$A$12,$B$4=AR23),AU31*$B$2,0)","v":0},{"$f":"IF(AND(AV$24<=$B$2,$B$2<AW$24,$B$3=$A$12,$B$4=AR23),AV31*$B$2,0)","v":0},{"$f":"IF(AND(AW$24<=$B$2,$B$2<AX$24,$B$3=$A$12,$B$4=AR23),AW31*$B$2,0)","v":0},{"$f":"IF(AND(AX$24<=$B$2,$B$3=$A$12,$B$4=AR23),AX31*$B$2,0)","v":0},null,60,0,{"$f":"IF(AND(BB$24<=$B$2,$B$2<BC$24,$B$3=$A$12,$B$4=AZ23),BB31*$B$2,0)","v":0},{"$f":"IF(AND(BC$24<=$B$2,$B$2<BD$24,$B$3=$A$12,$B$4=AZ23),BC31*$B$2,0)","v":0},{"$f":"IF(AND(BD$24<=$B$2,$B$2<BE$24,$B$3=$A$12,$B$4=AZ23),BD31*$B$2,0)","v":0},{"$f":"IF(AND(BE$24<=$B$2,$B$2<BF$24,$B$3=$A$12,$B$4=AZ23),BE31*$B$2,0)","v":0},{"$f":"IF(AND(BF$24<=$B$2,$B$3=$A$12,$B$4=AZ23),BF31*$B$2,0)","v":0},null,60,0,{"$f":"IF(AND(BJ$24<=$B$2,$B$2<BK$24,$B$3=$A$12,$B$4=BH23),BJ31*$B$2,0)","v":0},{"$f":"IF(AND(BK$24<=$B$2,$B$2<BL$24,$B$3=$A$12,$B$4=BH23),BK31*$B$2,0)","v":0},{"$f":"IF(AND(BL$24<=$B$2,$B$2<BM$24,$B$3=$A$12,$B$4=BH23),BL31*$B$2,0)","v":0},{"$f":"IF(AND(BM$24<=$B$2,$B$2<BN$24,$B$3=$A$12,$B$4=BH23),BM31*$B$2,0)","v":0},{"$f":"IF(AND(BN$24<=$B$2,$B$3=$A$12,$B$4=BH23),BN31*$B$2,0)","v":0},null,null,null,null,null,60,0,{"$f":"IF(AND(BV$24<=$B$2,$B$2<BW$24,$B$3=$A$12,$B$4=BT23),BV31*$B$2,0)","v":0},{"$f":"IF(AND(BW$24<=$B$2,$B$2<BX$24,$B$3=$A$12,$B$4=BT23),BW31*$B$2,0)","v":0},{"$f":"IF(AND(BX$24<=$B$2,$B$2<BY$24,$B$3=$A$12,$B$4=BT23),BX31*$B$2,0)","v":0},{"$f":"IF(AND(BY$24<=$B$2,$B$2<BZ$24,$B$3=$A$12,$B$4=BT23),BY31*$B$2,0)","v":0},{"$f":"IF(AND(BZ$24<=$B$2,$B$3=$A$12,$B$4=BT23),BZ31*$B$2,0)","v":0},null,60,0,{"$f":"IF(AND(CD$24<=$B$2,$B$2<CE$24,$B$3=$A$12,$B$4=CB23),CD31*$B$2,0)","v":0},{"$f":"IF(AND(CE$24<=$B$2,$B$2<CF$24,$B$3=$A$12,$B$4=CB23),CE31*$B$2,0)","v":0},{"$f":"IF(AND(CF$24<=$B$2,$B$2<CG$24,$B$3=$A$12,$B$4=CB23),CF31*$B$2,0)","v":0},{"$f":"IF(AND(CG$24<=$B$2,$B$2<CH$24,$B$3=$A$12,$B$4=CB23),CG31*$B$2,0)","v":0},{"$f":"IF(AND(CH$24<=$B$2,$B$3=$A$12,$B$4=CB23),CH31*$B$2,0)","v":0},null,60,0,{"$f":"IF(AND(CL$24<=$B$2,$B$2<CM$24,$B$3=$A$12,$B$4=CJ23),CL31*$B$2,0)","v":0},{"$f":"IF(AND(CM$24<=$B$2,$B$2<CN$24,$B$3=$A$12,$B$4=CJ23),CM31*$B$2,0)","v":0},{"$f":"IF(AND(CN$24<=$B$2,$B$2<CO$24,$B$3=$A$12,$B$4=CJ23),CN31*$B$2,0)","v":0},{"$f":"IF(AND(CO$24<=$B$2,$B$2<CP$24,$B$3=$A$12,$B$4=CJ23),CO31*$B$2,0)","v":0},{"$f":"IF(AND(CP$24<=$B$2,$B$3=$A$12,$B$4=CJ23),CP31*$B$2,0)","v":0},null,60,0,{"$f":"IF(AND(CT$24<=$B$2,$B$2<CU$24,$B$3=$A$12,$B$4=CR23),CT31*$B$2,0)","v":0},{"$f":"IF(AND(CU$24<=$B$2,$B$2<CV$24,$B$3=$A$12,$B$4=CR23),CU31*$B$2,0)","v":0},{"$f":"IF(AND(CV$24<=$B$2,$B$2<CW$24,$B$3=$A$12,$B$4=CR23),CV31*$B$2,0)","v":0},{"$f":"IF(AND(CW$24<=$B$2,$B$2<CX$24,$B$3=$A$12,$B$4=CR23),CW31*$B$2,0)","v":0},{"$f":"IF(AND(CX$24<=$B$2,$B$3=$A$12,$B$4=CR23),CX31*$B$2,0)","v":0},null,60,0,{"$f":"IF(AND(DB$24<=$B$2,$B$2<DC$24,$B$3=$A$12,$B$4=CZ23),DB31*$B$2,0)","v":0},{"$f":"IF(AND(DC$24<=$B$2,$B$2<DD$24,$B$3=$A$12,$B$4=CZ23),DC31*$B$2,0)","v":0},{"$f":"IF(AND(DD$24<=$B$2,$B$2<DE$24,$B$3=$A$12,$B$4=CZ23),DD31*$B$2,0)","v":0},{"$f":"IF(AND(DE$24<=$B$2,$B$2<DF$24,$B$3=$A$12,$B$4=CZ23),DE31*$B$2,0)","v":0},{"$f":"IF(AND(DF$24<=$B$2,$B$3=$A$12,$B$4=CZ23),DF31*$B$2,0)","v":0}]
["Rates 2023 - Rev 10/10/2023",null,null,{"$f":"SUM(F38:DF38)","v":0},null,{"$f":"SUM(F33:F37)","v":0},{"$f":"SUM(G33:G37)","v":0},{"$f":"SUM(H33:H37)","v":0},{"$f":"SUM(I33:I37)","v":0},{"$f":"SUM(J33:J37)","v":0},null,null,null,{"$f":"SUM(N33:N37)","v":0},{"$f":"SUM(O33:O37)","v":0},{"$f":"SUM(P33:P37)","v":0},{"$f":"SUM(Q33:Q37)","v":0},{"$f":"SUM(R33:R37)","v":0},null,null,null,{"$f":"SUM(V33:V37)","v":0},{"$f":"SUM(W33:W37)","v":0},{"$f":"SUM(X33:X37)","v":0},{"$f":"SUM(Y33:Y37)","v":0},{"$f":"SUM(Z33:Z37)","v":0},null,null,null,{"$f":"SUM(AD33:AD37)","v":0},{"$f":"SUM(AE33:AE37)","v":0},{"$f":"SUM(AF33:AF37)","v":0},{"$f":"SUM(AG33:AG37)","v":0},{"$f":"SUM(AH33:AH37)","v":0},null,null,null,{"$f":"SUM(AL33:AL37)","v":0},{"$f":"SUM(AM33:AM37)","v":0},{"$f":"SUM(AN33:AN37)","v":0},{"$f":"SUM(AO33:AO37)","v":0},{"$f":"SUM(AP33:AP37)","v":0},null,null,null,{"$f":"SUM(AT33:AT37)","v":0},{"$f":"SUM(AU33:AU37)","v":0},{"$f":"SUM(AV33:AV37)","v":0},{"$f":"SUM(AW33:AW37)","v":0},{"$f":"SUM(AX33:AX37)","v":0},null,null,null,{"$f":"SUM(BB33:BB37)","v":0},{"$f":"SUM(BC33:BC37)","v":0},{"$f":"SUM(BD33:BD37)","v":0},{"$f":"SUM(BE33:BE37)","v":0},{"$f":"SUM(BF33:BF37)","v":0},null,null,null,{"$f":"SUM(BJ33:BJ37)","v":0},{"$f":"SUM(BK33:BK37)","v":0},{"$f":"SUM(BL33:BL37)","v":0},{"$f":"SUM(BM33:BM37)","v":0},{"$f":"SUM(BN33:BN37)","v":0},null,null,null,{"$f":"SUM(BR33:BR37)","v":0},null,null,null,{"$f":"SUM(BV33:BV37)","v":0},{"$f":"SUM(BW33:BW37)","v":0},{"$f":"SUM(BX33:BX37)","v":0},{"$f":"SUM(BY33:BY37)","v":0},{"$f":"SUM(BZ33:BZ37)","v":0},null,null,null,{"$f":"SUM(CD33:CD37)","v":0},{"$f":"SUM(CE33:CE37)","v":0},{"$f":"SUM(CF33:CF37)","v":0},{"$f":"SUM(CG33:CG37)","v":0},{"$f":"SUM(CH33:CH37)","v":0},null,null,null,{"$f":"SUM(CL33:CL37)","v":0},{"$f":"SUM(CM33:CM37)","v":0},{"$f":"SUM(CN33:CN37)","v":0},{"$f":"SUM(CO33:CO37)","v":0},{"$f":"SUM(CP33:CP37)","v":0},null,null,null,{"$f":"SUM(CT33:CT37)","v":0},{"$f":"SUM(CU33:CU37)","v":0},{"$f":"SUM(CV33:CV37)","v":0},{"$f":"SUM(CW33:CW37)","v":0},{"$f":"SUM(CX33:CX37)","v":0},null,null,null,{"$f":"SUM(DB33:DB37)","v":0},{"$f":"SUM(DC33:DC37)","v":0},{"$f":"SUM(DD33:DD37)","v":0},{"$f":"SUM(DE33:DE37)","v":0},{"$f":"SUM(DF33:DF37)","v":0}]
["“Blank Payment Amounts Indicate The Financing Option Or Purchase Options Selected Are Not "]
["Applicable Or The Machine Total Is Below The Minimum Amount For The Selected Vendor”"]
["\"Quoted monthly payments are estimates only and are based on a certain level of credit rating."]
["Actual monthly payments may be higher depending on your credit rating.\"","Promotion"]
["“Financing rates do not include Pre-Paid Service”","PurchaseOptTCS_Promo","PurchaseOptTFS_Promo"]
[null,"Purchase Opt - TCS","Purchase Opt - TCS"]
[null,"None","None"]
[null,1,1]
[null,"$1.00 - 90 days deferred","$1.00 - 90 days deferred"]
[null,"FMV Sweeper","FMV Sweeper"]
[null,"FMV Sweeper - Promo","FMV Sweeper - Promo"]
["PurchaseOptALLAMR","FMV Sweeper - 90 days deferred","FMV Sweeper - 90 days deferred"]
["None","FMV Scrubber","FMV Scrubber"]
["$1 Buyout Lease","FMV Scrubber - 90 days deferred","FMV Scrubber - 90 days deferred"]
["$1 Buyout Lease - 90 days no pmt","10% Option","10% Option"]
["Municipal $1 Buyout Lease - Monthly Pmt","10% PUT","10% PUT"]
["Municipal $1 Buyout Lease - Annual Pmt","Muni $1 Out Monthly","Muni $1 Out Monthly"]
[null,"Muni $1 Out Quarterly","Muni $1 Out Quarterly"]
[null,"Muni $1 Out Semi-Annually","Muni $1 Out Semi-Annually"]
[null,"Muni $1 Out Annually","Muni $1 Out Annually"]
[null,"Rent To Own","Rent To Own"]
[]
[]
["PurchaseOptIPC"]
["None"]
["$1 Buyout Lease"]
["$1 Buyout Lease - 90 days no pmt"]
["Municipal $1 Buyout Lease - Monthly Pmt"]
["Municipal $1 Buyout Lease - Annual Pmt"]
["10% Option"]